{"text_format":"1","workbook":"xlsx","n_sheets":19,"sheets":["10","Přehledy","11","12","DataVAR","XX","01.23","02.23","03.23","Screen","Mustr","-------------------------------","------------------------------","-----------------------------","---------------------------","----------------------------","DataFIX","zdroj","zdroj root"],"not_rendered":{"charts":3,"images":2,"macros":1,"external_links":0,"defined_names":21,"comments":0,"pivot_tables":0},"unopened":[],"bounds":{"document_bytes":16777216,"sheet_cells":100000,"rows_first":2000,"rows_last":500,"rows_between":2000,"halvings":0,"cell_chars":16384,"cell_head_chars":4096},"cells_cut":0,"cells_raw":0,"read":"whole","date_system":"1900"}

{"sheet":"10","index":0,"n_rows":300,"n_cols":22,"rows_kept":300,"cut":false,"hidden":true,"merged":[]}
[null,null,null,null,null,null,null,null,null,null,null,null,null,{"$f":"NOW()","v":44958.554346527781}]
["pořadí","Den","Datum","Expedice číslo (PDL ?)","Zákazník","Dopravce","Destinace","SPZ","název výrobku","balení","počet balení","Vratka palet (ano/ne)","místo nakládky","Plán. příjezd","Skutečný příjezd","Start nakládky","Konec nakládky","Expedoval","Status","Naplánoval","Poznámka","složitost"]
[]
[{"$f":"IF(C4=\"\",\"\",IF(N4=\"\",C4+1,C4+N4))","v":44837.625694444447},{"$f":"IF(C4=\"\",\"\",IF(C4>0,C4,0))","v":"2022-10-03"},"2022-10-03","příjem","JPP","Hroza","Vlkoš",null,null,null,12,null,null,"15:01:00","09:00:00",null,"09:00:00","Povolný L.","Nakládáno","Chromková L.",null,{"$f":"IF(K4=\"\",\"\",IF(K4<10,1,IF(K4>25,3,2)))","v":2}]
[44837.626388888886,"2022-10-03","2022-10-03","L/199/22","FrantaXXXXXX 4","PBM","Eloyes",null,null,null,null,null,null,"15:02:00",null,"14:30:00","16:00:00","Průša M.","Dokončeno","Pomichálek J.",null,""]
[44838.333333333336,"2022-10-04","2022-10-04","Z2212191","T-NET1","BMS","Eloyes",4,null,null,null,null,null,"08:00:00",null,null,null,"Povolný L.","Zpožděno","Kollerová D.","Znovu příští týden (wk 22)",""]
[44838.625,"2022-10-04","2022-10-04","xyz","OMA","Logmax","Černá Hora","1BS 2622",null,"paleta",33,"ne","Kyjov","15:00:00",null,"06:35:00","08:00:00","Hojač M.","Zpožděno","Chromková L.",null,3]
[44838.666666666664,"2022-10-04","2022-10-04","převoz","Vlkoš 1","Hrouda","Vlkoš",null,null,null,null,null,null,"16:00:00","09:00:00",null,null,"Havránek M.","Dokončeno","Pomichálek J.",null,""]
[44839.291666666664,"2022-10-05","2022-10-05","nakládka","Bochemie 2","cosi ","Bohumín",null,null,null,8,null,null,"07:00:00","09:00:00",null,null,"Průša J.","Přeplánováno","Chromková L.",null,1]
[44839.625,"2022-10-05","2022-10-05","převoz","n/a","Hroza","Wallersdorf",3,null,"karton",null,"ne","Kyjov","15:00:00","07:00:00","09:20:00","09:00:00","Havránek M.","Přeplánováno","Pomichálek J.",null,""]
[44839.666666666664,"2022-10-05","2022-10-05","převoz","JPP","Hroza","Vlkoš",null,null,null,null,null,null,"16:00:00",null,null,null,"Průša J.","Zpožděno","Kollerová D.",null,""]
[44839.916666666664,"2022-10-05","2022-10-05","nakládka","Cheport","TEZET","Lhotsko",2,"KE-20 UN","paleta",18,"ne","Kyjov","22:00:00",null," ",null,"Průša J.","Přeplánováno","Gajdošová L.",null,2]
[44840.333333333336,"2022-10-06","2022-10-06","nakládka","ECOABC",null,"Polsko",null,null,null,null,null,null,"08:00:00",null,null,null,"Kubáček M.","Zpožděno","Chromková L.",null,""]
[44840.375,"2022-10-06","2022-10-06","příjem","n/a","-","n/a",null,"EUR pal.","paleta",5,"ano","Kyjov","09:00:00","10:45:00","12:00:00","13:00:00","Průša J.","Dokončeno","Chromková L.",null,1]
[44840.416666666664,"2022-10-06","2022-10-06","převoz",null,null,"Vlkoš",null,null,null,null,null,null,"10:00:00",null,null,null,"Antoš J.",null,"Gajdošová L.",null,""]
[44840.520833333336,"2022-10-06","2022-10-06","příjem","n/a","Vašek Datel","n/a",1,"proložky ","paleta",17,"ano","Kyjov","12:30:00","08:40:00","10:00:00",44679.416666666664,"Hojač M.","Zrušeno","Kollerová D.",null,2]
[44840.5625,"2022-10-06","2022-10-06","zzy","TBA","odběratel","Pardubice","caad",null,"sud",12,"ne","Kyjov","13:30:00","13:00:00",null,null,"Konečný M.",null,"Kollerová D.",null,2]
[44840.583333333336,"2022-10-06","2022-10-06","nakládka","T-NET 3","kdosi ","Eloyes",null,null,null,null,null,null,"14:00:00",null,null,null,"Benedík M.",null,"Kollerová D.",null,""]
[44840.583333333336,"2022-10-06","2022-10-06","přeskladnění","n/a","-","n/a",null,null,"pytel",9,"ne","Kyjov","14:00:00","13:40:00",null,null,"Hojač M.","Přeplánováno","Kollerová D.",null,1]
[44840.625,"2022-10-06","2022-10-06","xxy","T-NET","CarMax","Linz","8B2 3560","0,25l láhev","paleta",18,"ano","Vlkoš","15:00:00","13:15:00","14:00:00",44679.541666666664,"Antoš J.",null,"Kollerová D.",null,2]
[44841,"2022-10-06","2022-10-06","nakládka","T-NET","někdo ","Eloyes",null,null,null,null,null,null,null,null,null,null,"Svoboda L.",null,"Kollerová D.",null,""]
[44841.5,"2022-10-07","2022-10-07","nakládka","Puloplastic","Jouda","Slavošov",null,null,null,null,null,null,"12:00:00",null,null,null,"Doupovec R.",null,"Kollerová D.",null,""]
[44842,"2022-10-07","2022-10-07","nakládka","Walter","Mrskal","Ilmenau",null,null,null,null,null,null,null,null,null,null,"Doupovec R.",null,"Kollerová D.",null,""]
[44842,"2022-10-07","2022-10-07",null,"TEST 2","Test 3","TEST1",null,null,null,5,null,null,null,null,null,null,"Doupovec R.","Nakládáno","Kollerová D.",null,1]
[44842,"2022-10-07","2022-10-07",null,"Macík","Jouda",null,null,null,null,null,null,null,null,null,null,null,"Doupovec R.","Zrušeno",null,null,""]
[44842.291666666664,"2022-10-08","2022-10-08","zxy","DF","TEZET","Neubuz","3P4 2189","KS-3","paleta",16,"ano","Kyjov","07:00:00","07:00:00","07:00:00","08:30:00","Hojač M.","Zpožděno","Kollerová D.","tel.na řidiče 773 557 142",2]
[44844.354166666664,"2022-10-10","2022-10-10","příjem","n/a","Vašek Datel","n/a",null,"proložky ","paleta",17,"ano","Kyjov","08:30:00","08:40:00","10:00:00",44679.416666666664,"Doupovec R.","Přeplánováno","Bilíček",null,2]
[44844.5625,"2022-10-10","2022-10-10","xxy","T-NET","CarMax","Linz","8B2 3560","0,25l láhev","paleta",18,"ano","Vlkoš","13:30:00","13:15:00","14:00:00",44679.541666666664,"Doupovec R.","Náplánováno","Gajdošová",null,2]
[44845,"2022-10-10","2022-10-10","příjem","Eurest","exter","něco",null,null,null,null,null,null,null,null,null,null,"Doupovec R.",null,null,null,""]
[44845.5,"2022-10-11","2022-10-11","L/195/22","T-NET","BMS","Eloyes",null,null,null,null,null,null,"12:00:00",null,null,null,"Doupovec R.","Zpožděno",null,null,""]
[44845.583333333336,"2022-10-11","2022-10-11","L/199/22","T-NET","PBM","Eloyes",null,null,null,null,null,null,"14:00:00",null,null,null,"Doupovec R.","Náplánováno",null,null,""]
[44846.291666666664,"2022-10-12","2022-10-12",null,"Paul Fox","Julia Cat",null,null,null,null,null,null,null,"07:00:00",null,null,null,"Doupovec R.","Dokončeno",null,null,""]
[44846.333333333336,"2022-10-12","2022-10-12",null,"Franta Pepa 1.","Hrouda",null,null,null,null,null,null,null,"08:00:00",null,null,null,"Doupovec R.","Nakládáno",null,null,""]
[44847.208333333336,"2022-10-13","2022-10-13",null,"Blboun Nejapný","cosi ",null,null,null,null,null,null,null,"05:00:00",null,null,null,"Doupovec R.","Náplánováno",null,null,""]
[44848,"2022-10-13","2022-10-13",null,"x",null,null,null,null,null,null,null,null,null,null,null,null,"Doupovec R.","Zpožděno",null,null,""]
[44849,"2022-10-14","2022-10-14",null,"Walter","Hrouda",null,null,null,null,null,null,null,null,null,null,null,null,"Dokončeno",null,null,{"$f":"IF(K36=\"\",\"\",IF(K36<10,1,IF(K36>25,3,2)))","v":""}]
[44852.208333333336,"2022-10-18","2022-10-18",null,"Blboun Nejapný","cosi ",null,null,null,null,null,null,null,"05:00:00",null,null,null,null,"Dokončeno",null,null,""]
[44853,"2022-10-18","2022-10-18",99,"Faurecia","vlastní",null,null,null,null,null,null,null,null,null,null,null,null,"Nakládáno",null,null,""]
[44853,"2022-10-18","2022-10-18",null,"x",null,null,null,null,null,null,null,null,null,null,null,null,null,"Přeplánováno",null,null,""]
[44853.583333333336,"2022-10-19","2022-10-19",null,"T-NET","PBM","Eloyes",null,null,null,null,null,null,"14:00:00",null,null,null,null,"Náplánováno",null,null,""]
[44855,"2022-10-20","2022-10-20",null,"TEST 2","Test 3","TEST1",null,null,null,null,null,null,null,null,null,"10:52:00",null,"Dokončeno",null,null,""]
[44856,"2022-10-21","2022-10-21",null,"Paul Fox","PBM",null,null,null,null,null,null,null,null,null,null,null,null,"Přeplánováno",null,null,""]
[44859,"2022-10-24","2022-10-24",null,"T-NET","PBM",null,null,null,null,null,null,null,null,null,null,null,null,"Nakládáno",null,null,""]
[44860,"2022-10-25","2022-10-25",null,"Paul Fox","Julia Cat",null,null,null,null,null,null,null,null,null,null,null,null,"Náplánováno",null,null,""]
[44861,"2022-10-26","2022-10-26",null,"Franta Pepa 1.","Hrouda",null,null,null,null,null,null,null,null,null,null,null,null,"Nakládáno",null,null,""]
[44861,"2022-10-26","2022-10-26",null,"Vlkoš","Hrouda","Vlkoš",null,null,null,null,null,null,null,null,null,null,null,"Nakládáno",null,null,""]
[44869,"2022-11-03","2022-11-03",null,"Puloplastic","Jouda","Slavošov",null,null,null,null,null,null,null,null,null,null,null,"Dokončeno",null,null,""]
[44869,"2022-11-03","2022-11-03",null,"Walter","Mrskal","Ilmenau",null,null,null,null,null,null,null,null,null,null,null,"Nakládáno",null,null,""]
[44869,"2022-11-03","2022-11-03",null,"Puloplastic","Jouda","Slavošov",null,null,null,null,null,null,null,null,null,null,null,"Nakládáno",null,null,""]
[44869,"2022-11-03","2022-11-03",null,"Walter","Mrskal","Ilmenau",null,null,null,null,null,null,null,null,null,null,null,"Nakládáno",null,null,""]
[44869,"2022-11-03","2022-11-03",null,"TEST 2","Test 3","TEST1",null,null,null,null,null,null,null,null,null,null,null,"Dokončeno",null,null,""]
[44869,"2022-11-03","2022-11-03",null,"Macík","Jouda",null,null,null,null,null,null,null,null,null,null,null,null,"Nakládáno",null,null,""]
[44869,"2022-11-03","2022-11-03",null,"T-NET","CarMax","Linz",null,null,null,null,null,null,null,null,null,null,null,"Nakládáno",null,null,""]
[44869,"2022-11-03","2022-11-03",null,"n/a","Vašek Datel","n/a",null,null,null,null,null,null,null,null,null,null,null,"Dokončeno",null,null,""]
[44869,"2022-11-03","2022-11-03",null,"T-NET","BMS","Eloyes",null,null,null,null,null,null,null,null,null,null,null,"Dokončeno",null,null,""]
[44869,"2022-11-03","2022-11-03",null,"T-NET","PBM","Eloyes",null,null,null,null,null,null,null,null,null,null,null,"Zrušeno",null,null,""]
[44869,"2022-11-03","2022-11-03",null,"Paul Fox","Julia Cat",null,null,null,null,null,null,null,null,null,null,null,null,"Dokončeno",null,null,""]
[44870,"2022-11-04","2022-11-04",null,"Franta Pepa 1.","Hrouda",null,null,null,null,null,null,null,null,null,null,null,null,"Dokončeno"]
[44870,"2022-11-04","2022-11-04",null,"x",null,null,null,null,null,null,null,null,null,null,null,null,null,"Dokončeno"]
[44870,"2022-11-04","2022-11-04",null,"Blboun Nejapný","cosi ",null,null,null,null,null,null,null,null,null,null,null,null,"Nakládáno"]
[44870,"2022-11-04","2022-11-04",null,"Walter","Hrouda"]
["","",null,null,"Walter"]
["","",null,null,"Blboun Nejapný"]
["",""]
["",""]
["",""]
["",""]
[{"$f":"IF(C68=\"\",\"\",IF(N68=\"\",C68+1,C68+N68))","v":""},{"$f":"IF(C68=\"\",\"\",IF(C68>0,C68,0))","v":""}]
["",""]
["",""]
["",""]
["",""]
["",""]
["",""]
["",""]
["",""]
["",""]
["",""]
["",""]
["",""]
["",""]
["",""]
["",""]
["",""]
["",""]
["",""]
["",""]
["",""]
["",""]
["",""]
["",""]
["",""]
["",""]
["",""]
["",""]
["",""]
["",""]
["",""]
["",""]
["",""]
["",""]
["",""]
["",""]
["",""]
["",""]
["",""]
["",""]
["",""]
["",""]
["",""]
["",""]
["",""]
["",""]
["",""]
["",""]
["",""]
["",""]
["",""]
["",""]
["",""]
["",""]
["",""]
["",""]
["",""]
["",""]
["",""]
["",""]
["",""]
["",""]
["",""]
["",""]
[{"$f":"IF(C132=\"\",\"\",IF(N132=\"\",C132+1,C132+N132))","v":""},{"$f":"IF(C132=\"\",\"\",IF(C132>0,C132,0))","v":""}]
["",""]
["",""]
["",""]
["",""]
["",""]
["",""]
["",""]
["",""]
["",""]
["",""]
["",""]
["",""]
["",""]
["",""]
["",""]
["",""]
["",""]
["",""]
["",""]
["",""]
["",""]
["",""]
["",""]
["",""]
["",""]
["",""]
["",""]
["",""]
["",""]
["",""]
["",""]
["",""]
["",""]
["",""]
["",""]
["",""]
["",""]
["",""]
["",""]
["",""]
["",""]
["",""]
["",""]
["",""]
["",""]
["",""]
["",""]
["",""]
["",""]
["",""]
["",""]
["",""]
["",""]
["",""]
["",""]
["",""]
["",""]
["",""]
["",""]
["",""]
["",""]
["",""]
["",""]
[{"$f":"IF(C196=\"\",\"\",IF(N196=\"\",C196+1,C196+N196))","v":""},{"$f":"IF(C196=\"\",\"\",IF(C196>0,C196,0))","v":""}]
["",""]
["",""]
["",""]
["",""]
["",""]
["",""]
["",""]
["",""]
["",""]
["",""]
["",""]
["",""]
["",""]
["",""]
["",""]
["",""]
["",""]
["",""]
["",""]
["",""]
["",""]
["",""]
["",""]
["",""]
["",""]
["",""]
["",""]
["",""]
["",""]
["",""]
["",""]
["",""]
["",""]
["",""]
["",""]
["",""]
["",""]
["",""]
["",""]
["",""]
["",""]
["",""]
["",""]
["",""]
["",""]
["",""]
["",""]
["",""]
["",""]
["",""]
["",""]
["",""]
["",""]
["",""]
["",""]
["",""]
["",""]
["",""]
["",""]
["",""]
["",""]
["",""]
["",""]
[{"$f":"IF(C260=\"\",\"\",IF(N260=\"\",C260+1,C260+N260))","v":""},{"$f":"IF(C260=\"\",\"\",IF(C260>0,C260,0))","v":""}]
["",""]
["",""]
["",""]
["",""]
["",""]
["",""]
["",""]
["",""]
["",""]
["",""]
["",""]
["",""]
["",""]
["",""]
["",""]
["",""]
["",""]
["",""]
["",""]
["",""]
["",""]
["",""]
["",""]
["",""]
["",""]
["",""]
["",""]
["",""]
["",""]
["",""]
["",""]
["",""]
["",""]
["",""]
["",""]
["",""]
["",""]
["",""]
["",""]
["",""]

{"sheet":"Přehledy","index":1,"n_rows":14,"n_cols":6,"rows_kept":14,"cut":false,"hidden":true,"merged":[]}
["měsíc","Σ přeprav","Σ pal. míst","Σ  zpoždění        >  60 min.","Σ  přeplánovaných/zrušených ","ø na přepravu (min)"]
["Leden",203,884,28,45,79]
["Únor",184,725,27,40,70]
["Březen ",198,780,16,33,77]
["Duben",206,820,14,36,80]
["Květen",213,831,18,30,75]
["Červen",224,860,17,25,77]
["Červenec",160,637,11,18,82]
["Srpen",172,679,10,16,78]
["Září",229,909,16,21,87]
["Říjen",230,932,14,19,89]
["Listopad",250,942,17,23,91]
["Prosinec",218,900,22,21,87]
["Celkem",{"$f":"SUM(B2:B13)","v":2487},{"$f":"SUM(C2:C13)","v":9899},{"$f":"SUM(D2:D13)","v":210},{"$f":"SUM(E2:E13)","v":327},{"$f":"AVERAGE(F2:F13)","v":81}]

{"sheet":"11","index":2,"n_rows":700,"n_cols":24,"rows_kept":700,"cut":false,"hidden":false,"merged":[[0,22,0,23],[0,3,0,5],[0,6,0,7],[0,18,0,19],[0,20,0,21],[0,8,0,12],[0,15,0,16],[0,13,0,14]]}
[null,null,null,"ZÁZNAMY NA TOMTO LISTU: \n31.10.22 - 02.12.2022",null,null,"DNEŠNÍ DATUM:     ",null,{"$f":"+TODAY()","v":"2023-02-01"},null,null,null,null,"AKTUÁLNÍ ČAS:     ",null,{"$f":"NOW()","v":44958.554346527781},null,null,"AKTUÁLNÍ MĚSÍC: ",null,"2022-11-01",null,"Informace pro NÁKUP"]
["pořadí","Den","Datum","Expedice číslo (PDL ?)","Zákazník","Dopravce","Destinace","SPZ","název výrobku","balení","počet balení","Vratka palet (ano/ne)","místo nakládky","Plán. příjezd","Skutečný příjezd","Start nakládky","Konec nakládky","Expedoval","Status","Naplánoval","Poznámka","složitost","Cena přepravy","přefaktuace / doplňující informace"]
[]
[{"$f":"IF(C4=\"\",\"\",IF(N4=\"\",C4+1,C4+N4))","v":44866},{"$f":"IF(C4=\"\",\"\",+TEXT(C4,\"ddD\"))","v":"po"},"2022-10-31",null,null,null,null,null,null,null,99,null,null,null,null,null,null,null,null,null,null,{"$f":"IF(K4=\"\",\"\",IF(K4<10,1,IF(K4<=25,2,IF(K4<=35,3,IF(K4<=70,4,5)))))","v":5}]
[44876.270833333336,"pá","2022-11-11","převozy","JPPlast-Vlkoš","Hroza","Vlkoš",null,"NUFARM","PA",99,"ne","Kyjov","06:30:00",null,null,null,null,"Dokončeno","Pomichálek J.",null,5]
[44876.375,"pá","2022-11-11",null,"Filmer","BSG","Varel",null,"KPHM-10","PA",66,"ne","Kyjov","09:00:00",null,null,null,null,"Dokončeno","Kollerová D.",null,4]
[44877,"pá","2022-11-11",null,"MPD","Tezet","Rakovník",null,"KE-10","PA",32,"ne","Kyjov",null,null,null,null,null,"Dokončeno","Chromková L.",null,3,10400,"v ceně"]
[44877,"pá","2022-11-11",null,"Cheport","Tezet","Vizovice",null,"KE-20UN","PA",18,"ne","Kyjov",null,null,null,null,null,"Dokončeno","Chromková L.",null,2,4150,"v ceně"]
[44877,"pá","2022-11-11",null,"T-Net","kontejner","USA",null,"Maple","PA",20,"ne","Kyjov",null,null,null,null,null,"Dokončeno","Gajdošová L.",null,2]
[44877,"pá","2022-11-11",null,"DF Partner","Hroza",null,null,null,"PA",32,null,"Kyjov",null,null,null,null,null,"Dokončeno","Chromková L.",null,3,3700,"v ceně"]
[44877,"pá","2022-11-11",null,"Těsmat","vlastní","Val. Meziřící",null,"KOSH","PA",null,null,"Kyjov",null,null,null,null,null,"Zrušeno","Kollerová D.",null,""]
[44877,"pá","2022-11-11",null,"T-Net","Legarde","Eloyes",null,null,"PA",56,null,"Kyjov",null,null,null,null,null,"Dokončeno","Gajdošová L.",null,4]
[44877,"pá","2022-11-11",null,"T-Net","Legarde","Eloyes",null,null,"PA",38,null,"Vlkoš",null,null,null,null,null,"Dokončeno","Gajdošová L.",null,4]
[44877,"pá","2022-11-11",null,"T-Net","Legarde","Eloyes",null,null,"PA",66,null,"Vlkoš",null,null,null,null,null,"Dokončeno","Gajdošová L.",null,4]
[44877,"pá","2022-11-11",null,"Santal","vlastní",null,null,null,"PA",27,"ano","Kyjov",null,null,null,null,null,"Dokončeno","Chromková L.",null,3]
[44877,"pá","2022-11-11",null,"Nufarm","Silvan","Linec",null,"KA-5","PA",52,"ne","Kyjov",null,null,null,null,null,"Dokončeno","Gajdošová L.",null,4]
[44879.458333333336,"po","2022-11-14",null,"Walser","Dachser","Tulln",null,"KPHM-20","PA",33,"ano","Kyjov","11:00:00",null,null,null,null,"Dokončeno","Kollerová D.",null,3]
[44880,"po","2022-11-14",null,"Nufarm","JF LOG","Linec",null,"KA-5","PA",52,"ne","Kyjov",null,null,null,null,null,"Dokončeno","Kollerová D.",null,4]
[44880,"po","2022-11-14",null,"DF Partner","Hroza",null,null,null,"PA",32,"ano","Kyjov",null,null,null,null,null,"Dokončeno","Chromková L.",null,3,4200,"v ceně"]
[44880,"po","2022-11-14",null,"DF Partner","Hroza",null,null,null,"PA",32,null,"Kyjov",null,null,null,null,null,"Dokončeno","Chromková L.",null,3,3700,"v ceně"]
[44880,"po","2022-11-14",null,"Seco G","Tezet",null,null,null,"PA",null,null,"Kyjov",null,null,null,null,null,"Dokončeno","Gajdošová L.",null,"",null,"přefakturace 310,-EUR fa2301276"]
[44880,"po","2022-11-14",null,"Fagron","Tezet","Olomouc",null,"mix","PA",32,"ne","Kyjov",null,null,null,null,null,"Dokončeno","Kollerová D.",null,3,4170,"přefakturace 5200,- Kč 23010272"]
[44880,"po","2022-11-14","vykládka","Vitraco","p. Karpíšek",null,null,"materiál Histif","PA",17,null,"Kyjov",null,null,null,null,null,"Dokončeno","Hochman L.",null,2]
[44880,"po","2022-11-14",null,"DCM Colagen","vlastní","Kyjov",null,null,"PY",null,null,"Kyjov",null,null,null,null,null,"Dokončeno","Gajdošová L.",null,""]
[44880,"po","2022-11-14",null,"Beskydská Lik.","vlastní",null,null,null,"PA",3,"ano","Kyjov",null,null,null,null,null,"Dokončeno","Gajdošová L.",null,1]
[44880,"po","2022-11-14",null,"Nufarm","Silvan","Linec",null,"KA-5","PA",52,null,"Kyjov",null,null,null,null,null,"Dokončeno","Kollerová D.",null,4]
[44880,"po","2022-11-14",null,"Nufarm","Silvan","Linec",null,"KA-5","PA",52,null,"Kyjov",null,null,null,null,null,"Dokončeno","Kollerová D.",null,4]
[44880.645833333336,"út","2022-11-15",null,"Faurecie",null,"Ml.Boleslav",";","BMW","PA",33,null,"Kyjov","15:30:00",null,null,null,null,"Dokončeno","Gajdošová L.",null,3]
[44881,"út","2022-11-15",null,"DF Partner","Hroza",null,null,null,"PA",32,"ano","Kyjov",null,null,null,null,null,"Dokončeno","Chromková L.",null,3,4200,"v ceně"]
[44881,"út","2022-11-15",null,"Carrier","vlastní",null,null,null,"PA",null,null,"Kyjov",null,null,null,null,null,"Dokončeno","Gajdošová L.",null,""]
[44881,"út","2022-11-15",null,"Antolin",null,null,null,null,null,null,"ano","Kyjov",null,null,null,null,null,"Dokončeno","Chromková L.",null,""]
[44881,"út","2022-11-15",null,"Groshandel","B.S.G","Suhl-Sehmar",null,"mix","PA",33,null,"Kyjov",null,null,null,null,null,"Dokončeno","Kollerová D.","L-417-22",3]
[44881,"út","2022-11-15",null,"Těsmat","vlastní",null,null,"mix","PA",3,null,"Kyjov",null,null,null,null,null,"Dokončeno","Kollerová D.",null,1]
[44881,"út","2022-11-15",null,"TBA","vlastní","Havl.Brod",null,"mix","PA",9,null,"Kyjov",null,null,null,null,null,"Dokončeno","Chromková L.",null,1]
[44881,"út","2022-11-15",null,"Bochemie","Tezet","Opava",null,null,"PA",18,null,"Kyjov",null,null,null,null,null,"Dokončeno","Chromková L.",null,2,null,"v ceně"]
[44881,"út","2022-11-15",null,"Stachema","vlastní",null,null,null,"PA",8,null,"Kyjov",null,null,null,null,null,"Dokončeno","Chromková L.",null,{"$f":"IF(K36=\"\",\"\",IF(K36<10,1,IF(K36<=25,2,IF(K36<=35,3,IF(K36<=70,4,5)))))","v":1}]
[44881,"út","2022-11-15",null,"T-Net",null,null,null,null,"PA",38,null,"Kyjov",null,null,null,null,null,"Dokončeno","Gajdošová L.",null,4]
[44881,"út","2022-11-15",null,"Faurecie",null,"Ml.Boleslav",null,"Defender","PA",33,null,"Kyjov",null,null,null,null,null,"Dokončeno","Gajdošová L.",null,3]
[44881,"út","2022-11-15",null,"T-net",null,null,null,null,"PA",31,null,"Kyjov",null,null,null,null,null,"Dokončeno","Chromková L.",null,3]
[44881,"út","2022-11-15",null,"Hugli","Tezet",null,null,"KSE_5","PA",18,null,"Kyjov",null,null,null,null,null,"Dokončeno","Chromková L.",null,2,null,"přef.přejezd na jiný sklad 4800,-Kč 23010287"]
[44881,"út","2022-11-15",null,"DF Partner","Hroza","Neubuz",null,"KE_25","PA",32,"ne","Kyjov",null,null,null,null,null,"Dokončeno","Chromková L.",null,3,3700,"v ceně"]
[44881.291666666664,"st","2022-11-16",null,"Cheport","Tezet","Vizovice",null,"KE-20","PA",32,"ne","Kyjov","07:00:00","06:00:00",null,"06:30:00","Hojač M.","Dokončeno","Chromková L.",null,3,4150,"v ceně"]
[44881.333333333336,"st","2022-11-16",null,"Birgma","LKW","Halmstadt",null,"KPHM-20","PA",null,"ne","Kyjov","08:00:00",null,null,null,null,"Zrušeno","Kollerová D.",null,""]
[44881.333333333336,"st","2022-11-16",null,"TBA","kontejner","Thajsko",null,"KPHM","PA+PY",99,null,"Kyjov","08:00:00","07:45:00","08:10:00","10:00:00",null,"Dokončeno","Kollerová D.",null,5]
[44881.333333333336,"st","2022-11-16",null,"TBA","kontejner","Thajsko",null,"KPHM","PA+PY",99,null,"Kyjov","08:00:00","08:20:00","10:00:00","11:00:00",null,"Dokončeno","Kollerová D.",null,5]
[44881.416666666664,"st","2022-11-16",null,"DF Partner",null,null,null,"KE-25","PA",32,"ano","Kyjov","10:00:00","09:30:00","09:50:00","10:30:00","Hojač M.","Dokončeno","Kollerová D.","vykládal prázdné palety",3,null,"v ceně"]
[44881.5,"st","2022-11-16",null,"JPPSK","vlastní","Prievidza",null,"mix","PA",33,null,"Kyjov","12:00:00","09:45:00","10:00:00","11:30:00","Antoš J.","Dokončeno","Chromková L.",null,3]
[44881.541666666664,"st","2022-11-16",null,"Sedata","BSG","Ilmenau",null,"KPHM-20","pa",33,"ne","Kyjov","13:00:00","14:00:00",null,"15:00:00","Antoš J.","Dokončeno","Kollerová D.","L-414-22, vychystáno Robert",3]
[44881.645833333336,"st","2022-11-16",null,"Filmer","BSG","Malchow",null,"KPHM-20","PA",66,null,"Kyjov","15:30:00","15:40:00","15:40:00",null,null,"Dokončeno","Kollerová D.","L-418-22, zboží vychystáno Robert",4]
[44882,"st","2022-11-16",null,"Sodo Duo","Hroza ",null,null,"Luh-1, Kse-5","PA",18,null,"Kyjov",null,"06:30:00",null,"07:00:00","Hojač M.","Dokončeno","Chromková L.",null,2,5100,"přefak1/2 dopravy 3200,- 23010288"]
[44882,"st","2022-11-16",null,"Chemprogres","vlastní","Staré Město",null,"KE-20","PA",8,"ano","Kyjov",null,"07:00:00","07:20:00","08:00:00","Hojač M.","Dokončeno","Chromková L.",null,1]
[44882,"st","2022-11-16",null,"Antolin",null,"Libaň",null,"Yetti","PA",30,"ano","Kyjov",null,null,null,"07:55:00","Havránek M.","Dokončeno","Chromková L.",null,3]
[44882,"st","2022-11-16",null,"Faurecie",null,"Ml.Boleslav",null,"BMW","PA",30,null,"Kyjov",null,"07:45:00","08:10:00","09:15:00","Kubáček M.","Dokončeno","Gajdošová L.",null,3]
[44882,"st","2022-11-16",null,"TBA","vlastní","Havl.Brod",null,"sudy","PA",10,null,"Kyjov",null,"09:30:00","10:15:00","11:00:00","Doupovec R.","Dokončeno","Kollerová D.",null,2]
[44882,"st","2022-11-16",null,"TBA","vlastní",null,null,"mix","PA",9,"ano","Kyjov",null,"12:40:00","12:50:00","13:00:00","Havránek M.","Dokončeno","Chromková L.","předchystáno",1]
[44882,"st","2022-11-16",null,"Transtech","vlastní","Popůvky",null,"KST-10","PA",2,null,"Kyjov",null,"11:00:00","12:00:00","12:15:00","Kubáček M.","Dokončeno","Chromková L.",null,1]
[44882,"st","2022-11-16",null,"Alter","Tezet","HK",null,"KSE-5","PA",32,null,"Kyjov",null,"11:30:00","12:15:00","12:45:00","Hojač M.","Dokončeno","Chromková L.","nakládka na pátek 18.11",3,null,"v ceně"]
[44883,"čt","2022-11-17",null,"SVÁTEK","SVÁTEK",null,null,null,null,null,null,null,null,null,null,null,null,"Zrušeno","Hochman L.",null,""]
[44883.5625,"pá","2022-11-18",null,"Faurecie","vlastní","Mladá Boleslav",null,"mix","PA",3,"ne","Kyjov","13:30:00","13:30:00","13:35:00","13:45:00","Kubáček M.","Dokončeno","Gajdošová L.",null,1]
[44883.583333333336,"pá","2022-11-18",null,"T-net","kontejner","USA",null,"WTB","PA",99,"ne","Kyjov","14:00:00","14:05:00","14:10:00","15:05:00","Hojač M.","Dokončeno","Chromková L.","předchystané",5]
[44884,"pá","2022-11-18",null,"Faurecie",null,"Ml.Boleslav",null,"BMW","PA",33,null,"Kyjov",null,"08:10:00","08:15:00","09:15:00","Kubáček M.","Dokončeno","Gajdošová L.",null,3]
[44884,"pá","2022-11-18",null,"Faurecie",null,"Ml.Boleslav",null,"Defender","PA",33,null,"Kyjov",null,"08:10:00","08:15:00","09:15:00","Kubáček M.","Dokončeno","Gajdošová L.",null,3]
[44884,"pá","2022-11-18",null,"DF Partner","Hroza","Neubuz",null,"KE-25","PA",null,null,"Kyjov",null,null,null,null,null,"Zrušeno","Chromková L.",null,""]
[44884,"pá","2022-11-18",null,"T-Net",null,"Emmerich",null,null,"PA",38,"ne","Kyjov",null,"11:00:00","11:30:00","12:00:00","Hojač M.","Dokončeno","Chromková L.","předchystaný",4]
[44884,"pá","2022-11-18",null,"TRUMF","vlastní","Dolní Újezd",null,"KE-10","PA",14,"ano","Kyjov",null,"10:50:00","10:55:00","11:15:00","Havránek M.","Dokončeno","Chromková L.","předchystané",2]
[44884,"pá","2022-11-18","příjem palet","T-Net",null,"JPPlast",null,"EU pal","PA",30,null,null,null,"07:00:00","07:10:00","07:45:00","Havránek M.","Dokončeno","Pomichálek J.",null,3]
[44884,"pá","2022-11-18",null,"Birgma",null,"Halmstadt",null,"KPHM","PA",66,"ne","Kyjov",null,"11:10:00","11:30:00","12:20:00","Doupovec R.","Dokončeno","Kollerová D.",null,4]
[{"$f":"IF(C68=\"\",\"\",IF(N68=\"\",C68+1,C68+N68))","v":44884},{"$f":"IF(C68=\"\",\"\",+TEXT(C68,\"ddD\"))","v":"pá"},"2022-11-18",null,"T-Net","vlastní",null,null,"Earth plate","PA",1,null,"Kyjov",null,"07:00:00","07:10:00","07:45:00","Havránek M.","Dokončeno","Hochman L.","jedna paleta s 38 kartony, připraveno ve skladu",{"$f":"IF(K68=\"\",\"\",IF(K68<10,1,IF(K68<=25,2,IF(K68<=35,3,IF(K68<=70,4,5)))))","v":1}]
[44884,"pá","2022-11-18",null,"Faurecie","vlastní","Mladá Boleslav",null,"mix","PA",18,null,"Kyjov",null,"10:30:00","10:35:00","11:00:00","Kubáček M.","Dokončeno","Chromková L.","mimořádná nakládka",2]
[44884,"pá","2022-11-18","příjem etiket","Label design","PPL",null,null,"etikety DF","KA",3,"ne","Kyjov",null,"10:30:00","10:35:00","10:40:00","Hojač M.","Dokončeno","Chromková L.","Etikety PHM DF",1]
[44884,"pá","2022-11-18",null,"ZON","Tezet","Třebíč",null,"mix","PA",17,"ne","Kyjov",null,"11:30:00","11:40:00","12:10:00","Kubáček M.","Dokončeno","Chromková L.",null,2,3870,"přefaktur. 4000,-Kč fa23010306"]
[44886.614583333336,"po","2022-11-21",null,"INX","Logmax","Horní Počernice",null,"KA-5","PA",64,null,"Vlkoš","14:45:00","13:00:00","13:10:00","14:20:00","Doupovec R.","Dokončeno","Chromková L.","L-416-22",4,null,"fa dopravy 220105848"]
[44887,"po","2022-11-21",null,"Birgma","LKW","Halmstadt",null,"KPHM-20","pa",66,"ne","Kyjov",null,"11:20:00","11:35:00","13:00:00","Kubáček M.","Dokončeno","Kollerová D.",null,4]
[44887,"po","2022-11-21",null,"T-net","Legarde","Eloyes",null,"mix","PA",37,"ne","Kyjov",null,"05:30:00","08:20:00","09:20:00","Doupovec R.","Dokončeno","Gajdošová L.","dokládka s JPSK",4]
[44887,"po","2022-11-21",null,"Faurecie","vlastní","Böblingen DE",null,null,null,null,"ne","Kyjov",null,"12:20:00","12:25:00","12:30:00","Doupovec R.","Dokončeno","Chromková L.",null,""]
[44887,"po","2022-11-21",null,"T-Net","MSB","Eloyes",null,"Zeus","PA",38,null,"Kyjov",null,"06:00:00","06:15:00","08:15:00","Doupovec R.","Dokončeno","Gajdošová L.","Laďa M172",4]
[44887,"po","2022-11-21",null,"Filmer","BSG","Varel",null,"KPHM-10","PA",66,null,"Kyjov",null,"10:30:00","10:45:00","11:30:00","Kubáček M.","Dokončeno","Kollerová D.","L-419-22",4]
[44887,"po","2022-11-21",null,"Nufarm","JF LOG","Linz",null,"KA-5","PA",52,null,"Kyjov",null,"06:00:00","06:15:00","07:20:00","Hojač M.","Dokončeno","Gajdošová L.",null,4]
[44887,"po","2022-11-21",null,"DF Partner","Hroza","Neubuz",null,"KPHM-20","PA",18,null,"Kyjov",null,"07:00:00","07:40:00","07:50:00","Hojač M.","Dokončeno","Chromková L.","předchystané ",2,2800,"v ceně"]
[44887,"po","2022-11-21",null,"Groshandel","Joppa","Suhl-Sehmar",null,"KPHM-20","PA",38,null,"Kyjov",null,"11:00:00","11:15:00","12:50:00","Havránek M.","Dokončeno","Kollerová D.","L-422-22",4]
[44887,"po","2022-11-21",null,"T-net",null,"Páty HU",null,"WTB","PA",38,null,"Kyjov",null,"11:15:00","11:20:00","12:00:00","Hojač M.","Dokončeno","Kollerová D.",null,4]
[44887,"po","2022-11-21",null,"TBA","vlastní","Havl.Brod",null,"mix","PA",17,null,"Kyjov",null,"10:00:00","10:00:00","10:30:00","Havránek M.","Dokončeno","Chromková L.","předchystané",2]
[44887,"po","2022-11-21",null,"Filmer","BSG","Varel",null,"KPHM-20","PA",66,null,"Kyjov",null,"09:20:00","09:30:00","10:20:00","Kubáček M.","Dokončeno","Kollerová D.","L-420-22",4]
[44887.583333333336,"út","2022-11-22",null,"Těsmat","vlastní","Val. Meziříčí",null,"mix","PA",3,null,"Kyjov","14:00:00","13:35:00","13:40:00","14:00:00","Hojač M.","Dokončeno","Chromková L.",null,1,null,"xxx"]
[44887.604166666664,"út","2022-11-22",null,"Cheport","Tezet","Vizovice",null,"mix","PA",30,null,"Kyjov","14:30:00","14:00:00","14:05:00","14:30:00","Doupovec R.","Dokončeno","Chromková L.","vychystáno Hojač",3,4150,"v ceně/nakládka na 24.11.22"]
[44888,"út","2022-11-22",null,"Walser","vlastní","Gallin",null,"Luca","PA",32,null,"Kyjov",null,"10:15:00","10:20:00","11:10:00","Doupovec R.","Dokončeno","Kollerová D.","vychystáno Kubáček",3]
[44888,"út","2022-11-22",null,"Antolin",null,"Libáň",null,"seat","PA",31,null,"Kyjov",null,"06:50:00","07:05:00","07:55:00","Havránek M.","Dokončeno","Chromková L.","předchystané Havránek",3]
[44888,"út","2022-11-22",null,"Nufarm","Silvan","Linec",null,"KA-5","PA",52,null,"Kyjov",null,"11:00:00","12:00:00","12:45:00","Hojač M.","Dokončeno","Kollerová D.","vychystáno Hojač",4]
[44888,"út","2022-11-22",null,"Cheport","Tezet","Vizovice",null,"Ke-20","PA",32,null,"Kyjov",null,"06:00:00","06:10:00","06:40:00","Hojač M.","Dokončeno","Chromková L.",null,3,4150,"v ceně"]
[44888,"út","2022-11-22",null,"T-Net","MSB","Eloys",null,"Zeus","PA",22,null,"Kyjov",null,"10:50:00","12:00:00","12:30:00","Doupovec R.","Dokončeno","Gajdošová L.","M173+JPSK, předchystáno",2]
[44888,"út","2022-11-22",null,"SPAK","Intercontact","Sušice",null,"LS-2","PA",66,null,"Kyjov",null,"07:00:00","07:05:00","08:15:00","Kubáček M.","Dokončeno","Kollerová D.","L-421-22",4]
[44888,"út","2022-11-22",null,"Faurecie","vlastní","Pardubice",null,"F40","PA",38,null,"Kyjov",null,"07:50:00","08:05:00","08:30:00","Průša M.","Dokončeno","Gajdošová L.","předchystáno Průša M.",4]
[44888,"út","2022-11-22",null,"Faurecie","vlastní","Mladá Boleslav",null,"mix","PA",99,null,"Kyjov",null,"10:50:00","11:00:00","12:00:00","Havránek M.","Dokončeno","Gajdošová L.","předchystáno Průša M.",5]
[44888,"út","2022-11-22",null,"TOPTRANS","SBS",null,null,"mix","PA",4,null,"Kyjov",null,"13:50:00","14:00:00","14:15:00","Havránek M.","Dokončeno","Gajdošová L.","vychystáno Havránek",1]
[44888,"út","2022-11-22","příjem obalů","Sedsport","vlastní","Myjava",null,114777,"PA",207,null,"Kyjov",null,"09:10:00","09:15:00","09:45:00","Hojač M.","Dokončeno","Chromková L.",null,5]
[44888,"út","2022-11-22",null,"ESAB","Schenker ","Opole PL",null,"mix","PA",2,null,"Kyjov",null,"08:35:00","08:41:00","08:45:00","Havránek M.","Dokončeno","Gajdošová L.","vychystáno Doupovec",1]
[44888.25,"st","2022-11-23",null,"DF Partner","Hroza ","Neubuz",null,"mix PHM","PA",16,null,"Kyjov","06:00:00","08:30:00","08:40:00","09:05:00","Hojač M.","Dokončeno","Chromková L.","vychystáno",2,2800,"v ceně"]
[44888.291666666664,"st","2022-11-23",null,"DF Partner","Hroza","Neubuz",null,"KS-3","PA",32,null,"Kyjov","07:00:00","06:20:00","06:30:00","07:10:00","Hojač M.","Dokončeno","Chromková L.",null,3,3700,"v ceně"]
[44888.291666666664,"st","2022-11-23",null,"Walser","vlastní","Gallin",null,"Luca","PA",32,"ano","Kyjov","07:00:00","06:35:00","07:00:00","07:40:00","Havránek M.","Dokončeno","Kollerová D.",null,3]
[44888.333333333336,"st","2022-11-23",null,"DF Partner","Hroza ","Neubuz",null,"KS-3","PA",32,null,"Kyjov","08:00:00","13:25:00","13:35:00","14:00:00","Hojač M.","Dokončeno","Chromková L.","vychystáno Hojač",{"$f":"IF(K100=\"\",\"\",IF(K100<10,1,IF(K100<=25,2,IF(K100<=35,3,IF(K100<=70,4,5)))))","v":3},3700,"v ceně"]
[44888.375,"st","2022-11-23",null,"Faurecie","vlastní","Ml.Boleslav",null,"GEFCO box","PA",32,null,"Kyjov","09:00:00","09:20:00","09:25:00","09:35:00","Hojač M.","Dokončeno","Chromková L.",null,3]
[44888.454861111109,"st","2022-11-23",null,"Groshandel","Joppa","Suhl-Sehmar",null,"KPHM-20","PA",38,null,"Kyjov","10:55:00","10:30:00","10:40:00","11:40:00","Hojač M.","Dokončeno","Kollerová D.","L-423-22",4]
[44888.458333333336,"st","2022-11-23",null,"Bochemie","vlastní SBS","Bohumín",null,"SDH-50","PA",5,null,"Vlkoš","11:00:00","10:30:00","10:40:00","11:00:00","Doupovec R.","Dokončeno","Chromková L.","předchystáno 21.11.2022 Doupovec",1]
[44888.458333333336,"st","2022-11-23",null,"J.P.Slovakia","Legarde","Prievidza",null,"mix","PA",30,null,"Kyjov","11:00:00","10:00:00","10:05:00","11:45:00","Průša M.","Dokončeno","Chromková L.","vychystáno Průša M.",3]
[44888.458333333336,"st","2022-11-23","příjem zboží","J.P.Slovakia","vlastní","Prievidza",null,"mix","PA",10,null,"Kyjov","11:00:00","10:00:00","10:05:00","11:00:00","Havránek M.","Dokončeno","Bilíček P.",null,2]
[44888.5,"st","2022-11-23",null,"Faurecie","vlastní","Ml.Bolesv",null,"SE310+UKL","PA",66,null,"Kyjov","12:00:00","11:10:00","11:30:00","12:40:00","Doupovec R.","Dokončeno","Gajdošová L.","vychystáno Průša M.",4]
[44888.5,"st","2022-11-23",null,"PPUH","vlastní","Zabrze",null,"KSTV-10","PA",55,null,"Kyjov","12:00:00","10:25:00","11:20:00","12:30:00","Doupovec R.","Dokončeno","Kollerová D.",null,4]
[44888.520833333336,"st","2022-11-23",null,"DF Partner","Hroza","Neubuz",null,"KS-3","PA",32,null,"Kyjov","12:30:00","12:30:00","12:35:00","13:00:00","Hojač M.","Dokončeno","Chromková L.","vychystáno Hojač",3,3700,"v ceně"]
[44888.541666666664,"st","2022-11-23",null,"Blasser","vlastní","Troubsko",null,"KE-25","PA",3,null,"Kyjov","13:00:00","13:10:00","13:20:00","13:45:00","Hojač M.","Dokončeno","Gajdošová L.",null,1]
[44888.5625,"st","2022-11-23",null,"BJ  Project","vlastní","Grodzisk Mazowiecki PL",null,"mix","PA",33,null,"Kyjov","13:30:00","14:35:00","07:00:00","08:40:00","Doupovec R.","Dokončeno","Chromková L.","ALEKSANDER MIZERSKI WPY25571 WPY52pt tel. 502945946",3]
[44888.583333333336,"st","2022-11-23",null,"TOPTRANS","SBS",null,null,"mix","PA",5,null,"Kyjov","14:00:00","14:35:00","14:40:00","14:50:00","Doupovec R.","Dokončeno","Chromková L.",null,1]
[44888.583333333336,"st","2022-11-23",null,"TOPTRANS/TBA","SBS",null,null,"LKN-1 reklamace","PA",1,null,"Kyjov","14:00:00","13:35:00","13:45:00","13:50:00","Doupovec R.","Dokončeno","Chromková L.",null,1]
[44889,"st","2022-11-23","příjem ","NNR+Dacher","Dacher","DE",null,"??","PA",6,null,"Kyjov",null,"14:15:00","14:20:00","14:30:00","Průša M.","Dokončeno",null,"bez DL,pouze CMR,těsnění ZEUS",1]
[44889.25,"čt","2022-11-24",null,"OMA","TEZET","Černá Hora ",null,"KE-25","PA",30,null,"Kyjov","06:00:00","06:05:00","06:10:00","06:30:00","Hojač M.","Dokončeno","Chromková L.","vychystáno 23.11.",3,4160,"přefaktur. 4200,-Kč fa 23010334"]
[44889.25,"čt","2022-11-24",null,"GA profi ","Tezet","Jablonec n.N.",null,"KE-25","PA",30,null,"Kyjov","06:00:00","12:10:00","12:50:00","13:10:00","Hojač M.","Dokončeno","Chromková L.","vychystáno Hojač,nakl. Na 25.11.2022",3,11000,"v ceně"]
[44889.270833333336,"čt","2022-11-24",null,"Antolin","vlastní","Libáň",null,"YETI","PA",42,"ano","Kyjov","06:30:00","06:00:00","06:10:00","07:10:00","Havránek M.","Dokončeno","Chromková L.",null,4]
[44889.381944444445,"čt","2022-11-24","SBS","Bericap","vlastní","Budenheim DE",null,"uzávěry","PA",1,null,"Kyjov","09:10:00","09:10:00","09:20:00","09:25:00","Havránek M.","Dokončeno","Bilíček P.",null,1]
[44889.381944444445,"čt","2022-11-24","SBS","Bericap","vlastní","Budenheim DE",null,"uzávěry","PA",1,null,"Kyjov","09:10:00","09:10:00","09:20:00","09:25:00","Havránek M.","Dokončeno","Bilíček P.",null,1]
[44889.416666666664,"čt","2022-11-24",null,"D.I.CHEM","vlastní","Šternberk",null,"mix","PA",33,null,"Kyjov","10:00:00","10:20:00","10:30:00","11:10:00","Havránek M.","Dokončeno","Chromková L.","vychystáno Doupovec",3]
[44889.4375,"čt","2022-11-24",null,"TBA","vlastní","Havl.Brod",null,"mix","PA",11,"ne","Kyjov","10:30:00","10:20:00","10:25:00","10:40:00","Kubáček M.","Dokončeno","Chromková L.","vychystáno Havránek",2]
[44889.458333333336,"čt","2022-11-24","příjem zboží","VYPL","TEZET","Rakvice",null,"mix","PA",33,null,"Kyjov","11:00:00",null,null,null,"Kubáček M.","Dokončeno","Chromková L.",null,3,null,"L-428-22"]
[44889.479166666664,"čt","2022-11-24",null,"DF Partner","Hroza","Neubuz",null,"KS-3","PA",32,null,"Kyjov","11:30:00","10:10:00","10:20:00","10:45:00","Hojač M.","Dokončeno","Chromková L.","vychystáno Hojač",3,3700,"v ceně"]
[44889.5,"čt","2022-11-24",null,"Toptrans","SBS/TBA",null,null,"reklamace","PA",1,null,"Kyjov","12:00:00","10:55:00","11:00:00","11:10:00","Hojač M.","Dokončeno","Chromková L.","vratka",1]
[44889.5,"čt","2022-11-24",null,"Cheport","Tezet","Vizovice",null,"mix","PA",30,"ne","Kyjov","12:00:00","12:10:00","12:30:00","13:00:00","Havránek M.","Dokončeno","Chromková L.","nakládka na pondělí 28.11.2022",3,4150,"v ceně"]
[44889.541666666664,"čt","2022-11-24",null,"Avena","vlastní","Bzenec",null,"SDH-50","PA",5,"ano","Kyjov","13:00:00","12:10:00","12:30:00","12:45:00","Hojač M.","Dokončeno","Chromková L.","vychystáno Doupovec",1]
[44889.541666666664,"čt","2022-11-24",null,"Faurecie","vlastní","Ml.Boleslav",null,"SE310+UKL","PA",66,"ano","Kyjov","13:00:00","11:00:00","11:05:00","12:00:00",null,"Dokončeno","Gajdošová L.","vychystáno  Kubáček, naložil řidič ",4]
[44889.541666666664,"čt","2022-11-24",null,"PK Group","vlastní/TEZET",null,null,"KOSH50","PA",15,"ano","Kyjov","13:00:00","12:00:00","12:10:00","13:00:00","Kubáček M.","Dokončeno","Kollerová D.","vychystáno Hojač",2]
[44889.541666666664,"čt","2022-11-24","příjem","Tichelman","vlastní",null,null,"pytle","PA",8,"ano","Kyjov","13:00:00","12:21:00","13:00:00","13:20:00","Havránek M.","Dokončeno","Chromková L.",null,1]
[44889.5625,"čt","2022-11-24",null,"DF Partner","Hroza","Neubuz",null,"KS-3","PA",32,null,"Kyjov","13:30:00","13:30:00","13:35:00","13:55:00","Hojač M.","Dokončeno","Chromková L.","vychystáno 24.11 Hojač nakl.na 25.11.",3,3700,"v ceně"]
[44890,"čt","2022-11-24",null,"PK Group","vlastní","Dubňany",null,"SOT 220",null,5,null,"Kyjov",null,"08:40:00","08:40:00","09:00:00","Doupovec R.","Dokončeno","Kollerová D.",null,1]
[44890,"čt","2022-11-24","příjem","Bericap","SBS","Budenheim DE",null,"uzávěry","PA",3,null,"Kyjov",null,"07:50:00","08:00:00","08:05:00","Havránek M.","Dokončeno","Bilíček P.",null,1]
[{"$f":"IF(C132=\"\",\"\",IF(N132=\"\",C132+1,C132+N132))","v":44890},{"$f":"IF(C132=\"\",\"\",+TEXT(C132,\"ddD\"))","v":"čt"},"2022-11-24",null,"PK Group","vlastní","Dubňany",null,"SOT220",null,5,null,"Kyjov",null,"09:45:00","09:45:00","10:00:00","Doupovec R.","Dokončeno","Kollerová D.",null,1]
[44890,"čt","2022-11-24",null,"Pet Power",null,"Wittau",null,"KE-10","PA",15,null,"Kyjov",null,"13:15:00",null,"14:30:00",null,"Dokončeno","Kollerová D.",null,2]
[44890.25,"pá","2022-11-25",null,"DF Partner","Hroza ","Neubuz",null,"KS-3","PA",28,null,"Kyjov","06:00:00","10:30:00","10:40:00","11:10:00","Hojač M.","Dokončeno","Chromková L.","vychystáno Hojač 25.11. nakl. Na 28.11",3,3700,"v ceně"]
[44890.270833333336,"pá","2022-11-25",null,"DF Partner","Hroza","Neubuz",null,"KS-3","PA",32,null,"Kyjov","06:30:00","13:00:00","13:15:00","13:45:00","Hojač M.","Dokončeno","Chromková L.","vychystáno 24.11. Hojač",{"$f":"IF(K135=\"\",\"\",IF(K135<10,1,IF(K135<=25,2,IF(K135<=35,3,IF(K135<=70,4,5)))))","v":3},3700,"v ceně"]
[44890.315972222219,"pá","2022-11-25","příjem palet","M.A.T.","vlastní","Plzeň",null,"palety ","PA",183,null,"Kyjov","07:35:00","07:35:00","07:40:00","08:00:00","Havránek M.","Dokončeno","Chromková L.","vratka palet",5]
[44890.333333333336,"pá","2022-11-25",null,"Nufarm ","Silvan","Linz AT","2BJ3255","KA-5","PA",52,"ne","Kyjov","08:00:00","11:00:00","11:30:00","12:45:00","Havránek M.","Dokončeno","Chromková L.","vychystal Hojač ",4]
[44890.333333333336,"pá","2022-11-25",null,"DF Partner","Hroza","Neubuz",null,"KS-3","PA",32,null,"Kyjov","08:00:00","12:10:00","12:15:00","12:30:00","Hojač M.","Dokončeno","Chromková L.","vychystáno Hojač 25.11. nakl. na28.11.",3,3700,"v ceně"]
[44890.416666666664,"pá","2022-11-25","přijem","M.A.T.","AK servic","Plzeň",null,"palety ","PA",84,null,"Kyjov","10:00:00","08:25:00","08:30:00","08:45:00","Havránek M.","Dokončeno","Chromková L.","vratka palet",5]
[44890.451388888891,"pá","2022-11-25",null,"Faurecie","vlastní","Ml. Boleslav",null,"UKL","PA",66,null,"Kyjov","10:50:00","11:00:00","11:15:00","11:30:00","Kubáček M.","Dokončeno","Gajdošová L.","vychystal Kubáček ",4]
[44890.458333333336,"pá","2022-11-25",null,"Fagron","Tezet","Olomouc",null,"mix","PA",32,null,"Kyjov","11:00:00","11:00:00","11:30:00","12:15:00","Kubáček M.","Dokončeno","Kollerová D.","vychystáno Kubáček 25.11.",3,4170,"přefaltur. 5200,- Kč fa23010349"]
[44890.5,"pá","2022-11-25","příjem palet","SOV trading","M-logistic","Radkov","2J86564","palety WTB","PA",150,null,"Kyjov","12:00:00","12:10:00","12:15:00","13:00:00","Doupovec R.","Dokončeno","Chromková L.",null,5]
[44890.5,"pá","2022-11-25",null,"TBA","vlastní","Havl.Brod",null,"mix","PA",null,null,"Kyjov","12:00:00",null,null,null,null,"Zrušeno","Chromková L.","nenahlášen ,přesměřován doKelčan",""]
[44890.541666666664,"pá","2022-11-25",null,"M.A.T.","vlastní","Plzeň",null,"mix","PA",18,"ano","Kyjov","13:00:00","06:00:00","06:10:00","07:10:00","Doupovec R.","Dokončeno","Chromková L.","vratka palet 33 ks ",2]
[44891,"pá","2022-11-25",null,"Tremalin","Joppa","Nieuwkuijk",null,"U-SK","PA",5,null,"Kyjov",null,null,null,"15:30:00","Konečný M.","Dokončeno","Gajdošová L.",null,1]
[44891,"pá","2022-11-25",null,"Atuforma","Silvan","Ahaus",null,"Globus","PA",32,null,"Kyjov",null,"08:30:00","08:40:00","10:15:00","Havránek M.","Dokončeno","Gajdošová L.",null,3]
[44891,"pá","2022-11-25",null,"Truck Cargo","vlastní","Buchlovice",null,"KE-10","PA",1,null,"Kyjov",null,"09:20:00","09:20:00","09:30:00","Hojač M.","Dokončeno","Gajdošová L.",null,1]
[44893.25,"po","2022-11-28",null,"Agrimex","TEZET","Kojetice",null,"KE-25/KE-10","PA",32,null,"Kyjov","06:00:00","11:45:00","11:55:00","12:10:00","Svoboda L.","Dokončeno","Chromková L.","nakládka na 29.11.2022",3,6080,"v ceně"]
[44893.25,"po","2022-11-28",null,"DF Partner","Hroza ","Neubuz",null,"KE-25+LUH-2","PA",28,"ano","Kyjov","06:00:00","13:50:00","13:55:00","14:15:00","Hojač M.","Dokončeno","Chromková L.","vychystáno Hojač",3,4200,"v ceně"]
[44893.25,"po","2022-11-28",null,"Cheport","Tezet","Vizovice",null,"mix","PA",30,null,"Kyjov","06:00:00","11:45:00","11:55:00","12:30:00","Hojač M.","Dokončeno","Chromková L.",null,3,4150]
[44893.458333333336,"po","2022-11-28",null,"DF Partner","Hroza","Neubuz",null,"KS-3","PA",32,null,"Kyjov","11:00:00",null,null,null,null,"Zrušeno","Chromková L.","NOZ2202707 storno obj.",3,null,"v ceně"]
[44893.458333333336,"po","2022-11-28",null,"Faurecie","vlastní","Hlohovec",null,"52x","PA",12,"ano","2022-11-29","11:00:00","13:45:00","13:50:00","14:15:00","Kubáček M.","Dokončeno","Gajdošová L.","vychystal Svoboda",2]
[44893.5,"po","2022-11-28",null,"Merlin","vlastní","Hrušky",null,"mix","PA",6,"ano","Kyjov","12:00:00","08:30:00","08:40:00","08:50:00","Havránek M.","Dokončeno","Chromková L.","vychystáno",1]
[44893.5,"po","2022-11-28",null,"Novato SK","vlastní","Skalica ",null,"SDH-40","PA",1,"ano","Kyjov","12:00:00","12:30:00","12:30:00","12:40:00","Havránek M.","Dokončeno","Chromková L.","neplánovaný, vychystal Kubáček",1]
[44893.541666666664,"po","2022-11-28","příjem zboží","EBALEN PLUS","TEZET","Olomouc",null,"palety","PA",null,null,"Kyjov","13:00:00","11:45:00","11:55:00","12:10:00","Svoboda L.","Dokončeno","Chromková L.",null,""]
[44893.541666666664,"po","2022-11-28",null,"Toptrans","SBS","Hodonín",null,"mix","PA",10,null,"Kyjov","13:00:00",null,null,null,null,"Dokončeno","Chromková L.","chystal Svoboda",2]
[44893.541666666664,"po","2022-11-28",null,"Rhino",null,"Derby UK",null,"KPHM","PA",66,null,"Kyjov","13:00:00","13:00:00","13:00:00","13:45:00","Hojač M.","Dokončeno","Kollerová D.","L-435-22",4]
[44894,"po","2022-11-28",null,"T-net","Legarde","Eloys FRr",null,"mix","PA",32,null,"Kyjov",null,"06:00:00","06:10:00","06:50:00","Doupovec R.","Dokončeno","Gajdošová L.","nakládka v pondělí",3]
[44894,"po","2022-11-28",null,"Walser","vlastní","Gallin",null,"LUCA","PA",32,"ano","Kyjov",null,"07:40:00","08:00:00","09:00:00","Doupovec R.","Dokončeno","Chromková L.","Dachser avizo",3]
[44894,"po","2022-11-28",null,"Filmer","BSG","Malchow","2BS6114","KPHM-20","PA",66,null,"Kyjov",null,"11:00:00","11:15:00","11:45:00","Doupovec R.","Dokončeno","Kollerová D.",null,4]
[44894,"po","2022-11-28",null,"Mmcité","TEZET","Veselí n.Moravou",null,"koš","PA",26,null,"Kyjov",null,"08:20:00","08:30:00","09:00:00","Hojač M.","Dokončeno","Chromková L.","vychystáno Hojač 25.11.2022 ",3,3200,"přefaktur. 3300,- Kč fa 23010354"]
[44894,"po","2022-11-28","příjem","Ineos","vlastní","Rolle SUISSE","SC-924AU","Liten-Ineos","PA",17,null,"Kyjov",null,"06:15:00","06:20:00","07:10:00","Havránek M.","Dokončeno","Chromková L.","vykládali dva Havránek + Kubáček M.",2]
[44894,"po","2022-11-28",null,"Gabrielchem","SBS","Lázně Bohdaneč",null,"barva ","PA",1,null,"Kyjov",null,"10:10:00","10:20:00","10:30:00","Havránek M.","Dokončeno","Chromková L.",null,1]
[44894,"po","2022-11-28","příjem","Slovnaft","vlastní ","Bratislava SK",null,"bralen ","PA",2,"ne","Kyjov",null,"13:35:00","13:45:00","13:55:00","Havránek M.","Dokončeno","Chromková L.",null,1]
[44894.270833333336,"út","2022-11-29",null,"Antolin","vlastní","Lipovka",null,"SEAT","PA",19,"ano","Kyjov","06:30:00","06:00:00","06:10:00","06:35:00","Havránek M.","Dokončeno","Chromková L.","vychystáno Havránek 28.11.2022",2]
[44894.274305555555,"út","2022-11-29",null,"Oma CZ","TEZET","Černá Hora ",null,"KE-25","PA",16,"ne","Kyjov","06:35:00","11:00:00","11:15:00","11:30:00","Doupovec R.","Dokončeno","Chromková L.",null,2,3660,"přefaktur. 3700,- Kč fa 23010370"]
[44894.416666666664,"út","2022-11-29",null,"VYPL","TEZET","Rakvice",null,"mix","PA",null,null,"Kyjov","10:00:00","08:30:00","08:40:00","09:05:00","Doupovec R.","Dokončeno","Chromková L.","vychystal ",""]
[44894.458333333336,"út","2022-11-29",null,"DF Partner","vlastní","Neubuz",null,"KE-25","PA",28,"ano","Kyjov","11:00:00","10:15:00","10:20:00","10:35:00","Hojač M.","Dokončeno","Chromková L.","vychystáno Hojač",3,null,"v ceně"]
[44894.458333333336,"út","2022-11-29",null,"Faurecie","vlastní","Pardubice",null,"F40","PA",32,"ne","Kyjov","11:00:00","10:30:00","10:35:00","10:55:00","Kubáček M.","Dokončeno","Gajdošová L.","vychystal Kubáček ",3]
[44894.479166666664,"út","2022-11-29","příjem","Luášek","vlastní",null,null,"přípravek dokon.Symfony","PA",1,"ne","Kyjov","11:30:00","11:45:00","11:50:00","12:10:00","Svoboda L.","Dokončeno","Chromková L.","údržba",1]
[44894.5,"út","2022-11-29",null,"TRIX","vlastní","Klíčany",null,"KE-10","PA",4,null,"Kyjov","12:00:00","13:20:00","13:30:00","14:00:00","Doupovec R.","Dokončeno","Chromková L.","vychystal Doupovec",1]
[44894.541666666664,"út","2022-11-29",null,"Faurecie","vlastní","Mladá Boleslav",null,"SE310-UKL","PA",99,"ano","Kyjov","13:00:00","11:00:00","11:15:00","12:00:00","Kubáček M.","Dokončeno","Gajdošová L.","vychystal Kubáček ",5]
[44894.541666666664,"út","2022-11-29","příjem zboží","VYPL","TEZET","Rakvice",null,"mix","PA",32,null,"Kyjov","13:00:00","11:45:00","11:50:00","12:30:00","Doupovec R.","Dokončeno","Chromková L.","L-447-22",3]
[44894.541666666664,"út","2022-11-29",null,"Birgma","vlastní","Halmstadt","GDA9FF5 ","KPHM-20","PA",66,null,"Kyjov","13:00:00","14:00:00","14:05:00","14:45:00","Kubáček M.","Dokončeno","Kollerová D."," vychystal / polepil Kubáček",4]
[44894.5625,"út","2022-11-29",null,"Toptrans","SBS","Hodonín",null,"mix","PA",8,"ne","Kyjov","13:30:00",null,null,"14:00:00","Doupovec R.","Dokončeno","Gajdošová L.","chystal Svoboda",1]
[44895,"út","2022-11-29",null,"NUfarm","Silvan","Linz",null,"KA-5","PA",52,"ne","Kyjov",null,"06:50:00","06:55:00","07:50:00","Doupovec R.","Dokončeno","Kollerová D.","L-438-22",4,null,"v ceně fa 23020100"]
[44895,"út","2022-11-29",null,"T-NET","MSB","Eloye FR",null,"mix","PA",24,null,"Kyjov",null,"10:40:00","10:45:00","11:10:00","Hojač M.","Dokončeno","Chromková L.","vychystal Havránek",2,null,"M177+JPSK"]
[44895,"út","2022-11-29",null,"Nufarm","Silvan","Linz",null,"KA-5","PA",52,"ne","Kyjov",null,"10:00:00","10:05:00","11:00:00","Havránek M.","Dokončeno","Gajdošová L.","L-445-22, vychystal Hojač",4,null,"v ceně "]
[44895,"út","2022-11-29","příjem","Bericap","SBS","Neieporet PL",null,"u-polyvent","PA",1,"ne","Kyjov",null,"10:35:00","10:40:00","10:45:00","Hojač M.","Dokončeno","Chromková L.",null,1]
[44895,"út","2022-11-29","příjem","Šikuta","Pulpán","Kyjov",null,"etikety","PA",1,"ne","Kyjov",null,"13:00:00","13:10:00","13:15:00","Havránek M.","Dokončeno","Chromková L.",null,1]
[44895.25,"st","2022-11-30",null,"Fichema ","Hroza","Brno",null,"KE-25","PA",18,"ano","Kyjov","06:00:00","06:15:00","06:20:00","06:50:00","Hojač M.","Dokončeno","Chromková L.","vychystal Hojač nakl.30.11.2022",2,2300,"přefaktur.3300,- Kč fa 23010372"]
[44895.270833333336,"st","2022-11-30",null,"Puloplastic","vlastní","Slavošov","2BH3275","kužel 50","PA",33,null,"Kyjov","06:30:00","10:20:00","10:30:00","10:55:00","Kubáček M.","Dokončeno","Chromková L.","vychystal Kubáček ",3]
[44895.333333333336,"st","2022-11-30",null,"Carrier","vlastní","Štěnovice",null,"sifon","KA",4,null,"Kyjov","08:00:00",null,null,null,null,"Přeplánováno","Chromková L.","vychystal Havránek 29.11.2022",1]
[44895.4375,"st","2022-11-30",null,"TBA","vlastní","Havl.Brod",null,"mix","PA",10,null,"Kyjov","10:30:00",null,null,null,null,"Zrušeno","Chromková L.",null,2]
[44895.458333333336,"st","2022-11-30",null,"J.P.SK","vlastní","Prievidza SK",null,"mix","PA",30,null,"Kyjov","11:00:00","09:30:00","09:45:00","11:00:00","Svoboda L.","Dokončeno","Chromková L.",null,3]
[44895.458333333336,"st","2022-11-30","příjem zboží","J.P.SK","vlastní","Prievidza SK",null,"mix","PA",13,null,"Kyjov","11:00:00","09:30:00","09:45:00","11:00:00","Havránek M.","Dokončeno","Chromková L.",null,2]
[44895.458333333336,"st","2022-11-30",null,"Tref","vlastní","Znojmo",null,"KOSH-30","PA",1,null,"Kyjov","11:00:00","10:15:00","10:20:00","10:35:00","Doupovec R.","Dokončeno","Chromková L.","vychystal Svoboda ",1]
[44895.5,"st","2022-11-30",null,"Faurecie","vlastní","Mladá Boleslav",null,"SE310-UKL","PA",80,"ano","Kyjov","12:00:00","11:00:00","11:15:00","11:45:00","Kubáček M.","Dokončeno","Chromková L.","vychystal Kubáček ",5]
[44895.5,"st","2022-11-30",null,"Libors /MAT","vlastní","Ostrava ",null,"mix","PA",2,"ano","Kyjov","12:00:00","11:15:00","11:30:00","12:00:00","Svoboda L.","Dokončeno","Chromková L.",null,1]
[44895.541666666664,"st","2022-11-30",null,"Toptrans","SBS","Hodonín",null,"mix","PA",null,"ne","Kyjov","13:00:00",null,null,"11:00:00","Svoboda L.","Dokončeno","Chromková L.","vychystal Doupovec",""]
[44896,"st","2022-11-30",null,"KOVA","Joppa","Erfurt",null,"KPHM","PA",38,null,"Kyjov",null,"14:00:00","14:05:00","15:30:00","Havránek M.","Dokončeno","Kollerová D.","vychystal Hojač L-434-22",4,27000,"přefa.1120 Eur"]
[44896,"st","2022-11-30",null,"TBA/Šebesta","vlastní","Kyjov",null,"KE-25","PA",10,null,"Kyjov",null,"10:10:00","10:15:00","10:30:00","Doupovec R.","Dokončeno","Chromková L.","vychystal Doupovec",2]
[44896,"st","2022-11-30",null,"Filmer","BSG","Varel",null,"KPHM-20","PA",64,null,"Kyjov",null,"13:00:00","13:10:00","14:30:00","Hojač M.","Dokončeno","Kollerová D.","nevychystáno, chyběla paleta,čekal",4]
[44896,"st","2022-11-30",null,"Bureš","vlastní","Bořetice",null,"uzávěry","KA",10,null,"Kyjov",null,"08:55:00","09:00:00","09:10:00","Doupovec R.","Dokončeno","Gajdošová L.","vychystnál Dopovec",2]
[44896,"st","2022-11-30",null,"Oma CZ","TEZET","Kolín",null,"KE-25,KE-10","PA",30,null,"Kyjov",null,"10:35:00","10:50:00","11:30:00","Hojač M.","Dokončeno","Chromková L.","vychystáno na 1.12.2022 Hojač",3,7500,"přefaktur. 8200,- Kč fa 23010385"]
[{"$f":"IF(C196=\"\",\"\",IF(N196=\"\",C196+1,C196+N196))","v":44896.25},{"$f":"IF(C196=\"\",\"\",+TEXT(C196,\"ddD\"))","v":"čt"},"2022-12-01",null,"DF Partner","Hroza","Neubuz",null,"KE-25","PA",18,"ano","Kyjov","06:00:00","10:40:00","10:45:00","11:00:00","Hojač M.","Dokončeno","Chromková L.","vychystal Hojač na 1.12.2022",2,3300,"v ceně"]
[44896.25,"čt","2022-12-01",null,"Cheport","TEZET","Vizovice",null,"mix","PA",30,"ne","Kyjov","06:00:00","06:00:00","06:10:00","07:00:00","Hojač M.","Dokončeno","Chromková L.",null,3,4150,"v ceně"]
[44896.256944444445,"čt","2022-12-01",null,"Elagro","TEZET","Sazomín",null,"mix","PA",13,"ano","Kyjov/Vlkoš","06:10:00","11:15:00","11:30:00","12:30:00","Doupovec R.","Dokončeno","Chromková L.","vychystáno 30.11.Doupovec na2.12.2022",2,4680,"přefaktur. 4800,- Kč fa 23010391"]
[44896.270833333336,"čt","2022-12-01",null,"Antolin","vlastní","Lipovka",null,"YETI","PA",28,"ano","Kyjov","06:30:00","06:35:00","06:40:00","07:05:00","Havránek M.","Dokončeno","Chromková L.",null,{"$f":"IF(K199=\"\",\"\",IF(K199<10,1,IF(K199<=25,2,IF(K199<=35,3,IF(K199<=70,4,5)))))","v":3}]
[44896.270833333336,"čt","2022-12-01",null,"Antolin","vlastní","Lipovka",null,"YETI","PA",6,"ne","Kyjov","06:30:00","06:35:00","06:40:00","07:05:00","Havránek M.","Dokončeno","Chromková L.","2.auto/ vychystal Hojač",1]
[44896.291666666664,"čt","2022-12-01",null,"Ekotech","vlastní","Ukrajina","ВС3673СМ / ВС8573ХТ","KPHM","PA",38,null,"Kyjov","07:00:00","06:50:00","07:10:00","10:30:00","Kubáček M.","Dokončeno","Kollerová D.","řidič - Bonk Oleh, mobil +380680139874, +48880081442",4]
[44896.375,"čt","2022-12-01",null,"Variant","vlastní","Všetaty",null,"LUH-1","PA",3,"ano","Kyjov","09:00:00","11:30:00","11:45:00","12:00:00","Svoboda L.","Dokončeno","Gajdošová L.","vychystáno Svoboda",1]
[44896.416666666664,"čt","2022-12-01","příjem","Stokvis","SBS",null,"FOFR","těsnění","PA",3,"ano","Kyjov","10:00:00","09:40:00","09:45:00","10:05:00","Průša M.","Dokončeno","Chromková L.",null,1]
[44896.4375,"čt","2022-12-01",null,"TBA","vlastní","Havl.Brod","Vašák ml.","mix","PA",9,null,"Kyjov","10:30:00","14:30:00","13:50:00","14:10:00","Havránek M.","Dokončeno","Chromková L.",null,1]
[44896.541666666664,"čt","2022-12-01","SBS","Industrien","DHL",null,null,"kompresor","PA",1,null,"Kyjov","13:00:00","12:30:00",null,"12:45:00",null,"Dokončeno","Chromková L.","volat Lunda/vlastní papíry",1]
[44896.5625,"čt","2022-12-01",null,"Toptrans","SBS","Hodonín",null,"mix","PA",6,null,"Kyjov","13:30:00",null,null,"13:15:00","Havránek M.","Dokončeno","Gajdošová L.","vychystal Svoboda",1]
[44896.583333333336,"čt","2022-12-01",null,"Faurecie","vlastní","Mladá Boleslav",null,"SE310+UKL","PA",80,"ano","Kyjov","14:00:00","11:30:00","11:35:00","12:00:00","Průša M.","Dokončeno","Chromková L.","vychystal Průša",5]
[44897,"čt","2022-12-01","příjem","Bericap","SBS","Budenheim DE","Dachser","uzávěry","PA",4,"ne","Kyjov",null,"08:45:00","08:50:00","09:05:00","Havránek M.","Dokončeno","Chromková L.","1 PA poškozena",1]
[44897.25,"pá","2022-12-02",null,"DF Partner","Hroza","Neubuz",null,"KS-3","PA",32,"ano","Kyjov","06:00:00","06:20:00","06:30:00","07:00:00","Hojač M.","Dokončeno","Chromková L.","vychystal Hojač 1.12.2022",3,4200,"v ceně"]
[44897.291666666664,"pá","2022-12-02",null,"Truck Cargo","vlastní","Buchlovice",null,"KE-10 adblue","PA",1,"ano","Kyjov","07:00:00","09:40:00","09:40:00","09:50:00","Svoboda L.","Dokončeno","Kollerová D.","vychystal Svoboda",1]
[44897.291666666664,"pá","2022-12-02",null,"Stachema","vlastní","Slaný",null,"LKN-1","PA",6,null,"Kyjov","07:00:00","08:30:00","08:40:00","09:00:00","Havránek M.","Dokončeno","Chromková L.","vychystáno Havránek ",1]
[44897.3125,"pá","2022-12-02",null,"Filmer",null,"Varel",null,"KPHM-20","PA",null,null,"Kyjov","07:30:00",null,null,null,null,"Zrušeno","Kollerová D.","na 5/12",""]
[44897.333333333336,"pá","2022-12-02",null,"T-NET","kontejner","Brooks",null,"WTB Monet","PA",21,null,"Kyjov","08:00:00","08:00:00","08:15:00","09:00:00","Kubáček M.","Dokončeno","Gajdošová L.","vychystal Kubáček ",2]
[44897.375,"pá","2022-12-02",null,"Tremalin","Logmax","Nieuwkuijk",null,"uzávěry","PA",2,null,"Kyjov","09:00:00","09:10:00","09:15:00","09:20:00","Havránek M.","Dokončeno","Gajdošová L.","vychystal Havránek",1]
[44897.375,"pá","2022-12-02",null,"Agrimex","TEZET","Kojetice ",null,"mix","PA",30,"ano","Kyjov","09:00:00","08:20:00","08:25:00","09:00:00","Hojač M.","Dokončeno","Chromková L.",null,3,6080,"v ceně"]
[44897.458333333336,"pá","2022-12-02",null,"AV Auto","vlastní","Vlkoš",null,"uzávěry","PA",1,null,"Kyjov","11:00:00","10:05:00","10:10:00","10:15:00","Svoboda L.","Dokončeno","Chromková L.","vychystáno Svoboda",1]
[44897.5,"pá","2022-12-02",null,"T-NET","Legarde","Eloyes",null,"mix","PA",46,null,"Kyjov+Vlkoš","12:00:00","13:00:00","13:05:00","14:00:00","Doupovec R.","Dokončeno","Gajdošová L.","vychystal Doupovec,Vlkoš i Kyjov",4]
[44897.541666666664,"pá","2022-12-02",null,"M.A.T.","AK servic","Plzeň",null,"mix","PA",18,null,"Kyjov","13:00:00","06:15:00","06:20:00","07:10:00","Svoboda L.","Dokončeno","Chromková L.",null,2]
[44897.545138888891,"pá","2022-12-02",null,"Flexfill","Interkontakt","Lovosice",null,"KCH-5","PA",66,null,"Kyjov","13:05:00","11:10:00","11:30:00","12:30:00","Svoboda L.","Dokončeno","Chromková L.","L-459-22 přesunuto z6.12.2022",4]
[44897.583333333336,"pá","2022-12-02",null,"Faurecie","vlastní","Mladá Boleslav",null,"Defender","PA",8,null,"Kyjov","14:00:00","17:00:00","17:05:00","17:15:00","Průša M.","Dokončeno","Gajdošová L.","extra nakldáka",1]
[44898,"pá","2022-12-02",null,"TT + GLS","SBS",null,null,"mix","PA",1,null,"Kyjov",null,null,null,"13:00:00","Havránek M.","Dokončeno","Gajdošová L.","vychystal Havránek",1]
[44898,"pá","2022-12-02","příjem","Tichelmann","vlastní",null,null,"pytle","PA",1,null,"Kyjov",null,"09:20:00","09:20:00","09:30:00","Hojač M.","Dokončeno","Gajdošová L.","skladál Hojač",1]
[44898,"pá","2022-12-02",null,"T-NET","MSB","Emmerich",null,"WTB","PA",6,null,"Kyjov",null,"13:00:00","13:05:00","13:15:00","Havránek M.","Dokončeno","Gajdošová L.","vychystal Doupovec",1]
[44898,"pá","2022-12-02","příjem","AMPARA-příjem","Emons",null,null,null,"PA",1,null,null,null,"12:10:00","12:20:00","12:30:00","Hojač M.","Dokončeno","Kollerová D.",null,1]
[44901,"po","2022-12-05","!!! od 5.12.","již zadávajte ","do listu \"12\"",null,null,null,null,null,null,null,null,null,null,null,null,"Přeplánováno","Hochman L.","záznamy s datem 5/12/22 a vyšším do listu \"12\"",""]
["","",null,null,null,null,null,null,null,null,null,null,null,null,null,null,null,null,null,null,null,""]
["","",null,null,null,null,null,null,null,null,null,null,null,null,null,null,null,null,null,null,null,""]
["","",null,null,null,null,null,null,null,null,null,null,null,null,null,null,null,null,null,null,null,""]
["","",null,null,null,null,null,null,null,null,null,null,null,null,null,null,null,null,null,null,null,""]
["","",null,null,null,null,null,null,null,null,null,null,null,null,null,null,null,null,null,null,null,""]
["","",null,null,null,null,null,null,null,null,null,null,null,null,null,null,null,null,null,null,null,""]
["","",null,null,null,null,null,null,null,null,null,null,null,null,null,null,null,null,null,null,null,""]
["","",null,null,null,null,null,null,null,null,null,null,null,null,null,null,null,null,null,null,null,""]
["","",null,null,null,null,null,null,null,null,null,null,null,null,null,null,null,null,null,null,null,""]
["","",null,null,null,null,null,null,null,null,null,null,null,null,null,null,null,null,null,null,null,""]
["","",null,null,null,null,null,null,null,null,null,null,null,null,null,null,null,null,null,null,null,""]
["","",null,null,null,null,null,null,null,null,null,null,null,null,null,null,null,null,null,null,null,""]
["","",null,null,null,null,null,null,null,null,null,null,null,null,null,null,null,null,null,null,null,""]
["","",null,null,null,null,null,null,null,null,null,null,null,null,null,null,null,null,null,null,null,""]
["","",null,null,null,null,null,null,null,null,null,null,null,null,null,null,null,null,null,null,null,""]
["","",null,null,null,null,null,null,null,null,null,null,null,null,null,null,null,null,null,null,null,""]
["","",null,null,null,null,null,null,null,null,null,null,null,null,null,null,null,null,null,null,null,""]
["","",null,null,null,null,null,null,null,null,null,null,null,null,null,null,null,null,null,null,null,""]
["","",null,null,null,null,null,null,null,null,null,null,null,null,null,null,null,null,null,null,null,""]
["","",null,null,null,null,null,null,null,null,null,null,null,null,null,null,null,null,null,null,null,""]
["","",null,null,null,null,null,null,null,null,null,null,null,null,null,null,null,null,null,null,null,""]
["","",null,null,null,null,null,null,null,null,null,null,null,null,null,null,null,null,null,null,null,""]
["","",null,null,null,null,null,null,null,null,null,null,null,null,null,null,null,null,null,null,null,""]
["","",null,null,null,null,null,null,null,null,null,null,null,null,null,null,null,null,null,null,null,""]
["","",null,null,null,null,null,null,null,null,null,null,null,null,null,null,null,null,null,null,null,""]
["","",null,null,null,null,null,null,null,null,null,null,null,null,null,null,null,null,null,null,null,""]
["","",null,null,null,null,null,null,null,null,null,null,null,null,null,null,null,null,null,null,null,""]
["","",null,null,null,null,null,null,null,null,null,null,null,null,null,null,null,null,null,null,null,""]
["","",null,null,null,null,null,null,null,null,null,null,null,null,null,null,null,null,null,null,null,""]
["","",null,null,null,null,null,null,null,null,null,null,null,null,null,null,null,null,null,null,null,""]
["","",null,null,null,null,null,null,null,null,null,null,null,null,null,null,null,null,null,null,null,""]
["","",null,null,null,null,null,null,null,null,null,null,null,null,null,null,null,null,null,null,null,""]
["","",null,null,null,null,null,null,null,null,null,null,null,null,null,null,null,null,null,null,null,""]
["","",null,null,null,null,null,null,null,null,null,null,null,null,null,null,null,null,null,null,null,""]
[{"$f":"IF(C260=\"\",\"\",IF(N260=\"\",C260+1,C260+N260))","v":""},{"$f":"IF(C260=\"\",\"\",+TEXT(C260,\"ddD\"))","v":""},null,null,null,null,null,null,null,null,null,null,null,null,null,null,null,null,null,null,null,""]
["","",null,null,null,null,null,null,null,null,null,null,null,null,null,null,null,null,null,null,null,""]
["","",null,null,null,null,null,null,null,null,null,null,null,null,null,null,null,null,null,null,null,""]
["","",null,null,null,null,null,null,null,null,null,null,null,null,null,null,null,null,null,null,null,{"$f":"IF(K263=\"\",\"\",IF(K263<10,1,IF(K263<=25,2,IF(K263<=35,3,IF(K263<=70,4,5)))))","v":""}]
["","",null,null,null,null,null,null,null,null,null,null,null,null,null,null,null,null,null,null,null,""]
["","",null,null,null,null,null,null,null,null,null,null,null,null,null,null,null,null,null,null,null,""]
["","",null,null,null,null,null,null,null,null,null,null,null,null,null,null,null,null,null,null,null,""]
["","",null,null,null,null,null,null,null,null,null,null,null,null,null,null,null,null,null,null,null,""]
["","",null,null,null,null,null,null,null,null,null,null,null,null,null,null,null,null,null,null,null,""]
["","",null,null,null,null,null,null,null,null,null,null,null,null,null,null,null,null,null,null,null,""]
["","",null,null,null,null,null,null,null,null,null,null,null,null,null,null,null,null,null,null,null,""]
["","",null,null,null,null,null,null,null,null,null,null,null,null,null,null,null,null,null,null,null,""]
["","",null,null,null,null,null,null,null,null,null,null,null,null,null,null,null,null,null,null,null,""]
["","",null,null,null,null,null,null,null,null,null,null,null,null,null,null,null,null,null,null,null,""]
["","",null,null,null,null,null,null,null,null,null,null,null,null,null,null,null,null,null,null,null,""]
["","",null,null,null,null,null,null,null,null,null,null,null,null,null,null,null,null,null,null,null,""]
["","",null,null,null,null,null,null,null,null,null,null,null,null,null,null,null,null,null,null,null,""]
["","",null,null,null,null,null,null,null,null,null,null,null,null,null,null,null,null,null,null,null,""]
["","",null,null,null,null,null,null,null,null,null,null,null,null,null,null,null,null,null,null,null,""]
["","",null,null,null,null,null,null,null,null,null,null,null,null,null,null,null,null,null,null,null,""]
["","",null,null,null,null,null,null,null,null,null,null,null,null,null,null,null,null,null,null,null,""]
["","",null,null,null,null,null,null,null,null,null,null,null,null,null,null,null,null,null,null,null,""]
["","",null,null,null,null,null,null,null,null,null,null,null,null,null,null,null,null,null,null,null,""]
["","",null,null,null,null,null,null,null,null,null,null,null,null,null,null,null,null,null,null,null,""]
["","",null,null,null,null,null,null,null,null,null,null,null,null,null,null,null,null,null,null,null,""]
["","",null,null,null,null,null,null,null,null,null,null,null,null,null,null,null,null,null,null,null,""]
["","",null,null,null,null,null,null,null,null,null,null,null,null,null,null,null,null,null,null,null,""]
["","",null,null,null,null,null,null,null,null,null,null,null,null,null,null,null,null,null,null,null,""]
["","",null,null,null,null,null,null,null,null,null,null,null,null,null,null,null,null,null,null,null,""]
["","",null,null,null,null,null,null,null,null,null,null,null,null,null,null,null,null,null,null,null,""]
["","",null,null,null,null,null,null,null,null,null,null,null,null,null,null,null,null,null,null,null,""]
["","",null,null,null,null,null,null,null,null,null,null,null,null,null,null,null,null,null,null,null,""]
["","",null,null,null,null,null,null,null,null,null,null,null,null,null,null,null,null,null,null,null,""]
["","",null,null,null,null,null,null,null,null,null,null,null,null,null,null,null,null,null,null,null,""]
["","",null,null,null,null,null,null,null,null,null,null,null,null,null,null,null,null,null,null,null,""]
["","",null,null,null,null,null,null,null,null,null,null,null,null,null,null,null,null,null,null,null,""]
["","",null,null,null,null,null,null,null,null,null,null,null,null,null,null,null,null,null,null,null,""]
["","",null,null,null,null,null,null,null,null,null,null,null,null,null,null,null,null,null,null,null,""]
["","",null,null,null,null,null,null,null,null,null,null,null,null,null,null,null,null,null,null,null,""]
["","",null,null,null,null,null,null,null,null,null,null,null,null,null,null,null,null,null,null,null,""]
["","",null,null,null,null,null,null,null,null,null,null,null,null,null,null,null,null,null,null,null,""]
[null,"",null,null,null,null,null,null,null,null,null,null,null,null,null,null,null,null,null,null,null,""]
[null,"",null,null,null,null,null,null,null,null,null,null,null,null,null,null,null,null,null,null,null,""]
[null,"",null,null,null,null,null,null,null,null,null,null,null,null,null,null,null,null,null,null,null,""]
[null,"",null,null,null,null,null,null,null,null,null,null,null,null,null,null,null,null,null,null,null,""]
[null,"",null,null,null,null,null,null,null,null,null,null,null,null,null,null,null,null,null,null,null,""]
[null,"",null,null,null,null,null,null,null,null,null,null,null,null,null,null,null,null,null,null,null,""]
[null,"",null,null,null,null,null,null,null,null,null,null,null,null,null,null,null,null,null,null,null,""]
[null,"",null,null,null,null,null,null,null,null,null,null,null,null,null,null,null,null,null,null,null,""]
[null,"",null,null,null,null,null,null,null,null,null,null,null,null,null,null,null,null,null,null,null,""]
[null,"",null,null,null,null,null,null,null,null,null,null,null,null,null,null,null,null,null,null,null,""]
[null,"",null,null,null,null,null,null,null,null,null,null,null,null,null,null,null,null,null,null,null,""]
[null,"",null,null,null,null,null,null,null,null,null,null,null,null,null,null,null,null,null,null,null,""]
[null,"",null,null,null,null,null,null,null,null,null,null,null,null,null,null,null,null,null,null,null,""]
[null,"",null,null,null,null,null,null,null,null,null,null,null,null,null,null,null,null,null,null,null,""]
[null,"",null,null,null,null,null,null,null,null,null,null,null,null,null,null,null,null,null,null,null,""]
[null,"",null,null,null,null,null,null,null,null,null,null,null,null,null,null,null,null,null,null,null,""]
[null,"",null,null,null,null,null,null,null,null,null,null,null,null,null,null,null,null,null,null,null,""]
[null,"",null,null,null,null,null,null,null,null,null,null,null,null,null,null,null,null,null,null,null,""]
[null,"",null,null,null,null,null,null,null,null,null,null,null,null,null,null,null,null,null,null,null,""]
[null,"",null,null,null,null,null,null,null,null,null,null,null,null,null,null,null,null,null,null,null,""]
[null,"",null,null,null,null,null,null,null,null,null,null,null,null,null,null,null,null,null,null,null,""]
[null,"",null,null,null,null,null,null,null,null,null,null,null,null,null,null,null,null,null,null,null,""]
[null,"",null,null,null,null,null,null,null,null,null,null,null,null,null,null,null,null,null,null,null,""]
[null,{"$f":"IF(C324=\"\",\"\",+TEXT(C324,\"ddD\"))","v":""},null,null,null,null,null,null,null,null,null,null,null,null,null,null,null,null,null,null,null,""]
[null,"",null,null,null,null,null,null,null,null,null,null,null,null,null,null,null,null,null,null,null,""]
[null,"",null,null,null,null,null,null,null,null,null,null,null,null,null,null,null,null,null,null,null,""]
[null,"",null,null,null,null,null,null,null,null,null,null,null,null,null,null,null,null,null,null,null,{"$f":"IF(K327=\"\",\"\",IF(K327<10,1,IF(K327<=25,2,IF(K327<=35,3,IF(K327<=70,4,5)))))","v":""}]
[null,"",null,null,null,null,null,null,null,null,null,null,null,null,null,null,null,null,null,null,null,""]
[null,"",null,null,null,null,null,null,null,null,null,null,null,null,null,null,null,null,null,null,null,""]
[null,"",null,null,null,null,null,null,null,null,null,null,null,null,null,null,null,null,null,null,null,""]
[null,"",null,null,null,null,null,null,null,null,null,null,null,null,null,null,null,null,null,null,null,""]
[null,"",null,null,null,null,null,null,null,null,null,null,null,null,null,null,null,null,null,null,null,""]
[null,"",null,null,null,null,null,null,null,null,null,null,null,null,null,null,null,null,null,null,null,""]
[null,"",null,null,null,null,null,null,null,null,null,null,null,null,null,null,null,null,null,null,null,""]
[null,"",null,null,null,null,null,null,null,null,null,null,null,null,null,null,null,null,null,null,null,""]
[null,"",null,null,null,null,null,null,null,null,null,null,null,null,null,null,null,null,null,null,null,""]
[null,"",null,null,null,null,null,null,null,null,null,null,null,null,null,null,null,null,null,null,null,""]
[null,"",null,null,null,null,null,null,null,null,null,null,null,null,null,null,null,null,null,null,null,""]
[null,"",null,null,null,null,null,null,null,null,null,null,null,null,null,null,null,null,null,null,null,""]
[null,"",null,null,null,null,null,null,null,null,null,null,null,null,null,null,null,null,null,null,null,""]
[null,"",null,null,null,null,null,null,null,null,null,null,null,null,null,null,null,null,null,null,null,""]
[null,"",null,null,null,null,null,null,null,null,null,null,null,null,null,null,null,null,null,null,null,""]
[null,"",null,null,null,null,null,null,null,null,null,null,null,null,null,null,null,null,null,null,null,""]
[null,"",null,null,null,null,null,null,null,null,null,null,null,null,null,null,null,null,null,null,null,""]
[null,"",null,null,null,null,null,null,null,null,null,null,null,null,null,null,null,null,null,null,null,""]
[null,"",null,null,null,null,null,null,null,null,null,null,null,null,null,null,null,null,null,null,null,""]
[null,"",null,null,null,null,null,null,null,null,null,null,null,null,null,null,null,null,null,null,null,""]
[null,"",null,null,null,null,null,null,null,null,null,null,null,null,null,null,null,null,null,null,null,""]
[null,"",null,null,null,null,null,null,null,null,null,null,null,null,null,null,null,null,null,null,null,""]
[null,"",null,null,null,null,null,null,null,null,null,null,null,null,null,null,null,null,null,null,null,""]
[null,"",null,null,null,null,null,null,null,null,null,null,null,null,null,null,null,null,null,null,null,""]
[null,"",null,null,null,null,null,null,null,null,null,null,null,null,null,null,null,null,null,null,null,""]
[null,"",null,null,null,null,null,null,null,null,null,null,null,null,null,null,null,null,null,null,null,""]
[null,"",null,null,null,null,null,null,null,null,null,null,null,null,null,null,null,null,null,null,null,""]
[null,"",null,null,null,null,null,null,null,null,null,null,null,null,null,null,null,null,null,null,null,""]
[null,"",null,null,null,null,null,null,null,null,null,null,null,null,null,null,null,null,null,null,null,""]
[null,"",null,null,null,null,null,null,null,null,null,null,null,null,null,null,null,null,null,null,null,""]
[null,"",null,null,null,null,null,null,null,null,null,null,null,null,null,null,null,null,null,null,null,""]
[null,"",null,null,null,null,null,null,null,null,null,null,null,null,null,null,null,null,null,null,null,""]
[null,"",null,null,null,null,null,null,null,null,null,null,null,null,null,null,null,null,null,null,null,""]
[null,"",null,null,null,null,null,null,null,null,null,null,null,null,null,null,null,null,null,null,null,""]
[null,"",null,null,null,null,null,null,null,null,null,null,null,null,null,null,null,null,null,null,null,""]
[null,"",null,null,null,null,null,null,null,null,null,null,null,null,null,null,null,null,null,null,null,""]
[null,"",null,null,null,null,null,null,null,null,null,null,null,null,null,null,null,null,null,null,null,""]
[null,"",null,null,null,null,null,null,null,null,null,null,null,null,null,null,null,null,null,null,null,""]
[null,"",null,null,null,null,null,null,null,null,null,null,null,null,null,null,null,null,null,null,null,""]
[null,"",null,null,null,null,null,null,null,null,null,null,null,null,null,null,null,null,null,null,null,""]
[null,"",null,null,null,null,null,null,null,null,null,null,null,null,null,null,null,null,null,null,null,""]
[null,"",null,null,null,null,null,null,null,null,null,null,null,null,null,null,null,null,null,null,null,""]
[null,"",null,null,null,null,null,null,null,null,null,null,null,null,null,null,null,null,null,null,null,""]
[null,"",null,null,null,null,null,null,null,null,null,null,null,null,null,null,null,null,null,null,null,""]
[null,"",null,null,null,null,null,null,null,null,null,null,null,null,null,null,null,null,null,null,null,""]
[null,"",null,null,null,null,null,null,null,null,null,null,null,null,null,null,null,null,null,null,null,""]
[null,"",null,null,null,null,null,null,null,null,null,null,null,null,null,null,null,null,null,null,null,""]
[null,"",null,null,null,null,null,null,null,null,null,null,null,null,null,null,null,null,null,null,null,""]
[null,"",null,null,null,null,null,null,null,null,null,null,null,null,null,null,null,null,null,null,null,""]
[null,"",null,null,null,null,null,null,null,null,null,null,null,null,null,null,null,null,null,null,null,""]
[null,"",null,null,null,null,null,null,null,null,null,null,null,null,null,null,null,null,null,null,null,""]
[null,"",null,null,null,null,null,null,null,null,null,null,null,null,null,null,null,null,null,null,null,""]
[null,"",null,null,null,null,null,null,null,null,null,null,null,null,null,null,null,null,null,null,null,""]
[null,"",null,null,null,null,null,null,null,null,null,null,null,null,null,null,null,null,null,null,null,""]
[null,"",null,null,null,null,null,null,null,null,null,null,null,null,null,null,null,null,null,null,null,""]
[null,"",null,null,null,null,null,null,null,null,null,null,null,null,null,null,null,null,null,null,null,""]
[null,"",null,null,null,null,null,null,null,null,null,null,null,null,null,null,null,null,null,null,null,""]
[null,"",null,null,null,null,null,null,null,null,null,null,null,null,null,null,null,null,null,null,null,""]
[null,"",null,null,null,null,null,null,null,null,null,null,null,null,null,null,null,null,null,null,null,""]
[null,"",null,null,null,null,null,null,null,null,null,null,null,null,null,null,null,null,null,null,null,""]
[null,{"$f":"IF(C388=\"\",\"\",+TEXT(C388,\"ddD\"))","v":""},null,null,null,null,null,null,null,null,null,null,null,null,null,null,null,null,null,null,null,""]
[null,"",null,null,null,null,null,null,null,null,null,null,null,null,null,null,null,null,null,null,null,""]
[null,"",null,null,null,null,null,null,null,null,null,null,null,null,null,null,null,null,null,null,null,""]
[null,"",null,null,null,null,null,null,null,null,null,null,null,null,null,null,null,null,null,null,null,{"$f":"IF(K391=\"\",\"\",IF(K391<10,1,IF(K391<=25,2,IF(K391<=35,3,IF(K391<=70,4,5)))))","v":""}]
[null,"",null,null,null,null,null,null,null,null,null,null,null,null,null,null,null,null,null,null,null,""]
[null,"",null,null,null,null,null,null,null,null,null,null,null,null,null,null,null,null,null,null,null,""]
[null,"",null,null,null,null,null,null,null,null,null,null,null,null,null,null,null,null,null,null,null,""]
[null,"",null,null,null,null,null,null,null,null,null,null,null,null,null,null,null,null,null,null,null,""]
[null,"",null,null,null,null,null,null,null,null,null,null,null,null,null,null,null,null,null,null,null,""]
[null,"",null,null,null,null,null,null,null,null,null,null,null,null,null,null,null,null,null,null,null,""]
[null,"",null,null,null,null,null,null,null,null,null,null,null,null,null,null,null,null,null,null,null,""]
[null,"",null,null,null,null,null,null,null,null,null,null,null,null,null,null,null,null,null,null,null,""]
[null,"",null,null,null,null,null,null,null,null,null,null,null,null,null,null,null,null,null,null,null,""]
[null,"",null,null,null,null,null,null,null,null,null,null,null,null,null,null,null,null,null,null,null,""]
[null,"",null,null,null,null,null,null,null,null,null,null,null,null,null,null,null,null,null,null,null,""]
[null,"",null,null,null,null,null,null,null,null,null,null,null,null,null,null,null,null,null,null,null,""]
[null,"",null,null,null,null,null,null,null,null,null,null,null,null,null,null,null,null,null,null,null,""]
[null,"",null,null,null,null,null,null,null,null,null,null,null,null,null,null,null,null,null,null,null,""]
[null,"",null,null,null,null,null,null,null,null,null,null,null,null,null,null,null,null,null,null,null,""]
[null,"",null,null,null,null,null,null,null,null,null,null,null,null,null,null,null,null,null,null,null,""]
[null,"",null,null,null,null,null,null,null,null,null,null,null,null,null,null,null,null,null,null,null,""]
[null,"",null,null,null,null,null,null,null,null,null,null,null,null,null,null,null,null,null,null,null,""]
[null,"",null,null,null,null,null,null,null,null,null,null,null,null,null,null,null,null,null,null,null,""]
[null,"",null,null,null,null,null,null,null,null,null,null,null,null,null,null,null,null,null,null,null,""]
[null,"",null,null,null,null,null,null,null,null,null,null,null,null,null,null,null,null,null,null,null,""]
[null,"",null,null,null,null,null,null,null,null,null,null,null,null,null,null,null,null,null,null,null,""]
[null,"",null,null,null,null,null,null,null,null,null,null,null,null,null,null,null,null,null,null,null,""]
[null,"",null,null,null,null,null,null,null,null,null,null,null,null,null,null,null,null,null,null,null,""]
[null,"",null,null,null,null,null,null,null,null,null,null,null,null,null,null,null,null,null,null,null,""]
[null,"",null,null,null,null,null,null,null,null,null,null,null,null,null,null,null,null,null,null,null,""]
[null,"",null,null,null,null,null,null,null,null,null,null,null,null,null,null,null,null,null,null,null,""]
[null,"",null,null,null,null,null,null,null,null,null,null,null,null,null,null,null,null,null,null,null,""]
[null,"",null,null,null,null,null,null,null,null,null,null,null,null,null,null,null,null,null,null,null,""]
[null,"",null,null,null,null,null,null,null,null,null,null,null,null,null,null,null,null,null,null,null,""]
[null,"",null,null,null,null,null,null,null,null,null,null,null,null,null,null,null,null,null,null,null,""]
[null,"",null,null,null,null,null,null,null,null,null,null,null,null,null,null,null,null,null,null,null,""]
[null,"",null,null,null,null,null,null,null,null,null,null,null,null,null,null,null,null,null,null,null,""]
[null,"",null,null,null,null,null,null,null,null,null,null,null,null,null,null,null,null,null,null,null,""]
[null,"",null,null,null,null,null,null,null,null,null,null,null,null,null,null,null,null,null,null,null,""]
[null,"",null,null,null,null,null,null,null,null,null,null,null,null,null,null,null,null,null,null,null,""]
[null,"",null,null,null,null,null,null,null,null,null,null,null,null,null,null,null,null,null,null,null,""]
[null,"",null,null,null,null,null,null,null,null,null,null,null,null,null,null,null,null,null,null,null,""]
[null,"",null,null,null,null,null,null,null,null,null,null,null,null,null,null,null,null,null,null,null,""]
[null,"",null,null,null,null,null,null,null,null,null,null,null,null,null,null,null,null,null,null,null,""]
[null,"",null,null,null,null,null,null,null,null,null,null,null,null,null,null,null,null,null,null,null,""]
[null,"",null,null,null,null,null,null,null,null,null,null,null,null,null,null,null,null,null,null,null,""]
[null,"",null,null,null,null,null,null,null,null,null,null,null,null,null,null,null,null,null,null,null,""]
[null,"",null,null,null,null,null,null,null,null,null,null,null,null,null,null,null,null,null,null,null,""]
[null,"",null,null,null,null,null,null,null,null,null,null,null,null,null,null,null,null,null,null,null,""]
[null,"",null,null,null,null,null,null,null,null,null,null,null,null,null,null,null,null,null,null,null,""]
[null,"",null,null,null,null,null,null,null,null,null,null,null,null,null,null,null,null,null,null,null,""]
[null,"",null,null,null,null,null,null,null,null,null,null,null,null,null,null,null,null,null,null,null,""]
[null,"",null,null,null,null,null,null,null,null,null,null,null,null,null,null,null,null,null,null,null,""]
[null,"",null,null,null,null,null,null,null,null,null,null,null,null,null,null,null,null,null,null,null,""]
[null,"",null,null,null,null,null,null,null,null,null,null,null,null,null,null,null,null,null,null,null,""]
[null,"",null,null,null,null,null,null,null,null,null,null,null,null,null,null,null,null,null,null,null,""]
[null,"",null,null,null,null,null,null,null,null,null,null,null,null,null,null,null,null,null,null,null,""]
[null,"",null,null,null,null,null,null,null,null,null,null,null,null,null,null,null,null,null,null,null,""]
[null,"",null,null,null,null,null,null,null,null,null,null,null,null,null,null,null,null,null,null,null,""]
[null,"",null,null,null,null,null,null,null,null,null,null,null,null,null,null,null,null,null,null,null,""]
[null,"",null,null,null,null,null,null,null,null,null,null,null,null,null,null,null,null,null,null,null,""]
[null,"",null,null,null,null,null,null,null,null,null,null,null,null,null,null,null,null,null,null,null,""]
[null,"",null,null,null,null,null,null,null,null,null,null,null,null,null,null,null,null,null,null,null,""]
[null,"",null,null,null,null,null,null,null,null,null,null,null,null,null,null,null,null,null,null,null,""]
[null,{"$f":"IF(C452=\"\",\"\",+TEXT(C452,\"ddD\"))","v":""},null,null,null,null,null,null,null,null,null,null,null,null,null,null,null,null,null,null,null,""]
[null,"",null,null,null,null,null,null,null,null,null,null,null,null,null,null,null,null,null,null,null,""]
[null,"",null,null,null,null,null,null,null,null,null,null,null,null,null,null,null,null,null,null,null,""]
[null,"",null,null,null,null,null,null,null,null,null,null,null,null,null,null,null,null,null,null,null,{"$f":"IF(K455=\"\",\"\",IF(K455<10,1,IF(K455<=25,2,IF(K455<=35,3,IF(K455<=70,4,5)))))","v":""}]
[null,"",null,null,null,null,null,null,null,null,null,null,null,null,null,null,null,null,null,null,null,""]
[null,"",null,null,null,null,null,null,null,null,null,null,null,null,null,null,null,null,null,null,null,""]
[null,"",null,null,null,null,null,null,null,null,null,null,null,null,null,null,null,null,null,null,null,""]
[null,"",null,null,null,null,null,null,null,null,null,null,null,null,null,null,null,null,null,null,null,""]
[null,"",null,null,null,null,null,null,null,null,null,null,null,null,null,null,null,null,null,null,null,""]
[null,"",null,null,null,null,null,null,null,null,null,null,null,null,null,null,null,null,null,null,null,""]
[null,"",null,null,null,null,null,null,null,null,null,null,null,null,null,null,null,null,null,null,null,""]
[null,"",null,null,null,null,null,null,null,null,null,null,null,null,null,null,null,null,null,null,null,""]
[null,"",null,null,null,null,null,null,null,null,null,null,null,null,null,null,null,null,null,null,null,""]
[null,"",null,null,null,null,null,null,null,null,null,null,null,null,null,null,null,null,null,null,null,""]
[null,"",null,null,null,null,null,null,null,null,null,null,null,null,null,null,null,null,null,null,null,""]
[null,"",null,null,null,null,null,null,null,null,null,null,null,null,null,null,null,null,null,null,null,""]
[null,"",null,null,null,null,null,null,null,null,null,null,null,null,null,null,null,null,null,null,null,""]
[null,"",null,null,null,null,null,null,null,null,null,null,null,null,null,null,null,null,null,null,null,""]
[null,"",null,null,null,null,null,null,null,null,null,null,null,null,null,null,null,null,null,null,null,""]
[null,"",null,null,null,null,null,null,null,null,null,null,null,null,null,null,null,null,null,null,null,""]
[null,"",null,null,null,null,null,null,null,null,null,null,null,null,null,null,null,null,null,null,null,""]
[null,"",null,null,null,null,null,null,null,null,null,null,null,null,null,null,null,null,null,null,null,""]
[null,"",null,null,null,null,null,null,null,null,null,null,null,null,null,null,null,null,null,null,null,""]
[null,"",null,null,null,null,null,null,null,null,null,null,null,null,null,null,null,null,null,null,null,""]
[null,"",null,null,null,null,null,null,null,null,null,null,null,null,null,null,null,null,null,null,null,""]
[null,"",null,null,null,null,null,null,null,null,null,null,null,null,null,null,null,null,null,null,null,""]
[null,"",null,null,null,null,null,null,null,null,null,null,null,null,null,null,null,null,null,null,null,""]
[null,"",null,null,null,null,null,null,null,null,null,null,null,null,null,null,null,null,null,null,null,""]
[null,"",null,null,null,null,null,null,null,null,null,null,null,null,null,null,null,null,null,null,null,""]
[null,"",null,null,null,null,null,null,null,null,null,null,null,null,null,null,null,null,null,null,null,""]
[null,"",null,null,null,null,null,null,null,null,null,null,null,null,null,null,null,null,null,null,null,""]
[null,"",null,null,null,null,null,null,null,null,null,null,null,null,null,null,null,null,null,null,null,""]
[null,"",null,null,null,null,null,null,null,null,null,null,null,null,null,null,null,null,null,null,null,""]
[null,"",null,null,null,null,null,null,null,null,null,null,null,null,null,null,null,null,null,null,null,""]
[null,"",null,null,null,null,null,null,null,null,null,null,null,null,null,null,null,null,null,null,null,""]
[null,"",null,null,null,null,null,null,null,null,null,null,null,null,null,null,null,null,null,null,null,""]
[null,"",null,null,null,null,null,null,null,null,null,null,null,null,null,null,null,null,null,null,null,""]
[null,"",null,null,null,null,null,null,null,null,null,null,null,null,null,null,null,null,null,null,null,""]
[null,"",null,null,null,null,null,null,null,null,null,null,null,null,null,null,null,null,null,null,null,""]
[null,"",null,null,null,null,null,null,null,null,null,null,null,null,null,null,null,null,null,null,null,""]
[null,"",null,null,null,null,null,null,null,null,null,null,null,null,null,null,null,null,null,null,null,""]
[null,"",null,null,null,null,null,null,null,null,null,null,null,null,null,null,null,null,null,null,null,""]
[null,"",null,null,null,null,null,null,null,null,null,null,null,null,null,null,null,null,null,null,null,""]
[null,"",null,null,null,null,null,null,null,null,null,null,null,null,null,null,null,null,null,null,null,""]
[null,"",null,null,null,null,null,null,null,null,null,null,null,null,null,null,null,null,null,null,null,""]
[null,"",null,null,null,null,null,null,null,null,null,null,null,null,null,null,null,null,null,null,null,""]
[null,"",null,null,null,null,null,null,null,null,null,null,null,null,null,null,null,null,null,null,null,""]
[null,"",null,null,null,null,null,null,null,null,null,null,null,null,null,null,null,null,null,null,null,""]
[null,"",null,null,null,null,null,null,null,null,null,null,null,null,null,null,null,null,null,null,null,""]
[null,"",null,null,null,null,null,null,null,null,null,null,null,null,null,null,null,null,null,null,null,""]
[null,"",null,null,null,null,null,null,null,null,null,null,null,null,null,null,null,null,null,null,null,""]
[null,"",null,null,null,null,null,null,null,null,null,null,null,null,null,null,null,null,null,null,null,""]
[null,"",null,null,null,null,null,null,null,null,null,null,null,null,null,null,null,null,null,null,null,""]
[null,"",null,null,null,null,null,null,null,null,null,null,null,null,null,null,null,null,null,null,null,""]
[null,"",null,null,null,null,null,null,null,null,null,null,null,null,null,null,null,null,null,null,null,""]
[null,"",null,null,null,null,null,null,null,null,null,null,null,null,null,null,null,null,null,null,null,""]
[null,"",null,null,null,null,null,null,null,null,null,null,null,null,null,null,null,null,null,null,null,""]
[null,"",null,null,null,null,null,null,null,null,null,null,null,null,null,null,null,null,null,null,null,""]
[null,"",null,null,null,null,null,null,null,null,null,null,null,null,null,null,null,null,null,null,null,""]
[null,"",null,null,null,null,null,null,null,null,null,null,null,null,null,null,null,null,null,null,null,""]
[null,"",null,null,null,null,null,null,null,null,null,null,null,null,null,null,null,null,null,null,null,""]
[null,"",null,null,null,null,null,null,null,null,null,null,null,null,null,null,null,null,null,null,null,""]
[null,"",null,null,null,null,null,null,null,null,null,null,null,null,null,null,null,null,null,null,null,""]
[null,"",null,null,null,null,null,null,null,null,null,null,null,null,null,null,null,null,null,null,null,""]
[null,{"$f":"IF(C516=\"\",\"\",+TEXT(C516,\"ddD\"))","v":""},null,null,null,null,null,null,null,null,null,null,null,null,null,null,null,null,null,null,null,""]
[null,"",null,null,null,null,null,null,null,null,null,null,null,null,null,null,null,null,null,null,null,""]
[null,"",null,null,null,null,null,null,null,null,null,null,null,null,null,null,null,null,null,null,null,""]
[null,"",null,null,null,null,null,null,null,null,null,null,null,null,null,null,null,null,null,null,null,{"$f":"IF(K519=\"\",\"\",IF(K519<10,1,IF(K519<=25,2,IF(K519<=35,3,IF(K519<=70,4,5)))))","v":""}]
[null,"",null,null,null,null,null,null,null,null,null,null,null,null,null,null,null,null,null,null,null,""]
[null,"",null,null,null,null,null,null,null,null,null,null,null,null,null,null,null,null,null,null,null,""]
[null,"",null,null,null,null,null,null,null,null,null,null,null,null,null,null,null,null,null,null,null,""]
[null,"",null,null,null,null,null,null,null,null,null,null,null,null,null,null,null,null,null,null,null,""]
[null,"",null,null,null,null,null,null,null,null,null,null,null,null,null,null,null,null,null,null,null,""]
[null,"",null,null,null,null,null,null,null,null,null,null,null,null,null,null,null,null,null,null,null,""]
[null,"",null,null,null,null,null,null,null,null,null,null,null,null,null,null,null,null,null,null,null,""]
[null,"",null,null,null,null,null,null,null,null,null,null,null,null,null,null,null,null,null,null,null,""]
[null,"",null,null,null,null,null,null,null,null,null,null,null,null,null,null,null,null,null,null,null,""]
[null,"",null,null,null,null,null,null,null,null,null,null,null,null,null,null,null,null,null,null,null,""]
[null,"",null,null,null,null,null,null,null,null,null,null,null,null,null,null,null,null,null,null,null,""]
[null,"",null,null,null,null,null,null,null,null,null,null,null,null,null,null,null,null,null,null,null,""]
[null,"",null,null,null,null,null,null,null,null,null,null,null,null,null,null,null,null,null,null,null,""]
[null,"",null,null,null,null,null,null,null,null,null,null,null,null,null,null,null,null,null,null,null,""]
[null,"",null,null,null,null,null,null,null,null,null,null,null,null,null,null,null,null,null,null,null,""]
[null,"",null,null,null,null,null,null,null,null,null,null,null,null,null,null,null,null,null,null,null,""]
[null,"",null,null,null,null,null,null,null,null,null,null,null,null,null,null,null,null,null,null,null,""]
[null,"",null,null,null,null,null,null,null,null,null,null,null,null,null,null,null,null,null,null,null,""]
[null,"",null,null,null,null,null,null,null,null,null,null,null,null,null,null,null,null,null,null,null,""]
[null,"",null,null,null,null,null,null,null,null,null,null,null,null,null,null,null,null,null,null,null,""]
[null,"",null,null,null,null,null,null,null,null,null,null,null,null,null,null,null,null,null,null,null,""]
[null,"",null,null,null,null,null,null,null,null,null,null,null,null,null,null,null,null,null,null,null,""]
[null,"",null,null,null,null,null,null,null,null,null,null,null,null,null,null,null,null,null,null,null,""]
[null,"",null,null,null,null,null,null,null,null,null,null,null,null,null,null,null,null,null,null,null,""]
[null,"",null,null,null,null,null,null,null,null,null,null,null,null,null,null,null,null,null,null,null,""]
[null,"",null,null,null,null,null,null,null,null,null,null,null,null,null,null,null,null,null,null,null,""]
[null,"",null,null,null,null,null,null,null,null,null,null,null,null,null,null,null,null,null,null,null,""]
[null,"",null,null,null,null,null,null,null,null,null,null,null,null,null,null,null,null,null,null,null,""]
[null,"",null,null,null,null,null,null,null,null,null,null,null,null,null,null,null,null,null,null,null,""]
[null,"",null,null,null,null,null,null,null,null,null,null,null,null,null,null,null,null,null,null,null,""]
[null,"",null,null,null,null,null,null,null,null,null,null,null,null,null,null,null,null,null,null,null,""]
[null,"",null,null,null,null,null,null,null,null,null,null,null,null,null,null,null,null,null,null,null,""]
[null,"",null,null,null,null,null,null,null,null,null,null,null,null,null,null,null,null,null,null,null,""]
[null,"",null,null,null,null,null,null,null,null,null,null,null,null,null,null,null,null,null,null,null,""]
[null,"",null,null,null,null,null,null,null,null,null,null,null,null,null,null,null,null,null,null,null,""]
[null,"",null,null,null,null,null,null,null,null,null,null,null,null,null,null,null,null,null,null,null,""]
[null,"",null,null,null,null,null,null,null,null,null,null,null,null,null,null,null,null,null,null,null,""]
[null,"",null,null,null,null,null,null,null,null,null,null,null,null,null,null,null,null,null,null,null,""]
[null,"",null,null,null,null,null,null,null,null,null,null,null,null,null,null,null,null,null,null,null,""]
[null,"",null,null,null,null,null,null,null,null,null,null,null,null,null,null,null,null,null,null,null,""]
[null,"",null,null,null,null,null,null,null,null,null,null,null,null,null,null,null,null,null,null,null,""]
[null,"",null,null,null,null,null,null,null,null,null,null,null,null,null,null,null,null,null,null,null,""]
[null,"",null,null,null,null,null,null,null,null,null,null,null,null,null,null,null,null,null,null,null,""]
[null,"",null,null,null,null,null,null,null,null,null,null,null,null,null,null,null,null,null,null,null,""]
[null,"",null,null,null,null,null,null,null,null,null,null,null,null,null,null,null,null,null,null,null,""]
[null,"",null,null,null,null,null,null,null,null,null,null,null,null,null,null,null,null,null,null,null,""]
[null,"",null,null,null,null,null,null,null,null,null,null,null,null,null,null,null,null,null,null,null,""]
[null,"",null,null,null,null,null,null,null,null,null,null,null,null,null,null,null,null,null,null,null,""]
[null,"",null,null,null,null,null,null,null,null,null,null,null,null,null,null,null,null,null,null,null,""]
[null,"",null,null,null,null,null,null,null,null,null,null,null,null,null,null,null,null,null,null,null,""]
[null,"",null,null,null,null,null,null,null,null,null,null,null,null,null,null,null,null,null,null,null,""]
[null,"",null,null,null,null,null,null,null,null,null,null,null,null,null,null,null,null,null,null,null,""]
[null,"",null,null,null,null,null,null,null,null,null,null,null,null,null,null,null,null,null,null,null,""]
[null,"",null,null,null,null,null,null,null,null,null,null,null,null,null,null,null,null,null,null,null,""]
[null,"",null,null,null,null,null,null,null,null,null,null,null,null,null,null,null,null,null,null,null,""]
[null,"",null,null,null,null,null,null,null,null,null,null,null,null,null,null,null,null,null,null,null,""]
[null,"",null,null,null,null,null,null,null,null,null,null,null,null,null,null,null,null,null,null,null,""]
[null,"",null,null,null,null,null,null,null,null,null,null,null,null,null,null,null,null,null,null,null,""]
[null,"",null,null,null,null,null,null,null,null,null,null,null,null,null,null,null,null,null,null,null,""]
[null,"",null,null,null,null,null,null,null,null,null,null,null,null,null,null,null,null,null,null,null,""]
[null,{"$f":"IF(C580=\"\",\"\",+TEXT(C580,\"ddD\"))","v":""},null,null,null,null,null,null,null,null,null,null,null,null,null,null,null,null,null,null,null,""]
[null,"",null,null,null,null,null,null,null,null,null,null,null,null,null,null,null,null,null,null,null,""]
[null,"",null,null,null,null,null,null,null,null,null,null,null,null,null,null,null,null,null,null,null,""]
[null,"",null,null,null,null,null,null,null,null,null,null,null,null,null,null,null,null,null,null,null,{"$f":"IF(K583=\"\",\"\",IF(K583<10,1,IF(K583<=25,2,IF(K583<=35,3,IF(K583<=70,4,5)))))","v":""}]
[null,"",null,null,null,null,null,null,null,null,null,null,null,null,null,null,null,null,null,null,null,""]
[null,"",null,null,null,null,null,null,null,null,null,null,null,null,null,null,null,null,null,null,null,""]
[null,"",null,null,null,null,null,null,null,null,null,null,null,null,null,null,null,null,null,null,null,""]
[null,"",null,null,null,null,null,null,null,null,null,null,null,null,null,null,null,null,null,null,null,""]
[null,"",null,null,null,null,null,null,null,null,null,null,null,null,null,null,null,null,null,null,null,""]
[null,"",null,null,null,null,null,null,null,null,null,null,null,null,null,null,null,null,null,null,null,""]
[null,"",null,null,null,null,null,null,null,null,null,null,null,null,null,null,null,null,null,null,null,""]
[null,"",null,null,null,null,null,null,null,null,null,null,null,null,null,null,null,null,null,null,null,""]
[null,"",null,null,null,null,null,null,null,null,null,null,null,null,null,null,null,null,null,null,null,""]
[null,"",null,null,null,null,null,null,null,null,null,null,null,null,null,null,null,null,null,null,null,""]
[null,"",null,null,null,null,null,null,null,null,null,null,null,null,null,null,null,null,null,null,null,""]
[null,"",null,null,null,null,null,null,null,null,null,null,null,null,null,null,null,null,null,null,null,""]
[null,"",null,null,null,null,null,null,null,null,null,null,null,null,null,null,null,null,null,null,null,""]
[null,"",null,null,null,null,null,null,null,null,null,null,null,null,null,null,null,null,null,null,null,""]
[null,"",null,null,null,null,null,null,null,null,null,null,null,null,null,null,null,null,null,null,null,""]
[null,"",null,null,null,null,null,null,null,null,null,null,null,null,null,null,null,null,null,null,null,""]
[null,"",null,null,null,null,null,null,null,null,null,null,null,null,null,null,null,null,null,null,null,""]
[null,"",null,null,null,null,null,null,null,null,null,null,null,null,null,null,null,null,null,null,null,""]
[null,"",null,null,null,null,null,null,null,null,null,null,null,null,null,null,null,null,null,null,null,""]
[null,"",null,null,null,null,null,null,null,null,null,null,null,null,null,null,null,null,null,null,null,""]
[null,"",null,null,null,null,null,null,null,null,null,null,null,null,null,null,null,null,null,null,null,""]
[null,"",null,null,null,null,null,null,null,null,null,null,null,null,null,null,null,null,null,null,null,""]
[null,"",null,null,null,null,null,null,null,null,null,null,null,null,null,null,null,null,null,null,null,""]
[null,"",null,null,null,null,null,null,null,null,null,null,null,null,null,null,null,null,null,null,null,""]
[null,"",null,null,null,null,null,null,null,null,null,null,null,null,null,null,null,null,null,null,null,""]
[null,"",null,null,null,null,null,null,null,null,null,null,null,null,null,null,null,null,null,null,null,""]
[null,"",null,null,null,null,null,null,null,null,null,null,null,null,null,null,null,null,null,null,null,""]
[null,"",null,null,null,null,null,null,null,null,null,null,null,null,null,null,null,null,null,null,null,""]
[null,"",null,null,null,null,null,null,null,null,null,null,null,null,null,null,null,null,null,null,null,""]
[null,"",null,null,null,null,null,null,null,null,null,null,null,null,null,null,null,null,null,null,null,""]
[null,"",null,null,null,null,null,null,null,null,null,null,null,null,null,null,null,null,null,null,null,""]
[null,"",null,null,null,null,null,null,null,null,null,null,null,null,null,null,null,null,null,null,null,""]
[null,"",null,null,null,null,null,null,null,null,null,null,null,null,null,null,null,null,null,null,null,""]
[null,"",null,null,null,null,null,null,null,null,null,null,null,null,null,null,null,null,null,null,null,""]
[null,"",null,null,null,null,null,null,null,null,null,null,null,null,null,null,null,null,null,null,null,""]
[null,"",null,null,null,null,null,null,null,null,null,null,null,null,null,null,null,null,null,null,null,""]
[null,"",null,null,null,null,null,null,null,null,null,null,null,null,null,null,null,null,null,null,null,""]
[null,"",null,null,null,null,null,null,null,null,null,null,null,null,null,null,null,null,null,null,null,""]
[null,"",null,null,null,null,null,null,null,null,null,null,null,null,null,null,null,null,null,null,null,""]
[null,"",null,null,null,null,null,null,null,null,null,null,null,null,null,null,null,null,null,null,null,""]
[null,"",null,null,null,null,null,null,null,null,null,null,null,null,null,null,null,null,null,null,null,""]
[null,"",null,null,null,null,null,null,null,null,null,null,null,null,null,null,null,null,null,null,null,""]
[null,"",null,null,null,null,null,null,null,null,null,null,null,null,null,null,null,null,null,null,null,""]
[null,"",null,null,null,null,null,null,null,null,null,null,null,null,null,null,null,null,null,null,null,""]
[null,"",null,null,null,null,null,null,null,null,null,null,null,null,null,null,null,null,null,null,null,""]
[null,"",null,null,null,null,null,null,null,null,null,null,null,null,null,null,null,null,null,null,null,""]
[null,"",null,null,null,null,null,null,null,null,null,null,null,null,null,null,null,null,null,null,null,""]
[null,"",null,null,null,null,null,null,null,null,null,null,null,null,null,null,null,null,null,null,null,""]
[null,"",null,null,null,null,null,null,null,null,null,null,null,null,null,null,null,null,null,null,null,""]
[null,"",null,null,null,null,null,null,null,null,null,null,null,null,null,null,null,null,null,null,null,""]
[null,"",null,null,null,null,null,null,null,null,null,null,null,null,null,null,null,null,null,null,null,""]
[null,"",null,null,null,null,null,null,null,null,null,null,null,null,null,null,null,null,null,null,null,""]
[null,"",null,null,null,null,null,null,null,null,null,null,null,null,null,null,null,null,null,null,null,""]
[null,"",null,null,null,null,null,null,null,null,null,null,null,null,null,null,null,null,null,null,null,""]
[null,"",null,null,null,null,null,null,null,null,null,null,null,null,null,null,null,null,null,null,null,""]
[null,"",null,null,null,null,null,null,null,null,null,null,null,null,null,null,null,null,null,null,null,""]
[null,"",null,null,null,null,null,null,null,null,null,null,null,null,null,null,null,null,null,null,null,""]
[null,"",null,null,null,null,null,null,null,null,null,null,null,null,null,null,null,null,null,null,null,""]
[null,"",null,null,null,null,null,null,null,null,null,null,null,null,null,null,null,null,null,null,null,""]
[null,"",null,null,null,null,null,null,null,null,null,null,null,null,null,null,null,null,null,null,null,""]
[null,{"$f":"IF(C644=\"\",\"\",+TEXT(C644,\"ddD\"))","v":""},null,null,null,null,null,null,null,null,null,null,null,null,null,null,null,null,null,null,null,""]
[null,"",null,null,null,null,null,null,null,null,null,null,null,null,null,null,null,null,null,null,null,""]
[null,"",null,null,null,null,null,null,null,null,null,null,null,null,null,null,null,null,null,null,null,""]
[null,"",null,null,null,null,null,null,null,null,null,null,null,null,null,null,null,null,null,null,null,{"$f":"IF(K647=\"\",\"\",IF(K647<10,1,IF(K647<=25,2,IF(K647<=35,3,IF(K647<=70,4,5)))))","v":""}]
[null,"",null,null,null,null,null,null,null,null,null,null,null,null,null,null,null,null,null,null,null,""]
[null,"",null,null,null,null,null,null,null,null,null,null,null,null,null,null,null,null,null,null,null,""]
[null,"",null,null,null,null,null,null,null,null,null,null,null,null,null,null,null,null,null,null,null,""]
[null,"",null,null,null,null,null,null,null,null,null,null,null,null,null,null,null,null,null,null,null,""]
[null,"",null,null,null,null,null,null,null,null,null,null,null,null,null,null,null,null,null,null,null,""]
[null,"",null,null,null,null,null,null,null,null,null,null,null,null,null,null,null,null,null,null,null,""]
[null,"",null,null,null,null,null,null,null,null,null,null,null,null,null,null,null,null,null,null,null,""]
[null,"",null,null,null,null,null,null,null,null,null,null,null,null,null,null,null,null,null,null,null,""]
[null,"",null,null,null,null,null,null,null,null,null,null,null,null,null,null,null,null,null,null,null,""]
[null,"",null,null,null,null,null,null,null,null,null,null,null,null,null,null,null,null,null,null,null,""]
[null,"",null,null,null,null,null,null,null,null,null,null,null,null,null,null,null,null,null,null,null,""]
[null,"",null,null,null,null,null,null,null,null,null,null,null,null,null,null,null,null,null,null,null,""]
[null,"",null,null,null,null,null,null,null,null,null,null,null,null,null,null,null,null,null,null,null,""]
[null,"",null,null,null,null,null,null,null,null,null,null,null,null,null,null,null,null,null,null,null,""]
[null,"",null,null,null,null,null,null,null,null,null,null,null,null,null,null,null,null,null,null,null,""]
[null,"",null,null,null,null,null,null,null,null,null,null,null,null,null,null,null,null,null,null,null,""]
[null,"",null,null,null,null,null,null,null,null,null,null,null,null,null,null,null,null,null,null,null,""]
[null,"",null,null,null,null,null,null,null,null,null,null,null,null,null,null,null,null,null,null,null,""]
[null,"",null,null,null,null,null,null,null,null,null,null,null,null,null,null,null,null,null,null,null,""]
[null,"",null,null,null,null,null,null,null,null,null,null,null,null,null,null,null,null,null,null,null,""]
[null,"",null,null,null,null,null,null,null,null,null,null,null,null,null,null,null,null,null,null,null,""]
[null,"",null,null,null,null,null,null,null,null,null,null,null,null,null,null,null,null,null,null,null,""]
[null,"",null,null,null,null,null,null,null,null,null,null,null,null,null,null,null,null,null,null,null,""]
[null,"",null,null,null,null,null,null,null,null,null,null,null,null,null,null,null,null,null,null,null,""]
[null,"",null,null,null,null,null,null,null,null,null,null,null,null,null,null,null,null,null,null,null,""]
[null,"",null,null,null,null,null,null,null,null,null,null,null,null,null,null,null,null,null,null,null,""]
[null,"",null,null,null,null,null,null,null,null,null,null,null,null,null,null,null,null,null,null,null,""]
[null,"",null,null,null,null,null,null,null,null,null,null,null,null,null,null,null,null,null,null,null,""]
[null,"",null,null,null,null,null,null,null,null,null,null,null,null,null,null,null,null,null,null,null,""]
[null,"",null,null,null,null,null,null,null,null,null,null,null,null,null,null,null,null,null,null,null,""]
[null,"",null,null,null,null,null,null,null,null,null,null,null,null,null,null,null,null,null,null,null,""]
[null,"",null,null,null,null,null,null,null,null,null,null,null,null,null,null,null,null,null,null,null,""]
[null,"",null,null,null,null,null,null,null,null,null,null,null,null,null,null,null,null,null,null,null,""]
[null,"",null,null,null,null,null,null,null,null,null,null,null,null,null,null,null,null,null,null,null,""]
[null,"",null,null,null,null,null,null,null,null,null,null,null,null,null,null,null,null,null,null,null,""]
[null,"",null,null,null,null,null,null,null,null,null,null,null,null,null,null,null,null,null,null,null,""]
[null,"",null,null,null,null,null,null,null,null,null,null,null,null,null,null,null,null,null,null,null,""]
[null,"",null,null,null,null,null,null,null,null,null,null,null,null,null,null,null,null,null,null,null,""]
[null,"",null,null,null,null,null,null,null,null,null,null,null,null,null,null,null,null,null,null,null,""]
[null,"",null,null,null,null,null,null,null,null,null,null,null,null,null,null,null,null,null,null,null,""]
[null,"",null,null,null,null,null,null,null,null,null,null,null,null,null,null,null,null,null,null,null,""]
[null,"",null,null,null,null,null,null,null,null,null,null,null,null,null,null,null,null,null,null,null,""]
[null,"",null,null,null,null,null,null,null,null,null,null,null,null,null,null,null,null,null,null,null,""]
[null,"",null,null,null,null,null,null,null,null,null,null,null,null,null,null,null,null,null,null,null,""]
[null,"",null,null,null,null,null,null,null,null,null,null,null,null,null,null,null,null,null,null,null,""]
[null,"",null,null,null,null,null,null,null,null,null,null,null,null,null,null,null,null,null,null,null,""]
[null,"",null,null,null,null,null,null,null,null,null,null,null,null,null,null,null,null,null,null,null,""]
[null,"",null,null,null,null,null,null,null,null,null,null,null,null,null,null,null,null,null,null,null,""]
[null,"",null,null,null,null,null,null,null,null,null,null,null,null,null,null,null,null,null,null,null,""]
[null,"",null,null,null,null,null,null,null,null,null,null,null,null,null,null,null,null,null,null,null,""]
[null,"",null,null,null,null,null,null,null,null,null,null,null,null,null,null,null,null,null,null,null,""]
[null,"",null,null,null,null,null,null,null,null,null,null,null,null,null,null,null,null,null,null,null,""]
[null,"",null,null,null,null,null,null,null,null,null,null,null,null,null,null,null,null,null,null,null,""]

{"sheet":"12","index":3,"n_rows":700,"n_cols":24,"rows_kept":700,"cut":false,"hidden":false,"merged":[[0,20,0,21],[0,22,0,23],[0,3,0,5],[0,6,0,7],[0,8,0,12],[0,13,0,14],[0,15,0,16],[0,18,0,19]]}
[null,null,null,"ZÁZNAMY NA TOMTO LISTU: \n05.12.22 - 30.12.2022",null,null,"DNEŠNÍ DATUM:     ",null,{"$f":"+TODAY()","v":"2023-02-01"},null,null,null,null,"AKTUÁLNÍ ČAS:     ",null,{"$f":"NOW()","v":44958.554346412035},null,null,"AKTUÁLNÍ MĚSÍC: ",null,{"$f":"+I1","v":"2023-02-01"},null,"Informace pro NÁKUP"]
["pořadí","Den","Datum","Expedice číslo (PDL ?)","Zákazník","Dopravce","Destinace","SPZ","název výrobku","balení","počet balení","Vratka palet (ano/ne)","místo nakládky","Plán. příjezd","Skutečný příjezd","Start nakládky","Konec nakládky","Expedoval","Status","Naplánoval","Poznámka","složitost","Cena přepravy","přefaktuace / doplňující informace"]
[]
[{"$f":"IF(C4=\"\",\"\",IF(N4=\"\",C4+1,C4+N4))","v":44900.25},{"$f":"IF(C4=\"\",\"\",+TEXT(C4,\"ddD\"))","v":"po"},"2022-12-05",null,"DF","Hroza","Neubuz",null,"KS-3","PA",32,null,"Kyjov","06:00:00",null,null,null,"Hojač M.","Dokončeno","Chromková L.","naloženo v pátek",{"$f":"IF(K4=\"\",\"\",IF(K4<10,1,IF(K4<=25,2,IF(K4<=35,3,IF(K4<=70,4,5)))))","v":3},2800,"v ceně"]
[44900.25,"po","2022-12-05",null,"DF","Hroza ","Neubuz",null,"PHM","PA",18,null,"Kyjov","06:00:00","07:10:00","07:20:00","07:30:00","Hojač M.","Dokončeno","Chromková L.","vychystáno Hojač ",2,3700,"v ceně"]
[44900.25,"po","2022-12-05",null,"DF","Hroza","Neubuz",null,"KS-3","PA",32,null,"Kyjov","06:00:00","10:30:00","10:35:00","10:55:00","Hojač M.","Dokončeno","Chromková L.","vychystánoHojač na 6.12.",3,3700,"v ceně"]
[44900.25,"po","2022-12-05",null,"DF","Hroza ","Neubuz",null,"PHM-20 AT","PA",18,"ano","Kyjov","06:00:00","12:00:00","12:05:00","12:25:00","Hojač M.","Dokončeno","Chromková L.","vychystáno Hojač na 6.12.",2,3300,"v ceně"]
[44900.25,"po","2022-12-05",null,"J.P.SK-Duslo","TEZET","Šala SK",null,"KSE-5","PA",15,"ano","Kyjov","06:00:00","10:00:00","10:05:00","10:30:00","Hojač M.","Dokončeno","Chromková L.","nakládka na 6.12.",2,4000,"přefaktur. 190eur fa 23020114"]
[44900.333333333336,"po","2022-12-05",null,"T-Net","MSB","Eloyes",null,"Zeus","PA",33,null,"Kyjov","08:00:00","06:30:00","06:40:00","07:30:00","Doupovec R.","Dokončeno","Gajdošová L.",null,3]
[44900.375,"po","2022-12-05",null,"Nufarm","BSG","Linec",null,"KA-5","PA",52,null,"Kyjov","09:00:00","09:15:00","09:20:00","10:00:00","Svoboda L.","Dokončeno","Kollerová D.","vychystáno Svoboda",4,null,"v ceně"]
[44900.416666666664,"po","2022-12-05",null,"Nufarm","Silvan","Linec",null,"KA-5","PA",52,null,"Kyjov","10:00:00","09:30:00","09:40:00","10:00:00","Průša M.","Dokončeno","Kollerová D.","vychystáno Průša",4,null,"v ceně"]
[44900.458333333336,"po","2022-12-05",null,"Nufarm","Silvan","Linec",null,"KA-5","PA",52,null,"Kyjov","11:00:00","10:45:00","10:50:00","11:30:00","Benedík M.","Dokončeno","Kollerová D.",null,4,null,"v ceně"]
[44900.458333333336,"po","2022-12-05",null,"Lifocolor","Zdeněk Pulpán","Kyjov",null,"barviva","PA",3,null,"Kyjov","11:00:00",null,null,"14:00:00","Průša M.","Dokončeno","Bilíček P.",null,1]
[44900.541666666664,"po","2022-12-05",null,"Plastimex/MAT","vlastní","Prostějov",null,"mix","PA",3,null,"Kyjov","13:00:00","12:20:00","12:25:00","12:35:00","Svoboda L.","Dokončeno","Chromková L.","vychystánoí svoboda ",1]
[44900.583333333336,"po","2022-12-05",null,"Faurecia","vlastní","Hlohovec",null,"52X","PA",13,"ano","Kyjov","14:00:00","13:00:00","13:05:00","13:30:00","Průša M.","Dokončeno","Gajdošová L.","vychystal Průša",2]
[44901,"po","2022-12-05",null,"FIlmer","Logmax","Varel",null,"KPHM","PA",70,null,"Kyjov",null,"13:30:00","13:40:00","15:15:00","Svoboda L.","Dokončeno","Kollerová D.","vychystal Kubáček",4,null,"v ceně"]
[44901,"po","2022-12-05",null,"Toptrans","Toptrans",null,null,"mix","PA",7,null,"Kyjov",null,null,null,"14:00:00","Havránek M.","Dokončeno","Gajdošová L.","vychystal Havránek",1]
[44901.250694444447,"út","2022-12-06",null,"DF","Hroza","Neubuz",null,"KS-3","PA",32,null,"Kyjov","06:01:00","10:00:00","10:05:00","10:20:00","Hojač M.","Dokončeno","Chromková L.","vychystáno Hojač",3,3700,"v ceně"]
[44901.250694444447,"út","2022-12-06",null,"DF","Hroza","Neubuz",null,"KS-3","PA",32,"ano","Kyjov","06:01:00","15:00:00","15:10:00","15:35:00","Průša J.","Dokončeno","Chromková L.","vychystáno Hojač na 7.12.",3,4200,"v ceně"]
[44901.291666666664,"út","2022-12-06","příjem","BELSHINA","vlastní","Kyjov","7Z0 1040; 4Z9 2327; Ďurica","561 EUR palet","PA",33,null,null,"07:00:00","07:30:00","07:35:00","08:30:00","Průša M.","Dokončeno","Bilíček P.",null,3]
[44901.416666666664,"út","2022-12-06",null,"Toptrans","Toptrans",null,null,"mix","PA",16,null,"Kyjov","10:00:00","12:00:00",null,"12:30:00","Svoboda L.","Dokončeno","Gajdošová L.","vychystáno Havránek",2]
[44901.4375,"út","2022-12-06",null,"TBA","vlastní","Havl.Brod","p.Mazuch","mix","PA",9,null,"Kyjov","10:30:00","09:30:00","09:40:00","10:00:00","Svoboda L.","Dokončeno","Chromková L.","vychystáno  Doupovec",1]
[44901.5,"út","2022-12-06",null,"T-Net","MSB","Eloyes",null,"mix","PA",33,null,"Kyjov+Vlkoš","12:00:00","11:30:00","11:40:00","13:00:00","Doupovec R.","Dokončeno","Gajdošová L.","nakládka Vlkoš+Kyjov,Vdoupovec",3]
[44901.5,"út","2022-12-06",null,"Ozas-Esab","Schenker","Opole",null,"NDK","PA",1,null,"Kyjov","12:00:00","12:45:00","12:45:00","12:50:00","Hojač M.","Dokončeno","Gajdošová L.","vychystáno Havránek",1]
[44901.541666666664,"út","2022-12-06",null,"Flexfill","interkontakt","Lovosice","8B09033","KDF-30","PA",66,"ne","Kyjov","13:00:00","10:15:00","10:30:00","11:15:00","Havránek M.","Dokončeno","Chromková L.","L452-22",4,null,"v ceně"]
[44901.583333333336,"út","2022-12-06","příjem","T-NET","T-NET","Kyjov","2B4 4135","PCR materiál","PA",10,null,"Kyjov","14:00:00","11:30:00","11:35:00","12:00:00","Havránek M.","Dokončeno","Hochman L.",null,2]
[44901.583333333336,"út","2022-12-06",null,"Faurecia","vlastní","Pardubice",null,"F40","PA",29,"ano","Kyjov","14:00:00","08:00:00","08:20:00","09:00:00","Havránek M.","Dokončeno","Gajdošová L.","vychystal Průša",3]
[44901.590277777781,"út","2022-12-06",null,"Faurecie","vlastní","Mladá Boleslav",null,"194X","PA",19,null,"Kyjov","14:10:00","10:15:00","10:25:00","10:40:00","Průša M.","Dokončeno","Gajdošová L.","extra auto",2]
[44902,"út","2022-12-06",null,"Faurecie","vlastní","Mladá Boleslav",null,"Defender+SE+BMW","PA",81,"ano","Kyjov",null,"11:15:00","11:30:00","12:40:00","Průša M.","Dokončeno","Gajdošová L.",null,5]
[44902,"út","2022-12-06",null,"Nufarm","Silvan","Linz",null,"KA-5","PA",52,null,"Kyjov",null,"11:45:00","11:50:00","12:15:00","Hojač M.","Dokončeno","Gajdošová L.",null,4]
[44902,"út","2022-12-06",null,"Kopeček","vlastní","Dubňany",null,"KE-15","PA",1,null,"Kyjov",null,"09:30:00","10:00:00","10:15:00","Svoboda L.","Dokončeno","Chromková L.",null,1]
[44902,"út","2022-12-06",null,"Permedia","SBS","Lublin PL",null,"barva bílá","PA",1,null,"Kyjov",null,"10:30:00","10:35:00","10:55:00","Hojač M.","Dokončeno","Chromková L.",null,1]
[44902,"út","2022-12-06","příjem","Sembodja/ABAMIL","DOBOS",null,null,"barva bílá","PA",2,null,"Kyjov",null,"15:05:00","15:10:00","15:15:00","Průša J.","Dokončeno","Chromková L.",null,1]
[44902.25,"st","2022-12-07",null,"DF","Hroza ","Neubuz",null,"KS-3","PA",32,null,"Kyjov","06:00:00","11:20:00","11:25:00","11:50:00","Hojač M.","Dokončeno","Chromková L.","vychystáno Hojač na ",3,3700,"v ceně"]
[44902.25,"st","2022-12-07",null,"DF","Hroza","Neubuz",null,"PHM-20 AT","PA",18,null,"Kyjov","06:00:00","13:00:00","13:10:00","13:30:00","Hojač M.","Dokončeno","Chromková L.","vychysstáno Hojač na 7.12.",2,3700,"v ceně"]
[44902.256944444445,"st","2022-12-07",null,"Antolin","vlastní","Lipovka",null,"SEAT","PA",37,null,"Kyjov","06:10:00","06:05:00","06:10:00","06:50:00","Havránek M.","Dokončeno","Chromková L.","na  7.12.2022/mají inventury",4]
[44902.291666666664,"st","2022-12-07",null,"Sedasport","vlastní","Myjava SK",null,"sedak/opěrka","PA",10,null,"Kyjov","07:00:00","10:55:00","11:20:00","12:00:00","Havránek M.","Dokončeno","Chromková L.",null,2]
[44902.333333333336,"st","2022-12-07",null,"Carrier","vlastní","Štěnovice",null,"sifon","KA",4,null,"Kyjov","08:00:00","08:35:00","08:40:00","08:45:00","Svoboda L.","Dokončeno","Chromková L.","vychystáno Benedík",1]
[44902.333333333336,"st","2022-12-07","příjem","Model Obaly","vlastní","Kyjov",null,"kartony","PA",3,null,"Opava","08:00:00","09:15:00","09:20:00","09:30:00","Doupovec R.","Dokončeno","Bilíček P.",null,1]
[44902.4375,"st","2022-12-07",null,"Kopeček","vlastní","Dubňany",null,"KOSH-50","PA",14,null,"Kyjov","10:30:00","09:15:00","09:20:00","09:25:00","Průša M.","Dokončeno","Gajdošová L.","vychystáno Svoboda 6.12.",2]
[44902.4375,"st","2022-12-07",null,"TBA","vlastní","Havl.Brod","Vašák ml.","mix","PA",9,null,"Kyjov","10:30:00","13:45:00","13:50:00","14:00:00","Doupovec R.","Dokončeno","Chromková L.","vychystáno Doupovec",1]
[44902.458333333336,"st","2022-12-07","příjem","VYPL","TEZET","Kyjov",null,"LUH-2; LKT-1; LUH-1","PA",33,null,"Rakvice","11:00:00","10:30:00","10:35:00","10:50:00","Kubáček M.","Dokončeno","Bilíček P.","L468-22",3,3000]
[44902.479166666664,"st","2022-12-07",null,"VYPL","TEZET","Rakvice",null,"prázdné palety","PA",18,null,"Kyjov","11:30:00","10:30:00","10:35:00","10:50:00","Kubáček M.","Dokončeno","Bilíček P.","vychystáno  Kubáček",2]
[44902.5,"st","2022-12-07",null,"Bikapack","Logmax","Vídeň",null,"LUH-2","PA",33,null,"Kyjov","12:00:00","09:40:00","09:50:00","10:30:00","Havránek M.","Dokončeno","Gajdošová L.","L-472-22, vychystal Havránek",3,null,"v ceně"]
[44902.583333333336,"st","2022-12-07",null,"Faurecie","vlastní","Mladá Boleslav",null,"Defender+SE+BMW","PA",82,"ano","Kyjov","14:00:00","11:10:00","11:30:00","12:15:00","Průša M.","Dokončeno","Gajdošová L.","vychystal Průša",5,null,"v ceně"]
[44902.590277777781,"st","2022-12-07",null,"Faurecia","vlastní","Hlohovec",null,"52X","PA",null,"ano","Kyjov","14:10:00",null,null,null,null,"Zrušeno","Gajdošová L.","zrušená nakldáka snížení požad.",""]
[44903,"st","2022-12-07",null,"Envirotech","vlastní",null,null,"KOSH-20","PA",1,null,"Kyjov",null,"10:30:00","10:35:00","10:45:00","Průša M.","Dokončeno","Kollerová D.",null,1]
[44903,"st","2022-12-07",null,"Toptrans","SBS",null,null,"LUH-2","PA",1,null,"Kyjov",null,null,null,"13:00:00","Havránek M.","Dokončeno","Gajdošová L.","vychystal Svoboda",1]
[44903.25,"čt","2022-12-08",null,"DF","Hroza ","Neubuz",null,"KS-3","PA",32,"ano","Kyjov","06:00:00","06:00:00","06:05:00","06:20:00","Hojač M.","Dokončeno","Chromková L.",null,3,4200,"v ceně"]
[44903.25,"čt","2022-12-08",null,"DF","TEZET","Neubuz",null,"PHM mix","PA",15,null,"Kyjov","06:00:00","12:30:00","12:35:00","13:00:00","Svoboda L.","Dokončeno","Chromková L.","vychystáno Hojač",2,null,"v ceně"]
[44903.253472222219,"čt","2022-12-08",null,"Cormen","TEZET","Bystřice n.P.",null,"KE-20","PA",13,"ne","Kyjov","06:05:00","06:00:00","06:05:00","06:20:00","Kubáček M.","Dokončeno","Chromková L.",null,2,3850,"v ceně"]
[44903.256944444445,"čt","2022-12-08",null,"Antolin","vlastní","Lipovka",null,"YETI","PA",36,"ano","Kyjov","06:10:00","06:05:00","06:10:00","06:55:00","Havránek M.","Dokončeno","Chromková L.",null,4]
[44903.416666666664,"čt","2022-12-08",null,"Kopeček","vlastní","Dubňany",null,"KOSH-50+uz.","PA",2,null,"Kyjov","10:00:00","12:35:00","13:00:00","13:15:00","Průša M.","Dokončeno","Chromková L.","zbyytek obj. ",1]
[44903.416666666664,"čt","2022-12-08",null,"Agrofaerm","TEZET","Rouchovany",null,"box Sdasport","PA",30,null,"Kyjov","10:00:00","12:50:00","13:05:00","13:10:00","Kubáček M.","Dokončeno","Bilíček P.","L-470-22",3,5000]
[44903.4375,"čt","2022-12-08",null,"TBA ","vlastní","Havl.Brod","Mazuch","mix","PA",9,null,"Kyjov","10:30:00","09:55:00","10:00:00","10:10:00","Svoboda L.","Dokončeno","Chromková L.","vychystáno Svoboda",1]
[44903.4375,"čt","2022-12-08",null,"Flexfill","interkontakt","Lovosice","8B0 9033 ","KDF-30","PA",66,"ne","Kyjov","10:30:00","10:30:00","11:00:00","11:30:00","Průša M.","Dokončeno","Chromková L.","L-457-22 vychystáno Průša M.",4,null,"v ceně"]
[44903.447916666664,"čt","2022-12-08",null,"AMIO - JPPSK","Logmax","Zabrze","SH9578A","KP-5; KPHM-10","PY",170,null,"Kyjov","10:45:00","10:20:00","11:10:00","12:10:00","Kubáček M.","Dokončeno","Bilíček P.",null,5,null,"přefakturace 295 € fa 23020119"]
[44903.458333333336,"čt","2022-12-08",null,"Alliance ","vlastní","Příbor",null,"FlitrTX9","PA",2,null,"Kyjov","11:00:00","10:30:00","11:00:00","11:30:00","Havránek M.","Dokončeno","Chromková L.","vychystáno Havránek",1]
[44903.520833333336,"čt","2022-12-08","příjem","JPPSK","vlastní","Kyjov",null,"mix","PA",20,null,"Kyjov","12:30:00","06:30:00","06:40:00","08:00:00","Hojač M.","Dokončeno","Bilíček P.","8.12.2022-porucha auta",2]
[44903.520833333336,"čt","2022-12-08",null,"JPPSK","vlastní","Prievidza","PS343EY","mix","PA",30,null,"Kyjov","12:30:00","06:30:00","06:40:00","08:00:00","Svoboda L.","Dokončeno","Chromková L.","8.12.2022-porucha auta ",3]
[44903.541666666664,"čt","2022-12-08","příjem","Expedience","TEZET","Kyjov",null,"přepravky Sedasport","PA",26,null,"Rouchovany","13:00:00","12:45:00","12:50:00","13:10:00","Kubáček M.","Dokončeno","Bilíček P.",null,3,4150,"v ceně"]
[44903.583333333336,"čt","2022-12-08",null,"Faurecie","vlastní","Mladá Boleslav",null,"Defender+SE+BMW","PA",81,"ano","Kyjov","14:00:00","11:15:00","12:00:00","13:00:00","Průša M.","Dokončeno","Gajdošová L.",null,5]
[44904,"čt","2022-12-08","příjem","Gabrielchemie","SBS","Lázně Bohdaneč",null,"barva","PA",1,null,"Kyjov",null,"06:55:00","07:00:00","07:00:00","Havránek M.","Dokončeno","Chromková L.",null,1]
[44904.253472222219,"pá","2022-12-09",null,"Cheport","TEZET","Vizovice",null,"KE-20","PA",30,"ne","Kyjov","06:05:00","04:00:00","04:10:00","04:30:00","Konečný M.","Dokončeno","Chromková L.","přednaložil Kubáček 8.12.2022",3,4150,"v ceně"]
[44904.333333333336,"pá","2022-12-09",null,"T-Net","kontejner","Brooks",null,"WTB","PA",32,null,"Kyjov","08:00:00","07:30:00","07:40:00","08:45:00","Hojač M.","Dokončeno","Gajdošová L.",null,3]
[44904.416666666664,"pá","2022-12-09","příjem","Model Obaly","vlastní","Kyjov",null,"kartony","PA",16,null,"Kyjov","10:00:00","06:10:00","06:15:00","06:50:00","Havránek M.","Dokončeno","Bilíček P.",null,2]
[44905,"pá","2022-12-09",null,"Filmer","BSG","Varel",null,"KPHM-10","PA",66,null,"Kyjov",null,"12:15:00","12:20:00","13:15:00","Hojač M.","Dokončeno","Kollerová D.","L-464-22",4,null,"v ceně"]
[{"$f":"IF(C68=\"\",\"\",IF(N68=\"\",C68+1,C68+N68))","v":44905},{"$f":"IF(C68=\"\",\"\",+TEXT(C68,\"ddD\"))","v":"pá"},"2022-12-09",null,"T-Net","Legarde","Eloyes",null,"Zeus","PA",14,null,"Kyjov",null,"12:00:00","12:10:00","12:40:00","Průša M.","Dokončeno","Gajdošová L.",null,{"$f":"IF(K68=\"\",\"\",IF(K68<10,1,IF(K68<=25,2,IF(K68<=35,3,IF(K68<=70,4,5)))))","v":2}]
[44907.25,"po","2022-12-12",null,"DF Partner","Hroza ","Neubuz",null,"PHM mix","PA",18,null,"Kyjov","06:00:00","07:50:00","07:55:00","08:10:00","Průša M.","Dokončeno","Chromková L.",null,2,3300,"v ceně"]
[44907.25,"po","2022-12-12",null,"DF","Hroza","Neubuz",null,"KS-3","PA",32,"ano","Kyjov","06:00:00","14:00:00","14:05:00","14:45:00","Průša M.","Dokončeno","Chromková L.","nakládka na 13.12.2022",3,3700,"v ceně "]
[44907.253472222219,"po","2022-12-12",null,"Mmcité","TEZET","Hroznová Lhota ",null,"koš","PA",16,null,"Kyjov","06:05:00","8.00","08:05:00","08:20:00","Svoboda L.","Dokončeno","Chromková L.",null,2,3200,"přefaktur.2800,- Kč fa 23010450"]
[44907.253472222219,"po","2022-12-12",null,"Cheport","TEZET","Vizovice",null,"KE-20","PA",30,null,"Kyjov","06:05:00","13:15:00","13:20:00","13:55:00","Svoboda L.","Dokončeno","Chromková L.","vychystal Svoboda, nakl.na 14.12.",3,4150]
[44907.253472222219,"po","2022-12-12",null,"OMA CZ","TEZET","Stráž pod Ralskem",null,"KE-10","PA",32,"ne","Kyjov","06:05:00","12:10:00","12:15:00","13:00:00","Havránek M.","Dokončeno","Chromková L.","nakládka na 13.12.2022",3,12000,"přefak.  12500,- Kč fa 23010456"]
[44907.253472222219,"po","2022-12-12",null,"ZON","TEZET","Třebíč",null,"mix","PA",18,"ne","Kyjov","06:05:00","13:30:00","13:35:00","14:00:00","Doupovec R.","Dokončeno","Chromková L.",null,2,3870,"přefak. 4000,- fa 23010457"]
[44907.333333333336,"po","2022-12-12",null,"ChemProgres","vlastní","Staré Město Uh.",null,"KSE-5+uz,","PA",1,null,"Kyjov","08:00:00",null,"08:30:00","08:55:00","Průša M.","Dokončeno","Chromková L.","vychystáno Průša M.",1]
[44907.375,"po","2022-12-12",null,"Sedata","BSG","PRESSATH !!",null,"KPHM","PA",33,"ne","Kyjov","09:00:00","10:40:00","10:45:00","11:10:00","Průša M.","Dokončeno","Kollerová D.","vlastní DL!  L-465-22, vychystal Průša",3,null,"v ceně"]
[44907.388888888891,"po","2022-12-12",null,"UNI-Ekospol","vlastní","Sokolnice",null,"mix","PA",3,null,"Kyjov","09:20:00","11:00:00","11:05:00","11:20:00","Svoboda L.","Dokončeno","Kollerová D.",null,1]
[44907.395833333336,"po","2022-12-12",null,"Nufarm","SILVAN","Linec",null,"KA-5","PA",52,null,"Kyjov","09:30:00","06:30:00","06:40:00","07:30:00","Havránek M.","Dokončeno","Kollerová D.","L-479-22",4]
[44907.416666666664,"po","2022-12-12",null,"NUFARM","BSG","Linz",null,"KA-5","PA",52,null,"Kyjov","10:00:00","12:00:00","12:05:00","12:50:00","Průša M.","Dokončeno","Kollerová D.","vychystal Svoboda",4]
[44907.416666666664,"po","2022-12-12","příjem","B2B","SBS","Ostrava-Zábřeh",null,"židle","PA",2,null,"Kyjov","10:00:00","09:50:00","09:55:00","10:00:00","Havránek M.","Dokončeno","Bilíček P.",null,1]
[44907.4375,"po","2022-12-12",null,"Nufarm","SILVAN","Linz",null,"KA-5","PA",52,null,"Kyjov","10:30:00","09:30:00","09:40:00","10:30:00","Svoboda L.","Dokončeno","Gajdošová L.","L-476-22 - nevychystáno",4]
[44907.520833333336,"po","2022-12-12",null,"T-Net","MSB","Emmerich",null,"WTB","PA",48,null,"Kyjov","12:30:00","13:15:00","13:20:00","14:20:00","Havránek M.","Dokončeno","Gajdošová L.","M182, vychystal Marián P.",4]
[44907.541666666664,"po","2022-12-12",null,"T-Net","MSB","Hungary",null,"WTB","PA",8,null,"Kyjov","13:00:00","08:45:00","08:50:00","09:00:00","Havránek M.","Dokončeno","Gajdošová L.","M183, vychystal Havránek 9.12.",1]
[44907.541666666664,"po","2022-12-12",null,"Flexfill","vlastní","Lovosice","8B09033","KDF-30","PA",66,"ne","Kyjov","13:00:00","11:00:00","11:10:00","11:50:00","Doupovec R.","Dokončeno","Chromková L.","L-458-22",4,9500,"v ceně"]
[44907.5625,"po","2022-12-12",null,"T-Net","MSB","Eloyes",null,"mix","PA",66,null,"Kyjov+ Vlkoš","13:30:00","07:20:00","07:30:00","09:30:00","Doupovec R.","Dokončeno","Gajdošová L.","M179",4]
[44908,"po","2022-12-12",null,"Toptrans","SBS",null,null,"mix","KA",10,null,"Kyjov",null,null,null,"14:00:00","Svoboda L.","Dokončeno","Gajdošová L.","vychystáno Svoboda",2]
[44908,"po","2022-12-12","příjem","GEFCO","vlastní",null,null,"boxy Gefco","PA",32,null,"Kyjov",null,"09:10:00","09:10:00","09:25:00","Svoboda L.","Dokončeno","Gajdošová L.",null,3]
[44908,"po","2022-12-12","příjem ","Santal","vlastní","Třeboň",null,"box114777","PA",58,null,"Kyjov",null,"10:20:00","10:25:00","10:40:00","Doupovec R.","Dokončeno","Chromková L.",null,4]
[44908.25,"út","2022-12-13",null,"DF","Hroza","Neubuz",null,"KS-3","PA",32,null,"Kyjov","06:00:00","10:10:00","10:20:00","10:50:00","Doupovec R.","Dokončeno","Chromková L.","vychstáno Doupovec",3,3700,"v ceně "]
[44908.25,"út","2022-12-13",null,"DF","Hroza ","Neubuz",null,"KS-3","PA",18,null,"Kyjov","06:00:00","15:00:00","15:10:00","15:30:00","Povolný L.","Dokončeno","Chromková L.",null,2,2800,"v ceně "]
[44908.260416666664,"út","2022-12-13",null,"Antolin","vlastní","Libáň",null,"YETI","PA",5,"ano","Kyjov","06:15:00","11:30:00","11:35:00","11:55:00","Havránek M.","Dokončeno","Chromková L.",null,1]
[44908.263888888891,"út","2022-12-13","příjem","GEFCO","vlastní","Čerčany",null,"GEFCO box","PA",48,null,"Kyjov","06:20:00","07:20:00","07:25:00","07:40:00","Svoboda L.","Dokončeno","Chromková L.",null,4]
[44908.385416666664,"út","2022-12-13",null,"Filmer","JF Logistic","Melle",null,"KPHM-20","PA",64,null,"Kyjov","09:15:00","08:40:00","09:00:00","09:30:00","Doupovec R.","Dokončeno","Kollerová D.",null,4]
[44908.416666666664,"út","2022-12-13",null,"TBA","vlastní","Habl.Brod","p.Špiňar","mix","PA",15,null,"Kyjov","10:00:00","11:30:00","11:35:00","12:00:00","Svoboda L.","Dokončeno","Gajdošová L.","vychystáno Havránek",2]
[44908.5,"út","2022-12-13",null,"Nufarm","SILVAN","Linz",null,"KA-5","PA",52,null,"Kyjov","12:00:00","08:30:00","09:30:00","10:15:00","Svoboda L.","Dokončeno","Gajdošová L.",null,4]
[44908.53125,"út","2022-12-13",null,"Sika PL","Joppa","Varšava","SK254SM, Pawlas","LKN-1 žlutá","PA",8,null,"Kyjov","12:45:00","10:15:00","10:20:00","10:45:00","Svoboda L.","Dokončeno","Bilíček P.","L-478-22, vychystal Svoboda",1,null,"přefakturace"]
[44908.541666666664,"út","2022-12-13",null,"Avena","vlastní","Bzenec",null,"SDH-50","PA",9,null,"Kyjov","13:00:00","14:10:00","14:15:00","14:25:00","Svoboda L.","Dokončeno","Chromková L.","vychystáno 9.12.2022 Průša M.",1]
[44908.548611111109,"út","2022-12-13",null,"Filmer","JF Logistic","Halbe",null,"KPHM-20","PA",64,null,"Kyjov","13:10:00","11:30:00","11:40:00","12:30:00","Doupovec R.","Dokončeno","Kollerová D.",null,4]
[44908.583333333336,"út","2022-12-13",null,"Faurecie MB","vlastní","Mladá Boleslav",null,"Defender+SE+BMW","PA",99,"ano","Kyjov","14:00:00","11:00:00","11:20:00","12:15:00","Průša M.","Dokončeno","Gajdošová L.","vychystal Průša",5]
[44909,"út","2022-12-13",null,"AV Auto","naše","Vlkoš",null,"KE-10","PA",1,null,"Kyjov",null,null,null,null,"Doupovec R.","Dokončeno","Chromková L.","vychystané při převozech zvést doVlkoše",1]
[44909,"út","2022-12-13",null,"KOVA","Jopa","Erfurt",null,"KPHM-10","PA",30,null,"Kyjov",null,null,"08:00:00","09:00:00","Průša M.","Dokončeno","Kollerová D.","L-480-22",3,null,"přeúčtovat 1120€"]
[44909,"út","2022-12-13",null,"PK Group","vlastní","Dubňany",null,"mix","PA",4,null,"Kyjov",null,"10:45:00","10:50:00","11:10:00","Doupovec R.","Dokončeno","Gajdošová L.","vychystáno  Svoboda",1]
[44909,"út","2022-12-13",null,"Toptrans","SBS",null,null,"Seco","PA",10,null,"Kyjov",null,null,null,"14:30:00","Svoboda L.","Dokončeno","Gajdošová L.","vychystal Havránek",2]
[44909.25,"st","2022-12-14",null,"DF","Hroza","Neubuz",null,"PHMmix","PA",18,"ano","Kyjov","06:00:00","12:20:00","12:25:00","13:00:00","Průša M.","Dokončeno","Chromková L.",null,2,3300,"v ceně"]
[44909.25,"st","2022-12-14",null,"Agrimex","Hroza ","Kojetice",null,"KE-25","PA",18,null,"Kykjov","06:00:00","15:00:00","15:10:00","15:40:00","Průša J.","Dokončeno","Chromková L.","vychystáno na 15.12.2022 Průsša M.",2,3600,"v ceně"]
[44909.253472222219,"st","2022-12-14",null,"Fagron","TEZET","Olomouc",null,"mix","PA",30,null,"Kyjov","06:05:00","10:15:00","10:20:00","11:10:00","Průša M.","Dokončeno","Chromková L.",null,3,4170,"přefakt. 5200,- Kč fa23010467"]
[44909.416666666664,"st","2022-12-14",null,"TBA","vlastní","Havl.Brod","Vašák ml.","mix","PA",10,null,"Kyjov","10:00:00","13:15:00","13:20:00","13:30:00","Svoboda L.","Dokončeno","Chromková L.","vychystal Průša",2]
[44909.458333333336,"st","2022-12-14",null,"J.p.SK","vlastní","Prievidza","PD343EY","mix","PA",33,null,"Kyjov","11:00:00","11:15:00","11:50:00",44909,"Svoboda L.","Dokončeno","Chromková L.","vychystáno Průša M.",3]
[44909.458333333336,"st","2022-12-14","příjem","J.P.SK","vlastní","Prievidza","PD343EY","mix","PA",10,null,"Kyjov","11:00:00","11:15:00","11:50:00","13:10:00","Svoboda L.","Dokončeno","Chromková L.",null,2]
[44909.479166666664,"st","2022-12-14",null,"NOVATO SK","vlastní","Skalica SK",null,"SDH-40","PA",1,null,"Kyjov","11:30:00","10:40:00","10:50:00","11:00:00","Svoboda L.","Dokončeno","Chromková L.","vychystal Svoboda",1]
[44909.5,"st","2022-12-14","příjem","Garsys-příjem","vlastní",null,null,"podstavec Garsys","PA",12,null,"Kyjov","12:00:00","08:30:00","08:35:00","09:40:00","Svoboda L.","Dokončeno","Hochman L.",null,2]
[44909.5,"st","2022-12-14",null,"Valum Pro","vlastní","Frenštát",null,"KE-20","PA",1,null,"Kyjov","12:00:00","12:30:00","12:30:00","12:40:00","Průša M.","Dokončeno","Gajdošová L.","vychystal Svoboda",1]
[44909.5,"st","2022-12-14",null,"Garsys","vlastní",null,null,"Nádrž Garys","PA",15,null,"Kyjov","12:00:00","08:30:00","08:35:00","09:40:00","Svoboda L.","Dokončeno","Hochman L.",null,2]
[44909.583333333336,"st","2022-12-14",null,"Faurecie MB","vlastní","Mladá Boleslav",null,"Defender+SE+BMW","PA",99,"ano","Kyjov","14:00:00","11:30:00","11:45:00","12:30:00","Průša M.","Dokončeno","Gajdošová L.","vychystal Průša",5]
[44909.583333333336,"st","2022-12-14","příjem","GEFCO","vlastní",null,null,"GEFCO box","PA",32,null,"Kyjov","14:00:00","13:30:00","13:35:00","13:50:00","Průša M.","Dokončeno","Gajdošová L.",null,3]
[44910.25,"čt","2022-12-15",null,"DF","Hroza ","Neubuz",null,"KS-3","PA",32,null,"Kyjov","06:00:00",null,null,null,"Svoboda L.","Dokončeno","Chromková L.","vychystáno Svoboda ",3,3700,"v ceně"]
[44910.25,"čt","2022-12-15",null,"Cheport","Tezet","Vizovice","Kobzík","mix","PA",32,"ne","Kyjov","06:00:00","12:10:00","12:15:00","12:45:00","Průša M.","Dokončeno","Chromková L.",null,3,4150,"v ceně"]
[44910.25,"čt","2022-12-15",null,"Hügli","TEZET","Zásmuky","Chmelař","KSE-5 ","PA",18,"x","Kyjov","06:00:00","14:00:00","14:05:00","14:45:00","Průša M.","Dokončeno","Chromková L.",null,2,6300,"v ceně"]
[44910.260416666664,"čt","2022-12-15",null,"Antolin","vlastní","Libáň",null,"YETI","PA",10,"ano","Kyjov","06:15:00",null,null,null,"Průša J.","Dokončeno","Chromková L.","vychystáno Průša  J. ",2]
[44910.291666666664,"čt","2022-12-15",null,"Vypl","Pulpán","Rakvice",null,"liten","PA",1,"ne","Kyjov","07:00:00","08:10:00","08:15:00","08:30:00","Průša J.","Dokončeno","Chromková L.",null,1]
[44910.34375,"čt","2022-12-15","příjem","Model Obaly","vlastní","Kyjov",null,"kartony Degas","PA",18,null,"Opava","08:15:00","08:30:00","08:35:00","08:50:00","Průša J.","Dokončeno","Bilíček P.","N2210661",2]
[44910.354166666664,"čt","2022-12-15",null,"T-Net","MSB","Eloyes",null,"Degas","PA",66,null,"Kyjov + Vlkoš","08:30:00","12:20:00","12:30:00",null,"Doupovec R.","Dokončeno","Gajdošová L.","M187",4]
[44910.375,"čt","2022-12-15",null,"AVX","BMGL","Lanškroun","2BY 5565","nástroj","PA",1,null,"Kyjov","09:00:00","08:15:00","08:20:00","08:30:00","Průša J.","Dokončeno","Bilíček P.","L-483-22",1,null,"přefakturace 2.650 Kč"]
[44910.395833333336,"čt","2022-12-15","příjem","Obaly Morava","vlastní","Kyjov",null,"single box WTB Degas","PA",10,null,"Otrokovice","09:30:00","09:45:00","09:50:00","10:30:00","Svoboda L.","Dokončeno","Bilíček P.","N2210675",2]
[44910.4375,"čt","2022-12-15",null,"Filmer","JF Logistic","Budenheim",null,"KPHM-20","PA",64,null,"Kyjov","10:30:00","13:00:00",null,null,"Havránek M.","Dokončeno","Kollerová D.","L-431-22",4]
[44910.458333333336,"čt","2022-12-15","příjem",null,"SBS",null,null,"posypová sůl","PA",2,null,"Kyjov","11:00:00",null,null,null,"Antoš J.","Dokončeno","Chromková L.","obj. Pulpán",1]
[44910.479166666664,"čt","2022-12-15","příjem","Avena","vlastní","Bzenec",null,"palety","PA",5,null,"Kyjov","11:30:00","10:45:00","10:50:00","11:00:00","Havránek M.","Dokončeno","Chromková L.","vratka palet z 13.12.2022",1]
[44910.5,"čt","2022-12-15","příjem","MAT","AK servis","Plzeň",null,"palety  ","PA",99,null,"Kyjov","12:00:00","10:20:00","10:25:00","10:55:00","Doupovec R.","Dokončeno","Chromková L.","vratka  palet 100 ks",5]
[44910.5,"čt","2022-12-15",null,"Toptrans","SBS",null,null,null,"PA",1,null,"Kyjov","12:00:00",null,null,null,"Svoboda L.","Dokončeno","Gajdošová L.","vychystal Svoboda",1]
[44910.541666666664,"čt","2022-12-15",null,"Flexfill","interkontakt","Lovosice","7P35997","KDF-30","PA",66,null,"Kyjov","13:00:00",null,null,null,"Doupovec R.","Dokončeno","Chromková L.","L-460-22,vychystáno Průša M.",4,9500,"v ceně"]
[44910.583333333336,"čt","2022-12-15",null,"Faurecie MB","vlastní","Mladá Boleslav",null,"Defender+SE+BMW","PA",99,"ano","Kyjov","14:00:00","10:00:00","10:05:00","10:45:00","Průša M.","Dokončeno","Gajdošová L.","vychystal Průša",5]
[{"$f":"IF(C132=\"\",\"\",IF(N132=\"\",C132+1,C132+N132))","v":44911.25},{"$f":"IF(C132=\"\",\"\",+TEXT(C132,\"ddD\"))","v":"pá"},"2022-12-16",null,"DF","Hroza ","Neubuz",null,"KS-3","PA",32,null,"Kyjov","06:00:00","11:00:00","12:00:00",null,"Svoboda L.","Dokončeno","Chromková L.",null,{"$f":"IF(K132=\"\",\"\",IF(K132<10,1,IF(K132<=25,2,IF(K132<=35,3,IF(K132<=70,4,5)))))","v":3},3700,"v ceně"]
[44911.253472222219,"pá","2022-12-16",null,"OMA CZ","TEZET","Černá Hora","Slováček ","KE-25+LKZ1","PA",30,"ne","Kyjov","06:05:00","06:20:00","06:25:00","07:40:00","Svoboda L.","Dokončeno","Chromková L.",null,3,4160,"přefakturace 4200,-"]
[44911.253472222219,"pá","2022-12-16",null,"Aroma","TEZET","Hrobce",null,"mix","PA",18,null,"Kyjov","06:05:00",null,null,null,"Havránek M.","Dokončeno","Chromková L.","dodávka 19.12.2022",2,8500,"v ceně"]
[44911.253472222219,"pá","2022-12-16",null,"VYPL","TEZET","Rakvice","Kobzík","mix","PA",10,null,"Kyjov","06:05:00","09:10:00","09:30:00","09:50:00","Průša M.","Dokončeno","Chromková L.",null,2]
[44911.291666666664,"pá","2022-12-16",null,"T-Net","Legarde","Eloyes",null,"Gauguin","PA",11,null,"kyjov","07:00:00",null,null,null,"Doupovec R.","Dokončeno","Gajdošová L.",null,2]
[44911.3125,"pá","2022-12-16",null,"T-Net","MSB","Eloyes",null,"mix","PA",66,null,"Kyjov","07:30:00",null,null,null,"Doupovec R.","Dokončeno","Gajdošová L.","M180",4]
[44911.333333333336,"pá","2022-12-16",null,"T-Net","MSB","Eloyes",null,"Chagall","PA",66,null,"Kyjov + Vlkoš","08:00:00",null,null,null,"Doupovec R.","Dokončeno","Gajdošová L.","M186",4]
[44911.333333333336,"pá","2022-12-16",null,"DF","HejdaTransport","Neubuz","1BK96116","KS-3","PA",33,null,"Kyjov","08:00:00","08:45:00","10:40:00","12:00:00","Svoboda L.","Dokončeno","Chromková L.","vlastní doprava",3]
[44911.416666666664,"pá","2022-12-16",null,"SPAK","interkontakt","Sušice",null,"LS-2","PA",66,"ne","Kyjov","10:00:00","06:05:00","06:15:00","08:30:00","Svoboda L.","Dokončeno","Kollerová D.",null,4]
[44911.416666666664,"pá","2022-12-16",null,"Trumf","vlastní","Dlní újezd",null,"LUH-1","PA",2,null,"Kyjov","10:00:00",null,null,null,"Svoboda L.","Dokončeno","Chromková L.",null,1]
[44911.416666666664,"pá","2022-12-16",null,"TBA","vlastní","Havl.Brod","p.Špiňar","mix","PA ",16,null,"Kyjov","10:00:00","10:10:00","12:40:00",null,"Havránek M.","Dokončeno","Chromková L.",null,2]
[44911.416666666664,"pá","2022-12-16","příjem","TBA","vlastní","Havl.Brod","p.Špiňar","palety  ","PA",99,null,"Kyjov","10:00:00",null,null,null,"Havránek M.","Dokončeno","Chromková L.","dovoz 150 ks palet EUR  vratka ",5]
[44911.427083333336,"pá","2022-12-16",null,"Chemprogres","vlastní","Staré Město",null,"KE-20","PA",5,null,"Kyjov","10:15:00","08:30:00","09:10:00","09:45:00","Průša M.","Dokončeno","Chromková L.",null,1]
[44911.4375,"pá","2022-12-16",null,"Merlin","vlastní","Hrušky",null,"mix","PA ",4,null,"Kyjov","10:30:00","10:15:00","10:40:00",null,"Doupovec R.","Dokončeno","Chromková L.",null,1]
[44911.4375,"pá","2022-12-16",null,"Sedasport","vlastní","Myjava",null,"sedáky","PA ",36,null,"Kyjov","10:30:00",null,null,null,"Havránek M.","Dokončeno","Chromková L.",null,4]
[44911.4375,"pá","2022-12-16","příjem","Sedasport","vlastní","Myjava",null,"vratka + obaly","PA ",16,null,"Kyjov","10:30:00",null,null,null,"Havránek M.","Dokončeno","Chromková L.",null,2]
[44911.458333333336,"pá","2022-12-16","příjem","VYpl","TEZET","Rakvice",null,"mix","PA",18,null,"Kyjov","11:00:00","12:30:00",null,null,"Svoboda L.","Dokončeno","Chromková L.","L-482-22",2,2500]
[44911.458333333336,"pá","2022-12-16",null,"DF","HejdaTransport","Neubuz","1BK96116","KS-3","PA",33,null,"Kyjov","11:00:00",null,null,null,null,"Zrušeno","Chromková L.","vlastní doprava",3]
[44911.541666666664,"pá","2022-12-16","příjem","Arkys","TEZET","Brno",null,"pole rozvaděče","PA",4,null,"Kyjov","13:00:00",null,null,null,null,"Dokončeno","Chromková L.","pro údržbu L-484-22/skládal KOuřilJiří",1,2000,"2000,- "]
[44911.5625,"pá","2022-12-16",null,"Ekotech","vlastní","Ukajina",null,"KPHM mix","PA",38,null,"Kyjov","13:30:00","06:05:00","06:15:00","12:20:00","Havránek M.","Dokončeno","Kollerová D.",null,4]
[44914,"po","2022-12-19",null,"Filmer","BSG","Malchow",null,"KPHM","PA",66,null,"Kyjov","00:00:00",null,null,null,null,"Zrušeno","Kollerová D.",null,4]
[44914.25,"po","2022-12-19",null,"DF","Hroza ","Neubuz",null,"PHM","PA",18,null,"Kyjov","06:00:00","08:40:00","08:45:00","09:10:00","Doupovec R.","Dokončeno","Chromková L.",null,2,2800,"v ceně"]
[44914.25,"po","2022-12-19",null,"DF","Hroza ","Neubuz",null,"KS-3","PA",32,null,"Kyjov","06:00:00","08:00:00","08:05:00","08:45:00","Povolný L.","Dokončeno","Chromková L.","nakládka sobota 17.12.2022",3,3700,"v ceně"]
[44914.253472222219,"po","2022-12-19",null,"Alter","TEZET","Hradec Králové",null,"KSE-5","PA",32,null,"Kyjov","06:05:00","13:15:00","13:20:00","14:00:00","Svoboda L.","Dokončeno","Chromková L.","dodávka 20.12.2022 Kubáček",3,6900,"v ceně"]
[44914.291666666664,"po","2022-12-19",null,"DF","vlastní","Neubuz",null,"KS-3","PA",33,null,"Kyjov","07:00:00","10:00:00","10:05:00","11:00:00","Průša M.","Dokončeno","Chromková L.",null,3]
[44914.333333333336,"po","2022-12-19",null,"Filmer","JF Logistic","Sstavenhagen",null,"KPHM-20","PA",30,null,"Kyjov","08:00:00","13:15:00","13:20:00","14:00:00","Průša M.","Dokončeno","Kollerová D.","L-466-22",3,null,"v ceně"]
[44914.458333333336,"po","2022-12-19",null,"Sedata","BSG","Ilmenau",null,"KPHM","PA",33,null,"Kyjov","11:00:00","06:15:00","06:20:00","07:45:00","Havránek M.","Dokončeno","Kollerová D.",null,3]
[44914.479166666664,"po","2022-12-19","příjem","Obaly Morava","vlastní","Kyjov",null,"proložky Renoir, chagall","Pa",13,null,"Kyjov","11:30:00","11:30:00","11:35:00","12:15:00","Svoboda L.","Dokončeno","Chromková L.","N2210660",2]
[44914.590277777781,"po","2022-12-19",null,"Faurecie MB","vlastní","Mladá Boleslav",null,"Defender+SE+UKL","PA",99,"ano","Kyjov","14:10:00","11:00:00","11:30:00","12:15:00","Průša M.","Dokončeno","Gajdošová L.",null,5]
[44915.25,"út","2022-12-20",null,"DF","Hroza ","Neubuz",null,"KS-3","PA",32,null,"Kyjov","06:00:00","06:10:00","06:15:00","07:00:00","Průša M.","Dokončeno","Chromková L.","vychystáno Kubáček/Průša M.",3,3700,"v ceně"]
[44915.25,"út","2022-12-20",null,"DF","vlastní TEZET","Neubuz",null,"KS-3","PA",32,null,"Vlkoš","06:00:00","12:30:00","12:35:00","13:00:00","Doupovec R.","Dokončeno","Chromková L.",null,3]
[44915.25,"út","2022-12-20",null,"DF","Hroza ","Neubuz",null,"KS-3","PA",32,null,"Kyjov","06:00:00","16:00:00","16:10:00","16:50:00","Průša M.","Dokončeno","Chromková L.",null,3,3700,"v ceně"]
[44915.253472222219,"út","2022-12-20",null,"Atotech","TEZET","Jablonec n.N.",null,"mix","PA",18,null,"Kyjov","06:05:00","14:00:00","14:10:00","14:40:00","Průša M.","Dokončeno","Chromková L.","dodávka 21.12.2022 Svoboda",2,9000,"v ceně"]
[44915.333333333336,"út","2022-12-20",null,"DF","vlastní","Neubuz",null,"KS-3","PA",33,null,"Kyjov","08:00:00","10:45:00","11:20:00","13:00:00","Průša M.","Dokončeno","Chromková L.",null,3]
[44915.416666666664,"út","2022-12-20",null,"Průmyslová Keramika","vlastní","Rájec-Ještřebí",null,"KE-15","PA",14,null,"Kyjov","10:00:00","10:30:00","11:00:00","12:30:00","Svoboda L.","Dokončeno","Chromková L.","vychystáno 19.12. Průša",2]
[44915.583333333336,"út","2022-12-20",null,"Faurecie MB","vlastní","Mladá Boleslav",null,"Defender+SE+UKL","PA",99,null,"Kyjov","14:00:00","11:00:00","11:30:00","12:00:00","Průša M.","Dokončeno","Gajdošová L.","vychystáno Průša",5]
[44915.583333333336,"út","2022-12-20","příjem","MAT","AK servis","Plzeň",null,"palety","PA",99,null,"Kyjov","14:00:00","14:05:00","14:10:00","14:30:00","Svoboda L.","Dokončeno","Chromková L.","vratka palet EUR ",5]
[44915.590277777781,"út","2022-12-20",null,"Faurecie","vlastní","Pardubice",null,"F40","PA",51,null,"Kyjov","14:10:00","08:45:00","09:00:00","10:00:00","Průša M.","Dokončeno","Gajdošová L.","vychystáno Průša",4]
[44916,"út","2022-12-20",null,"FIlmer","JF Logistic","Wustermark",null,"KPHM-20","PA",30,null,"Kyjov",null,"07:00:00","07:10:00","08:30:00","Průša M.","Dokončeno","Kollerová D.","L-467-22",3,null,"v ceně"]
[44916.25,"st","2022-12-21",null,"DF","Hroza","Neubuz",null,"KPHM","PA",18,null,"Kyjov","06:00:00","07:00:00","07:05:00","07:30:00","Průša M.","Dokončeno","Chromková L.","vychystáno Svoboda",2,2800,"v ceně"]
[44916.25,"st","2022-12-21","příjem","Grainer","Hroza","Slušovice",null,null,"PA",10,null,"Kyjov","06:00:00","13:10:00","13:15:00","14:00:00",null,"Dokončeno","Chromková L.","pro údržbu",2,900]
[44916.25,"st","2022-12-21",null,"DF","Hroza ","Neubuz",null,"KS-3","PA",32,null,"Kyjov","06:00:00","14:00:00","14:05:00","14:30:00","Průša M.","Dokončeno","Chromková L.",null,3,3700,"v ceně"]
[44916.253472222219,"st","2022-12-21",null,"DF","vlastní","Neubuz",null,"KS-3","PA",33,null,"Kyjov","06:05:00","13:15:00","13:20:00","13:50:00","Průša M.","Dokončeno","Chromková L.",null,3]
[44916.333333333336,"st","2022-12-21",null,"DF","vlastní","Neubuz","6Z57801","KS-3","PA",33,null,"Kyjov","08:00:00","08:15:00","08:20:00","09:00:00","Průša M.","Dokončeno","Chromková L.",null,3]
[44916.541666666664,"st","2022-12-21",null,"Oma CZ","TEZET","Kolín",null,"KE-10","PA",32,null,"Kyjov","13:00:00","08:30:00","08:40:00","10:15:00","Průša M.","Dokončeno","Chromková L.","dodávka 22.12.2022",3,7500,"přefakturace 8200,- Kč fa 23010507"]
[44917.25,"čt","2022-12-22",null,"DF","Hroza ","Neubuz",null,"KS-3","PA",32,null,"Kyjov","06:00:00","11:00:00","11:20:00","12:20:00","Svoboda L.","Dokončeno","Chromková L.",null,3,3700,"v ceně"]
[44917.253472222219,"čt","2022-12-22",null,"Agrimex","TEZET","Kyjov",null,"ke-25","PA",30,null,"Kyjov","06:05:00","11:00:00","11:20:00","12:00:00","Průša M.","Dokončeno","Chromková L.","vykládka 5.1.2023",3,6100,"v ceně"]
[44917.253472222219,"čt","2022-12-22",null,"Cheport","TEZET","Kyjov",null,"mix","PA",30,null,"Kyjov","06:05:00","11:30:00","12:00:00","12:45:00","Průša M.","Dokončeno","Chromková L.","vykládka 3.1.2023",3,4100,"v ceně"]
[44917.333333333336,"čt","2022-12-22","příjem","T-net","MSB","Kyjov","Kováč","palety","PA",99,null,"Kyjov","08:00:00","06:00:00","06:10:00","07:00:00","Průša M.","Dokončeno","Gajdošová L.","vratka palet",5]
[44917.416666666664,"čt","2022-12-22",null,"D.I.CHEM","TEZET","Odry",null,"mix","PA",30,null,"Kyjov","10:00:00","10:05:00","10:10:00","11:20:00","Svoboda L.","Dokončeno","Chromková L.","vychystáno Svoboda vykl.2.1.2023",3,4500,"přefakt. 5200- Kč fa 23010509"]
[44917.5,"čt","2022-12-22","příjem","T-NET","vlastní","Kyjov",null,"těsnění Zeus + další","PA",4,null,"Kyjov","12:00:00","09:10:00","09:15:00","09:25:00","Průša M.","Dokončeno","Hochman L.",null,1]
["","",null,null,null,null,null,null,null,null,null,null,null,null,null,null,null,null,null,null,null,""]
["","",null,null,null,null,null,null,null,null,null,null,null,null,null,null,null,null,null,null,null,""]
["","",null,null,null,null,null,null,null,null,null,null,null,null,null,null,null,null,null,null,null,""]
["","",null,null,null,null,null,null,null,null,null,null,null,null,null,null,null,null,null,null,null,""]
["","",null,null,null,null,null,null,null,null,null,null,null,null,null,null,null,null,null,null,null,""]
["","",null,null,null,null,null,null,null,null,null,null,null,null,null,null,null,null,null,null,null,""]
["","",null,null,null,null,null,null,null,null,null,null,null,null,null,null,null,null,null,null,null,""]
["","",null,null,null,null,null,null,null,null,null,null,null,null,null,null,null,null,null,null,null,""]
["","",null,null,null,null,null,null,null,null,null,null,null,null,null,null,null,null,null,null,null,""]
["","",null,null,null,null,null,null,null,null,null,null,null,null,null,null,null,null,null,null,null,""]
["","",null,null,null,null,null,null,null,null,null,null,null,null,null,null,null,null,null,null,null,""]
["","",null,null,null,null,null,null,null,null,null,null,null,null,null,null,null,null,null,null,null,""]
["","",null,null,null,null,null,null,null,null,null,null,null,null,null,null,null,null,null,null,null,""]
[{"$f":"IF(C196=\"\",\"\",IF(N196=\"\",C196+1,C196+N196))","v":""},{"$f":"IF(C196=\"\",\"\",+TEXT(C196,\"ddD\"))","v":""},null,null,null,null,null,null,null,null,null,null,null,null,null,null,null,null,null,null,null,{"$f":"IF(K196=\"\",\"\",IF(K196<10,1,IF(K196<=25,2,IF(K196<=35,3,IF(K196<=70,4,5)))))","v":""}]
["","",null,null,null,null,null,null,null,null,null,null,null,null,null,null,null,null,null,null,null,""]
["","",null,null,null,null,null,null,null,null,null,null,null,null,null,null,null,null,null,null,null,""]
["","",null,null,null,null,null,null,null,null,null,null,null,null,null,null,null,null,null,null,null,""]
["","",null,null,null,null,null,null,null,null,null,null,null,null,null,null,null,null,null,null,null,""]
["","",null,null,null,null,null,null,null,null,null,null,null,null,null,null,null,null,null,null,null,""]
["","",null,null,null,null,null,null,null,null,null,null,null,null,null,null,null,null,null,null,null,""]
["","",null,null,null,null,null,null,null,null,null,null,null,null,null,null,null,null,null,null,null,""]
["","",null,null,null,null,null,null,null,null,null,null,null,null,null,null,null,null,null,null,null,""]
["","",null,null,null,null,null,null,null,null,null,null,null,null,null,null,null,null,null,null,null,""]
["","",null,null,null,null,null,null,null,null,null,null,null,null,null,null,null,null,null,null,null,""]
["","",null,null,null,null,null,null,null,null,null,null,null,null,null,null,null,null,null,null,null,""]
["","",null,null,null,null,null,null,null,null,null,null,null,null,null,null,null,null,null,null,null,""]
["","",null,null,null,null,null,null,null,null,null,null,null,null,null,null,null,null,null,null,null,""]
["","",null,null,null,null,null,null,null,null,null,null,null,null,null,null,null,null,null,null,null,""]
["","",null,null,null,null,null,null,null,null,null,null,null,null,null,null,null,null,null,null,null,""]
["","",null,null,null,null,null,null,null,null,null,null,null,null,null,null,null,null,null,null,null,""]
["","",null,null,null,null,null,null,null,null,null,null,null,null,null,null,null,null,null,null,null,""]
["","",null,null,null,null,null,null,null,null,null,null,null,null,null,null,null,null,null,null,null,""]
["","",null,null,null,null,null,null,null,null,null,null,null,null,null,null,null,null,null,null,null,""]
["","",null,null,null,null,null,null,null,null,null,null,null,null,null,null,null,null,null,null,null,""]
["","",null,null,null,null,null,null,null,null,null,null,null,null,null,null,null,null,null,null,null,""]
["","",null,null,null,null,null,null,null,null,null,null,null,null,null,null,null,null,null,null,null,""]
["","",null,null,null,null,null,null,null,null,null,null,null,null,null,null,null,null,null,null,null,""]
["","",null,null,null,null,null,null,null,null,null,null,null,null,null,null,null,null,null,null,null,""]
["","",null,null,null,null,null,null,null,null,null,null,null,null,null,null,null,null,null,null,null,""]
["","",null,null,null,null,null,null,null,null,null,null,null,null,null,null,null,null,null,null,null,""]
["","",null,null,null,null,null,null,null,null,null,null,null,null,null,null,null,null,null,null,null,""]
["","",null,null,null,null,null,null,null,null,null,null,null,null,null,null,null,null,null,null,null,""]
["","",null,null,null,null,null,null,null,null,null,null,null,null,null,null,null,null,null,null,null,""]
["","",null,null,null,null,null,null,null,null,null,null,null,null,null,null,null,null,null,null,null,""]
["","",null,null,null,null,null,null,null,null,null,null,null,null,null,null,null,null,null,null,null,""]
["","",null,null,null,null,null,null,null,null,null,null,null,null,null,null,null,null,null,null,null,""]
["","",null,null,null,null,null,null,null,null,null,null,null,null,null,null,null,null,null,null,null,""]
["","",null,null,null,null,null,null,null,null,null,null,null,null,null,null,null,null,null,null,null,""]
["","",null,null,null,null,null,null,null,null,null,null,null,null,null,null,null,null,null,null,null,""]
["","",null,null,null,null,null,null,null,null,null,null,null,null,null,null,null,null,null,null,null,""]
["","",null,null,null,null,null,null,null,null,null,null,null,null,null,null,null,null,null,null,null,""]
["","",null,null,null,null,null,null,null,null,null,null,null,null,null,null,null,null,null,null,null,""]
["","",null,null,null,null,null,null,null,null,null,null,null,null,null,null,null,null,null,null,null,""]
["","",null,null,null,null,null,null,null,null,null,null,null,null,null,null,null,null,null,null,null,""]
["","",null,null,null,null,null,null,null,null,null,null,null,null,null,null,null,null,null,null,null,""]
["","",null,null,null,null,null,null,null,null,null,null,null,null,null,null,null,null,null,null,null,""]
["","",null,null,null,null,null,null,null,null,null,null,null,null,null,null,null,null,null,null,null,""]
["","",null,null,null,null,null,null,null,null,null,null,null,null,null,null,null,null,null,null,null,""]
["","",null,null,null,null,null,null,null,null,null,null,null,null,null,null,null,null,null,null,null,""]
["","",null,null,null,null,null,null,null,null,null,null,null,null,null,null,null,null,null,null,null,""]
["","",null,null,null,null,null,null,null,null,null,null,null,null,null,null,null,null,null,null,null,""]
["","",null,null,null,null,null,null,null,null,null,null,null,null,null,null,null,null,null,null,null,""]
["","",null,null,null,null,null,null,null,null,null,null,null,null,null,null,null,null,null,null,null,""]
["","",null,null,null,null,null,null,null,null,null,null,null,null,null,null,null,null,null,null,null,""]
["","",null,null,null,null,null,null,null,null,null,null,null,null,null,null,null,null,null,null,null,""]
["","",null,null,null,null,null,null,null,null,null,null,null,null,null,null,null,null,null,null,null,""]
["","",null,null,null,null,null,null,null,null,null,null,null,null,null,null,null,null,null,null,null,""]
["","",null,null,null,null,null,null,null,null,null,null,null,null,null,null,null,null,null,null,null,""]
["","",null,null,null,null,null,null,null,null,null,null,null,null,null,null,null,null,null,null,null,""]
["","",null,null,null,null,null,null,null,null,null,null,null,null,null,null,null,null,null,null,null,""]
["","",null,null,null,null,null,null,null,null,null,null,null,null,null,null,null,null,null,null,null,""]
["","",null,null,null,null,null,null,null,null,null,null,null,null,null,null,null,null,null,null,null,""]
["","",null,null,null,null,null,null,null,null,null,null,null,null,null,null,null,null,null,null,null,""]
["","",null,null,null,null,null,null,null,null,null,null,null,null,null,null,null,null,null,null,null,""]
["","",null,null,null,null,null,null,null,null,null,null,null,null,null,null,null,null,null,null,null,""]
["","",null,null,null,null,null,null,null,null,null,null,null,null,null,null,null,null,null,null,null,""]
["","",null,null,null,null,null,null,null,null,null,null,null,null,null,null,null,null,null,null,null,""]
[{"$f":"IF(C260=\"\",\"\",IF(N260=\"\",C260+1,C260+N260))","v":""},{"$f":"IF(C260=\"\",\"\",+TEXT(C260,\"ddD\"))","v":""},null,null,null,null,null,null,null,null,null,null,null,null,null,null,null,null,null,null,null,{"$f":"IF(K260=\"\",\"\",IF(K260<10,1,IF(K260<=25,2,IF(K260<=35,3,IF(K260<=70,4,5)))))","v":""}]
["","",null,null,null,null,null,null,null,null,null,null,null,null,null,null,null,null,null,null,null,""]
["","",null,null,null,null,null,null,null,null,null,null,null,null,null,null,null,null,null,null,null,""]
["","",null,null,null,null,null,null,null,null,null,null,null,null,null,null,null,null,null,null,null,""]
["","",null,null,null,null,null,null,null,null,null,null,null,null,null,null,null,null,null,null,null,""]
["","",null,null,null,null,null,null,null,null,null,null,null,null,null,null,null,null,null,null,null,""]
["","",null,null,null,null,null,null,null,null,null,null,null,null,null,null,null,null,null,null,null,""]
["","",null,null,null,null,null,null,null,null,null,null,null,null,null,null,null,null,null,null,null,""]
["","",null,null,null,null,null,null,null,null,null,null,null,null,null,null,null,null,null,null,null,""]
["","",null,null,null,null,null,null,null,null,null,null,null,null,null,null,null,null,null,null,null,""]
["","",null,null,null,null,null,null,null,null,null,null,null,null,null,null,null,null,null,null,null,""]
["","",null,null,null,null,null,null,null,null,null,null,null,null,null,null,null,null,null,null,null,""]
["","",null,null,null,null,null,null,null,null,null,null,null,null,null,null,null,null,null,null,null,""]
["","",null,null,null,null,null,null,null,null,null,null,null,null,null,null,null,null,null,null,null,""]
["","",null,null,null,null,null,null,null,null,null,null,null,null,null,null,null,null,null,null,null,""]
["","",null,null,null,null,null,null,null,null,null,null,null,null,null,null,null,null,null,null,null,""]
["","",null,null,null,null,null,null,null,null,null,null,null,null,null,null,null,null,null,null,null,""]
["","",null,null,null,null,null,null,null,null,null,null,null,null,null,null,null,null,null,null,null,""]
["","",null,null,null,null,null,null,null,null,null,null,null,null,null,null,null,null,null,null,null,""]
["","",null,null,null,null,null,null,null,null,null,null,null,null,null,null,null,null,null,null,null,""]
["","",null,null,null,null,null,null,null,null,null,null,null,null,null,null,null,null,null,null,null,""]
["","",null,null,null,null,null,null,null,null,null,null,null,null,null,null,null,null,null,null,null,""]
["","",null,null,null,null,null,null,null,null,null,null,null,null,null,null,null,null,null,null,null,""]
["","",null,null,null,null,null,null,null,null,null,null,null,null,null,null,null,null,null,null,null,""]
["","",null,null,null,null,null,null,null,null,null,null,null,null,null,null,null,null,null,null,null,""]
["","",null,null,null,null,null,null,null,null,null,null,null,null,null,null,null,null,null,null,null,""]
["","",null,null,null,null,null,null,null,null,null,null,null,null,null,null,null,null,null,null,null,""]
["","",null,null,null,null,null,null,null,null,null,null,null,null,null,null,null,null,null,null,null,""]
["","",null,null,null,null,null,null,null,null,null,null,null,null,null,null,null,null,null,null,null,""]
["","",null,null,null,null,null,null,null,null,null,null,null,null,null,null,null,null,null,null,null,""]
["","",null,null,null,null,null,null,null,null,null,null,null,null,null,null,null,null,null,null,null,""]
["","",null,null,null,null,null,null,null,null,null,null,null,null,null,null,null,null,null,null,null,""]
["","",null,null,null,null,null,null,null,null,null,null,null,null,null,null,null,null,null,null,null,""]
["","",null,null,null,null,null,null,null,null,null,null,null,null,null,null,null,null,null,null,null,""]
["","",null,null,null,null,null,null,null,null,null,null,null,null,null,null,null,null,null,null,null,""]
["","",null,null,null,null,null,null,null,null,null,null,null,null,null,null,null,null,null,null,null,""]
["","",null,null,null,null,null,null,null,null,null,null,null,null,null,null,null,null,null,null,null,""]
["","",null,null,null,null,null,null,null,null,null,null,null,null,null,null,null,null,null,null,null,""]
["","",null,null,null,null,null,null,null,null,null,null,null,null,null,null,null,null,null,null,null,""]
["","",null,null,null,null,null,null,null,null,null,null,null,null,null,null,null,null,null,null,null,""]
["","",null,null,null,null,null,null,null,null,null,null,null,null,null,null,null,null,null,null,null,""]
[null,"",null,null,null,null,null,null,null,null,null,null,null,null,null,null,null,null,null,null,null,""]
[null,"",null,null,null,null,null,null,null,null,null,null,null,null,null,null,null,null,null,null,null,""]
[null,"",null,null,null,null,null,null,null,null,null,null,null,null,null,null,null,null,null,null,null,""]
[null,"",null,null,null,null,null,null,null,null,null,null,null,null,null,null,null,null,null,null,null,""]
[null,"",null,null,null,null,null,null,null,null,null,null,null,null,null,null,null,null,null,null,null,""]
[null,"",null,null,null,null,null,null,null,null,null,null,null,null,null,null,null,null,null,null,null,""]
[null,"",null,null,null,null,null,null,null,null,null,null,null,null,null,null,null,null,null,null,null,""]
[null,"",null,null,null,null,null,null,null,null,null,null,null,null,null,null,null,null,null,null,null,""]
[null,"",null,null,null,null,null,null,null,null,null,null,null,null,null,null,null,null,null,null,null,""]
[null,"",null,null,null,null,null,null,null,null,null,null,null,null,null,null,null,null,null,null,null,""]
[null,"",null,null,null,null,null,null,null,null,null,null,null,null,null,null,null,null,null,null,null,""]
[null,"",null,null,null,null,null,null,null,null,null,null,null,null,null,null,null,null,null,null,null,""]
[null,"",null,null,null,null,null,null,null,null,null,null,null,null,null,null,null,null,null,null,null,""]
[null,"",null,null,null,null,null,null,null,null,null,null,null,null,null,null,null,null,null,null,null,""]
[null,"",null,null,null,null,null,null,null,null,null,null,null,null,null,null,null,null,null,null,null,""]
[null,"",null,null,null,null,null,null,null,null,null,null,null,null,null,null,null,null,null,null,null,""]
[null,"",null,null,null,null,null,null,null,null,null,null,null,null,null,null,null,null,null,null,null,""]
[null,"",null,null,null,null,null,null,null,null,null,null,null,null,null,null,null,null,null,null,null,""]
[null,"",null,null,null,null,null,null,null,null,null,null,null,null,null,null,null,null,null,null,null,""]
[null,"",null,null,null,null,null,null,null,null,null,null,null,null,null,null,null,null,null,null,null,""]
[null,"",null,null,null,null,null,null,null,null,null,null,null,null,null,null,null,null,null,null,null,""]
[null,"",null,null,null,null,null,null,null,null,null,null,null,null,null,null,null,null,null,null,null,""]
[null,"",null,null,null,null,null,null,null,null,null,null,null,null,null,null,null,null,null,null,null,""]
[null,{"$f":"IF(C324=\"\",\"\",+TEXT(C324,\"ddD\"))","v":""},null,null,null,null,null,null,null,null,null,null,null,null,null,null,null,null,null,null,null,{"$f":"IF(K324=\"\",\"\",IF(K324<10,1,IF(K324<=25,2,IF(K324<=35,3,IF(K324<=70,4,5)))))","v":""}]
[null,"",null,null,null,null,null,null,null,null,null,null,null,null,null,null,null,null,null,null,null,""]
[null,"",null,null,null,null,null,null,null,null,null,null,null,null,null,null,null,null,null,null,null,""]
[null,"",null,null,null,null,null,null,null,null,null,null,null,null,null,null,null,null,null,null,null,""]
[null,"",null,null,null,null,null,null,null,null,null,null,null,null,null,null,null,null,null,null,null,""]
[null,"",null,null,null,null,null,null,null,null,null,null,null,null,null,null,null,null,null,null,null,""]
[null,"",null,null,null,null,null,null,null,null,null,null,null,null,null,null,null,null,null,null,null,""]
[null,"",null,null,null,null,null,null,null,null,null,null,null,null,null,null,null,null,null,null,null,""]
[null,"",null,null,null,null,null,null,null,null,null,null,null,null,null,null,null,null,null,null,null,""]
[null,"",null,null,null,null,null,null,null,null,null,null,null,null,null,null,null,null,null,null,null,""]
[null,"",null,null,null,null,null,null,null,null,null,null,null,null,null,null,null,null,null,null,null,""]
[null,"",null,null,null,null,null,null,null,null,null,null,null,null,null,null,null,null,null,null,null,""]
[null,"",null,null,null,null,null,null,null,null,null,null,null,null,null,null,null,null,null,null,null,""]
[null,"",null,null,null,null,null,null,null,null,null,null,null,null,null,null,null,null,null,null,null,""]
[null,"",null,null,null,null,null,null,null,null,null,null,null,null,null,null,null,null,null,null,null,""]
[null,"",null,null,null,null,null,null,null,null,null,null,null,null,null,null,null,null,null,null,null,""]
[null,"",null,null,null,null,null,null,null,null,null,null,null,null,null,null,null,null,null,null,null,""]
[null,"",null,null,null,null,null,null,null,null,null,null,null,null,null,null,null,null,null,null,null,""]
[null,"",null,null,null,null,null,null,null,null,null,null,null,null,null,null,null,null,null,null,null,""]
[null,"",null,null,null,null,null,null,null,null,null,null,null,null,null,null,null,null,null,null,null,""]
[null,"",null,null,null,null,null,null,null,null,null,null,null,null,null,null,null,null,null,null,null,""]
[null,"",null,null,null,null,null,null,null,null,null,null,null,null,null,null,null,null,null,null,null,""]
[null,"",null,null,null,null,null,null,null,null,null,null,null,null,null,null,null,null,null,null,null,""]
[null,"",null,null,null,null,null,null,null,null,null,null,null,null,null,null,null,null,null,null,null,""]
[null,"",null,null,null,null,null,null,null,null,null,null,null,null,null,null,null,null,null,null,null,""]
[null,"",null,null,null,null,null,null,null,null,null,null,null,null,null,null,null,null,null,null,null,""]
[null,"",null,null,null,null,null,null,null,null,null,null,null,null,null,null,null,null,null,null,null,""]
[null,"",null,null,null,null,null,null,null,null,null,null,null,null,null,null,null,null,null,null,null,""]
[null,"",null,null,null,null,null,null,null,null,null,null,null,null,null,null,null,null,null,null,null,""]
[null,"",null,null,null,null,null,null,null,null,null,null,null,null,null,null,null,null,null,null,null,""]
[null,"",null,null,null,null,null,null,null,null,null,null,null,null,null,null,null,null,null,null,null,""]
[null,"",null,null,null,null,null,null,null,null,null,null,null,null,null,null,null,null,null,null,null,""]
[null,"",null,null,null,null,null,null,null,null,null,null,null,null,null,null,null,null,null,null,null,""]
[null,"",null,null,null,null,null,null,null,null,null,null,null,null,null,null,null,null,null,null,null,""]
[null,"",null,null,null,null,null,null,null,null,null,null,null,null,null,null,null,null,null,null,null,""]
[null,"",null,null,null,null,null,null,null,null,null,null,null,null,null,null,null,null,null,null,null,""]
[null,"",null,null,null,null,null,null,null,null,null,null,null,null,null,null,null,null,null,null,null,""]
[null,"",null,null,null,null,null,null,null,null,null,null,null,null,null,null,null,null,null,null,null,""]
[null,"",null,null,null,null,null,null,null,null,null,null,null,null,null,null,null,null,null,null,null,""]
[null,"",null,null,null,null,null,null,null,null,null,null,null,null,null,null,null,null,null,null,null,""]
[null,"",null,null,null,null,null,null,null,null,null,null,null,null,null,null,null,null,null,null,null,""]
[null,"",null,null,null,null,null,null,null,null,null,null,null,null,null,null,null,null,null,null,null,""]
[null,"",null,null,null,null,null,null,null,null,null,null,null,null,null,null,null,null,null,null,null,""]
[null,"",null,null,null,null,null,null,null,null,null,null,null,null,null,null,null,null,null,null,null,""]
[null,"",null,null,null,null,null,null,null,null,null,null,null,null,null,null,null,null,null,null,null,""]
[null,"",null,null,null,null,null,null,null,null,null,null,null,null,null,null,null,null,null,null,null,""]
[null,"",null,null,null,null,null,null,null,null,null,null,null,null,null,null,null,null,null,null,null,""]
[null,"",null,null,null,null,null,null,null,null,null,null,null,null,null,null,null,null,null,null,null,""]
[null,"",null,null,null,null,null,null,null,null,null,null,null,null,null,null,null,null,null,null,null,""]
[null,"",null,null,null,null,null,null,null,null,null,null,null,null,null,null,null,null,null,null,null,""]
[null,"",null,null,null,null,null,null,null,null,null,null,null,null,null,null,null,null,null,null,null,""]
[null,"",null,null,null,null,null,null,null,null,null,null,null,null,null,null,null,null,null,null,null,""]
[null,"",null,null,null,null,null,null,null,null,null,null,null,null,null,null,null,null,null,null,null,""]
[null,"",null,null,null,null,null,null,null,null,null,null,null,null,null,null,null,null,null,null,null,""]
[null,"",null,null,null,null,null,null,null,null,null,null,null,null,null,null,null,null,null,null,null,""]
[null,"",null,null,null,null,null,null,null,null,null,null,null,null,null,null,null,null,null,null,null,""]
[null,"",null,null,null,null,null,null,null,null,null,null,null,null,null,null,null,null,null,null,null,""]
[null,"",null,null,null,null,null,null,null,null,null,null,null,null,null,null,null,null,null,null,null,""]
[null,"",null,null,null,null,null,null,null,null,null,null,null,null,null,null,null,null,null,null,null,""]
[null,"",null,null,null,null,null,null,null,null,null,null,null,null,null,null,null,null,null,null,null,""]
[null,"",null,null,null,null,null,null,null,null,null,null,null,null,null,null,null,null,null,null,null,""]
[null,"",null,null,null,null,null,null,null,null,null,null,null,null,null,null,null,null,null,null,null,""]
[null,"",null,null,null,null,null,null,null,null,null,null,null,null,null,null,null,null,null,null,null,""]
[null,"",null,null,null,null,null,null,null,null,null,null,null,null,null,null,null,null,null,null,null,""]
[null,{"$f":"IF(C388=\"\",\"\",+TEXT(C388,\"ddD\"))","v":""},null,null,null,null,null,null,null,null,null,null,null,null,null,null,null,null,null,null,null,{"$f":"IF(K388=\"\",\"\",IF(K388<10,1,IF(K388<=25,2,IF(K388<=35,3,IF(K388<=70,4,5)))))","v":""}]
[null,"",null,null,null,null,null,null,null,null,null,null,null,null,null,null,null,null,null,null,null,""]
[null,"",null,null,null,null,null,null,null,null,null,null,null,null,null,null,null,null,null,null,null,""]
[null,"",null,null,null,null,null,null,null,null,null,null,null,null,null,null,null,null,null,null,null,""]
[null,"",null,null,null,null,null,null,null,null,null,null,null,null,null,null,null,null,null,null,null,""]
[null,"",null,null,null,null,null,null,null,null,null,null,null,null,null,null,null,null,null,null,null,""]
[null,"",null,null,null,null,null,null,null,null,null,null,null,null,null,null,null,null,null,null,null,""]
[null,"",null,null,null,null,null,null,null,null,null,null,null,null,null,null,null,null,null,null,null,""]
[null,"",null,null,null,null,null,null,null,null,null,null,null,null,null,null,null,null,null,null,null,""]
[null,"",null,null,null,null,null,null,null,null,null,null,null,null,null,null,null,null,null,null,null,""]
[null,"",null,null,null,null,null,null,null,null,null,null,null,null,null,null,null,null,null,null,null,""]
[null,"",null,null,null,null,null,null,null,null,null,null,null,null,null,null,null,null,null,null,null,""]
[null,"",null,null,null,null,null,null,null,null,null,null,null,null,null,null,null,null,null,null,null,""]
[null,"",null,null,null,null,null,null,null,null,null,null,null,null,null,null,null,null,null,null,null,""]
[null,"",null,null,null,null,null,null,null,null,null,null,null,null,null,null,null,null,null,null,null,""]
[null,"",null,null,null,null,null,null,null,null,null,null,null,null,null,null,null,null,null,null,null,""]
[null,"",null,null,null,null,null,null,null,null,null,null,null,null,null,null,null,null,null,null,null,""]
[null,"",null,null,null,null,null,null,null,null,null,null,null,null,null,null,null,null,null,null,null,""]
[null,"",null,null,null,null,null,null,null,null,null,null,null,null,null,null,null,null,null,null,null,""]
[null,"",null,null,null,null,null,null,null,null,null,null,null,null,null,null,null,null,null,null,null,""]
[null,"",null,null,null,null,null,null,null,null,null,null,null,null,null,null,null,null,null,null,null,""]
[null,"",null,null,null,null,null,null,null,null,null,null,null,null,null,null,null,null,null,null,null,""]
[null,"",null,null,null,null,null,null,null,null,null,null,null,null,null,null,null,null,null,null,null,""]
[null,"",null,null,null,null,null,null,null,null,null,null,null,null,null,null,null,null,null,null,null,""]
[null,"",null,null,null,null,null,null,null,null,null,null,null,null,null,null,null,null,null,null,null,""]
[null,"",null,null,null,null,null,null,null,null,null,null,null,null,null,null,null,null,null,null,null,""]
[null,"",null,null,null,null,null,null,null,null,null,null,null,null,null,null,null,null,null,null,null,""]
[null,"",null,null,null,null,null,null,null,null,null,null,null,null,null,null,null,null,null,null,null,""]
[null,"",null,null,null,null,null,null,null,null,null,null,null,null,null,null,null,null,null,null,null,""]
[null,"",null,null,null,null,null,null,null,null,null,null,null,null,null,null,null,null,null,null,null,""]
[null,"",null,null,null,null,null,null,null,null,null,null,null,null,null,null,null,null,null,null,null,""]
[null,"",null,null,null,null,null,null,null,null,null,null,null,null,null,null,null,null,null,null,null,""]
[null,"",null,null,null,null,null,null,null,null,null,null,null,null,null,null,null,null,null,null,null,""]
[null,"",null,null,null,null,null,null,null,null,null,null,null,null,null,null,null,null,null,null,null,""]
[null,"",null,null,null,null,null,null,null,null,null,null,null,null,null,null,null,null,null,null,null,""]
[null,"",null,null,null,null,null,null,null,null,null,null,null,null,null,null,null,null,null,null,null,""]
[null,"",null,null,null,null,null,null,null,null,null,null,null,null,null,null,null,null,null,null,null,""]
[null,"",null,null,null,null,null,null,null,null,null,null,null,null,null,null,null,null,null,null,null,""]
[null,"",null,null,null,null,null,null,null,null,null,null,null,null,null,null,null,null,null,null,null,""]
[null,"",null,null,null,null,null,null,null,null,null,null,null,null,null,null,null,null,null,null,null,""]
[null,"",null,null,null,null,null,null,null,null,null,null,null,null,null,null,null,null,null,null,null,""]
[null,"",null,null,null,null,null,null,null,null,null,null,null,null,null,null,null,null,null,null,null,""]
[null,"",null,null,null,null,null,null,null,null,null,null,null,null,null,null,null,null,null,null,null,""]
[null,"",null,null,null,null,null,null,null,null,null,null,null,null,null,null,null,null,null,null,null,""]
[null,"",null,null,null,null,null,null,null,null,null,null,null,null,null,null,null,null,null,null,null,""]
[null,"",null,null,null,null,null,null,null,null,null,null,null,null,null,null,null,null,null,null,null,""]
[null,"",null,null,null,null,null,null,null,null,null,null,null,null,null,null,null,null,null,null,null,""]
[null,"",null,null,null,null,null,null,null,null,null,null,null,null,null,null,null,null,null,null,null,""]
[null,"",null,null,null,null,null,null,null,null,null,null,null,null,null,null,null,null,null,null,null,""]
[null,"",null,null,null,null,null,null,null,null,null,null,null,null,null,null,null,null,null,null,null,""]
[null,"",null,null,null,null,null,null,null,null,null,null,null,null,null,null,null,null,null,null,null,""]
[null,"",null,null,null,null,null,null,null,null,null,null,null,null,null,null,null,null,null,null,null,""]
[null,"",null,null,null,null,null,null,null,null,null,null,null,null,null,null,null,null,null,null,null,""]
[null,"",null,null,null,null,null,null,null,null,null,null,null,null,null,null,null,null,null,null,null,""]
[null,"",null,null,null,null,null,null,null,null,null,null,null,null,null,null,null,null,null,null,null,""]
[null,"",null,null,null,null,null,null,null,null,null,null,null,null,null,null,null,null,null,null,null,""]
[null,"",null,null,null,null,null,null,null,null,null,null,null,null,null,null,null,null,null,null,null,""]
[null,"",null,null,null,null,null,null,null,null,null,null,null,null,null,null,null,null,null,null,null,""]
[null,"",null,null,null,null,null,null,null,null,null,null,null,null,null,null,null,null,null,null,null,""]
[null,"",null,null,null,null,null,null,null,null,null,null,null,null,null,null,null,null,null,null,null,""]
[null,"",null,null,null,null,null,null,null,null,null,null,null,null,null,null,null,null,null,null,null,""]
[null,"",null,null,null,null,null,null,null,null,null,null,null,null,null,null,null,null,null,null,null,""]
[null,"",null,null,null,null,null,null,null,null,null,null,null,null,null,null,null,null,null,null,null,""]
[null,"",null,null,null,null,null,null,null,null,null,null,null,null,null,null,null,null,null,null,null,""]
[null,{"$f":"IF(C452=\"\",\"\",+TEXT(C452,\"ddD\"))","v":""},null,null,null,null,null,null,null,null,null,null,null,null,null,null,null,null,null,null,null,{"$f":"IF(K452=\"\",\"\",IF(K452<10,1,IF(K452<=25,2,IF(K452<=35,3,IF(K452<=70,4,5)))))","v":""}]
[null,"",null,null,null,null,null,null,null,null,null,null,null,null,null,null,null,null,null,null,null,""]
[null,"",null,null,null,null,null,null,null,null,null,null,null,null,null,null,null,null,null,null,null,""]
[null,"",null,null,null,null,null,null,null,null,null,null,null,null,null,null,null,null,null,null,null,""]
[null,"",null,null,null,null,null,null,null,null,null,null,null,null,null,null,null,null,null,null,null,""]
[null,"",null,null,null,null,null,null,null,null,null,null,null,null,null,null,null,null,null,null,null,""]
[null,"",null,null,null,null,null,null,null,null,null,null,null,null,null,null,null,null,null,null,null,""]
[null,"",null,null,null,null,null,null,null,null,null,null,null,null,null,null,null,null,null,null,null,""]
[null,"",null,null,null,null,null,null,null,null,null,null,null,null,null,null,null,null,null,null,null,""]
[null,"",null,null,null,null,null,null,null,null,null,null,null,null,null,null,null,null,null,null,null,""]
[null,"",null,null,null,null,null,null,null,null,null,null,null,null,null,null,null,null,null,null,null,""]
[null,"",null,null,null,null,null,null,null,null,null,null,null,null,null,null,null,null,null,null,null,""]
[null,"",null,null,null,null,null,null,null,null,null,null,null,null,null,null,null,null,null,null,null,""]
[null,"",null,null,null,null,null,null,null,null,null,null,null,null,null,null,null,null,null,null,null,""]
[null,"",null,null,null,null,null,null,null,null,null,null,null,null,null,null,null,null,null,null,null,""]
[null,"",null,null,null,null,null,null,null,null,null,null,null,null,null,null,null,null,null,null,null,""]
[null,"",null,null,null,null,null,null,null,null,null,null,null,null,null,null,null,null,null,null,null,""]
[null,"",null,null,null,null,null,null,null,null,null,null,null,null,null,null,null,null,null,null,null,""]
[null,"",null,null,null,null,null,null,null,null,null,null,null,null,null,null,null,null,null,null,null,""]
[null,"",null,null,null,null,null,null,null,null,null,null,null,null,null,null,null,null,null,null,null,""]
[null,"",null,null,null,null,null,null,null,null,null,null,null,null,null,null,null,null,null,null,null,""]
[null,"",null,null,null,null,null,null,null,null,null,null,null,null,null,null,null,null,null,null,null,""]
[null,"",null,null,null,null,null,null,null,null,null,null,null,null,null,null,null,null,null,null,null,""]
[null,"",null,null,null,null,null,null,null,null,null,null,null,null,null,null,null,null,null,null,null,""]
[null,"",null,null,null,null,null,null,null,null,null,null,null,null,null,null,null,null,null,null,null,""]
[null,"",null,null,null,null,null,null,null,null,null,null,null,null,null,null,null,null,null,null,null,""]
[null,"",null,null,null,null,null,null,null,null,null,null,null,null,null,null,null,null,null,null,null,""]
[null,"",null,null,null,null,null,null,null,null,null,null,null,null,null,null,null,null,null,null,null,""]
[null,"",null,null,null,null,null,null,null,null,null,null,null,null,null,null,null,null,null,null,null,""]
[null,"",null,null,null,null,null,null,null,null,null,null,null,null,null,null,null,null,null,null,null,""]
[null,"",null,null,null,null,null,null,null,null,null,null,null,null,null,null,null,null,null,null,null,""]
[null,"",null,null,null,null,null,null,null,null,null,null,null,null,null,null,null,null,null,null,null,""]
[null,"",null,null,null,null,null,null,null,null,null,null,null,null,null,null,null,null,null,null,null,""]
[null,"",null,null,null,null,null,null,null,null,null,null,null,null,null,null,null,null,null,null,null,""]
[null,"",null,null,null,null,null,null,null,null,null,null,null,null,null,null,null,null,null,null,null,""]
[null,"",null,null,null,null,null,null,null,null,null,null,null,null,null,null,null,null,null,null,null,""]
[null,"",null,null,null,null,null,null,null,null,null,null,null,null,null,null,null,null,null,null,null,""]
[null,"",null,null,null,null,null,null,null,null,null,null,null,null,null,null,null,null,null,null,null,""]
[null,"",null,null,null,null,null,null,null,null,null,null,null,null,null,null,null,null,null,null,null,""]
[null,"",null,null,null,null,null,null,null,null,null,null,null,null,null,null,null,null,null,null,null,""]
[null,"",null,null,null,null,null,null,null,null,null,null,null,null,null,null,null,null,null,null,null,""]
[null,"",null,null,null,null,null,null,null,null,null,null,null,null,null,null,null,null,null,null,null,""]
[null,"",null,null,null,null,null,null,null,null,null,null,null,null,null,null,null,null,null,null,null,""]
[null,"",null,null,null,null,null,null,null,null,null,null,null,null,null,null,null,null,null,null,null,""]
[null,"",null,null,null,null,null,null,null,null,null,null,null,null,null,null,null,null,null,null,null,""]
[null,"",null,null,null,null,null,null,null,null,null,null,null,null,null,null,null,null,null,null,null,""]
[null,"",null,null,null,null,null,null,null,null,null,null,null,null,null,null,null,null,null,null,null,""]
[null,"",null,null,null,null,null,null,null,null,null,null,null,null,null,null,null,null,null,null,null,""]
[null,"",null,null,null,null,null,null,null,null,null,null,null,null,null,null,null,null,null,null,null,""]
[null,"",null,null,null,null,null,null,null,null,null,null,null,null,null,null,null,null,null,null,null,""]
[null,"",null,null,null,null,null,null,null,null,null,null,null,null,null,null,null,null,null,null,null,""]
[null,"",null,null,null,null,null,null,null,null,null,null,null,null,null,null,null,null,null,null,null,""]
[null,"",null,null,null,null,null,null,null,null,null,null,null,null,null,null,null,null,null,null,null,""]
[null,"",null,null,null,null,null,null,null,null,null,null,null,null,null,null,null,null,null,null,null,""]
[null,"",null,null,null,null,null,null,null,null,null,null,null,null,null,null,null,null,null,null,null,""]
[null,"",null,null,null,null,null,null,null,null,null,null,null,null,null,null,null,null,null,null,null,""]
[null,"",null,null,null,null,null,null,null,null,null,null,null,null,null,null,null,null,null,null,null,""]
[null,"",null,null,null,null,null,null,null,null,null,null,null,null,null,null,null,null,null,null,null,""]
[null,"",null,null,null,null,null,null,null,null,null,null,null,null,null,null,null,null,null,null,null,""]
[null,"",null,null,null,null,null,null,null,null,null,null,null,null,null,null,null,null,null,null,null,""]
[null,"",null,null,null,null,null,null,null,null,null,null,null,null,null,null,null,null,null,null,null,""]
[null,"",null,null,null,null,null,null,null,null,null,null,null,null,null,null,null,null,null,null,null,""]
[null,"",null,null,null,null,null,null,null,null,null,null,null,null,null,null,null,null,null,null,null,""]
[null,"",null,null,null,null,null,null,null,null,null,null,null,null,null,null,null,null,null,null,null,""]
[null,{"$f":"IF(C516=\"\",\"\",+TEXT(C516,\"ddD\"))","v":""},null,null,null,null,null,null,null,null,null,null,null,null,null,null,null,null,null,null,null,{"$f":"IF(K516=\"\",\"\",IF(K516<10,1,IF(K516<=25,2,IF(K516<=35,3,IF(K516<=70,4,5)))))","v":""}]
[null,"",null,null,null,null,null,null,null,null,null,null,null,null,null,null,null,null,null,null,null,""]
[null,"",null,null,null,null,null,null,null,null,null,null,null,null,null,null,null,null,null,null,null,""]
[null,"",null,null,null,null,null,null,null,null,null,null,null,null,null,null,null,null,null,null,null,""]
[null,"",null,null,null,null,null,null,null,null,null,null,null,null,null,null,null,null,null,null,null,""]
[null,"",null,null,null,null,null,null,null,null,null,null,null,null,null,null,null,null,null,null,null,""]
[null,"",null,null,null,null,null,null,null,null,null,null,null,null,null,null,null,null,null,null,null,""]
[null,"",null,null,null,null,null,null,null,null,null,null,null,null,null,null,null,null,null,null,null,""]
[null,"",null,null,null,null,null,null,null,null,null,null,null,null,null,null,null,null,null,null,null,""]
[null,"",null,null,null,null,null,null,null,null,null,null,null,null,null,null,null,null,null,null,null,""]
[null,"",null,null,null,null,null,null,null,null,null,null,null,null,null,null,null,null,null,null,null,""]
[null,"",null,null,null,null,null,null,null,null,null,null,null,null,null,null,null,null,null,null,null,""]
[null,"",null,null,null,null,null,null,null,null,null,null,null,null,null,null,null,null,null,null,null,""]
[null,"",null,null,null,null,null,null,null,null,null,null,null,null,null,null,null,null,null,null,null,""]
[null,"",null,null,null,null,null,null,null,null,null,null,null,null,null,null,null,null,null,null,null,""]
[null,"",null,null,null,null,null,null,null,null,null,null,null,null,null,null,null,null,null,null,null,""]
[null,"",null,null,null,null,null,null,null,null,null,null,null,null,null,null,null,null,null,null,null,""]
[null,"",null,null,null,null,null,null,null,null,null,null,null,null,null,null,null,null,null,null,null,""]
[null,"",null,null,null,null,null,null,null,null,null,null,null,null,null,null,null,null,null,null,null,""]
[null,"",null,null,null,null,null,null,null,null,null,null,null,null,null,null,null,null,null,null,null,""]
[null,"",null,null,null,null,null,null,null,null,null,null,null,null,null,null,null,null,null,null,null,""]
[null,"",null,null,null,null,null,null,null,null,null,null,null,null,null,null,null,null,null,null,null,""]
[null,"",null,null,null,null,null,null,null,null,null,null,null,null,null,null,null,null,null,null,null,""]
[null,"",null,null,null,null,null,null,null,null,null,null,null,null,null,null,null,null,null,null,null,""]
[null,"",null,null,null,null,null,null,null,null,null,null,null,null,null,null,null,null,null,null,null,""]
[null,"",null,null,null,null,null,null,null,null,null,null,null,null,null,null,null,null,null,null,null,""]
[null,"",null,null,null,null,null,null,null,null,null,null,null,null,null,null,null,null,null,null,null,""]
[null,"",null,null,null,null,null,null,null,null,null,null,null,null,null,null,null,null,null,null,null,""]
[null,"",null,null,null,null,null,null,null,null,null,null,null,null,null,null,null,null,null,null,null,""]
[null,"",null,null,null,null,null,null,null,null,null,null,null,null,null,null,null,null,null,null,null,""]
[null,"",null,null,null,null,null,null,null,null,null,null,null,null,null,null,null,null,null,null,null,""]
[null,"",null,null,null,null,null,null,null,null,null,null,null,null,null,null,null,null,null,null,null,""]
[null,"",null,null,null,null,null,null,null,null,null,null,null,null,null,null,null,null,null,null,null,""]
[null,"",null,null,null,null,null,null,null,null,null,null,null,null,null,null,null,null,null,null,null,""]
[null,"",null,null,null,null,null,null,null,null,null,null,null,null,null,null,null,null,null,null,null,""]
[null,"",null,null,null,null,null,null,null,null,null,null,null,null,null,null,null,null,null,null,null,""]
[null,"",null,null,null,null,null,null,null,null,null,null,null,null,null,null,null,null,null,null,null,""]
[null,"",null,null,null,null,null,null,null,null,null,null,null,null,null,null,null,null,null,null,null,""]
[null,"",null,null,null,null,null,null,null,null,null,null,null,null,null,null,null,null,null,null,null,""]
[null,"",null,null,null,null,null,null,null,null,null,null,null,null,null,null,null,null,null,null,null,""]
[null,"",null,null,null,null,null,null,null,null,null,null,null,null,null,null,null,null,null,null,null,""]
[null,"",null,null,null,null,null,null,null,null,null,null,null,null,null,null,null,null,null,null,null,""]
[null,"",null,null,null,null,null,null,null,null,null,null,null,null,null,null,null,null,null,null,null,""]
[null,"",null,null,null,null,null,null,null,null,null,null,null,null,null,null,null,null,null,null,null,""]
[null,"",null,null,null,null,null,null,null,null,null,null,null,null,null,null,null,null,null,null,null,""]
[null,"",null,null,null,null,null,null,null,null,null,null,null,null,null,null,null,null,null,null,null,""]
[null,"",null,null,null,null,null,null,null,null,null,null,null,null,null,null,null,null,null,null,null,""]
[null,"",null,null,null,null,null,null,null,null,null,null,null,null,null,null,null,null,null,null,null,""]
[null,"",null,null,null,null,null,null,null,null,null,null,null,null,null,null,null,null,null,null,null,""]
[null,"",null,null,null,null,null,null,null,null,null,null,null,null,null,null,null,null,null,null,null,""]
[null,"",null,null,null,null,null,null,null,null,null,null,null,null,null,null,null,null,null,null,null,""]
[null,"",null,null,null,null,null,null,null,null,null,null,null,null,null,null,null,null,null,null,null,""]
[null,"",null,null,null,null,null,null,null,null,null,null,null,null,null,null,null,null,null,null,null,""]
[null,"",null,null,null,null,null,null,null,null,null,null,null,null,null,null,null,null,null,null,null,""]
[null,"",null,null,null,null,null,null,null,null,null,null,null,null,null,null,null,null,null,null,null,""]
[null,"",null,null,null,null,null,null,null,null,null,null,null,null,null,null,null,null,null,null,null,""]
[null,"",null,null,null,null,null,null,null,null,null,null,null,null,null,null,null,null,null,null,null,""]
[null,"",null,null,null,null,null,null,null,null,null,null,null,null,null,null,null,null,null,null,null,""]
[null,"",null,null,null,null,null,null,null,null,null,null,null,null,null,null,null,null,null,null,null,""]
[null,"",null,null,null,null,null,null,null,null,null,null,null,null,null,null,null,null,null,null,null,""]
[null,"",null,null,null,null,null,null,null,null,null,null,null,null,null,null,null,null,null,null,null,""]
[null,"",null,null,null,null,null,null,null,null,null,null,null,null,null,null,null,null,null,null,null,""]
[null,"",null,null,null,null,null,null,null,null,null,null,null,null,null,null,null,null,null,null,null,""]
[null,"",null,null,null,null,null,null,null,null,null,null,null,null,null,null,null,null,null,null,null,""]
[null,{"$f":"IF(C580=\"\",\"\",+TEXT(C580,\"ddD\"))","v":""},null,null,null,null,null,null,null,null,null,null,null,null,null,null,null,null,null,null,null,{"$f":"IF(K580=\"\",\"\",IF(K580<10,1,IF(K580<=25,2,IF(K580<=35,3,IF(K580<=70,4,5)))))","v":""}]
[null,"",null,null,null,null,null,null,null,null,null,null,null,null,null,null,null,null,null,null,null,""]
[null,"",null,null,null,null,null,null,null,null,null,null,null,null,null,null,null,null,null,null,null,""]
[null,"",null,null,null,null,null,null,null,null,null,null,null,null,null,null,null,null,null,null,null,""]
[null,"",null,null,null,null,null,null,null,null,null,null,null,null,null,null,null,null,null,null,null,""]
[null,"",null,null,null,null,null,null,null,null,null,null,null,null,null,null,null,null,null,null,null,""]
[null,"",null,null,null,null,null,null,null,null,null,null,null,null,null,null,null,null,null,null,null,""]
[null,"",null,null,null,null,null,null,null,null,null,null,null,null,null,null,null,null,null,null,null,""]
[null,"",null,null,null,null,null,null,null,null,null,null,null,null,null,null,null,null,null,null,null,""]
[null,"",null,null,null,null,null,null,null,null,null,null,null,null,null,null,null,null,null,null,null,""]
[null,"",null,null,null,null,null,null,null,null,null,null,null,null,null,null,null,null,null,null,null,""]
[null,"",null,null,null,null,null,null,null,null,null,null,null,null,null,null,null,null,null,null,null,""]
[null,"",null,null,null,null,null,null,null,null,null,null,null,null,null,null,null,null,null,null,null,""]
[null,"",null,null,null,null,null,null,null,null,null,null,null,null,null,null,null,null,null,null,null,""]
[null,"",null,null,null,null,null,null,null,null,null,null,null,null,null,null,null,null,null,null,null,""]
[null,"",null,null,null,null,null,null,null,null,null,null,null,null,null,null,null,null,null,null,null,""]
[null,"",null,null,null,null,null,null,null,null,null,null,null,null,null,null,null,null,null,null,null,""]
[null,"",null,null,null,null,null,null,null,null,null,null,null,null,null,null,null,null,null,null,null,""]
[null,"",null,null,null,null,null,null,null,null,null,null,null,null,null,null,null,null,null,null,null,""]
[null,"",null,null,null,null,null,null,null,null,null,null,null,null,null,null,null,null,null,null,null,""]
[null,"",null,null,null,null,null,null,null,null,null,null,null,null,null,null,null,null,null,null,null,""]
[null,"",null,null,null,null,null,null,null,null,null,null,null,null,null,null,null,null,null,null,null,""]
[null,"",null,null,null,null,null,null,null,null,null,null,null,null,null,null,null,null,null,null,null,""]
[null,"",null,null,null,null,null,null,null,null,null,null,null,null,null,null,null,null,null,null,null,""]
[null,"",null,null,null,null,null,null,null,null,null,null,null,null,null,null,null,null,null,null,null,""]
[null,"",null,null,null,null,null,null,null,null,null,null,null,null,null,null,null,null,null,null,null,""]
[null,"",null,null,null,null,null,null,null,null,null,null,null,null,null,null,null,null,null,null,null,""]
[null,"",null,null,null,null,null,null,null,null,null,null,null,null,null,null,null,null,null,null,null,""]
[null,"",null,null,null,null,null,null,null,null,null,null,null,null,null,null,null,null,null,null,null,""]
[null,"",null,null,null,null,null,null,null,null,null,null,null,null,null,null,null,null,null,null,null,""]
[null,"",null,null,null,null,null,null,null,null,null,null,null,null,null,null,null,null,null,null,null,""]
[null,"",null,null,null,null,null,null,null,null,null,null,null,null,null,null,null,null,null,null,null,""]
[null,"",null,null,null,null,null,null,null,null,null,null,null,null,null,null,null,null,null,null,null,""]
[null,"",null,null,null,null,null,null,null,null,null,null,null,null,null,null,null,null,null,null,null,""]
[null,"",null,null,null,null,null,null,null,null,null,null,null,null,null,null,null,null,null,null,null,""]
[null,"",null,null,null,null,null,null,null,null,null,null,null,null,null,null,null,null,null,null,null,""]
[null,"",null,null,null,null,null,null,null,null,null,null,null,null,null,null,null,null,null,null,null,""]
[null,"",null,null,null,null,null,null,null,null,null,null,null,null,null,null,null,null,null,null,null,""]
[null,"",null,null,null,null,null,null,null,null,null,null,null,null,null,null,null,null,null,null,null,""]
[null,"",null,null,null,null,null,null,null,null,null,null,null,null,null,null,null,null,null,null,null,""]
[null,"",null,null,null,null,null,null,null,null,null,null,null,null,null,null,null,null,null,null,null,""]
[null,"",null,null,null,null,null,null,null,null,null,null,null,null,null,null,null,null,null,null,null,""]
[null,"",null,null,null,null,null,null,null,null,null,null,null,null,null,null,null,null,null,null,null,""]
[null,"",null,null,null,null,null,null,null,null,null,null,null,null,null,null,null,null,null,null,null,""]
[null,"",null,null,null,null,null,null,null,null,null,null,null,null,null,null,null,null,null,null,null,""]
[null,"",null,null,null,null,null,null,null,null,null,null,null,null,null,null,null,null,null,null,null,""]
[null,"",null,null,null,null,null,null,null,null,null,null,null,null,null,null,null,null,null,null,null,""]
[null,"",null,null,null,null,null,null,null,null,null,null,null,null,null,null,null,null,null,null,null,""]
[null,"",null,null,null,null,null,null,null,null,null,null,null,null,null,null,null,null,null,null,null,""]
[null,"",null,null,null,null,null,null,null,null,null,null,null,null,null,null,null,null,null,null,null,""]
[null,"",null,null,null,null,null,null,null,null,null,null,null,null,null,null,null,null,null,null,null,""]
[null,"",null,null,null,null,null,null,null,null,null,null,null,null,null,null,null,null,null,null,null,""]
[null,"",null,null,null,null,null,null,null,null,null,null,null,null,null,null,null,null,null,null,null,""]
[null,"",null,null,null,null,null,null,null,null,null,null,null,null,null,null,null,null,null,null,null,""]
[null,"",null,null,null,null,null,null,null,null,null,null,null,null,null,null,null,null,null,null,null,""]
[null,"",null,null,null,null,null,null,null,null,null,null,null,null,null,null,null,null,null,null,null,""]
[null,"",null,null,null,null,null,null,null,null,null,null,null,null,null,null,null,null,null,null,null,""]
[null,"",null,null,null,null,null,null,null,null,null,null,null,null,null,null,null,null,null,null,null,""]
[null,"",null,null,null,null,null,null,null,null,null,null,null,null,null,null,null,null,null,null,null,""]
[null,"",null,null,null,null,null,null,null,null,null,null,null,null,null,null,null,null,null,null,null,""]
[null,"",null,null,null,null,null,null,null,null,null,null,null,null,null,null,null,null,null,null,null,""]
[null,"",null,null,null,null,null,null,null,null,null,null,null,null,null,null,null,null,null,null,null,""]
[null,"",null,null,null,null,null,null,null,null,null,null,null,null,null,null,null,null,null,null,null,""]
[null,"",null,null,null,null,null,null,null,null,null,null,null,null,null,null,null,null,null,null,null,""]
[null,{"$f":"IF(C644=\"\",\"\",+TEXT(C644,\"ddD\"))","v":""},null,null,null,null,null,null,null,null,null,null,null,null,null,null,null,null,null,null,null,{"$f":"IF(K644=\"\",\"\",IF(K644<10,1,IF(K644<=25,2,IF(K644<=35,3,IF(K644<=70,4,5)))))","v":""}]
[null,"",null,null,null,null,null,null,null,null,null,null,null,null,null,null,null,null,null,null,null,""]
[null,"",null,null,null,null,null,null,null,null,null,null,null,null,null,null,null,null,null,null,null,""]
[null,"",null,null,null,null,null,null,null,null,null,null,null,null,null,null,null,null,null,null,null,""]
[null,"",null,null,null,null,null,null,null,null,null,null,null,null,null,null,null,null,null,null,null,""]
[null,"",null,null,null,null,null,null,null,null,null,null,null,null,null,null,null,null,null,null,null,""]
[null,"",null,null,null,null,null,null,null,null,null,null,null,null,null,null,null,null,null,null,null,""]
[null,"",null,null,null,null,null,null,null,null,null,null,null,null,null,null,null,null,null,null,null,""]
[null,"",null,null,null,null,null,null,null,null,null,null,null,null,null,null,null,null,null,null,null,""]
[null,"",null,null,null,null,null,null,null,null,null,null,null,null,null,null,null,null,null,null,null,""]
[null,"",null,null,null,null,null,null,null,null,null,null,null,null,null,null,null,null,null,null,null,""]
[null,"",null,null,null,null,null,null,null,null,null,null,null,null,null,null,null,null,null,null,null,""]
[null,"",null,null,null,null,null,null,null,null,null,null,null,null,null,null,null,null,null,null,null,""]
[null,"",null,null,null,null,null,null,null,null,null,null,null,null,null,null,null,null,null,null,null,""]
[null,"",null,null,null,null,null,null,null,null,null,null,null,null,null,null,null,null,null,null,null,""]
[null,"",null,null,null,null,null,null,null,null,null,null,null,null,null,null,null,null,null,null,null,""]
[null,"",null,null,null,null,null,null,null,null,null,null,null,null,null,null,null,null,null,null,null,""]
[null,"",null,null,null,null,null,null,null,null,null,null,null,null,null,null,null,null,null,null,null,""]
[null,"",null,null,null,null,null,null,null,null,null,null,null,null,null,null,null,null,null,null,null,""]
[null,"",null,null,null,null,null,null,null,null,null,null,null,null,null,null,null,null,null,null,null,""]
[null,"",null,null,null,null,null,null,null,null,null,null,null,null,null,null,null,null,null,null,null,""]
[null,"",null,null,null,null,null,null,null,null,null,null,null,null,null,null,null,null,null,null,null,""]
[null,"",null,null,null,null,null,null,null,null,null,null,null,null,null,null,null,null,null,null,null,""]
[null,"",null,null,null,null,null,null,null,null,null,null,null,null,null,null,null,null,null,null,null,""]
[null,"",null,null,null,null,null,null,null,null,null,null,null,null,null,null,null,null,null,null,null,""]
[null,"",null,null,null,null,null,null,null,null,null,null,null,null,null,null,null,null,null,null,null,""]
[null,"",null,null,null,null,null,null,null,null,null,null,null,null,null,null,null,null,null,null,null,""]
[null,"",null,null,null,null,null,null,null,null,null,null,null,null,null,null,null,null,null,null,null,""]
[null,"",null,null,null,null,null,null,null,null,null,null,null,null,null,null,null,null,null,null,null,""]
[null,"",null,null,null,null,null,null,null,null,null,null,null,null,null,null,null,null,null,null,null,""]
[null,"",null,null,null,null,null,null,null,null,null,null,null,null,null,null,null,null,null,null,null,""]
[null,"",null,null,null,null,null,null,null,null,null,null,null,null,null,null,null,null,null,null,null,""]
[null,"",null,null,null,null,null,null,null,null,null,null,null,null,null,null,null,null,null,null,null,""]
[null,"",null,null,null,null,null,null,null,null,null,null,null,null,null,null,null,null,null,null,null,""]
[null,"",null,null,null,null,null,null,null,null,null,null,null,null,null,null,null,null,null,null,null,""]
[null,"",null,null,null,null,null,null,null,null,null,null,null,null,null,null,null,null,null,null,null,""]
[null,"",null,null,null,null,null,null,null,null,null,null,null,null,null,null,null,null,null,null,null,""]
[null,"",null,null,null,null,null,null,null,null,null,null,null,null,null,null,null,null,null,null,null,""]
[null,"",null,null,null,null,null,null,null,null,null,null,null,null,null,null,null,null,null,null,null,""]
[null,"",null,null,null,null,null,null,null,null,null,null,null,null,null,null,null,null,null,null,null,""]
[null,"",null,null,null,null,null,null,null,null,null,null,null,null,null,null,null,null,null,null,null,""]
[null,"",null,null,null,null,null,null,null,null,null,null,null,null,null,null,null,null,null,null,null,""]
[null,"",null,null,null,null,null,null,null,null,null,null,null,null,null,null,null,null,null,null,null,""]
[null,"",null,null,null,null,null,null,null,null,null,null,null,null,null,null,null,null,null,null,null,""]
[null,"",null,null,null,null,null,null,null,null,null,null,null,null,null,null,null,null,null,null,null,""]
[null,"",null,null,null,null,null,null,null,null,null,null,null,null,null,null,null,null,null,null,null,""]
[null,"",null,null,null,null,null,null,null,null,null,null,null,null,null,null,null,null,null,null,null,""]
[null,"",null,null,null,null,null,null,null,null,null,null,null,null,null,null,null,null,null,null,null,""]
[null,"",null,null,null,null,null,null,null,null,null,null,null,null,null,null,null,null,null,null,null,""]
[null,"",null,null,null,null,null,null,null,null,null,null,null,null,null,null,null,null,null,null,null,""]
[null,"",null,null,null,null,null,null,null,null,null,null,null,null,null,null,null,null,null,null,null,""]
[null,"",null,null,null,null,null,null,null,null,null,null,null,null,null,null,null,null,null,null,null,""]
[null,"",null,null,null,null,null,null,null,null,null,null,null,null,null,null,null,null,null,null,null,""]
[null,"",null,null,null,null,null,null,null,null,null,null,null,null,null,null,null,null,null,null,null,""]
[null,"",null,null,null,null,null,null,null,null,null,null,null,null,null,null,null,null,null,null,null,""]
[null,"",null,null,null,null,null,null,null,null,null,null,null,null,null,null,null,null,null,null,null,""]
[null,"",null,null,null,null,null,null,null,null,null,null,null,null,null,null,null,null,null,null,null,""]

{"sheet":"DataVAR","index":4,"n_rows":17,"n_cols":7,"rows_kept":17,"cut":false,"hidden":true,"merged":[]}
[]
[]
[null,"Zákazník","Dopravce","Destinace"]
[]
[null,"OMA","Logmax","Černá Hora",null,null,"Černá Hora"]
[null,"DF","TEZET","Neubuz",null,null,"Neubuz"]
[null,"JPP","Hroza","Vlkoš",null,null,"Vlkoš"]
[null,"Franta","PBM","Eloyes",null,null,"Eloyes"]
[null,"ECOABC",null,"Polsko",null,null,"Polsko"]
[null,"T-NET","BMS","Eloyes",null,null,"Eloyes"]
[null,"n/a","Hroza","Wallersdorf",null,null,"Wallersdorf"]
[null,"n/a","-","n/a",null,null,"n/a"]
[null,"T-NET","CarMax","Linz",null,null,"Linz"]
[null,"TBA","odběratel","Pardubice",null,null,"Pardubice"]
[null,"n/a","-","n/a",null,null,"n/a"]
[null,null,null,"Vlkoš",null,null,"Vlkoš"]
[null,"Cheport","TEZET","Lhotsko",null,null,"Lhotsko"]

{"sheet":"XX","index":5,"n_rows":300,"n_cols":22,"rows_kept":300,"cut":false,"hidden":true,"merged":[]}
[]
["pořadí","Den","Datum","Expedice číslo (PDL ?)","Zákazník","Dopravce","Destinace","SPZ","název výrobku","balení","počet balení","Vratka palet (ano/ne)","místo nakládky","Plán. příjezd","Skutečný příjezd","Start nakládky","Konec nakládky","Expedoval","Status","Naplánoval","Poznámka","složitost"]
[]
[{"$f":"IF(C4=\"\",\"\",IF(N4=\"\",C4+1,C4+N4))","v":""},{"$f":"IF(C4=\"\",\"\",IF(C4>0,C4,0))","v":""},null,null,null,null,null,null,null,null,null,null,null,null,null,null,null,null,null,null,null,{"$f":"IF(K4=\"\",\"\",IF(K4<10,1,IF(K4>25,3,2)))","v":""}]
["","",null,null,null,null,null,null,null,null,null,null,null,null,null,null,null,null,null,null,null,""]
["","",null,null,null,null,null,null,null,null,null,null,null,null,null,null,null,null,null,null,null,""]
["","",null,null,null,null,null,null,null,null,null,null,null,null,null,null,null,null,null,null,null,""]
["","",null,null,null,null,null,null,null,null,null,null,null,null,null,null,null,null,null,null,null,""]
["","",null,null,null,null,null,null,null,null,null,null,null,null,null,null,null,null,null,null,null,""]
["","",null,null,null,null,null,null,null,null,null,null,null,null,null,null,null,null,null,null,null,""]
["","",null,null,null,null,null,null,null,null,null,null,null,null,null,null,null,null,null,null,null,""]
["","",null,null,null,null,null,null,null,null,null,null,null,null,null,null,null,null,null,null,null,""]
["","",null,null,null,null,null,null,null,null,null,null,null,null,null,null,null,null,null,null,null,""]
["","",null,null,null,null,null,null,null,null,null,null,null,null,null,null,null,null,null,null,null,""]
["","",null,null,null,null,null,null,null,null,null,null,null,null,null,null,null,null,null,null,null,""]
["","",null,null,null,null,null,null,null,null,null,null,null,null,null,null,null,null,null,null,null,""]
["","",null,null,null,null,null,null,null,null,null,null,null,null,null,null,null,null,null,null,null,""]
["","",null,null,null,null,null,null,null,null,null,null,null,null,null,null,null,null,null,null,null,""]
["","",null,null,null,null,null,null,null,null,null,null,null,null,null,null,null,null,null,null,null,""]
["","",null,null,null,null,null,null,null,null,null,null,null,null,null,null,null,null,null,null,null,""]
["","",null,null,null,null,null,null,null,null,null,null,null,null,null,null,null,null,null,null,null,""]
["","",null,null,null,null,null,null,null,null,null,null,null,null,null,null,null,null,null,null,null,""]
["","",null,null,null,null,null,null,null,null,null,null,null,null,null,null,null,null,null,null,null,""]
["","",null,null,null,null,null,null,null,null,null,null,null,null,null,null,null,null,null,null,null,""]
["","",null,null,null,null,null,null,null,null,null,null,null,null,null,null,null,null,null,null,null,""]
["","",null,null,null,null,null,null,null,null,null,null,null,null,null,null,null,null,null,null,null,""]
["","",null,null,null,null,null,null,null,null,null,null,null,null,null,null,null,null,null,null,null,""]
["","",null,null,null,null,null,null,null,null,null,null,null,null,null,null,null,null,null,null,null,""]
["","",null,null,null,null,null,null,null,null,null,null,null,null,null,null,null,null,null,null,null,""]
["","",null,null,null,null,null,null,null,null,null,null,null,null,null,null,null,null,null,null,null,""]
["","",null,null,null,null,null,null,null,null,null,null,null,null,null,null,null,null,null,null,null,""]
["","",null,null,null,null,null,null,null,null,null,null,null,null,null,null,null,null,null,null,null,""]
["","",null,null,null,null,null,null,null,null,null,null,null,null,null,null,null,null,null,null,null,""]
["","",null,null,null,null,null,null,null,null,null,null,null,null,null,null,null,null,null,null,null,""]
["","",null,null,null,null,null,null,null,null,null,null,null,null,null,null,null,null,null,null,null,""]
["","",null,null,null,null,null,null,null,null,null,null,null,null,null,null,null,null,null,null,null,{"$f":"IF(K36=\"\",\"\",IF(K36<10,1,IF(K36>25,3,2)))","v":""}]
["","",null,null,null,null,null,null,null,null,null,null,null,null,null,null,null,null,null,null,null,""]
["","",null,null,null,null,null,null,null,null,null,null,null,null,null,null,null,null,null,null,null,""]
["","",null,null,null,null,null,null,null,null,null,null,null,null,null,null,null,null,null,null,null,""]
["","",null,null,null,null,null,null,null,null,null,null,null,null,null,null,null,null,null,null,null,""]
["","",null,null,null,null,null,null,null,null,null,null,null,null,null,null,null,null,null,null,null,""]
["","",null,null,null,null,null,null,null,null,null,null,null,null,null,null,null,null,null,null,null,""]
["","",null,null,null,null,null,null,null,null,null,null,null,null,null,null,null,null,null,null,null,""]
["","",null,null,null,null,null,null,null,null,null,null,null,null,null,null,null,null,null,null,null,""]
["","",null,null,null,null,null,null,null,null,null,null,null,null,null,null,null,null,null,null,null,""]
["","",null,null,null,null,null,null,null,null,null,null,null,null,null,null,null,null,null,null,null,""]
["","",null,null,null,null,null,null,null,null,null,null,null,null,null,null,null,null,null,null,null,""]
["","",null,null,null,null,null,null,null,null,null,null,null,null,null,null,null,null,null,null,null,""]
["","",null,null,null,null,null,null,null,null,null,null,null,null,null,null,null,null,null,null,null,""]
["","",null,null,null,null,null,null,null,null,null,null,null,null,null,null,null,null,null,null,null,""]
["","",null,null,null,null,null,null,null,null,null,null,null,null,null,null,null,null,null,null,null,""]
["","",null,null,null,null,null,null,null,null,null,null,null,null,null,null,null,null,null,null,null,""]
["","",null,null,null,null,null,null,null,null,null,null,null,null,null,null,null,null,null,null,null,""]
["","",null,null,null,null,null,null,null,null,null,null,null,null,null,null,null,null,null,null,null,""]
["","",null,null,null,null,null,null,null,null,null,null,null,null,null,null,null,null,null,null,null,""]
["","",null,null,null,null,null,null,null,null,null,null,null,null,null,null,null,null,null,null,null,""]
["","",null,null,null,null,null,null,null,null,null,null,null,null,null,null,null,null,null,null,null,""]
["",""]
["",""]
["",""]
["",""]
["",""]
["",""]
["",""]
["",""]
["",""]
["",""]
[{"$f":"IF(C68=\"\",\"\",IF(N68=\"\",C68+1,C68+N68))","v":""},{"$f":"IF(C68=\"\",\"\",IF(C68>0,C68,0))","v":""}]
["",""]
["",""]
["",""]
["",""]
["",""]
["",""]
["",""]
["",""]
["",""]
["",""]
["",""]
["",""]
["",""]
["",""]
["",""]
["",""]
["",""]
["",""]
["",""]
["",""]
["",""]
["",""]
["",""]
["",""]
["",""]
["",""]
["",""]
["",""]
["",""]
["",""]
["",""]
["",""]
["",""]
["",""]
["",""]
["",""]
["",""]
["",""]
["",""]
["",""]
["",""]
["",""]
["",""]
["",""]
["",""]
["",""]
["",""]
["",""]
["",""]
["",""]
["",""]
["",""]
["",""]
["",""]
["",""]
["",""]
["",""]
["",""]
["",""]
["",""]
["",""]
["",""]
["",""]
[{"$f":"IF(C132=\"\",\"\",IF(N132=\"\",C132+1,C132+N132))","v":""},{"$f":"IF(C132=\"\",\"\",IF(C132>0,C132,0))","v":""}]
["",""]
["",""]
["",""]
["",""]
["",""]
["",""]
["",""]
["",""]
["",""]
["",""]
["",""]
["",""]
["",""]
["",""]
["",""]
["",""]
["",""]
["",""]
["",""]
["",""]
["",""]
["",""]
["",""]
["",""]
["",""]
["",""]
["",""]
["",""]
["",""]
["",""]
["",""]
["",""]
["",""]
["",""]
["",""]
["",""]
["",""]
["",""]
["",""]
["",""]
["",""]
["",""]
["",""]
["",""]
["",""]
["",""]
["",""]
["",""]
["",""]
["",""]
["",""]
["",""]
["",""]
["",""]
["",""]
["",""]
["",""]
["",""]
["",""]
["",""]
["",""]
["",""]
["",""]
[{"$f":"IF(C196=\"\",\"\",IF(N196=\"\",C196+1,C196+N196))","v":""},{"$f":"IF(C196=\"\",\"\",IF(C196>0,C196,0))","v":""}]
["",""]
["",""]
["",""]
["",""]
["",""]
["",""]
["",""]
["",""]
["",""]
["",""]
["",""]
["",""]
["",""]
["",""]
["",""]
["",""]
["",""]
["",""]
["",""]
["",""]
["",""]
["",""]
["",""]
["",""]
["",""]
["",""]
["",""]
["",""]
["",""]
["",""]
["",""]
["",""]
["",""]
["",""]
["",""]
["",""]
["",""]
["",""]
["",""]
["",""]
["",""]
["",""]
["",""]
["",""]
["",""]
["",""]
["",""]
["",""]
["",""]
["",""]
["",""]
["",""]
["",""]
["",""]
["",""]
["",""]
["",""]
["",""]
["",""]
["",""]
["",""]
["",""]
["",""]
[{"$f":"IF(C260=\"\",\"\",IF(N260=\"\",C260+1,C260+N260))","v":""},{"$f":"IF(C260=\"\",\"\",IF(C260>0,C260,0))","v":""}]
["",""]
["",""]
["",""]
["",""]
["",""]
["",""]
["",""]
["",""]
["",""]
["",""]
["",""]
["",""]
["",""]
["",""]
["",""]
["",""]
["",""]
["",""]
["",""]
["",""]
["",""]
["",""]
["",""]
["",""]
["",""]
["",""]
["",""]
["",""]
["",""]
["",""]
["",""]
["",""]
["",""]
["",""]
["",""]
["",""]
["",""]
["",""]
["",""]
["",""]

{"sheet":"01.23","index":6,"n_rows":699,"n_cols":24,"rows_kept":699,"cut":false,"hidden":false,"merged":[[0,6,0,7],[0,8,0,13],[0,22,0,23],[0,14,0,15],[0,16,0,17],[0,19,0,20]]}
[null,null,null,"2023-01-02","►►►►","2023-02-03","DNEŠNÍ DATUM:     ",null,{"$f":"+TODAY()","v":"2023-02-01"},null,null,null,null,null,"AKTUÁLNÍ ČAS:     ",null,{"$f":"NOW()","v":44958.554346412035},null,null,"AKTUÁLNÍ MĚSÍC: ",null,{"$f":"+I1","v":"2023-02-01"},"Informace pro NÁKUP"]
["pořadí","Den","Datum","Příjem","Zákazník","Destinace","Dopravce","SPZ","název výrobku","balení","počet balení","Obtížnost","vratka palet (ano/ne)","místo nakládky","Plán. příjezd","Skutečný příjezd","Start nakládky","Konec nakládky","Expedoval / Přijal","Status","Naplánoval","Poznámka","Cena přepravy","přefaktuace/doplňující informace"]
[]
[{"$f":"IF(C4=\"\",\"\",IF(O4=\"\",C4+1,C4+O4))","v":44929},{"$f":"IF(C4=\"\",\"\",+TEXT(C4,\"ddD\"))","v":"po"},"2023-01-02"]
[44929.25,"út","2023-01-03",null,"DF","Neubuz","Hroza ",null,"KS-3,KE-25","PA",30,null,"ano","Kyjov","06:00:00","06:15:00","06:20:00","07:00:00","Hojač M.","Dokončeno","Chromková L.",null,null,"v ceně"]
[44929.291666666664,"út","2023-01-03",null,"Antolin","Libáň","vlastní",null,"YETI","PA ",43,null,"ano","Kyjov","07:00:00","13:00:00","13:05:00","13:50:00","Havránek M.","Dokončeno","Chromková L."]
[44929.333333333336,"út","2023-01-03",null,"INX","HorníPočernice","Logmax",null,"KA-5","PA",65,null,"ne","Kyjov","08:00:00","11:00:00","11:50:00","13:15:00","Svoboda L.","Dokončeno","Chromková L.",null,8900,"v ceně"]
[44929.458333333336,"út","2023-01-03","příjem","Faurecie MB","Mladá Boleslav","vlastní",null,"obaly ","PA",null,null,null,"Kyjov","11:00:00","11:40:00","12:00:00","12:30:00","Průša M.","Dokončeno","Chromková L."]
[44930,"út","2023-01-03",null,"T-Net","Eloyes","Legarde",null,"Degas ","PA",4,null,"ne","Kyjov",null,"12:30:00","12:35:00","12:40:00","Havránek M.","Dokončeno","Gajdošová L."]
[44930,"út","2023-01-03",null,"T-Net","Eloyes","MSB","M01","Chagall","PA",66,null,"ne","Kyjov",null,"07:25:00","07:30:00","08:00:00","Doupovec R.","Dokončeno","Gajdošová L."]
[44930,"út","2023-01-03",null,"T-Net","Eloyes","MSB","M02","mix","PA",66,null,"ne","Kyjov+Vlkoš",null,"08:30:00","08:35:00","10:00:00","Svoboda L.","Dokončeno","Gajdošová L."]
[44930,"út","2023-01-03",null,"T-Net","Eloyes","MSB","M03","mix","PA",66,null,"ne","Vlkoš",null,"09:00:00","09:45:00","10:30:00","Doupovec R.","Dokončeno","Gajdošová L."]
[44930,"út","2023-01-03",null,"T-Net","Eloyes","MSB","M04","mix","PA",66,null,"ne","Kyjov+Vlkoš",null,"09:00:00","10:40:00","12:30:00","Hojač M.","Dokončeno","Gajdošová L."]
[44930,"út","2023-01-03","příjem","Filmer","Kyjov",null,null,"palety vratka","PA",30,null,null,"Kyjov",null,"10:00:00","10:05:00","10:15:00","Havránek M.","Dokončeno","Chromková L.","vratka palet Filmer "]
[44930,"út","2023-01-03","příjem","GAS","Kyjov","vlastní",null,"plyn",null,null,null,null,"Kyjov",null,"10:15:00","10:15:00","10:30:00","Havránek M.","Dokončeno","Chromková L."]
[44930,"út","2023-01-03",null,"Faurecie MB","Mladá Boleslav","vlastní",null,"BMW + Defender","PA",99,null,"ano","Kyjov",null,"15:10:00","15:15:00","16:00:00","Průša M.","Dokončeno","Gajdošová L.",null,null,"v ceně"]
[44930.25,"st","2023-01-04",null,"DF","Neubuz ","Hroza ",null,"PHM","PA",18,null,null,"Kyjov","06:00:00","13:45:00","14:00:00","14:20:00","Hojač M.","Dokončeno","Chromková L.","vychystáno Hojač,nakládka 3.1.2023",null,"v ceně"]
[44930.253472222219,"st","2023-01-04",null,"Bochemie","Bohumín","TEZET",null,null,"PA",16,null,"ano","Vlkoš","06:05:00","11:50:00","12:00:00","12:30:00","Doupovec R.","Dokončeno","Chromková L.","naloženo 3.1.2023",5500,"v ceně"]
[44930.253472222219,"st","2023-01-04",null,"DF","Neubuz","Hroza",null,"KE-25","PA",28,null,null,"Kyjov","06:05:00","14:00:00","14:20:00","14:35:00","Hojač M.","Dokončeno","Chromková L.",null,null,"v ceně"]
[44930.333333333336,"st","2023-01-04",null,"T-Net","NY","kontejer",null,"Degas","PA",21,null,"ne","Kyjov","08:00:00","07:45:00","08:15:00","09:30:00","Havránek M.","Dokončeno","Gajdošová L."]
[44930.416666666664,"st","2023-01-04",null,"Ozas-Esab","Opole","Schenker",null,"Water tank","PA",2,null,"ne","Kyjov","10:00:00","11:20:00","11:35:00","11:45:00","Průša M.","Dokončeno","Gajdošová L."]
[44930.416666666664,"st","2023-01-04",null,"Agrimex","Kojetice","vlastní",null,"KE-25","PA",10,null,null,"Kyjov","10:00:00","08:35:00","08:40:00","09:15:00","Hojač M.","Dokončeno","Chromková L.",null,null,"v ceneě"]
[44930.458333333336,"st","2023-01-04",null,"Flexfill","Lovosice","Interkontakt",null,null,"PA",66,null,"ne","Kyjov","11:00:00","11:00:00","11:30:00","12:30:00","Doupovec R.","Dokončeno","Chromková L.","L-490-22",9500,"v ceně"]
[44931,"st","2023-01-04",null,"Tichelman","Brnoo","vlastní",null,"pytle","PA",3,null,"ano","Kyjov",null,"10:35:00","10:40:00","11:00:00","Svoboda L.","Dokončeno","Chromková L."]
[44931.25,"čt","2023-01-05",null,"DF","Neubuz","Hroza",null,"KS-5","PA",32,null,"ano","Kyjov","06:00:00","07:40:00","07:45:00","08:20:00","Hojač M.","Dokončeno","Chromková L.",null,null,"v ceně"]
[44931.253472222219,"čt","2023-01-05",null,"Oma ","Černá Hora ","Tezet",null,"mix","PA",30,null,"ne","Kyjov","06:05:00","14:00:00","14:20:00","14:35:00","Hojač M.","Dokončeno","Chromková L.","vychystal Kubáček na 5.1.2023",4160,"přefaktur. 4200,- Kč fa 23010529"]
[44931.253472222219,"čt","2023-01-05",null,"Fagron","Olomouc","TEZET",null,"mix","PA",32,null,"ne","Kyjov","06:05:00","11:55:00","11:57:00","12:15:00","Hojač M.","Dokončeno","Chromková L.","vychystáno Hojač,nakládka na 5.1.2023",4170,"přefaktur. 5200,- kč 23010526"]
[44931.416666666664,"čt","2023-01-05",null,"Variant","Všetaty","vlastní",null,"LUH-1","PA",3,null,"ano","Kyjov","10:00:00","10:45:00","10:45:00","11:00:00","Doupovec R.","Dokončeno","Chromková L.","vychystal Svoboda"]
[44931.416666666664,"čt","2023-01-05",null,"Carrier","Mýto","vlastní",null,"sifon","KA",3,null,"ne","Kyjov","10:00:00","08:20:00","08:20:00","08:25:00","Svoboda L.","Dokončeno","Chromková L.","vychystal Průša"]
[44931.416666666664,"čt","2023-01-05",null,"Transtech tooling","Popůvky u Brna","vlastníí",null,"KE-10","PA",2,null,"ano","Kyjov","10:00:00",4.6180555555555554,"10:55:00","11:10:00","Svoboda L.","Dokončeno","Chromková L."]
[44931.4375,"čt","2023-01-05","příjem","Lopal","Kyjov","vlastní",null,"700 ks EUR palet","PA",33,null,"ne","Uherské Hradiště","10:30:00","10:45:00","11:00:00","11:45:00","Havránek M.","Dokončeno","Bilíček P."]
[44931.5,"čt","2023-01-05",null,"Bartozs Ratuski","Grodzisk Mazowiecki","vlastní",null,"KE-10, 20, 25","PA",33,null,"ne","Kyjov","12:00:00","10:45:00","10:50:00","11:30:00","Průša M.","Dokončeno","Hochman L."]
[44931.583333333336,"čt","2023-01-05",null,"Sait-Gonbein","Prostějov","vlastní",null,"mix","PA",3,null,"ne","Kyjov","14:00:00","13:50:00","13:51:00","14:00:00","Svoboda L.","Dokončeno","Chromková L."]
[44932,"čt","2023-01-05","příjem","GEFCO",null,"vlastní",null,"boxy","PA",32,null,null,"Kyjov",null,"07:05:00","07:10:00","07:30:00","Svoboda L.","Dokončeno","Gajdošová L."]
[44932,"čt","2023-01-05",null,"PK Group","Dubňany","vlastní",null,"SOT-120","PA",2,null,"ne","Kyjov",null,"07:45:00","07:50:00","08:15:00","Svoboda L.","Dokončeno","Gajdošová L."]
[44932.25,"pá","2023-01-06",null,"DF","Neubuz","Hroza",null,"KS-5","PA",32,null,"ano","Kyjov","06:00:00","13:30:00","13:35:00","14:00:00","Hojač M.","Dokončeno","Chromková L.",null,null,"v ceně"]
[44932.25,"pá","2023-01-06",null,"DF","Neubuz","Hroza",null,"KS-3","PA",32,null,null,"Kyjov","06:00:00","10:50:00","11:00:00",1140,"Hojač M.","Dokončeno","Chromková L.",null,null,"v ceně"]
[44932.253472222219,"pá","2023-01-06",null,"Cheport","Vizovice","TEZET",null,"Mix","PA",32,null,"ne","Kyjov","06:05:00","13:00:00","13:05:00","13:30:00","Kubáček M.","Dokončeno","Chromková L.","vychystal Kubáček 5.1., naloženo 5.1.",4100,"v ceně"]
[44932.416666666664,"pá","2023-01-06",null,"TBA","Havl. Brod","vlastní ",null,"mix","PA",33,null,"ne","Kyjov","10:00:00","11:30:00","11:35:00","13:10:00","Doupovec R.","Dokončeno","Chromková L."]
[44932.46875,"pá","2023-01-06","příjem","TBA","Halv. Brod","6J74747",null,"Kyjov","PA",99,null,null,"Kyjov","11:15:00","11:30:00","11:35:00","13:10:00","Havránek M.","Dokončeno","Gajdošová L.","vratla palet  510 ks - byyšpatné"]
[44933,"pá","2023-01-06",null,"Seco Group","Jičín","TEZET",null,"NDK","PA",34,null,"ne","Kyjov",null,"12:00:00","12:05:00","12:30:00","Hojač M.","Dokončeno","Gajdošová L.","vychystal Hojač 4.1.2023, naloženo 5.1.",7400,"přefak.310,- eur fa 23010534"]
[44935.25,"po","2023-01-09",null,"DF","Neubuz ","Hroza ",null,"KS-3","PA",32,null,null,"Kyjov","06:00:00","13:00:00","13:05:00","14:00:00","Průša J.","Dokončeno","Chromková L.","nakládka Sobota !",null,"v ceně"]
[44935.25,"po","2023-01-09",null,"DF","Neubuz","Hroza",null,"KS-3","PA",32,null,null,"Kyjov","06:00:00","10:30:00","10:35:00","11:15:00","Hojač M.","Dokončeno","Chromková L.",null,null,"v ceně"]
[44935.25277777778,"po","2023-01-09",null,"Rina","Čelákovice","TEZET",null,"mix","PA",18,null,"ano","Kyjov","06:04:00","13:30:00","13:35:00","14:15:00","Kubáček M.","Dokončeno","Chromková L.","nakládka v pátek 6.1.2023",8100,"v ceně"]
[44935.253472222219,"po","2023-01-09",null,"Cheport","Vizovice","Tezet",null,"mix","PA",30,null,"ne","Kyjov","06:05:00","09:45:00","09:50:00","10:05:00","Kubáček M.","Dokončeno","Chromková L.","vychystal Kubáček, naloženo 6.1.",4100,"v ceně"]
[44935.291666666664,"po","2023-01-09",null,"Groshandel","Suhl-Sehmar",null,null,"KPHM","PA",38,null,"ne","Kyjov","07:00:00","13:00:00","13:10:00","14:05:00","Svoboda L.","Dokončeno","Kollerová D.",null,21500,"v ceně"]
[44935.295138888891,"po","2023-01-09",null,"Groshandel","Suhl-Sehmar",null,null,"mix","PA",38,null,"ne","Kyjov","07:05:00","14:50:00","15:00:00",null,"Svoboda L.","Dokončeno","Kollerová D.","vychystal Havránek",21500,"v ceně"]
[44935.333333333336,"po","2023-01-09",null,"Filmer","Malchow",null,null,"KPHM","PA",66,4,"ne","Kyjov","08:00:00","07:00:00","07:10:00","08:20:00","Průša M.","Dokončeno","Kollerová D.",null,null,"v ceně"]
[44935.416666666664,"po","2023-01-09",null,"TBA","Havl.Brod","vlastní",null,"mix","PA",30,null,"ne","Kyjov","10:00:00","13:00:00","13:10:00","13:50:00","Havránek M.","Dokončeno","Chromková L."]
[44935.458333333336,"po","2023-01-09",null,"Flexfill","Lovosice","Interkontakt",null,null,"PA",66,null,"ne","Kyjov","11:00:00","10:10:00","10:15:00","11:10:00","Kubáček M.","Dokončeno","Chromková L.","L-491-22",9500,"v ceně"]
[44935.461805555555,"po","2023-01-09",null,"Nufarm","Linz","Interkontakt",null,"KA-5","PA ",52,null,"ne","Kyjov","11:05:00","11:50:00","12:00:00","12:30:00","Hojač M.","Dokončeno","Gajdošová L.","vychystal Hojač",null,"v ceně"]
[44935.465277777781,"po","2023-01-09",null,"T-Net","Eloyes","Legarde","Legarde","Degas ","PA",34,null,"ne","Kyjov+Vlkoš","11:10:00","07:00:00","07:05:00","07:30:00","Doupovec R.","Dokončeno","Gajdošová L.","vychystal Doupovec 5.1."]
[44935.46875,"po","2023-01-09",null,"MAT","Plzeň","AK Servis",null,null,"PA",18,null,"ano","Kyjov","11:15:00","07:15:00","07:25:00","08:10:00","Svoboda L.","Dokončeno","Chromková L."]
[44935.46875,"po","2023-01-09",null,"Carier","Mýto","vlastní",null,null,"KA",2,null,"ne","Kyjov","11:15:00","12:55:00","13:00:00","13:10:00","Kubáček M.","Dokončeno","Gajdošová L.","vychystáno"]
[44935.583333333336,"po","2023-01-09",null,"T-Net","Eloyes","MSB","M08","mix","PA",48,null,"ne","Kyjov+Vlkoš","14:00:00","07:00:00","07:10:00","08:30:00","Hojač M.","Dokončeno","Gajdošová L."]
[44935.604166666664,"po","2023-01-09",null,"Toptrans",null,"SBS",null,"mix","PA",4,null,"ne","Kyjov","14:30:00",null,null,"13:00:00","Kubáček M.","Dokončeno","Gajdošová L.","vychystal Kubáček"]
[44935.625,"po","2023-01-09",null,"Faurecie MB","Mladá Boleslav","vlastní","extra","mix","PA",7,null,"ne","Kyjov","15:00:00","14:50:00","14:50:00","15:00:00","Svoboda L.","Dokončeno","Gajdošová L.","vychystal Průša"]
[44936.25,"út","2023-01-10",null,"DF","Neubuz","Hroza",null,"KS-3","PA",29,null,"ne","Kyjov","06:00:00","10:15:00","10:25:00","11:30:00","Hojač M.","Dokončeno","Chromková L.",null,null,"v ceně"]
[44936.25,"út","2023-01-10",null,"DF","Neubuz","Hroza",null,"PHM","PA",18,null,"ano","Kyjov","06:00:00","15:00:00","15:10:00","15:45:00","Antoš J.","Dokončeno","Chromková L.","vychystáno Hojč na 10.1.2023",null,"v ceně"]
[44936.253472222219,"út","2023-01-10",null,"Everstar","Šumperk","TEZET",null,"KSE-5","PA",32,null,"ano","Kyjov","06:05:00","13:00:00","13:35:00","14:00:00","Kubáček M.","Dokončeno","Chromková L.","vychystáno,nakládka na 10.1.2023",5000,"přefak. 7500,- Kč fa 23010554"]
[44936.254166666666,"út","2023-01-10",null,"Atotech","Jablonec n.N.","TEZET",null,"mix","PA",16,null,"ne","Kyjov","06:06:00","12:50:00","12:55:00","13:35:00","Kubáček M.","Dokončeno","Chromková L.","NAKÁDKA NA 10.1.2023",9000,"v ceně"]
[44936.291666666664,"út","2023-01-10",null,"Antolin","Libáň","vlastní",null,"SEAT","PA ",25,null,"ano","Kyjov","07:00:00","06:00:00","06:05:00","07:00:00","Havránek M.","Dokončeno","Chromková L."]
[44936.458333333336,"út","2023-01-10",null,"JPSK","Prievidza","Legarde",null,"mix","PA",32,null,"ne","Kyjov","11:00:00","11:15:00","11:20:00","13:35:00","Doupovec R.","Dokončeno","Chromková L."]
[44936.458333333336,"út","2023-01-10","příjem","JPSK","Kyjov","Legarde",null,"mix","PA",5,null,"ne","Kyjov","11:00:00","11:15:00","11:25:00","12:00:00","Havránek M.","Dokončeno","Chromková L."]
[44936.479166666664,"út","2023-01-10",null,"Blaser","Troubsko","vlastní",null,"KE-25","PA",3,null,"ano","Kyjov","11:30:00","12:55:00","13:00:00","13:15:00","Hojač M.","Dokončeno","Gajdošová L.","vychystal Doupovec"]
[44936.479166666664,"út","2023-01-10",null,"Avena","Bzenec","vlastní",null,"SDH-50","PA",5,null,"ano","Kyjov","11:30:00","11:30:00","11:35:00","12:00:00","Svoboda L.","Dokončeno","Chromková L."]
[44936.489583333336,"út","2023-01-10",null,"Ozas Esab","Opole","Schenker",null,"Water can","KA",4,null,"ne","Kyjov","11:45:00","11:50:00","11:55:00","12:00:00","Hojač M.","Dokončeno","Gajdošová L.","vychystal Doupovec"]
[{"$f":"IF(C68=\"\",\"\",IF(O68=\"\",C68+1,C68+O68))","v":44936.493055555555},{"$f":"IF(C68=\"\",\"\",+TEXT(C68,\"ddD\"))","v":"út"},"2023-01-10",null,"Lipera","Boršice","vlastní",null,"uzávěry","KA",4,null,"ne","Kyjov","11:50:00","14:00:00","14:05:00","14:10:00","Doupovec R.","Dokončeno","Gajdošová L.","2023-01-10"]
[44936.5,"út","2023-01-10",null,"Faurecie","Pardubice","vlastní",null,"Air duct F40","PA",33,null,"ano","Kyjov","12:00:00","06:00:00","06:05:00","07:00:00","Průša M.","Dokončeno","Gajdošová L."]
[44936.520833333336,"út","2023-01-10",null,"Faurecie MB","Mladá Boleslav","vlastní",null,"BMW + Defender","PA",99,null,"ano","Kyjov","12:30:00","11:00:00","11:15:00","12:00:00","Průša M.","Dokončeno","Gajdošová L."]
[44936.541666666664,"út","2023-01-10",null,"Faurecie MB","Mladá Boleslav","vlastní","extra","mix","PA",28,null,"ne","Kyjov","13:00:00","12:35:00","12:45:00","13:30:00","Průša M.","Dokončeno","Gajdošová L.","extra auto"]
[44936.541666666664,"út","2023-01-10",null,"PK Group","Dubňany","vlastní",null,"SOT-120","PA",10,null,"ne","Kyjov","13:00:00","12:45:00","12:50:00","13:15:00","Svoboda L.","Dokončeno","Chromková L."]
[44936.583333333336,"út","2023-01-10",null,"Vypl","Rakvice","naše",null,"barva","PY",2,null,"ne","Kyjov","14:00:00","14:10:00","14:15:00","14:20:00","Průša M.","Dokončeno","Chromková L."]
[44937.25,"st","2023-01-11",null,"DF","Neubuz","Hroza",null,"KS-3","PA",18,null,null,"Kyjov","06:00:00","10:00:00","10:10:00","11:00:00","Hojač M.","Dokončeno","Chromková L.",null,null,"v ceně"]
[44937.25,"st","2023-01-11",null,"DF","Neubuz","Hroza",null,"PHM","PA",18,null,"ano","Kyjov","06:00:00","15:00:00","15:10:00","15:50:00","Povolný L.","Dokončeno","Chromková L.",null,null,"v ceně"]
[44937.253472222219,"st","2023-01-11",null,"Cheport","Vizovice","Tezet",null,"mix","PA",32,null,"ne","Kyjov","06:05:00","06:00:00","06:05:00","06:30:00","Kubáček M.","Dokončeno","Chromková L.",null,4100,"v ceně"]
[44937.256944444445,"st","2023-01-11",null,"SODO DUO","Nová Ves u Chotěboře","TEZET",null,null,"PA",18,null,"ano","Kyjov","06:10:00","16:30:00","16:35:00","17:15:00","Povolný L.","Dokončeno","Chromková L.","nakládka 10.1.2023",5800,"přefaktur. 3200,- Kč fa 23010570"]
[44937.416666666664,"st","2023-01-11",null,"TBA","Havl.Brod","vlastní","p.Přenosil","mix","PA",9,null,"ano","Kyjov","10:00:00",5.104166666666667,"12:35:00","13:00:00","Svoboda L.","Dokončeno","Chromková L."]
[44937.458333333336,"st","2023-01-11",null,"JPPSK","Zabrze","dls Trans",null,"KPHM","PY",33,null,"ne","Kyjov","11:00:00","10:10:00","10:30:00","11:30:00","Havránek M.","Dokončeno","Kollerová D."]
[44937.458333333336,"st","2023-01-11",null,"TBA","Havl.Brod","vlastní","Vašák","mix","PA",10,null,null,"Kyjov","11:00:00","10:35:00","10:40:00","11:05:00","Průša M.","Dokončeno","Chromková L.","vychystal Havránek"]
[44937.520833333336,"st","2023-01-11",null,"Faurecie MB","Mladá Boleslav","vlastní",null,"BMW + Defender","PA",99,null,"ano","Kyjov","12:30:00","11:00:00","11:20:00","12:00:00","Průša M.","Dokončeno","Gajdošová L.","vychystal Průša"]
[44937.541666666664,"st","2023-01-11",null,"Libros","Ostrava ","vlastní",null,"mix","PA",4,null,"ano","kyjov","13:00:00","12:25:00","12:30:00","13:00:00","Svoboda L.","Dokončeno","Chromková L."]
[44938,"st","2023-01-11",null,"Patron","Mělník","vlastní",null,"zámek skládaný","PA",1,null,"ne","Kyjov",null,"07:30:00","07:45:00","08:00:00","Svoboda L.","Dokončeno","Chromková L.","dovoz zboží z JPSK10.1.2023"]
[44938,"st","2023-01-11",null,"Toptrans",null,"SBS",null,"mix","PA",8,null,"ne","Kyjov",null,null,null,"13:00:00","Doupovec R.","Dokončeno","Gajdošová L.","vychystal Doupovec"]
[44938.25,"čt","2023-01-12",null,"Fagron","Olomouc","Tezet",null,"mix","PA",18,2,"ne","Kyjov","06:00:00","13:30:00","13:35:00","14:00:00","Hojač M.","Dokončeno","Kollerová D.","vychystal Kubáček",3670,"přefak. 4400,- kč fa 23010578"]
[44938.25,"čt","2023-01-12",null,"DF","Neubuz","Hroza",null,"KS-3","PA",18,2,null,"Kyjov","06:00:00","06:10:00","06:15:00","07:00:00","Hojač M.","Dokončeno","Chromková L."]
[44938.25,"čt","2023-01-12",null,"Vypl","Rakvice","Hroza",null,"proložky","PA ",1,1,null,"Kyjov","06:00:00","11:50:00","11:55:00","12:10:00","Hojač M.","Dokončeno","Chromková L."]
[44938.253472222219,"čt","2023-01-12",null,"Alter","Hradec Králové","TEZET",null,"miix","PA",30,3,"ne","Kyjov","06:05:00","12:00:00","12:05:00","12:50:00","Kubáček M.","Dokončeno","Chromková L.","nakládka 11.1.2023",7500,"v ceně"]
[44938.291666666664,"čt","2023-01-12",null,"Antolin","Libáň","vlastní",null,"YETI","PA",null,5,"ano","Kyjov","07:00:00","06:05:00","06:10:00","07:00:00","Havránek M.","Dokončeno","Chromková L."]
[44938.333333333336,"čt","2023-01-12",null,"AV auto","Vlkoš","vlastní",null,"výpust.kohout","KA",1,1,"ne","Kyjov","08:00:00","08:05:00","08:10:00","08:15:00","Doupovec R.","Dokončeno","Chromková L."]
[44938.416666666664,"čt","2023-01-12",null,"TBA","Havl.Brod","vlastní",null,"SOT-120","PA",10,2,"ne","Kyjov","10:00:00","10:30:00","10:35:00","11:00:00","Havránek M.","Dokončeno","Chromková L."]
[44938.420138888891,"čt","2023-01-12",null,"Kopeček","Dubňany","vlastní",null,"KE-15","PA",1,1,"ano","Kyjov","10:05:00","13:40:00","13:45:00","13:50:00","Svoboda L.","Dokončeno","Gajdošová L.","vychystal Doupovec"]
[44938.423611111109,"čt","2023-01-12",null,"Slovakia Trend","Sobrance","vlastní",null,"mix","PA",16,4,"ano","Kyjov","10:10:00","12:30:00","12:35:00","13:00:00","Kubáček M.","Dokončeno","Chromková L."]
[44938.4375,"čt","2023-01-12",null,"Stachema","Kolíín","vlastní",null,"mix","PA",2,1,"ne","Kyjov","10:30:00","09:00:00","09:05:00","09:20:00","Svoboda L.","Dokončeno","Chromková L."]
[44938.447916666664,"čt","2023-01-12",null,"J.P.Plast","Kyjov","Hroza",null,"LUH-1","PA",18,3,"ne","Rakvice","10:45:00",null,null,null,null,"Dokončeno","Bilíček P.",null,1800]
[44938.458333333336,"čt","2023-01-12",null,"JPSK","Prievidza","vlastní",null,"PHM","PA",30,5,"ne","Kyjov","11:00:00","10:20:00","10:25:00","11:30:00","Doupovec R.","Dokončeno","Chromková L."]
[44938.458333333336,"čt","2023-01-12",null,"TBA","Havl.Brod","vlastní",null,"SOT-220","PA",10,2,"ne","Kyjov","11:00:00","09:00:00","09:05:00","09:45:00","Havránek M.","Dokončeno","Chromková L."]
[44938.479166666664,"čt","2023-01-12",null,"Flexfill","Lovosice","Interkontakt",null,"KCH-5","PA",66,5,"ne","Kyjov","11:30:00","10:50:00","10:55:00","11:20:00","Kubáček M.","Dokončeno","Chromková L.","L-005-23",9500,"v ceně"]
[44938.5,"čt","2023-01-12",null,"TBA","Havl.Brod","vlastní",null,"mix","PA",15,2,"ne","Kyjov","12:00:00","16:00:00","16:05:00","16:40:00","Konečný M.","Dokončeno","Chromková L."]
[44938.520833333336,"čt","2023-01-12",null,"Faurecie MB","Mladá Boleslav","vlastní",null,"BMW + Defender","PA",99,5,"ne","Kyjov","12:30:00","12:00:00","12:05:00","12:20:00","Průša M.","Dokončeno","Gajdošová L.","vychystal Průša"]
[44938.541666666664,"čt","2023-01-12","příjem","Santal","Třeboň","vlastní",null,"obaly","PA",25,3,null,"Kyjov","13:00:00","10:30:00","10:35:00","10:40:00","Kubáček M.","Dokončeno","Chromková L.","114777 boxy"]
[44938.541666666664,"čt","2023-01-12","příjem","JPSK","Prieividza","Vlastní",null,"uzávěry,spirály mix","PA",5,3,"ne","Kyjov","13:00:00","10:20:00","10:25:00","11:30:00","Svoboda L.","Dokončeno","Chromková L."]
[44939,"čt","2023-01-12",null,"Toptrans",null,"SBS",null,"mix","PA",5,1,"ne","Kyjov",null,null,null,"13:00:00","Doupovec R.","Dokončeno","Gajdošová L.","vychystal Doupovec"]
[44939.25,"pá","2023-01-13","příjem","VYPL","Rakvice","Hroza",null,"mix","PA",18,3,null,"Kyjov","06:00:00","06:10:00","06:15:00","06:45:00","Hojač M.","Dokončeno","Chromková L."]
[44939.25,"pá","2023-01-13",null,"DF","Neubuz","Hroza ",null,"kphm-10","PA",18,2,"ano","Kyjov","06:00:00","06:10:00","06:15:00","06:40:00","Hojač M.","Dokončeno","Chromková L.","vychystal Hojač",null,"v ceně"]
[44939.25,"pá","2023-01-13",null,"DF","Neubuz","Horza",null,"KS-3","PA",18,2,null,"Kyjov","06:00:00","11:45:00","11:50:00","12:30:00","Hojač M.","Dokončeno","Chromková L.","vychystal Hojač",null,"v ceně"]
[44939.25277777778,"pá","2023-01-13",null,"Aroma","Hrobce","TEZET",null,"mix","PA",16,2,"ne","Kyjov","06:04:00","12:10:00","12:15:00","12:50:00","Hojač M.","Dokončeno","Gajdošová L.","naklaádka 12.1.2023",8500,"v ceně"]
[44939.253472222219,"pá","2023-01-13",null,"Oma CZ","Černá Hora","TEZET",null,"KE-25","PA",30,4,"ne","Kyjov","06:05:00","06:05:00","06:10:00","06:35:00","Kubáček M.","Dokončeno","Chromková L.",null,4160,"přefa. 4200,- Kč fa 23010594"]
[44939.253472222219,"pá","2023-01-13",null,"AV Auto","Vlkoš","Tezet",null,"KE-25","PA",1,1,"ano","Vlkoš","06:05:00","12:00:00","12:10:00","12:30:00","Doupovec R.","Dokončeno","Chromková L."]
[44939.28125,"pá","2023-01-13",null,"TRUMF","Dolní Újezd","vlastní",null,"KE-20","PA",3,1,"ano","Kyjov","06:45:00","06:20:00","06:30:00","06:45:00","Havránek M.","Dokončeno","Chromková L."]
[44939.298611111109,"pá","2023-01-13",null,"Birgma","Halmstadt","vlastní",null,"KPHM","PA",66,3,"ne","Kyjov","07:10:00","14:00:00","14:00:00","15:00:00","Průša M.","Dokončeno","Kollerová D.","vychystano 7:50-8:40  "]
[44939.416666666664,"pá","2023-01-13",null,"T-Net","Hungary","MSB","M05","WTB","PA",19,2,"ne","Kyjov","10:00:00","06:05:00","06:10:00","07:55:00","Doupovec R.","Dokončeno","Gajdošová L."]
[44939.5,"pá","2023-01-13",null,"PK Group","Dubňany","vlastní",null,"SOT-220","PA",10,2,"ne","Kyjov","12:00:00","12:10:00","12:10:00","12:25:00","Havránek M.","Dokončeno","Chromková L."]
[44939.541666666664,"pá","2023-01-13","příjem","T-NET","Kyjov","T-NET",null,"Materiál ","PA","8 až 10",2,"ne","Kyjov","13:00:00","06:05:00","06:10:00","06:30:00","Havránek M.","Dokončeno","Hochman L.","přijede buď 12. nebo 13.1. - bude upřesněno"]
[44940,"pá","2023-01-13",null,"Filmer","Varel",null,null,"KPHM","PA",66,4,"ne","Kyjov",null,"10:40:00","10:40:00","11:45:00","Průša M.","Dokončeno","Kollerová D.","vychystano 6:20 -7:40",null,"v ceně"]
[44940,"pá","2023-01-13",null,"T-NET","Eloyes","Legarde",null,"Zeus","PA",9,1,"ne","Kyjov",null,"13:15:00","13:20:00","13:45:00","Havránek M.","Dokončeno","Gajdošová L.","vychystal Havránek"]
[44940,"pá","2023-01-13",null,"Tremalin","Holandsko","Wereldo.com",null,"uzávěry","PA",3,2,"ne","Kyjov",null,"09:30:00","09:35:00","09:45:00","Kubáček M.","Dokončeno","Gajdošová L.","vychystal Kubáček"]
[44940,"pá","2023-01-13",null,"BS Vinařské","Velké Bílovice","vlastní",null,"mix","PA",3,2,"ano","Kyjov",null,"09:40:00","09:45:00","10:00:00","Svoboda L.","Dokončeno","Chromková L.","Uzávěry Havránek"]
[44940,"pá","2023-01-13",null,"Toptrans",null,"SBS",null,"mix","PA",7,1,"ne","Kyjov",null,null,null,"12:45:00","Svoboda L.","Dokončeno","Gajdošová L.","vychystal Svoboda"]
[44942.25,"po","2023-01-16",null,"DF","Neubuz","Hroza",null,"PHM-10 l","PA",18,2,null,"Kyjov","06:00:00","11:55:00","12:00:00","12:15:00","Hojač M.","Dokončeno","Chromková L.",null,null,"v ceně"]
[44942.253472222219,"po","2023-01-16",null,"Pěkný Unimex","Humpolec","TEZET",null,"LUH-1","PA",18,2,"ani","Rakvice","06:05:00","06:05:00","06:10:00","06:25:00","Kubáček M.","Dokončeno","Chromková L.","vychystal Kubáček",4750,"v ceně"]
[44942.253472222219,"po","2023-01-16",null,"Bochemie","Bohuín","TEZET",null,"mix","PA",16,3,"ano","Kyjov/Vlkoš","06:05:00","11:10:00","11:15:00","12:10:00","Doupovec R.","Dokončeno","Chromková L.","nakádka na 13.1.2023",5500,"v ceně"]
[44942.333333333336,"po","2023-01-16",null,"Garsys","Karviná","vlastní",null,"Filt. Nádoba 30L","PA",15,2,"ne","Kyjov","08:00:00","07:57:00","08:15:00","08:40:00","Svoboda L.","Dokončeno","Hochman L."]
[44942.416666666664,"po","2023-01-16",null,"TBA","havl.Brod","vlastní",null,"mix","PA",17,3,"ne","Kyjov","10:00:00","12:30:00","12:35:00","12:50:00","Havránek M.","Dokončeno","Chromková L.","vychystal Havránek"]
[44942.479166666664,"po","2023-01-16",null,"Avena","Bzenec","vlasstní",null,"SHD-50","PA",5,1,"ano","Kyjov","11:30:00","12:00:00","12:05:00","12:15:00","Kubáček M.","Dokončeno","Chromková L.","uzávěry Doupovec"]
[44942.520833333336,"po","2023-01-16",null,"Toptrans",null,"SBS",null,"mix","PA",9,1,null,"Kyjov","12:30:00","12:35:00","12:40:00","12:45:00","Kubáček M.","Dokončeno","Gajdošová L.","vychystal Kubáček"]
[44942.541666666664,"po","2023-01-16",null,"M.A.T.","Plzeň","vlastní ",null,"mix","PA",18,5,"ne","Kyjov","13:00:00","12:55:00","13:05:00","13:35:00","Svoboda L.","Dokončeno","Chromková L."]
[44942.5625,"po","2023-01-16","příjem","BELSHINA","Kyjov","vlastní",null,"prázdné palety","PA",36,2,"ne","Kyjov","13:30:00","08:10:00","08:30:00","09:25:00","Doupovec R.","Dokončeno","Bilíček P."]
[44943,"po","2023-01-16",null,"Faurecie MB","Mladá Boleslav","vlastní",null,"Defender +SE","PA",99,5,"ano","Kyjov",null,"11:15:00","11:20:00","11:50:00","Havránek M.","Dokončeno","Gajdošová L.","vychystal Kubáček"]
[44943,"po","2023-01-16",null,"T-Net","Eloyes","MSB","M09","Zeus","PA",38,3,"ne","Kyjov",null,"06:00:00","06:30:00","07:30:00","Doupovec R.","Dokončeno","Gajdošová L."]
[44943,"po","2023-01-16",null,"PMB industris","Pazardzhik BE","SBS",null,"granulát","PA",1,1,"ne","Kyjov",null,"06:10:00","06:15:00","06:25:00","Havránek M.","Dokončeno","Chromková L."]
[{"$f":"IF(C132=\"\",\"\",IF(O132=\"\",C132+1,C132+O132))","v":44943},{"$f":"IF(C132=\"\",\"\",+TEXT(C132,\"ddD\"))","v":"po"},"2023-01-16",null,"Synthesia","Pardubice","SBS",null,"barva modráRA","PA",1,1,"ne","Kyjov",null,"06:50:00","06:55:00","07:00:00","Hojač M.","Dokončeno","Chromková L."]
[44943,"po","2023-01-16","příjem","Alter","Hradec Králové","vlastní",null,"palety","PA",119,1,"ne","Kyjov",null,"07:20:00","07:25:00","07:45:00","Havránek M.","Dokončeno","Chromková L."]
[44943.25,"út","2023-01-17",null,"Filmer","Melle","JF LOG",null,"KPHM 10","PA",66,4,"ne","Kyjov","06:00:00","06:00:00","06:20:00","07:40:00","Doupovec R.","Dokončeno","Kollerová D.","Doupovec",27900,"v ceně"]
[44943.25,"út","2023-01-17",null,"DF","Neubuz","Hroza",null,"kphm-mix","PA",18,2,null,"Kyjov","06:00:00","12:15:00","12:20:00","12:50:00","Hojač M.","Dokončeno","Chromková L.","nakádka 16.1.2023",null,"v ceně"]
[44943.253472222219,"út","2023-01-17",null,"Cheport","Vizovice","TEZET",null,"mix","PA",30,3,"ne","Kyjov","06:05:00","11:45:00","11:50:00","12:25:00","Hojač M.","Dokončeno","Chromková L.","nakládka 16.1.2023/+svoboda L.",4100,"v ceně"]
[44943.270833333336,"út","2023-01-17",null,"Antolin","Libáň","vlastní",null,"SEAT","PA",42,3,"ne","Kyjov","06:30:00","10:10:00","10:15:00","11:00:00","Hojač M.","Dokončeno","Chromková L."]
[44943.291666666664,"út","2023-01-17","příjem","syncreon Slovakia","Nitra","vlastní",null,"GEFCO Box","PA",32,2,"ne","Kyjov","07:00:00","07:00:00","07:05:00","07:20:00","Havránek M.","Dokončeno","Chromková L."]
[44943.333333333336,"út","2023-01-17",null,"T-Net","NY","kontejner",null,"mix","PA",21,4,"ne","Kyjov","08:00:00","08:10:00","08:15:00","10:25:00","Doupovec R.","Dokončeno","Gajdošová L.","Havránek "]
[44943.375,"út","2023-01-17",null,"Blaser","Troubsko","vlastní",null,"mix","PA",3,1,"ano","Kyjov","09:00:00","12:05:00","12:10:00","12:20:00","Hojač M.","Dokončeno","Gajdošová L.","vychystal Svoboda"]
[44943.420138888891,"út","2023-01-17",null,"TBA","Havl.Brod","vlastní",null,"kosh-50","PA",10,2,"ne","Kyjov","10:05:00","10:30:00","10:35:00","10:45:00","Havránek M.","Dokončeno","Chromková L.","pro VDP,vychystal Svooboda"]
[44943.4375,"út","2023-01-17",null,"TREF","Znojmo","vlastní",null,"mix","PA",7,2,"ne","Kyjov","10:30:00","11:55:00","12:00:00","12:15:00","Havránek M.","Dokončeno","Chromková L.","výpomoc Svoboda"]
[44943.458333333336,"út","2023-01-17","příjem","Greiner","Slušovice","TEZET",null,"mix","PA",null,3,"ne","Kyjov","11:00:00","11:15:00","11:20:00","12:00:00",null,"Dokončeno","Chromková L.","údržba skládal Jiří Kouřil údržba",4200]
[44943.479166666664,"út","2023-01-17",null,"PK Group","Čáslav","Augustin Hložek",null,"KOSH-50","PA",16,2,"ano","Kyjov","11:30:00","11:35:00","11:40:00","12:15:00","Hojač M.","Dokončeno","Chromková L."]
[44943.5,"út","2023-01-17",null,"Kopeček","Dubňany","vlastní",null,"KOSH-30","PA",2,1,"ano","Kyjov","12:00:00","09:30:00","09:35:00","09:50:00","Svoboda L.","Dokončeno","Gajdošová L.","porucha auta, odloženo nakládka bude upřesněna"]
[44943.510416666664,"út","2023-01-17",null,"Antolin","Libáň","vlastní",null,"SEAT/YETI","PA",6,3,"ano","Kyjov","12:15:00","12:20:00","12:25:00","13:20:00","Doupovec R.","Dokončeno","Chromková L.","dokládka zbytku dílů z původní nakl."]
[44944,"út","2023-01-17",null,"Faurecie","Pardubice","vlastní",null,"F40","PA",37,2,"ne","Kyjov",null,"10:45:00","10:50:00","11:10:00","Kubáček M.","Dokončeno","Gajdošová L.","vychystal:Kubáček"]
[44944,"út","2023-01-17",null,"Faurecie MB","Mladá Boleslav","vlastní",null,"Defender +SE","PA",99,5,"ano","Kyjov",null,"15:00:00","15:05:00","15:45:00","Antoš J.","Dokončeno","Gajdošová L.","vychystal:Kubáček"]
[44944,"út","2023-01-17",null,"Toptrans",null,"SBS",null,"mix","PA",9,2,"ne","Kyjov",null,"12:30:00","12:35:00","12:45:00","Svoboda L.","Dokončeno","Gajdošová L.","vychystal Havránek"]
[44944,"út","2023-01-17",null,"PK Group ","Dubňany","vlastní",null,"SOT-220",2,null,1,"ano","Kyjov",null,"13:30:00","13:30:00","13:45:00","Havránek M.","Dokončeno","Gajdošová L."]
[44944,"út","2023-01-17","příjem","Tichelmann",null,"vlastní",null,"Folie průtažná","PA",3,1,"ne","Kyjov",null,"14:00:00","14:05:00","14:20:00","Svoboda L.","Dokončeno","Pomichálek J."]
[44944.25,"st","2023-01-18",null,"DF","Neubuz","Hroza",null,"PHM-mix","PA",18,2,null,"Kyjov","06:00:00","10:30:00","10:35:00","11:00:00","Svoboda L.","Dokončeno","Chromková L.","vychystal Hojač nakládka 17.1.2023",null,"v ceně"]
[44944.25277777778,"st","2023-01-18",null,"LB Cemix","Čebín","TEZET",null,"KE-10+KSE-5","PA",30,3,"ne","Kyjov","06:04:00","04:00:00","04:10:00","04:30:00","Průša J.","Dokončeno","Gajdošová L.","vychystal Hojač nakádka 17.1.2023",4500,"v ceně"]
[44944.253472222219,"st","2023-01-18",null,"Mmcité","Hroznová Lhota","TEZET",null,"koše","PA",24,3,"ne","Kyjov","06:05:00","09:10:00","09:15:00","09:58:00","Hojač M.","Dokončeno","Chromková L.","vychystal Hojač",3500,"přefakturace 4100,- kč/600 čekačka 12/22"]
[44944.291666666664,"st","2023-01-18","příjem","Faurecie","Pardubice","vlastní",null,"boxy","PA",26,2,null,"Kyjov","07:00:00","07:15:00","07:20:00","07:30:00","Kubáček M.","Dokončeno","Chromková L."]
[44944.333333333336,"st","2023-01-18",null,"D.I.Chem","Šternberk","vlastní TT",null,"mix","PA",33,3,"ne","Kyjov","08:00:00","09:20:00","09:45:00","10:50:00","Havránek M.","Dokončeno","Gajdošová L.","uzávěry Svoboda,vzorky Kubáček"]
[44944.354166666664,"st","2023-01-18",null,"Filmer","Melle","JF LOG",null,"KPHM-5","PA",66,4,null,"Kyjov","08:30:00","06:10:00","06:20:00","07:40:00","Havránek M.","Dokončeno","Kollerová D.",null,17800,"v ceně"]
[44944.375,"st","2023-01-18",null,"Stachema ","Mělník","vlastní",null,"SHD-40 ","PA",12,2,"ne","Kyjov","09:00:00","07:55:00","08:00:00","08:26:00","Svoboda L.","Dokončeno","Chromková L."]
[44944.395833333336,"st","2023-01-18",null,"OZAS-ESAB","Opole","Scheker",null,"Esab NDK","KA",6,2,"ne","Kyjov","09:30:00","09:20:00","09:25:00","09:29:00","Svoboda L.","Dokončeno","Gajdošová L.","vychystal Svoboda"]
[44944.4375,"st","2023-01-18",null,"TBA","Havl.Brod","vlastní",null,"mix","PA",10,2,"ano","Kyjov","10:30:00","10:00:00","10:05:00","10:30:00","Průša M.","Dokončeno","Chromková L.","vychystal Doupoevec"]
[44944.4375,"st","2023-01-18",null,"TBA","Havl.Brod","vlastní",null,"SOT-120","PA",16,3,"ne","Kyjov","10:30:00","12:55:00","13:07:00","13:31:00","Průša M.","Dokončeno","Chromková L.","vychystal Kubaček ložil Svoboda"]
[44944.458333333336,"st","2023-01-18",null,"JPSK","Prievidza SK","Legarde",null,"mix","PA",33,3,"ne","Kyjov","11:00:00","10:30:00","10:35:00","13:30:00","Doupovec R.","Dokončeno","Chromková L.","uzávěry Svoboda"]
[44944.458333333336,"st","2023-01-18","příjem","JPSK","Prievidza SK","Legarde",null,"mix","PA",12,3,"ne","Kyjov","11:00:00","10:30:00","10:35:00","13:30:00","Doupovec R.","Dokončeno","Chromková L."]
[44944.524305555555,"st","2023-01-18",null,"PK Group","Dubňany","vlastní",null,"SOT-220","PA",4,1,"ne","Kyjov","12:35:00","12:35:00","12:40:00","13:00:00","Průša M.","Dokončeno","Chromková L."]
[44945,"st","2023-01-18",null,"Walser","Gallin","vlastní",null,"KPHM","PA",32,null,null,"Kyjov",null,null,null,null,null,"Přeplánováno","Kollerová D."]
[44945,"st","2023-01-18",null,"Faurecie MB","Mladá Boleslav","vlastní",null,"Defender +SE","PA",99,5,"ano","Kyjov",null,"12:00:00","12:10:00","13:00:00","Průša M.","Dokončeno","Gajdošová L.","vychystal Průša"]
[44945,"st","2023-01-18",null,"Toptrans",null,"SBS",null,"mix","PA",6,1,"ne","Kyjov",null,null,null,null,"Doupovec R.","Dokončeno","Gajdošová L.","vychystal Doupovec"]
[44945.25,"čt","2023-01-19",null,"DF","Neubuz","Hroza",null,"KWT","PA",18,null,null,"Kyjov","06:00:00",null,null,null,null,"Zrušeno","Chromková L.","nejsou KWT komplety ",null,"v ceně"]
[44945.253472222219,"čt","2023-01-19",null,"Cheport","Vizovice","TEZET",null,"mix","PA",30,2,"ne","Kyjov","06:05:00","12:35:00","12:40:00","13:00:00","Svoboda L.","Dokončeno","Chromková L.","vychystal Hojač NAKLÁDKA18.1.2023",4100,"v ceně"]
[44945.253472222219,"čt","2023-01-19",null,"Alter","Hradec Králové","TEZET",null,"mix","PA",30,2,"ne","Kyjov","06:05:00","13:30:00","13:40:00","14:06:00","Průša M.","Dokončeno","Chromková L.","vychystal Hojač nakládka 18.1.2023",7500,"v ceně"]
[44945.253472222219,"čt","2023-01-19",null,"Vypl","Rakvice","TEZET",null,"barva ","PY",1,1,"ne","Kyjov","06:05:00","13:30:00","13:40:00","14:00:00","Průša M.","Dokončeno","Chromková L.","vychystal Kubáček nakládka  18.1.2023"]
[44945.253472222219,"čt","2023-01-19","příjem","VYPL","Rakvice","TEZET",null,"mix","PA",33,3,"ne","Kyjov","06:05:00","12:30:00","12:40:00","14:10:00","Kubáček M.","Dokončeno","Chromková L.","L-027-23 fa232000031",3500]
[44945.253472222219,"čt","2023-01-19",null,"Via-Rek","Rájec-Jestřebí","Hroza",null,"SDH40+50","PA",24,3,"ano","Kyjov","06:05:00","10:20:00","10:26:00","10:55:00","Hojač M.","Dokončeno","Chromková L.","vychystal Hojač nakládka na 19.1.2023",4200,"v ceně"]
[44945.270833333336,"čt","2023-01-19",null,"Antolin","Libáň","vlastní",null,"YETI","PA",42,3,"ano","Kyjov","06:30:00","06:05:00","06:15:00","07:15:00","Havránek M.","Dokončeno","Chromková L."]
[44945.291666666664,"čt","2023-01-19",null,"Bartosz Ratuski","Grodzisk Mazowiecki","vlastní","Wci 13975/wci yp40","KE-10 mod./nat.","PA",33,3,"ne","Kyjov","07:00:00","13:30:00","13:35:00","14:30:00","Průša M.","Dokončeno","Chromková L."]
[44945.357638888891,"čt","2023-01-19","příjem","Belshima","Piešťany","vlastní",null,"palety","PA",544,5,"ne","Kyjov","08:35:00","08:30:00","08:40:00","09:40:00","Hojač M.","Dokončeno","Chromková L."]
[44945.395833333336,"čt","2023-01-19",null,"Model Obaly","Kyjov","vlastní",null,"kartony","Pa",12,2,"ne","Opava","09:30:00","09:00:00","09:10:00","09:35:00","Průša M.","Dokončeno","Bilíček P.","12 palet"]
[44945.4375,"čt","2023-01-19",null,"TBA","Havl.Brod","vlastní","Vašák st.","SOT-220","PA",18,3,null,"Kyjov","10:30:00","13:10:00","13:15:00","14:00:00","Svoboda L.","Dokončeno","Chromková L.","vychystal Doupovec,Svoboda"]
[44945.4375,"čt","2023-01-19",null,"TBA","Havl.Brod","vlastní","Vašák ml.","mix","PA",10,3,null,"Kyjov","10:30:00","10:15:00","10:20:00","10:30:00","Havránek M.","Dokončeno","Chromková L.","vychystal Havránek"]
[44945.4375,"čt","2023-01-19",null,"TBA","Havl.Brod","vlastní","Mazuch","SOT120+KOSH-50","PA",10,2,null,"Kyjov","10:30:00","10:30:00","10:34:00","11:05:00","Svoboda L.","Dokončeno","Chromková L.","vychystal Svoboda"]
[44945.479166666664,"čt","2023-01-19",null,"Filmer","Halbe","Ewals",null,"KPHM-10","PA",66,4,"ano","Kyjov","11:30:00","11:25:00",11263.479166666666,"12:40:00","Doupovec R.","Dokončeno","Kollerová D.","vychystal Doupovec",17800,"v ceně"]
[44945.479166666664,"čt","2023-01-19",null,"Sedasport","Myjava","vlastní",null,"sedáky","PA",null,4,null,"Kyjov","11:30:00","10:15:00","10:20:00","12:20:00","Kubáček M.","Dokončeno","Chromková L.","exp. 3. KT2023 načítal:Svoboda"]
[44945.5,"čt","2023-01-19",null,"Novato","Skalica SK","Toptrans-vlastní",null,"SDH-40","PA",1,1,"ne","Kyjov","12:00:00",null,null,"13:00:00","Hojač M.","Dokončeno","Chromková L.","vychystal Hojač"]
[44945.552083333336,"čt","2023-01-19",null,"PK Group","Dubňany","vlastní",null,"SOT 220",null,null,3,null,"Kyjov","13:15:00","13:15:00","13:25:00","14:15:00","Hojač M.","Dokončeno","Chromková L.","Svoboda, Doupovec"]
[44946,"čt","2023-01-19",null,"Faurecie MB","Mladá Boleslav","vlastní",null,"Defender +SE","PA",99,5,"ano","Kyjov",null,"11:00:00","11:30:00","12:03:00","Průša M.","Dokončeno","Gajdošová L.","vychystal Průša"]
[44946,"čt","2023-01-19","příjem","T-Net","Eloyes","MSB",null,"palety","PA",306,3,null,"Kyjov",null,"07:00:00","07:05:00","08:00:00","Hojač M.","Dokončeno","Gajdošová L."]
[44946,"čt","2023-01-19",null,"Toptrans",null,"SBS",null,"mix","PA",3,1,"ne","Kyjov",null,null,null,"13:00:00","Hojač M.","Dokončeno","Gajdošová L.","vychystal Hojač"]
[44946,"čt","2023-01-19","příjem","GEFCO",null,"vlastní",null,"boxy Gefco","PA",32,1,null,"Kyjov",null,"13:45:00","13:45:00","14:00:00","Doupovec R.","Dokončeno","Gajdošová L."]
[44946.253472222219,"pá","2023-01-20",null,"Atotech","Jablonec n.N.","TEZET",null,"mix","PA",16,3,"ne","Kyjov","06:05:00","12:30:00","12:35:00","13:00:00","Kubáček M.","Dokončeno","Chromková L.","vychystal:Kubáček",9000,"v ceně"]
[44946.270833333336,"pá","2023-01-20",null,"OZAS-ESAB","Opole","Scheker",null,"Water tank","KA",3,1,"ne","Kyjov","06:30:00","10:00:00","10:05:00","10:10:00","Průša M.","Dokončeno","Gajdošová L.","vychystal Průša M."]
[44946.322916666664,"pá","2023-01-20","příjem","Milan Michalec","Rokytnice","vlastní",null,"náústky","PA",1,2,"ne","Kyjov","07:45:00","07:45:00","07:50:00","08:10:00","Svoboda L.","Dokončeno","Chromková L."]
[44946.333333333336,"pá","2023-01-20",null,"T-Net","Eloyes","Legarde",null,"Degas","PA",11,1,"ne","Kyjov","08:00:00","12:30:00","12:40:00","13:00:00","Doupovec R.","Dokončeno","Gajdošová L.","vychystal doupovec"]
[44946.416666666664,"pá","2023-01-20",null,"KOVA","Erfurt","Joppa",null,"KPHM-20","PA",38,3,"ano","Kyjov","10:00:00","06:55:00","07:00:00","08:10:00","Hojač M.","Dokončeno","Kollerová D.","L-019-23",27000,"přeúčtovat"]
[44946.458333333336,"pá","2023-01-20",null,"TBA","Havl.Brod","vlastní","p.Špiňar","mix","PA",15,2,"ano","Kyjov","11:00:00","10:15:00","10:20:00","10:55:00","Havránek M.","Dokončeno","Chromková L.","Vychystal Havránek"]
[44946.541666666664,"pá","2023-01-20","příjem","M.A.T.","Plzeň","AK Servis",null,"palety","PA",null,2,null,"Kyjov","13:00:00","13:40:00","13:45:00","14:00:00","Svoboda L.","Dokončeno","Chromková L.","vratka palet eur "]
[{"$f":"IF(C196=\"\",\"\",IF(O196=\"\",C196+1,C196+O196))","v":44946.5625},{"$f":"IF(C196=\"\",\"\",+TEXT(C196,\"ddD\"))","v":"pá"},"2023-01-20",null,"Těsmat","Zubří","vlastní",null,"mix","PA",3,2,"ano","Kyjov","13:30:00","13:00:00","13:05:00","13:30:00","Svoboda L.","Dokončeno","Chromková L."]
[44947,"pá","2023-01-20",null,"Faurecie BOB","Boblingen","FEDEX",null,"Luftkanal","KA",1,2,"ne","Vlkoš",null,null,null,"11:00:00","Doupovec R.","Dokončeno","Gajdošová L.","vychystal Doupovec"]
[44947,"pá","2023-01-20",null,"T-Net","Eloyes","MSB","M10","mix","PA",76,4,"ne","Kyjov+Vlkoš",null,"06:30:00","06:30:00","09:00:00","Kubáček M.","Dokončeno","Gajdošová L.","Expedoval:Doupovec(V) a Kubáček(K)"]
[44947,"pá","2023-01-20","příjem","T-Net",null,"vlastní",null,"těsnění Zeus","PA",2,1,"ne","Kyjov",null,"13:00:00","13:05:00","13:15:00","Kubáček M.","Dokončeno","Gajdošová L."]
[44949.25,"po","2023-01-23",null,"DF","Neubuz","Hroza",null,"PHM-mix","PA",18,2,null,"Kyjov","06:00:00","07:05:00","07:10:00","07:30:00","Hojač M.","Dokončeno","Chromková L."]
[44949.253472222219,"po","2023-01-23",null,"Cheport","Vizovice","TEZET",null,"mix","PA",30,3,"ne","Kyjov","06:05:00","12:15:00","12:20:00","13:00:00","Hojač M.","Dokončeno","Chromková L.","naloženo 19.1.2023",null,"v ceně"]
[44949.253472222219,"po","2023-01-23","příjem","DF","Neubuz","SBS",null,"etikety","KA",1,1,"ne","Kyjov","06:05:00","12:00:00","12:10:00","12:25:00","Havránek M.","Dokončeno","Chromková L.","složil řidič z PPL"]
[44949.256944444445,"po","2023-01-23",null,"GLS","Kyjov","SBS",null,"mix","KA",3,1,"ne","Kyjov","06:10:00",null,null,"13:30:00","Kubáček M.","Dokončeno","Chromková L.","vychystal Kubáček, naložil řidič GLS"]
[44949.315972222219,"po","2023-01-23","příjem","Karel Turek","Dolní Bojanovice","vlastní",null,"výpustné kohouty","PA",1,1,"ne","Kyjov","07:35:00","07:35:00","07:40:00","08:10:00","Kubáček M.","Dokončeno","Chromková L."]
[44949.333333333336,"po","2023-01-23",null,"Garsys","Karviná","vlastní",null,"Filt. Nádoba 30L","PA",15,3,"ne","Kyjov","08:00:00","08:00:00","08:10:00","08:40:00","Kubáček M.","Dokončeno","Hochman L."]
[44949.333333333336,"po","2023-01-23","příjem","Model Obaly","Kyjov","vlastní",null,"proložky","PA",23,2,"ne","Opava","08:00:00","09:05:00","09:05:00","11:00:00","Průša M.","Dokončeno","Bilíček P.","23 palet"]
[44949.416666666664,"po","2023-01-23",null,"Groshandel","Suhl-Sehmar","Ewals",null,"KPHM-10","PA",38,4,"ne","Kyjov","10:00:00","10:25:00","11:30:00","13:15:00","Průša M.","Dokončeno","Kollerová D.","etikety:Havránek",21500,"v ceně"]
[44949.416666666664,"po","2023-01-23",null,"Saint-gobein","Kyjov","vlastní",null,"LKN-1","PA",2,1,"ne","Kyjov","10:00:00","12:10:00","12:15:00","12:40:00","Havránek M.","Dokončeno","Chromková L."]
[44949.458333333336,"po","2023-01-23",null,"Groshandel","Suhl-Sehmar","Ewals",null,"KPHM-20","PA",38,4,"ne","Kyjov","11:00:00","11:00:00","11:30:00","13:00:00","Kubáček M.","Dokončeno","Kollerová D.","etikety:Havránek"]
[44949.472222222219,"po","2023-01-23",null,"Flexfill","Lovosice","Interkontakt","7P35967","KDF-30","PA",66,3,"ne","Kyjov","11:20:00","10:15:00","10:20:00","11:15:00","Hojač M.","Dokončeno","Chromková L.","L-020-23 fa 7230187",10000,"v ceně"]
[44949.479166666664,"po","2023-01-23",null,"T-Net","Emmerich","MSB","M07","WTB","PA",43,5,"ne","Kyjov","11:30:00","10:00:00","11:30:00","12:15:00","Doupovec R.","Dokončeno","Gajdošová L.","vychystal Kubáček"]
[44949.5,"po","2023-01-23",null,"T-Net","Eloyes","MSB","M11","Zeus","PA",38,2,"ne","Kyjov","12:00:00","13:00:00","13:05:00","13:55:00","Havránek M.","Dokončeno","Gajdošová L.","Vychystal Havránek"]
[44949.5,"po","2023-01-23","příjem","Santal","Třeboň","vlastní",null,"box 114777","PA",12,1,null,"Kyjov","12:00:00","14:00:00","14:00:00","14:20:00","Hojač M.","Dokončeno","Chromková L."]
[44949.5,"po","2023-01-23",null,"Vinařský dům","Dubňany","vlastní","p.Ilčík","LKZ-1","PA",1,1,"ano","Kyjov","12:00:00","12:00:00","12:15:00","12:30:00","Doupovec R.","Dokončeno","Chromková L."]
[44949.506944444445,"po","2023-01-23",null,"Klofáč","Brtniice","vlastní",null,"KE-15","PA",18,2,"ano","Kyjov","12:10:00","09:50:00","10:00:00","11:30:00","Havránek M.","Dokončeno","Chromková L."]
[44949.520833333336,"po","2023-01-23",null,"T-Net","Eloyes","MSB","M13","mix","PA",66,4,"ne","Kyjov+Vlkoš","12:30:00","09:30:00","09:35:00","10:40:00","Doupovec R.","Dokončeno","Gajdošová L."]
[44949.541666666664,"po","2023-01-23",null,"TBA/TEVA","OPAVA","TOPTRANS",null,"KCH-5","PA",1,1,"ne","Kyjov","13:00:00","11:15:00","11:15:00","11:20:00","Hojač M.","Dokončeno","Chromková L.","vychystal:Kubáček"]
[44950,"po","2023-01-23",null,"Faurecie ","Hlohovec","vlastní",null,"VW UP 52x","PA",6,1,"ano","Kyjov",null,"13:30:00","13:40:00","14:10:00","Průša M.","Dokončeno","Gajdošová L.","vychystal Průša M."]
[44950,"po","2023-01-23",null,"Filmer","Halbe","Ewals",null,"KPHM-10","PA",66,4,"ne","Kyjov",null,"13:00:00","13:10:00","14:30:00","Doupovec R.","Dokončeno","Kollerová D.",null,17800,"v ceně"]
[44950.25,"út","2023-01-24",null,"DF","Neubuz","Hroza ",null,"PHM-20","PA",18,2,null,"Kyjov","06:00:00","12:50:00","12:55:00","13:30:00","Hojač M.","Dokončeno","Chromková L.","vychystáno a  naloženo Hojač 23.1.2023 "]
[44950.253472222219,"út","2023-01-24",null,"Spolek pro chem.","Ústí nad Labem","TEZET",null,"SDH-50","PA",16,2,"ne","Kyjov","06:05:00","10:15:00","10:20:00","10:40:00","Hojač M.","Dokončeno","Chromková L.","naloženo 23.1.2023/palety nebyly vráceny dle dohody",9000,"v ceně"]
[44950.253472222219,"út","2023-01-24",null,"Zeelandia","Malšice","TEZET",null,"mix","PA",18,2,"ne","Kyjov","06:05:00","11:20:00","11:50:00","12:55:00","Hojač M.","Dokončeno","Chromková L.",null,null,"v ceně"]
[44950.270833333336,"út","2023-01-24",null,"Antolin","Libáň","vlastní",null,"Seat","PA",42,3,"ano","Kyjov","06:30:00","06:00:00","06:05:00","07:20:00","Havránek M.","Dokončeno","Gajdošová L."]
[44950.270833333336,"út","2023-01-24",null,"Filmer","Melle","JF LOG",null,"KPHM-10","PA",66,4,null,"Kyjov","06:30:00","06:40:00","06:45:00","08:00:00","Kubáček M.","Dokončeno","Kollerová D.",null,27900,"v ceně"]
[44950.354166666664,"út","2023-01-24","příjem","Model Obaly","Kyjov","vlastní",null,"proložky","PA",15,2,"ne","Opava","08:30:00","07:20:00","07:25:00","08:10:00","Doupovec R.","Dokončeno","Bilíček P."]
[44950.416666666664,"út","2023-01-24",null,"Carrier","Mýto","vlastní",null,"roh lemování","PA",1,1,null,"Kyjov","10:00:00","12:00:00","12:05:00","12:10:00","Hojač M.","Dokončeno","Chromková L.","vychystal Doupovec"]
[44950.416666666664,"út","2023-01-24",null,"TBA","Havl.Brod","vlastní",null,"mix","PA",10,3,"ne","Kyjov","10:00:00","13:00:00","13:05:00","13:30:00","Havránek M.","Dokončeno","Chromková L.","Vychystal Havránek"]
[44950.4375,"út","2023-01-24",null,"M.A.T.","Plzeň","AK Servis",null,"mix","PA",17,4,"ne","Kyjov","10:30:00","07:45:00","08:00:00","09:00:00","Hojač M.","Dokončeno","Chromková L.","Uzávěry Havránek"]
[44950.479166666664,"út","2023-01-24",null,"Flexfill","Lovosice","Interkontakt","8B09033","KCH-5","PA",66,3,"ne","Kyjov","11:30:00","08:55:00","08:58:00","10:00:00","Průša M.","Dokončeno","Chromková L.","L-021-23 fa 7230187",10000,"v ceně"]
[44950.5625,"út","2023-01-24",null,"Těsmat","Zubří","vlastní ",null,"SOT120,220","PA",5,2,"ne","Kyjov","13:30:00","12:30:00","12:35:00",null,"Doupovec R.","Dokončeno","Chromková L."]
[44950.583333333336,"út","2023-01-24",null,"Faurecie PCE","Pardubice","vlastní",null,"F40","PA",20,1,"ne","Kyjov","14:00:00","14:00:00","14:05:00","14:30:00","Průša M.","Dokončeno","Gajdošová L.","vychystal Průša  M."]
[44951,"út","2023-01-24",null,"FIlmer","Halbe","Ewals",null,"KPHM-5","PA",66,4,"ne","Kyjov",null,"08:00:00","08:10:00","09:30:00","Kubáček M.","Dokončeno","Kollerová D.",null,27900,"v ceně"]
[44951,"út","2023-01-24",null,"Faurecie MB","Mladá Boleslav","vlastní",null,"Defender + SE310","PA",99,5,"ano","Kyjov",null,"11:00:00","11:20:00","11:50:00","Průša M.","Dokončeno","Gajdošová L.","vychystal Průša M."]
[44951,"út","2023-01-24",null,"Toptrans",null,"SBS",null,"mix","PA+KA","2+8",1,"ne","Kyjov",null,"12:15:00","12:20:00","12:25:00","Doupovec R.","Dokončeno","Gajdošová L.","vychystal Doupovec"]
[44951,"út","2023-01-24",null,"PK Group ","Dubňany","vlastní",null,"SOT-220",null,25,1,"ne","Kyjov",null,"13:15:00","13:20:00","13:40:00","Doupovec R.","Dokončeno","Gajdošová L."]
[44951.25,"st","2023-01-25",null,"DF","Neubuz","Hroza",null,"PHM-20 mix","PA",18,2,"ano","Kyjov","06:00:00","10:15:00","10:20:00",null,"Hojač M.","Dokončeno","Chromková L.","nakládka 24.1.2023"]
[44951.253472222219,"st","2023-01-25",null,"OMA CZ","Černá Hora","TEZET",null,"KE-10+KE-25","PA",30,3,"ne","Kyjov","06:05:00","06:05:00","06:10:00","06:35:00","Hojač M.","Dokončeno","Chromková L.","vychystal Hojač ",null,"přefaktur. 4200,- Kč"]
[44951.253472222219,"st","2023-01-25",null,"Huka stores","Olomouc","TEZET",null,"mix","PA",33,3,"ano","Kyjov","06:05:00","06:05:00","06:10:00","06:30:00","Kubáček M.","Dokončeno","Chromková L.","vychystal:Kubáček",null,"přefaktur. 5200,- Kč fa 23010684"]
[44951.416666666664,"st","2023-01-25",null,"TBA","Havl.Brod","vlastní",null,"mix","PA",10,3,null,"Kyjov","10:00:00","09:25:00","09:30:00","10:00:00","Průša M.","Dokončeno","Chromková L.","Vychystal Havránek"]
[44951.479166666664,"st","2023-01-25","příjem","JPSK","Prievidza SK","Legarde",null,"mix","PA",12,3,"ne","Kyjov","11:30:00","11:30:00","11:40:00","12:50:00","Havránek M.","Dokončeno","Chromková L."]
[44951.479166666664,"st","2023-01-25",null,"JPSK","Prievidza SK","Legarde",null,"mix","PA",30,3,"ne","Kyjov","11:30:00","11:30:00","11:40:00","12:10:00","Kubáček M.","Dokončeno","Chromková L.","vychystal:Kubáček"]
[44951.5,"st","2023-01-25",null,"Faurecie MB","Mladá Boleslav","vlastní",null,"Defender + SE310","PA",99,5,"ano","Kyjov","12:00:00","10:30:00","10:35:00","11:10:00","Průša M.","Dokončeno","Gajdošová L.","vychystal Průša M."]
[44951.520833333336,"st","2023-01-25",null,"Faurecie HLO","Hlohovec","vlastní",null,"VW UP 52x","PA",9,1,"ano","Kyjov","12:30:00","14:05:00","14:05:00","14:21:00","Průša M.","Dokončeno","Gajdošová L.","vychystal Průša M."]
[44952,"st","2023-01-25","příjem","Walser","Kyjov","Schenker",null,"potahy Walser","PA",20,2,"ne","Kyjov",null,"06:05:00","06:10:00","08:30:00","Doupovec R.","Dokončeno","Kollerová D."]
[44952,"st","2023-01-25",null,"Walser","Kyjov","Schenker",null,"Lucva+KPHM","PA",27,3,"ne","Kyjov",null,"06:05:00","06:10:00","08:30:00","Doupovec R.","Dokončeno","Kollerová D."]
[44952,"st","2023-01-25",null,"Toptrans",null,"SBS",null,"KSE-5","PA",3,1,"ne","Kyjov",null,null,null,"12:30:00","Kubáček M.","Dokončeno","Gajdošová L.","vychystal Hojač"]
[44952,"st","2023-01-25",null,"GLS",null,"SBS",null,"KE-5",null,1,1,"ne","Kyjov",null,null,null,"13:30:00","Hojač M.","Dokončeno","Gajdošová L.","vychystal Hojač"]
[44952,"st","2023-01-25","příjem","Pallets of Production",null,"vlastní",null,"palety","PA",75,2,null,"Kyjov",null,"08:30:00","08:35:00","08:50:00","Hojač M.","Dokončeno","Gajdošová L."]
[44952,"st","2023-01-25","příjem","Gefco","Čerčany","vlastní",null,"boxy Gefco","PA",32,1,null,"Kyjov",null,"11:30:00","11:40:00","11:55:00","Průša M.","Dokončeno","Gajdošová L."]
[44952,"st","2023-01-25","příjem","nové EUR pal.",null,"PKGROUP",null,"palety","PA",700,3,null,"Kyjov",null,"14:00:00","14:05:00","15:20:00","Havránek M.","Dokončeno","Gajdošová L.","nákup palet"]
[44952.25,"čt","2023-01-26",null,"DF","Neubuz","Horza",null,"PHM 20AT","PA",18,2,"ano","Kyjov","06:00:00","10:00:00","10:05:00","10:30:00","Hojač M.","Dokončeno","Chromková L.","vychystal Hojač",null,"v ceně"]
[44952.25,"čt","2023-01-26",null,"Luve","Kelčany","Hroza ",null,"mix","PA",16,5,"ne","Kyjov","06:00:00","10:45:00","10:50:00","12:35:00","Hojač M.","Dokončeno","Chromková L.","vychystal Hojač 2x točka do Luve ",null,"v rámci převozu"]
[44952.253472222219,"čt","2023-01-26",null,"Chepot","Vizovice","TEZET",null,"mix","PA",30,3,"ne","Kyjov","06:05:00","11:30:00","11:35:00","12:25:00","Hojač M.","Dokončeno","Chromková L.","vychystal Hojač/nakládka 25.1.2023",null,"v ceně"]
[44952.270833333336,"čt","2023-01-26",null,"Antolin","Libáň","vlastní",null,"Yetty","PA",42,3,"ano","Kyjov","06:30:00","06:00:00","06:05:00","07:05:00","Havránek M.","Dokončeno","Gajdošová L."]
[44952.270833333336,"čt","2023-01-26",null,"Slovakia Trend","Sobrance","vlastní",null,"mix","PA",13,3,"ano","Kyjov","06:30:00","07:00:00","09:45:00","10:15:00","Kubáček M.","Dokončeno","Gajdošová L.","vychystal Kubáček"]
[44952.416666666664,"čt","2023-01-26",null,"Carrier-Maurice","Štěnovice","vlastní",null,"sifon","KA",3,1,"ne","Kyjov","10:00:00",null,null,"13:00:00","Hojač M.","Dokončeno","Chromková L.","vychystal:Kubáček"]
[44952.416666666664,"čt","2023-01-26",null,"Beskydská Likérka  vlastní ","Staré Město",null,null,"LUH-1,2","PA",3,1,"ano","Kyjov","10:00:00","10:35:00","10:40:00","10:55:00","Průša M.","Dokončeno","Chromková L.","vychystal:Kubáček"]
[44952.416666666664,"čt","2023-01-26",null,"Průmyslová Keramika","Rájec Jestřebí","vlastní",null,"KE-15","PA",8,2,"ano","Kyjov","10:00:00","08:20:00","08:23:00","08:55:00","Průša M.","Dokončeno","Chromková L.","vychystal Průša M. nakládka 26.1.2023"]
[44952.458333333336,"čt","2023-01-26","příjem","Bericap","DE","SBS",null,"uzávěry SK38/23","PA",1,1,"ne","Kyjov","11:00:00","07:00:00","07:05:00","07:20:00","Havránek M.","Dokončeno","Chromková L."]
[{"$f":"IF(C260=\"\",\"\",IF(O260=\"\",C260+1,C260+O260))","v":44952.458333333336},{"$f":"IF(C260=\"\",\"\",+TEXT(C260,\"ddD\"))","v":"čt"},"2023-01-26",null,"Stachema","Slaný","vlastní ",null,"LKN-1","PA",8,2,"ne","Kyjov","11:00:00","07:35:00","07:50:00","08:15:00","Kubáček M.","Dokončeno","Chromková L.","Uzávěry Havránek"]
[44952.479166666664,"čt","2023-01-26",null,"Sedasport","Myjava SK","vlastní",null,"Sedáky","PA",33,4,null,"Kyjov","11:30:00","09:55:00","10:05:00","11:55:00","Havránek M.","Dokončeno","Chromková L."]
[44952.479166666664,"čt","2023-01-26",null,"Flexfill","Lovosice","Interkontakt",null,"KDF-30","PA",66,3,"ne","Vlkoš+Kyjov","11:30:00","09:05:00","09:05:00","10:05:00","Průša M.","Dokončeno","Chromková L.","vychystal Průša M. L-022-23 fa 007230195",10000,"v ceně"]
[44953,"čt","2023-01-26",null,"Faurecie MB","Mladá Boleslav","vlastní",null,"Defender + SE310","PA",99,5,"ano","Kyjov",null,"11:00:00","11:30:00","12:30:00","Průša M.","Dokončeno","Gajdošová L.","vychystal Průša M."]
[44953,"čt","2023-01-26",null,"T-Net","Eloyes","MSB","M12","mix","PA",66,3,"ne","Kyjov+Vlkoš",null,"07:00:00","07:05:00","08:20:00","Doupovec R.","Dokončeno","Gajdošová L."]
[44953,"čt","2023-01-26",null,"Toptrans",null,"SBS",null,"KE-20","PA",6,1,"ne","Kyjov",null,null,null,"13:00:00","Hojač M.","Dokončeno","Gajdošová L.","vychystal:Kubáček"]
[44953,"čt","2023-01-26","příjem","Orion OK",null,"vlastní",null,"hadry","PA",2,1,null,"Kyjov",null,"10:00:00","10:05:00","10:30:00","Průša M.","Dokončeno","Gajdošová L."]
[44953.25,"pá","2023-01-27",null,"Metrum","Přerov","Hroza",null,"mix","PA",16,2,"ne","Kyjov","06:00:00","13:15:00","13:20:00","13:45:00","Hojač M.","Dokončeno","Chromková L.","vychystal Hojač nakl. 26.1.2023",null,"v ceně"]
[44953.25,"pá","2023-01-27","převozy","převozy","Vlkoš/Kyjov","TEZET",null,"KE-15,KDF-30",null,237,2,null,"Kyjov/Vlkoš","06:00:00","06:00:00","06:30:00","14:00:00","Kubáček M.","Dokončeno",null,"plus nakládka Cormen a Antoš ve Vlkoši"]
[44953.253472222219,"pá","2023-01-27",null,"OMA CZ","Kolín","TEZET","Kobzík","mix","PA",30,4,"ne","Kyjov","06:05:00","10:15:00","10:20:00","11:00:00","Kubáček M.","Dokončeno","Chromková L.",null,null,"přefaktur. 8200,- Kč /23010701"]
[44953.253472222219,"pá","2023-01-27",null,"Elagro","Sazomín","TEZET","Chmelař","mix","PA",14,3,"ano","Kyjov/Vlkoš","06:05:00","11:10:00","11:15:00","12:35:00","Doupovec R.","Dokončeno","Chromková L.","vychystal  Doupovec, nakl.26.1.2023",null,"přefakt .4800,- kč fa 23010704"]
[44953.291666666664,"pá","2023-01-27","příjem","T-Net",null,"vlastní",null,"těsnění Zeus","PA",2,1,null,"Kyjov","07:00:00","07:17:00","07:20:00","07:30:00","Průša M.","Dokončeno","Chromková L."]
[44953.395833333336,"pá","2023-01-27",null,"Chemprogres","Staré Město","vlastní",null,"KE-20","PA",4,2,"ano","Kyjov","09:30:00","07:30:00","07:40:00","08:00:00","Průša M.","Dokončeno","Chromková L.","vychystal Průša M."]
[44953.416666666664,"pá","2023-01-27",null,"Avena","Bzenec","vlastní",null,"uzávěry","KA",2,1,"ne","Kyjov","10:00:00","13:00:00","13:05:00","13:15:00","Průša M.","Dokončeno","Chromková L.","vychystal Kubáček"]
[44953.416666666664,"pá","2023-01-27",null,"TBA","Havl.Brod","vlastní","Vašák ml.","mix","PA",10,2,"ne","Kyjov","10:00:00","12:09:00","12:10:00","12:25:00","Havránek M.","Dokončeno","Chromková L.","vychystal Havránek"]
[44953.5,"pá","2023-01-27",null,"TRUMF","Dolní Újezd","vlastní","p.Holeček","KSE-5","PA",14,3,"ano","Kyjov","12:00:00","09:45:00","09:50:00","10:15:00","Havránek M.","Dokončeno","Chromková L.","vychystal Kubáček"]
[44954,"pá","2023-01-27",null,"T-Net","Eloyes","Legarde",null,"Maple","PA",15,1,"ne","Vlkoš",null,"12:30:00","12:35:00","13:30:00","Hojač M.","Dokončeno","Gajdošová L.","vychystal Doupovec"]
[44954,"pá","2023-01-27",null,"Kopeček","Dubňany","vlastní","Ilčík","KE-20","PA",1,1,"ne","Kyjov",null,"10:05:00","10:05:00","10:20:00","Průša M.","Dokončeno","Gajdošová L."]
[44956.25,"po","2023-01-30",null,"Agrimex","Třebíč","Hroza",null,"KE-25","PA",16,2,"ano","Kyjov","06:00:00","12:50:00","12:55:00","13:30:00","Hojač M.","Dokončeno","Chromková L.","vychystal Hojač",null,"v ceně"]
[44956.253472222219,"po","2023-01-30",null,"Cormen","Bystřice n.P.","TEZET",null,"KE-20","PA",32,2,"ne","kyjov","06:05:00","13:30:00","13:45:00","14:15:00","Kubáček M.","Dokončeno","Chromková L.","VYCHYSTAL:Hojač,Kubáček",null,"v ceně"]
[44956.253472222219,"po","2023-01-30",null,"Cheport","Vizovice","TEZET",null,"mix","PA",30,3,"ne","Kyjov","06:05:00","06:00:00","06:10:00","06:40:00","Kubáček M.","Dokončeno","Chromková L.","vychystal Kubáček",null,"v ceně"]
[44956.260416666664,"po","2023-01-30",null,"VYPL","Rakvice","naše Pulpán",null,"Liten+barva","PA",1,2,"ne","Kyjov","06:15:00","08:00:00","08:01:00","08:02:00","Havránek M.","Dokončeno","Chromková L.","Vychystal Havránek"]
[44956.333333333336,"po","2023-01-30",null,"Filmer","Budenheim","Ewals",null,"KPHM-20","PA",66,3,"ne","Kyjov  ","08:00:00","10:30:00","10:35:00","11:35:00","Doupovec R.","Dokončeno","Kollerová D.","L-032-23",null,"v ceně"]
[44956.4375,"po","2023-01-30",null,"TBA","Havl.Brod","vlastní","Špiňar","mix","PA",9,3,null,"Kyjov","10:30:00","11:00:00","11:20:00","12:05:00","Havránek M.","Dokončeno","Chromková L.","Vychystal Havránek"]
[44956.4375,"po","2023-01-30",null,"PK group","vlastní","Bohumín",null,"KOSH","PA",27,3,"ano","Kyjov","10:30:00","10:30:00","10:45:00","11:15:00","Kubáček M.","Dokončeno","Kollerová D.","vychystal Kubáček"]
[44956.479166666664,"po","2023-01-30",null,"Garsys","Karviná","vlastní",null,"Nádoba 30 l ","PA",15,2,"ne","Kyjov","11:30:00",null,null,null,null,"Zpožděno","Chromková L.","pro nemoc řidiče"]
[44956.5,"po","2023-01-30",null,"Nufarm","Linz","Maco-Trans",null,"KA-5","PA",52,3,"ne","Kyjov","12:00:00","08:20:00","08:25:00","09:30:00","Svoboda L.","Dokončeno","Kollerová D.","L-030-23, vychystal Svoboda",null,"v ceně"]
[44956.506944444445,"po","2023-01-30",null,"Nufarm","Linz","Maco-Trans",null,"KA-5","PA",52,3,"ne","Kyjov","12:10:00","10:50:00","11:00:00","12:00:00","Svoboda L.","Dokončeno","Kollerová D.","L-031-23, vychystal Svoboda",null,"v ceně"]
[44956.541666666664,"po","2023-01-30",null,"T-Net","Eloyes","MSB","M14","Zeus","PA",38,3,"ne","Kyjov","13:00:00","06:20:00","06:25:00","07:35:00","Doupovec R.","Dokončeno","Gajdošová L."]
[44956.541666666664,"po","2023-01-30","příjem","Luve","Kyjov","vlastní",null,"uzávěr SOT-220","PA",13,2,"ne","Kelčany","13:00:00","11:00:00","11:00:00","11:30:00","Průša M.","Dokončeno","Bilíček P."]
[44956.625,"po","2023-01-30",null,"Faurecie HLO","Hlohovec","vlastní",null,"VW UP 52x","PA",13,1,"ano","Kyjov","15:00:00","16:30:00","16:35:00","17:00:00","Rybníček M.","Dokončeno","Gajdošová L.","vychystal Průša"]
[44957,"po","2023-01-30",null,"Ekotekh","Lvov","vlastní",null,"KPHM-10","PA+PY",38,5,"ne","Kyjov",null,null,null,null,null,"Přeplánováno","Kollerová D."]
[44957,"po","2023-01-30",null,"Ekotekh","Lvov","vlastní",null,"KPhm-20","PA+PY",38,5,"ne","Kyjov",null,null,null,null,null,"Přeplánováno","Kollerová D.","2023-01-31"]
[44957,"po","2023-01-30",null,"Faurecie MB","Mladá Boleslav","vlastní","1.extra","BMW UKL+Def+SE","PA",8,2,"ne","Kyjov",null,"13:20:00","13:25:00","13:40:00","Průša M.","Dokončeno","Gajdošová L.","vychystal Průša"]
[44957,"po","2023-01-30",null,"Faurecie MB","Mladá Boleslav","vlastní","2.extra","BMW UKL","PA",29,4,"ne","Kyjov",null,"15:10:00","15:15:00","15:45:00","Rybníček M.","Dokončeno","Gajdošová L.","vychystal Průša"]
[44957.253472222219,"út","2023-01-31",null,"INX","Horní Počernice","TEZET",null,"KA-5","PA",64,3,"ne","Kyjov","06:05:00","12:10:00","12:20:00","12:50:00","Kubáček M.","Dokončeno","Chromková L.","vychystal Průša",null,"v ceně"]
[44957.253472222219,"út","2023-01-31",null,"Alter","Hradec Králové","TEZET",null,"mix","PA",30,3,"ne ","Kyjov","06:05:00","10:30:00","10:40:00","11:00:00","Kubáček M.","Dokončeno","Chromková L.","vychystal:Kubáček",null,"v ceně"]
[44957.291666666664,"út","2023-01-31",null,"Antolin","Libáň","vlastní",null,"SEAT","PA",42,3,"ano","Kyjov","07:00:00","06:10:00","06:15:00","07:20:00","Havránek M.","Dokončeno","Chromková L."]
[44957.3125,"út","2023-01-31",null,"Miloš Gavala","Ostrožská","vlastní",null,"uzávěry","KA",1,1,"ne","Kyjov","07:30:00","09:30:00","09:30:00","09:30:00","Svoboda L.","Dokončeno","Gajdošová L.","vychystal:Kubáček"]
[44957.333333333336,"út","2023-01-31",null,"T-Net","Brooks","kontejner",null,"mix WTB","PA",27,4,"ne","Kyjov","08:00:00","07:50:00","08:30:00","09:50:00","Doupovec R.","Dokončeno","Gajdošová L.","Nakládka kontejner korba Havránek"]
[44957.458333333336,"út","2023-01-31",null,"Carrier","Mýto","vlastní",null,"mix","KA",3,1,"ne","Kyjov","11:00:00","07:20:00","07:25:00","07:30:00","Havránek M.","Dokončeno","Chromková L.","vychystal Svoboda"]
[44957.472222222219,"út","2023-01-31",null,"Nufarm","Linz","FERCAM",null,"KA-5","PA",52,3,"ne","Kyjov","11:20:00","07:00:00","07:15:00","08:30:00","Svoboda L.","Dokončeno","Kollerová D.","L-036-23",null,"v ceně"]
[44957.5,"út","2023-01-31",null,"Sedata","Ilmenau","Ewals",null,"KPHM mix","PA",33,4,null,"Kyjov","12:00:00","10:45:00","10:45:00","11:15:00","Kubáček M.","Dokončeno","Kollerová D.","L - 033-23   vychystal:Kubáček",null,"v ceně"]
[44957.520833333336,"út","2023-01-31",null,"OZAS-ESAB","Opole","Schenker",null,"6232 tank","PA",1,null,"ne","Kyjov","12:30:00",null,null,null,null,"Přeplánováno","Gajdošová L.","Vychystal Havránek"]
[44957.541666666664,"út","2023-01-31",null,"Faurecie MB","Mladá Boleslav","vlastní",null,"BMW UKL+Def+SE","PA",76,5,"ano","Kyjov","13:00:00","11:00:00","11:30:00","12:40:00","Průša M.","Dokončeno","Gajdošová L.","vychystal Průša, obaly skládal Doupovec"]
[44957.583333333336,"út","2023-01-31",null,"Faurecie PCE","Pardubice","vlastní",null,"F40","PA",37,3,"ano","Kyjov","14:00:00","12:55:00","13:00:00","13:45:00","Průša M.","Dokončeno","Gajdošová L.","vychystal Průša"]
[44958,"út","2023-01-31",null,"Faurecie MB","Mladá Boleslav","vlastní","taxi","BMW UKL","PA",32,3,"ne","Kyjov",null,"14:50:00","15:00:00","15:20:00","Průša J.","Dokončeno","Gajdošová L.","vychystal Průša"]
[44958.25,"st","2023-02-01",null,"DF","Neubuz","Hroza",null,"mix","PA",16,3,"ano","Kyjov","06:00:00","13:00:00","13:05:00","13:45:00","Kubáček M.","Dokončeno","Chromková L.","vychystal:Kubáček",null,"v ceně"]
[44958.253472222219,"st","2023-02-01",null,"Fagron","Olomouc","TEZET",null,"mix","PA",32,3,"ne","Kyjov","06:05:00","06:00:00","06:05:00","06:30:00","Kubáček M.","Dokončeno","Chromková L.","vychystal:Kubáček",null,"přef. 5200,- Kč"]
[44958.253472222219,"st","2023-02-01",null,"Cheport","Vizovice","TEZET",null,"mix","PA",30,3,"ne","Kyjov","06:05:00","13:45:00","13:50:00","14:30:00","Kubáček M.","Dokončeno","Chromková L.","Vychystal Kubáček a Havránek",null,"v ceně"]
[44958.253472222219,"st","2023-02-01","příjem","Vypl","Rakvice","TEZET",null,"mix","PA",32,3,"ne","Kyjov","06:05:00","09:00:00","09:05:00","09:15:00","Havránek M.","Dokončeno","Chromková L.","vychystal Havránek"]
[44958.253472222219,"st","2023-02-01",null,"VYPL","Rakvice","TEZET",null,"liten ","PA",2,2,"ne","Kyjov","06:05:00","08:48:00","08:50:00","08:55:00","Havránek M.","Dokončeno","Chromková L.","Vychystal Havránek"]
[44958.291666666664,"st","2023-02-01",null,"TREF","Znojmo","vlastní",null,"mix","PA",8,3,"ano","Kyjov","07:00:00","12:30:00","12:35:00","13:00:00","Doupovec R.","Dokončeno","Chromková L.","vychystal Doupovec"]
[44958.416666666664,"st","2023-02-01",null,"Sedasport","Myjava SK","vlastní",null,"Sedáky","PA",50,0,null,"Kyjov","10:00:00",null,null,null,null,"Přeplánováno","Chromková L.","Vychystal Havránek, nemoc řidiče","fakturace 1/23"]
[44958.4375,"st","2023-02-01",null,"Nufarm","Linz","FERCAM",null,"KA-5","PA",52,3,"ne","Kyjov","10:30:00",null,null,null,null,"Vychystáno","Kollerová D.","L-037-23 Vychystal Svoboda"]
[44958.4375,"st","2023-02-01",null,"TBA","Habl. Brod","vlastní","Vašák","SOT-120","PA",10,2,null,"Kyjov","10:30:00",920.38888888888891,"09:25:00","09:50:00","Doupovec R.","Dokončeno","Chromková L.","vychystal Doupovec"]
[44958.447916666664,"st","2023-02-01",null,"BS vinařské","Velké Bílovice","vlastní",null,"mix","PA",4,1,"ano","Kyjov","10:45:00","10:50:00","10:55:00","11:15:00","Svoboda L.","Dokončeno","Chromková L.","vychystal Průša M."]
[44958.458333333336,"st","2023-02-01",null,"Merlin","Hrušky","vlastní",null,"KE-10","PA",1,1,"ano","Kyjov","11:00:00","10:50:00","10:55:00","11:00:00","Průša M.","Dokončeno","Chromková L.","vychystal:Kubáček"]
[44958.472222222219,"st","2023-02-01",null,"Faurecie MB","Mladá Boleslav","vlastní",null,"BMW UKL+Def+SE","PA",78,5,"ano","Kyjov","11:20:00","11:20:00","11:30:00","11:55:00","Průša M.","Dokončeno","Gajdošová L.","vychystal Průša"]
[44958.479166666664,"st","2023-02-01",null,"Mankyz ","Svatobořice","vlastní",null,"Polyvent 500 ks","KA",1,1,"ne","Kyjov","11:30:00",null,null,null,null,"Vychystáno","Gajdošová L.","Vychystal Svoboda"]
[44959,"st","2023-02-01",null,"Faurecie HLO","Hlohovec","vlastní",null,"VW UP 52x","PA",13,1,"ano","Kyjov",null,null,null,null,null,"Vychystáno","Gajdošová L.","vychystal Průša"]
[44959,"st","2023-02-01",null,"GLS","SBS",null,null,"uzávěry","KA",1,1,"ne","Kyjov",null,null,null,null,null,"Vychystáno","Gajdošová L.","vychystal Doupovec"]
[44959,"st","2023-02-01",null,"OZAS-ESAB","Opole","Schenker",null,"6232 tank","PA",1,1,null,"Kyjov",null,"12:50:00","12:50:00","12:55:00","Průša M.","Dokončeno","Gajdošová L.","přeplánováno kapacitní důvody"]
[44959.25,"čt","2023-02-02",null,"DF","Neubuz","Hroza ",null,"PHM","PA",18,2,null,"Kyjov","06:00:00","12:00:00","12:05:00","12:40:00","Svoboda L.","Dokončeno","Chromková L.","vychystal Kubáček",null,"v ceně"]
[{"$f":"IF(C324=\"\",\"\",IF(O324=\"\",C324+1,C324+O324))","v":44959.253472222219},{"$f":"IF(C324=\"\",\"\",+TEXT(C324,\"ddD\"))","v":"čt"},"2023-02-02",null,"Everstar","Šumperk","TEZET",null,"KSE-5","PA",32,2,"ano","Kyjov","06:05:00","13:00:00","13:15:00","13:50:00","Havránek M.","Dokončeno","Chromková L.","vychystal:Kubáček/změna dopravce+termínu",null,"přefakt. 7500,- Kč "]
[44959.291666666664,"čt","2023-02-02",null,"Antolin","Libáň","vlastní",null,"YETI","PA",42,3,"ano","Kyjov","07:00:00",null,null,null,null,"Naplánováno","Chromková L."]
[44959.3125,"čt","2023-02-02",null,"D.I.CHEM","Šternberk","vlastní",null,"mix","PA",33,3,"ne","Kyjov","07:30:00",null,null,null,null,"Naplánováno","Chromková L."]
[44959.458333333336,"čt","2023-02-02","příjem","JPSK","Prievidza SK","Legarde",null,"mix","PA",15,3,"ne","Kyjov","11:00:00",null,null,null,null,"Naplánováno","Chromková L."]
[44959.458333333336,"čt","2023-02-02","příjem","TBA ","Havl Brod","vlastní",null,"vratka palet","PA",378,4,null,"Kyjov","11:00:00",null,null,null,null,"Naplánováno","Chromková L."]
[44959.520833333336,"čt","2023-02-02",null,"M.A.T.","Plzeň","vlastní",null,"mix","PA",18,4,"ne","Kyjov","12:30:00",null,null,null,null,"Naplánováno","Chromková L."]
[44959.520833333336,"čt","2023-02-02",null,"Novato","Skalica SK","Toptrans-vlastní",null,"SDH-40 ","PA",1,1,"ne","Kyjov","12:30:00",null,null,null,null,"Naplánováno","Chromková L."]
[44960,"čt","2023-02-02",null,"Faurecie MB","Mladá Boleslav","vlastní",null,"BMW UKL+Def+SE","PA",79,5,"ano","Kyjov",null,null,null,null,null,"Naplánováno","Gajdošová L."]
[44960,"čt","2023-02-02",null,"Bikapack","Rakousko","Vlastní",null,"KE-10UN","PA","1+1",1,"NE","Kyjov",null,null,null,null,null,"Naplánováno","Hochman L.","vlastní dodací list!!!"]
[44960.25,"pá","2023-02-03",null,"DF","Neubuz","Hroza ",null,"PHM","PA",18,3,null,"Kyjov","06:00:00",null,null,null,null,"Vychystáno","Chromková L.","vychystal:Kubáček",null,"v ceně"]
[44960.253472222219,"pá","2023-02-03",null,"Cheport","Vizovice","TEZET",null,"mix","PA",30,3,"ne","Kyjov","06:05:00",null,null,null,null,"Naplánováno","Chromková L.",null,null,"v ceně"]
[44960.354166666664,"pá","2023-02-03","příjem","J.P.PLAST","Kyjov","LOGMAX",null,"ocelový nástroj","PA",1,1,"ne","Kutenholz","08:30:00",null,null,null,null,"Naplánováno","Bilíček P.",null,null,"dovoz nástroje pro výrobu"]
[44960.416666666664,"pá","2023-02-03",null,"Sedasport","Myjava SK","vlastní",null,"Sedáky","PA",50,4,null,"Kyjov","10:00:00",null,null,null,null,"Naplánováno","Gajdošová L."]
[44960.458333333336,"pá","2023-02-03",null,"JPSK","Prievidza SK","Legarde",null,"mix","PA",30,3,"ne","Kyjov","11:00:00",null,null,null,null,"Naplánováno","Chromková L."]
[44960.5,"pá","2023-02-03","příjem","TBA","Havl.Brod","vlastní",null,"palety-vratka ","PA",360,4,null,"Kyjov","12:00:00",null,null,null,null,"Naplánováno","Chromková L."]
[44961,"pá","2023-02-03",null,"Nufarm","Linz","Maco-Trans",null,"KA-5","PA",52,3,"ne","Kyjov",null,null,null,null,null,"Naplánováno","Kollerová D.","L-044-23"]
[44961,"pá","2023-02-03",null,"Faurecie MB","Mladá Boleslav","vlastní",null,"BMW UKL+Def+SE","PA",60,5,"ano","Kyjov",null,null,null,null,null,"Naplánováno","Gajdošová L."]
[44961,"pá","2023-02-03","příjem","T-Net","Eloyes","MSB",null,"vratka palet","PA","moc",3,null,"Kyjov",null,null,null,null,null,"Naplánováno","Gajdošová L."]
[44961,"pá","2023-02-03",null,"Nohel Garden","Dobříš","vlastní",null,"mix","PA",3,1,null,"Kyjov",null,null,null,null,null,"Naplánováno","Gajdošová L."]
[44961,"pá","2023-02-03",null,"T-Net","Eloyes","MSB","M18","mix","PA",66,3,"ne","Kyjov+Vlkoš",null,null,null,null,null,"Naplánováno","Gajdošová L."]
[44961,"pá","2023-02-03",null,"T-Net","Eloyes","MSB","M19","mix","PA",66,3,"ne","Kyjov+Vlkoš",null,null,null,null,null,"Naplánováno","Gajdošová L."]
[44961,"pá","2023-02-03",null,"T-Net","Eloyes","Legarde",null,"mix","PA",8,1,"ne","Kyjov",null,null,null,null,null,"Naplánováno","Gajdošová L."]
[44961,"pá","2023-02-03",null,"VITRACO","Německo","? P. Karpíšek",null,"DZ SRN","PA",33,3,"NE","Kyjov",null,null,null,null,null,"Naplánováno","Hochman L."]
["",""]
["",""]
["",""]
["",""]
["",""]
["",""]
["",""]
["",""]
["",""]
["",""]
["",""]
["",""]
["",""]
["",""]
["",""]
["",""]
["",""]
["",""]
["",""]
["",""]
["",""]
["",""]
["",""]
["",""]
["",""]
["",""]
["",""]
["",""]
["",""]
["",""]
["",""]
["",""]
["",""]
["",""]
["",""]
["",""]
["",""]
["",""]
["",""]
["",""]
["",""]
[{"$f":"IF(C388=\"\",\"\",IF(O388=\"\",C388+1,C388+O388))","v":""},{"$f":"IF(C388=\"\",\"\",+TEXT(C388,\"ddD\"))","v":""}]
["",""]
["",""]
["",""]
["",""]
["",""]
["",""]
["",""]
["",""]
["",""]
["",""]
["",""]
["",""]
["",""]
["",""]
["",""]
["",""]
["",""]
["",""]
["",""]
["",""]
["",""]
["",""]
["",""]
["",""]
["",""]
["",""]
["",""]
["",""]
["",""]
["",""]
["",""]
["",""]
["",""]
["",""]
["",""]
["",""]
["",""]
["",""]
["",""]
["",""]
["",""]
["",""]
["",""]
["",""]
["",""]
["",""]
["",""]
["",""]
["",""]
["",""]
["",""]
["",""]
["",""]
["",""]
["",""]
["",""]
["",""]
["",""]
["",""]
["",""]
["",""]
["",""]
["",""]
[{"$f":"IF(C452=\"\",\"\",IF(O452=\"\",C452+1,C452+O452))","v":""},{"$f":"IF(C452=\"\",\"\",+TEXT(C452,\"ddD\"))","v":""}]
["",""]
["",""]
["",""]
["",""]
["",""]
["",""]
["",""]
["",""]
["",""]
["",""]
["",""]
["",""]
["",""]
["",""]
["",""]
["",""]
["",""]
["",""]
["",""]
["",""]
["",""]
["",""]
["",""]
["",""]
["",""]
["",""]
["",""]
["",""]
["",""]
["",""]
["",""]
["",""]
["",""]
["",""]
["",""]
["",""]
["",""]
["",""]
["",""]
["",""]
["",""]
["",""]
["",""]
["",""]
["",""]
["",""]
["",""]
["",""]
["",""]
["",""]
["",""]
["",""]
["",""]
["",""]
["",""]
["",""]
["",""]
["",""]
["",""]
["",""]
["",""]
["",""]
["",""]
[{"$f":"IF(C516=\"\",\"\",IF(O516=\"\",C516+1,C516+O516))","v":""},{"$f":"IF(C516=\"\",\"\",+TEXT(C516,\"ddD\"))","v":""}]
["",""]
["",""]
["",""]
["",""]
["",""]
["",""]
["",""]
["",""]
["",""]
["",""]
["",""]
["",""]
["",""]
["",""]
["",""]
["",""]
["",""]
["",""]
["",""]
["",""]
["",""]
["",""]
["",""]
["",""]
["",""]
["",""]
["",""]
["",""]
["",""]
["",""]
["",""]
["",""]
["",""]
["",""]
["",""]
["",""]
["",""]
["",""]
["",""]
["",""]
["",""]
["",""]
["",""]
["",""]
["",""]
["",""]
["",""]
["",""]
["",""]
["",""]
["",""]
["",""]
["",""]
["",""]
["",""]
["",""]
["",""]
["",""]
["",""]
["",""]
["",""]
["",""]
["",""]
[{"$f":"IF(C580=\"\",\"\",IF(O580=\"\",C580+1,C580+O580))","v":""},{"$f":"IF(C580=\"\",\"\",+TEXT(C580,\"ddD\"))","v":""}]
["",""]
["",""]
["",""]
["",""]
["",""]
["",""]
["",""]
["",""]
["",""]
["",""]
["",""]
["",""]
["",""]
["",""]
["",""]
["",""]
["",""]
["",""]
["",""]
["",""]
["",""]
["",""]
["",""]
["",""]
["",""]
["",""]
["",""]
["",""]
["",""]
["",""]
["",""]
["",""]
["",""]
["",""]
["",""]
["",""]
["",""]
["",""]
["",""]
["",""]
["",""]
["",""]
["",""]
["",""]
["",""]
["",""]
["",""]
["",""]
["",""]
["",""]
["",""]
["",""]
["",""]
["",""]
["",""]
["",""]
["",""]
["",""]
["",""]
["",""]
["",""]
["",""]
["",""]
[{"$f":"IF(C644=\"\",\"\",IF(O644=\"\",C644+1,C644+O644))","v":""},{"$f":"IF(C644=\"\",\"\",+TEXT(C644,\"ddD\"))","v":""}]
["",""]
["",""]
["",""]
["",""]
["",""]
["",""]
["",""]
["",""]
["",""]
["",""]
["",""]
["",""]
["",""]
["",""]
["",""]
["",""]
["",""]
["",""]
["",""]
["",""]
["",""]
["",""]
["",""]
["",""]
["",""]
["",""]
["",""]
["",""]
["",""]
["",""]
["",""]
["",""]
["",""]
["",""]
["",""]
["",""]
["",""]
["",""]
["",""]
["",""]
["",""]
["",""]
["",""]
["",""]
["",""]
["",""]
["",""]
["",""]
["",""]
["",""]
["",""]
["",""]
["",""]
["",""]
["",""]

{"sheet":"02.23","index":7,"n_rows":700,"n_cols":24,"rows_kept":700,"cut":false,"hidden":false,"merged":[[0,22,0,23],[0,6,0,7],[0,8,0,13],[0,14,0,15],[0,16,0,17],[0,19,0,20]]}
[null,null,null,"2023-02-06","►►►►","2023-03-03","DNEŠNÍ DATUM:     ",null,{"$f":"+TODAY()","v":"2023-02-01"},null,null,null,null,null,"AKTUÁLNÍ ČAS:     ",null,{"$f":"NOW()","v":44958.554346412035},null,null,"AKTUÁLNÍ MĚSÍC: ",null,{"$f":"+I1","v":"2023-02-01"},"Informace pro NÁKUP"]
["pořadí","Den","Datum","Příjem","Zákazník","Destinace","Dopravce","SPZ","název výrobku","balení","počet balení","Obtížnost","vratka palet (ano/ne)","místo nakládky","Plán. příjezd","Skutečný příjezd","Start nakládky","Konec nakládky","Expedoval","Status","Naplánoval","Poznámka","Cena přepravy","přefaktuace / doplňující informace"]
[]
[{"$f":"IF(C4=\"\",\"\",IF(O4=\"\",C4+1,C4+O4))","v":44963.253472222219},{"$f":"IF(C4=\"\",\"\",+TEXT(C4,\"ddD\"))","v":"po"},"2023-02-06",null,"DF","Neubuz","Hroza ",null,"mix","PA",32,2,null,"Kyjov","06:05:00",null,null,null,null,"Naplánováno","Chromková L.",null,null,"v ceneě"]
[44963.333333333336,"po","2023-02-06",null,"NUfarm","Linz","Maco Trans",null,"KA-5","PA",52,3,"ne","Kyjov","08:00:00",null,null,null,null,"Naplánováno","Kollerová D.",null,null,"v ceně"]
[44963.479166666664,"po","2023-02-06",null,"Garsys","Karviná","vlastní",null,"nadoba 30 l ","PA",15,2,"ne","Kyjov","11:30:00",null,null,null,null,"Naplánováno","Chromková L."]
[44964,"po","2023-02-06",null,"Nufarm","Linz","Maco Trans",null,"KA-5","PA",52,3,"ne","Kyjov",null,null,null,null,null,"Naplánováno","Kollerová D.",null,null,"v ceně"]
[44964,"po","2023-02-06",null,"Groshandel","Suhl-Sehmar","Ewals",null,"KPHM","PA",38,4,"ne","Kyjov",null,null,null,null,null,"Naplánováno","Kollerová D.",null,null,"v ceně"]
[44964,"po","2023-02-06",null,"Groshandel","Suhl-Sehmar","Ewals",null,"KPHM","PA",38,4,"ne","Kyjov",null,null,null,null,null,"Naplánováno","Kollerová D.",null,null,"v ceně"]
[44964,"po","2023-02-06",null,"KOVA","Erfurt","Joppa",null,"PHM","PA",38,4,"ano","Kyjov",null,null,null,null,null,"Naplánováno","Kollerová D.",null,27000,"přeúčtovat 1120 €"]
[44964,"po","2023-02-06",null,"T-Net","Eloyes","MSB","Laďa","Zeus","PA",38,3,"ne","Kyjov",null,null,null,null,null,"Naplánováno","Gajdošová L."]
[44964,"po","2023-02-06",null,"T-Net","Emmerich","MSB","M15","WTB","PA",2,1,"ne","Kyjov",null,null,null,null,null,"Naplánováno","Gajdošová L."]
[44964.253472222219,"út","2023-02-07",null,"OQEMA","Slatiňany","TEZET",null,"SDH-50","PA",30,2,"ne","Kyjov","06:05:00",null,null,null,null,"Naplánováno","Chromková L.",null,null,"přefakturovat 7100,-"]
[44965,"út","2023-02-07",null,"Nufarm","Linz","Fercam",null,"KA-5","PA",52,3,"ne","Kyjov",null,null,null,null,null,"Naplánováno","Kollerová D.",null,null,"v ceně"]
[44966,"st","2023-02-08",null,"Nufarm","Linz","Fercam",null,"KA-5","PA",52,3,"ne","Kyjov",null,null,null,null,null,"Naplánováno","Kollerová D.",null,null,"v ceně"]
[44966.333333333336,"čt","2023-02-09",null,"Nufarm","Linz","Fercam",null,"KA-5","PA",52,3,"ne","Kyjov","08:00:00",null,null,null,null,"Naplánováno","Kollerová D.",null,null,"v ceně"]
[44967,"čt","2023-02-09",null,"SPAK","Sušice","Joppa",null,"LS-2","PA",66,3,"ne","Kyjov",null,null,null,null,null,"Naplánováno","Kollerová D.",null,null,"v ceně"]
[44967.5,"pá","2023-02-10",null,"TRUMF","Dolní Újezd","vlastní","6M80805","KSE-5","PA",14,2,"ano","Kyjov","12:00:00",null,null,null,null,"Naplánováno","Chromková L."]
[44970.333333333336,"po","2023-02-13",null,"Nufarm","Linz","Maco Trans",null,"KA-5","PA",52,3,"ne","Kyjov","08:00:00",null,null,null,null,"Naplánováno","Kollerová D.",null,null,"v ceně"]
[44970.333333333336,"po","2023-02-13",null,"Nufarm","Linz","Maco Trans",null,"KA-5","PA",52,3,"ne","Kyjov","08:00:00",null,null,null,null,"Naplánováno","Kollerová D.",null,null,"v ceně"]
[44971.333333333336,"út","2023-02-14",null,"Nufarm","Linz","Fercam",null,"KA-5","PA",52,3,"ne","Kyjov","08:00:00",null,null,null,null,"Naplánováno","Kollerová D.",null,null,"v ceně"]
[44971.416666666664,"út","2023-02-14",null,"Carrier","Mýto","vlastní SBS",null,"sifony","KA",3,1,"ne","Kyjov","10:00:00",null,null,null,null,"Naplánováno","Chromková L."]
[44972,"út","2023-02-14",null,"Filmer","Stavenhagen","Ewals",null,"KPHM","PA",30,3,"ano","Kyjov",null,null,null,null,null,"Naplánováno","Kollerová D.",null,null,"v ceně"]
[44972.333333333336,"st","2023-02-15",null,"Nufarm","Linz","Fercam",null,"KA-5","PA",52,3,"ne","Kyjov","08:00:00",null,null,null,null,"Naplánováno","Kollerová D.",null,null,"v ceně"]
[44973,"st","2023-02-15",null,"FIlmer","Wustermark","Ewals",null,"KPHM","PA",30,3,"ano","Kyjov",null,null,null,null,null,"Naplánováno","Kollerová D.",null,null,"v ceně"]
[44974,"čt","2023-02-16",null,"Filmer","Budenheim","Ewals",null,"PHM","PA",66,3,"ne","Kyjov",null,null,null,null,null,"Naplánováno","Kollerová D."]
[44977.253472222219,"po","2023-02-20",null,"DF","Neubuz","Hroza",null,"PHM","PA",18,3,null,"Kyjov","06:05:00",null,null,null,null,"Naplánováno","Chromková L.",null,null,"v ceně"]
[44978.25,"út","2023-02-21",null,"Fagron","Olomouc","Tezet",null,"kanystry","PA",18,2,"ne","Kyjov","06:00:00",null,null,null,null,"Naplánováno","Kollerová D.",null,null,"přeúčtovat"]
[44985.25,"út","2023-02-28",null,"Pěkný Umimex","Humpolec","Hroza",null,"LUH-1","PA",18,2,"ano","Kyjov","06:00:00",null,null,null,null,"Naplánováno","Kollerová D.",null,null,"v ceně"]
["",""]
["",""]
["",""]
["",""]
["",""]
["",""]
["",""]
["",""]
["",""]
["",""]
["",""]
["",""]
["",""]
["",""]
["",""]
["",""]
["",""]
["",""]
["",""]
["",""]
["",""]
["",""]
["",""]
["",""]
["",""]
["",""]
["",""]
["",""]
["",""]
["",""]
["",""]
["",""]
["",""]
["",""]
["",""]
["",""]
["",""]
["",""]
[{"$f":"IF(C68=\"\",\"\",IF(O68=\"\",C68+1,C68+O68))","v":""},{"$f":"IF(C68=\"\",\"\",+TEXT(C68,\"ddD\"))","v":""}]
["",""]
["",""]
["",""]
["",""]
["",""]
["",""]
["",""]
["",""]
["",""]
["",""]
["",""]
["",""]
["",""]
["",""]
["",""]
["",""]
["",""]
["",""]
["",""]
["",""]
["",""]
["",""]
["",""]
["",""]
["",""]
["",""]
["",""]
["",""]
["",""]
["",""]
["",""]
["",""]
["",""]
["",""]
["",""]
["",""]
["",""]
["",""]
["",""]
["",""]
["",""]
["",""]
["",""]
["",""]
["",""]
["",""]
["",""]
["",""]
["",""]
["",""]
["",""]
["",""]
["",""]
["",""]
["",""]
["",""]
["",""]
["",""]
["",""]
["",""]
["",""]
["",""]
["",""]
[{"$f":"IF(C132=\"\",\"\",IF(O132=\"\",C132+1,C132+O132))","v":""},{"$f":"IF(C132=\"\",\"\",+TEXT(C132,\"ddD\"))","v":""}]
["",""]
["",""]
["",""]
["",""]
["",""]
["",""]
["",""]
["",""]
["",""]
["",""]
["",""]
["",""]
["",""]
["",""]
["",""]
["",""]
["",""]
["",""]
["",""]
["",""]
["",""]
["",""]
["",""]
["",""]
["",""]
["",""]
["",""]
["",""]
["",""]
["",""]
["",""]
["",""]
["",""]
["",""]
["",""]
["",""]
["",""]
["",""]
["",""]
["",""]
["",""]
["",""]
["",""]
["",""]
["",""]
["",""]
["",""]
["",""]
["",""]
["",""]
["",""]
["",""]
["",""]
["",""]
["",""]
["",""]
["",""]
["",""]
["",""]
["",""]
["",""]
["",""]
["",""]
[{"$f":"IF(C196=\"\",\"\",IF(O196=\"\",C196+1,C196+O196))","v":""},{"$f":"IF(C196=\"\",\"\",+TEXT(C196,\"ddD\"))","v":""}]
["",""]
["",""]
["",""]
["",""]
["",""]
["",""]
["",""]
["",""]
["",""]
["",""]
["",""]
["",""]
["",""]
["",""]
["",""]
["",""]
["",""]
["",""]
["",""]
["",""]
["",""]
["",""]
["",""]
["",""]
["",""]
["",""]
["",""]
["",""]
["",""]
["",""]
["",""]
["",""]
["",""]
["",""]
["",""]
["",""]
["",""]
["",""]
["",""]
["",""]
["",""]
["",""]
["",""]
["",""]
["",""]
["",""]
["",""]
["",""]
["",""]
["",""]
["",""]
["",""]
["",""]
["",""]
["",""]
["",""]
["",""]
["",""]
["",""]
["",""]
["",""]
["",""]
["",""]
[{"$f":"IF(C260=\"\",\"\",IF(O260=\"\",C260+1,C260+O260))","v":""},{"$f":"IF(C260=\"\",\"\",+TEXT(C260,\"ddD\"))","v":""}]
["",""]
["",""]
["",""]
["",""]
["",""]
["",""]
["",""]
["",""]
["",""]
["",""]
["",""]
["",""]
["",""]
["",""]
["",""]
["",""]
["",""]
["",""]
["",""]
["",""]
["",""]
["",""]
["",""]
["",""]
["",""]
["",""]
["",""]
["",""]
["",""]
["",""]
["",""]
["",""]
["",""]
["",""]
["",""]
["",""]
["",""]
["",""]
["",""]
["",""]
[null,""]
[null,""]
[null,""]
[null,""]
[null,""]
[null,""]
[null,""]
[null,""]
[null,""]
[null,""]
[null,""]
[null,""]
[null,""]
[null,""]
[null,""]
[null,""]
[null,""]
[null,""]
[null,""]
[null,""]
[null,""]
[null,""]
[null,""]
[null,{"$f":"IF(C324=\"\",\"\",+TEXT(C324,\"ddD\"))","v":""}]
[null,""]
[null,""]
[null,""]
[null,""]
[null,""]
[null,""]
[null,""]
[null,""]
[null,""]
[null,""]
[null,""]
[null,""]
[null,""]
[null,""]
[null,""]
[null,""]
[null,""]
[null,""]
[null,""]
[null,""]
[null,""]
[null,""]
[null,""]
[null,""]
[null,""]
[null,""]
[null,""]
[null,""]
[null,""]
[null,""]
[null,""]
[null,""]
[null,""]
[null,""]
[null,""]
[null,""]
[null,""]
[null,""]
[null,""]
[null,""]
[null,""]
[null,""]
[null,""]
[null,""]
[null,""]
[null,""]
[null,""]
[null,""]
[null,""]
[null,""]
[null,""]
[null,""]
[null,""]
[null,""]
[null,""]
[null,""]
[null,""]
[null,""]
[null,""]
[null,""]
[null,""]
[null,""]
[null,""]
[null,{"$f":"IF(C388=\"\",\"\",+TEXT(C388,\"ddD\"))","v":""}]
[null,""]
[null,""]
[null,""]
[null,""]
[null,""]
[null,""]
[null,""]
[null,""]
[null,""]
[null,""]
[null,""]
[null,""]
[null,""]
[null,""]
[null,""]
[null,""]
[null,""]
[null,""]
[null,""]
[null,""]
[null,""]
[null,""]
[null,""]
[null,""]
[null,""]
[null,""]
[null,""]
[null,""]
[null,""]
[null,""]
[null,""]
[null,""]
[null,""]
[null,""]
[null,""]
[null,""]
[null,""]
[null,""]
[null,""]
[null,""]
[null,""]
[null,""]
[null,""]
[null,""]
[null,""]
[null,""]
[null,""]
[null,""]
[null,""]
[null,""]
[null,""]
[null,""]
[null,""]
[null,""]
[null,""]
[null,""]
[null,""]
[null,""]
[null,""]
[null,""]
[null,""]
[null,""]
[null,""]
[null,{"$f":"IF(C452=\"\",\"\",+TEXT(C452,\"ddD\"))","v":""}]
[null,""]
[null,""]
[null,""]
[null,""]
[null,""]
[null,""]
[null,""]
[null,""]
[null,""]
[null,""]
[null,""]
[null,""]
[null,""]
[null,""]
[null,""]
[null,""]
[null,""]
[null,""]
[null,""]
[null,""]
[null,""]
[null,""]
[null,""]
[null,""]
[null,""]
[null,""]
[null,""]
[null,""]
[null,""]
[null,""]
[null,""]
[null,""]
[null,""]
[null,""]
[null,""]
[null,""]
[null,""]
[null,""]
[null,""]
[null,""]
[null,""]
[null,""]
[null,""]
[null,""]
[null,""]
[null,""]
[null,""]
[null,""]
[null,""]
[null,""]
[null,""]
[null,""]
[null,""]
[null,""]
[null,""]
[null,""]
[null,""]
[null,""]
[null,""]
[null,""]
[null,""]
[null,""]
[null,""]
[null,{"$f":"IF(C516=\"\",\"\",+TEXT(C516,\"ddD\"))","v":""}]
[null,""]
[null,""]
[null,""]
[null,""]
[null,""]
[null,""]
[null,""]
[null,""]
[null,""]
[null,""]
[null,""]
[null,""]
[null,""]
[null,""]
[null,""]
[null,""]
[null,""]
[null,""]
[null,""]
[null,""]
[null,""]
[null,""]
[null,""]
[null,""]
[null,""]
[null,""]
[null,""]
[null,""]
[null,""]
[null,""]
[null,""]
[null,""]
[null,""]
[null,""]
[null,""]
[null,""]
[null,""]
[null,""]
[null,""]
[null,""]
[null,""]
[null,""]
[null,""]
[null,""]
[null,""]
[null,""]
[null,""]
[null,""]
[null,""]
[null,""]
[null,""]
[null,""]
[null,""]
[null,""]
[null,""]
[null,""]
[null,""]
[null,""]
[null,""]
[null,""]
[null,""]
[null,""]
[null,""]
[null,{"$f":"IF(C580=\"\",\"\",+TEXT(C580,\"ddD\"))","v":""}]
[null,""]
[null,""]
[null,""]
[null,""]
[null,""]
[null,""]
[null,""]
[null,""]
[null,""]
[null,""]
[null,""]
[null,""]
[null,""]
[null,""]
[null,""]
[null,""]
[null,""]
[null,""]
[null,""]
[null,""]
[null,""]
[null,""]
[null,""]
[null,""]
[null,""]
[null,""]
[null,""]
[null,""]
[null,""]
[null,""]
[null,""]
[null,""]
[null,""]
[null,""]
[null,""]
[null,""]
[null,""]
[null,""]
[null,""]
[null,""]
[null,""]
[null,""]
[null,""]
[null,""]
[null,""]
[null,""]
[null,""]
[null,""]
[null,""]
[null,""]
[null,""]
[null,""]
[null,""]
[null,""]
[null,""]
[null,""]
[null,""]
[null,""]
[null,""]
[null,""]
[null,""]
[null,""]
[null,""]
[null,{"$f":"IF(C644=\"\",\"\",+TEXT(C644,\"ddD\"))","v":""}]
[null,""]
[null,""]
[null,""]
[null,""]
[null,""]
[null,""]
[null,""]
[null,""]
[null,""]
[null,""]
[null,""]
[null,""]
[null,""]
[null,""]
[null,""]
[null,""]
[null,""]
[null,""]
[null,""]
[null,""]
[null,""]
[null,""]
[null,""]
[null,""]
[null,""]
[null,""]
[null,""]
[null,""]
[null,""]
[null,""]
[null,""]
[null,""]
[null,""]
[null,""]
[null,""]
[null,""]
[null,""]
[null,""]
[null,""]
[null,""]
[null,""]
[null,""]
[null,""]
[null,""]
[null,""]
[null,""]
[null,""]
[null,""]
[null,""]
[null,""]
[null,""]
[null,""]
[null,""]
[null,""]
[null,""]
[null,""]

{"sheet":"03.23","index":8,"n_rows":700,"n_cols":24,"rows_kept":700,"cut":false,"hidden":false,"merged":[[0,22,0,23],[0,6,0,7],[0,8,0,13],[0,14,0,15],[0,16,0,17],[0,19,0,20]]}
[null,null,null,"2023-03-06","►►►►","2023-03-31","DNEŠNÍ DATUM:     ",null,{"$f":"+TODAY()","v":"2023-02-01"},null,null,null,null,null,"AKTUÁLNÍ ČAS:     ",null,{"$f":"NOW()","v":44958.554346412035},null,null,"AKTUÁLNÍ MĚSÍC: ",null,{"$f":"+I1","v":"2023-02-01"},"Informace pro NÁKUP"]
["pořadí","Den","Datum","Příjem","Zákazník","Destinace","Dopravce","SPZ","název výrobku","balení","počet balení","Obtížnost","vratka palet (ano/ne)","místo nakládky","Plán. příjezd","Skutečný příjezd","Start nakládky","Konec nakládky","Expedoval","Status","Naplánoval","Poznámka","Cena přepravy","přefaktuace / doplňující informace"]
[]
[{"$f":"IF(C4=\"\",\"\",IF(O4=\"\",C4+1,C4+O4))","v":44992},{"$f":"IF(C4=\"\",\"\",+TEXT(C4,\"ddD\"))","v":"po"},"2023-03-06"]
["",""]
["",""]
["",""]
["",""]
["",""]
["",""]
["",""]
["",""]
["",""]
["",""]
["",""]
["",""]
["",""]
["",""]
["",""]
["",""]
["",""]
["",""]
["",""]
["",""]
["",""]
["",""]
["",""]
["",""]
["",""]
["",""]
["",""]
["",""]
["",""]
["",""]
["",""]
["",""]
["",""]
["",""]
["",""]
["",""]
["",""]
["",""]
["",""]
["",""]
["",""]
["",""]
["",""]
["",""]
["",""]
["",""]
["",""]
["",""]
["",""]
["",""]
["",""]
["",""]
["",""]
["",""]
["",""]
["",""]
["",""]
["",""]
["",""]
["",""]
["",""]
["",""]
["",""]
[{"$f":"IF(C68=\"\",\"\",IF(O68=\"\",C68+1,C68+O68))","v":""},{"$f":"IF(C68=\"\",\"\",+TEXT(C68,\"ddD\"))","v":""}]
["",""]
["",""]
["",""]
["",""]
["",""]
["",""]
["",""]
["",""]
["",""]
["",""]
["",""]
["",""]
["",""]
["",""]
["",""]
["",""]
["",""]
["",""]
["",""]
["",""]
["",""]
["",""]
["",""]
["",""]
["",""]
["",""]
["",""]
["",""]
["",""]
["",""]
["",""]
["",""]
["",""]
["",""]
["",""]
["",""]
["",""]
["",""]
["",""]
["",""]
["",""]
["",""]
["",""]
["",""]
["",""]
["",""]
["",""]
["",""]
["",""]
["",""]
["",""]
["",""]
["",""]
["",""]
["",""]
["",""]
["",""]
["",""]
["",""]
["",""]
["",""]
["",""]
["",""]
[{"$f":"IF(C132=\"\",\"\",IF(O132=\"\",C132+1,C132+O132))","v":""},{"$f":"IF(C132=\"\",\"\",+TEXT(C132,\"ddD\"))","v":""}]
["",""]
["",""]
["",""]
["",""]
["",""]
["",""]
["",""]
["",""]
["",""]
["",""]
["",""]
["",""]
["",""]
["",""]
["",""]
["",""]
["",""]
["",""]
["",""]
["",""]
["",""]
["",""]
["",""]
["",""]
["",""]
["",""]
["",""]
["",""]
["",""]
["",""]
["",""]
["",""]
["",""]
["",""]
["",""]
["",""]
["",""]
["",""]
["",""]
["",""]
["",""]
["",""]
["",""]
["",""]
["",""]
["",""]
["",""]
["",""]
["",""]
["",""]
["",""]
["",""]
["",""]
["",""]
["",""]
["",""]
["",""]
["",""]
["",""]
["",""]
["",""]
["",""]
["",""]
[{"$f":"IF(C196=\"\",\"\",IF(O196=\"\",C196+1,C196+O196))","v":""},{"$f":"IF(C196=\"\",\"\",+TEXT(C196,\"ddD\"))","v":""}]
["",""]
["",""]
["",""]
["",""]
["",""]
["",""]
["",""]
["",""]
["",""]
["",""]
["",""]
["",""]
["",""]
["",""]
["",""]
["",""]
["",""]
["",""]
["",""]
["",""]
["",""]
["",""]
["",""]
["",""]
["",""]
["",""]
["",""]
["",""]
["",""]
["",""]
["",""]
["",""]
["",""]
["",""]
["",""]
["",""]
["",""]
["",""]
["",""]
["",""]
["",""]
["",""]
["",""]
["",""]
["",""]
["",""]
["",""]
["",""]
["",""]
["",""]
["",""]
["",""]
["",""]
["",""]
["",""]
["",""]
["",""]
["",""]
["",""]
["",""]
["",""]
["",""]
["",""]
[{"$f":"IF(C260=\"\",\"\",IF(O260=\"\",C260+1,C260+O260))","v":""},{"$f":"IF(C260=\"\",\"\",+TEXT(C260,\"ddD\"))","v":""}]
["",""]
["",""]
["",""]
["",""]
["",""]
["",""]
["",""]
["",""]
["",""]
["",""]
["",""]
["",""]
["",""]
["",""]
["",""]
["",""]
["",""]
["",""]
["",""]
["",""]
["",""]
["",""]
["",""]
["",""]
["",""]
["",""]
["",""]
["",""]
["",""]
["",""]
["",""]
["",""]
["",""]
["",""]
["",""]
["",""]
["",""]
["",""]
["",""]
["",""]
[null,""]
[null,""]
[null,""]
[null,""]
[null,""]
[null,""]
[null,""]
[null,""]
[null,""]
[null,""]
[null,""]
[null,""]
[null,""]
[null,""]
[null,""]
[null,""]
[null,""]
[null,""]
[null,""]
[null,""]
[null,""]
[null,""]
[null,""]
[null,{"$f":"IF(C324=\"\",\"\",+TEXT(C324,\"ddD\"))","v":""}]
[null,""]
[null,""]
[null,""]
[null,""]
[null,""]
[null,""]
[null,""]
[null,""]
[null,""]
[null,""]
[null,""]
[null,""]
[null,""]
[null,""]
[null,""]
[null,""]
[null,""]
[null,""]
[null,""]
[null,""]
[null,""]
[null,""]
[null,""]
[null,""]
[null,""]
[null,""]
[null,""]
[null,""]
[null,""]
[null,""]
[null,""]
[null,""]
[null,""]
[null,""]
[null,""]
[null,""]
[null,""]
[null,""]
[null,""]
[null,""]
[null,""]
[null,""]
[null,""]
[null,""]
[null,""]
[null,""]
[null,""]
[null,""]
[null,""]
[null,""]
[null,""]
[null,""]
[null,""]
[null,""]
[null,""]
[null,""]
[null,""]
[null,""]
[null,""]
[null,""]
[null,""]
[null,""]
[null,""]
[null,{"$f":"IF(C388=\"\",\"\",+TEXT(C388,\"ddD\"))","v":""}]
[null,""]
[null,""]
[null,""]
[null,""]
[null,""]
[null,""]
[null,""]
[null,""]
[null,""]
[null,""]
[null,""]
[null,""]
[null,""]
[null,""]
[null,""]
[null,""]
[null,""]
[null,""]
[null,""]
[null,""]
[null,""]
[null,""]
[null,""]
[null,""]
[null,""]
[null,""]
[null,""]
[null,""]
[null,""]
[null,""]
[null,""]
[null,""]
[null,""]
[null,""]
[null,""]
[null,""]
[null,""]
[null,""]
[null,""]
[null,""]
[null,""]
[null,""]
[null,""]
[null,""]
[null,""]
[null,""]
[null,""]
[null,""]
[null,""]
[null,""]
[null,""]
[null,""]
[null,""]
[null,""]
[null,""]
[null,""]
[null,""]
[null,""]
[null,""]
[null,""]
[null,""]
[null,""]
[null,""]
[null,{"$f":"IF(C452=\"\",\"\",+TEXT(C452,\"ddD\"))","v":""}]
[null,""]
[null,""]
[null,""]
[null,""]
[null,""]
[null,""]
[null,""]
[null,""]
[null,""]
[null,""]
[null,""]
[null,""]
[null,""]
[null,""]
[null,""]
[null,""]
[null,""]
[null,""]
[null,""]
[null,""]
[null,""]
[null,""]
[null,""]
[null,""]
[null,""]
[null,""]
[null,""]
[null,""]
[null,""]
[null,""]
[null,""]
[null,""]
[null,""]
[null,""]
[null,""]
[null,""]
[null,""]
[null,""]
[null,""]
[null,""]
[null,""]
[null,""]
[null,""]
[null,""]
[null,""]
[null,""]
[null,""]
[null,""]
[null,""]
[null,""]
[null,""]
[null,""]
[null,""]
[null,""]
[null,""]
[null,""]
[null,""]
[null,""]
[null,""]
[null,""]
[null,""]
[null,""]
[null,""]
[null,{"$f":"IF(C516=\"\",\"\",+TEXT(C516,\"ddD\"))","v":""}]
[null,""]
[null,""]
[null,""]
[null,""]
[null,""]
[null,""]
[null,""]
[null,""]
[null,""]
[null,""]
[null,""]
[null,""]
[null,""]
[null,""]
[null,""]
[null,""]
[null,""]
[null,""]
[null,""]
[null,""]
[null,""]
[null,""]
[null,""]
[null,""]
[null,""]
[null,""]
[null,""]
[null,""]
[null,""]
[null,""]
[null,""]
[null,""]
[null,""]
[null,""]
[null,""]
[null,""]
[null,""]
[null,""]
[null,""]
[null,""]
[null,""]
[null,""]
[null,""]
[null,""]
[null,""]
[null,""]
[null,""]
[null,""]
[null,""]
[null,""]
[null,""]
[null,""]
[null,""]
[null,""]
[null,""]
[null,""]
[null,""]
[null,""]
[null,""]
[null,""]
[null,""]
[null,""]
[null,""]
[null,{"$f":"IF(C580=\"\",\"\",+TEXT(C580,\"ddD\"))","v":""}]
[null,""]
[null,""]
[null,""]
[null,""]
[null,""]
[null,""]
[null,""]
[null,""]
[null,""]
[null,""]
[null,""]
[null,""]
[null,""]
[null,""]
[null,""]
[null,""]
[null,""]
[null,""]
[null,""]
[null,""]
[null,""]
[null,""]
[null,""]
[null,""]
[null,""]
[null,""]
[null,""]
[null,""]
[null,""]
[null,""]
[null,""]
[null,""]
[null,""]
[null,""]
[null,""]
[null,""]
[null,""]
[null,""]
[null,""]
[null,""]
[null,""]
[null,""]
[null,""]
[null,""]
[null,""]
[null,""]
[null,""]
[null,""]
[null,""]
[null,""]
[null,""]
[null,""]
[null,""]
[null,""]
[null,""]
[null,""]
[null,""]
[null,""]
[null,""]
[null,""]
[null,""]
[null,""]
[null,""]
[null,{"$f":"IF(C644=\"\",\"\",+TEXT(C644,\"ddD\"))","v":""}]
[null,""]
[null,""]
[null,""]
[null,""]
[null,""]
[null,""]
[null,""]
[null,""]
[null,""]
[null,""]
[null,""]
[null,""]
[null,""]
[null,""]
[null,""]
[null,""]
[null,""]
[null,""]
[null,""]
[null,""]
[null,""]
[null,""]
[null,""]
[null,""]
[null,""]
[null,""]
[null,""]
[null,""]
[null,""]
[null,""]
[null,""]
[null,""]
[null,""]
[null,""]
[null,""]
[null,""]
[null,""]
[null,""]
[null,""]
[null,""]
[null,""]
[null,""]
[null,""]
[null,""]
[null,""]
[null,""]
[null,""]
[null,""]
[null,""]
[null,""]
[null,""]
[null,""]
[null,""]
[null,""]
[null,""]
[null,""]

{"sheet":"Screen","index":9,"n_rows":171,"n_cols":35,"rows_kept":171,"cut":false,"hidden":false,"merged":[[3,28,3,34],[71,28,71,34],[37,0,37,6],[71,14,71,20],[71,21,71,27],[37,21,37,27],[69,1,69,3],[3,21,3,27],[35,1,35,3],[3,14,3,20],[105,28,105,34],[138,0,138,6],[138,7,138,13],[103,1,103,3],[136,1,136,3],[105,0,105,6],[105,7,105,13],[105,14,105,20],[105,21,105,27],[0,13,0,14],[0,16,0,23],[0,4,0,12],[170,1,170,3],[71,0,71,6],[71,7,71,13],[138,14,138,20],[138,21,138,27],[3,0,3,6],[3,7,3,13],[0,25,0,26],[0,27,0,32],[37,7,37,13],[37,28,37,34],[37,14,37,20],[138,28,138,34]]}
[null,null,null,null,"PLÁN NAKLÁDEK / VYKLÁDEK  - PŘEHLED",null,null,null,null,null,null,null,null,"DNEŠNÍ DATUM:     ",null,null,{"$f":"+TODAY()","v":"2023-02-01"},null,null,null,null,null,null,null,null,{"$f":"+IF(AF2=0,\"AKTUÁLNÍ MĚSÍC:\",\"ZOBRAZENÝ MĚSÍC:\")","v":"ZOBRAZENÝ MĚSÍC:"},null,{"$f":"+AI3","v":"2023-01-06"},null,null,null,null,null,"Kalendářní týden",{"$f":"+WEEKNUM(Q1,1)","v":5}]
[null,null,null,null,null,null,null,null,null,null,null,null,null,null,null,null,null,null,null,null,null,null,null,null,null,null,null,{"$f":"TEXT(Q1,\"MMMM\")","v":"únor"},null,null,null,{"$f":"+IF(AB2=AG2,0,1)","v":1},{"$f":"TEXT(AI3,\"MMMM\")","v":"leden"}]
[{"$f":"+Q1","v":44958},null,null,null,"pondělí",null,{"$f":"+zdroj!B3","v":"2023-01-02"},null,null,null,null,"Úterý",null,{"$f":"+G3+1","v":"2023-01-03"},"Středa",null,null,null,null,null,{"$f":"+N3+1","v":"2023-01-04"},"Čtvrtek",null,null,null,null,null,{"$f":"+U3+1","v":"2023-01-05"},"Pátek",null,null,null,null,null,{"$f":"+AB3+1","v":"2023-01-06"}]
[{"$f":"+CONCATENATE(E3,\" \",TEXT(G3,\"DD.MM.RR\"))","v":"pondělí 02.01.23"},null,null,null,null,null,null,{"$f":"+CONCATENATE(L3,\" \",TEXT(N3,\"DD.MM.RR\"))","v":"Úterý 03.01.23"},null,null,null,null,null,null,{"$f":"+CONCATENATE(O3,\" \",TEXT(U3,\"DD.MM.RR\"))","v":"Středa 04.01.23"},null,null,null,null,null,null,{"$f":"+CONCATENATE(V3,\" \",TEXT(AB3,\"DD.MM.RR\"))","v":"Čtvrtek 05.01.23"},null,null,null,null,null,null,{"$f":"+CONCATENATE(AC3,\" \",TEXT(AI3,\"DD.MM.RR\"))","v":"Pátek 06.01.23"}]
["hodina",null,{"$f":"+COUNTIFS(zdroj!$B$3:$B$700,Screen!G3)","v":1},{"$f":"+SUM(D6:D35)","v":0},"Zákazník","Dopravce","Status",null,{"$f":"+LOOKUP(N3,DataFIX!$F$3:$F$41,DataFIX!$G$3:$G$41)","v":30},{"$f":"+COUNTIFS(zdroj!$B$3:$B$700,Screen!N3)","v":12},{"$f":"+SUM(K6:K35)","v":0},"Zákazník","Dopravce","Status","hodina",{"$f":"+LOOKUP(U3,DataFIX!$F$3:$F$41,DataFIX!$G$3:$G$41)","v":60},{"$f":"+COUNTIFS(zdroj!$B$3:$B$700,Screen!U3)","v":8},{"$f":"+SUM(R6:R35)","v":0},"Zákazník","Dopravce","Status","hodina",{"$f":"+LOOKUP(AB3,DataFIX!$F$3:$F$41,DataFIX!$G$3:$G$41)","v":90},{"$f":"+COUNTIFS(zdroj!$B$3:$B$700,Screen!AB3)","v":11},{"$f":"+SUM(Y6:Y35)","v":0},"Zákazník","Dopravce","Status","hodina",{"$f":"+LOOKUP(AI3,DataFIX!$F$3:$F$41,DataFIX!$G$3:$G$41)","v":120},{"$f":"+COUNTIFS(zdroj!$B$3:$B$700,Screen!AI3)","v":6},{"$f":"+SUM(AF6:AF35)","v":0},"Zákazník","Dopravce","Status"]
[{"$f":"IF(C6=\"\",\"\",LOOKUP(C6,zdroj!$E$3:$E$201,zdroj!$F$3:$F$201))","v":"00:00:00"},{"$f":"+IF(C5=0,\"\",1)","v":1},{"$f":"+IF(C5=0,\"\",1)","v":1},{"$f":"IF(C6=\"\",\"\",LOOKUP(C6,zdroj!$E$3:$E$700,zdroj!$L$3:$L$700))","v":0},{"$f":"IF(C6=\"\",\"\",LOOKUP(C6,zdroj!$E$3:$E$700,zdroj!$G$3:$G$700))","v":0},{"$f":"IF(C6=\"\",\"\",LOOKUP(C6,zdroj!$E$3:$E$700,zdroj!$H$3:$H$700))","v":0},{"$f":"+IF(C6=\"\",\"\",LOOKUP(C6,zdroj!$E$3:$E$700,zdroj!$I$3:$I$700))","v":0},{"$f":"IF(J6=\"\",\"\",LOOKUP(J6,zdroj!$E$3:$E$700,zdroj!$F$3:$F$700))","v":"06:00:00"},{"$f":"+IF(J5=0,\"\",1)","v":1},{"$f":"+IF(I6=\"\",\"\",I6+I$5)","v":31},{"$f":"IF(J6=\"\",\"\",LOOKUP(J6,zdroj!$E$3:$E$700,zdroj!$L$3:$L$700))","v":0},{"$f":"IF(J6=\"\",\"\",LOOKUP(J6,zdroj!$E$3:$E$700,zdroj!$G$3:$G$700))","v":"DF"},{"$f":"IF(J6=\"\",\"\",LOOKUP(J6,zdroj!$E$3:$E$700,zdroj!$H$3:$H$700))","v":"Hroza "},{"$f":"+IF(J6=\"\",\"\",LOOKUP(J6,zdroj!$E$3:$E$700,zdroj!$I$3:$I$700))","v":"Dokončeno"},{"$f":"IF(Q6=\"\",\"\",LOOKUP(Q6,zdroj!$E$3:$E$700,zdroj!$F$3:$F$700))","v":"06:00:00"},{"$f":"+IF(Q5=0,\"\",1)","v":1},{"$f":"+IF(P6=\"\",\"\",P6+P$5)","v":61},{"$f":"IF(Q6=\"\",\"\",LOOKUP(Q6,zdroj!$E$3:$E$700,zdroj!$L$3:$L$700))","v":0},{"$f":"IF(Q6=\"\",\"\",LOOKUP(Q6,zdroj!$E$3:$E$700,zdroj!$G$3:$G$700))","v":"DF"},{"$f":"IF(Q6=\"\",\"\",LOOKUP(Q6,zdroj!$E$3:$E$700,zdroj!$H$3:$H$700))","v":"Hroza "},{"$f":"+IF(Q6=\"\",\"\",LOOKUP(Q6,zdroj!$E$3:$E$700,zdroj!$I$3:$I$700))","v":"Dokončeno"},{"$f":"IF(X6=\"\",\"\",LOOKUP(X6,zdroj!$E$3:$E$700,zdroj!$F$3:$F$700))","v":"06:00:00"},{"$f":"+IF(X5=0,\"\",1)","v":1},{"$f":"+IF(W6=\"\",\"\",W6+W$5)","v":91},{"$f":"IF(X6=\"\",\"\",LOOKUP(X6,zdroj!$E$3:$E$700,zdroj!$L$3:$L$700))","v":0},{"$f":"IF(X6=\"\",\"\",LOOKUP(X6,zdroj!$E$3:$E$700,zdroj!$G$3:$G$700))","v":"DF"},{"$f":"IF(X6=\"\",\"\",LOOKUP(X6,zdroj!$E$3:$E$700,zdroj!$H$3:$H$700))","v":"Hroza"},{"$f":"+IF(X6=\"\",\"\",LOOKUP(X6,zdroj!$E$3:$E$700,zdroj!$I$3:$I$700))","v":"Dokončeno"},{"$f":"IF(AE6=\"\",\"\",LOOKUP(AE6,zdroj!$E$3:$E$700,zdroj!$F$3:$F$700))","v":"06:00:00"},{"$f":"+IF(AE5=0,\"\",1)","v":1},{"$f":"+IF(AD6=\"\",\"\",AD6+AD$5)","v":121},{"$f":"IF(AE6=\"\",\"\",LOOKUP(AE6,zdroj!$E$3:$E$700,zdroj!$L$3:$L$700))","v":0},{"$f":"IF(AE6=\"\",\"\",LOOKUP(AE6,zdroj!$E$3:$E$700,zdroj!$G$3:$G$700))","v":"DF"},{"$f":"IF(AE6=\"\",\"\",LOOKUP(AE6,zdroj!$E$3:$E$700,zdroj!$H$3:$H$700))","v":"Hroza"},{"$f":"+IF(AE6=\"\",\"\",LOOKUP(AE6,zdroj!$E$3:$E$700,zdroj!$I$3:$I$700))","v":"Dokončeno"}]
[{"$f":"IF(C7=\"\",\"\",LOOKUP(C7,zdroj!$E$3:$E$201,zdroj!$F$3:$F$201))","v":""},{"$f":"+IF(C$5>B6,B6+1,\"\")","v":""},{"$f":"+IF(C$5>C6,C6+1,\"\")","v":""},{"$f":"IF(C7=\"\",\"\",LOOKUP(C7,zdroj!$E$3:$E$700,zdroj!$L$3:$L$700))","v":""},{"$f":"IF(C7=\"\",\"\",LOOKUP(C7,zdroj!$E$3:$E$700,zdroj!$G$3:$G$700))","v":""},{"$f":"IF(C7=\"\",\"\",LOOKUP(C7,zdroj!$E$3:$E$700,zdroj!$H$3:$H$700))","v":""},{"$f":"+IF(C7=\"\",\"\",LOOKUP(C7,zdroj!$E$3:$E$700,zdroj!$I$3:$I$700))","v":""},{"$f":"IF(J7=\"\",\"\",LOOKUP(J7,zdroj!$E$3:$E$700,zdroj!$F$3:$F$700))","v":"07:00:00"},{"$f":"+IF(J$5>I6,I6+1,\"\")","v":2},{"$f":"+IF(I7=\"\",\"\",I7+I$5)","v":32},{"$f":"IF(J7=\"\",\"\",LOOKUP(J7,zdroj!$E$3:$E$700,zdroj!$L$3:$L$700))","v":0},{"$f":"IF(J7=\"\",\"\",LOOKUP(J7,zdroj!$E$3:$E$700,zdroj!$G$3:$G$700))","v":"Antolin"},{"$f":"IF(J7=\"\",\"\",LOOKUP(J7,zdroj!$E$3:$E$700,zdroj!$H$3:$H$700))","v":"vlastní"},{"$f":"+IF(J7=\"\",\"\",LOOKUP(J7,zdroj!$E$3:$E$700,zdroj!$I$3:$I$700))","v":"Dokončeno"},{"$f":"IF(Q7=\"\",\"\",LOOKUP(Q7,zdroj!$E$3:$E$700,zdroj!$F$3:$F$700))","v":"06:05:00"},{"$f":"+IF(Q$5>P6,P6+1,\"\")","v":2},{"$f":"+IF(P7=\"\",\"\",P7+P$5)","v":62},{"$f":"IF(Q7=\"\",\"\",LOOKUP(Q7,zdroj!$E$3:$E$700,zdroj!$L$3:$L$700))","v":0},{"$f":"IF(Q7=\"\",\"\",LOOKUP(Q7,zdroj!$E$3:$E$700,zdroj!$G$3:$G$700))","v":"Bochemie"},{"$f":"IF(Q7=\"\",\"\",LOOKUP(Q7,zdroj!$E$3:$E$700,zdroj!$H$3:$H$700))","v":"TEZET"},{"$f":"+IF(Q7=\"\",\"\",LOOKUP(Q7,zdroj!$E$3:$E$700,zdroj!$I$3:$I$700))","v":"Dokončeno"},{"$f":"IF(X7=\"\",\"\",LOOKUP(X7,zdroj!$E$3:$E$700,zdroj!$F$3:$F$700))","v":"06:05:00"},{"$f":"+IF(X$5>W6,W6+1,\"\")","v":2},{"$f":"+IF(W7=\"\",\"\",W7+W$5)","v":92},{"$f":"IF(X7=\"\",\"\",LOOKUP(X7,zdroj!$E$3:$E$700,zdroj!$L$3:$L$700))","v":0},{"$f":"IF(X7=\"\",\"\",LOOKUP(X7,zdroj!$E$3:$E$700,zdroj!$G$3:$G$700))","v":"Oma "},{"$f":"IF(X7=\"\",\"\",LOOKUP(X7,zdroj!$E$3:$E$700,zdroj!$H$3:$H$700))","v":"Tezet"},{"$f":"+IF(X7=\"\",\"\",LOOKUP(X7,zdroj!$E$3:$E$700,zdroj!$I$3:$I$700))","v":"Dokončeno"},{"$f":"IF(AE7=\"\",\"\",LOOKUP(AE7,zdroj!$E$3:$E$700,zdroj!$F$3:$F$700))","v":"06:00:00"},{"$f":"+IF(AE$5>AD6,AD6+1,\"\")","v":2},{"$f":"+IF(AD7=\"\",\"\",AD7+AD$5)","v":122},{"$f":"IF(AE7=\"\",\"\",LOOKUP(AE7,zdroj!$E$3:$E$700,zdroj!$L$3:$L$700))","v":0},{"$f":"IF(AE7=\"\",\"\",LOOKUP(AE7,zdroj!$E$3:$E$700,zdroj!$G$3:$G$700))","v":"DF"},{"$f":"IF(AE7=\"\",\"\",LOOKUP(AE7,zdroj!$E$3:$E$700,zdroj!$H$3:$H$700))","v":"Hroza"},{"$f":"+IF(AE7=\"\",\"\",LOOKUP(AE7,zdroj!$E$3:$E$700,zdroj!$I$3:$I$700))","v":"Dokončeno"}]
[{"$f":"IF(C8=\"\",\"\",LOOKUP(C8,zdroj!$E$3:$E$201,zdroj!$F$3:$F$201))","v":""},{"$f":"+IF(C$5>B7,B7+1,\"\")","v":""},{"$f":"+IF(C$5>C7,C7+1,\"\")","v":""},{"$f":"IF(C8=\"\",\"\",LOOKUP(C8,zdroj!$E$3:$E$700,zdroj!$L$3:$L$700))","v":""},{"$f":"IF(C8=\"\",\"\",LOOKUP(C8,zdroj!$E$3:$E$700,zdroj!$G$3:$G$700))","v":""},{"$f":"IF(C8=\"\",\"\",LOOKUP(C8,zdroj!$E$3:$E$700,zdroj!$H$3:$H$700))","v":""},{"$f":"+IF(C8=\"\",\"\",LOOKUP(C8,zdroj!$E$3:$E$700,zdroj!$I$3:$I$700))","v":""},{"$f":"IF(J8=\"\",\"\",LOOKUP(J8,zdroj!$E$3:$E$700,zdroj!$F$3:$F$700))","v":"08:00:00"},{"$f":"+IF(J$5>I7,I7+1,\"\")","v":3},{"$f":"+IF(I8=\"\",\"\",I8+I$5)","v":33},{"$f":"IF(J8=\"\",\"\",LOOKUP(J8,zdroj!$E$3:$E$700,zdroj!$L$3:$L$700))","v":0},{"$f":"IF(J8=\"\",\"\",LOOKUP(J8,zdroj!$E$3:$E$700,zdroj!$G$3:$G$700))","v":"INX"},{"$f":"IF(J8=\"\",\"\",LOOKUP(J8,zdroj!$E$3:$E$700,zdroj!$H$3:$H$700))","v":"Logmax"},{"$f":"+IF(J8=\"\",\"\",LOOKUP(J8,zdroj!$E$3:$E$700,zdroj!$I$3:$I$700))","v":"Dokončeno"},{"$f":"IF(Q8=\"\",\"\",LOOKUP(Q8,zdroj!$E$3:$E$700,zdroj!$F$3:$F$700))","v":"06:05:00"},{"$f":"+IF(Q$5>P7,P7+1,\"\")","v":3},{"$f":"+IF(P8=\"\",\"\",P8+P$5)","v":63},{"$f":"IF(Q8=\"\",\"\",LOOKUP(Q8,zdroj!$E$3:$E$700,zdroj!$L$3:$L$700))","v":0},{"$f":"IF(Q8=\"\",\"\",LOOKUP(Q8,zdroj!$E$3:$E$700,zdroj!$G$3:$G$700))","v":"DF"},{"$f":"IF(Q8=\"\",\"\",LOOKUP(Q8,zdroj!$E$3:$E$700,zdroj!$H$3:$H$700))","v":"Hroza"},{"$f":"+IF(Q8=\"\",\"\",LOOKUP(Q8,zdroj!$E$3:$E$700,zdroj!$I$3:$I$700))","v":"Dokončeno"},{"$f":"IF(X8=\"\",\"\",LOOKUP(X8,zdroj!$E$3:$E$700,zdroj!$F$3:$F$700))","v":"06:05:00"},{"$f":"+IF(X$5>W7,W7+1,\"\")","v":3},{"$f":"+IF(W8=\"\",\"\",W8+W$5)","v":93},{"$f":"IF(X8=\"\",\"\",LOOKUP(X8,zdroj!$E$3:$E$700,zdroj!$L$3:$L$700))","v":0},{"$f":"IF(X8=\"\",\"\",LOOKUP(X8,zdroj!$E$3:$E$700,zdroj!$G$3:$G$700))","v":"Fagron"},{"$f":"IF(X8=\"\",\"\",LOOKUP(X8,zdroj!$E$3:$E$700,zdroj!$H$3:$H$700))","v":"TEZET"},{"$f":"+IF(X8=\"\",\"\",LOOKUP(X8,zdroj!$E$3:$E$700,zdroj!$I$3:$I$700))","v":"Dokončeno"},{"$f":"IF(AE8=\"\",\"\",LOOKUP(AE8,zdroj!$E$3:$E$700,zdroj!$F$3:$F$700))","v":"06:05:00"},{"$f":"+IF(AE$5>AD7,AD7+1,\"\")","v":3},{"$f":"+IF(AD8=\"\",\"\",AD8+AD$5)","v":123},{"$f":"IF(AE8=\"\",\"\",LOOKUP(AE8,zdroj!$E$3:$E$700,zdroj!$L$3:$L$700))","v":0},{"$f":"IF(AE8=\"\",\"\",LOOKUP(AE8,zdroj!$E$3:$E$700,zdroj!$G$3:$G$700))","v":"Cheport"},{"$f":"IF(AE8=\"\",\"\",LOOKUP(AE8,zdroj!$E$3:$E$700,zdroj!$H$3:$H$700))","v":"TEZET"},{"$f":"+IF(AE8=\"\",\"\",LOOKUP(AE8,zdroj!$E$3:$E$700,zdroj!$I$3:$I$700))","v":"Dokončeno"}]
[{"$f":"IF(C9=\"\",\"\",LOOKUP(C9,zdroj!$E$3:$E$201,zdroj!$F$3:$F$201))","v":""},"","",{"$f":"IF(C9=\"\",\"\",LOOKUP(C9,zdroj!$E$3:$E$700,zdroj!$L$3:$L$700))","v":""},{"$f":"IF(C9=\"\",\"\",LOOKUP(C9,zdroj!$E$3:$E$700,zdroj!$G$3:$G$700))","v":""},{"$f":"IF(C9=\"\",\"\",LOOKUP(C9,zdroj!$E$3:$E$700,zdroj!$H$3:$H$700))","v":""},{"$f":"+IF(C9=\"\",\"\",LOOKUP(C9,zdroj!$E$3:$E$700,zdroj!$I$3:$I$700))","v":""},{"$f":"IF(J9=\"\",\"\",LOOKUP(J9,zdroj!$E$3:$E$700,zdroj!$F$3:$F$700))","v":"11:00:00"},4,34,{"$f":"IF(J9=\"\",\"\",LOOKUP(J9,zdroj!$E$3:$E$700,zdroj!$L$3:$L$700))","v":0},{"$f":"IF(J9=\"\",\"\",LOOKUP(J9,zdroj!$E$3:$E$700,zdroj!$G$3:$G$700))","v":"Faurecie MB"},{"$f":"IF(J9=\"\",\"\",LOOKUP(J9,zdroj!$E$3:$E$700,zdroj!$H$3:$H$700))","v":"vlastní"},{"$f":"+IF(J9=\"\",\"\",LOOKUP(J9,zdroj!$E$3:$E$700,zdroj!$I$3:$I$700))","v":"Dokončeno"},{"$f":"IF(Q9=\"\",\"\",LOOKUP(Q9,zdroj!$E$3:$E$700,zdroj!$F$3:$F$700))","v":"08:00:00"},4,64,{"$f":"IF(Q9=\"\",\"\",LOOKUP(Q9,zdroj!$E$3:$E$700,zdroj!$L$3:$L$700))","v":0},{"$f":"IF(Q9=\"\",\"\",LOOKUP(Q9,zdroj!$E$3:$E$700,zdroj!$G$3:$G$700))","v":"T-Net"},{"$f":"IF(Q9=\"\",\"\",LOOKUP(Q9,zdroj!$E$3:$E$700,zdroj!$H$3:$H$700))","v":"kontejer"},{"$f":"+IF(Q9=\"\",\"\",LOOKUP(Q9,zdroj!$E$3:$E$700,zdroj!$I$3:$I$700))","v":"Dokončeno"},{"$f":"IF(X9=\"\",\"\",LOOKUP(X9,zdroj!$E$3:$E$700,zdroj!$F$3:$F$700))","v":"10:00:00"},4,94,{"$f":"IF(X9=\"\",\"\",LOOKUP(X9,zdroj!$E$3:$E$700,zdroj!$L$3:$L$700))","v":0},{"$f":"IF(X9=\"\",\"\",LOOKUP(X9,zdroj!$E$3:$E$700,zdroj!$G$3:$G$700))","v":"Variant"},{"$f":"IF(X9=\"\",\"\",LOOKUP(X9,zdroj!$E$3:$E$700,zdroj!$H$3:$H$700))","v":"vlastní"},{"$f":"+IF(X9=\"\",\"\",LOOKUP(X9,zdroj!$E$3:$E$700,zdroj!$I$3:$I$700))","v":"Dokončeno"},{"$f":"IF(AE9=\"\",\"\",LOOKUP(AE9,zdroj!$E$3:$E$700,zdroj!$F$3:$F$700))","v":"10:00:00"},4,124,{"$f":"IF(AE9=\"\",\"\",LOOKUP(AE9,zdroj!$E$3:$E$700,zdroj!$L$3:$L$700))","v":0},{"$f":"IF(AE9=\"\",\"\",LOOKUP(AE9,zdroj!$E$3:$E$700,zdroj!$G$3:$G$700))","v":"TBA"},{"$f":"IF(AE9=\"\",\"\",LOOKUP(AE9,zdroj!$E$3:$E$700,zdroj!$H$3:$H$700))","v":"vlastní "},{"$f":"+IF(AE9=\"\",\"\",LOOKUP(AE9,zdroj!$E$3:$E$700,zdroj!$I$3:$I$700))","v":"Dokončeno"}]
[{"$f":"IF(C10=\"\",\"\",LOOKUP(C10,zdroj!$E$3:$E$201,zdroj!$F$3:$F$201))","v":""},"","",{"$f":"IF(C10=\"\",\"\",LOOKUP(C10,zdroj!$E$3:$E$700,zdroj!$L$3:$L$700))","v":""},{"$f":"IF(C10=\"\",\"\",LOOKUP(C10,zdroj!$E$3:$E$700,zdroj!$G$3:$G$700))","v":""},{"$f":"IF(C10=\"\",\"\",LOOKUP(C10,zdroj!$E$3:$E$700,zdroj!$H$3:$H$700))","v":""},{"$f":"+IF(C10=\"\",\"\",LOOKUP(C10,zdroj!$E$3:$E$700,zdroj!$I$3:$I$700))","v":""},{"$f":"IF(J10=\"\",\"\",LOOKUP(J10,zdroj!$E$3:$E$700,zdroj!$F$3:$F$700))","v":"00:00:00"},5,35,{"$f":"IF(J10=\"\",\"\",LOOKUP(J10,zdroj!$E$3:$E$700,zdroj!$L$3:$L$700))","v":0},{"$f":"IF(J10=\"\",\"\",LOOKUP(J10,zdroj!$E$3:$E$700,zdroj!$G$3:$G$700))","v":"T-Net"},{"$f":"IF(J10=\"\",\"\",LOOKUP(J10,zdroj!$E$3:$E$700,zdroj!$H$3:$H$700))","v":"Legarde"},{"$f":"+IF(J10=\"\",\"\",LOOKUP(J10,zdroj!$E$3:$E$700,zdroj!$I$3:$I$700))","v":"Dokončeno"},{"$f":"IF(Q10=\"\",\"\",LOOKUP(Q10,zdroj!$E$3:$E$700,zdroj!$F$3:$F$700))","v":"10:00:00"},5,65,{"$f":"IF(Q10=\"\",\"\",LOOKUP(Q10,zdroj!$E$3:$E$700,zdroj!$L$3:$L$700))","v":0},{"$f":"IF(Q10=\"\",\"\",LOOKUP(Q10,zdroj!$E$3:$E$700,zdroj!$G$3:$G$700))","v":"Ozas-Esab"},{"$f":"IF(Q10=\"\",\"\",LOOKUP(Q10,zdroj!$E$3:$E$700,zdroj!$H$3:$H$700))","v":"Schenker"},{"$f":"+IF(Q10=\"\",\"\",LOOKUP(Q10,zdroj!$E$3:$E$700,zdroj!$I$3:$I$700))","v":"Dokončeno"},{"$f":"IF(X10=\"\",\"\",LOOKUP(X10,zdroj!$E$3:$E$700,zdroj!$F$3:$F$700))","v":"10:00:00"},5,95,{"$f":"IF(X10=\"\",\"\",LOOKUP(X10,zdroj!$E$3:$E$700,zdroj!$L$3:$L$700))","v":0},{"$f":"IF(X10=\"\",\"\",LOOKUP(X10,zdroj!$E$3:$E$700,zdroj!$G$3:$G$700))","v":"Carrier"},{"$f":"IF(X10=\"\",\"\",LOOKUP(X10,zdroj!$E$3:$E$700,zdroj!$H$3:$H$700))","v":"vlastní"},{"$f":"+IF(X10=\"\",\"\",LOOKUP(X10,zdroj!$E$3:$E$700,zdroj!$I$3:$I$700))","v":"Dokončeno"},{"$f":"IF(AE10=\"\",\"\",LOOKUP(AE10,zdroj!$E$3:$E$700,zdroj!$F$3:$F$700))","v":"11:15:00"},5,125,{"$f":"IF(AE10=\"\",\"\",LOOKUP(AE10,zdroj!$E$3:$E$700,zdroj!$L$3:$L$700))","v":0},{"$f":"IF(AE10=\"\",\"\",LOOKUP(AE10,zdroj!$E$3:$E$700,zdroj!$G$3:$G$700))","v":"TBA"},{"$f":"IF(AE10=\"\",\"\",LOOKUP(AE10,zdroj!$E$3:$E$700,zdroj!$H$3:$H$700))","v":"6J74747"},{"$f":"+IF(AE10=\"\",\"\",LOOKUP(AE10,zdroj!$E$3:$E$700,zdroj!$I$3:$I$700))","v":"Dokončeno"}]
[{"$f":"IF(C11=\"\",\"\",LOOKUP(C11,zdroj!$E$3:$E$201,zdroj!$F$3:$F$201))","v":""},{"$f":"+IF(C$5>B10,B10+1,\"\")","v":""},"",{"$f":"IF(C11=\"\",\"\",LOOKUP(C11,zdroj!$E$3:$E$700,zdroj!$L$3:$L$700))","v":""},{"$f":"IF(C11=\"\",\"\",LOOKUP(C11,zdroj!$E$3:$E$700,zdroj!$G$3:$G$700))","v":""},{"$f":"IF(C11=\"\",\"\",LOOKUP(C11,zdroj!$E$3:$E$700,zdroj!$H$3:$H$700))","v":""},{"$f":"+IF(C11=\"\",\"\",LOOKUP(C11,zdroj!$E$3:$E$700,zdroj!$I$3:$I$700))","v":""},{"$f":"IF(J11=\"\",\"\",LOOKUP(J11,zdroj!$E$3:$E$700,zdroj!$F$3:$F$700))","v":"00:00:00"},{"$f":"+IF(J$5>I10,I10+1,\"\")","v":6},{"$f":"+IF(I11=\"\",\"\",I11+I$5)","v":36},{"$f":"IF(J11=\"\",\"\",LOOKUP(J11,zdroj!$E$3:$E$700,zdroj!$L$3:$L$700))","v":0},{"$f":"IF(J11=\"\",\"\",LOOKUP(J11,zdroj!$E$3:$E$700,zdroj!$G$3:$G$700))","v":"T-Net"},{"$f":"IF(J11=\"\",\"\",LOOKUP(J11,zdroj!$E$3:$E$700,zdroj!$H$3:$H$700))","v":"MSB"},{"$f":"+IF(J11=\"\",\"\",LOOKUP(J11,zdroj!$E$3:$E$700,zdroj!$I$3:$I$700))","v":"Dokončeno"},{"$f":"IF(Q11=\"\",\"\",LOOKUP(Q11,zdroj!$E$3:$E$700,zdroj!$F$3:$F$700))","v":"10:00:00"},{"$f":"+IF(Q$5>P10,P10+1,\"\")","v":6},{"$f":"+IF(P11=\"\",\"\",P11+P$5)","v":66},{"$f":"IF(Q11=\"\",\"\",LOOKUP(Q11,zdroj!$E$3:$E$700,zdroj!$L$3:$L$700))","v":0},{"$f":"IF(Q11=\"\",\"\",LOOKUP(Q11,zdroj!$E$3:$E$700,zdroj!$G$3:$G$700))","v":"Agrimex"},{"$f":"IF(Q11=\"\",\"\",LOOKUP(Q11,zdroj!$E$3:$E$700,zdroj!$H$3:$H$700))","v":"vlastní"},{"$f":"+IF(Q11=\"\",\"\",LOOKUP(Q11,zdroj!$E$3:$E$700,zdroj!$I$3:$I$700))","v":"Dokončeno"},{"$f":"IF(X11=\"\",\"\",LOOKUP(X11,zdroj!$E$3:$E$700,zdroj!$F$3:$F$700))","v":"10:00:00"},{"$f":"+IF(X$5>W10,W10+1,\"\")","v":6},{"$f":"+IF(W11=\"\",\"\",W11+W$5)","v":96},{"$f":"IF(X11=\"\",\"\",LOOKUP(X11,zdroj!$E$3:$E$700,zdroj!$L$3:$L$700))","v":0},{"$f":"IF(X11=\"\",\"\",LOOKUP(X11,zdroj!$E$3:$E$700,zdroj!$G$3:$G$700))","v":"Transtech tooling"},{"$f":"IF(X11=\"\",\"\",LOOKUP(X11,zdroj!$E$3:$E$700,zdroj!$H$3:$H$700))","v":"vlastníí"},{"$f":"+IF(X11=\"\",\"\",LOOKUP(X11,zdroj!$E$3:$E$700,zdroj!$I$3:$I$700))","v":"Dokončeno"},{"$f":"IF(AE11=\"\",\"\",LOOKUP(AE11,zdroj!$E$3:$E$700,zdroj!$F$3:$F$700))","v":"00:00:00"},{"$f":"+IF(AE$5>AD10,AD10+1,\"\")","v":6},{"$f":"+IF(AD11=\"\",\"\",AD11+AD$5)","v":126},{"$f":"IF(AE11=\"\",\"\",LOOKUP(AE11,zdroj!$E$3:$E$700,zdroj!$L$3:$L$700))","v":0},{"$f":"IF(AE11=\"\",\"\",LOOKUP(AE11,zdroj!$E$3:$E$700,zdroj!$G$3:$G$700))","v":"Seco Group"},{"$f":"IF(AE11=\"\",\"\",LOOKUP(AE11,zdroj!$E$3:$E$700,zdroj!$H$3:$H$700))","v":"TEZET"},{"$f":"+IF(AE11=\"\",\"\",LOOKUP(AE11,zdroj!$E$3:$E$700,zdroj!$I$3:$I$700))","v":"Dokončeno"}]
[{"$f":"IF(C12=\"\",\"\",LOOKUP(C12,zdroj!$E$3:$E$201,zdroj!$F$3:$F$201))","v":""},"","",{"$f":"IF(C12=\"\",\"\",LOOKUP(C12,zdroj!$E$3:$E$700,zdroj!$L$3:$L$700))","v":""},{"$f":"IF(C12=\"\",\"\",LOOKUP(C12,zdroj!$E$3:$E$700,zdroj!$G$3:$G$700))","v":""},{"$f":"IF(C12=\"\",\"\",LOOKUP(C12,zdroj!$E$3:$E$700,zdroj!$H$3:$H$700))","v":""},{"$f":"+IF(C12=\"\",\"\",LOOKUP(C12,zdroj!$E$3:$E$700,zdroj!$I$3:$I$700))","v":""},{"$f":"IF(J12=\"\",\"\",LOOKUP(J12,zdroj!$E$3:$E$700,zdroj!$F$3:$F$700))","v":"00:00:00"},7,37,{"$f":"IF(J12=\"\",\"\",LOOKUP(J12,zdroj!$E$3:$E$700,zdroj!$L$3:$L$700))","v":0},{"$f":"IF(J12=\"\",\"\",LOOKUP(J12,zdroj!$E$3:$E$700,zdroj!$G$3:$G$700))","v":"T-Net"},{"$f":"IF(J12=\"\",\"\",LOOKUP(J12,zdroj!$E$3:$E$700,zdroj!$H$3:$H$700))","v":"MSB"},{"$f":"+IF(J12=\"\",\"\",LOOKUP(J12,zdroj!$E$3:$E$700,zdroj!$I$3:$I$700))","v":"Dokončeno"},{"$f":"IF(Q12=\"\",\"\",LOOKUP(Q12,zdroj!$E$3:$E$700,zdroj!$F$3:$F$700))","v":"11:00:00"},7,67,{"$f":"IF(Q12=\"\",\"\",LOOKUP(Q12,zdroj!$E$3:$E$700,zdroj!$L$3:$L$700))","v":0},{"$f":"IF(Q12=\"\",\"\",LOOKUP(Q12,zdroj!$E$3:$E$700,zdroj!$G$3:$G$700))","v":"Flexfill"},{"$f":"IF(Q12=\"\",\"\",LOOKUP(Q12,zdroj!$E$3:$E$700,zdroj!$H$3:$H$700))","v":"Interkontakt"},{"$f":"+IF(Q12=\"\",\"\",LOOKUP(Q12,zdroj!$E$3:$E$700,zdroj!$I$3:$I$700))","v":"Dokončeno"},{"$f":"IF(X12=\"\",\"\",LOOKUP(X12,zdroj!$E$3:$E$700,zdroj!$F$3:$F$700))","v":"10:30:00"},7,97,{"$f":"IF(X12=\"\",\"\",LOOKUP(X12,zdroj!$E$3:$E$700,zdroj!$L$3:$L$700))","v":0},{"$f":"IF(X12=\"\",\"\",LOOKUP(X12,zdroj!$E$3:$E$700,zdroj!$G$3:$G$700))","v":"Lopal"},{"$f":"IF(X12=\"\",\"\",LOOKUP(X12,zdroj!$E$3:$E$700,zdroj!$H$3:$H$700))","v":"vlastní"},{"$f":"+IF(X12=\"\",\"\",LOOKUP(X12,zdroj!$E$3:$E$700,zdroj!$I$3:$I$700))","v":"Dokončeno"},{"$f":"IF(AE12=\"\",\"\",LOOKUP(AE12,zdroj!$E$3:$E$700,zdroj!$F$3:$F$700))","v":""},"","",{"$f":"IF(AE12=\"\",\"\",LOOKUP(AE12,zdroj!$E$3:$E$700,zdroj!$L$3:$L$700))","v":""},{"$f":"IF(AE12=\"\",\"\",LOOKUP(AE12,zdroj!$E$3:$E$700,zdroj!$G$3:$G$700))","v":""},{"$f":"IF(AE12=\"\",\"\",LOOKUP(AE12,zdroj!$E$3:$E$700,zdroj!$H$3:$H$700))","v":""},{"$f":"+IF(AE12=\"\",\"\",LOOKUP(AE12,zdroj!$E$3:$E$700,zdroj!$I$3:$I$700))","v":""}]
[{"$f":"IF(C13=\"\",\"\",LOOKUP(C13,zdroj!$E$3:$E$201,zdroj!$F$3:$F$201))","v":""},"","",{"$f":"IF(C13=\"\",\"\",LOOKUP(C13,zdroj!$E$3:$E$700,zdroj!$L$3:$L$700))","v":""},{"$f":"IF(C13=\"\",\"\",LOOKUP(C13,zdroj!$E$3:$E$700,zdroj!$G$3:$G$700))","v":""},{"$f":"IF(C13=\"\",\"\",LOOKUP(C13,zdroj!$E$3:$E$700,zdroj!$H$3:$H$700))","v":""},{"$f":"+IF(C13=\"\",\"\",LOOKUP(C13,zdroj!$E$3:$E$700,zdroj!$I$3:$I$700))","v":""},{"$f":"IF(J13=\"\",\"\",LOOKUP(J13,zdroj!$E$3:$E$700,zdroj!$F$3:$F$700))","v":"00:00:00"},8,38,{"$f":"IF(J13=\"\",\"\",LOOKUP(J13,zdroj!$E$3:$E$700,zdroj!$L$3:$L$700))","v":0},{"$f":"IF(J13=\"\",\"\",LOOKUP(J13,zdroj!$E$3:$E$700,zdroj!$G$3:$G$700))","v":"T-Net"},{"$f":"IF(J13=\"\",\"\",LOOKUP(J13,zdroj!$E$3:$E$700,zdroj!$H$3:$H$700))","v":"MSB"},{"$f":"+IF(J13=\"\",\"\",LOOKUP(J13,zdroj!$E$3:$E$700,zdroj!$I$3:$I$700))","v":"Dokončeno"},{"$f":"IF(Q13=\"\",\"\",LOOKUP(Q13,zdroj!$E$3:$E$700,zdroj!$F$3:$F$700))","v":"00:00:00"},8,68,{"$f":"IF(Q13=\"\",\"\",LOOKUP(Q13,zdroj!$E$3:$E$700,zdroj!$L$3:$L$700))","v":0},{"$f":"IF(Q13=\"\",\"\",LOOKUP(Q13,zdroj!$E$3:$E$700,zdroj!$G$3:$G$700))","v":"Tichelman"},{"$f":"IF(Q13=\"\",\"\",LOOKUP(Q13,zdroj!$E$3:$E$700,zdroj!$H$3:$H$700))","v":"vlastní"},{"$f":"+IF(Q13=\"\",\"\",LOOKUP(Q13,zdroj!$E$3:$E$700,zdroj!$I$3:$I$700))","v":"Dokončeno"},{"$f":"IF(X13=\"\",\"\",LOOKUP(X13,zdroj!$E$3:$E$700,zdroj!$F$3:$F$700))","v":"12:00:00"},8,98,{"$f":"IF(X13=\"\",\"\",LOOKUP(X13,zdroj!$E$3:$E$700,zdroj!$L$3:$L$700))","v":0},{"$f":"IF(X13=\"\",\"\",LOOKUP(X13,zdroj!$E$3:$E$700,zdroj!$G$3:$G$700))","v":"Bartozs Ratuski"},{"$f":"IF(X13=\"\",\"\",LOOKUP(X13,zdroj!$E$3:$E$700,zdroj!$H$3:$H$700))","v":"vlastní"},{"$f":"+IF(X13=\"\",\"\",LOOKUP(X13,zdroj!$E$3:$E$700,zdroj!$I$3:$I$700))","v":"Dokončeno"},{"$f":"IF(AE13=\"\",\"\",LOOKUP(AE13,zdroj!$E$3:$E$700,zdroj!$F$3:$F$700))","v":""},"","",{"$f":"IF(AE13=\"\",\"\",LOOKUP(AE13,zdroj!$E$3:$E$700,zdroj!$L$3:$L$700))","v":""},{"$f":"IF(AE13=\"\",\"\",LOOKUP(AE13,zdroj!$E$3:$E$700,zdroj!$G$3:$G$700))","v":""},{"$f":"IF(AE13=\"\",\"\",LOOKUP(AE13,zdroj!$E$3:$E$700,zdroj!$H$3:$H$700))","v":""},{"$f":"+IF(AE13=\"\",\"\",LOOKUP(AE13,zdroj!$E$3:$E$700,zdroj!$I$3:$I$700))","v":""}]
[{"$f":"IF(C14=\"\",\"\",LOOKUP(C14,zdroj!$E$3:$E$201,zdroj!$F$3:$F$201))","v":""},"","",{"$f":"IF(C14=\"\",\"\",LOOKUP(C14,zdroj!$E$3:$E$700,zdroj!$L$3:$L$700))","v":""},{"$f":"IF(C14=\"\",\"\",LOOKUP(C14,zdroj!$E$3:$E$700,zdroj!$G$3:$G$700))","v":""},{"$f":"IF(C14=\"\",\"\",LOOKUP(C14,zdroj!$E$3:$E$700,zdroj!$H$3:$H$700))","v":""},{"$f":"+IF(C14=\"\",\"\",LOOKUP(C14,zdroj!$E$3:$E$700,zdroj!$I$3:$I$700))","v":""},{"$f":"IF(J14=\"\",\"\",LOOKUP(J14,zdroj!$E$3:$E$700,zdroj!$F$3:$F$700))","v":"00:00:00"},9,39,{"$f":"IF(J14=\"\",\"\",LOOKUP(J14,zdroj!$E$3:$E$700,zdroj!$L$3:$L$700))","v":0},{"$f":"IF(J14=\"\",\"\",LOOKUP(J14,zdroj!$E$3:$E$700,zdroj!$G$3:$G$700))","v":"T-Net"},{"$f":"IF(J14=\"\",\"\",LOOKUP(J14,zdroj!$E$3:$E$700,zdroj!$H$3:$H$700))","v":"MSB"},{"$f":"+IF(J14=\"\",\"\",LOOKUP(J14,zdroj!$E$3:$E$700,zdroj!$I$3:$I$700))","v":"Dokončeno"},{"$f":"IF(Q14=\"\",\"\",LOOKUP(Q14,zdroj!$E$3:$E$700,zdroj!$F$3:$F$700))","v":""},"","",{"$f":"IF(Q14=\"\",\"\",LOOKUP(Q14,zdroj!$E$3:$E$700,zdroj!$L$3:$L$700))","v":""},{"$f":"IF(Q14=\"\",\"\",LOOKUP(Q14,zdroj!$E$3:$E$700,zdroj!$G$3:$G$700))","v":""},{"$f":"IF(Q14=\"\",\"\",LOOKUP(Q14,zdroj!$E$3:$E$700,zdroj!$H$3:$H$700))","v":""},{"$f":"+IF(Q14=\"\",\"\",LOOKUP(Q14,zdroj!$E$3:$E$700,zdroj!$I$3:$I$700))","v":""},{"$f":"IF(X14=\"\",\"\",LOOKUP(X14,zdroj!$E$3:$E$700,zdroj!$F$3:$F$700))","v":"14:00:00"},9,99,{"$f":"IF(X14=\"\",\"\",LOOKUP(X14,zdroj!$E$3:$E$700,zdroj!$L$3:$L$700))","v":0},{"$f":"IF(X14=\"\",\"\",LOOKUP(X14,zdroj!$E$3:$E$700,zdroj!$G$3:$G$700))","v":"Sait-Gonbein"},{"$f":"IF(X14=\"\",\"\",LOOKUP(X14,zdroj!$E$3:$E$700,zdroj!$H$3:$H$700))","v":"vlastní"},{"$f":"+IF(X14=\"\",\"\",LOOKUP(X14,zdroj!$E$3:$E$700,zdroj!$I$3:$I$700))","v":"Dokončeno"},{"$f":"IF(AE14=\"\",\"\",LOOKUP(AE14,zdroj!$E$3:$E$700,zdroj!$F$3:$F$700))","v":""},"","",{"$f":"IF(AE14=\"\",\"\",LOOKUP(AE14,zdroj!$E$3:$E$700,zdroj!$L$3:$L$700))","v":""},{"$f":"IF(AE14=\"\",\"\",LOOKUP(AE14,zdroj!$E$3:$E$700,zdroj!$G$3:$G$700))","v":""},{"$f":"IF(AE14=\"\",\"\",LOOKUP(AE14,zdroj!$E$3:$E$700,zdroj!$H$3:$H$700))","v":""},{"$f":"+IF(AE14=\"\",\"\",LOOKUP(AE14,zdroj!$E$3:$E$700,zdroj!$I$3:$I$700))","v":""}]
[{"$f":"IF(C15=\"\",\"\",LOOKUP(C15,zdroj!$E$3:$E$201,zdroj!$F$3:$F$201))","v":""},"","",{"$f":"IF(C15=\"\",\"\",LOOKUP(C15,zdroj!$E$3:$E$700,zdroj!$L$3:$L$700))","v":""},{"$f":"IF(C15=\"\",\"\",LOOKUP(C15,zdroj!$E$3:$E$700,zdroj!$G$3:$G$700))","v":""},{"$f":"IF(C15=\"\",\"\",LOOKUP(C15,zdroj!$E$3:$E$700,zdroj!$H$3:$H$700))","v":""},{"$f":"+IF(C15=\"\",\"\",LOOKUP(C15,zdroj!$E$3:$E$700,zdroj!$I$3:$I$700))","v":""},{"$f":"IF(J15=\"\",\"\",LOOKUP(J15,zdroj!$E$3:$E$700,zdroj!$F$3:$F$700))","v":"00:00:00"},10,40,{"$f":"IF(J15=\"\",\"\",LOOKUP(J15,zdroj!$E$3:$E$700,zdroj!$L$3:$L$700))","v":0},{"$f":"IF(J15=\"\",\"\",LOOKUP(J15,zdroj!$E$3:$E$700,zdroj!$G$3:$G$700))","v":"Filmer"},{"$f":"IF(J15=\"\",\"\",LOOKUP(J15,zdroj!$E$3:$E$700,zdroj!$H$3:$H$700))","v":0},{"$f":"+IF(J15=\"\",\"\",LOOKUP(J15,zdroj!$E$3:$E$700,zdroj!$I$3:$I$700))","v":"Dokončeno"},{"$f":"IF(Q15=\"\",\"\",LOOKUP(Q15,zdroj!$E$3:$E$700,zdroj!$F$3:$F$700))","v":""},"","",{"$f":"IF(Q15=\"\",\"\",LOOKUP(Q15,zdroj!$E$3:$E$700,zdroj!$L$3:$L$700))","v":""},{"$f":"IF(Q15=\"\",\"\",LOOKUP(Q15,zdroj!$E$3:$E$700,zdroj!$G$3:$G$700))","v":""},{"$f":"IF(Q15=\"\",\"\",LOOKUP(Q15,zdroj!$E$3:$E$700,zdroj!$H$3:$H$700))","v":""},{"$f":"+IF(Q15=\"\",\"\",LOOKUP(Q15,zdroj!$E$3:$E$700,zdroj!$I$3:$I$700))","v":""},{"$f":"IF(X15=\"\",\"\",LOOKUP(X15,zdroj!$E$3:$E$700,zdroj!$F$3:$F$700))","v":"00:00:00"},10,100,{"$f":"IF(X15=\"\",\"\",LOOKUP(X15,zdroj!$E$3:$E$700,zdroj!$L$3:$L$700))","v":0},{"$f":"IF(X15=\"\",\"\",LOOKUP(X15,zdroj!$E$3:$E$700,zdroj!$G$3:$G$700))","v":"GEFCO"},{"$f":"IF(X15=\"\",\"\",LOOKUP(X15,zdroj!$E$3:$E$700,zdroj!$H$3:$H$700))","v":"vlastní"},{"$f":"+IF(X15=\"\",\"\",LOOKUP(X15,zdroj!$E$3:$E$700,zdroj!$I$3:$I$700))","v":"Dokončeno"},{"$f":"IF(AE15=\"\",\"\",LOOKUP(AE15,zdroj!$E$3:$E$700,zdroj!$F$3:$F$700))","v":""},"","",{"$f":"IF(AE15=\"\",\"\",LOOKUP(AE15,zdroj!$E$3:$E$700,zdroj!$L$3:$L$700))","v":""},{"$f":"IF(AE15=\"\",\"\",LOOKUP(AE15,zdroj!$E$3:$E$700,zdroj!$G$3:$G$700))","v":""},{"$f":"IF(AE15=\"\",\"\",LOOKUP(AE15,zdroj!$E$3:$E$700,zdroj!$H$3:$H$700))","v":""},{"$f":"+IF(AE15=\"\",\"\",LOOKUP(AE15,zdroj!$E$3:$E$700,zdroj!$I$3:$I$700))","v":""}]
[{"$f":"IF(C16=\"\",\"\",LOOKUP(C16,zdroj!$E$3:$E$201,zdroj!$F$3:$F$201))","v":""},"","",{"$f":"IF(C16=\"\",\"\",LOOKUP(C16,zdroj!$E$3:$E$700,zdroj!$L$3:$L$700))","v":""},{"$f":"IF(C16=\"\",\"\",LOOKUP(C16,zdroj!$E$3:$E$700,zdroj!$G$3:$G$700))","v":""},{"$f":"IF(C16=\"\",\"\",LOOKUP(C16,zdroj!$E$3:$E$700,zdroj!$H$3:$H$700))","v":""},{"$f":"+IF(C16=\"\",\"\",LOOKUP(C16,zdroj!$E$3:$E$700,zdroj!$I$3:$I$700))","v":""},{"$f":"IF(J16=\"\",\"\",LOOKUP(J16,zdroj!$E$3:$E$700,zdroj!$F$3:$F$700))","v":"00:00:00"},11,41,{"$f":"IF(J16=\"\",\"\",LOOKUP(J16,zdroj!$E$3:$E$700,zdroj!$L$3:$L$700))","v":0},{"$f":"IF(J16=\"\",\"\",LOOKUP(J16,zdroj!$E$3:$E$700,zdroj!$G$3:$G$700))","v":"GAS"},{"$f":"IF(J16=\"\",\"\",LOOKUP(J16,zdroj!$E$3:$E$700,zdroj!$H$3:$H$700))","v":"vlastní"},{"$f":"+IF(J16=\"\",\"\",LOOKUP(J16,zdroj!$E$3:$E$700,zdroj!$I$3:$I$700))","v":"Dokončeno"},{"$f":"IF(Q16=\"\",\"\",LOOKUP(Q16,zdroj!$E$3:$E$700,zdroj!$F$3:$F$700))","v":""},"","",{"$f":"IF(Q16=\"\",\"\",LOOKUP(Q16,zdroj!$E$3:$E$700,zdroj!$L$3:$L$700))","v":""},{"$f":"IF(Q16=\"\",\"\",LOOKUP(Q16,zdroj!$E$3:$E$700,zdroj!$G$3:$G$700))","v":""},{"$f":"IF(Q16=\"\",\"\",LOOKUP(Q16,zdroj!$E$3:$E$700,zdroj!$H$3:$H$700))","v":""},{"$f":"+IF(Q16=\"\",\"\",LOOKUP(Q16,zdroj!$E$3:$E$700,zdroj!$I$3:$I$700))","v":""},{"$f":"IF(X16=\"\",\"\",LOOKUP(X16,zdroj!$E$3:$E$700,zdroj!$F$3:$F$700))","v":"00:00:00"},11,101,{"$f":"IF(X16=\"\",\"\",LOOKUP(X16,zdroj!$E$3:$E$700,zdroj!$L$3:$L$700))","v":0},{"$f":"IF(X16=\"\",\"\",LOOKUP(X16,zdroj!$E$3:$E$700,zdroj!$G$3:$G$700))","v":"PK Group"},{"$f":"IF(X16=\"\",\"\",LOOKUP(X16,zdroj!$E$3:$E$700,zdroj!$H$3:$H$700))","v":"vlastní"},{"$f":"+IF(X16=\"\",\"\",LOOKUP(X16,zdroj!$E$3:$E$700,zdroj!$I$3:$I$700))","v":"Dokončeno"},{"$f":"IF(AE16=\"\",\"\",LOOKUP(AE16,zdroj!$E$3:$E$700,zdroj!$F$3:$F$700))","v":""},"","",{"$f":"IF(AE16=\"\",\"\",LOOKUP(AE16,zdroj!$E$3:$E$700,zdroj!$L$3:$L$700))","v":""},{"$f":"IF(AE16=\"\",\"\",LOOKUP(AE16,zdroj!$E$3:$E$700,zdroj!$G$3:$G$700))","v":""},{"$f":"IF(AE16=\"\",\"\",LOOKUP(AE16,zdroj!$E$3:$E$700,zdroj!$H$3:$H$700))","v":""},{"$f":"+IF(AE16=\"\",\"\",LOOKUP(AE16,zdroj!$E$3:$E$700,zdroj!$I$3:$I$700))","v":""}]
[{"$f":"IF(C17=\"\",\"\",LOOKUP(C17,zdroj!$E$3:$E$201,zdroj!$F$3:$F$201))","v":""},"","",{"$f":"IF(C17=\"\",\"\",LOOKUP(C17,zdroj!$E$3:$E$700,zdroj!$L$3:$L$700))","v":""},{"$f":"IF(C17=\"\",\"\",LOOKUP(C17,zdroj!$E$3:$E$700,zdroj!$G$3:$G$700))","v":""},{"$f":"IF(C17=\"\",\"\",LOOKUP(C17,zdroj!$E$3:$E$700,zdroj!$H$3:$H$700))","v":""},{"$f":"+IF(C17=\"\",\"\",LOOKUP(C17,zdroj!$E$3:$E$700,zdroj!$I$3:$I$700))","v":""},{"$f":"IF(J17=\"\",\"\",LOOKUP(J17,zdroj!$E$3:$E$700,zdroj!$F$3:$F$700))","v":"00:00:00"},12,42,{"$f":"IF(J17=\"\",\"\",LOOKUP(J17,zdroj!$E$3:$E$700,zdroj!$L$3:$L$700))","v":0},{"$f":"IF(J17=\"\",\"\",LOOKUP(J17,zdroj!$E$3:$E$700,zdroj!$G$3:$G$700))","v":"Faurecie MB"},{"$f":"IF(J17=\"\",\"\",LOOKUP(J17,zdroj!$E$3:$E$700,zdroj!$H$3:$H$700))","v":"vlastní"},{"$f":"+IF(J17=\"\",\"\",LOOKUP(J17,zdroj!$E$3:$E$700,zdroj!$I$3:$I$700))","v":"Dokončeno"},{"$f":"IF(Q17=\"\",\"\",LOOKUP(Q17,zdroj!$E$3:$E$700,zdroj!$F$3:$F$700))","v":""},"","",{"$f":"IF(Q17=\"\",\"\",LOOKUP(Q17,zdroj!$E$3:$E$700,zdroj!$L$3:$L$700))","v":""},{"$f":"IF(Q17=\"\",\"\",LOOKUP(Q17,zdroj!$E$3:$E$700,zdroj!$G$3:$G$700))","v":""},{"$f":"IF(Q17=\"\",\"\",LOOKUP(Q17,zdroj!$E$3:$E$700,zdroj!$H$3:$H$700))","v":""},{"$f":"+IF(Q17=\"\",\"\",LOOKUP(Q17,zdroj!$E$3:$E$700,zdroj!$I$3:$I$700))","v":""},{"$f":"IF(X17=\"\",\"\",LOOKUP(X17,zdroj!$E$3:$E$700,zdroj!$F$3:$F$700))","v":""},"","",{"$f":"IF(X17=\"\",\"\",LOOKUP(X17,zdroj!$E$3:$E$700,zdroj!$L$3:$L$700))","v":""},{"$f":"IF(X17=\"\",\"\",LOOKUP(X17,zdroj!$E$3:$E$700,zdroj!$G$3:$G$700))","v":""},{"$f":"IF(X17=\"\",\"\",LOOKUP(X17,zdroj!$E$3:$E$700,zdroj!$H$3:$H$700))","v":""},{"$f":"+IF(X17=\"\",\"\",LOOKUP(X17,zdroj!$E$3:$E$700,zdroj!$I$3:$I$700))","v":""},{"$f":"IF(AE17=\"\",\"\",LOOKUP(AE17,zdroj!$E$3:$E$700,zdroj!$F$3:$F$700))","v":""},"","",{"$f":"IF(AE17=\"\",\"\",LOOKUP(AE17,zdroj!$E$3:$E$700,zdroj!$L$3:$L$700))","v":""},{"$f":"IF(AE17=\"\",\"\",LOOKUP(AE17,zdroj!$E$3:$E$700,zdroj!$G$3:$G$700))","v":""},{"$f":"IF(AE17=\"\",\"\",LOOKUP(AE17,zdroj!$E$3:$E$700,zdroj!$H$3:$H$700))","v":""},{"$f":"+IF(AE17=\"\",\"\",LOOKUP(AE17,zdroj!$E$3:$E$700,zdroj!$I$3:$I$700))","v":""}]
[{"$f":"IF(C18=\"\",\"\",LOOKUP(C18,zdroj!$E$3:$E$201,zdroj!$F$3:$F$201))","v":""},"","",{"$f":"IF(C18=\"\",\"\",LOOKUP(C18,zdroj!$E$3:$E$700,zdroj!$L$3:$L$700))","v":""},{"$f":"IF(C18=\"\",\"\",LOOKUP(C18,zdroj!$E$3:$E$700,zdroj!$G$3:$G$700))","v":""},{"$f":"IF(C18=\"\",\"\",LOOKUP(C18,zdroj!$E$3:$E$700,zdroj!$H$3:$H$700))","v":""},{"$f":"+IF(C18=\"\",\"\",LOOKUP(C18,zdroj!$E$3:$E$700,zdroj!$I$3:$I$700))","v":""},{"$f":"IF(J18=\"\",\"\",LOOKUP(J18,zdroj!$E$3:$E$700,zdroj!$F$3:$F$700))","v":""},"","",{"$f":"IF(J18=\"\",\"\",LOOKUP(J18,zdroj!$E$3:$E$700,zdroj!$L$3:$L$700))","v":""},{"$f":"IF(J18=\"\",\"\",LOOKUP(J18,zdroj!$E$3:$E$700,zdroj!$G$3:$G$700))","v":""},{"$f":"IF(J18=\"\",\"\",LOOKUP(J18,zdroj!$E$3:$E$700,zdroj!$H$3:$H$700))","v":""},{"$f":"+IF(J18=\"\",\"\",LOOKUP(J18,zdroj!$E$3:$E$700,zdroj!$I$3:$I$700))","v":""},{"$f":"IF(Q18=\"\",\"\",LOOKUP(Q18,zdroj!$E$3:$E$700,zdroj!$F$3:$F$700))","v":""},"","",{"$f":"IF(Q18=\"\",\"\",LOOKUP(Q18,zdroj!$E$3:$E$700,zdroj!$L$3:$L$700))","v":""},{"$f":"IF(Q18=\"\",\"\",LOOKUP(Q18,zdroj!$E$3:$E$700,zdroj!$G$3:$G$700))","v":""},{"$f":"IF(Q18=\"\",\"\",LOOKUP(Q18,zdroj!$E$3:$E$700,zdroj!$H$3:$H$700))","v":""},{"$f":"+IF(Q18=\"\",\"\",LOOKUP(Q18,zdroj!$E$3:$E$700,zdroj!$I$3:$I$700))","v":""},{"$f":"IF(X18=\"\",\"\",LOOKUP(X18,zdroj!$E$3:$E$700,zdroj!$F$3:$F$700))","v":""},"","",{"$f":"IF(X18=\"\",\"\",LOOKUP(X18,zdroj!$E$3:$E$700,zdroj!$L$3:$L$700))","v":""},{"$f":"IF(X18=\"\",\"\",LOOKUP(X18,zdroj!$E$3:$E$700,zdroj!$G$3:$G$700))","v":""},{"$f":"IF(X18=\"\",\"\",LOOKUP(X18,zdroj!$E$3:$E$700,zdroj!$H$3:$H$700))","v":""},{"$f":"+IF(X18=\"\",\"\",LOOKUP(X18,zdroj!$E$3:$E$700,zdroj!$I$3:$I$700))","v":""},{"$f":"IF(AE18=\"\",\"\",LOOKUP(AE18,zdroj!$E$3:$E$700,zdroj!$F$3:$F$700))","v":""},"","",{"$f":"IF(AE18=\"\",\"\",LOOKUP(AE18,zdroj!$E$3:$E$700,zdroj!$L$3:$L$700))","v":""},{"$f":"IF(AE18=\"\",\"\",LOOKUP(AE18,zdroj!$E$3:$E$700,zdroj!$G$3:$G$700))","v":""},{"$f":"IF(AE18=\"\",\"\",LOOKUP(AE18,zdroj!$E$3:$E$700,zdroj!$H$3:$H$700))","v":""},{"$f":"+IF(AE18=\"\",\"\",LOOKUP(AE18,zdroj!$E$3:$E$700,zdroj!$I$3:$I$700))","v":""}]
[{"$f":"IF(C19=\"\",\"\",LOOKUP(C19,zdroj!$E$3:$E$201,zdroj!$F$3:$F$201))","v":""},"","",{"$f":"IF(C19=\"\",\"\",LOOKUP(C19,zdroj!$E$3:$E$700,zdroj!$L$3:$L$700))","v":""},{"$f":"IF(C19=\"\",\"\",LOOKUP(C19,zdroj!$E$3:$E$700,zdroj!$G$3:$G$700))","v":""},{"$f":"IF(C19=\"\",\"\",LOOKUP(C19,zdroj!$E$3:$E$700,zdroj!$H$3:$H$700))","v":""},{"$f":"+IF(C19=\"\",\"\",LOOKUP(C19,zdroj!$E$3:$E$700,zdroj!$I$3:$I$700))","v":""},{"$f":"IF(J19=\"\",\"\",LOOKUP(J19,zdroj!$E$3:$E$700,zdroj!$F$3:$F$700))","v":""},"","",{"$f":"IF(J19=\"\",\"\",LOOKUP(J19,zdroj!$E$3:$E$700,zdroj!$L$3:$L$700))","v":""},{"$f":"IF(J19=\"\",\"\",LOOKUP(J19,zdroj!$E$3:$E$700,zdroj!$G$3:$G$700))","v":""},{"$f":"IF(J19=\"\",\"\",LOOKUP(J19,zdroj!$E$3:$E$700,zdroj!$H$3:$H$700))","v":""},{"$f":"+IF(J19=\"\",\"\",LOOKUP(J19,zdroj!$E$3:$E$700,zdroj!$I$3:$I$700))","v":""},{"$f":"IF(Q19=\"\",\"\",LOOKUP(Q19,zdroj!$E$3:$E$700,zdroj!$F$3:$F$700))","v":""},"","",{"$f":"IF(Q19=\"\",\"\",LOOKUP(Q19,zdroj!$E$3:$E$700,zdroj!$L$3:$L$700))","v":""},{"$f":"IF(Q19=\"\",\"\",LOOKUP(Q19,zdroj!$E$3:$E$700,zdroj!$G$3:$G$700))","v":""},{"$f":"IF(Q19=\"\",\"\",LOOKUP(Q19,zdroj!$E$3:$E$700,zdroj!$H$3:$H$700))","v":""},{"$f":"+IF(Q19=\"\",\"\",LOOKUP(Q19,zdroj!$E$3:$E$700,zdroj!$I$3:$I$700))","v":""},{"$f":"IF(X19=\"\",\"\",LOOKUP(X19,zdroj!$E$3:$E$700,zdroj!$F$3:$F$700))","v":""},"","",{"$f":"IF(X19=\"\",\"\",LOOKUP(X19,zdroj!$E$3:$E$700,zdroj!$L$3:$L$700))","v":""},{"$f":"IF(X19=\"\",\"\",LOOKUP(X19,zdroj!$E$3:$E$700,zdroj!$G$3:$G$700))","v":""},{"$f":"IF(X19=\"\",\"\",LOOKUP(X19,zdroj!$E$3:$E$700,zdroj!$H$3:$H$700))","v":""},{"$f":"+IF(X19=\"\",\"\",LOOKUP(X19,zdroj!$E$3:$E$700,zdroj!$I$3:$I$700))","v":""},{"$f":"IF(AE19=\"\",\"\",LOOKUP(AE19,zdroj!$E$3:$E$700,zdroj!$F$3:$F$700))","v":""},"","",{"$f":"IF(AE19=\"\",\"\",LOOKUP(AE19,zdroj!$E$3:$E$700,zdroj!$L$3:$L$700))","v":""},{"$f":"IF(AE19=\"\",\"\",LOOKUP(AE19,zdroj!$E$3:$E$700,zdroj!$G$3:$G$700))","v":""},{"$f":"IF(AE19=\"\",\"\",LOOKUP(AE19,zdroj!$E$3:$E$700,zdroj!$H$3:$H$700))","v":""},{"$f":"+IF(AE19=\"\",\"\",LOOKUP(AE19,zdroj!$E$3:$E$700,zdroj!$I$3:$I$700))","v":""}]
[{"$f":"IF(C20=\"\",\"\",LOOKUP(C20,zdroj!$E$3:$E$201,zdroj!$F$3:$F$201))","v":""},"","",{"$f":"IF(C20=\"\",\"\",LOOKUP(C20,zdroj!$E$3:$E$700,zdroj!$L$3:$L$700))","v":""},{"$f":"IF(C20=\"\",\"\",LOOKUP(C20,zdroj!$E$3:$E$700,zdroj!$G$3:$G$700))","v":""},{"$f":"IF(C20=\"\",\"\",LOOKUP(C20,zdroj!$E$3:$E$700,zdroj!$H$3:$H$700))","v":""},{"$f":"+IF(C20=\"\",\"\",LOOKUP(C20,zdroj!$E$3:$E$700,zdroj!$I$3:$I$700))","v":""},{"$f":"IF(J20=\"\",\"\",LOOKUP(J20,zdroj!$E$3:$E$700,zdroj!$F$3:$F$700))","v":""},"","",{"$f":"IF(J20=\"\",\"\",LOOKUP(J20,zdroj!$E$3:$E$700,zdroj!$L$3:$L$700))","v":""},{"$f":"IF(J20=\"\",\"\",LOOKUP(J20,zdroj!$E$3:$E$700,zdroj!$G$3:$G$700))","v":""},{"$f":"IF(J20=\"\",\"\",LOOKUP(J20,zdroj!$E$3:$E$700,zdroj!$H$3:$H$700))","v":""},{"$f":"+IF(J20=\"\",\"\",LOOKUP(J20,zdroj!$E$3:$E$700,zdroj!$I$3:$I$700))","v":""},{"$f":"IF(Q20=\"\",\"\",LOOKUP(Q20,zdroj!$E$3:$E$700,zdroj!$F$3:$F$700))","v":""},"","",{"$f":"IF(Q20=\"\",\"\",LOOKUP(Q20,zdroj!$E$3:$E$700,zdroj!$L$3:$L$700))","v":""},{"$f":"IF(Q20=\"\",\"\",LOOKUP(Q20,zdroj!$E$3:$E$700,zdroj!$G$3:$G$700))","v":""},{"$f":"IF(Q20=\"\",\"\",LOOKUP(Q20,zdroj!$E$3:$E$700,zdroj!$H$3:$H$700))","v":""},{"$f":"+IF(Q20=\"\",\"\",LOOKUP(Q20,zdroj!$E$3:$E$700,zdroj!$I$3:$I$700))","v":""},{"$f":"IF(X20=\"\",\"\",LOOKUP(X20,zdroj!$E$3:$E$700,zdroj!$F$3:$F$700))","v":""},"","",{"$f":"IF(X20=\"\",\"\",LOOKUP(X20,zdroj!$E$3:$E$700,zdroj!$L$3:$L$700))","v":""},{"$f":"IF(X20=\"\",\"\",LOOKUP(X20,zdroj!$E$3:$E$700,zdroj!$G$3:$G$700))","v":""},{"$f":"IF(X20=\"\",\"\",LOOKUP(X20,zdroj!$E$3:$E$700,zdroj!$H$3:$H$700))","v":""},{"$f":"+IF(X20=\"\",\"\",LOOKUP(X20,zdroj!$E$3:$E$700,zdroj!$I$3:$I$700))","v":""},{"$f":"IF(AE20=\"\",\"\",LOOKUP(AE20,zdroj!$E$3:$E$700,zdroj!$F$3:$F$700))","v":""},"","",{"$f":"IF(AE20=\"\",\"\",LOOKUP(AE20,zdroj!$E$3:$E$700,zdroj!$L$3:$L$700))","v":""},{"$f":"IF(AE20=\"\",\"\",LOOKUP(AE20,zdroj!$E$3:$E$700,zdroj!$G$3:$G$700))","v":""},{"$f":"IF(AE20=\"\",\"\",LOOKUP(AE20,zdroj!$E$3:$E$700,zdroj!$H$3:$H$700))","v":""},{"$f":"+IF(AE20=\"\",\"\",LOOKUP(AE20,zdroj!$E$3:$E$700,zdroj!$I$3:$I$700))","v":""}]
[{"$f":"IF(C21=\"\",\"\",LOOKUP(C21,zdroj!$E$3:$E$201,zdroj!$F$3:$F$201))","v":""},"","",{"$f":"IF(C21=\"\",\"\",LOOKUP(C21,zdroj!$E$3:$E$700,zdroj!$L$3:$L$700))","v":""},{"$f":"IF(C21=\"\",\"\",LOOKUP(C21,zdroj!$E$3:$E$700,zdroj!$G$3:$G$700))","v":""},{"$f":"IF(C21=\"\",\"\",LOOKUP(C21,zdroj!$E$3:$E$700,zdroj!$H$3:$H$700))","v":""},{"$f":"+IF(C21=\"\",\"\",LOOKUP(C21,zdroj!$E$3:$E$700,zdroj!$I$3:$I$700))","v":""},{"$f":"IF(J21=\"\",\"\",LOOKUP(J21,zdroj!$E$3:$E$700,zdroj!$F$3:$F$700))","v":""},"","",{"$f":"IF(J21=\"\",\"\",LOOKUP(J21,zdroj!$E$3:$E$700,zdroj!$L$3:$L$700))","v":""},{"$f":"IF(J21=\"\",\"\",LOOKUP(J21,zdroj!$E$3:$E$700,zdroj!$G$3:$G$700))","v":""},{"$f":"IF(J21=\"\",\"\",LOOKUP(J21,zdroj!$E$3:$E$700,zdroj!$H$3:$H$700))","v":""},{"$f":"+IF(J21=\"\",\"\",LOOKUP(J21,zdroj!$E$3:$E$700,zdroj!$I$3:$I$700))","v":""},{"$f":"IF(Q21=\"\",\"\",LOOKUP(Q21,zdroj!$E$3:$E$700,zdroj!$F$3:$F$700))","v":""},"","",{"$f":"IF(Q21=\"\",\"\",LOOKUP(Q21,zdroj!$E$3:$E$700,zdroj!$L$3:$L$700))","v":""},{"$f":"IF(Q21=\"\",\"\",LOOKUP(Q21,zdroj!$E$3:$E$700,zdroj!$G$3:$G$700))","v":""},{"$f":"IF(Q21=\"\",\"\",LOOKUP(Q21,zdroj!$E$3:$E$700,zdroj!$H$3:$H$700))","v":""},{"$f":"+IF(Q21=\"\",\"\",LOOKUP(Q21,zdroj!$E$3:$E$700,zdroj!$I$3:$I$700))","v":""},{"$f":"IF(X21=\"\",\"\",LOOKUP(X21,zdroj!$E$3:$E$700,zdroj!$F$3:$F$700))","v":""},"","",{"$f":"IF(X21=\"\",\"\",LOOKUP(X21,zdroj!$E$3:$E$700,zdroj!$L$3:$L$700))","v":""},{"$f":"IF(X21=\"\",\"\",LOOKUP(X21,zdroj!$E$3:$E$700,zdroj!$G$3:$G$700))","v":""},{"$f":"IF(X21=\"\",\"\",LOOKUP(X21,zdroj!$E$3:$E$700,zdroj!$H$3:$H$700))","v":""},{"$f":"+IF(X21=\"\",\"\",LOOKUP(X21,zdroj!$E$3:$E$700,zdroj!$I$3:$I$700))","v":""},{"$f":"IF(AE21=\"\",\"\",LOOKUP(AE21,zdroj!$E$3:$E$700,zdroj!$F$3:$F$700))","v":""},"","",{"$f":"IF(AE21=\"\",\"\",LOOKUP(AE21,zdroj!$E$3:$E$700,zdroj!$L$3:$L$700))","v":""},{"$f":"IF(AE21=\"\",\"\",LOOKUP(AE21,zdroj!$E$3:$E$700,zdroj!$G$3:$G$700))","v":""},{"$f":"IF(AE21=\"\",\"\",LOOKUP(AE21,zdroj!$E$3:$E$700,zdroj!$H$3:$H$700))","v":""},{"$f":"+IF(AE21=\"\",\"\",LOOKUP(AE21,zdroj!$E$3:$E$700,zdroj!$I$3:$I$700))","v":""}]
[{"$f":"IF(C22=\"\",\"\",LOOKUP(C22,zdroj!$E$3:$E$201,zdroj!$F$3:$F$201))","v":""},"","",{"$f":"IF(C22=\"\",\"\",LOOKUP(C22,zdroj!$E$3:$E$700,zdroj!$L$3:$L$700))","v":""},{"$f":"IF(C22=\"\",\"\",LOOKUP(C22,zdroj!$E$3:$E$700,zdroj!$G$3:$G$700))","v":""},{"$f":"IF(C22=\"\",\"\",LOOKUP(C22,zdroj!$E$3:$E$700,zdroj!$H$3:$H$700))","v":""},{"$f":"+IF(C22=\"\",\"\",LOOKUP(C22,zdroj!$E$3:$E$700,zdroj!$I$3:$I$700))","v":""},{"$f":"IF(J22=\"\",\"\",LOOKUP(J22,zdroj!$E$3:$E$700,zdroj!$F$3:$F$700))","v":""},"","",{"$f":"IF(J22=\"\",\"\",LOOKUP(J22,zdroj!$E$3:$E$700,zdroj!$L$3:$L$700))","v":""},{"$f":"IF(J22=\"\",\"\",LOOKUP(J22,zdroj!$E$3:$E$700,zdroj!$G$3:$G$700))","v":""},{"$f":"IF(J22=\"\",\"\",LOOKUP(J22,zdroj!$E$3:$E$700,zdroj!$H$3:$H$700))","v":""},{"$f":"+IF(J22=\"\",\"\",LOOKUP(J22,zdroj!$E$3:$E$700,zdroj!$I$3:$I$700))","v":""},{"$f":"IF(Q22=\"\",\"\",LOOKUP(Q22,zdroj!$E$3:$E$700,zdroj!$F$3:$F$700))","v":""},"","",{"$f":"IF(Q22=\"\",\"\",LOOKUP(Q22,zdroj!$E$3:$E$700,zdroj!$L$3:$L$700))","v":""},{"$f":"IF(Q22=\"\",\"\",LOOKUP(Q22,zdroj!$E$3:$E$700,zdroj!$G$3:$G$700))","v":""},{"$f":"IF(Q22=\"\",\"\",LOOKUP(Q22,zdroj!$E$3:$E$700,zdroj!$H$3:$H$700))","v":""},{"$f":"+IF(Q22=\"\",\"\",LOOKUP(Q22,zdroj!$E$3:$E$700,zdroj!$I$3:$I$700))","v":""},{"$f":"IF(X22=\"\",\"\",LOOKUP(X22,zdroj!$E$3:$E$700,zdroj!$F$3:$F$700))","v":""},"","",{"$f":"IF(X22=\"\",\"\",LOOKUP(X22,zdroj!$E$3:$E$700,zdroj!$L$3:$L$700))","v":""},{"$f":"IF(X22=\"\",\"\",LOOKUP(X22,zdroj!$E$3:$E$700,zdroj!$G$3:$G$700))","v":""},{"$f":"IF(X22=\"\",\"\",LOOKUP(X22,zdroj!$E$3:$E$700,zdroj!$H$3:$H$700))","v":""},{"$f":"+IF(X22=\"\",\"\",LOOKUP(X22,zdroj!$E$3:$E$700,zdroj!$I$3:$I$700))","v":""},{"$f":"IF(AE22=\"\",\"\",LOOKUP(AE22,zdroj!$E$3:$E$700,zdroj!$F$3:$F$700))","v":""},"","",{"$f":"IF(AE22=\"\",\"\",LOOKUP(AE22,zdroj!$E$3:$E$700,zdroj!$L$3:$L$700))","v":""},{"$f":"IF(AE22=\"\",\"\",LOOKUP(AE22,zdroj!$E$3:$E$700,zdroj!$G$3:$G$700))","v":""},{"$f":"IF(AE22=\"\",\"\",LOOKUP(AE22,zdroj!$E$3:$E$700,zdroj!$H$3:$H$700))","v":""},{"$f":"+IF(AE22=\"\",\"\",LOOKUP(AE22,zdroj!$E$3:$E$700,zdroj!$I$3:$I$700))","v":""}]
[{"$f":"IF(C23=\"\",\"\",LOOKUP(C23,zdroj!$E$3:$E$201,zdroj!$F$3:$F$201))","v":""},"","",{"$f":"IF(C23=\"\",\"\",LOOKUP(C23,zdroj!$E$3:$E$700,zdroj!$L$3:$L$700))","v":""},{"$f":"IF(C23=\"\",\"\",LOOKUP(C23,zdroj!$E$3:$E$700,zdroj!$G$3:$G$700))","v":""},{"$f":"IF(C23=\"\",\"\",LOOKUP(C23,zdroj!$E$3:$E$700,zdroj!$H$3:$H$700))","v":""},{"$f":"+IF(C23=\"\",\"\",LOOKUP(C23,zdroj!$E$3:$E$700,zdroj!$I$3:$I$700))","v":""},{"$f":"IF(J23=\"\",\"\",LOOKUP(J23,zdroj!$E$3:$E$700,zdroj!$F$3:$F$700))","v":""},"","",{"$f":"IF(J23=\"\",\"\",LOOKUP(J23,zdroj!$E$3:$E$700,zdroj!$L$3:$L$700))","v":""},{"$f":"IF(J23=\"\",\"\",LOOKUP(J23,zdroj!$E$3:$E$700,zdroj!$G$3:$G$700))","v":""},{"$f":"IF(J23=\"\",\"\",LOOKUP(J23,zdroj!$E$3:$E$700,zdroj!$H$3:$H$700))","v":""},{"$f":"+IF(J23=\"\",\"\",LOOKUP(J23,zdroj!$E$3:$E$700,zdroj!$I$3:$I$700))","v":""},{"$f":"IF(Q23=\"\",\"\",LOOKUP(Q23,zdroj!$E$3:$E$700,zdroj!$F$3:$F$700))","v":""},"","",{"$f":"IF(Q23=\"\",\"\",LOOKUP(Q23,zdroj!$E$3:$E$700,zdroj!$L$3:$L$700))","v":""},{"$f":"IF(Q23=\"\",\"\",LOOKUP(Q23,zdroj!$E$3:$E$700,zdroj!$G$3:$G$700))","v":""},{"$f":"IF(Q23=\"\",\"\",LOOKUP(Q23,zdroj!$E$3:$E$700,zdroj!$H$3:$H$700))","v":""},{"$f":"+IF(Q23=\"\",\"\",LOOKUP(Q23,zdroj!$E$3:$E$700,zdroj!$I$3:$I$700))","v":""},{"$f":"IF(X23=\"\",\"\",LOOKUP(X23,zdroj!$E$3:$E$700,zdroj!$F$3:$F$700))","v":""},"","",{"$f":"IF(X23=\"\",\"\",LOOKUP(X23,zdroj!$E$3:$E$700,zdroj!$L$3:$L$700))","v":""},{"$f":"IF(X23=\"\",\"\",LOOKUP(X23,zdroj!$E$3:$E$700,zdroj!$G$3:$G$700))","v":""},{"$f":"IF(X23=\"\",\"\",LOOKUP(X23,zdroj!$E$3:$E$700,zdroj!$H$3:$H$700))","v":""},{"$f":"+IF(X23=\"\",\"\",LOOKUP(X23,zdroj!$E$3:$E$700,zdroj!$I$3:$I$700))","v":""},{"$f":"IF(AE23=\"\",\"\",LOOKUP(AE23,zdroj!$E$3:$E$700,zdroj!$F$3:$F$700))","v":""},"","",{"$f":"IF(AE23=\"\",\"\",LOOKUP(AE23,zdroj!$E$3:$E$700,zdroj!$L$3:$L$700))","v":""},{"$f":"IF(AE23=\"\",\"\",LOOKUP(AE23,zdroj!$E$3:$E$700,zdroj!$G$3:$G$700))","v":""},{"$f":"IF(AE23=\"\",\"\",LOOKUP(AE23,zdroj!$E$3:$E$700,zdroj!$H$3:$H$700))","v":""},{"$f":"+IF(AE23=\"\",\"\",LOOKUP(AE23,zdroj!$E$3:$E$700,zdroj!$I$3:$I$700))","v":""}]
[{"$f":"IF(C24=\"\",\"\",LOOKUP(C24,zdroj!$E$3:$E$201,zdroj!$F$3:$F$201))","v":""},"","",{"$f":"IF(C24=\"\",\"\",LOOKUP(C24,zdroj!$E$3:$E$700,zdroj!$L$3:$L$700))","v":""},{"$f":"IF(C24=\"\",\"\",LOOKUP(C24,zdroj!$E$3:$E$700,zdroj!$G$3:$G$700))","v":""},{"$f":"IF(C24=\"\",\"\",LOOKUP(C24,zdroj!$E$3:$E$700,zdroj!$H$3:$H$700))","v":""},{"$f":"+IF(C24=\"\",\"\",LOOKUP(C24,zdroj!$E$3:$E$700,zdroj!$I$3:$I$700))","v":""},{"$f":"IF(J24=\"\",\"\",LOOKUP(J24,zdroj!$E$3:$E$700,zdroj!$F$3:$F$700))","v":""},"","",{"$f":"IF(J24=\"\",\"\",LOOKUP(J24,zdroj!$E$3:$E$700,zdroj!$L$3:$L$700))","v":""},{"$f":"IF(J24=\"\",\"\",LOOKUP(J24,zdroj!$E$3:$E$700,zdroj!$G$3:$G$700))","v":""},{"$f":"IF(J24=\"\",\"\",LOOKUP(J24,zdroj!$E$3:$E$700,zdroj!$H$3:$H$700))","v":""},{"$f":"+IF(J24=\"\",\"\",LOOKUP(J24,zdroj!$E$3:$E$700,zdroj!$I$3:$I$700))","v":""},{"$f":"IF(Q24=\"\",\"\",LOOKUP(Q24,zdroj!$E$3:$E$700,zdroj!$F$3:$F$700))","v":""},"","",{"$f":"IF(Q24=\"\",\"\",LOOKUP(Q24,zdroj!$E$3:$E$700,zdroj!$L$3:$L$700))","v":""},{"$f":"IF(Q24=\"\",\"\",LOOKUP(Q24,zdroj!$E$3:$E$700,zdroj!$G$3:$G$700))","v":""},{"$f":"IF(Q24=\"\",\"\",LOOKUP(Q24,zdroj!$E$3:$E$700,zdroj!$H$3:$H$700))","v":""},{"$f":"+IF(Q24=\"\",\"\",LOOKUP(Q24,zdroj!$E$3:$E$700,zdroj!$I$3:$I$700))","v":""},{"$f":"IF(X24=\"\",\"\",LOOKUP(X24,zdroj!$E$3:$E$700,zdroj!$F$3:$F$700))","v":""},"","",{"$f":"IF(X24=\"\",\"\",LOOKUP(X24,zdroj!$E$3:$E$700,zdroj!$L$3:$L$700))","v":""},{"$f":"IF(X24=\"\",\"\",LOOKUP(X24,zdroj!$E$3:$E$700,zdroj!$G$3:$G$700))","v":""},{"$f":"IF(X24=\"\",\"\",LOOKUP(X24,zdroj!$E$3:$E$700,zdroj!$H$3:$H$700))","v":""},{"$f":"+IF(X24=\"\",\"\",LOOKUP(X24,zdroj!$E$3:$E$700,zdroj!$I$3:$I$700))","v":""},{"$f":"IF(AE24=\"\",\"\",LOOKUP(AE24,zdroj!$E$3:$E$700,zdroj!$F$3:$F$700))","v":""},"","",{"$f":"IF(AE24=\"\",\"\",LOOKUP(AE24,zdroj!$E$3:$E$700,zdroj!$L$3:$L$700))","v":""},{"$f":"IF(AE24=\"\",\"\",LOOKUP(AE24,zdroj!$E$3:$E$700,zdroj!$G$3:$G$700))","v":""},{"$f":"IF(AE24=\"\",\"\",LOOKUP(AE24,zdroj!$E$3:$E$700,zdroj!$H$3:$H$700))","v":""},{"$f":"+IF(AE24=\"\",\"\",LOOKUP(AE24,zdroj!$E$3:$E$700,zdroj!$I$3:$I$700))","v":""}]
[{"$f":"IF(C25=\"\",\"\",LOOKUP(C25,zdroj!$E$3:$E$201,zdroj!$F$3:$F$201))","v":""},"","",{"$f":"IF(C25=\"\",\"\",LOOKUP(C25,zdroj!$E$3:$E$700,zdroj!$L$3:$L$700))","v":""},{"$f":"IF(C25=\"\",\"\",LOOKUP(C25,zdroj!$E$3:$E$700,zdroj!$G$3:$G$700))","v":""},{"$f":"IF(C25=\"\",\"\",LOOKUP(C25,zdroj!$E$3:$E$700,zdroj!$H$3:$H$700))","v":""},{"$f":"+IF(C25=\"\",\"\",LOOKUP(C25,zdroj!$E$3:$E$700,zdroj!$I$3:$I$700))","v":""},{"$f":"IF(J25=\"\",\"\",LOOKUP(J25,zdroj!$E$3:$E$700,zdroj!$F$3:$F$700))","v":""},"","",{"$f":"IF(J25=\"\",\"\",LOOKUP(J25,zdroj!$E$3:$E$700,zdroj!$L$3:$L$700))","v":""},{"$f":"IF(J25=\"\",\"\",LOOKUP(J25,zdroj!$E$3:$E$700,zdroj!$G$3:$G$700))","v":""},{"$f":"IF(J25=\"\",\"\",LOOKUP(J25,zdroj!$E$3:$E$700,zdroj!$H$3:$H$700))","v":""},{"$f":"+IF(J25=\"\",\"\",LOOKUP(J25,zdroj!$E$3:$E$700,zdroj!$I$3:$I$700))","v":""},{"$f":"IF(Q25=\"\",\"\",LOOKUP(Q25,zdroj!$E$3:$E$700,zdroj!$F$3:$F$700))","v":""},"","",{"$f":"IF(Q25=\"\",\"\",LOOKUP(Q25,zdroj!$E$3:$E$700,zdroj!$L$3:$L$700))","v":""},{"$f":"IF(Q25=\"\",\"\",LOOKUP(Q25,zdroj!$E$3:$E$700,zdroj!$G$3:$G$700))","v":""},{"$f":"IF(Q25=\"\",\"\",LOOKUP(Q25,zdroj!$E$3:$E$700,zdroj!$H$3:$H$700))","v":""},{"$f":"+IF(Q25=\"\",\"\",LOOKUP(Q25,zdroj!$E$3:$E$700,zdroj!$I$3:$I$700))","v":""},{"$f":"IF(X25=\"\",\"\",LOOKUP(X25,zdroj!$E$3:$E$700,zdroj!$F$3:$F$700))","v":""},"","",{"$f":"IF(X25=\"\",\"\",LOOKUP(X25,zdroj!$E$3:$E$700,zdroj!$L$3:$L$700))","v":""},{"$f":"IF(X25=\"\",\"\",LOOKUP(X25,zdroj!$E$3:$E$700,zdroj!$G$3:$G$700))","v":""},{"$f":"IF(X25=\"\",\"\",LOOKUP(X25,zdroj!$E$3:$E$700,zdroj!$H$3:$H$700))","v":""},{"$f":"+IF(X25=\"\",\"\",LOOKUP(X25,zdroj!$E$3:$E$700,zdroj!$I$3:$I$700))","v":""},{"$f":"IF(AE25=\"\",\"\",LOOKUP(AE25,zdroj!$E$3:$E$700,zdroj!$F$3:$F$700))","v":""},"","",{"$f":"IF(AE25=\"\",\"\",LOOKUP(AE25,zdroj!$E$3:$E$700,zdroj!$L$3:$L$700))","v":""},{"$f":"IF(AE25=\"\",\"\",LOOKUP(AE25,zdroj!$E$3:$E$700,zdroj!$G$3:$G$700))","v":""},{"$f":"IF(AE25=\"\",\"\",LOOKUP(AE25,zdroj!$E$3:$E$700,zdroj!$H$3:$H$700))","v":""},{"$f":"+IF(AE25=\"\",\"\",LOOKUP(AE25,zdroj!$E$3:$E$700,zdroj!$I$3:$I$700))","v":""}]
[{"$f":"IF(C26=\"\",\"\",LOOKUP(C26,zdroj!$E$3:$E$201,zdroj!$F$3:$F$201))","v":""},"","",{"$f":"IF(C26=\"\",\"\",LOOKUP(C26,zdroj!$E$3:$E$700,zdroj!$L$3:$L$700))","v":""},{"$f":"IF(C26=\"\",\"\",LOOKUP(C26,zdroj!$E$3:$E$700,zdroj!$G$3:$G$700))","v":""},{"$f":"IF(C26=\"\",\"\",LOOKUP(C26,zdroj!$E$3:$E$700,zdroj!$H$3:$H$700))","v":""},{"$f":"+IF(C26=\"\",\"\",LOOKUP(C26,zdroj!$E$3:$E$700,zdroj!$I$3:$I$700))","v":""},{"$f":"IF(J26=\"\",\"\",LOOKUP(J26,zdroj!$E$3:$E$700,zdroj!$F$3:$F$700))","v":""},"","",{"$f":"IF(J26=\"\",\"\",LOOKUP(J26,zdroj!$E$3:$E$700,zdroj!$L$3:$L$700))","v":""},{"$f":"IF(J26=\"\",\"\",LOOKUP(J26,zdroj!$E$3:$E$700,zdroj!$G$3:$G$700))","v":""},{"$f":"IF(J26=\"\",\"\",LOOKUP(J26,zdroj!$E$3:$E$700,zdroj!$H$3:$H$700))","v":""},{"$f":"+IF(J26=\"\",\"\",LOOKUP(J26,zdroj!$E$3:$E$700,zdroj!$I$3:$I$700))","v":""},{"$f":"IF(Q26=\"\",\"\",LOOKUP(Q26,zdroj!$E$3:$E$700,zdroj!$F$3:$F$700))","v":""},"","",{"$f":"IF(Q26=\"\",\"\",LOOKUP(Q26,zdroj!$E$3:$E$700,zdroj!$L$3:$L$700))","v":""},{"$f":"IF(Q26=\"\",\"\",LOOKUP(Q26,zdroj!$E$3:$E$700,zdroj!$G$3:$G$700))","v":""},{"$f":"IF(Q26=\"\",\"\",LOOKUP(Q26,zdroj!$E$3:$E$700,zdroj!$H$3:$H$700))","v":""},{"$f":"+IF(Q26=\"\",\"\",LOOKUP(Q26,zdroj!$E$3:$E$700,zdroj!$I$3:$I$700))","v":""},{"$f":"IF(X26=\"\",\"\",LOOKUP(X26,zdroj!$E$3:$E$700,zdroj!$F$3:$F$700))","v":""},"","",{"$f":"IF(X26=\"\",\"\",LOOKUP(X26,zdroj!$E$3:$E$700,zdroj!$L$3:$L$700))","v":""},{"$f":"IF(X26=\"\",\"\",LOOKUP(X26,zdroj!$E$3:$E$700,zdroj!$G$3:$G$700))","v":""},{"$f":"IF(X26=\"\",\"\",LOOKUP(X26,zdroj!$E$3:$E$700,zdroj!$H$3:$H$700))","v":""},{"$f":"+IF(X26=\"\",\"\",LOOKUP(X26,zdroj!$E$3:$E$700,zdroj!$I$3:$I$700))","v":""},{"$f":"IF(AE26=\"\",\"\",LOOKUP(AE26,zdroj!$E$3:$E$700,zdroj!$F$3:$F$700))","v":""},"","",{"$f":"IF(AE26=\"\",\"\",LOOKUP(AE26,zdroj!$E$3:$E$700,zdroj!$L$3:$L$700))","v":""},{"$f":"IF(AE26=\"\",\"\",LOOKUP(AE26,zdroj!$E$3:$E$700,zdroj!$G$3:$G$700))","v":""},{"$f":"IF(AE26=\"\",\"\",LOOKUP(AE26,zdroj!$E$3:$E$700,zdroj!$H$3:$H$700))","v":""},{"$f":"+IF(AE26=\"\",\"\",LOOKUP(AE26,zdroj!$E$3:$E$700,zdroj!$I$3:$I$700))","v":""}]
[{"$f":"IF(C27=\"\",\"\",LOOKUP(C27,zdroj!$E$3:$E$201,zdroj!$F$3:$F$201))","v":""},"","",{"$f":"IF(C27=\"\",\"\",LOOKUP(C27,zdroj!$E$3:$E$700,zdroj!$L$3:$L$700))","v":""},{"$f":"IF(C27=\"\",\"\",LOOKUP(C27,zdroj!$E$3:$E$700,zdroj!$G$3:$G$700))","v":""},{"$f":"IF(C27=\"\",\"\",LOOKUP(C27,zdroj!$E$3:$E$700,zdroj!$H$3:$H$700))","v":""},{"$f":"+IF(C27=\"\",\"\",LOOKUP(C27,zdroj!$E$3:$E$700,zdroj!$I$3:$I$700))","v":""},{"$f":"IF(J27=\"\",\"\",LOOKUP(J27,zdroj!$E$3:$E$700,zdroj!$F$3:$F$700))","v":""},"","",{"$f":"IF(J27=\"\",\"\",LOOKUP(J27,zdroj!$E$3:$E$700,zdroj!$L$3:$L$700))","v":""},{"$f":"IF(J27=\"\",\"\",LOOKUP(J27,zdroj!$E$3:$E$700,zdroj!$G$3:$G$700))","v":""},{"$f":"IF(J27=\"\",\"\",LOOKUP(J27,zdroj!$E$3:$E$700,zdroj!$H$3:$H$700))","v":""},{"$f":"+IF(J27=\"\",\"\",LOOKUP(J27,zdroj!$E$3:$E$700,zdroj!$I$3:$I$700))","v":""},{"$f":"IF(Q27=\"\",\"\",LOOKUP(Q27,zdroj!$E$3:$E$700,zdroj!$F$3:$F$700))","v":""},"","",{"$f":"IF(Q27=\"\",\"\",LOOKUP(Q27,zdroj!$E$3:$E$700,zdroj!$L$3:$L$700))","v":""},{"$f":"IF(Q27=\"\",\"\",LOOKUP(Q27,zdroj!$E$3:$E$700,zdroj!$G$3:$G$700))","v":""},{"$f":"IF(Q27=\"\",\"\",LOOKUP(Q27,zdroj!$E$3:$E$700,zdroj!$H$3:$H$700))","v":""},{"$f":"+IF(Q27=\"\",\"\",LOOKUP(Q27,zdroj!$E$3:$E$700,zdroj!$I$3:$I$700))","v":""},{"$f":"IF(X27=\"\",\"\",LOOKUP(X27,zdroj!$E$3:$E$700,zdroj!$F$3:$F$700))","v":""},"","",{"$f":"IF(X27=\"\",\"\",LOOKUP(X27,zdroj!$E$3:$E$700,zdroj!$L$3:$L$700))","v":""},{"$f":"IF(X27=\"\",\"\",LOOKUP(X27,zdroj!$E$3:$E$700,zdroj!$G$3:$G$700))","v":""},{"$f":"IF(X27=\"\",\"\",LOOKUP(X27,zdroj!$E$3:$E$700,zdroj!$H$3:$H$700))","v":""},{"$f":"+IF(X27=\"\",\"\",LOOKUP(X27,zdroj!$E$3:$E$700,zdroj!$I$3:$I$700))","v":""},{"$f":"IF(AE27=\"\",\"\",LOOKUP(AE27,zdroj!$E$3:$E$700,zdroj!$F$3:$F$700))","v":""},"","",{"$f":"IF(AE27=\"\",\"\",LOOKUP(AE27,zdroj!$E$3:$E$700,zdroj!$L$3:$L$700))","v":""},{"$f":"IF(AE27=\"\",\"\",LOOKUP(AE27,zdroj!$E$3:$E$700,zdroj!$G$3:$G$700))","v":""},{"$f":"IF(AE27=\"\",\"\",LOOKUP(AE27,zdroj!$E$3:$E$700,zdroj!$H$3:$H$700))","v":""},{"$f":"+IF(AE27=\"\",\"\",LOOKUP(AE27,zdroj!$E$3:$E$700,zdroj!$I$3:$I$700))","v":""}]
[{"$f":"IF(C28=\"\",\"\",LOOKUP(C28,zdroj!$E$3:$E$201,zdroj!$F$3:$F$201))","v":""},"","",{"$f":"IF(C28=\"\",\"\",LOOKUP(C28,zdroj!$E$3:$E$700,zdroj!$L$3:$L$700))","v":""},{"$f":"IF(C28=\"\",\"\",LOOKUP(C28,zdroj!$E$3:$E$700,zdroj!$G$3:$G$700))","v":""},{"$f":"IF(C28=\"\",\"\",LOOKUP(C28,zdroj!$E$3:$E$700,zdroj!$H$3:$H$700))","v":""},{"$f":"+IF(C28=\"\",\"\",LOOKUP(C28,zdroj!$E$3:$E$700,zdroj!$I$3:$I$700))","v":""},{"$f":"IF(J28=\"\",\"\",LOOKUP(J28,zdroj!$E$3:$E$700,zdroj!$F$3:$F$700))","v":""},"","",{"$f":"IF(J28=\"\",\"\",LOOKUP(J28,zdroj!$E$3:$E$700,zdroj!$L$3:$L$700))","v":""},{"$f":"IF(J28=\"\",\"\",LOOKUP(J28,zdroj!$E$3:$E$700,zdroj!$G$3:$G$700))","v":""},{"$f":"IF(J28=\"\",\"\",LOOKUP(J28,zdroj!$E$3:$E$700,zdroj!$H$3:$H$700))","v":""},{"$f":"+IF(J28=\"\",\"\",LOOKUP(J28,zdroj!$E$3:$E$700,zdroj!$I$3:$I$700))","v":""},{"$f":"IF(Q28=\"\",\"\",LOOKUP(Q28,zdroj!$E$3:$E$700,zdroj!$F$3:$F$700))","v":""},"","",{"$f":"IF(Q28=\"\",\"\",LOOKUP(Q28,zdroj!$E$3:$E$700,zdroj!$L$3:$L$700))","v":""},{"$f":"IF(Q28=\"\",\"\",LOOKUP(Q28,zdroj!$E$3:$E$700,zdroj!$G$3:$G$700))","v":""},{"$f":"IF(Q28=\"\",\"\",LOOKUP(Q28,zdroj!$E$3:$E$700,zdroj!$H$3:$H$700))","v":""},{"$f":"+IF(Q28=\"\",\"\",LOOKUP(Q28,zdroj!$E$3:$E$700,zdroj!$I$3:$I$700))","v":""},{"$f":"IF(X28=\"\",\"\",LOOKUP(X28,zdroj!$E$3:$E$700,zdroj!$F$3:$F$700))","v":""},"","",{"$f":"IF(X28=\"\",\"\",LOOKUP(X28,zdroj!$E$3:$E$700,zdroj!$L$3:$L$700))","v":""},{"$f":"IF(X28=\"\",\"\",LOOKUP(X28,zdroj!$E$3:$E$700,zdroj!$G$3:$G$700))","v":""},{"$f":"IF(X28=\"\",\"\",LOOKUP(X28,zdroj!$E$3:$E$700,zdroj!$H$3:$H$700))","v":""},{"$f":"+IF(X28=\"\",\"\",LOOKUP(X28,zdroj!$E$3:$E$700,zdroj!$I$3:$I$700))","v":""},{"$f":"IF(AE28=\"\",\"\",LOOKUP(AE28,zdroj!$E$3:$E$700,zdroj!$F$3:$F$700))","v":""},"","",{"$f":"IF(AE28=\"\",\"\",LOOKUP(AE28,zdroj!$E$3:$E$700,zdroj!$L$3:$L$700))","v":""},{"$f":"IF(AE28=\"\",\"\",LOOKUP(AE28,zdroj!$E$3:$E$700,zdroj!$G$3:$G$700))","v":""},{"$f":"IF(AE28=\"\",\"\",LOOKUP(AE28,zdroj!$E$3:$E$700,zdroj!$H$3:$H$700))","v":""},{"$f":"+IF(AE28=\"\",\"\",LOOKUP(AE28,zdroj!$E$3:$E$700,zdroj!$I$3:$I$700))","v":""}]
[{"$f":"IF(C29=\"\",\"\",LOOKUP(C29,zdroj!$E$3:$E$201,zdroj!$F$3:$F$201))","v":""},"","",{"$f":"IF(C29=\"\",\"\",LOOKUP(C29,zdroj!$E$3:$E$700,zdroj!$L$3:$L$700))","v":""},{"$f":"IF(C29=\"\",\"\",LOOKUP(C29,zdroj!$E$3:$E$700,zdroj!$G$3:$G$700))","v":""},{"$f":"IF(C29=\"\",\"\",LOOKUP(C29,zdroj!$E$3:$E$700,zdroj!$H$3:$H$700))","v":""},{"$f":"+IF(C29=\"\",\"\",LOOKUP(C29,zdroj!$E$3:$E$700,zdroj!$I$3:$I$700))","v":""},{"$f":"IF(J29=\"\",\"\",LOOKUP(J29,zdroj!$E$3:$E$700,zdroj!$F$3:$F$700))","v":""},"","",{"$f":"IF(J29=\"\",\"\",LOOKUP(J29,zdroj!$E$3:$E$700,zdroj!$L$3:$L$700))","v":""},{"$f":"IF(J29=\"\",\"\",LOOKUP(J29,zdroj!$E$3:$E$700,zdroj!$G$3:$G$700))","v":""},{"$f":"IF(J29=\"\",\"\",LOOKUP(J29,zdroj!$E$3:$E$700,zdroj!$H$3:$H$700))","v":""},{"$f":"+IF(J29=\"\",\"\",LOOKUP(J29,zdroj!$E$3:$E$700,zdroj!$I$3:$I$700))","v":""},{"$f":"IF(Q29=\"\",\"\",LOOKUP(Q29,zdroj!$E$3:$E$700,zdroj!$F$3:$F$700))","v":""},"","",{"$f":"IF(Q29=\"\",\"\",LOOKUP(Q29,zdroj!$E$3:$E$700,zdroj!$L$3:$L$700))","v":""},{"$f":"IF(Q29=\"\",\"\",LOOKUP(Q29,zdroj!$E$3:$E$700,zdroj!$G$3:$G$700))","v":""},{"$f":"IF(Q29=\"\",\"\",LOOKUP(Q29,zdroj!$E$3:$E$700,zdroj!$H$3:$H$700))","v":""},{"$f":"+IF(Q29=\"\",\"\",LOOKUP(Q29,zdroj!$E$3:$E$700,zdroj!$I$3:$I$700))","v":""},{"$f":"IF(X29=\"\",\"\",LOOKUP(X29,zdroj!$E$3:$E$700,zdroj!$F$3:$F$700))","v":""},"","",{"$f":"IF(X29=\"\",\"\",LOOKUP(X29,zdroj!$E$3:$E$700,zdroj!$L$3:$L$700))","v":""},{"$f":"IF(X29=\"\",\"\",LOOKUP(X29,zdroj!$E$3:$E$700,zdroj!$G$3:$G$700))","v":""},{"$f":"IF(X29=\"\",\"\",LOOKUP(X29,zdroj!$E$3:$E$700,zdroj!$H$3:$H$700))","v":""},{"$f":"+IF(X29=\"\",\"\",LOOKUP(X29,zdroj!$E$3:$E$700,zdroj!$I$3:$I$700))","v":""},{"$f":"IF(AE29=\"\",\"\",LOOKUP(AE29,zdroj!$E$3:$E$700,zdroj!$F$3:$F$700))","v":""},"","",{"$f":"IF(AE29=\"\",\"\",LOOKUP(AE29,zdroj!$E$3:$E$700,zdroj!$L$3:$L$700))","v":""},{"$f":"IF(AE29=\"\",\"\",LOOKUP(AE29,zdroj!$E$3:$E$700,zdroj!$G$3:$G$700))","v":""},{"$f":"IF(AE29=\"\",\"\",LOOKUP(AE29,zdroj!$E$3:$E$700,zdroj!$H$3:$H$700))","v":""},{"$f":"+IF(AE29=\"\",\"\",LOOKUP(AE29,zdroj!$E$3:$E$700,zdroj!$I$3:$I$700))","v":""}]
[{"$f":"IF(C30=\"\",\"\",LOOKUP(C30,zdroj!$E$3:$E$201,zdroj!$F$3:$F$201))","v":""},"","",{"$f":"IF(C30=\"\",\"\",LOOKUP(C30,zdroj!$E$3:$E$700,zdroj!$L$3:$L$700))","v":""},{"$f":"IF(C30=\"\",\"\",LOOKUP(C30,zdroj!$E$3:$E$700,zdroj!$G$3:$G$700))","v":""},{"$f":"IF(C30=\"\",\"\",LOOKUP(C30,zdroj!$E$3:$E$700,zdroj!$H$3:$H$700))","v":""},{"$f":"+IF(C30=\"\",\"\",LOOKUP(C30,zdroj!$E$3:$E$700,zdroj!$I$3:$I$700))","v":""},{"$f":"IF(J30=\"\",\"\",LOOKUP(J30,zdroj!$E$3:$E$700,zdroj!$F$3:$F$700))","v":""},"","",{"$f":"IF(J30=\"\",\"\",LOOKUP(J30,zdroj!$E$3:$E$700,zdroj!$L$3:$L$700))","v":""},{"$f":"IF(J30=\"\",\"\",LOOKUP(J30,zdroj!$E$3:$E$700,zdroj!$G$3:$G$700))","v":""},{"$f":"IF(J30=\"\",\"\",LOOKUP(J30,zdroj!$E$3:$E$700,zdroj!$H$3:$H$700))","v":""},{"$f":"+IF(J30=\"\",\"\",LOOKUP(J30,zdroj!$E$3:$E$700,zdroj!$I$3:$I$700))","v":""},{"$f":"IF(Q30=\"\",\"\",LOOKUP(Q30,zdroj!$E$3:$E$700,zdroj!$F$3:$F$700))","v":""},"","",{"$f":"IF(Q30=\"\",\"\",LOOKUP(Q30,zdroj!$E$3:$E$700,zdroj!$L$3:$L$700))","v":""},{"$f":"IF(Q30=\"\",\"\",LOOKUP(Q30,zdroj!$E$3:$E$700,zdroj!$G$3:$G$700))","v":""},{"$f":"IF(Q30=\"\",\"\",LOOKUP(Q30,zdroj!$E$3:$E$700,zdroj!$H$3:$H$700))","v":""},{"$f":"+IF(Q30=\"\",\"\",LOOKUP(Q30,zdroj!$E$3:$E$700,zdroj!$I$3:$I$700))","v":""},{"$f":"IF(X30=\"\",\"\",LOOKUP(X30,zdroj!$E$3:$E$700,zdroj!$F$3:$F$700))","v":""},"","",{"$f":"IF(X30=\"\",\"\",LOOKUP(X30,zdroj!$E$3:$E$700,zdroj!$L$3:$L$700))","v":""},{"$f":"IF(X30=\"\",\"\",LOOKUP(X30,zdroj!$E$3:$E$700,zdroj!$G$3:$G$700))","v":""},{"$f":"IF(X30=\"\",\"\",LOOKUP(X30,zdroj!$E$3:$E$700,zdroj!$H$3:$H$700))","v":""},{"$f":"+IF(X30=\"\",\"\",LOOKUP(X30,zdroj!$E$3:$E$700,zdroj!$I$3:$I$700))","v":""},{"$f":"IF(AE30=\"\",\"\",LOOKUP(AE30,zdroj!$E$3:$E$700,zdroj!$F$3:$F$700))","v":""},"","",{"$f":"IF(AE30=\"\",\"\",LOOKUP(AE30,zdroj!$E$3:$E$700,zdroj!$L$3:$L$700))","v":""},{"$f":"IF(AE30=\"\",\"\",LOOKUP(AE30,zdroj!$E$3:$E$700,zdroj!$G$3:$G$700))","v":""},{"$f":"IF(AE30=\"\",\"\",LOOKUP(AE30,zdroj!$E$3:$E$700,zdroj!$H$3:$H$700))","v":""},{"$f":"+IF(AE30=\"\",\"\",LOOKUP(AE30,zdroj!$E$3:$E$700,zdroj!$I$3:$I$700))","v":""}]
[{"$f":"IF(C31=\"\",\"\",LOOKUP(C31,zdroj!$E$3:$E$201,zdroj!$F$3:$F$201))","v":""},"","",{"$f":"IF(C31=\"\",\"\",LOOKUP(C31,zdroj!$E$3:$E$700,zdroj!$L$3:$L$700))","v":""},{"$f":"IF(C31=\"\",\"\",LOOKUP(C31,zdroj!$E$3:$E$700,zdroj!$G$3:$G$700))","v":""},{"$f":"IF(C31=\"\",\"\",LOOKUP(C31,zdroj!$E$3:$E$700,zdroj!$H$3:$H$700))","v":""},{"$f":"+IF(C31=\"\",\"\",LOOKUP(C31,zdroj!$E$3:$E$700,zdroj!$I$3:$I$700))","v":""},{"$f":"IF(J31=\"\",\"\",LOOKUP(J31,zdroj!$E$3:$E$700,zdroj!$F$3:$F$700))","v":""},"","",{"$f":"IF(J31=\"\",\"\",LOOKUP(J31,zdroj!$E$3:$E$700,zdroj!$L$3:$L$700))","v":""},{"$f":"IF(J31=\"\",\"\",LOOKUP(J31,zdroj!$E$3:$E$700,zdroj!$G$3:$G$700))","v":""},{"$f":"IF(J31=\"\",\"\",LOOKUP(J31,zdroj!$E$3:$E$700,zdroj!$H$3:$H$700))","v":""},{"$f":"+IF(J31=\"\",\"\",LOOKUP(J31,zdroj!$E$3:$E$700,zdroj!$I$3:$I$700))","v":""},{"$f":"IF(Q31=\"\",\"\",LOOKUP(Q31,zdroj!$E$3:$E$700,zdroj!$F$3:$F$700))","v":""},"","",{"$f":"IF(Q31=\"\",\"\",LOOKUP(Q31,zdroj!$E$3:$E$700,zdroj!$L$3:$L$700))","v":""},{"$f":"IF(Q31=\"\",\"\",LOOKUP(Q31,zdroj!$E$3:$E$700,zdroj!$G$3:$G$700))","v":""},{"$f":"IF(Q31=\"\",\"\",LOOKUP(Q31,zdroj!$E$3:$E$700,zdroj!$H$3:$H$700))","v":""},{"$f":"+IF(Q31=\"\",\"\",LOOKUP(Q31,zdroj!$E$3:$E$700,zdroj!$I$3:$I$700))","v":""},{"$f":"IF(X31=\"\",\"\",LOOKUP(X31,zdroj!$E$3:$E$700,zdroj!$F$3:$F$700))","v":""},"","",{"$f":"IF(X31=\"\",\"\",LOOKUP(X31,zdroj!$E$3:$E$700,zdroj!$L$3:$L$700))","v":""},{"$f":"IF(X31=\"\",\"\",LOOKUP(X31,zdroj!$E$3:$E$700,zdroj!$G$3:$G$700))","v":""},{"$f":"IF(X31=\"\",\"\",LOOKUP(X31,zdroj!$E$3:$E$700,zdroj!$H$3:$H$700))","v":""},{"$f":"+IF(X31=\"\",\"\",LOOKUP(X31,zdroj!$E$3:$E$700,zdroj!$I$3:$I$700))","v":""},{"$f":"IF(AE31=\"\",\"\",LOOKUP(AE31,zdroj!$E$3:$E$700,zdroj!$F$3:$F$700))","v":""},"","",{"$f":"IF(AE31=\"\",\"\",LOOKUP(AE31,zdroj!$E$3:$E$700,zdroj!$L$3:$L$700))","v":""},{"$f":"IF(AE31=\"\",\"\",LOOKUP(AE31,zdroj!$E$3:$E$700,zdroj!$G$3:$G$700))","v":""},{"$f":"IF(AE31=\"\",\"\",LOOKUP(AE31,zdroj!$E$3:$E$700,zdroj!$H$3:$H$700))","v":""},{"$f":"+IF(AE31=\"\",\"\",LOOKUP(AE31,zdroj!$E$3:$E$700,zdroj!$I$3:$I$700))","v":""}]
[{"$f":"IF(C32=\"\",\"\",LOOKUP(C32,zdroj!$E$3:$E$201,zdroj!$F$3:$F$201))","v":""},"","",{"$f":"IF(C32=\"\",\"\",LOOKUP(C32,zdroj!$E$3:$E$700,zdroj!$L$3:$L$700))","v":""},{"$f":"IF(C32=\"\",\"\",LOOKUP(C32,zdroj!$E$3:$E$700,zdroj!$G$3:$G$700))","v":""},{"$f":"IF(C32=\"\",\"\",LOOKUP(C32,zdroj!$E$3:$E$700,zdroj!$H$3:$H$700))","v":""},{"$f":"+IF(C32=\"\",\"\",LOOKUP(C32,zdroj!$E$3:$E$700,zdroj!$I$3:$I$700))","v":""},{"$f":"IF(J32=\"\",\"\",LOOKUP(J32,zdroj!$E$3:$E$700,zdroj!$F$3:$F$700))","v":""},"","",{"$f":"IF(J32=\"\",\"\",LOOKUP(J32,zdroj!$E$3:$E$700,zdroj!$L$3:$L$700))","v":""},{"$f":"IF(J32=\"\",\"\",LOOKUP(J32,zdroj!$E$3:$E$700,zdroj!$G$3:$G$700))","v":""},{"$f":"IF(J32=\"\",\"\",LOOKUP(J32,zdroj!$E$3:$E$700,zdroj!$H$3:$H$700))","v":""},{"$f":"+IF(J32=\"\",\"\",LOOKUP(J32,zdroj!$E$3:$E$700,zdroj!$I$3:$I$700))","v":""},{"$f":"IF(Q32=\"\",\"\",LOOKUP(Q32,zdroj!$E$3:$E$700,zdroj!$F$3:$F$700))","v":""},"","",{"$f":"IF(Q32=\"\",\"\",LOOKUP(Q32,zdroj!$E$3:$E$700,zdroj!$L$3:$L$700))","v":""},{"$f":"IF(Q32=\"\",\"\",LOOKUP(Q32,zdroj!$E$3:$E$700,zdroj!$G$3:$G$700))","v":""},{"$f":"IF(Q32=\"\",\"\",LOOKUP(Q32,zdroj!$E$3:$E$700,zdroj!$H$3:$H$700))","v":""},{"$f":"+IF(Q32=\"\",\"\",LOOKUP(Q32,zdroj!$E$3:$E$700,zdroj!$I$3:$I$700))","v":""},{"$f":"IF(X32=\"\",\"\",LOOKUP(X32,zdroj!$E$3:$E$700,zdroj!$F$3:$F$700))","v":""},"","",{"$f":"IF(X32=\"\",\"\",LOOKUP(X32,zdroj!$E$3:$E$700,zdroj!$L$3:$L$700))","v":""},{"$f":"IF(X32=\"\",\"\",LOOKUP(X32,zdroj!$E$3:$E$700,zdroj!$G$3:$G$700))","v":""},{"$f":"IF(X32=\"\",\"\",LOOKUP(X32,zdroj!$E$3:$E$700,zdroj!$H$3:$H$700))","v":""},{"$f":"+IF(X32=\"\",\"\",LOOKUP(X32,zdroj!$E$3:$E$700,zdroj!$I$3:$I$700))","v":""},{"$f":"IF(AE32=\"\",\"\",LOOKUP(AE32,zdroj!$E$3:$E$700,zdroj!$F$3:$F$700))","v":""},"","",{"$f":"IF(AE32=\"\",\"\",LOOKUP(AE32,zdroj!$E$3:$E$700,zdroj!$L$3:$L$700))","v":""},{"$f":"IF(AE32=\"\",\"\",LOOKUP(AE32,zdroj!$E$3:$E$700,zdroj!$G$3:$G$700))","v":""},{"$f":"IF(AE32=\"\",\"\",LOOKUP(AE32,zdroj!$E$3:$E$700,zdroj!$H$3:$H$700))","v":""},{"$f":"+IF(AE32=\"\",\"\",LOOKUP(AE32,zdroj!$E$3:$E$700,zdroj!$I$3:$I$700))","v":""}]
[{"$f":"IF(C33=\"\",\"\",LOOKUP(C33,zdroj!$E$3:$E$201,zdroj!$F$3:$F$201))","v":""},"","",{"$f":"IF(C33=\"\",\"\",LOOKUP(C33,zdroj!$E$3:$E$700,zdroj!$L$3:$L$700))","v":""},{"$f":"IF(C33=\"\",\"\",LOOKUP(C33,zdroj!$E$3:$E$700,zdroj!$G$3:$G$700))","v":""},{"$f":"IF(C33=\"\",\"\",LOOKUP(C33,zdroj!$E$3:$E$700,zdroj!$H$3:$H$700))","v":""},{"$f":"+IF(C33=\"\",\"\",LOOKUP(C33,zdroj!$E$3:$E$700,zdroj!$I$3:$I$700))","v":""},{"$f":"IF(J33=\"\",\"\",LOOKUP(J33,zdroj!$E$3:$E$700,zdroj!$F$3:$F$700))","v":""},"","",{"$f":"IF(J33=\"\",\"\",LOOKUP(J33,zdroj!$E$3:$E$700,zdroj!$L$3:$L$700))","v":""},{"$f":"IF(J33=\"\",\"\",LOOKUP(J33,zdroj!$E$3:$E$700,zdroj!$G$3:$G$700))","v":""},{"$f":"IF(J33=\"\",\"\",LOOKUP(J33,zdroj!$E$3:$E$700,zdroj!$H$3:$H$700))","v":""},{"$f":"+IF(J33=\"\",\"\",LOOKUP(J33,zdroj!$E$3:$E$700,zdroj!$I$3:$I$700))","v":""},{"$f":"IF(Q33=\"\",\"\",LOOKUP(Q33,zdroj!$E$3:$E$700,zdroj!$F$3:$F$700))","v":""},"","",{"$f":"IF(Q33=\"\",\"\",LOOKUP(Q33,zdroj!$E$3:$E$700,zdroj!$L$3:$L$700))","v":""},{"$f":"IF(Q33=\"\",\"\",LOOKUP(Q33,zdroj!$E$3:$E$700,zdroj!$G$3:$G$700))","v":""},{"$f":"IF(Q33=\"\",\"\",LOOKUP(Q33,zdroj!$E$3:$E$700,zdroj!$H$3:$H$700))","v":""},{"$f":"+IF(Q33=\"\",\"\",LOOKUP(Q33,zdroj!$E$3:$E$700,zdroj!$I$3:$I$700))","v":""},{"$f":"IF(X33=\"\",\"\",LOOKUP(X33,zdroj!$E$3:$E$700,zdroj!$F$3:$F$700))","v":""},"","",{"$f":"IF(X33=\"\",\"\",LOOKUP(X33,zdroj!$E$3:$E$700,zdroj!$L$3:$L$700))","v":""},{"$f":"IF(X33=\"\",\"\",LOOKUP(X33,zdroj!$E$3:$E$700,zdroj!$G$3:$G$700))","v":""},{"$f":"IF(X33=\"\",\"\",LOOKUP(X33,zdroj!$E$3:$E$700,zdroj!$H$3:$H$700))","v":""},{"$f":"+IF(X33=\"\",\"\",LOOKUP(X33,zdroj!$E$3:$E$700,zdroj!$I$3:$I$700))","v":""},{"$f":"IF(AE33=\"\",\"\",LOOKUP(AE33,zdroj!$E$3:$E$700,zdroj!$F$3:$F$700))","v":""},"","",{"$f":"IF(AE33=\"\",\"\",LOOKUP(AE33,zdroj!$E$3:$E$700,zdroj!$L$3:$L$700))","v":""},{"$f":"IF(AE33=\"\",\"\",LOOKUP(AE33,zdroj!$E$3:$E$700,zdroj!$G$3:$G$700))","v":""},{"$f":"IF(AE33=\"\",\"\",LOOKUP(AE33,zdroj!$E$3:$E$700,zdroj!$H$3:$H$700))","v":""},{"$f":"+IF(AE33=\"\",\"\",LOOKUP(AE33,zdroj!$E$3:$E$700,zdroj!$I$3:$I$700))","v":""}]
[{"$f":"IF(C34=\"\",\"\",LOOKUP(C34,zdroj!$E$3:$E$201,zdroj!$F$3:$F$201))","v":""},"","",{"$f":"IF(C34=\"\",\"\",LOOKUP(C34,zdroj!$E$3:$E$700,zdroj!$L$3:$L$700))","v":""},{"$f":"IF(C34=\"\",\"\",LOOKUP(C34,zdroj!$E$3:$E$700,zdroj!$G$3:$G$700))","v":""},{"$f":"IF(C34=\"\",\"\",LOOKUP(C34,zdroj!$E$3:$E$700,zdroj!$H$3:$H$700))","v":""},{"$f":"+IF(C34=\"\",\"\",LOOKUP(C34,zdroj!$E$3:$E$700,zdroj!$I$3:$I$700))","v":""},{"$f":"IF(J34=\"\",\"\",LOOKUP(J34,zdroj!$E$3:$E$700,zdroj!$F$3:$F$700))","v":""},"","",{"$f":"IF(J34=\"\",\"\",LOOKUP(J34,zdroj!$E$3:$E$700,zdroj!$L$3:$L$700))","v":""},{"$f":"IF(J34=\"\",\"\",LOOKUP(J34,zdroj!$E$3:$E$700,zdroj!$G$3:$G$700))","v":""},{"$f":"IF(J34=\"\",\"\",LOOKUP(J34,zdroj!$E$3:$E$700,zdroj!$H$3:$H$700))","v":""},{"$f":"+IF(J34=\"\",\"\",LOOKUP(J34,zdroj!$E$3:$E$700,zdroj!$I$3:$I$700))","v":""},{"$f":"IF(Q34=\"\",\"\",LOOKUP(Q34,zdroj!$E$3:$E$700,zdroj!$F$3:$F$700))","v":""},"","",{"$f":"IF(Q34=\"\",\"\",LOOKUP(Q34,zdroj!$E$3:$E$700,zdroj!$L$3:$L$700))","v":""},{"$f":"IF(Q34=\"\",\"\",LOOKUP(Q34,zdroj!$E$3:$E$700,zdroj!$G$3:$G$700))","v":""},{"$f":"IF(Q34=\"\",\"\",LOOKUP(Q34,zdroj!$E$3:$E$700,zdroj!$H$3:$H$700))","v":""},{"$f":"+IF(Q34=\"\",\"\",LOOKUP(Q34,zdroj!$E$3:$E$700,zdroj!$I$3:$I$700))","v":""},{"$f":"IF(X34=\"\",\"\",LOOKUP(X34,zdroj!$E$3:$E$700,zdroj!$F$3:$F$700))","v":""},"","",{"$f":"IF(X34=\"\",\"\",LOOKUP(X34,zdroj!$E$3:$E$700,zdroj!$L$3:$L$700))","v":""},{"$f":"IF(X34=\"\",\"\",LOOKUP(X34,zdroj!$E$3:$E$700,zdroj!$G$3:$G$700))","v":""},{"$f":"IF(X34=\"\",\"\",LOOKUP(X34,zdroj!$E$3:$E$700,zdroj!$H$3:$H$700))","v":""},{"$f":"+IF(X34=\"\",\"\",LOOKUP(X34,zdroj!$E$3:$E$700,zdroj!$I$3:$I$700))","v":""},{"$f":"IF(AE34=\"\",\"\",LOOKUP(AE34,zdroj!$E$3:$E$700,zdroj!$F$3:$F$700))","v":""},"","",{"$f":"IF(AE34=\"\",\"\",LOOKUP(AE34,zdroj!$E$3:$E$700,zdroj!$L$3:$L$700))","v":""},{"$f":"IF(AE34=\"\",\"\",LOOKUP(AE34,zdroj!$E$3:$E$700,zdroj!$G$3:$G$700))","v":""},{"$f":"IF(AE34=\"\",\"\",LOOKUP(AE34,zdroj!$E$3:$E$700,zdroj!$H$3:$H$700))","v":""},{"$f":"+IF(AE34=\"\",\"\",LOOKUP(AE34,zdroj!$E$3:$E$700,zdroj!$I$3:$I$700))","v":""}]
[{"$f":"IF(C35=\"\",\"\",LOOKUP(C35,zdroj!$E$3:$E$201,zdroj!$F$3:$F$201))","v":""},"","",{"$f":"IF(C35=\"\",\"\",LOOKUP(C35,zdroj!$E$3:$E$700,zdroj!$L$3:$L$700))","v":""},{"$f":"IF(C35=\"\",\"\",LOOKUP(C35,zdroj!$E$3:$E$700,zdroj!$G$3:$G$700))","v":""},{"$f":"IF(C35=\"\",\"\",LOOKUP(C35,zdroj!$E$3:$E$700,zdroj!$H$3:$H$700))","v":""},{"$f":"+IF(C35=\"\",\"\",LOOKUP(C35,zdroj!$E$3:$E$700,zdroj!$I$3:$I$700))","v":""},{"$f":"IF(J35=\"\",\"\",LOOKUP(J35,zdroj!$E$3:$E$700,zdroj!$F$3:$F$700))","v":""},"","",{"$f":"IF(J35=\"\",\"\",LOOKUP(J35,zdroj!$E$3:$E$700,zdroj!$L$3:$L$700))","v":""},{"$f":"IF(J35=\"\",\"\",LOOKUP(J35,zdroj!$E$3:$E$700,zdroj!$G$3:$G$700))","v":""},{"$f":"IF(J35=\"\",\"\",LOOKUP(J35,zdroj!$E$3:$E$700,zdroj!$H$3:$H$700))","v":""},{"$f":"+IF(J35=\"\",\"\",LOOKUP(J35,zdroj!$E$3:$E$700,zdroj!$I$3:$I$700))","v":""},{"$f":"IF(Q35=\"\",\"\",LOOKUP(Q35,zdroj!$E$3:$E$700,zdroj!$F$3:$F$700))","v":""},"","",{"$f":"IF(Q35=\"\",\"\",LOOKUP(Q35,zdroj!$E$3:$E$700,zdroj!$L$3:$L$700))","v":""},{"$f":"IF(Q35=\"\",\"\",LOOKUP(Q35,zdroj!$E$3:$E$700,zdroj!$G$3:$G$700))","v":""},{"$f":"IF(Q35=\"\",\"\",LOOKUP(Q35,zdroj!$E$3:$E$700,zdroj!$H$3:$H$700))","v":""},{"$f":"+IF(Q35=\"\",\"\",LOOKUP(Q35,zdroj!$E$3:$E$700,zdroj!$I$3:$I$700))","v":""},{"$f":"IF(X35=\"\",\"\",LOOKUP(X35,zdroj!$E$3:$E$700,zdroj!$F$3:$F$700))","v":""},"","",{"$f":"IF(X35=\"\",\"\",LOOKUP(X35,zdroj!$E$3:$E$700,zdroj!$L$3:$L$700))","v":""},{"$f":"IF(X35=\"\",\"\",LOOKUP(X35,zdroj!$E$3:$E$700,zdroj!$G$3:$G$700))","v":""},{"$f":"IF(X35=\"\",\"\",LOOKUP(X35,zdroj!$E$3:$E$700,zdroj!$H$3:$H$700))","v":""},{"$f":"+IF(X35=\"\",\"\",LOOKUP(X35,zdroj!$E$3:$E$700,zdroj!$I$3:$I$700))","v":""},{"$f":"IF(AE35=\"\",\"\",LOOKUP(AE35,zdroj!$E$3:$E$700,zdroj!$F$3:$F$700))","v":""},"","",{"$f":"IF(AE35=\"\",\"\",LOOKUP(AE35,zdroj!$E$3:$E$700,zdroj!$L$3:$L$700))","v":""},{"$f":"IF(AE35=\"\",\"\",LOOKUP(AE35,zdroj!$E$3:$E$700,zdroj!$G$3:$G$700))","v":""},{"$f":"IF(AE35=\"\",\"\",LOOKUP(AE35,zdroj!$E$3:$E$700,zdroj!$H$3:$H$700))","v":""},{"$f":"+IF(AE35=\"\",\"\",LOOKUP(AE35,zdroj!$E$3:$E$700,zdroj!$I$3:$I$700))","v":""}]
["TÝDEN ",{"$f":"+AI1","v":5}]
[{"$f":"+A3","v":44958},null,null,null,"pondělí",null,{"$f":"+AI3+3","v":"2023-01-09"},null,null,null,null,"Úterý",null,{"$f":"+G37+1","v":"2023-01-10"},"Středa",null,null,null,null,null,{"$f":"+N37+1","v":"2023-01-11"},"Čtvrtek",null,null,null,null,null,{"$f":"+U37+1","v":"2023-01-12"},"Pátek",null,null,null,null,null,{"$f":"+AB37+1","v":"2023-01-13"}]
[{"$f":"+CONCATENATE(E37,\" \",TEXT(G37,\"DD.MM.RR\"))","v":"pondělí 09.01.23"},null,null,null,null,null,null,{"$f":"+CONCATENATE(L37,\" \",TEXT(N37,\"DD.MM.RR\"))","v":"Úterý 10.01.23"},null,null,null,null,null,null,{"$f":"+CONCATENATE(O37,\" \",TEXT(U37,\"DD.MM.RR\"))","v":"Středa 11.01.23"},null,null,null,null,null,null,{"$f":"+CONCATENATE(V37,\" \",TEXT(AB37,\"DD.MM.RR\"))","v":"Čtvrtek 12.01.23"},null,null,null,null,null,null,{"$f":"+CONCATENATE(AC37,\" \",TEXT(AI37,\"DD.MM.RR\"))","v":"Pátek 13.01.23"}]
["hodina",{"$f":"+LOOKUP(G37,DataFIX!$F$3:$F$41,DataFIX!$G$3:$G$41)","v":210},{"$f":"+COUNTIFS(zdroj!$B$3:$B$700,Screen!G37)","v":16},{"$f":"+SUM(D40:D69)","v":4},"Zákazník","Dopravce","Status",null,{"$f":"+LOOKUP(N37,DataFIX!$F$3:$F$41,DataFIX!$G$3:$G$41)","v":240},{"$f":"+COUNTIFS(zdroj!$B$3:$B$700,Screen!N37)","v":16},{"$f":"+SUM(K40:K69)","v":0},"Zákazník","Dopravce","Status","hodina",{"$f":"+LOOKUP(U37,DataFIX!$F$3:$F$41,DataFIX!$G$3:$G$41)","v":270},{"$f":"+COUNTIFS(zdroj!$B$3:$B$700,Screen!U37)","v":11},{"$f":"+SUM(R40:R69)","v":0},"Zákazník","Dopravce","Status","hodina",{"$f":"+LOOKUP(AB37,DataFIX!$F$3:$F$41,DataFIX!$G$3:$G$41)","v":300},{"$f":"+COUNTIFS(zdroj!$B$3:$B$700,Screen!AB37)","v":19},{"$f":"+SUM(Y40:Y69)","v":51},"Zákazník","Dopravce","Status","hodina",{"$f":"+LOOKUP(AI37,DataFIX!$F$3:$F$41,DataFIX!$G$3:$G$41)","v":330},{"$f":"+COUNTIFS(zdroj!$B$3:$B$700,Screen!AI37)","v":16},{"$f":"+SUM(AF40:AF69)","v":34},"Zákazník","Dopravce","Status"]
[{"$f":"IF(C40=\"\",\"\",LOOKUP(C40,zdroj!$E$3:$E$700,zdroj!$F$3:$F$700))","v":"06:00:00"},{"$f":"+IF(C$39=\"\",\"\",IF(C39=0,\"\",1))","v":1},{"$f":"+IF(B40=\"\",\"\",B40+B$39)","v":211},{"$f":"IF(C40=\"\",\"\",LOOKUP(C40,zdroj!$E$3:$E$700,zdroj!$L$3:$L$700))","v":0},{"$f":"IF(C40=\"\",\"\",LOOKUP(C40,zdroj!$E$3:$E$700,zdroj!$G$3:$G$700))","v":"DF"},{"$f":"IF(C40=\"\",\"\",LOOKUP(C40,zdroj!$E$3:$E$700,zdroj!$H$3:$H$700))","v":"Hroza "},{"$f":"+IF(C40=\"\",\"\",LOOKUP(C40,zdroj!$E$3:$E$700,zdroj!$I$3:$I$700))","v":"Dokončeno"},{"$f":"IF(J40=\"\",\"\",LOOKUP(J40,zdroj!$E$3:$E$700,zdroj!$F$3:$F$700))","v":"06:00:00"},{"$f":"+IF(J$39=\"\",\"\",IF(J39=0,\"\",1))","v":1},{"$f":"+IF(I40=\"\",\"\",I40+I$39)","v":241},{"$f":"IF(J40=\"\",\"\",LOOKUP(J40,zdroj!$E$3:$E$700,zdroj!$L$3:$L$700))","v":0},{"$f":"IF(J40=\"\",\"\",LOOKUP(J40,zdroj!$E$3:$E$700,zdroj!$G$3:$G$700))","v":"DF"},{"$f":"IF(J40=\"\",\"\",LOOKUP(J40,zdroj!$E$3:$E$700,zdroj!$H$3:$H$700))","v":"Hroza"},{"$f":"+IF(J40=\"\",\"\",LOOKUP(J40,zdroj!$E$3:$E$700,zdroj!$I$3:$I$700))","v":"Dokončeno"},{"$f":"IF(Q40=\"\",\"\",LOOKUP(Q40,zdroj!$E$3:$E$700,zdroj!$F$3:$F$700))","v":"06:00:00"},{"$f":"+IF(Q$39=\"\",\"\",IF(Q39=0,\"\",1))","v":1},{"$f":"+IF(P40=\"\",\"\",P40+P$39)","v":271},{"$f":"IF(Q40=\"\",\"\",LOOKUP(Q40,zdroj!$E$3:$E$700,zdroj!$L$3:$L$700))","v":0},{"$f":"IF(Q40=\"\",\"\",LOOKUP(Q40,zdroj!$E$3:$E$700,zdroj!$G$3:$G$700))","v":"DF"},{"$f":"IF(Q40=\"\",\"\",LOOKUP(Q40,zdroj!$E$3:$E$700,zdroj!$H$3:$H$700))","v":"Hroza"},{"$f":"+IF(Q40=\"\",\"\",LOOKUP(Q40,zdroj!$E$3:$E$700,zdroj!$I$3:$I$700))","v":"Dokončeno"},{"$f":"IF(X40=\"\",\"\",LOOKUP(X40,zdroj!$E$3:$E$700,zdroj!$F$3:$F$700))","v":"06:00:00"},{"$f":"+IF(X$39=\"\",\"\",IF(X39=0,\"\",1))","v":1},{"$f":"+IF(W40=\"\",\"\",W40+W$39)","v":301},{"$f":"IF(X40=\"\",\"\",LOOKUP(X40,zdroj!$E$3:$E$700,zdroj!$L$3:$L$700))","v":2},{"$f":"IF(X40=\"\",\"\",LOOKUP(X40,zdroj!$E$3:$E$700,zdroj!$G$3:$G$700))","v":"Fagron"},{"$f":"IF(X40=\"\",\"\",LOOKUP(X40,zdroj!$E$3:$E$700,zdroj!$H$3:$H$700))","v":"Tezet"},{"$f":"+IF(X40=\"\",\"\",LOOKUP(X40,zdroj!$E$3:$E$700,zdroj!$I$3:$I$700))","v":"Dokončeno"},{"$f":"IF(AE40=\"\",\"\",LOOKUP(AE40,zdroj!$E$3:$E$700,zdroj!$F$3:$F$700))","v":"06:00:00"},{"$f":"+IF(AE$39=\"\",\"\",IF(AE39=0,\"\",1))","v":1},{"$f":"+IF(AD40=\"\",\"\",AD40+AD$39)","v":331},{"$f":"IF(AE40=\"\",\"\",LOOKUP(AE40,zdroj!$E$3:$E$700,zdroj!$L$3:$L$700))","v":3},{"$f":"IF(AE40=\"\",\"\",LOOKUP(AE40,zdroj!$E$3:$E$700,zdroj!$G$3:$G$700))","v":"VYPL"},{"$f":"IF(AE40=\"\",\"\",LOOKUP(AE40,zdroj!$E$3:$E$700,zdroj!$H$3:$H$700))","v":"Hroza"},{"$f":"+IF(AE40=\"\",\"\",LOOKUP(AE40,zdroj!$E$3:$E$700,zdroj!$I$3:$I$700))","v":"Dokončeno"}]
[{"$f":"IF(C41=\"\",\"\",LOOKUP(C41,zdroj!$E$3:$E$700,zdroj!$F$3:$F$700))","v":"06:00:00"},{"$f":"+IF(C$39>B40,B40+1,\"\")","v":2},212,{"$f":"IF(C41=\"\",\"\",LOOKUP(C41,zdroj!$E$3:$E$700,zdroj!$L$3:$L$700))","v":0},{"$f":"IF(C41=\"\",\"\",LOOKUP(C41,zdroj!$E$3:$E$700,zdroj!$G$3:$G$700))","v":"DF"},{"$f":"IF(C41=\"\",\"\",LOOKUP(C41,zdroj!$E$3:$E$700,zdroj!$H$3:$H$700))","v":"Hroza"},{"$f":"+IF(C41=\"\",\"\",LOOKUP(C41,zdroj!$E$3:$E$700,zdroj!$I$3:$I$700))","v":"Dokončeno"},{"$f":"IF(J41=\"\",\"\",LOOKUP(J41,zdroj!$E$3:$E$700,zdroj!$F$3:$F$700))","v":"06:00:00"},{"$f":"+IF(J$39>I40,I40+1,\"\")","v":2},{"$f":"+IF(I41=\"\",\"\",I41+I$39)","v":242},{"$f":"IF(J41=\"\",\"\",LOOKUP(J41,zdroj!$E$3:$E$700,zdroj!$L$3:$L$700))","v":0},{"$f":"IF(J41=\"\",\"\",LOOKUP(J41,zdroj!$E$3:$E$700,zdroj!$G$3:$G$700))","v":"DF"},{"$f":"IF(J41=\"\",\"\",LOOKUP(J41,zdroj!$E$3:$E$700,zdroj!$H$3:$H$700))","v":"Hroza"},{"$f":"+IF(J41=\"\",\"\",LOOKUP(J41,zdroj!$E$3:$E$700,zdroj!$I$3:$I$700))","v":"Dokončeno"},{"$f":"IF(Q41=\"\",\"\",LOOKUP(Q41,zdroj!$E$3:$E$700,zdroj!$F$3:$F$700))","v":"06:00:00"},{"$f":"+IF(Q$39>P40,P40+1,\"\")","v":2},{"$f":"+IF(P41=\"\",\"\",P41+P$39)","v":272},{"$f":"IF(Q41=\"\",\"\",LOOKUP(Q41,zdroj!$E$3:$E$700,zdroj!$L$3:$L$700))","v":0},{"$f":"IF(Q41=\"\",\"\",LOOKUP(Q41,zdroj!$E$3:$E$700,zdroj!$G$3:$G$700))","v":"DF"},{"$f":"IF(Q41=\"\",\"\",LOOKUP(Q41,zdroj!$E$3:$E$700,zdroj!$H$3:$H$700))","v":"Hroza"},{"$f":"+IF(Q41=\"\",\"\",LOOKUP(Q41,zdroj!$E$3:$E$700,zdroj!$I$3:$I$700))","v":"Dokončeno"},{"$f":"IF(X41=\"\",\"\",LOOKUP(X41,zdroj!$E$3:$E$700,zdroj!$F$3:$F$700))","v":"06:00:00"},{"$f":"+IF(X$39>W40,W40+1,\"\")","v":2},{"$f":"+IF(W41=\"\",\"\",W41+W$39)","v":302},{"$f":"IF(X41=\"\",\"\",LOOKUP(X41,zdroj!$E$3:$E$700,zdroj!$L$3:$L$700))","v":2},{"$f":"IF(X41=\"\",\"\",LOOKUP(X41,zdroj!$E$3:$E$700,zdroj!$G$3:$G$700))","v":"DF"},{"$f":"IF(X41=\"\",\"\",LOOKUP(X41,zdroj!$E$3:$E$700,zdroj!$H$3:$H$700))","v":"Hroza"},{"$f":"+IF(X41=\"\",\"\",LOOKUP(X41,zdroj!$E$3:$E$700,zdroj!$I$3:$I$700))","v":"Dokončeno"},{"$f":"IF(AE41=\"\",\"\",LOOKUP(AE41,zdroj!$E$3:$E$700,zdroj!$F$3:$F$700))","v":"06:00:00"},{"$f":"+IF(AE$39>AD40,AD40+1,\"\")","v":2},{"$f":"+IF(AD41=\"\",\"\",AD41+AD$39)","v":332},{"$f":"IF(AE41=\"\",\"\",LOOKUP(AE41,zdroj!$E$3:$E$700,zdroj!$L$3:$L$700))","v":2},{"$f":"IF(AE41=\"\",\"\",LOOKUP(AE41,zdroj!$E$3:$E$700,zdroj!$G$3:$G$700))","v":"DF"},{"$f":"IF(AE41=\"\",\"\",LOOKUP(AE41,zdroj!$E$3:$E$700,zdroj!$H$3:$H$700))","v":"Hroza "},{"$f":"+IF(AE41=\"\",\"\",LOOKUP(AE41,zdroj!$E$3:$E$700,zdroj!$I$3:$I$700))","v":"Dokončeno"}]
[{"$f":"IF(C42=\"\",\"\",LOOKUP(C42,zdroj!$E$3:$E$700,zdroj!$F$3:$F$700))","v":"06:04:00"},{"$f":"+IF(C$39>B41,B41+1,\"\")","v":3},213,{"$f":"IF(C42=\"\",\"\",LOOKUP(C42,zdroj!$E$3:$E$700,zdroj!$L$3:$L$700))","v":0},{"$f":"IF(C42=\"\",\"\",LOOKUP(C42,zdroj!$E$3:$E$700,zdroj!$G$3:$G$700))","v":"Rina"},{"$f":"IF(C42=\"\",\"\",LOOKUP(C42,zdroj!$E$3:$E$700,zdroj!$H$3:$H$700))","v":"TEZET"},{"$f":"+IF(C42=\"\",\"\",LOOKUP(C42,zdroj!$E$3:$E$700,zdroj!$I$3:$I$700))","v":"Dokončeno"},{"$f":"IF(J42=\"\",\"\",LOOKUP(J42,zdroj!$E$3:$E$700,zdroj!$F$3:$F$700))","v":"06:05:00"},{"$f":"+IF(J$39>I41,I41+1,\"\")","v":3},243,{"$f":"IF(J42=\"\",\"\",LOOKUP(J42,zdroj!$E$3:$E$700,zdroj!$L$3:$L$700))","v":0},{"$f":"IF(J42=\"\",\"\",LOOKUP(J42,zdroj!$E$3:$E$700,zdroj!$G$3:$G$700))","v":"Everstar"},{"$f":"IF(J42=\"\",\"\",LOOKUP(J42,zdroj!$E$3:$E$700,zdroj!$H$3:$H$700))","v":"TEZET"},{"$f":"+IF(J42=\"\",\"\",LOOKUP(J42,zdroj!$E$3:$E$700,zdroj!$I$3:$I$700))","v":"Dokončeno"},{"$f":"IF(Q42=\"\",\"\",LOOKUP(Q42,zdroj!$E$3:$E$700,zdroj!$F$3:$F$700))","v":"06:05:00"},{"$f":"+IF(Q$39>P41,P41+1,\"\")","v":3},273,{"$f":"IF(Q42=\"\",\"\",LOOKUP(Q42,zdroj!$E$3:$E$700,zdroj!$L$3:$L$700))","v":0},{"$f":"IF(Q42=\"\",\"\",LOOKUP(Q42,zdroj!$E$3:$E$700,zdroj!$G$3:$G$700))","v":"Cheport"},{"$f":"IF(Q42=\"\",\"\",LOOKUP(Q42,zdroj!$E$3:$E$700,zdroj!$H$3:$H$700))","v":"Tezet"},{"$f":"+IF(Q42=\"\",\"\",LOOKUP(Q42,zdroj!$E$3:$E$700,zdroj!$I$3:$I$700))","v":"Dokončeno"},{"$f":"IF(X42=\"\",\"\",LOOKUP(X42,zdroj!$E$3:$E$700,zdroj!$F$3:$F$700))","v":"06:00:00"},{"$f":"+IF(X$39>W41,W41+1,\"\")","v":3},303,{"$f":"IF(X42=\"\",\"\",LOOKUP(X42,zdroj!$E$3:$E$700,zdroj!$L$3:$L$700))","v":1},{"$f":"IF(X42=\"\",\"\",LOOKUP(X42,zdroj!$E$3:$E$700,zdroj!$G$3:$G$700))","v":"Vypl"},{"$f":"IF(X42=\"\",\"\",LOOKUP(X42,zdroj!$E$3:$E$700,zdroj!$H$3:$H$700))","v":"Hroza"},{"$f":"+IF(X42=\"\",\"\",LOOKUP(X42,zdroj!$E$3:$E$700,zdroj!$I$3:$I$700))","v":"Dokončeno"},{"$f":"IF(AE42=\"\",\"\",LOOKUP(AE42,zdroj!$E$3:$E$700,zdroj!$F$3:$F$700))","v":"06:00:00"},{"$f":"+IF(AE$39>AD41,AD41+1,\"\")","v":3},333,{"$f":"IF(AE42=\"\",\"\",LOOKUP(AE42,zdroj!$E$3:$E$700,zdroj!$L$3:$L$700))","v":2},{"$f":"IF(AE42=\"\",\"\",LOOKUP(AE42,zdroj!$E$3:$E$700,zdroj!$G$3:$G$700))","v":"DF"},{"$f":"IF(AE42=\"\",\"\",LOOKUP(AE42,zdroj!$E$3:$E$700,zdroj!$H$3:$H$700))","v":"Horza"},{"$f":"+IF(AE42=\"\",\"\",LOOKUP(AE42,zdroj!$E$3:$E$700,zdroj!$I$3:$I$700))","v":"Dokončeno"}]
[{"$f":"IF(C43=\"\",\"\",LOOKUP(C43,zdroj!$E$3:$E$700,zdroj!$F$3:$F$700))","v":"06:05:00"},4,214,{"$f":"IF(C43=\"\",\"\",LOOKUP(C43,zdroj!$E$3:$E$700,zdroj!$L$3:$L$700))","v":0},{"$f":"IF(C43=\"\",\"\",LOOKUP(C43,zdroj!$E$3:$E$700,zdroj!$G$3:$G$700))","v":"Cheport"},{"$f":"IF(C43=\"\",\"\",LOOKUP(C43,zdroj!$E$3:$E$700,zdroj!$H$3:$H$700))","v":"Tezet"},{"$f":"+IF(C43=\"\",\"\",LOOKUP(C43,zdroj!$E$3:$E$700,zdroj!$I$3:$I$700))","v":"Dokončeno"},{"$f":"IF(J43=\"\",\"\",LOOKUP(J43,zdroj!$E$3:$E$700,zdroj!$F$3:$F$700))","v":"06:06:00"},4,244,{"$f":"IF(J43=\"\",\"\",LOOKUP(J43,zdroj!$E$3:$E$700,zdroj!$L$3:$L$700))","v":0},{"$f":"IF(J43=\"\",\"\",LOOKUP(J43,zdroj!$E$3:$E$700,zdroj!$G$3:$G$700))","v":"Atotech"},{"$f":"IF(J43=\"\",\"\",LOOKUP(J43,zdroj!$E$3:$E$700,zdroj!$H$3:$H$700))","v":"TEZET"},{"$f":"+IF(J43=\"\",\"\",LOOKUP(J43,zdroj!$E$3:$E$700,zdroj!$I$3:$I$700))","v":"Dokončeno"},{"$f":"IF(Q43=\"\",\"\",LOOKUP(Q43,zdroj!$E$3:$E$700,zdroj!$F$3:$F$700))","v":"06:10:00"},4,274,{"$f":"IF(Q43=\"\",\"\",LOOKUP(Q43,zdroj!$E$3:$E$700,zdroj!$L$3:$L$700))","v":0},{"$f":"IF(Q43=\"\",\"\",LOOKUP(Q43,zdroj!$E$3:$E$700,zdroj!$G$3:$G$700))","v":"SODO DUO"},{"$f":"IF(Q43=\"\",\"\",LOOKUP(Q43,zdroj!$E$3:$E$700,zdroj!$H$3:$H$700))","v":"TEZET"},{"$f":"+IF(Q43=\"\",\"\",LOOKUP(Q43,zdroj!$E$3:$E$700,zdroj!$I$3:$I$700))","v":"Dokončeno"},{"$f":"IF(X43=\"\",\"\",LOOKUP(X43,zdroj!$E$3:$E$700,zdroj!$F$3:$F$700))","v":"06:05:00"},4,304,{"$f":"IF(X43=\"\",\"\",LOOKUP(X43,zdroj!$E$3:$E$700,zdroj!$L$3:$L$700))","v":3},{"$f":"IF(X43=\"\",\"\",LOOKUP(X43,zdroj!$E$3:$E$700,zdroj!$G$3:$G$700))","v":"Alter"},{"$f":"IF(X43=\"\",\"\",LOOKUP(X43,zdroj!$E$3:$E$700,zdroj!$H$3:$H$700))","v":"TEZET"},{"$f":"+IF(X43=\"\",\"\",LOOKUP(X43,zdroj!$E$3:$E$700,zdroj!$I$3:$I$700))","v":"Dokončeno"},{"$f":"IF(AE43=\"\",\"\",LOOKUP(AE43,zdroj!$E$3:$E$700,zdroj!$F$3:$F$700))","v":"06:04:00"},4,334,{"$f":"IF(AE43=\"\",\"\",LOOKUP(AE43,zdroj!$E$3:$E$700,zdroj!$L$3:$L$700))","v":2},{"$f":"IF(AE43=\"\",\"\",LOOKUP(AE43,zdroj!$E$3:$E$700,zdroj!$G$3:$G$700))","v":"Aroma"},{"$f":"IF(AE43=\"\",\"\",LOOKUP(AE43,zdroj!$E$3:$E$700,zdroj!$H$3:$H$700))","v":"TEZET"},{"$f":"+IF(AE43=\"\",\"\",LOOKUP(AE43,zdroj!$E$3:$E$700,zdroj!$I$3:$I$700))","v":"Dokončeno"}]
[{"$f":"IF(C44=\"\",\"\",LOOKUP(C44,zdroj!$E$3:$E$700,zdroj!$F$3:$F$700))","v":"07:00:00"},5,215,{"$f":"IF(C44=\"\",\"\",LOOKUP(C44,zdroj!$E$3:$E$700,zdroj!$L$3:$L$700))","v":0},{"$f":"IF(C44=\"\",\"\",LOOKUP(C44,zdroj!$E$3:$E$700,zdroj!$G$3:$G$700))","v":"Groshandel"},{"$f":"IF(C44=\"\",\"\",LOOKUP(C44,zdroj!$E$3:$E$700,zdroj!$H$3:$H$700))","v":0},{"$f":"+IF(C44=\"\",\"\",LOOKUP(C44,zdroj!$E$3:$E$700,zdroj!$I$3:$I$700))","v":"Dokončeno"},{"$f":"IF(J44=\"\",\"\",LOOKUP(J44,zdroj!$E$3:$E$700,zdroj!$F$3:$F$700))","v":"07:00:00"},5,245,{"$f":"IF(J44=\"\",\"\",LOOKUP(J44,zdroj!$E$3:$E$700,zdroj!$L$3:$L$700))","v":0},{"$f":"IF(J44=\"\",\"\",LOOKUP(J44,zdroj!$E$3:$E$700,zdroj!$G$3:$G$700))","v":"Antolin"},{"$f":"IF(J44=\"\",\"\",LOOKUP(J44,zdroj!$E$3:$E$700,zdroj!$H$3:$H$700))","v":"vlastní"},{"$f":"+IF(J44=\"\",\"\",LOOKUP(J44,zdroj!$E$3:$E$700,zdroj!$I$3:$I$700))","v":"Dokončeno"},{"$f":"IF(Q44=\"\",\"\",LOOKUP(Q44,zdroj!$E$3:$E$700,zdroj!$F$3:$F$700))","v":"10:00:00"},5,275,{"$f":"IF(Q44=\"\",\"\",LOOKUP(Q44,zdroj!$E$3:$E$700,zdroj!$L$3:$L$700))","v":0},{"$f":"IF(Q44=\"\",\"\",LOOKUP(Q44,zdroj!$E$3:$E$700,zdroj!$G$3:$G$700))","v":"TBA"},{"$f":"IF(Q44=\"\",\"\",LOOKUP(Q44,zdroj!$E$3:$E$700,zdroj!$H$3:$H$700))","v":"vlastní"},{"$f":"+IF(Q44=\"\",\"\",LOOKUP(Q44,zdroj!$E$3:$E$700,zdroj!$I$3:$I$700))","v":"Dokončeno"},{"$f":"IF(X44=\"\",\"\",LOOKUP(X44,zdroj!$E$3:$E$700,zdroj!$F$3:$F$700))","v":"07:00:00"},5,305,{"$f":"IF(X44=\"\",\"\",LOOKUP(X44,zdroj!$E$3:$E$700,zdroj!$L$3:$L$700))","v":5},{"$f":"IF(X44=\"\",\"\",LOOKUP(X44,zdroj!$E$3:$E$700,zdroj!$G$3:$G$700))","v":"Antolin"},{"$f":"IF(X44=\"\",\"\",LOOKUP(X44,zdroj!$E$3:$E$700,zdroj!$H$3:$H$700))","v":"vlastní"},{"$f":"+IF(X44=\"\",\"\",LOOKUP(X44,zdroj!$E$3:$E$700,zdroj!$I$3:$I$700))","v":"Dokončeno"},{"$f":"IF(AE44=\"\",\"\",LOOKUP(AE44,zdroj!$E$3:$E$700,zdroj!$F$3:$F$700))","v":"06:05:00"},5,335,{"$f":"IF(AE44=\"\",\"\",LOOKUP(AE44,zdroj!$E$3:$E$700,zdroj!$L$3:$L$700))","v":4},{"$f":"IF(AE44=\"\",\"\",LOOKUP(AE44,zdroj!$E$3:$E$700,zdroj!$G$3:$G$700))","v":"Oma CZ"},{"$f":"IF(AE44=\"\",\"\",LOOKUP(AE44,zdroj!$E$3:$E$700,zdroj!$H$3:$H$700))","v":"TEZET"},{"$f":"+IF(AE44=\"\",\"\",LOOKUP(AE44,zdroj!$E$3:$E$700,zdroj!$I$3:$I$700))","v":"Dokončeno"}]
[{"$f":"IF(C45=\"\",\"\",LOOKUP(C45,zdroj!$E$3:$E$700,zdroj!$F$3:$F$700))","v":"07:05:00"},6,216,{"$f":"IF(C45=\"\",\"\",LOOKUP(C45,zdroj!$E$3:$E$700,zdroj!$L$3:$L$700))","v":0},{"$f":"IF(C45=\"\",\"\",LOOKUP(C45,zdroj!$E$3:$E$700,zdroj!$G$3:$G$700))","v":"Groshandel"},{"$f":"IF(C45=\"\",\"\",LOOKUP(C45,zdroj!$E$3:$E$700,zdroj!$H$3:$H$700))","v":0},{"$f":"+IF(C45=\"\",\"\",LOOKUP(C45,zdroj!$E$3:$E$700,zdroj!$I$3:$I$700))","v":"Dokončeno"},{"$f":"IF(J45=\"\",\"\",LOOKUP(J45,zdroj!$E$3:$E$700,zdroj!$F$3:$F$700))","v":"11:00:00"},6,246,{"$f":"IF(J45=\"\",\"\",LOOKUP(J45,zdroj!$E$3:$E$700,zdroj!$L$3:$L$700))","v":0},{"$f":"IF(J45=\"\",\"\",LOOKUP(J45,zdroj!$E$3:$E$700,zdroj!$G$3:$G$700))","v":"JPSK"},{"$f":"IF(J45=\"\",\"\",LOOKUP(J45,zdroj!$E$3:$E$700,zdroj!$H$3:$H$700))","v":"Legarde"},{"$f":"+IF(J45=\"\",\"\",LOOKUP(J45,zdroj!$E$3:$E$700,zdroj!$I$3:$I$700))","v":"Dokončeno"},{"$f":"IF(Q45=\"\",\"\",LOOKUP(Q45,zdroj!$E$3:$E$700,zdroj!$F$3:$F$700))","v":"11:00:00"},6,276,{"$f":"IF(Q45=\"\",\"\",LOOKUP(Q45,zdroj!$E$3:$E$700,zdroj!$L$3:$L$700))","v":0},{"$f":"IF(Q45=\"\",\"\",LOOKUP(Q45,zdroj!$E$3:$E$700,zdroj!$G$3:$G$700))","v":"JPPSK"},{"$f":"IF(Q45=\"\",\"\",LOOKUP(Q45,zdroj!$E$3:$E$700,zdroj!$H$3:$H$700))","v":"dls Trans"},{"$f":"+IF(Q45=\"\",\"\",LOOKUP(Q45,zdroj!$E$3:$E$700,zdroj!$I$3:$I$700))","v":"Dokončeno"},{"$f":"IF(X45=\"\",\"\",LOOKUP(X45,zdroj!$E$3:$E$700,zdroj!$F$3:$F$700))","v":"08:00:00"},6,306,{"$f":"IF(X45=\"\",\"\",LOOKUP(X45,zdroj!$E$3:$E$700,zdroj!$L$3:$L$700))","v":1},{"$f":"IF(X45=\"\",\"\",LOOKUP(X45,zdroj!$E$3:$E$700,zdroj!$G$3:$G$700))","v":"AV auto"},{"$f":"IF(X45=\"\",\"\",LOOKUP(X45,zdroj!$E$3:$E$700,zdroj!$H$3:$H$700))","v":"vlastní"},{"$f":"+IF(X45=\"\",\"\",LOOKUP(X45,zdroj!$E$3:$E$700,zdroj!$I$3:$I$700))","v":"Dokončeno"},{"$f":"IF(AE45=\"\",\"\",LOOKUP(AE45,zdroj!$E$3:$E$700,zdroj!$F$3:$F$700))","v":"06:05:00"},6,336,{"$f":"IF(AE45=\"\",\"\",LOOKUP(AE45,zdroj!$E$3:$E$700,zdroj!$L$3:$L$700))","v":1},{"$f":"IF(AE45=\"\",\"\",LOOKUP(AE45,zdroj!$E$3:$E$700,zdroj!$G$3:$G$700))","v":"AV Auto"},{"$f":"IF(AE45=\"\",\"\",LOOKUP(AE45,zdroj!$E$3:$E$700,zdroj!$H$3:$H$700))","v":"Tezet"},{"$f":"+IF(AE45=\"\",\"\",LOOKUP(AE45,zdroj!$E$3:$E$700,zdroj!$I$3:$I$700))","v":"Dokončeno"}]
[{"$f":"IF(C46=\"\",\"\",LOOKUP(C46,zdroj!$E$3:$E$700,zdroj!$F$3:$F$700))","v":"08:00:00"},{"$f":"+IF(C$39>B45,B45+1,\"\")","v":7},{"$f":"+IF(B46=\"\",\"\",B46+B$39)","v":217},{"$f":"IF(C46=\"\",\"\",LOOKUP(C46,zdroj!$E$3:$E$700,zdroj!$L$3:$L$700))","v":4},{"$f":"IF(C46=\"\",\"\",LOOKUP(C46,zdroj!$E$3:$E$700,zdroj!$G$3:$G$700))","v":"Filmer"},{"$f":"IF(C46=\"\",\"\",LOOKUP(C46,zdroj!$E$3:$E$700,zdroj!$H$3:$H$700))","v":0},{"$f":"+IF(C46=\"\",\"\",LOOKUP(C46,zdroj!$E$3:$E$700,zdroj!$I$3:$I$700))","v":"Dokončeno"},{"$f":"IF(J46=\"\",\"\",LOOKUP(J46,zdroj!$E$3:$E$700,zdroj!$F$3:$F$700))","v":"11:00:00"},{"$f":"+IF(J$39>I45,I45+1,\"\")","v":7},{"$f":"+IF(I46=\"\",\"\",I46+I$39)","v":247},{"$f":"IF(J46=\"\",\"\",LOOKUP(J46,zdroj!$E$3:$E$700,zdroj!$L$3:$L$700))","v":0},{"$f":"IF(J46=\"\",\"\",LOOKUP(J46,zdroj!$E$3:$E$700,zdroj!$G$3:$G$700))","v":"JPSK"},{"$f":"IF(J46=\"\",\"\",LOOKUP(J46,zdroj!$E$3:$E$700,zdroj!$H$3:$H$700))","v":"Legarde"},{"$f":"+IF(J46=\"\",\"\",LOOKUP(J46,zdroj!$E$3:$E$700,zdroj!$I$3:$I$700))","v":"Dokončeno"},{"$f":"IF(Q46=\"\",\"\",LOOKUP(Q46,zdroj!$E$3:$E$700,zdroj!$F$3:$F$700))","v":"11:00:00"},{"$f":"+IF(Q$39>P45,P45+1,\"\")","v":7},{"$f":"+IF(P46=\"\",\"\",P46+P$39)","v":277},{"$f":"IF(Q46=\"\",\"\",LOOKUP(Q46,zdroj!$E$3:$E$700,zdroj!$L$3:$L$700))","v":0},{"$f":"IF(Q46=\"\",\"\",LOOKUP(Q46,zdroj!$E$3:$E$700,zdroj!$G$3:$G$700))","v":"TBA"},{"$f":"IF(Q46=\"\",\"\",LOOKUP(Q46,zdroj!$E$3:$E$700,zdroj!$H$3:$H$700))","v":"vlastní"},{"$f":"+IF(Q46=\"\",\"\",LOOKUP(Q46,zdroj!$E$3:$E$700,zdroj!$I$3:$I$700))","v":"Dokončeno"},{"$f":"IF(X46=\"\",\"\",LOOKUP(X46,zdroj!$E$3:$E$700,zdroj!$F$3:$F$700))","v":"10:00:00"},{"$f":"+IF(X$39>W45,W45+1,\"\")","v":7},{"$f":"+IF(W46=\"\",\"\",W46+W$39)","v":307},{"$f":"IF(X46=\"\",\"\",LOOKUP(X46,zdroj!$E$3:$E$700,zdroj!$L$3:$L$700))","v":2},{"$f":"IF(X46=\"\",\"\",LOOKUP(X46,zdroj!$E$3:$E$700,zdroj!$G$3:$G$700))","v":"TBA"},{"$f":"IF(X46=\"\",\"\",LOOKUP(X46,zdroj!$E$3:$E$700,zdroj!$H$3:$H$700))","v":"vlastní"},{"$f":"+IF(X46=\"\",\"\",LOOKUP(X46,zdroj!$E$3:$E$700,zdroj!$I$3:$I$700))","v":"Dokončeno"},{"$f":"IF(AE46=\"\",\"\",LOOKUP(AE46,zdroj!$E$3:$E$700,zdroj!$F$3:$F$700))","v":"06:45:00"},{"$f":"+IF(AE$39>AD45,AD45+1,\"\")","v":7},{"$f":"+IF(AD46=\"\",\"\",AD46+AD$39)","v":337},{"$f":"IF(AE46=\"\",\"\",LOOKUP(AE46,zdroj!$E$3:$E$700,zdroj!$L$3:$L$700))","v":1},{"$f":"IF(AE46=\"\",\"\",LOOKUP(AE46,zdroj!$E$3:$E$700,zdroj!$G$3:$G$700))","v":"TRUMF"},{"$f":"IF(AE46=\"\",\"\",LOOKUP(AE46,zdroj!$E$3:$E$700,zdroj!$H$3:$H$700))","v":"vlastní"},{"$f":"+IF(AE46=\"\",\"\",LOOKUP(AE46,zdroj!$E$3:$E$700,zdroj!$I$3:$I$700))","v":"Dokončeno"}]
[{"$f":"IF(C47=\"\",\"\",LOOKUP(C47,zdroj!$E$3:$E$700,zdroj!$F$3:$F$700))","v":"10:00:00"},8,218,{"$f":"IF(C47=\"\",\"\",LOOKUP(C47,zdroj!$E$3:$E$700,zdroj!$L$3:$L$700))","v":0},{"$f":"IF(C47=\"\",\"\",LOOKUP(C47,zdroj!$E$3:$E$700,zdroj!$G$3:$G$700))","v":"TBA"},{"$f":"IF(C47=\"\",\"\",LOOKUP(C47,zdroj!$E$3:$E$700,zdroj!$H$3:$H$700))","v":"vlastní"},{"$f":"+IF(C47=\"\",\"\",LOOKUP(C47,zdroj!$E$3:$E$700,zdroj!$I$3:$I$700))","v":"Dokončeno"},{"$f":"IF(J47=\"\",\"\",LOOKUP(J47,zdroj!$E$3:$E$700,zdroj!$F$3:$F$700))","v":"11:30:00"},8,248,{"$f":"IF(J47=\"\",\"\",LOOKUP(J47,zdroj!$E$3:$E$700,zdroj!$L$3:$L$700))","v":0},{"$f":"IF(J47=\"\",\"\",LOOKUP(J47,zdroj!$E$3:$E$700,zdroj!$G$3:$G$700))","v":"Blaser"},{"$f":"IF(J47=\"\",\"\",LOOKUP(J47,zdroj!$E$3:$E$700,zdroj!$H$3:$H$700))","v":"vlastní"},{"$f":"+IF(J47=\"\",\"\",LOOKUP(J47,zdroj!$E$3:$E$700,zdroj!$I$3:$I$700))","v":"Dokončeno"},{"$f":"IF(Q47=\"\",\"\",LOOKUP(Q47,zdroj!$E$3:$E$700,zdroj!$F$3:$F$700))","v":"12:30:00"},8,278,{"$f":"IF(Q47=\"\",\"\",LOOKUP(Q47,zdroj!$E$3:$E$700,zdroj!$L$3:$L$700))","v":0},{"$f":"IF(Q47=\"\",\"\",LOOKUP(Q47,zdroj!$E$3:$E$700,zdroj!$G$3:$G$700))","v":"Faurecie MB"},{"$f":"IF(Q47=\"\",\"\",LOOKUP(Q47,zdroj!$E$3:$E$700,zdroj!$H$3:$H$700))","v":"vlastní"},{"$f":"+IF(Q47=\"\",\"\",LOOKUP(Q47,zdroj!$E$3:$E$700,zdroj!$I$3:$I$700))","v":"Dokončeno"},{"$f":"IF(X47=\"\",\"\",LOOKUP(X47,zdroj!$E$3:$E$700,zdroj!$F$3:$F$700))","v":"10:05:00"},8,308,{"$f":"IF(X47=\"\",\"\",LOOKUP(X47,zdroj!$E$3:$E$700,zdroj!$L$3:$L$700))","v":1},{"$f":"IF(X47=\"\",\"\",LOOKUP(X47,zdroj!$E$3:$E$700,zdroj!$G$3:$G$700))","v":"Kopeček"},{"$f":"IF(X47=\"\",\"\",LOOKUP(X47,zdroj!$E$3:$E$700,zdroj!$H$3:$H$700))","v":"vlastní"},{"$f":"+IF(X47=\"\",\"\",LOOKUP(X47,zdroj!$E$3:$E$700,zdroj!$I$3:$I$700))","v":"Dokončeno"},{"$f":"IF(AE47=\"\",\"\",LOOKUP(AE47,zdroj!$E$3:$E$700,zdroj!$F$3:$F$700))","v":"07:10:00"},8,338,{"$f":"IF(AE47=\"\",\"\",LOOKUP(AE47,zdroj!$E$3:$E$700,zdroj!$L$3:$L$700))","v":3},{"$f":"IF(AE47=\"\",\"\",LOOKUP(AE47,zdroj!$E$3:$E$700,zdroj!$G$3:$G$700))","v":"Birgma"},{"$f":"IF(AE47=\"\",\"\",LOOKUP(AE47,zdroj!$E$3:$E$700,zdroj!$H$3:$H$700))","v":"vlastní"},{"$f":"+IF(AE47=\"\",\"\",LOOKUP(AE47,zdroj!$E$3:$E$700,zdroj!$I$3:$I$700))","v":"Dokončeno"}]
[{"$f":"IF(C48=\"\",\"\",LOOKUP(C48,zdroj!$E$3:$E$700,zdroj!$F$3:$F$700))","v":"11:00:00"},9,219,{"$f":"IF(C48=\"\",\"\",LOOKUP(C48,zdroj!$E$3:$E$700,zdroj!$L$3:$L$700))","v":0},{"$f":"IF(C48=\"\",\"\",LOOKUP(C48,zdroj!$E$3:$E$700,zdroj!$G$3:$G$700))","v":"Flexfill"},{"$f":"IF(C48=\"\",\"\",LOOKUP(C48,zdroj!$E$3:$E$700,zdroj!$H$3:$H$700))","v":"Interkontakt"},{"$f":"+IF(C48=\"\",\"\",LOOKUP(C48,zdroj!$E$3:$E$700,zdroj!$I$3:$I$700))","v":"Dokončeno"},{"$f":"IF(J48=\"\",\"\",LOOKUP(J48,zdroj!$E$3:$E$700,zdroj!$F$3:$F$700))","v":"11:30:00"},9,249,{"$f":"IF(J48=\"\",\"\",LOOKUP(J48,zdroj!$E$3:$E$700,zdroj!$L$3:$L$700))","v":0},{"$f":"IF(J48=\"\",\"\",LOOKUP(J48,zdroj!$E$3:$E$700,zdroj!$G$3:$G$700))","v":"Avena"},{"$f":"IF(J48=\"\",\"\",LOOKUP(J48,zdroj!$E$3:$E$700,zdroj!$H$3:$H$700))","v":"vlastní"},{"$f":"+IF(J48=\"\",\"\",LOOKUP(J48,zdroj!$E$3:$E$700,zdroj!$I$3:$I$700))","v":"Dokončeno"},{"$f":"IF(Q48=\"\",\"\",LOOKUP(Q48,zdroj!$E$3:$E$700,zdroj!$F$3:$F$700))","v":"13:00:00"},9,279,{"$f":"IF(Q48=\"\",\"\",LOOKUP(Q48,zdroj!$E$3:$E$700,zdroj!$L$3:$L$700))","v":0},{"$f":"IF(Q48=\"\",\"\",LOOKUP(Q48,zdroj!$E$3:$E$700,zdroj!$G$3:$G$700))","v":"Libros"},{"$f":"IF(Q48=\"\",\"\",LOOKUP(Q48,zdroj!$E$3:$E$700,zdroj!$H$3:$H$700))","v":"vlastní"},{"$f":"+IF(Q48=\"\",\"\",LOOKUP(Q48,zdroj!$E$3:$E$700,zdroj!$I$3:$I$700))","v":"Dokončeno"},{"$f":"IF(X48=\"\",\"\",LOOKUP(X48,zdroj!$E$3:$E$700,zdroj!$F$3:$F$700))","v":"10:10:00"},9,309,{"$f":"IF(X48=\"\",\"\",LOOKUP(X48,zdroj!$E$3:$E$700,zdroj!$L$3:$L$700))","v":4},{"$f":"IF(X48=\"\",\"\",LOOKUP(X48,zdroj!$E$3:$E$700,zdroj!$G$3:$G$700))","v":"Slovakia Trend"},{"$f":"IF(X48=\"\",\"\",LOOKUP(X48,zdroj!$E$3:$E$700,zdroj!$H$3:$H$700))","v":"vlastní"},{"$f":"+IF(X48=\"\",\"\",LOOKUP(X48,zdroj!$E$3:$E$700,zdroj!$I$3:$I$700))","v":"Dokončeno"},{"$f":"IF(AE48=\"\",\"\",LOOKUP(AE48,zdroj!$E$3:$E$700,zdroj!$F$3:$F$700))","v":"10:00:00"},9,339,{"$f":"IF(AE48=\"\",\"\",LOOKUP(AE48,zdroj!$E$3:$E$700,zdroj!$L$3:$L$700))","v":2},{"$f":"IF(AE48=\"\",\"\",LOOKUP(AE48,zdroj!$E$3:$E$700,zdroj!$G$3:$G$700))","v":"T-Net"},{"$f":"IF(AE48=\"\",\"\",LOOKUP(AE48,zdroj!$E$3:$E$700,zdroj!$H$3:$H$700))","v":"MSB"},{"$f":"+IF(AE48=\"\",\"\",LOOKUP(AE48,zdroj!$E$3:$E$700,zdroj!$I$3:$I$700))","v":"Dokončeno"}]
[{"$f":"IF(C49=\"\",\"\",LOOKUP(C49,zdroj!$E$3:$E$700,zdroj!$F$3:$F$700))","v":"11:05:00"},10,220,{"$f":"IF(C49=\"\",\"\",LOOKUP(C49,zdroj!$E$3:$E$700,zdroj!$L$3:$L$700))","v":0},{"$f":"IF(C49=\"\",\"\",LOOKUP(C49,zdroj!$E$3:$E$700,zdroj!$G$3:$G$700))","v":"Nufarm"},{"$f":"IF(C49=\"\",\"\",LOOKUP(C49,zdroj!$E$3:$E$700,zdroj!$H$3:$H$700))","v":"Interkontakt"},{"$f":"+IF(C49=\"\",\"\",LOOKUP(C49,zdroj!$E$3:$E$700,zdroj!$I$3:$I$700))","v":"Dokončeno"},{"$f":"IF(J49=\"\",\"\",LOOKUP(J49,zdroj!$E$3:$E$700,zdroj!$F$3:$F$700))","v":"11:45:00"},10,250,{"$f":"IF(J49=\"\",\"\",LOOKUP(J49,zdroj!$E$3:$E$700,zdroj!$L$3:$L$700))","v":0},{"$f":"IF(J49=\"\",\"\",LOOKUP(J49,zdroj!$E$3:$E$700,zdroj!$G$3:$G$700))","v":"Ozas Esab"},{"$f":"IF(J49=\"\",\"\",LOOKUP(J49,zdroj!$E$3:$E$700,zdroj!$H$3:$H$700))","v":"Schenker"},{"$f":"+IF(J49=\"\",\"\",LOOKUP(J49,zdroj!$E$3:$E$700,zdroj!$I$3:$I$700))","v":"Dokončeno"},{"$f":"IF(Q49=\"\",\"\",LOOKUP(Q49,zdroj!$E$3:$E$700,zdroj!$F$3:$F$700))","v":"00:00:00"},10,280,{"$f":"IF(Q49=\"\",\"\",LOOKUP(Q49,zdroj!$E$3:$E$700,zdroj!$L$3:$L$700))","v":0},{"$f":"IF(Q49=\"\",\"\",LOOKUP(Q49,zdroj!$E$3:$E$700,zdroj!$G$3:$G$700))","v":"Patron"},{"$f":"IF(Q49=\"\",\"\",LOOKUP(Q49,zdroj!$E$3:$E$700,zdroj!$H$3:$H$700))","v":"vlastní"},{"$f":"+IF(Q49=\"\",\"\",LOOKUP(Q49,zdroj!$E$3:$E$700,zdroj!$I$3:$I$700))","v":"Dokončeno"},{"$f":"IF(X49=\"\",\"\",LOOKUP(X49,zdroj!$E$3:$E$700,zdroj!$F$3:$F$700))","v":"10:30:00"},10,310,{"$f":"IF(X49=\"\",\"\",LOOKUP(X49,zdroj!$E$3:$E$700,zdroj!$L$3:$L$700))","v":1},{"$f":"IF(X49=\"\",\"\",LOOKUP(X49,zdroj!$E$3:$E$700,zdroj!$G$3:$G$700))","v":"Stachema"},{"$f":"IF(X49=\"\",\"\",LOOKUP(X49,zdroj!$E$3:$E$700,zdroj!$H$3:$H$700))","v":"vlastní"},{"$f":"+IF(X49=\"\",\"\",LOOKUP(X49,zdroj!$E$3:$E$700,zdroj!$I$3:$I$700))","v":"Dokončeno"},{"$f":"IF(AE49=\"\",\"\",LOOKUP(AE49,zdroj!$E$3:$E$700,zdroj!$F$3:$F$700))","v":"12:00:00"},10,340,{"$f":"IF(AE49=\"\",\"\",LOOKUP(AE49,zdroj!$E$3:$E$700,zdroj!$L$3:$L$700))","v":2},{"$f":"IF(AE49=\"\",\"\",LOOKUP(AE49,zdroj!$E$3:$E$700,zdroj!$G$3:$G$700))","v":"PK Group"},{"$f":"IF(AE49=\"\",\"\",LOOKUP(AE49,zdroj!$E$3:$E$700,zdroj!$H$3:$H$700))","v":"vlastní"},{"$f":"+IF(AE49=\"\",\"\",LOOKUP(AE49,zdroj!$E$3:$E$700,zdroj!$I$3:$I$700))","v":"Dokončeno"}]
[{"$f":"IF(C50=\"\",\"\",LOOKUP(C50,zdroj!$E$3:$E$700,zdroj!$F$3:$F$700))","v":"11:10:00"},11,221,{"$f":"IF(C50=\"\",\"\",LOOKUP(C50,zdroj!$E$3:$E$700,zdroj!$L$3:$L$700))","v":0},{"$f":"IF(C50=\"\",\"\",LOOKUP(C50,zdroj!$E$3:$E$700,zdroj!$G$3:$G$700))","v":"T-Net"},{"$f":"IF(C50=\"\",\"\",LOOKUP(C50,zdroj!$E$3:$E$700,zdroj!$H$3:$H$700))","v":"Legarde"},{"$f":"+IF(C50=\"\",\"\",LOOKUP(C50,zdroj!$E$3:$E$700,zdroj!$I$3:$I$700))","v":"Dokončeno"},{"$f":"IF(J50=\"\",\"\",LOOKUP(J50,zdroj!$E$3:$E$700,zdroj!$F$3:$F$700))","v":"11:50:00"},11,251,{"$f":"IF(J50=\"\",\"\",LOOKUP(J50,zdroj!$E$3:$E$700,zdroj!$L$3:$L$700))","v":0},{"$f":"IF(J50=\"\",\"\",LOOKUP(J50,zdroj!$E$3:$E$700,zdroj!$G$3:$G$700))","v":"Lipera"},{"$f":"IF(J50=\"\",\"\",LOOKUP(J50,zdroj!$E$3:$E$700,zdroj!$H$3:$H$700))","v":"vlastní"},{"$f":"+IF(J50=\"\",\"\",LOOKUP(J50,zdroj!$E$3:$E$700,zdroj!$I$3:$I$700))","v":"Dokončeno"},{"$f":"IF(Q50=\"\",\"\",LOOKUP(Q50,zdroj!$E$3:$E$700,zdroj!$F$3:$F$700))","v":"00:00:00"},11,281,{"$f":"IF(Q50=\"\",\"\",LOOKUP(Q50,zdroj!$E$3:$E$700,zdroj!$L$3:$L$700))","v":0},{"$f":"IF(Q50=\"\",\"\",LOOKUP(Q50,zdroj!$E$3:$E$700,zdroj!$G$3:$G$700))","v":"Toptrans"},{"$f":"IF(Q50=\"\",\"\",LOOKUP(Q50,zdroj!$E$3:$E$700,zdroj!$H$3:$H$700))","v":"SBS"},{"$f":"+IF(Q50=\"\",\"\",LOOKUP(Q50,zdroj!$E$3:$E$700,zdroj!$I$3:$I$700))","v":"Dokončeno"},{"$f":"IF(X50=\"\",\"\",LOOKUP(X50,zdroj!$E$3:$E$700,zdroj!$F$3:$F$700))","v":"10:45:00"},11,311,{"$f":"IF(X50=\"\",\"\",LOOKUP(X50,zdroj!$E$3:$E$700,zdroj!$L$3:$L$700))","v":3},{"$f":"IF(X50=\"\",\"\",LOOKUP(X50,zdroj!$E$3:$E$700,zdroj!$G$3:$G$700))","v":"J.P.Plast"},{"$f":"IF(X50=\"\",\"\",LOOKUP(X50,zdroj!$E$3:$E$700,zdroj!$H$3:$H$700))","v":"Hroza"},{"$f":"+IF(X50=\"\",\"\",LOOKUP(X50,zdroj!$E$3:$E$700,zdroj!$I$3:$I$700))","v":"Dokončeno"},{"$f":"IF(AE50=\"\",\"\",LOOKUP(AE50,zdroj!$E$3:$E$700,zdroj!$F$3:$F$700))","v":"13:00:00"},11,341,{"$f":"IF(AE50=\"\",\"\",LOOKUP(AE50,zdroj!$E$3:$E$700,zdroj!$L$3:$L$700))","v":2},{"$f":"IF(AE50=\"\",\"\",LOOKUP(AE50,zdroj!$E$3:$E$700,zdroj!$G$3:$G$700))","v":"T-NET"},{"$f":"IF(AE50=\"\",\"\",LOOKUP(AE50,zdroj!$E$3:$E$700,zdroj!$H$3:$H$700))","v":"T-NET"},{"$f":"+IF(AE50=\"\",\"\",LOOKUP(AE50,zdroj!$E$3:$E$700,zdroj!$I$3:$I$700))","v":"Dokončeno"}]
[{"$f":"IF(C51=\"\",\"\",LOOKUP(C51,zdroj!$E$3:$E$700,zdroj!$F$3:$F$700))","v":"11:15:00"},12,222,{"$f":"IF(C51=\"\",\"\",LOOKUP(C51,zdroj!$E$3:$E$700,zdroj!$L$3:$L$700))","v":0},{"$f":"IF(C51=\"\",\"\",LOOKUP(C51,zdroj!$E$3:$E$700,zdroj!$G$3:$G$700))","v":"MAT"},{"$f":"IF(C51=\"\",\"\",LOOKUP(C51,zdroj!$E$3:$E$700,zdroj!$H$3:$H$700))","v":"AK Servis"},{"$f":"+IF(C51=\"\",\"\",LOOKUP(C51,zdroj!$E$3:$E$700,zdroj!$I$3:$I$700))","v":"Dokončeno"},{"$f":"IF(J51=\"\",\"\",LOOKUP(J51,zdroj!$E$3:$E$700,zdroj!$F$3:$F$700))","v":"12:00:00"},12,252,{"$f":"IF(J51=\"\",\"\",LOOKUP(J51,zdroj!$E$3:$E$700,zdroj!$L$3:$L$700))","v":0},{"$f":"IF(J51=\"\",\"\",LOOKUP(J51,zdroj!$E$3:$E$700,zdroj!$G$3:$G$700))","v":"Faurecie"},{"$f":"IF(J51=\"\",\"\",LOOKUP(J51,zdroj!$E$3:$E$700,zdroj!$H$3:$H$700))","v":"vlastní"},{"$f":"+IF(J51=\"\",\"\",LOOKUP(J51,zdroj!$E$3:$E$700,zdroj!$I$3:$I$700))","v":"Dokončeno"},{"$f":"IF(Q51=\"\",\"\",LOOKUP(Q51,zdroj!$E$3:$E$700,zdroj!$F$3:$F$700))","v":""},"","",{"$f":"IF(Q51=\"\",\"\",LOOKUP(Q51,zdroj!$E$3:$E$700,zdroj!$L$3:$L$700))","v":""},{"$f":"IF(Q51=\"\",\"\",LOOKUP(Q51,zdroj!$E$3:$E$700,zdroj!$G$3:$G$700))","v":""},{"$f":"IF(Q51=\"\",\"\",LOOKUP(Q51,zdroj!$E$3:$E$700,zdroj!$H$3:$H$700))","v":""},{"$f":"+IF(Q51=\"\",\"\",LOOKUP(Q51,zdroj!$E$3:$E$700,zdroj!$I$3:$I$700))","v":""},{"$f":"IF(X51=\"\",\"\",LOOKUP(X51,zdroj!$E$3:$E$700,zdroj!$F$3:$F$700))","v":"11:00:00"},12,312,{"$f":"IF(X51=\"\",\"\",LOOKUP(X51,zdroj!$E$3:$E$700,zdroj!$L$3:$L$700))","v":5},{"$f":"IF(X51=\"\",\"\",LOOKUP(X51,zdroj!$E$3:$E$700,zdroj!$G$3:$G$700))","v":"JPSK"},{"$f":"IF(X51=\"\",\"\",LOOKUP(X51,zdroj!$E$3:$E$700,zdroj!$H$3:$H$700))","v":"vlastní"},{"$f":"+IF(X51=\"\",\"\",LOOKUP(X51,zdroj!$E$3:$E$700,zdroj!$I$3:$I$700))","v":"Dokončeno"},{"$f":"IF(AE51=\"\",\"\",LOOKUP(AE51,zdroj!$E$3:$E$700,zdroj!$F$3:$F$700))","v":"00:00:00"},12,342,{"$f":"IF(AE51=\"\",\"\",LOOKUP(AE51,zdroj!$E$3:$E$700,zdroj!$L$3:$L$700))","v":4},{"$f":"IF(AE51=\"\",\"\",LOOKUP(AE51,zdroj!$E$3:$E$700,zdroj!$G$3:$G$700))","v":"Filmer"},{"$f":"IF(AE51=\"\",\"\",LOOKUP(AE51,zdroj!$E$3:$E$700,zdroj!$H$3:$H$700))","v":0},{"$f":"+IF(AE51=\"\",\"\",LOOKUP(AE51,zdroj!$E$3:$E$700,zdroj!$I$3:$I$700))","v":"Dokončeno"}]
[{"$f":"IF(C52=\"\",\"\",LOOKUP(C52,zdroj!$E$3:$E$700,zdroj!$F$3:$F$700))","v":"11:15:00"},13,223,{"$f":"IF(C52=\"\",\"\",LOOKUP(C52,zdroj!$E$3:$E$700,zdroj!$L$3:$L$700))","v":0},{"$f":"IF(C52=\"\",\"\",LOOKUP(C52,zdroj!$E$3:$E$700,zdroj!$G$3:$G$700))","v":"Carier"},{"$f":"IF(C52=\"\",\"\",LOOKUP(C52,zdroj!$E$3:$E$700,zdroj!$H$3:$H$700))","v":"vlastní"},{"$f":"+IF(C52=\"\",\"\",LOOKUP(C52,zdroj!$E$3:$E$700,zdroj!$I$3:$I$700))","v":"Dokončeno"},{"$f":"IF(J52=\"\",\"\",LOOKUP(J52,zdroj!$E$3:$E$700,zdroj!$F$3:$F$700))","v":"12:30:00"},13,253,{"$f":"IF(J52=\"\",\"\",LOOKUP(J52,zdroj!$E$3:$E$700,zdroj!$L$3:$L$700))","v":0},{"$f":"IF(J52=\"\",\"\",LOOKUP(J52,zdroj!$E$3:$E$700,zdroj!$G$3:$G$700))","v":"Faurecie MB"},{"$f":"IF(J52=\"\",\"\",LOOKUP(J52,zdroj!$E$3:$E$700,zdroj!$H$3:$H$700))","v":"vlastní"},{"$f":"+IF(J52=\"\",\"\",LOOKUP(J52,zdroj!$E$3:$E$700,zdroj!$I$3:$I$700))","v":"Dokončeno"},{"$f":"IF(Q52=\"\",\"\",LOOKUP(Q52,zdroj!$E$3:$E$700,zdroj!$F$3:$F$700))","v":""},"","",{"$f":"IF(Q52=\"\",\"\",LOOKUP(Q52,zdroj!$E$3:$E$700,zdroj!$L$3:$L$700))","v":""},{"$f":"IF(Q52=\"\",\"\",LOOKUP(Q52,zdroj!$E$3:$E$700,zdroj!$G$3:$G$700))","v":""},{"$f":"IF(Q52=\"\",\"\",LOOKUP(Q52,zdroj!$E$3:$E$700,zdroj!$H$3:$H$700))","v":""},{"$f":"+IF(Q52=\"\",\"\",LOOKUP(Q52,zdroj!$E$3:$E$700,zdroj!$I$3:$I$700))","v":""},{"$f":"IF(X52=\"\",\"\",LOOKUP(X52,zdroj!$E$3:$E$700,zdroj!$F$3:$F$700))","v":"11:00:00"},13,313,{"$f":"IF(X52=\"\",\"\",LOOKUP(X52,zdroj!$E$3:$E$700,zdroj!$L$3:$L$700))","v":2},{"$f":"IF(X52=\"\",\"\",LOOKUP(X52,zdroj!$E$3:$E$700,zdroj!$G$3:$G$700))","v":"TBA"},{"$f":"IF(X52=\"\",\"\",LOOKUP(X52,zdroj!$E$3:$E$700,zdroj!$H$3:$H$700))","v":"vlastní"},{"$f":"+IF(X52=\"\",\"\",LOOKUP(X52,zdroj!$E$3:$E$700,zdroj!$I$3:$I$700))","v":"Dokončeno"},{"$f":"IF(AE52=\"\",\"\",LOOKUP(AE52,zdroj!$E$3:$E$700,zdroj!$F$3:$F$700))","v":"00:00:00"},13,343,{"$f":"IF(AE52=\"\",\"\",LOOKUP(AE52,zdroj!$E$3:$E$700,zdroj!$L$3:$L$700))","v":1},{"$f":"IF(AE52=\"\",\"\",LOOKUP(AE52,zdroj!$E$3:$E$700,zdroj!$G$3:$G$700))","v":"T-NET"},{"$f":"IF(AE52=\"\",\"\",LOOKUP(AE52,zdroj!$E$3:$E$700,zdroj!$H$3:$H$700))","v":"Legarde"},{"$f":"+IF(AE52=\"\",\"\",LOOKUP(AE52,zdroj!$E$3:$E$700,zdroj!$I$3:$I$700))","v":"Dokončeno"}]
[{"$f":"IF(C53=\"\",\"\",LOOKUP(C53,zdroj!$E$3:$E$700,zdroj!$F$3:$F$700))","v":"14:00:00"},14,224,{"$f":"IF(C53=\"\",\"\",LOOKUP(C53,zdroj!$E$3:$E$700,zdroj!$L$3:$L$700))","v":0},{"$f":"IF(C53=\"\",\"\",LOOKUP(C53,zdroj!$E$3:$E$700,zdroj!$G$3:$G$700))","v":"T-Net"},{"$f":"IF(C53=\"\",\"\",LOOKUP(C53,zdroj!$E$3:$E$700,zdroj!$H$3:$H$700))","v":"MSB"},{"$f":"+IF(C53=\"\",\"\",LOOKUP(C53,zdroj!$E$3:$E$700,zdroj!$I$3:$I$700))","v":"Dokončeno"},{"$f":"IF(J53=\"\",\"\",LOOKUP(J53,zdroj!$E$3:$E$700,zdroj!$F$3:$F$700))","v":"13:00:00"},14,254,{"$f":"IF(J53=\"\",\"\",LOOKUP(J53,zdroj!$E$3:$E$700,zdroj!$L$3:$L$700))","v":0},{"$f":"IF(J53=\"\",\"\",LOOKUP(J53,zdroj!$E$3:$E$700,zdroj!$G$3:$G$700))","v":"Faurecie MB"},{"$f":"IF(J53=\"\",\"\",LOOKUP(J53,zdroj!$E$3:$E$700,zdroj!$H$3:$H$700))","v":"vlastní"},{"$f":"+IF(J53=\"\",\"\",LOOKUP(J53,zdroj!$E$3:$E$700,zdroj!$I$3:$I$700))","v":"Dokončeno"},{"$f":"IF(Q53=\"\",\"\",LOOKUP(Q53,zdroj!$E$3:$E$700,zdroj!$F$3:$F$700))","v":""},"","",{"$f":"IF(Q53=\"\",\"\",LOOKUP(Q53,zdroj!$E$3:$E$700,zdroj!$L$3:$L$700))","v":""},{"$f":"IF(Q53=\"\",\"\",LOOKUP(Q53,zdroj!$E$3:$E$700,zdroj!$G$3:$G$700))","v":""},{"$f":"IF(Q53=\"\",\"\",LOOKUP(Q53,zdroj!$E$3:$E$700,zdroj!$H$3:$H$700))","v":""},{"$f":"+IF(Q53=\"\",\"\",LOOKUP(Q53,zdroj!$E$3:$E$700,zdroj!$I$3:$I$700))","v":""},{"$f":"IF(X53=\"\",\"\",LOOKUP(X53,zdroj!$E$3:$E$700,zdroj!$F$3:$F$700))","v":"11:30:00"},14,314,{"$f":"IF(X53=\"\",\"\",LOOKUP(X53,zdroj!$E$3:$E$700,zdroj!$L$3:$L$700))","v":5},{"$f":"IF(X53=\"\",\"\",LOOKUP(X53,zdroj!$E$3:$E$700,zdroj!$G$3:$G$700))","v":"Flexfill"},{"$f":"IF(X53=\"\",\"\",LOOKUP(X53,zdroj!$E$3:$E$700,zdroj!$H$3:$H$700))","v":"Interkontakt"},{"$f":"+IF(X53=\"\",\"\",LOOKUP(X53,zdroj!$E$3:$E$700,zdroj!$I$3:$I$700))","v":"Dokončeno"},{"$f":"IF(AE53=\"\",\"\",LOOKUP(AE53,zdroj!$E$3:$E$700,zdroj!$F$3:$F$700))","v":"00:00:00"},14,344,{"$f":"IF(AE53=\"\",\"\",LOOKUP(AE53,zdroj!$E$3:$E$700,zdroj!$L$3:$L$700))","v":2},{"$f":"IF(AE53=\"\",\"\",LOOKUP(AE53,zdroj!$E$3:$E$700,zdroj!$G$3:$G$700))","v":"Tremalin"},{"$f":"IF(AE53=\"\",\"\",LOOKUP(AE53,zdroj!$E$3:$E$700,zdroj!$H$3:$H$700))","v":"Wereldo.com"},{"$f":"+IF(AE53=\"\",\"\",LOOKUP(AE53,zdroj!$E$3:$E$700,zdroj!$I$3:$I$700))","v":"Dokončeno"}]
[{"$f":"IF(C54=\"\",\"\",LOOKUP(C54,zdroj!$E$3:$E$700,zdroj!$F$3:$F$700))","v":"14:30:00"},15,225,{"$f":"IF(C54=\"\",\"\",LOOKUP(C54,zdroj!$E$3:$E$700,zdroj!$L$3:$L$700))","v":0},{"$f":"IF(C54=\"\",\"\",LOOKUP(C54,zdroj!$E$3:$E$700,zdroj!$G$3:$G$700))","v":"Toptrans"},{"$f":"IF(C54=\"\",\"\",LOOKUP(C54,zdroj!$E$3:$E$700,zdroj!$H$3:$H$700))","v":"SBS"},{"$f":"+IF(C54=\"\",\"\",LOOKUP(C54,zdroj!$E$3:$E$700,zdroj!$I$3:$I$700))","v":"Dokončeno"},{"$f":"IF(J54=\"\",\"\",LOOKUP(J54,zdroj!$E$3:$E$700,zdroj!$F$3:$F$700))","v":"13:00:00"},15,255,{"$f":"IF(J54=\"\",\"\",LOOKUP(J54,zdroj!$E$3:$E$700,zdroj!$L$3:$L$700))","v":0},{"$f":"IF(J54=\"\",\"\",LOOKUP(J54,zdroj!$E$3:$E$700,zdroj!$G$3:$G$700))","v":"PK Group"},{"$f":"IF(J54=\"\",\"\",LOOKUP(J54,zdroj!$E$3:$E$700,zdroj!$H$3:$H$700))","v":"vlastní"},{"$f":"+IF(J54=\"\",\"\",LOOKUP(J54,zdroj!$E$3:$E$700,zdroj!$I$3:$I$700))","v":"Dokončeno"},{"$f":"IF(Q54=\"\",\"\",LOOKUP(Q54,zdroj!$E$3:$E$700,zdroj!$F$3:$F$700))","v":""},"","",{"$f":"IF(Q54=\"\",\"\",LOOKUP(Q54,zdroj!$E$3:$E$700,zdroj!$L$3:$L$700))","v":""},{"$f":"IF(Q54=\"\",\"\",LOOKUP(Q54,zdroj!$E$3:$E$700,zdroj!$G$3:$G$700))","v":""},{"$f":"IF(Q54=\"\",\"\",LOOKUP(Q54,zdroj!$E$3:$E$700,zdroj!$H$3:$H$700))","v":""},{"$f":"+IF(Q54=\"\",\"\",LOOKUP(Q54,zdroj!$E$3:$E$700,zdroj!$I$3:$I$700))","v":""},{"$f":"IF(X54=\"\",\"\",LOOKUP(X54,zdroj!$E$3:$E$700,zdroj!$F$3:$F$700))","v":"12:00:00"},15,315,{"$f":"IF(X54=\"\",\"\",LOOKUP(X54,zdroj!$E$3:$E$700,zdroj!$L$3:$L$700))","v":2},{"$f":"IF(X54=\"\",\"\",LOOKUP(X54,zdroj!$E$3:$E$700,zdroj!$G$3:$G$700))","v":"TBA"},{"$f":"IF(X54=\"\",\"\",LOOKUP(X54,zdroj!$E$3:$E$700,zdroj!$H$3:$H$700))","v":"vlastní"},{"$f":"+IF(X54=\"\",\"\",LOOKUP(X54,zdroj!$E$3:$E$700,zdroj!$I$3:$I$700))","v":"Dokončeno"},{"$f":"IF(AE54=\"\",\"\",LOOKUP(AE54,zdroj!$E$3:$E$700,zdroj!$F$3:$F$700))","v":"00:00:00"},15,345,{"$f":"IF(AE54=\"\",\"\",LOOKUP(AE54,zdroj!$E$3:$E$700,zdroj!$L$3:$L$700))","v":2},{"$f":"IF(AE54=\"\",\"\",LOOKUP(AE54,zdroj!$E$3:$E$700,zdroj!$G$3:$G$700))","v":"BS Vinařské"},{"$f":"IF(AE54=\"\",\"\",LOOKUP(AE54,zdroj!$E$3:$E$700,zdroj!$H$3:$H$700))","v":"vlastní"},{"$f":"+IF(AE54=\"\",\"\",LOOKUP(AE54,zdroj!$E$3:$E$700,zdroj!$I$3:$I$700))","v":"Dokončeno"}]
[{"$f":"IF(C55=\"\",\"\",LOOKUP(C55,zdroj!$E$3:$E$700,zdroj!$F$3:$F$700))","v":"15:00:00"},16,226,{"$f":"IF(C55=\"\",\"\",LOOKUP(C55,zdroj!$E$3:$E$700,zdroj!$L$3:$L$700))","v":0},{"$f":"IF(C55=\"\",\"\",LOOKUP(C55,zdroj!$E$3:$E$700,zdroj!$G$3:$G$700))","v":"Faurecie MB"},{"$f":"IF(C55=\"\",\"\",LOOKUP(C55,zdroj!$E$3:$E$700,zdroj!$H$3:$H$700))","v":"vlastní"},{"$f":"+IF(C55=\"\",\"\",LOOKUP(C55,zdroj!$E$3:$E$700,zdroj!$I$3:$I$700))","v":"Dokončeno"},{"$f":"IF(J55=\"\",\"\",LOOKUP(J55,zdroj!$E$3:$E$700,zdroj!$F$3:$F$700))","v":"14:00:00"},16,256,{"$f":"IF(J55=\"\",\"\",LOOKUP(J55,zdroj!$E$3:$E$700,zdroj!$L$3:$L$700))","v":0},{"$f":"IF(J55=\"\",\"\",LOOKUP(J55,zdroj!$E$3:$E$700,zdroj!$G$3:$G$700))","v":"Vypl"},{"$f":"IF(J55=\"\",\"\",LOOKUP(J55,zdroj!$E$3:$E$700,zdroj!$H$3:$H$700))","v":"naše"},{"$f":"+IF(J55=\"\",\"\",LOOKUP(J55,zdroj!$E$3:$E$700,zdroj!$I$3:$I$700))","v":"Dokončeno"},{"$f":"IF(Q55=\"\",\"\",LOOKUP(Q55,zdroj!$E$3:$E$700,zdroj!$F$3:$F$700))","v":""},"","",{"$f":"IF(Q55=\"\",\"\",LOOKUP(Q55,zdroj!$E$3:$E$700,zdroj!$L$3:$L$700))","v":""},{"$f":"IF(Q55=\"\",\"\",LOOKUP(Q55,zdroj!$E$3:$E$700,zdroj!$G$3:$G$700))","v":""},{"$f":"IF(Q55=\"\",\"\",LOOKUP(Q55,zdroj!$E$3:$E$700,zdroj!$H$3:$H$700))","v":""},{"$f":"+IF(Q55=\"\",\"\",LOOKUP(Q55,zdroj!$E$3:$E$700,zdroj!$I$3:$I$700))","v":""},{"$f":"IF(X55=\"\",\"\",LOOKUP(X55,zdroj!$E$3:$E$700,zdroj!$F$3:$F$700))","v":"12:30:00"},16,316,{"$f":"IF(X55=\"\",\"\",LOOKUP(X55,zdroj!$E$3:$E$700,zdroj!$L$3:$L$700))","v":5},{"$f":"IF(X55=\"\",\"\",LOOKUP(X55,zdroj!$E$3:$E$700,zdroj!$G$3:$G$700))","v":"Faurecie MB"},{"$f":"IF(X55=\"\",\"\",LOOKUP(X55,zdroj!$E$3:$E$700,zdroj!$H$3:$H$700))","v":"vlastní"},{"$f":"+IF(X55=\"\",\"\",LOOKUP(X55,zdroj!$E$3:$E$700,zdroj!$I$3:$I$700))","v":"Dokončeno"},{"$f":"IF(AE55=\"\",\"\",LOOKUP(AE55,zdroj!$E$3:$E$700,zdroj!$F$3:$F$700))","v":"00:00:00"},16,346,{"$f":"IF(AE55=\"\",\"\",LOOKUP(AE55,zdroj!$E$3:$E$700,zdroj!$L$3:$L$700))","v":1},{"$f":"IF(AE55=\"\",\"\",LOOKUP(AE55,zdroj!$E$3:$E$700,zdroj!$G$3:$G$700))","v":"Toptrans"},{"$f":"IF(AE55=\"\",\"\",LOOKUP(AE55,zdroj!$E$3:$E$700,zdroj!$H$3:$H$700))","v":"SBS"},{"$f":"+IF(AE55=\"\",\"\",LOOKUP(AE55,zdroj!$E$3:$E$700,zdroj!$I$3:$I$700))","v":"Dokončeno"}]
[{"$f":"IF(C56=\"\",\"\",LOOKUP(C56,zdroj!$E$3:$E$700,zdroj!$F$3:$F$700))","v":""},"","",{"$f":"IF(C56=\"\",\"\",LOOKUP(C56,zdroj!$E$3:$E$700,zdroj!$L$3:$L$700))","v":""},{"$f":"IF(C56=\"\",\"\",LOOKUP(C56,zdroj!$E$3:$E$700,zdroj!$G$3:$G$700))","v":""},{"$f":"IF(C56=\"\",\"\",LOOKUP(C56,zdroj!$E$3:$E$700,zdroj!$H$3:$H$700))","v":""},{"$f":"+IF(C56=\"\",\"\",LOOKUP(C56,zdroj!$E$3:$E$700,zdroj!$I$3:$I$700))","v":""},{"$f":"IF(J56=\"\",\"\",LOOKUP(J56,zdroj!$E$3:$E$700,zdroj!$F$3:$F$700))","v":""},"","",{"$f":"IF(J56=\"\",\"\",LOOKUP(J56,zdroj!$E$3:$E$700,zdroj!$L$3:$L$700))","v":""},{"$f":"IF(J56=\"\",\"\",LOOKUP(J56,zdroj!$E$3:$E$700,zdroj!$G$3:$G$700))","v":""},{"$f":"IF(J56=\"\",\"\",LOOKUP(J56,zdroj!$E$3:$E$700,zdroj!$H$3:$H$700))","v":""},{"$f":"+IF(J56=\"\",\"\",LOOKUP(J56,zdroj!$E$3:$E$700,zdroj!$I$3:$I$700))","v":""},{"$f":"IF(Q56=\"\",\"\",LOOKUP(Q56,zdroj!$E$3:$E$700,zdroj!$F$3:$F$700))","v":""},"","",{"$f":"IF(Q56=\"\",\"\",LOOKUP(Q56,zdroj!$E$3:$E$700,zdroj!$L$3:$L$700))","v":""},{"$f":"IF(Q56=\"\",\"\",LOOKUP(Q56,zdroj!$E$3:$E$700,zdroj!$G$3:$G$700))","v":""},{"$f":"IF(Q56=\"\",\"\",LOOKUP(Q56,zdroj!$E$3:$E$700,zdroj!$H$3:$H$700))","v":""},{"$f":"+IF(Q56=\"\",\"\",LOOKUP(Q56,zdroj!$E$3:$E$700,zdroj!$I$3:$I$700))","v":""},{"$f":"IF(X56=\"\",\"\",LOOKUP(X56,zdroj!$E$3:$E$700,zdroj!$F$3:$F$700))","v":"13:00:00"},17,317,{"$f":"IF(X56=\"\",\"\",LOOKUP(X56,zdroj!$E$3:$E$700,zdroj!$L$3:$L$700))","v":3},{"$f":"IF(X56=\"\",\"\",LOOKUP(X56,zdroj!$E$3:$E$700,zdroj!$G$3:$G$700))","v":"Santal"},{"$f":"IF(X56=\"\",\"\",LOOKUP(X56,zdroj!$E$3:$E$700,zdroj!$H$3:$H$700))","v":"vlastní"},{"$f":"+IF(X56=\"\",\"\",LOOKUP(X56,zdroj!$E$3:$E$700,zdroj!$I$3:$I$700))","v":"Dokončeno"},{"$f":"IF(AE56=\"\",\"\",LOOKUP(AE56,zdroj!$E$3:$E$700,zdroj!$F$3:$F$700))","v":""},"","",{"$f":"IF(AE56=\"\",\"\",LOOKUP(AE56,zdroj!$E$3:$E$700,zdroj!$L$3:$L$700))","v":""},{"$f":"IF(AE56=\"\",\"\",LOOKUP(AE56,zdroj!$E$3:$E$700,zdroj!$G$3:$G$700))","v":""},{"$f":"IF(AE56=\"\",\"\",LOOKUP(AE56,zdroj!$E$3:$E$700,zdroj!$H$3:$H$700))","v":""},{"$f":"+IF(AE56=\"\",\"\",LOOKUP(AE56,zdroj!$E$3:$E$700,zdroj!$I$3:$I$700))","v":""}]
[{"$f":"IF(C57=\"\",\"\",LOOKUP(C57,zdroj!$E$3:$E$700,zdroj!$F$3:$F$700))","v":""},"","",{"$f":"IF(C57=\"\",\"\",LOOKUP(C57,zdroj!$E$3:$E$700,zdroj!$L$3:$L$700))","v":""},{"$f":"IF(C57=\"\",\"\",LOOKUP(C57,zdroj!$E$3:$E$700,zdroj!$G$3:$G$700))","v":""},{"$f":"IF(C57=\"\",\"\",LOOKUP(C57,zdroj!$E$3:$E$700,zdroj!$H$3:$H$700))","v":""},{"$f":"+IF(C57=\"\",\"\",LOOKUP(C57,zdroj!$E$3:$E$700,zdroj!$I$3:$I$700))","v":""},{"$f":"IF(J57=\"\",\"\",LOOKUP(J57,zdroj!$E$3:$E$700,zdroj!$F$3:$F$700))","v":""},"","",{"$f":"IF(J57=\"\",\"\",LOOKUP(J57,zdroj!$E$3:$E$700,zdroj!$L$3:$L$700))","v":""},{"$f":"IF(J57=\"\",\"\",LOOKUP(J57,zdroj!$E$3:$E$700,zdroj!$G$3:$G$700))","v":""},{"$f":"IF(J57=\"\",\"\",LOOKUP(J57,zdroj!$E$3:$E$700,zdroj!$H$3:$H$700))","v":""},{"$f":"+IF(J57=\"\",\"\",LOOKUP(J57,zdroj!$E$3:$E$700,zdroj!$I$3:$I$700))","v":""},{"$f":"IF(Q57=\"\",\"\",LOOKUP(Q57,zdroj!$E$3:$E$700,zdroj!$F$3:$F$700))","v":""},"","",{"$f":"IF(Q57=\"\",\"\",LOOKUP(Q57,zdroj!$E$3:$E$700,zdroj!$L$3:$L$700))","v":""},{"$f":"IF(Q57=\"\",\"\",LOOKUP(Q57,zdroj!$E$3:$E$700,zdroj!$G$3:$G$700))","v":""},{"$f":"IF(Q57=\"\",\"\",LOOKUP(Q57,zdroj!$E$3:$E$700,zdroj!$H$3:$H$700))","v":""},{"$f":"+IF(Q57=\"\",\"\",LOOKUP(Q57,zdroj!$E$3:$E$700,zdroj!$I$3:$I$700))","v":""},{"$f":"IF(X57=\"\",\"\",LOOKUP(X57,zdroj!$E$3:$E$700,zdroj!$F$3:$F$700))","v":"13:00:00"},18,318,{"$f":"IF(X57=\"\",\"\",LOOKUP(X57,zdroj!$E$3:$E$700,zdroj!$L$3:$L$700))","v":3},{"$f":"IF(X57=\"\",\"\",LOOKUP(X57,zdroj!$E$3:$E$700,zdroj!$G$3:$G$700))","v":"JPSK"},{"$f":"IF(X57=\"\",\"\",LOOKUP(X57,zdroj!$E$3:$E$700,zdroj!$H$3:$H$700))","v":"Vlastní"},{"$f":"+IF(X57=\"\",\"\",LOOKUP(X57,zdroj!$E$3:$E$700,zdroj!$I$3:$I$700))","v":"Dokončeno"},{"$f":"IF(AE57=\"\",\"\",LOOKUP(AE57,zdroj!$E$3:$E$700,zdroj!$F$3:$F$700))","v":""},"","",{"$f":"IF(AE57=\"\",\"\",LOOKUP(AE57,zdroj!$E$3:$E$700,zdroj!$L$3:$L$700))","v":""},{"$f":"IF(AE57=\"\",\"\",LOOKUP(AE57,zdroj!$E$3:$E$700,zdroj!$G$3:$G$700))","v":""},{"$f":"IF(AE57=\"\",\"\",LOOKUP(AE57,zdroj!$E$3:$E$700,zdroj!$H$3:$H$700))","v":""},{"$f":"+IF(AE57=\"\",\"\",LOOKUP(AE57,zdroj!$E$3:$E$700,zdroj!$I$3:$I$700))","v":""}]
[{"$f":"IF(C58=\"\",\"\",LOOKUP(C58,zdroj!$E$3:$E$700,zdroj!$F$3:$F$700))","v":""},"","",{"$f":"IF(C58=\"\",\"\",LOOKUP(C58,zdroj!$E$3:$E$700,zdroj!$L$3:$L$700))","v":""},{"$f":"IF(C58=\"\",\"\",LOOKUP(C58,zdroj!$E$3:$E$700,zdroj!$G$3:$G$700))","v":""},{"$f":"IF(C58=\"\",\"\",LOOKUP(C58,zdroj!$E$3:$E$700,zdroj!$H$3:$H$700))","v":""},{"$f":"+IF(C58=\"\",\"\",LOOKUP(C58,zdroj!$E$3:$E$700,zdroj!$I$3:$I$700))","v":""},{"$f":"IF(J58=\"\",\"\",LOOKUP(J58,zdroj!$E$3:$E$700,zdroj!$F$3:$F$700))","v":""},"","",{"$f":"IF(J58=\"\",\"\",LOOKUP(J58,zdroj!$E$3:$E$700,zdroj!$L$3:$L$700))","v":""},{"$f":"IF(J58=\"\",\"\",LOOKUP(J58,zdroj!$E$3:$E$700,zdroj!$G$3:$G$700))","v":""},{"$f":"IF(J58=\"\",\"\",LOOKUP(J58,zdroj!$E$3:$E$700,zdroj!$H$3:$H$700))","v":""},{"$f":"+IF(J58=\"\",\"\",LOOKUP(J58,zdroj!$E$3:$E$700,zdroj!$I$3:$I$700))","v":""},{"$f":"IF(Q58=\"\",\"\",LOOKUP(Q58,zdroj!$E$3:$E$700,zdroj!$F$3:$F$700))","v":""},"","",{"$f":"IF(Q58=\"\",\"\",LOOKUP(Q58,zdroj!$E$3:$E$700,zdroj!$L$3:$L$700))","v":""},{"$f":"IF(Q58=\"\",\"\",LOOKUP(Q58,zdroj!$E$3:$E$700,zdroj!$G$3:$G$700))","v":""},{"$f":"IF(Q58=\"\",\"\",LOOKUP(Q58,zdroj!$E$3:$E$700,zdroj!$H$3:$H$700))","v":""},{"$f":"+IF(Q58=\"\",\"\",LOOKUP(Q58,zdroj!$E$3:$E$700,zdroj!$I$3:$I$700))","v":""},{"$f":"IF(X58=\"\",\"\",LOOKUP(X58,zdroj!$E$3:$E$700,zdroj!$F$3:$F$700))","v":"00:00:00"},19,319,{"$f":"IF(X58=\"\",\"\",LOOKUP(X58,zdroj!$E$3:$E$700,zdroj!$L$3:$L$700))","v":1},{"$f":"IF(X58=\"\",\"\",LOOKUP(X58,zdroj!$E$3:$E$700,zdroj!$G$3:$G$700))","v":"Toptrans"},{"$f":"IF(X58=\"\",\"\",LOOKUP(X58,zdroj!$E$3:$E$700,zdroj!$H$3:$H$700))","v":"SBS"},{"$f":"+IF(X58=\"\",\"\",LOOKUP(X58,zdroj!$E$3:$E$700,zdroj!$I$3:$I$700))","v":"Dokončeno"},{"$f":"IF(AE58=\"\",\"\",LOOKUP(AE58,zdroj!$E$3:$E$700,zdroj!$F$3:$F$700))","v":""},"","",{"$f":"IF(AE58=\"\",\"\",LOOKUP(AE58,zdroj!$E$3:$E$700,zdroj!$L$3:$L$700))","v":""},{"$f":"IF(AE58=\"\",\"\",LOOKUP(AE58,zdroj!$E$3:$E$700,zdroj!$G$3:$G$700))","v":""},{"$f":"IF(AE58=\"\",\"\",LOOKUP(AE58,zdroj!$E$3:$E$700,zdroj!$H$3:$H$700))","v":""},{"$f":"+IF(AE58=\"\",\"\",LOOKUP(AE58,zdroj!$E$3:$E$700,zdroj!$I$3:$I$700))","v":""}]
[{"$f":"IF(C59=\"\",\"\",LOOKUP(C59,zdroj!$E$3:$E$700,zdroj!$F$3:$F$700))","v":""},"","",{"$f":"IF(C59=\"\",\"\",LOOKUP(C59,zdroj!$E$3:$E$700,zdroj!$L$3:$L$700))","v":""},{"$f":"IF(C59=\"\",\"\",LOOKUP(C59,zdroj!$E$3:$E$700,zdroj!$G$3:$G$700))","v":""},{"$f":"IF(C59=\"\",\"\",LOOKUP(C59,zdroj!$E$3:$E$700,zdroj!$H$3:$H$700))","v":""},{"$f":"+IF(C59=\"\",\"\",LOOKUP(C59,zdroj!$E$3:$E$700,zdroj!$I$3:$I$700))","v":""},{"$f":"IF(J59=\"\",\"\",LOOKUP(J59,zdroj!$E$3:$E$700,zdroj!$F$3:$F$700))","v":""},"","",{"$f":"IF(J59=\"\",\"\",LOOKUP(J59,zdroj!$E$3:$E$700,zdroj!$L$3:$L$700))","v":""},{"$f":"IF(J59=\"\",\"\",LOOKUP(J59,zdroj!$E$3:$E$700,zdroj!$G$3:$G$700))","v":""},{"$f":"IF(J59=\"\",\"\",LOOKUP(J59,zdroj!$E$3:$E$700,zdroj!$H$3:$H$700))","v":""},{"$f":"+IF(J59=\"\",\"\",LOOKUP(J59,zdroj!$E$3:$E$700,zdroj!$I$3:$I$700))","v":""},{"$f":"IF(Q59=\"\",\"\",LOOKUP(Q59,zdroj!$E$3:$E$700,zdroj!$F$3:$F$700))","v":""},"","",{"$f":"IF(Q59=\"\",\"\",LOOKUP(Q59,zdroj!$E$3:$E$700,zdroj!$L$3:$L$700))","v":""},{"$f":"IF(Q59=\"\",\"\",LOOKUP(Q59,zdroj!$E$3:$E$700,zdroj!$G$3:$G$700))","v":""},{"$f":"IF(Q59=\"\",\"\",LOOKUP(Q59,zdroj!$E$3:$E$700,zdroj!$H$3:$H$700))","v":""},{"$f":"+IF(Q59=\"\",\"\",LOOKUP(Q59,zdroj!$E$3:$E$700,zdroj!$I$3:$I$700))","v":""},{"$f":"IF(X59=\"\",\"\",LOOKUP(X59,zdroj!$E$3:$E$700,zdroj!$F$3:$F$700))","v":""},"","",{"$f":"IF(X59=\"\",\"\",LOOKUP(X59,zdroj!$E$3:$E$700,zdroj!$L$3:$L$700))","v":""},{"$f":"IF(X59=\"\",\"\",LOOKUP(X59,zdroj!$E$3:$E$700,zdroj!$G$3:$G$700))","v":""},{"$f":"IF(X59=\"\",\"\",LOOKUP(X59,zdroj!$E$3:$E$700,zdroj!$H$3:$H$700))","v":""},{"$f":"+IF(X59=\"\",\"\",LOOKUP(X59,zdroj!$E$3:$E$700,zdroj!$I$3:$I$700))","v":""},{"$f":"IF(AE59=\"\",\"\",LOOKUP(AE59,zdroj!$E$3:$E$700,zdroj!$F$3:$F$700))","v":""},"","",{"$f":"IF(AE59=\"\",\"\",LOOKUP(AE59,zdroj!$E$3:$E$700,zdroj!$L$3:$L$700))","v":""},{"$f":"IF(AE59=\"\",\"\",LOOKUP(AE59,zdroj!$E$3:$E$700,zdroj!$G$3:$G$700))","v":""},{"$f":"IF(AE59=\"\",\"\",LOOKUP(AE59,zdroj!$E$3:$E$700,zdroj!$H$3:$H$700))","v":""},{"$f":"+IF(AE59=\"\",\"\",LOOKUP(AE59,zdroj!$E$3:$E$700,zdroj!$I$3:$I$700))","v":""}]
[{"$f":"IF(C60=\"\",\"\",LOOKUP(C60,zdroj!$E$3:$E$700,zdroj!$F$3:$F$700))","v":""},"","",{"$f":"IF(C60=\"\",\"\",LOOKUP(C60,zdroj!$E$3:$E$700,zdroj!$L$3:$L$700))","v":""},{"$f":"IF(C60=\"\",\"\",LOOKUP(C60,zdroj!$E$3:$E$700,zdroj!$G$3:$G$700))","v":""},{"$f":"IF(C60=\"\",\"\",LOOKUP(C60,zdroj!$E$3:$E$700,zdroj!$H$3:$H$700))","v":""},{"$f":"+IF(C60=\"\",\"\",LOOKUP(C60,zdroj!$E$3:$E$700,zdroj!$I$3:$I$700))","v":""},{"$f":"IF(J60=\"\",\"\",LOOKUP(J60,zdroj!$E$3:$E$700,zdroj!$F$3:$F$700))","v":""},"","",{"$f":"IF(J60=\"\",\"\",LOOKUP(J60,zdroj!$E$3:$E$700,zdroj!$L$3:$L$700))","v":""},{"$f":"IF(J60=\"\",\"\",LOOKUP(J60,zdroj!$E$3:$E$700,zdroj!$G$3:$G$700))","v":""},{"$f":"IF(J60=\"\",\"\",LOOKUP(J60,zdroj!$E$3:$E$700,zdroj!$H$3:$H$700))","v":""},{"$f":"+IF(J60=\"\",\"\",LOOKUP(J60,zdroj!$E$3:$E$700,zdroj!$I$3:$I$700))","v":""},{"$f":"IF(Q60=\"\",\"\",LOOKUP(Q60,zdroj!$E$3:$E$700,zdroj!$F$3:$F$700))","v":""},"","",{"$f":"IF(Q60=\"\",\"\",LOOKUP(Q60,zdroj!$E$3:$E$700,zdroj!$L$3:$L$700))","v":""},{"$f":"IF(Q60=\"\",\"\",LOOKUP(Q60,zdroj!$E$3:$E$700,zdroj!$G$3:$G$700))","v":""},{"$f":"IF(Q60=\"\",\"\",LOOKUP(Q60,zdroj!$E$3:$E$700,zdroj!$H$3:$H$700))","v":""},{"$f":"+IF(Q60=\"\",\"\",LOOKUP(Q60,zdroj!$E$3:$E$700,zdroj!$I$3:$I$700))","v":""},{"$f":"IF(X60=\"\",\"\",LOOKUP(X60,zdroj!$E$3:$E$700,zdroj!$F$3:$F$700))","v":""},"","",{"$f":"IF(X60=\"\",\"\",LOOKUP(X60,zdroj!$E$3:$E$700,zdroj!$L$3:$L$700))","v":""},{"$f":"IF(X60=\"\",\"\",LOOKUP(X60,zdroj!$E$3:$E$700,zdroj!$G$3:$G$700))","v":""},{"$f":"IF(X60=\"\",\"\",LOOKUP(X60,zdroj!$E$3:$E$700,zdroj!$H$3:$H$700))","v":""},{"$f":"+IF(X60=\"\",\"\",LOOKUP(X60,zdroj!$E$3:$E$700,zdroj!$I$3:$I$700))","v":""},{"$f":"IF(AE60=\"\",\"\",LOOKUP(AE60,zdroj!$E$3:$E$700,zdroj!$F$3:$F$700))","v":""},"","",{"$f":"IF(AE60=\"\",\"\",LOOKUP(AE60,zdroj!$E$3:$E$700,zdroj!$L$3:$L$700))","v":""},{"$f":"IF(AE60=\"\",\"\",LOOKUP(AE60,zdroj!$E$3:$E$700,zdroj!$G$3:$G$700))","v":""},{"$f":"IF(AE60=\"\",\"\",LOOKUP(AE60,zdroj!$E$3:$E$700,zdroj!$H$3:$H$700))","v":""},{"$f":"+IF(AE60=\"\",\"\",LOOKUP(AE60,zdroj!$E$3:$E$700,zdroj!$I$3:$I$700))","v":""}]
[{"$f":"IF(C61=\"\",\"\",LOOKUP(C61,zdroj!$E$3:$E$700,zdroj!$F$3:$F$700))","v":""},"","",{"$f":"IF(C61=\"\",\"\",LOOKUP(C61,zdroj!$E$3:$E$700,zdroj!$L$3:$L$700))","v":""},{"$f":"IF(C61=\"\",\"\",LOOKUP(C61,zdroj!$E$3:$E$700,zdroj!$G$3:$G$700))","v":""},{"$f":"IF(C61=\"\",\"\",LOOKUP(C61,zdroj!$E$3:$E$700,zdroj!$H$3:$H$700))","v":""},{"$f":"+IF(C61=\"\",\"\",LOOKUP(C61,zdroj!$E$3:$E$700,zdroj!$I$3:$I$700))","v":""},{"$f":"IF(J61=\"\",\"\",LOOKUP(J61,zdroj!$E$3:$E$700,zdroj!$F$3:$F$700))","v":""},"","",{"$f":"IF(J61=\"\",\"\",LOOKUP(J61,zdroj!$E$3:$E$700,zdroj!$L$3:$L$700))","v":""},{"$f":"IF(J61=\"\",\"\",LOOKUP(J61,zdroj!$E$3:$E$700,zdroj!$G$3:$G$700))","v":""},{"$f":"IF(J61=\"\",\"\",LOOKUP(J61,zdroj!$E$3:$E$700,zdroj!$H$3:$H$700))","v":""},{"$f":"+IF(J61=\"\",\"\",LOOKUP(J61,zdroj!$E$3:$E$700,zdroj!$I$3:$I$700))","v":""},{"$f":"IF(Q61=\"\",\"\",LOOKUP(Q61,zdroj!$E$3:$E$700,zdroj!$F$3:$F$700))","v":""},"","",{"$f":"IF(Q61=\"\",\"\",LOOKUP(Q61,zdroj!$E$3:$E$700,zdroj!$L$3:$L$700))","v":""},{"$f":"IF(Q61=\"\",\"\",LOOKUP(Q61,zdroj!$E$3:$E$700,zdroj!$G$3:$G$700))","v":""},{"$f":"IF(Q61=\"\",\"\",LOOKUP(Q61,zdroj!$E$3:$E$700,zdroj!$H$3:$H$700))","v":""},{"$f":"+IF(Q61=\"\",\"\",LOOKUP(Q61,zdroj!$E$3:$E$700,zdroj!$I$3:$I$700))","v":""},{"$f":"IF(X61=\"\",\"\",LOOKUP(X61,zdroj!$E$3:$E$700,zdroj!$F$3:$F$700))","v":""},"","",{"$f":"IF(X61=\"\",\"\",LOOKUP(X61,zdroj!$E$3:$E$700,zdroj!$L$3:$L$700))","v":""},{"$f":"IF(X61=\"\",\"\",LOOKUP(X61,zdroj!$E$3:$E$700,zdroj!$G$3:$G$700))","v":""},{"$f":"IF(X61=\"\",\"\",LOOKUP(X61,zdroj!$E$3:$E$700,zdroj!$H$3:$H$700))","v":""},{"$f":"+IF(X61=\"\",\"\",LOOKUP(X61,zdroj!$E$3:$E$700,zdroj!$I$3:$I$700))","v":""},{"$f":"IF(AE61=\"\",\"\",LOOKUP(AE61,zdroj!$E$3:$E$700,zdroj!$F$3:$F$700))","v":""},"","",{"$f":"IF(AE61=\"\",\"\",LOOKUP(AE61,zdroj!$E$3:$E$700,zdroj!$L$3:$L$700))","v":""},{"$f":"IF(AE61=\"\",\"\",LOOKUP(AE61,zdroj!$E$3:$E$700,zdroj!$G$3:$G$700))","v":""},{"$f":"IF(AE61=\"\",\"\",LOOKUP(AE61,zdroj!$E$3:$E$700,zdroj!$H$3:$H$700))","v":""},{"$f":"+IF(AE61=\"\",\"\",LOOKUP(AE61,zdroj!$E$3:$E$700,zdroj!$I$3:$I$700))","v":""}]
[{"$f":"IF(C62=\"\",\"\",LOOKUP(C62,zdroj!$E$3:$E$700,zdroj!$F$3:$F$700))","v":""},"","",{"$f":"IF(C62=\"\",\"\",LOOKUP(C62,zdroj!$E$3:$E$700,zdroj!$L$3:$L$700))","v":""},{"$f":"IF(C62=\"\",\"\",LOOKUP(C62,zdroj!$E$3:$E$700,zdroj!$G$3:$G$700))","v":""},{"$f":"IF(C62=\"\",\"\",LOOKUP(C62,zdroj!$E$3:$E$700,zdroj!$H$3:$H$700))","v":""},{"$f":"+IF(C62=\"\",\"\",LOOKUP(C62,zdroj!$E$3:$E$700,zdroj!$I$3:$I$700))","v":""},{"$f":"IF(J62=\"\",\"\",LOOKUP(J62,zdroj!$E$3:$E$700,zdroj!$F$3:$F$700))","v":""},"","",{"$f":"IF(J62=\"\",\"\",LOOKUP(J62,zdroj!$E$3:$E$700,zdroj!$L$3:$L$700))","v":""},{"$f":"IF(J62=\"\",\"\",LOOKUP(J62,zdroj!$E$3:$E$700,zdroj!$G$3:$G$700))","v":""},{"$f":"IF(J62=\"\",\"\",LOOKUP(J62,zdroj!$E$3:$E$700,zdroj!$H$3:$H$700))","v":""},{"$f":"+IF(J62=\"\",\"\",LOOKUP(J62,zdroj!$E$3:$E$700,zdroj!$I$3:$I$700))","v":""},{"$f":"IF(Q62=\"\",\"\",LOOKUP(Q62,zdroj!$E$3:$E$700,zdroj!$F$3:$F$700))","v":""},"","",{"$f":"IF(Q62=\"\",\"\",LOOKUP(Q62,zdroj!$E$3:$E$700,zdroj!$L$3:$L$700))","v":""},{"$f":"IF(Q62=\"\",\"\",LOOKUP(Q62,zdroj!$E$3:$E$700,zdroj!$G$3:$G$700))","v":""},{"$f":"IF(Q62=\"\",\"\",LOOKUP(Q62,zdroj!$E$3:$E$700,zdroj!$H$3:$H$700))","v":""},{"$f":"+IF(Q62=\"\",\"\",LOOKUP(Q62,zdroj!$E$3:$E$700,zdroj!$I$3:$I$700))","v":""},{"$f":"IF(X62=\"\",\"\",LOOKUP(X62,zdroj!$E$3:$E$700,zdroj!$F$3:$F$700))","v":""},"","",{"$f":"IF(X62=\"\",\"\",LOOKUP(X62,zdroj!$E$3:$E$700,zdroj!$L$3:$L$700))","v":""},{"$f":"IF(X62=\"\",\"\",LOOKUP(X62,zdroj!$E$3:$E$700,zdroj!$G$3:$G$700))","v":""},{"$f":"IF(X62=\"\",\"\",LOOKUP(X62,zdroj!$E$3:$E$700,zdroj!$H$3:$H$700))","v":""},{"$f":"+IF(X62=\"\",\"\",LOOKUP(X62,zdroj!$E$3:$E$700,zdroj!$I$3:$I$700))","v":""},{"$f":"IF(AE62=\"\",\"\",LOOKUP(AE62,zdroj!$E$3:$E$700,zdroj!$F$3:$F$700))","v":""},"","",{"$f":"IF(AE62=\"\",\"\",LOOKUP(AE62,zdroj!$E$3:$E$700,zdroj!$L$3:$L$700))","v":""},{"$f":"IF(AE62=\"\",\"\",LOOKUP(AE62,zdroj!$E$3:$E$700,zdroj!$G$3:$G$700))","v":""},{"$f":"IF(AE62=\"\",\"\",LOOKUP(AE62,zdroj!$E$3:$E$700,zdroj!$H$3:$H$700))","v":""},{"$f":"+IF(AE62=\"\",\"\",LOOKUP(AE62,zdroj!$E$3:$E$700,zdroj!$I$3:$I$700))","v":""}]
[{"$f":"IF(C63=\"\",\"\",LOOKUP(C63,zdroj!$E$3:$E$700,zdroj!$F$3:$F$700))","v":""},"","",{"$f":"IF(C63=\"\",\"\",LOOKUP(C63,zdroj!$E$3:$E$700,zdroj!$L$3:$L$700))","v":""},{"$f":"IF(C63=\"\",\"\",LOOKUP(C63,zdroj!$E$3:$E$700,zdroj!$G$3:$G$700))","v":""},{"$f":"IF(C63=\"\",\"\",LOOKUP(C63,zdroj!$E$3:$E$700,zdroj!$H$3:$H$700))","v":""},{"$f":"+IF(C63=\"\",\"\",LOOKUP(C63,zdroj!$E$3:$E$700,zdroj!$I$3:$I$700))","v":""},{"$f":"IF(J63=\"\",\"\",LOOKUP(J63,zdroj!$E$3:$E$700,zdroj!$F$3:$F$700))","v":""},"","",{"$f":"IF(J63=\"\",\"\",LOOKUP(J63,zdroj!$E$3:$E$700,zdroj!$L$3:$L$700))","v":""},{"$f":"IF(J63=\"\",\"\",LOOKUP(J63,zdroj!$E$3:$E$700,zdroj!$G$3:$G$700))","v":""},{"$f":"IF(J63=\"\",\"\",LOOKUP(J63,zdroj!$E$3:$E$700,zdroj!$H$3:$H$700))","v":""},{"$f":"+IF(J63=\"\",\"\",LOOKUP(J63,zdroj!$E$3:$E$700,zdroj!$I$3:$I$700))","v":""},{"$f":"IF(Q63=\"\",\"\",LOOKUP(Q63,zdroj!$E$3:$E$700,zdroj!$F$3:$F$700))","v":""},"","",{"$f":"IF(Q63=\"\",\"\",LOOKUP(Q63,zdroj!$E$3:$E$700,zdroj!$L$3:$L$700))","v":""},{"$f":"IF(Q63=\"\",\"\",LOOKUP(Q63,zdroj!$E$3:$E$700,zdroj!$G$3:$G$700))","v":""},{"$f":"IF(Q63=\"\",\"\",LOOKUP(Q63,zdroj!$E$3:$E$700,zdroj!$H$3:$H$700))","v":""},{"$f":"+IF(Q63=\"\",\"\",LOOKUP(Q63,zdroj!$E$3:$E$700,zdroj!$I$3:$I$700))","v":""},{"$f":"IF(X63=\"\",\"\",LOOKUP(X63,zdroj!$E$3:$E$700,zdroj!$F$3:$F$700))","v":""},"","",{"$f":"IF(X63=\"\",\"\",LOOKUP(X63,zdroj!$E$3:$E$700,zdroj!$L$3:$L$700))","v":""},{"$f":"IF(X63=\"\",\"\",LOOKUP(X63,zdroj!$E$3:$E$700,zdroj!$G$3:$G$700))","v":""},{"$f":"IF(X63=\"\",\"\",LOOKUP(X63,zdroj!$E$3:$E$700,zdroj!$H$3:$H$700))","v":""},{"$f":"+IF(X63=\"\",\"\",LOOKUP(X63,zdroj!$E$3:$E$700,zdroj!$I$3:$I$700))","v":""},{"$f":"IF(AE63=\"\",\"\",LOOKUP(AE63,zdroj!$E$3:$E$700,zdroj!$F$3:$F$700))","v":""},"","",{"$f":"IF(AE63=\"\",\"\",LOOKUP(AE63,zdroj!$E$3:$E$700,zdroj!$L$3:$L$700))","v":""},{"$f":"IF(AE63=\"\",\"\",LOOKUP(AE63,zdroj!$E$3:$E$700,zdroj!$G$3:$G$700))","v":""},{"$f":"IF(AE63=\"\",\"\",LOOKUP(AE63,zdroj!$E$3:$E$700,zdroj!$H$3:$H$700))","v":""},{"$f":"+IF(AE63=\"\",\"\",LOOKUP(AE63,zdroj!$E$3:$E$700,zdroj!$I$3:$I$700))","v":""}]
[{"$f":"IF(C64=\"\",\"\",LOOKUP(C64,zdroj!$E$3:$E$700,zdroj!$F$3:$F$700))","v":""},"","",{"$f":"IF(C64=\"\",\"\",LOOKUP(C64,zdroj!$E$3:$E$700,zdroj!$L$3:$L$700))","v":""},{"$f":"IF(C64=\"\",\"\",LOOKUP(C64,zdroj!$E$3:$E$700,zdroj!$G$3:$G$700))","v":""},{"$f":"IF(C64=\"\",\"\",LOOKUP(C64,zdroj!$E$3:$E$700,zdroj!$H$3:$H$700))","v":""},{"$f":"+IF(C64=\"\",\"\",LOOKUP(C64,zdroj!$E$3:$E$700,zdroj!$I$3:$I$700))","v":""},{"$f":"IF(J64=\"\",\"\",LOOKUP(J64,zdroj!$E$3:$E$700,zdroj!$F$3:$F$700))","v":""},"","",{"$f":"IF(J64=\"\",\"\",LOOKUP(J64,zdroj!$E$3:$E$700,zdroj!$L$3:$L$700))","v":""},{"$f":"IF(J64=\"\",\"\",LOOKUP(J64,zdroj!$E$3:$E$700,zdroj!$G$3:$G$700))","v":""},{"$f":"IF(J64=\"\",\"\",LOOKUP(J64,zdroj!$E$3:$E$700,zdroj!$H$3:$H$700))","v":""},{"$f":"+IF(J64=\"\",\"\",LOOKUP(J64,zdroj!$E$3:$E$700,zdroj!$I$3:$I$700))","v":""},{"$f":"IF(Q64=\"\",\"\",LOOKUP(Q64,zdroj!$E$3:$E$700,zdroj!$F$3:$F$700))","v":""},"","",{"$f":"IF(Q64=\"\",\"\",LOOKUP(Q64,zdroj!$E$3:$E$700,zdroj!$L$3:$L$700))","v":""},{"$f":"IF(Q64=\"\",\"\",LOOKUP(Q64,zdroj!$E$3:$E$700,zdroj!$G$3:$G$700))","v":""},{"$f":"IF(Q64=\"\",\"\",LOOKUP(Q64,zdroj!$E$3:$E$700,zdroj!$H$3:$H$700))","v":""},{"$f":"+IF(Q64=\"\",\"\",LOOKUP(Q64,zdroj!$E$3:$E$700,zdroj!$I$3:$I$700))","v":""},{"$f":"IF(X64=\"\",\"\",LOOKUP(X64,zdroj!$E$3:$E$700,zdroj!$F$3:$F$700))","v":""},"","",{"$f":"IF(X64=\"\",\"\",LOOKUP(X64,zdroj!$E$3:$E$700,zdroj!$L$3:$L$700))","v":""},{"$f":"IF(X64=\"\",\"\",LOOKUP(X64,zdroj!$E$3:$E$700,zdroj!$G$3:$G$700))","v":""},{"$f":"IF(X64=\"\",\"\",LOOKUP(X64,zdroj!$E$3:$E$700,zdroj!$H$3:$H$700))","v":""},{"$f":"+IF(X64=\"\",\"\",LOOKUP(X64,zdroj!$E$3:$E$700,zdroj!$I$3:$I$700))","v":""},{"$f":"IF(AE64=\"\",\"\",LOOKUP(AE64,zdroj!$E$3:$E$700,zdroj!$F$3:$F$700))","v":""},"","",{"$f":"IF(AE64=\"\",\"\",LOOKUP(AE64,zdroj!$E$3:$E$700,zdroj!$L$3:$L$700))","v":""},{"$f":"IF(AE64=\"\",\"\",LOOKUP(AE64,zdroj!$E$3:$E$700,zdroj!$G$3:$G$700))","v":""},{"$f":"IF(AE64=\"\",\"\",LOOKUP(AE64,zdroj!$E$3:$E$700,zdroj!$H$3:$H$700))","v":""},{"$f":"+IF(AE64=\"\",\"\",LOOKUP(AE64,zdroj!$E$3:$E$700,zdroj!$I$3:$I$700))","v":""}]
[{"$f":"IF(C65=\"\",\"\",LOOKUP(C65,zdroj!$E$3:$E$700,zdroj!$F$3:$F$700))","v":""},"","",{"$f":"IF(C65=\"\",\"\",LOOKUP(C65,zdroj!$E$3:$E$700,zdroj!$L$3:$L$700))","v":""},{"$f":"IF(C65=\"\",\"\",LOOKUP(C65,zdroj!$E$3:$E$700,zdroj!$G$3:$G$700))","v":""},{"$f":"IF(C65=\"\",\"\",LOOKUP(C65,zdroj!$E$3:$E$700,zdroj!$H$3:$H$700))","v":""},{"$f":"+IF(C65=\"\",\"\",LOOKUP(C65,zdroj!$E$3:$E$700,zdroj!$I$3:$I$700))","v":""},{"$f":"IF(J65=\"\",\"\",LOOKUP(J65,zdroj!$E$3:$E$700,zdroj!$F$3:$F$700))","v":""},"","",{"$f":"IF(J65=\"\",\"\",LOOKUP(J65,zdroj!$E$3:$E$700,zdroj!$L$3:$L$700))","v":""},{"$f":"IF(J65=\"\",\"\",LOOKUP(J65,zdroj!$E$3:$E$700,zdroj!$G$3:$G$700))","v":""},{"$f":"IF(J65=\"\",\"\",LOOKUP(J65,zdroj!$E$3:$E$700,zdroj!$H$3:$H$700))","v":""},{"$f":"+IF(J65=\"\",\"\",LOOKUP(J65,zdroj!$E$3:$E$700,zdroj!$I$3:$I$700))","v":""},{"$f":"IF(Q65=\"\",\"\",LOOKUP(Q65,zdroj!$E$3:$E$700,zdroj!$F$3:$F$700))","v":""},"","",{"$f":"IF(Q65=\"\",\"\",LOOKUP(Q65,zdroj!$E$3:$E$700,zdroj!$L$3:$L$700))","v":""},{"$f":"IF(Q65=\"\",\"\",LOOKUP(Q65,zdroj!$E$3:$E$700,zdroj!$G$3:$G$700))","v":""},{"$f":"IF(Q65=\"\",\"\",LOOKUP(Q65,zdroj!$E$3:$E$700,zdroj!$H$3:$H$700))","v":""},{"$f":"+IF(Q65=\"\",\"\",LOOKUP(Q65,zdroj!$E$3:$E$700,zdroj!$I$3:$I$700))","v":""},{"$f":"IF(X65=\"\",\"\",LOOKUP(X65,zdroj!$E$3:$E$700,zdroj!$F$3:$F$700))","v":""},"","",{"$f":"IF(X65=\"\",\"\",LOOKUP(X65,zdroj!$E$3:$E$700,zdroj!$L$3:$L$700))","v":""},{"$f":"IF(X65=\"\",\"\",LOOKUP(X65,zdroj!$E$3:$E$700,zdroj!$G$3:$G$700))","v":""},{"$f":"IF(X65=\"\",\"\",LOOKUP(X65,zdroj!$E$3:$E$700,zdroj!$H$3:$H$700))","v":""},{"$f":"+IF(X65=\"\",\"\",LOOKUP(X65,zdroj!$E$3:$E$700,zdroj!$I$3:$I$700))","v":""},{"$f":"IF(AE65=\"\",\"\",LOOKUP(AE65,zdroj!$E$3:$E$700,zdroj!$F$3:$F$700))","v":""},"","",{"$f":"IF(AE65=\"\",\"\",LOOKUP(AE65,zdroj!$E$3:$E$700,zdroj!$L$3:$L$700))","v":""},{"$f":"IF(AE65=\"\",\"\",LOOKUP(AE65,zdroj!$E$3:$E$700,zdroj!$G$3:$G$700))","v":""},{"$f":"IF(AE65=\"\",\"\",LOOKUP(AE65,zdroj!$E$3:$E$700,zdroj!$H$3:$H$700))","v":""},{"$f":"+IF(AE65=\"\",\"\",LOOKUP(AE65,zdroj!$E$3:$E$700,zdroj!$I$3:$I$700))","v":""}]
[{"$f":"IF(C66=\"\",\"\",LOOKUP(C66,zdroj!$E$3:$E$700,zdroj!$F$3:$F$700))","v":""},"","",{"$f":"IF(C66=\"\",\"\",LOOKUP(C66,zdroj!$E$3:$E$700,zdroj!$L$3:$L$700))","v":""},{"$f":"IF(C66=\"\",\"\",LOOKUP(C66,zdroj!$E$3:$E$700,zdroj!$G$3:$G$700))","v":""},{"$f":"IF(C66=\"\",\"\",LOOKUP(C66,zdroj!$E$3:$E$700,zdroj!$H$3:$H$700))","v":""},{"$f":"+IF(C66=\"\",\"\",LOOKUP(C66,zdroj!$E$3:$E$700,zdroj!$I$3:$I$700))","v":""},{"$f":"IF(J66=\"\",\"\",LOOKUP(J66,zdroj!$E$3:$E$700,zdroj!$F$3:$F$700))","v":""},"","",{"$f":"IF(J66=\"\",\"\",LOOKUP(J66,zdroj!$E$3:$E$700,zdroj!$L$3:$L$700))","v":""},{"$f":"IF(J66=\"\",\"\",LOOKUP(J66,zdroj!$E$3:$E$700,zdroj!$G$3:$G$700))","v":""},{"$f":"IF(J66=\"\",\"\",LOOKUP(J66,zdroj!$E$3:$E$700,zdroj!$H$3:$H$700))","v":""},{"$f":"+IF(J66=\"\",\"\",LOOKUP(J66,zdroj!$E$3:$E$700,zdroj!$I$3:$I$700))","v":""},{"$f":"IF(Q66=\"\",\"\",LOOKUP(Q66,zdroj!$E$3:$E$700,zdroj!$F$3:$F$700))","v":""},"","",{"$f":"IF(Q66=\"\",\"\",LOOKUP(Q66,zdroj!$E$3:$E$700,zdroj!$L$3:$L$700))","v":""},{"$f":"IF(Q66=\"\",\"\",LOOKUP(Q66,zdroj!$E$3:$E$700,zdroj!$G$3:$G$700))","v":""},{"$f":"IF(Q66=\"\",\"\",LOOKUP(Q66,zdroj!$E$3:$E$700,zdroj!$H$3:$H$700))","v":""},{"$f":"+IF(Q66=\"\",\"\",LOOKUP(Q66,zdroj!$E$3:$E$700,zdroj!$I$3:$I$700))","v":""},{"$f":"IF(X66=\"\",\"\",LOOKUP(X66,zdroj!$E$3:$E$700,zdroj!$F$3:$F$700))","v":""},"","",{"$f":"IF(X66=\"\",\"\",LOOKUP(X66,zdroj!$E$3:$E$700,zdroj!$L$3:$L$700))","v":""},{"$f":"IF(X66=\"\",\"\",LOOKUP(X66,zdroj!$E$3:$E$700,zdroj!$G$3:$G$700))","v":""},{"$f":"IF(X66=\"\",\"\",LOOKUP(X66,zdroj!$E$3:$E$700,zdroj!$H$3:$H$700))","v":""},{"$f":"+IF(X66=\"\",\"\",LOOKUP(X66,zdroj!$E$3:$E$700,zdroj!$I$3:$I$700))","v":""},{"$f":"IF(AE66=\"\",\"\",LOOKUP(AE66,zdroj!$E$3:$E$700,zdroj!$F$3:$F$700))","v":""},"","",{"$f":"IF(AE66=\"\",\"\",LOOKUP(AE66,zdroj!$E$3:$E$700,zdroj!$L$3:$L$700))","v":""},{"$f":"IF(AE66=\"\",\"\",LOOKUP(AE66,zdroj!$E$3:$E$700,zdroj!$G$3:$G$700))","v":""},{"$f":"IF(AE66=\"\",\"\",LOOKUP(AE66,zdroj!$E$3:$E$700,zdroj!$H$3:$H$700))","v":""},{"$f":"+IF(AE66=\"\",\"\",LOOKUP(AE66,zdroj!$E$3:$E$700,zdroj!$I$3:$I$700))","v":""}]
[{"$f":"IF(C67=\"\",\"\",LOOKUP(C67,zdroj!$E$3:$E$700,zdroj!$F$3:$F$700))","v":""},"","",{"$f":"IF(C67=\"\",\"\",LOOKUP(C67,zdroj!$E$3:$E$700,zdroj!$L$3:$L$700))","v":""},{"$f":"IF(C67=\"\",\"\",LOOKUP(C67,zdroj!$E$3:$E$700,zdroj!$G$3:$G$700))","v":""},{"$f":"IF(C67=\"\",\"\",LOOKUP(C67,zdroj!$E$3:$E$700,zdroj!$H$3:$H$700))","v":""},{"$f":"+IF(C67=\"\",\"\",LOOKUP(C67,zdroj!$E$3:$E$700,zdroj!$I$3:$I$700))","v":""},{"$f":"IF(J67=\"\",\"\",LOOKUP(J67,zdroj!$E$3:$E$700,zdroj!$F$3:$F$700))","v":""},"","",{"$f":"IF(J67=\"\",\"\",LOOKUP(J67,zdroj!$E$3:$E$700,zdroj!$L$3:$L$700))","v":""},{"$f":"IF(J67=\"\",\"\",LOOKUP(J67,zdroj!$E$3:$E$700,zdroj!$G$3:$G$700))","v":""},{"$f":"IF(J67=\"\",\"\",LOOKUP(J67,zdroj!$E$3:$E$700,zdroj!$H$3:$H$700))","v":""},{"$f":"+IF(J67=\"\",\"\",LOOKUP(J67,zdroj!$E$3:$E$700,zdroj!$I$3:$I$700))","v":""},{"$f":"IF(Q67=\"\",\"\",LOOKUP(Q67,zdroj!$E$3:$E$700,zdroj!$F$3:$F$700))","v":""},"","",{"$f":"IF(Q67=\"\",\"\",LOOKUP(Q67,zdroj!$E$3:$E$700,zdroj!$L$3:$L$700))","v":""},{"$f":"IF(Q67=\"\",\"\",LOOKUP(Q67,zdroj!$E$3:$E$700,zdroj!$G$3:$G$700))","v":""},{"$f":"IF(Q67=\"\",\"\",LOOKUP(Q67,zdroj!$E$3:$E$700,zdroj!$H$3:$H$700))","v":""},{"$f":"+IF(Q67=\"\",\"\",LOOKUP(Q67,zdroj!$E$3:$E$700,zdroj!$I$3:$I$700))","v":""},{"$f":"IF(X67=\"\",\"\",LOOKUP(X67,zdroj!$E$3:$E$700,zdroj!$F$3:$F$700))","v":""},"","",{"$f":"IF(X67=\"\",\"\",LOOKUP(X67,zdroj!$E$3:$E$700,zdroj!$L$3:$L$700))","v":""},{"$f":"IF(X67=\"\",\"\",LOOKUP(X67,zdroj!$E$3:$E$700,zdroj!$G$3:$G$700))","v":""},{"$f":"IF(X67=\"\",\"\",LOOKUP(X67,zdroj!$E$3:$E$700,zdroj!$H$3:$H$700))","v":""},{"$f":"+IF(X67=\"\",\"\",LOOKUP(X67,zdroj!$E$3:$E$700,zdroj!$I$3:$I$700))","v":""},{"$f":"IF(AE67=\"\",\"\",LOOKUP(AE67,zdroj!$E$3:$E$700,zdroj!$F$3:$F$700))","v":""},"","",{"$f":"IF(AE67=\"\",\"\",LOOKUP(AE67,zdroj!$E$3:$E$700,zdroj!$L$3:$L$700))","v":""},{"$f":"IF(AE67=\"\",\"\",LOOKUP(AE67,zdroj!$E$3:$E$700,zdroj!$G$3:$G$700))","v":""},{"$f":"IF(AE67=\"\",\"\",LOOKUP(AE67,zdroj!$E$3:$E$700,zdroj!$H$3:$H$700))","v":""},{"$f":"+IF(AE67=\"\",\"\",LOOKUP(AE67,zdroj!$E$3:$E$700,zdroj!$I$3:$I$700))","v":""}]
[{"$f":"IF(C68=\"\",\"\",LOOKUP(C68,zdroj!$E$3:$E$700,zdroj!$F$3:$F$700))","v":""},"","",{"$f":"IF(C68=\"\",\"\",LOOKUP(C68,zdroj!$E$3:$E$700,zdroj!$L$3:$L$700))","v":""},{"$f":"IF(C68=\"\",\"\",LOOKUP(C68,zdroj!$E$3:$E$700,zdroj!$G$3:$G$700))","v":""},{"$f":"IF(C68=\"\",\"\",LOOKUP(C68,zdroj!$E$3:$E$700,zdroj!$H$3:$H$700))","v":""},{"$f":"+IF(C68=\"\",\"\",LOOKUP(C68,zdroj!$E$3:$E$700,zdroj!$I$3:$I$700))","v":""},{"$f":"IF(J68=\"\",\"\",LOOKUP(J68,zdroj!$E$3:$E$700,zdroj!$F$3:$F$700))","v":""},"","",{"$f":"IF(J68=\"\",\"\",LOOKUP(J68,zdroj!$E$3:$E$700,zdroj!$L$3:$L$700))","v":""},{"$f":"IF(J68=\"\",\"\",LOOKUP(J68,zdroj!$E$3:$E$700,zdroj!$G$3:$G$700))","v":""},{"$f":"IF(J68=\"\",\"\",LOOKUP(J68,zdroj!$E$3:$E$700,zdroj!$H$3:$H$700))","v":""},{"$f":"+IF(J68=\"\",\"\",LOOKUP(J68,zdroj!$E$3:$E$700,zdroj!$I$3:$I$700))","v":""},{"$f":"IF(Q68=\"\",\"\",LOOKUP(Q68,zdroj!$E$3:$E$700,zdroj!$F$3:$F$700))","v":""},"","",{"$f":"IF(Q68=\"\",\"\",LOOKUP(Q68,zdroj!$E$3:$E$700,zdroj!$L$3:$L$700))","v":""},{"$f":"IF(Q68=\"\",\"\",LOOKUP(Q68,zdroj!$E$3:$E$700,zdroj!$G$3:$G$700))","v":""},{"$f":"IF(Q68=\"\",\"\",LOOKUP(Q68,zdroj!$E$3:$E$700,zdroj!$H$3:$H$700))","v":""},{"$f":"+IF(Q68=\"\",\"\",LOOKUP(Q68,zdroj!$E$3:$E$700,zdroj!$I$3:$I$700))","v":""},{"$f":"IF(X68=\"\",\"\",LOOKUP(X68,zdroj!$E$3:$E$700,zdroj!$F$3:$F$700))","v":""},"","",{"$f":"IF(X68=\"\",\"\",LOOKUP(X68,zdroj!$E$3:$E$700,zdroj!$L$3:$L$700))","v":""},{"$f":"IF(X68=\"\",\"\",LOOKUP(X68,zdroj!$E$3:$E$700,zdroj!$G$3:$G$700))","v":""},{"$f":"IF(X68=\"\",\"\",LOOKUP(X68,zdroj!$E$3:$E$700,zdroj!$H$3:$H$700))","v":""},{"$f":"+IF(X68=\"\",\"\",LOOKUP(X68,zdroj!$E$3:$E$700,zdroj!$I$3:$I$700))","v":""},{"$f":"IF(AE68=\"\",\"\",LOOKUP(AE68,zdroj!$E$3:$E$700,zdroj!$F$3:$F$700))","v":""},"","",{"$f":"IF(AE68=\"\",\"\",LOOKUP(AE68,zdroj!$E$3:$E$700,zdroj!$L$3:$L$700))","v":""},{"$f":"IF(AE68=\"\",\"\",LOOKUP(AE68,zdroj!$E$3:$E$700,zdroj!$G$3:$G$700))","v":""},{"$f":"IF(AE68=\"\",\"\",LOOKUP(AE68,zdroj!$E$3:$E$700,zdroj!$H$3:$H$700))","v":""},{"$f":"+IF(AE68=\"\",\"\",LOOKUP(AE68,zdroj!$E$3:$E$700,zdroj!$I$3:$I$700))","v":""}]
[{"$f":"IF(C69=\"\",\"\",LOOKUP(C69,zdroj!$E$3:$E$700,zdroj!$F$3:$F$700))","v":""},"","",{"$f":"IF(C69=\"\",\"\",LOOKUP(C69,zdroj!$E$3:$E$700,zdroj!$L$3:$L$700))","v":""},{"$f":"IF(C69=\"\",\"\",LOOKUP(C69,zdroj!$E$3:$E$700,zdroj!$G$3:$G$700))","v":""},{"$f":"IF(C69=\"\",\"\",LOOKUP(C69,zdroj!$E$3:$E$700,zdroj!$H$3:$H$700))","v":""},{"$f":"+IF(C69=\"\",\"\",LOOKUP(C69,zdroj!$E$3:$E$700,zdroj!$I$3:$I$700))","v":""},{"$f":"IF(J69=\"\",\"\",LOOKUP(J69,zdroj!$E$3:$E$700,zdroj!$F$3:$F$700))","v":""},"","",{"$f":"IF(J69=\"\",\"\",LOOKUP(J69,zdroj!$E$3:$E$700,zdroj!$L$3:$L$700))","v":""},{"$f":"IF(J69=\"\",\"\",LOOKUP(J69,zdroj!$E$3:$E$700,zdroj!$G$3:$G$700))","v":""},{"$f":"IF(J69=\"\",\"\",LOOKUP(J69,zdroj!$E$3:$E$700,zdroj!$H$3:$H$700))","v":""},{"$f":"+IF(J69=\"\",\"\",LOOKUP(J69,zdroj!$E$3:$E$700,zdroj!$I$3:$I$700))","v":""},{"$f":"IF(Q69=\"\",\"\",LOOKUP(Q69,zdroj!$E$3:$E$700,zdroj!$F$3:$F$700))","v":""},"","",{"$f":"IF(Q69=\"\",\"\",LOOKUP(Q69,zdroj!$E$3:$E$700,zdroj!$L$3:$L$700))","v":""},{"$f":"IF(Q69=\"\",\"\",LOOKUP(Q69,zdroj!$E$3:$E$700,zdroj!$G$3:$G$700))","v":""},{"$f":"IF(Q69=\"\",\"\",LOOKUP(Q69,zdroj!$E$3:$E$700,zdroj!$H$3:$H$700))","v":""},{"$f":"+IF(Q69=\"\",\"\",LOOKUP(Q69,zdroj!$E$3:$E$700,zdroj!$I$3:$I$700))","v":""},{"$f":"IF(X69=\"\",\"\",LOOKUP(X69,zdroj!$E$3:$E$700,zdroj!$F$3:$F$700))","v":""},"","",{"$f":"IF(X69=\"\",\"\",LOOKUP(X69,zdroj!$E$3:$E$700,zdroj!$L$3:$L$700))","v":""},{"$f":"IF(X69=\"\",\"\",LOOKUP(X69,zdroj!$E$3:$E$700,zdroj!$G$3:$G$700))","v":""},{"$f":"IF(X69=\"\",\"\",LOOKUP(X69,zdroj!$E$3:$E$700,zdroj!$H$3:$H$700))","v":""},{"$f":"+IF(X69=\"\",\"\",LOOKUP(X69,zdroj!$E$3:$E$700,zdroj!$I$3:$I$700))","v":""},{"$f":"IF(AE69=\"\",\"\",LOOKUP(AE69,zdroj!$E$3:$E$700,zdroj!$F$3:$F$700))","v":""},"","",{"$f":"IF(AE69=\"\",\"\",LOOKUP(AE69,zdroj!$E$3:$E$700,zdroj!$L$3:$L$700))","v":""},{"$f":"IF(AE69=\"\",\"\",LOOKUP(AE69,zdroj!$E$3:$E$700,zdroj!$G$3:$G$700))","v":""},{"$f":"IF(AE69=\"\",\"\",LOOKUP(AE69,zdroj!$E$3:$E$700,zdroj!$H$3:$H$700))","v":""},{"$f":"+IF(AE69=\"\",\"\",LOOKUP(AE69,zdroj!$E$3:$E$700,zdroj!$I$3:$I$700))","v":""}]
["TÝDEN ",{"$f":"+B36-1","v":4}]
[{"$f":"+A37","v":44958},null,null,null,"pondělí",null,{"$f":"+AI37+3","v":"2023-01-16"},null,null,null,null,"Úterý",null,{"$f":"+G71+1","v":"2023-01-17"},"Středa",null,null,null,null,null,{"$f":"+N71+1","v":"2023-01-18"},"Čtvrtek",null,null,null,null,null,{"$f":"+U71+1","v":"2023-01-19"},"Pátek",null,null,null,null,null,{"$f":"+AB71+1","v":"2023-01-20"}]
[{"$f":"+CONCATENATE(E71,\" \",TEXT(G71,\"DD.MM.RR\"))","v":"pondělí 16.01.23"},null,null,null,null,null,null,{"$f":"+CONCATENATE(L71,\" \",TEXT(N71,\"DD.MM.RR\"))","v":"Úterý 17.01.23"},null,null,null,null,null,null,{"$f":"+CONCATENATE(O71,\" \",TEXT(U71,\"DD.MM.RR\"))","v":"Středa 18.01.23"},null,null,null,null,null,null,{"$f":"+CONCATENATE(V71,\" \",TEXT(AB71,\"DD.MM.RR\"))","v":"Čtvrtek 19.01.23"},null,null,null,null,null,null,{"$f":"+CONCATENATE(AC71,\" \",TEXT(AI71,\"DD.MM.RR\"))","v":"Pátek 20.01.23"}]
["hodina",{"$f":"+LOOKUP(G71,DataFIX!$F$3:$F$41,DataFIX!$G$3:$G$41)","v":420},{"$f":"+COUNTIFS(zdroj!$B$3:$B$700,Screen!G71)","v":14},{"$f":"+SUM(D74:D103)","v":32},"Zákazník","Dopravce","Status","hodina",{"$f":"+LOOKUP(N71,DataFIX!$F$3:$F$41,DataFIX!$G$3:$G$41)","v":450},{"$f":"+COUNTIFS(zdroj!$B$3:$B$700,Screen!N71)","v":18},{"$f":"+SUM(K74:K103)","v":43},"Zákazník","Dopravce","Status","hodina",{"$f":"+LOOKUP(U71,DataFIX!$F$3:$F$41,DataFIX!$G$3:$G$41)","v":480},{"$f":"+COUNTIFS(zdroj!$B$3:$B$700,Screen!U71)","v":16},{"$f":"+SUM(R74:R103)","v":39},"Zákazník","Dopravce","Status","hodina",{"$f":"+LOOKUP(AB71,DataFIX!$F$3:$F$41,DataFIX!$G$3:$G$41)","v":510},{"$f":"+COUNTIFS(zdroj!$B$3:$B$700,Screen!AB71)","v":21},{"$f":"+SUM(Y74:Y103)","v":54},"Zákazník","Dopravce","Status","hodina",{"$f":"+LOOKUP(AI71,DataFIX!$F$3:$F$41,DataFIX!$G$3:$G$41)","v":540},{"$f":"+COUNTIFS(zdroj!$B$3:$B$700,Screen!AI71)","v":11},{"$f":"+SUM(AF74:AF103)","v":23},"Zákazník","Dopravce","Status"]
[{"$f":"IF(C74=\"\",\"\",LOOKUP(C74,zdroj!$E$3:$E$700,zdroj!$F$3:$F$700))","v":"06:00:00"},{"$f":"+IF(C$73=\"\",\"\",IF(C73=0,\"\",1))","v":1},{"$f":"+IF(B74=\"\",\"\",B74+B$73)","v":421},{"$f":"IF(C74=\"\",\"\",LOOKUP(C74,zdroj!$E$3:$E$700,zdroj!$L$3:$L$700))","v":2},{"$f":"IF(C74=\"\",\"\",LOOKUP(C74,zdroj!$E$3:$E$700,zdroj!$G$3:$G$700))","v":"DF"},{"$f":"IF(C74=\"\",\"\",LOOKUP(C74,zdroj!$E$3:$E$700,zdroj!$H$3:$H$700))","v":"Hroza"},{"$f":"+IF(C74=\"\",\"\",LOOKUP(C74,zdroj!$E$3:$E$700,zdroj!$I$3:$I$700))","v":"Dokončeno"},{"$f":"IF(J74=\"\",\"\",LOOKUP(J74,zdroj!$E$3:$E$700,zdroj!$F$3:$F$700))","v":"06:00:00"},{"$f":"+IF(J$73=\"\",\"\",IF(J73=0,\"\",1))","v":1},{"$f":"+IF(I74=\"\",\"\",I74+I$73)","v":451},{"$f":"IF(J74=\"\",\"\",LOOKUP(J74,zdroj!$E$3:$E$700,zdroj!$L$3:$L$700))","v":4},{"$f":"IF(J74=\"\",\"\",LOOKUP(J74,zdroj!$E$3:$E$700,zdroj!$G$3:$G$700))","v":"Filmer"},{"$f":"IF(J74=\"\",\"\",LOOKUP(J74,zdroj!$E$3:$E$700,zdroj!$H$3:$H$700))","v":"JF LOG"},{"$f":"+IF(J74=\"\",\"\",LOOKUP(J74,zdroj!$E$3:$E$700,zdroj!$I$3:$I$700))","v":"Dokončeno"},{"$f":"IF(Q74=\"\",\"\",LOOKUP(Q74,zdroj!$E$3:$E$700,zdroj!$F$3:$F$700))","v":"06:00:00"},{"$f":"+IF(Q$73=\"\",\"\",IF(Q73=0,\"\",1))","v":1},{"$f":"+IF(P74=\"\",\"\",P74+P$73)","v":481},{"$f":"IF(Q74=\"\",\"\",LOOKUP(Q74,zdroj!$E$3:$E$700,zdroj!$L$3:$L$700))","v":2},{"$f":"IF(Q74=\"\",\"\",LOOKUP(Q74,zdroj!$E$3:$E$700,zdroj!$G$3:$G$700))","v":"DF"},{"$f":"IF(Q74=\"\",\"\",LOOKUP(Q74,zdroj!$E$3:$E$700,zdroj!$H$3:$H$700))","v":"Hroza"},{"$f":"+IF(Q74=\"\",\"\",LOOKUP(Q74,zdroj!$E$3:$E$700,zdroj!$I$3:$I$700))","v":"Dokončeno"},{"$f":"IF(X74=\"\",\"\",LOOKUP(X74,zdroj!$E$3:$E$700,zdroj!$F$3:$F$700))","v":"06:00:00"},{"$f":"+IF(X$73=\"\",\"\",IF(X73=0,\"\",1))","v":1},{"$f":"+IF(W74=\"\",\"\",W74+W$73)","v":511},{"$f":"IF(X74=\"\",\"\",LOOKUP(X74,zdroj!$E$3:$E$700,zdroj!$L$3:$L$700))","v":0},{"$f":"IF(X74=\"\",\"\",LOOKUP(X74,zdroj!$E$3:$E$700,zdroj!$G$3:$G$700))","v":"DF"},{"$f":"IF(X74=\"\",\"\",LOOKUP(X74,zdroj!$E$3:$E$700,zdroj!$H$3:$H$700))","v":"Hroza"},{"$f":"+IF(X74=\"\",\"\",LOOKUP(X74,zdroj!$E$3:$E$700,zdroj!$I$3:$I$700))","v":"Zrušeno"},{"$f":"IF(AE74=\"\",\"\",LOOKUP(AE74,zdroj!$E$3:$E$700,zdroj!$F$3:$F$700))","v":"06:05:00"},{"$f":"+IF(AE$73=\"\",\"\",IF(AE73=0,\"\",1))","v":1},{"$f":"+IF(AD74=\"\",\"\",AD74+AD$73)","v":541},{"$f":"IF(AE74=\"\",\"\",LOOKUP(AE74,zdroj!$E$3:$E$700,zdroj!$L$3:$L$700))","v":3},{"$f":"IF(AE74=\"\",\"\",LOOKUP(AE74,zdroj!$E$3:$E$700,zdroj!$G$3:$G$700))","v":"Atotech"},{"$f":"IF(AE74=\"\",\"\",LOOKUP(AE74,zdroj!$E$3:$E$700,zdroj!$H$3:$H$700))","v":"TEZET"},{"$f":"+IF(AE74=\"\",\"\",LOOKUP(AE74,zdroj!$E$3:$E$700,zdroj!$I$3:$I$700))","v":"Dokončeno"}]
[{"$f":"IF(C75=\"\",\"\",LOOKUP(C75,zdroj!$E$3:$E$700,zdroj!$F$3:$F$700))","v":"06:05:00"},{"$f":"+IF(C$73>B74,B74+1,\"\")","v":2},{"$f":"+IF(B75=\"\",\"\",B75+B$73)","v":422},{"$f":"IF(C75=\"\",\"\",LOOKUP(C75,zdroj!$E$3:$E$700,zdroj!$L$3:$L$700))","v":2},{"$f":"IF(C75=\"\",\"\",LOOKUP(C75,zdroj!$E$3:$E$700,zdroj!$G$3:$G$700))","v":"Pěkný Unimex"},{"$f":"IF(C75=\"\",\"\",LOOKUP(C75,zdroj!$E$3:$E$700,zdroj!$H$3:$H$700))","v":"TEZET"},{"$f":"+IF(C75=\"\",\"\",LOOKUP(C75,zdroj!$E$3:$E$700,zdroj!$I$3:$I$700))","v":"Dokončeno"},{"$f":"IF(J75=\"\",\"\",LOOKUP(J75,zdroj!$E$3:$E$700,zdroj!$F$3:$F$700))","v":"06:00:00"},{"$f":"+IF(J$73>I74,I74+1,\"\")","v":2},452,{"$f":"IF(J75=\"\",\"\",LOOKUP(J75,zdroj!$E$3:$E$700,zdroj!$L$3:$L$700))","v":2},{"$f":"IF(J75=\"\",\"\",LOOKUP(J75,zdroj!$E$3:$E$700,zdroj!$G$3:$G$700))","v":"DF"},{"$f":"IF(J75=\"\",\"\",LOOKUP(J75,zdroj!$E$3:$E$700,zdroj!$H$3:$H$700))","v":"Hroza"},{"$f":"+IF(J75=\"\",\"\",LOOKUP(J75,zdroj!$E$3:$E$700,zdroj!$I$3:$I$700))","v":"Dokončeno"},{"$f":"IF(Q75=\"\",\"\",LOOKUP(Q75,zdroj!$E$3:$E$700,zdroj!$F$3:$F$700))","v":"06:04:00"},{"$f":"+IF(Q$73>P74,P74+1,\"\")","v":2},482,{"$f":"IF(Q75=\"\",\"\",LOOKUP(Q75,zdroj!$E$3:$E$700,zdroj!$L$3:$L$700))","v":3},{"$f":"IF(Q75=\"\",\"\",LOOKUP(Q75,zdroj!$E$3:$E$700,zdroj!$G$3:$G$700))","v":"LB Cemix"},{"$f":"IF(Q75=\"\",\"\",LOOKUP(Q75,zdroj!$E$3:$E$700,zdroj!$H$3:$H$700))","v":"TEZET"},{"$f":"+IF(Q75=\"\",\"\",LOOKUP(Q75,zdroj!$E$3:$E$700,zdroj!$I$3:$I$700))","v":"Dokončeno"},{"$f":"IF(X75=\"\",\"\",LOOKUP(X75,zdroj!$E$3:$E$700,zdroj!$F$3:$F$700))","v":"06:05:00"},{"$f":"+IF(X$73>W74,W74+1,\"\")","v":2},512,{"$f":"IF(X75=\"\",\"\",LOOKUP(X75,zdroj!$E$3:$E$700,zdroj!$L$3:$L$700))","v":2},{"$f":"IF(X75=\"\",\"\",LOOKUP(X75,zdroj!$E$3:$E$700,zdroj!$G$3:$G$700))","v":"Cheport"},{"$f":"IF(X75=\"\",\"\",LOOKUP(X75,zdroj!$E$3:$E$700,zdroj!$H$3:$H$700))","v":"TEZET"},{"$f":"+IF(X75=\"\",\"\",LOOKUP(X75,zdroj!$E$3:$E$700,zdroj!$I$3:$I$700))","v":"Dokončeno"},{"$f":"IF(AE75=\"\",\"\",LOOKUP(AE75,zdroj!$E$3:$E$700,zdroj!$F$3:$F$700))","v":"06:30:00"},{"$f":"+IF(AE$73>AD74,AD74+1,\"\")","v":2},542,{"$f":"IF(AE75=\"\",\"\",LOOKUP(AE75,zdroj!$E$3:$E$700,zdroj!$L$3:$L$700))","v":1},{"$f":"IF(AE75=\"\",\"\",LOOKUP(AE75,zdroj!$E$3:$E$700,zdroj!$G$3:$G$700))","v":"OZAS-ESAB"},{"$f":"IF(AE75=\"\",\"\",LOOKUP(AE75,zdroj!$E$3:$E$700,zdroj!$H$3:$H$700))","v":"Scheker"},{"$f":"+IF(AE75=\"\",\"\",LOOKUP(AE75,zdroj!$E$3:$E$700,zdroj!$I$3:$I$700))","v":"Dokončeno"}]
[{"$f":"IF(C76=\"\",\"\",LOOKUP(C76,zdroj!$E$3:$E$700,zdroj!$F$3:$F$700))","v":"06:05:00"},{"$f":"+IF(C$73>B75,B75+1,\"\")","v":3},{"$f":"+IF(B76=\"\",\"\",B76+B$73)","v":423},{"$f":"IF(C76=\"\",\"\",LOOKUP(C76,zdroj!$E$3:$E$700,zdroj!$L$3:$L$700))","v":3},{"$f":"IF(C76=\"\",\"\",LOOKUP(C76,zdroj!$E$3:$E$700,zdroj!$G$3:$G$700))","v":"Bochemie"},{"$f":"IF(C76=\"\",\"\",LOOKUP(C76,zdroj!$E$3:$E$700,zdroj!$H$3:$H$700))","v":"TEZET"},{"$f":"+IF(C76=\"\",\"\",LOOKUP(C76,zdroj!$E$3:$E$700,zdroj!$I$3:$I$700))","v":"Dokončeno"},{"$f":"IF(J76=\"\",\"\",LOOKUP(J76,zdroj!$E$3:$E$700,zdroj!$F$3:$F$700))","v":"06:05:00"},3,453,{"$f":"IF(J76=\"\",\"\",LOOKUP(J76,zdroj!$E$3:$E$700,zdroj!$L$3:$L$700))","v":3},{"$f":"IF(J76=\"\",\"\",LOOKUP(J76,zdroj!$E$3:$E$700,zdroj!$G$3:$G$700))","v":"Cheport"},{"$f":"IF(J76=\"\",\"\",LOOKUP(J76,zdroj!$E$3:$E$700,zdroj!$H$3:$H$700))","v":"TEZET"},{"$f":"+IF(J76=\"\",\"\",LOOKUP(J76,zdroj!$E$3:$E$700,zdroj!$I$3:$I$700))","v":"Dokončeno"},{"$f":"IF(Q76=\"\",\"\",LOOKUP(Q76,zdroj!$E$3:$E$700,zdroj!$F$3:$F$700))","v":"06:05:00"},3,483,{"$f":"IF(Q76=\"\",\"\",LOOKUP(Q76,zdroj!$E$3:$E$700,zdroj!$L$3:$L$700))","v":3},{"$f":"IF(Q76=\"\",\"\",LOOKUP(Q76,zdroj!$E$3:$E$700,zdroj!$G$3:$G$700))","v":"Mmcité"},{"$f":"IF(Q76=\"\",\"\",LOOKUP(Q76,zdroj!$E$3:$E$700,zdroj!$H$3:$H$700))","v":"TEZET"},{"$f":"+IF(Q76=\"\",\"\",LOOKUP(Q76,zdroj!$E$3:$E$700,zdroj!$I$3:$I$700))","v":"Dokončeno"},{"$f":"IF(X76=\"\",\"\",LOOKUP(X76,zdroj!$E$3:$E$700,zdroj!$F$3:$F$700))","v":"06:05:00"},3,513,{"$f":"IF(X76=\"\",\"\",LOOKUP(X76,zdroj!$E$3:$E$700,zdroj!$L$3:$L$700))","v":2},{"$f":"IF(X76=\"\",\"\",LOOKUP(X76,zdroj!$E$3:$E$700,zdroj!$G$3:$G$700))","v":"Alter"},{"$f":"IF(X76=\"\",\"\",LOOKUP(X76,zdroj!$E$3:$E$700,zdroj!$H$3:$H$700))","v":"TEZET"},{"$f":"+IF(X76=\"\",\"\",LOOKUP(X76,zdroj!$E$3:$E$700,zdroj!$I$3:$I$700))","v":"Dokončeno"},{"$f":"IF(AE76=\"\",\"\",LOOKUP(AE76,zdroj!$E$3:$E$700,zdroj!$F$3:$F$700))","v":"07:45:00"},3,543,{"$f":"IF(AE76=\"\",\"\",LOOKUP(AE76,zdroj!$E$3:$E$700,zdroj!$L$3:$L$700))","v":2},{"$f":"IF(AE76=\"\",\"\",LOOKUP(AE76,zdroj!$E$3:$E$700,zdroj!$G$3:$G$700))","v":"Milan Michalec"},{"$f":"IF(AE76=\"\",\"\",LOOKUP(AE76,zdroj!$E$3:$E$700,zdroj!$H$3:$H$700))","v":"vlastní"},{"$f":"+IF(AE76=\"\",\"\",LOOKUP(AE76,zdroj!$E$3:$E$700,zdroj!$I$3:$I$700))","v":"Dokončeno"}]
[{"$f":"IF(C77=\"\",\"\",LOOKUP(C77,zdroj!$E$3:$E$700,zdroj!$F$3:$F$700))","v":"08:00:00"},{"$f":"+IF(C$73>B76,B76+1,\"\")","v":4},424,{"$f":"IF(C77=\"\",\"\",LOOKUP(C77,zdroj!$E$3:$E$700,zdroj!$L$3:$L$700))","v":2},{"$f":"IF(C77=\"\",\"\",LOOKUP(C77,zdroj!$E$3:$E$700,zdroj!$G$3:$G$700))","v":"Garsys"},{"$f":"IF(C77=\"\",\"\",LOOKUP(C77,zdroj!$E$3:$E$700,zdroj!$H$3:$H$700))","v":"vlastní"},{"$f":"+IF(C77=\"\",\"\",LOOKUP(C77,zdroj!$E$3:$E$700,zdroj!$I$3:$I$700))","v":"Dokončeno"},{"$f":"IF(J77=\"\",\"\",LOOKUP(J77,zdroj!$E$3:$E$700,zdroj!$F$3:$F$700))","v":"06:30:00"},4,454,{"$f":"IF(J77=\"\",\"\",LOOKUP(J77,zdroj!$E$3:$E$700,zdroj!$L$3:$L$700))","v":3},{"$f":"IF(J77=\"\",\"\",LOOKUP(J77,zdroj!$E$3:$E$700,zdroj!$G$3:$G$700))","v":"Antolin"},{"$f":"IF(J77=\"\",\"\",LOOKUP(J77,zdroj!$E$3:$E$700,zdroj!$H$3:$H$700))","v":"vlastní"},{"$f":"+IF(J77=\"\",\"\",LOOKUP(J77,zdroj!$E$3:$E$700,zdroj!$I$3:$I$700))","v":"Dokončeno"},{"$f":"IF(Q77=\"\",\"\",LOOKUP(Q77,zdroj!$E$3:$E$700,zdroj!$F$3:$F$700))","v":"07:00:00"},4,484,{"$f":"IF(Q77=\"\",\"\",LOOKUP(Q77,zdroj!$E$3:$E$700,zdroj!$L$3:$L$700))","v":2},{"$f":"IF(Q77=\"\",\"\",LOOKUP(Q77,zdroj!$E$3:$E$700,zdroj!$G$3:$G$700))","v":"Faurecie"},{"$f":"IF(Q77=\"\",\"\",LOOKUP(Q77,zdroj!$E$3:$E$700,zdroj!$H$3:$H$700))","v":"vlastní"},{"$f":"+IF(Q77=\"\",\"\",LOOKUP(Q77,zdroj!$E$3:$E$700,zdroj!$I$3:$I$700))","v":"Dokončeno"},{"$f":"IF(X77=\"\",\"\",LOOKUP(X77,zdroj!$E$3:$E$700,zdroj!$F$3:$F$700))","v":"06:05:00"},4,514,{"$f":"IF(X77=\"\",\"\",LOOKUP(X77,zdroj!$E$3:$E$700,zdroj!$L$3:$L$700))","v":1},{"$f":"IF(X77=\"\",\"\",LOOKUP(X77,zdroj!$E$3:$E$700,zdroj!$G$3:$G$700))","v":"Vypl"},{"$f":"IF(X77=\"\",\"\",LOOKUP(X77,zdroj!$E$3:$E$700,zdroj!$H$3:$H$700))","v":"TEZET"},{"$f":"+IF(X77=\"\",\"\",LOOKUP(X77,zdroj!$E$3:$E$700,zdroj!$I$3:$I$700))","v":"Dokončeno"},{"$f":"IF(AE77=\"\",\"\",LOOKUP(AE77,zdroj!$E$3:$E$700,zdroj!$F$3:$F$700))","v":"08:00:00"},4,544,{"$f":"IF(AE77=\"\",\"\",LOOKUP(AE77,zdroj!$E$3:$E$700,zdroj!$L$3:$L$700))","v":1},{"$f":"IF(AE77=\"\",\"\",LOOKUP(AE77,zdroj!$E$3:$E$700,zdroj!$G$3:$G$700))","v":"T-Net"},{"$f":"IF(AE77=\"\",\"\",LOOKUP(AE77,zdroj!$E$3:$E$700,zdroj!$H$3:$H$700))","v":"Legarde"},{"$f":"+IF(AE77=\"\",\"\",LOOKUP(AE77,zdroj!$E$3:$E$700,zdroj!$I$3:$I$700))","v":"Dokončeno"}]
[{"$f":"IF(C78=\"\",\"\",LOOKUP(C78,zdroj!$E$3:$E$700,zdroj!$F$3:$F$700))","v":"10:00:00"},5,425,{"$f":"IF(C78=\"\",\"\",LOOKUP(C78,zdroj!$E$3:$E$700,zdroj!$L$3:$L$700))","v":3},{"$f":"IF(C78=\"\",\"\",LOOKUP(C78,zdroj!$E$3:$E$700,zdroj!$G$3:$G$700))","v":"TBA"},{"$f":"IF(C78=\"\",\"\",LOOKUP(C78,zdroj!$E$3:$E$700,zdroj!$H$3:$H$700))","v":"vlastní"},{"$f":"+IF(C78=\"\",\"\",LOOKUP(C78,zdroj!$E$3:$E$700,zdroj!$I$3:$I$700))","v":"Dokončeno"},{"$f":"IF(J78=\"\",\"\",LOOKUP(J78,zdroj!$E$3:$E$700,zdroj!$F$3:$F$700))","v":"07:00:00"},5,455,{"$f":"IF(J78=\"\",\"\",LOOKUP(J78,zdroj!$E$3:$E$700,zdroj!$L$3:$L$700))","v":2},{"$f":"IF(J78=\"\",\"\",LOOKUP(J78,zdroj!$E$3:$E$700,zdroj!$G$3:$G$700))","v":"syncreon Slovakia"},{"$f":"IF(J78=\"\",\"\",LOOKUP(J78,zdroj!$E$3:$E$700,zdroj!$H$3:$H$700))","v":"vlastní"},{"$f":"+IF(J78=\"\",\"\",LOOKUP(J78,zdroj!$E$3:$E$700,zdroj!$I$3:$I$700))","v":"Dokončeno"},{"$f":"IF(Q78=\"\",\"\",LOOKUP(Q78,zdroj!$E$3:$E$700,zdroj!$F$3:$F$700))","v":"08:00:00"},5,485,{"$f":"IF(Q78=\"\",\"\",LOOKUP(Q78,zdroj!$E$3:$E$700,zdroj!$L$3:$L$700))","v":3},{"$f":"IF(Q78=\"\",\"\",LOOKUP(Q78,zdroj!$E$3:$E$700,zdroj!$G$3:$G$700))","v":"D.I.Chem"},{"$f":"IF(Q78=\"\",\"\",LOOKUP(Q78,zdroj!$E$3:$E$700,zdroj!$H$3:$H$700))","v":"vlastní TT"},{"$f":"+IF(Q78=\"\",\"\",LOOKUP(Q78,zdroj!$E$3:$E$700,zdroj!$I$3:$I$700))","v":"Dokončeno"},{"$f":"IF(X78=\"\",\"\",LOOKUP(X78,zdroj!$E$3:$E$700,zdroj!$F$3:$F$700))","v":"06:05:00"},5,515,{"$f":"IF(X78=\"\",\"\",LOOKUP(X78,zdroj!$E$3:$E$700,zdroj!$L$3:$L$700))","v":3},{"$f":"IF(X78=\"\",\"\",LOOKUP(X78,zdroj!$E$3:$E$700,zdroj!$G$3:$G$700))","v":"VYPL"},{"$f":"IF(X78=\"\",\"\",LOOKUP(X78,zdroj!$E$3:$E$700,zdroj!$H$3:$H$700))","v":"TEZET"},{"$f":"+IF(X78=\"\",\"\",LOOKUP(X78,zdroj!$E$3:$E$700,zdroj!$I$3:$I$700))","v":"Dokončeno"},{"$f":"IF(AE78=\"\",\"\",LOOKUP(AE78,zdroj!$E$3:$E$700,zdroj!$F$3:$F$700))","v":"10:00:00"},5,545,{"$f":"IF(AE78=\"\",\"\",LOOKUP(AE78,zdroj!$E$3:$E$700,zdroj!$L$3:$L$700))","v":3},{"$f":"IF(AE78=\"\",\"\",LOOKUP(AE78,zdroj!$E$3:$E$700,zdroj!$G$3:$G$700))","v":"KOVA"},{"$f":"IF(AE78=\"\",\"\",LOOKUP(AE78,zdroj!$E$3:$E$700,zdroj!$H$3:$H$700))","v":"Joppa"},{"$f":"+IF(AE78=\"\",\"\",LOOKUP(AE78,zdroj!$E$3:$E$700,zdroj!$I$3:$I$700))","v":"Dokončeno"}]
[{"$f":"IF(C79=\"\",\"\",LOOKUP(C79,zdroj!$E$3:$E$700,zdroj!$F$3:$F$700))","v":"11:30:00"},6,426,{"$f":"IF(C79=\"\",\"\",LOOKUP(C79,zdroj!$E$3:$E$700,zdroj!$L$3:$L$700))","v":1},{"$f":"IF(C79=\"\",\"\",LOOKUP(C79,zdroj!$E$3:$E$700,zdroj!$G$3:$G$700))","v":"Avena"},{"$f":"IF(C79=\"\",\"\",LOOKUP(C79,zdroj!$E$3:$E$700,zdroj!$H$3:$H$700))","v":"vlasstní"},{"$f":"+IF(C79=\"\",\"\",LOOKUP(C79,zdroj!$E$3:$E$700,zdroj!$I$3:$I$700))","v":"Dokončeno"},{"$f":"IF(J79=\"\",\"\",LOOKUP(J79,zdroj!$E$3:$E$700,zdroj!$F$3:$F$700))","v":"08:00:00"},6,456,{"$f":"IF(J79=\"\",\"\",LOOKUP(J79,zdroj!$E$3:$E$700,zdroj!$L$3:$L$700))","v":4},{"$f":"IF(J79=\"\",\"\",LOOKUP(J79,zdroj!$E$3:$E$700,zdroj!$G$3:$G$700))","v":"T-Net"},{"$f":"IF(J79=\"\",\"\",LOOKUP(J79,zdroj!$E$3:$E$700,zdroj!$H$3:$H$700))","v":"kontejner"},{"$f":"+IF(J79=\"\",\"\",LOOKUP(J79,zdroj!$E$3:$E$700,zdroj!$I$3:$I$700))","v":"Dokončeno"},{"$f":"IF(Q79=\"\",\"\",LOOKUP(Q79,zdroj!$E$3:$E$700,zdroj!$F$3:$F$700))","v":"08:30:00"},6,486,{"$f":"IF(Q79=\"\",\"\",LOOKUP(Q79,zdroj!$E$3:$E$700,zdroj!$L$3:$L$700))","v":4},{"$f":"IF(Q79=\"\",\"\",LOOKUP(Q79,zdroj!$E$3:$E$700,zdroj!$G$3:$G$700))","v":"Filmer"},{"$f":"IF(Q79=\"\",\"\",LOOKUP(Q79,zdroj!$E$3:$E$700,zdroj!$H$3:$H$700))","v":"JF LOG"},{"$f":"+IF(Q79=\"\",\"\",LOOKUP(Q79,zdroj!$E$3:$E$700,zdroj!$I$3:$I$700))","v":"Dokončeno"},{"$f":"IF(X79=\"\",\"\",LOOKUP(X79,zdroj!$E$3:$E$700,zdroj!$F$3:$F$700))","v":"06:05:00"},6,516,{"$f":"IF(X79=\"\",\"\",LOOKUP(X79,zdroj!$E$3:$E$700,zdroj!$L$3:$L$700))","v":3},{"$f":"IF(X79=\"\",\"\",LOOKUP(X79,zdroj!$E$3:$E$700,zdroj!$G$3:$G$700))","v":"Via-Rek"},{"$f":"IF(X79=\"\",\"\",LOOKUP(X79,zdroj!$E$3:$E$700,zdroj!$H$3:$H$700))","v":"Hroza"},{"$f":"+IF(X79=\"\",\"\",LOOKUP(X79,zdroj!$E$3:$E$700,zdroj!$I$3:$I$700))","v":"Dokončeno"},{"$f":"IF(AE79=\"\",\"\",LOOKUP(AE79,zdroj!$E$3:$E$700,zdroj!$F$3:$F$700))","v":"11:00:00"},6,546,{"$f":"IF(AE79=\"\",\"\",LOOKUP(AE79,zdroj!$E$3:$E$700,zdroj!$L$3:$L$700))","v":2},{"$f":"IF(AE79=\"\",\"\",LOOKUP(AE79,zdroj!$E$3:$E$700,zdroj!$G$3:$G$700))","v":"TBA"},{"$f":"IF(AE79=\"\",\"\",LOOKUP(AE79,zdroj!$E$3:$E$700,zdroj!$H$3:$H$700))","v":"vlastní"},{"$f":"+IF(AE79=\"\",\"\",LOOKUP(AE79,zdroj!$E$3:$E$700,zdroj!$I$3:$I$700))","v":"Dokončeno"}]
[{"$f":"IF(C80=\"\",\"\",LOOKUP(C80,zdroj!$E$3:$E$700,zdroj!$F$3:$F$700))","v":"12:30:00"},7,427,{"$f":"IF(C80=\"\",\"\",LOOKUP(C80,zdroj!$E$3:$E$700,zdroj!$L$3:$L$700))","v":1},{"$f":"IF(C80=\"\",\"\",LOOKUP(C80,zdroj!$E$3:$E$700,zdroj!$G$3:$G$700))","v":"Toptrans"},{"$f":"IF(C80=\"\",\"\",LOOKUP(C80,zdroj!$E$3:$E$700,zdroj!$H$3:$H$700))","v":"SBS"},{"$f":"+IF(C80=\"\",\"\",LOOKUP(C80,zdroj!$E$3:$E$700,zdroj!$I$3:$I$700))","v":"Dokončeno"},{"$f":"IF(J80=\"\",\"\",LOOKUP(J80,zdroj!$E$3:$E$700,zdroj!$F$3:$F$700))","v":"09:00:00"},7,457,{"$f":"IF(J80=\"\",\"\",LOOKUP(J80,zdroj!$E$3:$E$700,zdroj!$L$3:$L$700))","v":1},{"$f":"IF(J80=\"\",\"\",LOOKUP(J80,zdroj!$E$3:$E$700,zdroj!$G$3:$G$700))","v":"Blaser"},{"$f":"IF(J80=\"\",\"\",LOOKUP(J80,zdroj!$E$3:$E$700,zdroj!$H$3:$H$700))","v":"vlastní"},{"$f":"+IF(J80=\"\",\"\",LOOKUP(J80,zdroj!$E$3:$E$700,zdroj!$I$3:$I$700))","v":"Dokončeno"},{"$f":"IF(Q80=\"\",\"\",LOOKUP(Q80,zdroj!$E$3:$E$700,zdroj!$F$3:$F$700))","v":"09:00:00"},7,487,{"$f":"IF(Q80=\"\",\"\",LOOKUP(Q80,zdroj!$E$3:$E$700,zdroj!$L$3:$L$700))","v":2},{"$f":"IF(Q80=\"\",\"\",LOOKUP(Q80,zdroj!$E$3:$E$700,zdroj!$G$3:$G$700))","v":"Stachema "},{"$f":"IF(Q80=\"\",\"\",LOOKUP(Q80,zdroj!$E$3:$E$700,zdroj!$H$3:$H$700))","v":"vlastní"},{"$f":"+IF(Q80=\"\",\"\",LOOKUP(Q80,zdroj!$E$3:$E$700,zdroj!$I$3:$I$700))","v":"Dokončeno"},{"$f":"IF(X80=\"\",\"\",LOOKUP(X80,zdroj!$E$3:$E$700,zdroj!$F$3:$F$700))","v":"06:30:00"},7,517,{"$f":"IF(X80=\"\",\"\",LOOKUP(X80,zdroj!$E$3:$E$700,zdroj!$L$3:$L$700))","v":3},{"$f":"IF(X80=\"\",\"\",LOOKUP(X80,zdroj!$E$3:$E$700,zdroj!$G$3:$G$700))","v":"Antolin"},{"$f":"IF(X80=\"\",\"\",LOOKUP(X80,zdroj!$E$3:$E$700,zdroj!$H$3:$H$700))","v":"vlastní"},{"$f":"+IF(X80=\"\",\"\",LOOKUP(X80,zdroj!$E$3:$E$700,zdroj!$I$3:$I$700))","v":"Dokončeno"},{"$f":"IF(AE80=\"\",\"\",LOOKUP(AE80,zdroj!$E$3:$E$700,zdroj!$F$3:$F$700))","v":"13:00:00"},7,547,{"$f":"IF(AE80=\"\",\"\",LOOKUP(AE80,zdroj!$E$3:$E$700,zdroj!$L$3:$L$700))","v":2},{"$f":"IF(AE80=\"\",\"\",LOOKUP(AE80,zdroj!$E$3:$E$700,zdroj!$G$3:$G$700))","v":"M.A.T."},{"$f":"IF(AE80=\"\",\"\",LOOKUP(AE80,zdroj!$E$3:$E$700,zdroj!$H$3:$H$700))","v":"AK Servis"},{"$f":"+IF(AE80=\"\",\"\",LOOKUP(AE80,zdroj!$E$3:$E$700,zdroj!$I$3:$I$700))","v":"Dokončeno"}]
[{"$f":"IF(C81=\"\",\"\",LOOKUP(C81,zdroj!$E$3:$E$700,zdroj!$F$3:$F$700))","v":"13:00:00"},{"$f":"+IF(C$73>B80,B80+1,\"\")","v":8},{"$f":"+IF(B81=\"\",\"\",B81+B$73)","v":428},{"$f":"IF(C81=\"\",\"\",LOOKUP(C81,zdroj!$E$3:$E$700,zdroj!$L$3:$L$700))","v":5},{"$f":"IF(C81=\"\",\"\",LOOKUP(C81,zdroj!$E$3:$E$700,zdroj!$G$3:$G$700))","v":"M.A.T."},{"$f":"IF(C81=\"\",\"\",LOOKUP(C81,zdroj!$E$3:$E$700,zdroj!$H$3:$H$700))","v":"vlastní "},{"$f":"+IF(C81=\"\",\"\",LOOKUP(C81,zdroj!$E$3:$E$700,zdroj!$I$3:$I$700))","v":"Dokončeno"},{"$f":"IF(J81=\"\",\"\",LOOKUP(J81,zdroj!$E$3:$E$700,zdroj!$F$3:$F$700))","v":"10:05:00"},{"$f":"+IF(J$73>I80,I80+1,\"\")","v":8},{"$f":"+IF(I81=\"\",\"\",I81+I$73)","v":458},{"$f":"IF(J81=\"\",\"\",LOOKUP(J81,zdroj!$E$3:$E$700,zdroj!$L$3:$L$700))","v":2},{"$f":"IF(J81=\"\",\"\",LOOKUP(J81,zdroj!$E$3:$E$700,zdroj!$G$3:$G$700))","v":"TBA"},{"$f":"IF(J81=\"\",\"\",LOOKUP(J81,zdroj!$E$3:$E$700,zdroj!$H$3:$H$700))","v":"vlastní"},{"$f":"+IF(J81=\"\",\"\",LOOKUP(J81,zdroj!$E$3:$E$700,zdroj!$I$3:$I$700))","v":"Dokončeno"},{"$f":"IF(Q81=\"\",\"\",LOOKUP(Q81,zdroj!$E$3:$E$700,zdroj!$F$3:$F$700))","v":"09:30:00"},{"$f":"+IF(Q$73>P80,P80+1,\"\")","v":8},{"$f":"+IF(P81=\"\",\"\",P81+P$73)","v":488},{"$f":"IF(Q81=\"\",\"\",LOOKUP(Q81,zdroj!$E$3:$E$700,zdroj!$L$3:$L$700))","v":2},{"$f":"IF(Q81=\"\",\"\",LOOKUP(Q81,zdroj!$E$3:$E$700,zdroj!$G$3:$G$700))","v":"OZAS-ESAB"},{"$f":"IF(Q81=\"\",\"\",LOOKUP(Q81,zdroj!$E$3:$E$700,zdroj!$H$3:$H$700))","v":"Scheker"},{"$f":"+IF(Q81=\"\",\"\",LOOKUP(Q81,zdroj!$E$3:$E$700,zdroj!$I$3:$I$700))","v":"Dokončeno"},{"$f":"IF(X81=\"\",\"\",LOOKUP(X81,zdroj!$E$3:$E$700,zdroj!$F$3:$F$700))","v":"07:00:00"},{"$f":"+IF(X$73>W80,W80+1,\"\")","v":8},{"$f":"+IF(W81=\"\",\"\",W81+W$73)","v":518},{"$f":"IF(X81=\"\",\"\",LOOKUP(X81,zdroj!$E$3:$E$700,zdroj!$L$3:$L$700))","v":3},{"$f":"IF(X81=\"\",\"\",LOOKUP(X81,zdroj!$E$3:$E$700,zdroj!$G$3:$G$700))","v":"Bartosz Ratuski"},{"$f":"IF(X81=\"\",\"\",LOOKUP(X81,zdroj!$E$3:$E$700,zdroj!$H$3:$H$700))","v":"vlastní"},{"$f":"+IF(X81=\"\",\"\",LOOKUP(X81,zdroj!$E$3:$E$700,zdroj!$I$3:$I$700))","v":"Dokončeno"},{"$f":"IF(AE81=\"\",\"\",LOOKUP(AE81,zdroj!$E$3:$E$700,zdroj!$F$3:$F$700))","v":"13:30:00"},{"$f":"+IF(AE$73>AD80,AD80+1,\"\")","v":8},{"$f":"+IF(AD81=\"\",\"\",AD81+AD$73)","v":548},{"$f":"IF(AE81=\"\",\"\",LOOKUP(AE81,zdroj!$E$3:$E$700,zdroj!$L$3:$L$700))","v":2},{"$f":"IF(AE81=\"\",\"\",LOOKUP(AE81,zdroj!$E$3:$E$700,zdroj!$G$3:$G$700))","v":"Těsmat"},{"$f":"IF(AE81=\"\",\"\",LOOKUP(AE81,zdroj!$E$3:$E$700,zdroj!$H$3:$H$700))","v":"vlastní"},{"$f":"+IF(AE81=\"\",\"\",LOOKUP(AE81,zdroj!$E$3:$E$700,zdroj!$I$3:$I$700))","v":"Dokončeno"}]
[{"$f":"IF(C82=\"\",\"\",LOOKUP(C82,zdroj!$E$3:$E$700,zdroj!$F$3:$F$700))","v":"13:30:00"},9,429,{"$f":"IF(C82=\"\",\"\",LOOKUP(C82,zdroj!$E$3:$E$700,zdroj!$L$3:$L$700))","v":2},{"$f":"IF(C82=\"\",\"\",LOOKUP(C82,zdroj!$E$3:$E$700,zdroj!$G$3:$G$700))","v":"BELSHINA"},{"$f":"IF(C82=\"\",\"\",LOOKUP(C82,zdroj!$E$3:$E$700,zdroj!$H$3:$H$700))","v":"vlastní"},{"$f":"+IF(C82=\"\",\"\",LOOKUP(C82,zdroj!$E$3:$E$700,zdroj!$I$3:$I$700))","v":"Dokončeno"},{"$f":"IF(J82=\"\",\"\",LOOKUP(J82,zdroj!$E$3:$E$700,zdroj!$F$3:$F$700))","v":"10:30:00"},9,459,{"$f":"IF(J82=\"\",\"\",LOOKUP(J82,zdroj!$E$3:$E$700,zdroj!$L$3:$L$700))","v":2},{"$f":"IF(J82=\"\",\"\",LOOKUP(J82,zdroj!$E$3:$E$700,zdroj!$G$3:$G$700))","v":"TREF"},{"$f":"IF(J82=\"\",\"\",LOOKUP(J82,zdroj!$E$3:$E$700,zdroj!$H$3:$H$700))","v":"vlastní"},{"$f":"+IF(J82=\"\",\"\",LOOKUP(J82,zdroj!$E$3:$E$700,zdroj!$I$3:$I$700))","v":"Dokončeno"},{"$f":"IF(Q82=\"\",\"\",LOOKUP(Q82,zdroj!$E$3:$E$700,zdroj!$F$3:$F$700))","v":"10:30:00"},9,489,{"$f":"IF(Q82=\"\",\"\",LOOKUP(Q82,zdroj!$E$3:$E$700,zdroj!$L$3:$L$700))","v":2},{"$f":"IF(Q82=\"\",\"\",LOOKUP(Q82,zdroj!$E$3:$E$700,zdroj!$G$3:$G$700))","v":"TBA"},{"$f":"IF(Q82=\"\",\"\",LOOKUP(Q82,zdroj!$E$3:$E$700,zdroj!$H$3:$H$700))","v":"vlastní"},{"$f":"+IF(Q82=\"\",\"\",LOOKUP(Q82,zdroj!$E$3:$E$700,zdroj!$I$3:$I$700))","v":"Dokončeno"},{"$f":"IF(X82=\"\",\"\",LOOKUP(X82,zdroj!$E$3:$E$700,zdroj!$F$3:$F$700))","v":"08:35:00"},9,519,{"$f":"IF(X82=\"\",\"\",LOOKUP(X82,zdroj!$E$3:$E$700,zdroj!$L$3:$L$700))","v":5},{"$f":"IF(X82=\"\",\"\",LOOKUP(X82,zdroj!$E$3:$E$700,zdroj!$G$3:$G$700))","v":"Belshima"},{"$f":"IF(X82=\"\",\"\",LOOKUP(X82,zdroj!$E$3:$E$700,zdroj!$H$3:$H$700))","v":"vlastní"},{"$f":"+IF(X82=\"\",\"\",LOOKUP(X82,zdroj!$E$3:$E$700,zdroj!$I$3:$I$700))","v":"Dokončeno"},{"$f":"IF(AE82=\"\",\"\",LOOKUP(AE82,zdroj!$E$3:$E$700,zdroj!$F$3:$F$700))","v":"00:00:00"},9,549,{"$f":"IF(AE82=\"\",\"\",LOOKUP(AE82,zdroj!$E$3:$E$700,zdroj!$L$3:$L$700))","v":2},{"$f":"IF(AE82=\"\",\"\",LOOKUP(AE82,zdroj!$E$3:$E$700,zdroj!$G$3:$G$700))","v":"Faurecie BOB"},{"$f":"IF(AE82=\"\",\"\",LOOKUP(AE82,zdroj!$E$3:$E$700,zdroj!$H$3:$H$700))","v":"FEDEX"},{"$f":"+IF(AE82=\"\",\"\",LOOKUP(AE82,zdroj!$E$3:$E$700,zdroj!$I$3:$I$700))","v":"Dokončeno"}]
[{"$f":"IF(C83=\"\",\"\",LOOKUP(C83,zdroj!$E$3:$E$700,zdroj!$F$3:$F$700))","v":"00:00:00"},10,430,{"$f":"IF(C83=\"\",\"\",LOOKUP(C83,zdroj!$E$3:$E$700,zdroj!$L$3:$L$700))","v":5},{"$f":"IF(C83=\"\",\"\",LOOKUP(C83,zdroj!$E$3:$E$700,zdroj!$G$3:$G$700))","v":"Faurecie MB"},{"$f":"IF(C83=\"\",\"\",LOOKUP(C83,zdroj!$E$3:$E$700,zdroj!$H$3:$H$700))","v":"vlastní"},{"$f":"+IF(C83=\"\",\"\",LOOKUP(C83,zdroj!$E$3:$E$700,zdroj!$I$3:$I$700))","v":"Dokončeno"},{"$f":"IF(J83=\"\",\"\",LOOKUP(J83,zdroj!$E$3:$E$700,zdroj!$F$3:$F$700))","v":"11:00:00"},10,460,{"$f":"IF(J83=\"\",\"\",LOOKUP(J83,zdroj!$E$3:$E$700,zdroj!$L$3:$L$700))","v":3},{"$f":"IF(J83=\"\",\"\",LOOKUP(J83,zdroj!$E$3:$E$700,zdroj!$G$3:$G$700))","v":"Greiner"},{"$f":"IF(J83=\"\",\"\",LOOKUP(J83,zdroj!$E$3:$E$700,zdroj!$H$3:$H$700))","v":"TEZET"},{"$f":"+IF(J83=\"\",\"\",LOOKUP(J83,zdroj!$E$3:$E$700,zdroj!$I$3:$I$700))","v":"Dokončeno"},{"$f":"IF(Q83=\"\",\"\",LOOKUP(Q83,zdroj!$E$3:$E$700,zdroj!$F$3:$F$700))","v":"10:30:00"},10,490,{"$f":"IF(Q83=\"\",\"\",LOOKUP(Q83,zdroj!$E$3:$E$700,zdroj!$L$3:$L$700))","v":3},{"$f":"IF(Q83=\"\",\"\",LOOKUP(Q83,zdroj!$E$3:$E$700,zdroj!$G$3:$G$700))","v":"TBA"},{"$f":"IF(Q83=\"\",\"\",LOOKUP(Q83,zdroj!$E$3:$E$700,zdroj!$H$3:$H$700))","v":"vlastní"},{"$f":"+IF(Q83=\"\",\"\",LOOKUP(Q83,zdroj!$E$3:$E$700,zdroj!$I$3:$I$700))","v":"Dokončeno"},{"$f":"IF(X83=\"\",\"\",LOOKUP(X83,zdroj!$E$3:$E$700,zdroj!$F$3:$F$700))","v":"09:30:00"},10,520,{"$f":"IF(X83=\"\",\"\",LOOKUP(X83,zdroj!$E$3:$E$700,zdroj!$L$3:$L$700))","v":2},{"$f":"IF(X83=\"\",\"\",LOOKUP(X83,zdroj!$E$3:$E$700,zdroj!$G$3:$G$700))","v":"Model Obaly"},{"$f":"IF(X83=\"\",\"\",LOOKUP(X83,zdroj!$E$3:$E$700,zdroj!$H$3:$H$700))","v":"vlastní"},{"$f":"+IF(X83=\"\",\"\",LOOKUP(X83,zdroj!$E$3:$E$700,zdroj!$I$3:$I$700))","v":"Dokončeno"},{"$f":"IF(AE83=\"\",\"\",LOOKUP(AE83,zdroj!$E$3:$E$700,zdroj!$F$3:$F$700))","v":"00:00:00"},10,550,{"$f":"IF(AE83=\"\",\"\",LOOKUP(AE83,zdroj!$E$3:$E$700,zdroj!$L$3:$L$700))","v":4},{"$f":"IF(AE83=\"\",\"\",LOOKUP(AE83,zdroj!$E$3:$E$700,zdroj!$G$3:$G$700))","v":"T-Net"},{"$f":"IF(AE83=\"\",\"\",LOOKUP(AE83,zdroj!$E$3:$E$700,zdroj!$H$3:$H$700))","v":"MSB"},{"$f":"+IF(AE83=\"\",\"\",LOOKUP(AE83,zdroj!$E$3:$E$700,zdroj!$I$3:$I$700))","v":"Dokončeno"}]
[{"$f":"IF(C84=\"\",\"\",LOOKUP(C84,zdroj!$E$3:$E$700,zdroj!$F$3:$F$700))","v":"00:00:00"},11,431,{"$f":"IF(C84=\"\",\"\",LOOKUP(C84,zdroj!$E$3:$E$700,zdroj!$L$3:$L$700))","v":3},{"$f":"IF(C84=\"\",\"\",LOOKUP(C84,zdroj!$E$3:$E$700,zdroj!$G$3:$G$700))","v":"T-Net"},{"$f":"IF(C84=\"\",\"\",LOOKUP(C84,zdroj!$E$3:$E$700,zdroj!$H$3:$H$700))","v":"MSB"},{"$f":"+IF(C84=\"\",\"\",LOOKUP(C84,zdroj!$E$3:$E$700,zdroj!$I$3:$I$700))","v":"Dokončeno"},{"$f":"IF(J84=\"\",\"\",LOOKUP(J84,zdroj!$E$3:$E$700,zdroj!$F$3:$F$700))","v":"11:30:00"},11,461,{"$f":"IF(J84=\"\",\"\",LOOKUP(J84,zdroj!$E$3:$E$700,zdroj!$L$3:$L$700))","v":2},{"$f":"IF(J84=\"\",\"\",LOOKUP(J84,zdroj!$E$3:$E$700,zdroj!$G$3:$G$700))","v":"PK Group"},{"$f":"IF(J84=\"\",\"\",LOOKUP(J84,zdroj!$E$3:$E$700,zdroj!$H$3:$H$700))","v":"Augustin Hložek"},{"$f":"+IF(J84=\"\",\"\",LOOKUP(J84,zdroj!$E$3:$E$700,zdroj!$I$3:$I$700))","v":"Dokončeno"},{"$f":"IF(Q84=\"\",\"\",LOOKUP(Q84,zdroj!$E$3:$E$700,zdroj!$F$3:$F$700))","v":"11:00:00"},11,491,{"$f":"IF(Q84=\"\",\"\",LOOKUP(Q84,zdroj!$E$3:$E$700,zdroj!$L$3:$L$700))","v":3},{"$f":"IF(Q84=\"\",\"\",LOOKUP(Q84,zdroj!$E$3:$E$700,zdroj!$G$3:$G$700))","v":"JPSK"},{"$f":"IF(Q84=\"\",\"\",LOOKUP(Q84,zdroj!$E$3:$E$700,zdroj!$H$3:$H$700))","v":"Legarde"},{"$f":"+IF(Q84=\"\",\"\",LOOKUP(Q84,zdroj!$E$3:$E$700,zdroj!$I$3:$I$700))","v":"Dokončeno"},{"$f":"IF(X84=\"\",\"\",LOOKUP(X84,zdroj!$E$3:$E$700,zdroj!$F$3:$F$700))","v":"10:30:00"},11,521,{"$f":"IF(X84=\"\",\"\",LOOKUP(X84,zdroj!$E$3:$E$700,zdroj!$L$3:$L$700))","v":3},{"$f":"IF(X84=\"\",\"\",LOOKUP(X84,zdroj!$E$3:$E$700,zdroj!$G$3:$G$700))","v":"TBA"},{"$f":"IF(X84=\"\",\"\",LOOKUP(X84,zdroj!$E$3:$E$700,zdroj!$H$3:$H$700))","v":"vlastní"},{"$f":"+IF(X84=\"\",\"\",LOOKUP(X84,zdroj!$E$3:$E$700,zdroj!$I$3:$I$700))","v":"Dokončeno"},{"$f":"IF(AE84=\"\",\"\",LOOKUP(AE84,zdroj!$E$3:$E$700,zdroj!$F$3:$F$700))","v":"00:00:00"},11,551,{"$f":"IF(AE84=\"\",\"\",LOOKUP(AE84,zdroj!$E$3:$E$700,zdroj!$L$3:$L$700))","v":1},{"$f":"IF(AE84=\"\",\"\",LOOKUP(AE84,zdroj!$E$3:$E$700,zdroj!$G$3:$G$700))","v":"T-Net"},{"$f":"IF(AE84=\"\",\"\",LOOKUP(AE84,zdroj!$E$3:$E$700,zdroj!$H$3:$H$700))","v":"vlastní"},{"$f":"+IF(AE84=\"\",\"\",LOOKUP(AE84,zdroj!$E$3:$E$700,zdroj!$I$3:$I$700))","v":"Dokončeno"}]
[{"$f":"IF(C85=\"\",\"\",LOOKUP(C85,zdroj!$E$3:$E$700,zdroj!$F$3:$F$700))","v":"00:00:00"},12,432,{"$f":"IF(C85=\"\",\"\",LOOKUP(C85,zdroj!$E$3:$E$700,zdroj!$L$3:$L$700))","v":1},{"$f":"IF(C85=\"\",\"\",LOOKUP(C85,zdroj!$E$3:$E$700,zdroj!$G$3:$G$700))","v":"PMB industris"},{"$f":"IF(C85=\"\",\"\",LOOKUP(C85,zdroj!$E$3:$E$700,zdroj!$H$3:$H$700))","v":"SBS"},{"$f":"+IF(C85=\"\",\"\",LOOKUP(C85,zdroj!$E$3:$E$700,zdroj!$I$3:$I$700))","v":"Dokončeno"},{"$f":"IF(J85=\"\",\"\",LOOKUP(J85,zdroj!$E$3:$E$700,zdroj!$F$3:$F$700))","v":"12:00:00"},12,462,{"$f":"IF(J85=\"\",\"\",LOOKUP(J85,zdroj!$E$3:$E$700,zdroj!$L$3:$L$700))","v":1},{"$f":"IF(J85=\"\",\"\",LOOKUP(J85,zdroj!$E$3:$E$700,zdroj!$G$3:$G$700))","v":"Kopeček"},{"$f":"IF(J85=\"\",\"\",LOOKUP(J85,zdroj!$E$3:$E$700,zdroj!$H$3:$H$700))","v":"vlastní"},{"$f":"+IF(J85=\"\",\"\",LOOKUP(J85,zdroj!$E$3:$E$700,zdroj!$I$3:$I$700))","v":"Dokončeno"},{"$f":"IF(Q85=\"\",\"\",LOOKUP(Q85,zdroj!$E$3:$E$700,zdroj!$F$3:$F$700))","v":"11:00:00"},12,492,{"$f":"IF(Q85=\"\",\"\",LOOKUP(Q85,zdroj!$E$3:$E$700,zdroj!$L$3:$L$700))","v":3},{"$f":"IF(Q85=\"\",\"\",LOOKUP(Q85,zdroj!$E$3:$E$700,zdroj!$G$3:$G$700))","v":"JPSK"},{"$f":"IF(Q85=\"\",\"\",LOOKUP(Q85,zdroj!$E$3:$E$700,zdroj!$H$3:$H$700))","v":"Legarde"},{"$f":"+IF(Q85=\"\",\"\",LOOKUP(Q85,zdroj!$E$3:$E$700,zdroj!$I$3:$I$700))","v":"Dokončeno"},{"$f":"IF(X85=\"\",\"\",LOOKUP(X85,zdroj!$E$3:$E$700,zdroj!$F$3:$F$700))","v":"10:30:00"},12,522,{"$f":"IF(X85=\"\",\"\",LOOKUP(X85,zdroj!$E$3:$E$700,zdroj!$L$3:$L$700))","v":3},{"$f":"IF(X85=\"\",\"\",LOOKUP(X85,zdroj!$E$3:$E$700,zdroj!$G$3:$G$700))","v":"TBA"},{"$f":"IF(X85=\"\",\"\",LOOKUP(X85,zdroj!$E$3:$E$700,zdroj!$H$3:$H$700))","v":"vlastní"},{"$f":"+IF(X85=\"\",\"\",LOOKUP(X85,zdroj!$E$3:$E$700,zdroj!$I$3:$I$700))","v":"Dokončeno"},{"$f":"IF(AE85=\"\",\"\",LOOKUP(AE85,zdroj!$E$3:$E$700,zdroj!$F$3:$F$700))","v":""},"","",{"$f":"IF(AE85=\"\",\"\",LOOKUP(AE85,zdroj!$E$3:$E$700,zdroj!$L$3:$L$700))","v":""},{"$f":"IF(AE85=\"\",\"\",LOOKUP(AE85,zdroj!$E$3:$E$700,zdroj!$G$3:$G$700))","v":""},{"$f":"IF(AE85=\"\",\"\",LOOKUP(AE85,zdroj!$E$3:$E$700,zdroj!$H$3:$H$700))","v":""},{"$f":"+IF(AE85=\"\",\"\",LOOKUP(AE85,zdroj!$E$3:$E$700,zdroj!$I$3:$I$700))","v":""}]
[{"$f":"IF(C86=\"\",\"\",LOOKUP(C86,zdroj!$E$3:$E$700,zdroj!$F$3:$F$700))","v":"00:00:00"},13,433,{"$f":"IF(C86=\"\",\"\",LOOKUP(C86,zdroj!$E$3:$E$700,zdroj!$L$3:$L$700))","v":1},{"$f":"IF(C86=\"\",\"\",LOOKUP(C86,zdroj!$E$3:$E$700,zdroj!$G$3:$G$700))","v":"Synthesia"},{"$f":"IF(C86=\"\",\"\",LOOKUP(C86,zdroj!$E$3:$E$700,zdroj!$H$3:$H$700))","v":"SBS"},{"$f":"+IF(C86=\"\",\"\",LOOKUP(C86,zdroj!$E$3:$E$700,zdroj!$I$3:$I$700))","v":"Dokončeno"},{"$f":"IF(J86=\"\",\"\",LOOKUP(J86,zdroj!$E$3:$E$700,zdroj!$F$3:$F$700))","v":"12:15:00"},13,463,{"$f":"IF(J86=\"\",\"\",LOOKUP(J86,zdroj!$E$3:$E$700,zdroj!$L$3:$L$700))","v":3},{"$f":"IF(J86=\"\",\"\",LOOKUP(J86,zdroj!$E$3:$E$700,zdroj!$G$3:$G$700))","v":"Antolin"},{"$f":"IF(J86=\"\",\"\",LOOKUP(J86,zdroj!$E$3:$E$700,zdroj!$H$3:$H$700))","v":"vlastní"},{"$f":"+IF(J86=\"\",\"\",LOOKUP(J86,zdroj!$E$3:$E$700,zdroj!$I$3:$I$700))","v":"Dokončeno"},{"$f":"IF(Q86=\"\",\"\",LOOKUP(Q86,zdroj!$E$3:$E$700,zdroj!$F$3:$F$700))","v":"12:35:00"},13,493,{"$f":"IF(Q86=\"\",\"\",LOOKUP(Q86,zdroj!$E$3:$E$700,zdroj!$L$3:$L$700))","v":1},{"$f":"IF(Q86=\"\",\"\",LOOKUP(Q86,zdroj!$E$3:$E$700,zdroj!$G$3:$G$700))","v":"PK Group"},{"$f":"IF(Q86=\"\",\"\",LOOKUP(Q86,zdroj!$E$3:$E$700,zdroj!$H$3:$H$700))","v":"vlastní"},{"$f":"+IF(Q86=\"\",\"\",LOOKUP(Q86,zdroj!$E$3:$E$700,zdroj!$I$3:$I$700))","v":"Dokončeno"},{"$f":"IF(X86=\"\",\"\",LOOKUP(X86,zdroj!$E$3:$E$700,zdroj!$F$3:$F$700))","v":"10:30:00"},13,523,{"$f":"IF(X86=\"\",\"\",LOOKUP(X86,zdroj!$E$3:$E$700,zdroj!$L$3:$L$700))","v":2},{"$f":"IF(X86=\"\",\"\",LOOKUP(X86,zdroj!$E$3:$E$700,zdroj!$G$3:$G$700))","v":"TBA"},{"$f":"IF(X86=\"\",\"\",LOOKUP(X86,zdroj!$E$3:$E$700,zdroj!$H$3:$H$700))","v":"vlastní"},{"$f":"+IF(X86=\"\",\"\",LOOKUP(X86,zdroj!$E$3:$E$700,zdroj!$I$3:$I$700))","v":"Dokončeno"},{"$f":"IF(AE86=\"\",\"\",LOOKUP(AE86,zdroj!$E$3:$E$700,zdroj!$F$3:$F$700))","v":""},"","",{"$f":"IF(AE86=\"\",\"\",LOOKUP(AE86,zdroj!$E$3:$E$700,zdroj!$L$3:$L$700))","v":""},{"$f":"IF(AE86=\"\",\"\",LOOKUP(AE86,zdroj!$E$3:$E$700,zdroj!$G$3:$G$700))","v":""},{"$f":"IF(AE86=\"\",\"\",LOOKUP(AE86,zdroj!$E$3:$E$700,zdroj!$H$3:$H$700))","v":""},{"$f":"+IF(AE86=\"\",\"\",LOOKUP(AE86,zdroj!$E$3:$E$700,zdroj!$I$3:$I$700))","v":""}]
[{"$f":"IF(C87=\"\",\"\",LOOKUP(C87,zdroj!$E$3:$E$700,zdroj!$F$3:$F$700))","v":"00:00:00"},14,434,{"$f":"IF(C87=\"\",\"\",LOOKUP(C87,zdroj!$E$3:$E$700,zdroj!$L$3:$L$700))","v":1},{"$f":"IF(C87=\"\",\"\",LOOKUP(C87,zdroj!$E$3:$E$700,zdroj!$G$3:$G$700))","v":"Alter"},{"$f":"IF(C87=\"\",\"\",LOOKUP(C87,zdroj!$E$3:$E$700,zdroj!$H$3:$H$700))","v":"vlastní"},{"$f":"+IF(C87=\"\",\"\",LOOKUP(C87,zdroj!$E$3:$E$700,zdroj!$I$3:$I$700))","v":"Dokončeno"},{"$f":"IF(J87=\"\",\"\",LOOKUP(J87,zdroj!$E$3:$E$700,zdroj!$F$3:$F$700))","v":"00:00:00"},14,464,{"$f":"IF(J87=\"\",\"\",LOOKUP(J87,zdroj!$E$3:$E$700,zdroj!$L$3:$L$700))","v":2},{"$f":"IF(J87=\"\",\"\",LOOKUP(J87,zdroj!$E$3:$E$700,zdroj!$G$3:$G$700))","v":"Faurecie"},{"$f":"IF(J87=\"\",\"\",LOOKUP(J87,zdroj!$E$3:$E$700,zdroj!$H$3:$H$700))","v":"vlastní"},{"$f":"+IF(J87=\"\",\"\",LOOKUP(J87,zdroj!$E$3:$E$700,zdroj!$I$3:$I$700))","v":"Dokončeno"},{"$f":"IF(Q87=\"\",\"\",LOOKUP(Q87,zdroj!$E$3:$E$700,zdroj!$F$3:$F$700))","v":"00:00:00"},14,494,{"$f":"IF(Q87=\"\",\"\",LOOKUP(Q87,zdroj!$E$3:$E$700,zdroj!$L$3:$L$700))","v":0},{"$f":"IF(Q87=\"\",\"\",LOOKUP(Q87,zdroj!$E$3:$E$700,zdroj!$G$3:$G$700))","v":"Walser"},{"$f":"IF(Q87=\"\",\"\",LOOKUP(Q87,zdroj!$E$3:$E$700,zdroj!$H$3:$H$700))","v":"vlastní"},{"$f":"+IF(Q87=\"\",\"\",LOOKUP(Q87,zdroj!$E$3:$E$700,zdroj!$I$3:$I$700))","v":"Přeplánováno"},{"$f":"IF(X87=\"\",\"\",LOOKUP(X87,zdroj!$E$3:$E$700,zdroj!$F$3:$F$700))","v":"11:30:00"},14,524,{"$f":"IF(X87=\"\",\"\",LOOKUP(X87,zdroj!$E$3:$E$700,zdroj!$L$3:$L$700))","v":4},{"$f":"IF(X87=\"\",\"\",LOOKUP(X87,zdroj!$E$3:$E$700,zdroj!$G$3:$G$700))","v":"Filmer"},{"$f":"IF(X87=\"\",\"\",LOOKUP(X87,zdroj!$E$3:$E$700,zdroj!$H$3:$H$700))","v":"Ewals"},{"$f":"+IF(X87=\"\",\"\",LOOKUP(X87,zdroj!$E$3:$E$700,zdroj!$I$3:$I$700))","v":"Dokončeno"},{"$f":"IF(AE87=\"\",\"\",LOOKUP(AE87,zdroj!$E$3:$E$700,zdroj!$F$3:$F$700))","v":""},"","",{"$f":"IF(AE87=\"\",\"\",LOOKUP(AE87,zdroj!$E$3:$E$700,zdroj!$L$3:$L$700))","v":""},{"$f":"IF(AE87=\"\",\"\",LOOKUP(AE87,zdroj!$E$3:$E$700,zdroj!$G$3:$G$700))","v":""},{"$f":"IF(AE87=\"\",\"\",LOOKUP(AE87,zdroj!$E$3:$E$700,zdroj!$H$3:$H$700))","v":""},{"$f":"+IF(AE87=\"\",\"\",LOOKUP(AE87,zdroj!$E$3:$E$700,zdroj!$I$3:$I$700))","v":""}]
[{"$f":"IF(C88=\"\",\"\",LOOKUP(C88,zdroj!$E$3:$E$700,zdroj!$F$3:$F$700))","v":""},"","",{"$f":"IF(C88=\"\",\"\",LOOKUP(C88,zdroj!$E$3:$E$700,zdroj!$L$3:$L$700))","v":""},{"$f":"IF(C88=\"\",\"\",LOOKUP(C88,zdroj!$E$3:$E$700,zdroj!$G$3:$G$700))","v":""},{"$f":"IF(C88=\"\",\"\",LOOKUP(C88,zdroj!$E$3:$E$700,zdroj!$H$3:$H$700))","v":""},{"$f":"+IF(C88=\"\",\"\",LOOKUP(C88,zdroj!$E$3:$E$700,zdroj!$I$3:$I$700))","v":""},{"$f":"IF(J88=\"\",\"\",LOOKUP(J88,zdroj!$E$3:$E$700,zdroj!$F$3:$F$700))","v":"00:00:00"},15,465,{"$f":"IF(J88=\"\",\"\",LOOKUP(J88,zdroj!$E$3:$E$700,zdroj!$L$3:$L$700))","v":5},{"$f":"IF(J88=\"\",\"\",LOOKUP(J88,zdroj!$E$3:$E$700,zdroj!$G$3:$G$700))","v":"Faurecie MB"},{"$f":"IF(J88=\"\",\"\",LOOKUP(J88,zdroj!$E$3:$E$700,zdroj!$H$3:$H$700))","v":"vlastní"},{"$f":"+IF(J88=\"\",\"\",LOOKUP(J88,zdroj!$E$3:$E$700,zdroj!$I$3:$I$700))","v":"Dokončeno"},{"$f":"IF(Q88=\"\",\"\",LOOKUP(Q88,zdroj!$E$3:$E$700,zdroj!$F$3:$F$700))","v":"00:00:00"},15,495,{"$f":"IF(Q88=\"\",\"\",LOOKUP(Q88,zdroj!$E$3:$E$700,zdroj!$L$3:$L$700))","v":5},{"$f":"IF(Q88=\"\",\"\",LOOKUP(Q88,zdroj!$E$3:$E$700,zdroj!$G$3:$G$700))","v":"Faurecie MB"},{"$f":"IF(Q88=\"\",\"\",LOOKUP(Q88,zdroj!$E$3:$E$700,zdroj!$H$3:$H$700))","v":"vlastní"},{"$f":"+IF(Q88=\"\",\"\",LOOKUP(Q88,zdroj!$E$3:$E$700,zdroj!$I$3:$I$700))","v":"Dokončeno"},{"$f":"IF(X88=\"\",\"\",LOOKUP(X88,zdroj!$E$3:$E$700,zdroj!$F$3:$F$700))","v":"11:30:00"},15,525,{"$f":"IF(X88=\"\",\"\",LOOKUP(X88,zdroj!$E$3:$E$700,zdroj!$L$3:$L$700))","v":4},{"$f":"IF(X88=\"\",\"\",LOOKUP(X88,zdroj!$E$3:$E$700,zdroj!$G$3:$G$700))","v":"Sedasport"},{"$f":"IF(X88=\"\",\"\",LOOKUP(X88,zdroj!$E$3:$E$700,zdroj!$H$3:$H$700))","v":"vlastní"},{"$f":"+IF(X88=\"\",\"\",LOOKUP(X88,zdroj!$E$3:$E$700,zdroj!$I$3:$I$700))","v":"Dokončeno"},{"$f":"IF(AE88=\"\",\"\",LOOKUP(AE88,zdroj!$E$3:$E$700,zdroj!$F$3:$F$700))","v":""},"","",{"$f":"IF(AE88=\"\",\"\",LOOKUP(AE88,zdroj!$E$3:$E$700,zdroj!$L$3:$L$700))","v":""},{"$f":"IF(AE88=\"\",\"\",LOOKUP(AE88,zdroj!$E$3:$E$700,zdroj!$G$3:$G$700))","v":""},{"$f":"IF(AE88=\"\",\"\",LOOKUP(AE88,zdroj!$E$3:$E$700,zdroj!$H$3:$H$700))","v":""},{"$f":"+IF(AE88=\"\",\"\",LOOKUP(AE88,zdroj!$E$3:$E$700,zdroj!$I$3:$I$700))","v":""}]
[{"$f":"IF(C89=\"\",\"\",LOOKUP(C89,zdroj!$E$3:$E$700,zdroj!$F$3:$F$700))","v":""},"","",{"$f":"IF(C89=\"\",\"\",LOOKUP(C89,zdroj!$E$3:$E$700,zdroj!$L$3:$L$700))","v":""},{"$f":"IF(C89=\"\",\"\",LOOKUP(C89,zdroj!$E$3:$E$700,zdroj!$G$3:$G$700))","v":""},{"$f":"IF(C89=\"\",\"\",LOOKUP(C89,zdroj!$E$3:$E$700,zdroj!$H$3:$H$700))","v":""},{"$f":"+IF(C89=\"\",\"\",LOOKUP(C89,zdroj!$E$3:$E$700,zdroj!$I$3:$I$700))","v":""},{"$f":"IF(J89=\"\",\"\",LOOKUP(J89,zdroj!$E$3:$E$700,zdroj!$F$3:$F$700))","v":"00:00:00"},16,466,{"$f":"IF(J89=\"\",\"\",LOOKUP(J89,zdroj!$E$3:$E$700,zdroj!$L$3:$L$700))","v":2},{"$f":"IF(J89=\"\",\"\",LOOKUP(J89,zdroj!$E$3:$E$700,zdroj!$G$3:$G$700))","v":"Toptrans"},{"$f":"IF(J89=\"\",\"\",LOOKUP(J89,zdroj!$E$3:$E$700,zdroj!$H$3:$H$700))","v":"SBS"},{"$f":"+IF(J89=\"\",\"\",LOOKUP(J89,zdroj!$E$3:$E$700,zdroj!$I$3:$I$700))","v":"Dokončeno"},{"$f":"IF(Q89=\"\",\"\",LOOKUP(Q89,zdroj!$E$3:$E$700,zdroj!$F$3:$F$700))","v":"00:00:00"},16,496,{"$f":"IF(Q89=\"\",\"\",LOOKUP(Q89,zdroj!$E$3:$E$700,zdroj!$L$3:$L$700))","v":1},{"$f":"IF(Q89=\"\",\"\",LOOKUP(Q89,zdroj!$E$3:$E$700,zdroj!$G$3:$G$700))","v":"Toptrans"},{"$f":"IF(Q89=\"\",\"\",LOOKUP(Q89,zdroj!$E$3:$E$700,zdroj!$H$3:$H$700))","v":"SBS"},{"$f":"+IF(Q89=\"\",\"\",LOOKUP(Q89,zdroj!$E$3:$E$700,zdroj!$I$3:$I$700))","v":"Dokončeno"},{"$f":"IF(X89=\"\",\"\",LOOKUP(X89,zdroj!$E$3:$E$700,zdroj!$F$3:$F$700))","v":"12:00:00"},16,526,{"$f":"IF(X89=\"\",\"\",LOOKUP(X89,zdroj!$E$3:$E$700,zdroj!$L$3:$L$700))","v":1},{"$f":"IF(X89=\"\",\"\",LOOKUP(X89,zdroj!$E$3:$E$700,zdroj!$G$3:$G$700))","v":"Novato"},{"$f":"IF(X89=\"\",\"\",LOOKUP(X89,zdroj!$E$3:$E$700,zdroj!$H$3:$H$700))","v":"Toptrans-vlastní"},{"$f":"+IF(X89=\"\",\"\",LOOKUP(X89,zdroj!$E$3:$E$700,zdroj!$I$3:$I$700))","v":"Dokončeno"},{"$f":"IF(AE89=\"\",\"\",LOOKUP(AE89,zdroj!$E$3:$E$700,zdroj!$F$3:$F$700))","v":""},"","",{"$f":"IF(AE89=\"\",\"\",LOOKUP(AE89,zdroj!$E$3:$E$700,zdroj!$L$3:$L$700))","v":""},{"$f":"IF(AE89=\"\",\"\",LOOKUP(AE89,zdroj!$E$3:$E$700,zdroj!$G$3:$G$700))","v":""},{"$f":"IF(AE89=\"\",\"\",LOOKUP(AE89,zdroj!$E$3:$E$700,zdroj!$H$3:$H$700))","v":""},{"$f":"+IF(AE89=\"\",\"\",LOOKUP(AE89,zdroj!$E$3:$E$700,zdroj!$I$3:$I$700))","v":""}]
[{"$f":"IF(C90=\"\",\"\",LOOKUP(C90,zdroj!$E$3:$E$700,zdroj!$F$3:$F$700))","v":""},"","",{"$f":"IF(C90=\"\",\"\",LOOKUP(C90,zdroj!$E$3:$E$700,zdroj!$L$3:$L$700))","v":""},{"$f":"IF(C90=\"\",\"\",LOOKUP(C90,zdroj!$E$3:$E$700,zdroj!$G$3:$G$700))","v":""},{"$f":"IF(C90=\"\",\"\",LOOKUP(C90,zdroj!$E$3:$E$700,zdroj!$H$3:$H$700))","v":""},{"$f":"+IF(C90=\"\",\"\",LOOKUP(C90,zdroj!$E$3:$E$700,zdroj!$I$3:$I$700))","v":""},{"$f":"IF(J90=\"\",\"\",LOOKUP(J90,zdroj!$E$3:$E$700,zdroj!$F$3:$F$700))","v":"00:00:00"},17,467,{"$f":"IF(J90=\"\",\"\",LOOKUP(J90,zdroj!$E$3:$E$700,zdroj!$L$3:$L$700))","v":1},{"$f":"IF(J90=\"\",\"\",LOOKUP(J90,zdroj!$E$3:$E$700,zdroj!$G$3:$G$700))","v":"PK Group "},{"$f":"IF(J90=\"\",\"\",LOOKUP(J90,zdroj!$E$3:$E$700,zdroj!$H$3:$H$700))","v":"vlastní"},{"$f":"+IF(J90=\"\",\"\",LOOKUP(J90,zdroj!$E$3:$E$700,zdroj!$I$3:$I$700))","v":"Dokončeno"},{"$f":"IF(Q90=\"\",\"\",LOOKUP(Q90,zdroj!$E$3:$E$700,zdroj!$F$3:$F$700))","v":""},"","",{"$f":"IF(Q90=\"\",\"\",LOOKUP(Q90,zdroj!$E$3:$E$700,zdroj!$L$3:$L$700))","v":""},{"$f":"IF(Q90=\"\",\"\",LOOKUP(Q90,zdroj!$E$3:$E$700,zdroj!$G$3:$G$700))","v":""},{"$f":"IF(Q90=\"\",\"\",LOOKUP(Q90,zdroj!$E$3:$E$700,zdroj!$H$3:$H$700))","v":""},{"$f":"+IF(Q90=\"\",\"\",LOOKUP(Q90,zdroj!$E$3:$E$700,zdroj!$I$3:$I$700))","v":""},{"$f":"IF(X90=\"\",\"\",LOOKUP(X90,zdroj!$E$3:$E$700,zdroj!$F$3:$F$700))","v":"13:15:00"},17,527,{"$f":"IF(X90=\"\",\"\",LOOKUP(X90,zdroj!$E$3:$E$700,zdroj!$L$3:$L$700))","v":3},{"$f":"IF(X90=\"\",\"\",LOOKUP(X90,zdroj!$E$3:$E$700,zdroj!$G$3:$G$700))","v":"PK Group"},{"$f":"IF(X90=\"\",\"\",LOOKUP(X90,zdroj!$E$3:$E$700,zdroj!$H$3:$H$700))","v":"vlastní"},{"$f":"+IF(X90=\"\",\"\",LOOKUP(X90,zdroj!$E$3:$E$700,zdroj!$I$3:$I$700))","v":"Dokončeno"},{"$f":"IF(AE90=\"\",\"\",LOOKUP(AE90,zdroj!$E$3:$E$700,zdroj!$F$3:$F$700))","v":""},"","",{"$f":"IF(AE90=\"\",\"\",LOOKUP(AE90,zdroj!$E$3:$E$700,zdroj!$L$3:$L$700))","v":""},{"$f":"IF(AE90=\"\",\"\",LOOKUP(AE90,zdroj!$E$3:$E$700,zdroj!$G$3:$G$700))","v":""},{"$f":"IF(AE90=\"\",\"\",LOOKUP(AE90,zdroj!$E$3:$E$700,zdroj!$H$3:$H$700))","v":""},{"$f":"+IF(AE90=\"\",\"\",LOOKUP(AE90,zdroj!$E$3:$E$700,zdroj!$I$3:$I$700))","v":""}]
[{"$f":"IF(C91=\"\",\"\",LOOKUP(C91,zdroj!$E$3:$E$700,zdroj!$F$3:$F$700))","v":""},"","",{"$f":"IF(C91=\"\",\"\",LOOKUP(C91,zdroj!$E$3:$E$700,zdroj!$L$3:$L$700))","v":""},{"$f":"IF(C91=\"\",\"\",LOOKUP(C91,zdroj!$E$3:$E$700,zdroj!$G$3:$G$700))","v":""},{"$f":"IF(C91=\"\",\"\",LOOKUP(C91,zdroj!$E$3:$E$700,zdroj!$H$3:$H$700))","v":""},{"$f":"+IF(C91=\"\",\"\",LOOKUP(C91,zdroj!$E$3:$E$700,zdroj!$I$3:$I$700))","v":""},{"$f":"IF(J91=\"\",\"\",LOOKUP(J91,zdroj!$E$3:$E$700,zdroj!$F$3:$F$700))","v":"00:00:00"},18,468,{"$f":"IF(J91=\"\",\"\",LOOKUP(J91,zdroj!$E$3:$E$700,zdroj!$L$3:$L$700))","v":1},{"$f":"IF(J91=\"\",\"\",LOOKUP(J91,zdroj!$E$3:$E$700,zdroj!$G$3:$G$700))","v":"Tichelmann"},{"$f":"IF(J91=\"\",\"\",LOOKUP(J91,zdroj!$E$3:$E$700,zdroj!$H$3:$H$700))","v":"vlastní"},{"$f":"+IF(J91=\"\",\"\",LOOKUP(J91,zdroj!$E$3:$E$700,zdroj!$I$3:$I$700))","v":"Dokončeno"},{"$f":"IF(Q91=\"\",\"\",LOOKUP(Q91,zdroj!$E$3:$E$700,zdroj!$F$3:$F$700))","v":""},"","",{"$f":"IF(Q91=\"\",\"\",LOOKUP(Q91,zdroj!$E$3:$E$700,zdroj!$L$3:$L$700))","v":""},{"$f":"IF(Q91=\"\",\"\",LOOKUP(Q91,zdroj!$E$3:$E$700,zdroj!$G$3:$G$700))","v":""},{"$f":"IF(Q91=\"\",\"\",LOOKUP(Q91,zdroj!$E$3:$E$700,zdroj!$H$3:$H$700))","v":""},{"$f":"+IF(Q91=\"\",\"\",LOOKUP(Q91,zdroj!$E$3:$E$700,zdroj!$I$3:$I$700))","v":""},{"$f":"IF(X91=\"\",\"\",LOOKUP(X91,zdroj!$E$3:$E$700,zdroj!$F$3:$F$700))","v":"00:00:00"},18,528,{"$f":"IF(X91=\"\",\"\",LOOKUP(X91,zdroj!$E$3:$E$700,zdroj!$L$3:$L$700))","v":5},{"$f":"IF(X91=\"\",\"\",LOOKUP(X91,zdroj!$E$3:$E$700,zdroj!$G$3:$G$700))","v":"Faurecie MB"},{"$f":"IF(X91=\"\",\"\",LOOKUP(X91,zdroj!$E$3:$E$700,zdroj!$H$3:$H$700))","v":"vlastní"},{"$f":"+IF(X91=\"\",\"\",LOOKUP(X91,zdroj!$E$3:$E$700,zdroj!$I$3:$I$700))","v":"Dokončeno"},{"$f":"IF(AE91=\"\",\"\",LOOKUP(AE91,zdroj!$E$3:$E$700,zdroj!$F$3:$F$700))","v":""},"","",{"$f":"IF(AE91=\"\",\"\",LOOKUP(AE91,zdroj!$E$3:$E$700,zdroj!$L$3:$L$700))","v":""},{"$f":"IF(AE91=\"\",\"\",LOOKUP(AE91,zdroj!$E$3:$E$700,zdroj!$G$3:$G$700))","v":""},{"$f":"IF(AE91=\"\",\"\",LOOKUP(AE91,zdroj!$E$3:$E$700,zdroj!$H$3:$H$700))","v":""},{"$f":"+IF(AE91=\"\",\"\",LOOKUP(AE91,zdroj!$E$3:$E$700,zdroj!$I$3:$I$700))","v":""}]
[{"$f":"IF(C92=\"\",\"\",LOOKUP(C92,zdroj!$E$3:$E$700,zdroj!$F$3:$F$700))","v":""},"","",{"$f":"IF(C92=\"\",\"\",LOOKUP(C92,zdroj!$E$3:$E$700,zdroj!$L$3:$L$700))","v":""},{"$f":"IF(C92=\"\",\"\",LOOKUP(C92,zdroj!$E$3:$E$700,zdroj!$G$3:$G$700))","v":""},{"$f":"IF(C92=\"\",\"\",LOOKUP(C92,zdroj!$E$3:$E$700,zdroj!$H$3:$H$700))","v":""},{"$f":"+IF(C92=\"\",\"\",LOOKUP(C92,zdroj!$E$3:$E$700,zdroj!$I$3:$I$700))","v":""},{"$f":"IF(J92=\"\",\"\",LOOKUP(J92,zdroj!$E$3:$E$700,zdroj!$F$3:$F$700))","v":""},"","",{"$f":"IF(J92=\"\",\"\",LOOKUP(J92,zdroj!$E$3:$E$700,zdroj!$L$3:$L$700))","v":""},{"$f":"IF(J92=\"\",\"\",LOOKUP(J92,zdroj!$E$3:$E$700,zdroj!$G$3:$G$700))","v":""},{"$f":"IF(J92=\"\",\"\",LOOKUP(J92,zdroj!$E$3:$E$700,zdroj!$H$3:$H$700))","v":""},{"$f":"+IF(J92=\"\",\"\",LOOKUP(J92,zdroj!$E$3:$E$700,zdroj!$I$3:$I$700))","v":""},{"$f":"IF(Q92=\"\",\"\",LOOKUP(Q92,zdroj!$E$3:$E$700,zdroj!$F$3:$F$700))","v":""},"","",{"$f":"IF(Q92=\"\",\"\",LOOKUP(Q92,zdroj!$E$3:$E$700,zdroj!$L$3:$L$700))","v":""},{"$f":"IF(Q92=\"\",\"\",LOOKUP(Q92,zdroj!$E$3:$E$700,zdroj!$G$3:$G$700))","v":""},{"$f":"IF(Q92=\"\",\"\",LOOKUP(Q92,zdroj!$E$3:$E$700,zdroj!$H$3:$H$700))","v":""},{"$f":"+IF(Q92=\"\",\"\",LOOKUP(Q92,zdroj!$E$3:$E$700,zdroj!$I$3:$I$700))","v":""},{"$f":"IF(X92=\"\",\"\",LOOKUP(X92,zdroj!$E$3:$E$700,zdroj!$F$3:$F$700))","v":"00:00:00"},19,529,{"$f":"IF(X92=\"\",\"\",LOOKUP(X92,zdroj!$E$3:$E$700,zdroj!$L$3:$L$700))","v":3},{"$f":"IF(X92=\"\",\"\",LOOKUP(X92,zdroj!$E$3:$E$700,zdroj!$G$3:$G$700))","v":"T-Net"},{"$f":"IF(X92=\"\",\"\",LOOKUP(X92,zdroj!$E$3:$E$700,zdroj!$H$3:$H$700))","v":"MSB"},{"$f":"+IF(X92=\"\",\"\",LOOKUP(X92,zdroj!$E$3:$E$700,zdroj!$I$3:$I$700))","v":"Dokončeno"},{"$f":"IF(AE92=\"\",\"\",LOOKUP(AE92,zdroj!$E$3:$E$700,zdroj!$F$3:$F$700))","v":""},"","",{"$f":"IF(AE92=\"\",\"\",LOOKUP(AE92,zdroj!$E$3:$E$700,zdroj!$L$3:$L$700))","v":""},{"$f":"IF(AE92=\"\",\"\",LOOKUP(AE92,zdroj!$E$3:$E$700,zdroj!$G$3:$G$700))","v":""},{"$f":"IF(AE92=\"\",\"\",LOOKUP(AE92,zdroj!$E$3:$E$700,zdroj!$H$3:$H$700))","v":""},{"$f":"+IF(AE92=\"\",\"\",LOOKUP(AE92,zdroj!$E$3:$E$700,zdroj!$I$3:$I$700))","v":""}]
[{"$f":"IF(C93=\"\",\"\",LOOKUP(C93,zdroj!$E$3:$E$700,zdroj!$F$3:$F$700))","v":""},"","",{"$f":"IF(C93=\"\",\"\",LOOKUP(C93,zdroj!$E$3:$E$700,zdroj!$L$3:$L$700))","v":""},{"$f":"IF(C93=\"\",\"\",LOOKUP(C93,zdroj!$E$3:$E$700,zdroj!$G$3:$G$700))","v":""},{"$f":"IF(C93=\"\",\"\",LOOKUP(C93,zdroj!$E$3:$E$700,zdroj!$H$3:$H$700))","v":""},{"$f":"+IF(C93=\"\",\"\",LOOKUP(C93,zdroj!$E$3:$E$700,zdroj!$I$3:$I$700))","v":""},{"$f":"IF(J93=\"\",\"\",LOOKUP(J93,zdroj!$E$3:$E$700,zdroj!$F$3:$F$700))","v":""},"","",{"$f":"IF(J93=\"\",\"\",LOOKUP(J93,zdroj!$E$3:$E$700,zdroj!$L$3:$L$700))","v":""},{"$f":"IF(J93=\"\",\"\",LOOKUP(J93,zdroj!$E$3:$E$700,zdroj!$G$3:$G$700))","v":""},{"$f":"IF(J93=\"\",\"\",LOOKUP(J93,zdroj!$E$3:$E$700,zdroj!$H$3:$H$700))","v":""},{"$f":"+IF(J93=\"\",\"\",LOOKUP(J93,zdroj!$E$3:$E$700,zdroj!$I$3:$I$700))","v":""},{"$f":"IF(Q93=\"\",\"\",LOOKUP(Q93,zdroj!$E$3:$E$700,zdroj!$F$3:$F$700))","v":""},"","",{"$f":"IF(Q93=\"\",\"\",LOOKUP(Q93,zdroj!$E$3:$E$700,zdroj!$L$3:$L$700))","v":""},{"$f":"IF(Q93=\"\",\"\",LOOKUP(Q93,zdroj!$E$3:$E$700,zdroj!$G$3:$G$700))","v":""},{"$f":"IF(Q93=\"\",\"\",LOOKUP(Q93,zdroj!$E$3:$E$700,zdroj!$H$3:$H$700))","v":""},{"$f":"+IF(Q93=\"\",\"\",LOOKUP(Q93,zdroj!$E$3:$E$700,zdroj!$I$3:$I$700))","v":""},{"$f":"IF(X93=\"\",\"\",LOOKUP(X93,zdroj!$E$3:$E$700,zdroj!$F$3:$F$700))","v":"00:00:00"},20,530,{"$f":"IF(X93=\"\",\"\",LOOKUP(X93,zdroj!$E$3:$E$700,zdroj!$L$3:$L$700))","v":1},{"$f":"IF(X93=\"\",\"\",LOOKUP(X93,zdroj!$E$3:$E$700,zdroj!$G$3:$G$700))","v":"Toptrans"},{"$f":"IF(X93=\"\",\"\",LOOKUP(X93,zdroj!$E$3:$E$700,zdroj!$H$3:$H$700))","v":"SBS"},{"$f":"+IF(X93=\"\",\"\",LOOKUP(X93,zdroj!$E$3:$E$700,zdroj!$I$3:$I$700))","v":"Dokončeno"},{"$f":"IF(AE93=\"\",\"\",LOOKUP(AE93,zdroj!$E$3:$E$700,zdroj!$F$3:$F$700))","v":""},"","",{"$f":"IF(AE93=\"\",\"\",LOOKUP(AE93,zdroj!$E$3:$E$700,zdroj!$L$3:$L$700))","v":""},{"$f":"IF(AE93=\"\",\"\",LOOKUP(AE93,zdroj!$E$3:$E$700,zdroj!$G$3:$G$700))","v":""},{"$f":"IF(AE93=\"\",\"\",LOOKUP(AE93,zdroj!$E$3:$E$700,zdroj!$H$3:$H$700))","v":""},{"$f":"+IF(AE93=\"\",\"\",LOOKUP(AE93,zdroj!$E$3:$E$700,zdroj!$I$3:$I$700))","v":""}]
[{"$f":"IF(C94=\"\",\"\",LOOKUP(C94,zdroj!$E$3:$E$700,zdroj!$F$3:$F$700))","v":""},"","",{"$f":"IF(C94=\"\",\"\",LOOKUP(C94,zdroj!$E$3:$E$700,zdroj!$L$3:$L$700))","v":""},{"$f":"IF(C94=\"\",\"\",LOOKUP(C94,zdroj!$E$3:$E$700,zdroj!$G$3:$G$700))","v":""},{"$f":"IF(C94=\"\",\"\",LOOKUP(C94,zdroj!$E$3:$E$700,zdroj!$H$3:$H$700))","v":""},{"$f":"+IF(C94=\"\",\"\",LOOKUP(C94,zdroj!$E$3:$E$700,zdroj!$I$3:$I$700))","v":""},{"$f":"IF(J94=\"\",\"\",LOOKUP(J94,zdroj!$E$3:$E$700,zdroj!$F$3:$F$700))","v":""},"","",{"$f":"IF(J94=\"\",\"\",LOOKUP(J94,zdroj!$E$3:$E$700,zdroj!$L$3:$L$700))","v":""},{"$f":"IF(J94=\"\",\"\",LOOKUP(J94,zdroj!$E$3:$E$700,zdroj!$G$3:$G$700))","v":""},{"$f":"IF(J94=\"\",\"\",LOOKUP(J94,zdroj!$E$3:$E$700,zdroj!$H$3:$H$700))","v":""},{"$f":"+IF(J94=\"\",\"\",LOOKUP(J94,zdroj!$E$3:$E$700,zdroj!$I$3:$I$700))","v":""},{"$f":"IF(Q94=\"\",\"\",LOOKUP(Q94,zdroj!$E$3:$E$700,zdroj!$F$3:$F$700))","v":""},"","",{"$f":"IF(Q94=\"\",\"\",LOOKUP(Q94,zdroj!$E$3:$E$700,zdroj!$L$3:$L$700))","v":""},{"$f":"IF(Q94=\"\",\"\",LOOKUP(Q94,zdroj!$E$3:$E$700,zdroj!$G$3:$G$700))","v":""},{"$f":"IF(Q94=\"\",\"\",LOOKUP(Q94,zdroj!$E$3:$E$700,zdroj!$H$3:$H$700))","v":""},{"$f":"+IF(Q94=\"\",\"\",LOOKUP(Q94,zdroj!$E$3:$E$700,zdroj!$I$3:$I$700))","v":""},{"$f":"IF(X94=\"\",\"\",LOOKUP(X94,zdroj!$E$3:$E$700,zdroj!$F$3:$F$700))","v":"00:00:00"},21,531,{"$f":"IF(X94=\"\",\"\",LOOKUP(X94,zdroj!$E$3:$E$700,zdroj!$L$3:$L$700))","v":1},{"$f":"IF(X94=\"\",\"\",LOOKUP(X94,zdroj!$E$3:$E$700,zdroj!$G$3:$G$700))","v":"GEFCO"},{"$f":"IF(X94=\"\",\"\",LOOKUP(X94,zdroj!$E$3:$E$700,zdroj!$H$3:$H$700))","v":"vlastní"},{"$f":"+IF(X94=\"\",\"\",LOOKUP(X94,zdroj!$E$3:$E$700,zdroj!$I$3:$I$700))","v":"Dokončeno"},{"$f":"IF(AE94=\"\",\"\",LOOKUP(AE94,zdroj!$E$3:$E$700,zdroj!$F$3:$F$700))","v":""},"","",{"$f":"IF(AE94=\"\",\"\",LOOKUP(AE94,zdroj!$E$3:$E$700,zdroj!$L$3:$L$700))","v":""},{"$f":"IF(AE94=\"\",\"\",LOOKUP(AE94,zdroj!$E$3:$E$700,zdroj!$G$3:$G$700))","v":""},{"$f":"IF(AE94=\"\",\"\",LOOKUP(AE94,zdroj!$E$3:$E$700,zdroj!$H$3:$H$700))","v":""},{"$f":"+IF(AE94=\"\",\"\",LOOKUP(AE94,zdroj!$E$3:$E$700,zdroj!$I$3:$I$700))","v":""}]
[{"$f":"IF(C95=\"\",\"\",LOOKUP(C95,zdroj!$E$3:$E$700,zdroj!$F$3:$F$700))","v":""},"","",{"$f":"IF(C95=\"\",\"\",LOOKUP(C95,zdroj!$E$3:$E$700,zdroj!$L$3:$L$700))","v":""},{"$f":"IF(C95=\"\",\"\",LOOKUP(C95,zdroj!$E$3:$E$700,zdroj!$G$3:$G$700))","v":""},{"$f":"IF(C95=\"\",\"\",LOOKUP(C95,zdroj!$E$3:$E$700,zdroj!$H$3:$H$700))","v":""},{"$f":"+IF(C95=\"\",\"\",LOOKUP(C95,zdroj!$E$3:$E$700,zdroj!$I$3:$I$700))","v":""},{"$f":"IF(J95=\"\",\"\",LOOKUP(J95,zdroj!$E$3:$E$700,zdroj!$F$3:$F$700))","v":""},"","",{"$f":"IF(J95=\"\",\"\",LOOKUP(J95,zdroj!$E$3:$E$700,zdroj!$L$3:$L$700))","v":""},{"$f":"IF(J95=\"\",\"\",LOOKUP(J95,zdroj!$E$3:$E$700,zdroj!$G$3:$G$700))","v":""},{"$f":"IF(J95=\"\",\"\",LOOKUP(J95,zdroj!$E$3:$E$700,zdroj!$H$3:$H$700))","v":""},{"$f":"+IF(J95=\"\",\"\",LOOKUP(J95,zdroj!$E$3:$E$700,zdroj!$I$3:$I$700))","v":""},{"$f":"IF(Q95=\"\",\"\",LOOKUP(Q95,zdroj!$E$3:$E$700,zdroj!$F$3:$F$700))","v":""},"","",{"$f":"IF(Q95=\"\",\"\",LOOKUP(Q95,zdroj!$E$3:$E$700,zdroj!$L$3:$L$700))","v":""},{"$f":"IF(Q95=\"\",\"\",LOOKUP(Q95,zdroj!$E$3:$E$700,zdroj!$G$3:$G$700))","v":""},{"$f":"IF(Q95=\"\",\"\",LOOKUP(Q95,zdroj!$E$3:$E$700,zdroj!$H$3:$H$700))","v":""},{"$f":"+IF(Q95=\"\",\"\",LOOKUP(Q95,zdroj!$E$3:$E$700,zdroj!$I$3:$I$700))","v":""},{"$f":"IF(X95=\"\",\"\",LOOKUP(X95,zdroj!$E$3:$E$700,zdroj!$F$3:$F$700))","v":""},"","",{"$f":"IF(X95=\"\",\"\",LOOKUP(X95,zdroj!$E$3:$E$700,zdroj!$L$3:$L$700))","v":""},{"$f":"IF(X95=\"\",\"\",LOOKUP(X95,zdroj!$E$3:$E$700,zdroj!$G$3:$G$700))","v":""},{"$f":"IF(X95=\"\",\"\",LOOKUP(X95,zdroj!$E$3:$E$700,zdroj!$H$3:$H$700))","v":""},{"$f":"+IF(X95=\"\",\"\",LOOKUP(X95,zdroj!$E$3:$E$700,zdroj!$I$3:$I$700))","v":""},{"$f":"IF(AE95=\"\",\"\",LOOKUP(AE95,zdroj!$E$3:$E$700,zdroj!$F$3:$F$700))","v":""},"","",{"$f":"IF(AE95=\"\",\"\",LOOKUP(AE95,zdroj!$E$3:$E$700,zdroj!$L$3:$L$700))","v":""},{"$f":"IF(AE95=\"\",\"\",LOOKUP(AE95,zdroj!$E$3:$E$700,zdroj!$G$3:$G$700))","v":""},{"$f":"IF(AE95=\"\",\"\",LOOKUP(AE95,zdroj!$E$3:$E$700,zdroj!$H$3:$H$700))","v":""},{"$f":"+IF(AE95=\"\",\"\",LOOKUP(AE95,zdroj!$E$3:$E$700,zdroj!$I$3:$I$700))","v":""}]
[{"$f":"IF(C96=\"\",\"\",LOOKUP(C96,zdroj!$E$3:$E$700,zdroj!$F$3:$F$700))","v":""},"","",{"$f":"IF(C96=\"\",\"\",LOOKUP(C96,zdroj!$E$3:$E$700,zdroj!$L$3:$L$700))","v":""},{"$f":"IF(C96=\"\",\"\",LOOKUP(C96,zdroj!$E$3:$E$700,zdroj!$G$3:$G$700))","v":""},{"$f":"IF(C96=\"\",\"\",LOOKUP(C96,zdroj!$E$3:$E$700,zdroj!$H$3:$H$700))","v":""},{"$f":"+IF(C96=\"\",\"\",LOOKUP(C96,zdroj!$E$3:$E$700,zdroj!$I$3:$I$700))","v":""},{"$f":"IF(J96=\"\",\"\",LOOKUP(J96,zdroj!$E$3:$E$700,zdroj!$F$3:$F$700))","v":""},"","",{"$f":"IF(J96=\"\",\"\",LOOKUP(J96,zdroj!$E$3:$E$700,zdroj!$L$3:$L$700))","v":""},{"$f":"IF(J96=\"\",\"\",LOOKUP(J96,zdroj!$E$3:$E$700,zdroj!$G$3:$G$700))","v":""},{"$f":"IF(J96=\"\",\"\",LOOKUP(J96,zdroj!$E$3:$E$700,zdroj!$H$3:$H$700))","v":""},{"$f":"+IF(J96=\"\",\"\",LOOKUP(J96,zdroj!$E$3:$E$700,zdroj!$I$3:$I$700))","v":""},{"$f":"IF(Q96=\"\",\"\",LOOKUP(Q96,zdroj!$E$3:$E$700,zdroj!$F$3:$F$700))","v":""},"","",{"$f":"IF(Q96=\"\",\"\",LOOKUP(Q96,zdroj!$E$3:$E$700,zdroj!$L$3:$L$700))","v":""},{"$f":"IF(Q96=\"\",\"\",LOOKUP(Q96,zdroj!$E$3:$E$700,zdroj!$G$3:$G$700))","v":""},{"$f":"IF(Q96=\"\",\"\",LOOKUP(Q96,zdroj!$E$3:$E$700,zdroj!$H$3:$H$700))","v":""},{"$f":"+IF(Q96=\"\",\"\",LOOKUP(Q96,zdroj!$E$3:$E$700,zdroj!$I$3:$I$700))","v":""},{"$f":"IF(X96=\"\",\"\",LOOKUP(X96,zdroj!$E$3:$E$700,zdroj!$F$3:$F$700))","v":""},"","",{"$f":"IF(X96=\"\",\"\",LOOKUP(X96,zdroj!$E$3:$E$700,zdroj!$L$3:$L$700))","v":""},{"$f":"IF(X96=\"\",\"\",LOOKUP(X96,zdroj!$E$3:$E$700,zdroj!$G$3:$G$700))","v":""},{"$f":"IF(X96=\"\",\"\",LOOKUP(X96,zdroj!$E$3:$E$700,zdroj!$H$3:$H$700))","v":""},{"$f":"+IF(X96=\"\",\"\",LOOKUP(X96,zdroj!$E$3:$E$700,zdroj!$I$3:$I$700))","v":""},{"$f":"IF(AE96=\"\",\"\",LOOKUP(AE96,zdroj!$E$3:$E$700,zdroj!$F$3:$F$700))","v":""},"","",{"$f":"IF(AE96=\"\",\"\",LOOKUP(AE96,zdroj!$E$3:$E$700,zdroj!$L$3:$L$700))","v":""},{"$f":"IF(AE96=\"\",\"\",LOOKUP(AE96,zdroj!$E$3:$E$700,zdroj!$G$3:$G$700))","v":""},{"$f":"IF(AE96=\"\",\"\",LOOKUP(AE96,zdroj!$E$3:$E$700,zdroj!$H$3:$H$700))","v":""},{"$f":"+IF(AE96=\"\",\"\",LOOKUP(AE96,zdroj!$E$3:$E$700,zdroj!$I$3:$I$700))","v":""}]
[{"$f":"IF(C97=\"\",\"\",LOOKUP(C97,zdroj!$E$3:$E$700,zdroj!$F$3:$F$700))","v":""},"","",{"$f":"IF(C97=\"\",\"\",LOOKUP(C97,zdroj!$E$3:$E$700,zdroj!$L$3:$L$700))","v":""},{"$f":"IF(C97=\"\",\"\",LOOKUP(C97,zdroj!$E$3:$E$700,zdroj!$G$3:$G$700))","v":""},{"$f":"IF(C97=\"\",\"\",LOOKUP(C97,zdroj!$E$3:$E$700,zdroj!$H$3:$H$700))","v":""},{"$f":"+IF(C97=\"\",\"\",LOOKUP(C97,zdroj!$E$3:$E$700,zdroj!$I$3:$I$700))","v":""},{"$f":"IF(J97=\"\",\"\",LOOKUP(J97,zdroj!$E$3:$E$700,zdroj!$F$3:$F$700))","v":""},"","",{"$f":"IF(J97=\"\",\"\",LOOKUP(J97,zdroj!$E$3:$E$700,zdroj!$L$3:$L$700))","v":""},{"$f":"IF(J97=\"\",\"\",LOOKUP(J97,zdroj!$E$3:$E$700,zdroj!$G$3:$G$700))","v":""},{"$f":"IF(J97=\"\",\"\",LOOKUP(J97,zdroj!$E$3:$E$700,zdroj!$H$3:$H$700))","v":""},{"$f":"+IF(J97=\"\",\"\",LOOKUP(J97,zdroj!$E$3:$E$700,zdroj!$I$3:$I$700))","v":""},{"$f":"IF(Q97=\"\",\"\",LOOKUP(Q97,zdroj!$E$3:$E$700,zdroj!$F$3:$F$700))","v":""},"","",{"$f":"IF(Q97=\"\",\"\",LOOKUP(Q97,zdroj!$E$3:$E$700,zdroj!$L$3:$L$700))","v":""},{"$f":"IF(Q97=\"\",\"\",LOOKUP(Q97,zdroj!$E$3:$E$700,zdroj!$G$3:$G$700))","v":""},{"$f":"IF(Q97=\"\",\"\",LOOKUP(Q97,zdroj!$E$3:$E$700,zdroj!$H$3:$H$700))","v":""},{"$f":"+IF(Q97=\"\",\"\",LOOKUP(Q97,zdroj!$E$3:$E$700,zdroj!$I$3:$I$700))","v":""},{"$f":"IF(X97=\"\",\"\",LOOKUP(X97,zdroj!$E$3:$E$700,zdroj!$F$3:$F$700))","v":""},"","",{"$f":"IF(X97=\"\",\"\",LOOKUP(X97,zdroj!$E$3:$E$700,zdroj!$L$3:$L$700))","v":""},{"$f":"IF(X97=\"\",\"\",LOOKUP(X97,zdroj!$E$3:$E$700,zdroj!$G$3:$G$700))","v":""},{"$f":"IF(X97=\"\",\"\",LOOKUP(X97,zdroj!$E$3:$E$700,zdroj!$H$3:$H$700))","v":""},{"$f":"+IF(X97=\"\",\"\",LOOKUP(X97,zdroj!$E$3:$E$700,zdroj!$I$3:$I$700))","v":""},{"$f":"IF(AE97=\"\",\"\",LOOKUP(AE97,zdroj!$E$3:$E$700,zdroj!$F$3:$F$700))","v":""},"","",{"$f":"IF(AE97=\"\",\"\",LOOKUP(AE97,zdroj!$E$3:$E$700,zdroj!$L$3:$L$700))","v":""},{"$f":"IF(AE97=\"\",\"\",LOOKUP(AE97,zdroj!$E$3:$E$700,zdroj!$G$3:$G$700))","v":""},{"$f":"IF(AE97=\"\",\"\",LOOKUP(AE97,zdroj!$E$3:$E$700,zdroj!$H$3:$H$700))","v":""},{"$f":"+IF(AE97=\"\",\"\",LOOKUP(AE97,zdroj!$E$3:$E$700,zdroj!$I$3:$I$700))","v":""}]
[{"$f":"IF(C98=\"\",\"\",LOOKUP(C98,zdroj!$E$3:$E$700,zdroj!$F$3:$F$700))","v":""},"","",{"$f":"IF(C98=\"\",\"\",LOOKUP(C98,zdroj!$E$3:$E$700,zdroj!$L$3:$L$700))","v":""},{"$f":"IF(C98=\"\",\"\",LOOKUP(C98,zdroj!$E$3:$E$700,zdroj!$G$3:$G$700))","v":""},{"$f":"IF(C98=\"\",\"\",LOOKUP(C98,zdroj!$E$3:$E$700,zdroj!$H$3:$H$700))","v":""},{"$f":"+IF(C98=\"\",\"\",LOOKUP(C98,zdroj!$E$3:$E$700,zdroj!$I$3:$I$700))","v":""},{"$f":"IF(J98=\"\",\"\",LOOKUP(J98,zdroj!$E$3:$E$700,zdroj!$F$3:$F$700))","v":""},"","",{"$f":"IF(J98=\"\",\"\",LOOKUP(J98,zdroj!$E$3:$E$700,zdroj!$L$3:$L$700))","v":""},{"$f":"IF(J98=\"\",\"\",LOOKUP(J98,zdroj!$E$3:$E$700,zdroj!$G$3:$G$700))","v":""},{"$f":"IF(J98=\"\",\"\",LOOKUP(J98,zdroj!$E$3:$E$700,zdroj!$H$3:$H$700))","v":""},{"$f":"+IF(J98=\"\",\"\",LOOKUP(J98,zdroj!$E$3:$E$700,zdroj!$I$3:$I$700))","v":""},{"$f":"IF(Q98=\"\",\"\",LOOKUP(Q98,zdroj!$E$3:$E$700,zdroj!$F$3:$F$700))","v":""},"","",{"$f":"IF(Q98=\"\",\"\",LOOKUP(Q98,zdroj!$E$3:$E$700,zdroj!$L$3:$L$700))","v":""},{"$f":"IF(Q98=\"\",\"\",LOOKUP(Q98,zdroj!$E$3:$E$700,zdroj!$G$3:$G$700))","v":""},{"$f":"IF(Q98=\"\",\"\",LOOKUP(Q98,zdroj!$E$3:$E$700,zdroj!$H$3:$H$700))","v":""},{"$f":"+IF(Q98=\"\",\"\",LOOKUP(Q98,zdroj!$E$3:$E$700,zdroj!$I$3:$I$700))","v":""},{"$f":"IF(X98=\"\",\"\",LOOKUP(X98,zdroj!$E$3:$E$700,zdroj!$F$3:$F$700))","v":""},"","",{"$f":"IF(X98=\"\",\"\",LOOKUP(X98,zdroj!$E$3:$E$700,zdroj!$L$3:$L$700))","v":""},{"$f":"IF(X98=\"\",\"\",LOOKUP(X98,zdroj!$E$3:$E$700,zdroj!$G$3:$G$700))","v":""},{"$f":"IF(X98=\"\",\"\",LOOKUP(X98,zdroj!$E$3:$E$700,zdroj!$H$3:$H$700))","v":""},{"$f":"+IF(X98=\"\",\"\",LOOKUP(X98,zdroj!$E$3:$E$700,zdroj!$I$3:$I$700))","v":""},{"$f":"IF(AE98=\"\",\"\",LOOKUP(AE98,zdroj!$E$3:$E$700,zdroj!$F$3:$F$700))","v":""},"","",{"$f":"IF(AE98=\"\",\"\",LOOKUP(AE98,zdroj!$E$3:$E$700,zdroj!$L$3:$L$700))","v":""},{"$f":"IF(AE98=\"\",\"\",LOOKUP(AE98,zdroj!$E$3:$E$700,zdroj!$G$3:$G$700))","v":""},{"$f":"IF(AE98=\"\",\"\",LOOKUP(AE98,zdroj!$E$3:$E$700,zdroj!$H$3:$H$700))","v":""},{"$f":"+IF(AE98=\"\",\"\",LOOKUP(AE98,zdroj!$E$3:$E$700,zdroj!$I$3:$I$700))","v":""}]
[{"$f":"IF(C99=\"\",\"\",LOOKUP(C99,zdroj!$E$3:$E$700,zdroj!$F$3:$F$700))","v":""},"","",{"$f":"IF(C99=\"\",\"\",LOOKUP(C99,zdroj!$E$3:$E$700,zdroj!$L$3:$L$700))","v":""},{"$f":"IF(C99=\"\",\"\",LOOKUP(C99,zdroj!$E$3:$E$700,zdroj!$G$3:$G$700))","v":""},{"$f":"IF(C99=\"\",\"\",LOOKUP(C99,zdroj!$E$3:$E$700,zdroj!$H$3:$H$700))","v":""},{"$f":"+IF(C99=\"\",\"\",LOOKUP(C99,zdroj!$E$3:$E$700,zdroj!$I$3:$I$700))","v":""},{"$f":"IF(J99=\"\",\"\",LOOKUP(J99,zdroj!$E$3:$E$700,zdroj!$F$3:$F$700))","v":""},"","",{"$f":"IF(J99=\"\",\"\",LOOKUP(J99,zdroj!$E$3:$E$700,zdroj!$L$3:$L$700))","v":""},{"$f":"IF(J99=\"\",\"\",LOOKUP(J99,zdroj!$E$3:$E$700,zdroj!$G$3:$G$700))","v":""},{"$f":"IF(J99=\"\",\"\",LOOKUP(J99,zdroj!$E$3:$E$700,zdroj!$H$3:$H$700))","v":""},{"$f":"+IF(J99=\"\",\"\",LOOKUP(J99,zdroj!$E$3:$E$700,zdroj!$I$3:$I$700))","v":""},{"$f":"IF(Q99=\"\",\"\",LOOKUP(Q99,zdroj!$E$3:$E$700,zdroj!$F$3:$F$700))","v":""},"","",{"$f":"IF(Q99=\"\",\"\",LOOKUP(Q99,zdroj!$E$3:$E$700,zdroj!$L$3:$L$700))","v":""},{"$f":"IF(Q99=\"\",\"\",LOOKUP(Q99,zdroj!$E$3:$E$700,zdroj!$G$3:$G$700))","v":""},{"$f":"IF(Q99=\"\",\"\",LOOKUP(Q99,zdroj!$E$3:$E$700,zdroj!$H$3:$H$700))","v":""},{"$f":"+IF(Q99=\"\",\"\",LOOKUP(Q99,zdroj!$E$3:$E$700,zdroj!$I$3:$I$700))","v":""},{"$f":"IF(X99=\"\",\"\",LOOKUP(X99,zdroj!$E$3:$E$700,zdroj!$F$3:$F$700))","v":""},"","",{"$f":"IF(X99=\"\",\"\",LOOKUP(X99,zdroj!$E$3:$E$700,zdroj!$L$3:$L$700))","v":""},{"$f":"IF(X99=\"\",\"\",LOOKUP(X99,zdroj!$E$3:$E$700,zdroj!$G$3:$G$700))","v":""},{"$f":"IF(X99=\"\",\"\",LOOKUP(X99,zdroj!$E$3:$E$700,zdroj!$H$3:$H$700))","v":""},{"$f":"+IF(X99=\"\",\"\",LOOKUP(X99,zdroj!$E$3:$E$700,zdroj!$I$3:$I$700))","v":""},{"$f":"IF(AE99=\"\",\"\",LOOKUP(AE99,zdroj!$E$3:$E$700,zdroj!$F$3:$F$700))","v":""},"","",{"$f":"IF(AE99=\"\",\"\",LOOKUP(AE99,zdroj!$E$3:$E$700,zdroj!$L$3:$L$700))","v":""},{"$f":"IF(AE99=\"\",\"\",LOOKUP(AE99,zdroj!$E$3:$E$700,zdroj!$G$3:$G$700))","v":""},{"$f":"IF(AE99=\"\",\"\",LOOKUP(AE99,zdroj!$E$3:$E$700,zdroj!$H$3:$H$700))","v":""},{"$f":"+IF(AE99=\"\",\"\",LOOKUP(AE99,zdroj!$E$3:$E$700,zdroj!$I$3:$I$700))","v":""}]
[{"$f":"IF(C100=\"\",\"\",LOOKUP(C100,zdroj!$E$3:$E$700,zdroj!$F$3:$F$700))","v":""},"","",{"$f":"IF(C100=\"\",\"\",LOOKUP(C100,zdroj!$E$3:$E$700,zdroj!$L$3:$L$700))","v":""},{"$f":"IF(C100=\"\",\"\",LOOKUP(C100,zdroj!$E$3:$E$700,zdroj!$G$3:$G$700))","v":""},{"$f":"IF(C100=\"\",\"\",LOOKUP(C100,zdroj!$E$3:$E$700,zdroj!$H$3:$H$700))","v":""},{"$f":"+IF(C100=\"\",\"\",LOOKUP(C100,zdroj!$E$3:$E$700,zdroj!$I$3:$I$700))","v":""},{"$f":"IF(J100=\"\",\"\",LOOKUP(J100,zdroj!$E$3:$E$700,zdroj!$F$3:$F$700))","v":""},"","",{"$f":"IF(J100=\"\",\"\",LOOKUP(J100,zdroj!$E$3:$E$700,zdroj!$L$3:$L$700))","v":""},{"$f":"IF(J100=\"\",\"\",LOOKUP(J100,zdroj!$E$3:$E$700,zdroj!$G$3:$G$700))","v":""},{"$f":"IF(J100=\"\",\"\",LOOKUP(J100,zdroj!$E$3:$E$700,zdroj!$H$3:$H$700))","v":""},{"$f":"+IF(J100=\"\",\"\",LOOKUP(J100,zdroj!$E$3:$E$700,zdroj!$I$3:$I$700))","v":""},{"$f":"IF(Q100=\"\",\"\",LOOKUP(Q100,zdroj!$E$3:$E$700,zdroj!$F$3:$F$700))","v":""},"","",{"$f":"IF(Q100=\"\",\"\",LOOKUP(Q100,zdroj!$E$3:$E$700,zdroj!$L$3:$L$700))","v":""},{"$f":"IF(Q100=\"\",\"\",LOOKUP(Q100,zdroj!$E$3:$E$700,zdroj!$G$3:$G$700))","v":""},{"$f":"IF(Q100=\"\",\"\",LOOKUP(Q100,zdroj!$E$3:$E$700,zdroj!$H$3:$H$700))","v":""},{"$f":"+IF(Q100=\"\",\"\",LOOKUP(Q100,zdroj!$E$3:$E$700,zdroj!$I$3:$I$700))","v":""},{"$f":"IF(X100=\"\",\"\",LOOKUP(X100,zdroj!$E$3:$E$700,zdroj!$F$3:$F$700))","v":""},"","",{"$f":"IF(X100=\"\",\"\",LOOKUP(X100,zdroj!$E$3:$E$700,zdroj!$L$3:$L$700))","v":""},{"$f":"IF(X100=\"\",\"\",LOOKUP(X100,zdroj!$E$3:$E$700,zdroj!$G$3:$G$700))","v":""},{"$f":"IF(X100=\"\",\"\",LOOKUP(X100,zdroj!$E$3:$E$700,zdroj!$H$3:$H$700))","v":""},{"$f":"+IF(X100=\"\",\"\",LOOKUP(X100,zdroj!$E$3:$E$700,zdroj!$I$3:$I$700))","v":""},{"$f":"IF(AE100=\"\",\"\",LOOKUP(AE100,zdroj!$E$3:$E$700,zdroj!$F$3:$F$700))","v":""},"","",{"$f":"IF(AE100=\"\",\"\",LOOKUP(AE100,zdroj!$E$3:$E$700,zdroj!$L$3:$L$700))","v":""},{"$f":"IF(AE100=\"\",\"\",LOOKUP(AE100,zdroj!$E$3:$E$700,zdroj!$G$3:$G$700))","v":""},{"$f":"IF(AE100=\"\",\"\",LOOKUP(AE100,zdroj!$E$3:$E$700,zdroj!$H$3:$H$700))","v":""},{"$f":"+IF(AE100=\"\",\"\",LOOKUP(AE100,zdroj!$E$3:$E$700,zdroj!$I$3:$I$700))","v":""}]
[{"$f":"IF(C101=\"\",\"\",LOOKUP(C101,zdroj!$E$3:$E$700,zdroj!$F$3:$F$700))","v":""},"","",{"$f":"IF(C101=\"\",\"\",LOOKUP(C101,zdroj!$E$3:$E$700,zdroj!$L$3:$L$700))","v":""},{"$f":"IF(C101=\"\",\"\",LOOKUP(C101,zdroj!$E$3:$E$700,zdroj!$G$3:$G$700))","v":""},{"$f":"IF(C101=\"\",\"\",LOOKUP(C101,zdroj!$E$3:$E$700,zdroj!$H$3:$H$700))","v":""},{"$f":"+IF(C101=\"\",\"\",LOOKUP(C101,zdroj!$E$3:$E$700,zdroj!$I$3:$I$700))","v":""},{"$f":"IF(J101=\"\",\"\",LOOKUP(J101,zdroj!$E$3:$E$700,zdroj!$F$3:$F$700))","v":""},"","",{"$f":"IF(J101=\"\",\"\",LOOKUP(J101,zdroj!$E$3:$E$700,zdroj!$L$3:$L$700))","v":""},{"$f":"IF(J101=\"\",\"\",LOOKUP(J101,zdroj!$E$3:$E$700,zdroj!$G$3:$G$700))","v":""},{"$f":"IF(J101=\"\",\"\",LOOKUP(J101,zdroj!$E$3:$E$700,zdroj!$H$3:$H$700))","v":""},{"$f":"+IF(J101=\"\",\"\",LOOKUP(J101,zdroj!$E$3:$E$700,zdroj!$I$3:$I$700))","v":""},{"$f":"IF(Q101=\"\",\"\",LOOKUP(Q101,zdroj!$E$3:$E$700,zdroj!$F$3:$F$700))","v":""},"","",{"$f":"IF(Q101=\"\",\"\",LOOKUP(Q101,zdroj!$E$3:$E$700,zdroj!$L$3:$L$700))","v":""},{"$f":"IF(Q101=\"\",\"\",LOOKUP(Q101,zdroj!$E$3:$E$700,zdroj!$G$3:$G$700))","v":""},{"$f":"IF(Q101=\"\",\"\",LOOKUP(Q101,zdroj!$E$3:$E$700,zdroj!$H$3:$H$700))","v":""},{"$f":"+IF(Q101=\"\",\"\",LOOKUP(Q101,zdroj!$E$3:$E$700,zdroj!$I$3:$I$700))","v":""},{"$f":"IF(X101=\"\",\"\",LOOKUP(X101,zdroj!$E$3:$E$700,zdroj!$F$3:$F$700))","v":""},"","",{"$f":"IF(X101=\"\",\"\",LOOKUP(X101,zdroj!$E$3:$E$700,zdroj!$L$3:$L$700))","v":""},{"$f":"IF(X101=\"\",\"\",LOOKUP(X101,zdroj!$E$3:$E$700,zdroj!$G$3:$G$700))","v":""},{"$f":"IF(X101=\"\",\"\",LOOKUP(X101,zdroj!$E$3:$E$700,zdroj!$H$3:$H$700))","v":""},{"$f":"+IF(X101=\"\",\"\",LOOKUP(X101,zdroj!$E$3:$E$700,zdroj!$I$3:$I$700))","v":""},{"$f":"IF(AE101=\"\",\"\",LOOKUP(AE101,zdroj!$E$3:$E$700,zdroj!$F$3:$F$700))","v":""},"","",{"$f":"IF(AE101=\"\",\"\",LOOKUP(AE101,zdroj!$E$3:$E$700,zdroj!$L$3:$L$700))","v":""},{"$f":"IF(AE101=\"\",\"\",LOOKUP(AE101,zdroj!$E$3:$E$700,zdroj!$G$3:$G$700))","v":""},{"$f":"IF(AE101=\"\",\"\",LOOKUP(AE101,zdroj!$E$3:$E$700,zdroj!$H$3:$H$700))","v":""},{"$f":"+IF(AE101=\"\",\"\",LOOKUP(AE101,zdroj!$E$3:$E$700,zdroj!$I$3:$I$700))","v":""}]
[{"$f":"IF(C102=\"\",\"\",LOOKUP(C102,zdroj!$E$3:$E$700,zdroj!$F$3:$F$700))","v":""},"","",{"$f":"IF(C102=\"\",\"\",LOOKUP(C102,zdroj!$E$3:$E$700,zdroj!$L$3:$L$700))","v":""},{"$f":"IF(C102=\"\",\"\",LOOKUP(C102,zdroj!$E$3:$E$700,zdroj!$G$3:$G$700))","v":""},{"$f":"IF(C102=\"\",\"\",LOOKUP(C102,zdroj!$E$3:$E$700,zdroj!$H$3:$H$700))","v":""},{"$f":"+IF(C102=\"\",\"\",LOOKUP(C102,zdroj!$E$3:$E$700,zdroj!$I$3:$I$700))","v":""},{"$f":"IF(J102=\"\",\"\",LOOKUP(J102,zdroj!$E$3:$E$700,zdroj!$F$3:$F$700))","v":""},"","",{"$f":"IF(J102=\"\",\"\",LOOKUP(J102,zdroj!$E$3:$E$700,zdroj!$L$3:$L$700))","v":""},{"$f":"IF(J102=\"\",\"\",LOOKUP(J102,zdroj!$E$3:$E$700,zdroj!$G$3:$G$700))","v":""},{"$f":"IF(J102=\"\",\"\",LOOKUP(J102,zdroj!$E$3:$E$700,zdroj!$H$3:$H$700))","v":""},{"$f":"+IF(J102=\"\",\"\",LOOKUP(J102,zdroj!$E$3:$E$700,zdroj!$I$3:$I$700))","v":""},{"$f":"IF(Q102=\"\",\"\",LOOKUP(Q102,zdroj!$E$3:$E$700,zdroj!$F$3:$F$700))","v":""},"","",{"$f":"IF(Q102=\"\",\"\",LOOKUP(Q102,zdroj!$E$3:$E$700,zdroj!$L$3:$L$700))","v":""},{"$f":"IF(Q102=\"\",\"\",LOOKUP(Q102,zdroj!$E$3:$E$700,zdroj!$G$3:$G$700))","v":""},{"$f":"IF(Q102=\"\",\"\",LOOKUP(Q102,zdroj!$E$3:$E$700,zdroj!$H$3:$H$700))","v":""},{"$f":"+IF(Q102=\"\",\"\",LOOKUP(Q102,zdroj!$E$3:$E$700,zdroj!$I$3:$I$700))","v":""},{"$f":"IF(X102=\"\",\"\",LOOKUP(X102,zdroj!$E$3:$E$700,zdroj!$F$3:$F$700))","v":""},"","",{"$f":"IF(X102=\"\",\"\",LOOKUP(X102,zdroj!$E$3:$E$700,zdroj!$L$3:$L$700))","v":""},{"$f":"IF(X102=\"\",\"\",LOOKUP(X102,zdroj!$E$3:$E$700,zdroj!$G$3:$G$700))","v":""},{"$f":"IF(X102=\"\",\"\",LOOKUP(X102,zdroj!$E$3:$E$700,zdroj!$H$3:$H$700))","v":""},{"$f":"+IF(X102=\"\",\"\",LOOKUP(X102,zdroj!$E$3:$E$700,zdroj!$I$3:$I$700))","v":""},{"$f":"IF(AE102=\"\",\"\",LOOKUP(AE102,zdroj!$E$3:$E$700,zdroj!$F$3:$F$700))","v":""},"","",{"$f":"IF(AE102=\"\",\"\",LOOKUP(AE102,zdroj!$E$3:$E$700,zdroj!$L$3:$L$700))","v":""},{"$f":"IF(AE102=\"\",\"\",LOOKUP(AE102,zdroj!$E$3:$E$700,zdroj!$G$3:$G$700))","v":""},{"$f":"IF(AE102=\"\",\"\",LOOKUP(AE102,zdroj!$E$3:$E$700,zdroj!$H$3:$H$700))","v":""},{"$f":"+IF(AE102=\"\",\"\",LOOKUP(AE102,zdroj!$E$3:$E$700,zdroj!$I$3:$I$700))","v":""}]
[{"$f":"IF(C103=\"\",\"\",LOOKUP(C103,zdroj!$E$3:$E$700,zdroj!$F$3:$F$700))","v":""},"","",{"$f":"IF(C103=\"\",\"\",LOOKUP(C103,zdroj!$E$3:$E$700,zdroj!$L$3:$L$700))","v":""},{"$f":"IF(C103=\"\",\"\",LOOKUP(C103,zdroj!$E$3:$E$700,zdroj!$G$3:$G$700))","v":""},{"$f":"IF(C103=\"\",\"\",LOOKUP(C103,zdroj!$E$3:$E$700,zdroj!$H$3:$H$700))","v":""},{"$f":"+IF(C103=\"\",\"\",LOOKUP(C103,zdroj!$E$3:$E$700,zdroj!$I$3:$I$700))","v":""},{"$f":"IF(J103=\"\",\"\",LOOKUP(J103,zdroj!$E$3:$E$700,zdroj!$F$3:$F$700))","v":""},"","",{"$f":"IF(J103=\"\",\"\",LOOKUP(J103,zdroj!$E$3:$E$700,zdroj!$L$3:$L$700))","v":""},{"$f":"IF(J103=\"\",\"\",LOOKUP(J103,zdroj!$E$3:$E$700,zdroj!$G$3:$G$700))","v":""},{"$f":"IF(J103=\"\",\"\",LOOKUP(J103,zdroj!$E$3:$E$700,zdroj!$H$3:$H$700))","v":""},{"$f":"+IF(J103=\"\",\"\",LOOKUP(J103,zdroj!$E$3:$E$700,zdroj!$I$3:$I$700))","v":""},{"$f":"IF(Q103=\"\",\"\",LOOKUP(Q103,zdroj!$E$3:$E$700,zdroj!$F$3:$F$700))","v":""},"","",{"$f":"IF(Q103=\"\",\"\",LOOKUP(Q103,zdroj!$E$3:$E$700,zdroj!$L$3:$L$700))","v":""},{"$f":"IF(Q103=\"\",\"\",LOOKUP(Q103,zdroj!$E$3:$E$700,zdroj!$G$3:$G$700))","v":""},{"$f":"IF(Q103=\"\",\"\",LOOKUP(Q103,zdroj!$E$3:$E$700,zdroj!$H$3:$H$700))","v":""},{"$f":"+IF(Q103=\"\",\"\",LOOKUP(Q103,zdroj!$E$3:$E$700,zdroj!$I$3:$I$700))","v":""},{"$f":"IF(X103=\"\",\"\",LOOKUP(X103,zdroj!$E$3:$E$700,zdroj!$F$3:$F$700))","v":""},"","",{"$f":"IF(X103=\"\",\"\",LOOKUP(X103,zdroj!$E$3:$E$700,zdroj!$L$3:$L$700))","v":""},{"$f":"IF(X103=\"\",\"\",LOOKUP(X103,zdroj!$E$3:$E$700,zdroj!$G$3:$G$700))","v":""},{"$f":"IF(X103=\"\",\"\",LOOKUP(X103,zdroj!$E$3:$E$700,zdroj!$H$3:$H$700))","v":""},{"$f":"+IF(X103=\"\",\"\",LOOKUP(X103,zdroj!$E$3:$E$700,zdroj!$I$3:$I$700))","v":""},{"$f":"IF(AE103=\"\",\"\",LOOKUP(AE103,zdroj!$E$3:$E$700,zdroj!$F$3:$F$700))","v":""},"","",{"$f":"IF(AE103=\"\",\"\",LOOKUP(AE103,zdroj!$E$3:$E$700,zdroj!$L$3:$L$700))","v":""},{"$f":"IF(AE103=\"\",\"\",LOOKUP(AE103,zdroj!$E$3:$E$700,zdroj!$G$3:$G$700))","v":""},{"$f":"IF(AE103=\"\",\"\",LOOKUP(AE103,zdroj!$E$3:$E$700,zdroj!$H$3:$H$700))","v":""},{"$f":"+IF(AE103=\"\",\"\",LOOKUP(AE103,zdroj!$E$3:$E$700,zdroj!$I$3:$I$700))","v":""}]
["TÝDEN ",{"$f":"+B70+1","v":5}]
[{"$f":"+A71","v":44958},null,null,null,"pondělí",null,{"$f":"+AI71+3","v":"2023-01-23"},null,null,null,null,"Úterý",null,{"$f":"+G105+1","v":"2023-01-24"},"Středa",null,null,null,null,null,{"$f":"+N105+1","v":"2023-01-25"},"Čtvrtek",null,null,null,null,null,{"$f":"+U105+1","v":"2023-01-26"},"Pátek",null,null,null,null,null,{"$f":"+AB105+1","v":"2023-01-27"}]
[{"$f":"+CONCATENATE(E105,\" \",TEXT(G105,\"DD.MM.RR\"))","v":"pondělí 23.01.23"},null,null,null,null,null,null,{"$f":"+CONCATENATE(L105,\" \",TEXT(N105,\"DD.MM.RR\"))","v":"Úterý 24.01.23"},null,null,null,null,null,null,{"$f":"+CONCATENATE(O105,\" \",TEXT(U105,\"DD.MM.RR\"))","v":"Středa 25.01.23"},null,null,null,null,null,null,{"$f":"+CONCATENATE(V105,\" \",TEXT(AB105,\"DD.MM.RR\"))","v":"Čtvrtek 26.01.23"},null,null,null,null,null,null,{"$f":"+CONCATENATE(AC105,\" \",TEXT(AI105,\"DD.MM.RR\"))","v":"Pátek 27.01.23"}]
["hodina",{"$f":"+LOOKUP(G105,DataFIX!$F$3:$F$41,DataFIX!$G$3:$G$41)","v":630},{"$f":"+COUNTIFS(zdroj!$B$3:$B$700,Screen!G105)","v":20},{"$f":"+SUM(D108:D136)","v":46},"Zákazník","Dopravce","Status",null,{"$f":"+LOOKUP(N105,DataFIX!$F$3:$F$41,DataFIX!$G$3:$G$41)","v":660},{"$f":"+COUNTIFS(zdroj!$B$3:$B$700,Screen!N105)","v":16},{"$f":"+SUM(K108:K136)","v":40},"Zákazník","Dopravce","Status","hodina",{"$f":"+LOOKUP(U105,DataFIX!$F$3:$F$41,DataFIX!$G$3:$G$41)","v":690},{"$f":"+COUNTIFS(zdroj!$B$3:$B$700,Screen!U105)","v":15},{"$f":"+SUM(R108:R136)","v":36},"Zákazník","Dopravce","Status","hodina",{"$f":"+LOOKUP(AB105,DataFIX!$F$3:$F$41,DataFIX!$G$3:$G$41)","v":720},{"$f":"+COUNTIFS(zdroj!$B$3:$B$700,Screen!AB105)","v":16},{"$f":"+SUM(Y108:Y136)","v":40},"Zákazník","Dopravce","Status","hodina",{"$f":"+LOOKUP(AI105,DataFIX!$F$3:$F$41,DataFIX!$G$3:$G$41)","v":750},{"$f":"+COUNTIFS(zdroj!$B$3:$B$700,Screen!AI105)","v":11},{"$f":"+SUM(AF108:AF136)","v":22},"Zákazník","Dopravce","Status"]
[{"$f":"IF(C108=\"\",\"\",LOOKUP(C108,zdroj!$E$3:$E$700,zdroj!$F$3:$F$700))","v":"06:00:00"},{"$f":"+IF(C$107=\"\",\"\",IF(C107=0,\"\",1))","v":1},{"$f":"+IF(B108=\"\",\"\",B108+B$107)","v":631},{"$f":"IF(C108=\"\",\"\",LOOKUP(C108,zdroj!$E$3:$E$700,zdroj!$L$3:$L$700))","v":2},{"$f":"IF(C108=\"\",\"\",LOOKUP(C108,zdroj!$E$3:$E$700,zdroj!$G$3:$G$700))","v":"DF"},{"$f":"IF(C108=\"\",\"\",LOOKUP(C108,zdroj!$E$3:$E$700,zdroj!$H$3:$H$700))","v":"Hroza"},{"$f":"+IF(C108=\"\",\"\",LOOKUP(C108,zdroj!$E$3:$E$700,zdroj!$I$3:$I$700))","v":"Dokončeno"},{"$f":"IF(J108=\"\",\"\",LOOKUP(J108,zdroj!$E$3:$E$700,zdroj!$F$3:$F$700))","v":"06:00:00"},{"$f":"+IF(J$107=\"\",\"\",IF(J107=0,\"\",1))","v":1},{"$f":"+IF(I108=\"\",\"\",I108+I$107)","v":661},{"$f":"IF(J108=\"\",\"\",LOOKUP(J108,zdroj!$E$3:$E$700,zdroj!$L$3:$L$700))","v":2},{"$f":"IF(J108=\"\",\"\",LOOKUP(J108,zdroj!$E$3:$E$700,zdroj!$G$3:$G$700))","v":"DF"},{"$f":"IF(J108=\"\",\"\",LOOKUP(J108,zdroj!$E$3:$E$700,zdroj!$H$3:$H$700))","v":"Hroza "},{"$f":"+IF(J108=\"\",\"\",LOOKUP(J108,zdroj!$E$3:$E$700,zdroj!$I$3:$I$700))","v":"Dokončeno"},{"$f":"IF(Q108=\"\",\"\",LOOKUP(Q108,zdroj!$E$3:$E$700,zdroj!$F$3:$F$700))","v":"06:00:00"},{"$f":"+IF(Q$107=\"\",\"\",IF(Q107=0,\"\",1))","v":1},{"$f":"+IF(P108=\"\",\"\",P108+P$107)","v":691},{"$f":"IF(Q108=\"\",\"\",LOOKUP(Q108,zdroj!$E$3:$E$700,zdroj!$L$3:$L$700))","v":2},{"$f":"IF(Q108=\"\",\"\",LOOKUP(Q108,zdroj!$E$3:$E$700,zdroj!$G$3:$G$700))","v":"DF"},{"$f":"IF(Q108=\"\",\"\",LOOKUP(Q108,zdroj!$E$3:$E$700,zdroj!$H$3:$H$700))","v":"Hroza"},{"$f":"+IF(Q108=\"\",\"\",LOOKUP(Q108,zdroj!$E$3:$E$700,zdroj!$I$3:$I$700))","v":"Dokončeno"},{"$f":"IF(X108=\"\",\"\",LOOKUP(X108,zdroj!$E$3:$E$700,zdroj!$F$3:$F$700))","v":"06:00:00"},{"$f":"+IF(X$107=\"\",\"\",IF(X107=0,\"\",1))","v":1},{"$f":"+IF(W108=\"\",\"\",W108+W$107)","v":721},{"$f":"IF(X108=\"\",\"\",LOOKUP(X108,zdroj!$E$3:$E$700,zdroj!$L$3:$L$700))","v":2},{"$f":"IF(X108=\"\",\"\",LOOKUP(X108,zdroj!$E$3:$E$700,zdroj!$G$3:$G$700))","v":"DF"},{"$f":"IF(X108=\"\",\"\",LOOKUP(X108,zdroj!$E$3:$E$700,zdroj!$H$3:$H$700))","v":"Horza"},{"$f":"+IF(X108=\"\",\"\",LOOKUP(X108,zdroj!$E$3:$E$700,zdroj!$I$3:$I$700))","v":"Dokončeno"},{"$f":"IF(AE108=\"\",\"\",LOOKUP(AE108,zdroj!$E$3:$E$700,zdroj!$F$3:$F$700))","v":"06:00:00"},{"$f":"+IF(AE$107=\"\",\"\",IF(AE107=0,\"\",1))","v":1},{"$f":"+IF(AD108=\"\",\"\",AD108+AD$107)","v":751},{"$f":"IF(AE108=\"\",\"\",LOOKUP(AE108,zdroj!$E$3:$E$700,zdroj!$L$3:$L$700))","v":2},{"$f":"IF(AE108=\"\",\"\",LOOKUP(AE108,zdroj!$E$3:$E$700,zdroj!$G$3:$G$700))","v":"Metrum"},{"$f":"IF(AE108=\"\",\"\",LOOKUP(AE108,zdroj!$E$3:$E$700,zdroj!$H$3:$H$700))","v":"Hroza"},{"$f":"+IF(AE108=\"\",\"\",LOOKUP(AE108,zdroj!$E$3:$E$700,zdroj!$I$3:$I$700))","v":"Dokončeno"}]
[{"$f":"IF(C109=\"\",\"\",LOOKUP(C109,zdroj!$E$3:$E$700,zdroj!$F$3:$F$700))","v":"06:05:00"},{"$f":"+IF(C$107>B108,B108+1,\"\")","v":2},632,{"$f":"IF(C109=\"\",\"\",LOOKUP(C109,zdroj!$E$3:$E$700,zdroj!$L$3:$L$700))","v":3},{"$f":"IF(C109=\"\",\"\",LOOKUP(C109,zdroj!$E$3:$E$700,zdroj!$G$3:$G$700))","v":"Cheport"},{"$f":"IF(C109=\"\",\"\",LOOKUP(C109,zdroj!$E$3:$E$700,zdroj!$H$3:$H$700))","v":"TEZET"},{"$f":"+IF(C109=\"\",\"\",LOOKUP(C109,zdroj!$E$3:$E$700,zdroj!$I$3:$I$700))","v":"Dokončeno"},{"$f":"IF(J109=\"\",\"\",LOOKUP(J109,zdroj!$E$3:$E$700,zdroj!$F$3:$F$700))","v":"06:05:00"},{"$f":"+IF(J$107>I108,I108+1,\"\")","v":2},662,{"$f":"IF(J109=\"\",\"\",LOOKUP(J109,zdroj!$E$3:$E$700,zdroj!$L$3:$L$700))","v":2},{"$f":"IF(J109=\"\",\"\",LOOKUP(J109,zdroj!$E$3:$E$700,zdroj!$G$3:$G$700))","v":"Spolek pro chem."},{"$f":"IF(J109=\"\",\"\",LOOKUP(J109,zdroj!$E$3:$E$700,zdroj!$H$3:$H$700))","v":"TEZET"},{"$f":"+IF(J109=\"\",\"\",LOOKUP(J109,zdroj!$E$3:$E$700,zdroj!$I$3:$I$700))","v":"Dokončeno"},{"$f":"IF(Q109=\"\",\"\",LOOKUP(Q109,zdroj!$E$3:$E$700,zdroj!$F$3:$F$700))","v":"06:05:00"},{"$f":"+IF(Q$107>P108,P108+1,\"\")","v":2},692,{"$f":"IF(Q109=\"\",\"\",LOOKUP(Q109,zdroj!$E$3:$E$700,zdroj!$L$3:$L$700))","v":3},{"$f":"IF(Q109=\"\",\"\",LOOKUP(Q109,zdroj!$E$3:$E$700,zdroj!$G$3:$G$700))","v":"OMA CZ"},{"$f":"IF(Q109=\"\",\"\",LOOKUP(Q109,zdroj!$E$3:$E$700,zdroj!$H$3:$H$700))","v":"TEZET"},{"$f":"+IF(Q109=\"\",\"\",LOOKUP(Q109,zdroj!$E$3:$E$700,zdroj!$I$3:$I$700))","v":"Dokončeno"},{"$f":"IF(X109=\"\",\"\",LOOKUP(X109,zdroj!$E$3:$E$700,zdroj!$F$3:$F$700))","v":"06:00:00"},{"$f":"+IF(X$107>W108,W108+1,\"\")","v":2},722,{"$f":"IF(X109=\"\",\"\",LOOKUP(X109,zdroj!$E$3:$E$700,zdroj!$L$3:$L$700))","v":5},{"$f":"IF(X109=\"\",\"\",LOOKUP(X109,zdroj!$E$3:$E$700,zdroj!$G$3:$G$700))","v":"Luve"},{"$f":"IF(X109=\"\",\"\",LOOKUP(X109,zdroj!$E$3:$E$700,zdroj!$H$3:$H$700))","v":"Hroza "},{"$f":"+IF(X109=\"\",\"\",LOOKUP(X109,zdroj!$E$3:$E$700,zdroj!$I$3:$I$700))","v":"Dokončeno"},{"$f":"IF(AE109=\"\",\"\",LOOKUP(AE109,zdroj!$E$3:$E$700,zdroj!$F$3:$F$700))","v":"06:00:00"},{"$f":"+IF(AE$107>AD108,AD108+1,\"\")","v":2},752,{"$f":"IF(AE109=\"\",\"\",LOOKUP(AE109,zdroj!$E$3:$E$700,zdroj!$L$3:$L$700))","v":2},{"$f":"IF(AE109=\"\",\"\",LOOKUP(AE109,zdroj!$E$3:$E$700,zdroj!$G$3:$G$700))","v":"převozy"},{"$f":"IF(AE109=\"\",\"\",LOOKUP(AE109,zdroj!$E$3:$E$700,zdroj!$H$3:$H$700))","v":"TEZET"},{"$f":"+IF(AE109=\"\",\"\",LOOKUP(AE109,zdroj!$E$3:$E$700,zdroj!$I$3:$I$700))","v":"Dokončeno"}]
[{"$f":"IF(C110=\"\",\"\",LOOKUP(C110,zdroj!$E$3:$E$700,zdroj!$F$3:$F$700))","v":"06:05:00"},3,633,{"$f":"IF(C110=\"\",\"\",LOOKUP(C110,zdroj!$E$3:$E$700,zdroj!$L$3:$L$700))","v":1},{"$f":"IF(C110=\"\",\"\",LOOKUP(C110,zdroj!$E$3:$E$700,zdroj!$G$3:$G$700))","v":"DF"},{"$f":"IF(C110=\"\",\"\",LOOKUP(C110,zdroj!$E$3:$E$700,zdroj!$H$3:$H$700))","v":"SBS"},{"$f":"+IF(C110=\"\",\"\",LOOKUP(C110,zdroj!$E$3:$E$700,zdroj!$I$3:$I$700))","v":"Dokončeno"},{"$f":"IF(J110=\"\",\"\",LOOKUP(J110,zdroj!$E$3:$E$700,zdroj!$F$3:$F$700))","v":"06:05:00"},3,663,{"$f":"IF(J110=\"\",\"\",LOOKUP(J110,zdroj!$E$3:$E$700,zdroj!$L$3:$L$700))","v":2},{"$f":"IF(J110=\"\",\"\",LOOKUP(J110,zdroj!$E$3:$E$700,zdroj!$G$3:$G$700))","v":"Zeelandia"},{"$f":"IF(J110=\"\",\"\",LOOKUP(J110,zdroj!$E$3:$E$700,zdroj!$H$3:$H$700))","v":"TEZET"},{"$f":"+IF(J110=\"\",\"\",LOOKUP(J110,zdroj!$E$3:$E$700,zdroj!$I$3:$I$700))","v":"Dokončeno"},{"$f":"IF(Q110=\"\",\"\",LOOKUP(Q110,zdroj!$E$3:$E$700,zdroj!$F$3:$F$700))","v":"06:05:00"},3,693,{"$f":"IF(Q110=\"\",\"\",LOOKUP(Q110,zdroj!$E$3:$E$700,zdroj!$L$3:$L$700))","v":3},{"$f":"IF(Q110=\"\",\"\",LOOKUP(Q110,zdroj!$E$3:$E$700,zdroj!$G$3:$G$700))","v":"Huka stores"},{"$f":"IF(Q110=\"\",\"\",LOOKUP(Q110,zdroj!$E$3:$E$700,zdroj!$H$3:$H$700))","v":"TEZET"},{"$f":"+IF(Q110=\"\",\"\",LOOKUP(Q110,zdroj!$E$3:$E$700,zdroj!$I$3:$I$700))","v":"Dokončeno"},{"$f":"IF(X110=\"\",\"\",LOOKUP(X110,zdroj!$E$3:$E$700,zdroj!$F$3:$F$700))","v":"06:05:00"},3,723,{"$f":"IF(X110=\"\",\"\",LOOKUP(X110,zdroj!$E$3:$E$700,zdroj!$L$3:$L$700))","v":3},{"$f":"IF(X110=\"\",\"\",LOOKUP(X110,zdroj!$E$3:$E$700,zdroj!$G$3:$G$700))","v":"Chepot"},{"$f":"IF(X110=\"\",\"\",LOOKUP(X110,zdroj!$E$3:$E$700,zdroj!$H$3:$H$700))","v":"TEZET"},{"$f":"+IF(X110=\"\",\"\",LOOKUP(X110,zdroj!$E$3:$E$700,zdroj!$I$3:$I$700))","v":"Dokončeno"},{"$f":"IF(AE110=\"\",\"\",LOOKUP(AE110,zdroj!$E$3:$E$700,zdroj!$F$3:$F$700))","v":"06:05:00"},3,753,{"$f":"IF(AE110=\"\",\"\",LOOKUP(AE110,zdroj!$E$3:$E$700,zdroj!$L$3:$L$700))","v":4},{"$f":"IF(AE110=\"\",\"\",LOOKUP(AE110,zdroj!$E$3:$E$700,zdroj!$G$3:$G$700))","v":"OMA CZ"},{"$f":"IF(AE110=\"\",\"\",LOOKUP(AE110,zdroj!$E$3:$E$700,zdroj!$H$3:$H$700))","v":"TEZET"},{"$f":"+IF(AE110=\"\",\"\",LOOKUP(AE110,zdroj!$E$3:$E$700,zdroj!$I$3:$I$700))","v":"Dokončeno"}]
[{"$f":"IF(C111=\"\",\"\",LOOKUP(C111,zdroj!$E$3:$E$700,zdroj!$F$3:$F$700))","v":"06:10:00"},4,634,{"$f":"IF(C111=\"\",\"\",LOOKUP(C111,zdroj!$E$3:$E$700,zdroj!$L$3:$L$700))","v":1},{"$f":"IF(C111=\"\",\"\",LOOKUP(C111,zdroj!$E$3:$E$700,zdroj!$G$3:$G$700))","v":"GLS"},{"$f":"IF(C111=\"\",\"\",LOOKUP(C111,zdroj!$E$3:$E$700,zdroj!$H$3:$H$700))","v":"SBS"},{"$f":"+IF(C111=\"\",\"\",LOOKUP(C111,zdroj!$E$3:$E$700,zdroj!$I$3:$I$700))","v":"Dokončeno"},{"$f":"IF(J111=\"\",\"\",LOOKUP(J111,zdroj!$E$3:$E$700,zdroj!$F$3:$F$700))","v":"06:30:00"},4,664,{"$f":"IF(J111=\"\",\"\",LOOKUP(J111,zdroj!$E$3:$E$700,zdroj!$L$3:$L$700))","v":3},{"$f":"IF(J111=\"\",\"\",LOOKUP(J111,zdroj!$E$3:$E$700,zdroj!$G$3:$G$700))","v":"Antolin"},{"$f":"IF(J111=\"\",\"\",LOOKUP(J111,zdroj!$E$3:$E$700,zdroj!$H$3:$H$700))","v":"vlastní"},{"$f":"+IF(J111=\"\",\"\",LOOKUP(J111,zdroj!$E$3:$E$700,zdroj!$I$3:$I$700))","v":"Dokončeno"},{"$f":"IF(Q111=\"\",\"\",LOOKUP(Q111,zdroj!$E$3:$E$700,zdroj!$F$3:$F$700))","v":"10:00:00"},4,694,{"$f":"IF(Q111=\"\",\"\",LOOKUP(Q111,zdroj!$E$3:$E$700,zdroj!$L$3:$L$700))","v":3},{"$f":"IF(Q111=\"\",\"\",LOOKUP(Q111,zdroj!$E$3:$E$700,zdroj!$G$3:$G$700))","v":"TBA"},{"$f":"IF(Q111=\"\",\"\",LOOKUP(Q111,zdroj!$E$3:$E$700,zdroj!$H$3:$H$700))","v":"vlastní"},{"$f":"+IF(Q111=\"\",\"\",LOOKUP(Q111,zdroj!$E$3:$E$700,zdroj!$I$3:$I$700))","v":"Dokončeno"},{"$f":"IF(X111=\"\",\"\",LOOKUP(X111,zdroj!$E$3:$E$700,zdroj!$F$3:$F$700))","v":"06:30:00"},4,724,{"$f":"IF(X111=\"\",\"\",LOOKUP(X111,zdroj!$E$3:$E$700,zdroj!$L$3:$L$700))","v":3},{"$f":"IF(X111=\"\",\"\",LOOKUP(X111,zdroj!$E$3:$E$700,zdroj!$G$3:$G$700))","v":"Antolin"},{"$f":"IF(X111=\"\",\"\",LOOKUP(X111,zdroj!$E$3:$E$700,zdroj!$H$3:$H$700))","v":"vlastní"},{"$f":"+IF(X111=\"\",\"\",LOOKUP(X111,zdroj!$E$3:$E$700,zdroj!$I$3:$I$700))","v":"Dokončeno"},{"$f":"IF(AE111=\"\",\"\",LOOKUP(AE111,zdroj!$E$3:$E$700,zdroj!$F$3:$F$700))","v":"06:05:00"},4,754,{"$f":"IF(AE111=\"\",\"\",LOOKUP(AE111,zdroj!$E$3:$E$700,zdroj!$L$3:$L$700))","v":3},{"$f":"IF(AE111=\"\",\"\",LOOKUP(AE111,zdroj!$E$3:$E$700,zdroj!$G$3:$G$700))","v":"Elagro"},{"$f":"IF(AE111=\"\",\"\",LOOKUP(AE111,zdroj!$E$3:$E$700,zdroj!$H$3:$H$700))","v":"TEZET"},{"$f":"+IF(AE111=\"\",\"\",LOOKUP(AE111,zdroj!$E$3:$E$700,zdroj!$I$3:$I$700))","v":"Dokončeno"}]
[{"$f":"IF(C112=\"\",\"\",LOOKUP(C112,zdroj!$E$3:$E$700,zdroj!$F$3:$F$700))","v":"07:35:00"},{"$f":"+IF(C$107>B111,B111+1,\"\")","v":5},{"$f":"+IF(B112=\"\",\"\",B112+B$107)","v":635},{"$f":"IF(C112=\"\",\"\",LOOKUP(C112,zdroj!$E$3:$E$700,zdroj!$L$3:$L$700))","v":1},{"$f":"IF(C112=\"\",\"\",LOOKUP(C112,zdroj!$E$3:$E$700,zdroj!$G$3:$G$700))","v":"Karel Turek"},{"$f":"IF(C112=\"\",\"\",LOOKUP(C112,zdroj!$E$3:$E$700,zdroj!$H$3:$H$700))","v":"vlastní"},{"$f":"+IF(C112=\"\",\"\",LOOKUP(C112,zdroj!$E$3:$E$700,zdroj!$I$3:$I$700))","v":"Dokončeno"},{"$f":"IF(J112=\"\",\"\",LOOKUP(J112,zdroj!$E$3:$E$700,zdroj!$F$3:$F$700))","v":"06:30:00"},{"$f":"+IF(J$107>I111,I111+1,\"\")","v":5},{"$f":"+IF(I112=\"\",\"\",I112+I$107)","v":665},{"$f":"IF(J112=\"\",\"\",LOOKUP(J112,zdroj!$E$3:$E$700,zdroj!$L$3:$L$700))","v":4},{"$f":"IF(J112=\"\",\"\",LOOKUP(J112,zdroj!$E$3:$E$700,zdroj!$G$3:$G$700))","v":"Filmer"},{"$f":"IF(J112=\"\",\"\",LOOKUP(J112,zdroj!$E$3:$E$700,zdroj!$H$3:$H$700))","v":"JF LOG"},{"$f":"+IF(J112=\"\",\"\",LOOKUP(J112,zdroj!$E$3:$E$700,zdroj!$I$3:$I$700))","v":"Dokončeno"},{"$f":"IF(Q112=\"\",\"\",LOOKUP(Q112,zdroj!$E$3:$E$700,zdroj!$F$3:$F$700))","v":"11:30:00"},{"$f":"+IF(Q$107>P111,P111+1,\"\")","v":5},{"$f":"+IF(P112=\"\",\"\",P112+P$107)","v":695},{"$f":"IF(Q112=\"\",\"\",LOOKUP(Q112,zdroj!$E$3:$E$700,zdroj!$L$3:$L$700))","v":3},{"$f":"IF(Q112=\"\",\"\",LOOKUP(Q112,zdroj!$E$3:$E$700,zdroj!$G$3:$G$700))","v":"JPSK"},{"$f":"IF(Q112=\"\",\"\",LOOKUP(Q112,zdroj!$E$3:$E$700,zdroj!$H$3:$H$700))","v":"Legarde"},{"$f":"+IF(Q112=\"\",\"\",LOOKUP(Q112,zdroj!$E$3:$E$700,zdroj!$I$3:$I$700))","v":"Dokončeno"},{"$f":"IF(X112=\"\",\"\",LOOKUP(X112,zdroj!$E$3:$E$700,zdroj!$F$3:$F$700))","v":"06:30:00"},{"$f":"+IF(X$107>W111,W111+1,\"\")","v":5},{"$f":"+IF(W112=\"\",\"\",W112+W$107)","v":725},{"$f":"IF(X112=\"\",\"\",LOOKUP(X112,zdroj!$E$3:$E$700,zdroj!$L$3:$L$700))","v":3},{"$f":"IF(X112=\"\",\"\",LOOKUP(X112,zdroj!$E$3:$E$700,zdroj!$G$3:$G$700))","v":"Slovakia Trend"},{"$f":"IF(X112=\"\",\"\",LOOKUP(X112,zdroj!$E$3:$E$700,zdroj!$H$3:$H$700))","v":"vlastní"},{"$f":"+IF(X112=\"\",\"\",LOOKUP(X112,zdroj!$E$3:$E$700,zdroj!$I$3:$I$700))","v":"Dokončeno"},{"$f":"IF(AE112=\"\",\"\",LOOKUP(AE112,zdroj!$E$3:$E$700,zdroj!$F$3:$F$700))","v":"07:00:00"},{"$f":"+IF(AE$107>AD111,AD111+1,\"\")","v":5},{"$f":"+IF(AD112=\"\",\"\",AD112+AD$107)","v":755},{"$f":"IF(AE112=\"\",\"\",LOOKUP(AE112,zdroj!$E$3:$E$700,zdroj!$L$3:$L$700))","v":1},{"$f":"IF(AE112=\"\",\"\",LOOKUP(AE112,zdroj!$E$3:$E$700,zdroj!$G$3:$G$700))","v":"T-Net"},{"$f":"IF(AE112=\"\",\"\",LOOKUP(AE112,zdroj!$E$3:$E$700,zdroj!$H$3:$H$700))","v":"vlastní"},{"$f":"+IF(AE112=\"\",\"\",LOOKUP(AE112,zdroj!$E$3:$E$700,zdroj!$I$3:$I$700))","v":"Dokončeno"}]
[{"$f":"IF(C113=\"\",\"\",LOOKUP(C113,zdroj!$E$3:$E$700,zdroj!$F$3:$F$700))","v":"08:00:00"},6,636,{"$f":"IF(C113=\"\",\"\",LOOKUP(C113,zdroj!$E$3:$E$700,zdroj!$L$3:$L$700))","v":3},{"$f":"IF(C113=\"\",\"\",LOOKUP(C113,zdroj!$E$3:$E$700,zdroj!$G$3:$G$700))","v":"Garsys"},{"$f":"IF(C113=\"\",\"\",LOOKUP(C113,zdroj!$E$3:$E$700,zdroj!$H$3:$H$700))","v":"vlastní"},{"$f":"+IF(C113=\"\",\"\",LOOKUP(C113,zdroj!$E$3:$E$700,zdroj!$I$3:$I$700))","v":"Dokončeno"},{"$f":"IF(J113=\"\",\"\",LOOKUP(J113,zdroj!$E$3:$E$700,zdroj!$F$3:$F$700))","v":"08:30:00"},6,666,{"$f":"IF(J113=\"\",\"\",LOOKUP(J113,zdroj!$E$3:$E$700,zdroj!$L$3:$L$700))","v":2},{"$f":"IF(J113=\"\",\"\",LOOKUP(J113,zdroj!$E$3:$E$700,zdroj!$G$3:$G$700))","v":"Model Obaly"},{"$f":"IF(J113=\"\",\"\",LOOKUP(J113,zdroj!$E$3:$E$700,zdroj!$H$3:$H$700))","v":"vlastní"},{"$f":"+IF(J113=\"\",\"\",LOOKUP(J113,zdroj!$E$3:$E$700,zdroj!$I$3:$I$700))","v":"Dokončeno"},{"$f":"IF(Q113=\"\",\"\",LOOKUP(Q113,zdroj!$E$3:$E$700,zdroj!$F$3:$F$700))","v":"11:30:00"},6,696,{"$f":"IF(Q113=\"\",\"\",LOOKUP(Q113,zdroj!$E$3:$E$700,zdroj!$L$3:$L$700))","v":3},{"$f":"IF(Q113=\"\",\"\",LOOKUP(Q113,zdroj!$E$3:$E$700,zdroj!$G$3:$G$700))","v":"JPSK"},{"$f":"IF(Q113=\"\",\"\",LOOKUP(Q113,zdroj!$E$3:$E$700,zdroj!$H$3:$H$700))","v":"Legarde"},{"$f":"+IF(Q113=\"\",\"\",LOOKUP(Q113,zdroj!$E$3:$E$700,zdroj!$I$3:$I$700))","v":"Dokončeno"},{"$f":"IF(X113=\"\",\"\",LOOKUP(X113,zdroj!$E$3:$E$700,zdroj!$F$3:$F$700))","v":"10:00:00"},6,726,{"$f":"IF(X113=\"\",\"\",LOOKUP(X113,zdroj!$E$3:$E$700,zdroj!$L$3:$L$700))","v":1},{"$f":"IF(X113=\"\",\"\",LOOKUP(X113,zdroj!$E$3:$E$700,zdroj!$G$3:$G$700))","v":"Carrier-Maurice"},{"$f":"IF(X113=\"\",\"\",LOOKUP(X113,zdroj!$E$3:$E$700,zdroj!$H$3:$H$700))","v":"vlastní"},{"$f":"+IF(X113=\"\",\"\",LOOKUP(X113,zdroj!$E$3:$E$700,zdroj!$I$3:$I$700))","v":"Dokončeno"},{"$f":"IF(AE113=\"\",\"\",LOOKUP(AE113,zdroj!$E$3:$E$700,zdroj!$F$3:$F$700))","v":"09:30:00"},6,756,{"$f":"IF(AE113=\"\",\"\",LOOKUP(AE113,zdroj!$E$3:$E$700,zdroj!$L$3:$L$700))","v":2},{"$f":"IF(AE113=\"\",\"\",LOOKUP(AE113,zdroj!$E$3:$E$700,zdroj!$G$3:$G$700))","v":"Chemprogres"},{"$f":"IF(AE113=\"\",\"\",LOOKUP(AE113,zdroj!$E$3:$E$700,zdroj!$H$3:$H$700))","v":"vlastní"},{"$f":"+IF(AE113=\"\",\"\",LOOKUP(AE113,zdroj!$E$3:$E$700,zdroj!$I$3:$I$700))","v":"Dokončeno"}]
[{"$f":"IF(C114=\"\",\"\",LOOKUP(C114,zdroj!$E$3:$E$700,zdroj!$F$3:$F$700))","v":"08:00:00"},7,637,{"$f":"IF(C114=\"\",\"\",LOOKUP(C114,zdroj!$E$3:$E$700,zdroj!$L$3:$L$700))","v":2},{"$f":"IF(C114=\"\",\"\",LOOKUP(C114,zdroj!$E$3:$E$700,zdroj!$G$3:$G$700))","v":"Model Obaly"},{"$f":"IF(C114=\"\",\"\",LOOKUP(C114,zdroj!$E$3:$E$700,zdroj!$H$3:$H$700))","v":"vlastní"},{"$f":"+IF(C114=\"\",\"\",LOOKUP(C114,zdroj!$E$3:$E$700,zdroj!$I$3:$I$700))","v":"Dokončeno"},{"$f":"IF(J114=\"\",\"\",LOOKUP(J114,zdroj!$E$3:$E$700,zdroj!$F$3:$F$700))","v":"10:00:00"},7,667,{"$f":"IF(J114=\"\",\"\",LOOKUP(J114,zdroj!$E$3:$E$700,zdroj!$L$3:$L$700))","v":1},{"$f":"IF(J114=\"\",\"\",LOOKUP(J114,zdroj!$E$3:$E$700,zdroj!$G$3:$G$700))","v":"Carrier"},{"$f":"IF(J114=\"\",\"\",LOOKUP(J114,zdroj!$E$3:$E$700,zdroj!$H$3:$H$700))","v":"vlastní"},{"$f":"+IF(J114=\"\",\"\",LOOKUP(J114,zdroj!$E$3:$E$700,zdroj!$I$3:$I$700))","v":"Dokončeno"},{"$f":"IF(Q114=\"\",\"\",LOOKUP(Q114,zdroj!$E$3:$E$700,zdroj!$F$3:$F$700))","v":"12:00:00"},7,697,{"$f":"IF(Q114=\"\",\"\",LOOKUP(Q114,zdroj!$E$3:$E$700,zdroj!$L$3:$L$700))","v":5},{"$f":"IF(Q114=\"\",\"\",LOOKUP(Q114,zdroj!$E$3:$E$700,zdroj!$G$3:$G$700))","v":"Faurecie MB"},{"$f":"IF(Q114=\"\",\"\",LOOKUP(Q114,zdroj!$E$3:$E$700,zdroj!$H$3:$H$700))","v":"vlastní"},{"$f":"+IF(Q114=\"\",\"\",LOOKUP(Q114,zdroj!$E$3:$E$700,zdroj!$I$3:$I$700))","v":"Dokončeno"},{"$f":"IF(X114=\"\",\"\",LOOKUP(X114,zdroj!$E$3:$E$700,zdroj!$F$3:$F$700))","v":"10:00:00"},7,727,{"$f":"IF(X114=\"\",\"\",LOOKUP(X114,zdroj!$E$3:$E$700,zdroj!$L$3:$L$700))","v":1},{"$f":"IF(X114=\"\",\"\",LOOKUP(X114,zdroj!$E$3:$E$700,zdroj!$G$3:$G$700))","v":"Beskydská Likérka  vlastní "},{"$f":"IF(X114=\"\",\"\",LOOKUP(X114,zdroj!$E$3:$E$700,zdroj!$H$3:$H$700))","v":0},{"$f":"+IF(X114=\"\",\"\",LOOKUP(X114,zdroj!$E$3:$E$700,zdroj!$I$3:$I$700))","v":"Dokončeno"},{"$f":"IF(AE114=\"\",\"\",LOOKUP(AE114,zdroj!$E$3:$E$700,zdroj!$F$3:$F$700))","v":"10:00:00"},7,757,{"$f":"IF(AE114=\"\",\"\",LOOKUP(AE114,zdroj!$E$3:$E$700,zdroj!$L$3:$L$700))","v":1},{"$f":"IF(AE114=\"\",\"\",LOOKUP(AE114,zdroj!$E$3:$E$700,zdroj!$G$3:$G$700))","v":"Avena"},{"$f":"IF(AE114=\"\",\"\",LOOKUP(AE114,zdroj!$E$3:$E$700,zdroj!$H$3:$H$700))","v":"vlastní"},{"$f":"+IF(AE114=\"\",\"\",LOOKUP(AE114,zdroj!$E$3:$E$700,zdroj!$I$3:$I$700))","v":"Dokončeno"}]
[{"$f":"IF(C115=\"\",\"\",LOOKUP(C115,zdroj!$E$3:$E$700,zdroj!$F$3:$F$700))","v":"10:00:00"},8,638,{"$f":"IF(C115=\"\",\"\",LOOKUP(C115,zdroj!$E$3:$E$700,zdroj!$L$3:$L$700))","v":4},{"$f":"IF(C115=\"\",\"\",LOOKUP(C115,zdroj!$E$3:$E$700,zdroj!$G$3:$G$700))","v":"Groshandel"},{"$f":"IF(C115=\"\",\"\",LOOKUP(C115,zdroj!$E$3:$E$700,zdroj!$H$3:$H$700))","v":"Ewals"},{"$f":"+IF(C115=\"\",\"\",LOOKUP(C115,zdroj!$E$3:$E$700,zdroj!$I$3:$I$700))","v":"Dokončeno"},{"$f":"IF(J115=\"\",\"\",LOOKUP(J115,zdroj!$E$3:$E$700,zdroj!$F$3:$F$700))","v":"10:00:00"},8,668,{"$f":"IF(J115=\"\",\"\",LOOKUP(J115,zdroj!$E$3:$E$700,zdroj!$L$3:$L$700))","v":3},{"$f":"IF(J115=\"\",\"\",LOOKUP(J115,zdroj!$E$3:$E$700,zdroj!$G$3:$G$700))","v":"TBA"},{"$f":"IF(J115=\"\",\"\",LOOKUP(J115,zdroj!$E$3:$E$700,zdroj!$H$3:$H$700))","v":"vlastní"},{"$f":"+IF(J115=\"\",\"\",LOOKUP(J115,zdroj!$E$3:$E$700,zdroj!$I$3:$I$700))","v":"Dokončeno"},{"$f":"IF(Q115=\"\",\"\",LOOKUP(Q115,zdroj!$E$3:$E$700,zdroj!$F$3:$F$700))","v":"12:30:00"},8,698,{"$f":"IF(Q115=\"\",\"\",LOOKUP(Q115,zdroj!$E$3:$E$700,zdroj!$L$3:$L$700))","v":1},{"$f":"IF(Q115=\"\",\"\",LOOKUP(Q115,zdroj!$E$3:$E$700,zdroj!$G$3:$G$700))","v":"Faurecie HLO"},{"$f":"IF(Q115=\"\",\"\",LOOKUP(Q115,zdroj!$E$3:$E$700,zdroj!$H$3:$H$700))","v":"vlastní"},{"$f":"+IF(Q115=\"\",\"\",LOOKUP(Q115,zdroj!$E$3:$E$700,zdroj!$I$3:$I$700))","v":"Dokončeno"},{"$f":"IF(X115=\"\",\"\",LOOKUP(X115,zdroj!$E$3:$E$700,zdroj!$F$3:$F$700))","v":"10:00:00"},8,728,{"$f":"IF(X115=\"\",\"\",LOOKUP(X115,zdroj!$E$3:$E$700,zdroj!$L$3:$L$700))","v":2},{"$f":"IF(X115=\"\",\"\",LOOKUP(X115,zdroj!$E$3:$E$700,zdroj!$G$3:$G$700))","v":"Průmyslová Keramika"},{"$f":"IF(X115=\"\",\"\",LOOKUP(X115,zdroj!$E$3:$E$700,zdroj!$H$3:$H$700))","v":"vlastní"},{"$f":"+IF(X115=\"\",\"\",LOOKUP(X115,zdroj!$E$3:$E$700,zdroj!$I$3:$I$700))","v":"Dokončeno"},{"$f":"IF(AE115=\"\",\"\",LOOKUP(AE115,zdroj!$E$3:$E$700,zdroj!$F$3:$F$700))","v":"10:00:00"},8,758,{"$f":"IF(AE115=\"\",\"\",LOOKUP(AE115,zdroj!$E$3:$E$700,zdroj!$L$3:$L$700))","v":2},{"$f":"IF(AE115=\"\",\"\",LOOKUP(AE115,zdroj!$E$3:$E$700,zdroj!$G$3:$G$700))","v":"TBA"},{"$f":"IF(AE115=\"\",\"\",LOOKUP(AE115,zdroj!$E$3:$E$700,zdroj!$H$3:$H$700))","v":"vlastní"},{"$f":"+IF(AE115=\"\",\"\",LOOKUP(AE115,zdroj!$E$3:$E$700,zdroj!$I$3:$I$700))","v":"Dokončeno"}]
[{"$f":"IF(C116=\"\",\"\",LOOKUP(C116,zdroj!$E$3:$E$700,zdroj!$F$3:$F$700))","v":"10:00:00"},9,639,{"$f":"IF(C116=\"\",\"\",LOOKUP(C116,zdroj!$E$3:$E$700,zdroj!$L$3:$L$700))","v":1},{"$f":"IF(C116=\"\",\"\",LOOKUP(C116,zdroj!$E$3:$E$700,zdroj!$G$3:$G$700))","v":"Saint-gobein"},{"$f":"IF(C116=\"\",\"\",LOOKUP(C116,zdroj!$E$3:$E$700,zdroj!$H$3:$H$700))","v":"vlastní"},{"$f":"+IF(C116=\"\",\"\",LOOKUP(C116,zdroj!$E$3:$E$700,zdroj!$I$3:$I$700))","v":"Dokončeno"},{"$f":"IF(J116=\"\",\"\",LOOKUP(J116,zdroj!$E$3:$E$700,zdroj!$F$3:$F$700))","v":"10:30:00"},9,669,{"$f":"IF(J116=\"\",\"\",LOOKUP(J116,zdroj!$E$3:$E$700,zdroj!$L$3:$L$700))","v":4},{"$f":"IF(J116=\"\",\"\",LOOKUP(J116,zdroj!$E$3:$E$700,zdroj!$G$3:$G$700))","v":"M.A.T."},{"$f":"IF(J116=\"\",\"\",LOOKUP(J116,zdroj!$E$3:$E$700,zdroj!$H$3:$H$700))","v":"AK Servis"},{"$f":"+IF(J116=\"\",\"\",LOOKUP(J116,zdroj!$E$3:$E$700,zdroj!$I$3:$I$700))","v":"Dokončeno"},{"$f":"IF(Q116=\"\",\"\",LOOKUP(Q116,zdroj!$E$3:$E$700,zdroj!$F$3:$F$700))","v":"00:00:00"},9,699,{"$f":"IF(Q116=\"\",\"\",LOOKUP(Q116,zdroj!$E$3:$E$700,zdroj!$L$3:$L$700))","v":2},{"$f":"IF(Q116=\"\",\"\",LOOKUP(Q116,zdroj!$E$3:$E$700,zdroj!$G$3:$G$700))","v":"Walser"},{"$f":"IF(Q116=\"\",\"\",LOOKUP(Q116,zdroj!$E$3:$E$700,zdroj!$H$3:$H$700))","v":"Schenker"},{"$f":"+IF(Q116=\"\",\"\",LOOKUP(Q116,zdroj!$E$3:$E$700,zdroj!$I$3:$I$700))","v":"Dokončeno"},{"$f":"IF(X116=\"\",\"\",LOOKUP(X116,zdroj!$E$3:$E$700,zdroj!$F$3:$F$700))","v":"11:00:00"},9,729,{"$f":"IF(X116=\"\",\"\",LOOKUP(X116,zdroj!$E$3:$E$700,zdroj!$L$3:$L$700))","v":1},{"$f":"IF(X116=\"\",\"\",LOOKUP(X116,zdroj!$E$3:$E$700,zdroj!$G$3:$G$700))","v":"Bericap"},{"$f":"IF(X116=\"\",\"\",LOOKUP(X116,zdroj!$E$3:$E$700,zdroj!$H$3:$H$700))","v":"SBS"},{"$f":"+IF(X116=\"\",\"\",LOOKUP(X116,zdroj!$E$3:$E$700,zdroj!$I$3:$I$700))","v":"Dokončeno"},{"$f":"IF(AE116=\"\",\"\",LOOKUP(AE116,zdroj!$E$3:$E$700,zdroj!$F$3:$F$700))","v":"12:00:00"},9,759,{"$f":"IF(AE116=\"\",\"\",LOOKUP(AE116,zdroj!$E$3:$E$700,zdroj!$L$3:$L$700))","v":3},{"$f":"IF(AE116=\"\",\"\",LOOKUP(AE116,zdroj!$E$3:$E$700,zdroj!$G$3:$G$700))","v":"TRUMF"},{"$f":"IF(AE116=\"\",\"\",LOOKUP(AE116,zdroj!$E$3:$E$700,zdroj!$H$3:$H$700))","v":"vlastní"},{"$f":"+IF(AE116=\"\",\"\",LOOKUP(AE116,zdroj!$E$3:$E$700,zdroj!$I$3:$I$700))","v":"Dokončeno"}]
[{"$f":"IF(C117=\"\",\"\",LOOKUP(C117,zdroj!$E$3:$E$700,zdroj!$F$3:$F$700))","v":"11:00:00"},10,640,{"$f":"IF(C117=\"\",\"\",LOOKUP(C117,zdroj!$E$3:$E$700,zdroj!$L$3:$L$700))","v":4},{"$f":"IF(C117=\"\",\"\",LOOKUP(C117,zdroj!$E$3:$E$700,zdroj!$G$3:$G$700))","v":"Groshandel"},{"$f":"IF(C117=\"\",\"\",LOOKUP(C117,zdroj!$E$3:$E$700,zdroj!$H$3:$H$700))","v":"Ewals"},{"$f":"+IF(C117=\"\",\"\",LOOKUP(C117,zdroj!$E$3:$E$700,zdroj!$I$3:$I$700))","v":"Dokončeno"},{"$f":"IF(J117=\"\",\"\",LOOKUP(J117,zdroj!$E$3:$E$700,zdroj!$F$3:$F$700))","v":"11:30:00"},10,670,{"$f":"IF(J117=\"\",\"\",LOOKUP(J117,zdroj!$E$3:$E$700,zdroj!$L$3:$L$700))","v":3},{"$f":"IF(J117=\"\",\"\",LOOKUP(J117,zdroj!$E$3:$E$700,zdroj!$G$3:$G$700))","v":"Flexfill"},{"$f":"IF(J117=\"\",\"\",LOOKUP(J117,zdroj!$E$3:$E$700,zdroj!$H$3:$H$700))","v":"Interkontakt"},{"$f":"+IF(J117=\"\",\"\",LOOKUP(J117,zdroj!$E$3:$E$700,zdroj!$I$3:$I$700))","v":"Dokončeno"},{"$f":"IF(Q117=\"\",\"\",LOOKUP(Q117,zdroj!$E$3:$E$700,zdroj!$F$3:$F$700))","v":"00:00:00"},10,700,{"$f":"IF(Q117=\"\",\"\",LOOKUP(Q117,zdroj!$E$3:$E$700,zdroj!$L$3:$L$700))","v":3},{"$f":"IF(Q117=\"\",\"\",LOOKUP(Q117,zdroj!$E$3:$E$700,zdroj!$G$3:$G$700))","v":"Walser"},{"$f":"IF(Q117=\"\",\"\",LOOKUP(Q117,zdroj!$E$3:$E$700,zdroj!$H$3:$H$700))","v":"Schenker"},{"$f":"+IF(Q117=\"\",\"\",LOOKUP(Q117,zdroj!$E$3:$E$700,zdroj!$I$3:$I$700))","v":"Dokončeno"},{"$f":"IF(X117=\"\",\"\",LOOKUP(X117,zdroj!$E$3:$E$700,zdroj!$F$3:$F$700))","v":"11:00:00"},10,730,{"$f":"IF(X117=\"\",\"\",LOOKUP(X117,zdroj!$E$3:$E$700,zdroj!$L$3:$L$700))","v":2},{"$f":"IF(X117=\"\",\"\",LOOKUP(X117,zdroj!$E$3:$E$700,zdroj!$G$3:$G$700))","v":"Stachema"},{"$f":"IF(X117=\"\",\"\",LOOKUP(X117,zdroj!$E$3:$E$700,zdroj!$H$3:$H$700))","v":"vlastní "},{"$f":"+IF(X117=\"\",\"\",LOOKUP(X117,zdroj!$E$3:$E$700,zdroj!$I$3:$I$700))","v":"Dokončeno"},{"$f":"IF(AE117=\"\",\"\",LOOKUP(AE117,zdroj!$E$3:$E$700,zdroj!$F$3:$F$700))","v":"00:00:00"},10,760,{"$f":"IF(AE117=\"\",\"\",LOOKUP(AE117,zdroj!$E$3:$E$700,zdroj!$L$3:$L$700))","v":1},{"$f":"IF(AE117=\"\",\"\",LOOKUP(AE117,zdroj!$E$3:$E$700,zdroj!$G$3:$G$700))","v":"T-Net"},{"$f":"IF(AE117=\"\",\"\",LOOKUP(AE117,zdroj!$E$3:$E$700,zdroj!$H$3:$H$700))","v":"Legarde"},{"$f":"+IF(AE117=\"\",\"\",LOOKUP(AE117,zdroj!$E$3:$E$700,zdroj!$I$3:$I$700))","v":"Dokončeno"}]
[{"$f":"IF(C118=\"\",\"\",LOOKUP(C118,zdroj!$E$3:$E$700,zdroj!$F$3:$F$700))","v":"11:20:00"},11,641,{"$f":"IF(C118=\"\",\"\",LOOKUP(C118,zdroj!$E$3:$E$700,zdroj!$L$3:$L$700))","v":3},{"$f":"IF(C118=\"\",\"\",LOOKUP(C118,zdroj!$E$3:$E$700,zdroj!$G$3:$G$700))","v":"Flexfill"},{"$f":"IF(C118=\"\",\"\",LOOKUP(C118,zdroj!$E$3:$E$700,zdroj!$H$3:$H$700))","v":"Interkontakt"},{"$f":"+IF(C118=\"\",\"\",LOOKUP(C118,zdroj!$E$3:$E$700,zdroj!$I$3:$I$700))","v":"Dokončeno"},{"$f":"IF(J118=\"\",\"\",LOOKUP(J118,zdroj!$E$3:$E$700,zdroj!$F$3:$F$700))","v":"13:30:00"},11,671,{"$f":"IF(J118=\"\",\"\",LOOKUP(J118,zdroj!$E$3:$E$700,zdroj!$L$3:$L$700))","v":2},{"$f":"IF(J118=\"\",\"\",LOOKUP(J118,zdroj!$E$3:$E$700,zdroj!$G$3:$G$700))","v":"Těsmat"},{"$f":"IF(J118=\"\",\"\",LOOKUP(J118,zdroj!$E$3:$E$700,zdroj!$H$3:$H$700))","v":"vlastní "},{"$f":"+IF(J118=\"\",\"\",LOOKUP(J118,zdroj!$E$3:$E$700,zdroj!$I$3:$I$700))","v":"Dokončeno"},{"$f":"IF(Q118=\"\",\"\",LOOKUP(Q118,zdroj!$E$3:$E$700,zdroj!$F$3:$F$700))","v":"00:00:00"},11,701,{"$f":"IF(Q118=\"\",\"\",LOOKUP(Q118,zdroj!$E$3:$E$700,zdroj!$L$3:$L$700))","v":1},{"$f":"IF(Q118=\"\",\"\",LOOKUP(Q118,zdroj!$E$3:$E$700,zdroj!$G$3:$G$700))","v":"Toptrans"},{"$f":"IF(Q118=\"\",\"\",LOOKUP(Q118,zdroj!$E$3:$E$700,zdroj!$H$3:$H$700))","v":"SBS"},{"$f":"+IF(Q118=\"\",\"\",LOOKUP(Q118,zdroj!$E$3:$E$700,zdroj!$I$3:$I$700))","v":"Dokončeno"},{"$f":"IF(X118=\"\",\"\",LOOKUP(X118,zdroj!$E$3:$E$700,zdroj!$F$3:$F$700))","v":"11:30:00"},11,731,{"$f":"IF(X118=\"\",\"\",LOOKUP(X118,zdroj!$E$3:$E$700,zdroj!$L$3:$L$700))","v":4},{"$f":"IF(X118=\"\",\"\",LOOKUP(X118,zdroj!$E$3:$E$700,zdroj!$G$3:$G$700))","v":"Sedasport"},{"$f":"IF(X118=\"\",\"\",LOOKUP(X118,zdroj!$E$3:$E$700,zdroj!$H$3:$H$700))","v":"vlastní"},{"$f":"+IF(X118=\"\",\"\",LOOKUP(X118,zdroj!$E$3:$E$700,zdroj!$I$3:$I$700))","v":"Dokončeno"},{"$f":"IF(AE118=\"\",\"\",LOOKUP(AE118,zdroj!$E$3:$E$700,zdroj!$F$3:$F$700))","v":"00:00:00"},11,761,{"$f":"IF(AE118=\"\",\"\",LOOKUP(AE118,zdroj!$E$3:$E$700,zdroj!$L$3:$L$700))","v":1},{"$f":"IF(AE118=\"\",\"\",LOOKUP(AE118,zdroj!$E$3:$E$700,zdroj!$G$3:$G$700))","v":"Kopeček"},{"$f":"IF(AE118=\"\",\"\",LOOKUP(AE118,zdroj!$E$3:$E$700,zdroj!$H$3:$H$700))","v":"vlastní"},{"$f":"+IF(AE118=\"\",\"\",LOOKUP(AE118,zdroj!$E$3:$E$700,zdroj!$I$3:$I$700))","v":"Dokončeno"}]
[{"$f":"IF(C119=\"\",\"\",LOOKUP(C119,zdroj!$E$3:$E$700,zdroj!$F$3:$F$700))","v":"11:30:00"},12,642,{"$f":"IF(C119=\"\",\"\",LOOKUP(C119,zdroj!$E$3:$E$700,zdroj!$L$3:$L$700))","v":5},{"$f":"IF(C119=\"\",\"\",LOOKUP(C119,zdroj!$E$3:$E$700,zdroj!$G$3:$G$700))","v":"T-Net"},{"$f":"IF(C119=\"\",\"\",LOOKUP(C119,zdroj!$E$3:$E$700,zdroj!$H$3:$H$700))","v":"MSB"},{"$f":"+IF(C119=\"\",\"\",LOOKUP(C119,zdroj!$E$3:$E$700,zdroj!$I$3:$I$700))","v":"Dokončeno"},{"$f":"IF(J119=\"\",\"\",LOOKUP(J119,zdroj!$E$3:$E$700,zdroj!$F$3:$F$700))","v":"14:00:00"},12,672,{"$f":"IF(J119=\"\",\"\",LOOKUP(J119,zdroj!$E$3:$E$700,zdroj!$L$3:$L$700))","v":1},{"$f":"IF(J119=\"\",\"\",LOOKUP(J119,zdroj!$E$3:$E$700,zdroj!$G$3:$G$700))","v":"Faurecie PCE"},{"$f":"IF(J119=\"\",\"\",LOOKUP(J119,zdroj!$E$3:$E$700,zdroj!$H$3:$H$700))","v":"vlastní"},{"$f":"+IF(J119=\"\",\"\",LOOKUP(J119,zdroj!$E$3:$E$700,zdroj!$I$3:$I$700))","v":"Dokončeno"},{"$f":"IF(Q119=\"\",\"\",LOOKUP(Q119,zdroj!$E$3:$E$700,zdroj!$F$3:$F$700))","v":"00:00:00"},12,702,{"$f":"IF(Q119=\"\",\"\",LOOKUP(Q119,zdroj!$E$3:$E$700,zdroj!$L$3:$L$700))","v":1},{"$f":"IF(Q119=\"\",\"\",LOOKUP(Q119,zdroj!$E$3:$E$700,zdroj!$G$3:$G$700))","v":"GLS"},{"$f":"IF(Q119=\"\",\"\",LOOKUP(Q119,zdroj!$E$3:$E$700,zdroj!$H$3:$H$700))","v":"SBS"},{"$f":"+IF(Q119=\"\",\"\",LOOKUP(Q119,zdroj!$E$3:$E$700,zdroj!$I$3:$I$700))","v":"Dokončeno"},{"$f":"IF(X119=\"\",\"\",LOOKUP(X119,zdroj!$E$3:$E$700,zdroj!$F$3:$F$700))","v":"11:30:00"},12,732,{"$f":"IF(X119=\"\",\"\",LOOKUP(X119,zdroj!$E$3:$E$700,zdroj!$L$3:$L$700))","v":3},{"$f":"IF(X119=\"\",\"\",LOOKUP(X119,zdroj!$E$3:$E$700,zdroj!$G$3:$G$700))","v":"Flexfill"},{"$f":"IF(X119=\"\",\"\",LOOKUP(X119,zdroj!$E$3:$E$700,zdroj!$H$3:$H$700))","v":"Interkontakt"},{"$f":"+IF(X119=\"\",\"\",LOOKUP(X119,zdroj!$E$3:$E$700,zdroj!$I$3:$I$700))","v":"Dokončeno"},{"$f":"IF(AE119=\"\",\"\",LOOKUP(AE119,zdroj!$E$3:$E$700,zdroj!$F$3:$F$700))","v":""},"","",{"$f":"IF(AE119=\"\",\"\",LOOKUP(AE119,zdroj!$E$3:$E$700,zdroj!$L$3:$L$700))","v":""},{"$f":"IF(AE119=\"\",\"\",LOOKUP(AE119,zdroj!$E$3:$E$700,zdroj!$G$3:$G$700))","v":""},{"$f":"IF(AE119=\"\",\"\",LOOKUP(AE119,zdroj!$E$3:$E$700,zdroj!$H$3:$H$700))","v":""},{"$f":"+IF(AE119=\"\",\"\",LOOKUP(AE119,zdroj!$E$3:$E$700,zdroj!$I$3:$I$700))","v":""}]
[{"$f":"IF(C120=\"\",\"\",LOOKUP(C120,zdroj!$E$3:$E$700,zdroj!$F$3:$F$700))","v":"12:00:00"},13,643,{"$f":"IF(C120=\"\",\"\",LOOKUP(C120,zdroj!$E$3:$E$700,zdroj!$L$3:$L$700))","v":2},{"$f":"IF(C120=\"\",\"\",LOOKUP(C120,zdroj!$E$3:$E$700,zdroj!$G$3:$G$700))","v":"T-Net"},{"$f":"IF(C120=\"\",\"\",LOOKUP(C120,zdroj!$E$3:$E$700,zdroj!$H$3:$H$700))","v":"MSB"},{"$f":"+IF(C120=\"\",\"\",LOOKUP(C120,zdroj!$E$3:$E$700,zdroj!$I$3:$I$700))","v":"Dokončeno"},{"$f":"IF(J120=\"\",\"\",LOOKUP(J120,zdroj!$E$3:$E$700,zdroj!$F$3:$F$700))","v":"00:00:00"},13,673,{"$f":"IF(J120=\"\",\"\",LOOKUP(J120,zdroj!$E$3:$E$700,zdroj!$L$3:$L$700))","v":4},{"$f":"IF(J120=\"\",\"\",LOOKUP(J120,zdroj!$E$3:$E$700,zdroj!$G$3:$G$700))","v":"FIlmer"},{"$f":"IF(J120=\"\",\"\",LOOKUP(J120,zdroj!$E$3:$E$700,zdroj!$H$3:$H$700))","v":"Ewals"},{"$f":"+IF(J120=\"\",\"\",LOOKUP(J120,zdroj!$E$3:$E$700,zdroj!$I$3:$I$700))","v":"Dokončeno"},{"$f":"IF(Q120=\"\",\"\",LOOKUP(Q120,zdroj!$E$3:$E$700,zdroj!$F$3:$F$700))","v":"00:00:00"},13,703,{"$f":"IF(Q120=\"\",\"\",LOOKUP(Q120,zdroj!$E$3:$E$700,zdroj!$L$3:$L$700))","v":2},{"$f":"IF(Q120=\"\",\"\",LOOKUP(Q120,zdroj!$E$3:$E$700,zdroj!$G$3:$G$700))","v":"Pallets of Production"},{"$f":"IF(Q120=\"\",\"\",LOOKUP(Q120,zdroj!$E$3:$E$700,zdroj!$H$3:$H$700))","v":"vlastní"},{"$f":"+IF(Q120=\"\",\"\",LOOKUP(Q120,zdroj!$E$3:$E$700,zdroj!$I$3:$I$700))","v":"Dokončeno"},{"$f":"IF(X120=\"\",\"\",LOOKUP(X120,zdroj!$E$3:$E$700,zdroj!$F$3:$F$700))","v":"00:00:00"},13,733,{"$f":"IF(X120=\"\",\"\",LOOKUP(X120,zdroj!$E$3:$E$700,zdroj!$L$3:$L$700))","v":5},{"$f":"IF(X120=\"\",\"\",LOOKUP(X120,zdroj!$E$3:$E$700,zdroj!$G$3:$G$700))","v":"Faurecie MB"},{"$f":"IF(X120=\"\",\"\",LOOKUP(X120,zdroj!$E$3:$E$700,zdroj!$H$3:$H$700))","v":"vlastní"},{"$f":"+IF(X120=\"\",\"\",LOOKUP(X120,zdroj!$E$3:$E$700,zdroj!$I$3:$I$700))","v":"Dokončeno"},{"$f":"IF(AE120=\"\",\"\",LOOKUP(AE120,zdroj!$E$3:$E$700,zdroj!$F$3:$F$700))","v":""},"","",{"$f":"IF(AE120=\"\",\"\",LOOKUP(AE120,zdroj!$E$3:$E$700,zdroj!$L$3:$L$700))","v":""},{"$f":"IF(AE120=\"\",\"\",LOOKUP(AE120,zdroj!$E$3:$E$700,zdroj!$G$3:$G$700))","v":""},{"$f":"IF(AE120=\"\",\"\",LOOKUP(AE120,zdroj!$E$3:$E$700,zdroj!$H$3:$H$700))","v":""},{"$f":"+IF(AE120=\"\",\"\",LOOKUP(AE120,zdroj!$E$3:$E$700,zdroj!$I$3:$I$700))","v":""}]
[{"$f":"IF(C121=\"\",\"\",LOOKUP(C121,zdroj!$E$3:$E$700,zdroj!$F$3:$F$700))","v":"12:00:00"},14,644,{"$f":"IF(C121=\"\",\"\",LOOKUP(C121,zdroj!$E$3:$E$700,zdroj!$L$3:$L$700))","v":1},{"$f":"IF(C121=\"\",\"\",LOOKUP(C121,zdroj!$E$3:$E$700,zdroj!$G$3:$G$700))","v":"Santal"},{"$f":"IF(C121=\"\",\"\",LOOKUP(C121,zdroj!$E$3:$E$700,zdroj!$H$3:$H$700))","v":"vlastní"},{"$f":"+IF(C121=\"\",\"\",LOOKUP(C121,zdroj!$E$3:$E$700,zdroj!$I$3:$I$700))","v":"Dokončeno"},{"$f":"IF(J121=\"\",\"\",LOOKUP(J121,zdroj!$E$3:$E$700,zdroj!$F$3:$F$700))","v":"00:00:00"},14,674,{"$f":"IF(J121=\"\",\"\",LOOKUP(J121,zdroj!$E$3:$E$700,zdroj!$L$3:$L$700))","v":5},{"$f":"IF(J121=\"\",\"\",LOOKUP(J121,zdroj!$E$3:$E$700,zdroj!$G$3:$G$700))","v":"Faurecie MB"},{"$f":"IF(J121=\"\",\"\",LOOKUP(J121,zdroj!$E$3:$E$700,zdroj!$H$3:$H$700))","v":"vlastní"},{"$f":"+IF(J121=\"\",\"\",LOOKUP(J121,zdroj!$E$3:$E$700,zdroj!$I$3:$I$700))","v":"Dokončeno"},{"$f":"IF(Q121=\"\",\"\",LOOKUP(Q121,zdroj!$E$3:$E$700,zdroj!$F$3:$F$700))","v":"00:00:00"},14,704,{"$f":"IF(Q121=\"\",\"\",LOOKUP(Q121,zdroj!$E$3:$E$700,zdroj!$L$3:$L$700))","v":1},{"$f":"IF(Q121=\"\",\"\",LOOKUP(Q121,zdroj!$E$3:$E$700,zdroj!$G$3:$G$700))","v":"Gefco"},{"$f":"IF(Q121=\"\",\"\",LOOKUP(Q121,zdroj!$E$3:$E$700,zdroj!$H$3:$H$700))","v":"vlastní"},{"$f":"+IF(Q121=\"\",\"\",LOOKUP(Q121,zdroj!$E$3:$E$700,zdroj!$I$3:$I$700))","v":"Dokončeno"},{"$f":"IF(X121=\"\",\"\",LOOKUP(X121,zdroj!$E$3:$E$700,zdroj!$F$3:$F$700))","v":"00:00:00"},14,734,{"$f":"IF(X121=\"\",\"\",LOOKUP(X121,zdroj!$E$3:$E$700,zdroj!$L$3:$L$700))","v":3},{"$f":"IF(X121=\"\",\"\",LOOKUP(X121,zdroj!$E$3:$E$700,zdroj!$G$3:$G$700))","v":"T-Net"},{"$f":"IF(X121=\"\",\"\",LOOKUP(X121,zdroj!$E$3:$E$700,zdroj!$H$3:$H$700))","v":"MSB"},{"$f":"+IF(X121=\"\",\"\",LOOKUP(X121,zdroj!$E$3:$E$700,zdroj!$I$3:$I$700))","v":"Dokončeno"},{"$f":"IF(AE121=\"\",\"\",LOOKUP(AE121,zdroj!$E$3:$E$700,zdroj!$F$3:$F$700))","v":""},"","",{"$f":"IF(AE121=\"\",\"\",LOOKUP(AE121,zdroj!$E$3:$E$700,zdroj!$L$3:$L$700))","v":""},{"$f":"IF(AE121=\"\",\"\",LOOKUP(AE121,zdroj!$E$3:$E$700,zdroj!$G$3:$G$700))","v":""},{"$f":"IF(AE121=\"\",\"\",LOOKUP(AE121,zdroj!$E$3:$E$700,zdroj!$H$3:$H$700))","v":""},{"$f":"+IF(AE121=\"\",\"\",LOOKUP(AE121,zdroj!$E$3:$E$700,zdroj!$I$3:$I$700))","v":""}]
[{"$f":"IF(C122=\"\",\"\",LOOKUP(C122,zdroj!$E$3:$E$700,zdroj!$F$3:$F$700))","v":"12:00:00"},15,645,{"$f":"IF(C122=\"\",\"\",LOOKUP(C122,zdroj!$E$3:$E$700,zdroj!$L$3:$L$700))","v":1},{"$f":"IF(C122=\"\",\"\",LOOKUP(C122,zdroj!$E$3:$E$700,zdroj!$G$3:$G$700))","v":"Vinařský dům"},{"$f":"IF(C122=\"\",\"\",LOOKUP(C122,zdroj!$E$3:$E$700,zdroj!$H$3:$H$700))","v":"vlastní"},{"$f":"+IF(C122=\"\",\"\",LOOKUP(C122,zdroj!$E$3:$E$700,zdroj!$I$3:$I$700))","v":"Dokončeno"},{"$f":"IF(J122=\"\",\"\",LOOKUP(J122,zdroj!$E$3:$E$700,zdroj!$F$3:$F$700))","v":"00:00:00"},15,675,{"$f":"IF(J122=\"\",\"\",LOOKUP(J122,zdroj!$E$3:$E$700,zdroj!$L$3:$L$700))","v":1},{"$f":"IF(J122=\"\",\"\",LOOKUP(J122,zdroj!$E$3:$E$700,zdroj!$G$3:$G$700))","v":"Toptrans"},{"$f":"IF(J122=\"\",\"\",LOOKUP(J122,zdroj!$E$3:$E$700,zdroj!$H$3:$H$700))","v":"SBS"},{"$f":"+IF(J122=\"\",\"\",LOOKUP(J122,zdroj!$E$3:$E$700,zdroj!$I$3:$I$700))","v":"Dokončeno"},{"$f":"IF(Q122=\"\",\"\",LOOKUP(Q122,zdroj!$E$3:$E$700,zdroj!$F$3:$F$700))","v":"00:00:00"},15,705,{"$f":"IF(Q122=\"\",\"\",LOOKUP(Q122,zdroj!$E$3:$E$700,zdroj!$L$3:$L$700))","v":3},{"$f":"IF(Q122=\"\",\"\",LOOKUP(Q122,zdroj!$E$3:$E$700,zdroj!$G$3:$G$700))","v":"nové EUR pal."},{"$f":"IF(Q122=\"\",\"\",LOOKUP(Q122,zdroj!$E$3:$E$700,zdroj!$H$3:$H$700))","v":"PKGROUP"},{"$f":"+IF(Q122=\"\",\"\",LOOKUP(Q122,zdroj!$E$3:$E$700,zdroj!$I$3:$I$700))","v":"Dokončeno"},{"$f":"IF(X122=\"\",\"\",LOOKUP(X122,zdroj!$E$3:$E$700,zdroj!$F$3:$F$700))","v":"00:00:00"},15,735,{"$f":"IF(X122=\"\",\"\",LOOKUP(X122,zdroj!$E$3:$E$700,zdroj!$L$3:$L$700))","v":1},{"$f":"IF(X122=\"\",\"\",LOOKUP(X122,zdroj!$E$3:$E$700,zdroj!$G$3:$G$700))","v":"Toptrans"},{"$f":"IF(X122=\"\",\"\",LOOKUP(X122,zdroj!$E$3:$E$700,zdroj!$H$3:$H$700))","v":"SBS"},{"$f":"+IF(X122=\"\",\"\",LOOKUP(X122,zdroj!$E$3:$E$700,zdroj!$I$3:$I$700))","v":"Dokončeno"},{"$f":"IF(AE122=\"\",\"\",LOOKUP(AE122,zdroj!$E$3:$E$700,zdroj!$F$3:$F$700))","v":""},"","",{"$f":"IF(AE122=\"\",\"\",LOOKUP(AE122,zdroj!$E$3:$E$700,zdroj!$L$3:$L$700))","v":""},{"$f":"IF(AE122=\"\",\"\",LOOKUP(AE122,zdroj!$E$3:$E$700,zdroj!$G$3:$G$700))","v":""},{"$f":"IF(AE122=\"\",\"\",LOOKUP(AE122,zdroj!$E$3:$E$700,zdroj!$H$3:$H$700))","v":""},{"$f":"+IF(AE122=\"\",\"\",LOOKUP(AE122,zdroj!$E$3:$E$700,zdroj!$I$3:$I$700))","v":""}]
[{"$f":"IF(C123=\"\",\"\",LOOKUP(C123,zdroj!$E$3:$E$700,zdroj!$F$3:$F$700))","v":"12:10:00"},16,646,{"$f":"IF(C123=\"\",\"\",LOOKUP(C123,zdroj!$E$3:$E$700,zdroj!$L$3:$L$700))","v":2},{"$f":"IF(C123=\"\",\"\",LOOKUP(C123,zdroj!$E$3:$E$700,zdroj!$G$3:$G$700))","v":"Klofáč"},{"$f":"IF(C123=\"\",\"\",LOOKUP(C123,zdroj!$E$3:$E$700,zdroj!$H$3:$H$700))","v":"vlastní"},{"$f":"+IF(C123=\"\",\"\",LOOKUP(C123,zdroj!$E$3:$E$700,zdroj!$I$3:$I$700))","v":"Dokončeno"},{"$f":"IF(J123=\"\",\"\",LOOKUP(J123,zdroj!$E$3:$E$700,zdroj!$F$3:$F$700))","v":"00:00:00"},16,676,{"$f":"IF(J123=\"\",\"\",LOOKUP(J123,zdroj!$E$3:$E$700,zdroj!$L$3:$L$700))","v":1},{"$f":"IF(J123=\"\",\"\",LOOKUP(J123,zdroj!$E$3:$E$700,zdroj!$G$3:$G$700))","v":"PK Group "},{"$f":"IF(J123=\"\",\"\",LOOKUP(J123,zdroj!$E$3:$E$700,zdroj!$H$3:$H$700))","v":"vlastní"},{"$f":"+IF(J123=\"\",\"\",LOOKUP(J123,zdroj!$E$3:$E$700,zdroj!$I$3:$I$700))","v":"Dokončeno"},{"$f":"IF(Q123=\"\",\"\",LOOKUP(Q123,zdroj!$E$3:$E$700,zdroj!$F$3:$F$700))","v":""},"","",{"$f":"IF(Q123=\"\",\"\",LOOKUP(Q123,zdroj!$E$3:$E$700,zdroj!$L$3:$L$700))","v":""},{"$f":"IF(Q123=\"\",\"\",LOOKUP(Q123,zdroj!$E$3:$E$700,zdroj!$G$3:$G$700))","v":""},{"$f":"IF(Q123=\"\",\"\",LOOKUP(Q123,zdroj!$E$3:$E$700,zdroj!$H$3:$H$700))","v":""},{"$f":"+IF(Q123=\"\",\"\",LOOKUP(Q123,zdroj!$E$3:$E$700,zdroj!$I$3:$I$700))","v":""},{"$f":"IF(X123=\"\",\"\",LOOKUP(X123,zdroj!$E$3:$E$700,zdroj!$F$3:$F$700))","v":"00:00:00"},16,736,{"$f":"IF(X123=\"\",\"\",LOOKUP(X123,zdroj!$E$3:$E$700,zdroj!$L$3:$L$700))","v":1},{"$f":"IF(X123=\"\",\"\",LOOKUP(X123,zdroj!$E$3:$E$700,zdroj!$G$3:$G$700))","v":"Orion OK"},{"$f":"IF(X123=\"\",\"\",LOOKUP(X123,zdroj!$E$3:$E$700,zdroj!$H$3:$H$700))","v":"vlastní"},{"$f":"+IF(X123=\"\",\"\",LOOKUP(X123,zdroj!$E$3:$E$700,zdroj!$I$3:$I$700))","v":"Dokončeno"},{"$f":"IF(AE123=\"\",\"\",LOOKUP(AE123,zdroj!$E$3:$E$700,zdroj!$F$3:$F$700))","v":""},"","",{"$f":"IF(AE123=\"\",\"\",LOOKUP(AE123,zdroj!$E$3:$E$700,zdroj!$L$3:$L$700))","v":""},{"$f":"IF(AE123=\"\",\"\",LOOKUP(AE123,zdroj!$E$3:$E$700,zdroj!$G$3:$G$700))","v":""},{"$f":"IF(AE123=\"\",\"\",LOOKUP(AE123,zdroj!$E$3:$E$700,zdroj!$H$3:$H$700))","v":""},{"$f":"+IF(AE123=\"\",\"\",LOOKUP(AE123,zdroj!$E$3:$E$700,zdroj!$I$3:$I$700))","v":""}]
[{"$f":"IF(C124=\"\",\"\",LOOKUP(C124,zdroj!$E$3:$E$700,zdroj!$F$3:$F$700))","v":"12:30:00"},17,647,{"$f":"IF(C124=\"\",\"\",LOOKUP(C124,zdroj!$E$3:$E$700,zdroj!$L$3:$L$700))","v":4},{"$f":"IF(C124=\"\",\"\",LOOKUP(C124,zdroj!$E$3:$E$700,zdroj!$G$3:$G$700))","v":"T-Net"},{"$f":"IF(C124=\"\",\"\",LOOKUP(C124,zdroj!$E$3:$E$700,zdroj!$H$3:$H$700))","v":"MSB"},{"$f":"+IF(C124=\"\",\"\",LOOKUP(C124,zdroj!$E$3:$E$700,zdroj!$I$3:$I$700))","v":"Dokončeno"},{"$f":"IF(J124=\"\",\"\",LOOKUP(J124,zdroj!$E$3:$E$700,zdroj!$F$3:$F$700))","v":""},"","",{"$f":"IF(J124=\"\",\"\",LOOKUP(J124,zdroj!$E$3:$E$700,zdroj!$L$3:$L$700))","v":""},{"$f":"IF(J124=\"\",\"\",LOOKUP(J124,zdroj!$E$3:$E$700,zdroj!$G$3:$G$700))","v":""},{"$f":"IF(J124=\"\",\"\",LOOKUP(J124,zdroj!$E$3:$E$700,zdroj!$H$3:$H$700))","v":""},{"$f":"+IF(J124=\"\",\"\",LOOKUP(J124,zdroj!$E$3:$E$700,zdroj!$I$3:$I$700))","v":""},{"$f":"IF(Q124=\"\",\"\",LOOKUP(Q124,zdroj!$E$3:$E$700,zdroj!$F$3:$F$700))","v":""},"","",{"$f":"IF(Q124=\"\",\"\",LOOKUP(Q124,zdroj!$E$3:$E$700,zdroj!$L$3:$L$700))","v":""},{"$f":"IF(Q124=\"\",\"\",LOOKUP(Q124,zdroj!$E$3:$E$700,zdroj!$G$3:$G$700))","v":""},{"$f":"IF(Q124=\"\",\"\",LOOKUP(Q124,zdroj!$E$3:$E$700,zdroj!$H$3:$H$700))","v":""},{"$f":"+IF(Q124=\"\",\"\",LOOKUP(Q124,zdroj!$E$3:$E$700,zdroj!$I$3:$I$700))","v":""},{"$f":"IF(X124=\"\",\"\",LOOKUP(X124,zdroj!$E$3:$E$700,zdroj!$F$3:$F$700))","v":""},"","",{"$f":"IF(X124=\"\",\"\",LOOKUP(X124,zdroj!$E$3:$E$700,zdroj!$L$3:$L$700))","v":""},{"$f":"IF(X124=\"\",\"\",LOOKUP(X124,zdroj!$E$3:$E$700,zdroj!$G$3:$G$700))","v":""},{"$f":"IF(X124=\"\",\"\",LOOKUP(X124,zdroj!$E$3:$E$700,zdroj!$H$3:$H$700))","v":""},{"$f":"+IF(X124=\"\",\"\",LOOKUP(X124,zdroj!$E$3:$E$700,zdroj!$I$3:$I$700))","v":""},{"$f":"IF(AE124=\"\",\"\",LOOKUP(AE124,zdroj!$E$3:$E$700,zdroj!$F$3:$F$700))","v":""},"","",{"$f":"IF(AE124=\"\",\"\",LOOKUP(AE124,zdroj!$E$3:$E$700,zdroj!$L$3:$L$700))","v":""},{"$f":"IF(AE124=\"\",\"\",LOOKUP(AE124,zdroj!$E$3:$E$700,zdroj!$G$3:$G$700))","v":""},{"$f":"IF(AE124=\"\",\"\",LOOKUP(AE124,zdroj!$E$3:$E$700,zdroj!$H$3:$H$700))","v":""},{"$f":"+IF(AE124=\"\",\"\",LOOKUP(AE124,zdroj!$E$3:$E$700,zdroj!$I$3:$I$700))","v":""}]
[{"$f":"IF(C125=\"\",\"\",LOOKUP(C125,zdroj!$E$3:$E$700,zdroj!$F$3:$F$700))","v":"13:00:00"},18,648,{"$f":"IF(C125=\"\",\"\",LOOKUP(C125,zdroj!$E$3:$E$700,zdroj!$L$3:$L$700))","v":1},{"$f":"IF(C125=\"\",\"\",LOOKUP(C125,zdroj!$E$3:$E$700,zdroj!$G$3:$G$700))","v":"TBA/TEVA"},{"$f":"IF(C125=\"\",\"\",LOOKUP(C125,zdroj!$E$3:$E$700,zdroj!$H$3:$H$700))","v":"TOPTRANS"},{"$f":"+IF(C125=\"\",\"\",LOOKUP(C125,zdroj!$E$3:$E$700,zdroj!$I$3:$I$700))","v":"Dokončeno"},{"$f":"IF(J125=\"\",\"\",LOOKUP(J125,zdroj!$E$3:$E$700,zdroj!$F$3:$F$700))","v":""},"","",{"$f":"IF(J125=\"\",\"\",LOOKUP(J125,zdroj!$E$3:$E$700,zdroj!$L$3:$L$700))","v":""},{"$f":"IF(J125=\"\",\"\",LOOKUP(J125,zdroj!$E$3:$E$700,zdroj!$G$3:$G$700))","v":""},{"$f":"IF(J125=\"\",\"\",LOOKUP(J125,zdroj!$E$3:$E$700,zdroj!$H$3:$H$700))","v":""},{"$f":"+IF(J125=\"\",\"\",LOOKUP(J125,zdroj!$E$3:$E$700,zdroj!$I$3:$I$700))","v":""},{"$f":"IF(Q125=\"\",\"\",LOOKUP(Q125,zdroj!$E$3:$E$700,zdroj!$F$3:$F$700))","v":""},{"$f":"+IF(Q$107>P124,P124+1,\"\")","v":""},"",{"$f":"IF(Q125=\"\",\"\",LOOKUP(Q125,zdroj!$E$3:$E$700,zdroj!$L$3:$L$700))","v":""},{"$f":"IF(Q125=\"\",\"\",LOOKUP(Q125,zdroj!$E$3:$E$700,zdroj!$G$3:$G$700))","v":""},{"$f":"IF(Q125=\"\",\"\",LOOKUP(Q125,zdroj!$E$3:$E$700,zdroj!$H$3:$H$700))","v":""},{"$f":"+IF(Q125=\"\",\"\",LOOKUP(Q125,zdroj!$E$3:$E$700,zdroj!$I$3:$I$700))","v":""},{"$f":"IF(X125=\"\",\"\",LOOKUP(X125,zdroj!$E$3:$E$700,zdroj!$F$3:$F$700))","v":""},"","",{"$f":"IF(X125=\"\",\"\",LOOKUP(X125,zdroj!$E$3:$E$700,zdroj!$L$3:$L$700))","v":""},{"$f":"IF(X125=\"\",\"\",LOOKUP(X125,zdroj!$E$3:$E$700,zdroj!$G$3:$G$700))","v":""},{"$f":"IF(X125=\"\",\"\",LOOKUP(X125,zdroj!$E$3:$E$700,zdroj!$H$3:$H$700))","v":""},{"$f":"+IF(X125=\"\",\"\",LOOKUP(X125,zdroj!$E$3:$E$700,zdroj!$I$3:$I$700))","v":""},{"$f":"IF(AE125=\"\",\"\",LOOKUP(AE125,zdroj!$E$3:$E$700,zdroj!$F$3:$F$700))","v":""},"","",{"$f":"IF(AE125=\"\",\"\",LOOKUP(AE125,zdroj!$E$3:$E$700,zdroj!$L$3:$L$700))","v":""},{"$f":"IF(AE125=\"\",\"\",LOOKUP(AE125,zdroj!$E$3:$E$700,zdroj!$G$3:$G$700))","v":""},{"$f":"IF(AE125=\"\",\"\",LOOKUP(AE125,zdroj!$E$3:$E$700,zdroj!$H$3:$H$700))","v":""},{"$f":"+IF(AE125=\"\",\"\",LOOKUP(AE125,zdroj!$E$3:$E$700,zdroj!$I$3:$I$700))","v":""}]
[{"$f":"IF(C126=\"\",\"\",LOOKUP(C126,zdroj!$E$3:$E$700,zdroj!$F$3:$F$700))","v":"00:00:00"},19,649,{"$f":"IF(C126=\"\",\"\",LOOKUP(C126,zdroj!$E$3:$E$700,zdroj!$L$3:$L$700))","v":1},{"$f":"IF(C126=\"\",\"\",LOOKUP(C126,zdroj!$E$3:$E$700,zdroj!$G$3:$G$700))","v":"Faurecie "},{"$f":"IF(C126=\"\",\"\",LOOKUP(C126,zdroj!$E$3:$E$700,zdroj!$H$3:$H$700))","v":"vlastní"},{"$f":"+IF(C126=\"\",\"\",LOOKUP(C126,zdroj!$E$3:$E$700,zdroj!$I$3:$I$700))","v":"Dokončeno"},{"$f":"IF(J126=\"\",\"\",LOOKUP(J126,zdroj!$E$3:$E$700,zdroj!$F$3:$F$700))","v":""},"","",{"$f":"IF(J126=\"\",\"\",LOOKUP(J126,zdroj!$E$3:$E$700,zdroj!$L$3:$L$700))","v":""},{"$f":"IF(J126=\"\",\"\",LOOKUP(J126,zdroj!$E$3:$E$700,zdroj!$G$3:$G$700))","v":""},{"$f":"IF(J126=\"\",\"\",LOOKUP(J126,zdroj!$E$3:$E$700,zdroj!$H$3:$H$700))","v":""},{"$f":"+IF(J126=\"\",\"\",LOOKUP(J126,zdroj!$E$3:$E$700,zdroj!$I$3:$I$700))","v":""},{"$f":"IF(Q126=\"\",\"\",LOOKUP(Q126,zdroj!$E$3:$E$700,zdroj!$F$3:$F$700))","v":""},"","",{"$f":"IF(Q126=\"\",\"\",LOOKUP(Q126,zdroj!$E$3:$E$700,zdroj!$L$3:$L$700))","v":""},{"$f":"IF(Q126=\"\",\"\",LOOKUP(Q126,zdroj!$E$3:$E$700,zdroj!$G$3:$G$700))","v":""},{"$f":"IF(Q126=\"\",\"\",LOOKUP(Q126,zdroj!$E$3:$E$700,zdroj!$H$3:$H$700))","v":""},{"$f":"+IF(Q126=\"\",\"\",LOOKUP(Q126,zdroj!$E$3:$E$700,zdroj!$I$3:$I$700))","v":""},{"$f":"IF(X126=\"\",\"\",LOOKUP(X126,zdroj!$E$3:$E$700,zdroj!$F$3:$F$700))","v":""},"","",{"$f":"IF(X126=\"\",\"\",LOOKUP(X126,zdroj!$E$3:$E$700,zdroj!$L$3:$L$700))","v":""},{"$f":"IF(X126=\"\",\"\",LOOKUP(X126,zdroj!$E$3:$E$700,zdroj!$G$3:$G$700))","v":""},{"$f":"IF(X126=\"\",\"\",LOOKUP(X126,zdroj!$E$3:$E$700,zdroj!$H$3:$H$700))","v":""},{"$f":"+IF(X126=\"\",\"\",LOOKUP(X126,zdroj!$E$3:$E$700,zdroj!$I$3:$I$700))","v":""},{"$f":"IF(AE126=\"\",\"\",LOOKUP(AE126,zdroj!$E$3:$E$700,zdroj!$F$3:$F$700))","v":""},"","",{"$f":"IF(AE126=\"\",\"\",LOOKUP(AE126,zdroj!$E$3:$E$700,zdroj!$L$3:$L$700))","v":""},{"$f":"IF(AE126=\"\",\"\",LOOKUP(AE126,zdroj!$E$3:$E$700,zdroj!$G$3:$G$700))","v":""},{"$f":"IF(AE126=\"\",\"\",LOOKUP(AE126,zdroj!$E$3:$E$700,zdroj!$H$3:$H$700))","v":""},{"$f":"+IF(AE126=\"\",\"\",LOOKUP(AE126,zdroj!$E$3:$E$700,zdroj!$I$3:$I$700))","v":""}]
[{"$f":"IF(C127=\"\",\"\",LOOKUP(C127,zdroj!$E$3:$E$700,zdroj!$F$3:$F$700))","v":"00:00:00"},20,650,{"$f":"IF(C127=\"\",\"\",LOOKUP(C127,zdroj!$E$3:$E$700,zdroj!$L$3:$L$700))","v":4},{"$f":"IF(C127=\"\",\"\",LOOKUP(C127,zdroj!$E$3:$E$700,zdroj!$G$3:$G$700))","v":"Filmer"},{"$f":"IF(C127=\"\",\"\",LOOKUP(C127,zdroj!$E$3:$E$700,zdroj!$H$3:$H$700))","v":"Ewals"},{"$f":"+IF(C127=\"\",\"\",LOOKUP(C127,zdroj!$E$3:$E$700,zdroj!$I$3:$I$700))","v":"Dokončeno"},{"$f":"IF(J127=\"\",\"\",LOOKUP(J127,zdroj!$E$3:$E$700,zdroj!$F$3:$F$700))","v":""},"","",{"$f":"IF(J127=\"\",\"\",LOOKUP(J127,zdroj!$E$3:$E$700,zdroj!$L$3:$L$700))","v":""},{"$f":"IF(J127=\"\",\"\",LOOKUP(J127,zdroj!$E$3:$E$700,zdroj!$G$3:$G$700))","v":""},{"$f":"IF(J127=\"\",\"\",LOOKUP(J127,zdroj!$E$3:$E$700,zdroj!$H$3:$H$700))","v":""},{"$f":"+IF(J127=\"\",\"\",LOOKUP(J127,zdroj!$E$3:$E$700,zdroj!$I$3:$I$700))","v":""},{"$f":"IF(Q127=\"\",\"\",LOOKUP(Q127,zdroj!$E$3:$E$700,zdroj!$F$3:$F$700))","v":""},"","",{"$f":"IF(Q127=\"\",\"\",LOOKUP(Q127,zdroj!$E$3:$E$700,zdroj!$L$3:$L$700))","v":""},{"$f":"IF(Q127=\"\",\"\",LOOKUP(Q127,zdroj!$E$3:$E$700,zdroj!$G$3:$G$700))","v":""},{"$f":"IF(Q127=\"\",\"\",LOOKUP(Q127,zdroj!$E$3:$E$700,zdroj!$H$3:$H$700))","v":""},{"$f":"+IF(Q127=\"\",\"\",LOOKUP(Q127,zdroj!$E$3:$E$700,zdroj!$I$3:$I$700))","v":""},{"$f":"IF(X127=\"\",\"\",LOOKUP(X127,zdroj!$E$3:$E$700,zdroj!$F$3:$F$700))","v":""},"","",{"$f":"IF(X127=\"\",\"\",LOOKUP(X127,zdroj!$E$3:$E$700,zdroj!$L$3:$L$700))","v":""},{"$f":"IF(X127=\"\",\"\",LOOKUP(X127,zdroj!$E$3:$E$700,zdroj!$G$3:$G$700))","v":""},{"$f":"IF(X127=\"\",\"\",LOOKUP(X127,zdroj!$E$3:$E$700,zdroj!$H$3:$H$700))","v":""},{"$f":"+IF(X127=\"\",\"\",LOOKUP(X127,zdroj!$E$3:$E$700,zdroj!$I$3:$I$700))","v":""},{"$f":"IF(AE127=\"\",\"\",LOOKUP(AE127,zdroj!$E$3:$E$700,zdroj!$F$3:$F$700))","v":""},"","",{"$f":"IF(AE127=\"\",\"\",LOOKUP(AE127,zdroj!$E$3:$E$700,zdroj!$L$3:$L$700))","v":""},{"$f":"IF(AE127=\"\",\"\",LOOKUP(AE127,zdroj!$E$3:$E$700,zdroj!$G$3:$G$700))","v":""},{"$f":"IF(AE127=\"\",\"\",LOOKUP(AE127,zdroj!$E$3:$E$700,zdroj!$H$3:$H$700))","v":""},{"$f":"+IF(AE127=\"\",\"\",LOOKUP(AE127,zdroj!$E$3:$E$700,zdroj!$I$3:$I$700))","v":""}]
[{"$f":"IF(C128=\"\",\"\",LOOKUP(C128,zdroj!$E$3:$E$700,zdroj!$F$3:$F$700))","v":""},"","",{"$f":"IF(C128=\"\",\"\",LOOKUP(C128,zdroj!$E$3:$E$700,zdroj!$L$3:$L$700))","v":""},{"$f":"IF(C128=\"\",\"\",LOOKUP(C128,zdroj!$E$3:$E$700,zdroj!$G$3:$G$700))","v":""},{"$f":"IF(C128=\"\",\"\",LOOKUP(C128,zdroj!$E$3:$E$700,zdroj!$H$3:$H$700))","v":""},{"$f":"+IF(C128=\"\",\"\",LOOKUP(C128,zdroj!$E$3:$E$700,zdroj!$I$3:$I$700))","v":""},{"$f":"IF(J128=\"\",\"\",LOOKUP(J128,zdroj!$E$3:$E$700,zdroj!$F$3:$F$700))","v":""},"","",{"$f":"IF(J128=\"\",\"\",LOOKUP(J128,zdroj!$E$3:$E$700,zdroj!$L$3:$L$700))","v":""},{"$f":"IF(J128=\"\",\"\",LOOKUP(J128,zdroj!$E$3:$E$700,zdroj!$G$3:$G$700))","v":""},{"$f":"IF(J128=\"\",\"\",LOOKUP(J128,zdroj!$E$3:$E$700,zdroj!$H$3:$H$700))","v":""},{"$f":"+IF(J128=\"\",\"\",LOOKUP(J128,zdroj!$E$3:$E$700,zdroj!$I$3:$I$700))","v":""},{"$f":"IF(Q128=\"\",\"\",LOOKUP(Q128,zdroj!$E$3:$E$700,zdroj!$F$3:$F$700))","v":""},"","",{"$f":"IF(Q128=\"\",\"\",LOOKUP(Q128,zdroj!$E$3:$E$700,zdroj!$L$3:$L$700))","v":""},{"$f":"IF(Q128=\"\",\"\",LOOKUP(Q128,zdroj!$E$3:$E$700,zdroj!$G$3:$G$700))","v":""},{"$f":"IF(Q128=\"\",\"\",LOOKUP(Q128,zdroj!$E$3:$E$700,zdroj!$H$3:$H$700))","v":""},{"$f":"+IF(Q128=\"\",\"\",LOOKUP(Q128,zdroj!$E$3:$E$700,zdroj!$I$3:$I$700))","v":""},{"$f":"IF(X128=\"\",\"\",LOOKUP(X128,zdroj!$E$3:$E$700,zdroj!$F$3:$F$700))","v":""},"","",{"$f":"IF(X128=\"\",\"\",LOOKUP(X128,zdroj!$E$3:$E$700,zdroj!$L$3:$L$700))","v":""},{"$f":"IF(X128=\"\",\"\",LOOKUP(X128,zdroj!$E$3:$E$700,zdroj!$G$3:$G$700))","v":""},{"$f":"IF(X128=\"\",\"\",LOOKUP(X128,zdroj!$E$3:$E$700,zdroj!$H$3:$H$700))","v":""},{"$f":"+IF(X128=\"\",\"\",LOOKUP(X128,zdroj!$E$3:$E$700,zdroj!$I$3:$I$700))","v":""},{"$f":"IF(AE128=\"\",\"\",LOOKUP(AE128,zdroj!$E$3:$E$700,zdroj!$F$3:$F$700))","v":""},"","",{"$f":"IF(AE128=\"\",\"\",LOOKUP(AE128,zdroj!$E$3:$E$700,zdroj!$L$3:$L$700))","v":""},{"$f":"IF(AE128=\"\",\"\",LOOKUP(AE128,zdroj!$E$3:$E$700,zdroj!$G$3:$G$700))","v":""},{"$f":"IF(AE128=\"\",\"\",LOOKUP(AE128,zdroj!$E$3:$E$700,zdroj!$H$3:$H$700))","v":""},{"$f":"+IF(AE128=\"\",\"\",LOOKUP(AE128,zdroj!$E$3:$E$700,zdroj!$I$3:$I$700))","v":""}]
[{"$f":"IF(C129=\"\",\"\",LOOKUP(C129,zdroj!$E$3:$E$700,zdroj!$F$3:$F$700))","v":""},"","",{"$f":"IF(C129=\"\",\"\",LOOKUP(C129,zdroj!$E$3:$E$700,zdroj!$L$3:$L$700))","v":""},{"$f":"IF(C129=\"\",\"\",LOOKUP(C129,zdroj!$E$3:$E$700,zdroj!$G$3:$G$700))","v":""},{"$f":"IF(C129=\"\",\"\",LOOKUP(C129,zdroj!$E$3:$E$700,zdroj!$H$3:$H$700))","v":""},{"$f":"+IF(C129=\"\",\"\",LOOKUP(C129,zdroj!$E$3:$E$700,zdroj!$I$3:$I$700))","v":""},{"$f":"IF(J129=\"\",\"\",LOOKUP(J129,zdroj!$E$3:$E$700,zdroj!$F$3:$F$700))","v":""},"","",{"$f":"IF(J129=\"\",\"\",LOOKUP(J129,zdroj!$E$3:$E$700,zdroj!$L$3:$L$700))","v":""},{"$f":"IF(J129=\"\",\"\",LOOKUP(J129,zdroj!$E$3:$E$700,zdroj!$G$3:$G$700))","v":""},{"$f":"IF(J129=\"\",\"\",LOOKUP(J129,zdroj!$E$3:$E$700,zdroj!$H$3:$H$700))","v":""},{"$f":"+IF(J129=\"\",\"\",LOOKUP(J129,zdroj!$E$3:$E$700,zdroj!$I$3:$I$700))","v":""},{"$f":"IF(Q129=\"\",\"\",LOOKUP(Q129,zdroj!$E$3:$E$700,zdroj!$F$3:$F$700))","v":""},"","",{"$f":"IF(Q129=\"\",\"\",LOOKUP(Q129,zdroj!$E$3:$E$700,zdroj!$L$3:$L$700))","v":""},{"$f":"IF(Q129=\"\",\"\",LOOKUP(Q129,zdroj!$E$3:$E$700,zdroj!$G$3:$G$700))","v":""},{"$f":"IF(Q129=\"\",\"\",LOOKUP(Q129,zdroj!$E$3:$E$700,zdroj!$H$3:$H$700))","v":""},{"$f":"+IF(Q129=\"\",\"\",LOOKUP(Q129,zdroj!$E$3:$E$700,zdroj!$I$3:$I$700))","v":""},{"$f":"IF(X129=\"\",\"\",LOOKUP(X129,zdroj!$E$3:$E$700,zdroj!$F$3:$F$700))","v":""},"","",{"$f":"IF(X129=\"\",\"\",LOOKUP(X129,zdroj!$E$3:$E$700,zdroj!$L$3:$L$700))","v":""},{"$f":"IF(X129=\"\",\"\",LOOKUP(X129,zdroj!$E$3:$E$700,zdroj!$G$3:$G$700))","v":""},{"$f":"IF(X129=\"\",\"\",LOOKUP(X129,zdroj!$E$3:$E$700,zdroj!$H$3:$H$700))","v":""},{"$f":"+IF(X129=\"\",\"\",LOOKUP(X129,zdroj!$E$3:$E$700,zdroj!$I$3:$I$700))","v":""},{"$f":"IF(AE129=\"\",\"\",LOOKUP(AE129,zdroj!$E$3:$E$700,zdroj!$F$3:$F$700))","v":""},"","",{"$f":"IF(AE129=\"\",\"\",LOOKUP(AE129,zdroj!$E$3:$E$700,zdroj!$L$3:$L$700))","v":""},{"$f":"IF(AE129=\"\",\"\",LOOKUP(AE129,zdroj!$E$3:$E$700,zdroj!$G$3:$G$700))","v":""},{"$f":"IF(AE129=\"\",\"\",LOOKUP(AE129,zdroj!$E$3:$E$700,zdroj!$H$3:$H$700))","v":""},{"$f":"+IF(AE129=\"\",\"\",LOOKUP(AE129,zdroj!$E$3:$E$700,zdroj!$I$3:$I$700))","v":""}]
[{"$f":"IF(C130=\"\",\"\",LOOKUP(C130,zdroj!$E$3:$E$700,zdroj!$F$3:$F$700))","v":""},"","",{"$f":"IF(C130=\"\",\"\",LOOKUP(C130,zdroj!$E$3:$E$700,zdroj!$L$3:$L$700))","v":""},{"$f":"IF(C130=\"\",\"\",LOOKUP(C130,zdroj!$E$3:$E$700,zdroj!$G$3:$G$700))","v":""},{"$f":"IF(C130=\"\",\"\",LOOKUP(C130,zdroj!$E$3:$E$700,zdroj!$H$3:$H$700))","v":""},{"$f":"+IF(C130=\"\",\"\",LOOKUP(C130,zdroj!$E$3:$E$700,zdroj!$I$3:$I$700))","v":""},{"$f":"IF(J130=\"\",\"\",LOOKUP(J130,zdroj!$E$3:$E$700,zdroj!$F$3:$F$700))","v":""},"","",{"$f":"IF(J130=\"\",\"\",LOOKUP(J130,zdroj!$E$3:$E$700,zdroj!$L$3:$L$700))","v":""},{"$f":"IF(J130=\"\",\"\",LOOKUP(J130,zdroj!$E$3:$E$700,zdroj!$G$3:$G$700))","v":""},{"$f":"IF(J130=\"\",\"\",LOOKUP(J130,zdroj!$E$3:$E$700,zdroj!$H$3:$H$700))","v":""},{"$f":"+IF(J130=\"\",\"\",LOOKUP(J130,zdroj!$E$3:$E$700,zdroj!$I$3:$I$700))","v":""},{"$f":"IF(Q130=\"\",\"\",LOOKUP(Q130,zdroj!$E$3:$E$700,zdroj!$F$3:$F$700))","v":""},"","",{"$f":"IF(Q130=\"\",\"\",LOOKUP(Q130,zdroj!$E$3:$E$700,zdroj!$L$3:$L$700))","v":""},{"$f":"IF(Q130=\"\",\"\",LOOKUP(Q130,zdroj!$E$3:$E$700,zdroj!$G$3:$G$700))","v":""},{"$f":"IF(Q130=\"\",\"\",LOOKUP(Q130,zdroj!$E$3:$E$700,zdroj!$H$3:$H$700))","v":""},{"$f":"+IF(Q130=\"\",\"\",LOOKUP(Q130,zdroj!$E$3:$E$700,zdroj!$I$3:$I$700))","v":""},{"$f":"IF(X130=\"\",\"\",LOOKUP(X130,zdroj!$E$3:$E$700,zdroj!$F$3:$F$700))","v":""},"","",{"$f":"IF(X130=\"\",\"\",LOOKUP(X130,zdroj!$E$3:$E$700,zdroj!$L$3:$L$700))","v":""},{"$f":"IF(X130=\"\",\"\",LOOKUP(X130,zdroj!$E$3:$E$700,zdroj!$G$3:$G$700))","v":""},{"$f":"IF(X130=\"\",\"\",LOOKUP(X130,zdroj!$E$3:$E$700,zdroj!$H$3:$H$700))","v":""},{"$f":"+IF(X130=\"\",\"\",LOOKUP(X130,zdroj!$E$3:$E$700,zdroj!$I$3:$I$700))","v":""},{"$f":"IF(AE130=\"\",\"\",LOOKUP(AE130,zdroj!$E$3:$E$700,zdroj!$F$3:$F$700))","v":""},"","",{"$f":"IF(AE130=\"\",\"\",LOOKUP(AE130,zdroj!$E$3:$E$700,zdroj!$L$3:$L$700))","v":""},{"$f":"IF(AE130=\"\",\"\",LOOKUP(AE130,zdroj!$E$3:$E$700,zdroj!$G$3:$G$700))","v":""},{"$f":"IF(AE130=\"\",\"\",LOOKUP(AE130,zdroj!$E$3:$E$700,zdroj!$H$3:$H$700))","v":""},{"$f":"+IF(AE130=\"\",\"\",LOOKUP(AE130,zdroj!$E$3:$E$700,zdroj!$I$3:$I$700))","v":""}]
[{"$f":"IF(C131=\"\",\"\",LOOKUP(C131,zdroj!$E$3:$E$700,zdroj!$F$3:$F$700))","v":""},"","",{"$f":"IF(C131=\"\",\"\",LOOKUP(C131,zdroj!$E$3:$E$700,zdroj!$L$3:$L$700))","v":""},{"$f":"IF(C131=\"\",\"\",LOOKUP(C131,zdroj!$E$3:$E$700,zdroj!$G$3:$G$700))","v":""},{"$f":"IF(C131=\"\",\"\",LOOKUP(C131,zdroj!$E$3:$E$700,zdroj!$H$3:$H$700))","v":""},{"$f":"+IF(C131=\"\",\"\",LOOKUP(C131,zdroj!$E$3:$E$700,zdroj!$I$3:$I$700))","v":""},{"$f":"IF(J131=\"\",\"\",LOOKUP(J131,zdroj!$E$3:$E$700,zdroj!$F$3:$F$700))","v":""},"","",{"$f":"IF(J131=\"\",\"\",LOOKUP(J131,zdroj!$E$3:$E$700,zdroj!$L$3:$L$700))","v":""},{"$f":"IF(J131=\"\",\"\",LOOKUP(J131,zdroj!$E$3:$E$700,zdroj!$G$3:$G$700))","v":""},{"$f":"IF(J131=\"\",\"\",LOOKUP(J131,zdroj!$E$3:$E$700,zdroj!$H$3:$H$700))","v":""},{"$f":"+IF(J131=\"\",\"\",LOOKUP(J131,zdroj!$E$3:$E$700,zdroj!$I$3:$I$700))","v":""},{"$f":"IF(Q131=\"\",\"\",LOOKUP(Q131,zdroj!$E$3:$E$700,zdroj!$F$3:$F$700))","v":""},"","",{"$f":"IF(Q131=\"\",\"\",LOOKUP(Q131,zdroj!$E$3:$E$700,zdroj!$L$3:$L$700))","v":""},{"$f":"IF(Q131=\"\",\"\",LOOKUP(Q131,zdroj!$E$3:$E$700,zdroj!$G$3:$G$700))","v":""},{"$f":"IF(Q131=\"\",\"\",LOOKUP(Q131,zdroj!$E$3:$E$700,zdroj!$H$3:$H$700))","v":""},{"$f":"+IF(Q131=\"\",\"\",LOOKUP(Q131,zdroj!$E$3:$E$700,zdroj!$I$3:$I$700))","v":""},{"$f":"IF(X131=\"\",\"\",LOOKUP(X131,zdroj!$E$3:$E$700,zdroj!$F$3:$F$700))","v":""},"","",{"$f":"IF(X131=\"\",\"\",LOOKUP(X131,zdroj!$E$3:$E$700,zdroj!$L$3:$L$700))","v":""},{"$f":"IF(X131=\"\",\"\",LOOKUP(X131,zdroj!$E$3:$E$700,zdroj!$G$3:$G$700))","v":""},{"$f":"IF(X131=\"\",\"\",LOOKUP(X131,zdroj!$E$3:$E$700,zdroj!$H$3:$H$700))","v":""},{"$f":"+IF(X131=\"\",\"\",LOOKUP(X131,zdroj!$E$3:$E$700,zdroj!$I$3:$I$700))","v":""},{"$f":"IF(AE131=\"\",\"\",LOOKUP(AE131,zdroj!$E$3:$E$700,zdroj!$F$3:$F$700))","v":""},"","",{"$f":"IF(AE131=\"\",\"\",LOOKUP(AE131,zdroj!$E$3:$E$700,zdroj!$L$3:$L$700))","v":""},{"$f":"IF(AE131=\"\",\"\",LOOKUP(AE131,zdroj!$E$3:$E$700,zdroj!$G$3:$G$700))","v":""},{"$f":"IF(AE131=\"\",\"\",LOOKUP(AE131,zdroj!$E$3:$E$700,zdroj!$H$3:$H$700))","v":""},{"$f":"+IF(AE131=\"\",\"\",LOOKUP(AE131,zdroj!$E$3:$E$700,zdroj!$I$3:$I$700))","v":""}]
[{"$f":"IF(C132=\"\",\"\",LOOKUP(C132,zdroj!$E$3:$E$700,zdroj!$F$3:$F$700))","v":""},"","",{"$f":"IF(C132=\"\",\"\",LOOKUP(C132,zdroj!$E$3:$E$700,zdroj!$L$3:$L$700))","v":""},{"$f":"IF(C132=\"\",\"\",LOOKUP(C132,zdroj!$E$3:$E$700,zdroj!$G$3:$G$700))","v":""},{"$f":"IF(C132=\"\",\"\",LOOKUP(C132,zdroj!$E$3:$E$700,zdroj!$H$3:$H$700))","v":""},{"$f":"+IF(C132=\"\",\"\",LOOKUP(C132,zdroj!$E$3:$E$700,zdroj!$I$3:$I$700))","v":""},{"$f":"IF(J132=\"\",\"\",LOOKUP(J132,zdroj!$E$3:$E$700,zdroj!$F$3:$F$700))","v":""},"","",{"$f":"IF(J132=\"\",\"\",LOOKUP(J132,zdroj!$E$3:$E$700,zdroj!$L$3:$L$700))","v":""},{"$f":"IF(J132=\"\",\"\",LOOKUP(J132,zdroj!$E$3:$E$700,zdroj!$G$3:$G$700))","v":""},{"$f":"IF(J132=\"\",\"\",LOOKUP(J132,zdroj!$E$3:$E$700,zdroj!$H$3:$H$700))","v":""},{"$f":"+IF(J132=\"\",\"\",LOOKUP(J132,zdroj!$E$3:$E$700,zdroj!$I$3:$I$700))","v":""},{"$f":"IF(Q132=\"\",\"\",LOOKUP(Q132,zdroj!$E$3:$E$700,zdroj!$F$3:$F$700))","v":""},"","",{"$f":"IF(Q132=\"\",\"\",LOOKUP(Q132,zdroj!$E$3:$E$700,zdroj!$L$3:$L$700))","v":""},{"$f":"IF(Q132=\"\",\"\",LOOKUP(Q132,zdroj!$E$3:$E$700,zdroj!$G$3:$G$700))","v":""},{"$f":"IF(Q132=\"\",\"\",LOOKUP(Q132,zdroj!$E$3:$E$700,zdroj!$H$3:$H$700))","v":""},{"$f":"+IF(Q132=\"\",\"\",LOOKUP(Q132,zdroj!$E$3:$E$700,zdroj!$I$3:$I$700))","v":""},{"$f":"IF(X132=\"\",\"\",LOOKUP(X132,zdroj!$E$3:$E$700,zdroj!$F$3:$F$700))","v":""},"","",{"$f":"IF(X132=\"\",\"\",LOOKUP(X132,zdroj!$E$3:$E$700,zdroj!$L$3:$L$700))","v":""},{"$f":"IF(X132=\"\",\"\",LOOKUP(X132,zdroj!$E$3:$E$700,zdroj!$G$3:$G$700))","v":""},{"$f":"IF(X132=\"\",\"\",LOOKUP(X132,zdroj!$E$3:$E$700,zdroj!$H$3:$H$700))","v":""},{"$f":"+IF(X132=\"\",\"\",LOOKUP(X132,zdroj!$E$3:$E$700,zdroj!$I$3:$I$700))","v":""},{"$f":"IF(AE132=\"\",\"\",LOOKUP(AE132,zdroj!$E$3:$E$700,zdroj!$F$3:$F$700))","v":""},"","",{"$f":"IF(AE132=\"\",\"\",LOOKUP(AE132,zdroj!$E$3:$E$700,zdroj!$L$3:$L$700))","v":""},{"$f":"IF(AE132=\"\",\"\",LOOKUP(AE132,zdroj!$E$3:$E$700,zdroj!$G$3:$G$700))","v":""},{"$f":"IF(AE132=\"\",\"\",LOOKUP(AE132,zdroj!$E$3:$E$700,zdroj!$H$3:$H$700))","v":""},{"$f":"+IF(AE132=\"\",\"\",LOOKUP(AE132,zdroj!$E$3:$E$700,zdroj!$I$3:$I$700))","v":""}]
[{"$f":"IF(C133=\"\",\"\",LOOKUP(C133,zdroj!$E$3:$E$700,zdroj!$F$3:$F$700))","v":""},"","",{"$f":"IF(C133=\"\",\"\",LOOKUP(C133,zdroj!$E$3:$E$700,zdroj!$L$3:$L$700))","v":""},{"$f":"IF(C133=\"\",\"\",LOOKUP(C133,zdroj!$E$3:$E$700,zdroj!$G$3:$G$700))","v":""},{"$f":"IF(C133=\"\",\"\",LOOKUP(C133,zdroj!$E$3:$E$700,zdroj!$H$3:$H$700))","v":""},{"$f":"+IF(C133=\"\",\"\",LOOKUP(C133,zdroj!$E$3:$E$700,zdroj!$I$3:$I$700))","v":""},{"$f":"IF(J133=\"\",\"\",LOOKUP(J133,zdroj!$E$3:$E$700,zdroj!$F$3:$F$700))","v":""},"","",{"$f":"IF(J133=\"\",\"\",LOOKUP(J133,zdroj!$E$3:$E$700,zdroj!$L$3:$L$700))","v":""},{"$f":"IF(J133=\"\",\"\",LOOKUP(J133,zdroj!$E$3:$E$700,zdroj!$G$3:$G$700))","v":""},{"$f":"IF(J133=\"\",\"\",LOOKUP(J133,zdroj!$E$3:$E$700,zdroj!$H$3:$H$700))","v":""},{"$f":"+IF(J133=\"\",\"\",LOOKUP(J133,zdroj!$E$3:$E$700,zdroj!$I$3:$I$700))","v":""},{"$f":"IF(Q133=\"\",\"\",LOOKUP(Q133,zdroj!$E$3:$E$700,zdroj!$F$3:$F$700))","v":""},"","",{"$f":"IF(Q133=\"\",\"\",LOOKUP(Q133,zdroj!$E$3:$E$700,zdroj!$L$3:$L$700))","v":""},{"$f":"IF(Q133=\"\",\"\",LOOKUP(Q133,zdroj!$E$3:$E$700,zdroj!$G$3:$G$700))","v":""},{"$f":"IF(Q133=\"\",\"\",LOOKUP(Q133,zdroj!$E$3:$E$700,zdroj!$H$3:$H$700))","v":""},{"$f":"+IF(Q133=\"\",\"\",LOOKUP(Q133,zdroj!$E$3:$E$700,zdroj!$I$3:$I$700))","v":""},{"$f":"IF(X133=\"\",\"\",LOOKUP(X133,zdroj!$E$3:$E$700,zdroj!$F$3:$F$700))","v":""},"","",{"$f":"IF(X133=\"\",\"\",LOOKUP(X133,zdroj!$E$3:$E$700,zdroj!$L$3:$L$700))","v":""},{"$f":"IF(X133=\"\",\"\",LOOKUP(X133,zdroj!$E$3:$E$700,zdroj!$G$3:$G$700))","v":""},{"$f":"IF(X133=\"\",\"\",LOOKUP(X133,zdroj!$E$3:$E$700,zdroj!$H$3:$H$700))","v":""},{"$f":"+IF(X133=\"\",\"\",LOOKUP(X133,zdroj!$E$3:$E$700,zdroj!$I$3:$I$700))","v":""},{"$f":"IF(AE133=\"\",\"\",LOOKUP(AE133,zdroj!$E$3:$E$700,zdroj!$F$3:$F$700))","v":""},"","",{"$f":"IF(AE133=\"\",\"\",LOOKUP(AE133,zdroj!$E$3:$E$700,zdroj!$L$3:$L$700))","v":""},{"$f":"IF(AE133=\"\",\"\",LOOKUP(AE133,zdroj!$E$3:$E$700,zdroj!$G$3:$G$700))","v":""},{"$f":"IF(AE133=\"\",\"\",LOOKUP(AE133,zdroj!$E$3:$E$700,zdroj!$H$3:$H$700))","v":""},{"$f":"+IF(AE133=\"\",\"\",LOOKUP(AE133,zdroj!$E$3:$E$700,zdroj!$I$3:$I$700))","v":""}]
[{"$f":"IF(C134=\"\",\"\",LOOKUP(C134,zdroj!$E$3:$E$700,zdroj!$F$3:$F$700))","v":""},"","",{"$f":"IF(C134=\"\",\"\",LOOKUP(C134,zdroj!$E$3:$E$700,zdroj!$L$3:$L$700))","v":""},{"$f":"IF(C134=\"\",\"\",LOOKUP(C134,zdroj!$E$3:$E$700,zdroj!$G$3:$G$700))","v":""},{"$f":"IF(C134=\"\",\"\",LOOKUP(C134,zdroj!$E$3:$E$700,zdroj!$H$3:$H$700))","v":""},{"$f":"+IF(C134=\"\",\"\",LOOKUP(C134,zdroj!$E$3:$E$700,zdroj!$I$3:$I$700))","v":""},{"$f":"IF(J134=\"\",\"\",LOOKUP(J134,zdroj!$E$3:$E$700,zdroj!$F$3:$F$700))","v":""},"","",{"$f":"IF(J134=\"\",\"\",LOOKUP(J134,zdroj!$E$3:$E$700,zdroj!$L$3:$L$700))","v":""},{"$f":"IF(J134=\"\",\"\",LOOKUP(J134,zdroj!$E$3:$E$700,zdroj!$G$3:$G$700))","v":""},{"$f":"IF(J134=\"\",\"\",LOOKUP(J134,zdroj!$E$3:$E$700,zdroj!$H$3:$H$700))","v":""},{"$f":"+IF(J134=\"\",\"\",LOOKUP(J134,zdroj!$E$3:$E$700,zdroj!$I$3:$I$700))","v":""},{"$f":"IF(Q134=\"\",\"\",LOOKUP(Q134,zdroj!$E$3:$E$700,zdroj!$F$3:$F$700))","v":""},"","",{"$f":"IF(Q134=\"\",\"\",LOOKUP(Q134,zdroj!$E$3:$E$700,zdroj!$L$3:$L$700))","v":""},{"$f":"IF(Q134=\"\",\"\",LOOKUP(Q134,zdroj!$E$3:$E$700,zdroj!$G$3:$G$700))","v":""},{"$f":"IF(Q134=\"\",\"\",LOOKUP(Q134,zdroj!$E$3:$E$700,zdroj!$H$3:$H$700))","v":""},{"$f":"+IF(Q134=\"\",\"\",LOOKUP(Q134,zdroj!$E$3:$E$700,zdroj!$I$3:$I$700))","v":""},{"$f":"IF(X134=\"\",\"\",LOOKUP(X134,zdroj!$E$3:$E$700,zdroj!$F$3:$F$700))","v":""},"","",{"$f":"IF(X134=\"\",\"\",LOOKUP(X134,zdroj!$E$3:$E$700,zdroj!$L$3:$L$700))","v":""},{"$f":"IF(X134=\"\",\"\",LOOKUP(X134,zdroj!$E$3:$E$700,zdroj!$G$3:$G$700))","v":""},{"$f":"IF(X134=\"\",\"\",LOOKUP(X134,zdroj!$E$3:$E$700,zdroj!$H$3:$H$700))","v":""},{"$f":"+IF(X134=\"\",\"\",LOOKUP(X134,zdroj!$E$3:$E$700,zdroj!$I$3:$I$700))","v":""},{"$f":"IF(AE134=\"\",\"\",LOOKUP(AE134,zdroj!$E$3:$E$700,zdroj!$F$3:$F$700))","v":""},"","",{"$f":"IF(AE134=\"\",\"\",LOOKUP(AE134,zdroj!$E$3:$E$700,zdroj!$L$3:$L$700))","v":""},{"$f":"IF(AE134=\"\",\"\",LOOKUP(AE134,zdroj!$E$3:$E$700,zdroj!$G$3:$G$700))","v":""},{"$f":"IF(AE134=\"\",\"\",LOOKUP(AE134,zdroj!$E$3:$E$700,zdroj!$H$3:$H$700))","v":""},{"$f":"+IF(AE134=\"\",\"\",LOOKUP(AE134,zdroj!$E$3:$E$700,zdroj!$I$3:$I$700))","v":""}]
[{"$f":"IF(C135=\"\",\"\",LOOKUP(C135,zdroj!$E$3:$E$700,zdroj!$F$3:$F$700))","v":""},"","",{"$f":"IF(C135=\"\",\"\",LOOKUP(C135,zdroj!$E$3:$E$700,zdroj!$L$3:$L$700))","v":""},{"$f":"IF(C135=\"\",\"\",LOOKUP(C135,zdroj!$E$3:$E$700,zdroj!$G$3:$G$700))","v":""},{"$f":"IF(C135=\"\",\"\",LOOKUP(C135,zdroj!$E$3:$E$700,zdroj!$H$3:$H$700))","v":""},{"$f":"+IF(C135=\"\",\"\",LOOKUP(C135,zdroj!$E$3:$E$700,zdroj!$I$3:$I$700))","v":""},{"$f":"IF(J135=\"\",\"\",LOOKUP(J135,zdroj!$E$3:$E$700,zdroj!$F$3:$F$700))","v":""},"","",{"$f":"IF(J135=\"\",\"\",LOOKUP(J135,zdroj!$E$3:$E$700,zdroj!$L$3:$L$700))","v":""},{"$f":"IF(J135=\"\",\"\",LOOKUP(J135,zdroj!$E$3:$E$700,zdroj!$G$3:$G$700))","v":""},{"$f":"IF(J135=\"\",\"\",LOOKUP(J135,zdroj!$E$3:$E$700,zdroj!$H$3:$H$700))","v":""},{"$f":"+IF(J135=\"\",\"\",LOOKUP(J135,zdroj!$E$3:$E$700,zdroj!$I$3:$I$700))","v":""},{"$f":"IF(Q135=\"\",\"\",LOOKUP(Q135,zdroj!$E$3:$E$700,zdroj!$F$3:$F$700))","v":""},"","",{"$f":"IF(Q135=\"\",\"\",LOOKUP(Q135,zdroj!$E$3:$E$700,zdroj!$L$3:$L$700))","v":""},{"$f":"IF(Q135=\"\",\"\",LOOKUP(Q135,zdroj!$E$3:$E$700,zdroj!$G$3:$G$700))","v":""},{"$f":"IF(Q135=\"\",\"\",LOOKUP(Q135,zdroj!$E$3:$E$700,zdroj!$H$3:$H$700))","v":""},{"$f":"+IF(Q135=\"\",\"\",LOOKUP(Q135,zdroj!$E$3:$E$700,zdroj!$I$3:$I$700))","v":""},{"$f":"IF(X135=\"\",\"\",LOOKUP(X135,zdroj!$E$3:$E$700,zdroj!$F$3:$F$700))","v":""},"","",{"$f":"IF(X135=\"\",\"\",LOOKUP(X135,zdroj!$E$3:$E$700,zdroj!$L$3:$L$700))","v":""},{"$f":"IF(X135=\"\",\"\",LOOKUP(X135,zdroj!$E$3:$E$700,zdroj!$G$3:$G$700))","v":""},{"$f":"IF(X135=\"\",\"\",LOOKUP(X135,zdroj!$E$3:$E$700,zdroj!$H$3:$H$700))","v":""},{"$f":"+IF(X135=\"\",\"\",LOOKUP(X135,zdroj!$E$3:$E$700,zdroj!$I$3:$I$700))","v":""},{"$f":"IF(AE135=\"\",\"\",LOOKUP(AE135,zdroj!$E$3:$E$700,zdroj!$F$3:$F$700))","v":""},"","",{"$f":"IF(AE135=\"\",\"\",LOOKUP(AE135,zdroj!$E$3:$E$700,zdroj!$L$3:$L$700))","v":""},{"$f":"IF(AE135=\"\",\"\",LOOKUP(AE135,zdroj!$E$3:$E$700,zdroj!$G$3:$G$700))","v":""},{"$f":"IF(AE135=\"\",\"\",LOOKUP(AE135,zdroj!$E$3:$E$700,zdroj!$H$3:$H$700))","v":""},{"$f":"+IF(AE135=\"\",\"\",LOOKUP(AE135,zdroj!$E$3:$E$700,zdroj!$I$3:$I$700))","v":""}]
[{"$f":"IF(C136=\"\",\"\",LOOKUP(C136,zdroj!$E$3:$E$700,zdroj!$F$3:$F$700))","v":""},"","",{"$f":"IF(C136=\"\",\"\",LOOKUP(C136,zdroj!$E$3:$E$700,zdroj!$L$3:$L$700))","v":""},{"$f":"IF(C136=\"\",\"\",LOOKUP(C136,zdroj!$E$3:$E$700,zdroj!$G$3:$G$700))","v":""},{"$f":"IF(C136=\"\",\"\",LOOKUP(C136,zdroj!$E$3:$E$700,zdroj!$H$3:$H$700))","v":""},{"$f":"+IF(C136=\"\",\"\",LOOKUP(C136,zdroj!$E$3:$E$700,zdroj!$I$3:$I$700))","v":""},{"$f":"IF(J136=\"\",\"\",LOOKUP(J136,zdroj!$E$3:$E$700,zdroj!$F$3:$F$700))","v":""},"","",{"$f":"IF(J136=\"\",\"\",LOOKUP(J136,zdroj!$E$3:$E$700,zdroj!$L$3:$L$700))","v":""},{"$f":"IF(J136=\"\",\"\",LOOKUP(J136,zdroj!$E$3:$E$700,zdroj!$G$3:$G$700))","v":""},{"$f":"IF(J136=\"\",\"\",LOOKUP(J136,zdroj!$E$3:$E$700,zdroj!$H$3:$H$700))","v":""},{"$f":"+IF(J136=\"\",\"\",LOOKUP(J136,zdroj!$E$3:$E$700,zdroj!$I$3:$I$700))","v":""},{"$f":"IF(Q136=\"\",\"\",LOOKUP(Q136,zdroj!$E$3:$E$700,zdroj!$F$3:$F$700))","v":""},"","",{"$f":"IF(Q136=\"\",\"\",LOOKUP(Q136,zdroj!$E$3:$E$700,zdroj!$L$3:$L$700))","v":""},{"$f":"IF(Q136=\"\",\"\",LOOKUP(Q136,zdroj!$E$3:$E$700,zdroj!$G$3:$G$700))","v":""},{"$f":"IF(Q136=\"\",\"\",LOOKUP(Q136,zdroj!$E$3:$E$700,zdroj!$H$3:$H$700))","v":""},{"$f":"+IF(Q136=\"\",\"\",LOOKUP(Q136,zdroj!$E$3:$E$700,zdroj!$I$3:$I$700))","v":""},{"$f":"IF(X136=\"\",\"\",LOOKUP(X136,zdroj!$E$3:$E$700,zdroj!$F$3:$F$700))","v":""},"","",{"$f":"IF(X136=\"\",\"\",LOOKUP(X136,zdroj!$E$3:$E$700,zdroj!$L$3:$L$700))","v":""},{"$f":"IF(X136=\"\",\"\",LOOKUP(X136,zdroj!$E$3:$E$700,zdroj!$G$3:$G$700))","v":""},{"$f":"IF(X136=\"\",\"\",LOOKUP(X136,zdroj!$E$3:$E$700,zdroj!$H$3:$H$700))","v":""},{"$f":"+IF(X136=\"\",\"\",LOOKUP(X136,zdroj!$E$3:$E$700,zdroj!$I$3:$I$700))","v":""},{"$f":"IF(AE136=\"\",\"\",LOOKUP(AE136,zdroj!$E$3:$E$700,zdroj!$F$3:$F$700))","v":""},"","",{"$f":"IF(AE136=\"\",\"\",LOOKUP(AE136,zdroj!$E$3:$E$700,zdroj!$L$3:$L$700))","v":""},{"$f":"IF(AE136=\"\",\"\",LOOKUP(AE136,zdroj!$E$3:$E$700,zdroj!$G$3:$G$700))","v":""},{"$f":"IF(AE136=\"\",\"\",LOOKUP(AE136,zdroj!$E$3:$E$700,zdroj!$H$3:$H$700))","v":""},{"$f":"+IF(AE136=\"\",\"\",LOOKUP(AE136,zdroj!$E$3:$E$700,zdroj!$I$3:$I$700))","v":""}]
["TÝDEN ",{"$f":"+B104+1","v":6}]
[{"$f":"+A105","v":44958},null,null,null,"Pondělí",null,{"$f":"+AI105+3","v":"2023-01-30"},null,null,null,null,"Úterý",null,{"$f":"+G138+1","v":"2023-01-31"},"Středa",null,null,null,null,null,{"$f":"+N138+1","v":"2023-02-01"},"Čtvrtek",null,null,null,null,null,{"$f":"+U138+1","v":"2023-02-02"},"Pátek",null,null,null,null,null,{"$f":"+AB138+1","v":"2023-02-03"}]
[{"$f":"+CONCATENATE(E138,\" \",TEXT(G138,\"DD.MM.RR\"))","v":"Pondělí 30.01.23"},null,null,null,null,null,null,{"$f":"+CONCATENATE(L138,\" \",TEXT(N138,\"DD.MM.RR\"))","v":"Úterý 31.01.23"},null,null,null,null,null,null,{"$f":"+CONCATENATE(O138,\" \",TEXT(U138,\"DD.MM.RR\"))","v":"Středa 01.02.23"},null,null,null,null,null,null,{"$f":"+CONCATENATE(V138,\" \",TEXT(AB138,\"DD.MM.RR\"))","v":"Čtvrtek 02.02.23"},null,null,null,null,null,null,{"$f":"+CONCATENATE(AC138,\" \",TEXT(AI138,\"DD.MM.RR\"))","v":"Pátek 03.02.23"}]
["hodina",{"$f":"+LOOKUP(G138,DataFIX!$F$3:$F$41,DataFIX!$G$3:$G$41)","v":840},{"$f":"+COUNTIFS(zdroj!$B$3:$B$700,Screen!G138)","v":17},{"$f":"+SUM(D141:D170)","v":48},"Zákazník","Dopravce","Status",null,{"$f":"+LOOKUP(N138,DataFIX!$F$3:$F$41,DataFIX!$G$3:$G$41)","v":870},{"$f":"+COUNTIFS(zdroj!$B$3:$B$700,Screen!N138)","v":12},{"$f":"+SUM(K141:K170)","v":33},"Zákazník","Dopravce","Status","hodina",{"$f":"+LOOKUP(U138,DataFIX!$F$3:$F$41,DataFIX!$G$3:$G$41)","v":900},{"$f":"+COUNTIFS(zdroj!$B$3:$B$700,Screen!U138)","v":16},{"$f":"+SUM(R141:R170)","v":33},"Zákazník","Dopravce","Status","hodina",{"$f":"+LOOKUP(AB138,DataFIX!$F$3:$F$41,DataFIX!$G$3:$G$41)","v":930},{"$f":"+COUNTIFS(zdroj!$B$3:$B$700,Screen!AB138)","v":10},{"$f":"+SUM(Y141:Y170)","v":28},"Zákazník","Dopravce","Status","hodina",{"$f":"+LOOKUP(AI138,DataFIX!$F$3:$F$41,DataFIX!$G$3:$G$41)","v":960},{"$f":"+COUNTIFS(zdroj!$B$3:$B$700,Screen!AI138)","v":14},{"$f":"+SUM(AF141:AF170)","v":40},"Zákazník","Dopravce","Status"]
[{"$f":"IF(C141=\"\",\"\",LOOKUP(C141,zdroj!$E$3:$E$700,zdroj!$F$3:$F$700))","v":"06:00:00"},{"$f":"+IF(C$140=\"\",\"\",IF(C140=0,\"\",1))","v":1},{"$f":"+IF(B141=\"\",\"\",B141+$B$140)","v":841},{"$f":"IF(C141=\"\",\"\",LOOKUP(C141,zdroj!$E$3:$E$700,zdroj!$L$3:$L$700))","v":2},{"$f":"IF(C141=\"\",\"\",LOOKUP(C141,zdroj!$E$3:$E$700,zdroj!$G$3:$G$700))","v":"Agrimex"},{"$f":"IF(C141=\"\",\"\",LOOKUP(C141,zdroj!$E$3:$E$700,zdroj!$H$3:$H$700))","v":"Hroza"},{"$f":"+IF(C141=\"\",\"\",LOOKUP(C141,zdroj!$E$3:$E$700,zdroj!$I$3:$I$700))","v":"Dokončeno"},{"$f":"IF(J141=\"\",\"\",LOOKUP(J141,zdroj!$E$3:$E$700,zdroj!$F$3:$F$700))","v":"06:05:00"},{"$f":"+IF(J$140=\"\",\"\",IF(J140=0,\"\",1))","v":1},{"$f":"+IF(I141=\"\",\"\",I141+I$140)","v":871},{"$f":"IF(J141=\"\",\"\",LOOKUP(J141,zdroj!$E$3:$E$700,zdroj!$L$3:$L$700))","v":3},{"$f":"IF(J141=\"\",\"\",LOOKUP(J141,zdroj!$E$3:$E$700,zdroj!$G$3:$G$700))","v":"INX"},{"$f":"IF(J141=\"\",\"\",LOOKUP(J141,zdroj!$E$3:$E$700,zdroj!$H$3:$H$700))","v":"TEZET"},{"$f":"+IF(J141=\"\",\"\",LOOKUP(J141,zdroj!$E$3:$E$700,zdroj!$I$3:$I$700))","v":"Dokončeno"},{"$f":"IF(Q141=\"\",\"\",LOOKUP(Q141,zdroj!$E$3:$E$700,zdroj!$F$3:$F$700))","v":"06:00:00"},{"$f":"+IF(Q$140=\"\",\"\",IF(Q140=0,\"\",1))","v":1},{"$f":"+IF(P141=\"\",\"\",P141+P$140)","v":901},{"$f":"IF(Q141=\"\",\"\",LOOKUP(Q141,zdroj!$E$3:$E$700,zdroj!$L$3:$L$700))","v":3},{"$f":"IF(Q141=\"\",\"\",LOOKUP(Q141,zdroj!$E$3:$E$700,zdroj!$G$3:$G$700))","v":"DF"},{"$f":"IF(Q141=\"\",\"\",LOOKUP(Q141,zdroj!$E$3:$E$700,zdroj!$H$3:$H$700))","v":"Hroza"},{"$f":"+IF(Q141=\"\",\"\",LOOKUP(Q141,zdroj!$E$3:$E$700,zdroj!$I$3:$I$700))","v":"Dokončeno"},{"$f":"IF(X141=\"\",\"\",LOOKUP(X141,zdroj!$E$3:$E$700,zdroj!$F$3:$F$700))","v":"06:00:00"},{"$f":"+IF(X$140=\"\",\"\",IF(X140=0,\"\",1))","v":1},{"$f":"+IF(W141=\"\",\"\",W141+W$140)","v":931},{"$f":"IF(X141=\"\",\"\",LOOKUP(X141,zdroj!$E$3:$E$700,zdroj!$L$3:$L$700))","v":2},{"$f":"IF(X141=\"\",\"\",LOOKUP(X141,zdroj!$E$3:$E$700,zdroj!$G$3:$G$700))","v":"DF"},{"$f":"IF(X141=\"\",\"\",LOOKUP(X141,zdroj!$E$3:$E$700,zdroj!$H$3:$H$700))","v":"Hroza "},{"$f":"+IF(X141=\"\",\"\",LOOKUP(X141,zdroj!$E$3:$E$700,zdroj!$I$3:$I$700))","v":"Dokončeno"},{"$f":"IF(AE141=\"\",\"\",LOOKUP(AE141,zdroj!$E$3:$E$700,zdroj!$F$3:$F$700))","v":"06:00:00"},{"$f":"+IF(AE$140=\"\",\"\",IF(AE140=0,\"\",1))","v":1},{"$f":"+IF(AD141=\"\",\"\",AD141+AD$140)","v":961},{"$f":"IF(AE141=\"\",\"\",LOOKUP(AE141,zdroj!$E$3:$E$700,zdroj!$L$3:$L$700))","v":3},{"$f":"IF(AE141=\"\",\"\",LOOKUP(AE141,zdroj!$E$3:$E$700,zdroj!$G$3:$G$700))","v":"DF"},{"$f":"IF(AE141=\"\",\"\",LOOKUP(AE141,zdroj!$E$3:$E$700,zdroj!$H$3:$H$700))","v":"Hroza "},{"$f":"+IF(AE141=\"\",\"\",LOOKUP(AE141,zdroj!$E$3:$E$700,zdroj!$I$3:$I$700))","v":"Vychystáno"}]
[{"$f":"IF(C142=\"\",\"\",LOOKUP(C142,zdroj!$E$3:$E$700,zdroj!$F$3:$F$700))","v":"06:05:00"},{"$f":"+IF(C$140>B141,B141+1,\"\")","v":2},842,{"$f":"IF(C142=\"\",\"\",LOOKUP(C142,zdroj!$E$3:$E$700,zdroj!$L$3:$L$700))","v":2},{"$f":"IF(C142=\"\",\"\",LOOKUP(C142,zdroj!$E$3:$E$700,zdroj!$G$3:$G$700))","v":"Cormen"},{"$f":"IF(C142=\"\",\"\",LOOKUP(C142,zdroj!$E$3:$E$700,zdroj!$H$3:$H$700))","v":"TEZET"},{"$f":"+IF(C142=\"\",\"\",LOOKUP(C142,zdroj!$E$3:$E$700,zdroj!$I$3:$I$700))","v":"Dokončeno"},{"$f":"IF(J142=\"\",\"\",LOOKUP(J142,zdroj!$E$3:$E$700,zdroj!$F$3:$F$700))","v":"06:05:00"},{"$f":"+IF(J$140>I141,I141+1,\"\")","v":2},872,{"$f":"IF(J142=\"\",\"\",LOOKUP(J142,zdroj!$E$3:$E$700,zdroj!$L$3:$L$700))","v":3},{"$f":"IF(J142=\"\",\"\",LOOKUP(J142,zdroj!$E$3:$E$700,zdroj!$G$3:$G$700))","v":"Alter"},{"$f":"IF(J142=\"\",\"\",LOOKUP(J142,zdroj!$E$3:$E$700,zdroj!$H$3:$H$700))","v":"TEZET"},{"$f":"+IF(J142=\"\",\"\",LOOKUP(J142,zdroj!$E$3:$E$700,zdroj!$I$3:$I$700))","v":"Dokončeno"},{"$f":"IF(Q142=\"\",\"\",LOOKUP(Q142,zdroj!$E$3:$E$700,zdroj!$F$3:$F$700))","v":"06:05:00"},{"$f":"+IF(Q$140>P141,P141+1,\"\")","v":2},902,{"$f":"IF(Q142=\"\",\"\",LOOKUP(Q142,zdroj!$E$3:$E$700,zdroj!$L$3:$L$700))","v":3},{"$f":"IF(Q142=\"\",\"\",LOOKUP(Q142,zdroj!$E$3:$E$700,zdroj!$G$3:$G$700))","v":"Fagron"},{"$f":"IF(Q142=\"\",\"\",LOOKUP(Q142,zdroj!$E$3:$E$700,zdroj!$H$3:$H$700))","v":"TEZET"},{"$f":"+IF(Q142=\"\",\"\",LOOKUP(Q142,zdroj!$E$3:$E$700,zdroj!$I$3:$I$700))","v":"Dokončeno"},{"$f":"IF(X142=\"\",\"\",LOOKUP(X142,zdroj!$E$3:$E$700,zdroj!$F$3:$F$700))","v":"06:05:00"},{"$f":"+IF(X$140>W141,W141+1,\"\")","v":2},932,{"$f":"IF(X142=\"\",\"\",LOOKUP(X142,zdroj!$E$3:$E$700,zdroj!$L$3:$L$700))","v":2},{"$f":"IF(X142=\"\",\"\",LOOKUP(X142,zdroj!$E$3:$E$700,zdroj!$G$3:$G$700))","v":"Everstar"},{"$f":"IF(X142=\"\",\"\",LOOKUP(X142,zdroj!$E$3:$E$700,zdroj!$H$3:$H$700))","v":"TEZET"},{"$f":"+IF(X142=\"\",\"\",LOOKUP(X142,zdroj!$E$3:$E$700,zdroj!$I$3:$I$700))","v":"Dokončeno"},{"$f":"IF(AE142=\"\",\"\",LOOKUP(AE142,zdroj!$E$3:$E$700,zdroj!$F$3:$F$700))","v":"06:05:00"},{"$f":"+IF(AE$140>AD141,AD141+1,\"\")","v":2},962,{"$f":"IF(AE142=\"\",\"\",LOOKUP(AE142,zdroj!$E$3:$E$700,zdroj!$L$3:$L$700))","v":3},{"$f":"IF(AE142=\"\",\"\",LOOKUP(AE142,zdroj!$E$3:$E$700,zdroj!$G$3:$G$700))","v":"Cheport"},{"$f":"IF(AE142=\"\",\"\",LOOKUP(AE142,zdroj!$E$3:$E$700,zdroj!$H$3:$H$700))","v":"TEZET"},{"$f":"+IF(AE142=\"\",\"\",LOOKUP(AE142,zdroj!$E$3:$E$700,zdroj!$I$3:$I$700))","v":"Naplánováno"}]
[{"$f":"IF(C143=\"\",\"\",LOOKUP(C143,zdroj!$E$3:$E$700,zdroj!$F$3:$F$700))","v":"06:05:00"},3,843,{"$f":"IF(C143=\"\",\"\",LOOKUP(C143,zdroj!$E$3:$E$700,zdroj!$L$3:$L$700))","v":3},{"$f":"IF(C143=\"\",\"\",LOOKUP(C143,zdroj!$E$3:$E$700,zdroj!$G$3:$G$700))","v":"Cheport"},{"$f":"IF(C143=\"\",\"\",LOOKUP(C143,zdroj!$E$3:$E$700,zdroj!$H$3:$H$700))","v":"TEZET"},{"$f":"+IF(C143=\"\",\"\",LOOKUP(C143,zdroj!$E$3:$E$700,zdroj!$I$3:$I$700))","v":"Dokončeno"},{"$f":"IF(J143=\"\",\"\",LOOKUP(J143,zdroj!$E$3:$E$700,zdroj!$F$3:$F$700))","v":"07:00:00"},3,873,{"$f":"IF(J143=\"\",\"\",LOOKUP(J143,zdroj!$E$3:$E$700,zdroj!$L$3:$L$700))","v":3},{"$f":"IF(J143=\"\",\"\",LOOKUP(J143,zdroj!$E$3:$E$700,zdroj!$G$3:$G$700))","v":"Antolin"},{"$f":"IF(J143=\"\",\"\",LOOKUP(J143,zdroj!$E$3:$E$700,zdroj!$H$3:$H$700))","v":"vlastní"},{"$f":"+IF(J143=\"\",\"\",LOOKUP(J143,zdroj!$E$3:$E$700,zdroj!$I$3:$I$700))","v":"Dokončeno"},{"$f":"IF(Q143=\"\",\"\",LOOKUP(Q143,zdroj!$E$3:$E$700,zdroj!$F$3:$F$700))","v":"06:05:00"},3,903,{"$f":"IF(Q143=\"\",\"\",LOOKUP(Q143,zdroj!$E$3:$E$700,zdroj!$L$3:$L$700))","v":3},{"$f":"IF(Q143=\"\",\"\",LOOKUP(Q143,zdroj!$E$3:$E$700,zdroj!$G$3:$G$700))","v":"Cheport"},{"$f":"IF(Q143=\"\",\"\",LOOKUP(Q143,zdroj!$E$3:$E$700,zdroj!$H$3:$H$700))","v":"TEZET"},{"$f":"+IF(Q143=\"\",\"\",LOOKUP(Q143,zdroj!$E$3:$E$700,zdroj!$I$3:$I$700))","v":"Dokončeno"},{"$f":"IF(X143=\"\",\"\",LOOKUP(X143,zdroj!$E$3:$E$700,zdroj!$F$3:$F$700))","v":"07:00:00"},3,933,{"$f":"IF(X143=\"\",\"\",LOOKUP(X143,zdroj!$E$3:$E$700,zdroj!$L$3:$L$700))","v":3},{"$f":"IF(X143=\"\",\"\",LOOKUP(X143,zdroj!$E$3:$E$700,zdroj!$G$3:$G$700))","v":"Antolin"},{"$f":"IF(X143=\"\",\"\",LOOKUP(X143,zdroj!$E$3:$E$700,zdroj!$H$3:$H$700))","v":"vlastní"},{"$f":"+IF(X143=\"\",\"\",LOOKUP(X143,zdroj!$E$3:$E$700,zdroj!$I$3:$I$700))","v":"Naplánováno"},{"$f":"IF(AE143=\"\",\"\",LOOKUP(AE143,zdroj!$E$3:$E$700,zdroj!$F$3:$F$700))","v":"08:30:00"},3,963,{"$f":"IF(AE143=\"\",\"\",LOOKUP(AE143,zdroj!$E$3:$E$700,zdroj!$L$3:$L$700))","v":1},{"$f":"IF(AE143=\"\",\"\",LOOKUP(AE143,zdroj!$E$3:$E$700,zdroj!$G$3:$G$700))","v":"J.P.PLAST"},{"$f":"IF(AE143=\"\",\"\",LOOKUP(AE143,zdroj!$E$3:$E$700,zdroj!$H$3:$H$700))","v":"LOGMAX"},{"$f":"+IF(AE143=\"\",\"\",LOOKUP(AE143,zdroj!$E$3:$E$700,zdroj!$I$3:$I$700))","v":"Naplánováno"}]
[{"$f":"IF(C144=\"\",\"\",LOOKUP(C144,zdroj!$E$3:$E$700,zdroj!$F$3:$F$700))","v":"06:15:00"},4,844,{"$f":"IF(C144=\"\",\"\",LOOKUP(C144,zdroj!$E$3:$E$700,zdroj!$L$3:$L$700))","v":2},{"$f":"IF(C144=\"\",\"\",LOOKUP(C144,zdroj!$E$3:$E$700,zdroj!$G$3:$G$700))","v":"VYPL"},{"$f":"IF(C144=\"\",\"\",LOOKUP(C144,zdroj!$E$3:$E$700,zdroj!$H$3:$H$700))","v":"naše Pulpán"},{"$f":"+IF(C144=\"\",\"\",LOOKUP(C144,zdroj!$E$3:$E$700,zdroj!$I$3:$I$700))","v":"Dokončeno"},{"$f":"IF(J144=\"\",\"\",LOOKUP(J144,zdroj!$E$3:$E$700,zdroj!$F$3:$F$700))","v":"07:30:00"},4,874,{"$f":"IF(J144=\"\",\"\",LOOKUP(J144,zdroj!$E$3:$E$700,zdroj!$L$3:$L$700))","v":1},{"$f":"IF(J144=\"\",\"\",LOOKUP(J144,zdroj!$E$3:$E$700,zdroj!$G$3:$G$700))","v":"Miloš Gavala"},{"$f":"IF(J144=\"\",\"\",LOOKUP(J144,zdroj!$E$3:$E$700,zdroj!$H$3:$H$700))","v":"vlastní"},{"$f":"+IF(J144=\"\",\"\",LOOKUP(J144,zdroj!$E$3:$E$700,zdroj!$I$3:$I$700))","v":"Dokončeno"},{"$f":"IF(Q144=\"\",\"\",LOOKUP(Q144,zdroj!$E$3:$E$700,zdroj!$F$3:$F$700))","v":"06:05:00"},4,904,{"$f":"IF(Q144=\"\",\"\",LOOKUP(Q144,zdroj!$E$3:$E$700,zdroj!$L$3:$L$700))","v":3},{"$f":"IF(Q144=\"\",\"\",LOOKUP(Q144,zdroj!$E$3:$E$700,zdroj!$G$3:$G$700))","v":"Vypl"},{"$f":"IF(Q144=\"\",\"\",LOOKUP(Q144,zdroj!$E$3:$E$700,zdroj!$H$3:$H$700))","v":"TEZET"},{"$f":"+IF(Q144=\"\",\"\",LOOKUP(Q144,zdroj!$E$3:$E$700,zdroj!$I$3:$I$700))","v":"Dokončeno"},{"$f":"IF(X144=\"\",\"\",LOOKUP(X144,zdroj!$E$3:$E$700,zdroj!$F$3:$F$700))","v":"07:30:00"},4,934,{"$f":"IF(X144=\"\",\"\",LOOKUP(X144,zdroj!$E$3:$E$700,zdroj!$L$3:$L$700))","v":3},{"$f":"IF(X144=\"\",\"\",LOOKUP(X144,zdroj!$E$3:$E$700,zdroj!$G$3:$G$700))","v":"D.I.CHEM"},{"$f":"IF(X144=\"\",\"\",LOOKUP(X144,zdroj!$E$3:$E$700,zdroj!$H$3:$H$700))","v":"vlastní"},{"$f":"+IF(X144=\"\",\"\",LOOKUP(X144,zdroj!$E$3:$E$700,zdroj!$I$3:$I$700))","v":"Naplánováno"},{"$f":"IF(AE144=\"\",\"\",LOOKUP(AE144,zdroj!$E$3:$E$700,zdroj!$F$3:$F$700))","v":"10:00:00"},4,964,{"$f":"IF(AE144=\"\",\"\",LOOKUP(AE144,zdroj!$E$3:$E$700,zdroj!$L$3:$L$700))","v":4},{"$f":"IF(AE144=\"\",\"\",LOOKUP(AE144,zdroj!$E$3:$E$700,zdroj!$G$3:$G$700))","v":"Sedasport"},{"$f":"IF(AE144=\"\",\"\",LOOKUP(AE144,zdroj!$E$3:$E$700,zdroj!$H$3:$H$700))","v":"vlastní"},{"$f":"+IF(AE144=\"\",\"\",LOOKUP(AE144,zdroj!$E$3:$E$700,zdroj!$I$3:$I$700))","v":"Naplánováno"}]
[{"$f":"IF(C145=\"\",\"\",LOOKUP(C145,zdroj!$E$3:$E$700,zdroj!$F$3:$F$700))","v":"08:00:00"},5,845,{"$f":"IF(C145=\"\",\"\",LOOKUP(C145,zdroj!$E$3:$E$700,zdroj!$L$3:$L$700))","v":3},{"$f":"IF(C145=\"\",\"\",LOOKUP(C145,zdroj!$E$3:$E$700,zdroj!$G$3:$G$700))","v":"Filmer"},{"$f":"IF(C145=\"\",\"\",LOOKUP(C145,zdroj!$E$3:$E$700,zdroj!$H$3:$H$700))","v":"Ewals"},{"$f":"+IF(C145=\"\",\"\",LOOKUP(C145,zdroj!$E$3:$E$700,zdroj!$I$3:$I$700))","v":"Dokončeno"},{"$f":"IF(J145=\"\",\"\",LOOKUP(J145,zdroj!$E$3:$E$700,zdroj!$F$3:$F$700))","v":"08:00:00"},5,875,{"$f":"IF(J145=\"\",\"\",LOOKUP(J145,zdroj!$E$3:$E$700,zdroj!$L$3:$L$700))","v":4},{"$f":"IF(J145=\"\",\"\",LOOKUP(J145,zdroj!$E$3:$E$700,zdroj!$G$3:$G$700))","v":"T-Net"},{"$f":"IF(J145=\"\",\"\",LOOKUP(J145,zdroj!$E$3:$E$700,zdroj!$H$3:$H$700))","v":"kontejner"},{"$f":"+IF(J145=\"\",\"\",LOOKUP(J145,zdroj!$E$3:$E$700,zdroj!$I$3:$I$700))","v":"Dokončeno"},{"$f":"IF(Q145=\"\",\"\",LOOKUP(Q145,zdroj!$E$3:$E$700,zdroj!$F$3:$F$700))","v":"06:05:00"},{"$f":"+IF(Q$140>P144,P144+1,\"\")","v":5},{"$f":"+IF(P145=\"\",\"\",P145+P$140)","v":905},{"$f":"IF(Q145=\"\",\"\",LOOKUP(Q145,zdroj!$E$3:$E$700,zdroj!$L$3:$L$700))","v":2},{"$f":"IF(Q145=\"\",\"\",LOOKUP(Q145,zdroj!$E$3:$E$700,zdroj!$G$3:$G$700))","v":"VYPL"},{"$f":"IF(Q145=\"\",\"\",LOOKUP(Q145,zdroj!$E$3:$E$700,zdroj!$H$3:$H$700))","v":"TEZET"},{"$f":"+IF(Q145=\"\",\"\",LOOKUP(Q145,zdroj!$E$3:$E$700,zdroj!$I$3:$I$700))","v":"Dokončeno"},{"$f":"IF(X145=\"\",\"\",LOOKUP(X145,zdroj!$E$3:$E$700,zdroj!$F$3:$F$700))","v":"11:00:00"},{"$f":"+IF(X$140>W144,W144+1,\"\")","v":5},{"$f":"+IF(W145=\"\",\"\",W145+W$140)","v":935},{"$f":"IF(X145=\"\",\"\",LOOKUP(X145,zdroj!$E$3:$E$700,zdroj!$L$3:$L$700))","v":3},{"$f":"IF(X145=\"\",\"\",LOOKUP(X145,zdroj!$E$3:$E$700,zdroj!$G$3:$G$700))","v":"JPSK"},{"$f":"IF(X145=\"\",\"\",LOOKUP(X145,zdroj!$E$3:$E$700,zdroj!$H$3:$H$700))","v":"Legarde"},{"$f":"+IF(X145=\"\",\"\",LOOKUP(X145,zdroj!$E$3:$E$700,zdroj!$I$3:$I$700))","v":"Naplánováno"},{"$f":"IF(AE145=\"\",\"\",LOOKUP(AE145,zdroj!$E$3:$E$700,zdroj!$F$3:$F$700))","v":"11:00:00"},{"$f":"+IF(AE$140>AD144,AD144+1,\"\")","v":5},{"$f":"+IF(AD145=\"\",\"\",AD145+AD$140)","v":965},{"$f":"IF(AE145=\"\",\"\",LOOKUP(AE145,zdroj!$E$3:$E$700,zdroj!$L$3:$L$700))","v":3},{"$f":"IF(AE145=\"\",\"\",LOOKUP(AE145,zdroj!$E$3:$E$700,zdroj!$G$3:$G$700))","v":"JPSK"},{"$f":"IF(AE145=\"\",\"\",LOOKUP(AE145,zdroj!$E$3:$E$700,zdroj!$H$3:$H$700))","v":"Legarde"},{"$f":"+IF(AE145=\"\",\"\",LOOKUP(AE145,zdroj!$E$3:$E$700,zdroj!$I$3:$I$700))","v":"Naplánováno"}]
[{"$f":"IF(C146=\"\",\"\",LOOKUP(C146,zdroj!$E$3:$E$700,zdroj!$F$3:$F$700))","v":"10:30:00"},6,846,{"$f":"IF(C146=\"\",\"\",LOOKUP(C146,zdroj!$E$3:$E$700,zdroj!$L$3:$L$700))","v":3},{"$f":"IF(C146=\"\",\"\",LOOKUP(C146,zdroj!$E$3:$E$700,zdroj!$G$3:$G$700))","v":"TBA"},{"$f":"IF(C146=\"\",\"\",LOOKUP(C146,zdroj!$E$3:$E$700,zdroj!$H$3:$H$700))","v":"vlastní"},{"$f":"+IF(C146=\"\",\"\",LOOKUP(C146,zdroj!$E$3:$E$700,zdroj!$I$3:$I$700))","v":"Dokončeno"},{"$f":"IF(J146=\"\",\"\",LOOKUP(J146,zdroj!$E$3:$E$700,zdroj!$F$3:$F$700))","v":"11:00:00"},6,876,{"$f":"IF(J146=\"\",\"\",LOOKUP(J146,zdroj!$E$3:$E$700,zdroj!$L$3:$L$700))","v":1},{"$f":"IF(J146=\"\",\"\",LOOKUP(J146,zdroj!$E$3:$E$700,zdroj!$G$3:$G$700))","v":"Carrier"},{"$f":"IF(J146=\"\",\"\",LOOKUP(J146,zdroj!$E$3:$E$700,zdroj!$H$3:$H$700))","v":"vlastní"},{"$f":"+IF(J146=\"\",\"\",LOOKUP(J146,zdroj!$E$3:$E$700,zdroj!$I$3:$I$700))","v":"Dokončeno"},{"$f":"IF(Q146=\"\",\"\",LOOKUP(Q146,zdroj!$E$3:$E$700,zdroj!$F$3:$F$700))","v":"07:00:00"},6,906,{"$f":"IF(Q146=\"\",\"\",LOOKUP(Q146,zdroj!$E$3:$E$700,zdroj!$L$3:$L$700))","v":3},{"$f":"IF(Q146=\"\",\"\",LOOKUP(Q146,zdroj!$E$3:$E$700,zdroj!$G$3:$G$700))","v":"TREF"},{"$f":"IF(Q146=\"\",\"\",LOOKUP(Q146,zdroj!$E$3:$E$700,zdroj!$H$3:$H$700))","v":"vlastní"},{"$f":"+IF(Q146=\"\",\"\",LOOKUP(Q146,zdroj!$E$3:$E$700,zdroj!$I$3:$I$700))","v":"Dokončeno"},{"$f":"IF(X146=\"\",\"\",LOOKUP(X146,zdroj!$E$3:$E$700,zdroj!$F$3:$F$700))","v":"11:00:00"},6,936,{"$f":"IF(X146=\"\",\"\",LOOKUP(X146,zdroj!$E$3:$E$700,zdroj!$L$3:$L$700))","v":4},{"$f":"IF(X146=\"\",\"\",LOOKUP(X146,zdroj!$E$3:$E$700,zdroj!$G$3:$G$700))","v":"TBA "},{"$f":"IF(X146=\"\",\"\",LOOKUP(X146,zdroj!$E$3:$E$700,zdroj!$H$3:$H$700))","v":"vlastní"},{"$f":"+IF(X146=\"\",\"\",LOOKUP(X146,zdroj!$E$3:$E$700,zdroj!$I$3:$I$700))","v":"Naplánováno"},{"$f":"IF(AE146=\"\",\"\",LOOKUP(AE146,zdroj!$E$3:$E$700,zdroj!$F$3:$F$700))","v":"12:00:00"},6,966,{"$f":"IF(AE146=\"\",\"\",LOOKUP(AE146,zdroj!$E$3:$E$700,zdroj!$L$3:$L$700))","v":4},{"$f":"IF(AE146=\"\",\"\",LOOKUP(AE146,zdroj!$E$3:$E$700,zdroj!$G$3:$G$700))","v":"TBA"},{"$f":"IF(AE146=\"\",\"\",LOOKUP(AE146,zdroj!$E$3:$E$700,zdroj!$H$3:$H$700))","v":"vlastní"},{"$f":"+IF(AE146=\"\",\"\",LOOKUP(AE146,zdroj!$E$3:$E$700,zdroj!$I$3:$I$700))","v":"Naplánováno"}]
[{"$f":"IF(C147=\"\",\"\",LOOKUP(C147,zdroj!$E$3:$E$700,zdroj!$F$3:$F$700))","v":"10:30:00"},7,847,{"$f":"IF(C147=\"\",\"\",LOOKUP(C147,zdroj!$E$3:$E$700,zdroj!$L$3:$L$700))","v":3},{"$f":"IF(C147=\"\",\"\",LOOKUP(C147,zdroj!$E$3:$E$700,zdroj!$G$3:$G$700))","v":"PK group"},{"$f":"IF(C147=\"\",\"\",LOOKUP(C147,zdroj!$E$3:$E$700,zdroj!$H$3:$H$700))","v":"Bohumín"},{"$f":"+IF(C147=\"\",\"\",LOOKUP(C147,zdroj!$E$3:$E$700,zdroj!$I$3:$I$700))","v":"Dokončeno"},{"$f":"IF(J147=\"\",\"\",LOOKUP(J147,zdroj!$E$3:$E$700,zdroj!$F$3:$F$700))","v":"11:20:00"},7,877,{"$f":"IF(J147=\"\",\"\",LOOKUP(J147,zdroj!$E$3:$E$700,zdroj!$L$3:$L$700))","v":3},{"$f":"IF(J147=\"\",\"\",LOOKUP(J147,zdroj!$E$3:$E$700,zdroj!$G$3:$G$700))","v":"Nufarm"},{"$f":"IF(J147=\"\",\"\",LOOKUP(J147,zdroj!$E$3:$E$700,zdroj!$H$3:$H$700))","v":"FERCAM"},{"$f":"+IF(J147=\"\",\"\",LOOKUP(J147,zdroj!$E$3:$E$700,zdroj!$I$3:$I$700))","v":"Dokončeno"},{"$f":"IF(Q147=\"\",\"\",LOOKUP(Q147,zdroj!$E$3:$E$700,zdroj!$F$3:$F$700))","v":"10:00:00"},7,907,{"$f":"IF(Q147=\"\",\"\",LOOKUP(Q147,zdroj!$E$3:$E$700,zdroj!$L$3:$L$700))","v":0},{"$f":"IF(Q147=\"\",\"\",LOOKUP(Q147,zdroj!$E$3:$E$700,zdroj!$G$3:$G$700))","v":"Sedasport"},{"$f":"IF(Q147=\"\",\"\",LOOKUP(Q147,zdroj!$E$3:$E$700,zdroj!$H$3:$H$700))","v":"vlastní"},{"$f":"+IF(Q147=\"\",\"\",LOOKUP(Q147,zdroj!$E$3:$E$700,zdroj!$I$3:$I$700))","v":"Přeplánováno"},{"$f":"IF(X147=\"\",\"\",LOOKUP(X147,zdroj!$E$3:$E$700,zdroj!$F$3:$F$700))","v":"12:30:00"},7,937,{"$f":"IF(X147=\"\",\"\",LOOKUP(X147,zdroj!$E$3:$E$700,zdroj!$L$3:$L$700))","v":4},{"$f":"IF(X147=\"\",\"\",LOOKUP(X147,zdroj!$E$3:$E$700,zdroj!$G$3:$G$700))","v":"M.A.T."},{"$f":"IF(X147=\"\",\"\",LOOKUP(X147,zdroj!$E$3:$E$700,zdroj!$H$3:$H$700))","v":"vlastní"},{"$f":"+IF(X147=\"\",\"\",LOOKUP(X147,zdroj!$E$3:$E$700,zdroj!$I$3:$I$700))","v":"Naplánováno"},{"$f":"IF(AE147=\"\",\"\",LOOKUP(AE147,zdroj!$E$3:$E$700,zdroj!$F$3:$F$700))","v":"00:00:00"},7,967,{"$f":"IF(AE147=\"\",\"\",LOOKUP(AE147,zdroj!$E$3:$E$700,zdroj!$L$3:$L$700))","v":3},{"$f":"IF(AE147=\"\",\"\",LOOKUP(AE147,zdroj!$E$3:$E$700,zdroj!$G$3:$G$700))","v":"Nufarm"},{"$f":"IF(AE147=\"\",\"\",LOOKUP(AE147,zdroj!$E$3:$E$700,zdroj!$H$3:$H$700))","v":"Maco-Trans"},{"$f":"+IF(AE147=\"\",\"\",LOOKUP(AE147,zdroj!$E$3:$E$700,zdroj!$I$3:$I$700))","v":"Naplánováno"}]
[{"$f":"IF(C148=\"\",\"\",LOOKUP(C148,zdroj!$E$3:$E$700,zdroj!$F$3:$F$700))","v":"11:30:00"},8,848,{"$f":"IF(C148=\"\",\"\",LOOKUP(C148,zdroj!$E$3:$E$700,zdroj!$L$3:$L$700))","v":2},{"$f":"IF(C148=\"\",\"\",LOOKUP(C148,zdroj!$E$3:$E$700,zdroj!$G$3:$G$700))","v":"Garsys"},{"$f":"IF(C148=\"\",\"\",LOOKUP(C148,zdroj!$E$3:$E$700,zdroj!$H$3:$H$700))","v":"vlastní"},{"$f":"+IF(C148=\"\",\"\",LOOKUP(C148,zdroj!$E$3:$E$700,zdroj!$I$3:$I$700))","v":"Zpožděno"},{"$f":"IF(J148=\"\",\"\",LOOKUP(J148,zdroj!$E$3:$E$700,zdroj!$F$3:$F$700))","v":"12:00:00"},8,878,{"$f":"IF(J148=\"\",\"\",LOOKUP(J148,zdroj!$E$3:$E$700,zdroj!$L$3:$L$700))","v":4},{"$f":"IF(J148=\"\",\"\",LOOKUP(J148,zdroj!$E$3:$E$700,zdroj!$G$3:$G$700))","v":"Sedata"},{"$f":"IF(J148=\"\",\"\",LOOKUP(J148,zdroj!$E$3:$E$700,zdroj!$H$3:$H$700))","v":"Ewals"},{"$f":"+IF(J148=\"\",\"\",LOOKUP(J148,zdroj!$E$3:$E$700,zdroj!$I$3:$I$700))","v":"Dokončeno"},{"$f":"IF(Q148=\"\",\"\",LOOKUP(Q148,zdroj!$E$3:$E$700,zdroj!$F$3:$F$700))","v":"10:30:00"},8,908,{"$f":"IF(Q148=\"\",\"\",LOOKUP(Q148,zdroj!$E$3:$E$700,zdroj!$L$3:$L$700))","v":3},{"$f":"IF(Q148=\"\",\"\",LOOKUP(Q148,zdroj!$E$3:$E$700,zdroj!$G$3:$G$700))","v":"Nufarm"},{"$f":"IF(Q148=\"\",\"\",LOOKUP(Q148,zdroj!$E$3:$E$700,zdroj!$H$3:$H$700))","v":"FERCAM"},{"$f":"+IF(Q148=\"\",\"\",LOOKUP(Q148,zdroj!$E$3:$E$700,zdroj!$I$3:$I$700))","v":"Vychystáno"},{"$f":"IF(X148=\"\",\"\",LOOKUP(X148,zdroj!$E$3:$E$700,zdroj!$F$3:$F$700))","v":"12:30:00"},8,938,{"$f":"IF(X148=\"\",\"\",LOOKUP(X148,zdroj!$E$3:$E$700,zdroj!$L$3:$L$700))","v":1},{"$f":"IF(X148=\"\",\"\",LOOKUP(X148,zdroj!$E$3:$E$700,zdroj!$G$3:$G$700))","v":"Novato"},{"$f":"IF(X148=\"\",\"\",LOOKUP(X148,zdroj!$E$3:$E$700,zdroj!$H$3:$H$700))","v":"Toptrans-vlastní"},{"$f":"+IF(X148=\"\",\"\",LOOKUP(X148,zdroj!$E$3:$E$700,zdroj!$I$3:$I$700))","v":"Naplánováno"},{"$f":"IF(AE148=\"\",\"\",LOOKUP(AE148,zdroj!$E$3:$E$700,zdroj!$F$3:$F$700))","v":"00:00:00"},8,968,{"$f":"IF(AE148=\"\",\"\",LOOKUP(AE148,zdroj!$E$3:$E$700,zdroj!$L$3:$L$700))","v":5},{"$f":"IF(AE148=\"\",\"\",LOOKUP(AE148,zdroj!$E$3:$E$700,zdroj!$G$3:$G$700))","v":"Faurecie MB"},{"$f":"IF(AE148=\"\",\"\",LOOKUP(AE148,zdroj!$E$3:$E$700,zdroj!$H$3:$H$700))","v":"vlastní"},{"$f":"+IF(AE148=\"\",\"\",LOOKUP(AE148,zdroj!$E$3:$E$700,zdroj!$I$3:$I$700))","v":"Naplánováno"}]
[{"$f":"IF(C149=\"\",\"\",LOOKUP(C149,zdroj!$E$3:$E$700,zdroj!$F$3:$F$700))","v":"12:00:00"},9,849,{"$f":"IF(C149=\"\",\"\",LOOKUP(C149,zdroj!$E$3:$E$700,zdroj!$L$3:$L$700))","v":3},{"$f":"IF(C149=\"\",\"\",LOOKUP(C149,zdroj!$E$3:$E$700,zdroj!$G$3:$G$700))","v":"Nufarm"},{"$f":"IF(C149=\"\",\"\",LOOKUP(C149,zdroj!$E$3:$E$700,zdroj!$H$3:$H$700))","v":"Maco-Trans"},{"$f":"+IF(C149=\"\",\"\",LOOKUP(C149,zdroj!$E$3:$E$700,zdroj!$I$3:$I$700))","v":"Dokončeno"},{"$f":"IF(J149=\"\",\"\",LOOKUP(J149,zdroj!$E$3:$E$700,zdroj!$F$3:$F$700))","v":"12:30:00"},9,879,{"$f":"IF(J149=\"\",\"\",LOOKUP(J149,zdroj!$E$3:$E$700,zdroj!$L$3:$L$700))","v":0},{"$f":"IF(J149=\"\",\"\",LOOKUP(J149,zdroj!$E$3:$E$700,zdroj!$G$3:$G$700))","v":"OZAS-ESAB"},{"$f":"IF(J149=\"\",\"\",LOOKUP(J149,zdroj!$E$3:$E$700,zdroj!$H$3:$H$700))","v":"Schenker"},{"$f":"+IF(J149=\"\",\"\",LOOKUP(J149,zdroj!$E$3:$E$700,zdroj!$I$3:$I$700))","v":"Přeplánováno"},{"$f":"IF(Q149=\"\",\"\",LOOKUP(Q149,zdroj!$E$3:$E$700,zdroj!$F$3:$F$700))","v":"10:30:00"},9,909,{"$f":"IF(Q149=\"\",\"\",LOOKUP(Q149,zdroj!$E$3:$E$700,zdroj!$L$3:$L$700))","v":2},{"$f":"IF(Q149=\"\",\"\",LOOKUP(Q149,zdroj!$E$3:$E$700,zdroj!$G$3:$G$700))","v":"TBA"},{"$f":"IF(Q149=\"\",\"\",LOOKUP(Q149,zdroj!$E$3:$E$700,zdroj!$H$3:$H$700))","v":"vlastní"},{"$f":"+IF(Q149=\"\",\"\",LOOKUP(Q149,zdroj!$E$3:$E$700,zdroj!$I$3:$I$700))","v":"Dokončeno"},{"$f":"IF(X149=\"\",\"\",LOOKUP(X149,zdroj!$E$3:$E$700,zdroj!$F$3:$F$700))","v":"00:00:00"},9,939,{"$f":"IF(X149=\"\",\"\",LOOKUP(X149,zdroj!$E$3:$E$700,zdroj!$L$3:$L$700))","v":5},{"$f":"IF(X149=\"\",\"\",LOOKUP(X149,zdroj!$E$3:$E$700,zdroj!$G$3:$G$700))","v":"Faurecie MB"},{"$f":"IF(X149=\"\",\"\",LOOKUP(X149,zdroj!$E$3:$E$700,zdroj!$H$3:$H$700))","v":"vlastní"},{"$f":"+IF(X149=\"\",\"\",LOOKUP(X149,zdroj!$E$3:$E$700,zdroj!$I$3:$I$700))","v":"Naplánováno"},{"$f":"IF(AE149=\"\",\"\",LOOKUP(AE149,zdroj!$E$3:$E$700,zdroj!$F$3:$F$700))","v":"00:00:00"},9,969,{"$f":"IF(AE149=\"\",\"\",LOOKUP(AE149,zdroj!$E$3:$E$700,zdroj!$L$3:$L$700))","v":3},{"$f":"IF(AE149=\"\",\"\",LOOKUP(AE149,zdroj!$E$3:$E$700,zdroj!$G$3:$G$700))","v":"T-Net"},{"$f":"IF(AE149=\"\",\"\",LOOKUP(AE149,zdroj!$E$3:$E$700,zdroj!$H$3:$H$700))","v":"MSB"},{"$f":"+IF(AE149=\"\",\"\",LOOKUP(AE149,zdroj!$E$3:$E$700,zdroj!$I$3:$I$700))","v":"Naplánováno"}]
[{"$f":"IF(C150=\"\",\"\",LOOKUP(C150,zdroj!$E$3:$E$700,zdroj!$F$3:$F$700))","v":"12:10:00"},10,850,{"$f":"IF(C150=\"\",\"\",LOOKUP(C150,zdroj!$E$3:$E$700,zdroj!$L$3:$L$700))","v":3},{"$f":"IF(C150=\"\",\"\",LOOKUP(C150,zdroj!$E$3:$E$700,zdroj!$G$3:$G$700))","v":"Nufarm"},{"$f":"IF(C150=\"\",\"\",LOOKUP(C150,zdroj!$E$3:$E$700,zdroj!$H$3:$H$700))","v":"Maco-Trans"},{"$f":"+IF(C150=\"\",\"\",LOOKUP(C150,zdroj!$E$3:$E$700,zdroj!$I$3:$I$700))","v":"Dokončeno"},{"$f":"IF(J150=\"\",\"\",LOOKUP(J150,zdroj!$E$3:$E$700,zdroj!$F$3:$F$700))","v":"13:00:00"},10,880,{"$f":"IF(J150=\"\",\"\",LOOKUP(J150,zdroj!$E$3:$E$700,zdroj!$L$3:$L$700))","v":5},{"$f":"IF(J150=\"\",\"\",LOOKUP(J150,zdroj!$E$3:$E$700,zdroj!$G$3:$G$700))","v":"Faurecie MB"},{"$f":"IF(J150=\"\",\"\",LOOKUP(J150,zdroj!$E$3:$E$700,zdroj!$H$3:$H$700))","v":"vlastní"},{"$f":"+IF(J150=\"\",\"\",LOOKUP(J150,zdroj!$E$3:$E$700,zdroj!$I$3:$I$700))","v":"Dokončeno"},{"$f":"IF(Q150=\"\",\"\",LOOKUP(Q150,zdroj!$E$3:$E$700,zdroj!$F$3:$F$700))","v":"10:45:00"},10,910,{"$f":"IF(Q150=\"\",\"\",LOOKUP(Q150,zdroj!$E$3:$E$700,zdroj!$L$3:$L$700))","v":1},{"$f":"IF(Q150=\"\",\"\",LOOKUP(Q150,zdroj!$E$3:$E$700,zdroj!$G$3:$G$700))","v":"BS vinařské"},{"$f":"IF(Q150=\"\",\"\",LOOKUP(Q150,zdroj!$E$3:$E$700,zdroj!$H$3:$H$700))","v":"vlastní"},{"$f":"+IF(Q150=\"\",\"\",LOOKUP(Q150,zdroj!$E$3:$E$700,zdroj!$I$3:$I$700))","v":"Dokončeno"},{"$f":"IF(X150=\"\",\"\",LOOKUP(X150,zdroj!$E$3:$E$700,zdroj!$F$3:$F$700))","v":"00:00:00"},10,940,{"$f":"IF(X150=\"\",\"\",LOOKUP(X150,zdroj!$E$3:$E$700,zdroj!$L$3:$L$700))","v":1},{"$f":"IF(X150=\"\",\"\",LOOKUP(X150,zdroj!$E$3:$E$700,zdroj!$G$3:$G$700))","v":"Bikapack"},{"$f":"IF(X150=\"\",\"\",LOOKUP(X150,zdroj!$E$3:$E$700,zdroj!$H$3:$H$700))","v":"Vlastní"},{"$f":"+IF(X150=\"\",\"\",LOOKUP(X150,zdroj!$E$3:$E$700,zdroj!$I$3:$I$700))","v":"Naplánováno"},{"$f":"IF(AE150=\"\",\"\",LOOKUP(AE150,zdroj!$E$3:$E$700,zdroj!$F$3:$F$700))","v":"00:00:00"},10,970,{"$f":"IF(AE150=\"\",\"\",LOOKUP(AE150,zdroj!$E$3:$E$700,zdroj!$L$3:$L$700))","v":1},{"$f":"IF(AE150=\"\",\"\",LOOKUP(AE150,zdroj!$E$3:$E$700,zdroj!$G$3:$G$700))","v":"Nohel Garden"},{"$f":"IF(AE150=\"\",\"\",LOOKUP(AE150,zdroj!$E$3:$E$700,zdroj!$H$3:$H$700))","v":"vlastní"},{"$f":"+IF(AE150=\"\",\"\",LOOKUP(AE150,zdroj!$E$3:$E$700,zdroj!$I$3:$I$700))","v":"Naplánováno"}]
[{"$f":"IF(C151=\"\",\"\",LOOKUP(C151,zdroj!$E$3:$E$700,zdroj!$F$3:$F$700))","v":"13:00:00"},11,851,{"$f":"IF(C151=\"\",\"\",LOOKUP(C151,zdroj!$E$3:$E$700,zdroj!$L$3:$L$700))","v":3},{"$f":"IF(C151=\"\",\"\",LOOKUP(C151,zdroj!$E$3:$E$700,zdroj!$G$3:$G$700))","v":"T-Net"},{"$f":"IF(C151=\"\",\"\",LOOKUP(C151,zdroj!$E$3:$E$700,zdroj!$H$3:$H$700))","v":"MSB"},{"$f":"+IF(C151=\"\",\"\",LOOKUP(C151,zdroj!$E$3:$E$700,zdroj!$I$3:$I$700))","v":"Dokončeno"},{"$f":"IF(J151=\"\",\"\",LOOKUP(J151,zdroj!$E$3:$E$700,zdroj!$F$3:$F$700))","v":"14:00:00"},11,881,{"$f":"IF(J151=\"\",\"\",LOOKUP(J151,zdroj!$E$3:$E$700,zdroj!$L$3:$L$700))","v":3},{"$f":"IF(J151=\"\",\"\",LOOKUP(J151,zdroj!$E$3:$E$700,zdroj!$G$3:$G$700))","v":"Faurecie PCE"},{"$f":"IF(J151=\"\",\"\",LOOKUP(J151,zdroj!$E$3:$E$700,zdroj!$H$3:$H$700))","v":"vlastní"},{"$f":"+IF(J151=\"\",\"\",LOOKUP(J151,zdroj!$E$3:$E$700,zdroj!$I$3:$I$700))","v":"Dokončeno"},{"$f":"IF(Q151=\"\",\"\",LOOKUP(Q151,zdroj!$E$3:$E$700,zdroj!$F$3:$F$700))","v":"11:00:00"},11,911,{"$f":"IF(Q151=\"\",\"\",LOOKUP(Q151,zdroj!$E$3:$E$700,zdroj!$L$3:$L$700))","v":1},{"$f":"IF(Q151=\"\",\"\",LOOKUP(Q151,zdroj!$E$3:$E$700,zdroj!$G$3:$G$700))","v":"Merlin"},{"$f":"IF(Q151=\"\",\"\",LOOKUP(Q151,zdroj!$E$3:$E$700,zdroj!$H$3:$H$700))","v":"vlastní"},{"$f":"+IF(Q151=\"\",\"\",LOOKUP(Q151,zdroj!$E$3:$E$700,zdroj!$I$3:$I$700))","v":"Dokončeno"},{"$f":"IF(X151=\"\",\"\",LOOKUP(X151,zdroj!$E$3:$E$700,zdroj!$F$3:$F$700))","v":""},"","",{"$f":"IF(X151=\"\",\"\",LOOKUP(X151,zdroj!$E$3:$E$700,zdroj!$L$3:$L$700))","v":""},{"$f":"IF(X151=\"\",\"\",LOOKUP(X151,zdroj!$E$3:$E$700,zdroj!$G$3:$G$700))","v":""},{"$f":"IF(X151=\"\",\"\",LOOKUP(X151,zdroj!$E$3:$E$700,zdroj!$H$3:$H$700))","v":""},{"$f":"+IF(X151=\"\",\"\",LOOKUP(X151,zdroj!$E$3:$E$700,zdroj!$I$3:$I$700))","v":""},{"$f":"IF(AE151=\"\",\"\",LOOKUP(AE151,zdroj!$E$3:$E$700,zdroj!$F$3:$F$700))","v":"00:00:00"},11,971,{"$f":"IF(AE151=\"\",\"\",LOOKUP(AE151,zdroj!$E$3:$E$700,zdroj!$L$3:$L$700))","v":3},{"$f":"IF(AE151=\"\",\"\",LOOKUP(AE151,zdroj!$E$3:$E$700,zdroj!$G$3:$G$700))","v":"T-Net"},{"$f":"IF(AE151=\"\",\"\",LOOKUP(AE151,zdroj!$E$3:$E$700,zdroj!$H$3:$H$700))","v":"MSB"},{"$f":"+IF(AE151=\"\",\"\",LOOKUP(AE151,zdroj!$E$3:$E$700,zdroj!$I$3:$I$700))","v":"Naplánováno"}]
[{"$f":"IF(C152=\"\",\"\",LOOKUP(C152,zdroj!$E$3:$E$700,zdroj!$F$3:$F$700))","v":"13:00:00"},12,852,{"$f":"IF(C152=\"\",\"\",LOOKUP(C152,zdroj!$E$3:$E$700,zdroj!$L$3:$L$700))","v":2},{"$f":"IF(C152=\"\",\"\",LOOKUP(C152,zdroj!$E$3:$E$700,zdroj!$G$3:$G$700))","v":"Luve"},{"$f":"IF(C152=\"\",\"\",LOOKUP(C152,zdroj!$E$3:$E$700,zdroj!$H$3:$H$700))","v":"vlastní"},{"$f":"+IF(C152=\"\",\"\",LOOKUP(C152,zdroj!$E$3:$E$700,zdroj!$I$3:$I$700))","v":"Dokončeno"},{"$f":"IF(J152=\"\",\"\",LOOKUP(J152,zdroj!$E$3:$E$700,zdroj!$F$3:$F$700))","v":"00:00:00"},12,882,{"$f":"IF(J152=\"\",\"\",LOOKUP(J152,zdroj!$E$3:$E$700,zdroj!$L$3:$L$700))","v":3},{"$f":"IF(J152=\"\",\"\",LOOKUP(J152,zdroj!$E$3:$E$700,zdroj!$G$3:$G$700))","v":"Faurecie MB"},{"$f":"IF(J152=\"\",\"\",LOOKUP(J152,zdroj!$E$3:$E$700,zdroj!$H$3:$H$700))","v":"vlastní"},{"$f":"+IF(J152=\"\",\"\",LOOKUP(J152,zdroj!$E$3:$E$700,zdroj!$I$3:$I$700))","v":"Dokončeno"},{"$f":"IF(Q152=\"\",\"\",LOOKUP(Q152,zdroj!$E$3:$E$700,zdroj!$F$3:$F$700))","v":"11:20:00"},12,912,{"$f":"IF(Q152=\"\",\"\",LOOKUP(Q152,zdroj!$E$3:$E$700,zdroj!$L$3:$L$700))","v":5},{"$f":"IF(Q152=\"\",\"\",LOOKUP(Q152,zdroj!$E$3:$E$700,zdroj!$G$3:$G$700))","v":"Faurecie MB"},{"$f":"IF(Q152=\"\",\"\",LOOKUP(Q152,zdroj!$E$3:$E$700,zdroj!$H$3:$H$700))","v":"vlastní"},{"$f":"+IF(Q152=\"\",\"\",LOOKUP(Q152,zdroj!$E$3:$E$700,zdroj!$I$3:$I$700))","v":"Dokončeno"},{"$f":"IF(X152=\"\",\"\",LOOKUP(X152,zdroj!$E$3:$E$700,zdroj!$F$3:$F$700))","v":""},"","",{"$f":"IF(X152=\"\",\"\",LOOKUP(X152,zdroj!$E$3:$E$700,zdroj!$L$3:$L$700))","v":""},{"$f":"IF(X152=\"\",\"\",LOOKUP(X152,zdroj!$E$3:$E$700,zdroj!$G$3:$G$700))","v":""},{"$f":"IF(X152=\"\",\"\",LOOKUP(X152,zdroj!$E$3:$E$700,zdroj!$H$3:$H$700))","v":""},{"$f":"+IF(X152=\"\",\"\",LOOKUP(X152,zdroj!$E$3:$E$700,zdroj!$I$3:$I$700))","v":""},{"$f":"IF(AE152=\"\",\"\",LOOKUP(AE152,zdroj!$E$3:$E$700,zdroj!$F$3:$F$700))","v":"00:00:00"},12,972,{"$f":"IF(AE152=\"\",\"\",LOOKUP(AE152,zdroj!$E$3:$E$700,zdroj!$L$3:$L$700))","v":3},{"$f":"IF(AE152=\"\",\"\",LOOKUP(AE152,zdroj!$E$3:$E$700,zdroj!$G$3:$G$700))","v":"T-Net"},{"$f":"IF(AE152=\"\",\"\",LOOKUP(AE152,zdroj!$E$3:$E$700,zdroj!$H$3:$H$700))","v":"MSB"},{"$f":"+IF(AE152=\"\",\"\",LOOKUP(AE152,zdroj!$E$3:$E$700,zdroj!$I$3:$I$700))","v":"Naplánováno"}]
[{"$f":"IF(C153=\"\",\"\",LOOKUP(C153,zdroj!$E$3:$E$700,zdroj!$F$3:$F$700))","v":"15:00:00"},13,853,{"$f":"IF(C153=\"\",\"\",LOOKUP(C153,zdroj!$E$3:$E$700,zdroj!$L$3:$L$700))","v":1},{"$f":"IF(C153=\"\",\"\",LOOKUP(C153,zdroj!$E$3:$E$700,zdroj!$G$3:$G$700))","v":"Faurecie HLO"},{"$f":"IF(C153=\"\",\"\",LOOKUP(C153,zdroj!$E$3:$E$700,zdroj!$H$3:$H$700))","v":"vlastní"},{"$f":"+IF(C153=\"\",\"\",LOOKUP(C153,zdroj!$E$3:$E$700,zdroj!$I$3:$I$700))","v":"Dokončeno"},{"$f":"IF(J153=\"\",\"\",LOOKUP(J153,zdroj!$E$3:$E$700,zdroj!$F$3:$F$700))","v":""},"","",{"$f":"IF(J153=\"\",\"\",LOOKUP(J153,zdroj!$E$3:$E$700,zdroj!$L$3:$L$700))","v":""},{"$f":"IF(J153=\"\",\"\",LOOKUP(J153,zdroj!$E$3:$E$700,zdroj!$G$3:$G$700))","v":""},{"$f":"IF(J153=\"\",\"\",LOOKUP(J153,zdroj!$E$3:$E$700,zdroj!$H$3:$H$700))","v":""},{"$f":"+IF(J153=\"\",\"\",LOOKUP(J153,zdroj!$E$3:$E$700,zdroj!$I$3:$I$700))","v":""},{"$f":"IF(Q153=\"\",\"\",LOOKUP(Q153,zdroj!$E$3:$E$700,zdroj!$F$3:$F$700))","v":"11:30:00"},13,913,{"$f":"IF(Q153=\"\",\"\",LOOKUP(Q153,zdroj!$E$3:$E$700,zdroj!$L$3:$L$700))","v":1},{"$f":"IF(Q153=\"\",\"\",LOOKUP(Q153,zdroj!$E$3:$E$700,zdroj!$G$3:$G$700))","v":"Mankyz "},{"$f":"IF(Q153=\"\",\"\",LOOKUP(Q153,zdroj!$E$3:$E$700,zdroj!$H$3:$H$700))","v":"vlastní"},{"$f":"+IF(Q153=\"\",\"\",LOOKUP(Q153,zdroj!$E$3:$E$700,zdroj!$I$3:$I$700))","v":"Vychystáno"},{"$f":"IF(X153=\"\",\"\",LOOKUP(X153,zdroj!$E$3:$E$700,zdroj!$F$3:$F$700))","v":""},"","",{"$f":"IF(X153=\"\",\"\",LOOKUP(X153,zdroj!$E$3:$E$700,zdroj!$L$3:$L$700))","v":""},{"$f":"IF(X153=\"\",\"\",LOOKUP(X153,zdroj!$E$3:$E$700,zdroj!$G$3:$G$700))","v":""},{"$f":"IF(X153=\"\",\"\",LOOKUP(X153,zdroj!$E$3:$E$700,zdroj!$H$3:$H$700))","v":""},{"$f":"+IF(X153=\"\",\"\",LOOKUP(X153,zdroj!$E$3:$E$700,zdroj!$I$3:$I$700))","v":""},{"$f":"IF(AE153=\"\",\"\",LOOKUP(AE153,zdroj!$E$3:$E$700,zdroj!$F$3:$F$700))","v":"00:00:00"},13,973,{"$f":"IF(AE153=\"\",\"\",LOOKUP(AE153,zdroj!$E$3:$E$700,zdroj!$L$3:$L$700))","v":1},{"$f":"IF(AE153=\"\",\"\",LOOKUP(AE153,zdroj!$E$3:$E$700,zdroj!$G$3:$G$700))","v":"T-Net"},{"$f":"IF(AE153=\"\",\"\",LOOKUP(AE153,zdroj!$E$3:$E$700,zdroj!$H$3:$H$700))","v":"Legarde"},{"$f":"+IF(AE153=\"\",\"\",LOOKUP(AE153,zdroj!$E$3:$E$700,zdroj!$I$3:$I$700))","v":"Naplánováno"}]
[{"$f":"IF(C154=\"\",\"\",LOOKUP(C154,zdroj!$E$3:$E$700,zdroj!$F$3:$F$700))","v":"00:00:00"},14,854,{"$f":"IF(C154=\"\",\"\",LOOKUP(C154,zdroj!$E$3:$E$700,zdroj!$L$3:$L$700))","v":5},{"$f":"IF(C154=\"\",\"\",LOOKUP(C154,zdroj!$E$3:$E$700,zdroj!$G$3:$G$700))","v":"Ekotekh"},{"$f":"IF(C154=\"\",\"\",LOOKUP(C154,zdroj!$E$3:$E$700,zdroj!$H$3:$H$700))","v":"vlastní"},{"$f":"+IF(C154=\"\",\"\",LOOKUP(C154,zdroj!$E$3:$E$700,zdroj!$I$3:$I$700))","v":"Přeplánováno"},{"$f":"IF(J154=\"\",\"\",LOOKUP(J154,zdroj!$E$3:$E$700,zdroj!$F$3:$F$700))","v":""},"","",{"$f":"IF(J154=\"\",\"\",LOOKUP(J154,zdroj!$E$3:$E$700,zdroj!$L$3:$L$700))","v":""},{"$f":"IF(J154=\"\",\"\",LOOKUP(J154,zdroj!$E$3:$E$700,zdroj!$G$3:$G$700))","v":""},{"$f":"IF(J154=\"\",\"\",LOOKUP(J154,zdroj!$E$3:$E$700,zdroj!$H$3:$H$700))","v":""},{"$f":"+IF(J154=\"\",\"\",LOOKUP(J154,zdroj!$E$3:$E$700,zdroj!$I$3:$I$700))","v":""},{"$f":"IF(Q154=\"\",\"\",LOOKUP(Q154,zdroj!$E$3:$E$700,zdroj!$F$3:$F$700))","v":"00:00:00"},14,914,{"$f":"IF(Q154=\"\",\"\",LOOKUP(Q154,zdroj!$E$3:$E$700,zdroj!$L$3:$L$700))","v":1},{"$f":"IF(Q154=\"\",\"\",LOOKUP(Q154,zdroj!$E$3:$E$700,zdroj!$G$3:$G$700))","v":"Faurecie HLO"},{"$f":"IF(Q154=\"\",\"\",LOOKUP(Q154,zdroj!$E$3:$E$700,zdroj!$H$3:$H$700))","v":"vlastní"},{"$f":"+IF(Q154=\"\",\"\",LOOKUP(Q154,zdroj!$E$3:$E$700,zdroj!$I$3:$I$700))","v":"Vychystáno"},{"$f":"IF(X154=\"\",\"\",LOOKUP(X154,zdroj!$E$3:$E$700,zdroj!$F$3:$F$700))","v":""},"","",{"$f":"IF(X154=\"\",\"\",LOOKUP(X154,zdroj!$E$3:$E$700,zdroj!$L$3:$L$700))","v":""},{"$f":"IF(X154=\"\",\"\",LOOKUP(X154,zdroj!$E$3:$E$700,zdroj!$G$3:$G$700))","v":""},{"$f":"IF(X154=\"\",\"\",LOOKUP(X154,zdroj!$E$3:$E$700,zdroj!$H$3:$H$700))","v":""},{"$f":"+IF(X154=\"\",\"\",LOOKUP(X154,zdroj!$E$3:$E$700,zdroj!$I$3:$I$700))","v":""},{"$f":"IF(AE154=\"\",\"\",LOOKUP(AE154,zdroj!$E$3:$E$700,zdroj!$F$3:$F$700))","v":"00:00:00"},14,974,{"$f":"IF(AE154=\"\",\"\",LOOKUP(AE154,zdroj!$E$3:$E$700,zdroj!$L$3:$L$700))","v":3},{"$f":"IF(AE154=\"\",\"\",LOOKUP(AE154,zdroj!$E$3:$E$700,zdroj!$G$3:$G$700))","v":"VITRACO"},{"$f":"IF(AE154=\"\",\"\",LOOKUP(AE154,zdroj!$E$3:$E$700,zdroj!$H$3:$H$700))","v":"? P. Karpíšek"},{"$f":"+IF(AE154=\"\",\"\",LOOKUP(AE154,zdroj!$E$3:$E$700,zdroj!$I$3:$I$700))","v":"Naplánováno"}]
[{"$f":"IF(C155=\"\",\"\",LOOKUP(C155,zdroj!$E$3:$E$700,zdroj!$F$3:$F$700))","v":"00:00:00"},15,855,{"$f":"IF(C155=\"\",\"\",LOOKUP(C155,zdroj!$E$3:$E$700,zdroj!$L$3:$L$700))","v":5},{"$f":"IF(C155=\"\",\"\",LOOKUP(C155,zdroj!$E$3:$E$700,zdroj!$G$3:$G$700))","v":"Ekotekh"},{"$f":"IF(C155=\"\",\"\",LOOKUP(C155,zdroj!$E$3:$E$700,zdroj!$H$3:$H$700))","v":"vlastní"},{"$f":"+IF(C155=\"\",\"\",LOOKUP(C155,zdroj!$E$3:$E$700,zdroj!$I$3:$I$700))","v":"Přeplánováno"},{"$f":"IF(J155=\"\",\"\",LOOKUP(J155,zdroj!$E$3:$E$700,zdroj!$F$3:$F$700))","v":""},"","",{"$f":"IF(J155=\"\",\"\",LOOKUP(J155,zdroj!$E$3:$E$700,zdroj!$L$3:$L$700))","v":""},{"$f":"IF(J155=\"\",\"\",LOOKUP(J155,zdroj!$E$3:$E$700,zdroj!$G$3:$G$700))","v":""},{"$f":"IF(J155=\"\",\"\",LOOKUP(J155,zdroj!$E$3:$E$700,zdroj!$H$3:$H$700))","v":""},{"$f":"+IF(J155=\"\",\"\",LOOKUP(J155,zdroj!$E$3:$E$700,zdroj!$I$3:$I$700))","v":""},{"$f":"IF(Q155=\"\",\"\",LOOKUP(Q155,zdroj!$E$3:$E$700,zdroj!$F$3:$F$700))","v":"00:00:00"},15,915,{"$f":"IF(Q155=\"\",\"\",LOOKUP(Q155,zdroj!$E$3:$E$700,zdroj!$L$3:$L$700))","v":1},{"$f":"IF(Q155=\"\",\"\",LOOKUP(Q155,zdroj!$E$3:$E$700,zdroj!$G$3:$G$700))","v":"GLS"},{"$f":"IF(Q155=\"\",\"\",LOOKUP(Q155,zdroj!$E$3:$E$700,zdroj!$H$3:$H$700))","v":0},{"$f":"+IF(Q155=\"\",\"\",LOOKUP(Q155,zdroj!$E$3:$E$700,zdroj!$I$3:$I$700))","v":"Vychystáno"},{"$f":"IF(X155=\"\",\"\",LOOKUP(X155,zdroj!$E$3:$E$700,zdroj!$F$3:$F$700))","v":""},"","",{"$f":"IF(X155=\"\",\"\",LOOKUP(X155,zdroj!$E$3:$E$700,zdroj!$L$3:$L$700))","v":""},{"$f":"IF(X155=\"\",\"\",LOOKUP(X155,zdroj!$E$3:$E$700,zdroj!$G$3:$G$700))","v":""},{"$f":"IF(X155=\"\",\"\",LOOKUP(X155,zdroj!$E$3:$E$700,zdroj!$H$3:$H$700))","v":""},{"$f":"+IF(X155=\"\",\"\",LOOKUP(X155,zdroj!$E$3:$E$700,zdroj!$I$3:$I$700))","v":""},{"$f":"IF(AE155=\"\",\"\",LOOKUP(AE155,zdroj!$E$3:$E$700,zdroj!$F$3:$F$700))","v":""},"","",{"$f":"IF(AE155=\"\",\"\",LOOKUP(AE155,zdroj!$E$3:$E$700,zdroj!$L$3:$L$700))","v":""},{"$f":"IF(AE155=\"\",\"\",LOOKUP(AE155,zdroj!$E$3:$E$700,zdroj!$G$3:$G$700))","v":""},{"$f":"IF(AE155=\"\",\"\",LOOKUP(AE155,zdroj!$E$3:$E$700,zdroj!$H$3:$H$700))","v":""},{"$f":"+IF(AE155=\"\",\"\",LOOKUP(AE155,zdroj!$E$3:$E$700,zdroj!$I$3:$I$700))","v":""}]
[{"$f":"IF(C156=\"\",\"\",LOOKUP(C156,zdroj!$E$3:$E$700,zdroj!$F$3:$F$700))","v":"00:00:00"},16,856,{"$f":"IF(C156=\"\",\"\",LOOKUP(C156,zdroj!$E$3:$E$700,zdroj!$L$3:$L$700))","v":2},{"$f":"IF(C156=\"\",\"\",LOOKUP(C156,zdroj!$E$3:$E$700,zdroj!$G$3:$G$700))","v":"Faurecie MB"},{"$f":"IF(C156=\"\",\"\",LOOKUP(C156,zdroj!$E$3:$E$700,zdroj!$H$3:$H$700))","v":"vlastní"},{"$f":"+IF(C156=\"\",\"\",LOOKUP(C156,zdroj!$E$3:$E$700,zdroj!$I$3:$I$700))","v":"Dokončeno"},{"$f":"IF(J156=\"\",\"\",LOOKUP(J156,zdroj!$E$3:$E$700,zdroj!$F$3:$F$700))","v":""},"","",{"$f":"IF(J156=\"\",\"\",LOOKUP(J156,zdroj!$E$3:$E$700,zdroj!$L$3:$L$700))","v":""},{"$f":"IF(J156=\"\",\"\",LOOKUP(J156,zdroj!$E$3:$E$700,zdroj!$G$3:$G$700))","v":""},{"$f":"IF(J156=\"\",\"\",LOOKUP(J156,zdroj!$E$3:$E$700,zdroj!$H$3:$H$700))","v":""},{"$f":"+IF(J156=\"\",\"\",LOOKUP(J156,zdroj!$E$3:$E$700,zdroj!$I$3:$I$700))","v":""},{"$f":"IF(Q156=\"\",\"\",LOOKUP(Q156,zdroj!$E$3:$E$700,zdroj!$F$3:$F$700))","v":"00:00:00"},16,916,{"$f":"IF(Q156=\"\",\"\",LOOKUP(Q156,zdroj!$E$3:$E$700,zdroj!$L$3:$L$700))","v":1},{"$f":"IF(Q156=\"\",\"\",LOOKUP(Q156,zdroj!$E$3:$E$700,zdroj!$G$3:$G$700))","v":"OZAS-ESAB"},{"$f":"IF(Q156=\"\",\"\",LOOKUP(Q156,zdroj!$E$3:$E$700,zdroj!$H$3:$H$700))","v":"Schenker"},{"$f":"+IF(Q156=\"\",\"\",LOOKUP(Q156,zdroj!$E$3:$E$700,zdroj!$I$3:$I$700))","v":"Dokončeno"},{"$f":"IF(X156=\"\",\"\",LOOKUP(X156,zdroj!$E$3:$E$700,zdroj!$F$3:$F$700))","v":""},"","",{"$f":"IF(X156=\"\",\"\",LOOKUP(X156,zdroj!$E$3:$E$700,zdroj!$L$3:$L$700))","v":""},{"$f":"IF(X156=\"\",\"\",LOOKUP(X156,zdroj!$E$3:$E$700,zdroj!$G$3:$G$700))","v":""},{"$f":"IF(X156=\"\",\"\",LOOKUP(X156,zdroj!$E$3:$E$700,zdroj!$H$3:$H$700))","v":""},{"$f":"+IF(X156=\"\",\"\",LOOKUP(X156,zdroj!$E$3:$E$700,zdroj!$I$3:$I$700))","v":""},{"$f":"IF(AE156=\"\",\"\",LOOKUP(AE156,zdroj!$E$3:$E$700,zdroj!$F$3:$F$700))","v":""},"","",{"$f":"IF(AE156=\"\",\"\",LOOKUP(AE156,zdroj!$E$3:$E$700,zdroj!$L$3:$L$700))","v":""},{"$f":"IF(AE156=\"\",\"\",LOOKUP(AE156,zdroj!$E$3:$E$700,zdroj!$G$3:$G$700))","v":""},{"$f":"IF(AE156=\"\",\"\",LOOKUP(AE156,zdroj!$E$3:$E$700,zdroj!$H$3:$H$700))","v":""},{"$f":"+IF(AE156=\"\",\"\",LOOKUP(AE156,zdroj!$E$3:$E$700,zdroj!$I$3:$I$700))","v":""}]
[{"$f":"IF(C157=\"\",\"\",LOOKUP(C157,zdroj!$E$3:$E$700,zdroj!$F$3:$F$700))","v":"00:00:00"},17,857,{"$f":"IF(C157=\"\",\"\",LOOKUP(C157,zdroj!$E$3:$E$700,zdroj!$L$3:$L$700))","v":4},{"$f":"IF(C157=\"\",\"\",LOOKUP(C157,zdroj!$E$3:$E$700,zdroj!$G$3:$G$700))","v":"Faurecie MB"},{"$f":"IF(C157=\"\",\"\",LOOKUP(C157,zdroj!$E$3:$E$700,zdroj!$H$3:$H$700))","v":"vlastní"},{"$f":"+IF(C157=\"\",\"\",LOOKUP(C157,zdroj!$E$3:$E$700,zdroj!$I$3:$I$700))","v":"Dokončeno"},{"$f":"IF(J157=\"\",\"\",LOOKUP(J157,zdroj!$E$3:$E$700,zdroj!$F$3:$F$700))","v":""},"","",{"$f":"IF(J157=\"\",\"\",LOOKUP(J157,zdroj!$E$3:$E$700,zdroj!$L$3:$L$700))","v":""},{"$f":"IF(J157=\"\",\"\",LOOKUP(J157,zdroj!$E$3:$E$700,zdroj!$G$3:$G$700))","v":""},{"$f":"IF(J157=\"\",\"\",LOOKUP(J157,zdroj!$E$3:$E$700,zdroj!$H$3:$H$700))","v":""},{"$f":"+IF(J157=\"\",\"\",LOOKUP(J157,zdroj!$E$3:$E$700,zdroj!$I$3:$I$700))","v":""},{"$f":"IF(Q157=\"\",\"\",LOOKUP(Q157,zdroj!$E$3:$E$700,zdroj!$F$3:$F$700))","v":""},"","",{"$f":"IF(Q157=\"\",\"\",LOOKUP(Q157,zdroj!$E$3:$E$700,zdroj!$L$3:$L$700))","v":""},{"$f":"IF(Q157=\"\",\"\",LOOKUP(Q157,zdroj!$E$3:$E$700,zdroj!$G$3:$G$700))","v":""},{"$f":"IF(Q157=\"\",\"\",LOOKUP(Q157,zdroj!$E$3:$E$700,zdroj!$H$3:$H$700))","v":""},{"$f":"+IF(Q157=\"\",\"\",LOOKUP(Q157,zdroj!$E$3:$E$700,zdroj!$I$3:$I$700))","v":""},{"$f":"IF(X157=\"\",\"\",LOOKUP(X157,zdroj!$E$3:$E$700,zdroj!$F$3:$F$700))","v":""},"","",{"$f":"IF(X157=\"\",\"\",LOOKUP(X157,zdroj!$E$3:$E$700,zdroj!$L$3:$L$700))","v":""},{"$f":"IF(X157=\"\",\"\",LOOKUP(X157,zdroj!$E$3:$E$700,zdroj!$G$3:$G$700))","v":""},{"$f":"IF(X157=\"\",\"\",LOOKUP(X157,zdroj!$E$3:$E$700,zdroj!$H$3:$H$700))","v":""},{"$f":"+IF(X157=\"\",\"\",LOOKUP(X157,zdroj!$E$3:$E$700,zdroj!$I$3:$I$700))","v":""},{"$f":"IF(AE157=\"\",\"\",LOOKUP(AE157,zdroj!$E$3:$E$700,zdroj!$F$3:$F$700))","v":""},"","",{"$f":"IF(AE157=\"\",\"\",LOOKUP(AE157,zdroj!$E$3:$E$700,zdroj!$L$3:$L$700))","v":""},{"$f":"IF(AE157=\"\",\"\",LOOKUP(AE157,zdroj!$E$3:$E$700,zdroj!$G$3:$G$700))","v":""},{"$f":"IF(AE157=\"\",\"\",LOOKUP(AE157,zdroj!$E$3:$E$700,zdroj!$H$3:$H$700))","v":""},{"$f":"+IF(AE157=\"\",\"\",LOOKUP(AE157,zdroj!$E$3:$E$700,zdroj!$I$3:$I$700))","v":""}]
[{"$f":"IF(C158=\"\",\"\",LOOKUP(C158,zdroj!$E$3:$E$700,zdroj!$F$3:$F$700))","v":""},"","",{"$f":"IF(C158=\"\",\"\",LOOKUP(C158,zdroj!$E$3:$E$700,zdroj!$L$3:$L$700))","v":""},{"$f":"IF(C158=\"\",\"\",LOOKUP(C158,zdroj!$E$3:$E$700,zdroj!$G$3:$G$700))","v":""},{"$f":"IF(C158=\"\",\"\",LOOKUP(C158,zdroj!$E$3:$E$700,zdroj!$H$3:$H$700))","v":""},{"$f":"+IF(C158=\"\",\"\",LOOKUP(C158,zdroj!$E$3:$E$700,zdroj!$I$3:$I$700))","v":""},{"$f":"IF(J158=\"\",\"\",LOOKUP(J158,zdroj!$E$3:$E$700,zdroj!$F$3:$F$700))","v":""},"","",{"$f":"IF(J158=\"\",\"\",LOOKUP(J158,zdroj!$E$3:$E$700,zdroj!$L$3:$L$700))","v":""},{"$f":"IF(J158=\"\",\"\",LOOKUP(J158,zdroj!$E$3:$E$700,zdroj!$G$3:$G$700))","v":""},{"$f":"IF(J158=\"\",\"\",LOOKUP(J158,zdroj!$E$3:$E$700,zdroj!$H$3:$H$700))","v":""},{"$f":"+IF(J158=\"\",\"\",LOOKUP(J158,zdroj!$E$3:$E$700,zdroj!$I$3:$I$700))","v":""},{"$f":"IF(Q158=\"\",\"\",LOOKUP(Q158,zdroj!$E$3:$E$700,zdroj!$F$3:$F$700))","v":""},"","",{"$f":"IF(Q158=\"\",\"\",LOOKUP(Q158,zdroj!$E$3:$E$700,zdroj!$L$3:$L$700))","v":""},{"$f":"IF(Q158=\"\",\"\",LOOKUP(Q158,zdroj!$E$3:$E$700,zdroj!$G$3:$G$700))","v":""},{"$f":"IF(Q158=\"\",\"\",LOOKUP(Q158,zdroj!$E$3:$E$700,zdroj!$H$3:$H$700))","v":""},{"$f":"+IF(Q158=\"\",\"\",LOOKUP(Q158,zdroj!$E$3:$E$700,zdroj!$I$3:$I$700))","v":""},{"$f":"IF(X158=\"\",\"\",LOOKUP(X158,zdroj!$E$3:$E$700,zdroj!$F$3:$F$700))","v":""},"","",{"$f":"IF(X158=\"\",\"\",LOOKUP(X158,zdroj!$E$3:$E$700,zdroj!$L$3:$L$700))","v":""},{"$f":"IF(X158=\"\",\"\",LOOKUP(X158,zdroj!$E$3:$E$700,zdroj!$G$3:$G$700))","v":""},{"$f":"IF(X158=\"\",\"\",LOOKUP(X158,zdroj!$E$3:$E$700,zdroj!$H$3:$H$700))","v":""},{"$f":"+IF(X158=\"\",\"\",LOOKUP(X158,zdroj!$E$3:$E$700,zdroj!$I$3:$I$700))","v":""},{"$f":"IF(AE158=\"\",\"\",LOOKUP(AE158,zdroj!$E$3:$E$700,zdroj!$F$3:$F$700))","v":""},"","",{"$f":"IF(AE158=\"\",\"\",LOOKUP(AE158,zdroj!$E$3:$E$700,zdroj!$L$3:$L$700))","v":""},{"$f":"IF(AE158=\"\",\"\",LOOKUP(AE158,zdroj!$E$3:$E$700,zdroj!$G$3:$G$700))","v":""},{"$f":"IF(AE158=\"\",\"\",LOOKUP(AE158,zdroj!$E$3:$E$700,zdroj!$H$3:$H$700))","v":""},{"$f":"+IF(AE158=\"\",\"\",LOOKUP(AE158,zdroj!$E$3:$E$700,zdroj!$I$3:$I$700))","v":""}]
[{"$f":"IF(C159=\"\",\"\",LOOKUP(C159,zdroj!$E$3:$E$700,zdroj!$F$3:$F$700))","v":""},"","",{"$f":"IF(C159=\"\",\"\",LOOKUP(C159,zdroj!$E$3:$E$700,zdroj!$L$3:$L$700))","v":""},{"$f":"IF(C159=\"\",\"\",LOOKUP(C159,zdroj!$E$3:$E$700,zdroj!$G$3:$G$700))","v":""},{"$f":"IF(C159=\"\",\"\",LOOKUP(C159,zdroj!$E$3:$E$700,zdroj!$H$3:$H$700))","v":""},{"$f":"+IF(C159=\"\",\"\",LOOKUP(C159,zdroj!$E$3:$E$700,zdroj!$I$3:$I$700))","v":""},{"$f":"IF(J159=\"\",\"\",LOOKUP(J159,zdroj!$E$3:$E$700,zdroj!$F$3:$F$700))","v":""},"","",{"$f":"IF(J159=\"\",\"\",LOOKUP(J159,zdroj!$E$3:$E$700,zdroj!$L$3:$L$700))","v":""},{"$f":"IF(J159=\"\",\"\",LOOKUP(J159,zdroj!$E$3:$E$700,zdroj!$G$3:$G$700))","v":""},{"$f":"IF(J159=\"\",\"\",LOOKUP(J159,zdroj!$E$3:$E$700,zdroj!$H$3:$H$700))","v":""},{"$f":"+IF(J159=\"\",\"\",LOOKUP(J159,zdroj!$E$3:$E$700,zdroj!$I$3:$I$700))","v":""},{"$f":"IF(Q159=\"\",\"\",LOOKUP(Q159,zdroj!$E$3:$E$700,zdroj!$F$3:$F$700))","v":""},"","",{"$f":"IF(Q159=\"\",\"\",LOOKUP(Q159,zdroj!$E$3:$E$700,zdroj!$L$3:$L$700))","v":""},{"$f":"IF(Q159=\"\",\"\",LOOKUP(Q159,zdroj!$E$3:$E$700,zdroj!$G$3:$G$700))","v":""},{"$f":"IF(Q159=\"\",\"\",LOOKUP(Q159,zdroj!$E$3:$E$700,zdroj!$H$3:$H$700))","v":""},{"$f":"+IF(Q159=\"\",\"\",LOOKUP(Q159,zdroj!$E$3:$E$700,zdroj!$I$3:$I$700))","v":""},{"$f":"IF(X159=\"\",\"\",LOOKUP(X159,zdroj!$E$3:$E$700,zdroj!$F$3:$F$700))","v":""},"","",{"$f":"IF(X159=\"\",\"\",LOOKUP(X159,zdroj!$E$3:$E$700,zdroj!$L$3:$L$700))","v":""},{"$f":"IF(X159=\"\",\"\",LOOKUP(X159,zdroj!$E$3:$E$700,zdroj!$G$3:$G$700))","v":""},{"$f":"IF(X159=\"\",\"\",LOOKUP(X159,zdroj!$E$3:$E$700,zdroj!$H$3:$H$700))","v":""},{"$f":"+IF(X159=\"\",\"\",LOOKUP(X159,zdroj!$E$3:$E$700,zdroj!$I$3:$I$700))","v":""},{"$f":"IF(AE159=\"\",\"\",LOOKUP(AE159,zdroj!$E$3:$E$700,zdroj!$F$3:$F$700))","v":""},"","",{"$f":"IF(AE159=\"\",\"\",LOOKUP(AE159,zdroj!$E$3:$E$700,zdroj!$L$3:$L$700))","v":""},{"$f":"IF(AE159=\"\",\"\",LOOKUP(AE159,zdroj!$E$3:$E$700,zdroj!$G$3:$G$700))","v":""},{"$f":"IF(AE159=\"\",\"\",LOOKUP(AE159,zdroj!$E$3:$E$700,zdroj!$H$3:$H$700))","v":""},{"$f":"+IF(AE159=\"\",\"\",LOOKUP(AE159,zdroj!$E$3:$E$700,zdroj!$I$3:$I$700))","v":""}]
[{"$f":"IF(C160=\"\",\"\",LOOKUP(C160,zdroj!$E$3:$E$700,zdroj!$F$3:$F$700))","v":""},"","",{"$f":"IF(C160=\"\",\"\",LOOKUP(C160,zdroj!$E$3:$E$700,zdroj!$L$3:$L$700))","v":""},{"$f":"IF(C160=\"\",\"\",LOOKUP(C160,zdroj!$E$3:$E$700,zdroj!$G$3:$G$700))","v":""},{"$f":"IF(C160=\"\",\"\",LOOKUP(C160,zdroj!$E$3:$E$700,zdroj!$H$3:$H$700))","v":""},{"$f":"+IF(C160=\"\",\"\",LOOKUP(C160,zdroj!$E$3:$E$700,zdroj!$I$3:$I$700))","v":""},{"$f":"IF(J160=\"\",\"\",LOOKUP(J160,zdroj!$E$3:$E$700,zdroj!$F$3:$F$700))","v":""},"","",{"$f":"IF(J160=\"\",\"\",LOOKUP(J160,zdroj!$E$3:$E$700,zdroj!$L$3:$L$700))","v":""},{"$f":"IF(J160=\"\",\"\",LOOKUP(J160,zdroj!$E$3:$E$700,zdroj!$G$3:$G$700))","v":""},{"$f":"IF(J160=\"\",\"\",LOOKUP(J160,zdroj!$E$3:$E$700,zdroj!$H$3:$H$700))","v":""},{"$f":"+IF(J160=\"\",\"\",LOOKUP(J160,zdroj!$E$3:$E$700,zdroj!$I$3:$I$700))","v":""},{"$f":"IF(Q160=\"\",\"\",LOOKUP(Q160,zdroj!$E$3:$E$700,zdroj!$F$3:$F$700))","v":""},"","",{"$f":"IF(Q160=\"\",\"\",LOOKUP(Q160,zdroj!$E$3:$E$700,zdroj!$L$3:$L$700))","v":""},{"$f":"IF(Q160=\"\",\"\",LOOKUP(Q160,zdroj!$E$3:$E$700,zdroj!$G$3:$G$700))","v":""},{"$f":"IF(Q160=\"\",\"\",LOOKUP(Q160,zdroj!$E$3:$E$700,zdroj!$H$3:$H$700))","v":""},{"$f":"+IF(Q160=\"\",\"\",LOOKUP(Q160,zdroj!$E$3:$E$700,zdroj!$I$3:$I$700))","v":""},{"$f":"IF(X160=\"\",\"\",LOOKUP(X160,zdroj!$E$3:$E$700,zdroj!$F$3:$F$700))","v":""},"","",{"$f":"IF(X160=\"\",\"\",LOOKUP(X160,zdroj!$E$3:$E$700,zdroj!$L$3:$L$700))","v":""},{"$f":"IF(X160=\"\",\"\",LOOKUP(X160,zdroj!$E$3:$E$700,zdroj!$G$3:$G$700))","v":""},{"$f":"IF(X160=\"\",\"\",LOOKUP(X160,zdroj!$E$3:$E$700,zdroj!$H$3:$H$700))","v":""},{"$f":"+IF(X160=\"\",\"\",LOOKUP(X160,zdroj!$E$3:$E$700,zdroj!$I$3:$I$700))","v":""},{"$f":"IF(AE160=\"\",\"\",LOOKUP(AE160,zdroj!$E$3:$E$700,zdroj!$F$3:$F$700))","v":""},"","",{"$f":"IF(AE160=\"\",\"\",LOOKUP(AE160,zdroj!$E$3:$E$700,zdroj!$L$3:$L$700))","v":""},{"$f":"IF(AE160=\"\",\"\",LOOKUP(AE160,zdroj!$E$3:$E$700,zdroj!$G$3:$G$700))","v":""},{"$f":"IF(AE160=\"\",\"\",LOOKUP(AE160,zdroj!$E$3:$E$700,zdroj!$H$3:$H$700))","v":""},{"$f":"+IF(AE160=\"\",\"\",LOOKUP(AE160,zdroj!$E$3:$E$700,zdroj!$I$3:$I$700))","v":""}]
[{"$f":"IF(C161=\"\",\"\",LOOKUP(C161,zdroj!$E$3:$E$700,zdroj!$F$3:$F$700))","v":""},"","",{"$f":"IF(C161=\"\",\"\",LOOKUP(C161,zdroj!$E$3:$E$700,zdroj!$L$3:$L$700))","v":""},{"$f":"IF(C161=\"\",\"\",LOOKUP(C161,zdroj!$E$3:$E$700,zdroj!$G$3:$G$700))","v":""},{"$f":"IF(C161=\"\",\"\",LOOKUP(C161,zdroj!$E$3:$E$700,zdroj!$H$3:$H$700))","v":""},{"$f":"+IF(C161=\"\",\"\",LOOKUP(C161,zdroj!$E$3:$E$700,zdroj!$I$3:$I$700))","v":""},{"$f":"IF(J161=\"\",\"\",LOOKUP(J161,zdroj!$E$3:$E$700,zdroj!$F$3:$F$700))","v":""},"","",{"$f":"IF(J161=\"\",\"\",LOOKUP(J161,zdroj!$E$3:$E$700,zdroj!$L$3:$L$700))","v":""},{"$f":"IF(J161=\"\",\"\",LOOKUP(J161,zdroj!$E$3:$E$700,zdroj!$G$3:$G$700))","v":""},{"$f":"IF(J161=\"\",\"\",LOOKUP(J161,zdroj!$E$3:$E$700,zdroj!$H$3:$H$700))","v":""},{"$f":"+IF(J161=\"\",\"\",LOOKUP(J161,zdroj!$E$3:$E$700,zdroj!$I$3:$I$700))","v":""},{"$f":"IF(Q161=\"\",\"\",LOOKUP(Q161,zdroj!$E$3:$E$700,zdroj!$F$3:$F$700))","v":""},"","",{"$f":"IF(Q161=\"\",\"\",LOOKUP(Q161,zdroj!$E$3:$E$700,zdroj!$L$3:$L$700))","v":""},{"$f":"IF(Q161=\"\",\"\",LOOKUP(Q161,zdroj!$E$3:$E$700,zdroj!$G$3:$G$700))","v":""},{"$f":"IF(Q161=\"\",\"\",LOOKUP(Q161,zdroj!$E$3:$E$700,zdroj!$H$3:$H$700))","v":""},{"$f":"+IF(Q161=\"\",\"\",LOOKUP(Q161,zdroj!$E$3:$E$700,zdroj!$I$3:$I$700))","v":""},{"$f":"IF(X161=\"\",\"\",LOOKUP(X161,zdroj!$E$3:$E$700,zdroj!$F$3:$F$700))","v":""},"","",{"$f":"IF(X161=\"\",\"\",LOOKUP(X161,zdroj!$E$3:$E$700,zdroj!$L$3:$L$700))","v":""},{"$f":"IF(X161=\"\",\"\",LOOKUP(X161,zdroj!$E$3:$E$700,zdroj!$G$3:$G$700))","v":""},{"$f":"IF(X161=\"\",\"\",LOOKUP(X161,zdroj!$E$3:$E$700,zdroj!$H$3:$H$700))","v":""},{"$f":"+IF(X161=\"\",\"\",LOOKUP(X161,zdroj!$E$3:$E$700,zdroj!$I$3:$I$700))","v":""},{"$f":"IF(AE161=\"\",\"\",LOOKUP(AE161,zdroj!$E$3:$E$700,zdroj!$F$3:$F$700))","v":""},"","",{"$f":"IF(AE161=\"\",\"\",LOOKUP(AE161,zdroj!$E$3:$E$700,zdroj!$L$3:$L$700))","v":""},{"$f":"IF(AE161=\"\",\"\",LOOKUP(AE161,zdroj!$E$3:$E$700,zdroj!$G$3:$G$700))","v":""},{"$f":"IF(AE161=\"\",\"\",LOOKUP(AE161,zdroj!$E$3:$E$700,zdroj!$H$3:$H$700))","v":""},{"$f":"+IF(AE161=\"\",\"\",LOOKUP(AE161,zdroj!$E$3:$E$700,zdroj!$I$3:$I$700))","v":""}]
[{"$f":"IF(C162=\"\",\"\",LOOKUP(C162,zdroj!$E$3:$E$700,zdroj!$F$3:$F$700))","v":""},"","",{"$f":"IF(C162=\"\",\"\",LOOKUP(C162,zdroj!$E$3:$E$700,zdroj!$L$3:$L$700))","v":""},{"$f":"IF(C162=\"\",\"\",LOOKUP(C162,zdroj!$E$3:$E$700,zdroj!$G$3:$G$700))","v":""},{"$f":"IF(C162=\"\",\"\",LOOKUP(C162,zdroj!$E$3:$E$700,zdroj!$H$3:$H$700))","v":""},{"$f":"+IF(C162=\"\",\"\",LOOKUP(C162,zdroj!$E$3:$E$700,zdroj!$I$3:$I$700))","v":""},{"$f":"IF(J162=\"\",\"\",LOOKUP(J162,zdroj!$E$3:$E$700,zdroj!$F$3:$F$700))","v":""},"","",{"$f":"IF(J162=\"\",\"\",LOOKUP(J162,zdroj!$E$3:$E$700,zdroj!$L$3:$L$700))","v":""},{"$f":"IF(J162=\"\",\"\",LOOKUP(J162,zdroj!$E$3:$E$700,zdroj!$G$3:$G$700))","v":""},{"$f":"IF(J162=\"\",\"\",LOOKUP(J162,zdroj!$E$3:$E$700,zdroj!$H$3:$H$700))","v":""},{"$f":"+IF(J162=\"\",\"\",LOOKUP(J162,zdroj!$E$3:$E$700,zdroj!$I$3:$I$700))","v":""},{"$f":"IF(Q162=\"\",\"\",LOOKUP(Q162,zdroj!$E$3:$E$700,zdroj!$F$3:$F$700))","v":""},"","",{"$f":"IF(Q162=\"\",\"\",LOOKUP(Q162,zdroj!$E$3:$E$700,zdroj!$L$3:$L$700))","v":""},{"$f":"IF(Q162=\"\",\"\",LOOKUP(Q162,zdroj!$E$3:$E$700,zdroj!$G$3:$G$700))","v":""},{"$f":"IF(Q162=\"\",\"\",LOOKUP(Q162,zdroj!$E$3:$E$700,zdroj!$H$3:$H$700))","v":""},{"$f":"+IF(Q162=\"\",\"\",LOOKUP(Q162,zdroj!$E$3:$E$700,zdroj!$I$3:$I$700))","v":""},{"$f":"IF(X162=\"\",\"\",LOOKUP(X162,zdroj!$E$3:$E$700,zdroj!$F$3:$F$700))","v":""},"","",{"$f":"IF(X162=\"\",\"\",LOOKUP(X162,zdroj!$E$3:$E$700,zdroj!$L$3:$L$700))","v":""},{"$f":"IF(X162=\"\",\"\",LOOKUP(X162,zdroj!$E$3:$E$700,zdroj!$G$3:$G$700))","v":""},{"$f":"IF(X162=\"\",\"\",LOOKUP(X162,zdroj!$E$3:$E$700,zdroj!$H$3:$H$700))","v":""},{"$f":"+IF(X162=\"\",\"\",LOOKUP(X162,zdroj!$E$3:$E$700,zdroj!$I$3:$I$700))","v":""},{"$f":"IF(AE162=\"\",\"\",LOOKUP(AE162,zdroj!$E$3:$E$700,zdroj!$F$3:$F$700))","v":""},"","",{"$f":"IF(AE162=\"\",\"\",LOOKUP(AE162,zdroj!$E$3:$E$700,zdroj!$L$3:$L$700))","v":""},{"$f":"IF(AE162=\"\",\"\",LOOKUP(AE162,zdroj!$E$3:$E$700,zdroj!$G$3:$G$700))","v":""},{"$f":"IF(AE162=\"\",\"\",LOOKUP(AE162,zdroj!$E$3:$E$700,zdroj!$H$3:$H$700))","v":""},{"$f":"+IF(AE162=\"\",\"\",LOOKUP(AE162,zdroj!$E$3:$E$700,zdroj!$I$3:$I$700))","v":""}]
[{"$f":"IF(C163=\"\",\"\",LOOKUP(C163,zdroj!$E$3:$E$700,zdroj!$F$3:$F$700))","v":""},"","",{"$f":"IF(C163=\"\",\"\",LOOKUP(C163,zdroj!$E$3:$E$700,zdroj!$L$3:$L$700))","v":""},{"$f":"IF(C163=\"\",\"\",LOOKUP(C163,zdroj!$E$3:$E$700,zdroj!$G$3:$G$700))","v":""},{"$f":"IF(C163=\"\",\"\",LOOKUP(C163,zdroj!$E$3:$E$700,zdroj!$H$3:$H$700))","v":""},{"$f":"+IF(C163=\"\",\"\",LOOKUP(C163,zdroj!$E$3:$E$700,zdroj!$I$3:$I$700))","v":""},{"$f":"IF(J163=\"\",\"\",LOOKUP(J163,zdroj!$E$3:$E$700,zdroj!$F$3:$F$700))","v":""},"","",{"$f":"IF(J163=\"\",\"\",LOOKUP(J163,zdroj!$E$3:$E$700,zdroj!$L$3:$L$700))","v":""},{"$f":"IF(J163=\"\",\"\",LOOKUP(J163,zdroj!$E$3:$E$700,zdroj!$G$3:$G$700))","v":""},{"$f":"IF(J163=\"\",\"\",LOOKUP(J163,zdroj!$E$3:$E$700,zdroj!$H$3:$H$700))","v":""},{"$f":"+IF(J163=\"\",\"\",LOOKUP(J163,zdroj!$E$3:$E$700,zdroj!$I$3:$I$700))","v":""},{"$f":"IF(Q163=\"\",\"\",LOOKUP(Q163,zdroj!$E$3:$E$700,zdroj!$F$3:$F$700))","v":""},"","",{"$f":"IF(Q163=\"\",\"\",LOOKUP(Q163,zdroj!$E$3:$E$700,zdroj!$L$3:$L$700))","v":""},{"$f":"IF(Q163=\"\",\"\",LOOKUP(Q163,zdroj!$E$3:$E$700,zdroj!$G$3:$G$700))","v":""},{"$f":"IF(Q163=\"\",\"\",LOOKUP(Q163,zdroj!$E$3:$E$700,zdroj!$H$3:$H$700))","v":""},{"$f":"+IF(Q163=\"\",\"\",LOOKUP(Q163,zdroj!$E$3:$E$700,zdroj!$I$3:$I$700))","v":""},{"$f":"IF(X163=\"\",\"\",LOOKUP(X163,zdroj!$E$3:$E$700,zdroj!$F$3:$F$700))","v":""},"","",{"$f":"IF(X163=\"\",\"\",LOOKUP(X163,zdroj!$E$3:$E$700,zdroj!$L$3:$L$700))","v":""},{"$f":"IF(X163=\"\",\"\",LOOKUP(X163,zdroj!$E$3:$E$700,zdroj!$G$3:$G$700))","v":""},{"$f":"IF(X163=\"\",\"\",LOOKUP(X163,zdroj!$E$3:$E$700,zdroj!$H$3:$H$700))","v":""},{"$f":"+IF(X163=\"\",\"\",LOOKUP(X163,zdroj!$E$3:$E$700,zdroj!$I$3:$I$700))","v":""},{"$f":"IF(AE163=\"\",\"\",LOOKUP(AE163,zdroj!$E$3:$E$700,zdroj!$F$3:$F$700))","v":""},"","",{"$f":"IF(AE163=\"\",\"\",LOOKUP(AE163,zdroj!$E$3:$E$700,zdroj!$L$3:$L$700))","v":""},{"$f":"IF(AE163=\"\",\"\",LOOKUP(AE163,zdroj!$E$3:$E$700,zdroj!$G$3:$G$700))","v":""},{"$f":"IF(AE163=\"\",\"\",LOOKUP(AE163,zdroj!$E$3:$E$700,zdroj!$H$3:$H$700))","v":""},{"$f":"+IF(AE163=\"\",\"\",LOOKUP(AE163,zdroj!$E$3:$E$700,zdroj!$I$3:$I$700))","v":""}]
[{"$f":"IF(C164=\"\",\"\",LOOKUP(C164,zdroj!$E$3:$E$700,zdroj!$F$3:$F$700))","v":""},"","",{"$f":"IF(C164=\"\",\"\",LOOKUP(C164,zdroj!$E$3:$E$700,zdroj!$L$3:$L$700))","v":""},{"$f":"IF(C164=\"\",\"\",LOOKUP(C164,zdroj!$E$3:$E$700,zdroj!$G$3:$G$700))","v":""},{"$f":"IF(C164=\"\",\"\",LOOKUP(C164,zdroj!$E$3:$E$700,zdroj!$H$3:$H$700))","v":""},{"$f":"+IF(C164=\"\",\"\",LOOKUP(C164,zdroj!$E$3:$E$700,zdroj!$I$3:$I$700))","v":""},{"$f":"IF(J164=\"\",\"\",LOOKUP(J164,zdroj!$E$3:$E$700,zdroj!$F$3:$F$700))","v":""},"","",{"$f":"IF(J164=\"\",\"\",LOOKUP(J164,zdroj!$E$3:$E$700,zdroj!$L$3:$L$700))","v":""},{"$f":"IF(J164=\"\",\"\",LOOKUP(J164,zdroj!$E$3:$E$700,zdroj!$G$3:$G$700))","v":""},{"$f":"IF(J164=\"\",\"\",LOOKUP(J164,zdroj!$E$3:$E$700,zdroj!$H$3:$H$700))","v":""},{"$f":"+IF(J164=\"\",\"\",LOOKUP(J164,zdroj!$E$3:$E$700,zdroj!$I$3:$I$700))","v":""},{"$f":"IF(Q164=\"\",\"\",LOOKUP(Q164,zdroj!$E$3:$E$700,zdroj!$F$3:$F$700))","v":""},"","",{"$f":"IF(Q164=\"\",\"\",LOOKUP(Q164,zdroj!$E$3:$E$700,zdroj!$L$3:$L$700))","v":""},{"$f":"IF(Q164=\"\",\"\",LOOKUP(Q164,zdroj!$E$3:$E$700,zdroj!$G$3:$G$700))","v":""},{"$f":"IF(Q164=\"\",\"\",LOOKUP(Q164,zdroj!$E$3:$E$700,zdroj!$H$3:$H$700))","v":""},{"$f":"+IF(Q164=\"\",\"\",LOOKUP(Q164,zdroj!$E$3:$E$700,zdroj!$I$3:$I$700))","v":""},{"$f":"IF(X164=\"\",\"\",LOOKUP(X164,zdroj!$E$3:$E$700,zdroj!$F$3:$F$700))","v":""},"","",{"$f":"IF(X164=\"\",\"\",LOOKUP(X164,zdroj!$E$3:$E$700,zdroj!$L$3:$L$700))","v":""},{"$f":"IF(X164=\"\",\"\",LOOKUP(X164,zdroj!$E$3:$E$700,zdroj!$G$3:$G$700))","v":""},{"$f":"IF(X164=\"\",\"\",LOOKUP(X164,zdroj!$E$3:$E$700,zdroj!$H$3:$H$700))","v":""},{"$f":"+IF(X164=\"\",\"\",LOOKUP(X164,zdroj!$E$3:$E$700,zdroj!$I$3:$I$700))","v":""},{"$f":"IF(AE164=\"\",\"\",LOOKUP(AE164,zdroj!$E$3:$E$700,zdroj!$F$3:$F$700))","v":""},"","",{"$f":"IF(AE164=\"\",\"\",LOOKUP(AE164,zdroj!$E$3:$E$700,zdroj!$L$3:$L$700))","v":""},{"$f":"IF(AE164=\"\",\"\",LOOKUP(AE164,zdroj!$E$3:$E$700,zdroj!$G$3:$G$700))","v":""},{"$f":"IF(AE164=\"\",\"\",LOOKUP(AE164,zdroj!$E$3:$E$700,zdroj!$H$3:$H$700))","v":""},{"$f":"+IF(AE164=\"\",\"\",LOOKUP(AE164,zdroj!$E$3:$E$700,zdroj!$I$3:$I$700))","v":""}]
[{"$f":"IF(C165=\"\",\"\",LOOKUP(C165,zdroj!$E$3:$E$700,zdroj!$F$3:$F$700))","v":""},"","",{"$f":"IF(C165=\"\",\"\",LOOKUP(C165,zdroj!$E$3:$E$700,zdroj!$L$3:$L$700))","v":""},{"$f":"IF(C165=\"\",\"\",LOOKUP(C165,zdroj!$E$3:$E$700,zdroj!$G$3:$G$700))","v":""},{"$f":"IF(C165=\"\",\"\",LOOKUP(C165,zdroj!$E$3:$E$700,zdroj!$H$3:$H$700))","v":""},{"$f":"+IF(C165=\"\",\"\",LOOKUP(C165,zdroj!$E$3:$E$700,zdroj!$I$3:$I$700))","v":""},{"$f":"IF(J165=\"\",\"\",LOOKUP(J165,zdroj!$E$3:$E$700,zdroj!$F$3:$F$700))","v":""},"","",{"$f":"IF(J165=\"\",\"\",LOOKUP(J165,zdroj!$E$3:$E$700,zdroj!$L$3:$L$700))","v":""},{"$f":"IF(J165=\"\",\"\",LOOKUP(J165,zdroj!$E$3:$E$700,zdroj!$G$3:$G$700))","v":""},{"$f":"IF(J165=\"\",\"\",LOOKUP(J165,zdroj!$E$3:$E$700,zdroj!$H$3:$H$700))","v":""},{"$f":"+IF(J165=\"\",\"\",LOOKUP(J165,zdroj!$E$3:$E$700,zdroj!$I$3:$I$700))","v":""},{"$f":"IF(Q165=\"\",\"\",LOOKUP(Q165,zdroj!$E$3:$E$700,zdroj!$F$3:$F$700))","v":""},"","",{"$f":"IF(Q165=\"\",\"\",LOOKUP(Q165,zdroj!$E$3:$E$700,zdroj!$L$3:$L$700))","v":""},{"$f":"IF(Q165=\"\",\"\",LOOKUP(Q165,zdroj!$E$3:$E$700,zdroj!$G$3:$G$700))","v":""},{"$f":"IF(Q165=\"\",\"\",LOOKUP(Q165,zdroj!$E$3:$E$700,zdroj!$H$3:$H$700))","v":""},{"$f":"+IF(Q165=\"\",\"\",LOOKUP(Q165,zdroj!$E$3:$E$700,zdroj!$I$3:$I$700))","v":""},{"$f":"IF(X165=\"\",\"\",LOOKUP(X165,zdroj!$E$3:$E$700,zdroj!$F$3:$F$700))","v":""},"","",{"$f":"IF(X165=\"\",\"\",LOOKUP(X165,zdroj!$E$3:$E$700,zdroj!$L$3:$L$700))","v":""},{"$f":"IF(X165=\"\",\"\",LOOKUP(X165,zdroj!$E$3:$E$700,zdroj!$G$3:$G$700))","v":""},{"$f":"IF(X165=\"\",\"\",LOOKUP(X165,zdroj!$E$3:$E$700,zdroj!$H$3:$H$700))","v":""},{"$f":"+IF(X165=\"\",\"\",LOOKUP(X165,zdroj!$E$3:$E$700,zdroj!$I$3:$I$700))","v":""},{"$f":"IF(AE165=\"\",\"\",LOOKUP(AE165,zdroj!$E$3:$E$700,zdroj!$F$3:$F$700))","v":""},"","",{"$f":"IF(AE165=\"\",\"\",LOOKUP(AE165,zdroj!$E$3:$E$700,zdroj!$L$3:$L$700))","v":""},{"$f":"IF(AE165=\"\",\"\",LOOKUP(AE165,zdroj!$E$3:$E$700,zdroj!$G$3:$G$700))","v":""},{"$f":"IF(AE165=\"\",\"\",LOOKUP(AE165,zdroj!$E$3:$E$700,zdroj!$H$3:$H$700))","v":""},{"$f":"+IF(AE165=\"\",\"\",LOOKUP(AE165,zdroj!$E$3:$E$700,zdroj!$I$3:$I$700))","v":""}]
[{"$f":"IF(C166=\"\",\"\",LOOKUP(C166,zdroj!$E$3:$E$700,zdroj!$F$3:$F$700))","v":""},"","",{"$f":"IF(C166=\"\",\"\",LOOKUP(C166,zdroj!$E$3:$E$700,zdroj!$L$3:$L$700))","v":""},{"$f":"IF(C166=\"\",\"\",LOOKUP(C166,zdroj!$E$3:$E$700,zdroj!$G$3:$G$700))","v":""},{"$f":"IF(C166=\"\",\"\",LOOKUP(C166,zdroj!$E$3:$E$700,zdroj!$H$3:$H$700))","v":""},{"$f":"+IF(C166=\"\",\"\",LOOKUP(C166,zdroj!$E$3:$E$700,zdroj!$I$3:$I$700))","v":""},{"$f":"IF(J166=\"\",\"\",LOOKUP(J166,zdroj!$E$3:$E$700,zdroj!$F$3:$F$700))","v":""},"","",{"$f":"IF(J166=\"\",\"\",LOOKUP(J166,zdroj!$E$3:$E$700,zdroj!$L$3:$L$700))","v":""},{"$f":"IF(J166=\"\",\"\",LOOKUP(J166,zdroj!$E$3:$E$700,zdroj!$G$3:$G$700))","v":""},{"$f":"IF(J166=\"\",\"\",LOOKUP(J166,zdroj!$E$3:$E$700,zdroj!$H$3:$H$700))","v":""},{"$f":"+IF(J166=\"\",\"\",LOOKUP(J166,zdroj!$E$3:$E$700,zdroj!$I$3:$I$700))","v":""},{"$f":"IF(Q166=\"\",\"\",LOOKUP(Q166,zdroj!$E$3:$E$700,zdroj!$F$3:$F$700))","v":""},"","",{"$f":"IF(Q166=\"\",\"\",LOOKUP(Q166,zdroj!$E$3:$E$700,zdroj!$L$3:$L$700))","v":""},{"$f":"IF(Q166=\"\",\"\",LOOKUP(Q166,zdroj!$E$3:$E$700,zdroj!$G$3:$G$700))","v":""},{"$f":"IF(Q166=\"\",\"\",LOOKUP(Q166,zdroj!$E$3:$E$700,zdroj!$H$3:$H$700))","v":""},{"$f":"+IF(Q166=\"\",\"\",LOOKUP(Q166,zdroj!$E$3:$E$700,zdroj!$I$3:$I$700))","v":""},{"$f":"IF(X166=\"\",\"\",LOOKUP(X166,zdroj!$E$3:$E$700,zdroj!$F$3:$F$700))","v":""},"","",{"$f":"IF(X166=\"\",\"\",LOOKUP(X166,zdroj!$E$3:$E$700,zdroj!$L$3:$L$700))","v":""},{"$f":"IF(X166=\"\",\"\",LOOKUP(X166,zdroj!$E$3:$E$700,zdroj!$G$3:$G$700))","v":""},{"$f":"IF(X166=\"\",\"\",LOOKUP(X166,zdroj!$E$3:$E$700,zdroj!$H$3:$H$700))","v":""},{"$f":"+IF(X166=\"\",\"\",LOOKUP(X166,zdroj!$E$3:$E$700,zdroj!$I$3:$I$700))","v":""},{"$f":"IF(AE166=\"\",\"\",LOOKUP(AE166,zdroj!$E$3:$E$700,zdroj!$F$3:$F$700))","v":""},"","",{"$f":"IF(AE166=\"\",\"\",LOOKUP(AE166,zdroj!$E$3:$E$700,zdroj!$L$3:$L$700))","v":""},{"$f":"IF(AE166=\"\",\"\",LOOKUP(AE166,zdroj!$E$3:$E$700,zdroj!$G$3:$G$700))","v":""},{"$f":"IF(AE166=\"\",\"\",LOOKUP(AE166,zdroj!$E$3:$E$700,zdroj!$H$3:$H$700))","v":""},{"$f":"+IF(AE166=\"\",\"\",LOOKUP(AE166,zdroj!$E$3:$E$700,zdroj!$I$3:$I$700))","v":""}]
[{"$f":"IF(C167=\"\",\"\",LOOKUP(C167,zdroj!$E$3:$E$700,zdroj!$F$3:$F$700))","v":""},"","",{"$f":"IF(C167=\"\",\"\",LOOKUP(C167,zdroj!$E$3:$E$700,zdroj!$L$3:$L$700))","v":""},{"$f":"IF(C167=\"\",\"\",LOOKUP(C167,zdroj!$E$3:$E$700,zdroj!$G$3:$G$700))","v":""},{"$f":"IF(C167=\"\",\"\",LOOKUP(C167,zdroj!$E$3:$E$700,zdroj!$H$3:$H$700))","v":""},{"$f":"+IF(C167=\"\",\"\",LOOKUP(C167,zdroj!$E$3:$E$700,zdroj!$I$3:$I$700))","v":""},{"$f":"IF(J167=\"\",\"\",LOOKUP(J167,zdroj!$E$3:$E$700,zdroj!$F$3:$F$700))","v":""},"","",{"$f":"IF(J167=\"\",\"\",LOOKUP(J167,zdroj!$E$3:$E$700,zdroj!$L$3:$L$700))","v":""},{"$f":"IF(J167=\"\",\"\",LOOKUP(J167,zdroj!$E$3:$E$700,zdroj!$G$3:$G$700))","v":""},{"$f":"IF(J167=\"\",\"\",LOOKUP(J167,zdroj!$E$3:$E$700,zdroj!$H$3:$H$700))","v":""},{"$f":"+IF(J167=\"\",\"\",LOOKUP(J167,zdroj!$E$3:$E$700,zdroj!$I$3:$I$700))","v":""},{"$f":"IF(Q167=\"\",\"\",LOOKUP(Q167,zdroj!$E$3:$E$700,zdroj!$F$3:$F$700))","v":""},"","",{"$f":"IF(Q167=\"\",\"\",LOOKUP(Q167,zdroj!$E$3:$E$700,zdroj!$L$3:$L$700))","v":""},{"$f":"IF(Q167=\"\",\"\",LOOKUP(Q167,zdroj!$E$3:$E$700,zdroj!$G$3:$G$700))","v":""},{"$f":"IF(Q167=\"\",\"\",LOOKUP(Q167,zdroj!$E$3:$E$700,zdroj!$H$3:$H$700))","v":""},{"$f":"+IF(Q167=\"\",\"\",LOOKUP(Q167,zdroj!$E$3:$E$700,zdroj!$I$3:$I$700))","v":""},{"$f":"IF(X167=\"\",\"\",LOOKUP(X167,zdroj!$E$3:$E$700,zdroj!$F$3:$F$700))","v":""},"","",{"$f":"IF(X167=\"\",\"\",LOOKUP(X167,zdroj!$E$3:$E$700,zdroj!$L$3:$L$700))","v":""},{"$f":"IF(X167=\"\",\"\",LOOKUP(X167,zdroj!$E$3:$E$700,zdroj!$G$3:$G$700))","v":""},{"$f":"IF(X167=\"\",\"\",LOOKUP(X167,zdroj!$E$3:$E$700,zdroj!$H$3:$H$700))","v":""},{"$f":"+IF(X167=\"\",\"\",LOOKUP(X167,zdroj!$E$3:$E$700,zdroj!$I$3:$I$700))","v":""},{"$f":"IF(AE167=\"\",\"\",LOOKUP(AE167,zdroj!$E$3:$E$700,zdroj!$F$3:$F$700))","v":""},"","",{"$f":"IF(AE167=\"\",\"\",LOOKUP(AE167,zdroj!$E$3:$E$700,zdroj!$L$3:$L$700))","v":""},{"$f":"IF(AE167=\"\",\"\",LOOKUP(AE167,zdroj!$E$3:$E$700,zdroj!$G$3:$G$700))","v":""},{"$f":"IF(AE167=\"\",\"\",LOOKUP(AE167,zdroj!$E$3:$E$700,zdroj!$H$3:$H$700))","v":""},{"$f":"+IF(AE167=\"\",\"\",LOOKUP(AE167,zdroj!$E$3:$E$700,zdroj!$I$3:$I$700))","v":""}]
[{"$f":"IF(C168=\"\",\"\",LOOKUP(C168,zdroj!$E$3:$E$700,zdroj!$F$3:$F$700))","v":""},"","",{"$f":"IF(C168=\"\",\"\",LOOKUP(C168,zdroj!$E$3:$E$700,zdroj!$L$3:$L$700))","v":""},{"$f":"IF(C168=\"\",\"\",LOOKUP(C168,zdroj!$E$3:$E$700,zdroj!$G$3:$G$700))","v":""},{"$f":"IF(C168=\"\",\"\",LOOKUP(C168,zdroj!$E$3:$E$700,zdroj!$H$3:$H$700))","v":""},{"$f":"+IF(C168=\"\",\"\",LOOKUP(C168,zdroj!$E$3:$E$700,zdroj!$I$3:$I$700))","v":""},{"$f":"IF(J168=\"\",\"\",LOOKUP(J168,zdroj!$E$3:$E$700,zdroj!$F$3:$F$700))","v":""},"","",{"$f":"IF(J168=\"\",\"\",LOOKUP(J168,zdroj!$E$3:$E$700,zdroj!$L$3:$L$700))","v":""},{"$f":"IF(J168=\"\",\"\",LOOKUP(J168,zdroj!$E$3:$E$700,zdroj!$G$3:$G$700))","v":""},{"$f":"IF(J168=\"\",\"\",LOOKUP(J168,zdroj!$E$3:$E$700,zdroj!$H$3:$H$700))","v":""},{"$f":"+IF(J168=\"\",\"\",LOOKUP(J168,zdroj!$E$3:$E$700,zdroj!$I$3:$I$700))","v":""},{"$f":"IF(Q168=\"\",\"\",LOOKUP(Q168,zdroj!$E$3:$E$700,zdroj!$F$3:$F$700))","v":""},"","",{"$f":"IF(Q168=\"\",\"\",LOOKUP(Q168,zdroj!$E$3:$E$700,zdroj!$L$3:$L$700))","v":""},{"$f":"IF(Q168=\"\",\"\",LOOKUP(Q168,zdroj!$E$3:$E$700,zdroj!$G$3:$G$700))","v":""},{"$f":"IF(Q168=\"\",\"\",LOOKUP(Q168,zdroj!$E$3:$E$700,zdroj!$H$3:$H$700))","v":""},{"$f":"+IF(Q168=\"\",\"\",LOOKUP(Q168,zdroj!$E$3:$E$700,zdroj!$I$3:$I$700))","v":""},{"$f":"IF(X168=\"\",\"\",LOOKUP(X168,zdroj!$E$3:$E$700,zdroj!$F$3:$F$700))","v":""},"","",{"$f":"IF(X168=\"\",\"\",LOOKUP(X168,zdroj!$E$3:$E$700,zdroj!$L$3:$L$700))","v":""},{"$f":"IF(X168=\"\",\"\",LOOKUP(X168,zdroj!$E$3:$E$700,zdroj!$G$3:$G$700))","v":""},{"$f":"IF(X168=\"\",\"\",LOOKUP(X168,zdroj!$E$3:$E$700,zdroj!$H$3:$H$700))","v":""},{"$f":"+IF(X168=\"\",\"\",LOOKUP(X168,zdroj!$E$3:$E$700,zdroj!$I$3:$I$700))","v":""},{"$f":"IF(AE168=\"\",\"\",LOOKUP(AE168,zdroj!$E$3:$E$700,zdroj!$F$3:$F$700))","v":""},"","",{"$f":"IF(AE168=\"\",\"\",LOOKUP(AE168,zdroj!$E$3:$E$700,zdroj!$L$3:$L$700))","v":""},{"$f":"IF(AE168=\"\",\"\",LOOKUP(AE168,zdroj!$E$3:$E$700,zdroj!$G$3:$G$700))","v":""},{"$f":"IF(AE168=\"\",\"\",LOOKUP(AE168,zdroj!$E$3:$E$700,zdroj!$H$3:$H$700))","v":""},{"$f":"+IF(AE168=\"\",\"\",LOOKUP(AE168,zdroj!$E$3:$E$700,zdroj!$I$3:$I$700))","v":""}]
[{"$f":"IF(C169=\"\",\"\",LOOKUP(C169,zdroj!$E$3:$E$700,zdroj!$F$3:$F$700))","v":""},{"$f":"+IF(C$140>B168,B168+1,\"\")","v":""},{"$f":"+IF(B169=\"\",\"\",B169+$B$140)","v":""},{"$f":"IF(C169=\"\",\"\",LOOKUP(C169,zdroj!$E$3:$E$700,zdroj!$L$3:$L$700))","v":""},{"$f":"IF(C169=\"\",\"\",LOOKUP(C169,zdroj!$E$3:$E$700,zdroj!$G$3:$G$700))","v":""},{"$f":"IF(C169=\"\",\"\",LOOKUP(C169,zdroj!$E$3:$E$700,zdroj!$H$3:$H$700))","v":""},{"$f":"+IF(C169=\"\",\"\",LOOKUP(C169,zdroj!$E$3:$E$700,zdroj!$I$3:$I$700))","v":""},{"$f":"IF(J169=\"\",\"\",LOOKUP(J169,zdroj!$E$3:$E$700,zdroj!$F$3:$F$700))","v":""},"","",{"$f":"IF(J169=\"\",\"\",LOOKUP(J169,zdroj!$E$3:$E$700,zdroj!$L$3:$L$700))","v":""},{"$f":"IF(J169=\"\",\"\",LOOKUP(J169,zdroj!$E$3:$E$700,zdroj!$G$3:$G$700))","v":""},{"$f":"IF(J169=\"\",\"\",LOOKUP(J169,zdroj!$E$3:$E$700,zdroj!$H$3:$H$700))","v":""},{"$f":"+IF(J169=\"\",\"\",LOOKUP(J169,zdroj!$E$3:$E$700,zdroj!$I$3:$I$700))","v":""},{"$f":"IF(Q169=\"\",\"\",LOOKUP(Q169,zdroj!$E$3:$E$700,zdroj!$F$3:$F$700))","v":""},"","",{"$f":"IF(Q169=\"\",\"\",LOOKUP(Q169,zdroj!$E$3:$E$700,zdroj!$L$3:$L$700))","v":""},{"$f":"IF(Q169=\"\",\"\",LOOKUP(Q169,zdroj!$E$3:$E$700,zdroj!$G$3:$G$700))","v":""},{"$f":"IF(Q169=\"\",\"\",LOOKUP(Q169,zdroj!$E$3:$E$700,zdroj!$H$3:$H$700))","v":""},{"$f":"+IF(Q169=\"\",\"\",LOOKUP(Q169,zdroj!$E$3:$E$700,zdroj!$I$3:$I$700))","v":""},{"$f":"IF(X169=\"\",\"\",LOOKUP(X169,zdroj!$E$3:$E$700,zdroj!$F$3:$F$700))","v":""},"","",{"$f":"IF(X169=\"\",\"\",LOOKUP(X169,zdroj!$E$3:$E$700,zdroj!$L$3:$L$700))","v":""},{"$f":"IF(X169=\"\",\"\",LOOKUP(X169,zdroj!$E$3:$E$700,zdroj!$G$3:$G$700))","v":""},{"$f":"IF(X169=\"\",\"\",LOOKUP(X169,zdroj!$E$3:$E$700,zdroj!$H$3:$H$700))","v":""},{"$f":"+IF(X169=\"\",\"\",LOOKUP(X169,zdroj!$E$3:$E$700,zdroj!$I$3:$I$700))","v":""},{"$f":"IF(AE169=\"\",\"\",LOOKUP(AE169,zdroj!$E$3:$E$700,zdroj!$F$3:$F$700))","v":""},"","",{"$f":"IF(AE169=\"\",\"\",LOOKUP(AE169,zdroj!$E$3:$E$700,zdroj!$L$3:$L$700))","v":""},{"$f":"IF(AE169=\"\",\"\",LOOKUP(AE169,zdroj!$E$3:$E$700,zdroj!$G$3:$G$700))","v":""},{"$f":"IF(AE169=\"\",\"\",LOOKUP(AE169,zdroj!$E$3:$E$700,zdroj!$H$3:$H$700))","v":""},{"$f":"+IF(AE169=\"\",\"\",LOOKUP(AE169,zdroj!$E$3:$E$700,zdroj!$I$3:$I$700))","v":""}]
[{"$f":"IF(C170=\"\",\"\",LOOKUP(C170,zdroj!$E$3:$E$700,zdroj!$F$3:$F$700))","v":""},"","",{"$f":"IF(C170=\"\",\"\",LOOKUP(C170,zdroj!$E$3:$E$700,zdroj!$L$3:$L$700))","v":""},{"$f":"IF(C170=\"\",\"\",LOOKUP(C170,zdroj!$E$3:$E$700,zdroj!$G$3:$G$700))","v":""},{"$f":"IF(C170=\"\",\"\",LOOKUP(C170,zdroj!$E$3:$E$700,zdroj!$H$3:$H$700))","v":""},{"$f":"+IF(C170=\"\",\"\",LOOKUP(C170,zdroj!$E$3:$E$700,zdroj!$I$3:$I$700))","v":""},{"$f":"IF(J170=\"\",\"\",LOOKUP(J170,zdroj!$E$3:$E$700,zdroj!$F$3:$F$700))","v":""},{"$f":"+IF(J$140>I169,I169+1,\"\")","v":""},{"$f":"+IF(I170=\"\",\"\",I170+I$140)","v":""},{"$f":"IF(J170=\"\",\"\",LOOKUP(J170,zdroj!$E$3:$E$700,zdroj!$L$3:$L$700))","v":""},{"$f":"IF(J170=\"\",\"\",LOOKUP(J170,zdroj!$E$3:$E$700,zdroj!$G$3:$G$700))","v":""},{"$f":"IF(J170=\"\",\"\",LOOKUP(J170,zdroj!$E$3:$E$700,zdroj!$H$3:$H$700))","v":""},{"$f":"+IF(J170=\"\",\"\",LOOKUP(J170,zdroj!$E$3:$E$700,zdroj!$I$3:$I$700))","v":""},{"$f":"IF(Q170=\"\",\"\",LOOKUP(Q170,zdroj!$E$3:$E$700,zdroj!$F$3:$F$700))","v":""},"","",{"$f":"IF(Q170=\"\",\"\",LOOKUP(Q170,zdroj!$E$3:$E$700,zdroj!$L$3:$L$700))","v":""},{"$f":"IF(Q170=\"\",\"\",LOOKUP(Q170,zdroj!$E$3:$E$700,zdroj!$G$3:$G$700))","v":""},{"$f":"IF(Q170=\"\",\"\",LOOKUP(Q170,zdroj!$E$3:$E$700,zdroj!$H$3:$H$700))","v":""},{"$f":"+IF(Q170=\"\",\"\",LOOKUP(Q170,zdroj!$E$3:$E$700,zdroj!$I$3:$I$700))","v":""},{"$f":"IF(X170=\"\",\"\",LOOKUP(X170,zdroj!$E$3:$E$700,zdroj!$F$3:$F$700))","v":""},"","",{"$f":"IF(X170=\"\",\"\",LOOKUP(X170,zdroj!$E$3:$E$700,zdroj!$L$3:$L$700))","v":""},{"$f":"IF(X170=\"\",\"\",LOOKUP(X170,zdroj!$E$3:$E$700,zdroj!$G$3:$G$700))","v":""},{"$f":"IF(X170=\"\",\"\",LOOKUP(X170,zdroj!$E$3:$E$700,zdroj!$H$3:$H$700))","v":""},{"$f":"+IF(X170=\"\",\"\",LOOKUP(X170,zdroj!$E$3:$E$700,zdroj!$I$3:$I$700))","v":""},{"$f":"IF(AE170=\"\",\"\",LOOKUP(AE170,zdroj!$E$3:$E$700,zdroj!$F$3:$F$700))","v":""},"","",{"$f":"IF(AE170=\"\",\"\",LOOKUP(AE170,zdroj!$E$3:$E$700,zdroj!$L$3:$L$700))","v":""},{"$f":"IF(AE170=\"\",\"\",LOOKUP(AE170,zdroj!$E$3:$E$700,zdroj!$G$3:$G$700))","v":""},{"$f":"IF(AE170=\"\",\"\",LOOKUP(AE170,zdroj!$E$3:$E$700,zdroj!$H$3:$H$700))","v":""},{"$f":"+IF(AE170=\"\",\"\",LOOKUP(AE170,zdroj!$E$3:$E$700,zdroj!$I$3:$I$700))","v":""}]
["TÝDEN ",{"$f":"+B137+1","v":7}]

{"sheet":"Mustr","index":10,"n_rows":700,"n_cols":24,"rows_kept":700,"cut":false,"hidden":true,"merged":[[0,22,0,23],[0,6,0,7],[0,8,0,13],[0,14,0,15],[0,16,0,17],[0,19,0,20]]}
[null,null,null,"2023-03-06","►►►►","2023-03-31","DNEŠNÍ DATUM:     ",null,{"$f":"+TODAY()","v":"2023-02-01"},null,null,null,null,null,"AKTUÁLNÍ ČAS:     ",null,{"$f":"NOW()","v":44958.554346412035},null,null,"AKTUÁLNÍ MĚSÍC: ",null,{"$f":"+I1","v":"2023-02-01"},"Informace pro NÁKUP"]
["pořadí","Den","Datum","Příjem","Zákazník","Destinace","Dopravce","SPZ","název výrobku","balení","počet balení","Obtížnost","vratka palet (ano/ne)","místo nakládky","Plán. příjezd","Skutečný příjezd","Start nakládky","Konec nakládky","Expedoval","Status","Naplánoval","Poznámka","Cena přepravy","přefaktuace / doplňující informace"]
[]
[{"$f":"IF(C4=\"\",\"\",IF(O4=\"\",C4+1,C4+O4))","v":44992},{"$f":"IF(C4=\"\",\"\",+TEXT(C4,\"ddD\"))","v":"po"},"2023-03-06"]
["",""]
["",""]
["",""]
["",""]
["",""]
["",""]
["",""]
["",""]
["",""]
["",""]
["",""]
["",""]
["",""]
["",""]
["",""]
["",""]
["",""]
["",""]
["",""]
["",""]
["",""]
["",""]
["",""]
["",""]
["",""]
["",""]
["",""]
["",""]
["",""]
["",""]
["",""]
["",""]
["",""]
["",""]
["",""]
["",""]
["",""]
["",""]
["",""]
["",""]
["",""]
["",""]
["",""]
["",""]
["",""]
["",""]
["",""]
["",""]
["",""]
["",""]
["",""]
["",""]
["",""]
["",""]
["",""]
["",""]
["",""]
["",""]
["",""]
["",""]
["",""]
["",""]
["",""]
[{"$f":"IF(C68=\"\",\"\",IF(O68=\"\",C68+1,C68+O68))","v":""},{"$f":"IF(C68=\"\",\"\",+TEXT(C68,\"ddD\"))","v":""}]
["",""]
["",""]
["",""]
["",""]
["",""]
["",""]
["",""]
["",""]
["",""]
["",""]
["",""]
["",""]
["",""]
["",""]
["",""]
["",""]
["",""]
["",""]
["",""]
["",""]
["",""]
["",""]
["",""]
["",""]
["",""]
["",""]
["",""]
["",""]
["",""]
["",""]
["",""]
["",""]
["",""]
["",""]
["",""]
["",""]
["",""]
["",""]
["",""]
["",""]
["",""]
["",""]
["",""]
["",""]
["",""]
["",""]
["",""]
["",""]
["",""]
["",""]
["",""]
["",""]
["",""]
["",""]
["",""]
["",""]
["",""]
["",""]
["",""]
["",""]
["",""]
["",""]
["",""]
[{"$f":"IF(C132=\"\",\"\",IF(O132=\"\",C132+1,C132+O132))","v":""},{"$f":"IF(C132=\"\",\"\",+TEXT(C132,\"ddD\"))","v":""}]
["",""]
["",""]
["",""]
["",""]
["",""]
["",""]
["",""]
["",""]
["",""]
["",""]
["",""]
["",""]
["",""]
["",""]
["",""]
["",""]
["",""]
["",""]
["",""]
["",""]
["",""]
["",""]
["",""]
["",""]
["",""]
["",""]
["",""]
["",""]
["",""]
["",""]
["",""]
["",""]
["",""]
["",""]
["",""]
["",""]
["",""]
["",""]
["",""]
["",""]
["",""]
["",""]
["",""]
["",""]
["",""]
["",""]
["",""]
["",""]
["",""]
["",""]
["",""]
["",""]
["",""]
["",""]
["",""]
["",""]
["",""]
["",""]
["",""]
["",""]
["",""]
["",""]
["",""]
[{"$f":"IF(C196=\"\",\"\",IF(O196=\"\",C196+1,C196+O196))","v":""},{"$f":"IF(C196=\"\",\"\",+TEXT(C196,\"ddD\"))","v":""}]
["",""]
["",""]
["",""]
["",""]
["",""]
["",""]
["",""]
["",""]
["",""]
["",""]
["",""]
["",""]
["",""]
["",""]
["",""]
["",""]
["",""]
["",""]
["",""]
["",""]
["",""]
["",""]
["",""]
["",""]
["",""]
["",""]
["",""]
["",""]
["",""]
["",""]
["",""]
["",""]
["",""]
["",""]
["",""]
["",""]
["",""]
["",""]
["",""]
["",""]
["",""]
["",""]
["",""]
["",""]
["",""]
["",""]
["",""]
["",""]
["",""]
["",""]
["",""]
["",""]
["",""]
["",""]
["",""]
["",""]
["",""]
["",""]
["",""]
["",""]
["",""]
["",""]
["",""]
[{"$f":"IF(C260=\"\",\"\",IF(O260=\"\",C260+1,C260+O260))","v":""},{"$f":"IF(C260=\"\",\"\",+TEXT(C260,\"ddD\"))","v":""}]
["",""]
["",""]
["",""]
["",""]
["",""]
["",""]
["",""]
["",""]
["",""]
["",""]
["",""]
["",""]
["",""]
["",""]
["",""]
["",""]
["",""]
["",""]
["",""]
["",""]
["",""]
["",""]
["",""]
["",""]
["",""]
["",""]
["",""]
["",""]
["",""]
["",""]
["",""]
["",""]
["",""]
["",""]
["",""]
["",""]
["",""]
["",""]
["",""]
["",""]
[null,""]
[null,""]
[null,""]
[null,""]
[null,""]
[null,""]
[null,""]
[null,""]
[null,""]
[null,""]
[null,""]
[null,""]
[null,""]
[null,""]
[null,""]
[null,""]
[null,""]
[null,""]
[null,""]
[null,""]
[null,""]
[null,""]
[null,""]
[null,{"$f":"IF(C324=\"\",\"\",+TEXT(C324,\"ddD\"))","v":""}]
[null,""]
[null,""]
[null,""]
[null,""]
[null,""]
[null,""]
[null,""]
[null,""]
[null,""]
[null,""]
[null,""]
[null,""]
[null,""]
[null,""]
[null,""]
[null,""]
[null,""]
[null,""]
[null,""]
[null,""]
[null,""]
[null,""]
[null,""]
[null,""]
[null,""]
[null,""]
[null,""]
[null,""]
[null,""]
[null,""]
[null,""]
[null,""]
[null,""]
[null,""]
[null,""]
[null,""]
[null,""]
[null,""]
[null,""]
[null,""]
[null,""]
[null,""]
[null,""]
[null,""]
[null,""]
[null,""]
[null,""]
[null,""]
[null,""]
[null,""]
[null,""]
[null,""]
[null,""]
[null,""]
[null,""]
[null,""]
[null,""]
[null,""]
[null,""]
[null,""]
[null,""]
[null,""]
[null,""]
[null,{"$f":"IF(C388=\"\",\"\",+TEXT(C388,\"ddD\"))","v":""}]
[null,""]
[null,""]
[null,""]
[null,""]
[null,""]
[null,""]
[null,""]
[null,""]
[null,""]
[null,""]
[null,""]
[null,""]
[null,""]
[null,""]
[null,""]
[null,""]
[null,""]
[null,""]
[null,""]
[null,""]
[null,""]
[null,""]
[null,""]
[null,""]
[null,""]
[null,""]
[null,""]
[null,""]
[null,""]
[null,""]
[null,""]
[null,""]
[null,""]
[null,""]
[null,""]
[null,""]
[null,""]
[null,""]
[null,""]
[null,""]
[null,""]
[null,""]
[null,""]
[null,""]
[null,""]
[null,""]
[null,""]
[null,""]
[null,""]
[null,""]
[null,""]
[null,""]
[null,""]
[null,""]
[null,""]
[null,""]
[null,""]
[null,""]
[null,""]
[null,""]
[null,""]
[null,""]
[null,""]
[null,{"$f":"IF(C452=\"\",\"\",+TEXT(C452,\"ddD\"))","v":""}]
[null,""]
[null,""]
[null,""]
[null,""]
[null,""]
[null,""]
[null,""]
[null,""]
[null,""]
[null,""]
[null,""]
[null,""]
[null,""]
[null,""]
[null,""]
[null,""]
[null,""]
[null,""]
[null,""]
[null,""]
[null,""]
[null,""]
[null,""]
[null,""]
[null,""]
[null,""]
[null,""]
[null,""]
[null,""]
[null,""]
[null,""]
[null,""]
[null,""]
[null,""]
[null,""]
[null,""]
[null,""]
[null,""]
[null,""]
[null,""]
[null,""]
[null,""]
[null,""]
[null,""]
[null,""]
[null,""]
[null,""]
[null,""]
[null,""]
[null,""]
[null,""]
[null,""]
[null,""]
[null,""]
[null,""]
[null,""]
[null,""]
[null,""]
[null,""]
[null,""]
[null,""]
[null,""]
[null,""]
[null,{"$f":"IF(C516=\"\",\"\",+TEXT(C516,\"ddD\"))","v":""}]
[null,""]
[null,""]
[null,""]
[null,""]
[null,""]
[null,""]
[null,""]
[null,""]
[null,""]
[null,""]
[null,""]
[null,""]
[null,""]
[null,""]
[null,""]
[null,""]
[null,""]
[null,""]
[null,""]
[null,""]
[null,""]
[null,""]
[null,""]
[null,""]
[null,""]
[null,""]
[null,""]
[null,""]
[null,""]
[null,""]
[null,""]
[null,""]
[null,""]
[null,""]
[null,""]
[null,""]
[null,""]
[null,""]
[null,""]
[null,""]
[null,""]
[null,""]
[null,""]
[null,""]
[null,""]
[null,""]
[null,""]
[null,""]
[null,""]
[null,""]
[null,""]
[null,""]
[null,""]
[null,""]
[null,""]
[null,""]
[null,""]
[null,""]
[null,""]
[null,""]
[null,""]
[null,""]
[null,""]
[null,{"$f":"IF(C580=\"\",\"\",+TEXT(C580,\"ddD\"))","v":""}]
[null,""]
[null,""]
[null,""]
[null,""]
[null,""]
[null,""]
[null,""]
[null,""]
[null,""]
[null,""]
[null,""]
[null,""]
[null,""]
[null,""]
[null,""]
[null,""]
[null,""]
[null,""]
[null,""]
[null,""]
[null,""]
[null,""]
[null,""]
[null,""]
[null,""]
[null,""]
[null,""]
[null,""]
[null,""]
[null,""]
[null,""]
[null,""]
[null,""]
[null,""]
[null,""]
[null,""]
[null,""]
[null,""]
[null,""]
[null,""]
[null,""]
[null,""]
[null,""]
[null,""]
[null,""]
[null,""]
[null,""]
[null,""]
[null,""]
[null,""]
[null,""]
[null,""]
[null,""]
[null,""]
[null,""]
[null,""]
[null,""]
[null,""]
[null,""]
[null,""]
[null,""]
[null,""]
[null,""]
[null,{"$f":"IF(C644=\"\",\"\",+TEXT(C644,\"ddD\"))","v":""}]
[null,""]
[null,""]
[null,""]
[null,""]
[null,""]
[null,""]
[null,""]
[null,""]
[null,""]
[null,""]
[null,""]
[null,""]
[null,""]
[null,""]
[null,""]
[null,""]
[null,""]
[null,""]
[null,""]
[null,""]
[null,""]
[null,""]
[null,""]
[null,""]
[null,""]
[null,""]
[null,""]
[null,""]
[null,""]
[null,""]
[null,""]
[null,""]
[null,""]
[null,""]
[null,""]
[null,""]
[null,""]
[null,""]
[null,""]
[null,""]
[null,""]
[null,""]
[null,""]
[null,""]
[null,""]
[null,""]
[null,""]
[null,""]
[null,""]
[null,""]
[null,""]
[null,""]
[null,""]
[null,""]
[null,""]
[null,""]

{"sheet":"-------------------------------","index":11,"n_rows":0,"n_cols":0,"rows_kept":0,"cut":false,"hidden":false,"merged":[]}

{"sheet":"------------------------------","index":12,"n_rows":0,"n_cols":0,"rows_kept":0,"cut":false,"hidden":false,"merged":[]}

{"sheet":"-----------------------------","index":13,"n_rows":0,"n_cols":0,"rows_kept":0,"cut":false,"hidden":false,"merged":[]}

{"sheet":"---------------------------","index":14,"n_rows":0,"n_cols":0,"rows_kept":0,"cut":false,"hidden":false,"merged":[]}

{"sheet":"----------------------------","index":15,"n_rows":0,"n_cols":0,"rows_kept":0,"cut":false,"hidden":false,"merged":[]}

{"sheet":"DataFIX","index":16,"n_rows":42,"n_cols":11,"rows_kept":42,"cut":false,"hidden":true,"merged":[]}
[]
[null,"Status",null,null,null,"Datum",null,null,"Skladníci",null,"Naplánoval"]
[1,"Naplánováno",1,{"$f":"IF(F3=\"\",\"\",IF(F3>0,F3,0))","v":"2023-01-02"},{"$f":"MID(TEXT(F3,\"dddd\"),1,1)","v":"p"},{"$f":"+zdroj!B3","v":"2023-01-02"},0,null,"Antoš J.",null,"Chromková L."]
[2,"Vychystáno",{"$f":"+C3+1","v":2},{"$f":"IF(F4=\"\",\"\",IF(F4>0,F4,0))","v":"2023-01-03"},{"$f":"MID(TEXT(F4,\"dddd\"),1,1)","v":"ú"},{"$f":"+F3+1","v":"2023-01-03"},30,null,"Doupovec R.",null,"Gajdošová L."]
[3,"Nakládáno",{"$f":"+C4+1","v":3},"2023-01-04","s","2023-01-04",{"$f":"+G4+30","v":60},null,"Havránek M.",null,"Kollerová D."]
[4,"Dokončeno",4,"2023-01-05","č","2023-01-05",{"$f":"+G5+30","v":90},null,"Hojač M.",null,"Pomichálek J."]
[5,"Přeplánováno",5,"2023-01-06","p","2023-01-06",120,null,"Konečný M.",null,"Hochman L."]
[6,"Zpožděno",6,"2023-01-07","s","2023-01-07",150,null,"Kubáček M.",null,"Bilíček P."]
[7,"Zrušeno",7,"2023-01-08","n","2023-01-08",180,null,"Povolný L."]
[null,null,8,"2023-01-09","p","2023-01-09",210,null,"Průša J."]
[null,null,9,"2023-01-10","ú","2023-01-10",240,null,"Průša M."]
[null,null,10,"2023-01-11","s","2023-01-11",270,null,"Rybníček M."]
[null,null,11,"2023-01-12","č","2023-01-12",300,null,"Svoboda L."]
[null,null,12,"2023-01-13","p","2023-01-13",330,null,"ÚDRŽBA"]
[null,null,13,"2023-01-14","s",{"$f":"+F14+1","v":"2023-01-14"},360]
[null,null,14,"2023-01-15","n","2023-01-15",390]
[null,null,15,"2023-01-16","p","2023-01-16",420]
[null,null,16,"2023-01-17","ú","2023-01-17",450]
[null,null,17,"2023-01-18","s","2023-01-18",480]
[null,null,18,"2023-01-19","č","2023-01-19",510]
[null,null,19,"2023-01-20","p","2023-01-20",540]
[null,null,20,{"$f":"IF(F22=\"\",\"\",IF(F22>0,F22,0))","v":"2023-01-21"},{"$f":"MID(TEXT(F22,\"dddd\"),1,1)","v":"s"},"2023-01-21",570]
[null,null,21,"2023-01-22","n","2023-01-22",600]
[null,null,22,"2023-01-23","p","2023-01-23",630]
[null,null,23,"2023-01-24","ú","2023-01-24",660]
[null,null,24,"2023-01-25","s","2023-01-25",690]
[null,null,25,"2023-01-26","č","2023-01-26",720]
[null,null,26,"2023-01-27","p","2023-01-27",750]
[null,null,27,"2023-01-28","s","2023-01-28",780]
[null,null,28,"2023-01-29","n","2023-01-29",810]
[null,null,29,"2023-01-30","p","2023-01-30",840]
[null,null,30,"2023-01-31","ú","2023-01-31",870]
[null,null,31,{"$f":"IF(F33=\"\",\"\",IF(F33>0,F33,0))","v":"2023-02-01"},{"$f":"MID(TEXT(F33,\"dddd\"),1,1)","v":"s"},"2023-02-01",900]
[null,null,32,"2023-02-02","č","2023-02-02",930]
[null,null,{"$f":"+C34+1","v":33},{"$f":"IF(F35=\"\",\"\",IF(F35>0,F35,0))","v":"2023-02-03"},{"$f":"MID(TEXT(F35,\"dddd\"),1,1)","v":"p"},"2023-02-03",960]
[null,null,34,"2023-02-04","s","2023-02-04",990]
[null,null,35,"2023-02-05","n","2023-02-05",1020]
[null,null,null,null,null,null,{"$f":"IF(I38=\"\",\"\",IF(I38>0,I38,0))","v":""}]
[null,null,null,null,null,null,""]
[null,null,null,null,null,null,""]
[null,null,null,null,null,null,""]
[null,null,null,null,null,null,""]

{"sheet":"zdroj","index":17,"n_rows":699,"n_cols":17,"rows_kept":699,"cut":false,"hidden":false,"merged":[[121,16,238,47]]}
[]
[null,null,null,null,null,"Pláo. příjezd","Zákazník","Dopravce","Status"]
[{"$f":"+B3","v":"2023-01-02"},{"$f":"+IF('01.23'!C4=\"\",\"\",'01.23'!C4)","v":"2023-01-02"},{"$f":"IF(B3=\"\",\"\",COUNTIFS($B3:B$3,B3))","v":1},{"$f":"IF(B3=\"\",\"\",LOOKUP(B3,DataFIX!$F$3:$F$21,DataFIX!$E$3:$E$21))","v":"p"},{"$f":"IF(B3=\"\",\"\",LOOKUP(B3,DataFIX!$F$3:$F$41,DataFIX!$G$3:$G$41)+C3)","v":1},{"$f":"+'01.23'!O4","v":"00:00:00"},{"$f":"+'01.23'!E4","v":0},{"$f":"+'01.23'!G4","v":0},{"$f":"+'01.23'!T4","v":0},null,null,{"$f":"+'01.23'!L4","v":0}]
[{"$f":"+B4","v":"2023-01-03"},{"$f":"+IF('01.23'!C5=\"\",\"\",'01.23'!C5)","v":"2023-01-03"},{"$f":"IF(B4=\"\",\"\",COUNTIFS($B$3:B4,B4))","v":1},{"$f":"IF(B4=\"\",\"\",LOOKUP(B4,DataFIX!$F$3:$F$21,DataFIX!$E$3:$E$21))","v":"ú"},{"$f":"IF(B4=\"\",\"\",LOOKUP(B4,DataFIX!$F$3:$F$41,DataFIX!$G$3:$G$41)+C4)","v":31},{"$f":"+'01.23'!O5","v":"06:00:00"},{"$f":"+'01.23'!E5","v":"DF"},{"$f":"+'01.23'!G5","v":"Hroza "},{"$f":"+'01.23'!T5","v":"Dokončeno"},null,null,{"$f":"+'01.23'!L5","v":0}]
["2023-01-03",{"$f":"+IF('01.23'!C6=\"\",\"\",'01.23'!C6)","v":"2023-01-03"},{"$f":"IF(B5=\"\",\"\",COUNTIFS($B$3:B5,B5))","v":2},{"$f":"IF(B5=\"\",\"\",LOOKUP(B5,DataFIX!$F$3:$F$21,DataFIX!$E$3:$E$21))","v":"ú"},{"$f":"IF(B5=\"\",\"\",LOOKUP(B5,DataFIX!$F$3:$F$41,DataFIX!$G$3:$G$41)+C5)","v":32},{"$f":"+'01.23'!O6","v":"07:00:00"},{"$f":"+'01.23'!E6","v":"Antolin"},{"$f":"+'01.23'!G6","v":"vlastní"},{"$f":"+'01.23'!T6","v":"Dokončeno"},null,null,{"$f":"+'01.23'!L6","v":0}]
["2023-01-03",{"$f":"+IF('01.23'!C7=\"\",\"\",'01.23'!C7)","v":"2023-01-03"},{"$f":"IF(B6=\"\",\"\",COUNTIFS($B$3:B6,B6))","v":3},{"$f":"IF(B6=\"\",\"\",LOOKUP(B6,DataFIX!$F$3:$F$21,DataFIX!$E$3:$E$21))","v":"ú"},{"$f":"IF(B6=\"\",\"\",LOOKUP(B6,DataFIX!$F$3:$F$41,DataFIX!$G$3:$G$41)+C6)","v":33},{"$f":"+'01.23'!O7","v":"08:00:00"},{"$f":"+'01.23'!E7","v":"INX"},{"$f":"+'01.23'!G7","v":"Logmax"},{"$f":"+'01.23'!T7","v":"Dokončeno"},null,null,{"$f":"+'01.23'!L7","v":0}]
["2023-01-03",{"$f":"+IF('01.23'!C8=\"\",\"\",'01.23'!C8)","v":"2023-01-03"},{"$f":"IF(B7=\"\",\"\",COUNTIFS($B$3:B7,B7))","v":4},{"$f":"IF(B7=\"\",\"\",LOOKUP(B7,DataFIX!$F$3:$F$21,DataFIX!$E$3:$E$21))","v":"ú"},{"$f":"IF(B7=\"\",\"\",LOOKUP(B7,DataFIX!$F$3:$F$41,DataFIX!$G$3:$G$41)+C7)","v":34},{"$f":"+'01.23'!O8","v":"11:00:00"},{"$f":"+'01.23'!E8","v":"Faurecie MB"},{"$f":"+'01.23'!G8","v":"vlastní"},{"$f":"+'01.23'!T8","v":"Dokončeno"},null,null,{"$f":"+'01.23'!L8","v":0}]
["2023-01-03",{"$f":"+IF('01.23'!C9=\"\",\"\",'01.23'!C9)","v":"2023-01-03"},{"$f":"IF(B8=\"\",\"\",COUNTIFS($B$3:B8,B8))","v":5},{"$f":"IF(B8=\"\",\"\",LOOKUP(B8,DataFIX!$F$3:$F$21,DataFIX!$E$3:$E$21))","v":"ú"},{"$f":"IF(B8=\"\",\"\",LOOKUP(B8,DataFIX!$F$3:$F$41,DataFIX!$G$3:$G$41)+C8)","v":35},{"$f":"+'01.23'!O9","v":"00:00:00"},{"$f":"+'01.23'!E9","v":"T-Net"},{"$f":"+'01.23'!G9","v":"Legarde"},{"$f":"+'01.23'!T9","v":"Dokončeno"},null,null,{"$f":"+'01.23'!L9","v":0}]
["2023-01-03",{"$f":"+IF('01.23'!C10=\"\",\"\",'01.23'!C10)","v":"2023-01-03"},{"$f":"IF(B9=\"\",\"\",COUNTIFS($B$3:B9,B9))","v":6},{"$f":"IF(B9=\"\",\"\",LOOKUP(B9,DataFIX!$F$3:$F$21,DataFIX!$E$3:$E$21))","v":"ú"},{"$f":"IF(B9=\"\",\"\",LOOKUP(B9,DataFIX!$F$3:$F$41,DataFIX!$G$3:$G$41)+C9)","v":36},{"$f":"+'01.23'!O10","v":"00:00:00"},{"$f":"+'01.23'!E10","v":"T-Net"},{"$f":"+'01.23'!G10","v":"MSB"},{"$f":"+'01.23'!T10","v":"Dokončeno"},null,null,{"$f":"+'01.23'!L10","v":0}]
["2023-01-03",{"$f":"+IF('01.23'!C11=\"\",\"\",'01.23'!C11)","v":"2023-01-03"},{"$f":"IF(B10=\"\",\"\",COUNTIFS($B$3:B10,B10))","v":7},{"$f":"IF(B10=\"\",\"\",LOOKUP(B10,DataFIX!$F$3:$F$21,DataFIX!$E$3:$E$21))","v":"ú"},{"$f":"IF(B10=\"\",\"\",LOOKUP(B10,DataFIX!$F$3:$F$41,DataFIX!$G$3:$G$41)+C10)","v":37},{"$f":"+'01.23'!O11","v":"00:00:00"},{"$f":"+'01.23'!E11","v":"T-Net"},{"$f":"+'01.23'!G11","v":"MSB"},{"$f":"+'01.23'!T11","v":"Dokončeno"},null,null,{"$f":"+'01.23'!L11","v":0}]
["2023-01-03",{"$f":"+IF('01.23'!C12=\"\",\"\",'01.23'!C12)","v":"2023-01-03"},{"$f":"IF(B11=\"\",\"\",COUNTIFS($B$3:B11,B11))","v":8},{"$f":"IF(B11=\"\",\"\",LOOKUP(B11,DataFIX!$F$3:$F$21,DataFIX!$E$3:$E$21))","v":"ú"},{"$f":"IF(B11=\"\",\"\",LOOKUP(B11,DataFIX!$F$3:$F$41,DataFIX!$G$3:$G$41)+C11)","v":38},{"$f":"+'01.23'!O12","v":"00:00:00"},{"$f":"+'01.23'!E12","v":"T-Net"},{"$f":"+'01.23'!G12","v":"MSB"},{"$f":"+'01.23'!T12","v":"Dokončeno"},null,null,{"$f":"+'01.23'!L12","v":0}]
["2023-01-03",{"$f":"+IF('01.23'!C13=\"\",\"\",'01.23'!C13)","v":"2023-01-03"},{"$f":"IF(B12=\"\",\"\",COUNTIFS($B$3:B12,B12))","v":9},{"$f":"IF(B12=\"\",\"\",LOOKUP(B12,DataFIX!$F$3:$F$21,DataFIX!$E$3:$E$21))","v":"ú"},{"$f":"IF(B12=\"\",\"\",LOOKUP(B12,DataFIX!$F$3:$F$41,DataFIX!$G$3:$G$41)+C12)","v":39},{"$f":"+'01.23'!O13","v":"00:00:00"},{"$f":"+'01.23'!E13","v":"T-Net"},{"$f":"+'01.23'!G13","v":"MSB"},{"$f":"+'01.23'!T13","v":"Dokončeno"},null,null,{"$f":"+'01.23'!L13","v":0}]
["2023-01-03",{"$f":"+IF('01.23'!C14=\"\",\"\",'01.23'!C14)","v":"2023-01-03"},{"$f":"IF(B13=\"\",\"\",COUNTIFS($B$3:B13,B13))","v":10},{"$f":"IF(B13=\"\",\"\",LOOKUP(B13,DataFIX!$F$3:$F$21,DataFIX!$E$3:$E$21))","v":"ú"},{"$f":"IF(B13=\"\",\"\",LOOKUP(B13,DataFIX!$F$3:$F$41,DataFIX!$G$3:$G$41)+C13)","v":40},{"$f":"+'01.23'!O14","v":"00:00:00"},{"$f":"+'01.23'!E14","v":"Filmer"},{"$f":"+'01.23'!G14","v":0},{"$f":"+'01.23'!T14","v":"Dokončeno"},null,null,{"$f":"+'01.23'!L14","v":0}]
["2023-01-03",{"$f":"+IF('01.23'!C15=\"\",\"\",'01.23'!C15)","v":"2023-01-03"},{"$f":"IF(B14=\"\",\"\",COUNTIFS($B$3:B14,B14))","v":11},{"$f":"IF(B14=\"\",\"\",LOOKUP(B14,DataFIX!$F$3:$F$21,DataFIX!$E$3:$E$21))","v":"ú"},{"$f":"IF(B14=\"\",\"\",LOOKUP(B14,DataFIX!$F$3:$F$41,DataFIX!$G$3:$G$41)+C14)","v":41},{"$f":"+'01.23'!O15","v":"00:00:00"},{"$f":"+'01.23'!E15","v":"GAS"},{"$f":"+'01.23'!G15","v":"vlastní"},{"$f":"+'01.23'!T15","v":"Dokončeno"},null,null,{"$f":"+'01.23'!L15","v":0}]
["2023-01-03",{"$f":"+IF('01.23'!C16=\"\",\"\",'01.23'!C16)","v":"2023-01-03"},{"$f":"IF(B15=\"\",\"\",COUNTIFS($B$3:B15,B15))","v":12},{"$f":"IF(B15=\"\",\"\",LOOKUP(B15,DataFIX!$F$3:$F$21,DataFIX!$E$3:$E$21))","v":"ú"},{"$f":"IF(B15=\"\",\"\",LOOKUP(B15,DataFIX!$F$3:$F$41,DataFIX!$G$3:$G$41)+C15)","v":42},{"$f":"+'01.23'!O16","v":"00:00:00"},{"$f":"+'01.23'!E16","v":"Faurecie MB"},{"$f":"+'01.23'!G16","v":"vlastní"},{"$f":"+'01.23'!T16","v":"Dokončeno"},null,null,{"$f":"+'01.23'!L16","v":0}]
["2023-01-04",{"$f":"+IF('01.23'!C17=\"\",\"\",'01.23'!C17)","v":"2023-01-04"},{"$f":"IF(B16=\"\",\"\",COUNTIFS($B$3:B16,B16))","v":1},{"$f":"IF(B16=\"\",\"\",LOOKUP(B16,DataFIX!$F$3:$F$21,DataFIX!$E$3:$E$21))","v":"s"},{"$f":"IF(B16=\"\",\"\",LOOKUP(B16,DataFIX!$F$3:$F$41,DataFIX!$G$3:$G$41)+C16)","v":61},{"$f":"+'01.23'!O17","v":"06:00:00"},{"$f":"+'01.23'!E17","v":"DF"},{"$f":"+'01.23'!G17","v":"Hroza "},{"$f":"+'01.23'!T17","v":"Dokončeno"},null,null,{"$f":"+'01.23'!L17","v":0}]
["2023-01-04",{"$f":"+IF('01.23'!C18=\"\",\"\",'01.23'!C18)","v":"2023-01-04"},{"$f":"IF(B17=\"\",\"\",COUNTIFS($B$3:B17,B17))","v":2},{"$f":"IF(B17=\"\",\"\",LOOKUP(B17,DataFIX!$F$3:$F$21,DataFIX!$E$3:$E$21))","v":"s"},{"$f":"IF(B17=\"\",\"\",LOOKUP(B17,DataFIX!$F$3:$F$41,DataFIX!$G$3:$G$41)+C17)","v":62},{"$f":"+'01.23'!O18","v":"06:05:00"},{"$f":"+'01.23'!E18","v":"Bochemie"},{"$f":"+'01.23'!G18","v":"TEZET"},{"$f":"+'01.23'!T18","v":"Dokončeno"},null,null,{"$f":"+'01.23'!L18","v":0}]
["2023-01-04",{"$f":"+IF('01.23'!C19=\"\",\"\",'01.23'!C19)","v":"2023-01-04"},{"$f":"IF(B18=\"\",\"\",COUNTIFS($B$3:B18,B18))","v":3},{"$f":"IF(B18=\"\",\"\",LOOKUP(B18,DataFIX!$F$3:$F$21,DataFIX!$E$3:$E$21))","v":"s"},{"$f":"IF(B18=\"\",\"\",LOOKUP(B18,DataFIX!$F$3:$F$41,DataFIX!$G$3:$G$41)+C18)","v":63},{"$f":"+'01.23'!O19","v":"06:05:00"},{"$f":"+'01.23'!E19","v":"DF"},{"$f":"+'01.23'!G19","v":"Hroza"},{"$f":"+'01.23'!T19","v":"Dokončeno"},null,null,{"$f":"+'01.23'!L19","v":0}]
["2023-01-04",{"$f":"+IF('01.23'!C20=\"\",\"\",'01.23'!C20)","v":"2023-01-04"},{"$f":"IF(B19=\"\",\"\",COUNTIFS($B$3:B19,B19))","v":4},{"$f":"IF(B19=\"\",\"\",LOOKUP(B19,DataFIX!$F$3:$F$21,DataFIX!$E$3:$E$21))","v":"s"},{"$f":"IF(B19=\"\",\"\",LOOKUP(B19,DataFIX!$F$3:$F$41,DataFIX!$G$3:$G$41)+C19)","v":64},{"$f":"+'01.23'!O20","v":"08:00:00"},{"$f":"+'01.23'!E20","v":"T-Net"},{"$f":"+'01.23'!G20","v":"kontejer"},{"$f":"+'01.23'!T20","v":"Dokončeno"},null,null,{"$f":"+'01.23'!L20","v":0}]
["2023-01-04",{"$f":"+IF('01.23'!C21=\"\",\"\",'01.23'!C21)","v":"2023-01-04"},{"$f":"IF(B20=\"\",\"\",COUNTIFS($B$3:B20,B20))","v":5},{"$f":"IF(B20=\"\",\"\",LOOKUP(B20,DataFIX!$F$3:$F$21,DataFIX!$E$3:$E$21))","v":"s"},{"$f":"IF(B20=\"\",\"\",LOOKUP(B20,DataFIX!$F$3:$F$41,DataFIX!$G$3:$G$41)+C20)","v":65},{"$f":"+'01.23'!O21","v":"10:00:00"},{"$f":"+'01.23'!E21","v":"Ozas-Esab"},{"$f":"+'01.23'!G21","v":"Schenker"},{"$f":"+'01.23'!T21","v":"Dokončeno"},null,null,{"$f":"+'01.23'!L21","v":0}]
["2023-01-04",{"$f":"+IF('01.23'!C22=\"\",\"\",'01.23'!C22)","v":"2023-01-04"},{"$f":"IF(B21=\"\",\"\",COUNTIFS($B$3:B21,B21))","v":6},{"$f":"IF(B21=\"\",\"\",LOOKUP(B21,DataFIX!$F$3:$F$21,DataFIX!$E$3:$E$21))","v":"s"},{"$f":"IF(B21=\"\",\"\",LOOKUP(B21,DataFIX!$F$3:$F$41,DataFIX!$G$3:$G$41)+C21)","v":66},{"$f":"+'01.23'!O22","v":"10:00:00"},{"$f":"+'01.23'!E22","v":"Agrimex"},{"$f":"+'01.23'!G22","v":"vlastní"},{"$f":"+'01.23'!T22","v":"Dokončeno"},null,null,{"$f":"+'01.23'!L22","v":0}]
["2023-01-04",{"$f":"+IF('01.23'!C23=\"\",\"\",'01.23'!C23)","v":"2023-01-04"},{"$f":"IF(B22=\"\",\"\",COUNTIFS($B$3:B22,B22))","v":7},{"$f":"IF(B22=\"\",\"\",LOOKUP(B22,DataFIX!$F$3:$F$21,DataFIX!$E$3:$E$21))","v":"s"},{"$f":"IF(B22=\"\",\"\",LOOKUP(B22,DataFIX!$F$3:$F$41,DataFIX!$G$3:$G$41)+C22)","v":67},{"$f":"+'01.23'!O23","v":"11:00:00"},{"$f":"+'01.23'!E23","v":"Flexfill"},{"$f":"+'01.23'!G23","v":"Interkontakt"},{"$f":"+'01.23'!T23","v":"Dokončeno"},null,null,{"$f":"+'01.23'!L23","v":0}]
["2023-01-04",{"$f":"+IF('01.23'!C24=\"\",\"\",'01.23'!C24)","v":"2023-01-04"},{"$f":"IF(B23=\"\",\"\",COUNTIFS($B$3:B23,B23))","v":8},{"$f":"IF(B23=\"\",\"\",LOOKUP(B23,DataFIX!$F$3:$F$21,DataFIX!$E$3:$E$21))","v":"s"},{"$f":"IF(B23=\"\",\"\",LOOKUP(B23,DataFIX!$F$3:$F$41,DataFIX!$G$3:$G$41)+C23)","v":68},{"$f":"+'01.23'!O24","v":"00:00:00"},{"$f":"+'01.23'!E24","v":"Tichelman"},{"$f":"+'01.23'!G24","v":"vlastní"},{"$f":"+'01.23'!T24","v":"Dokončeno"},null,null,{"$f":"+'01.23'!L24","v":0}]
["2023-01-05",{"$f":"+IF('01.23'!C25=\"\",\"\",'01.23'!C25)","v":"2023-01-05"},{"$f":"IF(B24=\"\",\"\",COUNTIFS($B$3:B24,B24))","v":1},{"$f":"IF(B24=\"\",\"\",LOOKUP(B24,DataFIX!$F$3:$F$21,DataFIX!$E$3:$E$21))","v":"č"},{"$f":"IF(B24=\"\",\"\",LOOKUP(B24,DataFIX!$F$3:$F$41,DataFIX!$G$3:$G$41)+C24)","v":91},{"$f":"+'01.23'!O25","v":"06:00:00"},{"$f":"+'01.23'!E25","v":"DF"},{"$f":"+'01.23'!G25","v":"Hroza"},{"$f":"+'01.23'!T25","v":"Dokončeno"},null,null,{"$f":"+'01.23'!L25","v":0}]
["2023-01-05",{"$f":"+IF('01.23'!C26=\"\",\"\",'01.23'!C26)","v":"2023-01-05"},{"$f":"IF(B25=\"\",\"\",COUNTIFS($B$3:B25,B25))","v":2},{"$f":"IF(B25=\"\",\"\",LOOKUP(B25,DataFIX!$F$3:$F$21,DataFIX!$E$3:$E$21))","v":"č"},{"$f":"IF(B25=\"\",\"\",LOOKUP(B25,DataFIX!$F$3:$F$41,DataFIX!$G$3:$G$41)+C25)","v":92},{"$f":"+'01.23'!O26","v":"06:05:00"},{"$f":"+'01.23'!E26","v":"Oma "},{"$f":"+'01.23'!G26","v":"Tezet"},{"$f":"+'01.23'!T26","v":"Dokončeno"},null,null,{"$f":"+'01.23'!L26","v":0}]
["2023-01-05",{"$f":"+IF('01.23'!C27=\"\",\"\",'01.23'!C27)","v":"2023-01-05"},{"$f":"IF(B26=\"\",\"\",COUNTIFS($B$3:B26,B26))","v":3},{"$f":"IF(B26=\"\",\"\",LOOKUP(B26,DataFIX!$F$3:$F$21,DataFIX!$E$3:$E$21))","v":"č"},{"$f":"IF(B26=\"\",\"\",LOOKUP(B26,DataFIX!$F$3:$F$41,DataFIX!$G$3:$G$41)+C26)","v":93},{"$f":"+'01.23'!O27","v":"06:05:00"},{"$f":"+'01.23'!E27","v":"Fagron"},{"$f":"+'01.23'!G27","v":"TEZET"},{"$f":"+'01.23'!T27","v":"Dokončeno"},null,null,{"$f":"+'01.23'!L27","v":0}]
["2023-01-05",{"$f":"+IF('01.23'!C28=\"\",\"\",'01.23'!C28)","v":"2023-01-05"},{"$f":"IF(B27=\"\",\"\",COUNTIFS($B$3:B27,B27))","v":4},{"$f":"IF(B27=\"\",\"\",LOOKUP(B27,DataFIX!$F$3:$F$21,DataFIX!$E$3:$E$21))","v":"č"},{"$f":"IF(B27=\"\",\"\",LOOKUP(B27,DataFIX!$F$3:$F$41,DataFIX!$G$3:$G$41)+C27)","v":94},{"$f":"+'01.23'!O28","v":"10:00:00"},{"$f":"+'01.23'!E28","v":"Variant"},{"$f":"+'01.23'!G28","v":"vlastní"},{"$f":"+'01.23'!T28","v":"Dokončeno"},null,null,{"$f":"+'01.23'!L28","v":0}]
["2023-01-05",{"$f":"+IF('01.23'!C29=\"\",\"\",'01.23'!C29)","v":"2023-01-05"},{"$f":"IF(B28=\"\",\"\",COUNTIFS($B$3:B28,B28))","v":5},{"$f":"IF(B28=\"\",\"\",LOOKUP(B28,DataFIX!$F$3:$F$21,DataFIX!$E$3:$E$21))","v":"č"},{"$f":"IF(B28=\"\",\"\",LOOKUP(B28,DataFIX!$F$3:$F$41,DataFIX!$G$3:$G$41)+C28)","v":95},{"$f":"+'01.23'!O29","v":"10:00:00"},{"$f":"+'01.23'!E29","v":"Carrier"},{"$f":"+'01.23'!G29","v":"vlastní"},{"$f":"+'01.23'!T29","v":"Dokončeno"},null,null,{"$f":"+'01.23'!L29","v":0}]
["2023-01-05",{"$f":"+IF('01.23'!C30=\"\",\"\",'01.23'!C30)","v":"2023-01-05"},{"$f":"IF(B29=\"\",\"\",COUNTIFS($B$3:B29,B29))","v":6},{"$f":"IF(B29=\"\",\"\",LOOKUP(B29,DataFIX!$F$3:$F$21,DataFIX!$E$3:$E$21))","v":"č"},{"$f":"IF(B29=\"\",\"\",LOOKUP(B29,DataFIX!$F$3:$F$41,DataFIX!$G$3:$G$41)+C29)","v":96},{"$f":"+'01.23'!O30","v":"10:00:00"},{"$f":"+'01.23'!E30","v":"Transtech tooling"},{"$f":"+'01.23'!G30","v":"vlastníí"},{"$f":"+'01.23'!T30","v":"Dokončeno"},null,null,{"$f":"+'01.23'!L30","v":0}]
["2023-01-05",{"$f":"+IF('01.23'!C31=\"\",\"\",'01.23'!C31)","v":"2023-01-05"},{"$f":"IF(B30=\"\",\"\",COUNTIFS($B$3:B30,B30))","v":7},{"$f":"IF(B30=\"\",\"\",LOOKUP(B30,DataFIX!$F$3:$F$21,DataFIX!$E$3:$E$21))","v":"č"},{"$f":"IF(B30=\"\",\"\",LOOKUP(B30,DataFIX!$F$3:$F$41,DataFIX!$G$3:$G$41)+C30)","v":97},{"$f":"+'01.23'!O31","v":"10:30:00"},{"$f":"+'01.23'!E31","v":"Lopal"},{"$f":"+'01.23'!G31","v":"vlastní"},{"$f":"+'01.23'!T31","v":"Dokončeno"},null,null,{"$f":"+'01.23'!L31","v":0}]
["2023-01-05",{"$f":"+IF('01.23'!C32=\"\",\"\",'01.23'!C32)","v":"2023-01-05"},{"$f":"IF(B31=\"\",\"\",COUNTIFS($B$3:B31,B31))","v":8},{"$f":"IF(B31=\"\",\"\",LOOKUP(B31,DataFIX!$F$3:$F$21,DataFIX!$E$3:$E$21))","v":"č"},{"$f":"IF(B31=\"\",\"\",LOOKUP(B31,DataFIX!$F$3:$F$41,DataFIX!$G$3:$G$41)+C31)","v":98},{"$f":"+'01.23'!O32","v":"12:00:00"},{"$f":"+'01.23'!E32","v":"Bartozs Ratuski"},{"$f":"+'01.23'!G32","v":"vlastní"},{"$f":"+'01.23'!T32","v":"Dokončeno"},null,null,{"$f":"+'01.23'!L32","v":0}]
["2023-01-05",{"$f":"+IF('01.23'!C33=\"\",\"\",'01.23'!C33)","v":"2023-01-05"},{"$f":"IF(B32=\"\",\"\",COUNTIFS($B$3:B32,B32))","v":9},{"$f":"IF(B32=\"\",\"\",LOOKUP(B32,DataFIX!$F$3:$F$21,DataFIX!$E$3:$E$21))","v":"č"},{"$f":"IF(B32=\"\",\"\",LOOKUP(B32,DataFIX!$F$3:$F$41,DataFIX!$G$3:$G$41)+C32)","v":99},{"$f":"+'01.23'!O33","v":"14:00:00"},{"$f":"+'01.23'!E33","v":"Sait-Gonbein"},{"$f":"+'01.23'!G33","v":"vlastní"},{"$f":"+'01.23'!T33","v":"Dokončeno"},null,null,{"$f":"+'01.23'!L33","v":0}]
["2023-01-05",{"$f":"+IF('01.23'!C34=\"\",\"\",'01.23'!C34)","v":"2023-01-05"},{"$f":"IF(B33=\"\",\"\",COUNTIFS($B$3:B33,B33))","v":10},{"$f":"IF(B33=\"\",\"\",LOOKUP(B33,DataFIX!$F$3:$F$21,DataFIX!$E$3:$E$21))","v":"č"},{"$f":"IF(B33=\"\",\"\",LOOKUP(B33,DataFIX!$F$3:$F$41,DataFIX!$G$3:$G$41)+C33)","v":100},{"$f":"+'01.23'!O34","v":"00:00:00"},{"$f":"+'01.23'!E34","v":"GEFCO"},{"$f":"+'01.23'!G34","v":"vlastní"},{"$f":"+'01.23'!T34","v":"Dokončeno"},null,null,{"$f":"+'01.23'!L34","v":0}]
["2023-01-05",{"$f":"+IF('01.23'!C35=\"\",\"\",'01.23'!C35)","v":"2023-01-05"},{"$f":"IF(B34=\"\",\"\",COUNTIFS($B$3:B34,B34))","v":11},{"$f":"IF(B34=\"\",\"\",LOOKUP(B34,DataFIX!$F$3:$F$21,DataFIX!$E$3:$E$21))","v":"č"},{"$f":"IF(B34=\"\",\"\",LOOKUP(B34,DataFIX!$F$3:$F$41,DataFIX!$G$3:$G$41)+C34)","v":101},{"$f":"+'01.23'!O35","v":"00:00:00"},{"$f":"+'01.23'!E35","v":"PK Group"},{"$f":"+'01.23'!G35","v":"vlastní"},{"$f":"+'01.23'!T35","v":"Dokončeno"},null,null,{"$f":"+'01.23'!L35","v":0}]
["2023-01-06",{"$f":"+IF('01.23'!C36=\"\",\"\",'01.23'!C36)","v":"2023-01-06"},{"$f":"IF(B35=\"\",\"\",COUNTIFS($B$3:B35,B35))","v":1},{"$f":"IF(B35=\"\",\"\",LOOKUP(B35,DataFIX!$F$3:$F$21,DataFIX!$E$3:$E$21))","v":"p"},{"$f":"IF(B35=\"\",\"\",LOOKUP(B35,DataFIX!$F$3:$F$41,DataFIX!$G$3:$G$41)+C35)","v":121},{"$f":"+'01.23'!O36","v":"06:00:00"},{"$f":"+'01.23'!E36","v":"DF"},{"$f":"+'01.23'!G36","v":"Hroza"},{"$f":"+'01.23'!T36","v":"Dokončeno"},null,null,{"$f":"+'01.23'!L36","v":0}]
["2023-01-06",{"$f":"+IF('01.23'!C37=\"\",\"\",'01.23'!C37)","v":"2023-01-06"},{"$f":"IF(B36=\"\",\"\",COUNTIFS($B$3:B36,B36))","v":2},{"$f":"IF(B36=\"\",\"\",LOOKUP(B36,DataFIX!$F$3:$F$21,DataFIX!$E$3:$E$21))","v":"p"},{"$f":"IF(B36=\"\",\"\",LOOKUP(B36,DataFIX!$F$3:$F$41,DataFIX!$G$3:$G$41)+C36)","v":122},{"$f":"+'01.23'!O37","v":"06:00:00"},{"$f":"+'01.23'!E37","v":"DF"},{"$f":"+'01.23'!G37","v":"Hroza"},{"$f":"+'01.23'!T37","v":"Dokončeno"},null,null,{"$f":"+'01.23'!L37","v":0}]
["2023-01-06",{"$f":"+IF('01.23'!C38=\"\",\"\",'01.23'!C38)","v":"2023-01-06"},{"$f":"IF(B37=\"\",\"\",COUNTIFS($B$3:B37,B37))","v":3},{"$f":"IF(B37=\"\",\"\",LOOKUP(B37,DataFIX!$F$3:$F$21,DataFIX!$E$3:$E$21))","v":"p"},{"$f":"IF(B37=\"\",\"\",LOOKUP(B37,DataFIX!$F$3:$F$41,DataFIX!$G$3:$G$41)+C37)","v":123},{"$f":"+'01.23'!O38","v":"06:05:00"},{"$f":"+'01.23'!E38","v":"Cheport"},{"$f":"+'01.23'!G38","v":"TEZET"},{"$f":"+'01.23'!T38","v":"Dokončeno"},null,null,{"$f":"+'01.23'!L38","v":0}]
["2023-01-06",{"$f":"+IF('01.23'!C39=\"\",\"\",'01.23'!C39)","v":"2023-01-06"},{"$f":"IF(B38=\"\",\"\",COUNTIFS($B$3:B38,B38))","v":4},{"$f":"IF(B38=\"\",\"\",LOOKUP(B38,DataFIX!$F$3:$F$21,DataFIX!$E$3:$E$21))","v":"p"},{"$f":"IF(B38=\"\",\"\",LOOKUP(B38,DataFIX!$F$3:$F$41,DataFIX!$G$3:$G$41)+C38)","v":124},{"$f":"+'01.23'!O39","v":"10:00:00"},{"$f":"+'01.23'!E39","v":"TBA"},{"$f":"+'01.23'!G39","v":"vlastní "},{"$f":"+'01.23'!T39","v":"Dokončeno"},null,null,{"$f":"+'01.23'!L39","v":0}]
["2023-01-06",{"$f":"+IF('01.23'!C40=\"\",\"\",'01.23'!C40)","v":"2023-01-06"},{"$f":"IF(B39=\"\",\"\",COUNTIFS($B$3:B39,B39))","v":5},{"$f":"IF(B39=\"\",\"\",LOOKUP(B39,DataFIX!$F$3:$F$21,DataFIX!$E$3:$E$21))","v":"p"},{"$f":"IF(B39=\"\",\"\",LOOKUP(B39,DataFIX!$F$3:$F$41,DataFIX!$G$3:$G$41)+C39)","v":125},{"$f":"+'01.23'!O40","v":"11:15:00"},{"$f":"+'01.23'!E40","v":"TBA"},{"$f":"+'01.23'!G40","v":"6J74747"},{"$f":"+'01.23'!T40","v":"Dokončeno"},null,null,{"$f":"+'01.23'!L40","v":0}]
["2023-01-06",{"$f":"+IF('01.23'!C41=\"\",\"\",'01.23'!C41)","v":"2023-01-06"},{"$f":"IF(B40=\"\",\"\",COUNTIFS($B$3:B40,B40))","v":6},{"$f":"IF(B40=\"\",\"\",LOOKUP(B40,DataFIX!$F$3:$F$21,DataFIX!$E$3:$E$21))","v":"p"},{"$f":"IF(B40=\"\",\"\",LOOKUP(B40,DataFIX!$F$3:$F$41,DataFIX!$G$3:$G$41)+C40)","v":126},{"$f":"+'01.23'!O41","v":"00:00:00"},{"$f":"+'01.23'!E41","v":"Seco Group"},{"$f":"+'01.23'!G41","v":"TEZET"},{"$f":"+'01.23'!T41","v":"Dokončeno"},null,null,{"$f":"+'01.23'!L41","v":0}]
["2023-01-09",{"$f":"+IF('01.23'!C42=\"\",\"\",'01.23'!C42)","v":"2023-01-09"},{"$f":"IF(B41=\"\",\"\",COUNTIFS($B$3:B41,B41))","v":1},{"$f":"IF(B41=\"\",\"\",LOOKUP(B41,DataFIX!$F$3:$F$21,DataFIX!$E$3:$E$21))","v":"p"},{"$f":"IF(B41=\"\",\"\",LOOKUP(B41,DataFIX!$F$3:$F$41,DataFIX!$G$3:$G$41)+C41)","v":211},{"$f":"+'01.23'!O42","v":"06:00:00"},{"$f":"+'01.23'!E42","v":"DF"},{"$f":"+'01.23'!G42","v":"Hroza "},{"$f":"+'01.23'!T42","v":"Dokončeno"},null,null,{"$f":"+'01.23'!L42","v":0}]
["2023-01-09",{"$f":"+IF('01.23'!C43=\"\",\"\",'01.23'!C43)","v":"2023-01-09"},{"$f":"IF(B42=\"\",\"\",COUNTIFS($B$3:B42,B42))","v":2},{"$f":"IF(B42=\"\",\"\",LOOKUP(B42,DataFIX!$F$3:$F$21,DataFIX!$E$3:$E$21))","v":"p"},{"$f":"IF(B42=\"\",\"\",LOOKUP(B42,DataFIX!$F$3:$F$41,DataFIX!$G$3:$G$41)+C42)","v":212},{"$f":"+'01.23'!O43","v":"06:00:00"},{"$f":"+'01.23'!E43","v":"DF"},{"$f":"+'01.23'!G43","v":"Hroza"},{"$f":"+'01.23'!T43","v":"Dokončeno"},null,null,{"$f":"+'01.23'!L43","v":0}]
["2023-01-09",{"$f":"+IF('01.23'!C44=\"\",\"\",'01.23'!C44)","v":"2023-01-09"},{"$f":"IF(B43=\"\",\"\",COUNTIFS($B$3:B43,B43))","v":3},{"$f":"IF(B43=\"\",\"\",LOOKUP(B43,DataFIX!$F$3:$F$21,DataFIX!$E$3:$E$21))","v":"p"},{"$f":"IF(B43=\"\",\"\",LOOKUP(B43,DataFIX!$F$3:$F$41,DataFIX!$G$3:$G$41)+C43)","v":213},{"$f":"+'01.23'!O44","v":"06:04:00"},{"$f":"+'01.23'!E44","v":"Rina"},{"$f":"+'01.23'!G44","v":"TEZET"},{"$f":"+'01.23'!T44","v":"Dokončeno"},null,null,{"$f":"+'01.23'!L44","v":0}]
["2023-01-09",{"$f":"+IF('01.23'!C45=\"\",\"\",'01.23'!C45)","v":"2023-01-09"},{"$f":"IF(B44=\"\",\"\",COUNTIFS($B$3:B44,B44))","v":4},{"$f":"IF(B44=\"\",\"\",LOOKUP(B44,DataFIX!$F$3:$F$21,DataFIX!$E$3:$E$21))","v":"p"},{"$f":"IF(B44=\"\",\"\",LOOKUP(B44,DataFIX!$F$3:$F$41,DataFIX!$G$3:$G$41)+C44)","v":214},{"$f":"+'01.23'!O45","v":"06:05:00"},{"$f":"+'01.23'!E45","v":"Cheport"},{"$f":"+'01.23'!G45","v":"Tezet"},{"$f":"+'01.23'!T45","v":"Dokončeno"},null,null,{"$f":"+'01.23'!L45","v":0}]
["2023-01-09",{"$f":"+IF('01.23'!C46=\"\",\"\",'01.23'!C46)","v":"2023-01-09"},{"$f":"IF(B45=\"\",\"\",COUNTIFS($B$3:B45,B45))","v":5},{"$f":"IF(B45=\"\",\"\",LOOKUP(B45,DataFIX!$F$3:$F$21,DataFIX!$E$3:$E$21))","v":"p"},{"$f":"IF(B45=\"\",\"\",LOOKUP(B45,DataFIX!$F$3:$F$41,DataFIX!$G$3:$G$41)+C45)","v":215},{"$f":"+'01.23'!O46","v":"07:00:00"},{"$f":"+'01.23'!E46","v":"Groshandel"},{"$f":"+'01.23'!G46","v":0},{"$f":"+'01.23'!T46","v":"Dokončeno"},null,null,{"$f":"+'01.23'!L46","v":0}]
["2023-01-09",{"$f":"+IF('01.23'!C47=\"\",\"\",'01.23'!C47)","v":"2023-01-09"},{"$f":"IF(B46=\"\",\"\",COUNTIFS($B$3:B46,B46))","v":6},{"$f":"IF(B46=\"\",\"\",LOOKUP(B46,DataFIX!$F$3:$F$21,DataFIX!$E$3:$E$21))","v":"p"},{"$f":"IF(B46=\"\",\"\",LOOKUP(B46,DataFIX!$F$3:$F$41,DataFIX!$G$3:$G$41)+C46)","v":216},{"$f":"+'01.23'!O47","v":"07:05:00"},{"$f":"+'01.23'!E47","v":"Groshandel"},{"$f":"+'01.23'!G47","v":0},{"$f":"+'01.23'!T47","v":"Dokončeno"},null,null,{"$f":"+'01.23'!L47","v":0}]
["2023-01-09",{"$f":"+IF('01.23'!C48=\"\",\"\",'01.23'!C48)","v":"2023-01-09"},{"$f":"IF(B47=\"\",\"\",COUNTIFS($B$3:B47,B47))","v":7},{"$f":"IF(B47=\"\",\"\",LOOKUP(B47,DataFIX!$F$3:$F$21,DataFIX!$E$3:$E$21))","v":"p"},{"$f":"IF(B47=\"\",\"\",LOOKUP(B47,DataFIX!$F$3:$F$41,DataFIX!$G$3:$G$41)+C47)","v":217},{"$f":"+'01.23'!O48","v":"08:00:00"},{"$f":"+'01.23'!E48","v":"Filmer"},{"$f":"+'01.23'!G48","v":0},{"$f":"+'01.23'!T48","v":"Dokončeno"},null,null,{"$f":"+'01.23'!L48","v":4}]
["2023-01-09",{"$f":"+IF('01.23'!C49=\"\",\"\",'01.23'!C49)","v":"2023-01-09"},{"$f":"IF(B48=\"\",\"\",COUNTIFS($B$3:B48,B48))","v":8},{"$f":"IF(B48=\"\",\"\",LOOKUP(B48,DataFIX!$F$3:$F$21,DataFIX!$E$3:$E$21))","v":"p"},{"$f":"IF(B48=\"\",\"\",LOOKUP(B48,DataFIX!$F$3:$F$41,DataFIX!$G$3:$G$41)+C48)","v":218},{"$f":"+'01.23'!O49","v":"10:00:00"},{"$f":"+'01.23'!E49","v":"TBA"},{"$f":"+'01.23'!G49","v":"vlastní"},{"$f":"+'01.23'!T49","v":"Dokončeno"},null,null,{"$f":"+'01.23'!L49","v":0}]
["2023-01-09",{"$f":"+IF('01.23'!C50=\"\",\"\",'01.23'!C50)","v":"2023-01-09"},{"$f":"IF(B49=\"\",\"\",COUNTIFS($B$3:B49,B49))","v":9},{"$f":"IF(B49=\"\",\"\",LOOKUP(B49,DataFIX!$F$3:$F$21,DataFIX!$E$3:$E$21))","v":"p"},{"$f":"IF(B49=\"\",\"\",LOOKUP(B49,DataFIX!$F$3:$F$41,DataFIX!$G$3:$G$41)+C49)","v":219},{"$f":"+'01.23'!O50","v":"11:00:00"},{"$f":"+'01.23'!E50","v":"Flexfill"},{"$f":"+'01.23'!G50","v":"Interkontakt"},{"$f":"+'01.23'!T50","v":"Dokončeno"},null,null,{"$f":"+'01.23'!L50","v":0}]
["2023-01-09",{"$f":"+IF('01.23'!C51=\"\",\"\",'01.23'!C51)","v":"2023-01-09"},{"$f":"IF(B50=\"\",\"\",COUNTIFS($B$3:B50,B50))","v":10},{"$f":"IF(B50=\"\",\"\",LOOKUP(B50,DataFIX!$F$3:$F$21,DataFIX!$E$3:$E$21))","v":"p"},{"$f":"IF(B50=\"\",\"\",LOOKUP(B50,DataFIX!$F$3:$F$41,DataFIX!$G$3:$G$41)+C50)","v":220},{"$f":"+'01.23'!O51","v":"11:05:00"},{"$f":"+'01.23'!E51","v":"Nufarm"},{"$f":"+'01.23'!G51","v":"Interkontakt"},{"$f":"+'01.23'!T51","v":"Dokončeno"},null,null,{"$f":"+'01.23'!L51","v":0}]
["2023-01-09",{"$f":"+IF('01.23'!C52=\"\",\"\",'01.23'!C52)","v":"2023-01-09"},{"$f":"IF(B51=\"\",\"\",COUNTIFS($B$3:B51,B51))","v":11},{"$f":"IF(B51=\"\",\"\",LOOKUP(B51,DataFIX!$F$3:$F$21,DataFIX!$E$3:$E$21))","v":"p"},{"$f":"IF(B51=\"\",\"\",LOOKUP(B51,DataFIX!$F$3:$F$41,DataFIX!$G$3:$G$41)+C51)","v":221},{"$f":"+'01.23'!O52","v":"11:10:00"},{"$f":"+'01.23'!E52","v":"T-Net"},{"$f":"+'01.23'!G52","v":"Legarde"},{"$f":"+'01.23'!T52","v":"Dokončeno"},null,null,{"$f":"+'01.23'!L52","v":0}]
["2023-01-09",{"$f":"+IF('01.23'!C53=\"\",\"\",'01.23'!C53)","v":"2023-01-09"},{"$f":"IF(B52=\"\",\"\",COUNTIFS($B$3:B52,B52))","v":12},{"$f":"IF(B52=\"\",\"\",LOOKUP(B52,DataFIX!$F$3:$F$21,DataFIX!$E$3:$E$21))","v":"p"},{"$f":"IF(B52=\"\",\"\",LOOKUP(B52,DataFIX!$F$3:$F$41,DataFIX!$G$3:$G$41)+C52)","v":222},{"$f":"+'01.23'!O53","v":"11:15:00"},{"$f":"+'01.23'!E53","v":"MAT"},{"$f":"+'01.23'!G53","v":"AK Servis"},{"$f":"+'01.23'!T53","v":"Dokončeno"},null,null,{"$f":"+'01.23'!L53","v":0}]
["2023-01-09",{"$f":"+IF('01.23'!C54=\"\",\"\",'01.23'!C54)","v":"2023-01-09"},{"$f":"IF(B53=\"\",\"\",COUNTIFS($B$3:B53,B53))","v":13},{"$f":"IF(B53=\"\",\"\",LOOKUP(B53,DataFIX!$F$3:$F$21,DataFIX!$E$3:$E$21))","v":"p"},{"$f":"IF(B53=\"\",\"\",LOOKUP(B53,DataFIX!$F$3:$F$41,DataFIX!$G$3:$G$41)+C53)","v":223},{"$f":"+'01.23'!O54","v":"11:15:00"},{"$f":"+'01.23'!E54","v":"Carier"},{"$f":"+'01.23'!G54","v":"vlastní"},{"$f":"+'01.23'!T54","v":"Dokončeno"},null,null,{"$f":"+'01.23'!L54","v":0}]
["2023-01-09",{"$f":"+IF('01.23'!C55=\"\",\"\",'01.23'!C55)","v":"2023-01-09"},{"$f":"IF(B54=\"\",\"\",COUNTIFS($B$3:B54,B54))","v":14},{"$f":"IF(B54=\"\",\"\",LOOKUP(B54,DataFIX!$F$3:$F$21,DataFIX!$E$3:$E$21))","v":"p"},{"$f":"IF(B54=\"\",\"\",LOOKUP(B54,DataFIX!$F$3:$F$41,DataFIX!$G$3:$G$41)+C54)","v":224},{"$f":"+'01.23'!O55","v":"14:00:00"},{"$f":"+'01.23'!E55","v":"T-Net"},{"$f":"+'01.23'!G55","v":"MSB"},{"$f":"+'01.23'!T55","v":"Dokončeno"},null,null,{"$f":"+'01.23'!L55","v":0}]
["2023-01-09",{"$f":"+IF('01.23'!C56=\"\",\"\",'01.23'!C56)","v":"2023-01-09"},{"$f":"IF(B55=\"\",\"\",COUNTIFS($B$3:B55,B55))","v":15},{"$f":"IF(B55=\"\",\"\",LOOKUP(B55,DataFIX!$F$3:$F$21,DataFIX!$E$3:$E$21))","v":"p"},{"$f":"IF(B55=\"\",\"\",LOOKUP(B55,DataFIX!$F$3:$F$41,DataFIX!$G$3:$G$41)+C55)","v":225},{"$f":"+'01.23'!O56","v":"14:30:00"},{"$f":"+'01.23'!E56","v":"Toptrans"},{"$f":"+'01.23'!G56","v":"SBS"},{"$f":"+'01.23'!T56","v":"Dokončeno"},null,null,{"$f":"+'01.23'!L56","v":0}]
["2023-01-09",{"$f":"+IF('01.23'!C57=\"\",\"\",'01.23'!C57)","v":"2023-01-09"},{"$f":"IF(B56=\"\",\"\",COUNTIFS($B$3:B56,B56))","v":16},{"$f":"IF(B56=\"\",\"\",LOOKUP(B56,DataFIX!$F$3:$F$21,DataFIX!$E$3:$E$21))","v":"p"},{"$f":"IF(B56=\"\",\"\",LOOKUP(B56,DataFIX!$F$3:$F$41,DataFIX!$G$3:$G$41)+C56)","v":226},{"$f":"+'01.23'!O57","v":"15:00:00"},{"$f":"+'01.23'!E57","v":"Faurecie MB"},{"$f":"+'01.23'!G57","v":"vlastní"},{"$f":"+'01.23'!T57","v":"Dokončeno"},null,null,{"$f":"+'01.23'!L57","v":0}]
["2023-01-10",{"$f":"+IF('01.23'!C58=\"\",\"\",'01.23'!C58)","v":"2023-01-10"},{"$f":"IF(B57=\"\",\"\",COUNTIFS($B$3:B57,B57))","v":1},{"$f":"IF(B57=\"\",\"\",LOOKUP(B57,DataFIX!$F$3:$F$21,DataFIX!$E$3:$E$21))","v":"ú"},{"$f":"IF(B57=\"\",\"\",LOOKUP(B57,DataFIX!$F$3:$F$41,DataFIX!$G$3:$G$41)+C57)","v":241},{"$f":"+'01.23'!O58","v":"06:00:00"},{"$f":"+'01.23'!E58","v":"DF"},{"$f":"+'01.23'!G58","v":"Hroza"},{"$f":"+'01.23'!T58","v":"Dokončeno"},null,null,{"$f":"+'01.23'!L58","v":0}]
["2023-01-10",{"$f":"+IF('01.23'!C59=\"\",\"\",'01.23'!C59)","v":"2023-01-10"},{"$f":"IF(B58=\"\",\"\",COUNTIFS($B$3:B58,B58))","v":2},{"$f":"IF(B58=\"\",\"\",LOOKUP(B58,DataFIX!$F$3:$F$21,DataFIX!$E$3:$E$21))","v":"ú"},{"$f":"IF(B58=\"\",\"\",LOOKUP(B58,DataFIX!$F$3:$F$41,DataFIX!$G$3:$G$41)+C58)","v":242},{"$f":"+'01.23'!O59","v":"06:00:00"},{"$f":"+'01.23'!E59","v":"DF"},{"$f":"+'01.23'!G59","v":"Hroza"},{"$f":"+'01.23'!T59","v":"Dokončeno"},null,null,{"$f":"+'01.23'!L59","v":0}]
["2023-01-10",{"$f":"+IF('01.23'!C60=\"\",\"\",'01.23'!C60)","v":"2023-01-10"},{"$f":"IF(B59=\"\",\"\",COUNTIFS($B$3:B59,B59))","v":3},{"$f":"IF(B59=\"\",\"\",LOOKUP(B59,DataFIX!$F$3:$F$21,DataFIX!$E$3:$E$21))","v":"ú"},{"$f":"IF(B59=\"\",\"\",LOOKUP(B59,DataFIX!$F$3:$F$41,DataFIX!$G$3:$G$41)+C59)","v":243},{"$f":"+'01.23'!O60","v":"06:05:00"},{"$f":"+'01.23'!E60","v":"Everstar"},{"$f":"+'01.23'!G60","v":"TEZET"},{"$f":"+'01.23'!T60","v":"Dokončeno"},null,null,{"$f":"+'01.23'!L60","v":0}]
["2023-01-10",{"$f":"+IF('01.23'!C61=\"\",\"\",'01.23'!C61)","v":"2023-01-10"},{"$f":"IF(B60=\"\",\"\",COUNTIFS($B$3:B60,B60))","v":4},{"$f":"IF(B60=\"\",\"\",LOOKUP(B60,DataFIX!$F$3:$F$21,DataFIX!$E$3:$E$21))","v":"ú"},{"$f":"IF(B60=\"\",\"\",LOOKUP(B60,DataFIX!$F$3:$F$41,DataFIX!$G$3:$G$41)+C60)","v":244},{"$f":"+'01.23'!O61","v":"06:06:00"},{"$f":"+'01.23'!E61","v":"Atotech"},{"$f":"+'01.23'!G61","v":"TEZET"},{"$f":"+'01.23'!T61","v":"Dokončeno"},null,null,{"$f":"+'01.23'!L61","v":0}]
["2023-01-10",{"$f":"+IF('01.23'!C62=\"\",\"\",'01.23'!C62)","v":"2023-01-10"},{"$f":"IF(B61=\"\",\"\",COUNTIFS($B$3:B61,B61))","v":5},{"$f":"IF(B61=\"\",\"\",LOOKUP(B61,DataFIX!$F$3:$F$21,DataFIX!$E$3:$E$21))","v":"ú"},{"$f":"IF(B61=\"\",\"\",LOOKUP(B61,DataFIX!$F$3:$F$41,DataFIX!$G$3:$G$41)+C61)","v":245},{"$f":"+'01.23'!O62","v":"07:00:00"},{"$f":"+'01.23'!E62","v":"Antolin"},{"$f":"+'01.23'!G62","v":"vlastní"},{"$f":"+'01.23'!T62","v":"Dokončeno"},null,null,{"$f":"+'01.23'!L62","v":0}]
["2023-01-10",{"$f":"+IF('01.23'!C63=\"\",\"\",'01.23'!C63)","v":"2023-01-10"},{"$f":"IF(B62=\"\",\"\",COUNTIFS($B$3:B62,B62))","v":6},{"$f":"IF(B62=\"\",\"\",LOOKUP(B62,DataFIX!$F$3:$F$21,DataFIX!$E$3:$E$21))","v":"ú"},{"$f":"IF(B62=\"\",\"\",LOOKUP(B62,DataFIX!$F$3:$F$41,DataFIX!$G$3:$G$41)+C62)","v":246},{"$f":"+'01.23'!O63","v":"11:00:00"},{"$f":"+'01.23'!E63","v":"JPSK"},{"$f":"+'01.23'!G63","v":"Legarde"},{"$f":"+'01.23'!T63","v":"Dokončeno"},null,null,{"$f":"+'01.23'!L63","v":0}]
["2023-01-10",{"$f":"+IF('01.23'!C64=\"\",\"\",'01.23'!C64)","v":"2023-01-10"},{"$f":"IF(B63=\"\",\"\",COUNTIFS($B$3:B63,B63))","v":7},{"$f":"IF(B63=\"\",\"\",LOOKUP(B63,DataFIX!$F$3:$F$21,DataFIX!$E$3:$E$21))","v":"ú"},{"$f":"IF(B63=\"\",\"\",LOOKUP(B63,DataFIX!$F$3:$F$41,DataFIX!$G$3:$G$41)+C63)","v":247},{"$f":"+'01.23'!O64","v":"11:00:00"},{"$f":"+'01.23'!E64","v":"JPSK"},{"$f":"+'01.23'!G64","v":"Legarde"},{"$f":"+'01.23'!T64","v":"Dokončeno"},null,null,{"$f":"+'01.23'!L64","v":0}]
["2023-01-10",{"$f":"+IF('01.23'!C65=\"\",\"\",'01.23'!C65)","v":"2023-01-10"},{"$f":"IF(B64=\"\",\"\",COUNTIFS($B$3:B64,B64))","v":8},{"$f":"IF(B64=\"\",\"\",LOOKUP(B64,DataFIX!$F$3:$F$21,DataFIX!$E$3:$E$21))","v":"ú"},{"$f":"IF(B64=\"\",\"\",LOOKUP(B64,DataFIX!$F$3:$F$41,DataFIX!$G$3:$G$41)+C64)","v":248},{"$f":"+'01.23'!O65","v":"11:30:00"},{"$f":"+'01.23'!E65","v":"Blaser"},{"$f":"+'01.23'!G65","v":"vlastní"},{"$f":"+'01.23'!T65","v":"Dokončeno"},null,null,{"$f":"+'01.23'!L65","v":0}]
["2023-01-10",{"$f":"+IF('01.23'!C66=\"\",\"\",'01.23'!C66)","v":"2023-01-10"},{"$f":"IF(B65=\"\",\"\",COUNTIFS($B$3:B65,B65))","v":9},{"$f":"IF(B65=\"\",\"\",LOOKUP(B65,DataFIX!$F$3:$F$21,DataFIX!$E$3:$E$21))","v":"ú"},{"$f":"IF(B65=\"\",\"\",LOOKUP(B65,DataFIX!$F$3:$F$41,DataFIX!$G$3:$G$41)+C65)","v":249},{"$f":"+'01.23'!O66","v":"11:30:00"},{"$f":"+'01.23'!E66","v":"Avena"},{"$f":"+'01.23'!G66","v":"vlastní"},{"$f":"+'01.23'!T66","v":"Dokončeno"},null,null,{"$f":"+'01.23'!L66","v":0}]
["2023-01-10",{"$f":"+IF('01.23'!C67=\"\",\"\",'01.23'!C67)","v":"2023-01-10"},{"$f":"IF(B66=\"\",\"\",COUNTIFS($B$3:B66,B66))","v":10},{"$f":"IF(B66=\"\",\"\",LOOKUP(B66,DataFIX!$F$3:$F$21,DataFIX!$E$3:$E$21))","v":"ú"},{"$f":"IF(B66=\"\",\"\",LOOKUP(B66,DataFIX!$F$3:$F$41,DataFIX!$G$3:$G$41)+C66)","v":250},{"$f":"+'01.23'!O67","v":"11:45:00"},{"$f":"+'01.23'!E67","v":"Ozas Esab"},{"$f":"+'01.23'!G67","v":"Schenker"},{"$f":"+'01.23'!T67","v":"Dokončeno"},null,null,{"$f":"+'01.23'!L67","v":0}]
["2023-01-10",{"$f":"+IF('01.23'!C68=\"\",\"\",'01.23'!C68)","v":"2023-01-10"},{"$f":"IF(B67=\"\",\"\",COUNTIFS($B$3:B67,B67))","v":11},{"$f":"IF(B67=\"\",\"\",LOOKUP(B67,DataFIX!$F$3:$F$21,DataFIX!$E$3:$E$21))","v":"ú"},{"$f":"IF(B67=\"\",\"\",LOOKUP(B67,DataFIX!$F$3:$F$41,DataFIX!$G$3:$G$41)+C67)","v":251},{"$f":"+'01.23'!O68","v":"11:50:00"},{"$f":"+'01.23'!E68","v":"Lipera"},{"$f":"+'01.23'!G68","v":"vlastní"},{"$f":"+'01.23'!T68","v":"Dokončeno"},null,null,{"$f":"+'01.23'!L68","v":0}]
[{"$f":"+B68","v":"2023-01-10"},{"$f":"+IF('01.23'!C69=\"\",\"\",'01.23'!C69)","v":"2023-01-10"},{"$f":"IF(B68=\"\",\"\",COUNTIFS($B$3:B68,B68))","v":12},{"$f":"IF(B68=\"\",\"\",LOOKUP(B68,DataFIX!$F$3:$F$21,DataFIX!$E$3:$E$21))","v":"ú"},{"$f":"IF(B68=\"\",\"\",LOOKUP(B68,DataFIX!$F$3:$F$41,DataFIX!$G$3:$G$41)+C68)","v":252},{"$f":"+'01.23'!O69","v":"12:00:00"},{"$f":"+'01.23'!E69","v":"Faurecie"},{"$f":"+'01.23'!G69","v":"vlastní"},{"$f":"+'01.23'!T69","v":"Dokončeno"},null,null,{"$f":"+'01.23'!L69","v":0}]
["2023-01-10",{"$f":"+IF('01.23'!C70=\"\",\"\",'01.23'!C70)","v":"2023-01-10"},{"$f":"IF(B69=\"\",\"\",COUNTIFS($B$3:B69,B69))","v":13},{"$f":"IF(B69=\"\",\"\",LOOKUP(B69,DataFIX!$F$3:$F$21,DataFIX!$E$3:$E$21))","v":"ú"},{"$f":"IF(B69=\"\",\"\",LOOKUP(B69,DataFIX!$F$3:$F$41,DataFIX!$G$3:$G$41)+C69)","v":253},{"$f":"+'01.23'!O70","v":"12:30:00"},{"$f":"+'01.23'!E70","v":"Faurecie MB"},{"$f":"+'01.23'!G70","v":"vlastní"},{"$f":"+'01.23'!T70","v":"Dokončeno"},null,null,{"$f":"+'01.23'!L70","v":0}]
["2023-01-10",{"$f":"+IF('01.23'!C71=\"\",\"\",'01.23'!C71)","v":"2023-01-10"},{"$f":"IF(B70=\"\",\"\",COUNTIFS($B$3:B70,B70))","v":14},{"$f":"IF(B70=\"\",\"\",LOOKUP(B70,DataFIX!$F$3:$F$21,DataFIX!$E$3:$E$21))","v":"ú"},{"$f":"IF(B70=\"\",\"\",LOOKUP(B70,DataFIX!$F$3:$F$41,DataFIX!$G$3:$G$41)+C70)","v":254},{"$f":"+'01.23'!O71","v":"13:00:00"},{"$f":"+'01.23'!E71","v":"Faurecie MB"},{"$f":"+'01.23'!G71","v":"vlastní"},{"$f":"+'01.23'!T71","v":"Dokončeno"},null,null,{"$f":"+'01.23'!L71","v":0}]
["2023-01-10",{"$f":"+IF('01.23'!C72=\"\",\"\",'01.23'!C72)","v":"2023-01-10"},{"$f":"IF(B71=\"\",\"\",COUNTIFS($B$3:B71,B71))","v":15},{"$f":"IF(B71=\"\",\"\",LOOKUP(B71,DataFIX!$F$3:$F$21,DataFIX!$E$3:$E$21))","v":"ú"},{"$f":"IF(B71=\"\",\"\",LOOKUP(B71,DataFIX!$F$3:$F$41,DataFIX!$G$3:$G$41)+C71)","v":255},{"$f":"+'01.23'!O72","v":"13:00:00"},{"$f":"+'01.23'!E72","v":"PK Group"},{"$f":"+'01.23'!G72","v":"vlastní"},{"$f":"+'01.23'!T72","v":"Dokončeno"},null,null,{"$f":"+'01.23'!L72","v":0}]
["2023-01-10",{"$f":"+IF('01.23'!C73=\"\",\"\",'01.23'!C73)","v":"2023-01-10"},{"$f":"IF(B72=\"\",\"\",COUNTIFS($B$3:B72,B72))","v":16},{"$f":"IF(B72=\"\",\"\",LOOKUP(B72,DataFIX!$F$3:$F$21,DataFIX!$E$3:$E$21))","v":"ú"},{"$f":"IF(B72=\"\",\"\",LOOKUP(B72,DataFIX!$F$3:$F$41,DataFIX!$G$3:$G$41)+C72)","v":256},{"$f":"+'01.23'!O73","v":"14:00:00"},{"$f":"+'01.23'!E73","v":"Vypl"},{"$f":"+'01.23'!G73","v":"naše"},{"$f":"+'01.23'!T73","v":"Dokončeno"},null,null,{"$f":"+'01.23'!L73","v":0}]
["2023-01-11",{"$f":"+IF('01.23'!C74=\"\",\"\",'01.23'!C74)","v":"2023-01-11"},{"$f":"IF(B73=\"\",\"\",COUNTIFS($B$3:B73,B73))","v":1},{"$f":"IF(B73=\"\",\"\",LOOKUP(B73,DataFIX!$F$3:$F$21,DataFIX!$E$3:$E$21))","v":"s"},{"$f":"IF(B73=\"\",\"\",LOOKUP(B73,DataFIX!$F$3:$F$41,DataFIX!$G$3:$G$41)+C73)","v":271},{"$f":"+'01.23'!O74","v":"06:00:00"},{"$f":"+'01.23'!E74","v":"DF"},{"$f":"+'01.23'!G74","v":"Hroza"},{"$f":"+'01.23'!T74","v":"Dokončeno"},null,null,{"$f":"+'01.23'!L74","v":0}]
["2023-01-11",{"$f":"+IF('01.23'!C75=\"\",\"\",'01.23'!C75)","v":"2023-01-11"},{"$f":"IF(B74=\"\",\"\",COUNTIFS($B$3:B74,B74))","v":2},{"$f":"IF(B74=\"\",\"\",LOOKUP(B74,DataFIX!$F$3:$F$21,DataFIX!$E$3:$E$21))","v":"s"},{"$f":"IF(B74=\"\",\"\",LOOKUP(B74,DataFIX!$F$3:$F$41,DataFIX!$G$3:$G$41)+C74)","v":272},{"$f":"+'01.23'!O75","v":"06:00:00"},{"$f":"+'01.23'!E75","v":"DF"},{"$f":"+'01.23'!G75","v":"Hroza"},{"$f":"+'01.23'!T75","v":"Dokončeno"},null,null,{"$f":"+'01.23'!L75","v":0}]
["2023-01-11",{"$f":"+IF('01.23'!C76=\"\",\"\",'01.23'!C76)","v":"2023-01-11"},{"$f":"IF(B75=\"\",\"\",COUNTIFS($B$3:B75,B75))","v":3},{"$f":"IF(B75=\"\",\"\",LOOKUP(B75,DataFIX!$F$3:$F$21,DataFIX!$E$3:$E$21))","v":"s"},{"$f":"IF(B75=\"\",\"\",LOOKUP(B75,DataFIX!$F$3:$F$41,DataFIX!$G$3:$G$41)+C75)","v":273},{"$f":"+'01.23'!O76","v":"06:05:00"},{"$f":"+'01.23'!E76","v":"Cheport"},{"$f":"+'01.23'!G76","v":"Tezet"},{"$f":"+'01.23'!T76","v":"Dokončeno"},null,null,{"$f":"+'01.23'!L76","v":0}]
["2023-01-11",{"$f":"+IF('01.23'!C77=\"\",\"\",'01.23'!C77)","v":"2023-01-11"},{"$f":"IF(B76=\"\",\"\",COUNTIFS($B$3:B76,B76))","v":4},{"$f":"IF(B76=\"\",\"\",LOOKUP(B76,DataFIX!$F$3:$F$21,DataFIX!$E$3:$E$21))","v":"s"},{"$f":"IF(B76=\"\",\"\",LOOKUP(B76,DataFIX!$F$3:$F$41,DataFIX!$G$3:$G$41)+C76)","v":274},{"$f":"+'01.23'!O77","v":"06:10:00"},{"$f":"+'01.23'!E77","v":"SODO DUO"},{"$f":"+'01.23'!G77","v":"TEZET"},{"$f":"+'01.23'!T77","v":"Dokončeno"},null,null,{"$f":"+'01.23'!L77","v":0}]
["2023-01-11",{"$f":"+IF('01.23'!C78=\"\",\"\",'01.23'!C78)","v":"2023-01-11"},{"$f":"IF(B77=\"\",\"\",COUNTIFS($B$3:B77,B77))","v":5},{"$f":"IF(B77=\"\",\"\",LOOKUP(B77,DataFIX!$F$3:$F$21,DataFIX!$E$3:$E$21))","v":"s"},{"$f":"IF(B77=\"\",\"\",LOOKUP(B77,DataFIX!$F$3:$F$41,DataFIX!$G$3:$G$41)+C77)","v":275},{"$f":"+'01.23'!O78","v":"10:00:00"},{"$f":"+'01.23'!E78","v":"TBA"},{"$f":"+'01.23'!G78","v":"vlastní"},{"$f":"+'01.23'!T78","v":"Dokončeno"},null,null,{"$f":"+'01.23'!L78","v":0}]
["2023-01-11",{"$f":"+IF('01.23'!C79=\"\",\"\",'01.23'!C79)","v":"2023-01-11"},{"$f":"IF(B78=\"\",\"\",COUNTIFS($B$3:B78,B78))","v":6},{"$f":"IF(B78=\"\",\"\",LOOKUP(B78,DataFIX!$F$3:$F$21,DataFIX!$E$3:$E$21))","v":"s"},{"$f":"IF(B78=\"\",\"\",LOOKUP(B78,DataFIX!$F$3:$F$41,DataFIX!$G$3:$G$41)+C78)","v":276},{"$f":"+'01.23'!O79","v":"11:00:00"},{"$f":"+'01.23'!E79","v":"JPPSK"},{"$f":"+'01.23'!G79","v":"dls Trans"},{"$f":"+'01.23'!T79","v":"Dokončeno"},null,null,{"$f":"+'01.23'!L79","v":0}]
["2023-01-11",{"$f":"+IF('01.23'!C80=\"\",\"\",'01.23'!C80)","v":"2023-01-11"},{"$f":"IF(B79=\"\",\"\",COUNTIFS($B$3:B79,B79))","v":7},{"$f":"IF(B79=\"\",\"\",LOOKUP(B79,DataFIX!$F$3:$F$21,DataFIX!$E$3:$E$21))","v":"s"},{"$f":"IF(B79=\"\",\"\",LOOKUP(B79,DataFIX!$F$3:$F$41,DataFIX!$G$3:$G$41)+C79)","v":277},{"$f":"+'01.23'!O80","v":"11:00:00"},{"$f":"+'01.23'!E80","v":"TBA"},{"$f":"+'01.23'!G80","v":"vlastní"},{"$f":"+'01.23'!T80","v":"Dokončeno"},null,null,{"$f":"+'01.23'!L80","v":0}]
["2023-01-11",{"$f":"+IF('01.23'!C81=\"\",\"\",'01.23'!C81)","v":"2023-01-11"},{"$f":"IF(B80=\"\",\"\",COUNTIFS($B$3:B80,B80))","v":8},{"$f":"IF(B80=\"\",\"\",LOOKUP(B80,DataFIX!$F$3:$F$21,DataFIX!$E$3:$E$21))","v":"s"},{"$f":"IF(B80=\"\",\"\",LOOKUP(B80,DataFIX!$F$3:$F$41,DataFIX!$G$3:$G$41)+C80)","v":278},{"$f":"+'01.23'!O81","v":"12:30:00"},{"$f":"+'01.23'!E81","v":"Faurecie MB"},{"$f":"+'01.23'!G81","v":"vlastní"},{"$f":"+'01.23'!T81","v":"Dokončeno"},null,null,{"$f":"+'01.23'!L81","v":0}]
["2023-01-11",{"$f":"+IF('01.23'!C82=\"\",\"\",'01.23'!C82)","v":"2023-01-11"},{"$f":"IF(B81=\"\",\"\",COUNTIFS($B$3:B81,B81))","v":9},{"$f":"IF(B81=\"\",\"\",LOOKUP(B81,DataFIX!$F$3:$F$21,DataFIX!$E$3:$E$21))","v":"s"},{"$f":"IF(B81=\"\",\"\",LOOKUP(B81,DataFIX!$F$3:$F$41,DataFIX!$G$3:$G$41)+C81)","v":279},{"$f":"+'01.23'!O82","v":"13:00:00"},{"$f":"+'01.23'!E82","v":"Libros"},{"$f":"+'01.23'!G82","v":"vlastní"},{"$f":"+'01.23'!T82","v":"Dokončeno"},null,null,{"$f":"+'01.23'!L82","v":0}]
["2023-01-11",{"$f":"+IF('01.23'!C83=\"\",\"\",'01.23'!C83)","v":"2023-01-11"},{"$f":"IF(B82=\"\",\"\",COUNTIFS($B$3:B82,B82))","v":10},{"$f":"IF(B82=\"\",\"\",LOOKUP(B82,DataFIX!$F$3:$F$21,DataFIX!$E$3:$E$21))","v":"s"},{"$f":"IF(B82=\"\",\"\",LOOKUP(B82,DataFIX!$F$3:$F$41,DataFIX!$G$3:$G$41)+C82)","v":280},{"$f":"+'01.23'!O83","v":"00:00:00"},{"$f":"+'01.23'!E83","v":"Patron"},{"$f":"+'01.23'!G83","v":"vlastní"},{"$f":"+'01.23'!T83","v":"Dokončeno"},null,null,{"$f":"+'01.23'!L83","v":0}]
["2023-01-11",{"$f":"+IF('01.23'!C84=\"\",\"\",'01.23'!C84)","v":"2023-01-11"},{"$f":"IF(B83=\"\",\"\",COUNTIFS($B$3:B83,B83))","v":11},{"$f":"IF(B83=\"\",\"\",LOOKUP(B83,DataFIX!$F$3:$F$21,DataFIX!$E$3:$E$21))","v":"s"},{"$f":"IF(B83=\"\",\"\",LOOKUP(B83,DataFIX!$F$3:$F$41,DataFIX!$G$3:$G$41)+C83)","v":281},{"$f":"+'01.23'!O84","v":"00:00:00"},{"$f":"+'01.23'!E84","v":"Toptrans"},{"$f":"+'01.23'!G84","v":"SBS"},{"$f":"+'01.23'!T84","v":"Dokončeno"},null,null,{"$f":"+'01.23'!L84","v":0}]
["2023-01-12",{"$f":"+IF('01.23'!C85=\"\",\"\",'01.23'!C85)","v":"2023-01-12"},{"$f":"IF(B84=\"\",\"\",COUNTIFS($B$3:B84,B84))","v":1},{"$f":"IF(B84=\"\",\"\",LOOKUP(B84,DataFIX!$F$3:$F$21,DataFIX!$E$3:$E$21))","v":"č"},{"$f":"IF(B84=\"\",\"\",LOOKUP(B84,DataFIX!$F$3:$F$41,DataFIX!$G$3:$G$41)+C84)","v":301},{"$f":"+'01.23'!O85","v":"06:00:00"},{"$f":"+'01.23'!E85","v":"Fagron"},{"$f":"+'01.23'!G85","v":"Tezet"},{"$f":"+'01.23'!T85","v":"Dokončeno"},null,null,{"$f":"+'01.23'!L85","v":2}]
["2023-01-12",{"$f":"+IF('01.23'!C86=\"\",\"\",'01.23'!C86)","v":"2023-01-12"},{"$f":"IF(B85=\"\",\"\",COUNTIFS($B$3:B85,B85))","v":2},{"$f":"IF(B85=\"\",\"\",LOOKUP(B85,DataFIX!$F$3:$F$21,DataFIX!$E$3:$E$21))","v":"č"},{"$f":"IF(B85=\"\",\"\",LOOKUP(B85,DataFIX!$F$3:$F$41,DataFIX!$G$3:$G$41)+C85)","v":302},{"$f":"+'01.23'!O86","v":"06:00:00"},{"$f":"+'01.23'!E86","v":"DF"},{"$f":"+'01.23'!G86","v":"Hroza"},{"$f":"+'01.23'!T86","v":"Dokončeno"},null,null,{"$f":"+'01.23'!L86","v":2}]
["2023-01-12",{"$f":"+IF('01.23'!C87=\"\",\"\",'01.23'!C87)","v":"2023-01-12"},{"$f":"IF(B86=\"\",\"\",COUNTIFS($B$3:B86,B86))","v":3},{"$f":"IF(B86=\"\",\"\",LOOKUP(B86,DataFIX!$F$3:$F$21,DataFIX!$E$3:$E$21))","v":"č"},{"$f":"IF(B86=\"\",\"\",LOOKUP(B86,DataFIX!$F$3:$F$41,DataFIX!$G$3:$G$41)+C86)","v":303},{"$f":"+'01.23'!O87","v":"06:00:00"},{"$f":"+'01.23'!E87","v":"Vypl"},{"$f":"+'01.23'!G87","v":"Hroza"},{"$f":"+'01.23'!T87","v":"Dokončeno"},null,null,{"$f":"+'01.23'!L87","v":1}]
["2023-01-12",{"$f":"+IF('01.23'!C88=\"\",\"\",'01.23'!C88)","v":"2023-01-12"},{"$f":"IF(B87=\"\",\"\",COUNTIFS($B$3:B87,B87))","v":4},{"$f":"IF(B87=\"\",\"\",LOOKUP(B87,DataFIX!$F$3:$F$21,DataFIX!$E$3:$E$21))","v":"č"},{"$f":"IF(B87=\"\",\"\",LOOKUP(B87,DataFIX!$F$3:$F$41,DataFIX!$G$3:$G$41)+C87)","v":304},{"$f":"+'01.23'!O88","v":"06:05:00"},{"$f":"+'01.23'!E88","v":"Alter"},{"$f":"+'01.23'!G88","v":"TEZET"},{"$f":"+'01.23'!T88","v":"Dokončeno"},null,null,{"$f":"+'01.23'!L88","v":3}]
["2023-01-12",{"$f":"+IF('01.23'!C89=\"\",\"\",'01.23'!C89)","v":"2023-01-12"},{"$f":"IF(B88=\"\",\"\",COUNTIFS($B$3:B88,B88))","v":5},{"$f":"IF(B88=\"\",\"\",LOOKUP(B88,DataFIX!$F$3:$F$21,DataFIX!$E$3:$E$21))","v":"č"},{"$f":"IF(B88=\"\",\"\",LOOKUP(B88,DataFIX!$F$3:$F$41,DataFIX!$G$3:$G$41)+C88)","v":305},{"$f":"+'01.23'!O89","v":"07:00:00"},{"$f":"+'01.23'!E89","v":"Antolin"},{"$f":"+'01.23'!G89","v":"vlastní"},{"$f":"+'01.23'!T89","v":"Dokončeno"},null,null,{"$f":"+'01.23'!L89","v":5}]
["2023-01-12",{"$f":"+IF('01.23'!C90=\"\",\"\",'01.23'!C90)","v":"2023-01-12"},{"$f":"IF(B89=\"\",\"\",COUNTIFS($B$3:B89,B89))","v":6},{"$f":"IF(B89=\"\",\"\",LOOKUP(B89,DataFIX!$F$3:$F$21,DataFIX!$E$3:$E$21))","v":"č"},{"$f":"IF(B89=\"\",\"\",LOOKUP(B89,DataFIX!$F$3:$F$41,DataFIX!$G$3:$G$41)+C89)","v":306},{"$f":"+'01.23'!O90","v":"08:00:00"},{"$f":"+'01.23'!E90","v":"AV auto"},{"$f":"+'01.23'!G90","v":"vlastní"},{"$f":"+'01.23'!T90","v":"Dokončeno"},null,null,{"$f":"+'01.23'!L90","v":1}]
["2023-01-12",{"$f":"+IF('01.23'!C91=\"\",\"\",'01.23'!C91)","v":"2023-01-12"},{"$f":"IF(B90=\"\",\"\",COUNTIFS($B$3:B90,B90))","v":7},{"$f":"IF(B90=\"\",\"\",LOOKUP(B90,DataFIX!$F$3:$F$21,DataFIX!$E$3:$E$21))","v":"č"},{"$f":"IF(B90=\"\",\"\",LOOKUP(B90,DataFIX!$F$3:$F$41,DataFIX!$G$3:$G$41)+C90)","v":307},{"$f":"+'01.23'!O91","v":"10:00:00"},{"$f":"+'01.23'!E91","v":"TBA"},{"$f":"+'01.23'!G91","v":"vlastní"},{"$f":"+'01.23'!T91","v":"Dokončeno"},null,null,{"$f":"+'01.23'!L91","v":2}]
["2023-01-12",{"$f":"+IF('01.23'!C92=\"\",\"\",'01.23'!C92)","v":"2023-01-12"},{"$f":"IF(B91=\"\",\"\",COUNTIFS($B$3:B91,B91))","v":8},{"$f":"IF(B91=\"\",\"\",LOOKUP(B91,DataFIX!$F$3:$F$21,DataFIX!$E$3:$E$21))","v":"č"},{"$f":"IF(B91=\"\",\"\",LOOKUP(B91,DataFIX!$F$3:$F$41,DataFIX!$G$3:$G$41)+C91)","v":308},{"$f":"+'01.23'!O92","v":"10:05:00"},{"$f":"+'01.23'!E92","v":"Kopeček"},{"$f":"+'01.23'!G92","v":"vlastní"},{"$f":"+'01.23'!T92","v":"Dokončeno"},null,null,{"$f":"+'01.23'!L92","v":1}]
["2023-01-12",{"$f":"+IF('01.23'!C93=\"\",\"\",'01.23'!C93)","v":"2023-01-12"},{"$f":"IF(B92=\"\",\"\",COUNTIFS($B$3:B92,B92))","v":9},{"$f":"IF(B92=\"\",\"\",LOOKUP(B92,DataFIX!$F$3:$F$21,DataFIX!$E$3:$E$21))","v":"č"},{"$f":"IF(B92=\"\",\"\",LOOKUP(B92,DataFIX!$F$3:$F$41,DataFIX!$G$3:$G$41)+C92)","v":309},{"$f":"+'01.23'!O93","v":"10:10:00"},{"$f":"+'01.23'!E93","v":"Slovakia Trend"},{"$f":"+'01.23'!G93","v":"vlastní"},{"$f":"+'01.23'!T93","v":"Dokončeno"},null,null,{"$f":"+'01.23'!L93","v":4}]
["2023-01-12",{"$f":"+IF('01.23'!C94=\"\",\"\",'01.23'!C94)","v":"2023-01-12"},{"$f":"IF(B93=\"\",\"\",COUNTIFS($B$3:B93,B93))","v":10},{"$f":"IF(B93=\"\",\"\",LOOKUP(B93,DataFIX!$F$3:$F$21,DataFIX!$E$3:$E$21))","v":"č"},{"$f":"IF(B93=\"\",\"\",LOOKUP(B93,DataFIX!$F$3:$F$41,DataFIX!$G$3:$G$41)+C93)","v":310},{"$f":"+'01.23'!O94","v":"10:30:00"},{"$f":"+'01.23'!E94","v":"Stachema"},{"$f":"+'01.23'!G94","v":"vlastní"},{"$f":"+'01.23'!T94","v":"Dokončeno"},null,null,{"$f":"+'01.23'!L94","v":1}]
["2023-01-12",{"$f":"+IF('01.23'!C95=\"\",\"\",'01.23'!C95)","v":"2023-01-12"},{"$f":"IF(B94=\"\",\"\",COUNTIFS($B$3:B94,B94))","v":11},{"$f":"IF(B94=\"\",\"\",LOOKUP(B94,DataFIX!$F$3:$F$21,DataFIX!$E$3:$E$21))","v":"č"},{"$f":"IF(B94=\"\",\"\",LOOKUP(B94,DataFIX!$F$3:$F$41,DataFIX!$G$3:$G$41)+C94)","v":311},{"$f":"+'01.23'!O95","v":"10:45:00"},{"$f":"+'01.23'!E95","v":"J.P.Plast"},{"$f":"+'01.23'!G95","v":"Hroza"},{"$f":"+'01.23'!T95","v":"Dokončeno"},null,null,{"$f":"+'01.23'!L95","v":3}]
["2023-01-12",{"$f":"+IF('01.23'!C96=\"\",\"\",'01.23'!C96)","v":"2023-01-12"},{"$f":"IF(B95=\"\",\"\",COUNTIFS($B$3:B95,B95))","v":12},{"$f":"IF(B95=\"\",\"\",LOOKUP(B95,DataFIX!$F$3:$F$21,DataFIX!$E$3:$E$21))","v":"č"},{"$f":"IF(B95=\"\",\"\",LOOKUP(B95,DataFIX!$F$3:$F$41,DataFIX!$G$3:$G$41)+C95)","v":312},{"$f":"+'01.23'!O96","v":"11:00:00"},{"$f":"+'01.23'!E96","v":"JPSK"},{"$f":"+'01.23'!G96","v":"vlastní"},{"$f":"+'01.23'!T96","v":"Dokončeno"},null,null,{"$f":"+'01.23'!L96","v":5}]
["2023-01-12",{"$f":"+IF('01.23'!C97=\"\",\"\",'01.23'!C97)","v":"2023-01-12"},{"$f":"IF(B96=\"\",\"\",COUNTIFS($B$3:B96,B96))","v":13},{"$f":"IF(B96=\"\",\"\",LOOKUP(B96,DataFIX!$F$3:$F$21,DataFIX!$E$3:$E$21))","v":"č"},{"$f":"IF(B96=\"\",\"\",LOOKUP(B96,DataFIX!$F$3:$F$41,DataFIX!$G$3:$G$41)+C96)","v":313},{"$f":"+'01.23'!O97","v":"11:00:00"},{"$f":"+'01.23'!E97","v":"TBA"},{"$f":"+'01.23'!G97","v":"vlastní"},{"$f":"+'01.23'!T97","v":"Dokončeno"},null,null,{"$f":"+'01.23'!L97","v":2}]
["2023-01-12",{"$f":"+IF('01.23'!C98=\"\",\"\",'01.23'!C98)","v":"2023-01-12"},{"$f":"IF(B97=\"\",\"\",COUNTIFS($B$3:B97,B97))","v":14},{"$f":"IF(B97=\"\",\"\",LOOKUP(B97,DataFIX!$F$3:$F$21,DataFIX!$E$3:$E$21))","v":"č"},{"$f":"IF(B97=\"\",\"\",LOOKUP(B97,DataFIX!$F$3:$F$41,DataFIX!$G$3:$G$41)+C97)","v":314},{"$f":"+'01.23'!O98","v":"11:30:00"},{"$f":"+'01.23'!E98","v":"Flexfill"},{"$f":"+'01.23'!G98","v":"Interkontakt"},{"$f":"+'01.23'!T98","v":"Dokončeno"},null,null,{"$f":"+'01.23'!L98","v":5}]
["2023-01-12",{"$f":"+IF('01.23'!C99=\"\",\"\",'01.23'!C99)","v":"2023-01-12"},{"$f":"IF(B98=\"\",\"\",COUNTIFS($B$3:B98,B98))","v":15},{"$f":"IF(B98=\"\",\"\",LOOKUP(B98,DataFIX!$F$3:$F$21,DataFIX!$E$3:$E$21))","v":"č"},{"$f":"IF(B98=\"\",\"\",LOOKUP(B98,DataFIX!$F$3:$F$41,DataFIX!$G$3:$G$41)+C98)","v":315},{"$f":"+'01.23'!O99","v":"12:00:00"},{"$f":"+'01.23'!E99","v":"TBA"},{"$f":"+'01.23'!G99","v":"vlastní"},{"$f":"+'01.23'!T99","v":"Dokončeno"},null,null,{"$f":"+'01.23'!L99","v":2}]
["2023-01-12",{"$f":"+IF('01.23'!C100=\"\",\"\",'01.23'!C100)","v":"2023-01-12"},{"$f":"IF(B99=\"\",\"\",COUNTIFS($B$3:B99,B99))","v":16},{"$f":"IF(B99=\"\",\"\",LOOKUP(B99,DataFIX!$F$3:$F$21,DataFIX!$E$3:$E$21))","v":"č"},{"$f":"IF(B99=\"\",\"\",LOOKUP(B99,DataFIX!$F$3:$F$41,DataFIX!$G$3:$G$41)+C99)","v":316},{"$f":"+'01.23'!O100","v":"12:30:00"},{"$f":"+'01.23'!E100","v":"Faurecie MB"},{"$f":"+'01.23'!G100","v":"vlastní"},{"$f":"+'01.23'!T100","v":"Dokončeno"},null,null,{"$f":"+'01.23'!L100","v":5}]
["2023-01-12",{"$f":"+IF('01.23'!C101=\"\",\"\",'01.23'!C101)","v":"2023-01-12"},{"$f":"IF(B100=\"\",\"\",COUNTIFS($B$3:B100,B100))","v":17},{"$f":"IF(B100=\"\",\"\",LOOKUP(B100,DataFIX!$F$3:$F$21,DataFIX!$E$3:$E$21))","v":"č"},{"$f":"IF(B100=\"\",\"\",LOOKUP(B100,DataFIX!$F$3:$F$41,DataFIX!$G$3:$G$41)+C100)","v":317},{"$f":"+'01.23'!O101","v":"13:00:00"},{"$f":"+'01.23'!E101","v":"Santal"},{"$f":"+'01.23'!G101","v":"vlastní"},{"$f":"+'01.23'!T101","v":"Dokončeno"},null,null,{"$f":"+'01.23'!L101","v":3}]
["2023-01-12",{"$f":"+IF('01.23'!C102=\"\",\"\",'01.23'!C102)","v":"2023-01-12"},{"$f":"IF(B101=\"\",\"\",COUNTIFS($B$3:B101,B101))","v":18},{"$f":"IF(B101=\"\",\"\",LOOKUP(B101,DataFIX!$F$3:$F$21,DataFIX!$E$3:$E$21))","v":"č"},{"$f":"IF(B101=\"\",\"\",LOOKUP(B101,DataFIX!$F$3:$F$41,DataFIX!$G$3:$G$41)+C101)","v":318},{"$f":"+'01.23'!O102","v":"13:00:00"},{"$f":"+'01.23'!E102","v":"JPSK"},{"$f":"+'01.23'!G102","v":"Vlastní"},{"$f":"+'01.23'!T102","v":"Dokončeno"},null,null,{"$f":"+'01.23'!L102","v":3}]
["2023-01-12",{"$f":"+IF('01.23'!C103=\"\",\"\",'01.23'!C103)","v":"2023-01-12"},{"$f":"IF(B102=\"\",\"\",COUNTIFS($B$3:B102,B102))","v":19},{"$f":"IF(B102=\"\",\"\",LOOKUP(B102,DataFIX!$F$3:$F$21,DataFIX!$E$3:$E$21))","v":"č"},{"$f":"IF(B102=\"\",\"\",LOOKUP(B102,DataFIX!$F$3:$F$41,DataFIX!$G$3:$G$41)+C102)","v":319},{"$f":"+'01.23'!O103","v":"00:00:00"},{"$f":"+'01.23'!E103","v":"Toptrans"},{"$f":"+'01.23'!G103","v":"SBS"},{"$f":"+'01.23'!T103","v":"Dokončeno"},null,null,{"$f":"+'01.23'!L103","v":1}]
["2023-01-13",{"$f":"+IF('01.23'!C104=\"\",\"\",'01.23'!C104)","v":"2023-01-13"},{"$f":"IF(B103=\"\",\"\",COUNTIFS($B$3:B103,B103))","v":1},{"$f":"IF(B103=\"\",\"\",LOOKUP(B103,DataFIX!$F$3:$F$21,DataFIX!$E$3:$E$21))","v":"p"},{"$f":"IF(B103=\"\",\"\",LOOKUP(B103,DataFIX!$F$3:$F$41,DataFIX!$G$3:$G$41)+C103)","v":331},{"$f":"+'01.23'!O104","v":"06:00:00"},{"$f":"+'01.23'!E104","v":"VYPL"},{"$f":"+'01.23'!G104","v":"Hroza"},{"$f":"+'01.23'!T104","v":"Dokončeno"},null,null,{"$f":"+'01.23'!L104","v":3}]
["2023-01-13",{"$f":"+IF('01.23'!C105=\"\",\"\",'01.23'!C105)","v":"2023-01-13"},{"$f":"IF(B104=\"\",\"\",COUNTIFS($B$3:B104,B104))","v":2},{"$f":"IF(B104=\"\",\"\",LOOKUP(B104,DataFIX!$F$3:$F$21,DataFIX!$E$3:$E$21))","v":"p"},{"$f":"IF(B104=\"\",\"\",LOOKUP(B104,DataFIX!$F$3:$F$41,DataFIX!$G$3:$G$41)+C104)","v":332},{"$f":"+'01.23'!O105","v":"06:00:00"},{"$f":"+'01.23'!E105","v":"DF"},{"$f":"+'01.23'!G105","v":"Hroza "},{"$f":"+'01.23'!T105","v":"Dokončeno"},null,null,{"$f":"+'01.23'!L105","v":2}]
["2023-01-13",{"$f":"+IF('01.23'!C106=\"\",\"\",'01.23'!C106)","v":"2023-01-13"},{"$f":"IF(B105=\"\",\"\",COUNTIFS($B$3:B105,B105))","v":3},{"$f":"IF(B105=\"\",\"\",LOOKUP(B105,DataFIX!$F$3:$F$21,DataFIX!$E$3:$E$21))","v":"p"},{"$f":"IF(B105=\"\",\"\",LOOKUP(B105,DataFIX!$F$3:$F$41,DataFIX!$G$3:$G$41)+C105)","v":333},{"$f":"+'01.23'!O106","v":"06:00:00"},{"$f":"+'01.23'!E106","v":"DF"},{"$f":"+'01.23'!G106","v":"Horza"},{"$f":"+'01.23'!T106","v":"Dokončeno"},null,null,{"$f":"+'01.23'!L106","v":2}]
["2023-01-13",{"$f":"+IF('01.23'!C107=\"\",\"\",'01.23'!C107)","v":"2023-01-13"},{"$f":"IF(B106=\"\",\"\",COUNTIFS($B$3:B106,B106))","v":4},{"$f":"IF(B106=\"\",\"\",LOOKUP(B106,DataFIX!$F$3:$F$21,DataFIX!$E$3:$E$21))","v":"p"},{"$f":"IF(B106=\"\",\"\",LOOKUP(B106,DataFIX!$F$3:$F$41,DataFIX!$G$3:$G$41)+C106)","v":334},{"$f":"+'01.23'!O107","v":"06:04:00"},{"$f":"+'01.23'!E107","v":"Aroma"},{"$f":"+'01.23'!G107","v":"TEZET"},{"$f":"+'01.23'!T107","v":"Dokončeno"},null,null,{"$f":"+'01.23'!L107","v":2}]
["2023-01-13",{"$f":"+IF('01.23'!C108=\"\",\"\",'01.23'!C108)","v":"2023-01-13"},{"$f":"IF(B107=\"\",\"\",COUNTIFS($B$3:B107,B107))","v":5},{"$f":"IF(B107=\"\",\"\",LOOKUP(B107,DataFIX!$F$3:$F$21,DataFIX!$E$3:$E$21))","v":"p"},{"$f":"IF(B107=\"\",\"\",LOOKUP(B107,DataFIX!$F$3:$F$41,DataFIX!$G$3:$G$41)+C107)","v":335},{"$f":"+'01.23'!O108","v":"06:05:00"},{"$f":"+'01.23'!E108","v":"Oma CZ"},{"$f":"+'01.23'!G108","v":"TEZET"},{"$f":"+'01.23'!T108","v":"Dokončeno"},null,null,{"$f":"+'01.23'!L108","v":4}]
["2023-01-13",{"$f":"+IF('01.23'!C109=\"\",\"\",'01.23'!C109)","v":"2023-01-13"},{"$f":"IF(B108=\"\",\"\",COUNTIFS($B$3:B108,B108))","v":6},{"$f":"IF(B108=\"\",\"\",LOOKUP(B108,DataFIX!$F$3:$F$21,DataFIX!$E$3:$E$21))","v":"p"},{"$f":"IF(B108=\"\",\"\",LOOKUP(B108,DataFIX!$F$3:$F$41,DataFIX!$G$3:$G$41)+C108)","v":336},{"$f":"+'01.23'!O109","v":"06:05:00"},{"$f":"+'01.23'!E109","v":"AV Auto"},{"$f":"+'01.23'!G109","v":"Tezet"},{"$f":"+'01.23'!T109","v":"Dokončeno"},null,null,{"$f":"+'01.23'!L109","v":1}]
["2023-01-13",{"$f":"+IF('01.23'!C110=\"\",\"\",'01.23'!C110)","v":"2023-01-13"},{"$f":"IF(B109=\"\",\"\",COUNTIFS($B$3:B109,B109))","v":7},{"$f":"IF(B109=\"\",\"\",LOOKUP(B109,DataFIX!$F$3:$F$21,DataFIX!$E$3:$E$21))","v":"p"},{"$f":"IF(B109=\"\",\"\",LOOKUP(B109,DataFIX!$F$3:$F$41,DataFIX!$G$3:$G$41)+C109)","v":337},{"$f":"+'01.23'!O110","v":"06:45:00"},{"$f":"+'01.23'!E110","v":"TRUMF"},{"$f":"+'01.23'!G110","v":"vlastní"},{"$f":"+'01.23'!T110","v":"Dokončeno"},null,null,{"$f":"+'01.23'!L110","v":1}]
["2023-01-13",{"$f":"+IF('01.23'!C111=\"\",\"\",'01.23'!C111)","v":"2023-01-13"},{"$f":"IF(B110=\"\",\"\",COUNTIFS($B$3:B110,B110))","v":8},{"$f":"IF(B110=\"\",\"\",LOOKUP(B110,DataFIX!$F$3:$F$21,DataFIX!$E$3:$E$21))","v":"p"},{"$f":"IF(B110=\"\",\"\",LOOKUP(B110,DataFIX!$F$3:$F$41,DataFIX!$G$3:$G$41)+C110)","v":338},{"$f":"+'01.23'!O111","v":"07:10:00"},{"$f":"+'01.23'!E111","v":"Birgma"},{"$f":"+'01.23'!G111","v":"vlastní"},{"$f":"+'01.23'!T111","v":"Dokončeno"},null,null,{"$f":"+'01.23'!L111","v":3}]
["2023-01-13",{"$f":"+IF('01.23'!C112=\"\",\"\",'01.23'!C112)","v":"2023-01-13"},{"$f":"IF(B111=\"\",\"\",COUNTIFS($B$3:B111,B111))","v":9},{"$f":"IF(B111=\"\",\"\",LOOKUP(B111,DataFIX!$F$3:$F$21,DataFIX!$E$3:$E$21))","v":"p"},{"$f":"IF(B111=\"\",\"\",LOOKUP(B111,DataFIX!$F$3:$F$41,DataFIX!$G$3:$G$41)+C111)","v":339},{"$f":"+'01.23'!O112","v":"10:00:00"},{"$f":"+'01.23'!E112","v":"T-Net"},{"$f":"+'01.23'!G112","v":"MSB"},{"$f":"+'01.23'!T112","v":"Dokončeno"},null,null,{"$f":"+'01.23'!L112","v":2}]
["2023-01-13",{"$f":"+IF('01.23'!C113=\"\",\"\",'01.23'!C113)","v":"2023-01-13"},{"$f":"IF(B112=\"\",\"\",COUNTIFS($B$3:B112,B112))","v":10},{"$f":"IF(B112=\"\",\"\",LOOKUP(B112,DataFIX!$F$3:$F$21,DataFIX!$E$3:$E$21))","v":"p"},{"$f":"IF(B112=\"\",\"\",LOOKUP(B112,DataFIX!$F$3:$F$41,DataFIX!$G$3:$G$41)+C112)","v":340},{"$f":"+'01.23'!O113","v":"12:00:00"},{"$f":"+'01.23'!E113","v":"PK Group"},{"$f":"+'01.23'!G113","v":"vlastní"},{"$f":"+'01.23'!T113","v":"Dokončeno"},null,null,{"$f":"+'01.23'!L113","v":2}]
["2023-01-13",{"$f":"+IF('01.23'!C114=\"\",\"\",'01.23'!C114)","v":"2023-01-13"},{"$f":"IF(B113=\"\",\"\",COUNTIFS($B$3:B113,B113))","v":11},{"$f":"IF(B113=\"\",\"\",LOOKUP(B113,DataFIX!$F$3:$F$21,DataFIX!$E$3:$E$21))","v":"p"},{"$f":"IF(B113=\"\",\"\",LOOKUP(B113,DataFIX!$F$3:$F$41,DataFIX!$G$3:$G$41)+C113)","v":341},{"$f":"+'01.23'!O114","v":"13:00:00"},{"$f":"+'01.23'!E114","v":"T-NET"},{"$f":"+'01.23'!G114","v":"T-NET"},{"$f":"+'01.23'!T114","v":"Dokončeno"},null,null,{"$f":"+'01.23'!L114","v":2}]
["2023-01-13",{"$f":"+IF('01.23'!C115=\"\",\"\",'01.23'!C115)","v":"2023-01-13"},{"$f":"IF(B114=\"\",\"\",COUNTIFS($B$3:B114,B114))","v":12},{"$f":"IF(B114=\"\",\"\",LOOKUP(B114,DataFIX!$F$3:$F$21,DataFIX!$E$3:$E$21))","v":"p"},{"$f":"IF(B114=\"\",\"\",LOOKUP(B114,DataFIX!$F$3:$F$41,DataFIX!$G$3:$G$41)+C114)","v":342},{"$f":"+'01.23'!O115","v":"00:00:00"},{"$f":"+'01.23'!E115","v":"Filmer"},{"$f":"+'01.23'!G115","v":0},{"$f":"+'01.23'!T115","v":"Dokončeno"},null,null,{"$f":"+'01.23'!L115","v":4}]
["2023-01-13",{"$f":"+IF('01.23'!C116=\"\",\"\",'01.23'!C116)","v":"2023-01-13"},{"$f":"IF(B115=\"\",\"\",COUNTIFS($B$3:B115,B115))","v":13},{"$f":"IF(B115=\"\",\"\",LOOKUP(B115,DataFIX!$F$3:$F$21,DataFIX!$E$3:$E$21))","v":"p"},{"$f":"IF(B115=\"\",\"\",LOOKUP(B115,DataFIX!$F$3:$F$41,DataFIX!$G$3:$G$41)+C115)","v":343},{"$f":"+'01.23'!O116","v":"00:00:00"},{"$f":"+'01.23'!E116","v":"T-NET"},{"$f":"+'01.23'!G116","v":"Legarde"},{"$f":"+'01.23'!T116","v":"Dokončeno"},null,null,{"$f":"+'01.23'!L116","v":1}]
["2023-01-13",{"$f":"+IF('01.23'!C117=\"\",\"\",'01.23'!C117)","v":"2023-01-13"},{"$f":"IF(B116=\"\",\"\",COUNTIFS($B$3:B116,B116))","v":14},{"$f":"IF(B116=\"\",\"\",LOOKUP(B116,DataFIX!$F$3:$F$21,DataFIX!$E$3:$E$21))","v":"p"},{"$f":"IF(B116=\"\",\"\",LOOKUP(B116,DataFIX!$F$3:$F$41,DataFIX!$G$3:$G$41)+C116)","v":344},{"$f":"+'01.23'!O117","v":"00:00:00"},{"$f":"+'01.23'!E117","v":"Tremalin"},{"$f":"+'01.23'!G117","v":"Wereldo.com"},{"$f":"+'01.23'!T117","v":"Dokončeno"},null,null,{"$f":"+'01.23'!L117","v":2}]
["2023-01-13",{"$f":"+IF('01.23'!C118=\"\",\"\",'01.23'!C118)","v":"2023-01-13"},{"$f":"IF(B117=\"\",\"\",COUNTIFS($B$3:B117,B117))","v":15},{"$f":"IF(B117=\"\",\"\",LOOKUP(B117,DataFIX!$F$3:$F$21,DataFIX!$E$3:$E$21))","v":"p"},{"$f":"IF(B117=\"\",\"\",LOOKUP(B117,DataFIX!$F$3:$F$41,DataFIX!$G$3:$G$41)+C117)","v":345},{"$f":"+'01.23'!O118","v":"00:00:00"},{"$f":"+'01.23'!E118","v":"BS Vinařské"},{"$f":"+'01.23'!G118","v":"vlastní"},{"$f":"+'01.23'!T118","v":"Dokončeno"},null,null,{"$f":"+'01.23'!L118","v":2}]
["2023-01-13",{"$f":"+IF('01.23'!C119=\"\",\"\",'01.23'!C119)","v":"2023-01-13"},{"$f":"IF(B118=\"\",\"\",COUNTIFS($B$3:B118,B118))","v":16},{"$f":"IF(B118=\"\",\"\",LOOKUP(B118,DataFIX!$F$3:$F$21,DataFIX!$E$3:$E$21))","v":"p"},{"$f":"IF(B118=\"\",\"\",LOOKUP(B118,DataFIX!$F$3:$F$41,DataFIX!$G$3:$G$41)+C118)","v":346},{"$f":"+'01.23'!O119","v":"00:00:00"},{"$f":"+'01.23'!E119","v":"Toptrans"},{"$f":"+'01.23'!G119","v":"SBS"},{"$f":"+'01.23'!T119","v":"Dokončeno"},null,null,{"$f":"+'01.23'!L119","v":1}]
["2023-01-16",{"$f":"+IF('01.23'!C120=\"\",\"\",'01.23'!C120)","v":"2023-01-16"},{"$f":"IF(B119=\"\",\"\",COUNTIFS($B$3:B119,B119))","v":1},{"$f":"IF(B119=\"\",\"\",LOOKUP(B119,DataFIX!$F$3:$F$21,DataFIX!$E$3:$E$21))","v":"p"},{"$f":"IF(B119=\"\",\"\",LOOKUP(B119,DataFIX!$F$3:$F$41,DataFIX!$G$3:$G$41)+C119)","v":421},{"$f":"+'01.23'!O120","v":"06:00:00"},{"$f":"+'01.23'!E120","v":"DF"},{"$f":"+'01.23'!G120","v":"Hroza"},{"$f":"+'01.23'!T120","v":"Dokončeno"},null,null,{"$f":"+'01.23'!L120","v":2}]
["2023-01-16",{"$f":"+IF('01.23'!C121=\"\",\"\",'01.23'!C121)","v":"2023-01-16"},{"$f":"IF(B120=\"\",\"\",COUNTIFS($B$3:B120,B120))","v":2},{"$f":"IF(B120=\"\",\"\",LOOKUP(B120,DataFIX!$F$3:$F$21,DataFIX!$E$3:$E$21))","v":"p"},{"$f":"IF(B120=\"\",\"\",LOOKUP(B120,DataFIX!$F$3:$F$41,DataFIX!$G$3:$G$41)+C120)","v":422},{"$f":"+'01.23'!O121","v":"06:05:00"},{"$f":"+'01.23'!E121","v":"Pěkný Unimex"},{"$f":"+'01.23'!G121","v":"TEZET"},{"$f":"+'01.23'!T121","v":"Dokončeno"},null,null,{"$f":"+'01.23'!L121","v":2}]
["2023-01-16",{"$f":"+IF('01.23'!C122=\"\",\"\",'01.23'!C122)","v":"2023-01-16"},{"$f":"IF(B121=\"\",\"\",COUNTIFS($B$3:B121,B121))","v":3},{"$f":"IF(B121=\"\",\"\",LOOKUP(B121,DataFIX!$F$3:$F$21,DataFIX!$E$3:$E$21))","v":"p"},{"$f":"IF(B121=\"\",\"\",LOOKUP(B121,DataFIX!$F$3:$F$41,DataFIX!$G$3:$G$41)+C121)","v":423},{"$f":"+'01.23'!O122","v":"06:05:00"},{"$f":"+'01.23'!E122","v":"Bochemie"},{"$f":"+'01.23'!G122","v":"TEZET"},{"$f":"+'01.23'!T122","v":"Dokončeno"},null,null,{"$f":"+'01.23'!L122","v":3}]
["2023-01-16",{"$f":"+IF('01.23'!C123=\"\",\"\",'01.23'!C123)","v":"2023-01-16"},{"$f":"IF(B122=\"\",\"\",COUNTIFS($B$3:B122,B122))","v":4},{"$f":"IF(B122=\"\",\"\",LOOKUP(B122,DataFIX!$F$3:$F$21,DataFIX!$E$3:$E$21))","v":"p"},{"$f":"IF(B122=\"\",\"\",LOOKUP(B122,DataFIX!$F$3:$F$41,DataFIX!$G$3:$G$41)+C122)","v":424},{"$f":"+'01.23'!O123","v":"08:00:00"},{"$f":"+'01.23'!E123","v":"Garsys"},{"$f":"+'01.23'!G123","v":"vlastní"},{"$f":"+'01.23'!T123","v":"Dokončeno"},null,null,{"$f":"+'01.23'!L123","v":2},null,null,null,null,"List \"ZDROJ\"\n- na tomto listu nic nedělat!!!!!\n\nTento list okamžitě opusťte!\nDíky."]
["2023-01-16",{"$f":"+IF('01.23'!C124=\"\",\"\",'01.23'!C124)","v":"2023-01-16"},{"$f":"IF(B123=\"\",\"\",COUNTIFS($B$3:B123,B123))","v":5},{"$f":"IF(B123=\"\",\"\",LOOKUP(B123,DataFIX!$F$3:$F$21,DataFIX!$E$3:$E$21))","v":"p"},{"$f":"IF(B123=\"\",\"\",LOOKUP(B123,DataFIX!$F$3:$F$41,DataFIX!$G$3:$G$41)+C123)","v":425},{"$f":"+'01.23'!O124","v":"10:00:00"},{"$f":"+'01.23'!E124","v":"TBA"},{"$f":"+'01.23'!G124","v":"vlastní"},{"$f":"+'01.23'!T124","v":"Dokončeno"},null,null,{"$f":"+'01.23'!L124","v":3}]
["2023-01-16",{"$f":"+IF('01.23'!C125=\"\",\"\",'01.23'!C125)","v":"2023-01-16"},{"$f":"IF(B124=\"\",\"\",COUNTIFS($B$3:B124,B124))","v":6},{"$f":"IF(B124=\"\",\"\",LOOKUP(B124,DataFIX!$F$3:$F$21,DataFIX!$E$3:$E$21))","v":"p"},{"$f":"IF(B124=\"\",\"\",LOOKUP(B124,DataFIX!$F$3:$F$41,DataFIX!$G$3:$G$41)+C124)","v":426},{"$f":"+'01.23'!O125","v":"11:30:00"},{"$f":"+'01.23'!E125","v":"Avena"},{"$f":"+'01.23'!G125","v":"vlasstní"},{"$f":"+'01.23'!T125","v":"Dokončeno"},null,null,{"$f":"+'01.23'!L125","v":1}]
["2023-01-16",{"$f":"+IF('01.23'!C126=\"\",\"\",'01.23'!C126)","v":"2023-01-16"},{"$f":"IF(B125=\"\",\"\",COUNTIFS($B$3:B125,B125))","v":7},{"$f":"IF(B125=\"\",\"\",LOOKUP(B125,DataFIX!$F$3:$F$21,DataFIX!$E$3:$E$21))","v":"p"},{"$f":"IF(B125=\"\",\"\",LOOKUP(B125,DataFIX!$F$3:$F$41,DataFIX!$G$3:$G$41)+C125)","v":427},{"$f":"+'01.23'!O126","v":"12:30:00"},{"$f":"+'01.23'!E126","v":"Toptrans"},{"$f":"+'01.23'!G126","v":"SBS"},{"$f":"+'01.23'!T126","v":"Dokončeno"},null,null,{"$f":"+'01.23'!L126","v":1}]
["2023-01-16",{"$f":"+IF('01.23'!C127=\"\",\"\",'01.23'!C127)","v":"2023-01-16"},{"$f":"IF(B126=\"\",\"\",COUNTIFS($B$3:B126,B126))","v":8},{"$f":"IF(B126=\"\",\"\",LOOKUP(B126,DataFIX!$F$3:$F$21,DataFIX!$E$3:$E$21))","v":"p"},{"$f":"IF(B126=\"\",\"\",LOOKUP(B126,DataFIX!$F$3:$F$41,DataFIX!$G$3:$G$41)+C126)","v":428},{"$f":"+'01.23'!O127","v":"13:00:00"},{"$f":"+'01.23'!E127","v":"M.A.T."},{"$f":"+'01.23'!G127","v":"vlastní "},{"$f":"+'01.23'!T127","v":"Dokončeno"},null,null,{"$f":"+'01.23'!L127","v":5}]
["2023-01-16",{"$f":"+IF('01.23'!C128=\"\",\"\",'01.23'!C128)","v":"2023-01-16"},{"$f":"IF(B127=\"\",\"\",COUNTIFS($B$3:B127,B127))","v":9},{"$f":"IF(B127=\"\",\"\",LOOKUP(B127,DataFIX!$F$3:$F$21,DataFIX!$E$3:$E$21))","v":"p"},{"$f":"IF(B127=\"\",\"\",LOOKUP(B127,DataFIX!$F$3:$F$41,DataFIX!$G$3:$G$41)+C127)","v":429},{"$f":"+'01.23'!O128","v":"13:30:00"},{"$f":"+'01.23'!E128","v":"BELSHINA"},{"$f":"+'01.23'!G128","v":"vlastní"},{"$f":"+'01.23'!T128","v":"Dokončeno"},null,null,{"$f":"+'01.23'!L128","v":2}]
["2023-01-16",{"$f":"+IF('01.23'!C129=\"\",\"\",'01.23'!C129)","v":"2023-01-16"},{"$f":"IF(B128=\"\",\"\",COUNTIFS($B$3:B128,B128))","v":10},{"$f":"IF(B128=\"\",\"\",LOOKUP(B128,DataFIX!$F$3:$F$21,DataFIX!$E$3:$E$21))","v":"p"},{"$f":"IF(B128=\"\",\"\",LOOKUP(B128,DataFIX!$F$3:$F$41,DataFIX!$G$3:$G$41)+C128)","v":430},{"$f":"+'01.23'!O129","v":"00:00:00"},{"$f":"+'01.23'!E129","v":"Faurecie MB"},{"$f":"+'01.23'!G129","v":"vlastní"},{"$f":"+'01.23'!T129","v":"Dokončeno"},null,null,{"$f":"+'01.23'!L129","v":5}]
["2023-01-16",{"$f":"+IF('01.23'!C130=\"\",\"\",'01.23'!C130)","v":"2023-01-16"},{"$f":"IF(B129=\"\",\"\",COUNTIFS($B$3:B129,B129))","v":11},{"$f":"IF(B129=\"\",\"\",LOOKUP(B129,DataFIX!$F$3:$F$21,DataFIX!$E$3:$E$21))","v":"p"},{"$f":"IF(B129=\"\",\"\",LOOKUP(B129,DataFIX!$F$3:$F$41,DataFIX!$G$3:$G$41)+C129)","v":431},{"$f":"+'01.23'!O130","v":"00:00:00"},{"$f":"+'01.23'!E130","v":"T-Net"},{"$f":"+'01.23'!G130","v":"MSB"},{"$f":"+'01.23'!T130","v":"Dokončeno"},null,null,{"$f":"+'01.23'!L130","v":3}]
["2023-01-16",{"$f":"+IF('01.23'!C131=\"\",\"\",'01.23'!C131)","v":"2023-01-16"},{"$f":"IF(B130=\"\",\"\",COUNTIFS($B$3:B130,B130))","v":12},{"$f":"IF(B130=\"\",\"\",LOOKUP(B130,DataFIX!$F$3:$F$21,DataFIX!$E$3:$E$21))","v":"p"},{"$f":"IF(B130=\"\",\"\",LOOKUP(B130,DataFIX!$F$3:$F$41,DataFIX!$G$3:$G$41)+C130)","v":432},{"$f":"+'01.23'!O131","v":"00:00:00"},{"$f":"+'01.23'!E131","v":"PMB industris"},{"$f":"+'01.23'!G131","v":"SBS"},{"$f":"+'01.23'!T131","v":"Dokončeno"},null,null,{"$f":"+'01.23'!L131","v":1}]
["2023-01-16",{"$f":"+IF('01.23'!C132=\"\",\"\",'01.23'!C132)","v":"2023-01-16"},{"$f":"IF(B131=\"\",\"\",COUNTIFS($B$3:B131,B131))","v":13},{"$f":"IF(B131=\"\",\"\",LOOKUP(B131,DataFIX!$F$3:$F$21,DataFIX!$E$3:$E$21))","v":"p"},{"$f":"IF(B131=\"\",\"\",LOOKUP(B131,DataFIX!$F$3:$F$41,DataFIX!$G$3:$G$41)+C131)","v":433},{"$f":"+'01.23'!O132","v":"00:00:00"},{"$f":"+'01.23'!E132","v":"Synthesia"},{"$f":"+'01.23'!G132","v":"SBS"},{"$f":"+'01.23'!T132","v":"Dokončeno"},null,null,{"$f":"+'01.23'!L132","v":1}]
[{"$f":"+B132","v":"2023-01-16"},{"$f":"+IF('01.23'!C133=\"\",\"\",'01.23'!C133)","v":"2023-01-16"},{"$f":"IF(B132=\"\",\"\",COUNTIFS($B$3:B132,B132))","v":14},{"$f":"IF(B132=\"\",\"\",LOOKUP(B132,DataFIX!$F$3:$F$21,DataFIX!$E$3:$E$21))","v":"p"},{"$f":"IF(B132=\"\",\"\",LOOKUP(B132,DataFIX!$F$3:$F$41,DataFIX!$G$3:$G$41)+C132)","v":434},{"$f":"+'01.23'!O133","v":"00:00:00"},{"$f":"+'01.23'!E133","v":"Alter"},{"$f":"+'01.23'!G133","v":"vlastní"},{"$f":"+'01.23'!T133","v":"Dokončeno"},null,null,{"$f":"+'01.23'!L133","v":1}]
["2023-01-17",{"$f":"+IF('01.23'!C134=\"\",\"\",'01.23'!C134)","v":"2023-01-17"},{"$f":"IF(B133=\"\",\"\",COUNTIFS($B$3:B133,B133))","v":1},{"$f":"IF(B133=\"\",\"\",LOOKUP(B133,DataFIX!$F$3:$F$21,DataFIX!$E$3:$E$21))","v":"ú"},{"$f":"IF(B133=\"\",\"\",LOOKUP(B133,DataFIX!$F$3:$F$41,DataFIX!$G$3:$G$41)+C133)","v":451},{"$f":"+'01.23'!O134","v":"06:00:00"},{"$f":"+'01.23'!E134","v":"Filmer"},{"$f":"+'01.23'!G134","v":"JF LOG"},{"$f":"+'01.23'!T134","v":"Dokončeno"},null,null,{"$f":"+'01.23'!L134","v":4}]
["2023-01-17",{"$f":"+IF('01.23'!C135=\"\",\"\",'01.23'!C135)","v":"2023-01-17"},{"$f":"IF(B134=\"\",\"\",COUNTIFS($B$3:B134,B134))","v":2},{"$f":"IF(B134=\"\",\"\",LOOKUP(B134,DataFIX!$F$3:$F$21,DataFIX!$E$3:$E$21))","v":"ú"},{"$f":"IF(B134=\"\",\"\",LOOKUP(B134,DataFIX!$F$3:$F$41,DataFIX!$G$3:$G$41)+C134)","v":452},{"$f":"+'01.23'!O135","v":"06:00:00"},{"$f":"+'01.23'!E135","v":"DF"},{"$f":"+'01.23'!G135","v":"Hroza"},{"$f":"+'01.23'!T135","v":"Dokončeno"},null,null,{"$f":"+'01.23'!L135","v":2}]
["2023-01-17",{"$f":"+IF('01.23'!C136=\"\",\"\",'01.23'!C136)","v":"2023-01-17"},{"$f":"IF(B135=\"\",\"\",COUNTIFS($B$3:B135,B135))","v":3},{"$f":"IF(B135=\"\",\"\",LOOKUP(B135,DataFIX!$F$3:$F$21,DataFIX!$E$3:$E$21))","v":"ú"},{"$f":"IF(B135=\"\",\"\",LOOKUP(B135,DataFIX!$F$3:$F$41,DataFIX!$G$3:$G$41)+C135)","v":453},{"$f":"+'01.23'!O136","v":"06:05:00"},{"$f":"+'01.23'!E136","v":"Cheport"},{"$f":"+'01.23'!G136","v":"TEZET"},{"$f":"+'01.23'!T136","v":"Dokončeno"},null,null,{"$f":"+'01.23'!L136","v":3}]
["2023-01-17",{"$f":"+IF('01.23'!C137=\"\",\"\",'01.23'!C137)","v":"2023-01-17"},{"$f":"IF(B136=\"\",\"\",COUNTIFS($B$3:B136,B136))","v":4},{"$f":"IF(B136=\"\",\"\",LOOKUP(B136,DataFIX!$F$3:$F$21,DataFIX!$E$3:$E$21))","v":"ú"},{"$f":"IF(B136=\"\",\"\",LOOKUP(B136,DataFIX!$F$3:$F$41,DataFIX!$G$3:$G$41)+C136)","v":454},{"$f":"+'01.23'!O137","v":"06:30:00"},{"$f":"+'01.23'!E137","v":"Antolin"},{"$f":"+'01.23'!G137","v":"vlastní"},{"$f":"+'01.23'!T137","v":"Dokončeno"},null,null,{"$f":"+'01.23'!L137","v":3}]
["2023-01-17",{"$f":"+IF('01.23'!C138=\"\",\"\",'01.23'!C138)","v":"2023-01-17"},{"$f":"IF(B137=\"\",\"\",COUNTIFS($B$3:B137,B137))","v":5},{"$f":"IF(B137=\"\",\"\",LOOKUP(B137,DataFIX!$F$3:$F$21,DataFIX!$E$3:$E$21))","v":"ú"},{"$f":"IF(B137=\"\",\"\",LOOKUP(B137,DataFIX!$F$3:$F$41,DataFIX!$G$3:$G$41)+C137)","v":455},{"$f":"+'01.23'!O138","v":"07:00:00"},{"$f":"+'01.23'!E138","v":"syncreon Slovakia"},{"$f":"+'01.23'!G138","v":"vlastní"},{"$f":"+'01.23'!T138","v":"Dokončeno"},null,null,{"$f":"+'01.23'!L138","v":2}]
["2023-01-17",{"$f":"+IF('01.23'!C139=\"\",\"\",'01.23'!C139)","v":"2023-01-17"},{"$f":"IF(B138=\"\",\"\",COUNTIFS($B$3:B138,B138))","v":6},{"$f":"IF(B138=\"\",\"\",LOOKUP(B138,DataFIX!$F$3:$F$21,DataFIX!$E$3:$E$21))","v":"ú"},{"$f":"IF(B138=\"\",\"\",LOOKUP(B138,DataFIX!$F$3:$F$41,DataFIX!$G$3:$G$41)+C138)","v":456},{"$f":"+'01.23'!O139","v":"08:00:00"},{"$f":"+'01.23'!E139","v":"T-Net"},{"$f":"+'01.23'!G139","v":"kontejner"},{"$f":"+'01.23'!T139","v":"Dokončeno"},null,null,{"$f":"+'01.23'!L139","v":4}]
["2023-01-17",{"$f":"+IF('01.23'!C140=\"\",\"\",'01.23'!C140)","v":"2023-01-17"},{"$f":"IF(B139=\"\",\"\",COUNTIFS($B$3:B139,B139))","v":7},{"$f":"IF(B139=\"\",\"\",LOOKUP(B139,DataFIX!$F$3:$F$21,DataFIX!$E$3:$E$21))","v":"ú"},{"$f":"IF(B139=\"\",\"\",LOOKUP(B139,DataFIX!$F$3:$F$41,DataFIX!$G$3:$G$41)+C139)","v":457},{"$f":"+'01.23'!O140","v":"09:00:00"},{"$f":"+'01.23'!E140","v":"Blaser"},{"$f":"+'01.23'!G140","v":"vlastní"},{"$f":"+'01.23'!T140","v":"Dokončeno"},null,null,{"$f":"+'01.23'!L140","v":1}]
["2023-01-17",{"$f":"+IF('01.23'!C141=\"\",\"\",'01.23'!C141)","v":"2023-01-17"},{"$f":"IF(B140=\"\",\"\",COUNTIFS($B$3:B140,B140))","v":8},{"$f":"IF(B140=\"\",\"\",LOOKUP(B140,DataFIX!$F$3:$F$21,DataFIX!$E$3:$E$21))","v":"ú"},{"$f":"IF(B140=\"\",\"\",LOOKUP(B140,DataFIX!$F$3:$F$41,DataFIX!$G$3:$G$41)+C140)","v":458},{"$f":"+'01.23'!O141","v":"10:05:00"},{"$f":"+'01.23'!E141","v":"TBA"},{"$f":"+'01.23'!G141","v":"vlastní"},{"$f":"+'01.23'!T141","v":"Dokončeno"},null,null,{"$f":"+'01.23'!L141","v":2}]
["2023-01-17",{"$f":"+IF('01.23'!C142=\"\",\"\",'01.23'!C142)","v":"2023-01-17"},{"$f":"IF(B141=\"\",\"\",COUNTIFS($B$3:B141,B141))","v":9},{"$f":"IF(B141=\"\",\"\",LOOKUP(B141,DataFIX!$F$3:$F$21,DataFIX!$E$3:$E$21))","v":"ú"},{"$f":"IF(B141=\"\",\"\",LOOKUP(B141,DataFIX!$F$3:$F$41,DataFIX!$G$3:$G$41)+C141)","v":459},{"$f":"+'01.23'!O142","v":"10:30:00"},{"$f":"+'01.23'!E142","v":"TREF"},{"$f":"+'01.23'!G142","v":"vlastní"},{"$f":"+'01.23'!T142","v":"Dokončeno"},null,null,{"$f":"+'01.23'!L142","v":2}]
["2023-01-17",{"$f":"+IF('01.23'!C143=\"\",\"\",'01.23'!C143)","v":"2023-01-17"},{"$f":"IF(B142=\"\",\"\",COUNTIFS($B$3:B142,B142))","v":10},{"$f":"IF(B142=\"\",\"\",LOOKUP(B142,DataFIX!$F$3:$F$21,DataFIX!$E$3:$E$21))","v":"ú"},{"$f":"IF(B142=\"\",\"\",LOOKUP(B142,DataFIX!$F$3:$F$41,DataFIX!$G$3:$G$41)+C142)","v":460},{"$f":"+'01.23'!O143","v":"11:00:00"},{"$f":"+'01.23'!E143","v":"Greiner"},{"$f":"+'01.23'!G143","v":"TEZET"},{"$f":"+'01.23'!T143","v":"Dokončeno"},null,null,{"$f":"+'01.23'!L143","v":3}]
["2023-01-17",{"$f":"+IF('01.23'!C144=\"\",\"\",'01.23'!C144)","v":"2023-01-17"},{"$f":"IF(B143=\"\",\"\",COUNTIFS($B$3:B143,B143))","v":11},{"$f":"IF(B143=\"\",\"\",LOOKUP(B143,DataFIX!$F$3:$F$21,DataFIX!$E$3:$E$21))","v":"ú"},{"$f":"IF(B143=\"\",\"\",LOOKUP(B143,DataFIX!$F$3:$F$41,DataFIX!$G$3:$G$41)+C143)","v":461},{"$f":"+'01.23'!O144","v":"11:30:00"},{"$f":"+'01.23'!E144","v":"PK Group"},{"$f":"+'01.23'!G144","v":"Augustin Hložek"},{"$f":"+'01.23'!T144","v":"Dokončeno"},null,null,{"$f":"+'01.23'!L144","v":2}]
["2023-01-17",{"$f":"+IF('01.23'!C145=\"\",\"\",'01.23'!C145)","v":"2023-01-17"},{"$f":"IF(B144=\"\",\"\",COUNTIFS($B$3:B144,B144))","v":12},{"$f":"IF(B144=\"\",\"\",LOOKUP(B144,DataFIX!$F$3:$F$21,DataFIX!$E$3:$E$21))","v":"ú"},{"$f":"IF(B144=\"\",\"\",LOOKUP(B144,DataFIX!$F$3:$F$41,DataFIX!$G$3:$G$41)+C144)","v":462},{"$f":"+'01.23'!O145","v":"12:00:00"},{"$f":"+'01.23'!E145","v":"Kopeček"},{"$f":"+'01.23'!G145","v":"vlastní"},{"$f":"+'01.23'!T145","v":"Dokončeno"},null,null,{"$f":"+'01.23'!L145","v":1}]
["2023-01-17",{"$f":"+IF('01.23'!C146=\"\",\"\",'01.23'!C146)","v":"2023-01-17"},{"$f":"IF(B145=\"\",\"\",COUNTIFS($B$3:B145,B145))","v":13},{"$f":"IF(B145=\"\",\"\",LOOKUP(B145,DataFIX!$F$3:$F$21,DataFIX!$E$3:$E$21))","v":"ú"},{"$f":"IF(B145=\"\",\"\",LOOKUP(B145,DataFIX!$F$3:$F$41,DataFIX!$G$3:$G$41)+C145)","v":463},{"$f":"+'01.23'!O146","v":"12:15:00"},{"$f":"+'01.23'!E146","v":"Antolin"},{"$f":"+'01.23'!G146","v":"vlastní"},{"$f":"+'01.23'!T146","v":"Dokončeno"},null,null,{"$f":"+'01.23'!L146","v":3}]
["2023-01-17",{"$f":"+IF('01.23'!C147=\"\",\"\",'01.23'!C147)","v":"2023-01-17"},{"$f":"IF(B146=\"\",\"\",COUNTIFS($B$3:B146,B146))","v":14},{"$f":"IF(B146=\"\",\"\",LOOKUP(B146,DataFIX!$F$3:$F$21,DataFIX!$E$3:$E$21))","v":"ú"},{"$f":"IF(B146=\"\",\"\",LOOKUP(B146,DataFIX!$F$3:$F$41,DataFIX!$G$3:$G$41)+C146)","v":464},{"$f":"+'01.23'!O147","v":"00:00:00"},{"$f":"+'01.23'!E147","v":"Faurecie"},{"$f":"+'01.23'!G147","v":"vlastní"},{"$f":"+'01.23'!T147","v":"Dokončeno"},null,null,{"$f":"+'01.23'!L147","v":2}]
["2023-01-17",{"$f":"+IF('01.23'!C148=\"\",\"\",'01.23'!C148)","v":"2023-01-17"},{"$f":"IF(B147=\"\",\"\",COUNTIFS($B$3:B147,B147))","v":15},{"$f":"IF(B147=\"\",\"\",LOOKUP(B147,DataFIX!$F$3:$F$21,DataFIX!$E$3:$E$21))","v":"ú"},{"$f":"IF(B147=\"\",\"\",LOOKUP(B147,DataFIX!$F$3:$F$41,DataFIX!$G$3:$G$41)+C147)","v":465},{"$f":"+'01.23'!O148","v":"00:00:00"},{"$f":"+'01.23'!E148","v":"Faurecie MB"},{"$f":"+'01.23'!G148","v":"vlastní"},{"$f":"+'01.23'!T148","v":"Dokončeno"},null,null,{"$f":"+'01.23'!L148","v":5}]
["2023-01-17",{"$f":"+IF('01.23'!C149=\"\",\"\",'01.23'!C149)","v":"2023-01-17"},{"$f":"IF(B148=\"\",\"\",COUNTIFS($B$3:B148,B148))","v":16},{"$f":"IF(B148=\"\",\"\",LOOKUP(B148,DataFIX!$F$3:$F$21,DataFIX!$E$3:$E$21))","v":"ú"},{"$f":"IF(B148=\"\",\"\",LOOKUP(B148,DataFIX!$F$3:$F$41,DataFIX!$G$3:$G$41)+C148)","v":466},{"$f":"+'01.23'!O149","v":"00:00:00"},{"$f":"+'01.23'!E149","v":"Toptrans"},{"$f":"+'01.23'!G149","v":"SBS"},{"$f":"+'01.23'!T149","v":"Dokončeno"},null,null,{"$f":"+'01.23'!L149","v":2}]
["2023-01-17",{"$f":"+IF('01.23'!C150=\"\",\"\",'01.23'!C150)","v":"2023-01-17"},{"$f":"IF(B149=\"\",\"\",COUNTIFS($B$3:B149,B149))","v":17},{"$f":"IF(B149=\"\",\"\",LOOKUP(B149,DataFIX!$F$3:$F$21,DataFIX!$E$3:$E$21))","v":"ú"},{"$f":"IF(B149=\"\",\"\",LOOKUP(B149,DataFIX!$F$3:$F$41,DataFIX!$G$3:$G$41)+C149)","v":467},{"$f":"+'01.23'!O150","v":"00:00:00"},{"$f":"+'01.23'!E150","v":"PK Group "},{"$f":"+'01.23'!G150","v":"vlastní"},{"$f":"+'01.23'!T150","v":"Dokončeno"},null,null,{"$f":"+'01.23'!L150","v":1}]
["2023-01-17",{"$f":"+IF('01.23'!C151=\"\",\"\",'01.23'!C151)","v":"2023-01-17"},{"$f":"IF(B150=\"\",\"\",COUNTIFS($B$3:B150,B150))","v":18},{"$f":"IF(B150=\"\",\"\",LOOKUP(B150,DataFIX!$F$3:$F$21,DataFIX!$E$3:$E$21))","v":"ú"},{"$f":"IF(B150=\"\",\"\",LOOKUP(B150,DataFIX!$F$3:$F$41,DataFIX!$G$3:$G$41)+C150)","v":468},{"$f":"+'01.23'!O151","v":"00:00:00"},{"$f":"+'01.23'!E151","v":"Tichelmann"},{"$f":"+'01.23'!G151","v":"vlastní"},{"$f":"+'01.23'!T151","v":"Dokončeno"},null,null,{"$f":"+'01.23'!L151","v":1}]
["2023-01-18",{"$f":"+IF('01.23'!C152=\"\",\"\",'01.23'!C152)","v":"2023-01-18"},{"$f":"IF(B151=\"\",\"\",COUNTIFS($B$3:B151,B151))","v":1},{"$f":"IF(B151=\"\",\"\",LOOKUP(B151,DataFIX!$F$3:$F$21,DataFIX!$E$3:$E$21))","v":"s"},{"$f":"IF(B151=\"\",\"\",LOOKUP(B151,DataFIX!$F$3:$F$41,DataFIX!$G$3:$G$41)+C151)","v":481},{"$f":"+'01.23'!O152","v":"06:00:00"},{"$f":"+'01.23'!E152","v":"DF"},{"$f":"+'01.23'!G152","v":"Hroza"},{"$f":"+'01.23'!T152","v":"Dokončeno"},null,null,{"$f":"+'01.23'!L152","v":2}]
["2023-01-18",{"$f":"+IF('01.23'!C153=\"\",\"\",'01.23'!C153)","v":"2023-01-18"},{"$f":"IF(B152=\"\",\"\",COUNTIFS($B$3:B152,B152))","v":2},{"$f":"IF(B152=\"\",\"\",LOOKUP(B152,DataFIX!$F$3:$F$21,DataFIX!$E$3:$E$21))","v":"s"},{"$f":"IF(B152=\"\",\"\",LOOKUP(B152,DataFIX!$F$3:$F$41,DataFIX!$G$3:$G$41)+C152)","v":482},{"$f":"+'01.23'!O153","v":"06:04:00"},{"$f":"+'01.23'!E153","v":"LB Cemix"},{"$f":"+'01.23'!G153","v":"TEZET"},{"$f":"+'01.23'!T153","v":"Dokončeno"},null,null,{"$f":"+'01.23'!L153","v":3}]
["2023-01-18",{"$f":"+IF('01.23'!C154=\"\",\"\",'01.23'!C154)","v":"2023-01-18"},{"$f":"IF(B153=\"\",\"\",COUNTIFS($B$3:B153,B153))","v":3},{"$f":"IF(B153=\"\",\"\",LOOKUP(B153,DataFIX!$F$3:$F$21,DataFIX!$E$3:$E$21))","v":"s"},{"$f":"IF(B153=\"\",\"\",LOOKUP(B153,DataFIX!$F$3:$F$41,DataFIX!$G$3:$G$41)+C153)","v":483},{"$f":"+'01.23'!O154","v":"06:05:00"},{"$f":"+'01.23'!E154","v":"Mmcité"},{"$f":"+'01.23'!G154","v":"TEZET"},{"$f":"+'01.23'!T154","v":"Dokončeno"},null,null,{"$f":"+'01.23'!L154","v":3}]
["2023-01-18",{"$f":"+IF('01.23'!C155=\"\",\"\",'01.23'!C155)","v":"2023-01-18"},{"$f":"IF(B154=\"\",\"\",COUNTIFS($B$3:B154,B154))","v":4},{"$f":"IF(B154=\"\",\"\",LOOKUP(B154,DataFIX!$F$3:$F$21,DataFIX!$E$3:$E$21))","v":"s"},{"$f":"IF(B154=\"\",\"\",LOOKUP(B154,DataFIX!$F$3:$F$41,DataFIX!$G$3:$G$41)+C154)","v":484},{"$f":"+'01.23'!O155","v":"07:00:00"},{"$f":"+'01.23'!E155","v":"Faurecie"},{"$f":"+'01.23'!G155","v":"vlastní"},{"$f":"+'01.23'!T155","v":"Dokončeno"},null,null,{"$f":"+'01.23'!L155","v":2}]
["2023-01-18",{"$f":"+IF('01.23'!C156=\"\",\"\",'01.23'!C156)","v":"2023-01-18"},{"$f":"IF(B155=\"\",\"\",COUNTIFS($B$3:B155,B155))","v":5},{"$f":"IF(B155=\"\",\"\",LOOKUP(B155,DataFIX!$F$3:$F$21,DataFIX!$E$3:$E$21))","v":"s"},{"$f":"IF(B155=\"\",\"\",LOOKUP(B155,DataFIX!$F$3:$F$41,DataFIX!$G$3:$G$41)+C155)","v":485},{"$f":"+'01.23'!O156","v":"08:00:00"},{"$f":"+'01.23'!E156","v":"D.I.Chem"},{"$f":"+'01.23'!G156","v":"vlastní TT"},{"$f":"+'01.23'!T156","v":"Dokončeno"},null,null,{"$f":"+'01.23'!L156","v":3}]
["2023-01-18",{"$f":"+IF('01.23'!C157=\"\",\"\",'01.23'!C157)","v":"2023-01-18"},{"$f":"IF(B156=\"\",\"\",COUNTIFS($B$3:B156,B156))","v":6},{"$f":"IF(B156=\"\",\"\",LOOKUP(B156,DataFIX!$F$3:$F$21,DataFIX!$E$3:$E$21))","v":"s"},{"$f":"IF(B156=\"\",\"\",LOOKUP(B156,DataFIX!$F$3:$F$41,DataFIX!$G$3:$G$41)+C156)","v":486},{"$f":"+'01.23'!O157","v":"08:30:00"},{"$f":"+'01.23'!E157","v":"Filmer"},{"$f":"+'01.23'!G157","v":"JF LOG"},{"$f":"+'01.23'!T157","v":"Dokončeno"},null,null,{"$f":"+'01.23'!L157","v":4}]
["2023-01-18",{"$f":"+IF('01.23'!C158=\"\",\"\",'01.23'!C158)","v":"2023-01-18"},{"$f":"IF(B157=\"\",\"\",COUNTIFS($B$3:B157,B157))","v":7},{"$f":"IF(B157=\"\",\"\",LOOKUP(B157,DataFIX!$F$3:$F$21,DataFIX!$E$3:$E$21))","v":"s"},{"$f":"IF(B157=\"\",\"\",LOOKUP(B157,DataFIX!$F$3:$F$41,DataFIX!$G$3:$G$41)+C157)","v":487},{"$f":"+'01.23'!O158","v":"09:00:00"},{"$f":"+'01.23'!E158","v":"Stachema "},{"$f":"+'01.23'!G158","v":"vlastní"},{"$f":"+'01.23'!T158","v":"Dokončeno"},null,null,{"$f":"+'01.23'!L158","v":2}]
["2023-01-18",{"$f":"+IF('01.23'!C159=\"\",\"\",'01.23'!C159)","v":"2023-01-18"},{"$f":"IF(B158=\"\",\"\",COUNTIFS($B$3:B158,B158))","v":8},{"$f":"IF(B158=\"\",\"\",LOOKUP(B158,DataFIX!$F$3:$F$21,DataFIX!$E$3:$E$21))","v":"s"},{"$f":"IF(B158=\"\",\"\",LOOKUP(B158,DataFIX!$F$3:$F$41,DataFIX!$G$3:$G$41)+C158)","v":488},{"$f":"+'01.23'!O159","v":"09:30:00"},{"$f":"+'01.23'!E159","v":"OZAS-ESAB"},{"$f":"+'01.23'!G159","v":"Scheker"},{"$f":"+'01.23'!T159","v":"Dokončeno"},null,null,{"$f":"+'01.23'!L159","v":2}]
["2023-01-18",{"$f":"+IF('01.23'!C160=\"\",\"\",'01.23'!C160)","v":"2023-01-18"},{"$f":"IF(B159=\"\",\"\",COUNTIFS($B$3:B159,B159))","v":9},{"$f":"IF(B159=\"\",\"\",LOOKUP(B159,DataFIX!$F$3:$F$21,DataFIX!$E$3:$E$21))","v":"s"},{"$f":"IF(B159=\"\",\"\",LOOKUP(B159,DataFIX!$F$3:$F$41,DataFIX!$G$3:$G$41)+C159)","v":489},{"$f":"+'01.23'!O160","v":"10:30:00"},{"$f":"+'01.23'!E160","v":"TBA"},{"$f":"+'01.23'!G160","v":"vlastní"},{"$f":"+'01.23'!T160","v":"Dokončeno"},null,null,{"$f":"+'01.23'!L160","v":2}]
["2023-01-18",{"$f":"+IF('01.23'!C161=\"\",\"\",'01.23'!C161)","v":"2023-01-18"},{"$f":"IF(B160=\"\",\"\",COUNTIFS($B$3:B160,B160))","v":10},{"$f":"IF(B160=\"\",\"\",LOOKUP(B160,DataFIX!$F$3:$F$21,DataFIX!$E$3:$E$21))","v":"s"},{"$f":"IF(B160=\"\",\"\",LOOKUP(B160,DataFIX!$F$3:$F$41,DataFIX!$G$3:$G$41)+C160)","v":490},{"$f":"+'01.23'!O161","v":"10:30:00"},{"$f":"+'01.23'!E161","v":"TBA"},{"$f":"+'01.23'!G161","v":"vlastní"},{"$f":"+'01.23'!T161","v":"Dokončeno"},null,null,{"$f":"+'01.23'!L161","v":3}]
["2023-01-18",{"$f":"+IF('01.23'!C162=\"\",\"\",'01.23'!C162)","v":"2023-01-18"},{"$f":"IF(B161=\"\",\"\",COUNTIFS($B$3:B161,B161))","v":11},{"$f":"IF(B161=\"\",\"\",LOOKUP(B161,DataFIX!$F$3:$F$21,DataFIX!$E$3:$E$21))","v":"s"},{"$f":"IF(B161=\"\",\"\",LOOKUP(B161,DataFIX!$F$3:$F$41,DataFIX!$G$3:$G$41)+C161)","v":491},{"$f":"+'01.23'!O162","v":"11:00:00"},{"$f":"+'01.23'!E162","v":"JPSK"},{"$f":"+'01.23'!G162","v":"Legarde"},{"$f":"+'01.23'!T162","v":"Dokončeno"},null,null,{"$f":"+'01.23'!L162","v":3}]
["2023-01-18",{"$f":"+IF('01.23'!C163=\"\",\"\",'01.23'!C163)","v":"2023-01-18"},{"$f":"IF(B162=\"\",\"\",COUNTIFS($B$3:B162,B162))","v":12},{"$f":"IF(B162=\"\",\"\",LOOKUP(B162,DataFIX!$F$3:$F$21,DataFIX!$E$3:$E$21))","v":"s"},{"$f":"IF(B162=\"\",\"\",LOOKUP(B162,DataFIX!$F$3:$F$41,DataFIX!$G$3:$G$41)+C162)","v":492},{"$f":"+'01.23'!O163","v":"11:00:00"},{"$f":"+'01.23'!E163","v":"JPSK"},{"$f":"+'01.23'!G163","v":"Legarde"},{"$f":"+'01.23'!T163","v":"Dokončeno"},null,null,{"$f":"+'01.23'!L163","v":3}]
["2023-01-18",{"$f":"+IF('01.23'!C164=\"\",\"\",'01.23'!C164)","v":"2023-01-18"},{"$f":"IF(B163=\"\",\"\",COUNTIFS($B$3:B163,B163))","v":13},{"$f":"IF(B163=\"\",\"\",LOOKUP(B163,DataFIX!$F$3:$F$21,DataFIX!$E$3:$E$21))","v":"s"},{"$f":"IF(B163=\"\",\"\",LOOKUP(B163,DataFIX!$F$3:$F$41,DataFIX!$G$3:$G$41)+C163)","v":493},{"$f":"+'01.23'!O164","v":"12:35:00"},{"$f":"+'01.23'!E164","v":"PK Group"},{"$f":"+'01.23'!G164","v":"vlastní"},{"$f":"+'01.23'!T164","v":"Dokončeno"},null,null,{"$f":"+'01.23'!L164","v":1}]
["2023-01-18",{"$f":"+IF('01.23'!C165=\"\",\"\",'01.23'!C165)","v":"2023-01-18"},{"$f":"IF(B164=\"\",\"\",COUNTIFS($B$3:B164,B164))","v":14},{"$f":"IF(B164=\"\",\"\",LOOKUP(B164,DataFIX!$F$3:$F$21,DataFIX!$E$3:$E$21))","v":"s"},{"$f":"IF(B164=\"\",\"\",LOOKUP(B164,DataFIX!$F$3:$F$41,DataFIX!$G$3:$G$41)+C164)","v":494},{"$f":"+'01.23'!O165","v":"00:00:00"},{"$f":"+'01.23'!E165","v":"Walser"},{"$f":"+'01.23'!G165","v":"vlastní"},{"$f":"+'01.23'!T165","v":"Přeplánováno"},null,null,{"$f":"+'01.23'!L165","v":0}]
["2023-01-18",{"$f":"+IF('01.23'!C166=\"\",\"\",'01.23'!C166)","v":"2023-01-18"},{"$f":"IF(B165=\"\",\"\",COUNTIFS($B$3:B165,B165))","v":15},{"$f":"IF(B165=\"\",\"\",LOOKUP(B165,DataFIX!$F$3:$F$21,DataFIX!$E$3:$E$21))","v":"s"},{"$f":"IF(B165=\"\",\"\",LOOKUP(B165,DataFIX!$F$3:$F$41,DataFIX!$G$3:$G$41)+C165)","v":495},{"$f":"+'01.23'!O166","v":"00:00:00"},{"$f":"+'01.23'!E166","v":"Faurecie MB"},{"$f":"+'01.23'!G166","v":"vlastní"},{"$f":"+'01.23'!T166","v":"Dokončeno"},null,null,{"$f":"+'01.23'!L166","v":5}]
["2023-01-18",{"$f":"+IF('01.23'!C167=\"\",\"\",'01.23'!C167)","v":"2023-01-18"},{"$f":"IF(B166=\"\",\"\",COUNTIFS($B$3:B166,B166))","v":16},{"$f":"IF(B166=\"\",\"\",LOOKUP(B166,DataFIX!$F$3:$F$21,DataFIX!$E$3:$E$21))","v":"s"},{"$f":"IF(B166=\"\",\"\",LOOKUP(B166,DataFIX!$F$3:$F$41,DataFIX!$G$3:$G$41)+C166)","v":496},{"$f":"+'01.23'!O167","v":"00:00:00"},{"$f":"+'01.23'!E167","v":"Toptrans"},{"$f":"+'01.23'!G167","v":"SBS"},{"$f":"+'01.23'!T167","v":"Dokončeno"},null,null,{"$f":"+'01.23'!L167","v":1}]
["2023-01-19",{"$f":"+IF('01.23'!C168=\"\",\"\",'01.23'!C168)","v":"2023-01-19"},{"$f":"IF(B167=\"\",\"\",COUNTIFS($B$3:B167,B167))","v":1},{"$f":"IF(B167=\"\",\"\",LOOKUP(B167,DataFIX!$F$3:$F$21,DataFIX!$E$3:$E$21))","v":"č"},{"$f":"IF(B167=\"\",\"\",LOOKUP(B167,DataFIX!$F$3:$F$41,DataFIX!$G$3:$G$41)+C167)","v":511},{"$f":"+'01.23'!O168","v":"06:00:00"},{"$f":"+'01.23'!E168","v":"DF"},{"$f":"+'01.23'!G168","v":"Hroza"},{"$f":"+'01.23'!T168","v":"Zrušeno"},null,null,{"$f":"+'01.23'!L168","v":0}]
["2023-01-19",{"$f":"+IF('01.23'!C169=\"\",\"\",'01.23'!C169)","v":"2023-01-19"},{"$f":"IF(B168=\"\",\"\",COUNTIFS($B$3:B168,B168))","v":2},{"$f":"IF(B168=\"\",\"\",LOOKUP(B168,DataFIX!$F$3:$F$21,DataFIX!$E$3:$E$21))","v":"č"},{"$f":"IF(B168=\"\",\"\",LOOKUP(B168,DataFIX!$F$3:$F$41,DataFIX!$G$3:$G$41)+C168)","v":512},{"$f":"+'01.23'!O169","v":"06:05:00"},{"$f":"+'01.23'!E169","v":"Cheport"},{"$f":"+'01.23'!G169","v":"TEZET"},{"$f":"+'01.23'!T169","v":"Dokončeno"},null,null,{"$f":"+'01.23'!L169","v":2}]
["2023-01-19",{"$f":"+IF('01.23'!C170=\"\",\"\",'01.23'!C170)","v":"2023-01-19"},{"$f":"IF(B169=\"\",\"\",COUNTIFS($B$3:B169,B169))","v":3},{"$f":"IF(B169=\"\",\"\",LOOKUP(B169,DataFIX!$F$3:$F$21,DataFIX!$E$3:$E$21))","v":"č"},{"$f":"IF(B169=\"\",\"\",LOOKUP(B169,DataFIX!$F$3:$F$41,DataFIX!$G$3:$G$41)+C169)","v":513},{"$f":"+'01.23'!O170","v":"06:05:00"},{"$f":"+'01.23'!E170","v":"Alter"},{"$f":"+'01.23'!G170","v":"TEZET"},{"$f":"+'01.23'!T170","v":"Dokončeno"},null,null,{"$f":"+'01.23'!L170","v":2}]
["2023-01-19",{"$f":"+IF('01.23'!C171=\"\",\"\",'01.23'!C171)","v":"2023-01-19"},{"$f":"IF(B170=\"\",\"\",COUNTIFS($B$3:B170,B170))","v":4},{"$f":"IF(B170=\"\",\"\",LOOKUP(B170,DataFIX!$F$3:$F$21,DataFIX!$E$3:$E$21))","v":"č"},{"$f":"IF(B170=\"\",\"\",LOOKUP(B170,DataFIX!$F$3:$F$41,DataFIX!$G$3:$G$41)+C170)","v":514},{"$f":"+'01.23'!O171","v":"06:05:00"},{"$f":"+'01.23'!E171","v":"Vypl"},{"$f":"+'01.23'!G171","v":"TEZET"},{"$f":"+'01.23'!T171","v":"Dokončeno"},null,null,{"$f":"+'01.23'!L171","v":1}]
["2023-01-19",{"$f":"+IF('01.23'!C172=\"\",\"\",'01.23'!C172)","v":"2023-01-19"},{"$f":"IF(B171=\"\",\"\",COUNTIFS($B$3:B171,B171))","v":5},{"$f":"IF(B171=\"\",\"\",LOOKUP(B171,DataFIX!$F$3:$F$21,DataFIX!$E$3:$E$21))","v":"č"},{"$f":"IF(B171=\"\",\"\",LOOKUP(B171,DataFIX!$F$3:$F$41,DataFIX!$G$3:$G$41)+C171)","v":515},{"$f":"+'01.23'!O172","v":"06:05:00"},{"$f":"+'01.23'!E172","v":"VYPL"},{"$f":"+'01.23'!G172","v":"TEZET"},{"$f":"+'01.23'!T172","v":"Dokončeno"},null,null,{"$f":"+'01.23'!L172","v":3}]
["2023-01-19",{"$f":"+IF('01.23'!C173=\"\",\"\",'01.23'!C173)","v":"2023-01-19"},{"$f":"IF(B172=\"\",\"\",COUNTIFS($B$3:B172,B172))","v":6},{"$f":"IF(B172=\"\",\"\",LOOKUP(B172,DataFIX!$F$3:$F$21,DataFIX!$E$3:$E$21))","v":"č"},{"$f":"IF(B172=\"\",\"\",LOOKUP(B172,DataFIX!$F$3:$F$41,DataFIX!$G$3:$G$41)+C172)","v":516},{"$f":"+'01.23'!O173","v":"06:05:00"},{"$f":"+'01.23'!E173","v":"Via-Rek"},{"$f":"+'01.23'!G173","v":"Hroza"},{"$f":"+'01.23'!T173","v":"Dokončeno"},null,null,{"$f":"+'01.23'!L173","v":3}]
["2023-01-19",{"$f":"+IF('01.23'!C174=\"\",\"\",'01.23'!C174)","v":"2023-01-19"},{"$f":"IF(B173=\"\",\"\",COUNTIFS($B$3:B173,B173))","v":7},{"$f":"IF(B173=\"\",\"\",LOOKUP(B173,DataFIX!$F$3:$F$21,DataFIX!$E$3:$E$21))","v":"č"},{"$f":"IF(B173=\"\",\"\",LOOKUP(B173,DataFIX!$F$3:$F$41,DataFIX!$G$3:$G$41)+C173)","v":517},{"$f":"+'01.23'!O174","v":"06:30:00"},{"$f":"+'01.23'!E174","v":"Antolin"},{"$f":"+'01.23'!G174","v":"vlastní"},{"$f":"+'01.23'!T174","v":"Dokončeno"},null,null,{"$f":"+'01.23'!L174","v":3}]
["2023-01-19",{"$f":"+IF('01.23'!C175=\"\",\"\",'01.23'!C175)","v":"2023-01-19"},{"$f":"IF(B174=\"\",\"\",COUNTIFS($B$3:B174,B174))","v":8},{"$f":"IF(B174=\"\",\"\",LOOKUP(B174,DataFIX!$F$3:$F$21,DataFIX!$E$3:$E$21))","v":"č"},{"$f":"IF(B174=\"\",\"\",LOOKUP(B174,DataFIX!$F$3:$F$41,DataFIX!$G$3:$G$41)+C174)","v":518},{"$f":"+'01.23'!O175","v":"07:00:00"},{"$f":"+'01.23'!E175","v":"Bartosz Ratuski"},{"$f":"+'01.23'!G175","v":"vlastní"},{"$f":"+'01.23'!T175","v":"Dokončeno"},null,null,{"$f":"+'01.23'!L175","v":3}]
["2023-01-19",{"$f":"+IF('01.23'!C176=\"\",\"\",'01.23'!C176)","v":"2023-01-19"},{"$f":"IF(B175=\"\",\"\",COUNTIFS($B$3:B175,B175))","v":9},{"$f":"IF(B175=\"\",\"\",LOOKUP(B175,DataFIX!$F$3:$F$21,DataFIX!$E$3:$E$21))","v":"č"},{"$f":"IF(B175=\"\",\"\",LOOKUP(B175,DataFIX!$F$3:$F$41,DataFIX!$G$3:$G$41)+C175)","v":519},{"$f":"+'01.23'!O176","v":"08:35:00"},{"$f":"+'01.23'!E176","v":"Belshima"},{"$f":"+'01.23'!G176","v":"vlastní"},{"$f":"+'01.23'!T176","v":"Dokončeno"},null,null,{"$f":"+'01.23'!L176","v":5}]
["2023-01-19",{"$f":"+IF('01.23'!C177=\"\",\"\",'01.23'!C177)","v":"2023-01-19"},{"$f":"IF(B176=\"\",\"\",COUNTIFS($B$3:B176,B176))","v":10},{"$f":"IF(B176=\"\",\"\",LOOKUP(B176,DataFIX!$F$3:$F$21,DataFIX!$E$3:$E$21))","v":"č"},{"$f":"IF(B176=\"\",\"\",LOOKUP(B176,DataFIX!$F$3:$F$41,DataFIX!$G$3:$G$41)+C176)","v":520},{"$f":"+'01.23'!O177","v":"09:30:00"},{"$f":"+'01.23'!E177","v":"Model Obaly"},{"$f":"+'01.23'!G177","v":"vlastní"},{"$f":"+'01.23'!T177","v":"Dokončeno"},null,null,{"$f":"+'01.23'!L177","v":2}]
["2023-01-19",{"$f":"+IF('01.23'!C178=\"\",\"\",'01.23'!C178)","v":"2023-01-19"},{"$f":"IF(B177=\"\",\"\",COUNTIFS($B$3:B177,B177))","v":11},{"$f":"IF(B177=\"\",\"\",LOOKUP(B177,DataFIX!$F$3:$F$21,DataFIX!$E$3:$E$21))","v":"č"},{"$f":"IF(B177=\"\",\"\",LOOKUP(B177,DataFIX!$F$3:$F$41,DataFIX!$G$3:$G$41)+C177)","v":521},{"$f":"+'01.23'!O178","v":"10:30:00"},{"$f":"+'01.23'!E178","v":"TBA"},{"$f":"+'01.23'!G178","v":"vlastní"},{"$f":"+'01.23'!T178","v":"Dokončeno"},null,null,{"$f":"+'01.23'!L178","v":3}]
["2023-01-19",{"$f":"+IF('01.23'!C179=\"\",\"\",'01.23'!C179)","v":"2023-01-19"},{"$f":"IF(B178=\"\",\"\",COUNTIFS($B$3:B178,B178))","v":12},{"$f":"IF(B178=\"\",\"\",LOOKUP(B178,DataFIX!$F$3:$F$21,DataFIX!$E$3:$E$21))","v":"č"},{"$f":"IF(B178=\"\",\"\",LOOKUP(B178,DataFIX!$F$3:$F$41,DataFIX!$G$3:$G$41)+C178)","v":522},{"$f":"+'01.23'!O179","v":"10:30:00"},{"$f":"+'01.23'!E179","v":"TBA"},{"$f":"+'01.23'!G179","v":"vlastní"},{"$f":"+'01.23'!T179","v":"Dokončeno"},null,null,{"$f":"+'01.23'!L179","v":3}]
["2023-01-19",{"$f":"+IF('01.23'!C180=\"\",\"\",'01.23'!C180)","v":"2023-01-19"},{"$f":"IF(B179=\"\",\"\",COUNTIFS($B$3:B179,B179))","v":13},{"$f":"IF(B179=\"\",\"\",LOOKUP(B179,DataFIX!$F$3:$F$21,DataFIX!$E$3:$E$21))","v":"č"},{"$f":"IF(B179=\"\",\"\",LOOKUP(B179,DataFIX!$F$3:$F$41,DataFIX!$G$3:$G$41)+C179)","v":523},{"$f":"+'01.23'!O180","v":"10:30:00"},{"$f":"+'01.23'!E180","v":"TBA"},{"$f":"+'01.23'!G180","v":"vlastní"},{"$f":"+'01.23'!T180","v":"Dokončeno"},null,null,{"$f":"+'01.23'!L180","v":2}]
["2023-01-19",{"$f":"+IF('01.23'!C181=\"\",\"\",'01.23'!C181)","v":"2023-01-19"},{"$f":"IF(B180=\"\",\"\",COUNTIFS($B$3:B180,B180))","v":14},{"$f":"IF(B180=\"\",\"\",LOOKUP(B180,DataFIX!$F$3:$F$21,DataFIX!$E$3:$E$21))","v":"č"},{"$f":"IF(B180=\"\",\"\",LOOKUP(B180,DataFIX!$F$3:$F$41,DataFIX!$G$3:$G$41)+C180)","v":524},{"$f":"+'01.23'!O181","v":"11:30:00"},{"$f":"+'01.23'!E181","v":"Filmer"},{"$f":"+'01.23'!G181","v":"Ewals"},{"$f":"+'01.23'!T181","v":"Dokončeno"},null,null,{"$f":"+'01.23'!L181","v":4}]
["2023-01-19",{"$f":"+IF('01.23'!C182=\"\",\"\",'01.23'!C182)","v":"2023-01-19"},{"$f":"IF(B181=\"\",\"\",COUNTIFS($B$3:B181,B181))","v":15},{"$f":"IF(B181=\"\",\"\",LOOKUP(B181,DataFIX!$F$3:$F$21,DataFIX!$E$3:$E$21))","v":"č"},{"$f":"IF(B181=\"\",\"\",LOOKUP(B181,DataFIX!$F$3:$F$41,DataFIX!$G$3:$G$41)+C181)","v":525},{"$f":"+'01.23'!O182","v":"11:30:00"},{"$f":"+'01.23'!E182","v":"Sedasport"},{"$f":"+'01.23'!G182","v":"vlastní"},{"$f":"+'01.23'!T182","v":"Dokončeno"},null,null,{"$f":"+'01.23'!L182","v":4}]
["2023-01-19",{"$f":"+IF('01.23'!C183=\"\",\"\",'01.23'!C183)","v":"2023-01-19"},{"$f":"IF(B182=\"\",\"\",COUNTIFS($B$3:B182,B182))","v":16},{"$f":"IF(B182=\"\",\"\",LOOKUP(B182,DataFIX!$F$3:$F$21,DataFIX!$E$3:$E$21))","v":"č"},{"$f":"IF(B182=\"\",\"\",LOOKUP(B182,DataFIX!$F$3:$F$41,DataFIX!$G$3:$G$41)+C182)","v":526},{"$f":"+'01.23'!O183","v":"12:00:00"},{"$f":"+'01.23'!E183","v":"Novato"},{"$f":"+'01.23'!G183","v":"Toptrans-vlastní"},{"$f":"+'01.23'!T183","v":"Dokončeno"},null,null,{"$f":"+'01.23'!L183","v":1}]
["2023-01-19",{"$f":"+IF('01.23'!C184=\"\",\"\",'01.23'!C184)","v":"2023-01-19"},{"$f":"IF(B183=\"\",\"\",COUNTIFS($B$3:B183,B183))","v":17},{"$f":"IF(B183=\"\",\"\",LOOKUP(B183,DataFIX!$F$3:$F$21,DataFIX!$E$3:$E$21))","v":"č"},{"$f":"IF(B183=\"\",\"\",LOOKUP(B183,DataFIX!$F$3:$F$41,DataFIX!$G$3:$G$41)+C183)","v":527},{"$f":"+'01.23'!O184","v":"13:15:00"},{"$f":"+'01.23'!E184","v":"PK Group"},{"$f":"+'01.23'!G184","v":"vlastní"},{"$f":"+'01.23'!T184","v":"Dokončeno"},null,null,{"$f":"+'01.23'!L184","v":3}]
["2023-01-19",{"$f":"+IF('01.23'!C185=\"\",\"\",'01.23'!C185)","v":"2023-01-19"},{"$f":"IF(B184=\"\",\"\",COUNTIFS($B$3:B184,B184))","v":18},{"$f":"IF(B184=\"\",\"\",LOOKUP(B184,DataFIX!$F$3:$F$21,DataFIX!$E$3:$E$21))","v":"č"},{"$f":"IF(B184=\"\",\"\",LOOKUP(B184,DataFIX!$F$3:$F$41,DataFIX!$G$3:$G$41)+C184)","v":528},{"$f":"+'01.23'!O185","v":"00:00:00"},{"$f":"+'01.23'!E185","v":"Faurecie MB"},{"$f":"+'01.23'!G185","v":"vlastní"},{"$f":"+'01.23'!T185","v":"Dokončeno"},null,null,{"$f":"+'01.23'!L185","v":5}]
["2023-01-19",{"$f":"+IF('01.23'!C186=\"\",\"\",'01.23'!C186)","v":"2023-01-19"},{"$f":"IF(B185=\"\",\"\",COUNTIFS($B$3:B185,B185))","v":19},{"$f":"IF(B185=\"\",\"\",LOOKUP(B185,DataFIX!$F$3:$F$21,DataFIX!$E$3:$E$21))","v":"č"},{"$f":"IF(B185=\"\",\"\",LOOKUP(B185,DataFIX!$F$3:$F$41,DataFIX!$G$3:$G$41)+C185)","v":529},{"$f":"+'01.23'!O186","v":"00:00:00"},{"$f":"+'01.23'!E186","v":"T-Net"},{"$f":"+'01.23'!G186","v":"MSB"},{"$f":"+'01.23'!T186","v":"Dokončeno"},null,null,{"$f":"+'01.23'!L186","v":3}]
["2023-01-19",{"$f":"+IF('01.23'!C187=\"\",\"\",'01.23'!C187)","v":"2023-01-19"},{"$f":"IF(B186=\"\",\"\",COUNTIFS($B$3:B186,B186))","v":20},{"$f":"IF(B186=\"\",\"\",LOOKUP(B186,DataFIX!$F$3:$F$21,DataFIX!$E$3:$E$21))","v":"č"},{"$f":"IF(B186=\"\",\"\",LOOKUP(B186,DataFIX!$F$3:$F$41,DataFIX!$G$3:$G$41)+C186)","v":530},{"$f":"+'01.23'!O187","v":"00:00:00"},{"$f":"+'01.23'!E187","v":"Toptrans"},{"$f":"+'01.23'!G187","v":"SBS"},{"$f":"+'01.23'!T187","v":"Dokončeno"},null,null,{"$f":"+'01.23'!L187","v":1}]
["2023-01-19",{"$f":"+IF('01.23'!C188=\"\",\"\",'01.23'!C188)","v":"2023-01-19"},{"$f":"IF(B187=\"\",\"\",COUNTIFS($B$3:B187,B187))","v":21},{"$f":"IF(B187=\"\",\"\",LOOKUP(B187,DataFIX!$F$3:$F$21,DataFIX!$E$3:$E$21))","v":"č"},{"$f":"IF(B187=\"\",\"\",LOOKUP(B187,DataFIX!$F$3:$F$41,DataFIX!$G$3:$G$41)+C187)","v":531},{"$f":"+'01.23'!O188","v":"00:00:00"},{"$f":"+'01.23'!E188","v":"GEFCO"},{"$f":"+'01.23'!G188","v":"vlastní"},{"$f":"+'01.23'!T188","v":"Dokončeno"},null,null,{"$f":"+'01.23'!L188","v":1}]
["2023-01-20",{"$f":"+IF('01.23'!C189=\"\",\"\",'01.23'!C189)","v":"2023-01-20"},{"$f":"IF(B188=\"\",\"\",COUNTIFS($B$3:B188,B188))","v":1},{"$f":"IF(B188=\"\",\"\",LOOKUP(B188,DataFIX!$F$3:$F$21,DataFIX!$E$3:$E$21))","v":"p"},{"$f":"IF(B188=\"\",\"\",LOOKUP(B188,DataFIX!$F$3:$F$41,DataFIX!$G$3:$G$41)+C188)","v":541},{"$f":"+'01.23'!O189","v":"06:05:00"},{"$f":"+'01.23'!E189","v":"Atotech"},{"$f":"+'01.23'!G189","v":"TEZET"},{"$f":"+'01.23'!T189","v":"Dokončeno"},null,null,{"$f":"+'01.23'!L189","v":3}]
["2023-01-20",{"$f":"+IF('01.23'!C190=\"\",\"\",'01.23'!C190)","v":"2023-01-20"},{"$f":"IF(B189=\"\",\"\",COUNTIFS($B$3:B189,B189))","v":2},{"$f":"IF(B189=\"\",\"\",LOOKUP(B189,DataFIX!$F$3:$F$21,DataFIX!$E$3:$E$21))","v":"p"},{"$f":"IF(B189=\"\",\"\",LOOKUP(B189,DataFIX!$F$3:$F$41,DataFIX!$G$3:$G$41)+C189)","v":542},{"$f":"+'01.23'!O190","v":"06:30:00"},{"$f":"+'01.23'!E190","v":"OZAS-ESAB"},{"$f":"+'01.23'!G190","v":"Scheker"},{"$f":"+'01.23'!T190","v":"Dokončeno"},null,null,{"$f":"+'01.23'!L190","v":1}]
["2023-01-20",{"$f":"+IF('01.23'!C191=\"\",\"\",'01.23'!C191)","v":"2023-01-20"},{"$f":"IF(B190=\"\",\"\",COUNTIFS($B$3:B190,B190))","v":3},{"$f":"IF(B190=\"\",\"\",LOOKUP(B190,DataFIX!$F$3:$F$21,DataFIX!$E$3:$E$21))","v":"p"},{"$f":"IF(B190=\"\",\"\",LOOKUP(B190,DataFIX!$F$3:$F$41,DataFIX!$G$3:$G$41)+C190)","v":543},{"$f":"+'01.23'!O191","v":"07:45:00"},{"$f":"+'01.23'!E191","v":"Milan Michalec"},{"$f":"+'01.23'!G191","v":"vlastní"},{"$f":"+'01.23'!T191","v":"Dokončeno"},null,null,{"$f":"+'01.23'!L191","v":2}]
["2023-01-20",{"$f":"+IF('01.23'!C192=\"\",\"\",'01.23'!C192)","v":"2023-01-20"},{"$f":"IF(B191=\"\",\"\",COUNTIFS($B$3:B191,B191))","v":4},{"$f":"IF(B191=\"\",\"\",LOOKUP(B191,DataFIX!$F$3:$F$21,DataFIX!$E$3:$E$21))","v":"p"},{"$f":"IF(B191=\"\",\"\",LOOKUP(B191,DataFIX!$F$3:$F$41,DataFIX!$G$3:$G$41)+C191)","v":544},{"$f":"+'01.23'!O192","v":"08:00:00"},{"$f":"+'01.23'!E192","v":"T-Net"},{"$f":"+'01.23'!G192","v":"Legarde"},{"$f":"+'01.23'!T192","v":"Dokončeno"},null,null,{"$f":"+'01.23'!L192","v":1}]
["2023-01-20",{"$f":"+IF('01.23'!C193=\"\",\"\",'01.23'!C193)","v":"2023-01-20"},{"$f":"IF(B192=\"\",\"\",COUNTIFS($B$3:B192,B192))","v":5},{"$f":"IF(B192=\"\",\"\",LOOKUP(B192,DataFIX!$F$3:$F$21,DataFIX!$E$3:$E$21))","v":"p"},{"$f":"IF(B192=\"\",\"\",LOOKUP(B192,DataFIX!$F$3:$F$41,DataFIX!$G$3:$G$41)+C192)","v":545},{"$f":"+'01.23'!O193","v":"10:00:00"},{"$f":"+'01.23'!E193","v":"KOVA"},{"$f":"+'01.23'!G193","v":"Joppa"},{"$f":"+'01.23'!T193","v":"Dokončeno"},null,null,{"$f":"+'01.23'!L193","v":3}]
["2023-01-20",{"$f":"+IF('01.23'!C194=\"\",\"\",'01.23'!C194)","v":"2023-01-20"},{"$f":"IF(B193=\"\",\"\",COUNTIFS($B$3:B193,B193))","v":6},{"$f":"IF(B193=\"\",\"\",LOOKUP(B193,DataFIX!$F$3:$F$21,DataFIX!$E$3:$E$21))","v":"p"},{"$f":"IF(B193=\"\",\"\",LOOKUP(B193,DataFIX!$F$3:$F$41,DataFIX!$G$3:$G$41)+C193)","v":546},{"$f":"+'01.23'!O194","v":"11:00:00"},{"$f":"+'01.23'!E194","v":"TBA"},{"$f":"+'01.23'!G194","v":"vlastní"},{"$f":"+'01.23'!T194","v":"Dokončeno"},null,null,{"$f":"+'01.23'!L194","v":2}]
["2023-01-20",{"$f":"+IF('01.23'!C195=\"\",\"\",'01.23'!C195)","v":"2023-01-20"},{"$f":"IF(B194=\"\",\"\",COUNTIFS($B$3:B194,B194))","v":7},{"$f":"IF(B194=\"\",\"\",LOOKUP(B194,DataFIX!$F$3:$F$21,DataFIX!$E$3:$E$21))","v":"p"},{"$f":"IF(B194=\"\",\"\",LOOKUP(B194,DataFIX!$F$3:$F$41,DataFIX!$G$3:$G$41)+C194)","v":547},{"$f":"+'01.23'!O195","v":"13:00:00"},{"$f":"+'01.23'!E195","v":"M.A.T."},{"$f":"+'01.23'!G195","v":"AK Servis"},{"$f":"+'01.23'!T195","v":"Dokončeno"},null,null,{"$f":"+'01.23'!L195","v":2}]
["2023-01-20",{"$f":"+IF('01.23'!C196=\"\",\"\",'01.23'!C196)","v":"2023-01-20"},{"$f":"IF(B195=\"\",\"\",COUNTIFS($B$3:B195,B195))","v":8},{"$f":"IF(B195=\"\",\"\",LOOKUP(B195,DataFIX!$F$3:$F$21,DataFIX!$E$3:$E$21))","v":"p"},{"$f":"IF(B195=\"\",\"\",LOOKUP(B195,DataFIX!$F$3:$F$41,DataFIX!$G$3:$G$41)+C195)","v":548},{"$f":"+'01.23'!O196","v":"13:30:00"},{"$f":"+'01.23'!E196","v":"Těsmat"},{"$f":"+'01.23'!G196","v":"vlastní"},{"$f":"+'01.23'!T196","v":"Dokončeno"},null,null,{"$f":"+'01.23'!L196","v":2}]
[{"$f":"+B196","v":"2023-01-20"},{"$f":"+IF('01.23'!C197=\"\",\"\",'01.23'!C197)","v":"2023-01-20"},{"$f":"IF(B196=\"\",\"\",COUNTIFS($B$3:B196,B196))","v":9},{"$f":"IF(B196=\"\",\"\",LOOKUP(B196,DataFIX!$F$3:$F$21,DataFIX!$E$3:$E$21))","v":"p"},{"$f":"IF(B196=\"\",\"\",LOOKUP(B196,DataFIX!$F$3:$F$41,DataFIX!$G$3:$G$41)+C196)","v":549},{"$f":"+'01.23'!O197","v":"00:00:00"},{"$f":"+'01.23'!E197","v":"Faurecie BOB"},{"$f":"+'01.23'!G197","v":"FEDEX"},{"$f":"+'01.23'!T197","v":"Dokončeno"},null,null,{"$f":"+'01.23'!L197","v":2}]
["2023-01-20",{"$f":"+IF('01.23'!C198=\"\",\"\",'01.23'!C198)","v":"2023-01-20"},{"$f":"IF(B197=\"\",\"\",COUNTIFS($B$3:B197,B197))","v":10},{"$f":"IF(B197=\"\",\"\",LOOKUP(B197,DataFIX!$F$3:$F$21,DataFIX!$E$3:$E$21))","v":"p"},{"$f":"IF(B197=\"\",\"\",LOOKUP(B197,DataFIX!$F$3:$F$41,DataFIX!$G$3:$G$41)+C197)","v":550},{"$f":"+'01.23'!O198","v":"00:00:00"},{"$f":"+'01.23'!E198","v":"T-Net"},{"$f":"+'01.23'!G198","v":"MSB"},{"$f":"+'01.23'!T198","v":"Dokončeno"},null,null,{"$f":"+'01.23'!L198","v":4}]
["2023-01-20",{"$f":"+IF('01.23'!C199=\"\",\"\",'01.23'!C199)","v":"2023-01-20"},{"$f":"IF(B198=\"\",\"\",COUNTIFS($B$3:B198,B198))","v":11},{"$f":"IF(B198=\"\",\"\",LOOKUP(B198,DataFIX!$F$3:$F$21,DataFIX!$E$3:$E$21))","v":"p"},{"$f":"IF(B198=\"\",\"\",LOOKUP(B198,DataFIX!$F$3:$F$41,DataFIX!$G$3:$G$41)+C198)","v":551},{"$f":"+'01.23'!O199","v":"00:00:00"},{"$f":"+'01.23'!E199","v":"T-Net"},{"$f":"+'01.23'!G199","v":"vlastní"},{"$f":"+'01.23'!T199","v":"Dokončeno"},null,null,{"$f":"+'01.23'!L199","v":1}]
["2023-01-23",{"$f":"+IF('01.23'!C200=\"\",\"\",'01.23'!C200)","v":"2023-01-23"},{"$f":"IF(B199=\"\",\"\",COUNTIFS($B$3:B199,B199))","v":1},{"$f":"IF(B199=\"\",\"\",LOOKUP(B199,DataFIX!$F$3:$F$21,DataFIX!$E$3:$E$21))","v":"p"},{"$f":"IF(B199=\"\",\"\",LOOKUP(B199,DataFIX!$F$3:$F$41,DataFIX!$G$3:$G$41)+C199)","v":631},{"$f":"+'01.23'!O200","v":"06:00:00"},{"$f":"+'01.23'!E200","v":"DF"},{"$f":"+'01.23'!G200","v":"Hroza"},{"$f":"+'01.23'!T200","v":"Dokončeno"},null,null,{"$f":"+'01.23'!L200","v":2}]
["2023-01-23",{"$f":"+IF('01.23'!C201=\"\",\"\",'01.23'!C201)","v":"2023-01-23"},{"$f":"IF(B200=\"\",\"\",COUNTIFS($B$3:B200,B200))","v":2},{"$f":"IF(B200=\"\",\"\",LOOKUP(B200,DataFIX!$F$3:$F$21,DataFIX!$E$3:$E$21))","v":"p"},{"$f":"IF(B200=\"\",\"\",LOOKUP(B200,DataFIX!$F$3:$F$41,DataFIX!$G$3:$G$41)+C200)","v":632},{"$f":"+'01.23'!O201","v":"06:05:00"},{"$f":"+'01.23'!E201","v":"Cheport"},{"$f":"+'01.23'!G201","v":"TEZET"},{"$f":"+'01.23'!T201","v":"Dokončeno"},null,null,{"$f":"+'01.23'!L201","v":3}]
["2023-01-23",{"$f":"+IF('01.23'!C202=\"\",\"\",'01.23'!C202)","v":"2023-01-23"},{"$f":"IF(B201=\"\",\"\",COUNTIFS($B$3:B201,B201))","v":3},{"$f":"IF(B201=\"\",\"\",LOOKUP(B201,DataFIX!$F$3:$F$21,DataFIX!$E$3:$E$21))","v":"p"},{"$f":"IF(B201=\"\",\"\",LOOKUP(B201,DataFIX!$F$3:$F$41,DataFIX!$G$3:$G$41)+C201)","v":633},{"$f":"+'01.23'!O202","v":"06:05:00"},{"$f":"+'01.23'!E202","v":"DF"},{"$f":"+'01.23'!G202","v":"SBS"},{"$f":"+'01.23'!T202","v":"Dokončeno"},null,null,{"$f":"+'01.23'!L202","v":1}]
["2023-01-23",{"$f":"+IF('01.23'!C203=\"\",\"\",'01.23'!C203)","v":"2023-01-23"},{"$f":"IF(B202=\"\",\"\",COUNTIFS($B$3:B202,B202))","v":4},{"$f":"IF(B202=\"\",\"\",LOOKUP(B202,DataFIX!$F$3:$F$21,DataFIX!$E$3:$E$21))","v":"p"},{"$f":"IF(B202=\"\",\"\",LOOKUP(B202,DataFIX!$F$3:$F$41,DataFIX!$G$3:$G$41)+C202)","v":634},{"$f":"+'01.23'!O203","v":"06:10:00"},{"$f":"+'01.23'!E203","v":"GLS"},{"$f":"+'01.23'!G203","v":"SBS"},{"$f":"+'01.23'!T203","v":"Dokončeno"},null,null,{"$f":"+'01.23'!L203","v":1}]
["2023-01-23",{"$f":"+IF('01.23'!C204=\"\",\"\",'01.23'!C204)","v":"2023-01-23"},{"$f":"IF(B203=\"\",\"\",COUNTIFS($B$3:B203,B203))","v":5},{"$f":"IF(B203=\"\",\"\",LOOKUP(B203,DataFIX!$F$3:$F$21,DataFIX!$E$3:$E$21))","v":"p"},{"$f":"IF(B203=\"\",\"\",LOOKUP(B203,DataFIX!$F$3:$F$41,DataFIX!$G$3:$G$41)+C203)","v":635},{"$f":"+'01.23'!O204","v":"07:35:00"},{"$f":"+'01.23'!E204","v":"Karel Turek"},{"$f":"+'01.23'!G204","v":"vlastní"},{"$f":"+'01.23'!T204","v":"Dokončeno"},null,null,{"$f":"+'01.23'!L204","v":1}]
["2023-01-23",{"$f":"+IF('01.23'!C205=\"\",\"\",'01.23'!C205)","v":"2023-01-23"},{"$f":"IF(B204=\"\",\"\",COUNTIFS($B$3:B204,B204))","v":6},{"$f":"IF(B204=\"\",\"\",LOOKUP(B204,DataFIX!$F$3:$F$21,DataFIX!$E$3:$E$21))","v":"p"},{"$f":"IF(B204=\"\",\"\",LOOKUP(B204,DataFIX!$F$3:$F$41,DataFIX!$G$3:$G$41)+C204)","v":636},{"$f":"+'01.23'!O205","v":"08:00:00"},{"$f":"+'01.23'!E205","v":"Garsys"},{"$f":"+'01.23'!G205","v":"vlastní"},{"$f":"+'01.23'!T205","v":"Dokončeno"},null,null,{"$f":"+'01.23'!L205","v":3}]
["2023-01-23",{"$f":"+IF('01.23'!C206=\"\",\"\",'01.23'!C206)","v":"2023-01-23"},{"$f":"IF(B205=\"\",\"\",COUNTIFS($B$3:B205,B205))","v":7},{"$f":"IF(B205=\"\",\"\",LOOKUP(B205,DataFIX!$F$3:$F$21,DataFIX!$E$3:$E$21))","v":"p"},{"$f":"IF(B205=\"\",\"\",LOOKUP(B205,DataFIX!$F$3:$F$41,DataFIX!$G$3:$G$41)+C205)","v":637},{"$f":"+'01.23'!O206","v":"08:00:00"},{"$f":"+'01.23'!E206","v":"Model Obaly"},{"$f":"+'01.23'!G206","v":"vlastní"},{"$f":"+'01.23'!T206","v":"Dokončeno"},null,null,{"$f":"+'01.23'!L206","v":2}]
["2023-01-23",{"$f":"+IF('01.23'!C207=\"\",\"\",'01.23'!C207)","v":"2023-01-23"},{"$f":"IF(B206=\"\",\"\",COUNTIFS($B$3:B206,B206))","v":8},{"$f":"IF(B206=\"\",\"\",LOOKUP(B206,DataFIX!$F$3:$F$21,DataFIX!$E$3:$E$21))","v":"p"},{"$f":"IF(B206=\"\",\"\",LOOKUP(B206,DataFIX!$F$3:$F$41,DataFIX!$G$3:$G$41)+C206)","v":638},{"$f":"+'01.23'!O207","v":"10:00:00"},{"$f":"+'01.23'!E207","v":"Groshandel"},{"$f":"+'01.23'!G207","v":"Ewals"},{"$f":"+'01.23'!T207","v":"Dokončeno"},null,null,{"$f":"+'01.23'!L207","v":4}]
["2023-01-23",{"$f":"+IF('01.23'!C208=\"\",\"\",'01.23'!C208)","v":"2023-01-23"},{"$f":"IF(B207=\"\",\"\",COUNTIFS($B$3:B207,B207))","v":9},{"$f":"IF(B207=\"\",\"\",LOOKUP(B207,DataFIX!$F$3:$F$21,DataFIX!$E$3:$E$21))","v":"p"},{"$f":"IF(B207=\"\",\"\",LOOKUP(B207,DataFIX!$F$3:$F$41,DataFIX!$G$3:$G$41)+C207)","v":639},{"$f":"+'01.23'!O208","v":"10:00:00"},{"$f":"+'01.23'!E208","v":"Saint-gobein"},{"$f":"+'01.23'!G208","v":"vlastní"},{"$f":"+'01.23'!T208","v":"Dokončeno"},null,null,{"$f":"+'01.23'!L208","v":1}]
["2023-01-23",{"$f":"+IF('01.23'!C209=\"\",\"\",'01.23'!C209)","v":"2023-01-23"},{"$f":"IF(B208=\"\",\"\",COUNTIFS($B$3:B208,B208))","v":10},{"$f":"IF(B208=\"\",\"\",LOOKUP(B208,DataFIX!$F$3:$F$21,DataFIX!$E$3:$E$21))","v":"p"},{"$f":"IF(B208=\"\",\"\",LOOKUP(B208,DataFIX!$F$3:$F$41,DataFIX!$G$3:$G$41)+C208)","v":640},{"$f":"+'01.23'!O209","v":"11:00:00"},{"$f":"+'01.23'!E209","v":"Groshandel"},{"$f":"+'01.23'!G209","v":"Ewals"},{"$f":"+'01.23'!T209","v":"Dokončeno"},null,null,{"$f":"+'01.23'!L209","v":4}]
["2023-01-23",{"$f":"+IF('01.23'!C210=\"\",\"\",'01.23'!C210)","v":"2023-01-23"},{"$f":"IF(B209=\"\",\"\",COUNTIFS($B$3:B209,B209))","v":11},{"$f":"IF(B209=\"\",\"\",LOOKUP(B209,DataFIX!$F$3:$F$21,DataFIX!$E$3:$E$21))","v":"p"},{"$f":"IF(B209=\"\",\"\",LOOKUP(B209,DataFIX!$F$3:$F$41,DataFIX!$G$3:$G$41)+C209)","v":641},{"$f":"+'01.23'!O210","v":"11:20:00"},{"$f":"+'01.23'!E210","v":"Flexfill"},{"$f":"+'01.23'!G210","v":"Interkontakt"},{"$f":"+'01.23'!T210","v":"Dokončeno"},null,null,{"$f":"+'01.23'!L210","v":3}]
["2023-01-23",{"$f":"+IF('01.23'!C211=\"\",\"\",'01.23'!C211)","v":"2023-01-23"},{"$f":"IF(B210=\"\",\"\",COUNTIFS($B$3:B210,B210))","v":12},{"$f":"IF(B210=\"\",\"\",LOOKUP(B210,DataFIX!$F$3:$F$21,DataFIX!$E$3:$E$21))","v":"p"},{"$f":"IF(B210=\"\",\"\",LOOKUP(B210,DataFIX!$F$3:$F$41,DataFIX!$G$3:$G$41)+C210)","v":642},{"$f":"+'01.23'!O211","v":"11:30:00"},{"$f":"+'01.23'!E211","v":"T-Net"},{"$f":"+'01.23'!G211","v":"MSB"},{"$f":"+'01.23'!T211","v":"Dokončeno"},null,null,{"$f":"+'01.23'!L211","v":5}]
["2023-01-23",{"$f":"+IF('01.23'!C212=\"\",\"\",'01.23'!C212)","v":"2023-01-23"},{"$f":"IF(B211=\"\",\"\",COUNTIFS($B$3:B211,B211))","v":13},{"$f":"IF(B211=\"\",\"\",LOOKUP(B211,DataFIX!$F$3:$F$21,DataFIX!$E$3:$E$21))","v":"p"},{"$f":"IF(B211=\"\",\"\",LOOKUP(B211,DataFIX!$F$3:$F$41,DataFIX!$G$3:$G$41)+C211)","v":643},{"$f":"+'01.23'!O212","v":"12:00:00"},{"$f":"+'01.23'!E212","v":"T-Net"},{"$f":"+'01.23'!G212","v":"MSB"},{"$f":"+'01.23'!T212","v":"Dokončeno"},null,null,{"$f":"+'01.23'!L212","v":2}]
["2023-01-23",{"$f":"+IF('01.23'!C213=\"\",\"\",'01.23'!C213)","v":"2023-01-23"},{"$f":"IF(B212=\"\",\"\",COUNTIFS($B$3:B212,B212))","v":14},{"$f":"IF(B212=\"\",\"\",LOOKUP(B212,DataFIX!$F$3:$F$21,DataFIX!$E$3:$E$21))","v":"p"},{"$f":"IF(B212=\"\",\"\",LOOKUP(B212,DataFIX!$F$3:$F$41,DataFIX!$G$3:$G$41)+C212)","v":644},{"$f":"+'01.23'!O213","v":"12:00:00"},{"$f":"+'01.23'!E213","v":"Santal"},{"$f":"+'01.23'!G213","v":"vlastní"},{"$f":"+'01.23'!T213","v":"Dokončeno"},null,null,{"$f":"+'01.23'!L213","v":1}]
["2023-01-23",{"$f":"+IF('01.23'!C214=\"\",\"\",'01.23'!C214)","v":"2023-01-23"},{"$f":"IF(B213=\"\",\"\",COUNTIFS($B$3:B213,B213))","v":15},{"$f":"IF(B213=\"\",\"\",LOOKUP(B213,DataFIX!$F$3:$F$21,DataFIX!$E$3:$E$21))","v":"p"},{"$f":"IF(B213=\"\",\"\",LOOKUP(B213,DataFIX!$F$3:$F$41,DataFIX!$G$3:$G$41)+C213)","v":645},{"$f":"+'01.23'!O214","v":"12:00:00"},{"$f":"+'01.23'!E214","v":"Vinařský dům"},{"$f":"+'01.23'!G214","v":"vlastní"},{"$f":"+'01.23'!T214","v":"Dokončeno"},null,null,{"$f":"+'01.23'!L214","v":1}]
["2023-01-23",{"$f":"+IF('01.23'!C215=\"\",\"\",'01.23'!C215)","v":"2023-01-23"},{"$f":"IF(B214=\"\",\"\",COUNTIFS($B$3:B214,B214))","v":16},{"$f":"IF(B214=\"\",\"\",LOOKUP(B214,DataFIX!$F$3:$F$21,DataFIX!$E$3:$E$21))","v":"p"},{"$f":"IF(B214=\"\",\"\",LOOKUP(B214,DataFIX!$F$3:$F$41,DataFIX!$G$3:$G$41)+C214)","v":646},{"$f":"+'01.23'!O215","v":"12:10:00"},{"$f":"+'01.23'!E215","v":"Klofáč"},{"$f":"+'01.23'!G215","v":"vlastní"},{"$f":"+'01.23'!T215","v":"Dokončeno"},null,null,{"$f":"+'01.23'!L215","v":2}]
["2023-01-23",{"$f":"+IF('01.23'!C216=\"\",\"\",'01.23'!C216)","v":"2023-01-23"},{"$f":"IF(B215=\"\",\"\",COUNTIFS($B$3:B215,B215))","v":17},{"$f":"IF(B215=\"\",\"\",LOOKUP(B215,DataFIX!$F$3:$F$21,DataFIX!$E$3:$E$21))","v":"p"},{"$f":"IF(B215=\"\",\"\",LOOKUP(B215,DataFIX!$F$3:$F$41,DataFIX!$G$3:$G$41)+C215)","v":647},{"$f":"+'01.23'!O216","v":"12:30:00"},{"$f":"+'01.23'!E216","v":"T-Net"},{"$f":"+'01.23'!G216","v":"MSB"},{"$f":"+'01.23'!T216","v":"Dokončeno"},null,null,{"$f":"+'01.23'!L216","v":4}]
["2023-01-23",{"$f":"+IF('01.23'!C217=\"\",\"\",'01.23'!C217)","v":"2023-01-23"},{"$f":"IF(B216=\"\",\"\",COUNTIFS($B$3:B216,B216))","v":18},{"$f":"IF(B216=\"\",\"\",LOOKUP(B216,DataFIX!$F$3:$F$21,DataFIX!$E$3:$E$21))","v":"p"},{"$f":"IF(B216=\"\",\"\",LOOKUP(B216,DataFIX!$F$3:$F$41,DataFIX!$G$3:$G$41)+C216)","v":648},{"$f":"+'01.23'!O217","v":"13:00:00"},{"$f":"+'01.23'!E217","v":"TBA/TEVA"},{"$f":"+'01.23'!G217","v":"TOPTRANS"},{"$f":"+'01.23'!T217","v":"Dokončeno"},null,null,{"$f":"+'01.23'!L217","v":1}]
["2023-01-23",{"$f":"+IF('01.23'!C218=\"\",\"\",'01.23'!C218)","v":"2023-01-23"},{"$f":"IF(B217=\"\",\"\",COUNTIFS($B$3:B217,B217))","v":19},{"$f":"IF(B217=\"\",\"\",LOOKUP(B217,DataFIX!$F$3:$F$21,DataFIX!$E$3:$E$21))","v":"p"},{"$f":"IF(B217=\"\",\"\",LOOKUP(B217,DataFIX!$F$3:$F$41,DataFIX!$G$3:$G$41)+C217)","v":649},{"$f":"+'01.23'!O218","v":"00:00:00"},{"$f":"+'01.23'!E218","v":"Faurecie "},{"$f":"+'01.23'!G218","v":"vlastní"},{"$f":"+'01.23'!T218","v":"Dokončeno"},null,null,{"$f":"+'01.23'!L218","v":1}]
["2023-01-23",{"$f":"+IF('01.23'!C219=\"\",\"\",'01.23'!C219)","v":"2023-01-23"},{"$f":"IF(B218=\"\",\"\",COUNTIFS($B$3:B218,B218))","v":20},{"$f":"IF(B218=\"\",\"\",LOOKUP(B218,DataFIX!$F$3:$F$21,DataFIX!$E$3:$E$21))","v":"p"},{"$f":"IF(B218=\"\",\"\",LOOKUP(B218,DataFIX!$F$3:$F$41,DataFIX!$G$3:$G$41)+C218)","v":650},{"$f":"+'01.23'!O219","v":"00:00:00"},{"$f":"+'01.23'!E219","v":"Filmer"},{"$f":"+'01.23'!G219","v":"Ewals"},{"$f":"+'01.23'!T219","v":"Dokončeno"},null,null,{"$f":"+'01.23'!L219","v":4}]
["2023-01-24",{"$f":"+IF('01.23'!C220=\"\",\"\",'01.23'!C220)","v":"2023-01-24"},{"$f":"IF(B219=\"\",\"\",COUNTIFS($B$3:B219,B219))","v":1},{"$f":"IF(B219=\"\",\"\",LOOKUP(B219,DataFIX!$F$3:$F$21,DataFIX!$E$3:$E$21))","v":"p"},{"$f":"IF(B219=\"\",\"\",LOOKUP(B219,DataFIX!$F$3:$F$41,DataFIX!$G$3:$G$41)+C219)","v":661},{"$f":"+'01.23'!O220","v":"06:00:00"},{"$f":"+'01.23'!E220","v":"DF"},{"$f":"+'01.23'!G220","v":"Hroza "},{"$f":"+'01.23'!T220","v":"Dokončeno"},null,null,{"$f":"+'01.23'!L220","v":2}]
["2023-01-24",{"$f":"+IF('01.23'!C221=\"\",\"\",'01.23'!C221)","v":"2023-01-24"},{"$f":"IF(B220=\"\",\"\",COUNTIFS($B$3:B220,B220))","v":2},{"$f":"IF(B220=\"\",\"\",LOOKUP(B220,DataFIX!$F$3:$F$21,DataFIX!$E$3:$E$21))","v":"p"},{"$f":"IF(B220=\"\",\"\",LOOKUP(B220,DataFIX!$F$3:$F$41,DataFIX!$G$3:$G$41)+C220)","v":662},{"$f":"+'01.23'!O221","v":"06:05:00"},{"$f":"+'01.23'!E221","v":"Spolek pro chem."},{"$f":"+'01.23'!G221","v":"TEZET"},{"$f":"+'01.23'!T221","v":"Dokončeno"},null,null,{"$f":"+'01.23'!L221","v":2}]
["2023-01-24",{"$f":"+IF('01.23'!C222=\"\",\"\",'01.23'!C222)","v":"2023-01-24"},{"$f":"IF(B221=\"\",\"\",COUNTIFS($B$3:B221,B221))","v":3},{"$f":"IF(B221=\"\",\"\",LOOKUP(B221,DataFIX!$F$3:$F$21,DataFIX!$E$3:$E$21))","v":"p"},{"$f":"IF(B221=\"\",\"\",LOOKUP(B221,DataFIX!$F$3:$F$41,DataFIX!$G$3:$G$41)+C221)","v":663},{"$f":"+'01.23'!O222","v":"06:05:00"},{"$f":"+'01.23'!E222","v":"Zeelandia"},{"$f":"+'01.23'!G222","v":"TEZET"},{"$f":"+'01.23'!T222","v":"Dokončeno"},null,null,{"$f":"+'01.23'!L222","v":2}]
["2023-01-24",{"$f":"+IF('01.23'!C223=\"\",\"\",'01.23'!C223)","v":"2023-01-24"},{"$f":"IF(B222=\"\",\"\",COUNTIFS($B$3:B222,B222))","v":4},{"$f":"IF(B222=\"\",\"\",LOOKUP(B222,DataFIX!$F$3:$F$21,DataFIX!$E$3:$E$21))","v":"p"},{"$f":"IF(B222=\"\",\"\",LOOKUP(B222,DataFIX!$F$3:$F$41,DataFIX!$G$3:$G$41)+C222)","v":664},{"$f":"+'01.23'!O223","v":"06:30:00"},{"$f":"+'01.23'!E223","v":"Antolin"},{"$f":"+'01.23'!G223","v":"vlastní"},{"$f":"+'01.23'!T223","v":"Dokončeno"},null,null,{"$f":"+'01.23'!L223","v":3}]
["2023-01-24",{"$f":"+IF('01.23'!C224=\"\",\"\",'01.23'!C224)","v":"2023-01-24"},{"$f":"IF(B223=\"\",\"\",COUNTIFS($B$3:B223,B223))","v":5},{"$f":"IF(B223=\"\",\"\",LOOKUP(B223,DataFIX!$F$3:$F$21,DataFIX!$E$3:$E$21))","v":"p"},{"$f":"IF(B223=\"\",\"\",LOOKUP(B223,DataFIX!$F$3:$F$41,DataFIX!$G$3:$G$41)+C223)","v":665},{"$f":"+'01.23'!O224","v":"06:30:00"},{"$f":"+'01.23'!E224","v":"Filmer"},{"$f":"+'01.23'!G224","v":"JF LOG"},{"$f":"+'01.23'!T224","v":"Dokončeno"},null,null,{"$f":"+'01.23'!L224","v":4}]
["2023-01-24",{"$f":"+IF('01.23'!C225=\"\",\"\",'01.23'!C225)","v":"2023-01-24"},{"$f":"IF(B224=\"\",\"\",COUNTIFS($B$3:B224,B224))","v":6},{"$f":"IF(B224=\"\",\"\",LOOKUP(B224,DataFIX!$F$3:$F$21,DataFIX!$E$3:$E$21))","v":"p"},{"$f":"IF(B224=\"\",\"\",LOOKUP(B224,DataFIX!$F$3:$F$41,DataFIX!$G$3:$G$41)+C224)","v":666},{"$f":"+'01.23'!O225","v":"08:30:00"},{"$f":"+'01.23'!E225","v":"Model Obaly"},{"$f":"+'01.23'!G225","v":"vlastní"},{"$f":"+'01.23'!T225","v":"Dokončeno"},null,null,{"$f":"+'01.23'!L225","v":2}]
["2023-01-24",{"$f":"+IF('01.23'!C226=\"\",\"\",'01.23'!C226)","v":"2023-01-24"},{"$f":"IF(B225=\"\",\"\",COUNTIFS($B$3:B225,B225))","v":7},{"$f":"IF(B225=\"\",\"\",LOOKUP(B225,DataFIX!$F$3:$F$21,DataFIX!$E$3:$E$21))","v":"p"},{"$f":"IF(B225=\"\",\"\",LOOKUP(B225,DataFIX!$F$3:$F$41,DataFIX!$G$3:$G$41)+C225)","v":667},{"$f":"+'01.23'!O226","v":"10:00:00"},{"$f":"+'01.23'!E226","v":"Carrier"},{"$f":"+'01.23'!G226","v":"vlastní"},{"$f":"+'01.23'!T226","v":"Dokončeno"},null,null,{"$f":"+'01.23'!L226","v":1}]
["2023-01-24",{"$f":"+IF('01.23'!C227=\"\",\"\",'01.23'!C227)","v":"2023-01-24"},{"$f":"IF(B226=\"\",\"\",COUNTIFS($B$3:B226,B226))","v":8},{"$f":"IF(B226=\"\",\"\",LOOKUP(B226,DataFIX!$F$3:$F$21,DataFIX!$E$3:$E$21))","v":"p"},{"$f":"IF(B226=\"\",\"\",LOOKUP(B226,DataFIX!$F$3:$F$41,DataFIX!$G$3:$G$41)+C226)","v":668},{"$f":"+'01.23'!O227","v":"10:00:00"},{"$f":"+'01.23'!E227","v":"TBA"},{"$f":"+'01.23'!G227","v":"vlastní"},{"$f":"+'01.23'!T227","v":"Dokončeno"},null,null,{"$f":"+'01.23'!L227","v":3}]
["2023-01-24",{"$f":"+IF('01.23'!C228=\"\",\"\",'01.23'!C228)","v":"2023-01-24"},{"$f":"IF(B227=\"\",\"\",COUNTIFS($B$3:B227,B227))","v":9},{"$f":"IF(B227=\"\",\"\",LOOKUP(B227,DataFIX!$F$3:$F$21,DataFIX!$E$3:$E$21))","v":"p"},{"$f":"IF(B227=\"\",\"\",LOOKUP(B227,DataFIX!$F$3:$F$41,DataFIX!$G$3:$G$41)+C227)","v":669},{"$f":"+'01.23'!O228","v":"10:30:00"},{"$f":"+'01.23'!E228","v":"M.A.T."},{"$f":"+'01.23'!G228","v":"AK Servis"},{"$f":"+'01.23'!T228","v":"Dokončeno"},null,null,{"$f":"+'01.23'!L228","v":4}]
["2023-01-24",{"$f":"+IF('01.23'!C229=\"\",\"\",'01.23'!C229)","v":"2023-01-24"},{"$f":"IF(B228=\"\",\"\",COUNTIFS($B$3:B228,B228))","v":10},{"$f":"IF(B228=\"\",\"\",LOOKUP(B228,DataFIX!$F$3:$F$21,DataFIX!$E$3:$E$21))","v":"p"},{"$f":"IF(B228=\"\",\"\",LOOKUP(B228,DataFIX!$F$3:$F$41,DataFIX!$G$3:$G$41)+C228)","v":670},{"$f":"+'01.23'!O229","v":"11:30:00"},{"$f":"+'01.23'!E229","v":"Flexfill"},{"$f":"+'01.23'!G229","v":"Interkontakt"},{"$f":"+'01.23'!T229","v":"Dokončeno"},null,null,{"$f":"+'01.23'!L229","v":3}]
["2023-01-24",{"$f":"+IF('01.23'!C230=\"\",\"\",'01.23'!C230)","v":"2023-01-24"},{"$f":"IF(B229=\"\",\"\",COUNTIFS($B$3:B229,B229))","v":11},{"$f":"IF(B229=\"\",\"\",LOOKUP(B229,DataFIX!$F$3:$F$21,DataFIX!$E$3:$E$21))","v":"p"},{"$f":"IF(B229=\"\",\"\",LOOKUP(B229,DataFIX!$F$3:$F$41,DataFIX!$G$3:$G$41)+C229)","v":671},{"$f":"+'01.23'!O230","v":"13:30:00"},{"$f":"+'01.23'!E230","v":"Těsmat"},{"$f":"+'01.23'!G230","v":"vlastní "},{"$f":"+'01.23'!T230","v":"Dokončeno"},null,null,{"$f":"+'01.23'!L230","v":2}]
["2023-01-24",{"$f":"+IF('01.23'!C231=\"\",\"\",'01.23'!C231)","v":"2023-01-24"},{"$f":"IF(B230=\"\",\"\",COUNTIFS($B$3:B230,B230))","v":12},{"$f":"IF(B230=\"\",\"\",LOOKUP(B230,DataFIX!$F$3:$F$21,DataFIX!$E$3:$E$21))","v":"p"},{"$f":"IF(B230=\"\",\"\",LOOKUP(B230,DataFIX!$F$3:$F$41,DataFIX!$G$3:$G$41)+C230)","v":672},{"$f":"+'01.23'!O231","v":"14:00:00"},{"$f":"+'01.23'!E231","v":"Faurecie PCE"},{"$f":"+'01.23'!G231","v":"vlastní"},{"$f":"+'01.23'!T231","v":"Dokončeno"},null,null,{"$f":"+'01.23'!L231","v":1}]
["2023-01-24",{"$f":"+IF('01.23'!C232=\"\",\"\",'01.23'!C232)","v":"2023-01-24"},{"$f":"IF(B231=\"\",\"\",COUNTIFS($B$3:B231,B231))","v":13},{"$f":"IF(B231=\"\",\"\",LOOKUP(B231,DataFIX!$F$3:$F$21,DataFIX!$E$3:$E$21))","v":"p"},{"$f":"IF(B231=\"\",\"\",LOOKUP(B231,DataFIX!$F$3:$F$41,DataFIX!$G$3:$G$41)+C231)","v":673},{"$f":"+'01.23'!O232","v":"00:00:00"},{"$f":"+'01.23'!E232","v":"FIlmer"},{"$f":"+'01.23'!G232","v":"Ewals"},{"$f":"+'01.23'!T232","v":"Dokončeno"},null,null,{"$f":"+'01.23'!L232","v":4}]
["2023-01-24",{"$f":"+IF('01.23'!C233=\"\",\"\",'01.23'!C233)","v":"2023-01-24"},{"$f":"IF(B232=\"\",\"\",COUNTIFS($B$3:B232,B232))","v":14},{"$f":"IF(B232=\"\",\"\",LOOKUP(B232,DataFIX!$F$3:$F$21,DataFIX!$E$3:$E$21))","v":"p"},{"$f":"IF(B232=\"\",\"\",LOOKUP(B232,DataFIX!$F$3:$F$41,DataFIX!$G$3:$G$41)+C232)","v":674},{"$f":"+'01.23'!O233","v":"00:00:00"},{"$f":"+'01.23'!E233","v":"Faurecie MB"},{"$f":"+'01.23'!G233","v":"vlastní"},{"$f":"+'01.23'!T233","v":"Dokončeno"},null,null,{"$f":"+'01.23'!L233","v":5}]
["2023-01-24",{"$f":"+IF('01.23'!C234=\"\",\"\",'01.23'!C234)","v":"2023-01-24"},{"$f":"IF(B233=\"\",\"\",COUNTIFS($B$3:B233,B233))","v":15},{"$f":"IF(B233=\"\",\"\",LOOKUP(B233,DataFIX!$F$3:$F$21,DataFIX!$E$3:$E$21))","v":"p"},{"$f":"IF(B233=\"\",\"\",LOOKUP(B233,DataFIX!$F$3:$F$41,DataFIX!$G$3:$G$41)+C233)","v":675},{"$f":"+'01.23'!O234","v":"00:00:00"},{"$f":"+'01.23'!E234","v":"Toptrans"},{"$f":"+'01.23'!G234","v":"SBS"},{"$f":"+'01.23'!T234","v":"Dokončeno"},null,null,{"$f":"+'01.23'!L234","v":1}]
["2023-01-24",{"$f":"+IF('01.23'!C235=\"\",\"\",'01.23'!C235)","v":"2023-01-24"},{"$f":"IF(B234=\"\",\"\",COUNTIFS($B$3:B234,B234))","v":16},{"$f":"IF(B234=\"\",\"\",LOOKUP(B234,DataFIX!$F$3:$F$21,DataFIX!$E$3:$E$21))","v":"p"},{"$f":"IF(B234=\"\",\"\",LOOKUP(B234,DataFIX!$F$3:$F$41,DataFIX!$G$3:$G$41)+C234)","v":676},{"$f":"+'01.23'!O235","v":"00:00:00"},{"$f":"+'01.23'!E235","v":"PK Group "},{"$f":"+'01.23'!G235","v":"vlastní"},{"$f":"+'01.23'!T235","v":"Dokončeno"},null,null,{"$f":"+'01.23'!L235","v":1}]
["2023-01-25",{"$f":"+IF('01.23'!C236=\"\",\"\",'01.23'!C236)","v":"2023-01-25"},{"$f":"IF(B235=\"\",\"\",COUNTIFS($B$3:B235,B235))","v":1},{"$f":"IF(B235=\"\",\"\",LOOKUP(B235,DataFIX!$F$3:$F$21,DataFIX!$E$3:$E$21))","v":"p"},{"$f":"IF(B235=\"\",\"\",LOOKUP(B235,DataFIX!$F$3:$F$41,DataFIX!$G$3:$G$41)+C235)","v":691},{"$f":"+'01.23'!O236","v":"06:00:00"},{"$f":"+'01.23'!E236","v":"DF"},{"$f":"+'01.23'!G236","v":"Hroza"},{"$f":"+'01.23'!T236","v":"Dokončeno"},null,null,{"$f":"+'01.23'!L236","v":2}]
["2023-01-25",{"$f":"+IF('01.23'!C237=\"\",\"\",'01.23'!C237)","v":"2023-01-25"},{"$f":"IF(B236=\"\",\"\",COUNTIFS($B$3:B236,B236))","v":2},{"$f":"IF(B236=\"\",\"\",LOOKUP(B236,DataFIX!$F$3:$F$21,DataFIX!$E$3:$E$21))","v":"p"},{"$f":"IF(B236=\"\",\"\",LOOKUP(B236,DataFIX!$F$3:$F$41,DataFIX!$G$3:$G$41)+C236)","v":692},{"$f":"+'01.23'!O237","v":"06:05:00"},{"$f":"+'01.23'!E237","v":"OMA CZ"},{"$f":"+'01.23'!G237","v":"TEZET"},{"$f":"+'01.23'!T237","v":"Dokončeno"},null,null,{"$f":"+'01.23'!L237","v":3}]
["2023-01-25",{"$f":"+IF('01.23'!C238=\"\",\"\",'01.23'!C238)","v":"2023-01-25"},{"$f":"IF(B237=\"\",\"\",COUNTIFS($B$3:B237,B237))","v":3},{"$f":"IF(B237=\"\",\"\",LOOKUP(B237,DataFIX!$F$3:$F$21,DataFIX!$E$3:$E$21))","v":"p"},{"$f":"IF(B237=\"\",\"\",LOOKUP(B237,DataFIX!$F$3:$F$41,DataFIX!$G$3:$G$41)+C237)","v":693},{"$f":"+'01.23'!O238","v":"06:05:00"},{"$f":"+'01.23'!E238","v":"Huka stores"},{"$f":"+'01.23'!G238","v":"TEZET"},{"$f":"+'01.23'!T238","v":"Dokončeno"},null,null,{"$f":"+'01.23'!L238","v":3}]
["2023-01-25",{"$f":"+IF('01.23'!C239=\"\",\"\",'01.23'!C239)","v":"2023-01-25"},{"$f":"IF(B238=\"\",\"\",COUNTIFS($B$3:B238,B238))","v":4},{"$f":"IF(B238=\"\",\"\",LOOKUP(B238,DataFIX!$F$3:$F$21,DataFIX!$E$3:$E$21))","v":"p"},{"$f":"IF(B238=\"\",\"\",LOOKUP(B238,DataFIX!$F$3:$F$41,DataFIX!$G$3:$G$41)+C238)","v":694},{"$f":"+'01.23'!O239","v":"10:00:00"},{"$f":"+'01.23'!E239","v":"TBA"},{"$f":"+'01.23'!G239","v":"vlastní"},{"$f":"+'01.23'!T239","v":"Dokončeno"},null,null,{"$f":"+'01.23'!L239","v":3}]
["2023-01-25",{"$f":"+IF('01.23'!C240=\"\",\"\",'01.23'!C240)","v":"2023-01-25"},{"$f":"IF(B239=\"\",\"\",COUNTIFS($B$3:B239,B239))","v":5},{"$f":"IF(B239=\"\",\"\",LOOKUP(B239,DataFIX!$F$3:$F$21,DataFIX!$E$3:$E$21))","v":"p"},{"$f":"IF(B239=\"\",\"\",LOOKUP(B239,DataFIX!$F$3:$F$41,DataFIX!$G$3:$G$41)+C239)","v":695},{"$f":"+'01.23'!O240","v":"11:30:00"},{"$f":"+'01.23'!E240","v":"JPSK"},{"$f":"+'01.23'!G240","v":"Legarde"},{"$f":"+'01.23'!T240","v":"Dokončeno"},null,null,{"$f":"+'01.23'!L240","v":3}]
["2023-01-25",{"$f":"+IF('01.23'!C241=\"\",\"\",'01.23'!C241)","v":"2023-01-25"},{"$f":"IF(B240=\"\",\"\",COUNTIFS($B$3:B240,B240))","v":6},{"$f":"IF(B240=\"\",\"\",LOOKUP(B240,DataFIX!$F$3:$F$21,DataFIX!$E$3:$E$21))","v":"p"},{"$f":"IF(B240=\"\",\"\",LOOKUP(B240,DataFIX!$F$3:$F$41,DataFIX!$G$3:$G$41)+C240)","v":696},{"$f":"+'01.23'!O241","v":"11:30:00"},{"$f":"+'01.23'!E241","v":"JPSK"},{"$f":"+'01.23'!G241","v":"Legarde"},{"$f":"+'01.23'!T241","v":"Dokončeno"},null,null,{"$f":"+'01.23'!L241","v":3}]
["2023-01-25",{"$f":"+IF('01.23'!C242=\"\",\"\",'01.23'!C242)","v":"2023-01-25"},{"$f":"IF(B241=\"\",\"\",COUNTIFS($B$3:B241,B241))","v":7},{"$f":"IF(B241=\"\",\"\",LOOKUP(B241,DataFIX!$F$3:$F$21,DataFIX!$E$3:$E$21))","v":"p"},{"$f":"IF(B241=\"\",\"\",LOOKUP(B241,DataFIX!$F$3:$F$41,DataFIX!$G$3:$G$41)+C241)","v":697},{"$f":"+'01.23'!O242","v":"12:00:00"},{"$f":"+'01.23'!E242","v":"Faurecie MB"},{"$f":"+'01.23'!G242","v":"vlastní"},{"$f":"+'01.23'!T242","v":"Dokončeno"},null,null,{"$f":"+'01.23'!L242","v":5}]
["2023-01-25",{"$f":"+IF('01.23'!C243=\"\",\"\",'01.23'!C243)","v":"2023-01-25"},{"$f":"IF(B242=\"\",\"\",COUNTIFS($B$3:B242,B242))","v":8},{"$f":"IF(B242=\"\",\"\",LOOKUP(B242,DataFIX!$F$3:$F$21,DataFIX!$E$3:$E$21))","v":"p"},{"$f":"IF(B242=\"\",\"\",LOOKUP(B242,DataFIX!$F$3:$F$41,DataFIX!$G$3:$G$41)+C242)","v":698},{"$f":"+'01.23'!O243","v":"12:30:00"},{"$f":"+'01.23'!E243","v":"Faurecie HLO"},{"$f":"+'01.23'!G243","v":"vlastní"},{"$f":"+'01.23'!T243","v":"Dokončeno"},null,null,{"$f":"+'01.23'!L243","v":1}]
["2023-01-25",{"$f":"+IF('01.23'!C244=\"\",\"\",'01.23'!C244)","v":"2023-01-25"},{"$f":"IF(B243=\"\",\"\",COUNTIFS($B$3:B243,B243))","v":9},{"$f":"IF(B243=\"\",\"\",LOOKUP(B243,DataFIX!$F$3:$F$21,DataFIX!$E$3:$E$21))","v":"p"},{"$f":"IF(B243=\"\",\"\",LOOKUP(B243,DataFIX!$F$3:$F$41,DataFIX!$G$3:$G$41)+C243)","v":699},{"$f":"+'01.23'!O244","v":"00:00:00"},{"$f":"+'01.23'!E244","v":"Walser"},{"$f":"+'01.23'!G244","v":"Schenker"},{"$f":"+'01.23'!T244","v":"Dokončeno"},null,null,{"$f":"+'01.23'!L244","v":2}]
["2023-01-25",{"$f":"+IF('01.23'!C245=\"\",\"\",'01.23'!C245)","v":"2023-01-25"},{"$f":"IF(B244=\"\",\"\",COUNTIFS($B$3:B244,B244))","v":10},{"$f":"IF(B244=\"\",\"\",LOOKUP(B244,DataFIX!$F$3:$F$21,DataFIX!$E$3:$E$21))","v":"p"},{"$f":"IF(B244=\"\",\"\",LOOKUP(B244,DataFIX!$F$3:$F$41,DataFIX!$G$3:$G$41)+C244)","v":700},{"$f":"+'01.23'!O245","v":"00:00:00"},{"$f":"+'01.23'!E245","v":"Walser"},{"$f":"+'01.23'!G245","v":"Schenker"},{"$f":"+'01.23'!T245","v":"Dokončeno"},null,null,{"$f":"+'01.23'!L245","v":3}]
["2023-01-25",{"$f":"+IF('01.23'!C246=\"\",\"\",'01.23'!C246)","v":"2023-01-25"},{"$f":"IF(B245=\"\",\"\",COUNTIFS($B$3:B245,B245))","v":11},{"$f":"IF(B245=\"\",\"\",LOOKUP(B245,DataFIX!$F$3:$F$21,DataFIX!$E$3:$E$21))","v":"p"},{"$f":"IF(B245=\"\",\"\",LOOKUP(B245,DataFIX!$F$3:$F$41,DataFIX!$G$3:$G$41)+C245)","v":701},{"$f":"+'01.23'!O246","v":"00:00:00"},{"$f":"+'01.23'!E246","v":"Toptrans"},{"$f":"+'01.23'!G246","v":"SBS"},{"$f":"+'01.23'!T246","v":"Dokončeno"},null,null,{"$f":"+'01.23'!L246","v":1}]
["2023-01-25",{"$f":"+IF('01.23'!C247=\"\",\"\",'01.23'!C247)","v":"2023-01-25"},{"$f":"IF(B246=\"\",\"\",COUNTIFS($B$3:B246,B246))","v":12},{"$f":"IF(B246=\"\",\"\",LOOKUP(B246,DataFIX!$F$3:$F$21,DataFIX!$E$3:$E$21))","v":"p"},{"$f":"IF(B246=\"\",\"\",LOOKUP(B246,DataFIX!$F$3:$F$41,DataFIX!$G$3:$G$41)+C246)","v":702},{"$f":"+'01.23'!O247","v":"00:00:00"},{"$f":"+'01.23'!E247","v":"GLS"},{"$f":"+'01.23'!G247","v":"SBS"},{"$f":"+'01.23'!T247","v":"Dokončeno"},null,null,{"$f":"+'01.23'!L247","v":1}]
["2023-01-25",{"$f":"+IF('01.23'!C248=\"\",\"\",'01.23'!C248)","v":"2023-01-25"},{"$f":"IF(B247=\"\",\"\",COUNTIFS($B$3:B247,B247))","v":13},{"$f":"IF(B247=\"\",\"\",LOOKUP(B247,DataFIX!$F$3:$F$21,DataFIX!$E$3:$E$21))","v":"p"},{"$f":"IF(B247=\"\",\"\",LOOKUP(B247,DataFIX!$F$3:$F$41,DataFIX!$G$3:$G$41)+C247)","v":703},{"$f":"+'01.23'!O248","v":"00:00:00"},{"$f":"+'01.23'!E248","v":"Pallets of Production"},{"$f":"+'01.23'!G248","v":"vlastní"},{"$f":"+'01.23'!T248","v":"Dokončeno"},null,null,{"$f":"+'01.23'!L248","v":2}]
["2023-01-25",{"$f":"+IF('01.23'!C249=\"\",\"\",'01.23'!C249)","v":"2023-01-25"},{"$f":"IF(B248=\"\",\"\",COUNTIFS($B$3:B248,B248))","v":14},{"$f":"IF(B248=\"\",\"\",LOOKUP(B248,DataFIX!$F$3:$F$21,DataFIX!$E$3:$E$21))","v":"p"},{"$f":"IF(B248=\"\",\"\",LOOKUP(B248,DataFIX!$F$3:$F$41,DataFIX!$G$3:$G$41)+C248)","v":704},{"$f":"+'01.23'!O249","v":"00:00:00"},{"$f":"+'01.23'!E249","v":"Gefco"},{"$f":"+'01.23'!G249","v":"vlastní"},{"$f":"+'01.23'!T249","v":"Dokončeno"},null,null,{"$f":"+'01.23'!L249","v":1}]
["2023-01-25",{"$f":"+IF('01.23'!C250=\"\",\"\",'01.23'!C250)","v":"2023-01-25"},{"$f":"IF(B249=\"\",\"\",COUNTIFS($B$3:B249,B249))","v":15},{"$f":"IF(B249=\"\",\"\",LOOKUP(B249,DataFIX!$F$3:$F$21,DataFIX!$E$3:$E$21))","v":"p"},{"$f":"IF(B249=\"\",\"\",LOOKUP(B249,DataFIX!$F$3:$F$41,DataFIX!$G$3:$G$41)+C249)","v":705},{"$f":"+'01.23'!O250","v":"00:00:00"},{"$f":"+'01.23'!E250","v":"nové EUR pal."},{"$f":"+'01.23'!G250","v":"PKGROUP"},{"$f":"+'01.23'!T250","v":"Dokončeno"},null,null,{"$f":"+'01.23'!L250","v":3}]
["2023-01-26",{"$f":"+IF('01.23'!C251=\"\",\"\",'01.23'!C251)","v":"2023-01-26"},{"$f":"IF(B250=\"\",\"\",COUNTIFS($B$3:B250,B250))","v":1},{"$f":"IF(B250=\"\",\"\",LOOKUP(B250,DataFIX!$F$3:$F$21,DataFIX!$E$3:$E$21))","v":"p"},{"$f":"IF(B250=\"\",\"\",LOOKUP(B250,DataFIX!$F$3:$F$41,DataFIX!$G$3:$G$41)+C250)","v":721},{"$f":"+'01.23'!O251","v":"06:00:00"},{"$f":"+'01.23'!E251","v":"DF"},{"$f":"+'01.23'!G251","v":"Horza"},{"$f":"+'01.23'!T251","v":"Dokončeno"},null,null,{"$f":"+'01.23'!L251","v":2}]
["2023-01-26",{"$f":"+IF('01.23'!C252=\"\",\"\",'01.23'!C252)","v":"2023-01-26"},{"$f":"IF(B251=\"\",\"\",COUNTIFS($B$3:B251,B251))","v":2},{"$f":"IF(B251=\"\",\"\",LOOKUP(B251,DataFIX!$F$3:$F$21,DataFIX!$E$3:$E$21))","v":"p"},{"$f":"IF(B251=\"\",\"\",LOOKUP(B251,DataFIX!$F$3:$F$41,DataFIX!$G$3:$G$41)+C251)","v":722},{"$f":"+'01.23'!O252","v":"06:00:00"},{"$f":"+'01.23'!E252","v":"Luve"},{"$f":"+'01.23'!G252","v":"Hroza "},{"$f":"+'01.23'!T252","v":"Dokončeno"},null,null,{"$f":"+'01.23'!L252","v":5}]
["2023-01-26",{"$f":"+IF('01.23'!C253=\"\",\"\",'01.23'!C253)","v":"2023-01-26"},{"$f":"IF(B252=\"\",\"\",COUNTIFS($B$3:B252,B252))","v":3},{"$f":"IF(B252=\"\",\"\",LOOKUP(B252,DataFIX!$F$3:$F$21,DataFIX!$E$3:$E$21))","v":"p"},{"$f":"IF(B252=\"\",\"\",LOOKUP(B252,DataFIX!$F$3:$F$41,DataFIX!$G$3:$G$41)+C252)","v":723},{"$f":"+'01.23'!O253","v":"06:05:00"},{"$f":"+'01.23'!E253","v":"Chepot"},{"$f":"+'01.23'!G253","v":"TEZET"},{"$f":"+'01.23'!T253","v":"Dokončeno"},null,null,{"$f":"+'01.23'!L253","v":3}]
["2023-01-26",{"$f":"+IF('01.23'!C254=\"\",\"\",'01.23'!C254)","v":"2023-01-26"},{"$f":"IF(B253=\"\",\"\",COUNTIFS($B$3:B253,B253))","v":4},{"$f":"IF(B253=\"\",\"\",LOOKUP(B253,DataFIX!$F$3:$F$21,DataFIX!$E$3:$E$21))","v":"p"},{"$f":"IF(B253=\"\",\"\",LOOKUP(B253,DataFIX!$F$3:$F$41,DataFIX!$G$3:$G$41)+C253)","v":724},{"$f":"+'01.23'!O254","v":"06:30:00"},{"$f":"+'01.23'!E254","v":"Antolin"},{"$f":"+'01.23'!G254","v":"vlastní"},{"$f":"+'01.23'!T254","v":"Dokončeno"},null,null,{"$f":"+'01.23'!L254","v":3}]
["2023-01-26",{"$f":"+IF('01.23'!C255=\"\",\"\",'01.23'!C255)","v":"2023-01-26"},{"$f":"IF(B254=\"\",\"\",COUNTIFS($B$3:B254,B254))","v":5},{"$f":"IF(B254=\"\",\"\",LOOKUP(B254,DataFIX!$F$3:$F$21,DataFIX!$E$3:$E$21))","v":"p"},{"$f":"IF(B254=\"\",\"\",LOOKUP(B254,DataFIX!$F$3:$F$41,DataFIX!$G$3:$G$41)+C254)","v":725},{"$f":"+'01.23'!O255","v":"06:30:00"},{"$f":"+'01.23'!E255","v":"Slovakia Trend"},{"$f":"+'01.23'!G255","v":"vlastní"},{"$f":"+'01.23'!T255","v":"Dokončeno"},null,null,{"$f":"+'01.23'!L255","v":3}]
["2023-01-26",{"$f":"+IF('01.23'!C256=\"\",\"\",'01.23'!C256)","v":"2023-01-26"},{"$f":"IF(B255=\"\",\"\",COUNTIFS($B$3:B255,B255))","v":6},{"$f":"IF(B255=\"\",\"\",LOOKUP(B255,DataFIX!$F$3:$F$21,DataFIX!$E$3:$E$21))","v":"p"},{"$f":"IF(B255=\"\",\"\",LOOKUP(B255,DataFIX!$F$3:$F$41,DataFIX!$G$3:$G$41)+C255)","v":726},{"$f":"+'01.23'!O256","v":"10:00:00"},{"$f":"+'01.23'!E256","v":"Carrier-Maurice"},{"$f":"+'01.23'!G256","v":"vlastní"},{"$f":"+'01.23'!T256","v":"Dokončeno"},null,null,{"$f":"+'01.23'!L256","v":1}]
["2023-01-26",{"$f":"+IF('01.23'!C257=\"\",\"\",'01.23'!C257)","v":"2023-01-26"},{"$f":"IF(B256=\"\",\"\",COUNTIFS($B$3:B256,B256))","v":7},{"$f":"IF(B256=\"\",\"\",LOOKUP(B256,DataFIX!$F$3:$F$21,DataFIX!$E$3:$E$21))","v":"p"},{"$f":"IF(B256=\"\",\"\",LOOKUP(B256,DataFIX!$F$3:$F$41,DataFIX!$G$3:$G$41)+C256)","v":727},{"$f":"+'01.23'!O257","v":"10:00:00"},{"$f":"+'01.23'!E257","v":"Beskydská Likérka  vlastní "},{"$f":"+'01.23'!G257","v":0},{"$f":"+'01.23'!T257","v":"Dokončeno"},null,null,{"$f":"+'01.23'!L257","v":1}]
["2023-01-26",{"$f":"+IF('01.23'!C258=\"\",\"\",'01.23'!C258)","v":"2023-01-26"},{"$f":"IF(B257=\"\",\"\",COUNTIFS($B$3:B257,B257))","v":8},{"$f":"IF(B257=\"\",\"\",LOOKUP(B257,DataFIX!$F$3:$F$21,DataFIX!$E$3:$E$21))","v":"p"},{"$f":"IF(B257=\"\",\"\",LOOKUP(B257,DataFIX!$F$3:$F$41,DataFIX!$G$3:$G$41)+C257)","v":728},{"$f":"+'01.23'!O258","v":"10:00:00"},{"$f":"+'01.23'!E258","v":"Průmyslová Keramika"},{"$f":"+'01.23'!G258","v":"vlastní"},{"$f":"+'01.23'!T258","v":"Dokončeno"},null,null,{"$f":"+'01.23'!L258","v":2}]
["2023-01-26",{"$f":"+IF('01.23'!C259=\"\",\"\",'01.23'!C259)","v":"2023-01-26"},{"$f":"IF(B258=\"\",\"\",COUNTIFS($B$3:B258,B258))","v":9},{"$f":"IF(B258=\"\",\"\",LOOKUP(B258,DataFIX!$F$3:$F$21,DataFIX!$E$3:$E$21))","v":"p"},{"$f":"IF(B258=\"\",\"\",LOOKUP(B258,DataFIX!$F$3:$F$41,DataFIX!$G$3:$G$41)+C258)","v":729},{"$f":"+'01.23'!O259","v":"11:00:00"},{"$f":"+'01.23'!E259","v":"Bericap"},{"$f":"+'01.23'!G259","v":"SBS"},{"$f":"+'01.23'!T259","v":"Dokončeno"},null,null,{"$f":"+'01.23'!L259","v":1}]
["2023-01-26",{"$f":"+IF('01.23'!C260=\"\",\"\",'01.23'!C260)","v":"2023-01-26"},{"$f":"IF(B259=\"\",\"\",COUNTIFS($B$3:B259,B259))","v":10},{"$f":"IF(B259=\"\",\"\",LOOKUP(B259,DataFIX!$F$3:$F$21,DataFIX!$E$3:$E$21))","v":"p"},{"$f":"IF(B259=\"\",\"\",LOOKUP(B259,DataFIX!$F$3:$F$41,DataFIX!$G$3:$G$41)+C259)","v":730},{"$f":"+'01.23'!O260","v":"11:00:00"},{"$f":"+'01.23'!E260","v":"Stachema"},{"$f":"+'01.23'!G260","v":"vlastní "},{"$f":"+'01.23'!T260","v":"Dokončeno"},null,null,{"$f":"+'01.23'!L260","v":2}]
[{"$f":"+B260","v":"2023-01-26"},{"$f":"+IF('01.23'!C261=\"\",\"\",'01.23'!C261)","v":"2023-01-26"},{"$f":"IF(B260=\"\",\"\",COUNTIFS($B$3:B260,B260))","v":11},{"$f":"IF(B260=\"\",\"\",LOOKUP(B260,DataFIX!$F$3:$F$21,DataFIX!$E$3:$E$21))","v":"p"},{"$f":"IF(B260=\"\",\"\",LOOKUP(B260,DataFIX!$F$3:$F$41,DataFIX!$G$3:$G$41)+C260)","v":731},{"$f":"+'01.23'!O261","v":"11:30:00"},{"$f":"+'01.23'!E261","v":"Sedasport"},{"$f":"+'01.23'!G261","v":"vlastní"},{"$f":"+'01.23'!T261","v":"Dokončeno"},null,null,{"$f":"+'01.23'!L261","v":4}]
["2023-01-26",{"$f":"+IF('01.23'!C262=\"\",\"\",'01.23'!C262)","v":"2023-01-26"},{"$f":"IF(B261=\"\",\"\",COUNTIFS($B$3:B261,B261))","v":12},{"$f":"IF(B261=\"\",\"\",LOOKUP(B261,DataFIX!$F$3:$F$21,DataFIX!$E$3:$E$21))","v":"p"},{"$f":"IF(B261=\"\",\"\",LOOKUP(B261,DataFIX!$F$3:$F$41,DataFIX!$G$3:$G$41)+C261)","v":732},{"$f":"+'01.23'!O262","v":"11:30:00"},{"$f":"+'01.23'!E262","v":"Flexfill"},{"$f":"+'01.23'!G262","v":"Interkontakt"},{"$f":"+'01.23'!T262","v":"Dokončeno"},null,null,{"$f":"+'01.23'!L262","v":3}]
["2023-01-26",{"$f":"+IF('01.23'!C263=\"\",\"\",'01.23'!C263)","v":"2023-01-26"},{"$f":"IF(B262=\"\",\"\",COUNTIFS($B$3:B262,B262))","v":13},{"$f":"IF(B262=\"\",\"\",LOOKUP(B262,DataFIX!$F$3:$F$21,DataFIX!$E$3:$E$21))","v":"p"},{"$f":"IF(B262=\"\",\"\",LOOKUP(B262,DataFIX!$F$3:$F$41,DataFIX!$G$3:$G$41)+C262)","v":733},{"$f":"+'01.23'!O263","v":"00:00:00"},{"$f":"+'01.23'!E263","v":"Faurecie MB"},{"$f":"+'01.23'!G263","v":"vlastní"},{"$f":"+'01.23'!T263","v":"Dokončeno"},null,null,{"$f":"+'01.23'!L263","v":5}]
["2023-01-26",{"$f":"+IF('01.23'!C264=\"\",\"\",'01.23'!C264)","v":"2023-01-26"},{"$f":"IF(B263=\"\",\"\",COUNTIFS($B$3:B263,B263))","v":14},{"$f":"IF(B263=\"\",\"\",LOOKUP(B263,DataFIX!$F$3:$F$21,DataFIX!$E$3:$E$21))","v":"p"},{"$f":"IF(B263=\"\",\"\",LOOKUP(B263,DataFIX!$F$3:$F$41,DataFIX!$G$3:$G$41)+C263)","v":734},{"$f":"+'01.23'!O264","v":"00:00:00"},{"$f":"+'01.23'!E264","v":"T-Net"},{"$f":"+'01.23'!G264","v":"MSB"},{"$f":"+'01.23'!T264","v":"Dokončeno"},null,null,{"$f":"+'01.23'!L264","v":3}]
["2023-01-26",{"$f":"+IF('01.23'!C265=\"\",\"\",'01.23'!C265)","v":"2023-01-26"},{"$f":"IF(B264=\"\",\"\",COUNTIFS($B$3:B264,B264))","v":15},{"$f":"IF(B264=\"\",\"\",LOOKUP(B264,DataFIX!$F$3:$F$21,DataFIX!$E$3:$E$21))","v":"p"},{"$f":"IF(B264=\"\",\"\",LOOKUP(B264,DataFIX!$F$3:$F$41,DataFIX!$G$3:$G$41)+C264)","v":735},{"$f":"+'01.23'!O265","v":"00:00:00"},{"$f":"+'01.23'!E265","v":"Toptrans"},{"$f":"+'01.23'!G265","v":"SBS"},{"$f":"+'01.23'!T265","v":"Dokončeno"},null,null,{"$f":"+'01.23'!L265","v":1}]
["2023-01-26",{"$f":"+IF('01.23'!C266=\"\",\"\",'01.23'!C266)","v":"2023-01-26"},{"$f":"IF(B265=\"\",\"\",COUNTIFS($B$3:B265,B265))","v":16},{"$f":"IF(B265=\"\",\"\",LOOKUP(B265,DataFIX!$F$3:$F$21,DataFIX!$E$3:$E$21))","v":"p"},{"$f":"IF(B265=\"\",\"\",LOOKUP(B265,DataFIX!$F$3:$F$41,DataFIX!$G$3:$G$41)+C265)","v":736},{"$f":"+'01.23'!O266","v":"00:00:00"},{"$f":"+'01.23'!E266","v":"Orion OK"},{"$f":"+'01.23'!G266","v":"vlastní"},{"$f":"+'01.23'!T266","v":"Dokončeno"},null,null,{"$f":"+'01.23'!L266","v":1}]
["2023-01-27",{"$f":"+IF('01.23'!C267=\"\",\"\",'01.23'!C267)","v":"2023-01-27"},{"$f":"IF(B266=\"\",\"\",COUNTIFS($B$3:B266,B266))","v":1},{"$f":"IF(B266=\"\",\"\",LOOKUP(B266,DataFIX!$F$3:$F$21,DataFIX!$E$3:$E$21))","v":"p"},{"$f":"IF(B266=\"\",\"\",LOOKUP(B266,DataFIX!$F$3:$F$41,DataFIX!$G$3:$G$41)+C266)","v":751},{"$f":"+'01.23'!O267","v":"06:00:00"},{"$f":"+'01.23'!E267","v":"Metrum"},{"$f":"+'01.23'!G267","v":"Hroza"},{"$f":"+'01.23'!T267","v":"Dokončeno"},null,null,{"$f":"+'01.23'!L267","v":2}]
["2023-01-27",{"$f":"+IF('01.23'!C268=\"\",\"\",'01.23'!C268)","v":"2023-01-27"},{"$f":"IF(B267=\"\",\"\",COUNTIFS($B$3:B267,B267))","v":2},{"$f":"IF(B267=\"\",\"\",LOOKUP(B267,DataFIX!$F$3:$F$21,DataFIX!$E$3:$E$21))","v":"p"},{"$f":"IF(B267=\"\",\"\",LOOKUP(B267,DataFIX!$F$3:$F$41,DataFIX!$G$3:$G$41)+C267)","v":752},{"$f":"+'01.23'!O268","v":"06:00:00"},{"$f":"+'01.23'!E268","v":"převozy"},{"$f":"+'01.23'!G268","v":"TEZET"},{"$f":"+'01.23'!T268","v":"Dokončeno"},null,null,{"$f":"+'01.23'!L268","v":2}]
["2023-01-27",{"$f":"+IF('01.23'!C269=\"\",\"\",'01.23'!C269)","v":"2023-01-27"},{"$f":"IF(B268=\"\",\"\",COUNTIFS($B$3:B268,B268))","v":3},{"$f":"IF(B268=\"\",\"\",LOOKUP(B268,DataFIX!$F$3:$F$21,DataFIX!$E$3:$E$21))","v":"p"},{"$f":"IF(B268=\"\",\"\",LOOKUP(B268,DataFIX!$F$3:$F$41,DataFIX!$G$3:$G$41)+C268)","v":753},{"$f":"+'01.23'!O269","v":"06:05:00"},{"$f":"+'01.23'!E269","v":"OMA CZ"},{"$f":"+'01.23'!G269","v":"TEZET"},{"$f":"+'01.23'!T269","v":"Dokončeno"},null,null,{"$f":"+'01.23'!L269","v":4}]
["2023-01-27",{"$f":"+IF('01.23'!C270=\"\",\"\",'01.23'!C270)","v":"2023-01-27"},{"$f":"IF(B269=\"\",\"\",COUNTIFS($B$3:B269,B269))","v":4},{"$f":"IF(B269=\"\",\"\",LOOKUP(B269,DataFIX!$F$3:$F$21,DataFIX!$E$3:$E$21))","v":"p"},{"$f":"IF(B269=\"\",\"\",LOOKUP(B269,DataFIX!$F$3:$F$41,DataFIX!$G$3:$G$41)+C269)","v":754},{"$f":"+'01.23'!O270","v":"06:05:00"},{"$f":"+'01.23'!E270","v":"Elagro"},{"$f":"+'01.23'!G270","v":"TEZET"},{"$f":"+'01.23'!T270","v":"Dokončeno"},null,null,{"$f":"+'01.23'!L270","v":3}]
["2023-01-27",{"$f":"+IF('01.23'!C271=\"\",\"\",'01.23'!C271)","v":"2023-01-27"},{"$f":"IF(B270=\"\",\"\",COUNTIFS($B$3:B270,B270))","v":5},{"$f":"IF(B270=\"\",\"\",LOOKUP(B270,DataFIX!$F$3:$F$21,DataFIX!$E$3:$E$21))","v":"p"},{"$f":"IF(B270=\"\",\"\",LOOKUP(B270,DataFIX!$F$3:$F$41,DataFIX!$G$3:$G$41)+C270)","v":755},{"$f":"+'01.23'!O271","v":"07:00:00"},{"$f":"+'01.23'!E271","v":"T-Net"},{"$f":"+'01.23'!G271","v":"vlastní"},{"$f":"+'01.23'!T271","v":"Dokončeno"},null,null,{"$f":"+'01.23'!L271","v":1}]
["2023-01-27",{"$f":"+IF('01.23'!C272=\"\",\"\",'01.23'!C272)","v":"2023-01-27"},{"$f":"IF(B271=\"\",\"\",COUNTIFS($B$3:B271,B271))","v":6},{"$f":"IF(B271=\"\",\"\",LOOKUP(B271,DataFIX!$F$3:$F$21,DataFIX!$E$3:$E$21))","v":"p"},{"$f":"IF(B271=\"\",\"\",LOOKUP(B271,DataFIX!$F$3:$F$41,DataFIX!$G$3:$G$41)+C271)","v":756},{"$f":"+'01.23'!O272","v":"09:30:00"},{"$f":"+'01.23'!E272","v":"Chemprogres"},{"$f":"+'01.23'!G272","v":"vlastní"},{"$f":"+'01.23'!T272","v":"Dokončeno"},null,null,{"$f":"+'01.23'!L272","v":2}]
["2023-01-27",{"$f":"+IF('01.23'!C273=\"\",\"\",'01.23'!C273)","v":"2023-01-27"},{"$f":"IF(B272=\"\",\"\",COUNTIFS($B$3:B272,B272))","v":7},{"$f":"IF(B272=\"\",\"\",LOOKUP(B272,DataFIX!$F$3:$F$21,DataFIX!$E$3:$E$21))","v":"p"},{"$f":"IF(B272=\"\",\"\",LOOKUP(B272,DataFIX!$F$3:$F$41,DataFIX!$G$3:$G$41)+C272)","v":757},{"$f":"+'01.23'!O273","v":"10:00:00"},{"$f":"+'01.23'!E273","v":"Avena"},{"$f":"+'01.23'!G273","v":"vlastní"},{"$f":"+'01.23'!T273","v":"Dokončeno"},null,null,{"$f":"+'01.23'!L273","v":1}]
["2023-01-27",{"$f":"+IF('01.23'!C274=\"\",\"\",'01.23'!C274)","v":"2023-01-27"},{"$f":"IF(B273=\"\",\"\",COUNTIFS($B$3:B273,B273))","v":8},{"$f":"IF(B273=\"\",\"\",LOOKUP(B273,DataFIX!$F$3:$F$21,DataFIX!$E$3:$E$21))","v":"p"},{"$f":"IF(B273=\"\",\"\",LOOKUP(B273,DataFIX!$F$3:$F$41,DataFIX!$G$3:$G$41)+C273)","v":758},{"$f":"+'01.23'!O274","v":"10:00:00"},{"$f":"+'01.23'!E274","v":"TBA"},{"$f":"+'01.23'!G274","v":"vlastní"},{"$f":"+'01.23'!T274","v":"Dokončeno"},null,null,{"$f":"+'01.23'!L274","v":2}]
["2023-01-27",{"$f":"+IF('01.23'!C275=\"\",\"\",'01.23'!C275)","v":"2023-01-27"},{"$f":"IF(B274=\"\",\"\",COUNTIFS($B$3:B274,B274))","v":9},{"$f":"IF(B274=\"\",\"\",LOOKUP(B274,DataFIX!$F$3:$F$21,DataFIX!$E$3:$E$21))","v":"p"},{"$f":"IF(B274=\"\",\"\",LOOKUP(B274,DataFIX!$F$3:$F$41,DataFIX!$G$3:$G$41)+C274)","v":759},{"$f":"+'01.23'!O275","v":"12:00:00"},{"$f":"+'01.23'!E275","v":"TRUMF"},{"$f":"+'01.23'!G275","v":"vlastní"},{"$f":"+'01.23'!T275","v":"Dokončeno"},null,null,{"$f":"+'01.23'!L275","v":3}]
["2023-01-27",{"$f":"+IF('01.23'!C276=\"\",\"\",'01.23'!C276)","v":"2023-01-27"},{"$f":"IF(B275=\"\",\"\",COUNTIFS($B$3:B275,B275))","v":10},{"$f":"IF(B275=\"\",\"\",LOOKUP(B275,DataFIX!$F$3:$F$21,DataFIX!$E$3:$E$21))","v":"p"},{"$f":"IF(B275=\"\",\"\",LOOKUP(B275,DataFIX!$F$3:$F$41,DataFIX!$G$3:$G$41)+C275)","v":760},{"$f":"+'01.23'!O276","v":"00:00:00"},{"$f":"+'01.23'!E276","v":"T-Net"},{"$f":"+'01.23'!G276","v":"Legarde"},{"$f":"+'01.23'!T276","v":"Dokončeno"},null,null,{"$f":"+'01.23'!L276","v":1}]
["2023-01-27",{"$f":"+IF('01.23'!C277=\"\",\"\",'01.23'!C277)","v":"2023-01-27"},{"$f":"IF(B276=\"\",\"\",COUNTIFS($B$3:B276,B276))","v":11},{"$f":"IF(B276=\"\",\"\",LOOKUP(B276,DataFIX!$F$3:$F$21,DataFIX!$E$3:$E$21))","v":"p"},{"$f":"IF(B276=\"\",\"\",LOOKUP(B276,DataFIX!$F$3:$F$41,DataFIX!$G$3:$G$41)+C276)","v":761},{"$f":"+'01.23'!O277","v":"00:00:00"},{"$f":"+'01.23'!E277","v":"Kopeček"},{"$f":"+'01.23'!G277","v":"vlastní"},{"$f":"+'01.23'!T277","v":"Dokončeno"},null,null,{"$f":"+'01.23'!L277","v":1}]
["2023-01-30",{"$f":"+IF('01.23'!C278=\"\",\"\",'01.23'!C278)","v":"2023-01-30"},{"$f":"IF(B277=\"\",\"\",COUNTIFS($B$3:B277,B277))","v":1},{"$f":"IF(B277=\"\",\"\",LOOKUP(B277,DataFIX!$F$3:$F$21,DataFIX!$E$3:$E$21))","v":"p"},{"$f":"IF(B277=\"\",\"\",LOOKUP(B277,DataFIX!$F$3:$F$41,DataFIX!$G$3:$G$41)+C277)","v":841},{"$f":"+'01.23'!O278","v":"06:00:00"},{"$f":"+'01.23'!E278","v":"Agrimex"},{"$f":"+'01.23'!G278","v":"Hroza"},{"$f":"+'01.23'!T278","v":"Dokončeno"},null,null,{"$f":"+'01.23'!L278","v":2}]
["2023-01-30",{"$f":"+IF('01.23'!C279=\"\",\"\",'01.23'!C279)","v":"2023-01-30"},{"$f":"IF(B278=\"\",\"\",COUNTIFS($B$3:B278,B278))","v":2},{"$f":"IF(B278=\"\",\"\",LOOKUP(B278,DataFIX!$F$3:$F$21,DataFIX!$E$3:$E$21))","v":"p"},{"$f":"IF(B278=\"\",\"\",LOOKUP(B278,DataFIX!$F$3:$F$41,DataFIX!$G$3:$G$41)+C278)","v":842},{"$f":"+'01.23'!O279","v":"06:05:00"},{"$f":"+'01.23'!E279","v":"Cormen"},{"$f":"+'01.23'!G279","v":"TEZET"},{"$f":"+'01.23'!T279","v":"Dokončeno"},null,null,{"$f":"+'01.23'!L279","v":2}]
["2023-01-30",{"$f":"+IF('01.23'!C280=\"\",\"\",'01.23'!C280)","v":"2023-01-30"},{"$f":"IF(B279=\"\",\"\",COUNTIFS($B$3:B279,B279))","v":3},{"$f":"IF(B279=\"\",\"\",LOOKUP(B279,DataFIX!$F$3:$F$21,DataFIX!$E$3:$E$21))","v":"p"},{"$f":"IF(B279=\"\",\"\",LOOKUP(B279,DataFIX!$F$3:$F$41,DataFIX!$G$3:$G$41)+C279)","v":843},{"$f":"+'01.23'!O280","v":"06:05:00"},{"$f":"+'01.23'!E280","v":"Cheport"},{"$f":"+'01.23'!G280","v":"TEZET"},{"$f":"+'01.23'!T280","v":"Dokončeno"},null,null,{"$f":"+'01.23'!L280","v":3}]
["2023-01-30",{"$f":"+IF('01.23'!C281=\"\",\"\",'01.23'!C281)","v":"2023-01-30"},{"$f":"IF(B280=\"\",\"\",COUNTIFS($B$3:B280,B280))","v":4},{"$f":"IF(B280=\"\",\"\",LOOKUP(B280,DataFIX!$F$3:$F$21,DataFIX!$E$3:$E$21))","v":"p"},{"$f":"IF(B280=\"\",\"\",LOOKUP(B280,DataFIX!$F$3:$F$41,DataFIX!$G$3:$G$41)+C280)","v":844},{"$f":"+'01.23'!O281","v":"06:15:00"},{"$f":"+'01.23'!E281","v":"VYPL"},{"$f":"+'01.23'!G281","v":"naše Pulpán"},{"$f":"+'01.23'!T281","v":"Dokončeno"},null,null,{"$f":"+'01.23'!L281","v":2}]
["2023-01-30",{"$f":"+IF('01.23'!C282=\"\",\"\",'01.23'!C282)","v":"2023-01-30"},{"$f":"IF(B281=\"\",\"\",COUNTIFS($B$3:B281,B281))","v":5},{"$f":"IF(B281=\"\",\"\",LOOKUP(B281,DataFIX!$F$3:$F$21,DataFIX!$E$3:$E$21))","v":"p"},{"$f":"IF(B281=\"\",\"\",LOOKUP(B281,DataFIX!$F$3:$F$41,DataFIX!$G$3:$G$41)+C281)","v":845},{"$f":"+'01.23'!O282","v":"08:00:00"},{"$f":"+'01.23'!E282","v":"Filmer"},{"$f":"+'01.23'!G282","v":"Ewals"},{"$f":"+'01.23'!T282","v":"Dokončeno"},null,null,{"$f":"+'01.23'!L282","v":3}]
["2023-01-30",{"$f":"+IF('01.23'!C283=\"\",\"\",'01.23'!C283)","v":"2023-01-30"},{"$f":"IF(B282=\"\",\"\",COUNTIFS($B$3:B282,B282))","v":6},{"$f":"IF(B282=\"\",\"\",LOOKUP(B282,DataFIX!$F$3:$F$21,DataFIX!$E$3:$E$21))","v":"p"},{"$f":"IF(B282=\"\",\"\",LOOKUP(B282,DataFIX!$F$3:$F$41,DataFIX!$G$3:$G$41)+C282)","v":846},{"$f":"+'01.23'!O283","v":"10:30:00"},{"$f":"+'01.23'!E283","v":"TBA"},{"$f":"+'01.23'!G283","v":"vlastní"},{"$f":"+'01.23'!T283","v":"Dokončeno"},null,null,{"$f":"+'01.23'!L283","v":3}]
["2023-01-30",{"$f":"+IF('01.23'!C284=\"\",\"\",'01.23'!C284)","v":"2023-01-30"},{"$f":"IF(B283=\"\",\"\",COUNTIFS($B$3:B283,B283))","v":7},{"$f":"IF(B283=\"\",\"\",LOOKUP(B283,DataFIX!$F$3:$F$21,DataFIX!$E$3:$E$21))","v":"p"},{"$f":"IF(B283=\"\",\"\",LOOKUP(B283,DataFIX!$F$3:$F$41,DataFIX!$G$3:$G$41)+C283)","v":847},{"$f":"+'01.23'!O284","v":"10:30:00"},{"$f":"+'01.23'!E284","v":"PK group"},{"$f":"+'01.23'!G284","v":"Bohumín"},{"$f":"+'01.23'!T284","v":"Dokončeno"},null,null,{"$f":"+'01.23'!L284","v":3}]
["2023-01-30",{"$f":"+IF('01.23'!C285=\"\",\"\",'01.23'!C285)","v":"2023-01-30"},{"$f":"IF(B284=\"\",\"\",COUNTIFS($B$3:B284,B284))","v":8},{"$f":"IF(B284=\"\",\"\",LOOKUP(B284,DataFIX!$F$3:$F$21,DataFIX!$E$3:$E$21))","v":"p"},{"$f":"IF(B284=\"\",\"\",LOOKUP(B284,DataFIX!$F$3:$F$41,DataFIX!$G$3:$G$41)+C284)","v":848},{"$f":"+'01.23'!O285","v":"11:30:00"},{"$f":"+'01.23'!E285","v":"Garsys"},{"$f":"+'01.23'!G285","v":"vlastní"},{"$f":"+'01.23'!T285","v":"Zpožděno"},null,null,{"$f":"+'01.23'!L285","v":2}]
["2023-01-30",{"$f":"+IF('01.23'!C286=\"\",\"\",'01.23'!C286)","v":"2023-01-30"},{"$f":"IF(B285=\"\",\"\",COUNTIFS($B$3:B285,B285))","v":9},{"$f":"IF(B285=\"\",\"\",LOOKUP(B285,DataFIX!$F$3:$F$21,DataFIX!$E$3:$E$21))","v":"p"},{"$f":"IF(B285=\"\",\"\",LOOKUP(B285,DataFIX!$F$3:$F$41,DataFIX!$G$3:$G$41)+C285)","v":849},{"$f":"+'01.23'!O286","v":"12:00:00"},{"$f":"+'01.23'!E286","v":"Nufarm"},{"$f":"+'01.23'!G286","v":"Maco-Trans"},{"$f":"+'01.23'!T286","v":"Dokončeno"},null,null,{"$f":"+'01.23'!L286","v":3}]
["2023-01-30",{"$f":"+IF('01.23'!C287=\"\",\"\",'01.23'!C287)","v":"2023-01-30"},{"$f":"IF(B286=\"\",\"\",COUNTIFS($B$3:B286,B286))","v":10},{"$f":"IF(B286=\"\",\"\",LOOKUP(B286,DataFIX!$F$3:$F$21,DataFIX!$E$3:$E$21))","v":"p"},{"$f":"IF(B286=\"\",\"\",LOOKUP(B286,DataFIX!$F$3:$F$41,DataFIX!$G$3:$G$41)+C286)","v":850},{"$f":"+'01.23'!O287","v":"12:10:00"},{"$f":"+'01.23'!E287","v":"Nufarm"},{"$f":"+'01.23'!G287","v":"Maco-Trans"},{"$f":"+'01.23'!T287","v":"Dokončeno"},null,null,{"$f":"+'01.23'!L287","v":3}]
["2023-01-30",{"$f":"+IF('01.23'!C288=\"\",\"\",'01.23'!C288)","v":"2023-01-30"},{"$f":"IF(B287=\"\",\"\",COUNTIFS($B$3:B287,B287))","v":11},{"$f":"IF(B287=\"\",\"\",LOOKUP(B287,DataFIX!$F$3:$F$21,DataFIX!$E$3:$E$21))","v":"p"},{"$f":"IF(B287=\"\",\"\",LOOKUP(B287,DataFIX!$F$3:$F$41,DataFIX!$G$3:$G$41)+C287)","v":851},{"$f":"+'01.23'!O288","v":"13:00:00"},{"$f":"+'01.23'!E288","v":"T-Net"},{"$f":"+'01.23'!G288","v":"MSB"},{"$f":"+'01.23'!T288","v":"Dokončeno"},null,null,{"$f":"+'01.23'!L288","v":3}]
["2023-01-30",{"$f":"+IF('01.23'!C289=\"\",\"\",'01.23'!C289)","v":"2023-01-30"},{"$f":"IF(B288=\"\",\"\",COUNTIFS($B$3:B288,B288))","v":12},{"$f":"IF(B288=\"\",\"\",LOOKUP(B288,DataFIX!$F$3:$F$21,DataFIX!$E$3:$E$21))","v":"p"},{"$f":"IF(B288=\"\",\"\",LOOKUP(B288,DataFIX!$F$3:$F$41,DataFIX!$G$3:$G$41)+C288)","v":852},{"$f":"+'01.23'!O289","v":"13:00:00"},{"$f":"+'01.23'!E289","v":"Luve"},{"$f":"+'01.23'!G289","v":"vlastní"},{"$f":"+'01.23'!T289","v":"Dokončeno"},null,null,{"$f":"+'01.23'!L289","v":2}]
["2023-01-30",{"$f":"+IF('01.23'!C290=\"\",\"\",'01.23'!C290)","v":"2023-01-30"},{"$f":"IF(B289=\"\",\"\",COUNTIFS($B$3:B289,B289))","v":13},{"$f":"IF(B289=\"\",\"\",LOOKUP(B289,DataFIX!$F$3:$F$21,DataFIX!$E$3:$E$21))","v":"p"},{"$f":"IF(B289=\"\",\"\",LOOKUP(B289,DataFIX!$F$3:$F$41,DataFIX!$G$3:$G$41)+C289)","v":853},{"$f":"+'01.23'!O290","v":"15:00:00"},{"$f":"+'01.23'!E290","v":"Faurecie HLO"},{"$f":"+'01.23'!G290","v":"vlastní"},{"$f":"+'01.23'!T290","v":"Dokončeno"},null,null,{"$f":"+'01.23'!L290","v":1}]
["2023-01-30",{"$f":"+IF('01.23'!C291=\"\",\"\",'01.23'!C291)","v":"2023-01-30"},{"$f":"IF(B290=\"\",\"\",COUNTIFS($B$3:B290,B290))","v":14},{"$f":"IF(B290=\"\",\"\",LOOKUP(B290,DataFIX!$F$3:$F$21,DataFIX!$E$3:$E$21))","v":"p"},{"$f":"IF(B290=\"\",\"\",LOOKUP(B290,DataFIX!$F$3:$F$41,DataFIX!$G$3:$G$41)+C290)","v":854},{"$f":"+'01.23'!O291","v":"00:00:00"},{"$f":"+'01.23'!E291","v":"Ekotekh"},{"$f":"+'01.23'!G291","v":"vlastní"},{"$f":"+'01.23'!T291","v":"Přeplánováno"},null,null,{"$f":"+'01.23'!L291","v":5}]
["2023-01-30",{"$f":"+IF('01.23'!C292=\"\",\"\",'01.23'!C292)","v":"2023-01-30"},{"$f":"IF(B291=\"\",\"\",COUNTIFS($B$3:B291,B291))","v":15},{"$f":"IF(B291=\"\",\"\",LOOKUP(B291,DataFIX!$F$3:$F$21,DataFIX!$E$3:$E$21))","v":"p"},{"$f":"IF(B291=\"\",\"\",LOOKUP(B291,DataFIX!$F$3:$F$41,DataFIX!$G$3:$G$41)+C291)","v":855},{"$f":"+'01.23'!O292","v":"00:00:00"},{"$f":"+'01.23'!E292","v":"Ekotekh"},{"$f":"+'01.23'!G292","v":"vlastní"},{"$f":"+'01.23'!T292","v":"Přeplánováno"},null,null,{"$f":"+'01.23'!L292","v":5}]
["2023-01-30",{"$f":"+IF('01.23'!C293=\"\",\"\",'01.23'!C293)","v":"2023-01-30"},{"$f":"IF(B292=\"\",\"\",COUNTIFS($B$3:B292,B292))","v":16},{"$f":"IF(B292=\"\",\"\",LOOKUP(B292,DataFIX!$F$3:$F$21,DataFIX!$E$3:$E$21))","v":"p"},{"$f":"IF(B292=\"\",\"\",LOOKUP(B292,DataFIX!$F$3:$F$41,DataFIX!$G$3:$G$41)+C292)","v":856},{"$f":"+'01.23'!O293","v":"00:00:00"},{"$f":"+'01.23'!E293","v":"Faurecie MB"},{"$f":"+'01.23'!G293","v":"vlastní"},{"$f":"+'01.23'!T293","v":"Dokončeno"},null,null,{"$f":"+'01.23'!L293","v":2}]
["2023-01-30",{"$f":"+IF('01.23'!C294=\"\",\"\",'01.23'!C294)","v":"2023-01-30"},{"$f":"IF(B293=\"\",\"\",COUNTIFS($B$3:B293,B293))","v":17},{"$f":"IF(B293=\"\",\"\",LOOKUP(B293,DataFIX!$F$3:$F$21,DataFIX!$E$3:$E$21))","v":"p"},{"$f":"IF(B293=\"\",\"\",LOOKUP(B293,DataFIX!$F$3:$F$41,DataFIX!$G$3:$G$41)+C293)","v":857},{"$f":"+'01.23'!O294","v":"00:00:00"},{"$f":"+'01.23'!E294","v":"Faurecie MB"},{"$f":"+'01.23'!G294","v":"vlastní"},{"$f":"+'01.23'!T294","v":"Dokončeno"},null,null,{"$f":"+'01.23'!L294","v":4}]
["2023-01-31",{"$f":"+IF('01.23'!C295=\"\",\"\",'01.23'!C295)","v":"2023-01-31"},{"$f":"IF(B294=\"\",\"\",COUNTIFS($B$3:B294,B294))","v":1},{"$f":"IF(B294=\"\",\"\",LOOKUP(B294,DataFIX!$F$3:$F$21,DataFIX!$E$3:$E$21))","v":"p"},{"$f":"IF(B294=\"\",\"\",LOOKUP(B294,DataFIX!$F$3:$F$41,DataFIX!$G$3:$G$41)+C294)","v":871},{"$f":"+'01.23'!O295","v":"06:05:00"},{"$f":"+'01.23'!E295","v":"INX"},{"$f":"+'01.23'!G295","v":"TEZET"},{"$f":"+'01.23'!T295","v":"Dokončeno"},null,null,{"$f":"+'01.23'!L295","v":3}]
["2023-01-31",{"$f":"+IF('01.23'!C296=\"\",\"\",'01.23'!C296)","v":"2023-01-31"},{"$f":"IF(B295=\"\",\"\",COUNTIFS($B$3:B295,B295))","v":2},{"$f":"IF(B295=\"\",\"\",LOOKUP(B295,DataFIX!$F$3:$F$21,DataFIX!$E$3:$E$21))","v":"p"},{"$f":"IF(B295=\"\",\"\",LOOKUP(B295,DataFIX!$F$3:$F$41,DataFIX!$G$3:$G$41)+C295)","v":872},{"$f":"+'01.23'!O296","v":"06:05:00"},{"$f":"+'01.23'!E296","v":"Alter"},{"$f":"+'01.23'!G296","v":"TEZET"},{"$f":"+'01.23'!T296","v":"Dokončeno"},null,null,{"$f":"+'01.23'!L296","v":3}]
["2023-01-31",{"$f":"+IF('01.23'!C297=\"\",\"\",'01.23'!C297)","v":"2023-01-31"},{"$f":"IF(B296=\"\",\"\",COUNTIFS($B$3:B296,B296))","v":3},{"$f":"IF(B296=\"\",\"\",LOOKUP(B296,DataFIX!$F$3:$F$21,DataFIX!$E$3:$E$21))","v":"p"},{"$f":"IF(B296=\"\",\"\",LOOKUP(B296,DataFIX!$F$3:$F$41,DataFIX!$G$3:$G$41)+C296)","v":873},{"$f":"+'01.23'!O297","v":"07:00:00"},{"$f":"+'01.23'!E297","v":"Antolin"},{"$f":"+'01.23'!G297","v":"vlastní"},{"$f":"+'01.23'!T297","v":"Dokončeno"},null,null,{"$f":"+'01.23'!L297","v":3}]
["2023-01-31",{"$f":"+IF('01.23'!C298=\"\",\"\",'01.23'!C298)","v":"2023-01-31"},{"$f":"IF(B297=\"\",\"\",COUNTIFS($B$3:B297,B297))","v":4},{"$f":"IF(B297=\"\",\"\",LOOKUP(B297,DataFIX!$F$3:$F$21,DataFIX!$E$3:$E$21))","v":"p"},{"$f":"IF(B297=\"\",\"\",LOOKUP(B297,DataFIX!$F$3:$F$41,DataFIX!$G$3:$G$41)+C297)","v":874},{"$f":"+'01.23'!O298","v":"07:30:00"},{"$f":"+'01.23'!E298","v":"Miloš Gavala"},{"$f":"+'01.23'!G298","v":"vlastní"},{"$f":"+'01.23'!T298","v":"Dokončeno"},null,null,{"$f":"+'01.23'!L298","v":1}]
["2023-01-31",{"$f":"+IF('01.23'!C299=\"\",\"\",'01.23'!C299)","v":"2023-01-31"},{"$f":"IF(B298=\"\",\"\",COUNTIFS($B$3:B298,B298))","v":5},{"$f":"IF(B298=\"\",\"\",LOOKUP(B298,DataFIX!$F$3:$F$21,DataFIX!$E$3:$E$21))","v":"p"},{"$f":"IF(B298=\"\",\"\",LOOKUP(B298,DataFIX!$F$3:$F$41,DataFIX!$G$3:$G$41)+C298)","v":875},{"$f":"+'01.23'!O299","v":"08:00:00"},{"$f":"+'01.23'!E299","v":"T-Net"},{"$f":"+'01.23'!G299","v":"kontejner"},{"$f":"+'01.23'!T299","v":"Dokončeno"},null,null,{"$f":"+'01.23'!L299","v":4}]
["2023-01-31",{"$f":"+IF('01.23'!C300=\"\",\"\",'01.23'!C300)","v":"2023-01-31"},{"$f":"IF(B299=\"\",\"\",COUNTIFS($B$3:B299,B299))","v":6},{"$f":"IF(B299=\"\",\"\",LOOKUP(B299,DataFIX!$F$3:$F$21,DataFIX!$E$3:$E$21))","v":"p"},{"$f":"IF(B299=\"\",\"\",LOOKUP(B299,DataFIX!$F$3:$F$41,DataFIX!$G$3:$G$41)+C299)","v":876},{"$f":"+'01.23'!O300","v":"11:00:00"},{"$f":"+'01.23'!E300","v":"Carrier"},{"$f":"+'01.23'!G300","v":"vlastní"},{"$f":"+'01.23'!T300","v":"Dokončeno"},null,null,{"$f":"+'01.23'!L300","v":1}]
["2023-01-31",{"$f":"+IF('01.23'!C301=\"\",\"\",'01.23'!C301)","v":"2023-01-31"},{"$f":"IF(B300=\"\",\"\",COUNTIFS($B$3:B300,B300))","v":7},{"$f":"IF(B300=\"\",\"\",LOOKUP(B300,DataFIX!$F$3:$F$21,DataFIX!$E$3:$E$21))","v":"p"},{"$f":"IF(B300=\"\",\"\",LOOKUP(B300,DataFIX!$F$3:$F$41,DataFIX!$G$3:$G$41)+C300)","v":877},{"$f":"+'01.23'!O301","v":"11:20:00"},{"$f":"+'01.23'!E301","v":"Nufarm"},{"$f":"+'01.23'!G301","v":"FERCAM"},{"$f":"+'01.23'!T301","v":"Dokončeno"},null,null,{"$f":"+'01.23'!L301","v":3}]
["2023-01-31",{"$f":"+IF('01.23'!C302=\"\",\"\",'01.23'!C302)","v":"2023-01-31"},{"$f":"IF(B301=\"\",\"\",COUNTIFS($B$3:B301,B301))","v":8},{"$f":"IF(B301=\"\",\"\",LOOKUP(B301,DataFIX!$F$3:$F$21,DataFIX!$E$3:$E$21))","v":"p"},{"$f":"IF(B301=\"\",\"\",LOOKUP(B301,DataFIX!$F$3:$F$41,DataFIX!$G$3:$G$41)+C301)","v":878},{"$f":"+'01.23'!O302","v":"12:00:00"},{"$f":"+'01.23'!E302","v":"Sedata"},{"$f":"+'01.23'!G302","v":"Ewals"},{"$f":"+'01.23'!T302","v":"Dokončeno"},null,null,{"$f":"+'01.23'!L302","v":4}]
["2023-01-31",{"$f":"+IF('01.23'!C303=\"\",\"\",'01.23'!C303)","v":"2023-01-31"},{"$f":"IF(B302=\"\",\"\",COUNTIFS($B$3:B302,B302))","v":9},{"$f":"IF(B302=\"\",\"\",LOOKUP(B302,DataFIX!$F$3:$F$21,DataFIX!$E$3:$E$21))","v":"p"},{"$f":"IF(B302=\"\",\"\",LOOKUP(B302,DataFIX!$F$3:$F$41,DataFIX!$G$3:$G$41)+C302)","v":879},{"$f":"+'01.23'!O303","v":"12:30:00"},{"$f":"+'01.23'!E303","v":"OZAS-ESAB"},{"$f":"+'01.23'!G303","v":"Schenker"},{"$f":"+'01.23'!T303","v":"Přeplánováno"},null,null,{"$f":"+'01.23'!L303","v":0}]
["2023-01-31",{"$f":"+IF('01.23'!C304=\"\",\"\",'01.23'!C304)","v":"2023-01-31"},{"$f":"IF(B303=\"\",\"\",COUNTIFS($B$3:B303,B303))","v":10},{"$f":"IF(B303=\"\",\"\",LOOKUP(B303,DataFIX!$F$3:$F$21,DataFIX!$E$3:$E$21))","v":"p"},{"$f":"IF(B303=\"\",\"\",LOOKUP(B303,DataFIX!$F$3:$F$41,DataFIX!$G$3:$G$41)+C303)","v":880},{"$f":"+'01.23'!O304","v":"13:00:00"},{"$f":"+'01.23'!E304","v":"Faurecie MB"},{"$f":"+'01.23'!G304","v":"vlastní"},{"$f":"+'01.23'!T304","v":"Dokončeno"},null,null,{"$f":"+'01.23'!L304","v":5}]
["2023-01-31",{"$f":"+IF('01.23'!C305=\"\",\"\",'01.23'!C305)","v":"2023-01-31"},{"$f":"IF(B304=\"\",\"\",COUNTIFS($B$3:B304,B304))","v":11},{"$f":"IF(B304=\"\",\"\",LOOKUP(B304,DataFIX!$F$3:$F$21,DataFIX!$E$3:$E$21))","v":"p"},{"$f":"IF(B304=\"\",\"\",LOOKUP(B304,DataFIX!$F$3:$F$41,DataFIX!$G$3:$G$41)+C304)","v":881},{"$f":"+'01.23'!O305","v":"14:00:00"},{"$f":"+'01.23'!E305","v":"Faurecie PCE"},{"$f":"+'01.23'!G305","v":"vlastní"},{"$f":"+'01.23'!T305","v":"Dokončeno"},null,null,{"$f":"+'01.23'!L305","v":3}]
["2023-01-31",{"$f":"+IF('01.23'!C306=\"\",\"\",'01.23'!C306)","v":"2023-01-31"},{"$f":"IF(B305=\"\",\"\",COUNTIFS($B$3:B305,B305))","v":12},{"$f":"IF(B305=\"\",\"\",LOOKUP(B305,DataFIX!$F$3:$F$21,DataFIX!$E$3:$E$21))","v":"p"},{"$f":"IF(B305=\"\",\"\",LOOKUP(B305,DataFIX!$F$3:$F$41,DataFIX!$G$3:$G$41)+C305)","v":882},{"$f":"+'01.23'!O306","v":"00:00:00"},{"$f":"+'01.23'!E306","v":"Faurecie MB"},{"$f":"+'01.23'!G306","v":"vlastní"},{"$f":"+'01.23'!T306","v":"Dokončeno"},null,null,{"$f":"+'01.23'!L306","v":3}]
["2023-02-01",{"$f":"+IF('01.23'!C307=\"\",\"\",'01.23'!C307)","v":"2023-02-01"},{"$f":"IF(B306=\"\",\"\",COUNTIFS($B$3:B306,B306))","v":1},{"$f":"IF(B306=\"\",\"\",LOOKUP(B306,DataFIX!$F$3:$F$21,DataFIX!$E$3:$E$21))","v":"p"},{"$f":"IF(B306=\"\",\"\",LOOKUP(B306,DataFIX!$F$3:$F$41,DataFIX!$G$3:$G$41)+C306)","v":901},{"$f":"+'01.23'!O307","v":"06:00:00"},{"$f":"+'01.23'!E307","v":"DF"},{"$f":"+'01.23'!G307","v":"Hroza"},{"$f":"+'01.23'!T307","v":"Dokončeno"},null,null,{"$f":"+'01.23'!L307","v":3}]
["2023-02-01",{"$f":"+IF('01.23'!C308=\"\",\"\",'01.23'!C308)","v":"2023-02-01"},{"$f":"IF(B307=\"\",\"\",COUNTIFS($B$3:B307,B307))","v":2},{"$f":"IF(B307=\"\",\"\",LOOKUP(B307,DataFIX!$F$3:$F$21,DataFIX!$E$3:$E$21))","v":"p"},{"$f":"IF(B307=\"\",\"\",LOOKUP(B307,DataFIX!$F$3:$F$41,DataFIX!$G$3:$G$41)+C307)","v":902},{"$f":"+'01.23'!O308","v":"06:05:00"},{"$f":"+'01.23'!E308","v":"Fagron"},{"$f":"+'01.23'!G308","v":"TEZET"},{"$f":"+'01.23'!T308","v":"Dokončeno"},null,null,{"$f":"+'01.23'!L308","v":3}]
["2023-02-01",{"$f":"+IF('01.23'!C309=\"\",\"\",'01.23'!C309)","v":"2023-02-01"},{"$f":"IF(B308=\"\",\"\",COUNTIFS($B$3:B308,B308))","v":3},{"$f":"IF(B308=\"\",\"\",LOOKUP(B308,DataFIX!$F$3:$F$21,DataFIX!$E$3:$E$21))","v":"p"},{"$f":"IF(B308=\"\",\"\",LOOKUP(B308,DataFIX!$F$3:$F$41,DataFIX!$G$3:$G$41)+C308)","v":903},{"$f":"+'01.23'!O309","v":"06:05:00"},{"$f":"+'01.23'!E309","v":"Cheport"},{"$f":"+'01.23'!G309","v":"TEZET"},{"$f":"+'01.23'!T309","v":"Dokončeno"},null,null,{"$f":"+'01.23'!L309","v":3}]
["2023-02-01",{"$f":"+IF('01.23'!C310=\"\",\"\",'01.23'!C310)","v":"2023-02-01"},{"$f":"IF(B309=\"\",\"\",COUNTIFS($B$3:B309,B309))","v":4},{"$f":"IF(B309=\"\",\"\",LOOKUP(B309,DataFIX!$F$3:$F$21,DataFIX!$E$3:$E$21))","v":"p"},{"$f":"IF(B309=\"\",\"\",LOOKUP(B309,DataFIX!$F$3:$F$41,DataFIX!$G$3:$G$41)+C309)","v":904},{"$f":"+'01.23'!O310","v":"06:05:00"},{"$f":"+'01.23'!E310","v":"Vypl"},{"$f":"+'01.23'!G310","v":"TEZET"},{"$f":"+'01.23'!T310","v":"Dokončeno"},null,null,{"$f":"+'01.23'!L310","v":3}]
["2023-02-01",{"$f":"+IF('01.23'!C311=\"\",\"\",'01.23'!C311)","v":"2023-02-01"},{"$f":"IF(B310=\"\",\"\",COUNTIFS($B$3:B310,B310))","v":5},{"$f":"IF(B310=\"\",\"\",LOOKUP(B310,DataFIX!$F$3:$F$21,DataFIX!$E$3:$E$21))","v":"p"},{"$f":"IF(B310=\"\",\"\",LOOKUP(B310,DataFIX!$F$3:$F$41,DataFIX!$G$3:$G$41)+C310)","v":905},{"$f":"+'01.23'!O311","v":"06:05:00"},{"$f":"+'01.23'!E311","v":"VYPL"},{"$f":"+'01.23'!G311","v":"TEZET"},{"$f":"+'01.23'!T311","v":"Dokončeno"},null,null,{"$f":"+'01.23'!L311","v":2}]
["2023-02-01",{"$f":"+IF('01.23'!C312=\"\",\"\",'01.23'!C312)","v":"2023-02-01"},{"$f":"IF(B311=\"\",\"\",COUNTIFS($B$3:B311,B311))","v":6},{"$f":"IF(B311=\"\",\"\",LOOKUP(B311,DataFIX!$F$3:$F$21,DataFIX!$E$3:$E$21))","v":"p"},{"$f":"IF(B311=\"\",\"\",LOOKUP(B311,DataFIX!$F$3:$F$41,DataFIX!$G$3:$G$41)+C311)","v":906},{"$f":"+'01.23'!O312","v":"07:00:00"},{"$f":"+'01.23'!E312","v":"TREF"},{"$f":"+'01.23'!G312","v":"vlastní"},{"$f":"+'01.23'!T312","v":"Dokončeno"},null,null,{"$f":"+'01.23'!L312","v":3}]
["2023-02-01",{"$f":"+IF('01.23'!C313=\"\",\"\",'01.23'!C313)","v":"2023-02-01"},{"$f":"IF(B312=\"\",\"\",COUNTIFS($B$3:B312,B312))","v":7},{"$f":"IF(B312=\"\",\"\",LOOKUP(B312,DataFIX!$F$3:$F$21,DataFIX!$E$3:$E$21))","v":"p"},{"$f":"IF(B312=\"\",\"\",LOOKUP(B312,DataFIX!$F$3:$F$41,DataFIX!$G$3:$G$41)+C312)","v":907},{"$f":"+'01.23'!O313","v":"10:00:00"},{"$f":"+'01.23'!E313","v":"Sedasport"},{"$f":"+'01.23'!G313","v":"vlastní"},{"$f":"+'01.23'!T313","v":"Přeplánováno"},null,null,{"$f":"+'01.23'!L313","v":0}]
["2023-02-01",{"$f":"+IF('01.23'!C314=\"\",\"\",'01.23'!C314)","v":"2023-02-01"},{"$f":"IF(B313=\"\",\"\",COUNTIFS($B$3:B313,B313))","v":8},{"$f":"IF(B313=\"\",\"\",LOOKUP(B313,DataFIX!$F$3:$F$21,DataFIX!$E$3:$E$21))","v":"p"},{"$f":"IF(B313=\"\",\"\",LOOKUP(B313,DataFIX!$F$3:$F$41,DataFIX!$G$3:$G$41)+C313)","v":908},{"$f":"+'01.23'!O314","v":"10:30:00"},{"$f":"+'01.23'!E314","v":"Nufarm"},{"$f":"+'01.23'!G314","v":"FERCAM"},{"$f":"+'01.23'!T314","v":"Vychystáno"},null,null,{"$f":"+'01.23'!L314","v":3}]
["2023-02-01",{"$f":"+IF('01.23'!C315=\"\",\"\",'01.23'!C315)","v":"2023-02-01"},{"$f":"IF(B314=\"\",\"\",COUNTIFS($B$3:B314,B314))","v":9},{"$f":"IF(B314=\"\",\"\",LOOKUP(B314,DataFIX!$F$3:$F$21,DataFIX!$E$3:$E$21))","v":"p"},{"$f":"IF(B314=\"\",\"\",LOOKUP(B314,DataFIX!$F$3:$F$41,DataFIX!$G$3:$G$41)+C314)","v":909},{"$f":"+'01.23'!O315","v":"10:30:00"},{"$f":"+'01.23'!E315","v":"TBA"},{"$f":"+'01.23'!G315","v":"vlastní"},{"$f":"+'01.23'!T315","v":"Dokončeno"},null,null,{"$f":"+'01.23'!L315","v":2}]
["2023-02-01",{"$f":"+IF('01.23'!C316=\"\",\"\",'01.23'!C316)","v":"2023-02-01"},{"$f":"IF(B315=\"\",\"\",COUNTIFS($B$3:B315,B315))","v":10},{"$f":"IF(B315=\"\",\"\",LOOKUP(B315,DataFIX!$F$3:$F$21,DataFIX!$E$3:$E$21))","v":"p"},{"$f":"IF(B315=\"\",\"\",LOOKUP(B315,DataFIX!$F$3:$F$41,DataFIX!$G$3:$G$41)+C315)","v":910},{"$f":"+'01.23'!O316","v":"10:45:00"},{"$f":"+'01.23'!E316","v":"BS vinařské"},{"$f":"+'01.23'!G316","v":"vlastní"},{"$f":"+'01.23'!T316","v":"Dokončeno"},null,null,{"$f":"+'01.23'!L316","v":1}]
["2023-02-01",{"$f":"+IF('01.23'!C317=\"\",\"\",'01.23'!C317)","v":"2023-02-01"},{"$f":"IF(B316=\"\",\"\",COUNTIFS($B$3:B316,B316))","v":11},{"$f":"IF(B316=\"\",\"\",LOOKUP(B316,DataFIX!$F$3:$F$21,DataFIX!$E$3:$E$21))","v":"p"},{"$f":"IF(B316=\"\",\"\",LOOKUP(B316,DataFIX!$F$3:$F$41,DataFIX!$G$3:$G$41)+C316)","v":911},{"$f":"+'01.23'!O317","v":"11:00:00"},{"$f":"+'01.23'!E317","v":"Merlin"},{"$f":"+'01.23'!G317","v":"vlastní"},{"$f":"+'01.23'!T317","v":"Dokončeno"},null,null,{"$f":"+'01.23'!L317","v":1}]
["2023-02-01",{"$f":"+IF('01.23'!C318=\"\",\"\",'01.23'!C318)","v":"2023-02-01"},{"$f":"IF(B317=\"\",\"\",COUNTIFS($B$3:B317,B317))","v":12},{"$f":"IF(B317=\"\",\"\",LOOKUP(B317,DataFIX!$F$3:$F$21,DataFIX!$E$3:$E$21))","v":"p"},{"$f":"IF(B317=\"\",\"\",LOOKUP(B317,DataFIX!$F$3:$F$41,DataFIX!$G$3:$G$41)+C317)","v":912},{"$f":"+'01.23'!O318","v":"11:20:00"},{"$f":"+'01.23'!E318","v":"Faurecie MB"},{"$f":"+'01.23'!G318","v":"vlastní"},{"$f":"+'01.23'!T318","v":"Dokončeno"},null,null,{"$f":"+'01.23'!L318","v":5}]
["2023-02-01",{"$f":"+IF('01.23'!C319=\"\",\"\",'01.23'!C319)","v":"2023-02-01"},{"$f":"IF(B318=\"\",\"\",COUNTIFS($B$3:B318,B318))","v":13},{"$f":"IF(B318=\"\",\"\",LOOKUP(B318,DataFIX!$F$3:$F$21,DataFIX!$E$3:$E$21))","v":"p"},{"$f":"IF(B318=\"\",\"\",LOOKUP(B318,DataFIX!$F$3:$F$41,DataFIX!$G$3:$G$41)+C318)","v":913},{"$f":"+'01.23'!O319","v":"11:30:00"},{"$f":"+'01.23'!E319","v":"Mankyz "},{"$f":"+'01.23'!G319","v":"vlastní"},{"$f":"+'01.23'!T319","v":"Vychystáno"},null,null,{"$f":"+'01.23'!L319","v":1}]
["2023-02-01",{"$f":"+IF('01.23'!C320=\"\",\"\",'01.23'!C320)","v":"2023-02-01"},{"$f":"IF(B319=\"\",\"\",COUNTIFS($B$3:B319,B319))","v":14},{"$f":"IF(B319=\"\",\"\",LOOKUP(B319,DataFIX!$F$3:$F$21,DataFIX!$E$3:$E$21))","v":"p"},{"$f":"IF(B319=\"\",\"\",LOOKUP(B319,DataFIX!$F$3:$F$41,DataFIX!$G$3:$G$41)+C319)","v":914},{"$f":"+'01.23'!O320","v":"00:00:00"},{"$f":"+'01.23'!E320","v":"Faurecie HLO"},{"$f":"+'01.23'!G320","v":"vlastní"},{"$f":"+'01.23'!T320","v":"Vychystáno"},null,null,{"$f":"+'01.23'!L320","v":1}]
["2023-02-01",{"$f":"+IF('01.23'!C321=\"\",\"\",'01.23'!C321)","v":"2023-02-01"},{"$f":"IF(B320=\"\",\"\",COUNTIFS($B$3:B320,B320))","v":15},{"$f":"IF(B320=\"\",\"\",LOOKUP(B320,DataFIX!$F$3:$F$21,DataFIX!$E$3:$E$21))","v":"p"},{"$f":"IF(B320=\"\",\"\",LOOKUP(B320,DataFIX!$F$3:$F$41,DataFIX!$G$3:$G$41)+C320)","v":915},{"$f":"+'01.23'!O321","v":"00:00:00"},{"$f":"+'01.23'!E321","v":"GLS"},{"$f":"+'01.23'!G321","v":0},{"$f":"+'01.23'!T321","v":"Vychystáno"},null,null,{"$f":"+'01.23'!L321","v":1}]
["2023-02-01",{"$f":"+IF('01.23'!C322=\"\",\"\",'01.23'!C322)","v":"2023-02-01"},{"$f":"IF(B321=\"\",\"\",COUNTIFS($B$3:B321,B321))","v":16},{"$f":"IF(B321=\"\",\"\",LOOKUP(B321,DataFIX!$F$3:$F$21,DataFIX!$E$3:$E$21))","v":"p"},{"$f":"IF(B321=\"\",\"\",LOOKUP(B321,DataFIX!$F$3:$F$41,DataFIX!$G$3:$G$41)+C321)","v":916},{"$f":"+'01.23'!O322","v":"00:00:00"},{"$f":"+'01.23'!E322","v":"OZAS-ESAB"},{"$f":"+'01.23'!G322","v":"Schenker"},{"$f":"+'01.23'!T322","v":"Dokončeno"},null,null,{"$f":"+'01.23'!L322","v":1}]
["2023-02-02",{"$f":"+IF('01.23'!C323=\"\",\"\",'01.23'!C323)","v":"2023-02-02"},{"$f":"IF(B322=\"\",\"\",COUNTIFS($B$3:B322,B322))","v":1},{"$f":"IF(B322=\"\",\"\",LOOKUP(B322,DataFIX!$F$3:$F$21,DataFIX!$E$3:$E$21))","v":"p"},{"$f":"IF(B322=\"\",\"\",LOOKUP(B322,DataFIX!$F$3:$F$41,DataFIX!$G$3:$G$41)+C322)","v":931},{"$f":"+'01.23'!O323","v":"06:00:00"},{"$f":"+'01.23'!E323","v":"DF"},{"$f":"+'01.23'!G323","v":"Hroza "},{"$f":"+'01.23'!T323","v":"Dokončeno"},null,null,{"$f":"+'01.23'!L323","v":2}]
["2023-02-02",{"$f":"+IF('01.23'!C324=\"\",\"\",'01.23'!C324)","v":"2023-02-02"},{"$f":"IF(B323=\"\",\"\",COUNTIFS($B$3:B323,B323))","v":2},{"$f":"IF(B323=\"\",\"\",LOOKUP(B323,DataFIX!$F$3:$F$21,DataFIX!$E$3:$E$21))","v":"p"},{"$f":"IF(B323=\"\",\"\",LOOKUP(B323,DataFIX!$F$3:$F$41,DataFIX!$G$3:$G$41)+C323)","v":932},{"$f":"+'01.23'!O324","v":"06:05:00"},{"$f":"+'01.23'!E324","v":"Everstar"},{"$f":"+'01.23'!G324","v":"TEZET"},{"$f":"+'01.23'!T324","v":"Dokončeno"},null,null,{"$f":"+'01.23'!L324","v":2}]
[{"$f":"+B324","v":"2023-02-02"},{"$f":"+IF('01.23'!C325=\"\",\"\",'01.23'!C325)","v":"2023-02-02"},{"$f":"IF(B324=\"\",\"\",COUNTIFS($B$3:B324,B324))","v":3},{"$f":"IF(B324=\"\",\"\",LOOKUP(B324,DataFIX!$F$3:$F$21,DataFIX!$E$3:$E$21))","v":"p"},{"$f":"IF(B324=\"\",\"\",LOOKUP(B324,DataFIX!$F$3:$F$41,DataFIX!$G$3:$G$41)+C324)","v":933},{"$f":"+'01.23'!O325","v":"07:00:00"},{"$f":"+'01.23'!E325","v":"Antolin"},{"$f":"+'01.23'!G325","v":"vlastní"},{"$f":"+'01.23'!T325","v":"Naplánováno"},null,null,{"$f":"+'01.23'!L325","v":3}]
["2023-02-02",{"$f":"+IF('01.23'!C326=\"\",\"\",'01.23'!C326)","v":"2023-02-02"},{"$f":"IF(B325=\"\",\"\",COUNTIFS($B$3:B325,B325))","v":4},{"$f":"IF(B325=\"\",\"\",LOOKUP(B325,DataFIX!$F$3:$F$21,DataFIX!$E$3:$E$21))","v":"p"},{"$f":"IF(B325=\"\",\"\",LOOKUP(B325,DataFIX!$F$3:$F$41,DataFIX!$G$3:$G$41)+C325)","v":934},{"$f":"+'01.23'!O326","v":"07:30:00"},{"$f":"+'01.23'!E326","v":"D.I.CHEM"},{"$f":"+'01.23'!G326","v":"vlastní"},{"$f":"+'01.23'!T326","v":"Naplánováno"},null,null,{"$f":"+'01.23'!L326","v":3}]
["2023-02-02",{"$f":"+IF('01.23'!C327=\"\",\"\",'01.23'!C327)","v":"2023-02-02"},{"$f":"IF(B326=\"\",\"\",COUNTIFS($B$3:B326,B326))","v":5},{"$f":"IF(B326=\"\",\"\",LOOKUP(B326,DataFIX!$F$3:$F$21,DataFIX!$E$3:$E$21))","v":"p"},{"$f":"IF(B326=\"\",\"\",LOOKUP(B326,DataFIX!$F$3:$F$41,DataFIX!$G$3:$G$41)+C326)","v":935},{"$f":"+'01.23'!O327","v":"11:00:00"},{"$f":"+'01.23'!E327","v":"JPSK"},{"$f":"+'01.23'!G327","v":"Legarde"},{"$f":"+'01.23'!T327","v":"Naplánováno"},null,null,{"$f":"+'01.23'!L327","v":3}]
["2023-02-02",{"$f":"+IF('01.23'!C328=\"\",\"\",'01.23'!C328)","v":"2023-02-02"},{"$f":"IF(B327=\"\",\"\",COUNTIFS($B$3:B327,B327))","v":6},{"$f":"IF(B327=\"\",\"\",LOOKUP(B327,DataFIX!$F$3:$F$21,DataFIX!$E$3:$E$21))","v":"p"},{"$f":"IF(B327=\"\",\"\",LOOKUP(B327,DataFIX!$F$3:$F$41,DataFIX!$G$3:$G$41)+C327)","v":936},{"$f":"+'01.23'!O328","v":"11:00:00"},{"$f":"+'01.23'!E328","v":"TBA "},{"$f":"+'01.23'!G328","v":"vlastní"},{"$f":"+'01.23'!T328","v":"Naplánováno"},null,null,{"$f":"+'01.23'!L328","v":4}]
["2023-02-02",{"$f":"+IF('01.23'!C329=\"\",\"\",'01.23'!C329)","v":"2023-02-02"},{"$f":"IF(B328=\"\",\"\",COUNTIFS($B$3:B328,B328))","v":7},{"$f":"IF(B328=\"\",\"\",LOOKUP(B328,DataFIX!$F$3:$F$21,DataFIX!$E$3:$E$21))","v":"p"},{"$f":"IF(B328=\"\",\"\",LOOKUP(B328,DataFIX!$F$3:$F$41,DataFIX!$G$3:$G$41)+C328)","v":937},{"$f":"+'01.23'!O329","v":"12:30:00"},{"$f":"+'01.23'!E329","v":"M.A.T."},{"$f":"+'01.23'!G329","v":"vlastní"},{"$f":"+'01.23'!T329","v":"Naplánováno"},null,null,{"$f":"+'01.23'!L329","v":4}]
["2023-02-02",{"$f":"+IF('01.23'!C330=\"\",\"\",'01.23'!C330)","v":"2023-02-02"},{"$f":"IF(B329=\"\",\"\",COUNTIFS($B$3:B329,B329))","v":8},{"$f":"IF(B329=\"\",\"\",LOOKUP(B329,DataFIX!$F$3:$F$21,DataFIX!$E$3:$E$21))","v":"p"},{"$f":"IF(B329=\"\",\"\",LOOKUP(B329,DataFIX!$F$3:$F$41,DataFIX!$G$3:$G$41)+C329)","v":938},{"$f":"+'01.23'!O330","v":"12:30:00"},{"$f":"+'01.23'!E330","v":"Novato"},{"$f":"+'01.23'!G330","v":"Toptrans-vlastní"},{"$f":"+'01.23'!T330","v":"Naplánováno"},null,null,{"$f":"+'01.23'!L330","v":1}]
["2023-02-02",{"$f":"+IF('01.23'!C331=\"\",\"\",'01.23'!C331)","v":"2023-02-02"},{"$f":"IF(B330=\"\",\"\",COUNTIFS($B$3:B330,B330))","v":9},{"$f":"IF(B330=\"\",\"\",LOOKUP(B330,DataFIX!$F$3:$F$21,DataFIX!$E$3:$E$21))","v":"p"},{"$f":"IF(B330=\"\",\"\",LOOKUP(B330,DataFIX!$F$3:$F$41,DataFIX!$G$3:$G$41)+C330)","v":939},{"$f":"+'01.23'!O331","v":"00:00:00"},{"$f":"+'01.23'!E331","v":"Faurecie MB"},{"$f":"+'01.23'!G331","v":"vlastní"},{"$f":"+'01.23'!T331","v":"Naplánováno"},null,null,{"$f":"+'01.23'!L331","v":5}]
["2023-02-02",{"$f":"+IF('01.23'!C332=\"\",\"\",'01.23'!C332)","v":"2023-02-02"},{"$f":"IF(B331=\"\",\"\",COUNTIFS($B$3:B331,B331))","v":10},{"$f":"IF(B331=\"\",\"\",LOOKUP(B331,DataFIX!$F$3:$F$21,DataFIX!$E$3:$E$21))","v":"p"},{"$f":"IF(B331=\"\",\"\",LOOKUP(B331,DataFIX!$F$3:$F$41,DataFIX!$G$3:$G$41)+C331)","v":940},{"$f":"+'01.23'!O332","v":"00:00:00"},{"$f":"+'01.23'!E332","v":"Bikapack"},{"$f":"+'01.23'!G332","v":"Vlastní"},{"$f":"+'01.23'!T332","v":"Naplánováno"},null,null,{"$f":"+'01.23'!L332","v":1}]
["2023-02-03",{"$f":"+IF('01.23'!C333=\"\",\"\",'01.23'!C333)","v":"2023-02-03"},{"$f":"IF(B332=\"\",\"\",COUNTIFS($B$3:B332,B332))","v":1},{"$f":"IF(B332=\"\",\"\",LOOKUP(B332,DataFIX!$F$3:$F$21,DataFIX!$E$3:$E$21))","v":"p"},{"$f":"IF(B332=\"\",\"\",LOOKUP(B332,DataFIX!$F$3:$F$41,DataFIX!$G$3:$G$41)+C332)","v":961},{"$f":"+'01.23'!O333","v":"06:00:00"},{"$f":"+'01.23'!E333","v":"DF"},{"$f":"+'01.23'!G333","v":"Hroza "},{"$f":"+'01.23'!T333","v":"Vychystáno"},null,null,{"$f":"+'01.23'!L333","v":3}]
["2023-02-03",{"$f":"+IF('01.23'!C334=\"\",\"\",'01.23'!C334)","v":"2023-02-03"},{"$f":"IF(B333=\"\",\"\",COUNTIFS($B$3:B333,B333))","v":2},{"$f":"IF(B333=\"\",\"\",LOOKUP(B333,DataFIX!$F$3:$F$21,DataFIX!$E$3:$E$21))","v":"p"},{"$f":"IF(B333=\"\",\"\",LOOKUP(B333,DataFIX!$F$3:$F$41,DataFIX!$G$3:$G$41)+C333)","v":962},{"$f":"+'01.23'!O334","v":"06:05:00"},{"$f":"+'01.23'!E334","v":"Cheport"},{"$f":"+'01.23'!G334","v":"TEZET"},{"$f":"+'01.23'!T334","v":"Naplánováno"},null,null,{"$f":"+'01.23'!L334","v":3}]
["2023-02-03",{"$f":"+IF('01.23'!C335=\"\",\"\",'01.23'!C335)","v":"2023-02-03"},{"$f":"IF(B334=\"\",\"\",COUNTIFS($B$3:B334,B334))","v":3},{"$f":"IF(B334=\"\",\"\",LOOKUP(B334,DataFIX!$F$3:$F$21,DataFIX!$E$3:$E$21))","v":"p"},{"$f":"IF(B334=\"\",\"\",LOOKUP(B334,DataFIX!$F$3:$F$41,DataFIX!$G$3:$G$41)+C334)","v":963},{"$f":"+'01.23'!O335","v":"08:30:00"},{"$f":"+'01.23'!E335","v":"J.P.PLAST"},{"$f":"+'01.23'!G335","v":"LOGMAX"},{"$f":"+'01.23'!T335","v":"Naplánováno"},null,null,{"$f":"+'01.23'!L335","v":1}]
["2023-02-03",{"$f":"+IF('01.23'!C336=\"\",\"\",'01.23'!C336)","v":"2023-02-03"},{"$f":"IF(B335=\"\",\"\",COUNTIFS($B$3:B335,B335))","v":4},{"$f":"IF(B335=\"\",\"\",LOOKUP(B335,DataFIX!$F$3:$F$21,DataFIX!$E$3:$E$21))","v":"p"},{"$f":"IF(B335=\"\",\"\",LOOKUP(B335,DataFIX!$F$3:$F$41,DataFIX!$G$3:$G$41)+C335)","v":964},{"$f":"+'01.23'!O336","v":"10:00:00"},{"$f":"+'01.23'!E336","v":"Sedasport"},{"$f":"+'01.23'!G336","v":"vlastní"},{"$f":"+'01.23'!T336","v":"Naplánováno"},null,null,{"$f":"+'01.23'!L336","v":4}]
["2023-02-03",{"$f":"+IF('01.23'!C337=\"\",\"\",'01.23'!C337)","v":"2023-02-03"},{"$f":"IF(B336=\"\",\"\",COUNTIFS($B$3:B336,B336))","v":5},{"$f":"IF(B336=\"\",\"\",LOOKUP(B336,DataFIX!$F$3:$F$21,DataFIX!$E$3:$E$21))","v":"p"},{"$f":"IF(B336=\"\",\"\",LOOKUP(B336,DataFIX!$F$3:$F$41,DataFIX!$G$3:$G$41)+C336)","v":965},{"$f":"+'01.23'!O337","v":"11:00:00"},{"$f":"+'01.23'!E337","v":"JPSK"},{"$f":"+'01.23'!G337","v":"Legarde"},{"$f":"+'01.23'!T337","v":"Naplánováno"},null,null,{"$f":"+'01.23'!L337","v":3}]
["2023-02-03",{"$f":"+IF('01.23'!C338=\"\",\"\",'01.23'!C338)","v":"2023-02-03"},{"$f":"IF(B337=\"\",\"\",COUNTIFS($B$3:B337,B337))","v":6},{"$f":"IF(B337=\"\",\"\",LOOKUP(B337,DataFIX!$F$3:$F$21,DataFIX!$E$3:$E$21))","v":"p"},{"$f":"IF(B337=\"\",\"\",LOOKUP(B337,DataFIX!$F$3:$F$41,DataFIX!$G$3:$G$41)+C337)","v":966},{"$f":"+'01.23'!O338","v":"12:00:00"},{"$f":"+'01.23'!E338","v":"TBA"},{"$f":"+'01.23'!G338","v":"vlastní"},{"$f":"+'01.23'!T338","v":"Naplánováno"},null,null,{"$f":"+'01.23'!L338","v":4}]
["2023-02-03",{"$f":"+IF('01.23'!C339=\"\",\"\",'01.23'!C339)","v":"2023-02-03"},{"$f":"IF(B338=\"\",\"\",COUNTIFS($B$3:B338,B338))","v":7},{"$f":"IF(B338=\"\",\"\",LOOKUP(B338,DataFIX!$F$3:$F$21,DataFIX!$E$3:$E$21))","v":"p"},{"$f":"IF(B338=\"\",\"\",LOOKUP(B338,DataFIX!$F$3:$F$41,DataFIX!$G$3:$G$41)+C338)","v":967},{"$f":"+'01.23'!O339","v":"00:00:00"},{"$f":"+'01.23'!E339","v":"Nufarm"},{"$f":"+'01.23'!G339","v":"Maco-Trans"},{"$f":"+'01.23'!T339","v":"Naplánováno"},null,null,{"$f":"+'01.23'!L339","v":3}]
["2023-02-03",{"$f":"+IF('01.23'!C340=\"\",\"\",'01.23'!C340)","v":"2023-02-03"},{"$f":"IF(B339=\"\",\"\",COUNTIFS($B$3:B339,B339))","v":8},{"$f":"IF(B339=\"\",\"\",LOOKUP(B339,DataFIX!$F$3:$F$21,DataFIX!$E$3:$E$21))","v":"p"},{"$f":"IF(B339=\"\",\"\",LOOKUP(B339,DataFIX!$F$3:$F$41,DataFIX!$G$3:$G$41)+C339)","v":968},{"$f":"+'01.23'!O340","v":"00:00:00"},{"$f":"+'01.23'!E340","v":"Faurecie MB"},{"$f":"+'01.23'!G340","v":"vlastní"},{"$f":"+'01.23'!T340","v":"Naplánováno"},null,null,{"$f":"+'01.23'!L340","v":5}]
["2023-02-03",{"$f":"+IF('01.23'!C341=\"\",\"\",'01.23'!C341)","v":"2023-02-03"},{"$f":"IF(B340=\"\",\"\",COUNTIFS($B$3:B340,B340))","v":9},{"$f":"IF(B340=\"\",\"\",LOOKUP(B340,DataFIX!$F$3:$F$21,DataFIX!$E$3:$E$21))","v":"p"},{"$f":"IF(B340=\"\",\"\",LOOKUP(B340,DataFIX!$F$3:$F$41,DataFIX!$G$3:$G$41)+C340)","v":969},{"$f":"+'01.23'!O341","v":"00:00:00"},{"$f":"+'01.23'!E341","v":"T-Net"},{"$f":"+'01.23'!G341","v":"MSB"},{"$f":"+'01.23'!T341","v":"Naplánováno"},null,null,{"$f":"+'01.23'!L341","v":3}]
["2023-02-03",{"$f":"+IF('01.23'!C342=\"\",\"\",'01.23'!C342)","v":"2023-02-03"},{"$f":"IF(B341=\"\",\"\",COUNTIFS($B$3:B341,B341))","v":10},{"$f":"IF(B341=\"\",\"\",LOOKUP(B341,DataFIX!$F$3:$F$21,DataFIX!$E$3:$E$21))","v":"p"},{"$f":"IF(B341=\"\",\"\",LOOKUP(B341,DataFIX!$F$3:$F$41,DataFIX!$G$3:$G$41)+C341)","v":970},{"$f":"+'01.23'!O342","v":"00:00:00"},{"$f":"+'01.23'!E342","v":"Nohel Garden"},{"$f":"+'01.23'!G342","v":"vlastní"},{"$f":"+'01.23'!T342","v":"Naplánováno"},null,null,{"$f":"+'01.23'!L342","v":1}]
["2023-02-03",{"$f":"+IF('01.23'!C343=\"\",\"\",'01.23'!C343)","v":"2023-02-03"},{"$f":"IF(B342=\"\",\"\",COUNTIFS($B$3:B342,B342))","v":11},{"$f":"IF(B342=\"\",\"\",LOOKUP(B342,DataFIX!$F$3:$F$21,DataFIX!$E$3:$E$21))","v":"p"},{"$f":"IF(B342=\"\",\"\",LOOKUP(B342,DataFIX!$F$3:$F$41,DataFIX!$G$3:$G$41)+C342)","v":971},{"$f":"+'01.23'!O343","v":"00:00:00"},{"$f":"+'01.23'!E343","v":"T-Net"},{"$f":"+'01.23'!G343","v":"MSB"},{"$f":"+'01.23'!T343","v":"Naplánováno"},null,null,{"$f":"+'01.23'!L343","v":3}]
["2023-02-03",{"$f":"+IF('01.23'!C344=\"\",\"\",'01.23'!C344)","v":"2023-02-03"},{"$f":"IF(B343=\"\",\"\",COUNTIFS($B$3:B343,B343))","v":12},{"$f":"IF(B343=\"\",\"\",LOOKUP(B343,DataFIX!$F$3:$F$21,DataFIX!$E$3:$E$21))","v":"p"},{"$f":"IF(B343=\"\",\"\",LOOKUP(B343,DataFIX!$F$3:$F$41,DataFIX!$G$3:$G$41)+C343)","v":972},{"$f":"+'01.23'!O344","v":"00:00:00"},{"$f":"+'01.23'!E344","v":"T-Net"},{"$f":"+'01.23'!G344","v":"MSB"},{"$f":"+'01.23'!T344","v":"Naplánováno"},null,null,{"$f":"+'01.23'!L344","v":3}]
["2023-02-03",{"$f":"+IF('01.23'!C345=\"\",\"\",'01.23'!C345)","v":"2023-02-03"},{"$f":"IF(B344=\"\",\"\",COUNTIFS($B$3:B344,B344))","v":13},{"$f":"IF(B344=\"\",\"\",LOOKUP(B344,DataFIX!$F$3:$F$21,DataFIX!$E$3:$E$21))","v":"p"},{"$f":"IF(B344=\"\",\"\",LOOKUP(B344,DataFIX!$F$3:$F$41,DataFIX!$G$3:$G$41)+C344)","v":973},{"$f":"+'01.23'!O345","v":"00:00:00"},{"$f":"+'01.23'!E345","v":"T-Net"},{"$f":"+'01.23'!G345","v":"Legarde"},{"$f":"+'01.23'!T345","v":"Naplánováno"},null,null,{"$f":"+'01.23'!L345","v":1}]
["2023-02-03",{"$f":"+IF('01.23'!C346=\"\",\"\",'01.23'!C346)","v":"2023-02-03"},{"$f":"IF(B345=\"\",\"\",COUNTIFS($B$3:B345,B345))","v":14},{"$f":"IF(B345=\"\",\"\",LOOKUP(B345,DataFIX!$F$3:$F$21,DataFIX!$E$3:$E$21))","v":"p"},{"$f":"IF(B345=\"\",\"\",LOOKUP(B345,DataFIX!$F$3:$F$41,DataFIX!$G$3:$G$41)+C345)","v":974},{"$f":"+'01.23'!O346","v":"00:00:00"},{"$f":"+'01.23'!E346","v":"VITRACO"},{"$f":"+'01.23'!G346","v":"? P. Karpíšek"},{"$f":"+'01.23'!T346","v":"Naplánováno"},null,null,{"$f":"+'01.23'!L346","v":3}]
["",{"$f":"+IF('01.23'!C347=\"\",\"\",'01.23'!C347)","v":""},{"$f":"IF(B346=\"\",\"\",COUNTIFS($B$3:B346,B346))","v":""},{"$f":"IF(B346=\"\",\"\",LOOKUP(B346,DataFIX!$F$3:$F$21,DataFIX!$E$3:$E$21))","v":""},{"$f":"IF(B346=\"\",\"\",LOOKUP(B346,DataFIX!$F$3:$F$41,DataFIX!$G$3:$G$41)+C346)","v":""},{"$f":"+'01.23'!O347","v":"00:00:00"},{"$f":"+'01.23'!E347","v":0},{"$f":"+'01.23'!G347","v":0},{"$f":"+'01.23'!T347","v":0},null,null,{"$f":"+'01.23'!L347","v":0}]
["",{"$f":"+IF('01.23'!C348=\"\",\"\",'01.23'!C348)","v":""},{"$f":"IF(B347=\"\",\"\",COUNTIFS($B$3:B347,B347))","v":""},{"$f":"IF(B347=\"\",\"\",LOOKUP(B347,DataFIX!$F$3:$F$21,DataFIX!$E$3:$E$21))","v":""},{"$f":"IF(B347=\"\",\"\",LOOKUP(B347,DataFIX!$F$3:$F$41,DataFIX!$G$3:$G$41)+C347)","v":""},{"$f":"+'01.23'!O348","v":"00:00:00"},{"$f":"+'01.23'!E348","v":0},{"$f":"+'01.23'!G348","v":0},{"$f":"+'01.23'!T348","v":0},null,null,{"$f":"+'01.23'!L348","v":0}]
["",{"$f":"+IF('01.23'!C349=\"\",\"\",'01.23'!C349)","v":""},{"$f":"IF(B348=\"\",\"\",COUNTIFS($B$3:B348,B348))","v":""},{"$f":"IF(B348=\"\",\"\",LOOKUP(B348,DataFIX!$F$3:$F$21,DataFIX!$E$3:$E$21))","v":""},{"$f":"IF(B348=\"\",\"\",LOOKUP(B348,DataFIX!$F$3:$F$41,DataFIX!$G$3:$G$41)+C348)","v":""},{"$f":"+'01.23'!O349","v":"00:00:00"},{"$f":"+'01.23'!E349","v":0},{"$f":"+'01.23'!G349","v":0},{"$f":"+'01.23'!T349","v":0},null,null,{"$f":"+'01.23'!L349","v":0}]
["",{"$f":"+IF('01.23'!C350=\"\",\"\",'01.23'!C350)","v":""},{"$f":"IF(B349=\"\",\"\",COUNTIFS($B$3:B349,B349))","v":""},{"$f":"IF(B349=\"\",\"\",LOOKUP(B349,DataFIX!$F$3:$F$21,DataFIX!$E$3:$E$21))","v":""},{"$f":"IF(B349=\"\",\"\",LOOKUP(B349,DataFIX!$F$3:$F$41,DataFIX!$G$3:$G$41)+C349)","v":""},{"$f":"+'01.23'!O350","v":"00:00:00"},{"$f":"+'01.23'!E350","v":0},{"$f":"+'01.23'!G350","v":0},{"$f":"+'01.23'!T350","v":0},null,null,{"$f":"+'01.23'!L350","v":0}]
["",{"$f":"+IF('01.23'!C351=\"\",\"\",'01.23'!C351)","v":""},{"$f":"IF(B350=\"\",\"\",COUNTIFS($B$3:B350,B350))","v":""},{"$f":"IF(B350=\"\",\"\",LOOKUP(B350,DataFIX!$F$3:$F$21,DataFIX!$E$3:$E$21))","v":""},{"$f":"IF(B350=\"\",\"\",LOOKUP(B350,DataFIX!$F$3:$F$41,DataFIX!$G$3:$G$41)+C350)","v":""},{"$f":"+'01.23'!O351","v":"00:00:00"},{"$f":"+'01.23'!E351","v":0},{"$f":"+'01.23'!G351","v":0},{"$f":"+'01.23'!T351","v":0},null,null,{"$f":"+'01.23'!L351","v":0}]
["",{"$f":"+IF('01.23'!C352=\"\",\"\",'01.23'!C352)","v":""},{"$f":"IF(B351=\"\",\"\",COUNTIFS($B$3:B351,B351))","v":""},{"$f":"IF(B351=\"\",\"\",LOOKUP(B351,DataFIX!$F$3:$F$21,DataFIX!$E$3:$E$21))","v":""},{"$f":"IF(B351=\"\",\"\",LOOKUP(B351,DataFIX!$F$3:$F$41,DataFIX!$G$3:$G$41)+C351)","v":""},{"$f":"+'01.23'!O352","v":"00:00:00"},{"$f":"+'01.23'!E352","v":0},{"$f":"+'01.23'!G352","v":0},{"$f":"+'01.23'!T352","v":0},null,null,{"$f":"+'01.23'!L352","v":0}]
["",{"$f":"+IF('01.23'!C353=\"\",\"\",'01.23'!C353)","v":""},{"$f":"IF(B352=\"\",\"\",COUNTIFS($B$3:B352,B352))","v":""},{"$f":"IF(B352=\"\",\"\",LOOKUP(B352,DataFIX!$F$3:$F$21,DataFIX!$E$3:$E$21))","v":""},{"$f":"IF(B352=\"\",\"\",LOOKUP(B352,DataFIX!$F$3:$F$41,DataFIX!$G$3:$G$41)+C352)","v":""},{"$f":"+'01.23'!O353","v":"00:00:00"},{"$f":"+'01.23'!E353","v":0},{"$f":"+'01.23'!G353","v":0},{"$f":"+'01.23'!T353","v":0},null,null,{"$f":"+'01.23'!L353","v":0}]
["",{"$f":"+IF('01.23'!C354=\"\",\"\",'01.23'!C354)","v":""},{"$f":"IF(B353=\"\",\"\",COUNTIFS($B$3:B353,B353))","v":""},{"$f":"IF(B353=\"\",\"\",LOOKUP(B353,DataFIX!$F$3:$F$21,DataFIX!$E$3:$E$21))","v":""},{"$f":"IF(B353=\"\",\"\",LOOKUP(B353,DataFIX!$F$3:$F$41,DataFIX!$G$3:$G$41)+C353)","v":""},{"$f":"+'01.23'!O354","v":"00:00:00"},{"$f":"+'01.23'!E354","v":0},{"$f":"+'01.23'!G354","v":0},{"$f":"+'01.23'!T354","v":0},null,null,{"$f":"+'01.23'!L354","v":0}]
["",{"$f":"+IF('01.23'!C355=\"\",\"\",'01.23'!C355)","v":""},{"$f":"IF(B354=\"\",\"\",COUNTIFS($B$3:B354,B354))","v":""},{"$f":"IF(B354=\"\",\"\",LOOKUP(B354,DataFIX!$F$3:$F$21,DataFIX!$E$3:$E$21))","v":""},{"$f":"IF(B354=\"\",\"\",LOOKUP(B354,DataFIX!$F$3:$F$41,DataFIX!$G$3:$G$41)+C354)","v":""},{"$f":"+'01.23'!O355","v":"00:00:00"},{"$f":"+'01.23'!E355","v":0},{"$f":"+'01.23'!G355","v":0},{"$f":"+'01.23'!T355","v":0},null,null,{"$f":"+'01.23'!L355","v":0}]
["",{"$f":"+IF('01.23'!C356=\"\",\"\",'01.23'!C356)","v":""},{"$f":"IF(B355=\"\",\"\",COUNTIFS($B$3:B355,B355))","v":""},{"$f":"IF(B355=\"\",\"\",LOOKUP(B355,DataFIX!$F$3:$F$21,DataFIX!$E$3:$E$21))","v":""},{"$f":"IF(B355=\"\",\"\",LOOKUP(B355,DataFIX!$F$3:$F$41,DataFIX!$G$3:$G$41)+C355)","v":""},{"$f":"+'01.23'!O356","v":"00:00:00"},{"$f":"+'01.23'!E356","v":0},{"$f":"+'01.23'!G356","v":0},{"$f":"+'01.23'!T356","v":0},null,null,{"$f":"+'01.23'!L356","v":0}]
["",{"$f":"+IF('01.23'!C357=\"\",\"\",'01.23'!C357)","v":""},{"$f":"IF(B356=\"\",\"\",COUNTIFS($B$3:B356,B356))","v":""},{"$f":"IF(B356=\"\",\"\",LOOKUP(B356,DataFIX!$F$3:$F$21,DataFIX!$E$3:$E$21))","v":""},{"$f":"IF(B356=\"\",\"\",LOOKUP(B356,DataFIX!$F$3:$F$41,DataFIX!$G$3:$G$41)+C356)","v":""},{"$f":"+'01.23'!O357","v":"00:00:00"},{"$f":"+'01.23'!E357","v":0},{"$f":"+'01.23'!G357","v":0},{"$f":"+'01.23'!T357","v":0},null,null,{"$f":"+'01.23'!L357","v":0}]
["",{"$f":"+IF('01.23'!C358=\"\",\"\",'01.23'!C358)","v":""},{"$f":"IF(B357=\"\",\"\",COUNTIFS($B$3:B357,B357))","v":""},{"$f":"IF(B357=\"\",\"\",LOOKUP(B357,DataFIX!$F$3:$F$21,DataFIX!$E$3:$E$21))","v":""},{"$f":"IF(B357=\"\",\"\",LOOKUP(B357,DataFIX!$F$3:$F$41,DataFIX!$G$3:$G$41)+C357)","v":""},{"$f":"+'01.23'!O358","v":"00:00:00"},{"$f":"+'01.23'!E358","v":0},{"$f":"+'01.23'!G358","v":0},{"$f":"+'01.23'!T358","v":0},null,null,{"$f":"+'01.23'!L358","v":0}]
["",{"$f":"+IF('01.23'!C359=\"\",\"\",'01.23'!C359)","v":""},{"$f":"IF(B358=\"\",\"\",COUNTIFS($B$3:B358,B358))","v":""},{"$f":"IF(B358=\"\",\"\",LOOKUP(B358,DataFIX!$F$3:$F$21,DataFIX!$E$3:$E$21))","v":""},{"$f":"IF(B358=\"\",\"\",LOOKUP(B358,DataFIX!$F$3:$F$41,DataFIX!$G$3:$G$41)+C358)","v":""},{"$f":"+'01.23'!O359","v":"00:00:00"},{"$f":"+'01.23'!E359","v":0},{"$f":"+'01.23'!G359","v":0},{"$f":"+'01.23'!T359","v":0},null,null,{"$f":"+'01.23'!L359","v":0}]
["",{"$f":"+IF('01.23'!C360=\"\",\"\",'01.23'!C360)","v":""},{"$f":"IF(B359=\"\",\"\",COUNTIFS($B$3:B359,B359))","v":""},{"$f":"IF(B359=\"\",\"\",LOOKUP(B359,DataFIX!$F$3:$F$21,DataFIX!$E$3:$E$21))","v":""},{"$f":"IF(B359=\"\",\"\",LOOKUP(B359,DataFIX!$F$3:$F$41,DataFIX!$G$3:$G$41)+C359)","v":""},{"$f":"+'01.23'!O360","v":"00:00:00"},{"$f":"+'01.23'!E360","v":0},{"$f":"+'01.23'!G360","v":0},{"$f":"+'01.23'!T360","v":0},null,null,{"$f":"+'01.23'!L360","v":0}]
["",{"$f":"+IF('01.23'!C361=\"\",\"\",'01.23'!C361)","v":""},{"$f":"IF(B360=\"\",\"\",COUNTIFS($B$3:B360,B360))","v":""},{"$f":"IF(B360=\"\",\"\",LOOKUP(B360,DataFIX!$F$3:$F$21,DataFIX!$E$3:$E$21))","v":""},{"$f":"IF(B360=\"\",\"\",LOOKUP(B360,DataFIX!$F$3:$F$41,DataFIX!$G$3:$G$41)+C360)","v":""},{"$f":"+'01.23'!O361","v":"00:00:00"},{"$f":"+'01.23'!E361","v":0},{"$f":"+'01.23'!G361","v":0},{"$f":"+'01.23'!T361","v":0},null,null,{"$f":"+'01.23'!L361","v":0}]
["",{"$f":"+IF('01.23'!C362=\"\",\"\",'01.23'!C362)","v":""},{"$f":"IF(B361=\"\",\"\",COUNTIFS($B$3:B361,B361))","v":""},{"$f":"IF(B361=\"\",\"\",LOOKUP(B361,DataFIX!$F$3:$F$21,DataFIX!$E$3:$E$21))","v":""},{"$f":"IF(B361=\"\",\"\",LOOKUP(B361,DataFIX!$F$3:$F$41,DataFIX!$G$3:$G$41)+C361)","v":""},{"$f":"+'01.23'!O362","v":"00:00:00"},{"$f":"+'01.23'!E362","v":0},{"$f":"+'01.23'!G362","v":0},{"$f":"+'01.23'!T362","v":0},null,null,{"$f":"+'01.23'!L362","v":0}]
["",{"$f":"+IF('01.23'!C363=\"\",\"\",'01.23'!C363)","v":""},{"$f":"IF(B362=\"\",\"\",COUNTIFS($B$3:B362,B362))","v":""},{"$f":"IF(B362=\"\",\"\",LOOKUP(B362,DataFIX!$F$3:$F$21,DataFIX!$E$3:$E$21))","v":""},{"$f":"IF(B362=\"\",\"\",LOOKUP(B362,DataFIX!$F$3:$F$41,DataFIX!$G$3:$G$41)+C362)","v":""},{"$f":"+'01.23'!O363","v":"00:00:00"},{"$f":"+'01.23'!E363","v":0},{"$f":"+'01.23'!G363","v":0},{"$f":"+'01.23'!T363","v":0},null,null,{"$f":"+'01.23'!L363","v":0}]
["",{"$f":"+IF('01.23'!C364=\"\",\"\",'01.23'!C364)","v":""},{"$f":"IF(B363=\"\",\"\",COUNTIFS($B$3:B363,B363))","v":""},{"$f":"IF(B363=\"\",\"\",LOOKUP(B363,DataFIX!$F$3:$F$21,DataFIX!$E$3:$E$21))","v":""},{"$f":"IF(B363=\"\",\"\",LOOKUP(B363,DataFIX!$F$3:$F$41,DataFIX!$G$3:$G$41)+C363)","v":""},{"$f":"+'01.23'!O364","v":"00:00:00"},{"$f":"+'01.23'!E364","v":0},{"$f":"+'01.23'!G364","v":0},{"$f":"+'01.23'!T364","v":0},null,null,{"$f":"+'01.23'!L364","v":0}]
["",{"$f":"+IF('01.23'!C365=\"\",\"\",'01.23'!C365)","v":""},{"$f":"IF(B364=\"\",\"\",COUNTIFS($B$3:B364,B364))","v":""},{"$f":"IF(B364=\"\",\"\",LOOKUP(B364,DataFIX!$F$3:$F$21,DataFIX!$E$3:$E$21))","v":""},{"$f":"IF(B364=\"\",\"\",LOOKUP(B364,DataFIX!$F$3:$F$41,DataFIX!$G$3:$G$41)+C364)","v":""},{"$f":"+'01.23'!O365","v":"00:00:00"},{"$f":"+'01.23'!E365","v":0},{"$f":"+'01.23'!G365","v":0},{"$f":"+'01.23'!T365","v":0},null,null,{"$f":"+'01.23'!L365","v":0}]
["",{"$f":"+IF('01.23'!C366=\"\",\"\",'01.23'!C366)","v":""},{"$f":"IF(B365=\"\",\"\",COUNTIFS($B$3:B365,B365))","v":""},{"$f":"IF(B365=\"\",\"\",LOOKUP(B365,DataFIX!$F$3:$F$21,DataFIX!$E$3:$E$21))","v":""},{"$f":"IF(B365=\"\",\"\",LOOKUP(B365,DataFIX!$F$3:$F$41,DataFIX!$G$3:$G$41)+C365)","v":""},{"$f":"+'01.23'!O366","v":"00:00:00"},{"$f":"+'01.23'!E366","v":0},{"$f":"+'01.23'!G366","v":0},{"$f":"+'01.23'!T366","v":0},null,null,{"$f":"+'01.23'!L366","v":0}]
["",{"$f":"+IF('01.23'!C367=\"\",\"\",'01.23'!C367)","v":""},{"$f":"IF(B366=\"\",\"\",COUNTIFS($B$3:B366,B366))","v":""},{"$f":"IF(B366=\"\",\"\",LOOKUP(B366,DataFIX!$F$3:$F$21,DataFIX!$E$3:$E$21))","v":""},{"$f":"IF(B366=\"\",\"\",LOOKUP(B366,DataFIX!$F$3:$F$41,DataFIX!$G$3:$G$41)+C366)","v":""},{"$f":"+'01.23'!O367","v":"00:00:00"},{"$f":"+'01.23'!E367","v":0},{"$f":"+'01.23'!G367","v":0},{"$f":"+'01.23'!T367","v":0},null,null,{"$f":"+'01.23'!L367","v":0}]
["",{"$f":"+IF('01.23'!C368=\"\",\"\",'01.23'!C368)","v":""},{"$f":"IF(B367=\"\",\"\",COUNTIFS($B$3:B367,B367))","v":""},{"$f":"IF(B367=\"\",\"\",LOOKUP(B367,DataFIX!$F$3:$F$21,DataFIX!$E$3:$E$21))","v":""},{"$f":"IF(B367=\"\",\"\",LOOKUP(B367,DataFIX!$F$3:$F$41,DataFIX!$G$3:$G$41)+C367)","v":""},{"$f":"+'01.23'!O368","v":"00:00:00"},{"$f":"+'01.23'!E368","v":0},{"$f":"+'01.23'!G368","v":0},{"$f":"+'01.23'!T368","v":0},null,null,{"$f":"+'01.23'!L368","v":0}]
["",{"$f":"+IF('01.23'!C369=\"\",\"\",'01.23'!C369)","v":""},{"$f":"IF(B368=\"\",\"\",COUNTIFS($B$3:B368,B368))","v":""},{"$f":"IF(B368=\"\",\"\",LOOKUP(B368,DataFIX!$F$3:$F$21,DataFIX!$E$3:$E$21))","v":""},{"$f":"IF(B368=\"\",\"\",LOOKUP(B368,DataFIX!$F$3:$F$41,DataFIX!$G$3:$G$41)+C368)","v":""},{"$f":"+'01.23'!O369","v":"00:00:00"},{"$f":"+'01.23'!E369","v":0},{"$f":"+'01.23'!G369","v":0},{"$f":"+'01.23'!T369","v":0},null,null,{"$f":"+'01.23'!L369","v":0}]
["",{"$f":"+IF('01.23'!C370=\"\",\"\",'01.23'!C370)","v":""},{"$f":"IF(B369=\"\",\"\",COUNTIFS($B$3:B369,B369))","v":""},{"$f":"IF(B369=\"\",\"\",LOOKUP(B369,DataFIX!$F$3:$F$21,DataFIX!$E$3:$E$21))","v":""},{"$f":"IF(B369=\"\",\"\",LOOKUP(B369,DataFIX!$F$3:$F$41,DataFIX!$G$3:$G$41)+C369)","v":""},{"$f":"+'01.23'!O370","v":"00:00:00"},{"$f":"+'01.23'!E370","v":0},{"$f":"+'01.23'!G370","v":0},{"$f":"+'01.23'!T370","v":0},null,null,{"$f":"+'01.23'!L370","v":0}]
["",{"$f":"+IF('01.23'!C371=\"\",\"\",'01.23'!C371)","v":""},{"$f":"IF(B370=\"\",\"\",COUNTIFS($B$3:B370,B370))","v":""},{"$f":"IF(B370=\"\",\"\",LOOKUP(B370,DataFIX!$F$3:$F$21,DataFIX!$E$3:$E$21))","v":""},{"$f":"IF(B370=\"\",\"\",LOOKUP(B370,DataFIX!$F$3:$F$41,DataFIX!$G$3:$G$41)+C370)","v":""},{"$f":"+'01.23'!O371","v":"00:00:00"},{"$f":"+'01.23'!E371","v":0},{"$f":"+'01.23'!G371","v":0},{"$f":"+'01.23'!T371","v":0},null,null,{"$f":"+'01.23'!L371","v":0}]
["",{"$f":"+IF('01.23'!C372=\"\",\"\",'01.23'!C372)","v":""},{"$f":"IF(B371=\"\",\"\",COUNTIFS($B$3:B371,B371))","v":""},{"$f":"IF(B371=\"\",\"\",LOOKUP(B371,DataFIX!$F$3:$F$21,DataFIX!$E$3:$E$21))","v":""},{"$f":"IF(B371=\"\",\"\",LOOKUP(B371,DataFIX!$F$3:$F$41,DataFIX!$G$3:$G$41)+C371)","v":""},{"$f":"+'01.23'!O372","v":"00:00:00"},{"$f":"+'01.23'!E372","v":0},{"$f":"+'01.23'!G372","v":0},{"$f":"+'01.23'!T372","v":0},null,null,{"$f":"+'01.23'!L372","v":0}]
["",{"$f":"+IF('01.23'!C373=\"\",\"\",'01.23'!C373)","v":""},{"$f":"IF(B372=\"\",\"\",COUNTIFS($B$3:B372,B372))","v":""},{"$f":"IF(B372=\"\",\"\",LOOKUP(B372,DataFIX!$F$3:$F$21,DataFIX!$E$3:$E$21))","v":""},{"$f":"IF(B372=\"\",\"\",LOOKUP(B372,DataFIX!$F$3:$F$41,DataFIX!$G$3:$G$41)+C372)","v":""},{"$f":"+'01.23'!O373","v":"00:00:00"},{"$f":"+'01.23'!E373","v":0},{"$f":"+'01.23'!G373","v":0},{"$f":"+'01.23'!T373","v":0},null,null,{"$f":"+'01.23'!L373","v":0}]
["",{"$f":"+IF('01.23'!C374=\"\",\"\",'01.23'!C374)","v":""},{"$f":"IF(B373=\"\",\"\",COUNTIFS($B$3:B373,B373))","v":""},{"$f":"IF(B373=\"\",\"\",LOOKUP(B373,DataFIX!$F$3:$F$21,DataFIX!$E$3:$E$21))","v":""},{"$f":"IF(B373=\"\",\"\",LOOKUP(B373,DataFIX!$F$3:$F$41,DataFIX!$G$3:$G$41)+C373)","v":""},{"$f":"+'01.23'!O374","v":"00:00:00"},{"$f":"+'01.23'!E374","v":0},{"$f":"+'01.23'!G374","v":0},{"$f":"+'01.23'!T374","v":0},null,null,{"$f":"+'01.23'!L374","v":0}]
["",{"$f":"+IF('01.23'!C375=\"\",\"\",'01.23'!C375)","v":""},{"$f":"IF(B374=\"\",\"\",COUNTIFS($B$3:B374,B374))","v":""},{"$f":"IF(B374=\"\",\"\",LOOKUP(B374,DataFIX!$F$3:$F$21,DataFIX!$E$3:$E$21))","v":""},{"$f":"IF(B374=\"\",\"\",LOOKUP(B374,DataFIX!$F$3:$F$41,DataFIX!$G$3:$G$41)+C374)","v":""},{"$f":"+'01.23'!O375","v":"00:00:00"},{"$f":"+'01.23'!E375","v":0},{"$f":"+'01.23'!G375","v":0},{"$f":"+'01.23'!T375","v":0},null,null,{"$f":"+'01.23'!L375","v":0}]
["",{"$f":"+IF('01.23'!C376=\"\",\"\",'01.23'!C376)","v":""},{"$f":"IF(B375=\"\",\"\",COUNTIFS($B$3:B375,B375))","v":""},{"$f":"IF(B375=\"\",\"\",LOOKUP(B375,DataFIX!$F$3:$F$21,DataFIX!$E$3:$E$21))","v":""},{"$f":"IF(B375=\"\",\"\",LOOKUP(B375,DataFIX!$F$3:$F$41,DataFIX!$G$3:$G$41)+C375)","v":""},{"$f":"+'01.23'!O376","v":"00:00:00"},{"$f":"+'01.23'!E376","v":0},{"$f":"+'01.23'!G376","v":0},{"$f":"+'01.23'!T376","v":0},null,null,{"$f":"+'01.23'!L376","v":0}]
["",{"$f":"+IF('01.23'!C377=\"\",\"\",'01.23'!C377)","v":""},{"$f":"IF(B376=\"\",\"\",COUNTIFS($B$3:B376,B376))","v":""},{"$f":"IF(B376=\"\",\"\",LOOKUP(B376,DataFIX!$F$3:$F$21,DataFIX!$E$3:$E$21))","v":""},{"$f":"IF(B376=\"\",\"\",LOOKUP(B376,DataFIX!$F$3:$F$41,DataFIX!$G$3:$G$41)+C376)","v":""},{"$f":"+'01.23'!O377","v":"00:00:00"},{"$f":"+'01.23'!E377","v":0},{"$f":"+'01.23'!G377","v":0},{"$f":"+'01.23'!T377","v":0},null,null,{"$f":"+'01.23'!L377","v":0}]
["",{"$f":"+IF('01.23'!C378=\"\",\"\",'01.23'!C378)","v":""},{"$f":"IF(B377=\"\",\"\",COUNTIFS($B$3:B377,B377))","v":""},{"$f":"IF(B377=\"\",\"\",LOOKUP(B377,DataFIX!$F$3:$F$21,DataFIX!$E$3:$E$21))","v":""},{"$f":"IF(B377=\"\",\"\",LOOKUP(B377,DataFIX!$F$3:$F$41,DataFIX!$G$3:$G$41)+C377)","v":""},{"$f":"+'01.23'!O378","v":"00:00:00"},{"$f":"+'01.23'!E378","v":0},{"$f":"+'01.23'!G378","v":0},{"$f":"+'01.23'!T378","v":0},null,null,{"$f":"+'01.23'!L378","v":0}]
["",{"$f":"+IF('01.23'!C379=\"\",\"\",'01.23'!C379)","v":""},{"$f":"IF(B378=\"\",\"\",COUNTIFS($B$3:B378,B378))","v":""},{"$f":"IF(B378=\"\",\"\",LOOKUP(B378,DataFIX!$F$3:$F$21,DataFIX!$E$3:$E$21))","v":""},{"$f":"IF(B378=\"\",\"\",LOOKUP(B378,DataFIX!$F$3:$F$41,DataFIX!$G$3:$G$41)+C378)","v":""},{"$f":"+'01.23'!O379","v":"00:00:00"},{"$f":"+'01.23'!E379","v":0},{"$f":"+'01.23'!G379","v":0},{"$f":"+'01.23'!T379","v":0},null,null,{"$f":"+'01.23'!L379","v":0}]
["",{"$f":"+IF('01.23'!C380=\"\",\"\",'01.23'!C380)","v":""},{"$f":"IF(B379=\"\",\"\",COUNTIFS($B$3:B379,B379))","v":""},{"$f":"IF(B379=\"\",\"\",LOOKUP(B379,DataFIX!$F$3:$F$21,DataFIX!$E$3:$E$21))","v":""},{"$f":"IF(B379=\"\",\"\",LOOKUP(B379,DataFIX!$F$3:$F$41,DataFIX!$G$3:$G$41)+C379)","v":""},{"$f":"+'01.23'!O380","v":"00:00:00"},{"$f":"+'01.23'!E380","v":0},{"$f":"+'01.23'!G380","v":0},{"$f":"+'01.23'!T380","v":0},null,null,{"$f":"+'01.23'!L380","v":0}]
["",{"$f":"+IF('01.23'!C381=\"\",\"\",'01.23'!C381)","v":""},{"$f":"IF(B380=\"\",\"\",COUNTIFS($B$3:B380,B380))","v":""},{"$f":"IF(B380=\"\",\"\",LOOKUP(B380,DataFIX!$F$3:$F$21,DataFIX!$E$3:$E$21))","v":""},{"$f":"IF(B380=\"\",\"\",LOOKUP(B380,DataFIX!$F$3:$F$41,DataFIX!$G$3:$G$41)+C380)","v":""},{"$f":"+'01.23'!O381","v":"00:00:00"},{"$f":"+'01.23'!E381","v":0},{"$f":"+'01.23'!G381","v":0},{"$f":"+'01.23'!T381","v":0},null,null,{"$f":"+'01.23'!L381","v":0}]
["",{"$f":"+IF('01.23'!C382=\"\",\"\",'01.23'!C382)","v":""},{"$f":"IF(B381=\"\",\"\",COUNTIFS($B$3:B381,B381))","v":""},{"$f":"IF(B381=\"\",\"\",LOOKUP(B381,DataFIX!$F$3:$F$21,DataFIX!$E$3:$E$21))","v":""},{"$f":"IF(B381=\"\",\"\",LOOKUP(B381,DataFIX!$F$3:$F$41,DataFIX!$G$3:$G$41)+C381)","v":""},{"$f":"+'01.23'!O382","v":"00:00:00"},{"$f":"+'01.23'!E382","v":0},{"$f":"+'01.23'!G382","v":0},{"$f":"+'01.23'!T382","v":0},null,null,{"$f":"+'01.23'!L382","v":0}]
["",{"$f":"+IF('01.23'!C383=\"\",\"\",'01.23'!C383)","v":""},{"$f":"IF(B382=\"\",\"\",COUNTIFS($B$3:B382,B382))","v":""},{"$f":"IF(B382=\"\",\"\",LOOKUP(B382,DataFIX!$F$3:$F$21,DataFIX!$E$3:$E$21))","v":""},{"$f":"IF(B382=\"\",\"\",LOOKUP(B382,DataFIX!$F$3:$F$41,DataFIX!$G$3:$G$41)+C382)","v":""},{"$f":"+'01.23'!O383","v":"00:00:00"},{"$f":"+'01.23'!E383","v":0},{"$f":"+'01.23'!G383","v":0},{"$f":"+'01.23'!T383","v":0},null,null,{"$f":"+'01.23'!L383","v":0}]
["",{"$f":"+IF('01.23'!C384=\"\",\"\",'01.23'!C384)","v":""},{"$f":"IF(B383=\"\",\"\",COUNTIFS($B$3:B383,B383))","v":""},{"$f":"IF(B383=\"\",\"\",LOOKUP(B383,DataFIX!$F$3:$F$21,DataFIX!$E$3:$E$21))","v":""},{"$f":"IF(B383=\"\",\"\",LOOKUP(B383,DataFIX!$F$3:$F$41,DataFIX!$G$3:$G$41)+C383)","v":""},{"$f":"+'01.23'!O384","v":"00:00:00"},{"$f":"+'01.23'!E384","v":0},{"$f":"+'01.23'!G384","v":0},{"$f":"+'01.23'!T384","v":0},null,null,{"$f":"+'01.23'!L384","v":0}]
["",{"$f":"+IF('01.23'!C385=\"\",\"\",'01.23'!C385)","v":""},{"$f":"IF(B384=\"\",\"\",COUNTIFS($B$3:B384,B384))","v":""},{"$f":"IF(B384=\"\",\"\",LOOKUP(B384,DataFIX!$F$3:$F$21,DataFIX!$E$3:$E$21))","v":""},{"$f":"IF(B384=\"\",\"\",LOOKUP(B384,DataFIX!$F$3:$F$41,DataFIX!$G$3:$G$41)+C384)","v":""},{"$f":"+'01.23'!O385","v":"00:00:00"},{"$f":"+'01.23'!E385","v":0},{"$f":"+'01.23'!G385","v":0},{"$f":"+'01.23'!T385","v":0},null,null,{"$f":"+'01.23'!L385","v":0}]
["",{"$f":"+IF('01.23'!C386=\"\",\"\",'01.23'!C386)","v":""},{"$f":"IF(B385=\"\",\"\",COUNTIFS($B$3:B385,B385))","v":""},{"$f":"IF(B385=\"\",\"\",LOOKUP(B385,DataFIX!$F$3:$F$21,DataFIX!$E$3:$E$21))","v":""},{"$f":"IF(B385=\"\",\"\",LOOKUP(B385,DataFIX!$F$3:$F$41,DataFIX!$G$3:$G$41)+C385)","v":""},{"$f":"+'01.23'!O386","v":"00:00:00"},{"$f":"+'01.23'!E386","v":0},{"$f":"+'01.23'!G386","v":0},{"$f":"+'01.23'!T386","v":0},null,null,{"$f":"+'01.23'!L386","v":0}]
["",{"$f":"+IF('01.23'!C387=\"\",\"\",'01.23'!C387)","v":""},{"$f":"IF(B386=\"\",\"\",COUNTIFS($B$3:B386,B386))","v":""},{"$f":"IF(B386=\"\",\"\",LOOKUP(B386,DataFIX!$F$3:$F$21,DataFIX!$E$3:$E$21))","v":""},{"$f":"IF(B386=\"\",\"\",LOOKUP(B386,DataFIX!$F$3:$F$41,DataFIX!$G$3:$G$41)+C386)","v":""},{"$f":"+'01.23'!O387","v":"00:00:00"},{"$f":"+'01.23'!E387","v":0},{"$f":"+'01.23'!G387","v":0},{"$f":"+'01.23'!T387","v":0},null,null,{"$f":"+'01.23'!L387","v":0}]
["",{"$f":"+IF('01.23'!C388=\"\",\"\",'01.23'!C388)","v":""},{"$f":"IF(B387=\"\",\"\",COUNTIFS($B$3:B387,B387))","v":""},{"$f":"IF(B387=\"\",\"\",LOOKUP(B387,DataFIX!$F$3:$F$21,DataFIX!$E$3:$E$21))","v":""},{"$f":"IF(B387=\"\",\"\",LOOKUP(B387,DataFIX!$F$3:$F$41,DataFIX!$G$3:$G$41)+C387)","v":""},{"$f":"+'01.23'!O388","v":"00:00:00"},{"$f":"+'01.23'!E388","v":0},{"$f":"+'01.23'!G388","v":0},{"$f":"+'01.23'!T388","v":0},null,null,{"$f":"+'01.23'!L388","v":0}]
[{"$f":"+B388","v":""},{"$f":"+IF('01.23'!C389=\"\",\"\",'01.23'!C389)","v":""},{"$f":"IF(B388=\"\",\"\",COUNTIFS($B$3:B388,B388))","v":""},{"$f":"IF(B388=\"\",\"\",LOOKUP(B388,DataFIX!$F$3:$F$21,DataFIX!$E$3:$E$21))","v":""},{"$f":"IF(B388=\"\",\"\",LOOKUP(B388,DataFIX!$F$3:$F$41,DataFIX!$G$3:$G$41)+C388)","v":""},{"$f":"+'01.23'!O389","v":"00:00:00"},{"$f":"+'01.23'!E389","v":0},{"$f":"+'01.23'!G389","v":0},{"$f":"+'01.23'!T389","v":0},null,null,{"$f":"+'01.23'!L389","v":0}]
["",{"$f":"+IF('01.23'!C390=\"\",\"\",'01.23'!C390)","v":""},{"$f":"IF(B389=\"\",\"\",COUNTIFS($B$3:B389,B389))","v":""},{"$f":"IF(B389=\"\",\"\",LOOKUP(B389,DataFIX!$F$3:$F$21,DataFIX!$E$3:$E$21))","v":""},{"$f":"IF(B389=\"\",\"\",LOOKUP(B389,DataFIX!$F$3:$F$41,DataFIX!$G$3:$G$41)+C389)","v":""},{"$f":"+'01.23'!O390","v":"00:00:00"},{"$f":"+'01.23'!E390","v":0},{"$f":"+'01.23'!G390","v":0},{"$f":"+'01.23'!T390","v":0},null,null,{"$f":"+'01.23'!L390","v":0}]
["",{"$f":"+IF('01.23'!C391=\"\",\"\",'01.23'!C391)","v":""},{"$f":"IF(B390=\"\",\"\",COUNTIFS($B$3:B390,B390))","v":""},{"$f":"IF(B390=\"\",\"\",LOOKUP(B390,DataFIX!$F$3:$F$21,DataFIX!$E$3:$E$21))","v":""},{"$f":"IF(B390=\"\",\"\",LOOKUP(B390,DataFIX!$F$3:$F$41,DataFIX!$G$3:$G$41)+C390)","v":""},{"$f":"+'01.23'!O391","v":"00:00:00"},{"$f":"+'01.23'!E391","v":0},{"$f":"+'01.23'!G391","v":0},{"$f":"+'01.23'!T391","v":0},null,null,{"$f":"+'01.23'!L391","v":0}]
["",{"$f":"+IF('01.23'!C392=\"\",\"\",'01.23'!C392)","v":""},{"$f":"IF(B391=\"\",\"\",COUNTIFS($B$3:B391,B391))","v":""},{"$f":"IF(B391=\"\",\"\",LOOKUP(B391,DataFIX!$F$3:$F$21,DataFIX!$E$3:$E$21))","v":""},{"$f":"IF(B391=\"\",\"\",LOOKUP(B391,DataFIX!$F$3:$F$41,DataFIX!$G$3:$G$41)+C391)","v":""},{"$f":"+'01.23'!O392","v":"00:00:00"},{"$f":"+'01.23'!E392","v":0},{"$f":"+'01.23'!G392","v":0},{"$f":"+'01.23'!T392","v":0},null,null,{"$f":"+'01.23'!L392","v":0}]
["",{"$f":"+IF('01.23'!C393=\"\",\"\",'01.23'!C393)","v":""},{"$f":"IF(B392=\"\",\"\",COUNTIFS($B$3:B392,B392))","v":""},{"$f":"IF(B392=\"\",\"\",LOOKUP(B392,DataFIX!$F$3:$F$21,DataFIX!$E$3:$E$21))","v":""},{"$f":"IF(B392=\"\",\"\",LOOKUP(B392,DataFIX!$F$3:$F$41,DataFIX!$G$3:$G$41)+C392)","v":""},{"$f":"+'01.23'!O393","v":"00:00:00"},{"$f":"+'01.23'!E393","v":0},{"$f":"+'01.23'!G393","v":0},{"$f":"+'01.23'!T393","v":0},null,null,{"$f":"+'01.23'!L393","v":0}]
["",{"$f":"+IF('01.23'!C394=\"\",\"\",'01.23'!C394)","v":""},{"$f":"IF(B393=\"\",\"\",COUNTIFS($B$3:B393,B393))","v":""},{"$f":"IF(B393=\"\",\"\",LOOKUP(B393,DataFIX!$F$3:$F$21,DataFIX!$E$3:$E$21))","v":""},{"$f":"IF(B393=\"\",\"\",LOOKUP(B393,DataFIX!$F$3:$F$41,DataFIX!$G$3:$G$41)+C393)","v":""},{"$f":"+'01.23'!O394","v":"00:00:00"},{"$f":"+'01.23'!E394","v":0},{"$f":"+'01.23'!G394","v":0},{"$f":"+'01.23'!T394","v":0},null,null,{"$f":"+'01.23'!L394","v":0}]
["",{"$f":"+IF('01.23'!C395=\"\",\"\",'01.23'!C395)","v":""},{"$f":"IF(B394=\"\",\"\",COUNTIFS($B$3:B394,B394))","v":""},{"$f":"IF(B394=\"\",\"\",LOOKUP(B394,DataFIX!$F$3:$F$21,DataFIX!$E$3:$E$21))","v":""},{"$f":"IF(B394=\"\",\"\",LOOKUP(B394,DataFIX!$F$3:$F$41,DataFIX!$G$3:$G$41)+C394)","v":""},{"$f":"+'01.23'!O395","v":"00:00:00"},{"$f":"+'01.23'!E395","v":0},{"$f":"+'01.23'!G395","v":0},{"$f":"+'01.23'!T395","v":0},null,null,{"$f":"+'01.23'!L395","v":0}]
["",{"$f":"+IF('01.23'!C396=\"\",\"\",'01.23'!C396)","v":""},{"$f":"IF(B395=\"\",\"\",COUNTIFS($B$3:B395,B395))","v":""},{"$f":"IF(B395=\"\",\"\",LOOKUP(B395,DataFIX!$F$3:$F$21,DataFIX!$E$3:$E$21))","v":""},{"$f":"IF(B395=\"\",\"\",LOOKUP(B395,DataFIX!$F$3:$F$41,DataFIX!$G$3:$G$41)+C395)","v":""},{"$f":"+'01.23'!O396","v":"00:00:00"},{"$f":"+'01.23'!E396","v":0},{"$f":"+'01.23'!G396","v":0},{"$f":"+'01.23'!T396","v":0},null,null,{"$f":"+'01.23'!L396","v":0}]
["",{"$f":"+IF('01.23'!C397=\"\",\"\",'01.23'!C397)","v":""},{"$f":"IF(B396=\"\",\"\",COUNTIFS($B$3:B396,B396))","v":""},{"$f":"IF(B396=\"\",\"\",LOOKUP(B396,DataFIX!$F$3:$F$21,DataFIX!$E$3:$E$21))","v":""},{"$f":"IF(B396=\"\",\"\",LOOKUP(B396,DataFIX!$F$3:$F$41,DataFIX!$G$3:$G$41)+C396)","v":""},{"$f":"+'01.23'!O397","v":"00:00:00"},{"$f":"+'01.23'!E397","v":0},{"$f":"+'01.23'!G397","v":0},{"$f":"+'01.23'!T397","v":0},null,null,{"$f":"+'01.23'!L397","v":0}]
["",{"$f":"+IF('01.23'!C398=\"\",\"\",'01.23'!C398)","v":""},{"$f":"IF(B397=\"\",\"\",COUNTIFS($B$3:B397,B397))","v":""},{"$f":"IF(B397=\"\",\"\",LOOKUP(B397,DataFIX!$F$3:$F$21,DataFIX!$E$3:$E$21))","v":""},{"$f":"IF(B397=\"\",\"\",LOOKUP(B397,DataFIX!$F$3:$F$41,DataFIX!$G$3:$G$41)+C397)","v":""},{"$f":"+'01.23'!O398","v":"00:00:00"},{"$f":"+'01.23'!E398","v":0},{"$f":"+'01.23'!G398","v":0},{"$f":"+'01.23'!T398","v":0},null,null,{"$f":"+'01.23'!L398","v":0}]
["",{"$f":"+IF('01.23'!C399=\"\",\"\",'01.23'!C399)","v":""},{"$f":"IF(B398=\"\",\"\",COUNTIFS($B$3:B398,B398))","v":""},{"$f":"IF(B398=\"\",\"\",LOOKUP(B398,DataFIX!$F$3:$F$21,DataFIX!$E$3:$E$21))","v":""},{"$f":"IF(B398=\"\",\"\",LOOKUP(B398,DataFIX!$F$3:$F$41,DataFIX!$G$3:$G$41)+C398)","v":""},{"$f":"+'01.23'!O399","v":"00:00:00"},{"$f":"+'01.23'!E399","v":0},{"$f":"+'01.23'!G399","v":0},{"$f":"+'01.23'!T399","v":0},null,null,{"$f":"+'01.23'!L399","v":0}]
["",{"$f":"+IF('01.23'!C400=\"\",\"\",'01.23'!C400)","v":""},{"$f":"IF(B399=\"\",\"\",COUNTIFS($B$3:B399,B399))","v":""},{"$f":"IF(B399=\"\",\"\",LOOKUP(B399,DataFIX!$F$3:$F$21,DataFIX!$E$3:$E$21))","v":""},{"$f":"IF(B399=\"\",\"\",LOOKUP(B399,DataFIX!$F$3:$F$41,DataFIX!$G$3:$G$41)+C399)","v":""},{"$f":"+'01.23'!O400","v":"00:00:00"},{"$f":"+'01.23'!E400","v":0},{"$f":"+'01.23'!G400","v":0},{"$f":"+'01.23'!T400","v":0},null,null,{"$f":"+'01.23'!L400","v":0}]
["",{"$f":"+IF('01.23'!C401=\"\",\"\",'01.23'!C401)","v":""},{"$f":"IF(B400=\"\",\"\",COUNTIFS($B$3:B400,B400))","v":""},{"$f":"IF(B400=\"\",\"\",LOOKUP(B400,DataFIX!$F$3:$F$21,DataFIX!$E$3:$E$21))","v":""},{"$f":"IF(B400=\"\",\"\",LOOKUP(B400,DataFIX!$F$3:$F$41,DataFIX!$G$3:$G$41)+C400)","v":""},{"$f":"+'01.23'!O401","v":"00:00:00"},{"$f":"+'01.23'!E401","v":0},{"$f":"+'01.23'!G401","v":0},{"$f":"+'01.23'!T401","v":0},null,null,{"$f":"+'01.23'!L401","v":0}]
["",{"$f":"+IF('01.23'!C402=\"\",\"\",'01.23'!C402)","v":""},{"$f":"IF(B401=\"\",\"\",COUNTIFS($B$3:B401,B401))","v":""},{"$f":"IF(B401=\"\",\"\",LOOKUP(B401,DataFIX!$F$3:$F$21,DataFIX!$E$3:$E$21))","v":""},{"$f":"IF(B401=\"\",\"\",LOOKUP(B401,DataFIX!$F$3:$F$41,DataFIX!$G$3:$G$41)+C401)","v":""},{"$f":"+'01.23'!O402","v":"00:00:00"},{"$f":"+'01.23'!E402","v":0},{"$f":"+'01.23'!G402","v":0},{"$f":"+'01.23'!T402","v":0},null,null,{"$f":"+'01.23'!L402","v":0}]
["",{"$f":"+IF('01.23'!C403=\"\",\"\",'01.23'!C403)","v":""},{"$f":"IF(B402=\"\",\"\",COUNTIFS($B$3:B402,B402))","v":""},{"$f":"IF(B402=\"\",\"\",LOOKUP(B402,DataFIX!$F$3:$F$21,DataFIX!$E$3:$E$21))","v":""},{"$f":"IF(B402=\"\",\"\",LOOKUP(B402,DataFIX!$F$3:$F$41,DataFIX!$G$3:$G$41)+C402)","v":""},{"$f":"+'01.23'!O403","v":"00:00:00"},{"$f":"+'01.23'!E403","v":0},{"$f":"+'01.23'!G403","v":0},{"$f":"+'01.23'!T403","v":0},null,null,{"$f":"+'01.23'!L403","v":0}]
["",{"$f":"+IF('01.23'!C404=\"\",\"\",'01.23'!C404)","v":""},{"$f":"IF(B403=\"\",\"\",COUNTIFS($B$3:B403,B403))","v":""},{"$f":"IF(B403=\"\",\"\",LOOKUP(B403,DataFIX!$F$3:$F$21,DataFIX!$E$3:$E$21))","v":""},{"$f":"IF(B403=\"\",\"\",LOOKUP(B403,DataFIX!$F$3:$F$41,DataFIX!$G$3:$G$41)+C403)","v":""},{"$f":"+'01.23'!O404","v":"00:00:00"},{"$f":"+'01.23'!E404","v":0},{"$f":"+'01.23'!G404","v":0},{"$f":"+'01.23'!T404","v":0},null,null,{"$f":"+'01.23'!L404","v":0}]
["",{"$f":"+IF('01.23'!C405=\"\",\"\",'01.23'!C405)","v":""},{"$f":"IF(B404=\"\",\"\",COUNTIFS($B$3:B404,B404))","v":""},{"$f":"IF(B404=\"\",\"\",LOOKUP(B404,DataFIX!$F$3:$F$21,DataFIX!$E$3:$E$21))","v":""},{"$f":"IF(B404=\"\",\"\",LOOKUP(B404,DataFIX!$F$3:$F$41,DataFIX!$G$3:$G$41)+C404)","v":""},{"$f":"+'01.23'!O405","v":"00:00:00"},{"$f":"+'01.23'!E405","v":0},{"$f":"+'01.23'!G405","v":0},{"$f":"+'01.23'!T405","v":0},null,null,{"$f":"+'01.23'!L405","v":0}]
["",{"$f":"+IF('01.23'!C406=\"\",\"\",'01.23'!C406)","v":""},{"$f":"IF(B405=\"\",\"\",COUNTIFS($B$3:B405,B405))","v":""},{"$f":"IF(B405=\"\",\"\",LOOKUP(B405,DataFIX!$F$3:$F$21,DataFIX!$E$3:$E$21))","v":""},{"$f":"IF(B405=\"\",\"\",LOOKUP(B405,DataFIX!$F$3:$F$41,DataFIX!$G$3:$G$41)+C405)","v":""},{"$f":"+'01.23'!O406","v":"00:00:00"},{"$f":"+'01.23'!E406","v":0},{"$f":"+'01.23'!G406","v":0},{"$f":"+'01.23'!T406","v":0},null,null,{"$f":"+'01.23'!L406","v":0}]
["",{"$f":"+IF('01.23'!C407=\"\",\"\",'01.23'!C407)","v":""},{"$f":"IF(B406=\"\",\"\",COUNTIFS($B$3:B406,B406))","v":""},{"$f":"IF(B406=\"\",\"\",LOOKUP(B406,DataFIX!$F$3:$F$21,DataFIX!$E$3:$E$21))","v":""},{"$f":"IF(B406=\"\",\"\",LOOKUP(B406,DataFIX!$F$3:$F$41,DataFIX!$G$3:$G$41)+C406)","v":""},{"$f":"+'01.23'!O407","v":"00:00:00"},{"$f":"+'01.23'!E407","v":0},{"$f":"+'01.23'!G407","v":0},{"$f":"+'01.23'!T407","v":0},null,null,{"$f":"+'01.23'!L407","v":0}]
["",{"$f":"+IF('01.23'!C408=\"\",\"\",'01.23'!C408)","v":""},{"$f":"IF(B407=\"\",\"\",COUNTIFS($B$3:B407,B407))","v":""},{"$f":"IF(B407=\"\",\"\",LOOKUP(B407,DataFIX!$F$3:$F$21,DataFIX!$E$3:$E$21))","v":""},{"$f":"IF(B407=\"\",\"\",LOOKUP(B407,DataFIX!$F$3:$F$41,DataFIX!$G$3:$G$41)+C407)","v":""},{"$f":"+'01.23'!O408","v":"00:00:00"},{"$f":"+'01.23'!E408","v":0},{"$f":"+'01.23'!G408","v":0},{"$f":"+'01.23'!T408","v":0},null,null,{"$f":"+'01.23'!L408","v":0}]
["",{"$f":"+IF('01.23'!C409=\"\",\"\",'01.23'!C409)","v":""},{"$f":"IF(B408=\"\",\"\",COUNTIFS($B$3:B408,B408))","v":""},{"$f":"IF(B408=\"\",\"\",LOOKUP(B408,DataFIX!$F$3:$F$21,DataFIX!$E$3:$E$21))","v":""},{"$f":"IF(B408=\"\",\"\",LOOKUP(B408,DataFIX!$F$3:$F$41,DataFIX!$G$3:$G$41)+C408)","v":""},{"$f":"+'01.23'!O409","v":"00:00:00"},{"$f":"+'01.23'!E409","v":0},{"$f":"+'01.23'!G409","v":0},{"$f":"+'01.23'!T409","v":0},null,null,{"$f":"+'01.23'!L409","v":0}]
["",{"$f":"+IF('01.23'!C410=\"\",\"\",'01.23'!C410)","v":""},{"$f":"IF(B409=\"\",\"\",COUNTIFS($B$3:B409,B409))","v":""},{"$f":"IF(B409=\"\",\"\",LOOKUP(B409,DataFIX!$F$3:$F$21,DataFIX!$E$3:$E$21))","v":""},{"$f":"IF(B409=\"\",\"\",LOOKUP(B409,DataFIX!$F$3:$F$41,DataFIX!$G$3:$G$41)+C409)","v":""},{"$f":"+'01.23'!O410","v":"00:00:00"},{"$f":"+'01.23'!E410","v":0},{"$f":"+'01.23'!G410","v":0},{"$f":"+'01.23'!T410","v":0},null,null,{"$f":"+'01.23'!L410","v":0}]
["",{"$f":"+IF('01.23'!C411=\"\",\"\",'01.23'!C411)","v":""},{"$f":"IF(B410=\"\",\"\",COUNTIFS($B$3:B410,B410))","v":""},{"$f":"IF(B410=\"\",\"\",LOOKUP(B410,DataFIX!$F$3:$F$21,DataFIX!$E$3:$E$21))","v":""},{"$f":"IF(B410=\"\",\"\",LOOKUP(B410,DataFIX!$F$3:$F$41,DataFIX!$G$3:$G$41)+C410)","v":""},{"$f":"+'01.23'!O411","v":"00:00:00"},{"$f":"+'01.23'!E411","v":0},{"$f":"+'01.23'!G411","v":0},{"$f":"+'01.23'!T411","v":0},null,null,{"$f":"+'01.23'!L411","v":0}]
["",{"$f":"+IF('01.23'!C412=\"\",\"\",'01.23'!C412)","v":""},{"$f":"IF(B411=\"\",\"\",COUNTIFS($B$3:B411,B411))","v":""},{"$f":"IF(B411=\"\",\"\",LOOKUP(B411,DataFIX!$F$3:$F$21,DataFIX!$E$3:$E$21))","v":""},{"$f":"IF(B411=\"\",\"\",LOOKUP(B411,DataFIX!$F$3:$F$41,DataFIX!$G$3:$G$41)+C411)","v":""},{"$f":"+'01.23'!O412","v":"00:00:00"},{"$f":"+'01.23'!E412","v":0},{"$f":"+'01.23'!G412","v":0},{"$f":"+'01.23'!T412","v":0},null,null,{"$f":"+'01.23'!L412","v":0}]
["",{"$f":"+IF('01.23'!C413=\"\",\"\",'01.23'!C413)","v":""},{"$f":"IF(B412=\"\",\"\",COUNTIFS($B$3:B412,B412))","v":""},{"$f":"IF(B412=\"\",\"\",LOOKUP(B412,DataFIX!$F$3:$F$21,DataFIX!$E$3:$E$21))","v":""},{"$f":"IF(B412=\"\",\"\",LOOKUP(B412,DataFIX!$F$3:$F$41,DataFIX!$G$3:$G$41)+C412)","v":""},{"$f":"+'01.23'!O413","v":"00:00:00"},{"$f":"+'01.23'!E413","v":0},{"$f":"+'01.23'!G413","v":0},{"$f":"+'01.23'!T413","v":0},null,null,{"$f":"+'01.23'!L413","v":0}]
["",{"$f":"+IF('01.23'!C414=\"\",\"\",'01.23'!C414)","v":""},{"$f":"IF(B413=\"\",\"\",COUNTIFS($B$3:B413,B413))","v":""},{"$f":"IF(B413=\"\",\"\",LOOKUP(B413,DataFIX!$F$3:$F$21,DataFIX!$E$3:$E$21))","v":""},{"$f":"IF(B413=\"\",\"\",LOOKUP(B413,DataFIX!$F$3:$F$41,DataFIX!$G$3:$G$41)+C413)","v":""},{"$f":"+'01.23'!O414","v":"00:00:00"},{"$f":"+'01.23'!E414","v":0},{"$f":"+'01.23'!G414","v":0},{"$f":"+'01.23'!T414","v":0},null,null,{"$f":"+'01.23'!L414","v":0}]
["",{"$f":"+IF('01.23'!C415=\"\",\"\",'01.23'!C415)","v":""},{"$f":"IF(B414=\"\",\"\",COUNTIFS($B$3:B414,B414))","v":""},{"$f":"IF(B414=\"\",\"\",LOOKUP(B414,DataFIX!$F$3:$F$21,DataFIX!$E$3:$E$21))","v":""},{"$f":"IF(B414=\"\",\"\",LOOKUP(B414,DataFIX!$F$3:$F$41,DataFIX!$G$3:$G$41)+C414)","v":""},{"$f":"+'01.23'!O415","v":"00:00:00"},{"$f":"+'01.23'!E415","v":0},{"$f":"+'01.23'!G415","v":0},{"$f":"+'01.23'!T415","v":0},null,null,{"$f":"+'01.23'!L415","v":0}]
["",{"$f":"+IF('01.23'!C416=\"\",\"\",'01.23'!C416)","v":""},{"$f":"IF(B415=\"\",\"\",COUNTIFS($B$3:B415,B415))","v":""},{"$f":"IF(B415=\"\",\"\",LOOKUP(B415,DataFIX!$F$3:$F$21,DataFIX!$E$3:$E$21))","v":""},{"$f":"IF(B415=\"\",\"\",LOOKUP(B415,DataFIX!$F$3:$F$41,DataFIX!$G$3:$G$41)+C415)","v":""},{"$f":"+'01.23'!O416","v":"00:00:00"},{"$f":"+'01.23'!E416","v":0},{"$f":"+'01.23'!G416","v":0},{"$f":"+'01.23'!T416","v":0},null,null,{"$f":"+'01.23'!L416","v":0}]
["",{"$f":"+IF('01.23'!C417=\"\",\"\",'01.23'!C417)","v":""},{"$f":"IF(B416=\"\",\"\",COUNTIFS($B$3:B416,B416))","v":""},{"$f":"IF(B416=\"\",\"\",LOOKUP(B416,DataFIX!$F$3:$F$21,DataFIX!$E$3:$E$21))","v":""},{"$f":"IF(B416=\"\",\"\",LOOKUP(B416,DataFIX!$F$3:$F$41,DataFIX!$G$3:$G$41)+C416)","v":""},{"$f":"+'01.23'!O417","v":"00:00:00"},{"$f":"+'01.23'!E417","v":0},{"$f":"+'01.23'!G417","v":0},{"$f":"+'01.23'!T417","v":0},null,null,{"$f":"+'01.23'!L417","v":0}]
["",{"$f":"+IF('01.23'!C418=\"\",\"\",'01.23'!C418)","v":""},{"$f":"IF(B417=\"\",\"\",COUNTIFS($B$3:B417,B417))","v":""},{"$f":"IF(B417=\"\",\"\",LOOKUP(B417,DataFIX!$F$3:$F$21,DataFIX!$E$3:$E$21))","v":""},{"$f":"IF(B417=\"\",\"\",LOOKUP(B417,DataFIX!$F$3:$F$41,DataFIX!$G$3:$G$41)+C417)","v":""},{"$f":"+'01.23'!O418","v":"00:00:00"},{"$f":"+'01.23'!E418","v":0},{"$f":"+'01.23'!G418","v":0},{"$f":"+'01.23'!T418","v":0},null,null,{"$f":"+'01.23'!L418","v":0}]
["",{"$f":"+IF('01.23'!C419=\"\",\"\",'01.23'!C419)","v":""},{"$f":"IF(B418=\"\",\"\",COUNTIFS($B$3:B418,B418))","v":""},{"$f":"IF(B418=\"\",\"\",LOOKUP(B418,DataFIX!$F$3:$F$21,DataFIX!$E$3:$E$21))","v":""},{"$f":"IF(B418=\"\",\"\",LOOKUP(B418,DataFIX!$F$3:$F$41,DataFIX!$G$3:$G$41)+C418)","v":""},{"$f":"+'01.23'!O419","v":"00:00:00"},{"$f":"+'01.23'!E419","v":0},{"$f":"+'01.23'!G419","v":0},{"$f":"+'01.23'!T419","v":0},null,null,{"$f":"+'01.23'!L419","v":0}]
["",{"$f":"+IF('01.23'!C420=\"\",\"\",'01.23'!C420)","v":""},{"$f":"IF(B419=\"\",\"\",COUNTIFS($B$3:B419,B419))","v":""},{"$f":"IF(B419=\"\",\"\",LOOKUP(B419,DataFIX!$F$3:$F$21,DataFIX!$E$3:$E$21))","v":""},{"$f":"IF(B419=\"\",\"\",LOOKUP(B419,DataFIX!$F$3:$F$41,DataFIX!$G$3:$G$41)+C419)","v":""},{"$f":"+'01.23'!O420","v":"00:00:00"},{"$f":"+'01.23'!E420","v":0},{"$f":"+'01.23'!G420","v":0},{"$f":"+'01.23'!T420","v":0},null,null,{"$f":"+'01.23'!L420","v":0}]
["",{"$f":"+IF('01.23'!C421=\"\",\"\",'01.23'!C421)","v":""},{"$f":"IF(B420=\"\",\"\",COUNTIFS($B$3:B420,B420))","v":""},{"$f":"IF(B420=\"\",\"\",LOOKUP(B420,DataFIX!$F$3:$F$21,DataFIX!$E$3:$E$21))","v":""},{"$f":"IF(B420=\"\",\"\",LOOKUP(B420,DataFIX!$F$3:$F$41,DataFIX!$G$3:$G$41)+C420)","v":""},{"$f":"+'01.23'!O421","v":"00:00:00"},{"$f":"+'01.23'!E421","v":0},{"$f":"+'01.23'!G421","v":0},{"$f":"+'01.23'!T421","v":0},null,null,{"$f":"+'01.23'!L421","v":0}]
["",{"$f":"+IF('01.23'!C422=\"\",\"\",'01.23'!C422)","v":""},{"$f":"IF(B421=\"\",\"\",COUNTIFS($B$3:B421,B421))","v":""},{"$f":"IF(B421=\"\",\"\",LOOKUP(B421,DataFIX!$F$3:$F$21,DataFIX!$E$3:$E$21))","v":""},{"$f":"IF(B421=\"\",\"\",LOOKUP(B421,DataFIX!$F$3:$F$41,DataFIX!$G$3:$G$41)+C421)","v":""},{"$f":"+'01.23'!O422","v":"00:00:00"},{"$f":"+'01.23'!E422","v":0},{"$f":"+'01.23'!G422","v":0},{"$f":"+'01.23'!T422","v":0},null,null,{"$f":"+'01.23'!L422","v":0}]
["",{"$f":"+IF('01.23'!C423=\"\",\"\",'01.23'!C423)","v":""},{"$f":"IF(B422=\"\",\"\",COUNTIFS($B$3:B422,B422))","v":""},{"$f":"IF(B422=\"\",\"\",LOOKUP(B422,DataFIX!$F$3:$F$21,DataFIX!$E$3:$E$21))","v":""},{"$f":"IF(B422=\"\",\"\",LOOKUP(B422,DataFIX!$F$3:$F$41,DataFIX!$G$3:$G$41)+C422)","v":""},{"$f":"+'01.23'!O423","v":"00:00:00"},{"$f":"+'01.23'!E423","v":0},{"$f":"+'01.23'!G423","v":0},{"$f":"+'01.23'!T423","v":0},null,null,{"$f":"+'01.23'!L423","v":0}]
["",{"$f":"+IF('01.23'!C424=\"\",\"\",'01.23'!C424)","v":""},{"$f":"IF(B423=\"\",\"\",COUNTIFS($B$3:B423,B423))","v":""},{"$f":"IF(B423=\"\",\"\",LOOKUP(B423,DataFIX!$F$3:$F$21,DataFIX!$E$3:$E$21))","v":""},{"$f":"IF(B423=\"\",\"\",LOOKUP(B423,DataFIX!$F$3:$F$41,DataFIX!$G$3:$G$41)+C423)","v":""},{"$f":"+'01.23'!O424","v":"00:00:00"},{"$f":"+'01.23'!E424","v":0},{"$f":"+'01.23'!G424","v":0},{"$f":"+'01.23'!T424","v":0},null,null,{"$f":"+'01.23'!L424","v":0}]
["",{"$f":"+IF('01.23'!C425=\"\",\"\",'01.23'!C425)","v":""},{"$f":"IF(B424=\"\",\"\",COUNTIFS($B$3:B424,B424))","v":""},{"$f":"IF(B424=\"\",\"\",LOOKUP(B424,DataFIX!$F$3:$F$21,DataFIX!$E$3:$E$21))","v":""},{"$f":"IF(B424=\"\",\"\",LOOKUP(B424,DataFIX!$F$3:$F$41,DataFIX!$G$3:$G$41)+C424)","v":""},{"$f":"+'01.23'!O425","v":"00:00:00"},{"$f":"+'01.23'!E425","v":0},{"$f":"+'01.23'!G425","v":0},{"$f":"+'01.23'!T425","v":0},null,null,{"$f":"+'01.23'!L425","v":0}]
["",{"$f":"+IF('01.23'!C426=\"\",\"\",'01.23'!C426)","v":""},{"$f":"IF(B425=\"\",\"\",COUNTIFS($B$3:B425,B425))","v":""},{"$f":"IF(B425=\"\",\"\",LOOKUP(B425,DataFIX!$F$3:$F$21,DataFIX!$E$3:$E$21))","v":""},{"$f":"IF(B425=\"\",\"\",LOOKUP(B425,DataFIX!$F$3:$F$41,DataFIX!$G$3:$G$41)+C425)","v":""},{"$f":"+'01.23'!O426","v":"00:00:00"},{"$f":"+'01.23'!E426","v":0},{"$f":"+'01.23'!G426","v":0},{"$f":"+'01.23'!T426","v":0},null,null,{"$f":"+'01.23'!L426","v":0}]
["",{"$f":"+IF('01.23'!C427=\"\",\"\",'01.23'!C427)","v":""},{"$f":"IF(B426=\"\",\"\",COUNTIFS($B$3:B426,B426))","v":""},{"$f":"IF(B426=\"\",\"\",LOOKUP(B426,DataFIX!$F$3:$F$21,DataFIX!$E$3:$E$21))","v":""},{"$f":"IF(B426=\"\",\"\",LOOKUP(B426,DataFIX!$F$3:$F$41,DataFIX!$G$3:$G$41)+C426)","v":""},{"$f":"+'01.23'!O427","v":"00:00:00"},{"$f":"+'01.23'!E427","v":0},{"$f":"+'01.23'!G427","v":0},{"$f":"+'01.23'!T427","v":0},null,null,{"$f":"+'01.23'!L427","v":0}]
["",{"$f":"+IF('01.23'!C428=\"\",\"\",'01.23'!C428)","v":""},{"$f":"IF(B427=\"\",\"\",COUNTIFS($B$3:B427,B427))","v":""},{"$f":"IF(B427=\"\",\"\",LOOKUP(B427,DataFIX!$F$3:$F$21,DataFIX!$E$3:$E$21))","v":""},{"$f":"IF(B427=\"\",\"\",LOOKUP(B427,DataFIX!$F$3:$F$41,DataFIX!$G$3:$G$41)+C427)","v":""},{"$f":"+'01.23'!O428","v":"00:00:00"},{"$f":"+'01.23'!E428","v":0},{"$f":"+'01.23'!G428","v":0},{"$f":"+'01.23'!T428","v":0},null,null,{"$f":"+'01.23'!L428","v":0}]
["",{"$f":"+IF('01.23'!C429=\"\",\"\",'01.23'!C429)","v":""},{"$f":"IF(B428=\"\",\"\",COUNTIFS($B$3:B428,B428))","v":""},{"$f":"IF(B428=\"\",\"\",LOOKUP(B428,DataFIX!$F$3:$F$21,DataFIX!$E$3:$E$21))","v":""},{"$f":"IF(B428=\"\",\"\",LOOKUP(B428,DataFIX!$F$3:$F$41,DataFIX!$G$3:$G$41)+C428)","v":""},{"$f":"+'01.23'!O429","v":"00:00:00"},{"$f":"+'01.23'!E429","v":0},{"$f":"+'01.23'!G429","v":0},{"$f":"+'01.23'!T429","v":0},null,null,{"$f":"+'01.23'!L429","v":0}]
["",{"$f":"+IF('01.23'!C430=\"\",\"\",'01.23'!C430)","v":""},{"$f":"IF(B429=\"\",\"\",COUNTIFS($B$3:B429,B429))","v":""},{"$f":"IF(B429=\"\",\"\",LOOKUP(B429,DataFIX!$F$3:$F$21,DataFIX!$E$3:$E$21))","v":""},{"$f":"IF(B429=\"\",\"\",LOOKUP(B429,DataFIX!$F$3:$F$41,DataFIX!$G$3:$G$41)+C429)","v":""},{"$f":"+'01.23'!O430","v":"00:00:00"},{"$f":"+'01.23'!E430","v":0},{"$f":"+'01.23'!G430","v":0},{"$f":"+'01.23'!T430","v":0},null,null,{"$f":"+'01.23'!L430","v":0}]
["",{"$f":"+IF('01.23'!C431=\"\",\"\",'01.23'!C431)","v":""},{"$f":"IF(B430=\"\",\"\",COUNTIFS($B$3:B430,B430))","v":""},{"$f":"IF(B430=\"\",\"\",LOOKUP(B430,DataFIX!$F$3:$F$21,DataFIX!$E$3:$E$21))","v":""},{"$f":"IF(B430=\"\",\"\",LOOKUP(B430,DataFIX!$F$3:$F$41,DataFIX!$G$3:$G$41)+C430)","v":""},{"$f":"+'01.23'!O431","v":"00:00:00"},{"$f":"+'01.23'!E431","v":0},{"$f":"+'01.23'!G431","v":0},{"$f":"+'01.23'!T431","v":0},null,null,{"$f":"+'01.23'!L431","v":0}]
["",{"$f":"+IF('01.23'!C432=\"\",\"\",'01.23'!C432)","v":""},{"$f":"IF(B431=\"\",\"\",COUNTIFS($B$3:B431,B431))","v":""},{"$f":"IF(B431=\"\",\"\",LOOKUP(B431,DataFIX!$F$3:$F$21,DataFIX!$E$3:$E$21))","v":""},{"$f":"IF(B431=\"\",\"\",LOOKUP(B431,DataFIX!$F$3:$F$41,DataFIX!$G$3:$G$41)+C431)","v":""},{"$f":"+'01.23'!O432","v":"00:00:00"},{"$f":"+'01.23'!E432","v":0},{"$f":"+'01.23'!G432","v":0},{"$f":"+'01.23'!T432","v":0},null,null,{"$f":"+'01.23'!L432","v":0}]
["",{"$f":"+IF('01.23'!C433=\"\",\"\",'01.23'!C433)","v":""},{"$f":"IF(B432=\"\",\"\",COUNTIFS($B$3:B432,B432))","v":""},{"$f":"IF(B432=\"\",\"\",LOOKUP(B432,DataFIX!$F$3:$F$21,DataFIX!$E$3:$E$21))","v":""},{"$f":"IF(B432=\"\",\"\",LOOKUP(B432,DataFIX!$F$3:$F$41,DataFIX!$G$3:$G$41)+C432)","v":""},{"$f":"+'01.23'!O433","v":"00:00:00"},{"$f":"+'01.23'!E433","v":0},{"$f":"+'01.23'!G433","v":0},{"$f":"+'01.23'!T433","v":0},null,null,{"$f":"+'01.23'!L433","v":0}]
["",{"$f":"+IF('01.23'!C434=\"\",\"\",'01.23'!C434)","v":""},{"$f":"IF(B433=\"\",\"\",COUNTIFS($B$3:B433,B433))","v":""},{"$f":"IF(B433=\"\",\"\",LOOKUP(B433,DataFIX!$F$3:$F$21,DataFIX!$E$3:$E$21))","v":""},{"$f":"IF(B433=\"\",\"\",LOOKUP(B433,DataFIX!$F$3:$F$41,DataFIX!$G$3:$G$41)+C433)","v":""},{"$f":"+'01.23'!O434","v":"00:00:00"},{"$f":"+'01.23'!E434","v":0},{"$f":"+'01.23'!G434","v":0},{"$f":"+'01.23'!T434","v":0},null,null,{"$f":"+'01.23'!L434","v":0}]
["",{"$f":"+IF('01.23'!C435=\"\",\"\",'01.23'!C435)","v":""},{"$f":"IF(B434=\"\",\"\",COUNTIFS($B$3:B434,B434))","v":""},{"$f":"IF(B434=\"\",\"\",LOOKUP(B434,DataFIX!$F$3:$F$21,DataFIX!$E$3:$E$21))","v":""},{"$f":"IF(B434=\"\",\"\",LOOKUP(B434,DataFIX!$F$3:$F$41,DataFIX!$G$3:$G$41)+C434)","v":""},{"$f":"+'01.23'!O435","v":"00:00:00"},{"$f":"+'01.23'!E435","v":0},{"$f":"+'01.23'!G435","v":0},{"$f":"+'01.23'!T435","v":0},null,null,{"$f":"+'01.23'!L435","v":0}]
["",{"$f":"+IF('01.23'!C436=\"\",\"\",'01.23'!C436)","v":""},{"$f":"IF(B435=\"\",\"\",COUNTIFS($B$3:B435,B435))","v":""},{"$f":"IF(B435=\"\",\"\",LOOKUP(B435,DataFIX!$F$3:$F$21,DataFIX!$E$3:$E$21))","v":""},{"$f":"IF(B435=\"\",\"\",LOOKUP(B435,DataFIX!$F$3:$F$41,DataFIX!$G$3:$G$41)+C435)","v":""},{"$f":"+'01.23'!O436","v":"00:00:00"},{"$f":"+'01.23'!E436","v":0},{"$f":"+'01.23'!G436","v":0},{"$f":"+'01.23'!T436","v":0},null,null,{"$f":"+'01.23'!L436","v":0}]
["",{"$f":"+IF('01.23'!C437=\"\",\"\",'01.23'!C437)","v":""},{"$f":"IF(B436=\"\",\"\",COUNTIFS($B$3:B436,B436))","v":""},{"$f":"IF(B436=\"\",\"\",LOOKUP(B436,DataFIX!$F$3:$F$21,DataFIX!$E$3:$E$21))","v":""},{"$f":"IF(B436=\"\",\"\",LOOKUP(B436,DataFIX!$F$3:$F$41,DataFIX!$G$3:$G$41)+C436)","v":""},{"$f":"+'01.23'!O437","v":"00:00:00"},{"$f":"+'01.23'!E437","v":0},{"$f":"+'01.23'!G437","v":0},{"$f":"+'01.23'!T437","v":0},null,null,{"$f":"+'01.23'!L437","v":0}]
["",{"$f":"+IF('01.23'!C438=\"\",\"\",'01.23'!C438)","v":""},{"$f":"IF(B437=\"\",\"\",COUNTIFS($B$3:B437,B437))","v":""},{"$f":"IF(B437=\"\",\"\",LOOKUP(B437,DataFIX!$F$3:$F$21,DataFIX!$E$3:$E$21))","v":""},{"$f":"IF(B437=\"\",\"\",LOOKUP(B437,DataFIX!$F$3:$F$41,DataFIX!$G$3:$G$41)+C437)","v":""},{"$f":"+'01.23'!O438","v":"00:00:00"},{"$f":"+'01.23'!E438","v":0},{"$f":"+'01.23'!G438","v":0},{"$f":"+'01.23'!T438","v":0},null,null,{"$f":"+'01.23'!L438","v":0}]
["",{"$f":"+IF('01.23'!C439=\"\",\"\",'01.23'!C439)","v":""},{"$f":"IF(B438=\"\",\"\",COUNTIFS($B$3:B438,B438))","v":""},{"$f":"IF(B438=\"\",\"\",LOOKUP(B438,DataFIX!$F$3:$F$21,DataFIX!$E$3:$E$21))","v":""},{"$f":"IF(B438=\"\",\"\",LOOKUP(B438,DataFIX!$F$3:$F$41,DataFIX!$G$3:$G$41)+C438)","v":""},{"$f":"+'01.23'!O439","v":"00:00:00"},{"$f":"+'01.23'!E439","v":0},{"$f":"+'01.23'!G439","v":0},{"$f":"+'01.23'!T439","v":0},null,null,{"$f":"+'01.23'!L439","v":0}]
["",{"$f":"+IF('01.23'!C440=\"\",\"\",'01.23'!C440)","v":""},{"$f":"IF(B439=\"\",\"\",COUNTIFS($B$3:B439,B439))","v":""},{"$f":"IF(B439=\"\",\"\",LOOKUP(B439,DataFIX!$F$3:$F$21,DataFIX!$E$3:$E$21))","v":""},{"$f":"IF(B439=\"\",\"\",LOOKUP(B439,DataFIX!$F$3:$F$41,DataFIX!$G$3:$G$41)+C439)","v":""},{"$f":"+'01.23'!O440","v":"00:00:00"},{"$f":"+'01.23'!E440","v":0},{"$f":"+'01.23'!G440","v":0},{"$f":"+'01.23'!T440","v":0},null,null,{"$f":"+'01.23'!L440","v":0}]
["",{"$f":"+IF('01.23'!C441=\"\",\"\",'01.23'!C441)","v":""},{"$f":"IF(B440=\"\",\"\",COUNTIFS($B$3:B440,B440))","v":""},{"$f":"IF(B440=\"\",\"\",LOOKUP(B440,DataFIX!$F$3:$F$21,DataFIX!$E$3:$E$21))","v":""},{"$f":"IF(B440=\"\",\"\",LOOKUP(B440,DataFIX!$F$3:$F$41,DataFIX!$G$3:$G$41)+C440)","v":""},{"$f":"+'01.23'!O441","v":"00:00:00"},{"$f":"+'01.23'!E441","v":0},{"$f":"+'01.23'!G441","v":0},{"$f":"+'01.23'!T441","v":0},null,null,{"$f":"+'01.23'!L441","v":0}]
["",{"$f":"+IF('01.23'!C442=\"\",\"\",'01.23'!C442)","v":""},{"$f":"IF(B441=\"\",\"\",COUNTIFS($B$3:B441,B441))","v":""},{"$f":"IF(B441=\"\",\"\",LOOKUP(B441,DataFIX!$F$3:$F$21,DataFIX!$E$3:$E$21))","v":""},{"$f":"IF(B441=\"\",\"\",LOOKUP(B441,DataFIX!$F$3:$F$41,DataFIX!$G$3:$G$41)+C441)","v":""},{"$f":"+'01.23'!O442","v":"00:00:00"},{"$f":"+'01.23'!E442","v":0},{"$f":"+'01.23'!G442","v":0},{"$f":"+'01.23'!T442","v":0},null,null,{"$f":"+'01.23'!L442","v":0}]
["",{"$f":"+IF('01.23'!C443=\"\",\"\",'01.23'!C443)","v":""},{"$f":"IF(B442=\"\",\"\",COUNTIFS($B$3:B442,B442))","v":""},{"$f":"IF(B442=\"\",\"\",LOOKUP(B442,DataFIX!$F$3:$F$21,DataFIX!$E$3:$E$21))","v":""},{"$f":"IF(B442=\"\",\"\",LOOKUP(B442,DataFIX!$F$3:$F$41,DataFIX!$G$3:$G$41)+C442)","v":""},{"$f":"+'01.23'!O443","v":"00:00:00"},{"$f":"+'01.23'!E443","v":0},{"$f":"+'01.23'!G443","v":0},{"$f":"+'01.23'!T443","v":0},null,null,{"$f":"+'01.23'!L443","v":0}]
["",{"$f":"+IF('01.23'!C444=\"\",\"\",'01.23'!C444)","v":""},{"$f":"IF(B443=\"\",\"\",COUNTIFS($B$3:B443,B443))","v":""},{"$f":"IF(B443=\"\",\"\",LOOKUP(B443,DataFIX!$F$3:$F$21,DataFIX!$E$3:$E$21))","v":""},{"$f":"IF(B443=\"\",\"\",LOOKUP(B443,DataFIX!$F$3:$F$41,DataFIX!$G$3:$G$41)+C443)","v":""},{"$f":"+'01.23'!O444","v":"00:00:00"},{"$f":"+'01.23'!E444","v":0},{"$f":"+'01.23'!G444","v":0},{"$f":"+'01.23'!T444","v":0},null,null,{"$f":"+'01.23'!L444","v":0}]
["",{"$f":"+IF('01.23'!C445=\"\",\"\",'01.23'!C445)","v":""},{"$f":"IF(B444=\"\",\"\",COUNTIFS($B$3:B444,B444))","v":""},{"$f":"IF(B444=\"\",\"\",LOOKUP(B444,DataFIX!$F$3:$F$21,DataFIX!$E$3:$E$21))","v":""},{"$f":"IF(B444=\"\",\"\",LOOKUP(B444,DataFIX!$F$3:$F$41,DataFIX!$G$3:$G$41)+C444)","v":""},{"$f":"+'01.23'!O445","v":"00:00:00"},{"$f":"+'01.23'!E445","v":0},{"$f":"+'01.23'!G445","v":0},{"$f":"+'01.23'!T445","v":0},null,null,{"$f":"+'01.23'!L445","v":0}]
["",{"$f":"+IF('01.23'!C446=\"\",\"\",'01.23'!C446)","v":""},{"$f":"IF(B445=\"\",\"\",COUNTIFS($B$3:B445,B445))","v":""},{"$f":"IF(B445=\"\",\"\",LOOKUP(B445,DataFIX!$F$3:$F$21,DataFIX!$E$3:$E$21))","v":""},{"$f":"IF(B445=\"\",\"\",LOOKUP(B445,DataFIX!$F$3:$F$41,DataFIX!$G$3:$G$41)+C445)","v":""},{"$f":"+'01.23'!O446","v":"00:00:00"},{"$f":"+'01.23'!E446","v":0},{"$f":"+'01.23'!G446","v":0},{"$f":"+'01.23'!T446","v":0},null,null,{"$f":"+'01.23'!L446","v":0}]
["",{"$f":"+IF('01.23'!C447=\"\",\"\",'01.23'!C447)","v":""},{"$f":"IF(B446=\"\",\"\",COUNTIFS($B$3:B446,B446))","v":""},{"$f":"IF(B446=\"\",\"\",LOOKUP(B446,DataFIX!$F$3:$F$21,DataFIX!$E$3:$E$21))","v":""},{"$f":"IF(B446=\"\",\"\",LOOKUP(B446,DataFIX!$F$3:$F$41,DataFIX!$G$3:$G$41)+C446)","v":""},{"$f":"+'01.23'!O447","v":"00:00:00"},{"$f":"+'01.23'!E447","v":0},{"$f":"+'01.23'!G447","v":0},{"$f":"+'01.23'!T447","v":0},null,null,{"$f":"+'01.23'!L447","v":0}]
["",{"$f":"+IF('01.23'!C448=\"\",\"\",'01.23'!C448)","v":""},{"$f":"IF(B447=\"\",\"\",COUNTIFS($B$3:B447,B447))","v":""},{"$f":"IF(B447=\"\",\"\",LOOKUP(B447,DataFIX!$F$3:$F$21,DataFIX!$E$3:$E$21))","v":""},{"$f":"IF(B447=\"\",\"\",LOOKUP(B447,DataFIX!$F$3:$F$41,DataFIX!$G$3:$G$41)+C447)","v":""},{"$f":"+'01.23'!O448","v":"00:00:00"},{"$f":"+'01.23'!E448","v":0},{"$f":"+'01.23'!G448","v":0},{"$f":"+'01.23'!T448","v":0},null,null,{"$f":"+'01.23'!L448","v":0}]
["",{"$f":"+IF('01.23'!C449=\"\",\"\",'01.23'!C449)","v":""},{"$f":"IF(B448=\"\",\"\",COUNTIFS($B$3:B448,B448))","v":""},{"$f":"IF(B448=\"\",\"\",LOOKUP(B448,DataFIX!$F$3:$F$21,DataFIX!$E$3:$E$21))","v":""},{"$f":"IF(B448=\"\",\"\",LOOKUP(B448,DataFIX!$F$3:$F$41,DataFIX!$G$3:$G$41)+C448)","v":""},{"$f":"+'01.23'!O449","v":"00:00:00"},{"$f":"+'01.23'!E449","v":0},{"$f":"+'01.23'!G449","v":0},{"$f":"+'01.23'!T449","v":0},null,null,{"$f":"+'01.23'!L449","v":0}]
["",{"$f":"+IF('01.23'!C450=\"\",\"\",'01.23'!C450)","v":""},{"$f":"IF(B449=\"\",\"\",COUNTIFS($B$3:B449,B449))","v":""},{"$f":"IF(B449=\"\",\"\",LOOKUP(B449,DataFIX!$F$3:$F$21,DataFIX!$E$3:$E$21))","v":""},{"$f":"IF(B449=\"\",\"\",LOOKUP(B449,DataFIX!$F$3:$F$41,DataFIX!$G$3:$G$41)+C449)","v":""},{"$f":"+'01.23'!O450","v":"00:00:00"},{"$f":"+'01.23'!E450","v":0},{"$f":"+'01.23'!G450","v":0},{"$f":"+'01.23'!T450","v":0},null,null,{"$f":"+'01.23'!L450","v":0}]
["",{"$f":"+IF('01.23'!C451=\"\",\"\",'01.23'!C451)","v":""},{"$f":"IF(B450=\"\",\"\",COUNTIFS($B$3:B450,B450))","v":""},{"$f":"IF(B450=\"\",\"\",LOOKUP(B450,DataFIX!$F$3:$F$21,DataFIX!$E$3:$E$21))","v":""},{"$f":"IF(B450=\"\",\"\",LOOKUP(B450,DataFIX!$F$3:$F$41,DataFIX!$G$3:$G$41)+C450)","v":""},{"$f":"+'01.23'!O451","v":"00:00:00"},{"$f":"+'01.23'!E451","v":0},{"$f":"+'01.23'!G451","v":0},{"$f":"+'01.23'!T451","v":0},null,null,{"$f":"+'01.23'!L451","v":0}]
["",{"$f":"+IF('01.23'!C452=\"\",\"\",'01.23'!C452)","v":""},{"$f":"IF(B451=\"\",\"\",COUNTIFS($B$3:B451,B451))","v":""},{"$f":"IF(B451=\"\",\"\",LOOKUP(B451,DataFIX!$F$3:$F$21,DataFIX!$E$3:$E$21))","v":""},{"$f":"IF(B451=\"\",\"\",LOOKUP(B451,DataFIX!$F$3:$F$41,DataFIX!$G$3:$G$41)+C451)","v":""},{"$f":"+'01.23'!O452","v":"00:00:00"},{"$f":"+'01.23'!E452","v":0},{"$f":"+'01.23'!G452","v":0},{"$f":"+'01.23'!T452","v":0},null,null,{"$f":"+'01.23'!L452","v":0}]
[{"$f":"+B452","v":""},{"$f":"+IF('01.23'!C453=\"\",\"\",'01.23'!C453)","v":""},{"$f":"IF(B452=\"\",\"\",COUNTIFS($B$3:B452,B452))","v":""},{"$f":"IF(B452=\"\",\"\",LOOKUP(B452,DataFIX!$F$3:$F$21,DataFIX!$E$3:$E$21))","v":""},{"$f":"IF(B452=\"\",\"\",LOOKUP(B452,DataFIX!$F$3:$F$41,DataFIX!$G$3:$G$41)+C452)","v":""},{"$f":"+'01.23'!O453","v":"00:00:00"},{"$f":"+'01.23'!E453","v":0},{"$f":"+'01.23'!G453","v":0},{"$f":"+'01.23'!T453","v":0},null,null,{"$f":"+'01.23'!L453","v":0}]
["",{"$f":"+IF('01.23'!C454=\"\",\"\",'01.23'!C454)","v":""},{"$f":"IF(B453=\"\",\"\",COUNTIFS($B$3:B453,B453))","v":""},{"$f":"IF(B453=\"\",\"\",LOOKUP(B453,DataFIX!$F$3:$F$21,DataFIX!$E$3:$E$21))","v":""},{"$f":"IF(B453=\"\",\"\",LOOKUP(B453,DataFIX!$F$3:$F$41,DataFIX!$G$3:$G$41)+C453)","v":""},{"$f":"+'01.23'!O454","v":"00:00:00"},{"$f":"+'01.23'!E454","v":0},{"$f":"+'01.23'!G454","v":0},{"$f":"+'01.23'!T454","v":0},null,null,{"$f":"+'01.23'!L454","v":0}]
["",{"$f":"+IF('01.23'!C455=\"\",\"\",'01.23'!C455)","v":""},{"$f":"IF(B454=\"\",\"\",COUNTIFS($B$3:B454,B454))","v":""},{"$f":"IF(B454=\"\",\"\",LOOKUP(B454,DataFIX!$F$3:$F$21,DataFIX!$E$3:$E$21))","v":""},{"$f":"IF(B454=\"\",\"\",LOOKUP(B454,DataFIX!$F$3:$F$41,DataFIX!$G$3:$G$41)+C454)","v":""},{"$f":"+'01.23'!O455","v":"00:00:00"},{"$f":"+'01.23'!E455","v":0},{"$f":"+'01.23'!G455","v":0},{"$f":"+'01.23'!T455","v":0},null,null,{"$f":"+'01.23'!L455","v":0}]
["",{"$f":"+IF('01.23'!C456=\"\",\"\",'01.23'!C456)","v":""},{"$f":"IF(B455=\"\",\"\",COUNTIFS($B$3:B455,B455))","v":""},{"$f":"IF(B455=\"\",\"\",LOOKUP(B455,DataFIX!$F$3:$F$21,DataFIX!$E$3:$E$21))","v":""},{"$f":"IF(B455=\"\",\"\",LOOKUP(B455,DataFIX!$F$3:$F$41,DataFIX!$G$3:$G$41)+C455)","v":""},{"$f":"+'01.23'!O456","v":"00:00:00"},{"$f":"+'01.23'!E456","v":0},{"$f":"+'01.23'!G456","v":0},{"$f":"+'01.23'!T456","v":0},null,null,{"$f":"+'01.23'!L456","v":0}]
["",{"$f":"+IF('01.23'!C457=\"\",\"\",'01.23'!C457)","v":""},{"$f":"IF(B456=\"\",\"\",COUNTIFS($B$3:B456,B456))","v":""},{"$f":"IF(B456=\"\",\"\",LOOKUP(B456,DataFIX!$F$3:$F$21,DataFIX!$E$3:$E$21))","v":""},{"$f":"IF(B456=\"\",\"\",LOOKUP(B456,DataFIX!$F$3:$F$41,DataFIX!$G$3:$G$41)+C456)","v":""},{"$f":"+'01.23'!O457","v":"00:00:00"},{"$f":"+'01.23'!E457","v":0},{"$f":"+'01.23'!G457","v":0},{"$f":"+'01.23'!T457","v":0},null,null,{"$f":"+'01.23'!L457","v":0}]
["",{"$f":"+IF('01.23'!C458=\"\",\"\",'01.23'!C458)","v":""},{"$f":"IF(B457=\"\",\"\",COUNTIFS($B$3:B457,B457))","v":""},{"$f":"IF(B457=\"\",\"\",LOOKUP(B457,DataFIX!$F$3:$F$21,DataFIX!$E$3:$E$21))","v":""},{"$f":"IF(B457=\"\",\"\",LOOKUP(B457,DataFIX!$F$3:$F$41,DataFIX!$G$3:$G$41)+C457)","v":""},{"$f":"+'01.23'!O458","v":"00:00:00"},{"$f":"+'01.23'!E458","v":0},{"$f":"+'01.23'!G458","v":0},{"$f":"+'01.23'!T458","v":0},null,null,{"$f":"+'01.23'!L458","v":0}]
["",{"$f":"+IF('01.23'!C459=\"\",\"\",'01.23'!C459)","v":""},{"$f":"IF(B458=\"\",\"\",COUNTIFS($B$3:B458,B458))","v":""},{"$f":"IF(B458=\"\",\"\",LOOKUP(B458,DataFIX!$F$3:$F$21,DataFIX!$E$3:$E$21))","v":""},{"$f":"IF(B458=\"\",\"\",LOOKUP(B458,DataFIX!$F$3:$F$41,DataFIX!$G$3:$G$41)+C458)","v":""},{"$f":"+'01.23'!O459","v":"00:00:00"},{"$f":"+'01.23'!E459","v":0},{"$f":"+'01.23'!G459","v":0},{"$f":"+'01.23'!T459","v":0},null,null,{"$f":"+'01.23'!L459","v":0}]
["",{"$f":"+IF('01.23'!C460=\"\",\"\",'01.23'!C460)","v":""},{"$f":"IF(B459=\"\",\"\",COUNTIFS($B$3:B459,B459))","v":""},{"$f":"IF(B459=\"\",\"\",LOOKUP(B459,DataFIX!$F$3:$F$21,DataFIX!$E$3:$E$21))","v":""},{"$f":"IF(B459=\"\",\"\",LOOKUP(B459,DataFIX!$F$3:$F$41,DataFIX!$G$3:$G$41)+C459)","v":""},{"$f":"+'01.23'!O460","v":"00:00:00"},{"$f":"+'01.23'!E460","v":0},{"$f":"+'01.23'!G460","v":0},{"$f":"+'01.23'!T460","v":0},null,null,{"$f":"+'01.23'!L460","v":0}]
["",{"$f":"+IF('01.23'!C461=\"\",\"\",'01.23'!C461)","v":""},{"$f":"IF(B460=\"\",\"\",COUNTIFS($B$3:B460,B460))","v":""},{"$f":"IF(B460=\"\",\"\",LOOKUP(B460,DataFIX!$F$3:$F$21,DataFIX!$E$3:$E$21))","v":""},{"$f":"IF(B460=\"\",\"\",LOOKUP(B460,DataFIX!$F$3:$F$41,DataFIX!$G$3:$G$41)+C460)","v":""},{"$f":"+'01.23'!O461","v":"00:00:00"},{"$f":"+'01.23'!E461","v":0},{"$f":"+'01.23'!G461","v":0},{"$f":"+'01.23'!T461","v":0},null,null,{"$f":"+'01.23'!L461","v":0}]
["",{"$f":"+IF('01.23'!C462=\"\",\"\",'01.23'!C462)","v":""},{"$f":"IF(B461=\"\",\"\",COUNTIFS($B$3:B461,B461))","v":""},{"$f":"IF(B461=\"\",\"\",LOOKUP(B461,DataFIX!$F$3:$F$21,DataFIX!$E$3:$E$21))","v":""},{"$f":"IF(B461=\"\",\"\",LOOKUP(B461,DataFIX!$F$3:$F$41,DataFIX!$G$3:$G$41)+C461)","v":""},{"$f":"+'01.23'!O462","v":"00:00:00"},{"$f":"+'01.23'!E462","v":0},{"$f":"+'01.23'!G462","v":0},{"$f":"+'01.23'!T462","v":0},null,null,{"$f":"+'01.23'!L462","v":0}]
["",{"$f":"+IF('01.23'!C463=\"\",\"\",'01.23'!C463)","v":""},{"$f":"IF(B462=\"\",\"\",COUNTIFS($B$3:B462,B462))","v":""},{"$f":"IF(B462=\"\",\"\",LOOKUP(B462,DataFIX!$F$3:$F$21,DataFIX!$E$3:$E$21))","v":""},{"$f":"IF(B462=\"\",\"\",LOOKUP(B462,DataFIX!$F$3:$F$41,DataFIX!$G$3:$G$41)+C462)","v":""},{"$f":"+'01.23'!O463","v":"00:00:00"},{"$f":"+'01.23'!E463","v":0},{"$f":"+'01.23'!G463","v":0},{"$f":"+'01.23'!T463","v":0},null,null,{"$f":"+'01.23'!L463","v":0}]
["",{"$f":"+IF('01.23'!C464=\"\",\"\",'01.23'!C464)","v":""},{"$f":"IF(B463=\"\",\"\",COUNTIFS($B$3:B463,B463))","v":""},{"$f":"IF(B463=\"\",\"\",LOOKUP(B463,DataFIX!$F$3:$F$21,DataFIX!$E$3:$E$21))","v":""},{"$f":"IF(B463=\"\",\"\",LOOKUP(B463,DataFIX!$F$3:$F$41,DataFIX!$G$3:$G$41)+C463)","v":""},{"$f":"+'01.23'!O464","v":"00:00:00"},{"$f":"+'01.23'!E464","v":0},{"$f":"+'01.23'!G464","v":0},{"$f":"+'01.23'!T464","v":0},null,null,{"$f":"+'01.23'!L464","v":0}]
["",{"$f":"+IF('01.23'!C465=\"\",\"\",'01.23'!C465)","v":""},{"$f":"IF(B464=\"\",\"\",COUNTIFS($B$3:B464,B464))","v":""},{"$f":"IF(B464=\"\",\"\",LOOKUP(B464,DataFIX!$F$3:$F$21,DataFIX!$E$3:$E$21))","v":""},{"$f":"IF(B464=\"\",\"\",LOOKUP(B464,DataFIX!$F$3:$F$41,DataFIX!$G$3:$G$41)+C464)","v":""},{"$f":"+'01.23'!O465","v":"00:00:00"},{"$f":"+'01.23'!E465","v":0},{"$f":"+'01.23'!G465","v":0},{"$f":"+'01.23'!T465","v":0},null,null,{"$f":"+'01.23'!L465","v":0}]
["",{"$f":"+IF('01.23'!C466=\"\",\"\",'01.23'!C466)","v":""},{"$f":"IF(B465=\"\",\"\",COUNTIFS($B$3:B465,B465))","v":""},{"$f":"IF(B465=\"\",\"\",LOOKUP(B465,DataFIX!$F$3:$F$21,DataFIX!$E$3:$E$21))","v":""},{"$f":"IF(B465=\"\",\"\",LOOKUP(B465,DataFIX!$F$3:$F$41,DataFIX!$G$3:$G$41)+C465)","v":""},{"$f":"+'01.23'!O466","v":"00:00:00"},{"$f":"+'01.23'!E466","v":0},{"$f":"+'01.23'!G466","v":0},{"$f":"+'01.23'!T466","v":0},null,null,{"$f":"+'01.23'!L466","v":0}]
["",{"$f":"+IF('01.23'!C467=\"\",\"\",'01.23'!C467)","v":""},{"$f":"IF(B466=\"\",\"\",COUNTIFS($B$3:B466,B466))","v":""},{"$f":"IF(B466=\"\",\"\",LOOKUP(B466,DataFIX!$F$3:$F$21,DataFIX!$E$3:$E$21))","v":""},{"$f":"IF(B466=\"\",\"\",LOOKUP(B466,DataFIX!$F$3:$F$41,DataFIX!$G$3:$G$41)+C466)","v":""},{"$f":"+'01.23'!O467","v":"00:00:00"},{"$f":"+'01.23'!E467","v":0},{"$f":"+'01.23'!G467","v":0},{"$f":"+'01.23'!T467","v":0},null,null,{"$f":"+'01.23'!L467","v":0}]
["",{"$f":"+IF('01.23'!C468=\"\",\"\",'01.23'!C468)","v":""},{"$f":"IF(B467=\"\",\"\",COUNTIFS($B$3:B467,B467))","v":""},{"$f":"IF(B467=\"\",\"\",LOOKUP(B467,DataFIX!$F$3:$F$21,DataFIX!$E$3:$E$21))","v":""},{"$f":"IF(B467=\"\",\"\",LOOKUP(B467,DataFIX!$F$3:$F$41,DataFIX!$G$3:$G$41)+C467)","v":""},{"$f":"+'01.23'!O468","v":"00:00:00"},{"$f":"+'01.23'!E468","v":0},{"$f":"+'01.23'!G468","v":0},{"$f":"+'01.23'!T468","v":0},null,null,{"$f":"+'01.23'!L468","v":0}]
["",{"$f":"+IF('01.23'!C469=\"\",\"\",'01.23'!C469)","v":""},{"$f":"IF(B468=\"\",\"\",COUNTIFS($B$3:B468,B468))","v":""},{"$f":"IF(B468=\"\",\"\",LOOKUP(B468,DataFIX!$F$3:$F$21,DataFIX!$E$3:$E$21))","v":""},{"$f":"IF(B468=\"\",\"\",LOOKUP(B468,DataFIX!$F$3:$F$41,DataFIX!$G$3:$G$41)+C468)","v":""},{"$f":"+'01.23'!O469","v":"00:00:00"},{"$f":"+'01.23'!E469","v":0},{"$f":"+'01.23'!G469","v":0},{"$f":"+'01.23'!T469","v":0},null,null,{"$f":"+'01.23'!L469","v":0}]
["",{"$f":"+IF('01.23'!C470=\"\",\"\",'01.23'!C470)","v":""},{"$f":"IF(B469=\"\",\"\",COUNTIFS($B$3:B469,B469))","v":""},{"$f":"IF(B469=\"\",\"\",LOOKUP(B469,DataFIX!$F$3:$F$21,DataFIX!$E$3:$E$21))","v":""},{"$f":"IF(B469=\"\",\"\",LOOKUP(B469,DataFIX!$F$3:$F$41,DataFIX!$G$3:$G$41)+C469)","v":""},{"$f":"+'01.23'!O470","v":"00:00:00"},{"$f":"+'01.23'!E470","v":0},{"$f":"+'01.23'!G470","v":0},{"$f":"+'01.23'!T470","v":0},null,null,{"$f":"+'01.23'!L470","v":0}]
["",{"$f":"+IF('01.23'!C471=\"\",\"\",'01.23'!C471)","v":""},{"$f":"IF(B470=\"\",\"\",COUNTIFS($B$3:B470,B470))","v":""},{"$f":"IF(B470=\"\",\"\",LOOKUP(B470,DataFIX!$F$3:$F$21,DataFIX!$E$3:$E$21))","v":""},{"$f":"IF(B470=\"\",\"\",LOOKUP(B470,DataFIX!$F$3:$F$41,DataFIX!$G$3:$G$41)+C470)","v":""},{"$f":"+'01.23'!O471","v":"00:00:00"},{"$f":"+'01.23'!E471","v":0},{"$f":"+'01.23'!G471","v":0},{"$f":"+'01.23'!T471","v":0},null,null,{"$f":"+'01.23'!L471","v":0}]
["",{"$f":"+IF('01.23'!C472=\"\",\"\",'01.23'!C472)","v":""},{"$f":"IF(B471=\"\",\"\",COUNTIFS($B$3:B471,B471))","v":""},{"$f":"IF(B471=\"\",\"\",LOOKUP(B471,DataFIX!$F$3:$F$21,DataFIX!$E$3:$E$21))","v":""},{"$f":"IF(B471=\"\",\"\",LOOKUP(B471,DataFIX!$F$3:$F$41,DataFIX!$G$3:$G$41)+C471)","v":""},{"$f":"+'01.23'!O472","v":"00:00:00"},{"$f":"+'01.23'!E472","v":0},{"$f":"+'01.23'!G472","v":0},{"$f":"+'01.23'!T472","v":0},null,null,{"$f":"+'01.23'!L472","v":0}]
["",{"$f":"+IF('01.23'!C473=\"\",\"\",'01.23'!C473)","v":""},{"$f":"IF(B472=\"\",\"\",COUNTIFS($B$3:B472,B472))","v":""},{"$f":"IF(B472=\"\",\"\",LOOKUP(B472,DataFIX!$F$3:$F$21,DataFIX!$E$3:$E$21))","v":""},{"$f":"IF(B472=\"\",\"\",LOOKUP(B472,DataFIX!$F$3:$F$41,DataFIX!$G$3:$G$41)+C472)","v":""},{"$f":"+'01.23'!O473","v":"00:00:00"},{"$f":"+'01.23'!E473","v":0},{"$f":"+'01.23'!G473","v":0},{"$f":"+'01.23'!T473","v":0},null,null,{"$f":"+'01.23'!L473","v":0}]
["",{"$f":"+IF('01.23'!C474=\"\",\"\",'01.23'!C474)","v":""},{"$f":"IF(B473=\"\",\"\",COUNTIFS($B$3:B473,B473))","v":""},{"$f":"IF(B473=\"\",\"\",LOOKUP(B473,DataFIX!$F$3:$F$21,DataFIX!$E$3:$E$21))","v":""},{"$f":"IF(B473=\"\",\"\",LOOKUP(B473,DataFIX!$F$3:$F$41,DataFIX!$G$3:$G$41)+C473)","v":""},{"$f":"+'01.23'!O474","v":"00:00:00"},{"$f":"+'01.23'!E474","v":0},{"$f":"+'01.23'!G474","v":0},{"$f":"+'01.23'!T474","v":0},null,null,{"$f":"+'01.23'!L474","v":0}]
["",{"$f":"+IF('01.23'!C475=\"\",\"\",'01.23'!C475)","v":""},{"$f":"IF(B474=\"\",\"\",COUNTIFS($B$3:B474,B474))","v":""},{"$f":"IF(B474=\"\",\"\",LOOKUP(B474,DataFIX!$F$3:$F$21,DataFIX!$E$3:$E$21))","v":""},{"$f":"IF(B474=\"\",\"\",LOOKUP(B474,DataFIX!$F$3:$F$41,DataFIX!$G$3:$G$41)+C474)","v":""},{"$f":"+'01.23'!O475","v":"00:00:00"},{"$f":"+'01.23'!E475","v":0},{"$f":"+'01.23'!G475","v":0},{"$f":"+'01.23'!T475","v":0},null,null,{"$f":"+'01.23'!L475","v":0}]
["",{"$f":"+IF('01.23'!C476=\"\",\"\",'01.23'!C476)","v":""},{"$f":"IF(B475=\"\",\"\",COUNTIFS($B$3:B475,B475))","v":""},{"$f":"IF(B475=\"\",\"\",LOOKUP(B475,DataFIX!$F$3:$F$21,DataFIX!$E$3:$E$21))","v":""},{"$f":"IF(B475=\"\",\"\",LOOKUP(B475,DataFIX!$F$3:$F$41,DataFIX!$G$3:$G$41)+C475)","v":""},{"$f":"+'01.23'!O476","v":"00:00:00"},{"$f":"+'01.23'!E476","v":0},{"$f":"+'01.23'!G476","v":0},{"$f":"+'01.23'!T476","v":0},null,null,{"$f":"+'01.23'!L476","v":0}]
["",{"$f":"+IF('01.23'!C477=\"\",\"\",'01.23'!C477)","v":""},{"$f":"IF(B476=\"\",\"\",COUNTIFS($B$3:B476,B476))","v":""},{"$f":"IF(B476=\"\",\"\",LOOKUP(B476,DataFIX!$F$3:$F$21,DataFIX!$E$3:$E$21))","v":""},{"$f":"IF(B476=\"\",\"\",LOOKUP(B476,DataFIX!$F$3:$F$41,DataFIX!$G$3:$G$41)+C476)","v":""},{"$f":"+'01.23'!O477","v":"00:00:00"},{"$f":"+'01.23'!E477","v":0},{"$f":"+'01.23'!G477","v":0},{"$f":"+'01.23'!T477","v":0},null,null,{"$f":"+'01.23'!L477","v":0}]
["",{"$f":"+IF('01.23'!C478=\"\",\"\",'01.23'!C478)","v":""},{"$f":"IF(B477=\"\",\"\",COUNTIFS($B$3:B477,B477))","v":""},{"$f":"IF(B477=\"\",\"\",LOOKUP(B477,DataFIX!$F$3:$F$21,DataFIX!$E$3:$E$21))","v":""},{"$f":"IF(B477=\"\",\"\",LOOKUP(B477,DataFIX!$F$3:$F$41,DataFIX!$G$3:$G$41)+C477)","v":""},{"$f":"+'01.23'!O478","v":"00:00:00"},{"$f":"+'01.23'!E478","v":0},{"$f":"+'01.23'!G478","v":0},{"$f":"+'01.23'!T478","v":0},null,null,{"$f":"+'01.23'!L478","v":0}]
["",{"$f":"+IF('01.23'!C479=\"\",\"\",'01.23'!C479)","v":""},{"$f":"IF(B478=\"\",\"\",COUNTIFS($B$3:B478,B478))","v":""},{"$f":"IF(B478=\"\",\"\",LOOKUP(B478,DataFIX!$F$3:$F$21,DataFIX!$E$3:$E$21))","v":""},{"$f":"IF(B478=\"\",\"\",LOOKUP(B478,DataFIX!$F$3:$F$41,DataFIX!$G$3:$G$41)+C478)","v":""},{"$f":"+'01.23'!O479","v":"00:00:00"},{"$f":"+'01.23'!E479","v":0},{"$f":"+'01.23'!G479","v":0},{"$f":"+'01.23'!T479","v":0},null,null,{"$f":"+'01.23'!L479","v":0}]
["",{"$f":"+IF('01.23'!C480=\"\",\"\",'01.23'!C480)","v":""},{"$f":"IF(B479=\"\",\"\",COUNTIFS($B$3:B479,B479))","v":""},{"$f":"IF(B479=\"\",\"\",LOOKUP(B479,DataFIX!$F$3:$F$21,DataFIX!$E$3:$E$21))","v":""},{"$f":"IF(B479=\"\",\"\",LOOKUP(B479,DataFIX!$F$3:$F$41,DataFIX!$G$3:$G$41)+C479)","v":""},{"$f":"+'01.23'!O480","v":"00:00:00"},{"$f":"+'01.23'!E480","v":0},{"$f":"+'01.23'!G480","v":0},{"$f":"+'01.23'!T480","v":0},null,null,{"$f":"+'01.23'!L480","v":0}]
["",{"$f":"+IF('01.23'!C481=\"\",\"\",'01.23'!C481)","v":""},{"$f":"IF(B480=\"\",\"\",COUNTIFS($B$3:B480,B480))","v":""},{"$f":"IF(B480=\"\",\"\",LOOKUP(B480,DataFIX!$F$3:$F$21,DataFIX!$E$3:$E$21))","v":""},{"$f":"IF(B480=\"\",\"\",LOOKUP(B480,DataFIX!$F$3:$F$41,DataFIX!$G$3:$G$41)+C480)","v":""},{"$f":"+'01.23'!O481","v":"00:00:00"},{"$f":"+'01.23'!E481","v":0},{"$f":"+'01.23'!G481","v":0},{"$f":"+'01.23'!T481","v":0},null,null,{"$f":"+'01.23'!L481","v":0}]
["",{"$f":"+IF('01.23'!C482=\"\",\"\",'01.23'!C482)","v":""},{"$f":"IF(B481=\"\",\"\",COUNTIFS($B$3:B481,B481))","v":""},{"$f":"IF(B481=\"\",\"\",LOOKUP(B481,DataFIX!$F$3:$F$21,DataFIX!$E$3:$E$21))","v":""},{"$f":"IF(B481=\"\",\"\",LOOKUP(B481,DataFIX!$F$3:$F$41,DataFIX!$G$3:$G$41)+C481)","v":""},{"$f":"+'01.23'!O482","v":"00:00:00"},{"$f":"+'01.23'!E482","v":0},{"$f":"+'01.23'!G482","v":0},{"$f":"+'01.23'!T482","v":0},null,null,{"$f":"+'01.23'!L482","v":0}]
["",{"$f":"+IF('01.23'!C483=\"\",\"\",'01.23'!C483)","v":""},{"$f":"IF(B482=\"\",\"\",COUNTIFS($B$3:B482,B482))","v":""},{"$f":"IF(B482=\"\",\"\",LOOKUP(B482,DataFIX!$F$3:$F$21,DataFIX!$E$3:$E$21))","v":""},{"$f":"IF(B482=\"\",\"\",LOOKUP(B482,DataFIX!$F$3:$F$41,DataFIX!$G$3:$G$41)+C482)","v":""},{"$f":"+'01.23'!O483","v":"00:00:00"},{"$f":"+'01.23'!E483","v":0},{"$f":"+'01.23'!G483","v":0},{"$f":"+'01.23'!T483","v":0},null,null,{"$f":"+'01.23'!L483","v":0}]
["",{"$f":"+IF('01.23'!C484=\"\",\"\",'01.23'!C484)","v":""},{"$f":"IF(B483=\"\",\"\",COUNTIFS($B$3:B483,B483))","v":""},{"$f":"IF(B483=\"\",\"\",LOOKUP(B483,DataFIX!$F$3:$F$21,DataFIX!$E$3:$E$21))","v":""},{"$f":"IF(B483=\"\",\"\",LOOKUP(B483,DataFIX!$F$3:$F$41,DataFIX!$G$3:$G$41)+C483)","v":""},{"$f":"+'01.23'!O484","v":"00:00:00"},{"$f":"+'01.23'!E484","v":0},{"$f":"+'01.23'!G484","v":0},{"$f":"+'01.23'!T484","v":0},null,null,{"$f":"+'01.23'!L484","v":0}]
["",{"$f":"+IF('01.23'!C485=\"\",\"\",'01.23'!C485)","v":""},{"$f":"IF(B484=\"\",\"\",COUNTIFS($B$3:B484,B484))","v":""},{"$f":"IF(B484=\"\",\"\",LOOKUP(B484,DataFIX!$F$3:$F$21,DataFIX!$E$3:$E$21))","v":""},{"$f":"IF(B484=\"\",\"\",LOOKUP(B484,DataFIX!$F$3:$F$41,DataFIX!$G$3:$G$41)+C484)","v":""},{"$f":"+'01.23'!O485","v":"00:00:00"},{"$f":"+'01.23'!E485","v":0},{"$f":"+'01.23'!G485","v":0},{"$f":"+'01.23'!T485","v":0},null,null,{"$f":"+'01.23'!L485","v":0}]
["",{"$f":"+IF('01.23'!C486=\"\",\"\",'01.23'!C486)","v":""},{"$f":"IF(B485=\"\",\"\",COUNTIFS($B$3:B485,B485))","v":""},{"$f":"IF(B485=\"\",\"\",LOOKUP(B485,DataFIX!$F$3:$F$21,DataFIX!$E$3:$E$21))","v":""},{"$f":"IF(B485=\"\",\"\",LOOKUP(B485,DataFIX!$F$3:$F$41,DataFIX!$G$3:$G$41)+C485)","v":""},{"$f":"+'01.23'!O486","v":"00:00:00"},{"$f":"+'01.23'!E486","v":0},{"$f":"+'01.23'!G486","v":0},{"$f":"+'01.23'!T486","v":0},null,null,{"$f":"+'01.23'!L486","v":0}]
["",{"$f":"+IF('01.23'!C487=\"\",\"\",'01.23'!C487)","v":""},{"$f":"IF(B486=\"\",\"\",COUNTIFS($B$3:B486,B486))","v":""},{"$f":"IF(B486=\"\",\"\",LOOKUP(B486,DataFIX!$F$3:$F$21,DataFIX!$E$3:$E$21))","v":""},{"$f":"IF(B486=\"\",\"\",LOOKUP(B486,DataFIX!$F$3:$F$41,DataFIX!$G$3:$G$41)+C486)","v":""},{"$f":"+'01.23'!O487","v":"00:00:00"},{"$f":"+'01.23'!E487","v":0},{"$f":"+'01.23'!G487","v":0},{"$f":"+'01.23'!T487","v":0},null,null,{"$f":"+'01.23'!L487","v":0}]
["",{"$f":"+IF('01.23'!C488=\"\",\"\",'01.23'!C488)","v":""},{"$f":"IF(B487=\"\",\"\",COUNTIFS($B$3:B487,B487))","v":""},{"$f":"IF(B487=\"\",\"\",LOOKUP(B487,DataFIX!$F$3:$F$21,DataFIX!$E$3:$E$21))","v":""},{"$f":"IF(B487=\"\",\"\",LOOKUP(B487,DataFIX!$F$3:$F$41,DataFIX!$G$3:$G$41)+C487)","v":""},{"$f":"+'01.23'!O488","v":"00:00:00"},{"$f":"+'01.23'!E488","v":0},{"$f":"+'01.23'!G488","v":0},{"$f":"+'01.23'!T488","v":0},null,null,{"$f":"+'01.23'!L488","v":0}]
["",{"$f":"+IF('01.23'!C489=\"\",\"\",'01.23'!C489)","v":""},{"$f":"IF(B488=\"\",\"\",COUNTIFS($B$3:B488,B488))","v":""},{"$f":"IF(B488=\"\",\"\",LOOKUP(B488,DataFIX!$F$3:$F$21,DataFIX!$E$3:$E$21))","v":""},{"$f":"IF(B488=\"\",\"\",LOOKUP(B488,DataFIX!$F$3:$F$41,DataFIX!$G$3:$G$41)+C488)","v":""},{"$f":"+'01.23'!O489","v":"00:00:00"},{"$f":"+'01.23'!E489","v":0},{"$f":"+'01.23'!G489","v":0},{"$f":"+'01.23'!T489","v":0},null,null,{"$f":"+'01.23'!L489","v":0}]
["",{"$f":"+IF('01.23'!C490=\"\",\"\",'01.23'!C490)","v":""},{"$f":"IF(B489=\"\",\"\",COUNTIFS($B$3:B489,B489))","v":""},{"$f":"IF(B489=\"\",\"\",LOOKUP(B489,DataFIX!$F$3:$F$21,DataFIX!$E$3:$E$21))","v":""},{"$f":"IF(B489=\"\",\"\",LOOKUP(B489,DataFIX!$F$3:$F$41,DataFIX!$G$3:$G$41)+C489)","v":""},{"$f":"+'01.23'!O490","v":"00:00:00"},{"$f":"+'01.23'!E490","v":0},{"$f":"+'01.23'!G490","v":0},{"$f":"+'01.23'!T490","v":0},null,null,{"$f":"+'01.23'!L490","v":0}]
["",{"$f":"+IF('01.23'!C491=\"\",\"\",'01.23'!C491)","v":""},{"$f":"IF(B490=\"\",\"\",COUNTIFS($B$3:B490,B490))","v":""},{"$f":"IF(B490=\"\",\"\",LOOKUP(B490,DataFIX!$F$3:$F$21,DataFIX!$E$3:$E$21))","v":""},{"$f":"IF(B490=\"\",\"\",LOOKUP(B490,DataFIX!$F$3:$F$41,DataFIX!$G$3:$G$41)+C490)","v":""},{"$f":"+'01.23'!O491","v":"00:00:00"},{"$f":"+'01.23'!E491","v":0},{"$f":"+'01.23'!G491","v":0},{"$f":"+'01.23'!T491","v":0},null,null,{"$f":"+'01.23'!L491","v":0}]
["",{"$f":"+IF('01.23'!C492=\"\",\"\",'01.23'!C492)","v":""},{"$f":"IF(B491=\"\",\"\",COUNTIFS($B$3:B491,B491))","v":""},{"$f":"IF(B491=\"\",\"\",LOOKUP(B491,DataFIX!$F$3:$F$21,DataFIX!$E$3:$E$21))","v":""},{"$f":"IF(B491=\"\",\"\",LOOKUP(B491,DataFIX!$F$3:$F$41,DataFIX!$G$3:$G$41)+C491)","v":""},{"$f":"+'01.23'!O492","v":"00:00:00"},{"$f":"+'01.23'!E492","v":0},{"$f":"+'01.23'!G492","v":0},{"$f":"+'01.23'!T492","v":0},null,null,{"$f":"+'01.23'!L492","v":0}]
["",{"$f":"+IF('01.23'!C493=\"\",\"\",'01.23'!C493)","v":""},{"$f":"IF(B492=\"\",\"\",COUNTIFS($B$3:B492,B492))","v":""},{"$f":"IF(B492=\"\",\"\",LOOKUP(B492,DataFIX!$F$3:$F$21,DataFIX!$E$3:$E$21))","v":""},{"$f":"IF(B492=\"\",\"\",LOOKUP(B492,DataFIX!$F$3:$F$41,DataFIX!$G$3:$G$41)+C492)","v":""},{"$f":"+'01.23'!O493","v":"00:00:00"},{"$f":"+'01.23'!E493","v":0},{"$f":"+'01.23'!G493","v":0},{"$f":"+'01.23'!T493","v":0},null,null,{"$f":"+'01.23'!L493","v":0}]
["",{"$f":"+IF('01.23'!C494=\"\",\"\",'01.23'!C494)","v":""},{"$f":"IF(B493=\"\",\"\",COUNTIFS($B$3:B493,B493))","v":""},{"$f":"IF(B493=\"\",\"\",LOOKUP(B493,DataFIX!$F$3:$F$21,DataFIX!$E$3:$E$21))","v":""},{"$f":"IF(B493=\"\",\"\",LOOKUP(B493,DataFIX!$F$3:$F$41,DataFIX!$G$3:$G$41)+C493)","v":""},{"$f":"+'01.23'!O494","v":"00:00:00"},{"$f":"+'01.23'!E494","v":0},{"$f":"+'01.23'!G494","v":0},{"$f":"+'01.23'!T494","v":0},null,null,{"$f":"+'01.23'!L494","v":0}]
["",{"$f":"+IF('01.23'!C495=\"\",\"\",'01.23'!C495)","v":""},{"$f":"IF(B494=\"\",\"\",COUNTIFS($B$3:B494,B494))","v":""},{"$f":"IF(B494=\"\",\"\",LOOKUP(B494,DataFIX!$F$3:$F$21,DataFIX!$E$3:$E$21))","v":""},{"$f":"IF(B494=\"\",\"\",LOOKUP(B494,DataFIX!$F$3:$F$41,DataFIX!$G$3:$G$41)+C494)","v":""},{"$f":"+'01.23'!O495","v":"00:00:00"},{"$f":"+'01.23'!E495","v":0},{"$f":"+'01.23'!G495","v":0},{"$f":"+'01.23'!T495","v":0},null,null,{"$f":"+'01.23'!L495","v":0}]
["",{"$f":"+IF('01.23'!C496=\"\",\"\",'01.23'!C496)","v":""},{"$f":"IF(B495=\"\",\"\",COUNTIFS($B$3:B495,B495))","v":""},{"$f":"IF(B495=\"\",\"\",LOOKUP(B495,DataFIX!$F$3:$F$21,DataFIX!$E$3:$E$21))","v":""},{"$f":"IF(B495=\"\",\"\",LOOKUP(B495,DataFIX!$F$3:$F$41,DataFIX!$G$3:$G$41)+C495)","v":""},{"$f":"+'01.23'!O496","v":"00:00:00"},{"$f":"+'01.23'!E496","v":0},{"$f":"+'01.23'!G496","v":0},{"$f":"+'01.23'!T496","v":0},null,null,{"$f":"+'01.23'!L496","v":0}]
["",{"$f":"+IF('01.23'!C497=\"\",\"\",'01.23'!C497)","v":""},{"$f":"IF(B496=\"\",\"\",COUNTIFS($B$3:B496,B496))","v":""},{"$f":"IF(B496=\"\",\"\",LOOKUP(B496,DataFIX!$F$3:$F$21,DataFIX!$E$3:$E$21))","v":""},{"$f":"IF(B496=\"\",\"\",LOOKUP(B496,DataFIX!$F$3:$F$41,DataFIX!$G$3:$G$41)+C496)","v":""},{"$f":"+'01.23'!O497","v":"00:00:00"},{"$f":"+'01.23'!E497","v":0},{"$f":"+'01.23'!G497","v":0},{"$f":"+'01.23'!T497","v":0},null,null,{"$f":"+'01.23'!L497","v":0}]
["",{"$f":"+IF('01.23'!C498=\"\",\"\",'01.23'!C498)","v":""},{"$f":"IF(B497=\"\",\"\",COUNTIFS($B$3:B497,B497))","v":""},{"$f":"IF(B497=\"\",\"\",LOOKUP(B497,DataFIX!$F$3:$F$21,DataFIX!$E$3:$E$21))","v":""},{"$f":"IF(B497=\"\",\"\",LOOKUP(B497,DataFIX!$F$3:$F$41,DataFIX!$G$3:$G$41)+C497)","v":""},{"$f":"+'01.23'!O498","v":"00:00:00"},{"$f":"+'01.23'!E498","v":0},{"$f":"+'01.23'!G498","v":0},{"$f":"+'01.23'!T498","v":0},null,null,{"$f":"+'01.23'!L498","v":0}]
["",{"$f":"+IF('01.23'!C499=\"\",\"\",'01.23'!C499)","v":""},{"$f":"IF(B498=\"\",\"\",COUNTIFS($B$3:B498,B498))","v":""},{"$f":"IF(B498=\"\",\"\",LOOKUP(B498,DataFIX!$F$3:$F$21,DataFIX!$E$3:$E$21))","v":""},{"$f":"IF(B498=\"\",\"\",LOOKUP(B498,DataFIX!$F$3:$F$41,DataFIX!$G$3:$G$41)+C498)","v":""},{"$f":"+'01.23'!O499","v":"00:00:00"},{"$f":"+'01.23'!E499","v":0},{"$f":"+'01.23'!G499","v":0},{"$f":"+'01.23'!T499","v":0},null,null,{"$f":"+'01.23'!L499","v":0}]
["",{"$f":"+IF('01.23'!C500=\"\",\"\",'01.23'!C500)","v":""},{"$f":"IF(B499=\"\",\"\",COUNTIFS($B$3:B499,B499))","v":""},{"$f":"IF(B499=\"\",\"\",LOOKUP(B499,DataFIX!$F$3:$F$21,DataFIX!$E$3:$E$21))","v":""},{"$f":"IF(B499=\"\",\"\",LOOKUP(B499,DataFIX!$F$3:$F$41,DataFIX!$G$3:$G$41)+C499)","v":""},{"$f":"+'01.23'!O500","v":"00:00:00"},{"$f":"+'01.23'!E500","v":0},{"$f":"+'01.23'!G500","v":0},{"$f":"+'01.23'!T500","v":0},null,null,{"$f":"+'01.23'!L500","v":0}]
["",{"$f":"+IF('01.23'!C501=\"\",\"\",'01.23'!C501)","v":""},{"$f":"IF(B500=\"\",\"\",COUNTIFS($B$3:B500,B500))","v":""},{"$f":"IF(B500=\"\",\"\",LOOKUP(B500,DataFIX!$F$3:$F$21,DataFIX!$E$3:$E$21))","v":""},{"$f":"IF(B500=\"\",\"\",LOOKUP(B500,DataFIX!$F$3:$F$41,DataFIX!$G$3:$G$41)+C500)","v":""},{"$f":"+'01.23'!O501","v":"00:00:00"},{"$f":"+'01.23'!E501","v":0},{"$f":"+'01.23'!G501","v":0},{"$f":"+'01.23'!T501","v":0},null,null,{"$f":"+'01.23'!L501","v":0}]
["",{"$f":"+IF('01.23'!C502=\"\",\"\",'01.23'!C502)","v":""},{"$f":"IF(B501=\"\",\"\",COUNTIFS($B$3:B501,B501))","v":""},{"$f":"IF(B501=\"\",\"\",LOOKUP(B501,DataFIX!$F$3:$F$21,DataFIX!$E$3:$E$21))","v":""},{"$f":"IF(B501=\"\",\"\",LOOKUP(B501,DataFIX!$F$3:$F$41,DataFIX!$G$3:$G$41)+C501)","v":""},{"$f":"+'01.23'!O502","v":"00:00:00"},{"$f":"+'01.23'!E502","v":0},{"$f":"+'01.23'!G502","v":0},{"$f":"+'01.23'!T502","v":0},null,null,{"$f":"+'01.23'!L502","v":0}]
["",{"$f":"+IF('01.23'!C503=\"\",\"\",'01.23'!C503)","v":""},{"$f":"IF(B502=\"\",\"\",COUNTIFS($B$3:B502,B502))","v":""},{"$f":"IF(B502=\"\",\"\",LOOKUP(B502,DataFIX!$F$3:$F$21,DataFIX!$E$3:$E$21))","v":""},{"$f":"IF(B502=\"\",\"\",LOOKUP(B502,DataFIX!$F$3:$F$41,DataFIX!$G$3:$G$41)+C502)","v":""},{"$f":"+'01.23'!O503","v":"00:00:00"},{"$f":"+'01.23'!E503","v":0},{"$f":"+'01.23'!G503","v":0},{"$f":"+'01.23'!T503","v":0},null,null,{"$f":"+'01.23'!L503","v":0}]
["",{"$f":"+IF('01.23'!C504=\"\",\"\",'01.23'!C504)","v":""},{"$f":"IF(B503=\"\",\"\",COUNTIFS($B$3:B503,B503))","v":""},{"$f":"IF(B503=\"\",\"\",LOOKUP(B503,DataFIX!$F$3:$F$21,DataFIX!$E$3:$E$21))","v":""},{"$f":"IF(B503=\"\",\"\",LOOKUP(B503,DataFIX!$F$3:$F$41,DataFIX!$G$3:$G$41)+C503)","v":""},{"$f":"+'01.23'!O504","v":"00:00:00"},{"$f":"+'01.23'!E504","v":0},{"$f":"+'01.23'!G504","v":0},{"$f":"+'01.23'!T504","v":0},null,null,{"$f":"+'01.23'!L504","v":0}]
["",{"$f":"+IF('01.23'!C505=\"\",\"\",'01.23'!C505)","v":""},{"$f":"IF(B504=\"\",\"\",COUNTIFS($B$3:B504,B504))","v":""},{"$f":"IF(B504=\"\",\"\",LOOKUP(B504,DataFIX!$F$3:$F$21,DataFIX!$E$3:$E$21))","v":""},{"$f":"IF(B504=\"\",\"\",LOOKUP(B504,DataFIX!$F$3:$F$41,DataFIX!$G$3:$G$41)+C504)","v":""},{"$f":"+'01.23'!O505","v":"00:00:00"},{"$f":"+'01.23'!E505","v":0},{"$f":"+'01.23'!G505","v":0},{"$f":"+'01.23'!T505","v":0},null,null,{"$f":"+'01.23'!L505","v":0}]
["",{"$f":"+IF('01.23'!C506=\"\",\"\",'01.23'!C506)","v":""},{"$f":"IF(B505=\"\",\"\",COUNTIFS($B$3:B505,B505))","v":""},{"$f":"IF(B505=\"\",\"\",LOOKUP(B505,DataFIX!$F$3:$F$21,DataFIX!$E$3:$E$21))","v":""},{"$f":"IF(B505=\"\",\"\",LOOKUP(B505,DataFIX!$F$3:$F$41,DataFIX!$G$3:$G$41)+C505)","v":""},{"$f":"+'01.23'!O506","v":"00:00:00"},{"$f":"+'01.23'!E506","v":0},{"$f":"+'01.23'!G506","v":0},{"$f":"+'01.23'!T506","v":0},null,null,{"$f":"+'01.23'!L506","v":0}]
["",{"$f":"+IF('01.23'!C507=\"\",\"\",'01.23'!C507)","v":""},{"$f":"IF(B506=\"\",\"\",COUNTIFS($B$3:B506,B506))","v":""},{"$f":"IF(B506=\"\",\"\",LOOKUP(B506,DataFIX!$F$3:$F$21,DataFIX!$E$3:$E$21))","v":""},{"$f":"IF(B506=\"\",\"\",LOOKUP(B506,DataFIX!$F$3:$F$41,DataFIX!$G$3:$G$41)+C506)","v":""},{"$f":"+'01.23'!O507","v":"00:00:00"},{"$f":"+'01.23'!E507","v":0},{"$f":"+'01.23'!G507","v":0},{"$f":"+'01.23'!T507","v":0},null,null,{"$f":"+'01.23'!L507","v":0}]
["",{"$f":"+IF('01.23'!C508=\"\",\"\",'01.23'!C508)","v":""},{"$f":"IF(B507=\"\",\"\",COUNTIFS($B$3:B507,B507))","v":""},{"$f":"IF(B507=\"\",\"\",LOOKUP(B507,DataFIX!$F$3:$F$21,DataFIX!$E$3:$E$21))","v":""},{"$f":"IF(B507=\"\",\"\",LOOKUP(B507,DataFIX!$F$3:$F$41,DataFIX!$G$3:$G$41)+C507)","v":""},{"$f":"+'01.23'!O508","v":"00:00:00"},{"$f":"+'01.23'!E508","v":0},{"$f":"+'01.23'!G508","v":0},{"$f":"+'01.23'!T508","v":0},null,null,{"$f":"+'01.23'!L508","v":0}]
["",{"$f":"+IF('01.23'!C509=\"\",\"\",'01.23'!C509)","v":""},{"$f":"IF(B508=\"\",\"\",COUNTIFS($B$3:B508,B508))","v":""},{"$f":"IF(B508=\"\",\"\",LOOKUP(B508,DataFIX!$F$3:$F$21,DataFIX!$E$3:$E$21))","v":""},{"$f":"IF(B508=\"\",\"\",LOOKUP(B508,DataFIX!$F$3:$F$41,DataFIX!$G$3:$G$41)+C508)","v":""},{"$f":"+'01.23'!O509","v":"00:00:00"},{"$f":"+'01.23'!E509","v":0},{"$f":"+'01.23'!G509","v":0},{"$f":"+'01.23'!T509","v":0},null,null,{"$f":"+'01.23'!L509","v":0}]
["",{"$f":"+IF('01.23'!C510=\"\",\"\",'01.23'!C510)","v":""},{"$f":"IF(B509=\"\",\"\",COUNTIFS($B$3:B509,B509))","v":""},{"$f":"IF(B509=\"\",\"\",LOOKUP(B509,DataFIX!$F$3:$F$21,DataFIX!$E$3:$E$21))","v":""},{"$f":"IF(B509=\"\",\"\",LOOKUP(B509,DataFIX!$F$3:$F$41,DataFIX!$G$3:$G$41)+C509)","v":""},{"$f":"+'01.23'!O510","v":"00:00:00"},{"$f":"+'01.23'!E510","v":0},{"$f":"+'01.23'!G510","v":0},{"$f":"+'01.23'!T510","v":0},null,null,{"$f":"+'01.23'!L510","v":0}]
["",{"$f":"+IF('01.23'!C511=\"\",\"\",'01.23'!C511)","v":""},{"$f":"IF(B510=\"\",\"\",COUNTIFS($B$3:B510,B510))","v":""},{"$f":"IF(B510=\"\",\"\",LOOKUP(B510,DataFIX!$F$3:$F$21,DataFIX!$E$3:$E$21))","v":""},{"$f":"IF(B510=\"\",\"\",LOOKUP(B510,DataFIX!$F$3:$F$41,DataFIX!$G$3:$G$41)+C510)","v":""},{"$f":"+'01.23'!O511","v":"00:00:00"},{"$f":"+'01.23'!E511","v":0},{"$f":"+'01.23'!G511","v":0},{"$f":"+'01.23'!T511","v":0},null,null,{"$f":"+'01.23'!L511","v":0}]
["",{"$f":"+IF('01.23'!C512=\"\",\"\",'01.23'!C512)","v":""},{"$f":"IF(B511=\"\",\"\",COUNTIFS($B$3:B511,B511))","v":""},{"$f":"IF(B511=\"\",\"\",LOOKUP(B511,DataFIX!$F$3:$F$21,DataFIX!$E$3:$E$21))","v":""},{"$f":"IF(B511=\"\",\"\",LOOKUP(B511,DataFIX!$F$3:$F$41,DataFIX!$G$3:$G$41)+C511)","v":""},{"$f":"+'01.23'!O512","v":"00:00:00"},{"$f":"+'01.23'!E512","v":0},{"$f":"+'01.23'!G512","v":0},{"$f":"+'01.23'!T512","v":0},null,null,{"$f":"+'01.23'!L512","v":0}]
["",{"$f":"+IF('01.23'!C513=\"\",\"\",'01.23'!C513)","v":""},{"$f":"IF(B512=\"\",\"\",COUNTIFS($B$3:B512,B512))","v":""},{"$f":"IF(B512=\"\",\"\",LOOKUP(B512,DataFIX!$F$3:$F$21,DataFIX!$E$3:$E$21))","v":""},{"$f":"IF(B512=\"\",\"\",LOOKUP(B512,DataFIX!$F$3:$F$41,DataFIX!$G$3:$G$41)+C512)","v":""},{"$f":"+'01.23'!O513","v":"00:00:00"},{"$f":"+'01.23'!E513","v":0},{"$f":"+'01.23'!G513","v":0},{"$f":"+'01.23'!T513","v":0},null,null,{"$f":"+'01.23'!L513","v":0}]
["",{"$f":"+IF('01.23'!C514=\"\",\"\",'01.23'!C514)","v":""},{"$f":"IF(B513=\"\",\"\",COUNTIFS($B$3:B513,B513))","v":""},{"$f":"IF(B513=\"\",\"\",LOOKUP(B513,DataFIX!$F$3:$F$21,DataFIX!$E$3:$E$21))","v":""},{"$f":"IF(B513=\"\",\"\",LOOKUP(B513,DataFIX!$F$3:$F$41,DataFIX!$G$3:$G$41)+C513)","v":""},{"$f":"+'01.23'!O514","v":"00:00:00"},{"$f":"+'01.23'!E514","v":0},{"$f":"+'01.23'!G514","v":0},{"$f":"+'01.23'!T514","v":0},null,null,{"$f":"+'01.23'!L514","v":0}]
["",{"$f":"+IF('01.23'!C515=\"\",\"\",'01.23'!C515)","v":""},{"$f":"IF(B514=\"\",\"\",COUNTIFS($B$3:B514,B514))","v":""},{"$f":"IF(B514=\"\",\"\",LOOKUP(B514,DataFIX!$F$3:$F$21,DataFIX!$E$3:$E$21))","v":""},{"$f":"IF(B514=\"\",\"\",LOOKUP(B514,DataFIX!$F$3:$F$41,DataFIX!$G$3:$G$41)+C514)","v":""},{"$f":"+'01.23'!O515","v":"00:00:00"},{"$f":"+'01.23'!E515","v":0},{"$f":"+'01.23'!G515","v":0},{"$f":"+'01.23'!T515","v":0},null,null,{"$f":"+'01.23'!L515","v":0}]
["",{"$f":"+IF('01.23'!C516=\"\",\"\",'01.23'!C516)","v":""},{"$f":"IF(B515=\"\",\"\",COUNTIFS($B$3:B515,B515))","v":""},{"$f":"IF(B515=\"\",\"\",LOOKUP(B515,DataFIX!$F$3:$F$21,DataFIX!$E$3:$E$21))","v":""},{"$f":"IF(B515=\"\",\"\",LOOKUP(B515,DataFIX!$F$3:$F$41,DataFIX!$G$3:$G$41)+C515)","v":""},{"$f":"+'01.23'!O516","v":"00:00:00"},{"$f":"+'01.23'!E516","v":0},{"$f":"+'01.23'!G516","v":0},{"$f":"+'01.23'!T516","v":0},null,null,{"$f":"+'01.23'!L516","v":0}]
[{"$f":"+B516","v":""},{"$f":"+IF('01.23'!C517=\"\",\"\",'01.23'!C517)","v":""},{"$f":"IF(B516=\"\",\"\",COUNTIFS($B$3:B516,B516))","v":""},{"$f":"IF(B516=\"\",\"\",LOOKUP(B516,DataFIX!$F$3:$F$21,DataFIX!$E$3:$E$21))","v":""},{"$f":"IF(B516=\"\",\"\",LOOKUP(B516,DataFIX!$F$3:$F$41,DataFIX!$G$3:$G$41)+C516)","v":""},{"$f":"+'01.23'!O517","v":"00:00:00"},{"$f":"+'01.23'!E517","v":0},{"$f":"+'01.23'!G517","v":0},{"$f":"+'01.23'!T517","v":0},null,null,{"$f":"+'01.23'!L517","v":0}]
["",{"$f":"+IF('01.23'!C518=\"\",\"\",'01.23'!C518)","v":""},{"$f":"IF(B517=\"\",\"\",COUNTIFS($B$3:B517,B517))","v":""},{"$f":"IF(B517=\"\",\"\",LOOKUP(B517,DataFIX!$F$3:$F$21,DataFIX!$E$3:$E$21))","v":""},{"$f":"IF(B517=\"\",\"\",LOOKUP(B517,DataFIX!$F$3:$F$41,DataFIX!$G$3:$G$41)+C517)","v":""},{"$f":"+'01.23'!O518","v":"00:00:00"},{"$f":"+'01.23'!E518","v":0},{"$f":"+'01.23'!G518","v":0},{"$f":"+'01.23'!T518","v":0},null,null,{"$f":"+'01.23'!L518","v":0}]
["",{"$f":"+IF('01.23'!C519=\"\",\"\",'01.23'!C519)","v":""},{"$f":"IF(B518=\"\",\"\",COUNTIFS($B$3:B518,B518))","v":""},{"$f":"IF(B518=\"\",\"\",LOOKUP(B518,DataFIX!$F$3:$F$21,DataFIX!$E$3:$E$21))","v":""},{"$f":"IF(B518=\"\",\"\",LOOKUP(B518,DataFIX!$F$3:$F$41,DataFIX!$G$3:$G$41)+C518)","v":""},{"$f":"+'01.23'!O519","v":"00:00:00"},{"$f":"+'01.23'!E519","v":0},{"$f":"+'01.23'!G519","v":0},{"$f":"+'01.23'!T519","v":0},null,null,{"$f":"+'01.23'!L519","v":0}]
["",{"$f":"+IF('01.23'!C520=\"\",\"\",'01.23'!C520)","v":""},{"$f":"IF(B519=\"\",\"\",COUNTIFS($B$3:B519,B519))","v":""},{"$f":"IF(B519=\"\",\"\",LOOKUP(B519,DataFIX!$F$3:$F$21,DataFIX!$E$3:$E$21))","v":""},{"$f":"IF(B519=\"\",\"\",LOOKUP(B519,DataFIX!$F$3:$F$41,DataFIX!$G$3:$G$41)+C519)","v":""},{"$f":"+'01.23'!O520","v":"00:00:00"},{"$f":"+'01.23'!E520","v":0},{"$f":"+'01.23'!G520","v":0},{"$f":"+'01.23'!T520","v":0},null,null,{"$f":"+'01.23'!L520","v":0}]
["",{"$f":"+IF('01.23'!C521=\"\",\"\",'01.23'!C521)","v":""},{"$f":"IF(B520=\"\",\"\",COUNTIFS($B$3:B520,B520))","v":""},{"$f":"IF(B520=\"\",\"\",LOOKUP(B520,DataFIX!$F$3:$F$21,DataFIX!$E$3:$E$21))","v":""},{"$f":"IF(B520=\"\",\"\",LOOKUP(B520,DataFIX!$F$3:$F$41,DataFIX!$G$3:$G$41)+C520)","v":""},{"$f":"+'01.23'!O521","v":"00:00:00"},{"$f":"+'01.23'!E521","v":0},{"$f":"+'01.23'!G521","v":0},{"$f":"+'01.23'!T521","v":0},null,null,{"$f":"+'01.23'!L521","v":0}]
["",{"$f":"+IF('01.23'!C522=\"\",\"\",'01.23'!C522)","v":""},{"$f":"IF(B521=\"\",\"\",COUNTIFS($B$3:B521,B521))","v":""},{"$f":"IF(B521=\"\",\"\",LOOKUP(B521,DataFIX!$F$3:$F$21,DataFIX!$E$3:$E$21))","v":""},{"$f":"IF(B521=\"\",\"\",LOOKUP(B521,DataFIX!$F$3:$F$41,DataFIX!$G$3:$G$41)+C521)","v":""},{"$f":"+'01.23'!O522","v":"00:00:00"},{"$f":"+'01.23'!E522","v":0},{"$f":"+'01.23'!G522","v":0},{"$f":"+'01.23'!T522","v":0},null,null,{"$f":"+'01.23'!L522","v":0}]
["",{"$f":"+IF('01.23'!C523=\"\",\"\",'01.23'!C523)","v":""},{"$f":"IF(B522=\"\",\"\",COUNTIFS($B$3:B522,B522))","v":""},{"$f":"IF(B522=\"\",\"\",LOOKUP(B522,DataFIX!$F$3:$F$21,DataFIX!$E$3:$E$21))","v":""},{"$f":"IF(B522=\"\",\"\",LOOKUP(B522,DataFIX!$F$3:$F$41,DataFIX!$G$3:$G$41)+C522)","v":""},{"$f":"+'01.23'!O523","v":"00:00:00"},{"$f":"+'01.23'!E523","v":0},{"$f":"+'01.23'!G523","v":0},{"$f":"+'01.23'!T523","v":0},null,null,{"$f":"+'01.23'!L523","v":0}]
["",{"$f":"+IF('01.23'!C524=\"\",\"\",'01.23'!C524)","v":""},{"$f":"IF(B523=\"\",\"\",COUNTIFS($B$3:B523,B523))","v":""},{"$f":"IF(B523=\"\",\"\",LOOKUP(B523,DataFIX!$F$3:$F$21,DataFIX!$E$3:$E$21))","v":""},{"$f":"IF(B523=\"\",\"\",LOOKUP(B523,DataFIX!$F$3:$F$41,DataFIX!$G$3:$G$41)+C523)","v":""},{"$f":"+'01.23'!O524","v":"00:00:00"},{"$f":"+'01.23'!E524","v":0},{"$f":"+'01.23'!G524","v":0},{"$f":"+'01.23'!T524","v":0},null,null,{"$f":"+'01.23'!L524","v":0}]
["",{"$f":"+IF('01.23'!C525=\"\",\"\",'01.23'!C525)","v":""},{"$f":"IF(B524=\"\",\"\",COUNTIFS($B$3:B524,B524))","v":""},{"$f":"IF(B524=\"\",\"\",LOOKUP(B524,DataFIX!$F$3:$F$21,DataFIX!$E$3:$E$21))","v":""},{"$f":"IF(B524=\"\",\"\",LOOKUP(B524,DataFIX!$F$3:$F$41,DataFIX!$G$3:$G$41)+C524)","v":""},{"$f":"+'01.23'!O525","v":"00:00:00"},{"$f":"+'01.23'!E525","v":0},{"$f":"+'01.23'!G525","v":0},{"$f":"+'01.23'!T525","v":0},null,null,{"$f":"+'01.23'!L525","v":0}]
["",{"$f":"+IF('01.23'!C526=\"\",\"\",'01.23'!C526)","v":""},{"$f":"IF(B525=\"\",\"\",COUNTIFS($B$3:B525,B525))","v":""},{"$f":"IF(B525=\"\",\"\",LOOKUP(B525,DataFIX!$F$3:$F$21,DataFIX!$E$3:$E$21))","v":""},{"$f":"IF(B525=\"\",\"\",LOOKUP(B525,DataFIX!$F$3:$F$41,DataFIX!$G$3:$G$41)+C525)","v":""},{"$f":"+'01.23'!O526","v":"00:00:00"},{"$f":"+'01.23'!E526","v":0},{"$f":"+'01.23'!G526","v":0},{"$f":"+'01.23'!T526","v":0},null,null,{"$f":"+'01.23'!L526","v":0}]
["",{"$f":"+IF('01.23'!C527=\"\",\"\",'01.23'!C527)","v":""},{"$f":"IF(B526=\"\",\"\",COUNTIFS($B$3:B526,B526))","v":""},{"$f":"IF(B526=\"\",\"\",LOOKUP(B526,DataFIX!$F$3:$F$21,DataFIX!$E$3:$E$21))","v":""},{"$f":"IF(B526=\"\",\"\",LOOKUP(B526,DataFIX!$F$3:$F$41,DataFIX!$G$3:$G$41)+C526)","v":""},{"$f":"+'01.23'!O527","v":"00:00:00"},{"$f":"+'01.23'!E527","v":0},{"$f":"+'01.23'!G527","v":0},{"$f":"+'01.23'!T527","v":0},null,null,{"$f":"+'01.23'!L527","v":0}]
["",{"$f":"+IF('01.23'!C528=\"\",\"\",'01.23'!C528)","v":""},{"$f":"IF(B527=\"\",\"\",COUNTIFS($B$3:B527,B527))","v":""},{"$f":"IF(B527=\"\",\"\",LOOKUP(B527,DataFIX!$F$3:$F$21,DataFIX!$E$3:$E$21))","v":""},{"$f":"IF(B527=\"\",\"\",LOOKUP(B527,DataFIX!$F$3:$F$41,DataFIX!$G$3:$G$41)+C527)","v":""},{"$f":"+'01.23'!O528","v":"00:00:00"},{"$f":"+'01.23'!E528","v":0},{"$f":"+'01.23'!G528","v":0},{"$f":"+'01.23'!T528","v":0},null,null,{"$f":"+'01.23'!L528","v":0}]
["",{"$f":"+IF('01.23'!C529=\"\",\"\",'01.23'!C529)","v":""},{"$f":"IF(B528=\"\",\"\",COUNTIFS($B$3:B528,B528))","v":""},{"$f":"IF(B528=\"\",\"\",LOOKUP(B528,DataFIX!$F$3:$F$21,DataFIX!$E$3:$E$21))","v":""},{"$f":"IF(B528=\"\",\"\",LOOKUP(B528,DataFIX!$F$3:$F$41,DataFIX!$G$3:$G$41)+C528)","v":""},{"$f":"+'01.23'!O529","v":"00:00:00"},{"$f":"+'01.23'!E529","v":0},{"$f":"+'01.23'!G529","v":0},{"$f":"+'01.23'!T529","v":0},null,null,{"$f":"+'01.23'!L529","v":0}]
["",{"$f":"+IF('01.23'!C530=\"\",\"\",'01.23'!C530)","v":""},{"$f":"IF(B529=\"\",\"\",COUNTIFS($B$3:B529,B529))","v":""},{"$f":"IF(B529=\"\",\"\",LOOKUP(B529,DataFIX!$F$3:$F$21,DataFIX!$E$3:$E$21))","v":""},{"$f":"IF(B529=\"\",\"\",LOOKUP(B529,DataFIX!$F$3:$F$41,DataFIX!$G$3:$G$41)+C529)","v":""},{"$f":"+'01.23'!O530","v":"00:00:00"},{"$f":"+'01.23'!E530","v":0},{"$f":"+'01.23'!G530","v":0},{"$f":"+'01.23'!T530","v":0},null,null,{"$f":"+'01.23'!L530","v":0}]
["",{"$f":"+IF('01.23'!C531=\"\",\"\",'01.23'!C531)","v":""},{"$f":"IF(B530=\"\",\"\",COUNTIFS($B$3:B530,B530))","v":""},{"$f":"IF(B530=\"\",\"\",LOOKUP(B530,DataFIX!$F$3:$F$21,DataFIX!$E$3:$E$21))","v":""},{"$f":"IF(B530=\"\",\"\",LOOKUP(B530,DataFIX!$F$3:$F$41,DataFIX!$G$3:$G$41)+C530)","v":""},{"$f":"+'01.23'!O531","v":"00:00:00"},{"$f":"+'01.23'!E531","v":0},{"$f":"+'01.23'!G531","v":0},{"$f":"+'01.23'!T531","v":0},null,null,{"$f":"+'01.23'!L531","v":0}]
["",{"$f":"+IF('01.23'!C532=\"\",\"\",'01.23'!C532)","v":""},{"$f":"IF(B531=\"\",\"\",COUNTIFS($B$3:B531,B531))","v":""},{"$f":"IF(B531=\"\",\"\",LOOKUP(B531,DataFIX!$F$3:$F$21,DataFIX!$E$3:$E$21))","v":""},{"$f":"IF(B531=\"\",\"\",LOOKUP(B531,DataFIX!$F$3:$F$41,DataFIX!$G$3:$G$41)+C531)","v":""},{"$f":"+'01.23'!O532","v":"00:00:00"},{"$f":"+'01.23'!E532","v":0},{"$f":"+'01.23'!G532","v":0},{"$f":"+'01.23'!T532","v":0},null,null,{"$f":"+'01.23'!L532","v":0}]
["",{"$f":"+IF('01.23'!C533=\"\",\"\",'01.23'!C533)","v":""},{"$f":"IF(B532=\"\",\"\",COUNTIFS($B$3:B532,B532))","v":""},{"$f":"IF(B532=\"\",\"\",LOOKUP(B532,DataFIX!$F$3:$F$21,DataFIX!$E$3:$E$21))","v":""},{"$f":"IF(B532=\"\",\"\",LOOKUP(B532,DataFIX!$F$3:$F$41,DataFIX!$G$3:$G$41)+C532)","v":""},{"$f":"+'01.23'!O533","v":"00:00:00"},{"$f":"+'01.23'!E533","v":0},{"$f":"+'01.23'!G533","v":0},{"$f":"+'01.23'!T533","v":0},null,null,{"$f":"+'01.23'!L533","v":0}]
["",{"$f":"+IF('01.23'!C534=\"\",\"\",'01.23'!C534)","v":""},{"$f":"IF(B533=\"\",\"\",COUNTIFS($B$3:B533,B533))","v":""},{"$f":"IF(B533=\"\",\"\",LOOKUP(B533,DataFIX!$F$3:$F$21,DataFIX!$E$3:$E$21))","v":""},{"$f":"IF(B533=\"\",\"\",LOOKUP(B533,DataFIX!$F$3:$F$41,DataFIX!$G$3:$G$41)+C533)","v":""},{"$f":"+'01.23'!O534","v":"00:00:00"},{"$f":"+'01.23'!E534","v":0},{"$f":"+'01.23'!G534","v":0},{"$f":"+'01.23'!T534","v":0},null,null,{"$f":"+'01.23'!L534","v":0}]
["",{"$f":"+IF('01.23'!C535=\"\",\"\",'01.23'!C535)","v":""},{"$f":"IF(B534=\"\",\"\",COUNTIFS($B$3:B534,B534))","v":""},{"$f":"IF(B534=\"\",\"\",LOOKUP(B534,DataFIX!$F$3:$F$21,DataFIX!$E$3:$E$21))","v":""},{"$f":"IF(B534=\"\",\"\",LOOKUP(B534,DataFIX!$F$3:$F$41,DataFIX!$G$3:$G$41)+C534)","v":""},{"$f":"+'01.23'!O535","v":"00:00:00"},{"$f":"+'01.23'!E535","v":0},{"$f":"+'01.23'!G535","v":0},{"$f":"+'01.23'!T535","v":0},null,null,{"$f":"+'01.23'!L535","v":0}]
["",{"$f":"+IF('01.23'!C536=\"\",\"\",'01.23'!C536)","v":""},{"$f":"IF(B535=\"\",\"\",COUNTIFS($B$3:B535,B535))","v":""},{"$f":"IF(B535=\"\",\"\",LOOKUP(B535,DataFIX!$F$3:$F$21,DataFIX!$E$3:$E$21))","v":""},{"$f":"IF(B535=\"\",\"\",LOOKUP(B535,DataFIX!$F$3:$F$41,DataFIX!$G$3:$G$41)+C535)","v":""},{"$f":"+'01.23'!O536","v":"00:00:00"},{"$f":"+'01.23'!E536","v":0},{"$f":"+'01.23'!G536","v":0},{"$f":"+'01.23'!T536","v":0},null,null,{"$f":"+'01.23'!L536","v":0}]
["",{"$f":"+IF('01.23'!C537=\"\",\"\",'01.23'!C537)","v":""},{"$f":"IF(B536=\"\",\"\",COUNTIFS($B$3:B536,B536))","v":""},{"$f":"IF(B536=\"\",\"\",LOOKUP(B536,DataFIX!$F$3:$F$21,DataFIX!$E$3:$E$21))","v":""},{"$f":"IF(B536=\"\",\"\",LOOKUP(B536,DataFIX!$F$3:$F$41,DataFIX!$G$3:$G$41)+C536)","v":""},{"$f":"+'01.23'!O537","v":"00:00:00"},{"$f":"+'01.23'!E537","v":0},{"$f":"+'01.23'!G537","v":0},{"$f":"+'01.23'!T537","v":0},null,null,{"$f":"+'01.23'!L537","v":0}]
["",{"$f":"+IF('01.23'!C538=\"\",\"\",'01.23'!C538)","v":""},{"$f":"IF(B537=\"\",\"\",COUNTIFS($B$3:B537,B537))","v":""},{"$f":"IF(B537=\"\",\"\",LOOKUP(B537,DataFIX!$F$3:$F$21,DataFIX!$E$3:$E$21))","v":""},{"$f":"IF(B537=\"\",\"\",LOOKUP(B537,DataFIX!$F$3:$F$41,DataFIX!$G$3:$G$41)+C537)","v":""},{"$f":"+'01.23'!O538","v":"00:00:00"},{"$f":"+'01.23'!E538","v":0},{"$f":"+'01.23'!G538","v":0},{"$f":"+'01.23'!T538","v":0},null,null,{"$f":"+'01.23'!L538","v":0}]
["",{"$f":"+IF('01.23'!C539=\"\",\"\",'01.23'!C539)","v":""},{"$f":"IF(B538=\"\",\"\",COUNTIFS($B$3:B538,B538))","v":""},{"$f":"IF(B538=\"\",\"\",LOOKUP(B538,DataFIX!$F$3:$F$21,DataFIX!$E$3:$E$21))","v":""},{"$f":"IF(B538=\"\",\"\",LOOKUP(B538,DataFIX!$F$3:$F$41,DataFIX!$G$3:$G$41)+C538)","v":""},{"$f":"+'01.23'!O539","v":"00:00:00"},{"$f":"+'01.23'!E539","v":0},{"$f":"+'01.23'!G539","v":0},{"$f":"+'01.23'!T539","v":0},null,null,{"$f":"+'01.23'!L539","v":0}]
["",{"$f":"+IF('01.23'!C540=\"\",\"\",'01.23'!C540)","v":""},{"$f":"IF(B539=\"\",\"\",COUNTIFS($B$3:B539,B539))","v":""},{"$f":"IF(B539=\"\",\"\",LOOKUP(B539,DataFIX!$F$3:$F$21,DataFIX!$E$3:$E$21))","v":""},{"$f":"IF(B539=\"\",\"\",LOOKUP(B539,DataFIX!$F$3:$F$41,DataFIX!$G$3:$G$41)+C539)","v":""},{"$f":"+'01.23'!O540","v":"00:00:00"},{"$f":"+'01.23'!E540","v":0},{"$f":"+'01.23'!G540","v":0},{"$f":"+'01.23'!T540","v":0},null,null,{"$f":"+'01.23'!L540","v":0}]
["",{"$f":"+IF('01.23'!C541=\"\",\"\",'01.23'!C541)","v":""},{"$f":"IF(B540=\"\",\"\",COUNTIFS($B$3:B540,B540))","v":""},{"$f":"IF(B540=\"\",\"\",LOOKUP(B540,DataFIX!$F$3:$F$21,DataFIX!$E$3:$E$21))","v":""},{"$f":"IF(B540=\"\",\"\",LOOKUP(B540,DataFIX!$F$3:$F$41,DataFIX!$G$3:$G$41)+C540)","v":""},{"$f":"+'01.23'!O541","v":"00:00:00"},{"$f":"+'01.23'!E541","v":0},{"$f":"+'01.23'!G541","v":0},{"$f":"+'01.23'!T541","v":0},null,null,{"$f":"+'01.23'!L541","v":0}]
["",{"$f":"+IF('01.23'!C542=\"\",\"\",'01.23'!C542)","v":""},{"$f":"IF(B541=\"\",\"\",COUNTIFS($B$3:B541,B541))","v":""},{"$f":"IF(B541=\"\",\"\",LOOKUP(B541,DataFIX!$F$3:$F$21,DataFIX!$E$3:$E$21))","v":""},{"$f":"IF(B541=\"\",\"\",LOOKUP(B541,DataFIX!$F$3:$F$41,DataFIX!$G$3:$G$41)+C541)","v":""},{"$f":"+'01.23'!O542","v":"00:00:00"},{"$f":"+'01.23'!E542","v":0},{"$f":"+'01.23'!G542","v":0},{"$f":"+'01.23'!T542","v":0},null,null,{"$f":"+'01.23'!L542","v":0}]
["",{"$f":"+IF('01.23'!C543=\"\",\"\",'01.23'!C543)","v":""},{"$f":"IF(B542=\"\",\"\",COUNTIFS($B$3:B542,B542))","v":""},{"$f":"IF(B542=\"\",\"\",LOOKUP(B542,DataFIX!$F$3:$F$21,DataFIX!$E$3:$E$21))","v":""},{"$f":"IF(B542=\"\",\"\",LOOKUP(B542,DataFIX!$F$3:$F$41,DataFIX!$G$3:$G$41)+C542)","v":""},{"$f":"+'01.23'!O543","v":"00:00:00"},{"$f":"+'01.23'!E543","v":0},{"$f":"+'01.23'!G543","v":0},{"$f":"+'01.23'!T543","v":0},null,null,{"$f":"+'01.23'!L543","v":0}]
["",{"$f":"+IF('01.23'!C544=\"\",\"\",'01.23'!C544)","v":""},{"$f":"IF(B543=\"\",\"\",COUNTIFS($B$3:B543,B543))","v":""},{"$f":"IF(B543=\"\",\"\",LOOKUP(B543,DataFIX!$F$3:$F$21,DataFIX!$E$3:$E$21))","v":""},{"$f":"IF(B543=\"\",\"\",LOOKUP(B543,DataFIX!$F$3:$F$41,DataFIX!$G$3:$G$41)+C543)","v":""},{"$f":"+'01.23'!O544","v":"00:00:00"},{"$f":"+'01.23'!E544","v":0},{"$f":"+'01.23'!G544","v":0},{"$f":"+'01.23'!T544","v":0},null,null,{"$f":"+'01.23'!L544","v":0}]
["",{"$f":"+IF('01.23'!C545=\"\",\"\",'01.23'!C545)","v":""},{"$f":"IF(B544=\"\",\"\",COUNTIFS($B$3:B544,B544))","v":""},{"$f":"IF(B544=\"\",\"\",LOOKUP(B544,DataFIX!$F$3:$F$21,DataFIX!$E$3:$E$21))","v":""},{"$f":"IF(B544=\"\",\"\",LOOKUP(B544,DataFIX!$F$3:$F$41,DataFIX!$G$3:$G$41)+C544)","v":""},{"$f":"+'01.23'!O545","v":"00:00:00"},{"$f":"+'01.23'!E545","v":0},{"$f":"+'01.23'!G545","v":0},{"$f":"+'01.23'!T545","v":0},null,null,{"$f":"+'01.23'!L545","v":0}]
["",{"$f":"+IF('01.23'!C546=\"\",\"\",'01.23'!C546)","v":""},{"$f":"IF(B545=\"\",\"\",COUNTIFS($B$3:B545,B545))","v":""},{"$f":"IF(B545=\"\",\"\",LOOKUP(B545,DataFIX!$F$3:$F$21,DataFIX!$E$3:$E$21))","v":""},{"$f":"IF(B545=\"\",\"\",LOOKUP(B545,DataFIX!$F$3:$F$41,DataFIX!$G$3:$G$41)+C545)","v":""},{"$f":"+'01.23'!O546","v":"00:00:00"},{"$f":"+'01.23'!E546","v":0},{"$f":"+'01.23'!G546","v":0},{"$f":"+'01.23'!T546","v":0},null,null,{"$f":"+'01.23'!L546","v":0}]
["",{"$f":"+IF('01.23'!C547=\"\",\"\",'01.23'!C547)","v":""},{"$f":"IF(B546=\"\",\"\",COUNTIFS($B$3:B546,B546))","v":""},{"$f":"IF(B546=\"\",\"\",LOOKUP(B546,DataFIX!$F$3:$F$21,DataFIX!$E$3:$E$21))","v":""},{"$f":"IF(B546=\"\",\"\",LOOKUP(B546,DataFIX!$F$3:$F$41,DataFIX!$G$3:$G$41)+C546)","v":""},{"$f":"+'01.23'!O547","v":"00:00:00"},{"$f":"+'01.23'!E547","v":0},{"$f":"+'01.23'!G547","v":0},{"$f":"+'01.23'!T547","v":0},null,null,{"$f":"+'01.23'!L547","v":0}]
["",{"$f":"+IF('01.23'!C548=\"\",\"\",'01.23'!C548)","v":""},{"$f":"IF(B547=\"\",\"\",COUNTIFS($B$3:B547,B547))","v":""},{"$f":"IF(B547=\"\",\"\",LOOKUP(B547,DataFIX!$F$3:$F$21,DataFIX!$E$3:$E$21))","v":""},{"$f":"IF(B547=\"\",\"\",LOOKUP(B547,DataFIX!$F$3:$F$41,DataFIX!$G$3:$G$41)+C547)","v":""},{"$f":"+'01.23'!O548","v":"00:00:00"},{"$f":"+'01.23'!E548","v":0},{"$f":"+'01.23'!G548","v":0},{"$f":"+'01.23'!T548","v":0},null,null,{"$f":"+'01.23'!L548","v":0}]
["",{"$f":"+IF('01.23'!C549=\"\",\"\",'01.23'!C549)","v":""},{"$f":"IF(B548=\"\",\"\",COUNTIFS($B$3:B548,B548))","v":""},{"$f":"IF(B548=\"\",\"\",LOOKUP(B548,DataFIX!$F$3:$F$21,DataFIX!$E$3:$E$21))","v":""},{"$f":"IF(B548=\"\",\"\",LOOKUP(B548,DataFIX!$F$3:$F$41,DataFIX!$G$3:$G$41)+C548)","v":""},{"$f":"+'01.23'!O549","v":"00:00:00"},{"$f":"+'01.23'!E549","v":0},{"$f":"+'01.23'!G549","v":0},{"$f":"+'01.23'!T549","v":0},null,null,{"$f":"+'01.23'!L549","v":0}]
["",{"$f":"+IF('01.23'!C550=\"\",\"\",'01.23'!C550)","v":""},{"$f":"IF(B549=\"\",\"\",COUNTIFS($B$3:B549,B549))","v":""},{"$f":"IF(B549=\"\",\"\",LOOKUP(B549,DataFIX!$F$3:$F$21,DataFIX!$E$3:$E$21))","v":""},{"$f":"IF(B549=\"\",\"\",LOOKUP(B549,DataFIX!$F$3:$F$41,DataFIX!$G$3:$G$41)+C549)","v":""},{"$f":"+'01.23'!O550","v":"00:00:00"},{"$f":"+'01.23'!E550","v":0},{"$f":"+'01.23'!G550","v":0},{"$f":"+'01.23'!T550","v":0},null,null,{"$f":"+'01.23'!L550","v":0}]
["",{"$f":"+IF('01.23'!C551=\"\",\"\",'01.23'!C551)","v":""},{"$f":"IF(B550=\"\",\"\",COUNTIFS($B$3:B550,B550))","v":""},{"$f":"IF(B550=\"\",\"\",LOOKUP(B550,DataFIX!$F$3:$F$21,DataFIX!$E$3:$E$21))","v":""},{"$f":"IF(B550=\"\",\"\",LOOKUP(B550,DataFIX!$F$3:$F$41,DataFIX!$G$3:$G$41)+C550)","v":""},{"$f":"+'01.23'!O551","v":"00:00:00"},{"$f":"+'01.23'!E551","v":0},{"$f":"+'01.23'!G551","v":0},{"$f":"+'01.23'!T551","v":0},null,null,{"$f":"+'01.23'!L551","v":0}]
["",{"$f":"+IF('01.23'!C552=\"\",\"\",'01.23'!C552)","v":""},{"$f":"IF(B551=\"\",\"\",COUNTIFS($B$3:B551,B551))","v":""},{"$f":"IF(B551=\"\",\"\",LOOKUP(B551,DataFIX!$F$3:$F$21,DataFIX!$E$3:$E$21))","v":""},{"$f":"IF(B551=\"\",\"\",LOOKUP(B551,DataFIX!$F$3:$F$41,DataFIX!$G$3:$G$41)+C551)","v":""},{"$f":"+'01.23'!O552","v":"00:00:00"},{"$f":"+'01.23'!E552","v":0},{"$f":"+'01.23'!G552","v":0},{"$f":"+'01.23'!T552","v":0},null,null,{"$f":"+'01.23'!L552","v":0}]
["",{"$f":"+IF('01.23'!C553=\"\",\"\",'01.23'!C553)","v":""},{"$f":"IF(B552=\"\",\"\",COUNTIFS($B$3:B552,B552))","v":""},{"$f":"IF(B552=\"\",\"\",LOOKUP(B552,DataFIX!$F$3:$F$21,DataFIX!$E$3:$E$21))","v":""},{"$f":"IF(B552=\"\",\"\",LOOKUP(B552,DataFIX!$F$3:$F$41,DataFIX!$G$3:$G$41)+C552)","v":""},{"$f":"+'01.23'!O553","v":"00:00:00"},{"$f":"+'01.23'!E553","v":0},{"$f":"+'01.23'!G553","v":0},{"$f":"+'01.23'!T553","v":0},null,null,{"$f":"+'01.23'!L553","v":0}]
["",{"$f":"+IF('01.23'!C554=\"\",\"\",'01.23'!C554)","v":""},{"$f":"IF(B553=\"\",\"\",COUNTIFS($B$3:B553,B553))","v":""},{"$f":"IF(B553=\"\",\"\",LOOKUP(B553,DataFIX!$F$3:$F$21,DataFIX!$E$3:$E$21))","v":""},{"$f":"IF(B553=\"\",\"\",LOOKUP(B553,DataFIX!$F$3:$F$41,DataFIX!$G$3:$G$41)+C553)","v":""},{"$f":"+'01.23'!O554","v":"00:00:00"},{"$f":"+'01.23'!E554","v":0},{"$f":"+'01.23'!G554","v":0},{"$f":"+'01.23'!T554","v":0},null,null,{"$f":"+'01.23'!L554","v":0}]
["",{"$f":"+IF('01.23'!C555=\"\",\"\",'01.23'!C555)","v":""},{"$f":"IF(B554=\"\",\"\",COUNTIFS($B$3:B554,B554))","v":""},{"$f":"IF(B554=\"\",\"\",LOOKUP(B554,DataFIX!$F$3:$F$21,DataFIX!$E$3:$E$21))","v":""},{"$f":"IF(B554=\"\",\"\",LOOKUP(B554,DataFIX!$F$3:$F$41,DataFIX!$G$3:$G$41)+C554)","v":""},{"$f":"+'01.23'!O555","v":"00:00:00"},{"$f":"+'01.23'!E555","v":0},{"$f":"+'01.23'!G555","v":0},{"$f":"+'01.23'!T555","v":0},null,null,{"$f":"+'01.23'!L555","v":0}]
["",{"$f":"+IF('01.23'!C556=\"\",\"\",'01.23'!C556)","v":""},{"$f":"IF(B555=\"\",\"\",COUNTIFS($B$3:B555,B555))","v":""},{"$f":"IF(B555=\"\",\"\",LOOKUP(B555,DataFIX!$F$3:$F$21,DataFIX!$E$3:$E$21))","v":""},{"$f":"IF(B555=\"\",\"\",LOOKUP(B555,DataFIX!$F$3:$F$41,DataFIX!$G$3:$G$41)+C555)","v":""},{"$f":"+'01.23'!O556","v":"00:00:00"},{"$f":"+'01.23'!E556","v":0},{"$f":"+'01.23'!G556","v":0},{"$f":"+'01.23'!T556","v":0},null,null,{"$f":"+'01.23'!L556","v":0}]
["",{"$f":"+IF('01.23'!C557=\"\",\"\",'01.23'!C557)","v":""},{"$f":"IF(B556=\"\",\"\",COUNTIFS($B$3:B556,B556))","v":""},{"$f":"IF(B556=\"\",\"\",LOOKUP(B556,DataFIX!$F$3:$F$21,DataFIX!$E$3:$E$21))","v":""},{"$f":"IF(B556=\"\",\"\",LOOKUP(B556,DataFIX!$F$3:$F$41,DataFIX!$G$3:$G$41)+C556)","v":""},{"$f":"+'01.23'!O557","v":"00:00:00"},{"$f":"+'01.23'!E557","v":0},{"$f":"+'01.23'!G557","v":0},{"$f":"+'01.23'!T557","v":0},null,null,{"$f":"+'01.23'!L557","v":0}]
["",{"$f":"+IF('01.23'!C558=\"\",\"\",'01.23'!C558)","v":""},{"$f":"IF(B557=\"\",\"\",COUNTIFS($B$3:B557,B557))","v":""},{"$f":"IF(B557=\"\",\"\",LOOKUP(B557,DataFIX!$F$3:$F$21,DataFIX!$E$3:$E$21))","v":""},{"$f":"IF(B557=\"\",\"\",LOOKUP(B557,DataFIX!$F$3:$F$41,DataFIX!$G$3:$G$41)+C557)","v":""},{"$f":"+'01.23'!O558","v":"00:00:00"},{"$f":"+'01.23'!E558","v":0},{"$f":"+'01.23'!G558","v":0},{"$f":"+'01.23'!T558","v":0},null,null,{"$f":"+'01.23'!L558","v":0}]
["",{"$f":"+IF('01.23'!C559=\"\",\"\",'01.23'!C559)","v":""},{"$f":"IF(B558=\"\",\"\",COUNTIFS($B$3:B558,B558))","v":""},{"$f":"IF(B558=\"\",\"\",LOOKUP(B558,DataFIX!$F$3:$F$21,DataFIX!$E$3:$E$21))","v":""},{"$f":"IF(B558=\"\",\"\",LOOKUP(B558,DataFIX!$F$3:$F$41,DataFIX!$G$3:$G$41)+C558)","v":""},{"$f":"+'01.23'!O559","v":"00:00:00"},{"$f":"+'01.23'!E559","v":0},{"$f":"+'01.23'!G559","v":0},{"$f":"+'01.23'!T559","v":0},null,null,{"$f":"+'01.23'!L559","v":0}]
["",{"$f":"+IF('01.23'!C560=\"\",\"\",'01.23'!C560)","v":""},{"$f":"IF(B559=\"\",\"\",COUNTIFS($B$3:B559,B559))","v":""},{"$f":"IF(B559=\"\",\"\",LOOKUP(B559,DataFIX!$F$3:$F$21,DataFIX!$E$3:$E$21))","v":""},{"$f":"IF(B559=\"\",\"\",LOOKUP(B559,DataFIX!$F$3:$F$41,DataFIX!$G$3:$G$41)+C559)","v":""},{"$f":"+'01.23'!O560","v":"00:00:00"},{"$f":"+'01.23'!E560","v":0},{"$f":"+'01.23'!G560","v":0},{"$f":"+'01.23'!T560","v":0},null,null,{"$f":"+'01.23'!L560","v":0}]
["",{"$f":"+IF('01.23'!C561=\"\",\"\",'01.23'!C561)","v":""},{"$f":"IF(B560=\"\",\"\",COUNTIFS($B$3:B560,B560))","v":""},{"$f":"IF(B560=\"\",\"\",LOOKUP(B560,DataFIX!$F$3:$F$21,DataFIX!$E$3:$E$21))","v":""},{"$f":"IF(B560=\"\",\"\",LOOKUP(B560,DataFIX!$F$3:$F$41,DataFIX!$G$3:$G$41)+C560)","v":""},{"$f":"+'01.23'!O561","v":"00:00:00"},{"$f":"+'01.23'!E561","v":0},{"$f":"+'01.23'!G561","v":0},{"$f":"+'01.23'!T561","v":0},null,null,{"$f":"+'01.23'!L561","v":0}]
["",{"$f":"+IF('01.23'!C562=\"\",\"\",'01.23'!C562)","v":""},{"$f":"IF(B561=\"\",\"\",COUNTIFS($B$3:B561,B561))","v":""},{"$f":"IF(B561=\"\",\"\",LOOKUP(B561,DataFIX!$F$3:$F$21,DataFIX!$E$3:$E$21))","v":""},{"$f":"IF(B561=\"\",\"\",LOOKUP(B561,DataFIX!$F$3:$F$41,DataFIX!$G$3:$G$41)+C561)","v":""},{"$f":"+'01.23'!O562","v":"00:00:00"},{"$f":"+'01.23'!E562","v":0},{"$f":"+'01.23'!G562","v":0},{"$f":"+'01.23'!T562","v":0},null,null,{"$f":"+'01.23'!L562","v":0}]
["",{"$f":"+IF('01.23'!C563=\"\",\"\",'01.23'!C563)","v":""},{"$f":"IF(B562=\"\",\"\",COUNTIFS($B$3:B562,B562))","v":""},{"$f":"IF(B562=\"\",\"\",LOOKUP(B562,DataFIX!$F$3:$F$21,DataFIX!$E$3:$E$21))","v":""},{"$f":"IF(B562=\"\",\"\",LOOKUP(B562,DataFIX!$F$3:$F$41,DataFIX!$G$3:$G$41)+C562)","v":""},{"$f":"+'01.23'!O563","v":"00:00:00"},{"$f":"+'01.23'!E563","v":0},{"$f":"+'01.23'!G563","v":0},{"$f":"+'01.23'!T563","v":0},null,null,{"$f":"+'01.23'!L563","v":0}]
["",{"$f":"+IF('01.23'!C564=\"\",\"\",'01.23'!C564)","v":""},{"$f":"IF(B563=\"\",\"\",COUNTIFS($B$3:B563,B563))","v":""},{"$f":"IF(B563=\"\",\"\",LOOKUP(B563,DataFIX!$F$3:$F$21,DataFIX!$E$3:$E$21))","v":""},{"$f":"IF(B563=\"\",\"\",LOOKUP(B563,DataFIX!$F$3:$F$41,DataFIX!$G$3:$G$41)+C563)","v":""},{"$f":"+'01.23'!O564","v":"00:00:00"},{"$f":"+'01.23'!E564","v":0},{"$f":"+'01.23'!G564","v":0},{"$f":"+'01.23'!T564","v":0},null,null,{"$f":"+'01.23'!L564","v":0}]
["",{"$f":"+IF('01.23'!C565=\"\",\"\",'01.23'!C565)","v":""},{"$f":"IF(B564=\"\",\"\",COUNTIFS($B$3:B564,B564))","v":""},{"$f":"IF(B564=\"\",\"\",LOOKUP(B564,DataFIX!$F$3:$F$21,DataFIX!$E$3:$E$21))","v":""},{"$f":"IF(B564=\"\",\"\",LOOKUP(B564,DataFIX!$F$3:$F$41,DataFIX!$G$3:$G$41)+C564)","v":""},{"$f":"+'01.23'!O565","v":"00:00:00"},{"$f":"+'01.23'!E565","v":0},{"$f":"+'01.23'!G565","v":0},{"$f":"+'01.23'!T565","v":0},null,null,{"$f":"+'01.23'!L565","v":0}]
["",{"$f":"+IF('01.23'!C566=\"\",\"\",'01.23'!C566)","v":""},{"$f":"IF(B565=\"\",\"\",COUNTIFS($B$3:B565,B565))","v":""},{"$f":"IF(B565=\"\",\"\",LOOKUP(B565,DataFIX!$F$3:$F$21,DataFIX!$E$3:$E$21))","v":""},{"$f":"IF(B565=\"\",\"\",LOOKUP(B565,DataFIX!$F$3:$F$41,DataFIX!$G$3:$G$41)+C565)","v":""},{"$f":"+'01.23'!O566","v":"00:00:00"},{"$f":"+'01.23'!E566","v":0},{"$f":"+'01.23'!G566","v":0},{"$f":"+'01.23'!T566","v":0},null,null,{"$f":"+'01.23'!L566","v":0}]
["",{"$f":"+IF('01.23'!C567=\"\",\"\",'01.23'!C567)","v":""},{"$f":"IF(B566=\"\",\"\",COUNTIFS($B$3:B566,B566))","v":""},{"$f":"IF(B566=\"\",\"\",LOOKUP(B566,DataFIX!$F$3:$F$21,DataFIX!$E$3:$E$21))","v":""},{"$f":"IF(B566=\"\",\"\",LOOKUP(B566,DataFIX!$F$3:$F$41,DataFIX!$G$3:$G$41)+C566)","v":""},{"$f":"+'01.23'!O567","v":"00:00:00"},{"$f":"+'01.23'!E567","v":0},{"$f":"+'01.23'!G567","v":0},{"$f":"+'01.23'!T567","v":0},null,null,{"$f":"+'01.23'!L567","v":0}]
["",{"$f":"+IF('01.23'!C568=\"\",\"\",'01.23'!C568)","v":""},{"$f":"IF(B567=\"\",\"\",COUNTIFS($B$3:B567,B567))","v":""},{"$f":"IF(B567=\"\",\"\",LOOKUP(B567,DataFIX!$F$3:$F$21,DataFIX!$E$3:$E$21))","v":""},{"$f":"IF(B567=\"\",\"\",LOOKUP(B567,DataFIX!$F$3:$F$41,DataFIX!$G$3:$G$41)+C567)","v":""},{"$f":"+'01.23'!O568","v":"00:00:00"},{"$f":"+'01.23'!E568","v":0},{"$f":"+'01.23'!G568","v":0},{"$f":"+'01.23'!T568","v":0},null,null,{"$f":"+'01.23'!L568","v":0}]
["",{"$f":"+IF('01.23'!C569=\"\",\"\",'01.23'!C569)","v":""},{"$f":"IF(B568=\"\",\"\",COUNTIFS($B$3:B568,B568))","v":""},{"$f":"IF(B568=\"\",\"\",LOOKUP(B568,DataFIX!$F$3:$F$21,DataFIX!$E$3:$E$21))","v":""},{"$f":"IF(B568=\"\",\"\",LOOKUP(B568,DataFIX!$F$3:$F$41,DataFIX!$G$3:$G$41)+C568)","v":""},{"$f":"+'01.23'!O569","v":"00:00:00"},{"$f":"+'01.23'!E569","v":0},{"$f":"+'01.23'!G569","v":0},{"$f":"+'01.23'!T569","v":0},null,null,{"$f":"+'01.23'!L569","v":0}]
["",{"$f":"+IF('01.23'!C570=\"\",\"\",'01.23'!C570)","v":""},{"$f":"IF(B569=\"\",\"\",COUNTIFS($B$3:B569,B569))","v":""},{"$f":"IF(B569=\"\",\"\",LOOKUP(B569,DataFIX!$F$3:$F$21,DataFIX!$E$3:$E$21))","v":""},{"$f":"IF(B569=\"\",\"\",LOOKUP(B569,DataFIX!$F$3:$F$41,DataFIX!$G$3:$G$41)+C569)","v":""},{"$f":"+'01.23'!O570","v":"00:00:00"},{"$f":"+'01.23'!E570","v":0},{"$f":"+'01.23'!G570","v":0},{"$f":"+'01.23'!T570","v":0},null,null,{"$f":"+'01.23'!L570","v":0}]
["",{"$f":"+IF('01.23'!C571=\"\",\"\",'01.23'!C571)","v":""},{"$f":"IF(B570=\"\",\"\",COUNTIFS($B$3:B570,B570))","v":""},{"$f":"IF(B570=\"\",\"\",LOOKUP(B570,DataFIX!$F$3:$F$21,DataFIX!$E$3:$E$21))","v":""},{"$f":"IF(B570=\"\",\"\",LOOKUP(B570,DataFIX!$F$3:$F$41,DataFIX!$G$3:$G$41)+C570)","v":""},{"$f":"+'01.23'!O571","v":"00:00:00"},{"$f":"+'01.23'!E571","v":0},{"$f":"+'01.23'!G571","v":0},{"$f":"+'01.23'!T571","v":0},null,null,{"$f":"+'01.23'!L571","v":0}]
["",{"$f":"+IF('01.23'!C572=\"\",\"\",'01.23'!C572)","v":""},{"$f":"IF(B571=\"\",\"\",COUNTIFS($B$3:B571,B571))","v":""},{"$f":"IF(B571=\"\",\"\",LOOKUP(B571,DataFIX!$F$3:$F$21,DataFIX!$E$3:$E$21))","v":""},{"$f":"IF(B571=\"\",\"\",LOOKUP(B571,DataFIX!$F$3:$F$41,DataFIX!$G$3:$G$41)+C571)","v":""},{"$f":"+'01.23'!O572","v":"00:00:00"},{"$f":"+'01.23'!E572","v":0},{"$f":"+'01.23'!G572","v":0},{"$f":"+'01.23'!T572","v":0},null,null,{"$f":"+'01.23'!L572","v":0}]
["",{"$f":"+IF('01.23'!C573=\"\",\"\",'01.23'!C573)","v":""},{"$f":"IF(B572=\"\",\"\",COUNTIFS($B$3:B572,B572))","v":""},{"$f":"IF(B572=\"\",\"\",LOOKUP(B572,DataFIX!$F$3:$F$21,DataFIX!$E$3:$E$21))","v":""},{"$f":"IF(B572=\"\",\"\",LOOKUP(B572,DataFIX!$F$3:$F$41,DataFIX!$G$3:$G$41)+C572)","v":""},{"$f":"+'01.23'!O573","v":"00:00:00"},{"$f":"+'01.23'!E573","v":0},{"$f":"+'01.23'!G573","v":0},{"$f":"+'01.23'!T573","v":0},null,null,{"$f":"+'01.23'!L573","v":0}]
["",{"$f":"+IF('01.23'!C574=\"\",\"\",'01.23'!C574)","v":""},{"$f":"IF(B573=\"\",\"\",COUNTIFS($B$3:B573,B573))","v":""},{"$f":"IF(B573=\"\",\"\",LOOKUP(B573,DataFIX!$F$3:$F$21,DataFIX!$E$3:$E$21))","v":""},{"$f":"IF(B573=\"\",\"\",LOOKUP(B573,DataFIX!$F$3:$F$41,DataFIX!$G$3:$G$41)+C573)","v":""},{"$f":"+'01.23'!O574","v":"00:00:00"},{"$f":"+'01.23'!E574","v":0},{"$f":"+'01.23'!G574","v":0},{"$f":"+'01.23'!T574","v":0},null,null,{"$f":"+'01.23'!L574","v":0}]
["",{"$f":"+IF('01.23'!C575=\"\",\"\",'01.23'!C575)","v":""},{"$f":"IF(B574=\"\",\"\",COUNTIFS($B$3:B574,B574))","v":""},{"$f":"IF(B574=\"\",\"\",LOOKUP(B574,DataFIX!$F$3:$F$21,DataFIX!$E$3:$E$21))","v":""},{"$f":"IF(B574=\"\",\"\",LOOKUP(B574,DataFIX!$F$3:$F$41,DataFIX!$G$3:$G$41)+C574)","v":""},{"$f":"+'01.23'!O575","v":"00:00:00"},{"$f":"+'01.23'!E575","v":0},{"$f":"+'01.23'!G575","v":0},{"$f":"+'01.23'!T575","v":0},null,null,{"$f":"+'01.23'!L575","v":0}]
["",{"$f":"+IF('01.23'!C576=\"\",\"\",'01.23'!C576)","v":""},{"$f":"IF(B575=\"\",\"\",COUNTIFS($B$3:B575,B575))","v":""},{"$f":"IF(B575=\"\",\"\",LOOKUP(B575,DataFIX!$F$3:$F$21,DataFIX!$E$3:$E$21))","v":""},{"$f":"IF(B575=\"\",\"\",LOOKUP(B575,DataFIX!$F$3:$F$41,DataFIX!$G$3:$G$41)+C575)","v":""},{"$f":"+'01.23'!O576","v":"00:00:00"},{"$f":"+'01.23'!E576","v":0},{"$f":"+'01.23'!G576","v":0},{"$f":"+'01.23'!T576","v":0},null,null,{"$f":"+'01.23'!L576","v":0}]
["",{"$f":"+IF('01.23'!C577=\"\",\"\",'01.23'!C577)","v":""},{"$f":"IF(B576=\"\",\"\",COUNTIFS($B$3:B576,B576))","v":""},{"$f":"IF(B576=\"\",\"\",LOOKUP(B576,DataFIX!$F$3:$F$21,DataFIX!$E$3:$E$21))","v":""},{"$f":"IF(B576=\"\",\"\",LOOKUP(B576,DataFIX!$F$3:$F$41,DataFIX!$G$3:$G$41)+C576)","v":""},{"$f":"+'01.23'!O577","v":"00:00:00"},{"$f":"+'01.23'!E577","v":0},{"$f":"+'01.23'!G577","v":0},{"$f":"+'01.23'!T577","v":0},null,null,{"$f":"+'01.23'!L577","v":0}]
["",{"$f":"+IF('01.23'!C578=\"\",\"\",'01.23'!C578)","v":""},{"$f":"IF(B577=\"\",\"\",COUNTIFS($B$3:B577,B577))","v":""},{"$f":"IF(B577=\"\",\"\",LOOKUP(B577,DataFIX!$F$3:$F$21,DataFIX!$E$3:$E$21))","v":""},{"$f":"IF(B577=\"\",\"\",LOOKUP(B577,DataFIX!$F$3:$F$41,DataFIX!$G$3:$G$41)+C577)","v":""},{"$f":"+'01.23'!O578","v":"00:00:00"},{"$f":"+'01.23'!E578","v":0},{"$f":"+'01.23'!G578","v":0},{"$f":"+'01.23'!T578","v":0},null,null,{"$f":"+'01.23'!L578","v":0}]
["",{"$f":"+IF('01.23'!C579=\"\",\"\",'01.23'!C579)","v":""},{"$f":"IF(B578=\"\",\"\",COUNTIFS($B$3:B578,B578))","v":""},{"$f":"IF(B578=\"\",\"\",LOOKUP(B578,DataFIX!$F$3:$F$21,DataFIX!$E$3:$E$21))","v":""},{"$f":"IF(B578=\"\",\"\",LOOKUP(B578,DataFIX!$F$3:$F$41,DataFIX!$G$3:$G$41)+C578)","v":""},{"$f":"+'01.23'!O579","v":"00:00:00"},{"$f":"+'01.23'!E579","v":0},{"$f":"+'01.23'!G579","v":0},{"$f":"+'01.23'!T579","v":0},null,null,{"$f":"+'01.23'!L579","v":0}]
["",{"$f":"+IF('01.23'!C580=\"\",\"\",'01.23'!C580)","v":""},{"$f":"IF(B579=\"\",\"\",COUNTIFS($B$3:B579,B579))","v":""},{"$f":"IF(B579=\"\",\"\",LOOKUP(B579,DataFIX!$F$3:$F$21,DataFIX!$E$3:$E$21))","v":""},{"$f":"IF(B579=\"\",\"\",LOOKUP(B579,DataFIX!$F$3:$F$41,DataFIX!$G$3:$G$41)+C579)","v":""},{"$f":"+'01.23'!O580","v":"00:00:00"},{"$f":"+'01.23'!E580","v":0},{"$f":"+'01.23'!G580","v":0},{"$f":"+'01.23'!T580","v":0},null,null,{"$f":"+'01.23'!L580","v":0}]
[{"$f":"+B580","v":""},{"$f":"+IF('01.23'!C581=\"\",\"\",'01.23'!C581)","v":""},{"$f":"IF(B580=\"\",\"\",COUNTIFS($B$3:B580,B580))","v":""},{"$f":"IF(B580=\"\",\"\",LOOKUP(B580,DataFIX!$F$3:$F$21,DataFIX!$E$3:$E$21))","v":""},{"$f":"IF(B580=\"\",\"\",LOOKUP(B580,DataFIX!$F$3:$F$41,DataFIX!$G$3:$G$41)+C580)","v":""},{"$f":"+'01.23'!O581","v":"00:00:00"},{"$f":"+'01.23'!E581","v":0},{"$f":"+'01.23'!G581","v":0},{"$f":"+'01.23'!T581","v":0},null,null,{"$f":"+'01.23'!L581","v":0}]
["",{"$f":"+IF('01.23'!C582=\"\",\"\",'01.23'!C582)","v":""},{"$f":"IF(B581=\"\",\"\",COUNTIFS($B$3:B581,B581))","v":""},{"$f":"IF(B581=\"\",\"\",LOOKUP(B581,DataFIX!$F$3:$F$21,DataFIX!$E$3:$E$21))","v":""},{"$f":"IF(B581=\"\",\"\",LOOKUP(B581,DataFIX!$F$3:$F$41,DataFIX!$G$3:$G$41)+C581)","v":""},{"$f":"+'01.23'!O582","v":"00:00:00"},{"$f":"+'01.23'!E582","v":0},{"$f":"+'01.23'!G582","v":0},{"$f":"+'01.23'!T582","v":0},null,null,{"$f":"+'01.23'!L582","v":0}]
["",{"$f":"+IF('01.23'!C583=\"\",\"\",'01.23'!C583)","v":""},{"$f":"IF(B582=\"\",\"\",COUNTIFS($B$3:B582,B582))","v":""},{"$f":"IF(B582=\"\",\"\",LOOKUP(B582,DataFIX!$F$3:$F$21,DataFIX!$E$3:$E$21))","v":""},{"$f":"IF(B582=\"\",\"\",LOOKUP(B582,DataFIX!$F$3:$F$41,DataFIX!$G$3:$G$41)+C582)","v":""},{"$f":"+'01.23'!O583","v":"00:00:00"},{"$f":"+'01.23'!E583","v":0},{"$f":"+'01.23'!G583","v":0},{"$f":"+'01.23'!T583","v":0},null,null,{"$f":"+'01.23'!L583","v":0}]
["",{"$f":"+IF('01.23'!C584=\"\",\"\",'01.23'!C584)","v":""},{"$f":"IF(B583=\"\",\"\",COUNTIFS($B$3:B583,B583))","v":""},{"$f":"IF(B583=\"\",\"\",LOOKUP(B583,DataFIX!$F$3:$F$21,DataFIX!$E$3:$E$21))","v":""},{"$f":"IF(B583=\"\",\"\",LOOKUP(B583,DataFIX!$F$3:$F$41,DataFIX!$G$3:$G$41)+C583)","v":""},{"$f":"+'01.23'!O584","v":"00:00:00"},{"$f":"+'01.23'!E584","v":0},{"$f":"+'01.23'!G584","v":0},{"$f":"+'01.23'!T584","v":0},null,null,{"$f":"+'01.23'!L584","v":0}]
["",{"$f":"+IF('01.23'!C585=\"\",\"\",'01.23'!C585)","v":""},{"$f":"IF(B584=\"\",\"\",COUNTIFS($B$3:B584,B584))","v":""},{"$f":"IF(B584=\"\",\"\",LOOKUP(B584,DataFIX!$F$3:$F$21,DataFIX!$E$3:$E$21))","v":""},{"$f":"IF(B584=\"\",\"\",LOOKUP(B584,DataFIX!$F$3:$F$41,DataFIX!$G$3:$G$41)+C584)","v":""},{"$f":"+'01.23'!O585","v":"00:00:00"},{"$f":"+'01.23'!E585","v":0},{"$f":"+'01.23'!G585","v":0},{"$f":"+'01.23'!T585","v":0},null,null,{"$f":"+'01.23'!L585","v":0}]
["",{"$f":"+IF('01.23'!C586=\"\",\"\",'01.23'!C586)","v":""},{"$f":"IF(B585=\"\",\"\",COUNTIFS($B$3:B585,B585))","v":""},{"$f":"IF(B585=\"\",\"\",LOOKUP(B585,DataFIX!$F$3:$F$21,DataFIX!$E$3:$E$21))","v":""},{"$f":"IF(B585=\"\",\"\",LOOKUP(B585,DataFIX!$F$3:$F$41,DataFIX!$G$3:$G$41)+C585)","v":""},{"$f":"+'01.23'!O586","v":"00:00:00"},{"$f":"+'01.23'!E586","v":0},{"$f":"+'01.23'!G586","v":0},{"$f":"+'01.23'!T586","v":0},null,null,{"$f":"+'01.23'!L586","v":0}]
["",{"$f":"+IF('01.23'!C587=\"\",\"\",'01.23'!C587)","v":""},{"$f":"IF(B586=\"\",\"\",COUNTIFS($B$3:B586,B586))","v":""},{"$f":"IF(B586=\"\",\"\",LOOKUP(B586,DataFIX!$F$3:$F$21,DataFIX!$E$3:$E$21))","v":""},{"$f":"IF(B586=\"\",\"\",LOOKUP(B586,DataFIX!$F$3:$F$41,DataFIX!$G$3:$G$41)+C586)","v":""},{"$f":"+'01.23'!O587","v":"00:00:00"},{"$f":"+'01.23'!E587","v":0},{"$f":"+'01.23'!G587","v":0},{"$f":"+'01.23'!T587","v":0},null,null,{"$f":"+'01.23'!L587","v":0}]
["",{"$f":"+IF('01.23'!C588=\"\",\"\",'01.23'!C588)","v":""},{"$f":"IF(B587=\"\",\"\",COUNTIFS($B$3:B587,B587))","v":""},{"$f":"IF(B587=\"\",\"\",LOOKUP(B587,DataFIX!$F$3:$F$21,DataFIX!$E$3:$E$21))","v":""},{"$f":"IF(B587=\"\",\"\",LOOKUP(B587,DataFIX!$F$3:$F$41,DataFIX!$G$3:$G$41)+C587)","v":""},{"$f":"+'01.23'!O588","v":"00:00:00"},{"$f":"+'01.23'!E588","v":0},{"$f":"+'01.23'!G588","v":0},{"$f":"+'01.23'!T588","v":0},null,null,{"$f":"+'01.23'!L588","v":0}]
["",{"$f":"+IF('01.23'!C589=\"\",\"\",'01.23'!C589)","v":""},{"$f":"IF(B588=\"\",\"\",COUNTIFS($B$3:B588,B588))","v":""},{"$f":"IF(B588=\"\",\"\",LOOKUP(B588,DataFIX!$F$3:$F$21,DataFIX!$E$3:$E$21))","v":""},{"$f":"IF(B588=\"\",\"\",LOOKUP(B588,DataFIX!$F$3:$F$41,DataFIX!$G$3:$G$41)+C588)","v":""},{"$f":"+'01.23'!O589","v":"00:00:00"},{"$f":"+'01.23'!E589","v":0},{"$f":"+'01.23'!G589","v":0},{"$f":"+'01.23'!T589","v":0},null,null,{"$f":"+'01.23'!L589","v":0}]
["",{"$f":"+IF('01.23'!C590=\"\",\"\",'01.23'!C590)","v":""},{"$f":"IF(B589=\"\",\"\",COUNTIFS($B$3:B589,B589))","v":""},{"$f":"IF(B589=\"\",\"\",LOOKUP(B589,DataFIX!$F$3:$F$21,DataFIX!$E$3:$E$21))","v":""},{"$f":"IF(B589=\"\",\"\",LOOKUP(B589,DataFIX!$F$3:$F$41,DataFIX!$G$3:$G$41)+C589)","v":""},{"$f":"+'01.23'!O590","v":"00:00:00"},{"$f":"+'01.23'!E590","v":0},{"$f":"+'01.23'!G590","v":0},{"$f":"+'01.23'!T590","v":0},null,null,{"$f":"+'01.23'!L590","v":0}]
["",{"$f":"+IF('01.23'!C591=\"\",\"\",'01.23'!C591)","v":""},{"$f":"IF(B590=\"\",\"\",COUNTIFS($B$3:B590,B590))","v":""},{"$f":"IF(B590=\"\",\"\",LOOKUP(B590,DataFIX!$F$3:$F$21,DataFIX!$E$3:$E$21))","v":""},{"$f":"IF(B590=\"\",\"\",LOOKUP(B590,DataFIX!$F$3:$F$41,DataFIX!$G$3:$G$41)+C590)","v":""},{"$f":"+'01.23'!O591","v":"00:00:00"},{"$f":"+'01.23'!E591","v":0},{"$f":"+'01.23'!G591","v":0},{"$f":"+'01.23'!T591","v":0},null,null,{"$f":"+'01.23'!L591","v":0}]
["",{"$f":"+IF('01.23'!C592=\"\",\"\",'01.23'!C592)","v":""},{"$f":"IF(B591=\"\",\"\",COUNTIFS($B$3:B591,B591))","v":""},{"$f":"IF(B591=\"\",\"\",LOOKUP(B591,DataFIX!$F$3:$F$21,DataFIX!$E$3:$E$21))","v":""},{"$f":"IF(B591=\"\",\"\",LOOKUP(B591,DataFIX!$F$3:$F$41,DataFIX!$G$3:$G$41)+C591)","v":""},{"$f":"+'01.23'!O592","v":"00:00:00"},{"$f":"+'01.23'!E592","v":0},{"$f":"+'01.23'!G592","v":0},{"$f":"+'01.23'!T592","v":0},null,null,{"$f":"+'01.23'!L592","v":0}]
["",{"$f":"+IF('01.23'!C593=\"\",\"\",'01.23'!C593)","v":""},{"$f":"IF(B592=\"\",\"\",COUNTIFS($B$3:B592,B592))","v":""},{"$f":"IF(B592=\"\",\"\",LOOKUP(B592,DataFIX!$F$3:$F$21,DataFIX!$E$3:$E$21))","v":""},{"$f":"IF(B592=\"\",\"\",LOOKUP(B592,DataFIX!$F$3:$F$41,DataFIX!$G$3:$G$41)+C592)","v":""},{"$f":"+'01.23'!O593","v":"00:00:00"},{"$f":"+'01.23'!E593","v":0},{"$f":"+'01.23'!G593","v":0},{"$f":"+'01.23'!T593","v":0},null,null,{"$f":"+'01.23'!L593","v":0}]
["",{"$f":"+IF('01.23'!C594=\"\",\"\",'01.23'!C594)","v":""},{"$f":"IF(B593=\"\",\"\",COUNTIFS($B$3:B593,B593))","v":""},{"$f":"IF(B593=\"\",\"\",LOOKUP(B593,DataFIX!$F$3:$F$21,DataFIX!$E$3:$E$21))","v":""},{"$f":"IF(B593=\"\",\"\",LOOKUP(B593,DataFIX!$F$3:$F$41,DataFIX!$G$3:$G$41)+C593)","v":""},{"$f":"+'01.23'!O594","v":"00:00:00"},{"$f":"+'01.23'!E594","v":0},{"$f":"+'01.23'!G594","v":0},{"$f":"+'01.23'!T594","v":0},null,null,{"$f":"+'01.23'!L594","v":0}]
["",{"$f":"+IF('01.23'!C595=\"\",\"\",'01.23'!C595)","v":""},{"$f":"IF(B594=\"\",\"\",COUNTIFS($B$3:B594,B594))","v":""},{"$f":"IF(B594=\"\",\"\",LOOKUP(B594,DataFIX!$F$3:$F$21,DataFIX!$E$3:$E$21))","v":""},{"$f":"IF(B594=\"\",\"\",LOOKUP(B594,DataFIX!$F$3:$F$41,DataFIX!$G$3:$G$41)+C594)","v":""},{"$f":"+'01.23'!O595","v":"00:00:00"},{"$f":"+'01.23'!E595","v":0},{"$f":"+'01.23'!G595","v":0},{"$f":"+'01.23'!T595","v":0},null,null,{"$f":"+'01.23'!L595","v":0}]
["",{"$f":"+IF('01.23'!C596=\"\",\"\",'01.23'!C596)","v":""},{"$f":"IF(B595=\"\",\"\",COUNTIFS($B$3:B595,B595))","v":""},{"$f":"IF(B595=\"\",\"\",LOOKUP(B595,DataFIX!$F$3:$F$21,DataFIX!$E$3:$E$21))","v":""},{"$f":"IF(B595=\"\",\"\",LOOKUP(B595,DataFIX!$F$3:$F$41,DataFIX!$G$3:$G$41)+C595)","v":""},{"$f":"+'01.23'!O596","v":"00:00:00"},{"$f":"+'01.23'!E596","v":0},{"$f":"+'01.23'!G596","v":0},{"$f":"+'01.23'!T596","v":0},null,null,{"$f":"+'01.23'!L596","v":0}]
["",{"$f":"+IF('01.23'!C597=\"\",\"\",'01.23'!C597)","v":""},{"$f":"IF(B596=\"\",\"\",COUNTIFS($B$3:B596,B596))","v":""},{"$f":"IF(B596=\"\",\"\",LOOKUP(B596,DataFIX!$F$3:$F$21,DataFIX!$E$3:$E$21))","v":""},{"$f":"IF(B596=\"\",\"\",LOOKUP(B596,DataFIX!$F$3:$F$41,DataFIX!$G$3:$G$41)+C596)","v":""},{"$f":"+'01.23'!O597","v":"00:00:00"},{"$f":"+'01.23'!E597","v":0},{"$f":"+'01.23'!G597","v":0},{"$f":"+'01.23'!T597","v":0},null,null,{"$f":"+'01.23'!L597","v":0}]
["",{"$f":"+IF('01.23'!C598=\"\",\"\",'01.23'!C598)","v":""},{"$f":"IF(B597=\"\",\"\",COUNTIFS($B$3:B597,B597))","v":""},{"$f":"IF(B597=\"\",\"\",LOOKUP(B597,DataFIX!$F$3:$F$21,DataFIX!$E$3:$E$21))","v":""},{"$f":"IF(B597=\"\",\"\",LOOKUP(B597,DataFIX!$F$3:$F$41,DataFIX!$G$3:$G$41)+C597)","v":""},{"$f":"+'01.23'!O598","v":"00:00:00"},{"$f":"+'01.23'!E598","v":0},{"$f":"+'01.23'!G598","v":0},{"$f":"+'01.23'!T598","v":0},null,null,{"$f":"+'01.23'!L598","v":0}]
["",{"$f":"+IF('01.23'!C599=\"\",\"\",'01.23'!C599)","v":""},{"$f":"IF(B598=\"\",\"\",COUNTIFS($B$3:B598,B598))","v":""},{"$f":"IF(B598=\"\",\"\",LOOKUP(B598,DataFIX!$F$3:$F$21,DataFIX!$E$3:$E$21))","v":""},{"$f":"IF(B598=\"\",\"\",LOOKUP(B598,DataFIX!$F$3:$F$41,DataFIX!$G$3:$G$41)+C598)","v":""},{"$f":"+'01.23'!O599","v":"00:00:00"},{"$f":"+'01.23'!E599","v":0},{"$f":"+'01.23'!G599","v":0},{"$f":"+'01.23'!T599","v":0},null,null,{"$f":"+'01.23'!L599","v":0}]
["",{"$f":"+IF('01.23'!C600=\"\",\"\",'01.23'!C600)","v":""},{"$f":"IF(B599=\"\",\"\",COUNTIFS($B$3:B599,B599))","v":""},{"$f":"IF(B599=\"\",\"\",LOOKUP(B599,DataFIX!$F$3:$F$21,DataFIX!$E$3:$E$21))","v":""},{"$f":"IF(B599=\"\",\"\",LOOKUP(B599,DataFIX!$F$3:$F$41,DataFIX!$G$3:$G$41)+C599)","v":""},{"$f":"+'01.23'!O600","v":"00:00:00"},{"$f":"+'01.23'!E600","v":0},{"$f":"+'01.23'!G600","v":0},{"$f":"+'01.23'!T600","v":0},null,null,{"$f":"+'01.23'!L600","v":0}]
["",{"$f":"+IF('01.23'!C601=\"\",\"\",'01.23'!C601)","v":""},{"$f":"IF(B600=\"\",\"\",COUNTIFS($B$3:B600,B600))","v":""},{"$f":"IF(B600=\"\",\"\",LOOKUP(B600,DataFIX!$F$3:$F$21,DataFIX!$E$3:$E$21))","v":""},{"$f":"IF(B600=\"\",\"\",LOOKUP(B600,DataFIX!$F$3:$F$41,DataFIX!$G$3:$G$41)+C600)","v":""},{"$f":"+'01.23'!O601","v":"00:00:00"},{"$f":"+'01.23'!E601","v":0},{"$f":"+'01.23'!G601","v":0},{"$f":"+'01.23'!T601","v":0},null,null,{"$f":"+'01.23'!L601","v":0}]
["",{"$f":"+IF('01.23'!C602=\"\",\"\",'01.23'!C602)","v":""},{"$f":"IF(B601=\"\",\"\",COUNTIFS($B$3:B601,B601))","v":""},{"$f":"IF(B601=\"\",\"\",LOOKUP(B601,DataFIX!$F$3:$F$21,DataFIX!$E$3:$E$21))","v":""},{"$f":"IF(B601=\"\",\"\",LOOKUP(B601,DataFIX!$F$3:$F$41,DataFIX!$G$3:$G$41)+C601)","v":""},{"$f":"+'01.23'!O602","v":"00:00:00"},{"$f":"+'01.23'!E602","v":0},{"$f":"+'01.23'!G602","v":0},{"$f":"+'01.23'!T602","v":0},null,null,{"$f":"+'01.23'!L602","v":0}]
["",{"$f":"+IF('01.23'!C603=\"\",\"\",'01.23'!C603)","v":""},{"$f":"IF(B602=\"\",\"\",COUNTIFS($B$3:B602,B602))","v":""},{"$f":"IF(B602=\"\",\"\",LOOKUP(B602,DataFIX!$F$3:$F$21,DataFIX!$E$3:$E$21))","v":""},{"$f":"IF(B602=\"\",\"\",LOOKUP(B602,DataFIX!$F$3:$F$41,DataFIX!$G$3:$G$41)+C602)","v":""},{"$f":"+'01.23'!O603","v":"00:00:00"},{"$f":"+'01.23'!E603","v":0},{"$f":"+'01.23'!G603","v":0},{"$f":"+'01.23'!T603","v":0},null,null,{"$f":"+'01.23'!L603","v":0}]
["",{"$f":"+IF('01.23'!C604=\"\",\"\",'01.23'!C604)","v":""},{"$f":"IF(B603=\"\",\"\",COUNTIFS($B$3:B603,B603))","v":""},{"$f":"IF(B603=\"\",\"\",LOOKUP(B603,DataFIX!$F$3:$F$21,DataFIX!$E$3:$E$21))","v":""},{"$f":"IF(B603=\"\",\"\",LOOKUP(B603,DataFIX!$F$3:$F$41,DataFIX!$G$3:$G$41)+C603)","v":""},{"$f":"+'01.23'!O604","v":"00:00:00"},{"$f":"+'01.23'!E604","v":0},{"$f":"+'01.23'!G604","v":0},{"$f":"+'01.23'!T604","v":0},null,null,{"$f":"+'01.23'!L604","v":0}]
["",{"$f":"+IF('01.23'!C605=\"\",\"\",'01.23'!C605)","v":""},{"$f":"IF(B604=\"\",\"\",COUNTIFS($B$3:B604,B604))","v":""},{"$f":"IF(B604=\"\",\"\",LOOKUP(B604,DataFIX!$F$3:$F$21,DataFIX!$E$3:$E$21))","v":""},{"$f":"IF(B604=\"\",\"\",LOOKUP(B604,DataFIX!$F$3:$F$41,DataFIX!$G$3:$G$41)+C604)","v":""},{"$f":"+'01.23'!O605","v":"00:00:00"},{"$f":"+'01.23'!E605","v":0},{"$f":"+'01.23'!G605","v":0},{"$f":"+'01.23'!T605","v":0},null,null,{"$f":"+'01.23'!L605","v":0}]
["",{"$f":"+IF('01.23'!C606=\"\",\"\",'01.23'!C606)","v":""},{"$f":"IF(B605=\"\",\"\",COUNTIFS($B$3:B605,B605))","v":""},{"$f":"IF(B605=\"\",\"\",LOOKUP(B605,DataFIX!$F$3:$F$21,DataFIX!$E$3:$E$21))","v":""},{"$f":"IF(B605=\"\",\"\",LOOKUP(B605,DataFIX!$F$3:$F$41,DataFIX!$G$3:$G$41)+C605)","v":""},{"$f":"+'01.23'!O606","v":"00:00:00"},{"$f":"+'01.23'!E606","v":0},{"$f":"+'01.23'!G606","v":0},{"$f":"+'01.23'!T606","v":0},null,null,{"$f":"+'01.23'!L606","v":0}]
["",{"$f":"+IF('01.23'!C607=\"\",\"\",'01.23'!C607)","v":""},{"$f":"IF(B606=\"\",\"\",COUNTIFS($B$3:B606,B606))","v":""},{"$f":"IF(B606=\"\",\"\",LOOKUP(B606,DataFIX!$F$3:$F$21,DataFIX!$E$3:$E$21))","v":""},{"$f":"IF(B606=\"\",\"\",LOOKUP(B606,DataFIX!$F$3:$F$41,DataFIX!$G$3:$G$41)+C606)","v":""},{"$f":"+'01.23'!O607","v":"00:00:00"},{"$f":"+'01.23'!E607","v":0},{"$f":"+'01.23'!G607","v":0},{"$f":"+'01.23'!T607","v":0},null,null,{"$f":"+'01.23'!L607","v":0}]
["",{"$f":"+IF('01.23'!C608=\"\",\"\",'01.23'!C608)","v":""},{"$f":"IF(B607=\"\",\"\",COUNTIFS($B$3:B607,B607))","v":""},{"$f":"IF(B607=\"\",\"\",LOOKUP(B607,DataFIX!$F$3:$F$21,DataFIX!$E$3:$E$21))","v":""},{"$f":"IF(B607=\"\",\"\",LOOKUP(B607,DataFIX!$F$3:$F$41,DataFIX!$G$3:$G$41)+C607)","v":""},{"$f":"+'01.23'!O608","v":"00:00:00"},{"$f":"+'01.23'!E608","v":0},{"$f":"+'01.23'!G608","v":0},{"$f":"+'01.23'!T608","v":0},null,null,{"$f":"+'01.23'!L608","v":0}]
["",{"$f":"+IF('01.23'!C609=\"\",\"\",'01.23'!C609)","v":""},{"$f":"IF(B608=\"\",\"\",COUNTIFS($B$3:B608,B608))","v":""},{"$f":"IF(B608=\"\",\"\",LOOKUP(B608,DataFIX!$F$3:$F$21,DataFIX!$E$3:$E$21))","v":""},{"$f":"IF(B608=\"\",\"\",LOOKUP(B608,DataFIX!$F$3:$F$41,DataFIX!$G$3:$G$41)+C608)","v":""},{"$f":"+'01.23'!O609","v":"00:00:00"},{"$f":"+'01.23'!E609","v":0},{"$f":"+'01.23'!G609","v":0},{"$f":"+'01.23'!T609","v":0},null,null,{"$f":"+'01.23'!L609","v":0}]
["",{"$f":"+IF('01.23'!C610=\"\",\"\",'01.23'!C610)","v":""},{"$f":"IF(B609=\"\",\"\",COUNTIFS($B$3:B609,B609))","v":""},{"$f":"IF(B609=\"\",\"\",LOOKUP(B609,DataFIX!$F$3:$F$21,DataFIX!$E$3:$E$21))","v":""},{"$f":"IF(B609=\"\",\"\",LOOKUP(B609,DataFIX!$F$3:$F$41,DataFIX!$G$3:$G$41)+C609)","v":""},{"$f":"+'01.23'!O610","v":"00:00:00"},{"$f":"+'01.23'!E610","v":0},{"$f":"+'01.23'!G610","v":0},{"$f":"+'01.23'!T610","v":0},null,null,{"$f":"+'01.23'!L610","v":0}]
["",{"$f":"+IF('01.23'!C611=\"\",\"\",'01.23'!C611)","v":""},{"$f":"IF(B610=\"\",\"\",COUNTIFS($B$3:B610,B610))","v":""},{"$f":"IF(B610=\"\",\"\",LOOKUP(B610,DataFIX!$F$3:$F$21,DataFIX!$E$3:$E$21))","v":""},{"$f":"IF(B610=\"\",\"\",LOOKUP(B610,DataFIX!$F$3:$F$41,DataFIX!$G$3:$G$41)+C610)","v":""},{"$f":"+'01.23'!O611","v":"00:00:00"},{"$f":"+'01.23'!E611","v":0},{"$f":"+'01.23'!G611","v":0},{"$f":"+'01.23'!T611","v":0},null,null,{"$f":"+'01.23'!L611","v":0}]
["",{"$f":"+IF('01.23'!C612=\"\",\"\",'01.23'!C612)","v":""},{"$f":"IF(B611=\"\",\"\",COUNTIFS($B$3:B611,B611))","v":""},{"$f":"IF(B611=\"\",\"\",LOOKUP(B611,DataFIX!$F$3:$F$21,DataFIX!$E$3:$E$21))","v":""},{"$f":"IF(B611=\"\",\"\",LOOKUP(B611,DataFIX!$F$3:$F$41,DataFIX!$G$3:$G$41)+C611)","v":""},{"$f":"+'01.23'!O612","v":"00:00:00"},{"$f":"+'01.23'!E612","v":0},{"$f":"+'01.23'!G612","v":0},{"$f":"+'01.23'!T612","v":0},null,null,{"$f":"+'01.23'!L612","v":0}]
["",{"$f":"+IF('01.23'!C613=\"\",\"\",'01.23'!C613)","v":""},{"$f":"IF(B612=\"\",\"\",COUNTIFS($B$3:B612,B612))","v":""},{"$f":"IF(B612=\"\",\"\",LOOKUP(B612,DataFIX!$F$3:$F$21,DataFIX!$E$3:$E$21))","v":""},{"$f":"IF(B612=\"\",\"\",LOOKUP(B612,DataFIX!$F$3:$F$41,DataFIX!$G$3:$G$41)+C612)","v":""},{"$f":"+'01.23'!O613","v":"00:00:00"},{"$f":"+'01.23'!E613","v":0},{"$f":"+'01.23'!G613","v":0},{"$f":"+'01.23'!T613","v":0},null,null,{"$f":"+'01.23'!L613","v":0}]
["",{"$f":"+IF('01.23'!C614=\"\",\"\",'01.23'!C614)","v":""},{"$f":"IF(B613=\"\",\"\",COUNTIFS($B$3:B613,B613))","v":""},{"$f":"IF(B613=\"\",\"\",LOOKUP(B613,DataFIX!$F$3:$F$21,DataFIX!$E$3:$E$21))","v":""},{"$f":"IF(B613=\"\",\"\",LOOKUP(B613,DataFIX!$F$3:$F$41,DataFIX!$G$3:$G$41)+C613)","v":""},{"$f":"+'01.23'!O614","v":"00:00:00"},{"$f":"+'01.23'!E614","v":0},{"$f":"+'01.23'!G614","v":0},{"$f":"+'01.23'!T614","v":0},null,null,{"$f":"+'01.23'!L614","v":0}]
["",{"$f":"+IF('01.23'!C615=\"\",\"\",'01.23'!C615)","v":""},{"$f":"IF(B614=\"\",\"\",COUNTIFS($B$3:B614,B614))","v":""},{"$f":"IF(B614=\"\",\"\",LOOKUP(B614,DataFIX!$F$3:$F$21,DataFIX!$E$3:$E$21))","v":""},{"$f":"IF(B614=\"\",\"\",LOOKUP(B614,DataFIX!$F$3:$F$41,DataFIX!$G$3:$G$41)+C614)","v":""},{"$f":"+'01.23'!O615","v":"00:00:00"},{"$f":"+'01.23'!E615","v":0},{"$f":"+'01.23'!G615","v":0},{"$f":"+'01.23'!T615","v":0},null,null,{"$f":"+'01.23'!L615","v":0}]
["",{"$f":"+IF('01.23'!C616=\"\",\"\",'01.23'!C616)","v":""},{"$f":"IF(B615=\"\",\"\",COUNTIFS($B$3:B615,B615))","v":""},{"$f":"IF(B615=\"\",\"\",LOOKUP(B615,DataFIX!$F$3:$F$21,DataFIX!$E$3:$E$21))","v":""},{"$f":"IF(B615=\"\",\"\",LOOKUP(B615,DataFIX!$F$3:$F$41,DataFIX!$G$3:$G$41)+C615)","v":""},{"$f":"+'01.23'!O616","v":"00:00:00"},{"$f":"+'01.23'!E616","v":0},{"$f":"+'01.23'!G616","v":0},{"$f":"+'01.23'!T616","v":0},null,null,{"$f":"+'01.23'!L616","v":0}]
["",{"$f":"+IF('01.23'!C617=\"\",\"\",'01.23'!C617)","v":""},{"$f":"IF(B616=\"\",\"\",COUNTIFS($B$3:B616,B616))","v":""},{"$f":"IF(B616=\"\",\"\",LOOKUP(B616,DataFIX!$F$3:$F$21,DataFIX!$E$3:$E$21))","v":""},{"$f":"IF(B616=\"\",\"\",LOOKUP(B616,DataFIX!$F$3:$F$41,DataFIX!$G$3:$G$41)+C616)","v":""},{"$f":"+'01.23'!O617","v":"00:00:00"},{"$f":"+'01.23'!E617","v":0},{"$f":"+'01.23'!G617","v":0},{"$f":"+'01.23'!T617","v":0},null,null,{"$f":"+'01.23'!L617","v":0}]
["",{"$f":"+IF('01.23'!C618=\"\",\"\",'01.23'!C618)","v":""},{"$f":"IF(B617=\"\",\"\",COUNTIFS($B$3:B617,B617))","v":""},{"$f":"IF(B617=\"\",\"\",LOOKUP(B617,DataFIX!$F$3:$F$21,DataFIX!$E$3:$E$21))","v":""},{"$f":"IF(B617=\"\",\"\",LOOKUP(B617,DataFIX!$F$3:$F$41,DataFIX!$G$3:$G$41)+C617)","v":""},{"$f":"+'01.23'!O618","v":"00:00:00"},{"$f":"+'01.23'!E618","v":0},{"$f":"+'01.23'!G618","v":0},{"$f":"+'01.23'!T618","v":0},null,null,{"$f":"+'01.23'!L618","v":0}]
["",{"$f":"+IF('01.23'!C619=\"\",\"\",'01.23'!C619)","v":""},{"$f":"IF(B618=\"\",\"\",COUNTIFS($B$3:B618,B618))","v":""},{"$f":"IF(B618=\"\",\"\",LOOKUP(B618,DataFIX!$F$3:$F$21,DataFIX!$E$3:$E$21))","v":""},{"$f":"IF(B618=\"\",\"\",LOOKUP(B618,DataFIX!$F$3:$F$41,DataFIX!$G$3:$G$41)+C618)","v":""},{"$f":"+'01.23'!O619","v":"00:00:00"},{"$f":"+'01.23'!E619","v":0},{"$f":"+'01.23'!G619","v":0},{"$f":"+'01.23'!T619","v":0},null,null,{"$f":"+'01.23'!L619","v":0}]
["",{"$f":"+IF('01.23'!C620=\"\",\"\",'01.23'!C620)","v":""},{"$f":"IF(B619=\"\",\"\",COUNTIFS($B$3:B619,B619))","v":""},{"$f":"IF(B619=\"\",\"\",LOOKUP(B619,DataFIX!$F$3:$F$21,DataFIX!$E$3:$E$21))","v":""},{"$f":"IF(B619=\"\",\"\",LOOKUP(B619,DataFIX!$F$3:$F$41,DataFIX!$G$3:$G$41)+C619)","v":""},{"$f":"+'01.23'!O620","v":"00:00:00"},{"$f":"+'01.23'!E620","v":0},{"$f":"+'01.23'!G620","v":0},{"$f":"+'01.23'!T620","v":0},null,null,{"$f":"+'01.23'!L620","v":0}]
["",{"$f":"+IF('01.23'!C621=\"\",\"\",'01.23'!C621)","v":""},{"$f":"IF(B620=\"\",\"\",COUNTIFS($B$3:B620,B620))","v":""},{"$f":"IF(B620=\"\",\"\",LOOKUP(B620,DataFIX!$F$3:$F$21,DataFIX!$E$3:$E$21))","v":""},{"$f":"IF(B620=\"\",\"\",LOOKUP(B620,DataFIX!$F$3:$F$41,DataFIX!$G$3:$G$41)+C620)","v":""},{"$f":"+'01.23'!O621","v":"00:00:00"},{"$f":"+'01.23'!E621","v":0},{"$f":"+'01.23'!G621","v":0},{"$f":"+'01.23'!T621","v":0},null,null,{"$f":"+'01.23'!L621","v":0}]
["",{"$f":"+IF('01.23'!C622=\"\",\"\",'01.23'!C622)","v":""},{"$f":"IF(B621=\"\",\"\",COUNTIFS($B$3:B621,B621))","v":""},{"$f":"IF(B621=\"\",\"\",LOOKUP(B621,DataFIX!$F$3:$F$21,DataFIX!$E$3:$E$21))","v":""},{"$f":"IF(B621=\"\",\"\",LOOKUP(B621,DataFIX!$F$3:$F$41,DataFIX!$G$3:$G$41)+C621)","v":""},{"$f":"+'01.23'!O622","v":"00:00:00"},{"$f":"+'01.23'!E622","v":0},{"$f":"+'01.23'!G622","v":0},{"$f":"+'01.23'!T622","v":0},null,null,{"$f":"+'01.23'!L622","v":0}]
["",{"$f":"+IF('01.23'!C623=\"\",\"\",'01.23'!C623)","v":""},{"$f":"IF(B622=\"\",\"\",COUNTIFS($B$3:B622,B622))","v":""},{"$f":"IF(B622=\"\",\"\",LOOKUP(B622,DataFIX!$F$3:$F$21,DataFIX!$E$3:$E$21))","v":""},{"$f":"IF(B622=\"\",\"\",LOOKUP(B622,DataFIX!$F$3:$F$41,DataFIX!$G$3:$G$41)+C622)","v":""},{"$f":"+'01.23'!O623","v":"00:00:00"},{"$f":"+'01.23'!E623","v":0},{"$f":"+'01.23'!G623","v":0},{"$f":"+'01.23'!T623","v":0},null,null,{"$f":"+'01.23'!L623","v":0}]
["",{"$f":"+IF('01.23'!C624=\"\",\"\",'01.23'!C624)","v":""},{"$f":"IF(B623=\"\",\"\",COUNTIFS($B$3:B623,B623))","v":""},{"$f":"IF(B623=\"\",\"\",LOOKUP(B623,DataFIX!$F$3:$F$21,DataFIX!$E$3:$E$21))","v":""},{"$f":"IF(B623=\"\",\"\",LOOKUP(B623,DataFIX!$F$3:$F$41,DataFIX!$G$3:$G$41)+C623)","v":""},{"$f":"+'01.23'!O624","v":"00:00:00"},{"$f":"+'01.23'!E624","v":0},{"$f":"+'01.23'!G624","v":0},{"$f":"+'01.23'!T624","v":0},null,null,{"$f":"+'01.23'!L624","v":0}]
["",{"$f":"+IF('01.23'!C625=\"\",\"\",'01.23'!C625)","v":""},{"$f":"IF(B624=\"\",\"\",COUNTIFS($B$3:B624,B624))","v":""},{"$f":"IF(B624=\"\",\"\",LOOKUP(B624,DataFIX!$F$3:$F$21,DataFIX!$E$3:$E$21))","v":""},{"$f":"IF(B624=\"\",\"\",LOOKUP(B624,DataFIX!$F$3:$F$41,DataFIX!$G$3:$G$41)+C624)","v":""},{"$f":"+'01.23'!O625","v":"00:00:00"},{"$f":"+'01.23'!E625","v":0},{"$f":"+'01.23'!G625","v":0},{"$f":"+'01.23'!T625","v":0},null,null,{"$f":"+'01.23'!L625","v":0}]
["",{"$f":"+IF('01.23'!C626=\"\",\"\",'01.23'!C626)","v":""},{"$f":"IF(B625=\"\",\"\",COUNTIFS($B$3:B625,B625))","v":""},{"$f":"IF(B625=\"\",\"\",LOOKUP(B625,DataFIX!$F$3:$F$21,DataFIX!$E$3:$E$21))","v":""},{"$f":"IF(B625=\"\",\"\",LOOKUP(B625,DataFIX!$F$3:$F$41,DataFIX!$G$3:$G$41)+C625)","v":""},{"$f":"+'01.23'!O626","v":"00:00:00"},{"$f":"+'01.23'!E626","v":0},{"$f":"+'01.23'!G626","v":0},{"$f":"+'01.23'!T626","v":0},null,null,{"$f":"+'01.23'!L626","v":0}]
["",{"$f":"+IF('01.23'!C627=\"\",\"\",'01.23'!C627)","v":""},{"$f":"IF(B626=\"\",\"\",COUNTIFS($B$3:B626,B626))","v":""},{"$f":"IF(B626=\"\",\"\",LOOKUP(B626,DataFIX!$F$3:$F$21,DataFIX!$E$3:$E$21))","v":""},{"$f":"IF(B626=\"\",\"\",LOOKUP(B626,DataFIX!$F$3:$F$41,DataFIX!$G$3:$G$41)+C626)","v":""},{"$f":"+'01.23'!O627","v":"00:00:00"},{"$f":"+'01.23'!E627","v":0},{"$f":"+'01.23'!G627","v":0},{"$f":"+'01.23'!T627","v":0},null,null,{"$f":"+'01.23'!L627","v":0}]
["",{"$f":"+IF('01.23'!C628=\"\",\"\",'01.23'!C628)","v":""},{"$f":"IF(B627=\"\",\"\",COUNTIFS($B$3:B627,B627))","v":""},{"$f":"IF(B627=\"\",\"\",LOOKUP(B627,DataFIX!$F$3:$F$21,DataFIX!$E$3:$E$21))","v":""},{"$f":"IF(B627=\"\",\"\",LOOKUP(B627,DataFIX!$F$3:$F$41,DataFIX!$G$3:$G$41)+C627)","v":""},{"$f":"+'01.23'!O628","v":"00:00:00"},{"$f":"+'01.23'!E628","v":0},{"$f":"+'01.23'!G628","v":0},{"$f":"+'01.23'!T628","v":0},null,null,{"$f":"+'01.23'!L628","v":0}]
["",{"$f":"+IF('01.23'!C629=\"\",\"\",'01.23'!C629)","v":""},{"$f":"IF(B628=\"\",\"\",COUNTIFS($B$3:B628,B628))","v":""},{"$f":"IF(B628=\"\",\"\",LOOKUP(B628,DataFIX!$F$3:$F$21,DataFIX!$E$3:$E$21))","v":""},{"$f":"IF(B628=\"\",\"\",LOOKUP(B628,DataFIX!$F$3:$F$41,DataFIX!$G$3:$G$41)+C628)","v":""},{"$f":"+'01.23'!O629","v":"00:00:00"},{"$f":"+'01.23'!E629","v":0},{"$f":"+'01.23'!G629","v":0},{"$f":"+'01.23'!T629","v":0},null,null,{"$f":"+'01.23'!L629","v":0}]
["",{"$f":"+IF('01.23'!C630=\"\",\"\",'01.23'!C630)","v":""},{"$f":"IF(B629=\"\",\"\",COUNTIFS($B$3:B629,B629))","v":""},{"$f":"IF(B629=\"\",\"\",LOOKUP(B629,DataFIX!$F$3:$F$21,DataFIX!$E$3:$E$21))","v":""},{"$f":"IF(B629=\"\",\"\",LOOKUP(B629,DataFIX!$F$3:$F$41,DataFIX!$G$3:$G$41)+C629)","v":""},{"$f":"+'01.23'!O630","v":"00:00:00"},{"$f":"+'01.23'!E630","v":0},{"$f":"+'01.23'!G630","v":0},{"$f":"+'01.23'!T630","v":0},null,null,{"$f":"+'01.23'!L630","v":0}]
["",{"$f":"+IF('01.23'!C631=\"\",\"\",'01.23'!C631)","v":""},{"$f":"IF(B630=\"\",\"\",COUNTIFS($B$3:B630,B630))","v":""},{"$f":"IF(B630=\"\",\"\",LOOKUP(B630,DataFIX!$F$3:$F$21,DataFIX!$E$3:$E$21))","v":""},{"$f":"IF(B630=\"\",\"\",LOOKUP(B630,DataFIX!$F$3:$F$41,DataFIX!$G$3:$G$41)+C630)","v":""},{"$f":"+'01.23'!O631","v":"00:00:00"},{"$f":"+'01.23'!E631","v":0},{"$f":"+'01.23'!G631","v":0},{"$f":"+'01.23'!T631","v":0},null,null,{"$f":"+'01.23'!L631","v":0}]
["",{"$f":"+IF('01.23'!C632=\"\",\"\",'01.23'!C632)","v":""},{"$f":"IF(B631=\"\",\"\",COUNTIFS($B$3:B631,B631))","v":""},{"$f":"IF(B631=\"\",\"\",LOOKUP(B631,DataFIX!$F$3:$F$21,DataFIX!$E$3:$E$21))","v":""},{"$f":"IF(B631=\"\",\"\",LOOKUP(B631,DataFIX!$F$3:$F$41,DataFIX!$G$3:$G$41)+C631)","v":""},{"$f":"+'01.23'!O632","v":"00:00:00"},{"$f":"+'01.23'!E632","v":0},{"$f":"+'01.23'!G632","v":0},{"$f":"+'01.23'!T632","v":0},null,null,{"$f":"+'01.23'!L632","v":0}]
["",{"$f":"+IF('01.23'!C633=\"\",\"\",'01.23'!C633)","v":""},{"$f":"IF(B632=\"\",\"\",COUNTIFS($B$3:B632,B632))","v":""},{"$f":"IF(B632=\"\",\"\",LOOKUP(B632,DataFIX!$F$3:$F$21,DataFIX!$E$3:$E$21))","v":""},{"$f":"IF(B632=\"\",\"\",LOOKUP(B632,DataFIX!$F$3:$F$41,DataFIX!$G$3:$G$41)+C632)","v":""},{"$f":"+'01.23'!O633","v":"00:00:00"},{"$f":"+'01.23'!E633","v":0},{"$f":"+'01.23'!G633","v":0},{"$f":"+'01.23'!T633","v":0},null,null,{"$f":"+'01.23'!L633","v":0}]
["",{"$f":"+IF('01.23'!C634=\"\",\"\",'01.23'!C634)","v":""},{"$f":"IF(B633=\"\",\"\",COUNTIFS($B$3:B633,B633))","v":""},{"$f":"IF(B633=\"\",\"\",LOOKUP(B633,DataFIX!$F$3:$F$21,DataFIX!$E$3:$E$21))","v":""},{"$f":"IF(B633=\"\",\"\",LOOKUP(B633,DataFIX!$F$3:$F$41,DataFIX!$G$3:$G$41)+C633)","v":""},{"$f":"+'01.23'!O634","v":"00:00:00"},{"$f":"+'01.23'!E634","v":0},{"$f":"+'01.23'!G634","v":0},{"$f":"+'01.23'!T634","v":0},null,null,{"$f":"+'01.23'!L634","v":0}]
["",{"$f":"+IF('01.23'!C635=\"\",\"\",'01.23'!C635)","v":""},{"$f":"IF(B634=\"\",\"\",COUNTIFS($B$3:B634,B634))","v":""},{"$f":"IF(B634=\"\",\"\",LOOKUP(B634,DataFIX!$F$3:$F$21,DataFIX!$E$3:$E$21))","v":""},{"$f":"IF(B634=\"\",\"\",LOOKUP(B634,DataFIX!$F$3:$F$41,DataFIX!$G$3:$G$41)+C634)","v":""},{"$f":"+'01.23'!O635","v":"00:00:00"},{"$f":"+'01.23'!E635","v":0},{"$f":"+'01.23'!G635","v":0},{"$f":"+'01.23'!T635","v":0},null,null,{"$f":"+'01.23'!L635","v":0}]
["",{"$f":"+IF('01.23'!C636=\"\",\"\",'01.23'!C636)","v":""},{"$f":"IF(B635=\"\",\"\",COUNTIFS($B$3:B635,B635))","v":""},{"$f":"IF(B635=\"\",\"\",LOOKUP(B635,DataFIX!$F$3:$F$21,DataFIX!$E$3:$E$21))","v":""},{"$f":"IF(B635=\"\",\"\",LOOKUP(B635,DataFIX!$F$3:$F$41,DataFIX!$G$3:$G$41)+C635)","v":""},{"$f":"+'01.23'!O636","v":"00:00:00"},{"$f":"+'01.23'!E636","v":0},{"$f":"+'01.23'!G636","v":0},{"$f":"+'01.23'!T636","v":0},null,null,{"$f":"+'01.23'!L636","v":0}]
["",{"$f":"+IF('01.23'!C637=\"\",\"\",'01.23'!C637)","v":""},{"$f":"IF(B636=\"\",\"\",COUNTIFS($B$3:B636,B636))","v":""},{"$f":"IF(B636=\"\",\"\",LOOKUP(B636,DataFIX!$F$3:$F$21,DataFIX!$E$3:$E$21))","v":""},{"$f":"IF(B636=\"\",\"\",LOOKUP(B636,DataFIX!$F$3:$F$41,DataFIX!$G$3:$G$41)+C636)","v":""},{"$f":"+'01.23'!O637","v":"00:00:00"},{"$f":"+'01.23'!E637","v":0},{"$f":"+'01.23'!G637","v":0},{"$f":"+'01.23'!T637","v":0},null,null,{"$f":"+'01.23'!L637","v":0}]
["",{"$f":"+IF('01.23'!C638=\"\",\"\",'01.23'!C638)","v":""},{"$f":"IF(B637=\"\",\"\",COUNTIFS($B$3:B637,B637))","v":""},{"$f":"IF(B637=\"\",\"\",LOOKUP(B637,DataFIX!$F$3:$F$21,DataFIX!$E$3:$E$21))","v":""},{"$f":"IF(B637=\"\",\"\",LOOKUP(B637,DataFIX!$F$3:$F$41,DataFIX!$G$3:$G$41)+C637)","v":""},{"$f":"+'01.23'!O638","v":"00:00:00"},{"$f":"+'01.23'!E638","v":0},{"$f":"+'01.23'!G638","v":0},{"$f":"+'01.23'!T638","v":0},null,null,{"$f":"+'01.23'!L638","v":0}]
["",{"$f":"+IF('01.23'!C639=\"\",\"\",'01.23'!C639)","v":""},{"$f":"IF(B638=\"\",\"\",COUNTIFS($B$3:B638,B638))","v":""},{"$f":"IF(B638=\"\",\"\",LOOKUP(B638,DataFIX!$F$3:$F$21,DataFIX!$E$3:$E$21))","v":""},{"$f":"IF(B638=\"\",\"\",LOOKUP(B638,DataFIX!$F$3:$F$41,DataFIX!$G$3:$G$41)+C638)","v":""},{"$f":"+'01.23'!O639","v":"00:00:00"},{"$f":"+'01.23'!E639","v":0},{"$f":"+'01.23'!G639","v":0},{"$f":"+'01.23'!T639","v":0},null,null,{"$f":"+'01.23'!L639","v":0}]
["",{"$f":"+IF('01.23'!C640=\"\",\"\",'01.23'!C640)","v":""},{"$f":"IF(B639=\"\",\"\",COUNTIFS($B$3:B639,B639))","v":""},{"$f":"IF(B639=\"\",\"\",LOOKUP(B639,DataFIX!$F$3:$F$21,DataFIX!$E$3:$E$21))","v":""},{"$f":"IF(B639=\"\",\"\",LOOKUP(B639,DataFIX!$F$3:$F$41,DataFIX!$G$3:$G$41)+C639)","v":""},{"$f":"+'01.23'!O640","v":"00:00:00"},{"$f":"+'01.23'!E640","v":0},{"$f":"+'01.23'!G640","v":0},{"$f":"+'01.23'!T640","v":0},null,null,{"$f":"+'01.23'!L640","v":0}]
["",{"$f":"+IF('01.23'!C641=\"\",\"\",'01.23'!C641)","v":""},{"$f":"IF(B640=\"\",\"\",COUNTIFS($B$3:B640,B640))","v":""},{"$f":"IF(B640=\"\",\"\",LOOKUP(B640,DataFIX!$F$3:$F$21,DataFIX!$E$3:$E$21))","v":""},{"$f":"IF(B640=\"\",\"\",LOOKUP(B640,DataFIX!$F$3:$F$41,DataFIX!$G$3:$G$41)+C640)","v":""},{"$f":"+'01.23'!O641","v":"00:00:00"},{"$f":"+'01.23'!E641","v":0},{"$f":"+'01.23'!G641","v":0},{"$f":"+'01.23'!T641","v":0},null,null,{"$f":"+'01.23'!L641","v":0}]
["",{"$f":"+IF('01.23'!C642=\"\",\"\",'01.23'!C642)","v":""},{"$f":"IF(B641=\"\",\"\",COUNTIFS($B$3:B641,B641))","v":""},{"$f":"IF(B641=\"\",\"\",LOOKUP(B641,DataFIX!$F$3:$F$21,DataFIX!$E$3:$E$21))","v":""},{"$f":"IF(B641=\"\",\"\",LOOKUP(B641,DataFIX!$F$3:$F$41,DataFIX!$G$3:$G$41)+C641)","v":""},{"$f":"+'01.23'!O642","v":"00:00:00"},{"$f":"+'01.23'!E642","v":0},{"$f":"+'01.23'!G642","v":0},{"$f":"+'01.23'!T642","v":0},null,null,{"$f":"+'01.23'!L642","v":0}]
["",{"$f":"+IF('01.23'!C643=\"\",\"\",'01.23'!C643)","v":""},{"$f":"IF(B642=\"\",\"\",COUNTIFS($B$3:B642,B642))","v":""},{"$f":"IF(B642=\"\",\"\",LOOKUP(B642,DataFIX!$F$3:$F$21,DataFIX!$E$3:$E$21))","v":""},{"$f":"IF(B642=\"\",\"\",LOOKUP(B642,DataFIX!$F$3:$F$41,DataFIX!$G$3:$G$41)+C642)","v":""},{"$f":"+'01.23'!O643","v":"00:00:00"},{"$f":"+'01.23'!E643","v":0},{"$f":"+'01.23'!G643","v":0},{"$f":"+'01.23'!T643","v":0},null,null,{"$f":"+'01.23'!L643","v":0}]
["",{"$f":"+IF('01.23'!C644=\"\",\"\",'01.23'!C644)","v":""},{"$f":"IF(B643=\"\",\"\",COUNTIFS($B$3:B643,B643))","v":""},{"$f":"IF(B643=\"\",\"\",LOOKUP(B643,DataFIX!$F$3:$F$21,DataFIX!$E$3:$E$21))","v":""},{"$f":"IF(B643=\"\",\"\",LOOKUP(B643,DataFIX!$F$3:$F$41,DataFIX!$G$3:$G$41)+C643)","v":""},{"$f":"+'01.23'!O644","v":"00:00:00"},{"$f":"+'01.23'!E644","v":0},{"$f":"+'01.23'!G644","v":0},{"$f":"+'01.23'!T644","v":0},null,null,{"$f":"+'01.23'!L644","v":0}]
[{"$f":"+B644","v":""},{"$f":"+IF('01.23'!C645=\"\",\"\",'01.23'!C645)","v":""},{"$f":"IF(B644=\"\",\"\",COUNTIFS($B$3:B644,B644))","v":""},{"$f":"IF(B644=\"\",\"\",LOOKUP(B644,DataFIX!$F$3:$F$21,DataFIX!$E$3:$E$21))","v":""},{"$f":"IF(B644=\"\",\"\",LOOKUP(B644,DataFIX!$F$3:$F$41,DataFIX!$G$3:$G$41)+C644)","v":""},{"$f":"+'01.23'!O645","v":"00:00:00"},{"$f":"+'01.23'!E645","v":0},{"$f":"+'01.23'!G645","v":0},{"$f":"+'01.23'!T645","v":0},null,null,{"$f":"+'01.23'!L645","v":0}]
["",{"$f":"+IF('01.23'!C646=\"\",\"\",'01.23'!C646)","v":""},{"$f":"IF(B645=\"\",\"\",COUNTIFS($B$3:B645,B645))","v":""},{"$f":"IF(B645=\"\",\"\",LOOKUP(B645,DataFIX!$F$3:$F$21,DataFIX!$E$3:$E$21))","v":""},{"$f":"IF(B645=\"\",\"\",LOOKUP(B645,DataFIX!$F$3:$F$41,DataFIX!$G$3:$G$41)+C645)","v":""},{"$f":"+'01.23'!O646","v":"00:00:00"},{"$f":"+'01.23'!E646","v":0},{"$f":"+'01.23'!G646","v":0},{"$f":"+'01.23'!T646","v":0},null,null,{"$f":"+'01.23'!L646","v":0}]
["",{"$f":"+IF('01.23'!C647=\"\",\"\",'01.23'!C647)","v":""},{"$f":"IF(B646=\"\",\"\",COUNTIFS($B$3:B646,B646))","v":""},{"$f":"IF(B646=\"\",\"\",LOOKUP(B646,DataFIX!$F$3:$F$21,DataFIX!$E$3:$E$21))","v":""},{"$f":"IF(B646=\"\",\"\",LOOKUP(B646,DataFIX!$F$3:$F$41,DataFIX!$G$3:$G$41)+C646)","v":""},{"$f":"+'01.23'!O647","v":"00:00:00"},{"$f":"+'01.23'!E647","v":0},{"$f":"+'01.23'!G647","v":0},{"$f":"+'01.23'!T647","v":0},null,null,{"$f":"+'01.23'!L647","v":0}]
["",{"$f":"+IF('01.23'!C648=\"\",\"\",'01.23'!C648)","v":""},{"$f":"IF(B647=\"\",\"\",COUNTIFS($B$3:B647,B647))","v":""},{"$f":"IF(B647=\"\",\"\",LOOKUP(B647,DataFIX!$F$3:$F$21,DataFIX!$E$3:$E$21))","v":""},{"$f":"IF(B647=\"\",\"\",LOOKUP(B647,DataFIX!$F$3:$F$41,DataFIX!$G$3:$G$41)+C647)","v":""},{"$f":"+'01.23'!O648","v":"00:00:00"},{"$f":"+'01.23'!E648","v":0},{"$f":"+'01.23'!G648","v":0},{"$f":"+'01.23'!T648","v":0},null,null,{"$f":"+'01.23'!L648","v":0}]
["",{"$f":"+IF('01.23'!C649=\"\",\"\",'01.23'!C649)","v":""},{"$f":"IF(B648=\"\",\"\",COUNTIFS($B$3:B648,B648))","v":""},{"$f":"IF(B648=\"\",\"\",LOOKUP(B648,DataFIX!$F$3:$F$21,DataFIX!$E$3:$E$21))","v":""},{"$f":"IF(B648=\"\",\"\",LOOKUP(B648,DataFIX!$F$3:$F$41,DataFIX!$G$3:$G$41)+C648)","v":""},{"$f":"+'01.23'!O649","v":"00:00:00"},{"$f":"+'01.23'!E649","v":0},{"$f":"+'01.23'!G649","v":0},{"$f":"+'01.23'!T649","v":0},null,null,{"$f":"+'01.23'!L649","v":0}]
["",{"$f":"+IF('01.23'!C650=\"\",\"\",'01.23'!C650)","v":""},{"$f":"IF(B649=\"\",\"\",COUNTIFS($B$3:B649,B649))","v":""},{"$f":"IF(B649=\"\",\"\",LOOKUP(B649,DataFIX!$F$3:$F$21,DataFIX!$E$3:$E$21))","v":""},{"$f":"IF(B649=\"\",\"\",LOOKUP(B649,DataFIX!$F$3:$F$41,DataFIX!$G$3:$G$41)+C649)","v":""},{"$f":"+'01.23'!O650","v":"00:00:00"},{"$f":"+'01.23'!E650","v":0},{"$f":"+'01.23'!G650","v":0},{"$f":"+'01.23'!T650","v":0},null,null,{"$f":"+'01.23'!L650","v":0}]
["",{"$f":"+IF('01.23'!C651=\"\",\"\",'01.23'!C651)","v":""},{"$f":"IF(B650=\"\",\"\",COUNTIFS($B$3:B650,B650))","v":""},{"$f":"IF(B650=\"\",\"\",LOOKUP(B650,DataFIX!$F$3:$F$21,DataFIX!$E$3:$E$21))","v":""},{"$f":"IF(B650=\"\",\"\",LOOKUP(B650,DataFIX!$F$3:$F$41,DataFIX!$G$3:$G$41)+C650)","v":""},{"$f":"+'01.23'!O651","v":"00:00:00"},{"$f":"+'01.23'!E651","v":0},{"$f":"+'01.23'!G651","v":0},{"$f":"+'01.23'!T651","v":0},null,null,{"$f":"+'01.23'!L651","v":0}]
["",{"$f":"+IF('01.23'!C652=\"\",\"\",'01.23'!C652)","v":""},{"$f":"IF(B651=\"\",\"\",COUNTIFS($B$3:B651,B651))","v":""},{"$f":"IF(B651=\"\",\"\",LOOKUP(B651,DataFIX!$F$3:$F$21,DataFIX!$E$3:$E$21))","v":""},{"$f":"IF(B651=\"\",\"\",LOOKUP(B651,DataFIX!$F$3:$F$41,DataFIX!$G$3:$G$41)+C651)","v":""},{"$f":"+'01.23'!O652","v":"00:00:00"},{"$f":"+'01.23'!E652","v":0},{"$f":"+'01.23'!G652","v":0},{"$f":"+'01.23'!T652","v":0},null,null,{"$f":"+'01.23'!L652","v":0}]
["",{"$f":"+IF('01.23'!C653=\"\",\"\",'01.23'!C653)","v":""},{"$f":"IF(B652=\"\",\"\",COUNTIFS($B$3:B652,B652))","v":""},{"$f":"IF(B652=\"\",\"\",LOOKUP(B652,DataFIX!$F$3:$F$21,DataFIX!$E$3:$E$21))","v":""},{"$f":"IF(B652=\"\",\"\",LOOKUP(B652,DataFIX!$F$3:$F$41,DataFIX!$G$3:$G$41)+C652)","v":""},{"$f":"+'01.23'!O653","v":"00:00:00"},{"$f":"+'01.23'!E653","v":0},{"$f":"+'01.23'!G653","v":0},{"$f":"+'01.23'!T653","v":0},null,null,{"$f":"+'01.23'!L653","v":0}]
["",{"$f":"+IF('01.23'!C654=\"\",\"\",'01.23'!C654)","v":""},{"$f":"IF(B653=\"\",\"\",COUNTIFS($B$3:B653,B653))","v":""},{"$f":"IF(B653=\"\",\"\",LOOKUP(B653,DataFIX!$F$3:$F$21,DataFIX!$E$3:$E$21))","v":""},{"$f":"IF(B653=\"\",\"\",LOOKUP(B653,DataFIX!$F$3:$F$41,DataFIX!$G$3:$G$41)+C653)","v":""},{"$f":"+'01.23'!O654","v":"00:00:00"},{"$f":"+'01.23'!E654","v":0},{"$f":"+'01.23'!G654","v":0},{"$f":"+'01.23'!T654","v":0},null,null,{"$f":"+'01.23'!L654","v":0}]
["",{"$f":"+IF('01.23'!C655=\"\",\"\",'01.23'!C655)","v":""},{"$f":"IF(B654=\"\",\"\",COUNTIFS($B$3:B654,B654))","v":""},{"$f":"IF(B654=\"\",\"\",LOOKUP(B654,DataFIX!$F$3:$F$21,DataFIX!$E$3:$E$21))","v":""},{"$f":"IF(B654=\"\",\"\",LOOKUP(B654,DataFIX!$F$3:$F$41,DataFIX!$G$3:$G$41)+C654)","v":""},{"$f":"+'01.23'!O655","v":"00:00:00"},{"$f":"+'01.23'!E655","v":0},{"$f":"+'01.23'!G655","v":0},{"$f":"+'01.23'!T655","v":0},null,null,{"$f":"+'01.23'!L655","v":0}]
["",{"$f":"+IF('01.23'!C656=\"\",\"\",'01.23'!C656)","v":""},{"$f":"IF(B655=\"\",\"\",COUNTIFS($B$3:B655,B655))","v":""},{"$f":"IF(B655=\"\",\"\",LOOKUP(B655,DataFIX!$F$3:$F$21,DataFIX!$E$3:$E$21))","v":""},{"$f":"IF(B655=\"\",\"\",LOOKUP(B655,DataFIX!$F$3:$F$41,DataFIX!$G$3:$G$41)+C655)","v":""},{"$f":"+'01.23'!O656","v":"00:00:00"},{"$f":"+'01.23'!E656","v":0},{"$f":"+'01.23'!G656","v":0},{"$f":"+'01.23'!T656","v":0},null,null,{"$f":"+'01.23'!L656","v":0}]
["",{"$f":"+IF('01.23'!C657=\"\",\"\",'01.23'!C657)","v":""},{"$f":"IF(B656=\"\",\"\",COUNTIFS($B$3:B656,B656))","v":""},{"$f":"IF(B656=\"\",\"\",LOOKUP(B656,DataFIX!$F$3:$F$21,DataFIX!$E$3:$E$21))","v":""},{"$f":"IF(B656=\"\",\"\",LOOKUP(B656,DataFIX!$F$3:$F$41,DataFIX!$G$3:$G$41)+C656)","v":""},{"$f":"+'01.23'!O657","v":"00:00:00"},{"$f":"+'01.23'!E657","v":0},{"$f":"+'01.23'!G657","v":0},{"$f":"+'01.23'!T657","v":0},null,null,{"$f":"+'01.23'!L657","v":0}]
["",{"$f":"+IF('01.23'!C658=\"\",\"\",'01.23'!C658)","v":""},{"$f":"IF(B657=\"\",\"\",COUNTIFS($B$3:B657,B657))","v":""},{"$f":"IF(B657=\"\",\"\",LOOKUP(B657,DataFIX!$F$3:$F$21,DataFIX!$E$3:$E$21))","v":""},{"$f":"IF(B657=\"\",\"\",LOOKUP(B657,DataFIX!$F$3:$F$41,DataFIX!$G$3:$G$41)+C657)","v":""},{"$f":"+'01.23'!O658","v":"00:00:00"},{"$f":"+'01.23'!E658","v":0},{"$f":"+'01.23'!G658","v":0},{"$f":"+'01.23'!T658","v":0},null,null,{"$f":"+'01.23'!L658","v":0}]
["",{"$f":"+IF('01.23'!C659=\"\",\"\",'01.23'!C659)","v":""},{"$f":"IF(B658=\"\",\"\",COUNTIFS($B$3:B658,B658))","v":""},{"$f":"IF(B658=\"\",\"\",LOOKUP(B658,DataFIX!$F$3:$F$21,DataFIX!$E$3:$E$21))","v":""},{"$f":"IF(B658=\"\",\"\",LOOKUP(B658,DataFIX!$F$3:$F$41,DataFIX!$G$3:$G$41)+C658)","v":""},{"$f":"+'01.23'!O659","v":"00:00:00"},{"$f":"+'01.23'!E659","v":0},{"$f":"+'01.23'!G659","v":0},{"$f":"+'01.23'!T659","v":0},null,null,{"$f":"+'01.23'!L659","v":0}]
["",{"$f":"+IF('01.23'!C660=\"\",\"\",'01.23'!C660)","v":""},{"$f":"IF(B659=\"\",\"\",COUNTIFS($B$3:B659,B659))","v":""},{"$f":"IF(B659=\"\",\"\",LOOKUP(B659,DataFIX!$F$3:$F$21,DataFIX!$E$3:$E$21))","v":""},{"$f":"IF(B659=\"\",\"\",LOOKUP(B659,DataFIX!$F$3:$F$41,DataFIX!$G$3:$G$41)+C659)","v":""},{"$f":"+'01.23'!O660","v":"00:00:00"},{"$f":"+'01.23'!E660","v":0},{"$f":"+'01.23'!G660","v":0},{"$f":"+'01.23'!T660","v":0},null,null,{"$f":"+'01.23'!L660","v":0}]
["",{"$f":"+IF('01.23'!C661=\"\",\"\",'01.23'!C661)","v":""},{"$f":"IF(B660=\"\",\"\",COUNTIFS($B$3:B660,B660))","v":""},{"$f":"IF(B660=\"\",\"\",LOOKUP(B660,DataFIX!$F$3:$F$21,DataFIX!$E$3:$E$21))","v":""},{"$f":"IF(B660=\"\",\"\",LOOKUP(B660,DataFIX!$F$3:$F$41,DataFIX!$G$3:$G$41)+C660)","v":""},{"$f":"+'01.23'!O661","v":"00:00:00"},{"$f":"+'01.23'!E661","v":0},{"$f":"+'01.23'!G661","v":0},{"$f":"+'01.23'!T661","v":0},null,null,{"$f":"+'01.23'!L661","v":0}]
["",{"$f":"+IF('01.23'!C662=\"\",\"\",'01.23'!C662)","v":""},{"$f":"IF(B661=\"\",\"\",COUNTIFS($B$3:B661,B661))","v":""},{"$f":"IF(B661=\"\",\"\",LOOKUP(B661,DataFIX!$F$3:$F$21,DataFIX!$E$3:$E$21))","v":""},{"$f":"IF(B661=\"\",\"\",LOOKUP(B661,DataFIX!$F$3:$F$41,DataFIX!$G$3:$G$41)+C661)","v":""},{"$f":"+'01.23'!O662","v":"00:00:00"},{"$f":"+'01.23'!E662","v":0},{"$f":"+'01.23'!G662","v":0},{"$f":"+'01.23'!T662","v":0},null,null,{"$f":"+'01.23'!L662","v":0}]
["",{"$f":"+IF('01.23'!C663=\"\",\"\",'01.23'!C663)","v":""},{"$f":"IF(B662=\"\",\"\",COUNTIFS($B$3:B662,B662))","v":""},{"$f":"IF(B662=\"\",\"\",LOOKUP(B662,DataFIX!$F$3:$F$21,DataFIX!$E$3:$E$21))","v":""},{"$f":"IF(B662=\"\",\"\",LOOKUP(B662,DataFIX!$F$3:$F$41,DataFIX!$G$3:$G$41)+C662)","v":""},{"$f":"+'01.23'!O663","v":"00:00:00"},{"$f":"+'01.23'!E663","v":0},{"$f":"+'01.23'!G663","v":0},{"$f":"+'01.23'!T663","v":0},null,null,{"$f":"+'01.23'!L663","v":0}]
["",{"$f":"+IF('01.23'!C664=\"\",\"\",'01.23'!C664)","v":""},{"$f":"IF(B663=\"\",\"\",COUNTIFS($B$3:B663,B663))","v":""},{"$f":"IF(B663=\"\",\"\",LOOKUP(B663,DataFIX!$F$3:$F$21,DataFIX!$E$3:$E$21))","v":""},{"$f":"IF(B663=\"\",\"\",LOOKUP(B663,DataFIX!$F$3:$F$41,DataFIX!$G$3:$G$41)+C663)","v":""},{"$f":"+'01.23'!O664","v":"00:00:00"},{"$f":"+'01.23'!E664","v":0},{"$f":"+'01.23'!G664","v":0},{"$f":"+'01.23'!T664","v":0},null,null,{"$f":"+'01.23'!L664","v":0}]
["",{"$f":"+IF('01.23'!C665=\"\",\"\",'01.23'!C665)","v":""},{"$f":"IF(B664=\"\",\"\",COUNTIFS($B$3:B664,B664))","v":""},{"$f":"IF(B664=\"\",\"\",LOOKUP(B664,DataFIX!$F$3:$F$21,DataFIX!$E$3:$E$21))","v":""},{"$f":"IF(B664=\"\",\"\",LOOKUP(B664,DataFIX!$F$3:$F$41,DataFIX!$G$3:$G$41)+C664)","v":""},{"$f":"+'01.23'!O665","v":"00:00:00"},{"$f":"+'01.23'!E665","v":0},{"$f":"+'01.23'!G665","v":0},{"$f":"+'01.23'!T665","v":0},null,null,{"$f":"+'01.23'!L665","v":0}]
["",{"$f":"+IF('01.23'!C666=\"\",\"\",'01.23'!C666)","v":""},{"$f":"IF(B665=\"\",\"\",COUNTIFS($B$3:B665,B665))","v":""},{"$f":"IF(B665=\"\",\"\",LOOKUP(B665,DataFIX!$F$3:$F$21,DataFIX!$E$3:$E$21))","v":""},{"$f":"IF(B665=\"\",\"\",LOOKUP(B665,DataFIX!$F$3:$F$41,DataFIX!$G$3:$G$41)+C665)","v":""},{"$f":"+'01.23'!O666","v":"00:00:00"},{"$f":"+'01.23'!E666","v":0},{"$f":"+'01.23'!G666","v":0},{"$f":"+'01.23'!T666","v":0},null,null,{"$f":"+'01.23'!L666","v":0}]
["",{"$f":"+IF('01.23'!C667=\"\",\"\",'01.23'!C667)","v":""},{"$f":"IF(B666=\"\",\"\",COUNTIFS($B$3:B666,B666))","v":""},{"$f":"IF(B666=\"\",\"\",LOOKUP(B666,DataFIX!$F$3:$F$21,DataFIX!$E$3:$E$21))","v":""},{"$f":"IF(B666=\"\",\"\",LOOKUP(B666,DataFIX!$F$3:$F$41,DataFIX!$G$3:$G$41)+C666)","v":""},{"$f":"+'01.23'!O667","v":"00:00:00"},{"$f":"+'01.23'!E667","v":0},{"$f":"+'01.23'!G667","v":0},{"$f":"+'01.23'!T667","v":0},null,null,{"$f":"+'01.23'!L667","v":0}]
["",{"$f":"+IF('01.23'!C668=\"\",\"\",'01.23'!C668)","v":""},{"$f":"IF(B667=\"\",\"\",COUNTIFS($B$3:B667,B667))","v":""},{"$f":"IF(B667=\"\",\"\",LOOKUP(B667,DataFIX!$F$3:$F$21,DataFIX!$E$3:$E$21))","v":""},{"$f":"IF(B667=\"\",\"\",LOOKUP(B667,DataFIX!$F$3:$F$41,DataFIX!$G$3:$G$41)+C667)","v":""},{"$f":"+'01.23'!O668","v":"00:00:00"},{"$f":"+'01.23'!E668","v":0},{"$f":"+'01.23'!G668","v":0},{"$f":"+'01.23'!T668","v":0},null,null,{"$f":"+'01.23'!L668","v":0}]
["",{"$f":"+IF('01.23'!C669=\"\",\"\",'01.23'!C669)","v":""},{"$f":"IF(B668=\"\",\"\",COUNTIFS($B$3:B668,B668))","v":""},{"$f":"IF(B668=\"\",\"\",LOOKUP(B668,DataFIX!$F$3:$F$21,DataFIX!$E$3:$E$21))","v":""},{"$f":"IF(B668=\"\",\"\",LOOKUP(B668,DataFIX!$F$3:$F$41,DataFIX!$G$3:$G$41)+C668)","v":""},{"$f":"+'01.23'!O669","v":"00:00:00"},{"$f":"+'01.23'!E669","v":0},{"$f":"+'01.23'!G669","v":0},{"$f":"+'01.23'!T669","v":0},null,null,{"$f":"+'01.23'!L669","v":0}]
["",{"$f":"+IF('01.23'!C670=\"\",\"\",'01.23'!C670)","v":""},{"$f":"IF(B669=\"\",\"\",COUNTIFS($B$3:B669,B669))","v":""},{"$f":"IF(B669=\"\",\"\",LOOKUP(B669,DataFIX!$F$3:$F$21,DataFIX!$E$3:$E$21))","v":""},{"$f":"IF(B669=\"\",\"\",LOOKUP(B669,DataFIX!$F$3:$F$41,DataFIX!$G$3:$G$41)+C669)","v":""},{"$f":"+'01.23'!O670","v":"00:00:00"},{"$f":"+'01.23'!E670","v":0},{"$f":"+'01.23'!G670","v":0},{"$f":"+'01.23'!T670","v":0},null,null,{"$f":"+'01.23'!L670","v":0}]
["",{"$f":"+IF('01.23'!C671=\"\",\"\",'01.23'!C671)","v":""},{"$f":"IF(B670=\"\",\"\",COUNTIFS($B$3:B670,B670))","v":""},{"$f":"IF(B670=\"\",\"\",LOOKUP(B670,DataFIX!$F$3:$F$21,DataFIX!$E$3:$E$21))","v":""},{"$f":"IF(B670=\"\",\"\",LOOKUP(B670,DataFIX!$F$3:$F$41,DataFIX!$G$3:$G$41)+C670)","v":""},{"$f":"+'01.23'!O671","v":"00:00:00"},{"$f":"+'01.23'!E671","v":0},{"$f":"+'01.23'!G671","v":0},{"$f":"+'01.23'!T671","v":0},null,null,{"$f":"+'01.23'!L671","v":0}]
["",{"$f":"+IF('01.23'!C672=\"\",\"\",'01.23'!C672)","v":""},{"$f":"IF(B671=\"\",\"\",COUNTIFS($B$3:B671,B671))","v":""},{"$f":"IF(B671=\"\",\"\",LOOKUP(B671,DataFIX!$F$3:$F$21,DataFIX!$E$3:$E$21))","v":""},{"$f":"IF(B671=\"\",\"\",LOOKUP(B671,DataFIX!$F$3:$F$41,DataFIX!$G$3:$G$41)+C671)","v":""},{"$f":"+'01.23'!O672","v":"00:00:00"},{"$f":"+'01.23'!E672","v":0},{"$f":"+'01.23'!G672","v":0},{"$f":"+'01.23'!T672","v":0},null,null,{"$f":"+'01.23'!L672","v":0}]
["",{"$f":"+IF('01.23'!C673=\"\",\"\",'01.23'!C673)","v":""},{"$f":"IF(B672=\"\",\"\",COUNTIFS($B$3:B672,B672))","v":""},{"$f":"IF(B672=\"\",\"\",LOOKUP(B672,DataFIX!$F$3:$F$21,DataFIX!$E$3:$E$21))","v":""},{"$f":"IF(B672=\"\",\"\",LOOKUP(B672,DataFIX!$F$3:$F$41,DataFIX!$G$3:$G$41)+C672)","v":""},{"$f":"+'01.23'!O673","v":"00:00:00"},{"$f":"+'01.23'!E673","v":0},{"$f":"+'01.23'!G673","v":0},{"$f":"+'01.23'!T673","v":0},null,null,{"$f":"+'01.23'!L673","v":0}]
["",{"$f":"+IF('01.23'!C674=\"\",\"\",'01.23'!C674)","v":""},{"$f":"IF(B673=\"\",\"\",COUNTIFS($B$3:B673,B673))","v":""},{"$f":"IF(B673=\"\",\"\",LOOKUP(B673,DataFIX!$F$3:$F$21,DataFIX!$E$3:$E$21))","v":""},{"$f":"IF(B673=\"\",\"\",LOOKUP(B673,DataFIX!$F$3:$F$41,DataFIX!$G$3:$G$41)+C673)","v":""},{"$f":"+'01.23'!O674","v":"00:00:00"},{"$f":"+'01.23'!E674","v":0},{"$f":"+'01.23'!G674","v":0},{"$f":"+'01.23'!T674","v":0},null,null,{"$f":"+'01.23'!L674","v":0}]
["",{"$f":"+IF('01.23'!C675=\"\",\"\",'01.23'!C675)","v":""},{"$f":"IF(B674=\"\",\"\",COUNTIFS($B$3:B674,B674))","v":""},{"$f":"IF(B674=\"\",\"\",LOOKUP(B674,DataFIX!$F$3:$F$21,DataFIX!$E$3:$E$21))","v":""},{"$f":"IF(B674=\"\",\"\",LOOKUP(B674,DataFIX!$F$3:$F$41,DataFIX!$G$3:$G$41)+C674)","v":""},{"$f":"+'01.23'!O675","v":"00:00:00"},{"$f":"+'01.23'!E675","v":0},{"$f":"+'01.23'!G675","v":0},{"$f":"+'01.23'!T675","v":0},null,null,{"$f":"+'01.23'!L675","v":0}]
["",{"$f":"+IF('01.23'!C676=\"\",\"\",'01.23'!C676)","v":""},{"$f":"IF(B675=\"\",\"\",COUNTIFS($B$3:B675,B675))","v":""},{"$f":"IF(B675=\"\",\"\",LOOKUP(B675,DataFIX!$F$3:$F$21,DataFIX!$E$3:$E$21))","v":""},{"$f":"IF(B675=\"\",\"\",LOOKUP(B675,DataFIX!$F$3:$F$41,DataFIX!$G$3:$G$41)+C675)","v":""},{"$f":"+'01.23'!O676","v":"00:00:00"},{"$f":"+'01.23'!E676","v":0},{"$f":"+'01.23'!G676","v":0},{"$f":"+'01.23'!T676","v":0},null,null,{"$f":"+'01.23'!L676","v":0}]
["",{"$f":"+IF('01.23'!C677=\"\",\"\",'01.23'!C677)","v":""},{"$f":"IF(B676=\"\",\"\",COUNTIFS($B$3:B676,B676))","v":""},{"$f":"IF(B676=\"\",\"\",LOOKUP(B676,DataFIX!$F$3:$F$21,DataFIX!$E$3:$E$21))","v":""},{"$f":"IF(B676=\"\",\"\",LOOKUP(B676,DataFIX!$F$3:$F$41,DataFIX!$G$3:$G$41)+C676)","v":""},{"$f":"+'01.23'!O677","v":"00:00:00"},{"$f":"+'01.23'!E677","v":0},{"$f":"+'01.23'!G677","v":0},{"$f":"+'01.23'!T677","v":0},null,null,{"$f":"+'01.23'!L677","v":0}]
["",{"$f":"+IF('01.23'!C678=\"\",\"\",'01.23'!C678)","v":""},{"$f":"IF(B677=\"\",\"\",COUNTIFS($B$3:B677,B677))","v":""},{"$f":"IF(B677=\"\",\"\",LOOKUP(B677,DataFIX!$F$3:$F$21,DataFIX!$E$3:$E$21))","v":""},{"$f":"IF(B677=\"\",\"\",LOOKUP(B677,DataFIX!$F$3:$F$41,DataFIX!$G$3:$G$41)+C677)","v":""},{"$f":"+'01.23'!O678","v":"00:00:00"},{"$f":"+'01.23'!E678","v":0},{"$f":"+'01.23'!G678","v":0},{"$f":"+'01.23'!T678","v":0},null,null,{"$f":"+'01.23'!L678","v":0}]
["",{"$f":"+IF('01.23'!C679=\"\",\"\",'01.23'!C679)","v":""},{"$f":"IF(B678=\"\",\"\",COUNTIFS($B$3:B678,B678))","v":""},{"$f":"IF(B678=\"\",\"\",LOOKUP(B678,DataFIX!$F$3:$F$21,DataFIX!$E$3:$E$21))","v":""},{"$f":"IF(B678=\"\",\"\",LOOKUP(B678,DataFIX!$F$3:$F$41,DataFIX!$G$3:$G$41)+C678)","v":""},{"$f":"+'01.23'!O679","v":"00:00:00"},{"$f":"+'01.23'!E679","v":0},{"$f":"+'01.23'!G679","v":0},{"$f":"+'01.23'!T679","v":0},null,null,{"$f":"+'01.23'!L679","v":0}]
["",{"$f":"+IF('01.23'!C680=\"\",\"\",'01.23'!C680)","v":""},{"$f":"IF(B679=\"\",\"\",COUNTIFS($B$3:B679,B679))","v":""},{"$f":"IF(B679=\"\",\"\",LOOKUP(B679,DataFIX!$F$3:$F$21,DataFIX!$E$3:$E$21))","v":""},{"$f":"IF(B679=\"\",\"\",LOOKUP(B679,DataFIX!$F$3:$F$41,DataFIX!$G$3:$G$41)+C679)","v":""},{"$f":"+'01.23'!O680","v":"00:00:00"},{"$f":"+'01.23'!E680","v":0},{"$f":"+'01.23'!G680","v":0},{"$f":"+'01.23'!T680","v":0},null,null,{"$f":"+'01.23'!L680","v":0}]
["",{"$f":"+IF('01.23'!C681=\"\",\"\",'01.23'!C681)","v":""},{"$f":"IF(B680=\"\",\"\",COUNTIFS($B$3:B680,B680))","v":""},{"$f":"IF(B680=\"\",\"\",LOOKUP(B680,DataFIX!$F$3:$F$21,DataFIX!$E$3:$E$21))","v":""},{"$f":"IF(B680=\"\",\"\",LOOKUP(B680,DataFIX!$F$3:$F$41,DataFIX!$G$3:$G$41)+C680)","v":""},{"$f":"+'01.23'!O681","v":"00:00:00"},{"$f":"+'01.23'!E681","v":0},{"$f":"+'01.23'!G681","v":0},{"$f":"+'01.23'!T681","v":0},null,null,{"$f":"+'01.23'!L681","v":0}]
["",{"$f":"+IF('01.23'!C682=\"\",\"\",'01.23'!C682)","v":""},{"$f":"IF(B681=\"\",\"\",COUNTIFS($B$3:B681,B681))","v":""},{"$f":"IF(B681=\"\",\"\",LOOKUP(B681,DataFIX!$F$3:$F$21,DataFIX!$E$3:$E$21))","v":""},{"$f":"IF(B681=\"\",\"\",LOOKUP(B681,DataFIX!$F$3:$F$41,DataFIX!$G$3:$G$41)+C681)","v":""},{"$f":"+'01.23'!O682","v":"00:00:00"},{"$f":"+'01.23'!E682","v":0},{"$f":"+'01.23'!G682","v":0},{"$f":"+'01.23'!T682","v":0},null,null,{"$f":"+'01.23'!L682","v":0}]
["",{"$f":"+IF('01.23'!C683=\"\",\"\",'01.23'!C683)","v":""},{"$f":"IF(B682=\"\",\"\",COUNTIFS($B$3:B682,B682))","v":""},{"$f":"IF(B682=\"\",\"\",LOOKUP(B682,DataFIX!$F$3:$F$21,DataFIX!$E$3:$E$21))","v":""},{"$f":"IF(B682=\"\",\"\",LOOKUP(B682,DataFIX!$F$3:$F$41,DataFIX!$G$3:$G$41)+C682)","v":""},{"$f":"+'01.23'!O683","v":"00:00:00"},{"$f":"+'01.23'!E683","v":0},{"$f":"+'01.23'!G683","v":0},{"$f":"+'01.23'!T683","v":0},null,null,{"$f":"+'01.23'!L683","v":0}]
["",{"$f":"+IF('01.23'!C684=\"\",\"\",'01.23'!C684)","v":""},{"$f":"IF(B683=\"\",\"\",COUNTIFS($B$3:B683,B683))","v":""},{"$f":"IF(B683=\"\",\"\",LOOKUP(B683,DataFIX!$F$3:$F$21,DataFIX!$E$3:$E$21))","v":""},{"$f":"IF(B683=\"\",\"\",LOOKUP(B683,DataFIX!$F$3:$F$41,DataFIX!$G$3:$G$41)+C683)","v":""},{"$f":"+'01.23'!O684","v":"00:00:00"},{"$f":"+'01.23'!E684","v":0},{"$f":"+'01.23'!G684","v":0},{"$f":"+'01.23'!T684","v":0},null,null,{"$f":"+'01.23'!L684","v":0}]
["",{"$f":"+IF('01.23'!C685=\"\",\"\",'01.23'!C685)","v":""},{"$f":"IF(B684=\"\",\"\",COUNTIFS($B$3:B684,B684))","v":""},{"$f":"IF(B684=\"\",\"\",LOOKUP(B684,DataFIX!$F$3:$F$21,DataFIX!$E$3:$E$21))","v":""},{"$f":"IF(B684=\"\",\"\",LOOKUP(B684,DataFIX!$F$3:$F$41,DataFIX!$G$3:$G$41)+C684)","v":""},{"$f":"+'01.23'!O685","v":"00:00:00"},{"$f":"+'01.23'!E685","v":0},{"$f":"+'01.23'!G685","v":0},{"$f":"+'01.23'!T685","v":0},null,null,{"$f":"+'01.23'!L685","v":0}]
["",{"$f":"+IF('01.23'!C686=\"\",\"\",'01.23'!C686)","v":""},{"$f":"IF(B685=\"\",\"\",COUNTIFS($B$3:B685,B685))","v":""},{"$f":"IF(B685=\"\",\"\",LOOKUP(B685,DataFIX!$F$3:$F$21,DataFIX!$E$3:$E$21))","v":""},{"$f":"IF(B685=\"\",\"\",LOOKUP(B685,DataFIX!$F$3:$F$41,DataFIX!$G$3:$G$41)+C685)","v":""},{"$f":"+'01.23'!O686","v":"00:00:00"},{"$f":"+'01.23'!E686","v":0},{"$f":"+'01.23'!G686","v":0},{"$f":"+'01.23'!T686","v":0},null,null,{"$f":"+'01.23'!L686","v":0}]
["",{"$f":"+IF('01.23'!C687=\"\",\"\",'01.23'!C687)","v":""},{"$f":"IF(B686=\"\",\"\",COUNTIFS($B$3:B686,B686))","v":""},{"$f":"IF(B686=\"\",\"\",LOOKUP(B686,DataFIX!$F$3:$F$21,DataFIX!$E$3:$E$21))","v":""},{"$f":"IF(B686=\"\",\"\",LOOKUP(B686,DataFIX!$F$3:$F$41,DataFIX!$G$3:$G$41)+C686)","v":""},{"$f":"+'01.23'!O687","v":"00:00:00"},{"$f":"+'01.23'!E687","v":0},{"$f":"+'01.23'!G687","v":0},{"$f":"+'01.23'!T687","v":0},null,null,{"$f":"+'01.23'!L687","v":0}]
["",{"$f":"+IF('01.23'!C688=\"\",\"\",'01.23'!C688)","v":""},{"$f":"IF(B687=\"\",\"\",COUNTIFS($B$3:B687,B687))","v":""},{"$f":"IF(B687=\"\",\"\",LOOKUP(B687,DataFIX!$F$3:$F$21,DataFIX!$E$3:$E$21))","v":""},{"$f":"IF(B687=\"\",\"\",LOOKUP(B687,DataFIX!$F$3:$F$41,DataFIX!$G$3:$G$41)+C687)","v":""},{"$f":"+'01.23'!O688","v":"00:00:00"},{"$f":"+'01.23'!E688","v":0},{"$f":"+'01.23'!G688","v":0},{"$f":"+'01.23'!T688","v":0},null,null,{"$f":"+'01.23'!L688","v":0}]
["",{"$f":"+IF('01.23'!C689=\"\",\"\",'01.23'!C689)","v":""},{"$f":"IF(B688=\"\",\"\",COUNTIFS($B$3:B688,B688))","v":""},{"$f":"IF(B688=\"\",\"\",LOOKUP(B688,DataFIX!$F$3:$F$21,DataFIX!$E$3:$E$21))","v":""},{"$f":"IF(B688=\"\",\"\",LOOKUP(B688,DataFIX!$F$3:$F$41,DataFIX!$G$3:$G$41)+C688)","v":""},{"$f":"+'01.23'!O689","v":"00:00:00"},{"$f":"+'01.23'!E689","v":0},{"$f":"+'01.23'!G689","v":0},{"$f":"+'01.23'!T689","v":0},null,null,{"$f":"+'01.23'!L689","v":0}]
["",{"$f":"+IF('01.23'!C690=\"\",\"\",'01.23'!C690)","v":""},{"$f":"IF(B689=\"\",\"\",COUNTIFS($B$3:B689,B689))","v":""},{"$f":"IF(B689=\"\",\"\",LOOKUP(B689,DataFIX!$F$3:$F$21,DataFIX!$E$3:$E$21))","v":""},{"$f":"IF(B689=\"\",\"\",LOOKUP(B689,DataFIX!$F$3:$F$41,DataFIX!$G$3:$G$41)+C689)","v":""},{"$f":"+'01.23'!O690","v":"00:00:00"},{"$f":"+'01.23'!E690","v":0},{"$f":"+'01.23'!G690","v":0},{"$f":"+'01.23'!T690","v":0},null,null,{"$f":"+'01.23'!L690","v":0}]
["",{"$f":"+IF('01.23'!C691=\"\",\"\",'01.23'!C691)","v":""},{"$f":"IF(B690=\"\",\"\",COUNTIFS($B$3:B690,B690))","v":""},{"$f":"IF(B690=\"\",\"\",LOOKUP(B690,DataFIX!$F$3:$F$21,DataFIX!$E$3:$E$21))","v":""},{"$f":"IF(B690=\"\",\"\",LOOKUP(B690,DataFIX!$F$3:$F$41,DataFIX!$G$3:$G$41)+C690)","v":""},{"$f":"+'01.23'!O691","v":"00:00:00"},{"$f":"+'01.23'!E691","v":0},{"$f":"+'01.23'!G691","v":0},{"$f":"+'01.23'!T691","v":0},null,null,{"$f":"+'01.23'!L691","v":0}]
["",{"$f":"+IF('01.23'!C692=\"\",\"\",'01.23'!C692)","v":""},{"$f":"IF(B691=\"\",\"\",COUNTIFS($B$3:B691,B691))","v":""},{"$f":"IF(B691=\"\",\"\",LOOKUP(B691,DataFIX!$F$3:$F$21,DataFIX!$E$3:$E$21))","v":""},{"$f":"IF(B691=\"\",\"\",LOOKUP(B691,DataFIX!$F$3:$F$41,DataFIX!$G$3:$G$41)+C691)","v":""},{"$f":"+'01.23'!O692","v":"00:00:00"},{"$f":"+'01.23'!E692","v":0},{"$f":"+'01.23'!G692","v":0},{"$f":"+'01.23'!T692","v":0},null,null,{"$f":"+'01.23'!L692","v":0}]
["",{"$f":"+IF('01.23'!C693=\"\",\"\",'01.23'!C693)","v":""},{"$f":"IF(B692=\"\",\"\",COUNTIFS($B$3:B692,B692))","v":""},{"$f":"IF(B692=\"\",\"\",LOOKUP(B692,DataFIX!$F$3:$F$21,DataFIX!$E$3:$E$21))","v":""},{"$f":"IF(B692=\"\",\"\",LOOKUP(B692,DataFIX!$F$3:$F$41,DataFIX!$G$3:$G$41)+C692)","v":""},{"$f":"+'01.23'!O693","v":"00:00:00"},{"$f":"+'01.23'!E693","v":0},{"$f":"+'01.23'!G693","v":0},{"$f":"+'01.23'!T693","v":0},null,null,{"$f":"+'01.23'!L693","v":0}]
["",{"$f":"+IF('01.23'!C694=\"\",\"\",'01.23'!C694)","v":""},{"$f":"IF(B693=\"\",\"\",COUNTIFS($B$3:B693,B693))","v":""},{"$f":"IF(B693=\"\",\"\",LOOKUP(B693,DataFIX!$F$3:$F$21,DataFIX!$E$3:$E$21))","v":""},{"$f":"IF(B693=\"\",\"\",LOOKUP(B693,DataFIX!$F$3:$F$41,DataFIX!$G$3:$G$41)+C693)","v":""},{"$f":"+'01.23'!O694","v":"00:00:00"},{"$f":"+'01.23'!E694","v":0},{"$f":"+'01.23'!G694","v":0},{"$f":"+'01.23'!T694","v":0},null,null,{"$f":"+'01.23'!L694","v":0}]
["",{"$f":"+IF('01.23'!C695=\"\",\"\",'01.23'!C695)","v":""},{"$f":"IF(B694=\"\",\"\",COUNTIFS($B$3:B694,B694))","v":""},{"$f":"IF(B694=\"\",\"\",LOOKUP(B694,DataFIX!$F$3:$F$21,DataFIX!$E$3:$E$21))","v":""},{"$f":"IF(B694=\"\",\"\",LOOKUP(B694,DataFIX!$F$3:$F$41,DataFIX!$G$3:$G$41)+C694)","v":""},{"$f":"+'01.23'!O695","v":"00:00:00"},{"$f":"+'01.23'!E695","v":0},{"$f":"+'01.23'!G695","v":0},{"$f":"+'01.23'!T695","v":0},null,null,{"$f":"+'01.23'!L695","v":0}]
["",{"$f":"+IF('01.23'!C696=\"\",\"\",'01.23'!C696)","v":""},{"$f":"IF(B695=\"\",\"\",COUNTIFS($B$3:B695,B695))","v":""},{"$f":"IF(B695=\"\",\"\",LOOKUP(B695,DataFIX!$F$3:$F$21,DataFIX!$E$3:$E$21))","v":""},{"$f":"IF(B695=\"\",\"\",LOOKUP(B695,DataFIX!$F$3:$F$41,DataFIX!$G$3:$G$41)+C695)","v":""},{"$f":"+'01.23'!O696","v":"00:00:00"},{"$f":"+'01.23'!E696","v":0},{"$f":"+'01.23'!G696","v":0},{"$f":"+'01.23'!T696","v":0},null,null,{"$f":"+'01.23'!L696","v":0}]
["",{"$f":"+IF('01.23'!C697=\"\",\"\",'01.23'!C697)","v":""},{"$f":"IF(B696=\"\",\"\",COUNTIFS($B$3:B696,B696))","v":""},{"$f":"IF(B696=\"\",\"\",LOOKUP(B696,DataFIX!$F$3:$F$21,DataFIX!$E$3:$E$21))","v":""},{"$f":"IF(B696=\"\",\"\",LOOKUP(B696,DataFIX!$F$3:$F$41,DataFIX!$G$3:$G$41)+C696)","v":""},{"$f":"+'01.23'!O697","v":"00:00:00"},{"$f":"+'01.23'!E697","v":0},{"$f":"+'01.23'!G697","v":0},{"$f":"+'01.23'!T697","v":0},null,null,{"$f":"+'01.23'!L697","v":0}]
["",{"$f":"+IF('01.23'!C698=\"\",\"\",'01.23'!C698)","v":""},{"$f":"IF(B697=\"\",\"\",COUNTIFS($B$3:B697,B697))","v":""},{"$f":"IF(B697=\"\",\"\",LOOKUP(B697,DataFIX!$F$3:$F$21,DataFIX!$E$3:$E$21))","v":""},{"$f":"IF(B697=\"\",\"\",LOOKUP(B697,DataFIX!$F$3:$F$41,DataFIX!$G$3:$G$41)+C697)","v":""},{"$f":"+'01.23'!O698","v":"00:00:00"},{"$f":"+'01.23'!E698","v":0},{"$f":"+'01.23'!G698","v":0},{"$f":"+'01.23'!T698","v":0},null,null,{"$f":"+'01.23'!L698","v":0}]
["",{"$f":"+IF('01.23'!C699=\"\",\"\",'01.23'!C699)","v":""},{"$f":"IF(B698=\"\",\"\",COUNTIFS($B$3:B698,B698))","v":""},{"$f":"IF(B698=\"\",\"\",LOOKUP(B698,DataFIX!$F$3:$F$21,DataFIX!$E$3:$E$21))","v":""},{"$f":"IF(B698=\"\",\"\",LOOKUP(B698,DataFIX!$F$3:$F$41,DataFIX!$G$3:$G$41)+C698)","v":""},{"$f":"+'01.23'!O699","v":"00:00:00"},{"$f":"+'01.23'!E699","v":0},{"$f":"+'01.23'!G699","v":0},{"$f":"+'01.23'!T699","v":0},null,null,{"$f":"+'01.23'!L699","v":0}]
["",{"$f":"+IF('01.23'!C700=\"\",\"\",'01.23'!C700)","v":""},{"$f":"IF(B699=\"\",\"\",COUNTIFS($B$3:B699,B699))","v":""},{"$f":"IF(B699=\"\",\"\",LOOKUP(B699,DataFIX!$F$3:$F$21,DataFIX!$E$3:$E$21))","v":""},{"$f":"IF(B699=\"\",\"\",LOOKUP(B699,DataFIX!$F$3:$F$41,DataFIX!$G$3:$G$41)+C699)","v":""},{"$f":"+'01.23'!O700","v":"00:00:00"},{"$f":"+'01.23'!E700","v":0},{"$f":"+'01.23'!G700","v":0},{"$f":"+'01.23'!T700","v":0},null,null,{"$f":"+'01.23'!L700","v":0}]

{"sheet":"zdroj root","index":18,"n_rows":699,"n_cols":17,"rows_kept":699,"cut":false,"hidden":false,"merged":[[121,16,238,47]]}
[]
[null,null,null,null,null,"Pláo. příjezd","Zákazník","Dopravce","Status"]
[{"$f":"+B3","v":""},{"$f":"+IF(XX!C4=\"\",\"\",XX!C4)","v":""},{"$f":"IF(B3=\"\",\"\",COUNTIFS($B3:B$3,B3))","v":""},{"$f":"IF(B3=\"\",\"\",LOOKUP(B3,DataFIX!$F$3:$F$21,DataFIX!$E$3:$E$21))","v":""},{"$f":"IF(B3=\"\",\"\",LOOKUP(B3,DataFIX!$F$3:$F$41,DataFIX!$G$3:$G$41)+C3)","v":""},{"$f":"+XX!O4","v":"00:00:00"},{"$f":"+XX!E4","v":0},{"$f":"+XX!G4","v":0},{"$f":"+XX!T4","v":0},null,null,{"$f":"+XX!L4","v":0}]
[{"$f":"+B4","v":""},{"$f":"+IF(XX!C5=\"\",\"\",XX!C5)","v":""},{"$f":"IF(B4=\"\",\"\",COUNTIFS($B$3:B4,B4))","v":""},{"$f":"IF(B4=\"\",\"\",LOOKUP(B4,DataFIX!$F$3:$F$21,DataFIX!$E$3:$E$21))","v":""},{"$f":"IF(B4=\"\",\"\",LOOKUP(B4,DataFIX!$F$3:$F$41,DataFIX!$G$3:$G$41)+C4)","v":""},{"$f":"+XX!O5","v":"00:00:00"},{"$f":"+XX!E5","v":0},{"$f":"+XX!G5","v":0},{"$f":"+XX!T5","v":0},null,null,{"$f":"+XX!L5","v":0}]
["",{"$f":"+IF(XX!C6=\"\",\"\",XX!C6)","v":""},{"$f":"IF(B5=\"\",\"\",COUNTIFS($B$3:B5,B5))","v":""},{"$f":"IF(B5=\"\",\"\",LOOKUP(B5,DataFIX!$F$3:$F$21,DataFIX!$E$3:$E$21))","v":""},{"$f":"IF(B5=\"\",\"\",LOOKUP(B5,DataFIX!$F$3:$F$41,DataFIX!$G$3:$G$41)+C5)","v":""},{"$f":"+XX!O6","v":"00:00:00"},{"$f":"+XX!E6","v":0},{"$f":"+XX!G6","v":0},{"$f":"+XX!T6","v":0},null,null,{"$f":"+XX!L6","v":0}]
[{"$f":"+B6","v":""},{"$f":"+IF(XX!C7=\"\",\"\",XX!C7)","v":""},{"$f":"IF(B6=\"\",\"\",COUNTIFS($B$3:B6,B6))","v":""},{"$f":"IF(B6=\"\",\"\",LOOKUP(B6,DataFIX!$F$3:$F$21,DataFIX!$E$3:$E$21))","v":""},{"$f":"IF(B6=\"\",\"\",LOOKUP(B6,DataFIX!$F$3:$F$41,DataFIX!$G$3:$G$41)+C6)","v":""},{"$f":"+XX!O7","v":"00:00:00"},{"$f":"+XX!E7","v":0},{"$f":"+XX!G7","v":0},{"$f":"+XX!T7","v":0},null,null,{"$f":"+XX!L7","v":0}]
["",{"$f":"+IF(XX!C8=\"\",\"\",XX!C8)","v":""},{"$f":"IF(B7=\"\",\"\",COUNTIFS($B$3:B7,B7))","v":""},{"$f":"IF(B7=\"\",\"\",LOOKUP(B7,DataFIX!$F$3:$F$21,DataFIX!$E$3:$E$21))","v":""},{"$f":"IF(B7=\"\",\"\",LOOKUP(B7,DataFIX!$F$3:$F$41,DataFIX!$G$3:$G$41)+C7)","v":""},{"$f":"+XX!O8","v":"00:00:00"},{"$f":"+XX!E8","v":0},{"$f":"+XX!G8","v":0},{"$f":"+XX!T8","v":0},null,null,{"$f":"+XX!L8","v":0}]
["",{"$f":"+IF(XX!C9=\"\",\"\",XX!C9)","v":""},{"$f":"IF(B8=\"\",\"\",COUNTIFS($B$3:B8,B8))","v":""},{"$f":"IF(B8=\"\",\"\",LOOKUP(B8,DataFIX!$F$3:$F$21,DataFIX!$E$3:$E$21))","v":""},{"$f":"IF(B8=\"\",\"\",LOOKUP(B8,DataFIX!$F$3:$F$41,DataFIX!$G$3:$G$41)+C8)","v":""},{"$f":"+XX!O9","v":"00:00:00"},{"$f":"+XX!E9","v":0},{"$f":"+XX!G9","v":0},{"$f":"+XX!T9","v":0},null,null,{"$f":"+XX!L9","v":0}]
["",{"$f":"+IF(XX!C10=\"\",\"\",XX!C10)","v":""},{"$f":"IF(B9=\"\",\"\",COUNTIFS($B$3:B9,B9))","v":""},{"$f":"IF(B9=\"\",\"\",LOOKUP(B9,DataFIX!$F$3:$F$21,DataFIX!$E$3:$E$21))","v":""},{"$f":"IF(B9=\"\",\"\",LOOKUP(B9,DataFIX!$F$3:$F$41,DataFIX!$G$3:$G$41)+C9)","v":""},{"$f":"+XX!O10","v":"00:00:00"},{"$f":"+XX!E10","v":0},{"$f":"+XX!G10","v":0},{"$f":"+XX!T10","v":0},null,null,{"$f":"+XX!L10","v":0}]
["",{"$f":"+IF(XX!C11=\"\",\"\",XX!C11)","v":""},{"$f":"IF(B10=\"\",\"\",COUNTIFS($B$3:B10,B10))","v":""},{"$f":"IF(B10=\"\",\"\",LOOKUP(B10,DataFIX!$F$3:$F$21,DataFIX!$E$3:$E$21))","v":""},{"$f":"IF(B10=\"\",\"\",LOOKUP(B10,DataFIX!$F$3:$F$41,DataFIX!$G$3:$G$41)+C10)","v":""},{"$f":"+XX!O11","v":"00:00:00"},{"$f":"+XX!E11","v":0},{"$f":"+XX!G11","v":0},{"$f":"+XX!T11","v":0},null,null,{"$f":"+XX!L11","v":0}]
["",{"$f":"+IF(XX!C12=\"\",\"\",XX!C12)","v":""},{"$f":"IF(B11=\"\",\"\",COUNTIFS($B$3:B11,B11))","v":""},{"$f":"IF(B11=\"\",\"\",LOOKUP(B11,DataFIX!$F$3:$F$21,DataFIX!$E$3:$E$21))","v":""},{"$f":"IF(B11=\"\",\"\",LOOKUP(B11,DataFIX!$F$3:$F$41,DataFIX!$G$3:$G$41)+C11)","v":""},{"$f":"+XX!O12","v":"00:00:00"},{"$f":"+XX!E12","v":0},{"$f":"+XX!G12","v":0},{"$f":"+XX!T12","v":0},null,null,{"$f":"+XX!L12","v":0}]
["",{"$f":"+IF(XX!C13=\"\",\"\",XX!C13)","v":""},{"$f":"IF(B12=\"\",\"\",COUNTIFS($B$3:B12,B12))","v":""},{"$f":"IF(B12=\"\",\"\",LOOKUP(B12,DataFIX!$F$3:$F$21,DataFIX!$E$3:$E$21))","v":""},{"$f":"IF(B12=\"\",\"\",LOOKUP(B12,DataFIX!$F$3:$F$41,DataFIX!$G$3:$G$41)+C12)","v":""},{"$f":"+XX!O13","v":"00:00:00"},{"$f":"+XX!E13","v":0},{"$f":"+XX!G13","v":0},{"$f":"+XX!T13","v":0},null,null,{"$f":"+XX!L13","v":0}]
["",{"$f":"+IF(XX!C14=\"\",\"\",XX!C14)","v":""},{"$f":"IF(B13=\"\",\"\",COUNTIFS($B$3:B13,B13))","v":""},{"$f":"IF(B13=\"\",\"\",LOOKUP(B13,DataFIX!$F$3:$F$21,DataFIX!$E$3:$E$21))","v":""},{"$f":"IF(B13=\"\",\"\",LOOKUP(B13,DataFIX!$F$3:$F$41,DataFIX!$G$3:$G$41)+C13)","v":""},{"$f":"+XX!O14","v":"00:00:00"},{"$f":"+XX!E14","v":0},{"$f":"+XX!G14","v":0},{"$f":"+XX!T14","v":0},null,null,{"$f":"+XX!L14","v":0}]
["",{"$f":"+IF(XX!C15=\"\",\"\",XX!C15)","v":""},{"$f":"IF(B14=\"\",\"\",COUNTIFS($B$3:B14,B14))","v":""},{"$f":"IF(B14=\"\",\"\",LOOKUP(B14,DataFIX!$F$3:$F$21,DataFIX!$E$3:$E$21))","v":""},{"$f":"IF(B14=\"\",\"\",LOOKUP(B14,DataFIX!$F$3:$F$41,DataFIX!$G$3:$G$41)+C14)","v":""},{"$f":"+XX!O15","v":"00:00:00"},{"$f":"+XX!E15","v":0},{"$f":"+XX!G15","v":0},{"$f":"+XX!T15","v":0},null,null,{"$f":"+XX!L15","v":0}]
["",{"$f":"+IF(XX!C16=\"\",\"\",XX!C16)","v":""},{"$f":"IF(B15=\"\",\"\",COUNTIFS($B$3:B15,B15))","v":""},{"$f":"IF(B15=\"\",\"\",LOOKUP(B15,DataFIX!$F$3:$F$21,DataFIX!$E$3:$E$21))","v":""},{"$f":"IF(B15=\"\",\"\",LOOKUP(B15,DataFIX!$F$3:$F$41,DataFIX!$G$3:$G$41)+C15)","v":""},{"$f":"+XX!O16","v":"00:00:00"},{"$f":"+XX!E16","v":0},{"$f":"+XX!G16","v":0},{"$f":"+XX!T16","v":0},null,null,{"$f":"+XX!L16","v":0}]
["",{"$f":"+IF(XX!C17=\"\",\"\",XX!C17)","v":""},{"$f":"IF(B16=\"\",\"\",COUNTIFS($B$3:B16,B16))","v":""},{"$f":"IF(B16=\"\",\"\",LOOKUP(B16,DataFIX!$F$3:$F$21,DataFIX!$E$3:$E$21))","v":""},{"$f":"IF(B16=\"\",\"\",LOOKUP(B16,DataFIX!$F$3:$F$41,DataFIX!$G$3:$G$41)+C16)","v":""},{"$f":"+XX!O17","v":"00:00:00"},{"$f":"+XX!E17","v":0},{"$f":"+XX!G17","v":0},{"$f":"+XX!T17","v":0},null,null,{"$f":"+XX!L17","v":0}]
["",{"$f":"+IF(XX!C18=\"\",\"\",XX!C18)","v":""},{"$f":"IF(B17=\"\",\"\",COUNTIFS($B$3:B17,B17))","v":""},{"$f":"IF(B17=\"\",\"\",LOOKUP(B17,DataFIX!$F$3:$F$21,DataFIX!$E$3:$E$21))","v":""},{"$f":"IF(B17=\"\",\"\",LOOKUP(B17,DataFIX!$F$3:$F$41,DataFIX!$G$3:$G$41)+C17)","v":""},{"$f":"+XX!O18","v":"00:00:00"},{"$f":"+XX!E18","v":0},{"$f":"+XX!G18","v":0},{"$f":"+XX!T18","v":0},null,null,{"$f":"+XX!L18","v":0}]
["",{"$f":"+IF(XX!C19=\"\",\"\",XX!C19)","v":""},{"$f":"IF(B18=\"\",\"\",COUNTIFS($B$3:B18,B18))","v":""},{"$f":"IF(B18=\"\",\"\",LOOKUP(B18,DataFIX!$F$3:$F$21,DataFIX!$E$3:$E$21))","v":""},{"$f":"IF(B18=\"\",\"\",LOOKUP(B18,DataFIX!$F$3:$F$41,DataFIX!$G$3:$G$41)+C18)","v":""},{"$f":"+XX!O19","v":"00:00:00"},{"$f":"+XX!E19","v":0},{"$f":"+XX!G19","v":0},{"$f":"+XX!T19","v":0},null,null,{"$f":"+XX!L19","v":0}]
["",{"$f":"+IF(XX!C20=\"\",\"\",XX!C20)","v":""},{"$f":"IF(B19=\"\",\"\",COUNTIFS($B$3:B19,B19))","v":""},{"$f":"IF(B19=\"\",\"\",LOOKUP(B19,DataFIX!$F$3:$F$21,DataFIX!$E$3:$E$21))","v":""},{"$f":"IF(B19=\"\",\"\",LOOKUP(B19,DataFIX!$F$3:$F$41,DataFIX!$G$3:$G$41)+C19)","v":""},{"$f":"+XX!O20","v":"00:00:00"},{"$f":"+XX!E20","v":0},{"$f":"+XX!G20","v":0},{"$f":"+XX!T20","v":0},null,null,{"$f":"+XX!L20","v":0}]
["",{"$f":"+IF(XX!C21=\"\",\"\",XX!C21)","v":""},{"$f":"IF(B20=\"\",\"\",COUNTIFS($B$3:B20,B20))","v":""},{"$f":"IF(B20=\"\",\"\",LOOKUP(B20,DataFIX!$F$3:$F$21,DataFIX!$E$3:$E$21))","v":""},{"$f":"IF(B20=\"\",\"\",LOOKUP(B20,DataFIX!$F$3:$F$41,DataFIX!$G$3:$G$41)+C20)","v":""},{"$f":"+XX!O21","v":"00:00:00"},{"$f":"+XX!E21","v":0},{"$f":"+XX!G21","v":0},{"$f":"+XX!T21","v":0},null,null,{"$f":"+XX!L21","v":0}]
["",{"$f":"+IF(XX!C22=\"\",\"\",XX!C22)","v":""},{"$f":"IF(B21=\"\",\"\",COUNTIFS($B$3:B21,B21))","v":""},{"$f":"IF(B21=\"\",\"\",LOOKUP(B21,DataFIX!$F$3:$F$21,DataFIX!$E$3:$E$21))","v":""},{"$f":"IF(B21=\"\",\"\",LOOKUP(B21,DataFIX!$F$3:$F$41,DataFIX!$G$3:$G$41)+C21)","v":""},{"$f":"+XX!O22","v":"00:00:00"},{"$f":"+XX!E22","v":0},{"$f":"+XX!G22","v":0},{"$f":"+XX!T22","v":0},null,null,{"$f":"+XX!L22","v":0}]
["",{"$f":"+IF(XX!C23=\"\",\"\",XX!C23)","v":""},{"$f":"IF(B22=\"\",\"\",COUNTIFS($B$3:B22,B22))","v":""},{"$f":"IF(B22=\"\",\"\",LOOKUP(B22,DataFIX!$F$3:$F$21,DataFIX!$E$3:$E$21))","v":""},{"$f":"IF(B22=\"\",\"\",LOOKUP(B22,DataFIX!$F$3:$F$41,DataFIX!$G$3:$G$41)+C22)","v":""},{"$f":"+XX!O23","v":"00:00:00"},{"$f":"+XX!E23","v":0},{"$f":"+XX!G23","v":0},{"$f":"+XX!T23","v":0},null,null,{"$f":"+XX!L23","v":0}]
["",{"$f":"+IF(XX!C24=\"\",\"\",XX!C24)","v":""},{"$f":"IF(B23=\"\",\"\",COUNTIFS($B$3:B23,B23))","v":""},{"$f":"IF(B23=\"\",\"\",LOOKUP(B23,DataFIX!$F$3:$F$21,DataFIX!$E$3:$E$21))","v":""},{"$f":"IF(B23=\"\",\"\",LOOKUP(B23,DataFIX!$F$3:$F$41,DataFIX!$G$3:$G$41)+C23)","v":""},{"$f":"+XX!O24","v":"00:00:00"},{"$f":"+XX!E24","v":0},{"$f":"+XX!G24","v":0},{"$f":"+XX!T24","v":0},null,null,{"$f":"+XX!L24","v":0}]
["",{"$f":"+IF(XX!C25=\"\",\"\",XX!C25)","v":""},{"$f":"IF(B24=\"\",\"\",COUNTIFS($B$3:B24,B24))","v":""},{"$f":"IF(B24=\"\",\"\",LOOKUP(B24,DataFIX!$F$3:$F$21,DataFIX!$E$3:$E$21))","v":""},{"$f":"IF(B24=\"\",\"\",LOOKUP(B24,DataFIX!$F$3:$F$41,DataFIX!$G$3:$G$41)+C24)","v":""},{"$f":"+XX!O25","v":"00:00:00"},{"$f":"+XX!E25","v":0},{"$f":"+XX!G25","v":0},{"$f":"+XX!T25","v":0},null,null,{"$f":"+XX!L25","v":0}]
["",{"$f":"+IF(XX!C26=\"\",\"\",XX!C26)","v":""},{"$f":"IF(B25=\"\",\"\",COUNTIFS($B$3:B25,B25))","v":""},{"$f":"IF(B25=\"\",\"\",LOOKUP(B25,DataFIX!$F$3:$F$21,DataFIX!$E$3:$E$21))","v":""},{"$f":"IF(B25=\"\",\"\",LOOKUP(B25,DataFIX!$F$3:$F$41,DataFIX!$G$3:$G$41)+C25)","v":""},{"$f":"+XX!O26","v":"00:00:00"},{"$f":"+XX!E26","v":0},{"$f":"+XX!G26","v":0},{"$f":"+XX!T26","v":0},null,null,{"$f":"+XX!L26","v":0}]
["",{"$f":"+IF(XX!C27=\"\",\"\",XX!C27)","v":""},{"$f":"IF(B26=\"\",\"\",COUNTIFS($B$3:B26,B26))","v":""},{"$f":"IF(B26=\"\",\"\",LOOKUP(B26,DataFIX!$F$3:$F$21,DataFIX!$E$3:$E$21))","v":""},{"$f":"IF(B26=\"\",\"\",LOOKUP(B26,DataFIX!$F$3:$F$41,DataFIX!$G$3:$G$41)+C26)","v":""},{"$f":"+XX!O27","v":"00:00:00"},{"$f":"+XX!E27","v":0},{"$f":"+XX!G27","v":0},{"$f":"+XX!T27","v":0},null,null,{"$f":"+XX!L27","v":0}]
["",{"$f":"+IF(XX!C28=\"\",\"\",XX!C28)","v":""},{"$f":"IF(B27=\"\",\"\",COUNTIFS($B$3:B27,B27))","v":""},{"$f":"IF(B27=\"\",\"\",LOOKUP(B27,DataFIX!$F$3:$F$21,DataFIX!$E$3:$E$21))","v":""},{"$f":"IF(B27=\"\",\"\",LOOKUP(B27,DataFIX!$F$3:$F$41,DataFIX!$G$3:$G$41)+C27)","v":""},{"$f":"+XX!O28","v":"00:00:00"},{"$f":"+XX!E28","v":0},{"$f":"+XX!G28","v":0},{"$f":"+XX!T28","v":0},null,null,{"$f":"+XX!L28","v":0}]
["",{"$f":"+IF(XX!C29=\"\",\"\",XX!C29)","v":""},{"$f":"IF(B28=\"\",\"\",COUNTIFS($B$3:B28,B28))","v":""},{"$f":"IF(B28=\"\",\"\",LOOKUP(B28,DataFIX!$F$3:$F$21,DataFIX!$E$3:$E$21))","v":""},{"$f":"IF(B28=\"\",\"\",LOOKUP(B28,DataFIX!$F$3:$F$41,DataFIX!$G$3:$G$41)+C28)","v":""},{"$f":"+XX!O29","v":"00:00:00"},{"$f":"+XX!E29","v":0},{"$f":"+XX!G29","v":0},{"$f":"+XX!T29","v":0},null,null,{"$f":"+XX!L29","v":0}]
["",{"$f":"+IF(XX!C30=\"\",\"\",XX!C30)","v":""},{"$f":"IF(B29=\"\",\"\",COUNTIFS($B$3:B29,B29))","v":""},{"$f":"IF(B29=\"\",\"\",LOOKUP(B29,DataFIX!$F$3:$F$21,DataFIX!$E$3:$E$21))","v":""},{"$f":"IF(B29=\"\",\"\",LOOKUP(B29,DataFIX!$F$3:$F$41,DataFIX!$G$3:$G$41)+C29)","v":""},{"$f":"+XX!O30","v":"00:00:00"},{"$f":"+XX!E30","v":0},{"$f":"+XX!G30","v":0},{"$f":"+XX!T30","v":0},null,null,{"$f":"+XX!L30","v":0}]
["",{"$f":"+IF(XX!C31=\"\",\"\",XX!C31)","v":""},{"$f":"IF(B30=\"\",\"\",COUNTIFS($B$3:B30,B30))","v":""},{"$f":"IF(B30=\"\",\"\",LOOKUP(B30,DataFIX!$F$3:$F$21,DataFIX!$E$3:$E$21))","v":""},{"$f":"IF(B30=\"\",\"\",LOOKUP(B30,DataFIX!$F$3:$F$41,DataFIX!$G$3:$G$41)+C30)","v":""},{"$f":"+XX!O31","v":"00:00:00"},{"$f":"+XX!E31","v":0},{"$f":"+XX!G31","v":0},{"$f":"+XX!T31","v":0},null,null,{"$f":"+XX!L31","v":0}]
["",{"$f":"+IF(XX!C32=\"\",\"\",XX!C32)","v":""},{"$f":"IF(B31=\"\",\"\",COUNTIFS($B$3:B31,B31))","v":""},{"$f":"IF(B31=\"\",\"\",LOOKUP(B31,DataFIX!$F$3:$F$21,DataFIX!$E$3:$E$21))","v":""},{"$f":"IF(B31=\"\",\"\",LOOKUP(B31,DataFIX!$F$3:$F$41,DataFIX!$G$3:$G$41)+C31)","v":""},{"$f":"+XX!O32","v":"00:00:00"},{"$f":"+XX!E32","v":0},{"$f":"+XX!G32","v":0},{"$f":"+XX!T32","v":0},null,null,{"$f":"+XX!L32","v":0}]
["",{"$f":"+IF(XX!C33=\"\",\"\",XX!C33)","v":""},{"$f":"IF(B32=\"\",\"\",COUNTIFS($B$3:B32,B32))","v":""},{"$f":"IF(B32=\"\",\"\",LOOKUP(B32,DataFIX!$F$3:$F$21,DataFIX!$E$3:$E$21))","v":""},{"$f":"IF(B32=\"\",\"\",LOOKUP(B32,DataFIX!$F$3:$F$41,DataFIX!$G$3:$G$41)+C32)","v":""},{"$f":"+XX!O33","v":"00:00:00"},{"$f":"+XX!E33","v":0},{"$f":"+XX!G33","v":0},{"$f":"+XX!T33","v":0},null,null,{"$f":"+XX!L33","v":0}]
["",{"$f":"+IF(XX!C34=\"\",\"\",XX!C34)","v":""},{"$f":"IF(B33=\"\",\"\",COUNTIFS($B$3:B33,B33))","v":""},{"$f":"IF(B33=\"\",\"\",LOOKUP(B33,DataFIX!$F$3:$F$21,DataFIX!$E$3:$E$21))","v":""},{"$f":"IF(B33=\"\",\"\",LOOKUP(B33,DataFIX!$F$3:$F$41,DataFIX!$G$3:$G$41)+C33)","v":""},{"$f":"+XX!O34","v":"00:00:00"},{"$f":"+XX!E34","v":0},{"$f":"+XX!G34","v":0},{"$f":"+XX!T34","v":0},null,null,{"$f":"+XX!L34","v":0}]
["",{"$f":"+IF(XX!C35=\"\",\"\",XX!C35)","v":""},{"$f":"IF(B34=\"\",\"\",COUNTIFS($B$3:B34,B34))","v":""},{"$f":"IF(B34=\"\",\"\",LOOKUP(B34,DataFIX!$F$3:$F$21,DataFIX!$E$3:$E$21))","v":""},{"$f":"IF(B34=\"\",\"\",LOOKUP(B34,DataFIX!$F$3:$F$41,DataFIX!$G$3:$G$41)+C34)","v":""},{"$f":"+XX!O35","v":"00:00:00"},{"$f":"+XX!E35","v":0},{"$f":"+XX!G35","v":0},{"$f":"+XX!T35","v":0},null,null,{"$f":"+XX!L35","v":0}]
["",{"$f":"+IF(XX!C36=\"\",\"\",XX!C36)","v":""},{"$f":"IF(B35=\"\",\"\",COUNTIFS($B$3:B35,B35))","v":""},{"$f":"IF(B35=\"\",\"\",LOOKUP(B35,DataFIX!$F$3:$F$21,DataFIX!$E$3:$E$21))","v":""},{"$f":"IF(B35=\"\",\"\",LOOKUP(B35,DataFIX!$F$3:$F$41,DataFIX!$G$3:$G$41)+C35)","v":""},{"$f":"+XX!O36","v":"00:00:00"},{"$f":"+XX!E36","v":0},{"$f":"+XX!G36","v":0},{"$f":"+XX!T36","v":0},null,null,{"$f":"+XX!L36","v":0}]
["",{"$f":"+IF(XX!C37=\"\",\"\",XX!C37)","v":""},{"$f":"IF(B36=\"\",\"\",COUNTIFS($B$3:B36,B36))","v":""},{"$f":"IF(B36=\"\",\"\",LOOKUP(B36,DataFIX!$F$3:$F$21,DataFIX!$E$3:$E$21))","v":""},{"$f":"IF(B36=\"\",\"\",LOOKUP(B36,DataFIX!$F$3:$F$41,DataFIX!$G$3:$G$41)+C36)","v":""},{"$f":"+XX!O37","v":"00:00:00"},{"$f":"+XX!E37","v":0},{"$f":"+XX!G37","v":0},{"$f":"+XX!T37","v":0},null,null,{"$f":"+XX!L37","v":0}]
["",{"$f":"+IF(XX!C38=\"\",\"\",XX!C38)","v":""},{"$f":"IF(B37=\"\",\"\",COUNTIFS($B$3:B37,B37))","v":""},{"$f":"IF(B37=\"\",\"\",LOOKUP(B37,DataFIX!$F$3:$F$21,DataFIX!$E$3:$E$21))","v":""},{"$f":"IF(B37=\"\",\"\",LOOKUP(B37,DataFIX!$F$3:$F$41,DataFIX!$G$3:$G$41)+C37)","v":""},{"$f":"+XX!O38","v":"00:00:00"},{"$f":"+XX!E38","v":0},{"$f":"+XX!G38","v":0},{"$f":"+XX!T38","v":0},null,null,{"$f":"+XX!L38","v":0}]
["",{"$f":"+IF(XX!C39=\"\",\"\",XX!C39)","v":""},{"$f":"IF(B38=\"\",\"\",COUNTIFS($B$3:B38,B38))","v":""},{"$f":"IF(B38=\"\",\"\",LOOKUP(B38,DataFIX!$F$3:$F$21,DataFIX!$E$3:$E$21))","v":""},{"$f":"IF(B38=\"\",\"\",LOOKUP(B38,DataFIX!$F$3:$F$41,DataFIX!$G$3:$G$41)+C38)","v":""},{"$f":"+XX!O39","v":"00:00:00"},{"$f":"+XX!E39","v":0},{"$f":"+XX!G39","v":0},{"$f":"+XX!T39","v":0},null,null,{"$f":"+XX!L39","v":0}]
["",{"$f":"+IF(XX!C40=\"\",\"\",XX!C40)","v":""},{"$f":"IF(B39=\"\",\"\",COUNTIFS($B$3:B39,B39))","v":""},{"$f":"IF(B39=\"\",\"\",LOOKUP(B39,DataFIX!$F$3:$F$21,DataFIX!$E$3:$E$21))","v":""},{"$f":"IF(B39=\"\",\"\",LOOKUP(B39,DataFIX!$F$3:$F$41,DataFIX!$G$3:$G$41)+C39)","v":""},{"$f":"+XX!O40","v":"00:00:00"},{"$f":"+XX!E40","v":0},{"$f":"+XX!G40","v":0},{"$f":"+XX!T40","v":0},null,null,{"$f":"+XX!L40","v":0}]
["",{"$f":"+IF(XX!C41=\"\",\"\",XX!C41)","v":""},{"$f":"IF(B40=\"\",\"\",COUNTIFS($B$3:B40,B40))","v":""},{"$f":"IF(B40=\"\",\"\",LOOKUP(B40,DataFIX!$F$3:$F$21,DataFIX!$E$3:$E$21))","v":""},{"$f":"IF(B40=\"\",\"\",LOOKUP(B40,DataFIX!$F$3:$F$41,DataFIX!$G$3:$G$41)+C40)","v":""},{"$f":"+XX!O41","v":"00:00:00"},{"$f":"+XX!E41","v":0},{"$f":"+XX!G41","v":0},{"$f":"+XX!T41","v":0},null,null,{"$f":"+XX!L41","v":0}]
["",{"$f":"+IF(XX!C42=\"\",\"\",XX!C42)","v":""},{"$f":"IF(B41=\"\",\"\",COUNTIFS($B$3:B41,B41))","v":""},{"$f":"IF(B41=\"\",\"\",LOOKUP(B41,DataFIX!$F$3:$F$21,DataFIX!$E$3:$E$21))","v":""},{"$f":"IF(B41=\"\",\"\",LOOKUP(B41,DataFIX!$F$3:$F$41,DataFIX!$G$3:$G$41)+C41)","v":""},{"$f":"+XX!O42","v":"00:00:00"},{"$f":"+XX!E42","v":0},{"$f":"+XX!G42","v":0},{"$f":"+XX!T42","v":0},null,null,{"$f":"+XX!L42","v":0}]
["",{"$f":"+IF(XX!C43=\"\",\"\",XX!C43)","v":""},{"$f":"IF(B42=\"\",\"\",COUNTIFS($B$3:B42,B42))","v":""},{"$f":"IF(B42=\"\",\"\",LOOKUP(B42,DataFIX!$F$3:$F$21,DataFIX!$E$3:$E$21))","v":""},{"$f":"IF(B42=\"\",\"\",LOOKUP(B42,DataFIX!$F$3:$F$41,DataFIX!$G$3:$G$41)+C42)","v":""},{"$f":"+XX!O43","v":"00:00:00"},{"$f":"+XX!E43","v":0},{"$f":"+XX!G43","v":0},{"$f":"+XX!T43","v":0},null,null,{"$f":"+XX!L43","v":0}]
["",{"$f":"+IF(XX!C44=\"\",\"\",XX!C44)","v":""},{"$f":"IF(B43=\"\",\"\",COUNTIFS($B$3:B43,B43))","v":""},{"$f":"IF(B43=\"\",\"\",LOOKUP(B43,DataFIX!$F$3:$F$21,DataFIX!$E$3:$E$21))","v":""},{"$f":"IF(B43=\"\",\"\",LOOKUP(B43,DataFIX!$F$3:$F$41,DataFIX!$G$3:$G$41)+C43)","v":""},{"$f":"+XX!O44","v":"00:00:00"},{"$f":"+XX!E44","v":0},{"$f":"+XX!G44","v":0},{"$f":"+XX!T44","v":0},null,null,{"$f":"+XX!L44","v":0}]
["",{"$f":"+IF(XX!C45=\"\",\"\",XX!C45)","v":""},{"$f":"IF(B44=\"\",\"\",COUNTIFS($B$3:B44,B44))","v":""},{"$f":"IF(B44=\"\",\"\",LOOKUP(B44,DataFIX!$F$3:$F$21,DataFIX!$E$3:$E$21))","v":""},{"$f":"IF(B44=\"\",\"\",LOOKUP(B44,DataFIX!$F$3:$F$41,DataFIX!$G$3:$G$41)+C44)","v":""},{"$f":"+XX!O45","v":"00:00:00"},{"$f":"+XX!E45","v":0},{"$f":"+XX!G45","v":0},{"$f":"+XX!T45","v":0},null,null,{"$f":"+XX!L45","v":0}]
["",{"$f":"+IF(XX!C46=\"\",\"\",XX!C46)","v":""},{"$f":"IF(B45=\"\",\"\",COUNTIFS($B$3:B45,B45))","v":""},{"$f":"IF(B45=\"\",\"\",LOOKUP(B45,DataFIX!$F$3:$F$21,DataFIX!$E$3:$E$21))","v":""},{"$f":"IF(B45=\"\",\"\",LOOKUP(B45,DataFIX!$F$3:$F$41,DataFIX!$G$3:$G$41)+C45)","v":""},{"$f":"+XX!O46","v":"00:00:00"},{"$f":"+XX!E46","v":0},{"$f":"+XX!G46","v":0},{"$f":"+XX!T46","v":0},null,null,{"$f":"+XX!L46","v":0}]
["",{"$f":"+IF(XX!C47=\"\",\"\",XX!C47)","v":""},{"$f":"IF(B46=\"\",\"\",COUNTIFS($B$3:B46,B46))","v":""},{"$f":"IF(B46=\"\",\"\",LOOKUP(B46,DataFIX!$F$3:$F$21,DataFIX!$E$3:$E$21))","v":""},{"$f":"IF(B46=\"\",\"\",LOOKUP(B46,DataFIX!$F$3:$F$41,DataFIX!$G$3:$G$41)+C46)","v":""},{"$f":"+XX!O47","v":"00:00:00"},{"$f":"+XX!E47","v":0},{"$f":"+XX!G47","v":0},{"$f":"+XX!T47","v":0},null,null,{"$f":"+XX!L47","v":0}]
["",{"$f":"+IF(XX!C48=\"\",\"\",XX!C48)","v":""},{"$f":"IF(B47=\"\",\"\",COUNTIFS($B$3:B47,B47))","v":""},{"$f":"IF(B47=\"\",\"\",LOOKUP(B47,DataFIX!$F$3:$F$21,DataFIX!$E$3:$E$21))","v":""},{"$f":"IF(B47=\"\",\"\",LOOKUP(B47,DataFIX!$F$3:$F$41,DataFIX!$G$3:$G$41)+C47)","v":""},{"$f":"+XX!O48","v":"00:00:00"},{"$f":"+XX!E48","v":0},{"$f":"+XX!G48","v":0},{"$f":"+XX!T48","v":0},null,null,{"$f":"+XX!L48","v":0}]
["",{"$f":"+IF(XX!C49=\"\",\"\",XX!C49)","v":""},{"$f":"IF(B48=\"\",\"\",COUNTIFS($B$3:B48,B48))","v":""},{"$f":"IF(B48=\"\",\"\",LOOKUP(B48,DataFIX!$F$3:$F$21,DataFIX!$E$3:$E$21))","v":""},{"$f":"IF(B48=\"\",\"\",LOOKUP(B48,DataFIX!$F$3:$F$41,DataFIX!$G$3:$G$41)+C48)","v":""},{"$f":"+XX!O49","v":"00:00:00"},{"$f":"+XX!E49","v":0},{"$f":"+XX!G49","v":0},{"$f":"+XX!T49","v":0},null,null,{"$f":"+XX!L49","v":0}]
["",{"$f":"+IF(XX!C50=\"\",\"\",XX!C50)","v":""},{"$f":"IF(B49=\"\",\"\",COUNTIFS($B$3:B49,B49))","v":""},{"$f":"IF(B49=\"\",\"\",LOOKUP(B49,DataFIX!$F$3:$F$21,DataFIX!$E$3:$E$21))","v":""},{"$f":"IF(B49=\"\",\"\",LOOKUP(B49,DataFIX!$F$3:$F$41,DataFIX!$G$3:$G$41)+C49)","v":""},{"$f":"+XX!O50","v":"00:00:00"},{"$f":"+XX!E50","v":0},{"$f":"+XX!G50","v":0},{"$f":"+XX!T50","v":0},null,null,{"$f":"+XX!L50","v":0}]
["",{"$f":"+IF(XX!C51=\"\",\"\",XX!C51)","v":""},{"$f":"IF(B50=\"\",\"\",COUNTIFS($B$3:B50,B50))","v":""},{"$f":"IF(B50=\"\",\"\",LOOKUP(B50,DataFIX!$F$3:$F$21,DataFIX!$E$3:$E$21))","v":""},{"$f":"IF(B50=\"\",\"\",LOOKUP(B50,DataFIX!$F$3:$F$41,DataFIX!$G$3:$G$41)+C50)","v":""},{"$f":"+XX!O51","v":"00:00:00"},{"$f":"+XX!E51","v":0},{"$f":"+XX!G51","v":0},{"$f":"+XX!T51","v":0},null,null,{"$f":"+XX!L51","v":0}]
["",{"$f":"+IF(XX!C52=\"\",\"\",XX!C52)","v":""},{"$f":"IF(B51=\"\",\"\",COUNTIFS($B$3:B51,B51))","v":""},{"$f":"IF(B51=\"\",\"\",LOOKUP(B51,DataFIX!$F$3:$F$21,DataFIX!$E$3:$E$21))","v":""},{"$f":"IF(B51=\"\",\"\",LOOKUP(B51,DataFIX!$F$3:$F$41,DataFIX!$G$3:$G$41)+C51)","v":""},{"$f":"+XX!O52","v":"00:00:00"},{"$f":"+XX!E52","v":0},{"$f":"+XX!G52","v":0},{"$f":"+XX!T52","v":0},null,null,{"$f":"+XX!L52","v":0}]
["",{"$f":"+IF(XX!C53=\"\",\"\",XX!C53)","v":""},{"$f":"IF(B52=\"\",\"\",COUNTIFS($B$3:B52,B52))","v":""},{"$f":"IF(B52=\"\",\"\",LOOKUP(B52,DataFIX!$F$3:$F$21,DataFIX!$E$3:$E$21))","v":""},{"$f":"IF(B52=\"\",\"\",LOOKUP(B52,DataFIX!$F$3:$F$41,DataFIX!$G$3:$G$41)+C52)","v":""},{"$f":"+XX!O53","v":"00:00:00"},{"$f":"+XX!E53","v":0},{"$f":"+XX!G53","v":0},{"$f":"+XX!T53","v":0},null,null,{"$f":"+XX!L53","v":0}]
["",{"$f":"+IF(XX!C54=\"\",\"\",XX!C54)","v":""},{"$f":"IF(B53=\"\",\"\",COUNTIFS($B$3:B53,B53))","v":""},{"$f":"IF(B53=\"\",\"\",LOOKUP(B53,DataFIX!$F$3:$F$21,DataFIX!$E$3:$E$21))","v":""},{"$f":"IF(B53=\"\",\"\",LOOKUP(B53,DataFIX!$F$3:$F$41,DataFIX!$G$3:$G$41)+C53)","v":""},{"$f":"+XX!O54","v":"00:00:00"},{"$f":"+XX!E54","v":0},{"$f":"+XX!G54","v":0},{"$f":"+XX!T54","v":0},null,null,{"$f":"+XX!L54","v":0}]
["",{"$f":"+IF(XX!C55=\"\",\"\",XX!C55)","v":""},{"$f":"IF(B54=\"\",\"\",COUNTIFS($B$3:B54,B54))","v":""},{"$f":"IF(B54=\"\",\"\",LOOKUP(B54,DataFIX!$F$3:$F$21,DataFIX!$E$3:$E$21))","v":""},{"$f":"IF(B54=\"\",\"\",LOOKUP(B54,DataFIX!$F$3:$F$41,DataFIX!$G$3:$G$41)+C54)","v":""},{"$f":"+XX!O55","v":"00:00:00"},{"$f":"+XX!E55","v":0},{"$f":"+XX!G55","v":0},{"$f":"+XX!T55","v":0},null,null,{"$f":"+XX!L55","v":0}]
["",{"$f":"+IF(XX!C56=\"\",\"\",XX!C56)","v":""},{"$f":"IF(B55=\"\",\"\",COUNTIFS($B$3:B55,B55))","v":""},{"$f":"IF(B55=\"\",\"\",LOOKUP(B55,DataFIX!$F$3:$F$21,DataFIX!$E$3:$E$21))","v":""},{"$f":"IF(B55=\"\",\"\",LOOKUP(B55,DataFIX!$F$3:$F$41,DataFIX!$G$3:$G$41)+C55)","v":""},{"$f":"+XX!O56","v":"00:00:00"},{"$f":"+XX!E56","v":0},{"$f":"+XX!G56","v":0},{"$f":"+XX!T56","v":0},null,null,{"$f":"+XX!L56","v":0}]
["",{"$f":"+IF(XX!C57=\"\",\"\",XX!C57)","v":""},{"$f":"IF(B56=\"\",\"\",COUNTIFS($B$3:B56,B56))","v":""},{"$f":"IF(B56=\"\",\"\",LOOKUP(B56,DataFIX!$F$3:$F$21,DataFIX!$E$3:$E$21))","v":""},{"$f":"IF(B56=\"\",\"\",LOOKUP(B56,DataFIX!$F$3:$F$41,DataFIX!$G$3:$G$41)+C56)","v":""},{"$f":"+XX!O57","v":"00:00:00"},{"$f":"+XX!E57","v":0},{"$f":"+XX!G57","v":0},{"$f":"+XX!T57","v":0},null,null,{"$f":"+XX!L57","v":0}]
["",{"$f":"+IF(XX!C58=\"\",\"\",XX!C58)","v":""},{"$f":"IF(B57=\"\",\"\",COUNTIFS($B$3:B57,B57))","v":""},{"$f":"IF(B57=\"\",\"\",LOOKUP(B57,DataFIX!$F$3:$F$21,DataFIX!$E$3:$E$21))","v":""},{"$f":"IF(B57=\"\",\"\",LOOKUP(B57,DataFIX!$F$3:$F$41,DataFIX!$G$3:$G$41)+C57)","v":""},{"$f":"+XX!O58","v":"00:00:00"},{"$f":"+XX!E58","v":0},{"$f":"+XX!G58","v":0},{"$f":"+XX!T58","v":0},null,null,{"$f":"+XX!L58","v":0}]
["",{"$f":"+IF(XX!C59=\"\",\"\",XX!C59)","v":""},{"$f":"IF(B58=\"\",\"\",COUNTIFS($B$3:B58,B58))","v":""},{"$f":"IF(B58=\"\",\"\",LOOKUP(B58,DataFIX!$F$3:$F$21,DataFIX!$E$3:$E$21))","v":""},{"$f":"IF(B58=\"\",\"\",LOOKUP(B58,DataFIX!$F$3:$F$41,DataFIX!$G$3:$G$41)+C58)","v":""},{"$f":"+XX!O59","v":"00:00:00"},{"$f":"+XX!E59","v":0},{"$f":"+XX!G59","v":0},{"$f":"+XX!T59","v":0},null,null,{"$f":"+XX!L59","v":0}]
["",{"$f":"+IF(XX!C60=\"\",\"\",XX!C60)","v":""},{"$f":"IF(B59=\"\",\"\",COUNTIFS($B$3:B59,B59))","v":""},{"$f":"IF(B59=\"\",\"\",LOOKUP(B59,DataFIX!$F$3:$F$21,DataFIX!$E$3:$E$21))","v":""},{"$f":"IF(B59=\"\",\"\",LOOKUP(B59,DataFIX!$F$3:$F$41,DataFIX!$G$3:$G$41)+C59)","v":""},{"$f":"+XX!O60","v":"00:00:00"},{"$f":"+XX!E60","v":0},{"$f":"+XX!G60","v":0},{"$f":"+XX!T60","v":0},null,null,{"$f":"+XX!L60","v":0}]
["",{"$f":"+IF(XX!C61=\"\",\"\",XX!C61)","v":""},{"$f":"IF(B60=\"\",\"\",COUNTIFS($B$3:B60,B60))","v":""},{"$f":"IF(B60=\"\",\"\",LOOKUP(B60,DataFIX!$F$3:$F$21,DataFIX!$E$3:$E$21))","v":""},{"$f":"IF(B60=\"\",\"\",LOOKUP(B60,DataFIX!$F$3:$F$41,DataFIX!$G$3:$G$41)+C60)","v":""},{"$f":"+XX!O61","v":"00:00:00"},{"$f":"+XX!E61","v":0},{"$f":"+XX!G61","v":0},{"$f":"+XX!T61","v":0},null,null,{"$f":"+XX!L61","v":0}]
["",{"$f":"+IF(XX!C62=\"\",\"\",XX!C62)","v":""},{"$f":"IF(B61=\"\",\"\",COUNTIFS($B$3:B61,B61))","v":""},{"$f":"IF(B61=\"\",\"\",LOOKUP(B61,DataFIX!$F$3:$F$21,DataFIX!$E$3:$E$21))","v":""},{"$f":"IF(B61=\"\",\"\",LOOKUP(B61,DataFIX!$F$3:$F$41,DataFIX!$G$3:$G$41)+C61)","v":""},{"$f":"+XX!O62","v":"00:00:00"},{"$f":"+XX!E62","v":0},{"$f":"+XX!G62","v":0},{"$f":"+XX!T62","v":0},null,null,{"$f":"+XX!L62","v":0}]
["",{"$f":"+IF(XX!C63=\"\",\"\",XX!C63)","v":""},{"$f":"IF(B62=\"\",\"\",COUNTIFS($B$3:B62,B62))","v":""},{"$f":"IF(B62=\"\",\"\",LOOKUP(B62,DataFIX!$F$3:$F$21,DataFIX!$E$3:$E$21))","v":""},{"$f":"IF(B62=\"\",\"\",LOOKUP(B62,DataFIX!$F$3:$F$41,DataFIX!$G$3:$G$41)+C62)","v":""},{"$f":"+XX!O63","v":"00:00:00"},{"$f":"+XX!E63","v":0},{"$f":"+XX!G63","v":0},{"$f":"+XX!T63","v":0},null,null,{"$f":"+XX!L63","v":0}]
["",{"$f":"+IF(XX!C64=\"\",\"\",XX!C64)","v":""},{"$f":"IF(B63=\"\",\"\",COUNTIFS($B$3:B63,B63))","v":""},{"$f":"IF(B63=\"\",\"\",LOOKUP(B63,DataFIX!$F$3:$F$21,DataFIX!$E$3:$E$21))","v":""},{"$f":"IF(B63=\"\",\"\",LOOKUP(B63,DataFIX!$F$3:$F$41,DataFIX!$G$3:$G$41)+C63)","v":""},{"$f":"+XX!O64","v":"00:00:00"},{"$f":"+XX!E64","v":0},{"$f":"+XX!G64","v":0},{"$f":"+XX!T64","v":0},null,null,{"$f":"+XX!L64","v":0}]
["",{"$f":"+IF(XX!C65=\"\",\"\",XX!C65)","v":""},{"$f":"IF(B64=\"\",\"\",COUNTIFS($B$3:B64,B64))","v":""},{"$f":"IF(B64=\"\",\"\",LOOKUP(B64,DataFIX!$F$3:$F$21,DataFIX!$E$3:$E$21))","v":""},{"$f":"IF(B64=\"\",\"\",LOOKUP(B64,DataFIX!$F$3:$F$41,DataFIX!$G$3:$G$41)+C64)","v":""},{"$f":"+XX!O65","v":"00:00:00"},{"$f":"+XX!E65","v":0},{"$f":"+XX!G65","v":0},{"$f":"+XX!T65","v":0},null,null,{"$f":"+XX!L65","v":0}]
["",{"$f":"+IF(XX!C66=\"\",\"\",XX!C66)","v":""},{"$f":"IF(B65=\"\",\"\",COUNTIFS($B$3:B65,B65))","v":""},{"$f":"IF(B65=\"\",\"\",LOOKUP(B65,DataFIX!$F$3:$F$21,DataFIX!$E$3:$E$21))","v":""},{"$f":"IF(B65=\"\",\"\",LOOKUP(B65,DataFIX!$F$3:$F$41,DataFIX!$G$3:$G$41)+C65)","v":""},{"$f":"+XX!O66","v":"00:00:00"},{"$f":"+XX!E66","v":0},{"$f":"+XX!G66","v":0},{"$f":"+XX!T66","v":0},null,null,{"$f":"+XX!L66","v":0}]
["",{"$f":"+IF(XX!C67=\"\",\"\",XX!C67)","v":""},{"$f":"IF(B66=\"\",\"\",COUNTIFS($B$3:B66,B66))","v":""},{"$f":"IF(B66=\"\",\"\",LOOKUP(B66,DataFIX!$F$3:$F$21,DataFIX!$E$3:$E$21))","v":""},{"$f":"IF(B66=\"\",\"\",LOOKUP(B66,DataFIX!$F$3:$F$41,DataFIX!$G$3:$G$41)+C66)","v":""},{"$f":"+XX!O67","v":"00:00:00"},{"$f":"+XX!E67","v":0},{"$f":"+XX!G67","v":0},{"$f":"+XX!T67","v":0},null,null,{"$f":"+XX!L67","v":0}]
["",{"$f":"+IF(XX!C68=\"\",\"\",XX!C68)","v":""},{"$f":"IF(B67=\"\",\"\",COUNTIFS($B$3:B67,B67))","v":""},{"$f":"IF(B67=\"\",\"\",LOOKUP(B67,DataFIX!$F$3:$F$21,DataFIX!$E$3:$E$21))","v":""},{"$f":"IF(B67=\"\",\"\",LOOKUP(B67,DataFIX!$F$3:$F$41,DataFIX!$G$3:$G$41)+C67)","v":""},{"$f":"+XX!O68","v":"00:00:00"},{"$f":"+XX!E68","v":0},{"$f":"+XX!G68","v":0},{"$f":"+XX!T68","v":0},null,null,{"$f":"+XX!L68","v":0}]
["",{"$f":"+IF(XX!C69=\"\",\"\",XX!C69)","v":""},{"$f":"IF(B68=\"\",\"\",COUNTIFS($B$3:B68,B68))","v":""},{"$f":"IF(B68=\"\",\"\",LOOKUP(B68,DataFIX!$F$3:$F$21,DataFIX!$E$3:$E$21))","v":""},{"$f":"IF(B68=\"\",\"\",LOOKUP(B68,DataFIX!$F$3:$F$41,DataFIX!$G$3:$G$41)+C68)","v":""},{"$f":"+XX!O69","v":"00:00:00"},{"$f":"+XX!E69","v":0},{"$f":"+XX!G69","v":0},{"$f":"+XX!T69","v":0},null,null,{"$f":"+XX!L69","v":0}]
["",{"$f":"+IF(XX!C70=\"\",\"\",XX!C70)","v":""},{"$f":"IF(B69=\"\",\"\",COUNTIFS($B$3:B69,B69))","v":""},{"$f":"IF(B69=\"\",\"\",LOOKUP(B69,DataFIX!$F$3:$F$21,DataFIX!$E$3:$E$21))","v":""},{"$f":"IF(B69=\"\",\"\",LOOKUP(B69,DataFIX!$F$3:$F$41,DataFIX!$G$3:$G$41)+C69)","v":""},{"$f":"+XX!O70","v":"00:00:00"},{"$f":"+XX!E70","v":0},{"$f":"+XX!G70","v":0},{"$f":"+XX!T70","v":0},null,null,{"$f":"+XX!L70","v":0}]
[{"$f":"+B70","v":""},{"$f":"+IF(XX!C71=\"\",\"\",XX!C71)","v":""},{"$f":"IF(B70=\"\",\"\",COUNTIFS($B$3:B70,B70))","v":""},{"$f":"IF(B70=\"\",\"\",LOOKUP(B70,DataFIX!$F$3:$F$21,DataFIX!$E$3:$E$21))","v":""},{"$f":"IF(B70=\"\",\"\",LOOKUP(B70,DataFIX!$F$3:$F$41,DataFIX!$G$3:$G$41)+C70)","v":""},{"$f":"+XX!O71","v":"00:00:00"},{"$f":"+XX!E71","v":0},{"$f":"+XX!G71","v":0},{"$f":"+XX!T71","v":0},null,null,{"$f":"+XX!L71","v":0}]
["",{"$f":"+IF(XX!C72=\"\",\"\",XX!C72)","v":""},{"$f":"IF(B71=\"\",\"\",COUNTIFS($B$3:B71,B71))","v":""},{"$f":"IF(B71=\"\",\"\",LOOKUP(B71,DataFIX!$F$3:$F$21,DataFIX!$E$3:$E$21))","v":""},{"$f":"IF(B71=\"\",\"\",LOOKUP(B71,DataFIX!$F$3:$F$41,DataFIX!$G$3:$G$41)+C71)","v":""},{"$f":"+XX!O72","v":"00:00:00"},{"$f":"+XX!E72","v":0},{"$f":"+XX!G72","v":0},{"$f":"+XX!T72","v":0},null,null,{"$f":"+XX!L72","v":0}]
["",{"$f":"+IF(XX!C73=\"\",\"\",XX!C73)","v":""},{"$f":"IF(B72=\"\",\"\",COUNTIFS($B$3:B72,B72))","v":""},{"$f":"IF(B72=\"\",\"\",LOOKUP(B72,DataFIX!$F$3:$F$21,DataFIX!$E$3:$E$21))","v":""},{"$f":"IF(B72=\"\",\"\",LOOKUP(B72,DataFIX!$F$3:$F$41,DataFIX!$G$3:$G$41)+C72)","v":""},{"$f":"+XX!O73","v":"00:00:00"},{"$f":"+XX!E73","v":0},{"$f":"+XX!G73","v":0},{"$f":"+XX!T73","v":0},null,null,{"$f":"+XX!L73","v":0}]
["",{"$f":"+IF(XX!C74=\"\",\"\",XX!C74)","v":""},{"$f":"IF(B73=\"\",\"\",COUNTIFS($B$3:B73,B73))","v":""},{"$f":"IF(B73=\"\",\"\",LOOKUP(B73,DataFIX!$F$3:$F$21,DataFIX!$E$3:$E$21))","v":""},{"$f":"IF(B73=\"\",\"\",LOOKUP(B73,DataFIX!$F$3:$F$41,DataFIX!$G$3:$G$41)+C73)","v":""},{"$f":"+XX!O74","v":"00:00:00"},{"$f":"+XX!E74","v":0},{"$f":"+XX!G74","v":0},{"$f":"+XX!T74","v":0},null,null,{"$f":"+XX!L74","v":0}]
["",{"$f":"+IF(XX!C75=\"\",\"\",XX!C75)","v":""},{"$f":"IF(B74=\"\",\"\",COUNTIFS($B$3:B74,B74))","v":""},{"$f":"IF(B74=\"\",\"\",LOOKUP(B74,DataFIX!$F$3:$F$21,DataFIX!$E$3:$E$21))","v":""},{"$f":"IF(B74=\"\",\"\",LOOKUP(B74,DataFIX!$F$3:$F$41,DataFIX!$G$3:$G$41)+C74)","v":""},{"$f":"+XX!O75","v":"00:00:00"},{"$f":"+XX!E75","v":0},{"$f":"+XX!G75","v":0},{"$f":"+XX!T75","v":0},null,null,{"$f":"+XX!L75","v":0}]
["",{"$f":"+IF(XX!C76=\"\",\"\",XX!C76)","v":""},{"$f":"IF(B75=\"\",\"\",COUNTIFS($B$3:B75,B75))","v":""},{"$f":"IF(B75=\"\",\"\",LOOKUP(B75,DataFIX!$F$3:$F$21,DataFIX!$E$3:$E$21))","v":""},{"$f":"IF(B75=\"\",\"\",LOOKUP(B75,DataFIX!$F$3:$F$41,DataFIX!$G$3:$G$41)+C75)","v":""},{"$f":"+XX!O76","v":"00:00:00"},{"$f":"+XX!E76","v":0},{"$f":"+XX!G76","v":0},{"$f":"+XX!T76","v":0},null,null,{"$f":"+XX!L76","v":0}]
["",{"$f":"+IF(XX!C77=\"\",\"\",XX!C77)","v":""},{"$f":"IF(B76=\"\",\"\",COUNTIFS($B$3:B76,B76))","v":""},{"$f":"IF(B76=\"\",\"\",LOOKUP(B76,DataFIX!$F$3:$F$21,DataFIX!$E$3:$E$21))","v":""},{"$f":"IF(B76=\"\",\"\",LOOKUP(B76,DataFIX!$F$3:$F$41,DataFIX!$G$3:$G$41)+C76)","v":""},{"$f":"+XX!O77","v":"00:00:00"},{"$f":"+XX!E77","v":0},{"$f":"+XX!G77","v":0},{"$f":"+XX!T77","v":0},null,null,{"$f":"+XX!L77","v":0}]
["",{"$f":"+IF(XX!C78=\"\",\"\",XX!C78)","v":""},{"$f":"IF(B77=\"\",\"\",COUNTIFS($B$3:B77,B77))","v":""},{"$f":"IF(B77=\"\",\"\",LOOKUP(B77,DataFIX!$F$3:$F$21,DataFIX!$E$3:$E$21))","v":""},{"$f":"IF(B77=\"\",\"\",LOOKUP(B77,DataFIX!$F$3:$F$41,DataFIX!$G$3:$G$41)+C77)","v":""},{"$f":"+XX!O78","v":"00:00:00"},{"$f":"+XX!E78","v":0},{"$f":"+XX!G78","v":0},{"$f":"+XX!T78","v":0},null,null,{"$f":"+XX!L78","v":0}]
["",{"$f":"+IF(XX!C79=\"\",\"\",XX!C79)","v":""},{"$f":"IF(B78=\"\",\"\",COUNTIFS($B$3:B78,B78))","v":""},{"$f":"IF(B78=\"\",\"\",LOOKUP(B78,DataFIX!$F$3:$F$21,DataFIX!$E$3:$E$21))","v":""},{"$f":"IF(B78=\"\",\"\",LOOKUP(B78,DataFIX!$F$3:$F$41,DataFIX!$G$3:$G$41)+C78)","v":""},{"$f":"+XX!O79","v":"00:00:00"},{"$f":"+XX!E79","v":0},{"$f":"+XX!G79","v":0},{"$f":"+XX!T79","v":0},null,null,{"$f":"+XX!L79","v":0}]
["",{"$f":"+IF(XX!C80=\"\",\"\",XX!C80)","v":""},{"$f":"IF(B79=\"\",\"\",COUNTIFS($B$3:B79,B79))","v":""},{"$f":"IF(B79=\"\",\"\",LOOKUP(B79,DataFIX!$F$3:$F$21,DataFIX!$E$3:$E$21))","v":""},{"$f":"IF(B79=\"\",\"\",LOOKUP(B79,DataFIX!$F$3:$F$41,DataFIX!$G$3:$G$41)+C79)","v":""},{"$f":"+XX!O80","v":"00:00:00"},{"$f":"+XX!E80","v":0},{"$f":"+XX!G80","v":0},{"$f":"+XX!T80","v":0},null,null,{"$f":"+XX!L80","v":0}]
["",{"$f":"+IF(XX!C81=\"\",\"\",XX!C81)","v":""},{"$f":"IF(B80=\"\",\"\",COUNTIFS($B$3:B80,B80))","v":""},{"$f":"IF(B80=\"\",\"\",LOOKUP(B80,DataFIX!$F$3:$F$21,DataFIX!$E$3:$E$21))","v":""},{"$f":"IF(B80=\"\",\"\",LOOKUP(B80,DataFIX!$F$3:$F$41,DataFIX!$G$3:$G$41)+C80)","v":""},{"$f":"+XX!O81","v":"00:00:00"},{"$f":"+XX!E81","v":0},{"$f":"+XX!G81","v":0},{"$f":"+XX!T81","v":0},null,null,{"$f":"+XX!L81","v":0}]
["",{"$f":"+IF(XX!C82=\"\",\"\",XX!C82)","v":""},{"$f":"IF(B81=\"\",\"\",COUNTIFS($B$3:B81,B81))","v":""},{"$f":"IF(B81=\"\",\"\",LOOKUP(B81,DataFIX!$F$3:$F$21,DataFIX!$E$3:$E$21))","v":""},{"$f":"IF(B81=\"\",\"\",LOOKUP(B81,DataFIX!$F$3:$F$41,DataFIX!$G$3:$G$41)+C81)","v":""},{"$f":"+XX!O82","v":"00:00:00"},{"$f":"+XX!E82","v":0},{"$f":"+XX!G82","v":0},{"$f":"+XX!T82","v":0},null,null,{"$f":"+XX!L82","v":0}]
["",{"$f":"+IF(XX!C83=\"\",\"\",XX!C83)","v":""},{"$f":"IF(B82=\"\",\"\",COUNTIFS($B$3:B82,B82))","v":""},{"$f":"IF(B82=\"\",\"\",LOOKUP(B82,DataFIX!$F$3:$F$21,DataFIX!$E$3:$E$21))","v":""},{"$f":"IF(B82=\"\",\"\",LOOKUP(B82,DataFIX!$F$3:$F$41,DataFIX!$G$3:$G$41)+C82)","v":""},{"$f":"+XX!O83","v":"00:00:00"},{"$f":"+XX!E83","v":0},{"$f":"+XX!G83","v":0},{"$f":"+XX!T83","v":0},null,null,{"$f":"+XX!L83","v":0}]
["",{"$f":"+IF(XX!C84=\"\",\"\",XX!C84)","v":""},{"$f":"IF(B83=\"\",\"\",COUNTIFS($B$3:B83,B83))","v":""},{"$f":"IF(B83=\"\",\"\",LOOKUP(B83,DataFIX!$F$3:$F$21,DataFIX!$E$3:$E$21))","v":""},{"$f":"IF(B83=\"\",\"\",LOOKUP(B83,DataFIX!$F$3:$F$41,DataFIX!$G$3:$G$41)+C83)","v":""},{"$f":"+XX!O84","v":"00:00:00"},{"$f":"+XX!E84","v":0},{"$f":"+XX!G84","v":0},{"$f":"+XX!T84","v":0},null,null,{"$f":"+XX!L84","v":0}]
["",{"$f":"+IF(XX!C85=\"\",\"\",XX!C85)","v":""},{"$f":"IF(B84=\"\",\"\",COUNTIFS($B$3:B84,B84))","v":""},{"$f":"IF(B84=\"\",\"\",LOOKUP(B84,DataFIX!$F$3:$F$21,DataFIX!$E$3:$E$21))","v":""},{"$f":"IF(B84=\"\",\"\",LOOKUP(B84,DataFIX!$F$3:$F$41,DataFIX!$G$3:$G$41)+C84)","v":""},{"$f":"+XX!O85","v":"00:00:00"},{"$f":"+XX!E85","v":0},{"$f":"+XX!G85","v":0},{"$f":"+XX!T85","v":0},null,null,{"$f":"+XX!L85","v":0}]
["",{"$f":"+IF(XX!C86=\"\",\"\",XX!C86)","v":""},{"$f":"IF(B85=\"\",\"\",COUNTIFS($B$3:B85,B85))","v":""},{"$f":"IF(B85=\"\",\"\",LOOKUP(B85,DataFIX!$F$3:$F$21,DataFIX!$E$3:$E$21))","v":""},{"$f":"IF(B85=\"\",\"\",LOOKUP(B85,DataFIX!$F$3:$F$41,DataFIX!$G$3:$G$41)+C85)","v":""},{"$f":"+XX!O86","v":"00:00:00"},{"$f":"+XX!E86","v":0},{"$f":"+XX!G86","v":0},{"$f":"+XX!T86","v":0},null,null,{"$f":"+XX!L86","v":0}]
["",{"$f":"+IF(XX!C87=\"\",\"\",XX!C87)","v":""},{"$f":"IF(B86=\"\",\"\",COUNTIFS($B$3:B86,B86))","v":""},{"$f":"IF(B86=\"\",\"\",LOOKUP(B86,DataFIX!$F$3:$F$21,DataFIX!$E$3:$E$21))","v":""},{"$f":"IF(B86=\"\",\"\",LOOKUP(B86,DataFIX!$F$3:$F$41,DataFIX!$G$3:$G$41)+C86)","v":""},{"$f":"+XX!O87","v":"00:00:00"},{"$f":"+XX!E87","v":0},{"$f":"+XX!G87","v":0},{"$f":"+XX!T87","v":0},null,null,{"$f":"+XX!L87","v":0}]
["",{"$f":"+IF(XX!C88=\"\",\"\",XX!C88)","v":""},{"$f":"IF(B87=\"\",\"\",COUNTIFS($B$3:B87,B87))","v":""},{"$f":"IF(B87=\"\",\"\",LOOKUP(B87,DataFIX!$F$3:$F$21,DataFIX!$E$3:$E$21))","v":""},{"$f":"IF(B87=\"\",\"\",LOOKUP(B87,DataFIX!$F$3:$F$41,DataFIX!$G$3:$G$41)+C87)","v":""},{"$f":"+XX!O88","v":"00:00:00"},{"$f":"+XX!E88","v":0},{"$f":"+XX!G88","v":0},{"$f":"+XX!T88","v":0},null,null,{"$f":"+XX!L88","v":0}]
["",{"$f":"+IF(XX!C89=\"\",\"\",XX!C89)","v":""},{"$f":"IF(B88=\"\",\"\",COUNTIFS($B$3:B88,B88))","v":""},{"$f":"IF(B88=\"\",\"\",LOOKUP(B88,DataFIX!$F$3:$F$21,DataFIX!$E$3:$E$21))","v":""},{"$f":"IF(B88=\"\",\"\",LOOKUP(B88,DataFIX!$F$3:$F$41,DataFIX!$G$3:$G$41)+C88)","v":""},{"$f":"+XX!O89","v":"00:00:00"},{"$f":"+XX!E89","v":0},{"$f":"+XX!G89","v":0},{"$f":"+XX!T89","v":0},null,null,{"$f":"+XX!L89","v":0}]
["",{"$f":"+IF(XX!C90=\"\",\"\",XX!C90)","v":""},{"$f":"IF(B89=\"\",\"\",COUNTIFS($B$3:B89,B89))","v":""},{"$f":"IF(B89=\"\",\"\",LOOKUP(B89,DataFIX!$F$3:$F$21,DataFIX!$E$3:$E$21))","v":""},{"$f":"IF(B89=\"\",\"\",LOOKUP(B89,DataFIX!$F$3:$F$41,DataFIX!$G$3:$G$41)+C89)","v":""},{"$f":"+XX!O90","v":"00:00:00"},{"$f":"+XX!E90","v":0},{"$f":"+XX!G90","v":0},{"$f":"+XX!T90","v":0},null,null,{"$f":"+XX!L90","v":0}]
["",{"$f":"+IF(XX!C91=\"\",\"\",XX!C91)","v":""},{"$f":"IF(B90=\"\",\"\",COUNTIFS($B$3:B90,B90))","v":""},{"$f":"IF(B90=\"\",\"\",LOOKUP(B90,DataFIX!$F$3:$F$21,DataFIX!$E$3:$E$21))","v":""},{"$f":"IF(B90=\"\",\"\",LOOKUP(B90,DataFIX!$F$3:$F$41,DataFIX!$G$3:$G$41)+C90)","v":""},{"$f":"+XX!O91","v":"00:00:00"},{"$f":"+XX!E91","v":0},{"$f":"+XX!G91","v":0},{"$f":"+XX!T91","v":0},null,null,{"$f":"+XX!L91","v":0}]
["",{"$f":"+IF(XX!C92=\"\",\"\",XX!C92)","v":""},{"$f":"IF(B91=\"\",\"\",COUNTIFS($B$3:B91,B91))","v":""},{"$f":"IF(B91=\"\",\"\",LOOKUP(B91,DataFIX!$F$3:$F$21,DataFIX!$E$3:$E$21))","v":""},{"$f":"IF(B91=\"\",\"\",LOOKUP(B91,DataFIX!$F$3:$F$41,DataFIX!$G$3:$G$41)+C91)","v":""},{"$f":"+XX!O92","v":"00:00:00"},{"$f":"+XX!E92","v":0},{"$f":"+XX!G92","v":0},{"$f":"+XX!T92","v":0},null,null,{"$f":"+XX!L92","v":0}]
["",{"$f":"+IF(XX!C93=\"\",\"\",XX!C93)","v":""},{"$f":"IF(B92=\"\",\"\",COUNTIFS($B$3:B92,B92))","v":""},{"$f":"IF(B92=\"\",\"\",LOOKUP(B92,DataFIX!$F$3:$F$21,DataFIX!$E$3:$E$21))","v":""},{"$f":"IF(B92=\"\",\"\",LOOKUP(B92,DataFIX!$F$3:$F$41,DataFIX!$G$3:$G$41)+C92)","v":""},{"$f":"+XX!O93","v":"00:00:00"},{"$f":"+XX!E93","v":0},{"$f":"+XX!G93","v":0},{"$f":"+XX!T93","v":0},null,null,{"$f":"+XX!L93","v":0}]
["",{"$f":"+IF(XX!C94=\"\",\"\",XX!C94)","v":""},{"$f":"IF(B93=\"\",\"\",COUNTIFS($B$3:B93,B93))","v":""},{"$f":"IF(B93=\"\",\"\",LOOKUP(B93,DataFIX!$F$3:$F$21,DataFIX!$E$3:$E$21))","v":""},{"$f":"IF(B93=\"\",\"\",LOOKUP(B93,DataFIX!$F$3:$F$41,DataFIX!$G$3:$G$41)+C93)","v":""},{"$f":"+XX!O94","v":"00:00:00"},{"$f":"+XX!E94","v":0},{"$f":"+XX!G94","v":0},{"$f":"+XX!T94","v":0},null,null,{"$f":"+XX!L94","v":0}]
["",{"$f":"+IF(XX!C95=\"\",\"\",XX!C95)","v":""},{"$f":"IF(B94=\"\",\"\",COUNTIFS($B$3:B94,B94))","v":""},{"$f":"IF(B94=\"\",\"\",LOOKUP(B94,DataFIX!$F$3:$F$21,DataFIX!$E$3:$E$21))","v":""},{"$f":"IF(B94=\"\",\"\",LOOKUP(B94,DataFIX!$F$3:$F$41,DataFIX!$G$3:$G$41)+C94)","v":""},{"$f":"+XX!O95","v":"00:00:00"},{"$f":"+XX!E95","v":0},{"$f":"+XX!G95","v":0},{"$f":"+XX!T95","v":0},null,null,{"$f":"+XX!L95","v":0}]
["",{"$f":"+IF(XX!C96=\"\",\"\",XX!C96)","v":""},{"$f":"IF(B95=\"\",\"\",COUNTIFS($B$3:B95,B95))","v":""},{"$f":"IF(B95=\"\",\"\",LOOKUP(B95,DataFIX!$F$3:$F$21,DataFIX!$E$3:$E$21))","v":""},{"$f":"IF(B95=\"\",\"\",LOOKUP(B95,DataFIX!$F$3:$F$41,DataFIX!$G$3:$G$41)+C95)","v":""},{"$f":"+XX!O96","v":"00:00:00"},{"$f":"+XX!E96","v":0},{"$f":"+XX!G96","v":0},{"$f":"+XX!T96","v":0},null,null,{"$f":"+XX!L96","v":0}]
["",{"$f":"+IF(XX!C97=\"\",\"\",XX!C97)","v":""},{"$f":"IF(B96=\"\",\"\",COUNTIFS($B$3:B96,B96))","v":""},{"$f":"IF(B96=\"\",\"\",LOOKUP(B96,DataFIX!$F$3:$F$21,DataFIX!$E$3:$E$21))","v":""},{"$f":"IF(B96=\"\",\"\",LOOKUP(B96,DataFIX!$F$3:$F$41,DataFIX!$G$3:$G$41)+C96)","v":""},{"$f":"+XX!O97","v":"00:00:00"},{"$f":"+XX!E97","v":0},{"$f":"+XX!G97","v":0},{"$f":"+XX!T97","v":0},null,null,{"$f":"+XX!L97","v":0}]
["",{"$f":"+IF(XX!C98=\"\",\"\",XX!C98)","v":""},{"$f":"IF(B97=\"\",\"\",COUNTIFS($B$3:B97,B97))","v":""},{"$f":"IF(B97=\"\",\"\",LOOKUP(B97,DataFIX!$F$3:$F$21,DataFIX!$E$3:$E$21))","v":""},{"$f":"IF(B97=\"\",\"\",LOOKUP(B97,DataFIX!$F$3:$F$41,DataFIX!$G$3:$G$41)+C97)","v":""},{"$f":"+XX!O98","v":"00:00:00"},{"$f":"+XX!E98","v":0},{"$f":"+XX!G98","v":0},{"$f":"+XX!T98","v":0},null,null,{"$f":"+XX!L98","v":0}]
["",{"$f":"+IF(XX!C99=\"\",\"\",XX!C99)","v":""},{"$f":"IF(B98=\"\",\"\",COUNTIFS($B$3:B98,B98))","v":""},{"$f":"IF(B98=\"\",\"\",LOOKUP(B98,DataFIX!$F$3:$F$21,DataFIX!$E$3:$E$21))","v":""},{"$f":"IF(B98=\"\",\"\",LOOKUP(B98,DataFIX!$F$3:$F$41,DataFIX!$G$3:$G$41)+C98)","v":""},{"$f":"+XX!O99","v":"00:00:00"},{"$f":"+XX!E99","v":0},{"$f":"+XX!G99","v":0},{"$f":"+XX!T99","v":0},null,null,{"$f":"+XX!L99","v":0}]
["",{"$f":"+IF(XX!C100=\"\",\"\",XX!C100)","v":""},{"$f":"IF(B99=\"\",\"\",COUNTIFS($B$3:B99,B99))","v":""},{"$f":"IF(B99=\"\",\"\",LOOKUP(B99,DataFIX!$F$3:$F$21,DataFIX!$E$3:$E$21))","v":""},{"$f":"IF(B99=\"\",\"\",LOOKUP(B99,DataFIX!$F$3:$F$41,DataFIX!$G$3:$G$41)+C99)","v":""},{"$f":"+XX!O100","v":"00:00:00"},{"$f":"+XX!E100","v":0},{"$f":"+XX!G100","v":0},{"$f":"+XX!T100","v":0},null,null,{"$f":"+XX!L100","v":0}]
["",{"$f":"+IF(XX!C101=\"\",\"\",XX!C101)","v":""},{"$f":"IF(B100=\"\",\"\",COUNTIFS($B$3:B100,B100))","v":""},{"$f":"IF(B100=\"\",\"\",LOOKUP(B100,DataFIX!$F$3:$F$21,DataFIX!$E$3:$E$21))","v":""},{"$f":"IF(B100=\"\",\"\",LOOKUP(B100,DataFIX!$F$3:$F$41,DataFIX!$G$3:$G$41)+C100)","v":""},{"$f":"+XX!O101","v":"00:00:00"},{"$f":"+XX!E101","v":0},{"$f":"+XX!G101","v":0},{"$f":"+XX!T101","v":0},null,null,{"$f":"+XX!L101","v":0}]
["",{"$f":"+IF(XX!C102=\"\",\"\",XX!C102)","v":""},{"$f":"IF(B101=\"\",\"\",COUNTIFS($B$3:B101,B101))","v":""},{"$f":"IF(B101=\"\",\"\",LOOKUP(B101,DataFIX!$F$3:$F$21,DataFIX!$E$3:$E$21))","v":""},{"$f":"IF(B101=\"\",\"\",LOOKUP(B101,DataFIX!$F$3:$F$41,DataFIX!$G$3:$G$41)+C101)","v":""},{"$f":"+XX!O102","v":"00:00:00"},{"$f":"+XX!E102","v":0},{"$f":"+XX!G102","v":0},{"$f":"+XX!T102","v":0},null,null,{"$f":"+XX!L102","v":0}]
["",{"$f":"+IF(XX!C103=\"\",\"\",XX!C103)","v":""},{"$f":"IF(B102=\"\",\"\",COUNTIFS($B$3:B102,B102))","v":""},{"$f":"IF(B102=\"\",\"\",LOOKUP(B102,DataFIX!$F$3:$F$21,DataFIX!$E$3:$E$21))","v":""},{"$f":"IF(B102=\"\",\"\",LOOKUP(B102,DataFIX!$F$3:$F$41,DataFIX!$G$3:$G$41)+C102)","v":""},{"$f":"+XX!O103","v":"00:00:00"},{"$f":"+XX!E103","v":0},{"$f":"+XX!G103","v":0},{"$f":"+XX!T103","v":0},null,null,{"$f":"+XX!L103","v":0}]
["",{"$f":"+IF(XX!C104=\"\",\"\",XX!C104)","v":""},{"$f":"IF(B103=\"\",\"\",COUNTIFS($B$3:B103,B103))","v":""},{"$f":"IF(B103=\"\",\"\",LOOKUP(B103,DataFIX!$F$3:$F$21,DataFIX!$E$3:$E$21))","v":""},{"$f":"IF(B103=\"\",\"\",LOOKUP(B103,DataFIX!$F$3:$F$41,DataFIX!$G$3:$G$41)+C103)","v":""},{"$f":"+XX!O104","v":"00:00:00"},{"$f":"+XX!E104","v":0},{"$f":"+XX!G104","v":0},{"$f":"+XX!T104","v":0},null,null,{"$f":"+XX!L104","v":0}]
["",{"$f":"+IF(XX!C105=\"\",\"\",XX!C105)","v":""},{"$f":"IF(B104=\"\",\"\",COUNTIFS($B$3:B104,B104))","v":""},{"$f":"IF(B104=\"\",\"\",LOOKUP(B104,DataFIX!$F$3:$F$21,DataFIX!$E$3:$E$21))","v":""},{"$f":"IF(B104=\"\",\"\",LOOKUP(B104,DataFIX!$F$3:$F$41,DataFIX!$G$3:$G$41)+C104)","v":""},{"$f":"+XX!O105","v":"00:00:00"},{"$f":"+XX!E105","v":0},{"$f":"+XX!G105","v":0},{"$f":"+XX!T105","v":0},null,null,{"$f":"+XX!L105","v":0}]
["",{"$f":"+IF(XX!C106=\"\",\"\",XX!C106)","v":""},{"$f":"IF(B105=\"\",\"\",COUNTIFS($B$3:B105,B105))","v":""},{"$f":"IF(B105=\"\",\"\",LOOKUP(B105,DataFIX!$F$3:$F$21,DataFIX!$E$3:$E$21))","v":""},{"$f":"IF(B105=\"\",\"\",LOOKUP(B105,DataFIX!$F$3:$F$41,DataFIX!$G$3:$G$41)+C105)","v":""},{"$f":"+XX!O106","v":"00:00:00"},{"$f":"+XX!E106","v":0},{"$f":"+XX!G106","v":0},{"$f":"+XX!T106","v":0},null,null,{"$f":"+XX!L106","v":0}]
["",{"$f":"+IF(XX!C107=\"\",\"\",XX!C107)","v":""},{"$f":"IF(B106=\"\",\"\",COUNTIFS($B$3:B106,B106))","v":""},{"$f":"IF(B106=\"\",\"\",LOOKUP(B106,DataFIX!$F$3:$F$21,DataFIX!$E$3:$E$21))","v":""},{"$f":"IF(B106=\"\",\"\",LOOKUP(B106,DataFIX!$F$3:$F$41,DataFIX!$G$3:$G$41)+C106)","v":""},{"$f":"+XX!O107","v":"00:00:00"},{"$f":"+XX!E107","v":0},{"$f":"+XX!G107","v":0},{"$f":"+XX!T107","v":0},null,null,{"$f":"+XX!L107","v":0}]
["",{"$f":"+IF(XX!C108=\"\",\"\",XX!C108)","v":""},{"$f":"IF(B107=\"\",\"\",COUNTIFS($B$3:B107,B107))","v":""},{"$f":"IF(B107=\"\",\"\",LOOKUP(B107,DataFIX!$F$3:$F$21,DataFIX!$E$3:$E$21))","v":""},{"$f":"IF(B107=\"\",\"\",LOOKUP(B107,DataFIX!$F$3:$F$41,DataFIX!$G$3:$G$41)+C107)","v":""},{"$f":"+XX!O108","v":"00:00:00"},{"$f":"+XX!E108","v":0},{"$f":"+XX!G108","v":0},{"$f":"+XX!T108","v":0},null,null,{"$f":"+XX!L108","v":0}]
["",{"$f":"+IF(XX!C109=\"\",\"\",XX!C109)","v":""},{"$f":"IF(B108=\"\",\"\",COUNTIFS($B$3:B108,B108))","v":""},{"$f":"IF(B108=\"\",\"\",LOOKUP(B108,DataFIX!$F$3:$F$21,DataFIX!$E$3:$E$21))","v":""},{"$f":"IF(B108=\"\",\"\",LOOKUP(B108,DataFIX!$F$3:$F$41,DataFIX!$G$3:$G$41)+C108)","v":""},{"$f":"+XX!O109","v":"00:00:00"},{"$f":"+XX!E109","v":0},{"$f":"+XX!G109","v":0},{"$f":"+XX!T109","v":0},null,null,{"$f":"+XX!L109","v":0}]
["",{"$f":"+IF(XX!C110=\"\",\"\",XX!C110)","v":""},{"$f":"IF(B109=\"\",\"\",COUNTIFS($B$3:B109,B109))","v":""},{"$f":"IF(B109=\"\",\"\",LOOKUP(B109,DataFIX!$F$3:$F$21,DataFIX!$E$3:$E$21))","v":""},{"$f":"IF(B109=\"\",\"\",LOOKUP(B109,DataFIX!$F$3:$F$41,DataFIX!$G$3:$G$41)+C109)","v":""},{"$f":"+XX!O110","v":"00:00:00"},{"$f":"+XX!E110","v":0},{"$f":"+XX!G110","v":0},{"$f":"+XX!T110","v":0},null,null,{"$f":"+XX!L110","v":0}]
["",{"$f":"+IF(XX!C111=\"\",\"\",XX!C111)","v":""},{"$f":"IF(B110=\"\",\"\",COUNTIFS($B$3:B110,B110))","v":""},{"$f":"IF(B110=\"\",\"\",LOOKUP(B110,DataFIX!$F$3:$F$21,DataFIX!$E$3:$E$21))","v":""},{"$f":"IF(B110=\"\",\"\",LOOKUP(B110,DataFIX!$F$3:$F$41,DataFIX!$G$3:$G$41)+C110)","v":""},{"$f":"+XX!O111","v":"00:00:00"},{"$f":"+XX!E111","v":0},{"$f":"+XX!G111","v":0},{"$f":"+XX!T111","v":0},null,null,{"$f":"+XX!L111","v":0}]
["",{"$f":"+IF(XX!C112=\"\",\"\",XX!C112)","v":""},{"$f":"IF(B111=\"\",\"\",COUNTIFS($B$3:B111,B111))","v":""},{"$f":"IF(B111=\"\",\"\",LOOKUP(B111,DataFIX!$F$3:$F$21,DataFIX!$E$3:$E$21))","v":""},{"$f":"IF(B111=\"\",\"\",LOOKUP(B111,DataFIX!$F$3:$F$41,DataFIX!$G$3:$G$41)+C111)","v":""},{"$f":"+XX!O112","v":"00:00:00"},{"$f":"+XX!E112","v":0},{"$f":"+XX!G112","v":0},{"$f":"+XX!T112","v":0},null,null,{"$f":"+XX!L112","v":0}]
["",{"$f":"+IF(XX!C113=\"\",\"\",XX!C113)","v":""},{"$f":"IF(B112=\"\",\"\",COUNTIFS($B$3:B112,B112))","v":""},{"$f":"IF(B112=\"\",\"\",LOOKUP(B112,DataFIX!$F$3:$F$21,DataFIX!$E$3:$E$21))","v":""},{"$f":"IF(B112=\"\",\"\",LOOKUP(B112,DataFIX!$F$3:$F$41,DataFIX!$G$3:$G$41)+C112)","v":""},{"$f":"+XX!O113","v":"00:00:00"},{"$f":"+XX!E113","v":0},{"$f":"+XX!G113","v":0},{"$f":"+XX!T113","v":0},null,null,{"$f":"+XX!L113","v":0}]
["",{"$f":"+IF(XX!C114=\"\",\"\",XX!C114)","v":""},{"$f":"IF(B113=\"\",\"\",COUNTIFS($B$3:B113,B113))","v":""},{"$f":"IF(B113=\"\",\"\",LOOKUP(B113,DataFIX!$F$3:$F$21,DataFIX!$E$3:$E$21))","v":""},{"$f":"IF(B113=\"\",\"\",LOOKUP(B113,DataFIX!$F$3:$F$41,DataFIX!$G$3:$G$41)+C113)","v":""},{"$f":"+XX!O114","v":"00:00:00"},{"$f":"+XX!E114","v":0},{"$f":"+XX!G114","v":0},{"$f":"+XX!T114","v":0},null,null,{"$f":"+XX!L114","v":0}]
["",{"$f":"+IF(XX!C115=\"\",\"\",XX!C115)","v":""},{"$f":"IF(B114=\"\",\"\",COUNTIFS($B$3:B114,B114))","v":""},{"$f":"IF(B114=\"\",\"\",LOOKUP(B114,DataFIX!$F$3:$F$21,DataFIX!$E$3:$E$21))","v":""},{"$f":"IF(B114=\"\",\"\",LOOKUP(B114,DataFIX!$F$3:$F$41,DataFIX!$G$3:$G$41)+C114)","v":""},{"$f":"+XX!O115","v":"00:00:00"},{"$f":"+XX!E115","v":0},{"$f":"+XX!G115","v":0},{"$f":"+XX!T115","v":0},null,null,{"$f":"+XX!L115","v":0}]
["",{"$f":"+IF(XX!C116=\"\",\"\",XX!C116)","v":""},{"$f":"IF(B115=\"\",\"\",COUNTIFS($B$3:B115,B115))","v":""},{"$f":"IF(B115=\"\",\"\",LOOKUP(B115,DataFIX!$F$3:$F$21,DataFIX!$E$3:$E$21))","v":""},{"$f":"IF(B115=\"\",\"\",LOOKUP(B115,DataFIX!$F$3:$F$41,DataFIX!$G$3:$G$41)+C115)","v":""},{"$f":"+XX!O116","v":"00:00:00"},{"$f":"+XX!E116","v":0},{"$f":"+XX!G116","v":0},{"$f":"+XX!T116","v":0},null,null,{"$f":"+XX!L116","v":0}]
["",{"$f":"+IF(XX!C117=\"\",\"\",XX!C117)","v":""},{"$f":"IF(B116=\"\",\"\",COUNTIFS($B$3:B116,B116))","v":""},{"$f":"IF(B116=\"\",\"\",LOOKUP(B116,DataFIX!$F$3:$F$21,DataFIX!$E$3:$E$21))","v":""},{"$f":"IF(B116=\"\",\"\",LOOKUP(B116,DataFIX!$F$3:$F$41,DataFIX!$G$3:$G$41)+C116)","v":""},{"$f":"+XX!O117","v":"00:00:00"},{"$f":"+XX!E117","v":0},{"$f":"+XX!G117","v":0},{"$f":"+XX!T117","v":0},null,null,{"$f":"+XX!L117","v":0}]
["",{"$f":"+IF(XX!C118=\"\",\"\",XX!C118)","v":""},{"$f":"IF(B117=\"\",\"\",COUNTIFS($B$3:B117,B117))","v":""},{"$f":"IF(B117=\"\",\"\",LOOKUP(B117,DataFIX!$F$3:$F$21,DataFIX!$E$3:$E$21))","v":""},{"$f":"IF(B117=\"\",\"\",LOOKUP(B117,DataFIX!$F$3:$F$41,DataFIX!$G$3:$G$41)+C117)","v":""},{"$f":"+XX!O118","v":"00:00:00"},{"$f":"+XX!E118","v":0},{"$f":"+XX!G118","v":0},{"$f":"+XX!T118","v":0},null,null,{"$f":"+XX!L118","v":0}]
["",{"$f":"+IF(XX!C119=\"\",\"\",XX!C119)","v":""},{"$f":"IF(B118=\"\",\"\",COUNTIFS($B$3:B118,B118))","v":""},{"$f":"IF(B118=\"\",\"\",LOOKUP(B118,DataFIX!$F$3:$F$21,DataFIX!$E$3:$E$21))","v":""},{"$f":"IF(B118=\"\",\"\",LOOKUP(B118,DataFIX!$F$3:$F$41,DataFIX!$G$3:$G$41)+C118)","v":""},{"$f":"+XX!O119","v":"00:00:00"},{"$f":"+XX!E119","v":0},{"$f":"+XX!G119","v":0},{"$f":"+XX!T119","v":0},null,null,{"$f":"+XX!L119","v":0}]
["",{"$f":"+IF(XX!C120=\"\",\"\",XX!C120)","v":""},{"$f":"IF(B119=\"\",\"\",COUNTIFS($B$3:B119,B119))","v":""},{"$f":"IF(B119=\"\",\"\",LOOKUP(B119,DataFIX!$F$3:$F$21,DataFIX!$E$3:$E$21))","v":""},{"$f":"IF(B119=\"\",\"\",LOOKUP(B119,DataFIX!$F$3:$F$41,DataFIX!$G$3:$G$41)+C119)","v":""},{"$f":"+XX!O120","v":"00:00:00"},{"$f":"+XX!E120","v":0},{"$f":"+XX!G120","v":0},{"$f":"+XX!T120","v":0},null,null,{"$f":"+XX!L120","v":0}]
["",{"$f":"+IF(XX!C121=\"\",\"\",XX!C121)","v":""},{"$f":"IF(B120=\"\",\"\",COUNTIFS($B$3:B120,B120))","v":""},{"$f":"IF(B120=\"\",\"\",LOOKUP(B120,DataFIX!$F$3:$F$21,DataFIX!$E$3:$E$21))","v":""},{"$f":"IF(B120=\"\",\"\",LOOKUP(B120,DataFIX!$F$3:$F$41,DataFIX!$G$3:$G$41)+C120)","v":""},{"$f":"+XX!O121","v":"00:00:00"},{"$f":"+XX!E121","v":0},{"$f":"+XX!G121","v":0},{"$f":"+XX!T121","v":0},null,null,{"$f":"+XX!L121","v":0}]
["",{"$f":"+IF(XX!C122=\"\",\"\",XX!C122)","v":""},{"$f":"IF(B121=\"\",\"\",COUNTIFS($B$3:B121,B121))","v":""},{"$f":"IF(B121=\"\",\"\",LOOKUP(B121,DataFIX!$F$3:$F$21,DataFIX!$E$3:$E$21))","v":""},{"$f":"IF(B121=\"\",\"\",LOOKUP(B121,DataFIX!$F$3:$F$41,DataFIX!$G$3:$G$41)+C121)","v":""},{"$f":"+XX!O122","v":"00:00:00"},{"$f":"+XX!E122","v":0},{"$f":"+XX!G122","v":0},{"$f":"+XX!T122","v":0},null,null,{"$f":"+XX!L122","v":0}]
["",{"$f":"+IF(XX!C123=\"\",\"\",XX!C123)","v":""},{"$f":"IF(B122=\"\",\"\",COUNTIFS($B$3:B122,B122))","v":""},{"$f":"IF(B122=\"\",\"\",LOOKUP(B122,DataFIX!$F$3:$F$21,DataFIX!$E$3:$E$21))","v":""},{"$f":"IF(B122=\"\",\"\",LOOKUP(B122,DataFIX!$F$3:$F$41,DataFIX!$G$3:$G$41)+C122)","v":""},{"$f":"+XX!O123","v":"00:00:00"},{"$f":"+XX!E123","v":0},{"$f":"+XX!G123","v":0},{"$f":"+XX!T123","v":0},null,null,{"$f":"+XX!L123","v":0},null,null,null,null,"List \"ZDROJ ROOT\"\n- na tomto listu nic nedělat!!!!!\n\nTento list okamžitě opusťte!\nDíky."]
["",{"$f":"+IF(XX!C124=\"\",\"\",XX!C124)","v":""},{"$f":"IF(B123=\"\",\"\",COUNTIFS($B$3:B123,B123))","v":""},{"$f":"IF(B123=\"\",\"\",LOOKUP(B123,DataFIX!$F$3:$F$21,DataFIX!$E$3:$E$21))","v":""},{"$f":"IF(B123=\"\",\"\",LOOKUP(B123,DataFIX!$F$3:$F$41,DataFIX!$G$3:$G$41)+C123)","v":""},{"$f":"+XX!O124","v":"00:00:00"},{"$f":"+XX!E124","v":0},{"$f":"+XX!G124","v":0},{"$f":"+XX!T124","v":0},null,null,{"$f":"+XX!L124","v":0}]
["",{"$f":"+IF(XX!C125=\"\",\"\",XX!C125)","v":""},{"$f":"IF(B124=\"\",\"\",COUNTIFS($B$3:B124,B124))","v":""},{"$f":"IF(B124=\"\",\"\",LOOKUP(B124,DataFIX!$F$3:$F$21,DataFIX!$E$3:$E$21))","v":""},{"$f":"IF(B124=\"\",\"\",LOOKUP(B124,DataFIX!$F$3:$F$41,DataFIX!$G$3:$G$41)+C124)","v":""},{"$f":"+XX!O125","v":"00:00:00"},{"$f":"+XX!E125","v":0},{"$f":"+XX!G125","v":0},{"$f":"+XX!T125","v":0},null,null,{"$f":"+XX!L125","v":0}]
["",{"$f":"+IF(XX!C126=\"\",\"\",XX!C126)","v":""},{"$f":"IF(B125=\"\",\"\",COUNTIFS($B$3:B125,B125))","v":""},{"$f":"IF(B125=\"\",\"\",LOOKUP(B125,DataFIX!$F$3:$F$21,DataFIX!$E$3:$E$21))","v":""},{"$f":"IF(B125=\"\",\"\",LOOKUP(B125,DataFIX!$F$3:$F$41,DataFIX!$G$3:$G$41)+C125)","v":""},{"$f":"+XX!O126","v":"00:00:00"},{"$f":"+XX!E126","v":0},{"$f":"+XX!G126","v":0},{"$f":"+XX!T126","v":0},null,null,{"$f":"+XX!L126","v":0}]
["",{"$f":"+IF(XX!C127=\"\",\"\",XX!C127)","v":""},{"$f":"IF(B126=\"\",\"\",COUNTIFS($B$3:B126,B126))","v":""},{"$f":"IF(B126=\"\",\"\",LOOKUP(B126,DataFIX!$F$3:$F$21,DataFIX!$E$3:$E$21))","v":""},{"$f":"IF(B126=\"\",\"\",LOOKUP(B126,DataFIX!$F$3:$F$41,DataFIX!$G$3:$G$41)+C126)","v":""},{"$f":"+XX!O127","v":"00:00:00"},{"$f":"+XX!E127","v":0},{"$f":"+XX!G127","v":0},{"$f":"+XX!T127","v":0},null,null,{"$f":"+XX!L127","v":0}]
["",{"$f":"+IF(XX!C128=\"\",\"\",XX!C128)","v":""},{"$f":"IF(B127=\"\",\"\",COUNTIFS($B$3:B127,B127))","v":""},{"$f":"IF(B127=\"\",\"\",LOOKUP(B127,DataFIX!$F$3:$F$21,DataFIX!$E$3:$E$21))","v":""},{"$f":"IF(B127=\"\",\"\",LOOKUP(B127,DataFIX!$F$3:$F$41,DataFIX!$G$3:$G$41)+C127)","v":""},{"$f":"+XX!O128","v":"00:00:00"},{"$f":"+XX!E128","v":0},{"$f":"+XX!G128","v":0},{"$f":"+XX!T128","v":0},null,null,{"$f":"+XX!L128","v":0}]
["",{"$f":"+IF(XX!C129=\"\",\"\",XX!C129)","v":""},{"$f":"IF(B128=\"\",\"\",COUNTIFS($B$3:B128,B128))","v":""},{"$f":"IF(B128=\"\",\"\",LOOKUP(B128,DataFIX!$F$3:$F$21,DataFIX!$E$3:$E$21))","v":""},{"$f":"IF(B128=\"\",\"\",LOOKUP(B128,DataFIX!$F$3:$F$41,DataFIX!$G$3:$G$41)+C128)","v":""},{"$f":"+XX!O129","v":"00:00:00"},{"$f":"+XX!E129","v":0},{"$f":"+XX!G129","v":0},{"$f":"+XX!T129","v":0},null,null,{"$f":"+XX!L129","v":0}]
["",{"$f":"+IF(XX!C130=\"\",\"\",XX!C130)","v":""},{"$f":"IF(B129=\"\",\"\",COUNTIFS($B$3:B129,B129))","v":""},{"$f":"IF(B129=\"\",\"\",LOOKUP(B129,DataFIX!$F$3:$F$21,DataFIX!$E$3:$E$21))","v":""},{"$f":"IF(B129=\"\",\"\",LOOKUP(B129,DataFIX!$F$3:$F$41,DataFIX!$G$3:$G$41)+C129)","v":""},{"$f":"+XX!O130","v":"00:00:00"},{"$f":"+XX!E130","v":0},{"$f":"+XX!G130","v":0},{"$f":"+XX!T130","v":0},null,null,{"$f":"+XX!L130","v":0}]
["",{"$f":"+IF(XX!C131=\"\",\"\",XX!C131)","v":""},{"$f":"IF(B130=\"\",\"\",COUNTIFS($B$3:B130,B130))","v":""},{"$f":"IF(B130=\"\",\"\",LOOKUP(B130,DataFIX!$F$3:$F$21,DataFIX!$E$3:$E$21))","v":""},{"$f":"IF(B130=\"\",\"\",LOOKUP(B130,DataFIX!$F$3:$F$41,DataFIX!$G$3:$G$41)+C130)","v":""},{"$f":"+XX!O131","v":"00:00:00"},{"$f":"+XX!E131","v":0},{"$f":"+XX!G131","v":0},{"$f":"+XX!T131","v":0},null,null,{"$f":"+XX!L131","v":0}]
["",{"$f":"+IF(XX!C132=\"\",\"\",XX!C132)","v":""},{"$f":"IF(B131=\"\",\"\",COUNTIFS($B$3:B131,B131))","v":""},{"$f":"IF(B131=\"\",\"\",LOOKUP(B131,DataFIX!$F$3:$F$21,DataFIX!$E$3:$E$21))","v":""},{"$f":"IF(B131=\"\",\"\",LOOKUP(B131,DataFIX!$F$3:$F$41,DataFIX!$G$3:$G$41)+C131)","v":""},{"$f":"+XX!O132","v":"00:00:00"},{"$f":"+XX!E132","v":0},{"$f":"+XX!G132","v":0},{"$f":"+XX!T132","v":0},null,null,{"$f":"+XX!L132","v":0}]
["",{"$f":"+IF(XX!C133=\"\",\"\",XX!C133)","v":""},{"$f":"IF(B132=\"\",\"\",COUNTIFS($B$3:B132,B132))","v":""},{"$f":"IF(B132=\"\",\"\",LOOKUP(B132,DataFIX!$F$3:$F$21,DataFIX!$E$3:$E$21))","v":""},{"$f":"IF(B132=\"\",\"\",LOOKUP(B132,DataFIX!$F$3:$F$41,DataFIX!$G$3:$G$41)+C132)","v":""},{"$f":"+XX!O133","v":"00:00:00"},{"$f":"+XX!E133","v":0},{"$f":"+XX!G133","v":0},{"$f":"+XX!T133","v":0},null,null,{"$f":"+XX!L133","v":0}]
["",{"$f":"+IF(XX!C134=\"\",\"\",XX!C134)","v":""},{"$f":"IF(B133=\"\",\"\",COUNTIFS($B$3:B133,B133))","v":""},{"$f":"IF(B133=\"\",\"\",LOOKUP(B133,DataFIX!$F$3:$F$21,DataFIX!$E$3:$E$21))","v":""},{"$f":"IF(B133=\"\",\"\",LOOKUP(B133,DataFIX!$F$3:$F$41,DataFIX!$G$3:$G$41)+C133)","v":""},{"$f":"+XX!O134","v":"00:00:00"},{"$f":"+XX!E134","v":0},{"$f":"+XX!G134","v":0},{"$f":"+XX!T134","v":0},null,null,{"$f":"+XX!L134","v":0}]
[{"$f":"+B134","v":""},{"$f":"+IF(XX!C135=\"\",\"\",XX!C135)","v":""},{"$f":"IF(B134=\"\",\"\",COUNTIFS($B$3:B134,B134))","v":""},{"$f":"IF(B134=\"\",\"\",LOOKUP(B134,DataFIX!$F$3:$F$21,DataFIX!$E$3:$E$21))","v":""},{"$f":"IF(B134=\"\",\"\",LOOKUP(B134,DataFIX!$F$3:$F$41,DataFIX!$G$3:$G$41)+C134)","v":""},{"$f":"+XX!O135","v":"00:00:00"},{"$f":"+XX!E135","v":0},{"$f":"+XX!G135","v":0},{"$f":"+XX!T135","v":0},null,null,{"$f":"+XX!L135","v":0}]
["",{"$f":"+IF(XX!C136=\"\",\"\",XX!C136)","v":""},{"$f":"IF(B135=\"\",\"\",COUNTIFS($B$3:B135,B135))","v":""},{"$f":"IF(B135=\"\",\"\",LOOKUP(B135,DataFIX!$F$3:$F$21,DataFIX!$E$3:$E$21))","v":""},{"$f":"IF(B135=\"\",\"\",LOOKUP(B135,DataFIX!$F$3:$F$41,DataFIX!$G$3:$G$41)+C135)","v":""},{"$f":"+XX!O136","v":"00:00:00"},{"$f":"+XX!E136","v":0},{"$f":"+XX!G136","v":0},{"$f":"+XX!T136","v":0},null,null,{"$f":"+XX!L136","v":0}]
["",{"$f":"+IF(XX!C137=\"\",\"\",XX!C137)","v":""},{"$f":"IF(B136=\"\",\"\",COUNTIFS($B$3:B136,B136))","v":""},{"$f":"IF(B136=\"\",\"\",LOOKUP(B136,DataFIX!$F$3:$F$21,DataFIX!$E$3:$E$21))","v":""},{"$f":"IF(B136=\"\",\"\",LOOKUP(B136,DataFIX!$F$3:$F$41,DataFIX!$G$3:$G$41)+C136)","v":""},{"$f":"+XX!O137","v":"00:00:00"},{"$f":"+XX!E137","v":0},{"$f":"+XX!G137","v":0},{"$f":"+XX!T137","v":0},null,null,{"$f":"+XX!L137","v":0}]
["",{"$f":"+IF(XX!C138=\"\",\"\",XX!C138)","v":""},{"$f":"IF(B137=\"\",\"\",COUNTIFS($B$3:B137,B137))","v":""},{"$f":"IF(B137=\"\",\"\",LOOKUP(B137,DataFIX!$F$3:$F$21,DataFIX!$E$3:$E$21))","v":""},{"$f":"IF(B137=\"\",\"\",LOOKUP(B137,DataFIX!$F$3:$F$41,DataFIX!$G$3:$G$41)+C137)","v":""},{"$f":"+XX!O138","v":"00:00:00"},{"$f":"+XX!E138","v":0},{"$f":"+XX!G138","v":0},{"$f":"+XX!T138","v":0},null,null,{"$f":"+XX!L138","v":0}]
["",{"$f":"+IF(XX!C139=\"\",\"\",XX!C139)","v":""},{"$f":"IF(B138=\"\",\"\",COUNTIFS($B$3:B138,B138))","v":""},{"$f":"IF(B138=\"\",\"\",LOOKUP(B138,DataFIX!$F$3:$F$21,DataFIX!$E$3:$E$21))","v":""},{"$f":"IF(B138=\"\",\"\",LOOKUP(B138,DataFIX!$F$3:$F$41,DataFIX!$G$3:$G$41)+C138)","v":""},{"$f":"+XX!O139","v":"00:00:00"},{"$f":"+XX!E139","v":0},{"$f":"+XX!G139","v":0},{"$f":"+XX!T139","v":0},null,null,{"$f":"+XX!L139","v":0}]
["",{"$f":"+IF(XX!C140=\"\",\"\",XX!C140)","v":""},{"$f":"IF(B139=\"\",\"\",COUNTIFS($B$3:B139,B139))","v":""},{"$f":"IF(B139=\"\",\"\",LOOKUP(B139,DataFIX!$F$3:$F$21,DataFIX!$E$3:$E$21))","v":""},{"$f":"IF(B139=\"\",\"\",LOOKUP(B139,DataFIX!$F$3:$F$41,DataFIX!$G$3:$G$41)+C139)","v":""},{"$f":"+XX!O140","v":"00:00:00"},{"$f":"+XX!E140","v":0},{"$f":"+XX!G140","v":0},{"$f":"+XX!T140","v":0},null,null,{"$f":"+XX!L140","v":0}]
["",{"$f":"+IF(XX!C141=\"\",\"\",XX!C141)","v":""},{"$f":"IF(B140=\"\",\"\",COUNTIFS($B$3:B140,B140))","v":""},{"$f":"IF(B140=\"\",\"\",LOOKUP(B140,DataFIX!$F$3:$F$21,DataFIX!$E$3:$E$21))","v":""},{"$f":"IF(B140=\"\",\"\",LOOKUP(B140,DataFIX!$F$3:$F$41,DataFIX!$G$3:$G$41)+C140)","v":""},{"$f":"+XX!O141","v":"00:00:00"},{"$f":"+XX!E141","v":0},{"$f":"+XX!G141","v":0},{"$f":"+XX!T141","v":0},null,null,{"$f":"+XX!L141","v":0}]
["",{"$f":"+IF(XX!C142=\"\",\"\",XX!C142)","v":""},{"$f":"IF(B141=\"\",\"\",COUNTIFS($B$3:B141,B141))","v":""},{"$f":"IF(B141=\"\",\"\",LOOKUP(B141,DataFIX!$F$3:$F$21,DataFIX!$E$3:$E$21))","v":""},{"$f":"IF(B141=\"\",\"\",LOOKUP(B141,DataFIX!$F$3:$F$41,DataFIX!$G$3:$G$41)+C141)","v":""},{"$f":"+XX!O142","v":"00:00:00"},{"$f":"+XX!E142","v":0},{"$f":"+XX!G142","v":0},{"$f":"+XX!T142","v":0},null,null,{"$f":"+XX!L142","v":0}]
["",{"$f":"+IF(XX!C143=\"\",\"\",XX!C143)","v":""},{"$f":"IF(B142=\"\",\"\",COUNTIFS($B$3:B142,B142))","v":""},{"$f":"IF(B142=\"\",\"\",LOOKUP(B142,DataFIX!$F$3:$F$21,DataFIX!$E$3:$E$21))","v":""},{"$f":"IF(B142=\"\",\"\",LOOKUP(B142,DataFIX!$F$3:$F$41,DataFIX!$G$3:$G$41)+C142)","v":""},{"$f":"+XX!O143","v":"00:00:00"},{"$f":"+XX!E143","v":0},{"$f":"+XX!G143","v":0},{"$f":"+XX!T143","v":0},null,null,{"$f":"+XX!L143","v":0}]
["",{"$f":"+IF(XX!C144=\"\",\"\",XX!C144)","v":""},{"$f":"IF(B143=\"\",\"\",COUNTIFS($B$3:B143,B143))","v":""},{"$f":"IF(B143=\"\",\"\",LOOKUP(B143,DataFIX!$F$3:$F$21,DataFIX!$E$3:$E$21))","v":""},{"$f":"IF(B143=\"\",\"\",LOOKUP(B143,DataFIX!$F$3:$F$41,DataFIX!$G$3:$G$41)+C143)","v":""},{"$f":"+XX!O144","v":"00:00:00"},{"$f":"+XX!E144","v":0},{"$f":"+XX!G144","v":0},{"$f":"+XX!T144","v":0},null,null,{"$f":"+XX!L144","v":0}]
["",{"$f":"+IF(XX!C145=\"\",\"\",XX!C145)","v":""},{"$f":"IF(B144=\"\",\"\",COUNTIFS($B$3:B144,B144))","v":""},{"$f":"IF(B144=\"\",\"\",LOOKUP(B144,DataFIX!$F$3:$F$21,DataFIX!$E$3:$E$21))","v":""},{"$f":"IF(B144=\"\",\"\",LOOKUP(B144,DataFIX!$F$3:$F$41,DataFIX!$G$3:$G$41)+C144)","v":""},{"$f":"+XX!O145","v":"00:00:00"},{"$f":"+XX!E145","v":0},{"$f":"+XX!G145","v":0},{"$f":"+XX!T145","v":0},null,null,{"$f":"+XX!L145","v":0}]
["",{"$f":"+IF(XX!C146=\"\",\"\",XX!C146)","v":""},{"$f":"IF(B145=\"\",\"\",COUNTIFS($B$3:B145,B145))","v":""},{"$f":"IF(B145=\"\",\"\",LOOKUP(B145,DataFIX!$F$3:$F$21,DataFIX!$E$3:$E$21))","v":""},{"$f":"IF(B145=\"\",\"\",LOOKUP(B145,DataFIX!$F$3:$F$41,DataFIX!$G$3:$G$41)+C145)","v":""},{"$f":"+XX!O146","v":"00:00:00"},{"$f":"+XX!E146","v":0},{"$f":"+XX!G146","v":0},{"$f":"+XX!T146","v":0},null,null,{"$f":"+XX!L146","v":0}]
["",{"$f":"+IF(XX!C147=\"\",\"\",XX!C147)","v":""},{"$f":"IF(B146=\"\",\"\",COUNTIFS($B$3:B146,B146))","v":""},{"$f":"IF(B146=\"\",\"\",LOOKUP(B146,DataFIX!$F$3:$F$21,DataFIX!$E$3:$E$21))","v":""},{"$f":"IF(B146=\"\",\"\",LOOKUP(B146,DataFIX!$F$3:$F$41,DataFIX!$G$3:$G$41)+C146)","v":""},{"$f":"+XX!O147","v":"00:00:00"},{"$f":"+XX!E147","v":0},{"$f":"+XX!G147","v":0},{"$f":"+XX!T147","v":0},null,null,{"$f":"+XX!L147","v":0}]
["",{"$f":"+IF(XX!C148=\"\",\"\",XX!C148)","v":""},{"$f":"IF(B147=\"\",\"\",COUNTIFS($B$3:B147,B147))","v":""},{"$f":"IF(B147=\"\",\"\",LOOKUP(B147,DataFIX!$F$3:$F$21,DataFIX!$E$3:$E$21))","v":""},{"$f":"IF(B147=\"\",\"\",LOOKUP(B147,DataFIX!$F$3:$F$41,DataFIX!$G$3:$G$41)+C147)","v":""},{"$f":"+XX!O148","v":"00:00:00"},{"$f":"+XX!E148","v":0},{"$f":"+XX!G148","v":0},{"$f":"+XX!T148","v":0},null,null,{"$f":"+XX!L148","v":0}]
["",{"$f":"+IF(XX!C149=\"\",\"\",XX!C149)","v":""},{"$f":"IF(B148=\"\",\"\",COUNTIFS($B$3:B148,B148))","v":""},{"$f":"IF(B148=\"\",\"\",LOOKUP(B148,DataFIX!$F$3:$F$21,DataFIX!$E$3:$E$21))","v":""},{"$f":"IF(B148=\"\",\"\",LOOKUP(B148,DataFIX!$F$3:$F$41,DataFIX!$G$3:$G$41)+C148)","v":""},{"$f":"+XX!O149","v":"00:00:00"},{"$f":"+XX!E149","v":0},{"$f":"+XX!G149","v":0},{"$f":"+XX!T149","v":0},null,null,{"$f":"+XX!L149","v":0}]
["",{"$f":"+IF(XX!C150=\"\",\"\",XX!C150)","v":""},{"$f":"IF(B149=\"\",\"\",COUNTIFS($B$3:B149,B149))","v":""},{"$f":"IF(B149=\"\",\"\",LOOKUP(B149,DataFIX!$F$3:$F$21,DataFIX!$E$3:$E$21))","v":""},{"$f":"IF(B149=\"\",\"\",LOOKUP(B149,DataFIX!$F$3:$F$41,DataFIX!$G$3:$G$41)+C149)","v":""},{"$f":"+XX!O150","v":"00:00:00"},{"$f":"+XX!E150","v":0},{"$f":"+XX!G150","v":0},{"$f":"+XX!T150","v":0},null,null,{"$f":"+XX!L150","v":0}]
["",{"$f":"+IF(XX!C151=\"\",\"\",XX!C151)","v":""},{"$f":"IF(B150=\"\",\"\",COUNTIFS($B$3:B150,B150))","v":""},{"$f":"IF(B150=\"\",\"\",LOOKUP(B150,DataFIX!$F$3:$F$21,DataFIX!$E$3:$E$21))","v":""},{"$f":"IF(B150=\"\",\"\",LOOKUP(B150,DataFIX!$F$3:$F$41,DataFIX!$G$3:$G$41)+C150)","v":""},{"$f":"+XX!O151","v":"00:00:00"},{"$f":"+XX!E151","v":0},{"$f":"+XX!G151","v":0},{"$f":"+XX!T151","v":0},null,null,{"$f":"+XX!L151","v":0}]
["",{"$f":"+IF(XX!C152=\"\",\"\",XX!C152)","v":""},{"$f":"IF(B151=\"\",\"\",COUNTIFS($B$3:B151,B151))","v":""},{"$f":"IF(B151=\"\",\"\",LOOKUP(B151,DataFIX!$F$3:$F$21,DataFIX!$E$3:$E$21))","v":""},{"$f":"IF(B151=\"\",\"\",LOOKUP(B151,DataFIX!$F$3:$F$41,DataFIX!$G$3:$G$41)+C151)","v":""},{"$f":"+XX!O152","v":"00:00:00"},{"$f":"+XX!E152","v":0},{"$f":"+XX!G152","v":0},{"$f":"+XX!T152","v":0},null,null,{"$f":"+XX!L152","v":0}]
["",{"$f":"+IF(XX!C153=\"\",\"\",XX!C153)","v":""},{"$f":"IF(B152=\"\",\"\",COUNTIFS($B$3:B152,B152))","v":""},{"$f":"IF(B152=\"\",\"\",LOOKUP(B152,DataFIX!$F$3:$F$21,DataFIX!$E$3:$E$21))","v":""},{"$f":"IF(B152=\"\",\"\",LOOKUP(B152,DataFIX!$F$3:$F$41,DataFIX!$G$3:$G$41)+C152)","v":""},{"$f":"+XX!O153","v":"00:00:00"},{"$f":"+XX!E153","v":0},{"$f":"+XX!G153","v":0},{"$f":"+XX!T153","v":0},null,null,{"$f":"+XX!L153","v":0}]
["",{"$f":"+IF(XX!C154=\"\",\"\",XX!C154)","v":""},{"$f":"IF(B153=\"\",\"\",COUNTIFS($B$3:B153,B153))","v":""},{"$f":"IF(B153=\"\",\"\",LOOKUP(B153,DataFIX!$F$3:$F$21,DataFIX!$E$3:$E$21))","v":""},{"$f":"IF(B153=\"\",\"\",LOOKUP(B153,DataFIX!$F$3:$F$41,DataFIX!$G$3:$G$41)+C153)","v":""},{"$f":"+XX!O154","v":"00:00:00"},{"$f":"+XX!E154","v":0},{"$f":"+XX!G154","v":0},{"$f":"+XX!T154","v":0},null,null,{"$f":"+XX!L154","v":0}]
["",{"$f":"+IF(XX!C155=\"\",\"\",XX!C155)","v":""},{"$f":"IF(B154=\"\",\"\",COUNTIFS($B$3:B154,B154))","v":""},{"$f":"IF(B154=\"\",\"\",LOOKUP(B154,DataFIX!$F$3:$F$21,DataFIX!$E$3:$E$21))","v":""},{"$f":"IF(B154=\"\",\"\",LOOKUP(B154,DataFIX!$F$3:$F$41,DataFIX!$G$3:$G$41)+C154)","v":""},{"$f":"+XX!O155","v":"00:00:00"},{"$f":"+XX!E155","v":0},{"$f":"+XX!G155","v":0},{"$f":"+XX!T155","v":0},null,null,{"$f":"+XX!L155","v":0}]
["",{"$f":"+IF(XX!C156=\"\",\"\",XX!C156)","v":""},{"$f":"IF(B155=\"\",\"\",COUNTIFS($B$3:B155,B155))","v":""},{"$f":"IF(B155=\"\",\"\",LOOKUP(B155,DataFIX!$F$3:$F$21,DataFIX!$E$3:$E$21))","v":""},{"$f":"IF(B155=\"\",\"\",LOOKUP(B155,DataFIX!$F$3:$F$41,DataFIX!$G$3:$G$41)+C155)","v":""},{"$f":"+XX!O156","v":"00:00:00"},{"$f":"+XX!E156","v":0},{"$f":"+XX!G156","v":0},{"$f":"+XX!T156","v":0},null,null,{"$f":"+XX!L156","v":0}]
["",{"$f":"+IF(XX!C157=\"\",\"\",XX!C157)","v":""},{"$f":"IF(B156=\"\",\"\",COUNTIFS($B$3:B156,B156))","v":""},{"$f":"IF(B156=\"\",\"\",LOOKUP(B156,DataFIX!$F$3:$F$21,DataFIX!$E$3:$E$21))","v":""},{"$f":"IF(B156=\"\",\"\",LOOKUP(B156,DataFIX!$F$3:$F$41,DataFIX!$G$3:$G$41)+C156)","v":""},{"$f":"+XX!O157","v":"00:00:00"},{"$f":"+XX!E157","v":0},{"$f":"+XX!G157","v":0},{"$f":"+XX!T157","v":0},null,null,{"$f":"+XX!L157","v":0}]
["",{"$f":"+IF(XX!C158=\"\",\"\",XX!C158)","v":""},{"$f":"IF(B157=\"\",\"\",COUNTIFS($B$3:B157,B157))","v":""},{"$f":"IF(B157=\"\",\"\",LOOKUP(B157,DataFIX!$F$3:$F$21,DataFIX!$E$3:$E$21))","v":""},{"$f":"IF(B157=\"\",\"\",LOOKUP(B157,DataFIX!$F$3:$F$41,DataFIX!$G$3:$G$41)+C157)","v":""},{"$f":"+XX!O158","v":"00:00:00"},{"$f":"+XX!E158","v":0},{"$f":"+XX!G158","v":0},{"$f":"+XX!T158","v":0},null,null,{"$f":"+XX!L158","v":0}]
["",{"$f":"+IF(XX!C159=\"\",\"\",XX!C159)","v":""},{"$f":"IF(B158=\"\",\"\",COUNTIFS($B$3:B158,B158))","v":""},{"$f":"IF(B158=\"\",\"\",LOOKUP(B158,DataFIX!$F$3:$F$21,DataFIX!$E$3:$E$21))","v":""},{"$f":"IF(B158=\"\",\"\",LOOKUP(B158,DataFIX!$F$3:$F$41,DataFIX!$G$3:$G$41)+C158)","v":""},{"$f":"+XX!O159","v":"00:00:00"},{"$f":"+XX!E159","v":0},{"$f":"+XX!G159","v":0},{"$f":"+XX!T159","v":0},null,null,{"$f":"+XX!L159","v":0}]
["",{"$f":"+IF(XX!C160=\"\",\"\",XX!C160)","v":""},{"$f":"IF(B159=\"\",\"\",COUNTIFS($B$3:B159,B159))","v":""},{"$f":"IF(B159=\"\",\"\",LOOKUP(B159,DataFIX!$F$3:$F$21,DataFIX!$E$3:$E$21))","v":""},{"$f":"IF(B159=\"\",\"\",LOOKUP(B159,DataFIX!$F$3:$F$41,DataFIX!$G$3:$G$41)+C159)","v":""},{"$f":"+XX!O160","v":"00:00:00"},{"$f":"+XX!E160","v":0},{"$f":"+XX!G160","v":0},{"$f":"+XX!T160","v":0},null,null,{"$f":"+XX!L160","v":0}]
["",{"$f":"+IF(XX!C161=\"\",\"\",XX!C161)","v":""},{"$f":"IF(B160=\"\",\"\",COUNTIFS($B$3:B160,B160))","v":""},{"$f":"IF(B160=\"\",\"\",LOOKUP(B160,DataFIX!$F$3:$F$21,DataFIX!$E$3:$E$21))","v":""},{"$f":"IF(B160=\"\",\"\",LOOKUP(B160,DataFIX!$F$3:$F$41,DataFIX!$G$3:$G$41)+C160)","v":""},{"$f":"+XX!O161","v":"00:00:00"},{"$f":"+XX!E161","v":0},{"$f":"+XX!G161","v":0},{"$f":"+XX!T161","v":0},null,null,{"$f":"+XX!L161","v":0}]
["",{"$f":"+IF(XX!C162=\"\",\"\",XX!C162)","v":""},{"$f":"IF(B161=\"\",\"\",COUNTIFS($B$3:B161,B161))","v":""},{"$f":"IF(B161=\"\",\"\",LOOKUP(B161,DataFIX!$F$3:$F$21,DataFIX!$E$3:$E$21))","v":""},{"$f":"IF(B161=\"\",\"\",LOOKUP(B161,DataFIX!$F$3:$F$41,DataFIX!$G$3:$G$41)+C161)","v":""},{"$f":"+XX!O162","v":"00:00:00"},{"$f":"+XX!E162","v":0},{"$f":"+XX!G162","v":0},{"$f":"+XX!T162","v":0},null,null,{"$f":"+XX!L162","v":0}]
["",{"$f":"+IF(XX!C163=\"\",\"\",XX!C163)","v":""},{"$f":"IF(B162=\"\",\"\",COUNTIFS($B$3:B162,B162))","v":""},{"$f":"IF(B162=\"\",\"\",LOOKUP(B162,DataFIX!$F$3:$F$21,DataFIX!$E$3:$E$21))","v":""},{"$f":"IF(B162=\"\",\"\",LOOKUP(B162,DataFIX!$F$3:$F$41,DataFIX!$G$3:$G$41)+C162)","v":""},{"$f":"+XX!O163","v":"00:00:00"},{"$f":"+XX!E163","v":0},{"$f":"+XX!G163","v":0},{"$f":"+XX!T163","v":0},null,null,{"$f":"+XX!L163","v":0}]
["",{"$f":"+IF(XX!C164=\"\",\"\",XX!C164)","v":""},{"$f":"IF(B163=\"\",\"\",COUNTIFS($B$3:B163,B163))","v":""},{"$f":"IF(B163=\"\",\"\",LOOKUP(B163,DataFIX!$F$3:$F$21,DataFIX!$E$3:$E$21))","v":""},{"$f":"IF(B163=\"\",\"\",LOOKUP(B163,DataFIX!$F$3:$F$41,DataFIX!$G$3:$G$41)+C163)","v":""},{"$f":"+XX!O164","v":"00:00:00"},{"$f":"+XX!E164","v":0},{"$f":"+XX!G164","v":0},{"$f":"+XX!T164","v":0},null,null,{"$f":"+XX!L164","v":0}]
["",{"$f":"+IF(XX!C165=\"\",\"\",XX!C165)","v":""},{"$f":"IF(B164=\"\",\"\",COUNTIFS($B$3:B164,B164))","v":""},{"$f":"IF(B164=\"\",\"\",LOOKUP(B164,DataFIX!$F$3:$F$21,DataFIX!$E$3:$E$21))","v":""},{"$f":"IF(B164=\"\",\"\",LOOKUP(B164,DataFIX!$F$3:$F$41,DataFIX!$G$3:$G$41)+C164)","v":""},{"$f":"+XX!O165","v":"00:00:00"},{"$f":"+XX!E165","v":0},{"$f":"+XX!G165","v":0},{"$f":"+XX!T165","v":0},null,null,{"$f":"+XX!L165","v":0}]
["",{"$f":"+IF(XX!C166=\"\",\"\",XX!C166)","v":""},{"$f":"IF(B165=\"\",\"\",COUNTIFS($B$3:B165,B165))","v":""},{"$f":"IF(B165=\"\",\"\",LOOKUP(B165,DataFIX!$F$3:$F$21,DataFIX!$E$3:$E$21))","v":""},{"$f":"IF(B165=\"\",\"\",LOOKUP(B165,DataFIX!$F$3:$F$41,DataFIX!$G$3:$G$41)+C165)","v":""},{"$f":"+XX!O166","v":"00:00:00"},{"$f":"+XX!E166","v":0},{"$f":"+XX!G166","v":0},{"$f":"+XX!T166","v":0},null,null,{"$f":"+XX!L166","v":0}]
["",{"$f":"+IF(XX!C167=\"\",\"\",XX!C167)","v":""},{"$f":"IF(B166=\"\",\"\",COUNTIFS($B$3:B166,B166))","v":""},{"$f":"IF(B166=\"\",\"\",LOOKUP(B166,DataFIX!$F$3:$F$21,DataFIX!$E$3:$E$21))","v":""},{"$f":"IF(B166=\"\",\"\",LOOKUP(B166,DataFIX!$F$3:$F$41,DataFIX!$G$3:$G$41)+C166)","v":""},{"$f":"+XX!O167","v":"00:00:00"},{"$f":"+XX!E167","v":0},{"$f":"+XX!G167","v":0},{"$f":"+XX!T167","v":0},null,null,{"$f":"+XX!L167","v":0}]
["",{"$f":"+IF(XX!C168=\"\",\"\",XX!C168)","v":""},{"$f":"IF(B167=\"\",\"\",COUNTIFS($B$3:B167,B167))","v":""},{"$f":"IF(B167=\"\",\"\",LOOKUP(B167,DataFIX!$F$3:$F$21,DataFIX!$E$3:$E$21))","v":""},{"$f":"IF(B167=\"\",\"\",LOOKUP(B167,DataFIX!$F$3:$F$41,DataFIX!$G$3:$G$41)+C167)","v":""},{"$f":"+XX!O168","v":"00:00:00"},{"$f":"+XX!E168","v":0},{"$f":"+XX!G168","v":0},{"$f":"+XX!T168","v":0},null,null,{"$f":"+XX!L168","v":0}]
["",{"$f":"+IF(XX!C169=\"\",\"\",XX!C169)","v":""},{"$f":"IF(B168=\"\",\"\",COUNTIFS($B$3:B168,B168))","v":""},{"$f":"IF(B168=\"\",\"\",LOOKUP(B168,DataFIX!$F$3:$F$21,DataFIX!$E$3:$E$21))","v":""},{"$f":"IF(B168=\"\",\"\",LOOKUP(B168,DataFIX!$F$3:$F$41,DataFIX!$G$3:$G$41)+C168)","v":""},{"$f":"+XX!O169","v":"00:00:00"},{"$f":"+XX!E169","v":0},{"$f":"+XX!G169","v":0},{"$f":"+XX!T169","v":0},null,null,{"$f":"+XX!L169","v":0}]
["",{"$f":"+IF(XX!C170=\"\",\"\",XX!C170)","v":""},{"$f":"IF(B169=\"\",\"\",COUNTIFS($B$3:B169,B169))","v":""},{"$f":"IF(B169=\"\",\"\",LOOKUP(B169,DataFIX!$F$3:$F$21,DataFIX!$E$3:$E$21))","v":""},{"$f":"IF(B169=\"\",\"\",LOOKUP(B169,DataFIX!$F$3:$F$41,DataFIX!$G$3:$G$41)+C169)","v":""},{"$f":"+XX!O170","v":"00:00:00"},{"$f":"+XX!E170","v":0},{"$f":"+XX!G170","v":0},{"$f":"+XX!T170","v":0},null,null,{"$f":"+XX!L170","v":0}]
["",{"$f":"+IF(XX!C171=\"\",\"\",XX!C171)","v":""},{"$f":"IF(B170=\"\",\"\",COUNTIFS($B$3:B170,B170))","v":""},{"$f":"IF(B170=\"\",\"\",LOOKUP(B170,DataFIX!$F$3:$F$21,DataFIX!$E$3:$E$21))","v":""},{"$f":"IF(B170=\"\",\"\",LOOKUP(B170,DataFIX!$F$3:$F$41,DataFIX!$G$3:$G$41)+C170)","v":""},{"$f":"+XX!O171","v":"00:00:00"},{"$f":"+XX!E171","v":0},{"$f":"+XX!G171","v":0},{"$f":"+XX!T171","v":0},null,null,{"$f":"+XX!L171","v":0}]
["",{"$f":"+IF(XX!C172=\"\",\"\",XX!C172)","v":""},{"$f":"IF(B171=\"\",\"\",COUNTIFS($B$3:B171,B171))","v":""},{"$f":"IF(B171=\"\",\"\",LOOKUP(B171,DataFIX!$F$3:$F$21,DataFIX!$E$3:$E$21))","v":""},{"$f":"IF(B171=\"\",\"\",LOOKUP(B171,DataFIX!$F$3:$F$41,DataFIX!$G$3:$G$41)+C171)","v":""},{"$f":"+XX!O172","v":"00:00:00"},{"$f":"+XX!E172","v":0},{"$f":"+XX!G172","v":0},{"$f":"+XX!T172","v":0},null,null,{"$f":"+XX!L172","v":0}]
["",{"$f":"+IF(XX!C173=\"\",\"\",XX!C173)","v":""},{"$f":"IF(B172=\"\",\"\",COUNTIFS($B$3:B172,B172))","v":""},{"$f":"IF(B172=\"\",\"\",LOOKUP(B172,DataFIX!$F$3:$F$21,DataFIX!$E$3:$E$21))","v":""},{"$f":"IF(B172=\"\",\"\",LOOKUP(B172,DataFIX!$F$3:$F$41,DataFIX!$G$3:$G$41)+C172)","v":""},{"$f":"+XX!O173","v":"00:00:00"},{"$f":"+XX!E173","v":0},{"$f":"+XX!G173","v":0},{"$f":"+XX!T173","v":0},null,null,{"$f":"+XX!L173","v":0}]
["",{"$f":"+IF(XX!C174=\"\",\"\",XX!C174)","v":""},{"$f":"IF(B173=\"\",\"\",COUNTIFS($B$3:B173,B173))","v":""},{"$f":"IF(B173=\"\",\"\",LOOKUP(B173,DataFIX!$F$3:$F$21,DataFIX!$E$3:$E$21))","v":""},{"$f":"IF(B173=\"\",\"\",LOOKUP(B173,DataFIX!$F$3:$F$41,DataFIX!$G$3:$G$41)+C173)","v":""},{"$f":"+XX!O174","v":"00:00:00"},{"$f":"+XX!E174","v":0},{"$f":"+XX!G174","v":0},{"$f":"+XX!T174","v":0},null,null,{"$f":"+XX!L174","v":0}]
["",{"$f":"+IF(XX!C175=\"\",\"\",XX!C175)","v":""},{"$f":"IF(B174=\"\",\"\",COUNTIFS($B$3:B174,B174))","v":""},{"$f":"IF(B174=\"\",\"\",LOOKUP(B174,DataFIX!$F$3:$F$21,DataFIX!$E$3:$E$21))","v":""},{"$f":"IF(B174=\"\",\"\",LOOKUP(B174,DataFIX!$F$3:$F$41,DataFIX!$G$3:$G$41)+C174)","v":""},{"$f":"+XX!O175","v":"00:00:00"},{"$f":"+XX!E175","v":0},{"$f":"+XX!G175","v":0},{"$f":"+XX!T175","v":0},null,null,{"$f":"+XX!L175","v":0}]
["",{"$f":"+IF(XX!C176=\"\",\"\",XX!C176)","v":""},{"$f":"IF(B175=\"\",\"\",COUNTIFS($B$3:B175,B175))","v":""},{"$f":"IF(B175=\"\",\"\",LOOKUP(B175,DataFIX!$F$3:$F$21,DataFIX!$E$3:$E$21))","v":""},{"$f":"IF(B175=\"\",\"\",LOOKUP(B175,DataFIX!$F$3:$F$41,DataFIX!$G$3:$G$41)+C175)","v":""},{"$f":"+XX!O176","v":"00:00:00"},{"$f":"+XX!E176","v":0},{"$f":"+XX!G176","v":0},{"$f":"+XX!T176","v":0},null,null,{"$f":"+XX!L176","v":0}]
["",{"$f":"+IF(XX!C177=\"\",\"\",XX!C177)","v":""},{"$f":"IF(B176=\"\",\"\",COUNTIFS($B$3:B176,B176))","v":""},{"$f":"IF(B176=\"\",\"\",LOOKUP(B176,DataFIX!$F$3:$F$21,DataFIX!$E$3:$E$21))","v":""},{"$f":"IF(B176=\"\",\"\",LOOKUP(B176,DataFIX!$F$3:$F$41,DataFIX!$G$3:$G$41)+C176)","v":""},{"$f":"+XX!O177","v":"00:00:00"},{"$f":"+XX!E177","v":0},{"$f":"+XX!G177","v":0},{"$f":"+XX!T177","v":0},null,null,{"$f":"+XX!L177","v":0}]
["",{"$f":"+IF(XX!C178=\"\",\"\",XX!C178)","v":""},{"$f":"IF(B177=\"\",\"\",COUNTIFS($B$3:B177,B177))","v":""},{"$f":"IF(B177=\"\",\"\",LOOKUP(B177,DataFIX!$F$3:$F$21,DataFIX!$E$3:$E$21))","v":""},{"$f":"IF(B177=\"\",\"\",LOOKUP(B177,DataFIX!$F$3:$F$41,DataFIX!$G$3:$G$41)+C177)","v":""},{"$f":"+XX!O178","v":"00:00:00"},{"$f":"+XX!E178","v":0},{"$f":"+XX!G178","v":0},{"$f":"+XX!T178","v":0},null,null,{"$f":"+XX!L178","v":0}]
["",{"$f":"+IF(XX!C179=\"\",\"\",XX!C179)","v":""},{"$f":"IF(B178=\"\",\"\",COUNTIFS($B$3:B178,B178))","v":""},{"$f":"IF(B178=\"\",\"\",LOOKUP(B178,DataFIX!$F$3:$F$21,DataFIX!$E$3:$E$21))","v":""},{"$f":"IF(B178=\"\",\"\",LOOKUP(B178,DataFIX!$F$3:$F$41,DataFIX!$G$3:$G$41)+C178)","v":""},{"$f":"+XX!O179","v":"00:00:00"},{"$f":"+XX!E179","v":0},{"$f":"+XX!G179","v":0},{"$f":"+XX!T179","v":0},null,null,{"$f":"+XX!L179","v":0}]
["",{"$f":"+IF(XX!C180=\"\",\"\",XX!C180)","v":""},{"$f":"IF(B179=\"\",\"\",COUNTIFS($B$3:B179,B179))","v":""},{"$f":"IF(B179=\"\",\"\",LOOKUP(B179,DataFIX!$F$3:$F$21,DataFIX!$E$3:$E$21))","v":""},{"$f":"IF(B179=\"\",\"\",LOOKUP(B179,DataFIX!$F$3:$F$41,DataFIX!$G$3:$G$41)+C179)","v":""},{"$f":"+XX!O180","v":"00:00:00"},{"$f":"+XX!E180","v":0},{"$f":"+XX!G180","v":0},{"$f":"+XX!T180","v":0},null,null,{"$f":"+XX!L180","v":0}]
["",{"$f":"+IF(XX!C181=\"\",\"\",XX!C181)","v":""},{"$f":"IF(B180=\"\",\"\",COUNTIFS($B$3:B180,B180))","v":""},{"$f":"IF(B180=\"\",\"\",LOOKUP(B180,DataFIX!$F$3:$F$21,DataFIX!$E$3:$E$21))","v":""},{"$f":"IF(B180=\"\",\"\",LOOKUP(B180,DataFIX!$F$3:$F$41,DataFIX!$G$3:$G$41)+C180)","v":""},{"$f":"+XX!O181","v":"00:00:00"},{"$f":"+XX!E181","v":0},{"$f":"+XX!G181","v":0},{"$f":"+XX!T181","v":0},null,null,{"$f":"+XX!L181","v":0}]
["",{"$f":"+IF(XX!C182=\"\",\"\",XX!C182)","v":""},{"$f":"IF(B181=\"\",\"\",COUNTIFS($B$3:B181,B181))","v":""},{"$f":"IF(B181=\"\",\"\",LOOKUP(B181,DataFIX!$F$3:$F$21,DataFIX!$E$3:$E$21))","v":""},{"$f":"IF(B181=\"\",\"\",LOOKUP(B181,DataFIX!$F$3:$F$41,DataFIX!$G$3:$G$41)+C181)","v":""},{"$f":"+XX!O182","v":"00:00:00"},{"$f":"+XX!E182","v":0},{"$f":"+XX!G182","v":0},{"$f":"+XX!T182","v":0},null,null,{"$f":"+XX!L182","v":0}]
["",{"$f":"+IF(XX!C183=\"\",\"\",XX!C183)","v":""},{"$f":"IF(B182=\"\",\"\",COUNTIFS($B$3:B182,B182))","v":""},{"$f":"IF(B182=\"\",\"\",LOOKUP(B182,DataFIX!$F$3:$F$21,DataFIX!$E$3:$E$21))","v":""},{"$f":"IF(B182=\"\",\"\",LOOKUP(B182,DataFIX!$F$3:$F$41,DataFIX!$G$3:$G$41)+C182)","v":""},{"$f":"+XX!O183","v":"00:00:00"},{"$f":"+XX!E183","v":0},{"$f":"+XX!G183","v":0},{"$f":"+XX!T183","v":0},null,null,{"$f":"+XX!L183","v":0}]
["",{"$f":"+IF(XX!C184=\"\",\"\",XX!C184)","v":""},{"$f":"IF(B183=\"\",\"\",COUNTIFS($B$3:B183,B183))","v":""},{"$f":"IF(B183=\"\",\"\",LOOKUP(B183,DataFIX!$F$3:$F$21,DataFIX!$E$3:$E$21))","v":""},{"$f":"IF(B183=\"\",\"\",LOOKUP(B183,DataFIX!$F$3:$F$41,DataFIX!$G$3:$G$41)+C183)","v":""},{"$f":"+XX!O184","v":"00:00:00"},{"$f":"+XX!E184","v":0},{"$f":"+XX!G184","v":0},{"$f":"+XX!T184","v":0},null,null,{"$f":"+XX!L184","v":0}]
["",{"$f":"+IF(XX!C185=\"\",\"\",XX!C185)","v":""},{"$f":"IF(B184=\"\",\"\",COUNTIFS($B$3:B184,B184))","v":""},{"$f":"IF(B184=\"\",\"\",LOOKUP(B184,DataFIX!$F$3:$F$21,DataFIX!$E$3:$E$21))","v":""},{"$f":"IF(B184=\"\",\"\",LOOKUP(B184,DataFIX!$F$3:$F$41,DataFIX!$G$3:$G$41)+C184)","v":""},{"$f":"+XX!O185","v":"00:00:00"},{"$f":"+XX!E185","v":0},{"$f":"+XX!G185","v":0},{"$f":"+XX!T185","v":0},null,null,{"$f":"+XX!L185","v":0}]
["",{"$f":"+IF(XX!C186=\"\",\"\",XX!C186)","v":""},{"$f":"IF(B185=\"\",\"\",COUNTIFS($B$3:B185,B185))","v":""},{"$f":"IF(B185=\"\",\"\",LOOKUP(B185,DataFIX!$F$3:$F$21,DataFIX!$E$3:$E$21))","v":""},{"$f":"IF(B185=\"\",\"\",LOOKUP(B185,DataFIX!$F$3:$F$41,DataFIX!$G$3:$G$41)+C185)","v":""},{"$f":"+XX!O186","v":"00:00:00"},{"$f":"+XX!E186","v":0},{"$f":"+XX!G186","v":0},{"$f":"+XX!T186","v":0},null,null,{"$f":"+XX!L186","v":0}]
["",{"$f":"+IF(XX!C187=\"\",\"\",XX!C187)","v":""},{"$f":"IF(B186=\"\",\"\",COUNTIFS($B$3:B186,B186))","v":""},{"$f":"IF(B186=\"\",\"\",LOOKUP(B186,DataFIX!$F$3:$F$21,DataFIX!$E$3:$E$21))","v":""},{"$f":"IF(B186=\"\",\"\",LOOKUP(B186,DataFIX!$F$3:$F$41,DataFIX!$G$3:$G$41)+C186)","v":""},{"$f":"+XX!O187","v":"00:00:00"},{"$f":"+XX!E187","v":0},{"$f":"+XX!G187","v":0},{"$f":"+XX!T187","v":0},null,null,{"$f":"+XX!L187","v":0}]
["",{"$f":"+IF(XX!C188=\"\",\"\",XX!C188)","v":""},{"$f":"IF(B187=\"\",\"\",COUNTIFS($B$3:B187,B187))","v":""},{"$f":"IF(B187=\"\",\"\",LOOKUP(B187,DataFIX!$F$3:$F$21,DataFIX!$E$3:$E$21))","v":""},{"$f":"IF(B187=\"\",\"\",LOOKUP(B187,DataFIX!$F$3:$F$41,DataFIX!$G$3:$G$41)+C187)","v":""},{"$f":"+XX!O188","v":"00:00:00"},{"$f":"+XX!E188","v":0},{"$f":"+XX!G188","v":0},{"$f":"+XX!T188","v":0},null,null,{"$f":"+XX!L188","v":0}]
["",{"$f":"+IF(XX!C189=\"\",\"\",XX!C189)","v":""},{"$f":"IF(B188=\"\",\"\",COUNTIFS($B$3:B188,B188))","v":""},{"$f":"IF(B188=\"\",\"\",LOOKUP(B188,DataFIX!$F$3:$F$21,DataFIX!$E$3:$E$21))","v":""},{"$f":"IF(B188=\"\",\"\",LOOKUP(B188,DataFIX!$F$3:$F$41,DataFIX!$G$3:$G$41)+C188)","v":""},{"$f":"+XX!O189","v":"00:00:00"},{"$f":"+XX!E189","v":0},{"$f":"+XX!G189","v":0},{"$f":"+XX!T189","v":0},null,null,{"$f":"+XX!L189","v":0}]
["",{"$f":"+IF(XX!C190=\"\",\"\",XX!C190)","v":""},{"$f":"IF(B189=\"\",\"\",COUNTIFS($B$3:B189,B189))","v":""},{"$f":"IF(B189=\"\",\"\",LOOKUP(B189,DataFIX!$F$3:$F$21,DataFIX!$E$3:$E$21))","v":""},{"$f":"IF(B189=\"\",\"\",LOOKUP(B189,DataFIX!$F$3:$F$41,DataFIX!$G$3:$G$41)+C189)","v":""},{"$f":"+XX!O190","v":"00:00:00"},{"$f":"+XX!E190","v":0},{"$f":"+XX!G190","v":0},{"$f":"+XX!T190","v":0},null,null,{"$f":"+XX!L190","v":0}]
["",{"$f":"+IF(XX!C191=\"\",\"\",XX!C191)","v":""},{"$f":"IF(B190=\"\",\"\",COUNTIFS($B$3:B190,B190))","v":""},{"$f":"IF(B190=\"\",\"\",LOOKUP(B190,DataFIX!$F$3:$F$21,DataFIX!$E$3:$E$21))","v":""},{"$f":"IF(B190=\"\",\"\",LOOKUP(B190,DataFIX!$F$3:$F$41,DataFIX!$G$3:$G$41)+C190)","v":""},{"$f":"+XX!O191","v":"00:00:00"},{"$f":"+XX!E191","v":0},{"$f":"+XX!G191","v":0},{"$f":"+XX!T191","v":0},null,null,{"$f":"+XX!L191","v":0}]
["",{"$f":"+IF(XX!C192=\"\",\"\",XX!C192)","v":""},{"$f":"IF(B191=\"\",\"\",COUNTIFS($B$3:B191,B191))","v":""},{"$f":"IF(B191=\"\",\"\",LOOKUP(B191,DataFIX!$F$3:$F$21,DataFIX!$E$3:$E$21))","v":""},{"$f":"IF(B191=\"\",\"\",LOOKUP(B191,DataFIX!$F$3:$F$41,DataFIX!$G$3:$G$41)+C191)","v":""},{"$f":"+XX!O192","v":"00:00:00"},{"$f":"+XX!E192","v":0},{"$f":"+XX!G192","v":0},{"$f":"+XX!T192","v":0},null,null,{"$f":"+XX!L192","v":0}]
["",{"$f":"+IF(XX!C193=\"\",\"\",XX!C193)","v":""},{"$f":"IF(B192=\"\",\"\",COUNTIFS($B$3:B192,B192))","v":""},{"$f":"IF(B192=\"\",\"\",LOOKUP(B192,DataFIX!$F$3:$F$21,DataFIX!$E$3:$E$21))","v":""},{"$f":"IF(B192=\"\",\"\",LOOKUP(B192,DataFIX!$F$3:$F$41,DataFIX!$G$3:$G$41)+C192)","v":""},{"$f":"+XX!O193","v":"00:00:00"},{"$f":"+XX!E193","v":0},{"$f":"+XX!G193","v":0},{"$f":"+XX!T193","v":0},null,null,{"$f":"+XX!L193","v":0}]
["",{"$f":"+IF(XX!C194=\"\",\"\",XX!C194)","v":""},{"$f":"IF(B193=\"\",\"\",COUNTIFS($B$3:B193,B193))","v":""},{"$f":"IF(B193=\"\",\"\",LOOKUP(B193,DataFIX!$F$3:$F$21,DataFIX!$E$3:$E$21))","v":""},{"$f":"IF(B193=\"\",\"\",LOOKUP(B193,DataFIX!$F$3:$F$41,DataFIX!$G$3:$G$41)+C193)","v":""},{"$f":"+XX!O194","v":"00:00:00"},{"$f":"+XX!E194","v":0},{"$f":"+XX!G194","v":0},{"$f":"+XX!T194","v":0},null,null,{"$f":"+XX!L194","v":0}]
["",{"$f":"+IF(XX!C195=\"\",\"\",XX!C195)","v":""},{"$f":"IF(B194=\"\",\"\",COUNTIFS($B$3:B194,B194))","v":""},{"$f":"IF(B194=\"\",\"\",LOOKUP(B194,DataFIX!$F$3:$F$21,DataFIX!$E$3:$E$21))","v":""},{"$f":"IF(B194=\"\",\"\",LOOKUP(B194,DataFIX!$F$3:$F$41,DataFIX!$G$3:$G$41)+C194)","v":""},{"$f":"+XX!O195","v":"00:00:00"},{"$f":"+XX!E195","v":0},{"$f":"+XX!G195","v":0},{"$f":"+XX!T195","v":0},null,null,{"$f":"+XX!L195","v":0}]
["",{"$f":"+IF(XX!C196=\"\",\"\",XX!C196)","v":""},{"$f":"IF(B195=\"\",\"\",COUNTIFS($B$3:B195,B195))","v":""},{"$f":"IF(B195=\"\",\"\",LOOKUP(B195,DataFIX!$F$3:$F$21,DataFIX!$E$3:$E$21))","v":""},{"$f":"IF(B195=\"\",\"\",LOOKUP(B195,DataFIX!$F$3:$F$41,DataFIX!$G$3:$G$41)+C195)","v":""},{"$f":"+XX!O196","v":"00:00:00"},{"$f":"+XX!E196","v":0},{"$f":"+XX!G196","v":0},{"$f":"+XX!T196","v":0},null,null,{"$f":"+XX!L196","v":0}]
["",{"$f":"+IF(XX!C197=\"\",\"\",XX!C197)","v":""},{"$f":"IF(B196=\"\",\"\",COUNTIFS($B$3:B196,B196))","v":""},{"$f":"IF(B196=\"\",\"\",LOOKUP(B196,DataFIX!$F$3:$F$21,DataFIX!$E$3:$E$21))","v":""},{"$f":"IF(B196=\"\",\"\",LOOKUP(B196,DataFIX!$F$3:$F$41,DataFIX!$G$3:$G$41)+C196)","v":""},{"$f":"+XX!O197","v":"00:00:00"},{"$f":"+XX!E197","v":0},{"$f":"+XX!G197","v":0},{"$f":"+XX!T197","v":0},null,null,{"$f":"+XX!L197","v":0}]
["",{"$f":"+IF(XX!C198=\"\",\"\",XX!C198)","v":""},{"$f":"IF(B197=\"\",\"\",COUNTIFS($B$3:B197,B197))","v":""},{"$f":"IF(B197=\"\",\"\",LOOKUP(B197,DataFIX!$F$3:$F$21,DataFIX!$E$3:$E$21))","v":""},{"$f":"IF(B197=\"\",\"\",LOOKUP(B197,DataFIX!$F$3:$F$41,DataFIX!$G$3:$G$41)+C197)","v":""},{"$f":"+XX!O198","v":"00:00:00"},{"$f":"+XX!E198","v":0},{"$f":"+XX!G198","v":0},{"$f":"+XX!T198","v":0},null,null,{"$f":"+XX!L198","v":0}]
[{"$f":"+B198","v":""},{"$f":"+IF(XX!C199=\"\",\"\",XX!C199)","v":""},{"$f":"IF(B198=\"\",\"\",COUNTIFS($B$3:B198,B198))","v":""},{"$f":"IF(B198=\"\",\"\",LOOKUP(B198,DataFIX!$F$3:$F$21,DataFIX!$E$3:$E$21))","v":""},{"$f":"IF(B198=\"\",\"\",LOOKUP(B198,DataFIX!$F$3:$F$41,DataFIX!$G$3:$G$41)+C198)","v":""},{"$f":"+XX!O199","v":"00:00:00"},{"$f":"+XX!E199","v":0},{"$f":"+XX!G199","v":0},{"$f":"+XX!T199","v":0},null,null,{"$f":"+XX!L199","v":0}]
["",{"$f":"+IF(XX!C200=\"\",\"\",XX!C200)","v":""},{"$f":"IF(B199=\"\",\"\",COUNTIFS($B$3:B199,B199))","v":""},{"$f":"IF(B199=\"\",\"\",LOOKUP(B199,DataFIX!$F$3:$F$21,DataFIX!$E$3:$E$21))","v":""},{"$f":"IF(B199=\"\",\"\",LOOKUP(B199,DataFIX!$F$3:$F$41,DataFIX!$G$3:$G$41)+C199)","v":""},{"$f":"+XX!O200","v":"00:00:00"},{"$f":"+XX!E200","v":0},{"$f":"+XX!G200","v":0},{"$f":"+XX!T200","v":0},null,null,{"$f":"+XX!L200","v":0}]
["",{"$f":"+IF(XX!C201=\"\",\"\",XX!C201)","v":""},{"$f":"IF(B200=\"\",\"\",COUNTIFS($B$3:B200,B200))","v":""},{"$f":"IF(B200=\"\",\"\",LOOKUP(B200,DataFIX!$F$3:$F$21,DataFIX!$E$3:$E$21))","v":""},{"$f":"IF(B200=\"\",\"\",LOOKUP(B200,DataFIX!$F$3:$F$41,DataFIX!$G$3:$G$41)+C200)","v":""},{"$f":"+XX!O201","v":"00:00:00"},{"$f":"+XX!E201","v":0},{"$f":"+XX!G201","v":0},{"$f":"+XX!T201","v":0},null,null,{"$f":"+XX!L201","v":0}]
["",{"$f":"+IF(XX!C202=\"\",\"\",XX!C202)","v":""},{"$f":"IF(B201=\"\",\"\",COUNTIFS($B$3:B201,B201))","v":""},{"$f":"IF(B201=\"\",\"\",LOOKUP(B201,DataFIX!$F$3:$F$21,DataFIX!$E$3:$E$21))","v":""},{"$f":"IF(B201=\"\",\"\",LOOKUP(B201,DataFIX!$F$3:$F$41,DataFIX!$G$3:$G$41)+C201)","v":""},{"$f":"+XX!O202","v":"00:00:00"},{"$f":"+XX!E202","v":0},{"$f":"+XX!G202","v":0},{"$f":"+XX!T202","v":0},null,null,{"$f":"+XX!L202","v":0}]
["",{"$f":"+IF(XX!C203=\"\",\"\",XX!C203)","v":""},{"$f":"IF(B202=\"\",\"\",COUNTIFS($B$3:B202,B202))","v":""},{"$f":"IF(B202=\"\",\"\",LOOKUP(B202,DataFIX!$F$3:$F$21,DataFIX!$E$3:$E$21))","v":""},{"$f":"IF(B202=\"\",\"\",LOOKUP(B202,DataFIX!$F$3:$F$41,DataFIX!$G$3:$G$41)+C202)","v":""},{"$f":"+XX!O203","v":"00:00:00"},{"$f":"+XX!E203","v":0},{"$f":"+XX!G203","v":0},{"$f":"+XX!T203","v":0},null,null,{"$f":"+XX!L203","v":0}]
["",{"$f":"+IF(XX!C204=\"\",\"\",XX!C204)","v":""},{"$f":"IF(B203=\"\",\"\",COUNTIFS($B$3:B203,B203))","v":""},{"$f":"IF(B203=\"\",\"\",LOOKUP(B203,DataFIX!$F$3:$F$21,DataFIX!$E$3:$E$21))","v":""},{"$f":"IF(B203=\"\",\"\",LOOKUP(B203,DataFIX!$F$3:$F$41,DataFIX!$G$3:$G$41)+C203)","v":""},{"$f":"+XX!O204","v":"00:00:00"},{"$f":"+XX!E204","v":0},{"$f":"+XX!G204","v":0},{"$f":"+XX!T204","v":0},null,null,{"$f":"+XX!L204","v":0}]
["",{"$f":"+IF(XX!C205=\"\",\"\",XX!C205)","v":""},{"$f":"IF(B204=\"\",\"\",COUNTIFS($B$3:B204,B204))","v":""},{"$f":"IF(B204=\"\",\"\",LOOKUP(B204,DataFIX!$F$3:$F$21,DataFIX!$E$3:$E$21))","v":""},{"$f":"IF(B204=\"\",\"\",LOOKUP(B204,DataFIX!$F$3:$F$41,DataFIX!$G$3:$G$41)+C204)","v":""},{"$f":"+XX!O205","v":"00:00:00"},{"$f":"+XX!E205","v":0},{"$f":"+XX!G205","v":0},{"$f":"+XX!T205","v":0},null,null,{"$f":"+XX!L205","v":0}]
["",{"$f":"+IF(XX!C206=\"\",\"\",XX!C206)","v":""},{"$f":"IF(B205=\"\",\"\",COUNTIFS($B$3:B205,B205))","v":""},{"$f":"IF(B205=\"\",\"\",LOOKUP(B205,DataFIX!$F$3:$F$21,DataFIX!$E$3:$E$21))","v":""},{"$f":"IF(B205=\"\",\"\",LOOKUP(B205,DataFIX!$F$3:$F$41,DataFIX!$G$3:$G$41)+C205)","v":""},{"$f":"+XX!O206","v":"00:00:00"},{"$f":"+XX!E206","v":0},{"$f":"+XX!G206","v":0},{"$f":"+XX!T206","v":0},null,null,{"$f":"+XX!L206","v":0}]
["",{"$f":"+IF(XX!C207=\"\",\"\",XX!C207)","v":""},{"$f":"IF(B206=\"\",\"\",COUNTIFS($B$3:B206,B206))","v":""},{"$f":"IF(B206=\"\",\"\",LOOKUP(B206,DataFIX!$F$3:$F$21,DataFIX!$E$3:$E$21))","v":""},{"$f":"IF(B206=\"\",\"\",LOOKUP(B206,DataFIX!$F$3:$F$41,DataFIX!$G$3:$G$41)+C206)","v":""},{"$f":"+XX!O207","v":"00:00:00"},{"$f":"+XX!E207","v":0},{"$f":"+XX!G207","v":0},{"$f":"+XX!T207","v":0},null,null,{"$f":"+XX!L207","v":0}]
["",{"$f":"+IF(XX!C208=\"\",\"\",XX!C208)","v":""},{"$f":"IF(B207=\"\",\"\",COUNTIFS($B$3:B207,B207))","v":""},{"$f":"IF(B207=\"\",\"\",LOOKUP(B207,DataFIX!$F$3:$F$21,DataFIX!$E$3:$E$21))","v":""},{"$f":"IF(B207=\"\",\"\",LOOKUP(B207,DataFIX!$F$3:$F$41,DataFIX!$G$3:$G$41)+C207)","v":""},{"$f":"+XX!O208","v":"00:00:00"},{"$f":"+XX!E208","v":0},{"$f":"+XX!G208","v":0},{"$f":"+XX!T208","v":0},null,null,{"$f":"+XX!L208","v":0}]
["",{"$f":"+IF(XX!C209=\"\",\"\",XX!C209)","v":""},{"$f":"IF(B208=\"\",\"\",COUNTIFS($B$3:B208,B208))","v":""},{"$f":"IF(B208=\"\",\"\",LOOKUP(B208,DataFIX!$F$3:$F$21,DataFIX!$E$3:$E$21))","v":""},{"$f":"IF(B208=\"\",\"\",LOOKUP(B208,DataFIX!$F$3:$F$41,DataFIX!$G$3:$G$41)+C208)","v":""},{"$f":"+XX!O209","v":"00:00:00"},{"$f":"+XX!E209","v":0},{"$f":"+XX!G209","v":0},{"$f":"+XX!T209","v":0},null,null,{"$f":"+XX!L209","v":0}]
["",{"$f":"+IF(XX!C210=\"\",\"\",XX!C210)","v":""},{"$f":"IF(B209=\"\",\"\",COUNTIFS($B$3:B209,B209))","v":""},{"$f":"IF(B209=\"\",\"\",LOOKUP(B209,DataFIX!$F$3:$F$21,DataFIX!$E$3:$E$21))","v":""},{"$f":"IF(B209=\"\",\"\",LOOKUP(B209,DataFIX!$F$3:$F$41,DataFIX!$G$3:$G$41)+C209)","v":""},{"$f":"+XX!O210","v":"00:00:00"},{"$f":"+XX!E210","v":0},{"$f":"+XX!G210","v":0},{"$f":"+XX!T210","v":0},null,null,{"$f":"+XX!L210","v":0}]
["",{"$f":"+IF(XX!C211=\"\",\"\",XX!C211)","v":""},{"$f":"IF(B210=\"\",\"\",COUNTIFS($B$3:B210,B210))","v":""},{"$f":"IF(B210=\"\",\"\",LOOKUP(B210,DataFIX!$F$3:$F$21,DataFIX!$E$3:$E$21))","v":""},{"$f":"IF(B210=\"\",\"\",LOOKUP(B210,DataFIX!$F$3:$F$41,DataFIX!$G$3:$G$41)+C210)","v":""},{"$f":"+XX!O211","v":"00:00:00"},{"$f":"+XX!E211","v":0},{"$f":"+XX!G211","v":0},{"$f":"+XX!T211","v":0},null,null,{"$f":"+XX!L211","v":0}]
["",{"$f":"+IF(XX!C212=\"\",\"\",XX!C212)","v":""},{"$f":"IF(B211=\"\",\"\",COUNTIFS($B$3:B211,B211))","v":""},{"$f":"IF(B211=\"\",\"\",LOOKUP(B211,DataFIX!$F$3:$F$21,DataFIX!$E$3:$E$21))","v":""},{"$f":"IF(B211=\"\",\"\",LOOKUP(B211,DataFIX!$F$3:$F$41,DataFIX!$G$3:$G$41)+C211)","v":""},{"$f":"+XX!O212","v":"00:00:00"},{"$f":"+XX!E212","v":0},{"$f":"+XX!G212","v":0},{"$f":"+XX!T212","v":0},null,null,{"$f":"+XX!L212","v":0}]
["",{"$f":"+IF(XX!C213=\"\",\"\",XX!C213)","v":""},{"$f":"IF(B212=\"\",\"\",COUNTIFS($B$3:B212,B212))","v":""},{"$f":"IF(B212=\"\",\"\",LOOKUP(B212,DataFIX!$F$3:$F$21,DataFIX!$E$3:$E$21))","v":""},{"$f":"IF(B212=\"\",\"\",LOOKUP(B212,DataFIX!$F$3:$F$41,DataFIX!$G$3:$G$41)+C212)","v":""},{"$f":"+XX!O213","v":"00:00:00"},{"$f":"+XX!E213","v":0},{"$f":"+XX!G213","v":0},{"$f":"+XX!T213","v":0},null,null,{"$f":"+XX!L213","v":0}]
["",{"$f":"+IF(XX!C214=\"\",\"\",XX!C214)","v":""},{"$f":"IF(B213=\"\",\"\",COUNTIFS($B$3:B213,B213))","v":""},{"$f":"IF(B213=\"\",\"\",LOOKUP(B213,DataFIX!$F$3:$F$21,DataFIX!$E$3:$E$21))","v":""},{"$f":"IF(B213=\"\",\"\",LOOKUP(B213,DataFIX!$F$3:$F$41,DataFIX!$G$3:$G$41)+C213)","v":""},{"$f":"+XX!O214","v":"00:00:00"},{"$f":"+XX!E214","v":0},{"$f":"+XX!G214","v":0},{"$f":"+XX!T214","v":0},null,null,{"$f":"+XX!L214","v":0}]
["",{"$f":"+IF(XX!C215=\"\",\"\",XX!C215)","v":""},{"$f":"IF(B214=\"\",\"\",COUNTIFS($B$3:B214,B214))","v":""},{"$f":"IF(B214=\"\",\"\",LOOKUP(B214,DataFIX!$F$3:$F$21,DataFIX!$E$3:$E$21))","v":""},{"$f":"IF(B214=\"\",\"\",LOOKUP(B214,DataFIX!$F$3:$F$41,DataFIX!$G$3:$G$41)+C214)","v":""},{"$f":"+XX!O215","v":"00:00:00"},{"$f":"+XX!E215","v":0},{"$f":"+XX!G215","v":0},{"$f":"+XX!T215","v":0},null,null,{"$f":"+XX!L215","v":0}]
["",{"$f":"+IF(XX!C216=\"\",\"\",XX!C216)","v":""},{"$f":"IF(B215=\"\",\"\",COUNTIFS($B$3:B215,B215))","v":""},{"$f":"IF(B215=\"\",\"\",LOOKUP(B215,DataFIX!$F$3:$F$21,DataFIX!$E$3:$E$21))","v":""},{"$f":"IF(B215=\"\",\"\",LOOKUP(B215,DataFIX!$F$3:$F$41,DataFIX!$G$3:$G$41)+C215)","v":""},{"$f":"+XX!O216","v":"00:00:00"},{"$f":"+XX!E216","v":0},{"$f":"+XX!G216","v":0},{"$f":"+XX!T216","v":0},null,null,{"$f":"+XX!L216","v":0}]
["",{"$f":"+IF(XX!C217=\"\",\"\",XX!C217)","v":""},{"$f":"IF(B216=\"\",\"\",COUNTIFS($B$3:B216,B216))","v":""},{"$f":"IF(B216=\"\",\"\",LOOKUP(B216,DataFIX!$F$3:$F$21,DataFIX!$E$3:$E$21))","v":""},{"$f":"IF(B216=\"\",\"\",LOOKUP(B216,DataFIX!$F$3:$F$41,DataFIX!$G$3:$G$41)+C216)","v":""},{"$f":"+XX!O217","v":"00:00:00"},{"$f":"+XX!E217","v":0},{"$f":"+XX!G217","v":0},{"$f":"+XX!T217","v":0},null,null,{"$f":"+XX!L217","v":0}]
["",{"$f":"+IF(XX!C218=\"\",\"\",XX!C218)","v":""},{"$f":"IF(B217=\"\",\"\",COUNTIFS($B$3:B217,B217))","v":""},{"$f":"IF(B217=\"\",\"\",LOOKUP(B217,DataFIX!$F$3:$F$21,DataFIX!$E$3:$E$21))","v":""},{"$f":"IF(B217=\"\",\"\",LOOKUP(B217,DataFIX!$F$3:$F$41,DataFIX!$G$3:$G$41)+C217)","v":""},{"$f":"+XX!O218","v":"00:00:00"},{"$f":"+XX!E218","v":0},{"$f":"+XX!G218","v":0},{"$f":"+XX!T218","v":0},null,null,{"$f":"+XX!L218","v":0}]
["",{"$f":"+IF(XX!C219=\"\",\"\",XX!C219)","v":""},{"$f":"IF(B218=\"\",\"\",COUNTIFS($B$3:B218,B218))","v":""},{"$f":"IF(B218=\"\",\"\",LOOKUP(B218,DataFIX!$F$3:$F$21,DataFIX!$E$3:$E$21))","v":""},{"$f":"IF(B218=\"\",\"\",LOOKUP(B218,DataFIX!$F$3:$F$41,DataFIX!$G$3:$G$41)+C218)","v":""},{"$f":"+XX!O219","v":"00:00:00"},{"$f":"+XX!E219","v":0},{"$f":"+XX!G219","v":0},{"$f":"+XX!T219","v":0},null,null,{"$f":"+XX!L219","v":0}]
["",{"$f":"+IF(XX!C220=\"\",\"\",XX!C220)","v":""},{"$f":"IF(B219=\"\",\"\",COUNTIFS($B$3:B219,B219))","v":""},{"$f":"IF(B219=\"\",\"\",LOOKUP(B219,DataFIX!$F$3:$F$21,DataFIX!$E$3:$E$21))","v":""},{"$f":"IF(B219=\"\",\"\",LOOKUP(B219,DataFIX!$F$3:$F$41,DataFIX!$G$3:$G$41)+C219)","v":""},{"$f":"+XX!O220","v":"00:00:00"},{"$f":"+XX!E220","v":0},{"$f":"+XX!G220","v":0},{"$f":"+XX!T220","v":0},null,null,{"$f":"+XX!L220","v":0}]
["",{"$f":"+IF(XX!C221=\"\",\"\",XX!C221)","v":""},{"$f":"IF(B220=\"\",\"\",COUNTIFS($B$3:B220,B220))","v":""},{"$f":"IF(B220=\"\",\"\",LOOKUP(B220,DataFIX!$F$3:$F$21,DataFIX!$E$3:$E$21))","v":""},{"$f":"IF(B220=\"\",\"\",LOOKUP(B220,DataFIX!$F$3:$F$41,DataFIX!$G$3:$G$41)+C220)","v":""},{"$f":"+XX!O221","v":"00:00:00"},{"$f":"+XX!E221","v":0},{"$f":"+XX!G221","v":0},{"$f":"+XX!T221","v":0},null,null,{"$f":"+XX!L221","v":0}]
["",{"$f":"+IF(XX!C222=\"\",\"\",XX!C222)","v":""},{"$f":"IF(B221=\"\",\"\",COUNTIFS($B$3:B221,B221))","v":""},{"$f":"IF(B221=\"\",\"\",LOOKUP(B221,DataFIX!$F$3:$F$21,DataFIX!$E$3:$E$21))","v":""},{"$f":"IF(B221=\"\",\"\",LOOKUP(B221,DataFIX!$F$3:$F$41,DataFIX!$G$3:$G$41)+C221)","v":""},{"$f":"+XX!O222","v":"00:00:00"},{"$f":"+XX!E222","v":0},{"$f":"+XX!G222","v":0},{"$f":"+XX!T222","v":0},null,null,{"$f":"+XX!L222","v":0}]
["",{"$f":"+IF(XX!C223=\"\",\"\",XX!C223)","v":""},{"$f":"IF(B222=\"\",\"\",COUNTIFS($B$3:B222,B222))","v":""},{"$f":"IF(B222=\"\",\"\",LOOKUP(B222,DataFIX!$F$3:$F$21,DataFIX!$E$3:$E$21))","v":""},{"$f":"IF(B222=\"\",\"\",LOOKUP(B222,DataFIX!$F$3:$F$41,DataFIX!$G$3:$G$41)+C222)","v":""},{"$f":"+XX!O223","v":"00:00:00"},{"$f":"+XX!E223","v":0},{"$f":"+XX!G223","v":0},{"$f":"+XX!T223","v":0},null,null,{"$f":"+XX!L223","v":0}]
["",{"$f":"+IF(XX!C224=\"\",\"\",XX!C224)","v":""},{"$f":"IF(B223=\"\",\"\",COUNTIFS($B$3:B223,B223))","v":""},{"$f":"IF(B223=\"\",\"\",LOOKUP(B223,DataFIX!$F$3:$F$21,DataFIX!$E$3:$E$21))","v":""},{"$f":"IF(B223=\"\",\"\",LOOKUP(B223,DataFIX!$F$3:$F$41,DataFIX!$G$3:$G$41)+C223)","v":""},{"$f":"+XX!O224","v":"00:00:00"},{"$f":"+XX!E224","v":0},{"$f":"+XX!G224","v":0},{"$f":"+XX!T224","v":0},null,null,{"$f":"+XX!L224","v":0}]
["",{"$f":"+IF(XX!C225=\"\",\"\",XX!C225)","v":""},{"$f":"IF(B224=\"\",\"\",COUNTIFS($B$3:B224,B224))","v":""},{"$f":"IF(B224=\"\",\"\",LOOKUP(B224,DataFIX!$F$3:$F$21,DataFIX!$E$3:$E$21))","v":""},{"$f":"IF(B224=\"\",\"\",LOOKUP(B224,DataFIX!$F$3:$F$41,DataFIX!$G$3:$G$41)+C224)","v":""},{"$f":"+XX!O225","v":"00:00:00"},{"$f":"+XX!E225","v":0},{"$f":"+XX!G225","v":0},{"$f":"+XX!T225","v":0},null,null,{"$f":"+XX!L225","v":0}]
["",{"$f":"+IF(XX!C226=\"\",\"\",XX!C226)","v":""},{"$f":"IF(B225=\"\",\"\",COUNTIFS($B$3:B225,B225))","v":""},{"$f":"IF(B225=\"\",\"\",LOOKUP(B225,DataFIX!$F$3:$F$21,DataFIX!$E$3:$E$21))","v":""},{"$f":"IF(B225=\"\",\"\",LOOKUP(B225,DataFIX!$F$3:$F$41,DataFIX!$G$3:$G$41)+C225)","v":""},{"$f":"+XX!O226","v":"00:00:00"},{"$f":"+XX!E226","v":0},{"$f":"+XX!G226","v":0},{"$f":"+XX!T226","v":0},null,null,{"$f":"+XX!L226","v":0}]
["",{"$f":"+IF(XX!C227=\"\",\"\",XX!C227)","v":""},{"$f":"IF(B226=\"\",\"\",COUNTIFS($B$3:B226,B226))","v":""},{"$f":"IF(B226=\"\",\"\",LOOKUP(B226,DataFIX!$F$3:$F$21,DataFIX!$E$3:$E$21))","v":""},{"$f":"IF(B226=\"\",\"\",LOOKUP(B226,DataFIX!$F$3:$F$41,DataFIX!$G$3:$G$41)+C226)","v":""},{"$f":"+XX!O227","v":"00:00:00"},{"$f":"+XX!E227","v":0},{"$f":"+XX!G227","v":0},{"$f":"+XX!T227","v":0},null,null,{"$f":"+XX!L227","v":0}]
["",{"$f":"+IF(XX!C228=\"\",\"\",XX!C228)","v":""},{"$f":"IF(B227=\"\",\"\",COUNTIFS($B$3:B227,B227))","v":""},{"$f":"IF(B227=\"\",\"\",LOOKUP(B227,DataFIX!$F$3:$F$21,DataFIX!$E$3:$E$21))","v":""},{"$f":"IF(B227=\"\",\"\",LOOKUP(B227,DataFIX!$F$3:$F$41,DataFIX!$G$3:$G$41)+C227)","v":""},{"$f":"+XX!O228","v":"00:00:00"},{"$f":"+XX!E228","v":0},{"$f":"+XX!G228","v":0},{"$f":"+XX!T228","v":0},null,null,{"$f":"+XX!L228","v":0}]
["",{"$f":"+IF(XX!C229=\"\",\"\",XX!C229)","v":""},{"$f":"IF(B228=\"\",\"\",COUNTIFS($B$3:B228,B228))","v":""},{"$f":"IF(B228=\"\",\"\",LOOKUP(B228,DataFIX!$F$3:$F$21,DataFIX!$E$3:$E$21))","v":""},{"$f":"IF(B228=\"\",\"\",LOOKUP(B228,DataFIX!$F$3:$F$41,DataFIX!$G$3:$G$41)+C228)","v":""},{"$f":"+XX!O229","v":"00:00:00"},{"$f":"+XX!E229","v":0},{"$f":"+XX!G229","v":0},{"$f":"+XX!T229","v":0},null,null,{"$f":"+XX!L229","v":0}]
["",{"$f":"+IF(XX!C230=\"\",\"\",XX!C230)","v":""},{"$f":"IF(B229=\"\",\"\",COUNTIFS($B$3:B229,B229))","v":""},{"$f":"IF(B229=\"\",\"\",LOOKUP(B229,DataFIX!$F$3:$F$21,DataFIX!$E$3:$E$21))","v":""},{"$f":"IF(B229=\"\",\"\",LOOKUP(B229,DataFIX!$F$3:$F$41,DataFIX!$G$3:$G$41)+C229)","v":""},{"$f":"+XX!O230","v":"00:00:00"},{"$f":"+XX!E230","v":0},{"$f":"+XX!G230","v":0},{"$f":"+XX!T230","v":0},null,null,{"$f":"+XX!L230","v":0}]
["",{"$f":"+IF(XX!C231=\"\",\"\",XX!C231)","v":""},{"$f":"IF(B230=\"\",\"\",COUNTIFS($B$3:B230,B230))","v":""},{"$f":"IF(B230=\"\",\"\",LOOKUP(B230,DataFIX!$F$3:$F$21,DataFIX!$E$3:$E$21))","v":""},{"$f":"IF(B230=\"\",\"\",LOOKUP(B230,DataFIX!$F$3:$F$41,DataFIX!$G$3:$G$41)+C230)","v":""},{"$f":"+XX!O231","v":"00:00:00"},{"$f":"+XX!E231","v":0},{"$f":"+XX!G231","v":0},{"$f":"+XX!T231","v":0},null,null,{"$f":"+XX!L231","v":0}]
["",{"$f":"+IF(XX!C232=\"\",\"\",XX!C232)","v":""},{"$f":"IF(B231=\"\",\"\",COUNTIFS($B$3:B231,B231))","v":""},{"$f":"IF(B231=\"\",\"\",LOOKUP(B231,DataFIX!$F$3:$F$21,DataFIX!$E$3:$E$21))","v":""},{"$f":"IF(B231=\"\",\"\",LOOKUP(B231,DataFIX!$F$3:$F$41,DataFIX!$G$3:$G$41)+C231)","v":""},{"$f":"+XX!O232","v":"00:00:00"},{"$f":"+XX!E232","v":0},{"$f":"+XX!G232","v":0},{"$f":"+XX!T232","v":0},null,null,{"$f":"+XX!L232","v":0}]
["",{"$f":"+IF(XX!C233=\"\",\"\",XX!C233)","v":""},{"$f":"IF(B232=\"\",\"\",COUNTIFS($B$3:B232,B232))","v":""},{"$f":"IF(B232=\"\",\"\",LOOKUP(B232,DataFIX!$F$3:$F$21,DataFIX!$E$3:$E$21))","v":""},{"$f":"IF(B232=\"\",\"\",LOOKUP(B232,DataFIX!$F$3:$F$41,DataFIX!$G$3:$G$41)+C232)","v":""},{"$f":"+XX!O233","v":"00:00:00"},{"$f":"+XX!E233","v":0},{"$f":"+XX!G233","v":0},{"$f":"+XX!T233","v":0},null,null,{"$f":"+XX!L233","v":0}]
["",{"$f":"+IF(XX!C234=\"\",\"\",XX!C234)","v":""},{"$f":"IF(B233=\"\",\"\",COUNTIFS($B$3:B233,B233))","v":""},{"$f":"IF(B233=\"\",\"\",LOOKUP(B233,DataFIX!$F$3:$F$21,DataFIX!$E$3:$E$21))","v":""},{"$f":"IF(B233=\"\",\"\",LOOKUP(B233,DataFIX!$F$3:$F$41,DataFIX!$G$3:$G$41)+C233)","v":""},{"$f":"+XX!O234","v":"00:00:00"},{"$f":"+XX!E234","v":0},{"$f":"+XX!G234","v":0},{"$f":"+XX!T234","v":0},null,null,{"$f":"+XX!L234","v":0}]
["",{"$f":"+IF(XX!C235=\"\",\"\",XX!C235)","v":""},{"$f":"IF(B234=\"\",\"\",COUNTIFS($B$3:B234,B234))","v":""},{"$f":"IF(B234=\"\",\"\",LOOKUP(B234,DataFIX!$F$3:$F$21,DataFIX!$E$3:$E$21))","v":""},{"$f":"IF(B234=\"\",\"\",LOOKUP(B234,DataFIX!$F$3:$F$41,DataFIX!$G$3:$G$41)+C234)","v":""},{"$f":"+XX!O235","v":"00:00:00"},{"$f":"+XX!E235","v":0},{"$f":"+XX!G235","v":0},{"$f":"+XX!T235","v":0},null,null,{"$f":"+XX!L235","v":0}]
["",{"$f":"+IF(XX!C236=\"\",\"\",XX!C236)","v":""},{"$f":"IF(B235=\"\",\"\",COUNTIFS($B$3:B235,B235))","v":""},{"$f":"IF(B235=\"\",\"\",LOOKUP(B235,DataFIX!$F$3:$F$21,DataFIX!$E$3:$E$21))","v":""},{"$f":"IF(B235=\"\",\"\",LOOKUP(B235,DataFIX!$F$3:$F$41,DataFIX!$G$3:$G$41)+C235)","v":""},{"$f":"+XX!O236","v":"00:00:00"},{"$f":"+XX!E236","v":0},{"$f":"+XX!G236","v":0},{"$f":"+XX!T236","v":0},null,null,{"$f":"+XX!L236","v":0}]
["",{"$f":"+IF(XX!C237=\"\",\"\",XX!C237)","v":""},{"$f":"IF(B236=\"\",\"\",COUNTIFS($B$3:B236,B236))","v":""},{"$f":"IF(B236=\"\",\"\",LOOKUP(B236,DataFIX!$F$3:$F$21,DataFIX!$E$3:$E$21))","v":""},{"$f":"IF(B236=\"\",\"\",LOOKUP(B236,DataFIX!$F$3:$F$41,DataFIX!$G$3:$G$41)+C236)","v":""},{"$f":"+XX!O237","v":"00:00:00"},{"$f":"+XX!E237","v":0},{"$f":"+XX!G237","v":0},{"$f":"+XX!T237","v":0},null,null,{"$f":"+XX!L237","v":0}]
["",{"$f":"+IF(XX!C238=\"\",\"\",XX!C238)","v":""},{"$f":"IF(B237=\"\",\"\",COUNTIFS($B$3:B237,B237))","v":""},{"$f":"IF(B237=\"\",\"\",LOOKUP(B237,DataFIX!$F$3:$F$21,DataFIX!$E$3:$E$21))","v":""},{"$f":"IF(B237=\"\",\"\",LOOKUP(B237,DataFIX!$F$3:$F$41,DataFIX!$G$3:$G$41)+C237)","v":""},{"$f":"+XX!O238","v":"00:00:00"},{"$f":"+XX!E238","v":0},{"$f":"+XX!G238","v":0},{"$f":"+XX!T238","v":0},null,null,{"$f":"+XX!L238","v":0}]
["",{"$f":"+IF(XX!C239=\"\",\"\",XX!C239)","v":""},{"$f":"IF(B238=\"\",\"\",COUNTIFS($B$3:B238,B238))","v":""},{"$f":"IF(B238=\"\",\"\",LOOKUP(B238,DataFIX!$F$3:$F$21,DataFIX!$E$3:$E$21))","v":""},{"$f":"IF(B238=\"\",\"\",LOOKUP(B238,DataFIX!$F$3:$F$41,DataFIX!$G$3:$G$41)+C238)","v":""},{"$f":"+XX!O239","v":"00:00:00"},{"$f":"+XX!E239","v":0},{"$f":"+XX!G239","v":0},{"$f":"+XX!T239","v":0},null,null,{"$f":"+XX!L239","v":0}]
["",{"$f":"+IF(XX!C240=\"\",\"\",XX!C240)","v":""},{"$f":"IF(B239=\"\",\"\",COUNTIFS($B$3:B239,B239))","v":""},{"$f":"IF(B239=\"\",\"\",LOOKUP(B239,DataFIX!$F$3:$F$21,DataFIX!$E$3:$E$21))","v":""},{"$f":"IF(B239=\"\",\"\",LOOKUP(B239,DataFIX!$F$3:$F$41,DataFIX!$G$3:$G$41)+C239)","v":""},{"$f":"+XX!O240","v":"00:00:00"},{"$f":"+XX!E240","v":0},{"$f":"+XX!G240","v":0},{"$f":"+XX!T240","v":0},null,null,{"$f":"+XX!L240","v":0}]
["",{"$f":"+IF(XX!C241=\"\",\"\",XX!C241)","v":""},{"$f":"IF(B240=\"\",\"\",COUNTIFS($B$3:B240,B240))","v":""},{"$f":"IF(B240=\"\",\"\",LOOKUP(B240,DataFIX!$F$3:$F$21,DataFIX!$E$3:$E$21))","v":""},{"$f":"IF(B240=\"\",\"\",LOOKUP(B240,DataFIX!$F$3:$F$41,DataFIX!$G$3:$G$41)+C240)","v":""},{"$f":"+XX!O241","v":"00:00:00"},{"$f":"+XX!E241","v":0},{"$f":"+XX!G241","v":0},{"$f":"+XX!T241","v":0},null,null,{"$f":"+XX!L241","v":0}]
["",{"$f":"+IF(XX!C242=\"\",\"\",XX!C242)","v":""},{"$f":"IF(B241=\"\",\"\",COUNTIFS($B$3:B241,B241))","v":""},{"$f":"IF(B241=\"\",\"\",LOOKUP(B241,DataFIX!$F$3:$F$21,DataFIX!$E$3:$E$21))","v":""},{"$f":"IF(B241=\"\",\"\",LOOKUP(B241,DataFIX!$F$3:$F$41,DataFIX!$G$3:$G$41)+C241)","v":""},{"$f":"+XX!O242","v":"00:00:00"},{"$f":"+XX!E242","v":0},{"$f":"+XX!G242","v":0},{"$f":"+XX!T242","v":0},null,null,{"$f":"+XX!L242","v":0}]
["",{"$f":"+IF(XX!C243=\"\",\"\",XX!C243)","v":""},{"$f":"IF(B242=\"\",\"\",COUNTIFS($B$3:B242,B242))","v":""},{"$f":"IF(B242=\"\",\"\",LOOKUP(B242,DataFIX!$F$3:$F$21,DataFIX!$E$3:$E$21))","v":""},{"$f":"IF(B242=\"\",\"\",LOOKUP(B242,DataFIX!$F$3:$F$41,DataFIX!$G$3:$G$41)+C242)","v":""},{"$f":"+XX!O243","v":"00:00:00"},{"$f":"+XX!E243","v":0},{"$f":"+XX!G243","v":0},{"$f":"+XX!T243","v":0},null,null,{"$f":"+XX!L243","v":0}]
["",{"$f":"+IF(XX!C244=\"\",\"\",XX!C244)","v":""},{"$f":"IF(B243=\"\",\"\",COUNTIFS($B$3:B243,B243))","v":""},{"$f":"IF(B243=\"\",\"\",LOOKUP(B243,DataFIX!$F$3:$F$21,DataFIX!$E$3:$E$21))","v":""},{"$f":"IF(B243=\"\",\"\",LOOKUP(B243,DataFIX!$F$3:$F$41,DataFIX!$G$3:$G$41)+C243)","v":""},{"$f":"+XX!O244","v":"00:00:00"},{"$f":"+XX!E244","v":0},{"$f":"+XX!G244","v":0},{"$f":"+XX!T244","v":0},null,null,{"$f":"+XX!L244","v":0}]
["",{"$f":"+IF(XX!C245=\"\",\"\",XX!C245)","v":""},{"$f":"IF(B244=\"\",\"\",COUNTIFS($B$3:B244,B244))","v":""},{"$f":"IF(B244=\"\",\"\",LOOKUP(B244,DataFIX!$F$3:$F$21,DataFIX!$E$3:$E$21))","v":""},{"$f":"IF(B244=\"\",\"\",LOOKUP(B244,DataFIX!$F$3:$F$41,DataFIX!$G$3:$G$41)+C244)","v":""},{"$f":"+XX!O245","v":"00:00:00"},{"$f":"+XX!E245","v":0},{"$f":"+XX!G245","v":0},{"$f":"+XX!T245","v":0},null,null,{"$f":"+XX!L245","v":0}]
["",{"$f":"+IF(XX!C246=\"\",\"\",XX!C246)","v":""},{"$f":"IF(B245=\"\",\"\",COUNTIFS($B$3:B245,B245))","v":""},{"$f":"IF(B245=\"\",\"\",LOOKUP(B245,DataFIX!$F$3:$F$21,DataFIX!$E$3:$E$21))","v":""},{"$f":"IF(B245=\"\",\"\",LOOKUP(B245,DataFIX!$F$3:$F$41,DataFIX!$G$3:$G$41)+C245)","v":""},{"$f":"+XX!O246","v":"00:00:00"},{"$f":"+XX!E246","v":0},{"$f":"+XX!G246","v":0},{"$f":"+XX!T246","v":0},null,null,{"$f":"+XX!L246","v":0}]
["",{"$f":"+IF(XX!C247=\"\",\"\",XX!C247)","v":""},{"$f":"IF(B246=\"\",\"\",COUNTIFS($B$3:B246,B246))","v":""},{"$f":"IF(B246=\"\",\"\",LOOKUP(B246,DataFIX!$F$3:$F$21,DataFIX!$E$3:$E$21))","v":""},{"$f":"IF(B246=\"\",\"\",LOOKUP(B246,DataFIX!$F$3:$F$41,DataFIX!$G$3:$G$41)+C246)","v":""},{"$f":"+XX!O247","v":"00:00:00"},{"$f":"+XX!E247","v":0},{"$f":"+XX!G247","v":0},{"$f":"+XX!T247","v":0},null,null,{"$f":"+XX!L247","v":0}]
["",{"$f":"+IF(XX!C248=\"\",\"\",XX!C248)","v":""},{"$f":"IF(B247=\"\",\"\",COUNTIFS($B$3:B247,B247))","v":""},{"$f":"IF(B247=\"\",\"\",LOOKUP(B247,DataFIX!$F$3:$F$21,DataFIX!$E$3:$E$21))","v":""},{"$f":"IF(B247=\"\",\"\",LOOKUP(B247,DataFIX!$F$3:$F$41,DataFIX!$G$3:$G$41)+C247)","v":""},{"$f":"+XX!O248","v":"00:00:00"},{"$f":"+XX!E248","v":0},{"$f":"+XX!G248","v":0},{"$f":"+XX!T248","v":0},null,null,{"$f":"+XX!L248","v":0}]
["",{"$f":"+IF(XX!C249=\"\",\"\",XX!C249)","v":""},{"$f":"IF(B248=\"\",\"\",COUNTIFS($B$3:B248,B248))","v":""},{"$f":"IF(B248=\"\",\"\",LOOKUP(B248,DataFIX!$F$3:$F$21,DataFIX!$E$3:$E$21))","v":""},{"$f":"IF(B248=\"\",\"\",LOOKUP(B248,DataFIX!$F$3:$F$41,DataFIX!$G$3:$G$41)+C248)","v":""},{"$f":"+XX!O249","v":"00:00:00"},{"$f":"+XX!E249","v":0},{"$f":"+XX!G249","v":0},{"$f":"+XX!T249","v":0},null,null,{"$f":"+XX!L249","v":0}]
["",{"$f":"+IF(XX!C250=\"\",\"\",XX!C250)","v":""},{"$f":"IF(B249=\"\",\"\",COUNTIFS($B$3:B249,B249))","v":""},{"$f":"IF(B249=\"\",\"\",LOOKUP(B249,DataFIX!$F$3:$F$21,DataFIX!$E$3:$E$21))","v":""},{"$f":"IF(B249=\"\",\"\",LOOKUP(B249,DataFIX!$F$3:$F$41,DataFIX!$G$3:$G$41)+C249)","v":""},{"$f":"+XX!O250","v":"00:00:00"},{"$f":"+XX!E250","v":0},{"$f":"+XX!G250","v":0},{"$f":"+XX!T250","v":0},null,null,{"$f":"+XX!L250","v":0}]
["",{"$f":"+IF(XX!C251=\"\",\"\",XX!C251)","v":""},{"$f":"IF(B250=\"\",\"\",COUNTIFS($B$3:B250,B250))","v":""},{"$f":"IF(B250=\"\",\"\",LOOKUP(B250,DataFIX!$F$3:$F$21,DataFIX!$E$3:$E$21))","v":""},{"$f":"IF(B250=\"\",\"\",LOOKUP(B250,DataFIX!$F$3:$F$41,DataFIX!$G$3:$G$41)+C250)","v":""},{"$f":"+XX!O251","v":"00:00:00"},{"$f":"+XX!E251","v":0},{"$f":"+XX!G251","v":0},{"$f":"+XX!T251","v":0},null,null,{"$f":"+XX!L251","v":0}]
["",{"$f":"+IF(XX!C252=\"\",\"\",XX!C252)","v":""},{"$f":"IF(B251=\"\",\"\",COUNTIFS($B$3:B251,B251))","v":""},{"$f":"IF(B251=\"\",\"\",LOOKUP(B251,DataFIX!$F$3:$F$21,DataFIX!$E$3:$E$21))","v":""},{"$f":"IF(B251=\"\",\"\",LOOKUP(B251,DataFIX!$F$3:$F$41,DataFIX!$G$3:$G$41)+C251)","v":""},{"$f":"+XX!O252","v":"00:00:00"},{"$f":"+XX!E252","v":0},{"$f":"+XX!G252","v":0},{"$f":"+XX!T252","v":0},null,null,{"$f":"+XX!L252","v":0}]
["",{"$f":"+IF(XX!C253=\"\",\"\",XX!C253)","v":""},{"$f":"IF(B252=\"\",\"\",COUNTIFS($B$3:B252,B252))","v":""},{"$f":"IF(B252=\"\",\"\",LOOKUP(B252,DataFIX!$F$3:$F$21,DataFIX!$E$3:$E$21))","v":""},{"$f":"IF(B252=\"\",\"\",LOOKUP(B252,DataFIX!$F$3:$F$41,DataFIX!$G$3:$G$41)+C252)","v":""},{"$f":"+XX!O253","v":"00:00:00"},{"$f":"+XX!E253","v":0},{"$f":"+XX!G253","v":0},{"$f":"+XX!T253","v":0},null,null,{"$f":"+XX!L253","v":0}]
["",{"$f":"+IF(XX!C254=\"\",\"\",XX!C254)","v":""},{"$f":"IF(B253=\"\",\"\",COUNTIFS($B$3:B253,B253))","v":""},{"$f":"IF(B253=\"\",\"\",LOOKUP(B253,DataFIX!$F$3:$F$21,DataFIX!$E$3:$E$21))","v":""},{"$f":"IF(B253=\"\",\"\",LOOKUP(B253,DataFIX!$F$3:$F$41,DataFIX!$G$3:$G$41)+C253)","v":""},{"$f":"+XX!O254","v":"00:00:00"},{"$f":"+XX!E254","v":0},{"$f":"+XX!G254","v":0},{"$f":"+XX!T254","v":0},null,null,{"$f":"+XX!L254","v":0}]
["",{"$f":"+IF(XX!C255=\"\",\"\",XX!C255)","v":""},{"$f":"IF(B254=\"\",\"\",COUNTIFS($B$3:B254,B254))","v":""},{"$f":"IF(B254=\"\",\"\",LOOKUP(B254,DataFIX!$F$3:$F$21,DataFIX!$E$3:$E$21))","v":""},{"$f":"IF(B254=\"\",\"\",LOOKUP(B254,DataFIX!$F$3:$F$41,DataFIX!$G$3:$G$41)+C254)","v":""},{"$f":"+XX!O255","v":"00:00:00"},{"$f":"+XX!E255","v":0},{"$f":"+XX!G255","v":0},{"$f":"+XX!T255","v":0},null,null,{"$f":"+XX!L255","v":0}]
["",{"$f":"+IF(XX!C256=\"\",\"\",XX!C256)","v":""},{"$f":"IF(B255=\"\",\"\",COUNTIFS($B$3:B255,B255))","v":""},{"$f":"IF(B255=\"\",\"\",LOOKUP(B255,DataFIX!$F$3:$F$21,DataFIX!$E$3:$E$21))","v":""},{"$f":"IF(B255=\"\",\"\",LOOKUP(B255,DataFIX!$F$3:$F$41,DataFIX!$G$3:$G$41)+C255)","v":""},{"$f":"+XX!O256","v":"00:00:00"},{"$f":"+XX!E256","v":0},{"$f":"+XX!G256","v":0},{"$f":"+XX!T256","v":0},null,null,{"$f":"+XX!L256","v":0}]
["",{"$f":"+IF(XX!C257=\"\",\"\",XX!C257)","v":""},{"$f":"IF(B256=\"\",\"\",COUNTIFS($B$3:B256,B256))","v":""},{"$f":"IF(B256=\"\",\"\",LOOKUP(B256,DataFIX!$F$3:$F$21,DataFIX!$E$3:$E$21))","v":""},{"$f":"IF(B256=\"\",\"\",LOOKUP(B256,DataFIX!$F$3:$F$41,DataFIX!$G$3:$G$41)+C256)","v":""},{"$f":"+XX!O257","v":"00:00:00"},{"$f":"+XX!E257","v":0},{"$f":"+XX!G257","v":0},{"$f":"+XX!T257","v":0},null,null,{"$f":"+XX!L257","v":0}]
["",{"$f":"+IF(XX!C258=\"\",\"\",XX!C258)","v":""},{"$f":"IF(B257=\"\",\"\",COUNTIFS($B$3:B257,B257))","v":""},{"$f":"IF(B257=\"\",\"\",LOOKUP(B257,DataFIX!$F$3:$F$21,DataFIX!$E$3:$E$21))","v":""},{"$f":"IF(B257=\"\",\"\",LOOKUP(B257,DataFIX!$F$3:$F$41,DataFIX!$G$3:$G$41)+C257)","v":""},{"$f":"+XX!O258","v":"00:00:00"},{"$f":"+XX!E258","v":0},{"$f":"+XX!G258","v":0},{"$f":"+XX!T258","v":0},null,null,{"$f":"+XX!L258","v":0}]
["",{"$f":"+IF(XX!C259=\"\",\"\",XX!C259)","v":""},{"$f":"IF(B258=\"\",\"\",COUNTIFS($B$3:B258,B258))","v":""},{"$f":"IF(B258=\"\",\"\",LOOKUP(B258,DataFIX!$F$3:$F$21,DataFIX!$E$3:$E$21))","v":""},{"$f":"IF(B258=\"\",\"\",LOOKUP(B258,DataFIX!$F$3:$F$41,DataFIX!$G$3:$G$41)+C258)","v":""},{"$f":"+XX!O259","v":"00:00:00"},{"$f":"+XX!E259","v":0},{"$f":"+XX!G259","v":0},{"$f":"+XX!T259","v":0},null,null,{"$f":"+XX!L259","v":0}]
["",{"$f":"+IF(XX!C260=\"\",\"\",XX!C260)","v":""},{"$f":"IF(B259=\"\",\"\",COUNTIFS($B$3:B259,B259))","v":""},{"$f":"IF(B259=\"\",\"\",LOOKUP(B259,DataFIX!$F$3:$F$21,DataFIX!$E$3:$E$21))","v":""},{"$f":"IF(B259=\"\",\"\",LOOKUP(B259,DataFIX!$F$3:$F$41,DataFIX!$G$3:$G$41)+C259)","v":""},{"$f":"+XX!O260","v":"00:00:00"},{"$f":"+XX!E260","v":0},{"$f":"+XX!G260","v":0},{"$f":"+XX!T260","v":0},null,null,{"$f":"+XX!L260","v":0}]
["",{"$f":"+IF(XX!C261=\"\",\"\",XX!C261)","v":""},{"$f":"IF(B260=\"\",\"\",COUNTIFS($B$3:B260,B260))","v":""},{"$f":"IF(B260=\"\",\"\",LOOKUP(B260,DataFIX!$F$3:$F$21,DataFIX!$E$3:$E$21))","v":""},{"$f":"IF(B260=\"\",\"\",LOOKUP(B260,DataFIX!$F$3:$F$41,DataFIX!$G$3:$G$41)+C260)","v":""},{"$f":"+XX!O261","v":"00:00:00"},{"$f":"+XX!E261","v":0},{"$f":"+XX!G261","v":0},{"$f":"+XX!T261","v":0},null,null,{"$f":"+XX!L261","v":0}]
["",{"$f":"+IF(XX!C262=\"\",\"\",XX!C262)","v":""},{"$f":"IF(B261=\"\",\"\",COUNTIFS($B$3:B261,B261))","v":""},{"$f":"IF(B261=\"\",\"\",LOOKUP(B261,DataFIX!$F$3:$F$21,DataFIX!$E$3:$E$21))","v":""},{"$f":"IF(B261=\"\",\"\",LOOKUP(B261,DataFIX!$F$3:$F$41,DataFIX!$G$3:$G$41)+C261)","v":""},{"$f":"+XX!O262","v":"00:00:00"},{"$f":"+XX!E262","v":0},{"$f":"+XX!G262","v":0},{"$f":"+XX!T262","v":0},null,null,{"$f":"+XX!L262","v":0}]
[{"$f":"+B262","v":""},{"$f":"+IF(XX!C263=\"\",\"\",XX!C263)","v":""},{"$f":"IF(B262=\"\",\"\",COUNTIFS($B$3:B262,B262))","v":""},{"$f":"IF(B262=\"\",\"\",LOOKUP(B262,DataFIX!$F$3:$F$21,DataFIX!$E$3:$E$21))","v":""},{"$f":"IF(B262=\"\",\"\",LOOKUP(B262,DataFIX!$F$3:$F$41,DataFIX!$G$3:$G$41)+C262)","v":""},{"$f":"+XX!O263","v":"00:00:00"},{"$f":"+XX!E263","v":0},{"$f":"+XX!G263","v":0},{"$f":"+XX!T263","v":0},null,null,{"$f":"+XX!L263","v":0}]
["",{"$f":"+IF(XX!C264=\"\",\"\",XX!C264)","v":""},{"$f":"IF(B263=\"\",\"\",COUNTIFS($B$3:B263,B263))","v":""},{"$f":"IF(B263=\"\",\"\",LOOKUP(B263,DataFIX!$F$3:$F$21,DataFIX!$E$3:$E$21))","v":""},{"$f":"IF(B263=\"\",\"\",LOOKUP(B263,DataFIX!$F$3:$F$41,DataFIX!$G$3:$G$41)+C263)","v":""},{"$f":"+XX!O264","v":"00:00:00"},{"$f":"+XX!E264","v":0},{"$f":"+XX!G264","v":0},{"$f":"+XX!T264","v":0},null,null,{"$f":"+XX!L264","v":0}]
["",{"$f":"+IF(XX!C265=\"\",\"\",XX!C265)","v":""},{"$f":"IF(B264=\"\",\"\",COUNTIFS($B$3:B264,B264))","v":""},{"$f":"IF(B264=\"\",\"\",LOOKUP(B264,DataFIX!$F$3:$F$21,DataFIX!$E$3:$E$21))","v":""},{"$f":"IF(B264=\"\",\"\",LOOKUP(B264,DataFIX!$F$3:$F$41,DataFIX!$G$3:$G$41)+C264)","v":""},{"$f":"+XX!O265","v":"00:00:00"},{"$f":"+XX!E265","v":0},{"$f":"+XX!G265","v":0},{"$f":"+XX!T265","v":0},null,null,{"$f":"+XX!L265","v":0}]
["",{"$f":"+IF(XX!C266=\"\",\"\",XX!C266)","v":""},{"$f":"IF(B265=\"\",\"\",COUNTIFS($B$3:B265,B265))","v":""},{"$f":"IF(B265=\"\",\"\",LOOKUP(B265,DataFIX!$F$3:$F$21,DataFIX!$E$3:$E$21))","v":""},{"$f":"IF(B265=\"\",\"\",LOOKUP(B265,DataFIX!$F$3:$F$41,DataFIX!$G$3:$G$41)+C265)","v":""},{"$f":"+XX!O266","v":"00:00:00"},{"$f":"+XX!E266","v":0},{"$f":"+XX!G266","v":0},{"$f":"+XX!T266","v":0},null,null,{"$f":"+XX!L266","v":0}]
["",{"$f":"+IF(XX!C267=\"\",\"\",XX!C267)","v":""},{"$f":"IF(B266=\"\",\"\",COUNTIFS($B$3:B266,B266))","v":""},{"$f":"IF(B266=\"\",\"\",LOOKUP(B266,DataFIX!$F$3:$F$21,DataFIX!$E$3:$E$21))","v":""},{"$f":"IF(B266=\"\",\"\",LOOKUP(B266,DataFIX!$F$3:$F$41,DataFIX!$G$3:$G$41)+C266)","v":""},{"$f":"+XX!O267","v":"00:00:00"},{"$f":"+XX!E267","v":0},{"$f":"+XX!G267","v":0},{"$f":"+XX!T267","v":0},null,null,{"$f":"+XX!L267","v":0}]
["",{"$f":"+IF(XX!C268=\"\",\"\",XX!C268)","v":""},{"$f":"IF(B267=\"\",\"\",COUNTIFS($B$3:B267,B267))","v":""},{"$f":"IF(B267=\"\",\"\",LOOKUP(B267,DataFIX!$F$3:$F$21,DataFIX!$E$3:$E$21))","v":""},{"$f":"IF(B267=\"\",\"\",LOOKUP(B267,DataFIX!$F$3:$F$41,DataFIX!$G$3:$G$41)+C267)","v":""},{"$f":"+XX!O268","v":"00:00:00"},{"$f":"+XX!E268","v":0},{"$f":"+XX!G268","v":0},{"$f":"+XX!T268","v":0},null,null,{"$f":"+XX!L268","v":0}]
["",{"$f":"+IF(XX!C269=\"\",\"\",XX!C269)","v":""},{"$f":"IF(B268=\"\",\"\",COUNTIFS($B$3:B268,B268))","v":""},{"$f":"IF(B268=\"\",\"\",LOOKUP(B268,DataFIX!$F$3:$F$21,DataFIX!$E$3:$E$21))","v":""},{"$f":"IF(B268=\"\",\"\",LOOKUP(B268,DataFIX!$F$3:$F$41,DataFIX!$G$3:$G$41)+C268)","v":""},{"$f":"+XX!O269","v":"00:00:00"},{"$f":"+XX!E269","v":0},{"$f":"+XX!G269","v":0},{"$f":"+XX!T269","v":0},null,null,{"$f":"+XX!L269","v":0}]
["",{"$f":"+IF(XX!C270=\"\",\"\",XX!C270)","v":""},{"$f":"IF(B269=\"\",\"\",COUNTIFS($B$3:B269,B269))","v":""},{"$f":"IF(B269=\"\",\"\",LOOKUP(B269,DataFIX!$F$3:$F$21,DataFIX!$E$3:$E$21))","v":""},{"$f":"IF(B269=\"\",\"\",LOOKUP(B269,DataFIX!$F$3:$F$41,DataFIX!$G$3:$G$41)+C269)","v":""},{"$f":"+XX!O270","v":"00:00:00"},{"$f":"+XX!E270","v":0},{"$f":"+XX!G270","v":0},{"$f":"+XX!T270","v":0},null,null,{"$f":"+XX!L270","v":0}]
["",{"$f":"+IF(XX!C271=\"\",\"\",XX!C271)","v":""},{"$f":"IF(B270=\"\",\"\",COUNTIFS($B$3:B270,B270))","v":""},{"$f":"IF(B270=\"\",\"\",LOOKUP(B270,DataFIX!$F$3:$F$21,DataFIX!$E$3:$E$21))","v":""},{"$f":"IF(B270=\"\",\"\",LOOKUP(B270,DataFIX!$F$3:$F$41,DataFIX!$G$3:$G$41)+C270)","v":""},{"$f":"+XX!O271","v":"00:00:00"},{"$f":"+XX!E271","v":0},{"$f":"+XX!G271","v":0},{"$f":"+XX!T271","v":0},null,null,{"$f":"+XX!L271","v":0}]
["",{"$f":"+IF(XX!C272=\"\",\"\",XX!C272)","v":""},{"$f":"IF(B271=\"\",\"\",COUNTIFS($B$3:B271,B271))","v":""},{"$f":"IF(B271=\"\",\"\",LOOKUP(B271,DataFIX!$F$3:$F$21,DataFIX!$E$3:$E$21))","v":""},{"$f":"IF(B271=\"\",\"\",LOOKUP(B271,DataFIX!$F$3:$F$41,DataFIX!$G$3:$G$41)+C271)","v":""},{"$f":"+XX!O272","v":"00:00:00"},{"$f":"+XX!E272","v":0},{"$f":"+XX!G272","v":0},{"$f":"+XX!T272","v":0},null,null,{"$f":"+XX!L272","v":0}]
["",{"$f":"+IF(XX!C273=\"\",\"\",XX!C273)","v":""},{"$f":"IF(B272=\"\",\"\",COUNTIFS($B$3:B272,B272))","v":""},{"$f":"IF(B272=\"\",\"\",LOOKUP(B272,DataFIX!$F$3:$F$21,DataFIX!$E$3:$E$21))","v":""},{"$f":"IF(B272=\"\",\"\",LOOKUP(B272,DataFIX!$F$3:$F$41,DataFIX!$G$3:$G$41)+C272)","v":""},{"$f":"+XX!O273","v":"00:00:00"},{"$f":"+XX!E273","v":0},{"$f":"+XX!G273","v":0},{"$f":"+XX!T273","v":0},null,null,{"$f":"+XX!L273","v":0}]
["",{"$f":"+IF(XX!C274=\"\",\"\",XX!C274)","v":""},{"$f":"IF(B273=\"\",\"\",COUNTIFS($B$3:B273,B273))","v":""},{"$f":"IF(B273=\"\",\"\",LOOKUP(B273,DataFIX!$F$3:$F$21,DataFIX!$E$3:$E$21))","v":""},{"$f":"IF(B273=\"\",\"\",LOOKUP(B273,DataFIX!$F$3:$F$41,DataFIX!$G$3:$G$41)+C273)","v":""},{"$f":"+XX!O274","v":"00:00:00"},{"$f":"+XX!E274","v":0},{"$f":"+XX!G274","v":0},{"$f":"+XX!T274","v":0},null,null,{"$f":"+XX!L274","v":0}]
["",{"$f":"+IF(XX!C275=\"\",\"\",XX!C275)","v":""},{"$f":"IF(B274=\"\",\"\",COUNTIFS($B$3:B274,B274))","v":""},{"$f":"IF(B274=\"\",\"\",LOOKUP(B274,DataFIX!$F$3:$F$21,DataFIX!$E$3:$E$21))","v":""},{"$f":"IF(B274=\"\",\"\",LOOKUP(B274,DataFIX!$F$3:$F$41,DataFIX!$G$3:$G$41)+C274)","v":""},{"$f":"+XX!O275","v":"00:00:00"},{"$f":"+XX!E275","v":0},{"$f":"+XX!G275","v":0},{"$f":"+XX!T275","v":0},null,null,{"$f":"+XX!L275","v":0}]
["",{"$f":"+IF(XX!C276=\"\",\"\",XX!C276)","v":""},{"$f":"IF(B275=\"\",\"\",COUNTIFS($B$3:B275,B275))","v":""},{"$f":"IF(B275=\"\",\"\",LOOKUP(B275,DataFIX!$F$3:$F$21,DataFIX!$E$3:$E$21))","v":""},{"$f":"IF(B275=\"\",\"\",LOOKUP(B275,DataFIX!$F$3:$F$41,DataFIX!$G$3:$G$41)+C275)","v":""},{"$f":"+XX!O276","v":"00:00:00"},{"$f":"+XX!E276","v":0},{"$f":"+XX!G276","v":0},{"$f":"+XX!T276","v":0},null,null,{"$f":"+XX!L276","v":0}]
["",{"$f":"+IF(XX!C277=\"\",\"\",XX!C277)","v":""},{"$f":"IF(B276=\"\",\"\",COUNTIFS($B$3:B276,B276))","v":""},{"$f":"IF(B276=\"\",\"\",LOOKUP(B276,DataFIX!$F$3:$F$21,DataFIX!$E$3:$E$21))","v":""},{"$f":"IF(B276=\"\",\"\",LOOKUP(B276,DataFIX!$F$3:$F$41,DataFIX!$G$3:$G$41)+C276)","v":""},{"$f":"+XX!O277","v":"00:00:00"},{"$f":"+XX!E277","v":0},{"$f":"+XX!G277","v":0},{"$f":"+XX!T277","v":0},null,null,{"$f":"+XX!L277","v":0}]
["",{"$f":"+IF(XX!C278=\"\",\"\",XX!C278)","v":""},{"$f":"IF(B277=\"\",\"\",COUNTIFS($B$3:B277,B277))","v":""},{"$f":"IF(B277=\"\",\"\",LOOKUP(B277,DataFIX!$F$3:$F$21,DataFIX!$E$3:$E$21))","v":""},{"$f":"IF(B277=\"\",\"\",LOOKUP(B277,DataFIX!$F$3:$F$41,DataFIX!$G$3:$G$41)+C277)","v":""},{"$f":"+XX!O278","v":"00:00:00"},{"$f":"+XX!E278","v":0},{"$f":"+XX!G278","v":0},{"$f":"+XX!T278","v":0},null,null,{"$f":"+XX!L278","v":0}]
["",{"$f":"+IF(XX!C279=\"\",\"\",XX!C279)","v":""},{"$f":"IF(B278=\"\",\"\",COUNTIFS($B$3:B278,B278))","v":""},{"$f":"IF(B278=\"\",\"\",LOOKUP(B278,DataFIX!$F$3:$F$21,DataFIX!$E$3:$E$21))","v":""},{"$f":"IF(B278=\"\",\"\",LOOKUP(B278,DataFIX!$F$3:$F$41,DataFIX!$G$3:$G$41)+C278)","v":""},{"$f":"+XX!O279","v":"00:00:00"},{"$f":"+XX!E279","v":0},{"$f":"+XX!G279","v":0},{"$f":"+XX!T279","v":0},null,null,{"$f":"+XX!L279","v":0}]
["",{"$f":"+IF(XX!C280=\"\",\"\",XX!C280)","v":""},{"$f":"IF(B279=\"\",\"\",COUNTIFS($B$3:B279,B279))","v":""},{"$f":"IF(B279=\"\",\"\",LOOKUP(B279,DataFIX!$F$3:$F$21,DataFIX!$E$3:$E$21))","v":""},{"$f":"IF(B279=\"\",\"\",LOOKUP(B279,DataFIX!$F$3:$F$41,DataFIX!$G$3:$G$41)+C279)","v":""},{"$f":"+XX!O280","v":"00:00:00"},{"$f":"+XX!E280","v":0},{"$f":"+XX!G280","v":0},{"$f":"+XX!T280","v":0},null,null,{"$f":"+XX!L280","v":0}]
["",{"$f":"+IF(XX!C281=\"\",\"\",XX!C281)","v":""},{"$f":"IF(B280=\"\",\"\",COUNTIFS($B$3:B280,B280))","v":""},{"$f":"IF(B280=\"\",\"\",LOOKUP(B280,DataFIX!$F$3:$F$21,DataFIX!$E$3:$E$21))","v":""},{"$f":"IF(B280=\"\",\"\",LOOKUP(B280,DataFIX!$F$3:$F$41,DataFIX!$G$3:$G$41)+C280)","v":""},{"$f":"+XX!O281","v":"00:00:00"},{"$f":"+XX!E281","v":0},{"$f":"+XX!G281","v":0},{"$f":"+XX!T281","v":0},null,null,{"$f":"+XX!L281","v":0}]
["",{"$f":"+IF(XX!C282=\"\",\"\",XX!C282)","v":""},{"$f":"IF(B281=\"\",\"\",COUNTIFS($B$3:B281,B281))","v":""},{"$f":"IF(B281=\"\",\"\",LOOKUP(B281,DataFIX!$F$3:$F$21,DataFIX!$E$3:$E$21))","v":""},{"$f":"IF(B281=\"\",\"\",LOOKUP(B281,DataFIX!$F$3:$F$41,DataFIX!$G$3:$G$41)+C281)","v":""},{"$f":"+XX!O282","v":"00:00:00"},{"$f":"+XX!E282","v":0},{"$f":"+XX!G282","v":0},{"$f":"+XX!T282","v":0},null,null,{"$f":"+XX!L282","v":0}]
["",{"$f":"+IF(XX!C283=\"\",\"\",XX!C283)","v":""},{"$f":"IF(B282=\"\",\"\",COUNTIFS($B$3:B282,B282))","v":""},{"$f":"IF(B282=\"\",\"\",LOOKUP(B282,DataFIX!$F$3:$F$21,DataFIX!$E$3:$E$21))","v":""},{"$f":"IF(B282=\"\",\"\",LOOKUP(B282,DataFIX!$F$3:$F$41,DataFIX!$G$3:$G$41)+C282)","v":""},{"$f":"+XX!O283","v":"00:00:00"},{"$f":"+XX!E283","v":0},{"$f":"+XX!G283","v":0},{"$f":"+XX!T283","v":0},null,null,{"$f":"+XX!L283","v":0}]
["",{"$f":"+IF(XX!C284=\"\",\"\",XX!C284)","v":""},{"$f":"IF(B283=\"\",\"\",COUNTIFS($B$3:B283,B283))","v":""},{"$f":"IF(B283=\"\",\"\",LOOKUP(B283,DataFIX!$F$3:$F$21,DataFIX!$E$3:$E$21))","v":""},{"$f":"IF(B283=\"\",\"\",LOOKUP(B283,DataFIX!$F$3:$F$41,DataFIX!$G$3:$G$41)+C283)","v":""},{"$f":"+XX!O284","v":"00:00:00"},{"$f":"+XX!E284","v":0},{"$f":"+XX!G284","v":0},{"$f":"+XX!T284","v":0},null,null,{"$f":"+XX!L284","v":0}]
["",{"$f":"+IF(XX!C285=\"\",\"\",XX!C285)","v":""},{"$f":"IF(B284=\"\",\"\",COUNTIFS($B$3:B284,B284))","v":""},{"$f":"IF(B284=\"\",\"\",LOOKUP(B284,DataFIX!$F$3:$F$21,DataFIX!$E$3:$E$21))","v":""},{"$f":"IF(B284=\"\",\"\",LOOKUP(B284,DataFIX!$F$3:$F$41,DataFIX!$G$3:$G$41)+C284)","v":""},{"$f":"+XX!O285","v":"00:00:00"},{"$f":"+XX!E285","v":0},{"$f":"+XX!G285","v":0},{"$f":"+XX!T285","v":0},null,null,{"$f":"+XX!L285","v":0}]
["",{"$f":"+IF(XX!C286=\"\",\"\",XX!C286)","v":""},{"$f":"IF(B285=\"\",\"\",COUNTIFS($B$3:B285,B285))","v":""},{"$f":"IF(B285=\"\",\"\",LOOKUP(B285,DataFIX!$F$3:$F$21,DataFIX!$E$3:$E$21))","v":""},{"$f":"IF(B285=\"\",\"\",LOOKUP(B285,DataFIX!$F$3:$F$41,DataFIX!$G$3:$G$41)+C285)","v":""},{"$f":"+XX!O286","v":"00:00:00"},{"$f":"+XX!E286","v":0},{"$f":"+XX!G286","v":0},{"$f":"+XX!T286","v":0},null,null,{"$f":"+XX!L286","v":0}]
["",{"$f":"+IF(XX!C287=\"\",\"\",XX!C287)","v":""},{"$f":"IF(B286=\"\",\"\",COUNTIFS($B$3:B286,B286))","v":""},{"$f":"IF(B286=\"\",\"\",LOOKUP(B286,DataFIX!$F$3:$F$21,DataFIX!$E$3:$E$21))","v":""},{"$f":"IF(B286=\"\",\"\",LOOKUP(B286,DataFIX!$F$3:$F$41,DataFIX!$G$3:$G$41)+C286)","v":""},{"$f":"+XX!O287","v":"00:00:00"},{"$f":"+XX!E287","v":0},{"$f":"+XX!G287","v":0},{"$f":"+XX!T287","v":0},null,null,{"$f":"+XX!L287","v":0}]
["",{"$f":"+IF(XX!C288=\"\",\"\",XX!C288)","v":""},{"$f":"IF(B287=\"\",\"\",COUNTIFS($B$3:B287,B287))","v":""},{"$f":"IF(B287=\"\",\"\",LOOKUP(B287,DataFIX!$F$3:$F$21,DataFIX!$E$3:$E$21))","v":""},{"$f":"IF(B287=\"\",\"\",LOOKUP(B287,DataFIX!$F$3:$F$41,DataFIX!$G$3:$G$41)+C287)","v":""},{"$f":"+XX!O288","v":"00:00:00"},{"$f":"+XX!E288","v":0},{"$f":"+XX!G288","v":0},{"$f":"+XX!T288","v":0},null,null,{"$f":"+XX!L288","v":0}]
["",{"$f":"+IF(XX!C289=\"\",\"\",XX!C289)","v":""},{"$f":"IF(B288=\"\",\"\",COUNTIFS($B$3:B288,B288))","v":""},{"$f":"IF(B288=\"\",\"\",LOOKUP(B288,DataFIX!$F$3:$F$21,DataFIX!$E$3:$E$21))","v":""},{"$f":"IF(B288=\"\",\"\",LOOKUP(B288,DataFIX!$F$3:$F$41,DataFIX!$G$3:$G$41)+C288)","v":""},{"$f":"+XX!O289","v":"00:00:00"},{"$f":"+XX!E289","v":0},{"$f":"+XX!G289","v":0},{"$f":"+XX!T289","v":0},null,null,{"$f":"+XX!L289","v":0}]
["",{"$f":"+IF(XX!C290=\"\",\"\",XX!C290)","v":""},{"$f":"IF(B289=\"\",\"\",COUNTIFS($B$3:B289,B289))","v":""},{"$f":"IF(B289=\"\",\"\",LOOKUP(B289,DataFIX!$F$3:$F$21,DataFIX!$E$3:$E$21))","v":""},{"$f":"IF(B289=\"\",\"\",LOOKUP(B289,DataFIX!$F$3:$F$41,DataFIX!$G$3:$G$41)+C289)","v":""},{"$f":"+XX!O290","v":"00:00:00"},{"$f":"+XX!E290","v":0},{"$f":"+XX!G290","v":0},{"$f":"+XX!T290","v":0},null,null,{"$f":"+XX!L290","v":0}]
["",{"$f":"+IF(XX!C291=\"\",\"\",XX!C291)","v":""},{"$f":"IF(B290=\"\",\"\",COUNTIFS($B$3:B290,B290))","v":""},{"$f":"IF(B290=\"\",\"\",LOOKUP(B290,DataFIX!$F$3:$F$21,DataFIX!$E$3:$E$21))","v":""},{"$f":"IF(B290=\"\",\"\",LOOKUP(B290,DataFIX!$F$3:$F$41,DataFIX!$G$3:$G$41)+C290)","v":""},{"$f":"+XX!O291","v":"00:00:00"},{"$f":"+XX!E291","v":0},{"$f":"+XX!G291","v":0},{"$f":"+XX!T291","v":0},null,null,{"$f":"+XX!L291","v":0}]
["",{"$f":"+IF(XX!C292=\"\",\"\",XX!C292)","v":""},{"$f":"IF(B291=\"\",\"\",COUNTIFS($B$3:B291,B291))","v":""},{"$f":"IF(B291=\"\",\"\",LOOKUP(B291,DataFIX!$F$3:$F$21,DataFIX!$E$3:$E$21))","v":""},{"$f":"IF(B291=\"\",\"\",LOOKUP(B291,DataFIX!$F$3:$F$41,DataFIX!$G$3:$G$41)+C291)","v":""},{"$f":"+XX!O292","v":"00:00:00"},{"$f":"+XX!E292","v":0},{"$f":"+XX!G292","v":0},{"$f":"+XX!T292","v":0},null,null,{"$f":"+XX!L292","v":0}]
["",{"$f":"+IF(XX!C293=\"\",\"\",XX!C293)","v":""},{"$f":"IF(B292=\"\",\"\",COUNTIFS($B$3:B292,B292))","v":""},{"$f":"IF(B292=\"\",\"\",LOOKUP(B292,DataFIX!$F$3:$F$21,DataFIX!$E$3:$E$21))","v":""},{"$f":"IF(B292=\"\",\"\",LOOKUP(B292,DataFIX!$F$3:$F$41,DataFIX!$G$3:$G$41)+C292)","v":""},{"$f":"+XX!O293","v":"00:00:00"},{"$f":"+XX!E293","v":0},{"$f":"+XX!G293","v":0},{"$f":"+XX!T293","v":0},null,null,{"$f":"+XX!L293","v":0}]
["",{"$f":"+IF(XX!C294=\"\",\"\",XX!C294)","v":""},{"$f":"IF(B293=\"\",\"\",COUNTIFS($B$3:B293,B293))","v":""},{"$f":"IF(B293=\"\",\"\",LOOKUP(B293,DataFIX!$F$3:$F$21,DataFIX!$E$3:$E$21))","v":""},{"$f":"IF(B293=\"\",\"\",LOOKUP(B293,DataFIX!$F$3:$F$41,DataFIX!$G$3:$G$41)+C293)","v":""},{"$f":"+XX!O294","v":"00:00:00"},{"$f":"+XX!E294","v":0},{"$f":"+XX!G294","v":0},{"$f":"+XX!T294","v":0},null,null,{"$f":"+XX!L294","v":0}]
["",{"$f":"+IF(XX!C295=\"\",\"\",XX!C295)","v":""},{"$f":"IF(B294=\"\",\"\",COUNTIFS($B$3:B294,B294))","v":""},{"$f":"IF(B294=\"\",\"\",LOOKUP(B294,DataFIX!$F$3:$F$21,DataFIX!$E$3:$E$21))","v":""},{"$f":"IF(B294=\"\",\"\",LOOKUP(B294,DataFIX!$F$3:$F$41,DataFIX!$G$3:$G$41)+C294)","v":""},{"$f":"+XX!O295","v":"00:00:00"},{"$f":"+XX!E295","v":0},{"$f":"+XX!G295","v":0},{"$f":"+XX!T295","v":0},null,null,{"$f":"+XX!L295","v":0}]
["",{"$f":"+IF(XX!C296=\"\",\"\",XX!C296)","v":""},{"$f":"IF(B295=\"\",\"\",COUNTIFS($B$3:B295,B295))","v":""},{"$f":"IF(B295=\"\",\"\",LOOKUP(B295,DataFIX!$F$3:$F$21,DataFIX!$E$3:$E$21))","v":""},{"$f":"IF(B295=\"\",\"\",LOOKUP(B295,DataFIX!$F$3:$F$41,DataFIX!$G$3:$G$41)+C295)","v":""},{"$f":"+XX!O296","v":"00:00:00"},{"$f":"+XX!E296","v":0},{"$f":"+XX!G296","v":0},{"$f":"+XX!T296","v":0},null,null,{"$f":"+XX!L296","v":0}]
["",{"$f":"+IF(XX!C297=\"\",\"\",XX!C297)","v":""},{"$f":"IF(B296=\"\",\"\",COUNTIFS($B$3:B296,B296))","v":""},{"$f":"IF(B296=\"\",\"\",LOOKUP(B296,DataFIX!$F$3:$F$21,DataFIX!$E$3:$E$21))","v":""},{"$f":"IF(B296=\"\",\"\",LOOKUP(B296,DataFIX!$F$3:$F$41,DataFIX!$G$3:$G$41)+C296)","v":""},{"$f":"+XX!O297","v":"00:00:00"},{"$f":"+XX!E297","v":0},{"$f":"+XX!G297","v":0},{"$f":"+XX!T297","v":0},null,null,{"$f":"+XX!L297","v":0}]
["",{"$f":"+IF(XX!C298=\"\",\"\",XX!C298)","v":""},{"$f":"IF(B297=\"\",\"\",COUNTIFS($B$3:B297,B297))","v":""},{"$f":"IF(B297=\"\",\"\",LOOKUP(B297,DataFIX!$F$3:$F$21,DataFIX!$E$3:$E$21))","v":""},{"$f":"IF(B297=\"\",\"\",LOOKUP(B297,DataFIX!$F$3:$F$41,DataFIX!$G$3:$G$41)+C297)","v":""},{"$f":"+XX!O298","v":"00:00:00"},{"$f":"+XX!E298","v":0},{"$f":"+XX!G298","v":0},{"$f":"+XX!T298","v":0},null,null,{"$f":"+XX!L298","v":0}]
["",{"$f":"+IF(XX!C299=\"\",\"\",XX!C299)","v":""},{"$f":"IF(B298=\"\",\"\",COUNTIFS($B$3:B298,B298))","v":""},{"$f":"IF(B298=\"\",\"\",LOOKUP(B298,DataFIX!$F$3:$F$21,DataFIX!$E$3:$E$21))","v":""},{"$f":"IF(B298=\"\",\"\",LOOKUP(B298,DataFIX!$F$3:$F$41,DataFIX!$G$3:$G$41)+C298)","v":""},{"$f":"+XX!O299","v":"00:00:00"},{"$f":"+XX!E299","v":0},{"$f":"+XX!G299","v":0},{"$f":"+XX!T299","v":0},null,null,{"$f":"+XX!L299","v":0}]
["",{"$f":"+IF(XX!C300=\"\",\"\",XX!C300)","v":""},{"$f":"IF(B299=\"\",\"\",COUNTIFS($B$3:B299,B299))","v":""},{"$f":"IF(B299=\"\",\"\",LOOKUP(B299,DataFIX!$F$3:$F$21,DataFIX!$E$3:$E$21))","v":""},{"$f":"IF(B299=\"\",\"\",LOOKUP(B299,DataFIX!$F$3:$F$41,DataFIX!$G$3:$G$41)+C299)","v":""},{"$f":"+XX!O300","v":"00:00:00"},{"$f":"+XX!E300","v":0},{"$f":"+XX!G300","v":0},{"$f":"+XX!T300","v":0},null,null,{"$f":"+XX!L300","v":0}]
["",{"$f":"+IF(XX!C301=\"\",\"\",XX!C301)","v":""},{"$f":"IF(B300=\"\",\"\",COUNTIFS($B$3:B300,B300))","v":""},{"$f":"IF(B300=\"\",\"\",LOOKUP(B300,DataFIX!$F$3:$F$21,DataFIX!$E$3:$E$21))","v":""},{"$f":"IF(B300=\"\",\"\",LOOKUP(B300,DataFIX!$F$3:$F$41,DataFIX!$G$3:$G$41)+C300)","v":""},{"$f":"+XX!O301","v":"00:00:00"},{"$f":"+XX!E301","v":0},{"$f":"+XX!G301","v":0},{"$f":"+XX!T301","v":0},null,null,{"$f":"+XX!L301","v":0}]
["",{"$f":"+IF(XX!C302=\"\",\"\",XX!C302)","v":""},{"$f":"IF(B301=\"\",\"\",COUNTIFS($B$3:B301,B301))","v":""},{"$f":"IF(B301=\"\",\"\",LOOKUP(B301,DataFIX!$F$3:$F$21,DataFIX!$E$3:$E$21))","v":""},{"$f":"IF(B301=\"\",\"\",LOOKUP(B301,DataFIX!$F$3:$F$41,DataFIX!$G$3:$G$41)+C301)","v":""},{"$f":"+XX!O302","v":"00:00:00"},{"$f":"+XX!E302","v":0},{"$f":"+XX!G302","v":0},{"$f":"+XX!T302","v":0},null,null,{"$f":"+XX!L302","v":0}]
["",{"$f":"+IF(XX!C303=\"\",\"\",XX!C303)","v":""},{"$f":"IF(B302=\"\",\"\",COUNTIFS($B$3:B302,B302))","v":""},{"$f":"IF(B302=\"\",\"\",LOOKUP(B302,DataFIX!$F$3:$F$21,DataFIX!$E$3:$E$21))","v":""},{"$f":"IF(B302=\"\",\"\",LOOKUP(B302,DataFIX!$F$3:$F$41,DataFIX!$G$3:$G$41)+C302)","v":""},{"$f":"+XX!O303","v":"00:00:00"},{"$f":"+XX!E303","v":0},{"$f":"+XX!G303","v":0},{"$f":"+XX!T303","v":0},null,null,{"$f":"+XX!L303","v":0}]
["",{"$f":"+IF(XX!C304=\"\",\"\",XX!C304)","v":""},{"$f":"IF(B303=\"\",\"\",COUNTIFS($B$3:B303,B303))","v":""},{"$f":"IF(B303=\"\",\"\",LOOKUP(B303,DataFIX!$F$3:$F$21,DataFIX!$E$3:$E$21))","v":""},{"$f":"IF(B303=\"\",\"\",LOOKUP(B303,DataFIX!$F$3:$F$41,DataFIX!$G$3:$G$41)+C303)","v":""},{"$f":"+XX!O304","v":"00:00:00"},{"$f":"+XX!E304","v":0},{"$f":"+XX!G304","v":0},{"$f":"+XX!T304","v":0},null,null,{"$f":"+XX!L304","v":0}]
["",{"$f":"+IF(XX!C305=\"\",\"\",XX!C305)","v":""},{"$f":"IF(B304=\"\",\"\",COUNTIFS($B$3:B304,B304))","v":""},{"$f":"IF(B304=\"\",\"\",LOOKUP(B304,DataFIX!$F$3:$F$21,DataFIX!$E$3:$E$21))","v":""},{"$f":"IF(B304=\"\",\"\",LOOKUP(B304,DataFIX!$F$3:$F$41,DataFIX!$G$3:$G$41)+C304)","v":""},{"$f":"+XX!O305","v":"00:00:00"},{"$f":"+XX!E305","v":0},{"$f":"+XX!G305","v":0},{"$f":"+XX!T305","v":0},null,null,{"$f":"+XX!L305","v":0}]
["",{"$f":"+IF(XX!C306=\"\",\"\",XX!C306)","v":""},{"$f":"IF(B305=\"\",\"\",COUNTIFS($B$3:B305,B305))","v":""},{"$f":"IF(B305=\"\",\"\",LOOKUP(B305,DataFIX!$F$3:$F$21,DataFIX!$E$3:$E$21))","v":""},{"$f":"IF(B305=\"\",\"\",LOOKUP(B305,DataFIX!$F$3:$F$41,DataFIX!$G$3:$G$41)+C305)","v":""},{"$f":"+XX!O306","v":"00:00:00"},{"$f":"+XX!E306","v":0},{"$f":"+XX!G306","v":0},{"$f":"+XX!T306","v":0},null,null,{"$f":"+XX!L306","v":0}]
["",{"$f":"+IF(XX!C307=\"\",\"\",XX!C307)","v":""},{"$f":"IF(B306=\"\",\"\",COUNTIFS($B$3:B306,B306))","v":""},{"$f":"IF(B306=\"\",\"\",LOOKUP(B306,DataFIX!$F$3:$F$21,DataFIX!$E$3:$E$21))","v":""},{"$f":"IF(B306=\"\",\"\",LOOKUP(B306,DataFIX!$F$3:$F$41,DataFIX!$G$3:$G$41)+C306)","v":""},{"$f":"+XX!O307","v":"00:00:00"},{"$f":"+XX!E307","v":0},{"$f":"+XX!G307","v":0},{"$f":"+XX!T307","v":0},null,null,{"$f":"+XX!L307","v":0}]
["",{"$f":"+IF(XX!C308=\"\",\"\",XX!C308)","v":""},{"$f":"IF(B307=\"\",\"\",COUNTIFS($B$3:B307,B307))","v":""},{"$f":"IF(B307=\"\",\"\",LOOKUP(B307,DataFIX!$F$3:$F$21,DataFIX!$E$3:$E$21))","v":""},{"$f":"IF(B307=\"\",\"\",LOOKUP(B307,DataFIX!$F$3:$F$41,DataFIX!$G$3:$G$41)+C307)","v":""},{"$f":"+XX!O308","v":"00:00:00"},{"$f":"+XX!E308","v":0},{"$f":"+XX!G308","v":0},{"$f":"+XX!T308","v":0},null,null,{"$f":"+XX!L308","v":0}]
["",{"$f":"+IF(XX!C309=\"\",\"\",XX!C309)","v":""},{"$f":"IF(B308=\"\",\"\",COUNTIFS($B$3:B308,B308))","v":""},{"$f":"IF(B308=\"\",\"\",LOOKUP(B308,DataFIX!$F$3:$F$21,DataFIX!$E$3:$E$21))","v":""},{"$f":"IF(B308=\"\",\"\",LOOKUP(B308,DataFIX!$F$3:$F$41,DataFIX!$G$3:$G$41)+C308)","v":""},{"$f":"+XX!O309","v":"00:00:00"},{"$f":"+XX!E309","v":0},{"$f":"+XX!G309","v":0},{"$f":"+XX!T309","v":0},null,null,{"$f":"+XX!L309","v":0}]
["",{"$f":"+IF(XX!C310=\"\",\"\",XX!C310)","v":""},{"$f":"IF(B309=\"\",\"\",COUNTIFS($B$3:B309,B309))","v":""},{"$f":"IF(B309=\"\",\"\",LOOKUP(B309,DataFIX!$F$3:$F$21,DataFIX!$E$3:$E$21))","v":""},{"$f":"IF(B309=\"\",\"\",LOOKUP(B309,DataFIX!$F$3:$F$41,DataFIX!$G$3:$G$41)+C309)","v":""},{"$f":"+XX!O310","v":"00:00:00"},{"$f":"+XX!E310","v":0},{"$f":"+XX!G310","v":0},{"$f":"+XX!T310","v":0},null,null,{"$f":"+XX!L310","v":0}]
["",{"$f":"+IF(XX!C311=\"\",\"\",XX!C311)","v":""},{"$f":"IF(B310=\"\",\"\",COUNTIFS($B$3:B310,B310))","v":""},{"$f":"IF(B310=\"\",\"\",LOOKUP(B310,DataFIX!$F$3:$F$21,DataFIX!$E$3:$E$21))","v":""},{"$f":"IF(B310=\"\",\"\",LOOKUP(B310,DataFIX!$F$3:$F$41,DataFIX!$G$3:$G$41)+C310)","v":""},{"$f":"+XX!O311","v":"00:00:00"},{"$f":"+XX!E311","v":0},{"$f":"+XX!G311","v":0},{"$f":"+XX!T311","v":0},null,null,{"$f":"+XX!L311","v":0}]
["",{"$f":"+IF(XX!C312=\"\",\"\",XX!C312)","v":""},{"$f":"IF(B311=\"\",\"\",COUNTIFS($B$3:B311,B311))","v":""},{"$f":"IF(B311=\"\",\"\",LOOKUP(B311,DataFIX!$F$3:$F$21,DataFIX!$E$3:$E$21))","v":""},{"$f":"IF(B311=\"\",\"\",LOOKUP(B311,DataFIX!$F$3:$F$41,DataFIX!$G$3:$G$41)+C311)","v":""},{"$f":"+XX!O312","v":"00:00:00"},{"$f":"+XX!E312","v":0},{"$f":"+XX!G312","v":0},{"$f":"+XX!T312","v":0},null,null,{"$f":"+XX!L312","v":0}]
["",{"$f":"+IF(XX!C313=\"\",\"\",XX!C313)","v":""},{"$f":"IF(B312=\"\",\"\",COUNTIFS($B$3:B312,B312))","v":""},{"$f":"IF(B312=\"\",\"\",LOOKUP(B312,DataFIX!$F$3:$F$21,DataFIX!$E$3:$E$21))","v":""},{"$f":"IF(B312=\"\",\"\",LOOKUP(B312,DataFIX!$F$3:$F$41,DataFIX!$G$3:$G$41)+C312)","v":""},{"$f":"+XX!O313","v":"00:00:00"},{"$f":"+XX!E313","v":0},{"$f":"+XX!G313","v":0},{"$f":"+XX!T313","v":0},null,null,{"$f":"+XX!L313","v":0}]
["",{"$f":"+IF(XX!C314=\"\",\"\",XX!C314)","v":""},{"$f":"IF(B313=\"\",\"\",COUNTIFS($B$3:B313,B313))","v":""},{"$f":"IF(B313=\"\",\"\",LOOKUP(B313,DataFIX!$F$3:$F$21,DataFIX!$E$3:$E$21))","v":""},{"$f":"IF(B313=\"\",\"\",LOOKUP(B313,DataFIX!$F$3:$F$41,DataFIX!$G$3:$G$41)+C313)","v":""},{"$f":"+XX!O314","v":"00:00:00"},{"$f":"+XX!E314","v":0},{"$f":"+XX!G314","v":0},{"$f":"+XX!T314","v":0},null,null,{"$f":"+XX!L314","v":0}]
["",{"$f":"+IF(XX!C315=\"\",\"\",XX!C315)","v":""},{"$f":"IF(B314=\"\",\"\",COUNTIFS($B$3:B314,B314))","v":""},{"$f":"IF(B314=\"\",\"\",LOOKUP(B314,DataFIX!$F$3:$F$21,DataFIX!$E$3:$E$21))","v":""},{"$f":"IF(B314=\"\",\"\",LOOKUP(B314,DataFIX!$F$3:$F$41,DataFIX!$G$3:$G$41)+C314)","v":""},{"$f":"+XX!O315","v":"00:00:00"},{"$f":"+XX!E315","v":0},{"$f":"+XX!G315","v":0},{"$f":"+XX!T315","v":0},null,null,{"$f":"+XX!L315","v":0}]
["",{"$f":"+IF(XX!C316=\"\",\"\",XX!C316)","v":""},{"$f":"IF(B315=\"\",\"\",COUNTIFS($B$3:B315,B315))","v":""},{"$f":"IF(B315=\"\",\"\",LOOKUP(B315,DataFIX!$F$3:$F$21,DataFIX!$E$3:$E$21))","v":""},{"$f":"IF(B315=\"\",\"\",LOOKUP(B315,DataFIX!$F$3:$F$41,DataFIX!$G$3:$G$41)+C315)","v":""},{"$f":"+XX!O316","v":"00:00:00"},{"$f":"+XX!E316","v":0},{"$f":"+XX!G316","v":0},{"$f":"+XX!T316","v":0},null,null,{"$f":"+XX!L316","v":0}]
["",{"$f":"+IF(XX!C317=\"\",\"\",XX!C317)","v":""},{"$f":"IF(B316=\"\",\"\",COUNTIFS($B$3:B316,B316))","v":""},{"$f":"IF(B316=\"\",\"\",LOOKUP(B316,DataFIX!$F$3:$F$21,DataFIX!$E$3:$E$21))","v":""},{"$f":"IF(B316=\"\",\"\",LOOKUP(B316,DataFIX!$F$3:$F$41,DataFIX!$G$3:$G$41)+C316)","v":""},{"$f":"+XX!O317","v":"00:00:00"},{"$f":"+XX!E317","v":0},{"$f":"+XX!G317","v":0},{"$f":"+XX!T317","v":0},null,null,{"$f":"+XX!L317","v":0}]
["",{"$f":"+IF(XX!C318=\"\",\"\",XX!C318)","v":""},{"$f":"IF(B317=\"\",\"\",COUNTIFS($B$3:B317,B317))","v":""},{"$f":"IF(B317=\"\",\"\",LOOKUP(B317,DataFIX!$F$3:$F$21,DataFIX!$E$3:$E$21))","v":""},{"$f":"IF(B317=\"\",\"\",LOOKUP(B317,DataFIX!$F$3:$F$41,DataFIX!$G$3:$G$41)+C317)","v":""},{"$f":"+XX!O318","v":"00:00:00"},{"$f":"+XX!E318","v":0},{"$f":"+XX!G318","v":0},{"$f":"+XX!T318","v":0},null,null,{"$f":"+XX!L318","v":0}]
["",{"$f":"+IF(XX!C319=\"\",\"\",XX!C319)","v":""},{"$f":"IF(B318=\"\",\"\",COUNTIFS($B$3:B318,B318))","v":""},{"$f":"IF(B318=\"\",\"\",LOOKUP(B318,DataFIX!$F$3:$F$21,DataFIX!$E$3:$E$21))","v":""},{"$f":"IF(B318=\"\",\"\",LOOKUP(B318,DataFIX!$F$3:$F$41,DataFIX!$G$3:$G$41)+C318)","v":""},{"$f":"+XX!O319","v":"00:00:00"},{"$f":"+XX!E319","v":0},{"$f":"+XX!G319","v":0},{"$f":"+XX!T319","v":0},null,null,{"$f":"+XX!L319","v":0}]
["",{"$f":"+IF(XX!C320=\"\",\"\",XX!C320)","v":""},{"$f":"IF(B319=\"\",\"\",COUNTIFS($B$3:B319,B319))","v":""},{"$f":"IF(B319=\"\",\"\",LOOKUP(B319,DataFIX!$F$3:$F$21,DataFIX!$E$3:$E$21))","v":""},{"$f":"IF(B319=\"\",\"\",LOOKUP(B319,DataFIX!$F$3:$F$41,DataFIX!$G$3:$G$41)+C319)","v":""},{"$f":"+XX!O320","v":"00:00:00"},{"$f":"+XX!E320","v":0},{"$f":"+XX!G320","v":0},{"$f":"+XX!T320","v":0},null,null,{"$f":"+XX!L320","v":0}]
["",{"$f":"+IF(XX!C321=\"\",\"\",XX!C321)","v":""},{"$f":"IF(B320=\"\",\"\",COUNTIFS($B$3:B320,B320))","v":""},{"$f":"IF(B320=\"\",\"\",LOOKUP(B320,DataFIX!$F$3:$F$21,DataFIX!$E$3:$E$21))","v":""},{"$f":"IF(B320=\"\",\"\",LOOKUP(B320,DataFIX!$F$3:$F$41,DataFIX!$G$3:$G$41)+C320)","v":""},{"$f":"+XX!O321","v":"00:00:00"},{"$f":"+XX!E321","v":0},{"$f":"+XX!G321","v":0},{"$f":"+XX!T321","v":0},null,null,{"$f":"+XX!L321","v":0}]
["",{"$f":"+IF(XX!C322=\"\",\"\",XX!C322)","v":""},{"$f":"IF(B321=\"\",\"\",COUNTIFS($B$3:B321,B321))","v":""},{"$f":"IF(B321=\"\",\"\",LOOKUP(B321,DataFIX!$F$3:$F$21,DataFIX!$E$3:$E$21))","v":""},{"$f":"IF(B321=\"\",\"\",LOOKUP(B321,DataFIX!$F$3:$F$41,DataFIX!$G$3:$G$41)+C321)","v":""},{"$f":"+XX!O322","v":"00:00:00"},{"$f":"+XX!E322","v":0},{"$f":"+XX!G322","v":0},{"$f":"+XX!T322","v":0},null,null,{"$f":"+XX!L322","v":0}]
["",{"$f":"+IF(XX!C323=\"\",\"\",XX!C323)","v":""},{"$f":"IF(B322=\"\",\"\",COUNTIFS($B$3:B322,B322))","v":""},{"$f":"IF(B322=\"\",\"\",LOOKUP(B322,DataFIX!$F$3:$F$21,DataFIX!$E$3:$E$21))","v":""},{"$f":"IF(B322=\"\",\"\",LOOKUP(B322,DataFIX!$F$3:$F$41,DataFIX!$G$3:$G$41)+C322)","v":""},{"$f":"+XX!O323","v":"00:00:00"},{"$f":"+XX!E323","v":0},{"$f":"+XX!G323","v":0},{"$f":"+XX!T323","v":0},null,null,{"$f":"+XX!L323","v":0}]
["",{"$f":"+IF(XX!C324=\"\",\"\",XX!C324)","v":""},{"$f":"IF(B323=\"\",\"\",COUNTIFS($B$3:B323,B323))","v":""},{"$f":"IF(B323=\"\",\"\",LOOKUP(B323,DataFIX!$F$3:$F$21,DataFIX!$E$3:$E$21))","v":""},{"$f":"IF(B323=\"\",\"\",LOOKUP(B323,DataFIX!$F$3:$F$41,DataFIX!$G$3:$G$41)+C323)","v":""},{"$f":"+XX!O324","v":"00:00:00"},{"$f":"+XX!E324","v":0},{"$f":"+XX!G324","v":0},{"$f":"+XX!T324","v":0},null,null,{"$f":"+XX!L324","v":0}]
["",{"$f":"+IF(XX!C325=\"\",\"\",XX!C325)","v":""},{"$f":"IF(B324=\"\",\"\",COUNTIFS($B$3:B324,B324))","v":""},{"$f":"IF(B324=\"\",\"\",LOOKUP(B324,DataFIX!$F$3:$F$21,DataFIX!$E$3:$E$21))","v":""},{"$f":"IF(B324=\"\",\"\",LOOKUP(B324,DataFIX!$F$3:$F$41,DataFIX!$G$3:$G$41)+C324)","v":""},{"$f":"+XX!O325","v":"00:00:00"},{"$f":"+XX!E325","v":0},{"$f":"+XX!G325","v":0},{"$f":"+XX!T325","v":0},null,null,{"$f":"+XX!L325","v":0}]
["",{"$f":"+IF(XX!C326=\"\",\"\",XX!C326)","v":""},{"$f":"IF(B325=\"\",\"\",COUNTIFS($B$3:B325,B325))","v":""},{"$f":"IF(B325=\"\",\"\",LOOKUP(B325,DataFIX!$F$3:$F$21,DataFIX!$E$3:$E$21))","v":""},{"$f":"IF(B325=\"\",\"\",LOOKUP(B325,DataFIX!$F$3:$F$41,DataFIX!$G$3:$G$41)+C325)","v":""},{"$f":"+XX!O326","v":"00:00:00"},{"$f":"+XX!E326","v":0},{"$f":"+XX!G326","v":0},{"$f":"+XX!T326","v":0},null,null,{"$f":"+XX!L326","v":0}]
[{"$f":"+B326","v":""},{"$f":"+IF(XX!C327=\"\",\"\",XX!C327)","v":""},{"$f":"IF(B326=\"\",\"\",COUNTIFS($B$3:B326,B326))","v":""},{"$f":"IF(B326=\"\",\"\",LOOKUP(B326,DataFIX!$F$3:$F$21,DataFIX!$E$3:$E$21))","v":""},{"$f":"IF(B326=\"\",\"\",LOOKUP(B326,DataFIX!$F$3:$F$41,DataFIX!$G$3:$G$41)+C326)","v":""},{"$f":"+XX!O327","v":"00:00:00"},{"$f":"+XX!E327","v":0},{"$f":"+XX!G327","v":0},{"$f":"+XX!T327","v":0},null,null,{"$f":"+XX!L327","v":0}]
["",{"$f":"+IF(XX!C328=\"\",\"\",XX!C328)","v":""},{"$f":"IF(B327=\"\",\"\",COUNTIFS($B$3:B327,B327))","v":""},{"$f":"IF(B327=\"\",\"\",LOOKUP(B327,DataFIX!$F$3:$F$21,DataFIX!$E$3:$E$21))","v":""},{"$f":"IF(B327=\"\",\"\",LOOKUP(B327,DataFIX!$F$3:$F$41,DataFIX!$G$3:$G$41)+C327)","v":""},{"$f":"+XX!O328","v":"00:00:00"},{"$f":"+XX!E328","v":0},{"$f":"+XX!G328","v":0},{"$f":"+XX!T328","v":0},null,null,{"$f":"+XX!L328","v":0}]
["",{"$f":"+IF(XX!C329=\"\",\"\",XX!C329)","v":""},{"$f":"IF(B328=\"\",\"\",COUNTIFS($B$3:B328,B328))","v":""},{"$f":"IF(B328=\"\",\"\",LOOKUP(B328,DataFIX!$F$3:$F$21,DataFIX!$E$3:$E$21))","v":""},{"$f":"IF(B328=\"\",\"\",LOOKUP(B328,DataFIX!$F$3:$F$41,DataFIX!$G$3:$G$41)+C328)","v":""},{"$f":"+XX!O329","v":"00:00:00"},{"$f":"+XX!E329","v":0},{"$f":"+XX!G329","v":0},{"$f":"+XX!T329","v":0},null,null,{"$f":"+XX!L329","v":0}]
["",{"$f":"+IF(XX!C330=\"\",\"\",XX!C330)","v":""},{"$f":"IF(B329=\"\",\"\",COUNTIFS($B$3:B329,B329))","v":""},{"$f":"IF(B329=\"\",\"\",LOOKUP(B329,DataFIX!$F$3:$F$21,DataFIX!$E$3:$E$21))","v":""},{"$f":"IF(B329=\"\",\"\",LOOKUP(B329,DataFIX!$F$3:$F$41,DataFIX!$G$3:$G$41)+C329)","v":""},{"$f":"+XX!O330","v":"00:00:00"},{"$f":"+XX!E330","v":0},{"$f":"+XX!G330","v":0},{"$f":"+XX!T330","v":0},null,null,{"$f":"+XX!L330","v":0}]
["",{"$f":"+IF(XX!C331=\"\",\"\",XX!C331)","v":""},{"$f":"IF(B330=\"\",\"\",COUNTIFS($B$3:B330,B330))","v":""},{"$f":"IF(B330=\"\",\"\",LOOKUP(B330,DataFIX!$F$3:$F$21,DataFIX!$E$3:$E$21))","v":""},{"$f":"IF(B330=\"\",\"\",LOOKUP(B330,DataFIX!$F$3:$F$41,DataFIX!$G$3:$G$41)+C330)","v":""},{"$f":"+XX!O331","v":"00:00:00"},{"$f":"+XX!E331","v":0},{"$f":"+XX!G331","v":0},{"$f":"+XX!T331","v":0},null,null,{"$f":"+XX!L331","v":0}]
["",{"$f":"+IF(XX!C332=\"\",\"\",XX!C332)","v":""},{"$f":"IF(B331=\"\",\"\",COUNTIFS($B$3:B331,B331))","v":""},{"$f":"IF(B331=\"\",\"\",LOOKUP(B331,DataFIX!$F$3:$F$21,DataFIX!$E$3:$E$21))","v":""},{"$f":"IF(B331=\"\",\"\",LOOKUP(B331,DataFIX!$F$3:$F$41,DataFIX!$G$3:$G$41)+C331)","v":""},{"$f":"+XX!O332","v":"00:00:00"},{"$f":"+XX!E332","v":0},{"$f":"+XX!G332","v":0},{"$f":"+XX!T332","v":0},null,null,{"$f":"+XX!L332","v":0}]
["",{"$f":"+IF(XX!C333=\"\",\"\",XX!C333)","v":""},{"$f":"IF(B332=\"\",\"\",COUNTIFS($B$3:B332,B332))","v":""},{"$f":"IF(B332=\"\",\"\",LOOKUP(B332,DataFIX!$F$3:$F$21,DataFIX!$E$3:$E$21))","v":""},{"$f":"IF(B332=\"\",\"\",LOOKUP(B332,DataFIX!$F$3:$F$41,DataFIX!$G$3:$G$41)+C332)","v":""},{"$f":"+XX!O333","v":"00:00:00"},{"$f":"+XX!E333","v":0},{"$f":"+XX!G333","v":0},{"$f":"+XX!T333","v":0},null,null,{"$f":"+XX!L333","v":0}]
["",{"$f":"+IF(XX!C334=\"\",\"\",XX!C334)","v":""},{"$f":"IF(B333=\"\",\"\",COUNTIFS($B$3:B333,B333))","v":""},{"$f":"IF(B333=\"\",\"\",LOOKUP(B333,DataFIX!$F$3:$F$21,DataFIX!$E$3:$E$21))","v":""},{"$f":"IF(B333=\"\",\"\",LOOKUP(B333,DataFIX!$F$3:$F$41,DataFIX!$G$3:$G$41)+C333)","v":""},{"$f":"+XX!O334","v":"00:00:00"},{"$f":"+XX!E334","v":0},{"$f":"+XX!G334","v":0},{"$f":"+XX!T334","v":0},null,null,{"$f":"+XX!L334","v":0}]
["",{"$f":"+IF(XX!C335=\"\",\"\",XX!C335)","v":""},{"$f":"IF(B334=\"\",\"\",COUNTIFS($B$3:B334,B334))","v":""},{"$f":"IF(B334=\"\",\"\",LOOKUP(B334,DataFIX!$F$3:$F$21,DataFIX!$E$3:$E$21))","v":""},{"$f":"IF(B334=\"\",\"\",LOOKUP(B334,DataFIX!$F$3:$F$41,DataFIX!$G$3:$G$41)+C334)","v":""},{"$f":"+XX!O335","v":"00:00:00"},{"$f":"+XX!E335","v":0},{"$f":"+XX!G335","v":0},{"$f":"+XX!T335","v":0},null,null,{"$f":"+XX!L335","v":0}]
["",{"$f":"+IF(XX!C336=\"\",\"\",XX!C336)","v":""},{"$f":"IF(B335=\"\",\"\",COUNTIFS($B$3:B335,B335))","v":""},{"$f":"IF(B335=\"\",\"\",LOOKUP(B335,DataFIX!$F$3:$F$21,DataFIX!$E$3:$E$21))","v":""},{"$f":"IF(B335=\"\",\"\",LOOKUP(B335,DataFIX!$F$3:$F$41,DataFIX!$G$3:$G$41)+C335)","v":""},{"$f":"+XX!O336","v":"00:00:00"},{"$f":"+XX!E336","v":0},{"$f":"+XX!G336","v":0},{"$f":"+XX!T336","v":0},null,null,{"$f":"+XX!L336","v":0}]
["",{"$f":"+IF(XX!C337=\"\",\"\",XX!C337)","v":""},{"$f":"IF(B336=\"\",\"\",COUNTIFS($B$3:B336,B336))","v":""},{"$f":"IF(B336=\"\",\"\",LOOKUP(B336,DataFIX!$F$3:$F$21,DataFIX!$E$3:$E$21))","v":""},{"$f":"IF(B336=\"\",\"\",LOOKUP(B336,DataFIX!$F$3:$F$41,DataFIX!$G$3:$G$41)+C336)","v":""},{"$f":"+XX!O337","v":"00:00:00"},{"$f":"+XX!E337","v":0},{"$f":"+XX!G337","v":0},{"$f":"+XX!T337","v":0},null,null,{"$f":"+XX!L337","v":0}]
["",{"$f":"+IF(XX!C338=\"\",\"\",XX!C338)","v":""},{"$f":"IF(B337=\"\",\"\",COUNTIFS($B$3:B337,B337))","v":""},{"$f":"IF(B337=\"\",\"\",LOOKUP(B337,DataFIX!$F$3:$F$21,DataFIX!$E$3:$E$21))","v":""},{"$f":"IF(B337=\"\",\"\",LOOKUP(B337,DataFIX!$F$3:$F$41,DataFIX!$G$3:$G$41)+C337)","v":""},{"$f":"+XX!O338","v":"00:00:00"},{"$f":"+XX!E338","v":0},{"$f":"+XX!G338","v":0},{"$f":"+XX!T338","v":0},null,null,{"$f":"+XX!L338","v":0}]
["",{"$f":"+IF(XX!C339=\"\",\"\",XX!C339)","v":""},{"$f":"IF(B338=\"\",\"\",COUNTIFS($B$3:B338,B338))","v":""},{"$f":"IF(B338=\"\",\"\",LOOKUP(B338,DataFIX!$F$3:$F$21,DataFIX!$E$3:$E$21))","v":""},{"$f":"IF(B338=\"\",\"\",LOOKUP(B338,DataFIX!$F$3:$F$41,DataFIX!$G$3:$G$41)+C338)","v":""},{"$f":"+XX!O339","v":"00:00:00"},{"$f":"+XX!E339","v":0},{"$f":"+XX!G339","v":0},{"$f":"+XX!T339","v":0},null,null,{"$f":"+XX!L339","v":0}]
["",{"$f":"+IF(XX!C340=\"\",\"\",XX!C340)","v":""},{"$f":"IF(B339=\"\",\"\",COUNTIFS($B$3:B339,B339))","v":""},{"$f":"IF(B339=\"\",\"\",LOOKUP(B339,DataFIX!$F$3:$F$21,DataFIX!$E$3:$E$21))","v":""},{"$f":"IF(B339=\"\",\"\",LOOKUP(B339,DataFIX!$F$3:$F$41,DataFIX!$G$3:$G$41)+C339)","v":""},{"$f":"+XX!O340","v":"00:00:00"},{"$f":"+XX!E340","v":0},{"$f":"+XX!G340","v":0},{"$f":"+XX!T340","v":0},null,null,{"$f":"+XX!L340","v":0}]
["",{"$f":"+IF(XX!C341=\"\",\"\",XX!C341)","v":""},{"$f":"IF(B340=\"\",\"\",COUNTIFS($B$3:B340,B340))","v":""},{"$f":"IF(B340=\"\",\"\",LOOKUP(B340,DataFIX!$F$3:$F$21,DataFIX!$E$3:$E$21))","v":""},{"$f":"IF(B340=\"\",\"\",LOOKUP(B340,DataFIX!$F$3:$F$41,DataFIX!$G$3:$G$41)+C340)","v":""},{"$f":"+XX!O341","v":"00:00:00"},{"$f":"+XX!E341","v":0},{"$f":"+XX!G341","v":0},{"$f":"+XX!T341","v":0},null,null,{"$f":"+XX!L341","v":0}]
["",{"$f":"+IF(XX!C342=\"\",\"\",XX!C342)","v":""},{"$f":"IF(B341=\"\",\"\",COUNTIFS($B$3:B341,B341))","v":""},{"$f":"IF(B341=\"\",\"\",LOOKUP(B341,DataFIX!$F$3:$F$21,DataFIX!$E$3:$E$21))","v":""},{"$f":"IF(B341=\"\",\"\",LOOKUP(B341,DataFIX!$F$3:$F$41,DataFIX!$G$3:$G$41)+C341)","v":""},{"$f":"+XX!O342","v":"00:00:00"},{"$f":"+XX!E342","v":0},{"$f":"+XX!G342","v":0},{"$f":"+XX!T342","v":0},null,null,{"$f":"+XX!L342","v":0}]
["",{"$f":"+IF(XX!C343=\"\",\"\",XX!C343)","v":""},{"$f":"IF(B342=\"\",\"\",COUNTIFS($B$3:B342,B342))","v":""},{"$f":"IF(B342=\"\",\"\",LOOKUP(B342,DataFIX!$F$3:$F$21,DataFIX!$E$3:$E$21))","v":""},{"$f":"IF(B342=\"\",\"\",LOOKUP(B342,DataFIX!$F$3:$F$41,DataFIX!$G$3:$G$41)+C342)","v":""},{"$f":"+XX!O343","v":"00:00:00"},{"$f":"+XX!E343","v":0},{"$f":"+XX!G343","v":0},{"$f":"+XX!T343","v":0},null,null,{"$f":"+XX!L343","v":0}]
["",{"$f":"+IF(XX!C344=\"\",\"\",XX!C344)","v":""},{"$f":"IF(B343=\"\",\"\",COUNTIFS($B$3:B343,B343))","v":""},{"$f":"IF(B343=\"\",\"\",LOOKUP(B343,DataFIX!$F$3:$F$21,DataFIX!$E$3:$E$21))","v":""},{"$f":"IF(B343=\"\",\"\",LOOKUP(B343,DataFIX!$F$3:$F$41,DataFIX!$G$3:$G$41)+C343)","v":""},{"$f":"+XX!O344","v":"00:00:00"},{"$f":"+XX!E344","v":0},{"$f":"+XX!G344","v":0},{"$f":"+XX!T344","v":0},null,null,{"$f":"+XX!L344","v":0}]
["",{"$f":"+IF(XX!C345=\"\",\"\",XX!C345)","v":""},{"$f":"IF(B344=\"\",\"\",COUNTIFS($B$3:B344,B344))","v":""},{"$f":"IF(B344=\"\",\"\",LOOKUP(B344,DataFIX!$F$3:$F$21,DataFIX!$E$3:$E$21))","v":""},{"$f":"IF(B344=\"\",\"\",LOOKUP(B344,DataFIX!$F$3:$F$41,DataFIX!$G$3:$G$41)+C344)","v":""},{"$f":"+XX!O345","v":"00:00:00"},{"$f":"+XX!E345","v":0},{"$f":"+XX!G345","v":0},{"$f":"+XX!T345","v":0},null,null,{"$f":"+XX!L345","v":0}]
["",{"$f":"+IF(XX!C346=\"\",\"\",XX!C346)","v":""},{"$f":"IF(B345=\"\",\"\",COUNTIFS($B$3:B345,B345))","v":""},{"$f":"IF(B345=\"\",\"\",LOOKUP(B345,DataFIX!$F$3:$F$21,DataFIX!$E$3:$E$21))","v":""},{"$f":"IF(B345=\"\",\"\",LOOKUP(B345,DataFIX!$F$3:$F$41,DataFIX!$G$3:$G$41)+C345)","v":""},{"$f":"+XX!O346","v":"00:00:00"},{"$f":"+XX!E346","v":0},{"$f":"+XX!G346","v":0},{"$f":"+XX!T346","v":0},null,null,{"$f":"+XX!L346","v":0}]
["",{"$f":"+IF(XX!C347=\"\",\"\",XX!C347)","v":""},{"$f":"IF(B346=\"\",\"\",COUNTIFS($B$3:B346,B346))","v":""},{"$f":"IF(B346=\"\",\"\",LOOKUP(B346,DataFIX!$F$3:$F$21,DataFIX!$E$3:$E$21))","v":""},{"$f":"IF(B346=\"\",\"\",LOOKUP(B346,DataFIX!$F$3:$F$41,DataFIX!$G$3:$G$41)+C346)","v":""},{"$f":"+XX!O347","v":"00:00:00"},{"$f":"+XX!E347","v":0},{"$f":"+XX!G347","v":0},{"$f":"+XX!T347","v":0},null,null,{"$f":"+XX!L347","v":0}]
["",{"$f":"+IF(XX!C348=\"\",\"\",XX!C348)","v":""},{"$f":"IF(B347=\"\",\"\",COUNTIFS($B$3:B347,B347))","v":""},{"$f":"IF(B347=\"\",\"\",LOOKUP(B347,DataFIX!$F$3:$F$21,DataFIX!$E$3:$E$21))","v":""},{"$f":"IF(B347=\"\",\"\",LOOKUP(B347,DataFIX!$F$3:$F$41,DataFIX!$G$3:$G$41)+C347)","v":""},{"$f":"+XX!O348","v":"00:00:00"},{"$f":"+XX!E348","v":0},{"$f":"+XX!G348","v":0},{"$f":"+XX!T348","v":0},null,null,{"$f":"+XX!L348","v":0}]
["",{"$f":"+IF(XX!C349=\"\",\"\",XX!C349)","v":""},{"$f":"IF(B348=\"\",\"\",COUNTIFS($B$3:B348,B348))","v":""},{"$f":"IF(B348=\"\",\"\",LOOKUP(B348,DataFIX!$F$3:$F$21,DataFIX!$E$3:$E$21))","v":""},{"$f":"IF(B348=\"\",\"\",LOOKUP(B348,DataFIX!$F$3:$F$41,DataFIX!$G$3:$G$41)+C348)","v":""},{"$f":"+XX!O349","v":"00:00:00"},{"$f":"+XX!E349","v":0},{"$f":"+XX!G349","v":0},{"$f":"+XX!T349","v":0},null,null,{"$f":"+XX!L349","v":0}]
["",{"$f":"+IF(XX!C350=\"\",\"\",XX!C350)","v":""},{"$f":"IF(B349=\"\",\"\",COUNTIFS($B$3:B349,B349))","v":""},{"$f":"IF(B349=\"\",\"\",LOOKUP(B349,DataFIX!$F$3:$F$21,DataFIX!$E$3:$E$21))","v":""},{"$f":"IF(B349=\"\",\"\",LOOKUP(B349,DataFIX!$F$3:$F$41,DataFIX!$G$3:$G$41)+C349)","v":""},{"$f":"+XX!O350","v":"00:00:00"},{"$f":"+XX!E350","v":0},{"$f":"+XX!G350","v":0},{"$f":"+XX!T350","v":0},null,null,{"$f":"+XX!L350","v":0}]
["",{"$f":"+IF(XX!C351=\"\",\"\",XX!C351)","v":""},{"$f":"IF(B350=\"\",\"\",COUNTIFS($B$3:B350,B350))","v":""},{"$f":"IF(B350=\"\",\"\",LOOKUP(B350,DataFIX!$F$3:$F$21,DataFIX!$E$3:$E$21))","v":""},{"$f":"IF(B350=\"\",\"\",LOOKUP(B350,DataFIX!$F$3:$F$41,DataFIX!$G$3:$G$41)+C350)","v":""},{"$f":"+XX!O351","v":"00:00:00"},{"$f":"+XX!E351","v":0},{"$f":"+XX!G351","v":0},{"$f":"+XX!T351","v":0},null,null,{"$f":"+XX!L351","v":0}]
["",{"$f":"+IF(XX!C352=\"\",\"\",XX!C352)","v":""},{"$f":"IF(B351=\"\",\"\",COUNTIFS($B$3:B351,B351))","v":""},{"$f":"IF(B351=\"\",\"\",LOOKUP(B351,DataFIX!$F$3:$F$21,DataFIX!$E$3:$E$21))","v":""},{"$f":"IF(B351=\"\",\"\",LOOKUP(B351,DataFIX!$F$3:$F$41,DataFIX!$G$3:$G$41)+C351)","v":""},{"$f":"+XX!O352","v":"00:00:00"},{"$f":"+XX!E352","v":0},{"$f":"+XX!G352","v":0},{"$f":"+XX!T352","v":0},null,null,{"$f":"+XX!L352","v":0}]
["",{"$f":"+IF(XX!C353=\"\",\"\",XX!C353)","v":""},{"$f":"IF(B352=\"\",\"\",COUNTIFS($B$3:B352,B352))","v":""},{"$f":"IF(B352=\"\",\"\",LOOKUP(B352,DataFIX!$F$3:$F$21,DataFIX!$E$3:$E$21))","v":""},{"$f":"IF(B352=\"\",\"\",LOOKUP(B352,DataFIX!$F$3:$F$41,DataFIX!$G$3:$G$41)+C352)","v":""},{"$f":"+XX!O353","v":"00:00:00"},{"$f":"+XX!E353","v":0},{"$f":"+XX!G353","v":0},{"$f":"+XX!T353","v":0},null,null,{"$f":"+XX!L353","v":0}]
["",{"$f":"+IF(XX!C354=\"\",\"\",XX!C354)","v":""},{"$f":"IF(B353=\"\",\"\",COUNTIFS($B$3:B353,B353))","v":""},{"$f":"IF(B353=\"\",\"\",LOOKUP(B353,DataFIX!$F$3:$F$21,DataFIX!$E$3:$E$21))","v":""},{"$f":"IF(B353=\"\",\"\",LOOKUP(B353,DataFIX!$F$3:$F$41,DataFIX!$G$3:$G$41)+C353)","v":""},{"$f":"+XX!O354","v":"00:00:00"},{"$f":"+XX!E354","v":0},{"$f":"+XX!G354","v":0},{"$f":"+XX!T354","v":0},null,null,{"$f":"+XX!L354","v":0}]
["",{"$f":"+IF(XX!C355=\"\",\"\",XX!C355)","v":""},{"$f":"IF(B354=\"\",\"\",COUNTIFS($B$3:B354,B354))","v":""},{"$f":"IF(B354=\"\",\"\",LOOKUP(B354,DataFIX!$F$3:$F$21,DataFIX!$E$3:$E$21))","v":""},{"$f":"IF(B354=\"\",\"\",LOOKUP(B354,DataFIX!$F$3:$F$41,DataFIX!$G$3:$G$41)+C354)","v":""},{"$f":"+XX!O355","v":"00:00:00"},{"$f":"+XX!E355","v":0},{"$f":"+XX!G355","v":0},{"$f":"+XX!T355","v":0},null,null,{"$f":"+XX!L355","v":0}]
["",{"$f":"+IF(XX!C356=\"\",\"\",XX!C356)","v":""},{"$f":"IF(B355=\"\",\"\",COUNTIFS($B$3:B355,B355))","v":""},{"$f":"IF(B355=\"\",\"\",LOOKUP(B355,DataFIX!$F$3:$F$21,DataFIX!$E$3:$E$21))","v":""},{"$f":"IF(B355=\"\",\"\",LOOKUP(B355,DataFIX!$F$3:$F$41,DataFIX!$G$3:$G$41)+C355)","v":""},{"$f":"+XX!O356","v":"00:00:00"},{"$f":"+XX!E356","v":0},{"$f":"+XX!G356","v":0},{"$f":"+XX!T356","v":0},null,null,{"$f":"+XX!L356","v":0}]
["",{"$f":"+IF(XX!C357=\"\",\"\",XX!C357)","v":""},{"$f":"IF(B356=\"\",\"\",COUNTIFS($B$3:B356,B356))","v":""},{"$f":"IF(B356=\"\",\"\",LOOKUP(B356,DataFIX!$F$3:$F$21,DataFIX!$E$3:$E$21))","v":""},{"$f":"IF(B356=\"\",\"\",LOOKUP(B356,DataFIX!$F$3:$F$41,DataFIX!$G$3:$G$41)+C356)","v":""},{"$f":"+XX!O357","v":"00:00:00"},{"$f":"+XX!E357","v":0},{"$f":"+XX!G357","v":0},{"$f":"+XX!T357","v":0},null,null,{"$f":"+XX!L357","v":0}]
["",{"$f":"+IF(XX!C358=\"\",\"\",XX!C358)","v":""},{"$f":"IF(B357=\"\",\"\",COUNTIFS($B$3:B357,B357))","v":""},{"$f":"IF(B357=\"\",\"\",LOOKUP(B357,DataFIX!$F$3:$F$21,DataFIX!$E$3:$E$21))","v":""},{"$f":"IF(B357=\"\",\"\",LOOKUP(B357,DataFIX!$F$3:$F$41,DataFIX!$G$3:$G$41)+C357)","v":""},{"$f":"+XX!O358","v":"00:00:00"},{"$f":"+XX!E358","v":0},{"$f":"+XX!G358","v":0},{"$f":"+XX!T358","v":0},null,null,{"$f":"+XX!L358","v":0}]
["",{"$f":"+IF(XX!C359=\"\",\"\",XX!C359)","v":""},{"$f":"IF(B358=\"\",\"\",COUNTIFS($B$3:B358,B358))","v":""},{"$f":"IF(B358=\"\",\"\",LOOKUP(B358,DataFIX!$F$3:$F$21,DataFIX!$E$3:$E$21))","v":""},{"$f":"IF(B358=\"\",\"\",LOOKUP(B358,DataFIX!$F$3:$F$41,DataFIX!$G$3:$G$41)+C358)","v":""},{"$f":"+XX!O359","v":"00:00:00"},{"$f":"+XX!E359","v":0},{"$f":"+XX!G359","v":0},{"$f":"+XX!T359","v":0},null,null,{"$f":"+XX!L359","v":0}]
["",{"$f":"+IF(XX!C360=\"\",\"\",XX!C360)","v":""},{"$f":"IF(B359=\"\",\"\",COUNTIFS($B$3:B359,B359))","v":""},{"$f":"IF(B359=\"\",\"\",LOOKUP(B359,DataFIX!$F$3:$F$21,DataFIX!$E$3:$E$21))","v":""},{"$f":"IF(B359=\"\",\"\",LOOKUP(B359,DataFIX!$F$3:$F$41,DataFIX!$G$3:$G$41)+C359)","v":""},{"$f":"+XX!O360","v":"00:00:00"},{"$f":"+XX!E360","v":0},{"$f":"+XX!G360","v":0},{"$f":"+XX!T360","v":0},null,null,{"$f":"+XX!L360","v":0}]
["",{"$f":"+IF(XX!C361=\"\",\"\",XX!C361)","v":""},{"$f":"IF(B360=\"\",\"\",COUNTIFS($B$3:B360,B360))","v":""},{"$f":"IF(B360=\"\",\"\",LOOKUP(B360,DataFIX!$F$3:$F$21,DataFIX!$E$3:$E$21))","v":""},{"$f":"IF(B360=\"\",\"\",LOOKUP(B360,DataFIX!$F$3:$F$41,DataFIX!$G$3:$G$41)+C360)","v":""},{"$f":"+XX!O361","v":"00:00:00"},{"$f":"+XX!E361","v":0},{"$f":"+XX!G361","v":0},{"$f":"+XX!T361","v":0},null,null,{"$f":"+XX!L361","v":0}]
["",{"$f":"+IF(XX!C362=\"\",\"\",XX!C362)","v":""},{"$f":"IF(B361=\"\",\"\",COUNTIFS($B$3:B361,B361))","v":""},{"$f":"IF(B361=\"\",\"\",LOOKUP(B361,DataFIX!$F$3:$F$21,DataFIX!$E$3:$E$21))","v":""},{"$f":"IF(B361=\"\",\"\",LOOKUP(B361,DataFIX!$F$3:$F$41,DataFIX!$G$3:$G$41)+C361)","v":""},{"$f":"+XX!O362","v":"00:00:00"},{"$f":"+XX!E362","v":0},{"$f":"+XX!G362","v":0},{"$f":"+XX!T362","v":0},null,null,{"$f":"+XX!L362","v":0}]
["",{"$f":"+IF(XX!C363=\"\",\"\",XX!C363)","v":""},{"$f":"IF(B362=\"\",\"\",COUNTIFS($B$3:B362,B362))","v":""},{"$f":"IF(B362=\"\",\"\",LOOKUP(B362,DataFIX!$F$3:$F$21,DataFIX!$E$3:$E$21))","v":""},{"$f":"IF(B362=\"\",\"\",LOOKUP(B362,DataFIX!$F$3:$F$41,DataFIX!$G$3:$G$41)+C362)","v":""},{"$f":"+XX!O363","v":"00:00:00"},{"$f":"+XX!E363","v":0},{"$f":"+XX!G363","v":0},{"$f":"+XX!T363","v":0},null,null,{"$f":"+XX!L363","v":0}]
["",{"$f":"+IF(XX!C364=\"\",\"\",XX!C364)","v":""},{"$f":"IF(B363=\"\",\"\",COUNTIFS($B$3:B363,B363))","v":""},{"$f":"IF(B363=\"\",\"\",LOOKUP(B363,DataFIX!$F$3:$F$21,DataFIX!$E$3:$E$21))","v":""},{"$f":"IF(B363=\"\",\"\",LOOKUP(B363,DataFIX!$F$3:$F$41,DataFIX!$G$3:$G$41)+C363)","v":""},{"$f":"+XX!O364","v":"00:00:00"},{"$f":"+XX!E364","v":0},{"$f":"+XX!G364","v":0},{"$f":"+XX!T364","v":0},null,null,{"$f":"+XX!L364","v":0}]
["",{"$f":"+IF(XX!C365=\"\",\"\",XX!C365)","v":""},{"$f":"IF(B364=\"\",\"\",COUNTIFS($B$3:B364,B364))","v":""},{"$f":"IF(B364=\"\",\"\",LOOKUP(B364,DataFIX!$F$3:$F$21,DataFIX!$E$3:$E$21))","v":""},{"$f":"IF(B364=\"\",\"\",LOOKUP(B364,DataFIX!$F$3:$F$41,DataFIX!$G$3:$G$41)+C364)","v":""},{"$f":"+XX!O365","v":"00:00:00"},{"$f":"+XX!E365","v":0},{"$f":"+XX!G365","v":0},{"$f":"+XX!T365","v":0},null,null,{"$f":"+XX!L365","v":0}]
["",{"$f":"+IF(XX!C366=\"\",\"\",XX!C366)","v":""},{"$f":"IF(B365=\"\",\"\",COUNTIFS($B$3:B365,B365))","v":""},{"$f":"IF(B365=\"\",\"\",LOOKUP(B365,DataFIX!$F$3:$F$21,DataFIX!$E$3:$E$21))","v":""},{"$f":"IF(B365=\"\",\"\",LOOKUP(B365,DataFIX!$F$3:$F$41,DataFIX!$G$3:$G$41)+C365)","v":""},{"$f":"+XX!O366","v":"00:00:00"},{"$f":"+XX!E366","v":0},{"$f":"+XX!G366","v":0},{"$f":"+XX!T366","v":0},null,null,{"$f":"+XX!L366","v":0}]
["",{"$f":"+IF(XX!C367=\"\",\"\",XX!C367)","v":""},{"$f":"IF(B366=\"\",\"\",COUNTIFS($B$3:B366,B366))","v":""},{"$f":"IF(B366=\"\",\"\",LOOKUP(B366,DataFIX!$F$3:$F$21,DataFIX!$E$3:$E$21))","v":""},{"$f":"IF(B366=\"\",\"\",LOOKUP(B366,DataFIX!$F$3:$F$41,DataFIX!$G$3:$G$41)+C366)","v":""},{"$f":"+XX!O367","v":"00:00:00"},{"$f":"+XX!E367","v":0},{"$f":"+XX!G367","v":0},{"$f":"+XX!T367","v":0},null,null,{"$f":"+XX!L367","v":0}]
["",{"$f":"+IF(XX!C368=\"\",\"\",XX!C368)","v":""},{"$f":"IF(B367=\"\",\"\",COUNTIFS($B$3:B367,B367))","v":""},{"$f":"IF(B367=\"\",\"\",LOOKUP(B367,DataFIX!$F$3:$F$21,DataFIX!$E$3:$E$21))","v":""},{"$f":"IF(B367=\"\",\"\",LOOKUP(B367,DataFIX!$F$3:$F$41,DataFIX!$G$3:$G$41)+C367)","v":""},{"$f":"+XX!O368","v":"00:00:00"},{"$f":"+XX!E368","v":0},{"$f":"+XX!G368","v":0},{"$f":"+XX!T368","v":0},null,null,{"$f":"+XX!L368","v":0}]
["",{"$f":"+IF(XX!C369=\"\",\"\",XX!C369)","v":""},{"$f":"IF(B368=\"\",\"\",COUNTIFS($B$3:B368,B368))","v":""},{"$f":"IF(B368=\"\",\"\",LOOKUP(B368,DataFIX!$F$3:$F$21,DataFIX!$E$3:$E$21))","v":""},{"$f":"IF(B368=\"\",\"\",LOOKUP(B368,DataFIX!$F$3:$F$41,DataFIX!$G$3:$G$41)+C368)","v":""},{"$f":"+XX!O369","v":"00:00:00"},{"$f":"+XX!E369","v":0},{"$f":"+XX!G369","v":0},{"$f":"+XX!T369","v":0},null,null,{"$f":"+XX!L369","v":0}]
["",{"$f":"+IF(XX!C370=\"\",\"\",XX!C370)","v":""},{"$f":"IF(B369=\"\",\"\",COUNTIFS($B$3:B369,B369))","v":""},{"$f":"IF(B369=\"\",\"\",LOOKUP(B369,DataFIX!$F$3:$F$21,DataFIX!$E$3:$E$21))","v":""},{"$f":"IF(B369=\"\",\"\",LOOKUP(B369,DataFIX!$F$3:$F$41,DataFIX!$G$3:$G$41)+C369)","v":""},{"$f":"+XX!O370","v":"00:00:00"},{"$f":"+XX!E370","v":0},{"$f":"+XX!G370","v":0},{"$f":"+XX!T370","v":0},null,null,{"$f":"+XX!L370","v":0}]
["",{"$f":"+IF(XX!C371=\"\",\"\",XX!C371)","v":""},{"$f":"IF(B370=\"\",\"\",COUNTIFS($B$3:B370,B370))","v":""},{"$f":"IF(B370=\"\",\"\",LOOKUP(B370,DataFIX!$F$3:$F$21,DataFIX!$E$3:$E$21))","v":""},{"$f":"IF(B370=\"\",\"\",LOOKUP(B370,DataFIX!$F$3:$F$41,DataFIX!$G$3:$G$41)+C370)","v":""},{"$f":"+XX!O371","v":"00:00:00"},{"$f":"+XX!E371","v":0},{"$f":"+XX!G371","v":0},{"$f":"+XX!T371","v":0},null,null,{"$f":"+XX!L371","v":0}]
["",{"$f":"+IF(XX!C372=\"\",\"\",XX!C372)","v":""},{"$f":"IF(B371=\"\",\"\",COUNTIFS($B$3:B371,B371))","v":""},{"$f":"IF(B371=\"\",\"\",LOOKUP(B371,DataFIX!$F$3:$F$21,DataFIX!$E$3:$E$21))","v":""},{"$f":"IF(B371=\"\",\"\",LOOKUP(B371,DataFIX!$F$3:$F$41,DataFIX!$G$3:$G$41)+C371)","v":""},{"$f":"+XX!O372","v":"00:00:00"},{"$f":"+XX!E372","v":0},{"$f":"+XX!G372","v":0},{"$f":"+XX!T372","v":0},null,null,{"$f":"+XX!L372","v":0}]
["",{"$f":"+IF(XX!C373=\"\",\"\",XX!C373)","v":""},{"$f":"IF(B372=\"\",\"\",COUNTIFS($B$3:B372,B372))","v":""},{"$f":"IF(B372=\"\",\"\",LOOKUP(B372,DataFIX!$F$3:$F$21,DataFIX!$E$3:$E$21))","v":""},{"$f":"IF(B372=\"\",\"\",LOOKUP(B372,DataFIX!$F$3:$F$41,DataFIX!$G$3:$G$41)+C372)","v":""},{"$f":"+XX!O373","v":"00:00:00"},{"$f":"+XX!E373","v":0},{"$f":"+XX!G373","v":0},{"$f":"+XX!T373","v":0},null,null,{"$f":"+XX!L373","v":0}]
["",{"$f":"+IF(XX!C374=\"\",\"\",XX!C374)","v":""},{"$f":"IF(B373=\"\",\"\",COUNTIFS($B$3:B373,B373))","v":""},{"$f":"IF(B373=\"\",\"\",LOOKUP(B373,DataFIX!$F$3:$F$21,DataFIX!$E$3:$E$21))","v":""},{"$f":"IF(B373=\"\",\"\",LOOKUP(B373,DataFIX!$F$3:$F$41,DataFIX!$G$3:$G$41)+C373)","v":""},{"$f":"+XX!O374","v":"00:00:00"},{"$f":"+XX!E374","v":0},{"$f":"+XX!G374","v":0},{"$f":"+XX!T374","v":0},null,null,{"$f":"+XX!L374","v":0}]
["",{"$f":"+IF(XX!C375=\"\",\"\",XX!C375)","v":""},{"$f":"IF(B374=\"\",\"\",COUNTIFS($B$3:B374,B374))","v":""},{"$f":"IF(B374=\"\",\"\",LOOKUP(B374,DataFIX!$F$3:$F$21,DataFIX!$E$3:$E$21))","v":""},{"$f":"IF(B374=\"\",\"\",LOOKUP(B374,DataFIX!$F$3:$F$41,DataFIX!$G$3:$G$41)+C374)","v":""},{"$f":"+XX!O375","v":"00:00:00"},{"$f":"+XX!E375","v":0},{"$f":"+XX!G375","v":0},{"$f":"+XX!T375","v":0},null,null,{"$f":"+XX!L375","v":0}]
["",{"$f":"+IF(XX!C376=\"\",\"\",XX!C376)","v":""},{"$f":"IF(B375=\"\",\"\",COUNTIFS($B$3:B375,B375))","v":""},{"$f":"IF(B375=\"\",\"\",LOOKUP(B375,DataFIX!$F$3:$F$21,DataFIX!$E$3:$E$21))","v":""},{"$f":"IF(B375=\"\",\"\",LOOKUP(B375,DataFIX!$F$3:$F$41,DataFIX!$G$3:$G$41)+C375)","v":""},{"$f":"+XX!O376","v":"00:00:00"},{"$f":"+XX!E376","v":0},{"$f":"+XX!G376","v":0},{"$f":"+XX!T376","v":0},null,null,{"$f":"+XX!L376","v":0}]
["",{"$f":"+IF(XX!C377=\"\",\"\",XX!C377)","v":""},{"$f":"IF(B376=\"\",\"\",COUNTIFS($B$3:B376,B376))","v":""},{"$f":"IF(B376=\"\",\"\",LOOKUP(B376,DataFIX!$F$3:$F$21,DataFIX!$E$3:$E$21))","v":""},{"$f":"IF(B376=\"\",\"\",LOOKUP(B376,DataFIX!$F$3:$F$41,DataFIX!$G$3:$G$41)+C376)","v":""},{"$f":"+XX!O377","v":"00:00:00"},{"$f":"+XX!E377","v":0},{"$f":"+XX!G377","v":0},{"$f":"+XX!T377","v":0},null,null,{"$f":"+XX!L377","v":0}]
["",{"$f":"+IF(XX!C378=\"\",\"\",XX!C378)","v":""},{"$f":"IF(B377=\"\",\"\",COUNTIFS($B$3:B377,B377))","v":""},{"$f":"IF(B377=\"\",\"\",LOOKUP(B377,DataFIX!$F$3:$F$21,DataFIX!$E$3:$E$21))","v":""},{"$f":"IF(B377=\"\",\"\",LOOKUP(B377,DataFIX!$F$3:$F$41,DataFIX!$G$3:$G$41)+C377)","v":""},{"$f":"+XX!O378","v":"00:00:00"},{"$f":"+XX!E378","v":0},{"$f":"+XX!G378","v":0},{"$f":"+XX!T378","v":0},null,null,{"$f":"+XX!L378","v":0}]
["",{"$f":"+IF(XX!C379=\"\",\"\",XX!C379)","v":""},{"$f":"IF(B378=\"\",\"\",COUNTIFS($B$3:B378,B378))","v":""},{"$f":"IF(B378=\"\",\"\",LOOKUP(B378,DataFIX!$F$3:$F$21,DataFIX!$E$3:$E$21))","v":""},{"$f":"IF(B378=\"\",\"\",LOOKUP(B378,DataFIX!$F$3:$F$41,DataFIX!$G$3:$G$41)+C378)","v":""},{"$f":"+XX!O379","v":"00:00:00"},{"$f":"+XX!E379","v":0},{"$f":"+XX!G379","v":0},{"$f":"+XX!T379","v":0},null,null,{"$f":"+XX!L379","v":0}]
["",{"$f":"+IF(XX!C380=\"\",\"\",XX!C380)","v":""},{"$f":"IF(B379=\"\",\"\",COUNTIFS($B$3:B379,B379))","v":""},{"$f":"IF(B379=\"\",\"\",LOOKUP(B379,DataFIX!$F$3:$F$21,DataFIX!$E$3:$E$21))","v":""},{"$f":"IF(B379=\"\",\"\",LOOKUP(B379,DataFIX!$F$3:$F$41,DataFIX!$G$3:$G$41)+C379)","v":""},{"$f":"+XX!O380","v":"00:00:00"},{"$f":"+XX!E380","v":0},{"$f":"+XX!G380","v":0},{"$f":"+XX!T380","v":0},null,null,{"$f":"+XX!L380","v":0}]
["",{"$f":"+IF(XX!C381=\"\",\"\",XX!C381)","v":""},{"$f":"IF(B380=\"\",\"\",COUNTIFS($B$3:B380,B380))","v":""},{"$f":"IF(B380=\"\",\"\",LOOKUP(B380,DataFIX!$F$3:$F$21,DataFIX!$E$3:$E$21))","v":""},{"$f":"IF(B380=\"\",\"\",LOOKUP(B380,DataFIX!$F$3:$F$41,DataFIX!$G$3:$G$41)+C380)","v":""},{"$f":"+XX!O381","v":"00:00:00"},{"$f":"+XX!E381","v":0},{"$f":"+XX!G381","v":0},{"$f":"+XX!T381","v":0},null,null,{"$f":"+XX!L381","v":0}]
["",{"$f":"+IF(XX!C382=\"\",\"\",XX!C382)","v":""},{"$f":"IF(B381=\"\",\"\",COUNTIFS($B$3:B381,B381))","v":""},{"$f":"IF(B381=\"\",\"\",LOOKUP(B381,DataFIX!$F$3:$F$21,DataFIX!$E$3:$E$21))","v":""},{"$f":"IF(B381=\"\",\"\",LOOKUP(B381,DataFIX!$F$3:$F$41,DataFIX!$G$3:$G$41)+C381)","v":""},{"$f":"+XX!O382","v":"00:00:00"},{"$f":"+XX!E382","v":0},{"$f":"+XX!G382","v":0},{"$f":"+XX!T382","v":0},null,null,{"$f":"+XX!L382","v":0}]
["",{"$f":"+IF(XX!C383=\"\",\"\",XX!C383)","v":""},{"$f":"IF(B382=\"\",\"\",COUNTIFS($B$3:B382,B382))","v":""},{"$f":"IF(B382=\"\",\"\",LOOKUP(B382,DataFIX!$F$3:$F$21,DataFIX!$E$3:$E$21))","v":""},{"$f":"IF(B382=\"\",\"\",LOOKUP(B382,DataFIX!$F$3:$F$41,DataFIX!$G$3:$G$41)+C382)","v":""},{"$f":"+XX!O383","v":"00:00:00"},{"$f":"+XX!E383","v":0},{"$f":"+XX!G383","v":0},{"$f":"+XX!T383","v":0},null,null,{"$f":"+XX!L383","v":0}]
["",{"$f":"+IF(XX!C384=\"\",\"\",XX!C384)","v":""},{"$f":"IF(B383=\"\",\"\",COUNTIFS($B$3:B383,B383))","v":""},{"$f":"IF(B383=\"\",\"\",LOOKUP(B383,DataFIX!$F$3:$F$21,DataFIX!$E$3:$E$21))","v":""},{"$f":"IF(B383=\"\",\"\",LOOKUP(B383,DataFIX!$F$3:$F$41,DataFIX!$G$3:$G$41)+C383)","v":""},{"$f":"+XX!O384","v":"00:00:00"},{"$f":"+XX!E384","v":0},{"$f":"+XX!G384","v":0},{"$f":"+XX!T384","v":0},null,null,{"$f":"+XX!L384","v":0}]
["",{"$f":"+IF(XX!C385=\"\",\"\",XX!C385)","v":""},{"$f":"IF(B384=\"\",\"\",COUNTIFS($B$3:B384,B384))","v":""},{"$f":"IF(B384=\"\",\"\",LOOKUP(B384,DataFIX!$F$3:$F$21,DataFIX!$E$3:$E$21))","v":""},{"$f":"IF(B384=\"\",\"\",LOOKUP(B384,DataFIX!$F$3:$F$41,DataFIX!$G$3:$G$41)+C384)","v":""},{"$f":"+XX!O385","v":"00:00:00"},{"$f":"+XX!E385","v":0},{"$f":"+XX!G385","v":0},{"$f":"+XX!T385","v":0},null,null,{"$f":"+XX!L385","v":0}]
["",{"$f":"+IF(XX!C386=\"\",\"\",XX!C386)","v":""},{"$f":"IF(B385=\"\",\"\",COUNTIFS($B$3:B385,B385))","v":""},{"$f":"IF(B385=\"\",\"\",LOOKUP(B385,DataFIX!$F$3:$F$21,DataFIX!$E$3:$E$21))","v":""},{"$f":"IF(B385=\"\",\"\",LOOKUP(B385,DataFIX!$F$3:$F$41,DataFIX!$G$3:$G$41)+C385)","v":""},{"$f":"+XX!O386","v":"00:00:00"},{"$f":"+XX!E386","v":0},{"$f":"+XX!G386","v":0},{"$f":"+XX!T386","v":0},null,null,{"$f":"+XX!L386","v":0}]
["",{"$f":"+IF(XX!C387=\"\",\"\",XX!C387)","v":""},{"$f":"IF(B386=\"\",\"\",COUNTIFS($B$3:B386,B386))","v":""},{"$f":"IF(B386=\"\",\"\",LOOKUP(B386,DataFIX!$F$3:$F$21,DataFIX!$E$3:$E$21))","v":""},{"$f":"IF(B386=\"\",\"\",LOOKUP(B386,DataFIX!$F$3:$F$41,DataFIX!$G$3:$G$41)+C386)","v":""},{"$f":"+XX!O387","v":"00:00:00"},{"$f":"+XX!E387","v":0},{"$f":"+XX!G387","v":0},{"$f":"+XX!T387","v":0},null,null,{"$f":"+XX!L387","v":0}]
["",{"$f":"+IF(XX!C388=\"\",\"\",XX!C388)","v":""},{"$f":"IF(B387=\"\",\"\",COUNTIFS($B$3:B387,B387))","v":""},{"$f":"IF(B387=\"\",\"\",LOOKUP(B387,DataFIX!$F$3:$F$21,DataFIX!$E$3:$E$21))","v":""},{"$f":"IF(B387=\"\",\"\",LOOKUP(B387,DataFIX!$F$3:$F$41,DataFIX!$G$3:$G$41)+C387)","v":""},{"$f":"+XX!O388","v":"00:00:00"},{"$f":"+XX!E388","v":0},{"$f":"+XX!G388","v":0},{"$f":"+XX!T388","v":0},null,null,{"$f":"+XX!L388","v":0}]
["",{"$f":"+IF(XX!C389=\"\",\"\",XX!C389)","v":""},{"$f":"IF(B388=\"\",\"\",COUNTIFS($B$3:B388,B388))","v":""},{"$f":"IF(B388=\"\",\"\",LOOKUP(B388,DataFIX!$F$3:$F$21,DataFIX!$E$3:$E$21))","v":""},{"$f":"IF(B388=\"\",\"\",LOOKUP(B388,DataFIX!$F$3:$F$41,DataFIX!$G$3:$G$41)+C388)","v":""},{"$f":"+XX!O389","v":"00:00:00"},{"$f":"+XX!E389","v":0},{"$f":"+XX!G389","v":0},{"$f":"+XX!T389","v":0},null,null,{"$f":"+XX!L389","v":0}]
["",{"$f":"+IF(XX!C390=\"\",\"\",XX!C390)","v":""},{"$f":"IF(B389=\"\",\"\",COUNTIFS($B$3:B389,B389))","v":""},{"$f":"IF(B389=\"\",\"\",LOOKUP(B389,DataFIX!$F$3:$F$21,DataFIX!$E$3:$E$21))","v":""},{"$f":"IF(B389=\"\",\"\",LOOKUP(B389,DataFIX!$F$3:$F$41,DataFIX!$G$3:$G$41)+C389)","v":""},{"$f":"+XX!O390","v":"00:00:00"},{"$f":"+XX!E390","v":0},{"$f":"+XX!G390","v":0},{"$f":"+XX!T390","v":0},null,null,{"$f":"+XX!L390","v":0}]
[{"$f":"+B390","v":""},{"$f":"+IF(XX!C391=\"\",\"\",XX!C391)","v":""},{"$f":"IF(B390=\"\",\"\",COUNTIFS($B$3:B390,B390))","v":""},{"$f":"IF(B390=\"\",\"\",LOOKUP(B390,DataFIX!$F$3:$F$21,DataFIX!$E$3:$E$21))","v":""},{"$f":"IF(B390=\"\",\"\",LOOKUP(B390,DataFIX!$F$3:$F$41,DataFIX!$G$3:$G$41)+C390)","v":""},{"$f":"+XX!O391","v":"00:00:00"},{"$f":"+XX!E391","v":0},{"$f":"+XX!G391","v":0},{"$f":"+XX!T391","v":0},null,null,{"$f":"+XX!L391","v":0}]
["",{"$f":"+IF(XX!C392=\"\",\"\",XX!C392)","v":""},{"$f":"IF(B391=\"\",\"\",COUNTIFS($B$3:B391,B391))","v":""},{"$f":"IF(B391=\"\",\"\",LOOKUP(B391,DataFIX!$F$3:$F$21,DataFIX!$E$3:$E$21))","v":""},{"$f":"IF(B391=\"\",\"\",LOOKUP(B391,DataFIX!$F$3:$F$41,DataFIX!$G$3:$G$41)+C391)","v":""},{"$f":"+XX!O392","v":"00:00:00"},{"$f":"+XX!E392","v":0},{"$f":"+XX!G392","v":0},{"$f":"+XX!T392","v":0},null,null,{"$f":"+XX!L392","v":0}]
["",{"$f":"+IF(XX!C393=\"\",\"\",XX!C393)","v":""},{"$f":"IF(B392=\"\",\"\",COUNTIFS($B$3:B392,B392))","v":""},{"$f":"IF(B392=\"\",\"\",LOOKUP(B392,DataFIX!$F$3:$F$21,DataFIX!$E$3:$E$21))","v":""},{"$f":"IF(B392=\"\",\"\",LOOKUP(B392,DataFIX!$F$3:$F$41,DataFIX!$G$3:$G$41)+C392)","v":""},{"$f":"+XX!O393","v":"00:00:00"},{"$f":"+XX!E393","v":0},{"$f":"+XX!G393","v":0},{"$f":"+XX!T393","v":0},null,null,{"$f":"+XX!L393","v":0}]
["",{"$f":"+IF(XX!C394=\"\",\"\",XX!C394)","v":""},{"$f":"IF(B393=\"\",\"\",COUNTIFS($B$3:B393,B393))","v":""},{"$f":"IF(B393=\"\",\"\",LOOKUP(B393,DataFIX!$F$3:$F$21,DataFIX!$E$3:$E$21))","v":""},{"$f":"IF(B393=\"\",\"\",LOOKUP(B393,DataFIX!$F$3:$F$41,DataFIX!$G$3:$G$41)+C393)","v":""},{"$f":"+XX!O394","v":"00:00:00"},{"$f":"+XX!E394","v":0},{"$f":"+XX!G394","v":0},{"$f":"+XX!T394","v":0},null,null,{"$f":"+XX!L394","v":0}]
["",{"$f":"+IF(XX!C395=\"\",\"\",XX!C395)","v":""},{"$f":"IF(B394=\"\",\"\",COUNTIFS($B$3:B394,B394))","v":""},{"$f":"IF(B394=\"\",\"\",LOOKUP(B394,DataFIX!$F$3:$F$21,DataFIX!$E$3:$E$21))","v":""},{"$f":"IF(B394=\"\",\"\",LOOKUP(B394,DataFIX!$F$3:$F$41,DataFIX!$G$3:$G$41)+C394)","v":""},{"$f":"+XX!O395","v":"00:00:00"},{"$f":"+XX!E395","v":0},{"$f":"+XX!G395","v":0},{"$f":"+XX!T395","v":0},null,null,{"$f":"+XX!L395","v":0}]
["",{"$f":"+IF(XX!C396=\"\",\"\",XX!C396)","v":""},{"$f":"IF(B395=\"\",\"\",COUNTIFS($B$3:B395,B395))","v":""},{"$f":"IF(B395=\"\",\"\",LOOKUP(B395,DataFIX!$F$3:$F$21,DataFIX!$E$3:$E$21))","v":""},{"$f":"IF(B395=\"\",\"\",LOOKUP(B395,DataFIX!$F$3:$F$41,DataFIX!$G$3:$G$41)+C395)","v":""},{"$f":"+XX!O396","v":"00:00:00"},{"$f":"+XX!E396","v":0},{"$f":"+XX!G396","v":0},{"$f":"+XX!T396","v":0},null,null,{"$f":"+XX!L396","v":0}]
["",{"$f":"+IF(XX!C397=\"\",\"\",XX!C397)","v":""},{"$f":"IF(B396=\"\",\"\",COUNTIFS($B$3:B396,B396))","v":""},{"$f":"IF(B396=\"\",\"\",LOOKUP(B396,DataFIX!$F$3:$F$21,DataFIX!$E$3:$E$21))","v":""},{"$f":"IF(B396=\"\",\"\",LOOKUP(B396,DataFIX!$F$3:$F$41,DataFIX!$G$3:$G$41)+C396)","v":""},{"$f":"+XX!O397","v":"00:00:00"},{"$f":"+XX!E397","v":0},{"$f":"+XX!G397","v":0},{"$f":"+XX!T397","v":0},null,null,{"$f":"+XX!L397","v":0}]
["",{"$f":"+IF(XX!C398=\"\",\"\",XX!C398)","v":""},{"$f":"IF(B397=\"\",\"\",COUNTIFS($B$3:B397,B397))","v":""},{"$f":"IF(B397=\"\",\"\",LOOKUP(B397,DataFIX!$F$3:$F$21,DataFIX!$E$3:$E$21))","v":""},{"$f":"IF(B397=\"\",\"\",LOOKUP(B397,DataFIX!$F$3:$F$41,DataFIX!$G$3:$G$41)+C397)","v":""},{"$f":"+XX!O398","v":"00:00:00"},{"$f":"+XX!E398","v":0},{"$f":"+XX!G398","v":0},{"$f":"+XX!T398","v":0},null,null,{"$f":"+XX!L398","v":0}]
["",{"$f":"+IF(XX!C399=\"\",\"\",XX!C399)","v":""},{"$f":"IF(B398=\"\",\"\",COUNTIFS($B$3:B398,B398))","v":""},{"$f":"IF(B398=\"\",\"\",LOOKUP(B398,DataFIX!$F$3:$F$21,DataFIX!$E$3:$E$21))","v":""},{"$f":"IF(B398=\"\",\"\",LOOKUP(B398,DataFIX!$F$3:$F$41,DataFIX!$G$3:$G$41)+C398)","v":""},{"$f":"+XX!O399","v":"00:00:00"},{"$f":"+XX!E399","v":0},{"$f":"+XX!G399","v":0},{"$f":"+XX!T399","v":0},null,null,{"$f":"+XX!L399","v":0}]
["",{"$f":"+IF(XX!C400=\"\",\"\",XX!C400)","v":""},{"$f":"IF(B399=\"\",\"\",COUNTIFS($B$3:B399,B399))","v":""},{"$f":"IF(B399=\"\",\"\",LOOKUP(B399,DataFIX!$F$3:$F$21,DataFIX!$E$3:$E$21))","v":""},{"$f":"IF(B399=\"\",\"\",LOOKUP(B399,DataFIX!$F$3:$F$41,DataFIX!$G$3:$G$41)+C399)","v":""},{"$f":"+XX!O400","v":"00:00:00"},{"$f":"+XX!E400","v":0},{"$f":"+XX!G400","v":0},{"$f":"+XX!T400","v":0},null,null,{"$f":"+XX!L400","v":0}]
["",{"$f":"+IF(XX!C401=\"\",\"\",XX!C401)","v":""},{"$f":"IF(B400=\"\",\"\",COUNTIFS($B$3:B400,B400))","v":""},{"$f":"IF(B400=\"\",\"\",LOOKUP(B400,DataFIX!$F$3:$F$21,DataFIX!$E$3:$E$21))","v":""},{"$f":"IF(B400=\"\",\"\",LOOKUP(B400,DataFIX!$F$3:$F$41,DataFIX!$G$3:$G$41)+C400)","v":""},{"$f":"+XX!O401","v":"00:00:00"},{"$f":"+XX!E401","v":0},{"$f":"+XX!G401","v":0},{"$f":"+XX!T401","v":0},null,null,{"$f":"+XX!L401","v":0}]
["",{"$f":"+IF(XX!C402=\"\",\"\",XX!C402)","v":""},{"$f":"IF(B401=\"\",\"\",COUNTIFS($B$3:B401,B401))","v":""},{"$f":"IF(B401=\"\",\"\",LOOKUP(B401,DataFIX!$F$3:$F$21,DataFIX!$E$3:$E$21))","v":""},{"$f":"IF(B401=\"\",\"\",LOOKUP(B401,DataFIX!$F$3:$F$41,DataFIX!$G$3:$G$41)+C401)","v":""},{"$f":"+XX!O402","v":"00:00:00"},{"$f":"+XX!E402","v":0},{"$f":"+XX!G402","v":0},{"$f":"+XX!T402","v":0},null,null,{"$f":"+XX!L402","v":0}]
["",{"$f":"+IF(XX!C403=\"\",\"\",XX!C403)","v":""},{"$f":"IF(B402=\"\",\"\",COUNTIFS($B$3:B402,B402))","v":""},{"$f":"IF(B402=\"\",\"\",LOOKUP(B402,DataFIX!$F$3:$F$21,DataFIX!$E$3:$E$21))","v":""},{"$f":"IF(B402=\"\",\"\",LOOKUP(B402,DataFIX!$F$3:$F$41,DataFIX!$G$3:$G$41)+C402)","v":""},{"$f":"+XX!O403","v":"00:00:00"},{"$f":"+XX!E403","v":0},{"$f":"+XX!G403","v":0},{"$f":"+XX!T403","v":0},null,null,{"$f":"+XX!L403","v":0}]
["",{"$f":"+IF(XX!C404=\"\",\"\",XX!C404)","v":""},{"$f":"IF(B403=\"\",\"\",COUNTIFS($B$3:B403,B403))","v":""},{"$f":"IF(B403=\"\",\"\",LOOKUP(B403,DataFIX!$F$3:$F$21,DataFIX!$E$3:$E$21))","v":""},{"$f":"IF(B403=\"\",\"\",LOOKUP(B403,DataFIX!$F$3:$F$41,DataFIX!$G$3:$G$41)+C403)","v":""},{"$f":"+XX!O404","v":"00:00:00"},{"$f":"+XX!E404","v":0},{"$f":"+XX!G404","v":0},{"$f":"+XX!T404","v":0},null,null,{"$f":"+XX!L404","v":0}]
["",{"$f":"+IF(XX!C405=\"\",\"\",XX!C405)","v":""},{"$f":"IF(B404=\"\",\"\",COUNTIFS($B$3:B404,B404))","v":""},{"$f":"IF(B404=\"\",\"\",LOOKUP(B404,DataFIX!$F$3:$F$21,DataFIX!$E$3:$E$21))","v":""},{"$f":"IF(B404=\"\",\"\",LOOKUP(B404,DataFIX!$F$3:$F$41,DataFIX!$G$3:$G$41)+C404)","v":""},{"$f":"+XX!O405","v":"00:00:00"},{"$f":"+XX!E405","v":0},{"$f":"+XX!G405","v":0},{"$f":"+XX!T405","v":0},null,null,{"$f":"+XX!L405","v":0}]
["",{"$f":"+IF(XX!C406=\"\",\"\",XX!C406)","v":""},{"$f":"IF(B405=\"\",\"\",COUNTIFS($B$3:B405,B405))","v":""},{"$f":"IF(B405=\"\",\"\",LOOKUP(B405,DataFIX!$F$3:$F$21,DataFIX!$E$3:$E$21))","v":""},{"$f":"IF(B405=\"\",\"\",LOOKUP(B405,DataFIX!$F$3:$F$41,DataFIX!$G$3:$G$41)+C405)","v":""},{"$f":"+XX!O406","v":"00:00:00"},{"$f":"+XX!E406","v":0},{"$f":"+XX!G406","v":0},{"$f":"+XX!T406","v":0},null,null,{"$f":"+XX!L406","v":0}]
["",{"$f":"+IF(XX!C407=\"\",\"\",XX!C407)","v":""},{"$f":"IF(B406=\"\",\"\",COUNTIFS($B$3:B406,B406))","v":""},{"$f":"IF(B406=\"\",\"\",LOOKUP(B406,DataFIX!$F$3:$F$21,DataFIX!$E$3:$E$21))","v":""},{"$f":"IF(B406=\"\",\"\",LOOKUP(B406,DataFIX!$F$3:$F$41,DataFIX!$G$3:$G$41)+C406)","v":""},{"$f":"+XX!O407","v":"00:00:00"},{"$f":"+XX!E407","v":0},{"$f":"+XX!G407","v":0},{"$f":"+XX!T407","v":0},null,null,{"$f":"+XX!L407","v":0}]
["",{"$f":"+IF(XX!C408=\"\",\"\",XX!C408)","v":""},{"$f":"IF(B407=\"\",\"\",COUNTIFS($B$3:B407,B407))","v":""},{"$f":"IF(B407=\"\",\"\",LOOKUP(B407,DataFIX!$F$3:$F$21,DataFIX!$E$3:$E$21))","v":""},{"$f":"IF(B407=\"\",\"\",LOOKUP(B407,DataFIX!$F$3:$F$41,DataFIX!$G$3:$G$41)+C407)","v":""},{"$f":"+XX!O408","v":"00:00:00"},{"$f":"+XX!E408","v":0},{"$f":"+XX!G408","v":0},{"$f":"+XX!T408","v":0},null,null,{"$f":"+XX!L408","v":0}]
["",{"$f":"+IF(XX!C409=\"\",\"\",XX!C409)","v":""},{"$f":"IF(B408=\"\",\"\",COUNTIFS($B$3:B408,B408))","v":""},{"$f":"IF(B408=\"\",\"\",LOOKUP(B408,DataFIX!$F$3:$F$21,DataFIX!$E$3:$E$21))","v":""},{"$f":"IF(B408=\"\",\"\",LOOKUP(B408,DataFIX!$F$3:$F$41,DataFIX!$G$3:$G$41)+C408)","v":""},{"$f":"+XX!O409","v":"00:00:00"},{"$f":"+XX!E409","v":0},{"$f":"+XX!G409","v":0},{"$f":"+XX!T409","v":0},null,null,{"$f":"+XX!L409","v":0}]
["",{"$f":"+IF(XX!C410=\"\",\"\",XX!C410)","v":""},{"$f":"IF(B409=\"\",\"\",COUNTIFS($B$3:B409,B409))","v":""},{"$f":"IF(B409=\"\",\"\",LOOKUP(B409,DataFIX!$F$3:$F$21,DataFIX!$E$3:$E$21))","v":""},{"$f":"IF(B409=\"\",\"\",LOOKUP(B409,DataFIX!$F$3:$F$41,DataFIX!$G$3:$G$41)+C409)","v":""},{"$f":"+XX!O410","v":"00:00:00"},{"$f":"+XX!E410","v":0},{"$f":"+XX!G410","v":0},{"$f":"+XX!T410","v":0},null,null,{"$f":"+XX!L410","v":0}]
["",{"$f":"+IF(XX!C411=\"\",\"\",XX!C411)","v":""},{"$f":"IF(B410=\"\",\"\",COUNTIFS($B$3:B410,B410))","v":""},{"$f":"IF(B410=\"\",\"\",LOOKUP(B410,DataFIX!$F$3:$F$21,DataFIX!$E$3:$E$21))","v":""},{"$f":"IF(B410=\"\",\"\",LOOKUP(B410,DataFIX!$F$3:$F$41,DataFIX!$G$3:$G$41)+C410)","v":""},{"$f":"+XX!O411","v":"00:00:00"},{"$f":"+XX!E411","v":0},{"$f":"+XX!G411","v":0},{"$f":"+XX!T411","v":0},null,null,{"$f":"+XX!L411","v":0}]
["",{"$f":"+IF(XX!C412=\"\",\"\",XX!C412)","v":""},{"$f":"IF(B411=\"\",\"\",COUNTIFS($B$3:B411,B411))","v":""},{"$f":"IF(B411=\"\",\"\",LOOKUP(B411,DataFIX!$F$3:$F$21,DataFIX!$E$3:$E$21))","v":""},{"$f":"IF(B411=\"\",\"\",LOOKUP(B411,DataFIX!$F$3:$F$41,DataFIX!$G$3:$G$41)+C411)","v":""},{"$f":"+XX!O412","v":"00:00:00"},{"$f":"+XX!E412","v":0},{"$f":"+XX!G412","v":0},{"$f":"+XX!T412","v":0},null,null,{"$f":"+XX!L412","v":0}]
["",{"$f":"+IF(XX!C413=\"\",\"\",XX!C413)","v":""},{"$f":"IF(B412=\"\",\"\",COUNTIFS($B$3:B412,B412))","v":""},{"$f":"IF(B412=\"\",\"\",LOOKUP(B412,DataFIX!$F$3:$F$21,DataFIX!$E$3:$E$21))","v":""},{"$f":"IF(B412=\"\",\"\",LOOKUP(B412,DataFIX!$F$3:$F$41,DataFIX!$G$3:$G$41)+C412)","v":""},{"$f":"+XX!O413","v":"00:00:00"},{"$f":"+XX!E413","v":0},{"$f":"+XX!G413","v":0},{"$f":"+XX!T413","v":0},null,null,{"$f":"+XX!L413","v":0}]
["",{"$f":"+IF(XX!C414=\"\",\"\",XX!C414)","v":""},{"$f":"IF(B413=\"\",\"\",COUNTIFS($B$3:B413,B413))","v":""},{"$f":"IF(B413=\"\",\"\",LOOKUP(B413,DataFIX!$F$3:$F$21,DataFIX!$E$3:$E$21))","v":""},{"$f":"IF(B413=\"\",\"\",LOOKUP(B413,DataFIX!$F$3:$F$41,DataFIX!$G$3:$G$41)+C413)","v":""},{"$f":"+XX!O414","v":"00:00:00"},{"$f":"+XX!E414","v":0},{"$f":"+XX!G414","v":0},{"$f":"+XX!T414","v":0},null,null,{"$f":"+XX!L414","v":0}]
["",{"$f":"+IF(XX!C415=\"\",\"\",XX!C415)","v":""},{"$f":"IF(B414=\"\",\"\",COUNTIFS($B$3:B414,B414))","v":""},{"$f":"IF(B414=\"\",\"\",LOOKUP(B414,DataFIX!$F$3:$F$21,DataFIX!$E$3:$E$21))","v":""},{"$f":"IF(B414=\"\",\"\",LOOKUP(B414,DataFIX!$F$3:$F$41,DataFIX!$G$3:$G$41)+C414)","v":""},{"$f":"+XX!O415","v":"00:00:00"},{"$f":"+XX!E415","v":0},{"$f":"+XX!G415","v":0},{"$f":"+XX!T415","v":0},null,null,{"$f":"+XX!L415","v":0}]
["",{"$f":"+IF(XX!C416=\"\",\"\",XX!C416)","v":""},{"$f":"IF(B415=\"\",\"\",COUNTIFS($B$3:B415,B415))","v":""},{"$f":"IF(B415=\"\",\"\",LOOKUP(B415,DataFIX!$F$3:$F$21,DataFIX!$E$3:$E$21))","v":""},{"$f":"IF(B415=\"\",\"\",LOOKUP(B415,DataFIX!$F$3:$F$41,DataFIX!$G$3:$G$41)+C415)","v":""},{"$f":"+XX!O416","v":"00:00:00"},{"$f":"+XX!E416","v":0},{"$f":"+XX!G416","v":0},{"$f":"+XX!T416","v":0},null,null,{"$f":"+XX!L416","v":0}]
["",{"$f":"+IF(XX!C417=\"\",\"\",XX!C417)","v":""},{"$f":"IF(B416=\"\",\"\",COUNTIFS($B$3:B416,B416))","v":""},{"$f":"IF(B416=\"\",\"\",LOOKUP(B416,DataFIX!$F$3:$F$21,DataFIX!$E$3:$E$21))","v":""},{"$f":"IF(B416=\"\",\"\",LOOKUP(B416,DataFIX!$F$3:$F$41,DataFIX!$G$3:$G$41)+C416)","v":""},{"$f":"+XX!O417","v":"00:00:00"},{"$f":"+XX!E417","v":0},{"$f":"+XX!G417","v":0},{"$f":"+XX!T417","v":0},null,null,{"$f":"+XX!L417","v":0}]
["",{"$f":"+IF(XX!C418=\"\",\"\",XX!C418)","v":""},{"$f":"IF(B417=\"\",\"\",COUNTIFS($B$3:B417,B417))","v":""},{"$f":"IF(B417=\"\",\"\",LOOKUP(B417,DataFIX!$F$3:$F$21,DataFIX!$E$3:$E$21))","v":""},{"$f":"IF(B417=\"\",\"\",LOOKUP(B417,DataFIX!$F$3:$F$41,DataFIX!$G$3:$G$41)+C417)","v":""},{"$f":"+XX!O418","v":"00:00:00"},{"$f":"+XX!E418","v":0},{"$f":"+XX!G418","v":0},{"$f":"+XX!T418","v":0},null,null,{"$f":"+XX!L418","v":0}]
["",{"$f":"+IF(XX!C419=\"\",\"\",XX!C419)","v":""},{"$f":"IF(B418=\"\",\"\",COUNTIFS($B$3:B418,B418))","v":""},{"$f":"IF(B418=\"\",\"\",LOOKUP(B418,DataFIX!$F$3:$F$21,DataFIX!$E$3:$E$21))","v":""},{"$f":"IF(B418=\"\",\"\",LOOKUP(B418,DataFIX!$F$3:$F$41,DataFIX!$G$3:$G$41)+C418)","v":""},{"$f":"+XX!O419","v":"00:00:00"},{"$f":"+XX!E419","v":0},{"$f":"+XX!G419","v":0},{"$f":"+XX!T419","v":0},null,null,{"$f":"+XX!L419","v":0}]
["",{"$f":"+IF(XX!C420=\"\",\"\",XX!C420)","v":""},{"$f":"IF(B419=\"\",\"\",COUNTIFS($B$3:B419,B419))","v":""},{"$f":"IF(B419=\"\",\"\",LOOKUP(B419,DataFIX!$F$3:$F$21,DataFIX!$E$3:$E$21))","v":""},{"$f":"IF(B419=\"\",\"\",LOOKUP(B419,DataFIX!$F$3:$F$41,DataFIX!$G$3:$G$41)+C419)","v":""},{"$f":"+XX!O420","v":"00:00:00"},{"$f":"+XX!E420","v":0},{"$f":"+XX!G420","v":0},{"$f":"+XX!T420","v":0},null,null,{"$f":"+XX!L420","v":0}]
["",{"$f":"+IF(XX!C421=\"\",\"\",XX!C421)","v":""},{"$f":"IF(B420=\"\",\"\",COUNTIFS($B$3:B420,B420))","v":""},{"$f":"IF(B420=\"\",\"\",LOOKUP(B420,DataFIX!$F$3:$F$21,DataFIX!$E$3:$E$21))","v":""},{"$f":"IF(B420=\"\",\"\",LOOKUP(B420,DataFIX!$F$3:$F$41,DataFIX!$G$3:$G$41)+C420)","v":""},{"$f":"+XX!O421","v":"00:00:00"},{"$f":"+XX!E421","v":0},{"$f":"+XX!G421","v":0},{"$f":"+XX!T421","v":0},null,null,{"$f":"+XX!L421","v":0}]
["",{"$f":"+IF(XX!C422=\"\",\"\",XX!C422)","v":""},{"$f":"IF(B421=\"\",\"\",COUNTIFS($B$3:B421,B421))","v":""},{"$f":"IF(B421=\"\",\"\",LOOKUP(B421,DataFIX!$F$3:$F$21,DataFIX!$E$3:$E$21))","v":""},{"$f":"IF(B421=\"\",\"\",LOOKUP(B421,DataFIX!$F$3:$F$41,DataFIX!$G$3:$G$41)+C421)","v":""},{"$f":"+XX!O422","v":"00:00:00"},{"$f":"+XX!E422","v":0},{"$f":"+XX!G422","v":0},{"$f":"+XX!T422","v":0},null,null,{"$f":"+XX!L422","v":0}]
["",{"$f":"+IF(XX!C423=\"\",\"\",XX!C423)","v":""},{"$f":"IF(B422=\"\",\"\",COUNTIFS($B$3:B422,B422))","v":""},{"$f":"IF(B422=\"\",\"\",LOOKUP(B422,DataFIX!$F$3:$F$21,DataFIX!$E$3:$E$21))","v":""},{"$f":"IF(B422=\"\",\"\",LOOKUP(B422,DataFIX!$F$3:$F$41,DataFIX!$G$3:$G$41)+C422)","v":""},{"$f":"+XX!O423","v":"00:00:00"},{"$f":"+XX!E423","v":0},{"$f":"+XX!G423","v":0},{"$f":"+XX!T423","v":0},null,null,{"$f":"+XX!L423","v":0}]
["",{"$f":"+IF(XX!C424=\"\",\"\",XX!C424)","v":""},{"$f":"IF(B423=\"\",\"\",COUNTIFS($B$3:B423,B423))","v":""},{"$f":"IF(B423=\"\",\"\",LOOKUP(B423,DataFIX!$F$3:$F$21,DataFIX!$E$3:$E$21))","v":""},{"$f":"IF(B423=\"\",\"\",LOOKUP(B423,DataFIX!$F$3:$F$41,DataFIX!$G$3:$G$41)+C423)","v":""},{"$f":"+XX!O424","v":"00:00:00"},{"$f":"+XX!E424","v":0},{"$f":"+XX!G424","v":0},{"$f":"+XX!T424","v":0},null,null,{"$f":"+XX!L424","v":0}]
["",{"$f":"+IF(XX!C425=\"\",\"\",XX!C425)","v":""},{"$f":"IF(B424=\"\",\"\",COUNTIFS($B$3:B424,B424))","v":""},{"$f":"IF(B424=\"\",\"\",LOOKUP(B424,DataFIX!$F$3:$F$21,DataFIX!$E$3:$E$21))","v":""},{"$f":"IF(B424=\"\",\"\",LOOKUP(B424,DataFIX!$F$3:$F$41,DataFIX!$G$3:$G$41)+C424)","v":""},{"$f":"+XX!O425","v":"00:00:00"},{"$f":"+XX!E425","v":0},{"$f":"+XX!G425","v":0},{"$f":"+XX!T425","v":0},null,null,{"$f":"+XX!L425","v":0}]
["",{"$f":"+IF(XX!C426=\"\",\"\",XX!C426)","v":""},{"$f":"IF(B425=\"\",\"\",COUNTIFS($B$3:B425,B425))","v":""},{"$f":"IF(B425=\"\",\"\",LOOKUP(B425,DataFIX!$F$3:$F$21,DataFIX!$E$3:$E$21))","v":""},{"$f":"IF(B425=\"\",\"\",LOOKUP(B425,DataFIX!$F$3:$F$41,DataFIX!$G$3:$G$41)+C425)","v":""},{"$f":"+XX!O426","v":"00:00:00"},{"$f":"+XX!E426","v":0},{"$f":"+XX!G426","v":0},{"$f":"+XX!T426","v":0},null,null,{"$f":"+XX!L426","v":0}]
["",{"$f":"+IF(XX!C427=\"\",\"\",XX!C427)","v":""},{"$f":"IF(B426=\"\",\"\",COUNTIFS($B$3:B426,B426))","v":""},{"$f":"IF(B426=\"\",\"\",LOOKUP(B426,DataFIX!$F$3:$F$21,DataFIX!$E$3:$E$21))","v":""},{"$f":"IF(B426=\"\",\"\",LOOKUP(B426,DataFIX!$F$3:$F$41,DataFIX!$G$3:$G$41)+C426)","v":""},{"$f":"+XX!O427","v":"00:00:00"},{"$f":"+XX!E427","v":0},{"$f":"+XX!G427","v":0},{"$f":"+XX!T427","v":0},null,null,{"$f":"+XX!L427","v":0}]
["",{"$f":"+IF(XX!C428=\"\",\"\",XX!C428)","v":""},{"$f":"IF(B427=\"\",\"\",COUNTIFS($B$3:B427,B427))","v":""},{"$f":"IF(B427=\"\",\"\",LOOKUP(B427,DataFIX!$F$3:$F$21,DataFIX!$E$3:$E$21))","v":""},{"$f":"IF(B427=\"\",\"\",LOOKUP(B427,DataFIX!$F$3:$F$41,DataFIX!$G$3:$G$41)+C427)","v":""},{"$f":"+XX!O428","v":"00:00:00"},{"$f":"+XX!E428","v":0},{"$f":"+XX!G428","v":0},{"$f":"+XX!T428","v":0},null,null,{"$f":"+XX!L428","v":0}]
["",{"$f":"+IF(XX!C429=\"\",\"\",XX!C429)","v":""},{"$f":"IF(B428=\"\",\"\",COUNTIFS($B$3:B428,B428))","v":""},{"$f":"IF(B428=\"\",\"\",LOOKUP(B428,DataFIX!$F$3:$F$21,DataFIX!$E$3:$E$21))","v":""},{"$f":"IF(B428=\"\",\"\",LOOKUP(B428,DataFIX!$F$3:$F$41,DataFIX!$G$3:$G$41)+C428)","v":""},{"$f":"+XX!O429","v":"00:00:00"},{"$f":"+XX!E429","v":0},{"$f":"+XX!G429","v":0},{"$f":"+XX!T429","v":0},null,null,{"$f":"+XX!L429","v":0}]
["",{"$f":"+IF(XX!C430=\"\",\"\",XX!C430)","v":""},{"$f":"IF(B429=\"\",\"\",COUNTIFS($B$3:B429,B429))","v":""},{"$f":"IF(B429=\"\",\"\",LOOKUP(B429,DataFIX!$F$3:$F$21,DataFIX!$E$3:$E$21))","v":""},{"$f":"IF(B429=\"\",\"\",LOOKUP(B429,DataFIX!$F$3:$F$41,DataFIX!$G$3:$G$41)+C429)","v":""},{"$f":"+XX!O430","v":"00:00:00"},{"$f":"+XX!E430","v":0},{"$f":"+XX!G430","v":0},{"$f":"+XX!T430","v":0},null,null,{"$f":"+XX!L430","v":0}]
["",{"$f":"+IF(XX!C431=\"\",\"\",XX!C431)","v":""},{"$f":"IF(B430=\"\",\"\",COUNTIFS($B$3:B430,B430))","v":""},{"$f":"IF(B430=\"\",\"\",LOOKUP(B430,DataFIX!$F$3:$F$21,DataFIX!$E$3:$E$21))","v":""},{"$f":"IF(B430=\"\",\"\",LOOKUP(B430,DataFIX!$F$3:$F$41,DataFIX!$G$3:$G$41)+C430)","v":""},{"$f":"+XX!O431","v":"00:00:00"},{"$f":"+XX!E431","v":0},{"$f":"+XX!G431","v":0},{"$f":"+XX!T431","v":0},null,null,{"$f":"+XX!L431","v":0}]
["",{"$f":"+IF(XX!C432=\"\",\"\",XX!C432)","v":""},{"$f":"IF(B431=\"\",\"\",COUNTIFS($B$3:B431,B431))","v":""},{"$f":"IF(B431=\"\",\"\",LOOKUP(B431,DataFIX!$F$3:$F$21,DataFIX!$E$3:$E$21))","v":""},{"$f":"IF(B431=\"\",\"\",LOOKUP(B431,DataFIX!$F$3:$F$41,DataFIX!$G$3:$G$41)+C431)","v":""},{"$f":"+XX!O432","v":"00:00:00"},{"$f":"+XX!E432","v":0},{"$f":"+XX!G432","v":0},{"$f":"+XX!T432","v":0},null,null,{"$f":"+XX!L432","v":0}]
["",{"$f":"+IF(XX!C433=\"\",\"\",XX!C433)","v":""},{"$f":"IF(B432=\"\",\"\",COUNTIFS($B$3:B432,B432))","v":""},{"$f":"IF(B432=\"\",\"\",LOOKUP(B432,DataFIX!$F$3:$F$21,DataFIX!$E$3:$E$21))","v":""},{"$f":"IF(B432=\"\",\"\",LOOKUP(B432,DataFIX!$F$3:$F$41,DataFIX!$G$3:$G$41)+C432)","v":""},{"$f":"+XX!O433","v":"00:00:00"},{"$f":"+XX!E433","v":0},{"$f":"+XX!G433","v":0},{"$f":"+XX!T433","v":0},null,null,{"$f":"+XX!L433","v":0}]
["",{"$f":"+IF(XX!C434=\"\",\"\",XX!C434)","v":""},{"$f":"IF(B433=\"\",\"\",COUNTIFS($B$3:B433,B433))","v":""},{"$f":"IF(B433=\"\",\"\",LOOKUP(B433,DataFIX!$F$3:$F$21,DataFIX!$E$3:$E$21))","v":""},{"$f":"IF(B433=\"\",\"\",LOOKUP(B433,DataFIX!$F$3:$F$41,DataFIX!$G$3:$G$41)+C433)","v":""},{"$f":"+XX!O434","v":"00:00:00"},{"$f":"+XX!E434","v":0},{"$f":"+XX!G434","v":0},{"$f":"+XX!T434","v":0},null,null,{"$f":"+XX!L434","v":0}]
["",{"$f":"+IF(XX!C435=\"\",\"\",XX!C435)","v":""},{"$f":"IF(B434=\"\",\"\",COUNTIFS($B$3:B434,B434))","v":""},{"$f":"IF(B434=\"\",\"\",LOOKUP(B434,DataFIX!$F$3:$F$21,DataFIX!$E$3:$E$21))","v":""},{"$f":"IF(B434=\"\",\"\",LOOKUP(B434,DataFIX!$F$3:$F$41,DataFIX!$G$3:$G$41)+C434)","v":""},{"$f":"+XX!O435","v":"00:00:00"},{"$f":"+XX!E435","v":0},{"$f":"+XX!G435","v":0},{"$f":"+XX!T435","v":0},null,null,{"$f":"+XX!L435","v":0}]
["",{"$f":"+IF(XX!C436=\"\",\"\",XX!C436)","v":""},{"$f":"IF(B435=\"\",\"\",COUNTIFS($B$3:B435,B435))","v":""},{"$f":"IF(B435=\"\",\"\",LOOKUP(B435,DataFIX!$F$3:$F$21,DataFIX!$E$3:$E$21))","v":""},{"$f":"IF(B435=\"\",\"\",LOOKUP(B435,DataFIX!$F$3:$F$41,DataFIX!$G$3:$G$41)+C435)","v":""},{"$f":"+XX!O436","v":"00:00:00"},{"$f":"+XX!E436","v":0},{"$f":"+XX!G436","v":0},{"$f":"+XX!T436","v":0},null,null,{"$f":"+XX!L436","v":0}]
["",{"$f":"+IF(XX!C437=\"\",\"\",XX!C437)","v":""},{"$f":"IF(B436=\"\",\"\",COUNTIFS($B$3:B436,B436))","v":""},{"$f":"IF(B436=\"\",\"\",LOOKUP(B436,DataFIX!$F$3:$F$21,DataFIX!$E$3:$E$21))","v":""},{"$f":"IF(B436=\"\",\"\",LOOKUP(B436,DataFIX!$F$3:$F$41,DataFIX!$G$3:$G$41)+C436)","v":""},{"$f":"+XX!O437","v":"00:00:00"},{"$f":"+XX!E437","v":0},{"$f":"+XX!G437","v":0},{"$f":"+XX!T437","v":0},null,null,{"$f":"+XX!L437","v":0}]
["",{"$f":"+IF(XX!C438=\"\",\"\",XX!C438)","v":""},{"$f":"IF(B437=\"\",\"\",COUNTIFS($B$3:B437,B437))","v":""},{"$f":"IF(B437=\"\",\"\",LOOKUP(B437,DataFIX!$F$3:$F$21,DataFIX!$E$3:$E$21))","v":""},{"$f":"IF(B437=\"\",\"\",LOOKUP(B437,DataFIX!$F$3:$F$41,DataFIX!$G$3:$G$41)+C437)","v":""},{"$f":"+XX!O438","v":"00:00:00"},{"$f":"+XX!E438","v":0},{"$f":"+XX!G438","v":0},{"$f":"+XX!T438","v":0},null,null,{"$f":"+XX!L438","v":0}]
["",{"$f":"+IF(XX!C439=\"\",\"\",XX!C439)","v":""},{"$f":"IF(B438=\"\",\"\",COUNTIFS($B$3:B438,B438))","v":""},{"$f":"IF(B438=\"\",\"\",LOOKUP(B438,DataFIX!$F$3:$F$21,DataFIX!$E$3:$E$21))","v":""},{"$f":"IF(B438=\"\",\"\",LOOKUP(B438,DataFIX!$F$3:$F$41,DataFIX!$G$3:$G$41)+C438)","v":""},{"$f":"+XX!O439","v":"00:00:00"},{"$f":"+XX!E439","v":0},{"$f":"+XX!G439","v":0},{"$f":"+XX!T439","v":0},null,null,{"$f":"+XX!L439","v":0}]
["",{"$f":"+IF(XX!C440=\"\",\"\",XX!C440)","v":""},{"$f":"IF(B439=\"\",\"\",COUNTIFS($B$3:B439,B439))","v":""},{"$f":"IF(B439=\"\",\"\",LOOKUP(B439,DataFIX!$F$3:$F$21,DataFIX!$E$3:$E$21))","v":""},{"$f":"IF(B439=\"\",\"\",LOOKUP(B439,DataFIX!$F$3:$F$41,DataFIX!$G$3:$G$41)+C439)","v":""},{"$f":"+XX!O440","v":"00:00:00"},{"$f":"+XX!E440","v":0},{"$f":"+XX!G440","v":0},{"$f":"+XX!T440","v":0},null,null,{"$f":"+XX!L440","v":0}]
["",{"$f":"+IF(XX!C441=\"\",\"\",XX!C441)","v":""},{"$f":"IF(B440=\"\",\"\",COUNTIFS($B$3:B440,B440))","v":""},{"$f":"IF(B440=\"\",\"\",LOOKUP(B440,DataFIX!$F$3:$F$21,DataFIX!$E$3:$E$21))","v":""},{"$f":"IF(B440=\"\",\"\",LOOKUP(B440,DataFIX!$F$3:$F$41,DataFIX!$G$3:$G$41)+C440)","v":""},{"$f":"+XX!O441","v":"00:00:00"},{"$f":"+XX!E441","v":0},{"$f":"+XX!G441","v":0},{"$f":"+XX!T441","v":0},null,null,{"$f":"+XX!L441","v":0}]
["",{"$f":"+IF(XX!C442=\"\",\"\",XX!C442)","v":""},{"$f":"IF(B441=\"\",\"\",COUNTIFS($B$3:B441,B441))","v":""},{"$f":"IF(B441=\"\",\"\",LOOKUP(B441,DataFIX!$F$3:$F$21,DataFIX!$E$3:$E$21))","v":""},{"$f":"IF(B441=\"\",\"\",LOOKUP(B441,DataFIX!$F$3:$F$41,DataFIX!$G$3:$G$41)+C441)","v":""},{"$f":"+XX!O442","v":"00:00:00"},{"$f":"+XX!E442","v":0},{"$f":"+XX!G442","v":0},{"$f":"+XX!T442","v":0},null,null,{"$f":"+XX!L442","v":0}]
["",{"$f":"+IF(XX!C443=\"\",\"\",XX!C443)","v":""},{"$f":"IF(B442=\"\",\"\",COUNTIFS($B$3:B442,B442))","v":""},{"$f":"IF(B442=\"\",\"\",LOOKUP(B442,DataFIX!$F$3:$F$21,DataFIX!$E$3:$E$21))","v":""},{"$f":"IF(B442=\"\",\"\",LOOKUP(B442,DataFIX!$F$3:$F$41,DataFIX!$G$3:$G$41)+C442)","v":""},{"$f":"+XX!O443","v":"00:00:00"},{"$f":"+XX!E443","v":0},{"$f":"+XX!G443","v":0},{"$f":"+XX!T443","v":0},null,null,{"$f":"+XX!L443","v":0}]
["",{"$f":"+IF(XX!C444=\"\",\"\",XX!C444)","v":""},{"$f":"IF(B443=\"\",\"\",COUNTIFS($B$3:B443,B443))","v":""},{"$f":"IF(B443=\"\",\"\",LOOKUP(B443,DataFIX!$F$3:$F$21,DataFIX!$E$3:$E$21))","v":""},{"$f":"IF(B443=\"\",\"\",LOOKUP(B443,DataFIX!$F$3:$F$41,DataFIX!$G$3:$G$41)+C443)","v":""},{"$f":"+XX!O444","v":"00:00:00"},{"$f":"+XX!E444","v":0},{"$f":"+XX!G444","v":0},{"$f":"+XX!T444","v":0},null,null,{"$f":"+XX!L444","v":0}]
["",{"$f":"+IF(XX!C445=\"\",\"\",XX!C445)","v":""},{"$f":"IF(B444=\"\",\"\",COUNTIFS($B$3:B444,B444))","v":""},{"$f":"IF(B444=\"\",\"\",LOOKUP(B444,DataFIX!$F$3:$F$21,DataFIX!$E$3:$E$21))","v":""},{"$f":"IF(B444=\"\",\"\",LOOKUP(B444,DataFIX!$F$3:$F$41,DataFIX!$G$3:$G$41)+C444)","v":""},{"$f":"+XX!O445","v":"00:00:00"},{"$f":"+XX!E445","v":0},{"$f":"+XX!G445","v":0},{"$f":"+XX!T445","v":0},null,null,{"$f":"+XX!L445","v":0}]
["",{"$f":"+IF(XX!C446=\"\",\"\",XX!C446)","v":""},{"$f":"IF(B445=\"\",\"\",COUNTIFS($B$3:B445,B445))","v":""},{"$f":"IF(B445=\"\",\"\",LOOKUP(B445,DataFIX!$F$3:$F$21,DataFIX!$E$3:$E$21))","v":""},{"$f":"IF(B445=\"\",\"\",LOOKUP(B445,DataFIX!$F$3:$F$41,DataFIX!$G$3:$G$41)+C445)","v":""},{"$f":"+XX!O446","v":"00:00:00"},{"$f":"+XX!E446","v":0},{"$f":"+XX!G446","v":0},{"$f":"+XX!T446","v":0},null,null,{"$f":"+XX!L446","v":0}]
["",{"$f":"+IF(XX!C447=\"\",\"\",XX!C447)","v":""},{"$f":"IF(B446=\"\",\"\",COUNTIFS($B$3:B446,B446))","v":""},{"$f":"IF(B446=\"\",\"\",LOOKUP(B446,DataFIX!$F$3:$F$21,DataFIX!$E$3:$E$21))","v":""},{"$f":"IF(B446=\"\",\"\",LOOKUP(B446,DataFIX!$F$3:$F$41,DataFIX!$G$3:$G$41)+C446)","v":""},{"$f":"+XX!O447","v":"00:00:00"},{"$f":"+XX!E447","v":0},{"$f":"+XX!G447","v":0},{"$f":"+XX!T447","v":0},null,null,{"$f":"+XX!L447","v":0}]
["",{"$f":"+IF(XX!C448=\"\",\"\",XX!C448)","v":""},{"$f":"IF(B447=\"\",\"\",COUNTIFS($B$3:B447,B447))","v":""},{"$f":"IF(B447=\"\",\"\",LOOKUP(B447,DataFIX!$F$3:$F$21,DataFIX!$E$3:$E$21))","v":""},{"$f":"IF(B447=\"\",\"\",LOOKUP(B447,DataFIX!$F$3:$F$41,DataFIX!$G$3:$G$41)+C447)","v":""},{"$f":"+XX!O448","v":"00:00:00"},{"$f":"+XX!E448","v":0},{"$f":"+XX!G448","v":0},{"$f":"+XX!T448","v":0},null,null,{"$f":"+XX!L448","v":0}]
["",{"$f":"+IF(XX!C449=\"\",\"\",XX!C449)","v":""},{"$f":"IF(B448=\"\",\"\",COUNTIFS($B$3:B448,B448))","v":""},{"$f":"IF(B448=\"\",\"\",LOOKUP(B448,DataFIX!$F$3:$F$21,DataFIX!$E$3:$E$21))","v":""},{"$f":"IF(B448=\"\",\"\",LOOKUP(B448,DataFIX!$F$3:$F$41,DataFIX!$G$3:$G$41)+C448)","v":""},{"$f":"+XX!O449","v":"00:00:00"},{"$f":"+XX!E449","v":0},{"$f":"+XX!G449","v":0},{"$f":"+XX!T449","v":0},null,null,{"$f":"+XX!L449","v":0}]
["",{"$f":"+IF(XX!C450=\"\",\"\",XX!C450)","v":""},{"$f":"IF(B449=\"\",\"\",COUNTIFS($B$3:B449,B449))","v":""},{"$f":"IF(B449=\"\",\"\",LOOKUP(B449,DataFIX!$F$3:$F$21,DataFIX!$E$3:$E$21))","v":""},{"$f":"IF(B449=\"\",\"\",LOOKUP(B449,DataFIX!$F$3:$F$41,DataFIX!$G$3:$G$41)+C449)","v":""},{"$f":"+XX!O450","v":"00:00:00"},{"$f":"+XX!E450","v":0},{"$f":"+XX!G450","v":0},{"$f":"+XX!T450","v":0},null,null,{"$f":"+XX!L450","v":0}]
["",{"$f":"+IF(XX!C451=\"\",\"\",XX!C451)","v":""},{"$f":"IF(B450=\"\",\"\",COUNTIFS($B$3:B450,B450))","v":""},{"$f":"IF(B450=\"\",\"\",LOOKUP(B450,DataFIX!$F$3:$F$21,DataFIX!$E$3:$E$21))","v":""},{"$f":"IF(B450=\"\",\"\",LOOKUP(B450,DataFIX!$F$3:$F$41,DataFIX!$G$3:$G$41)+C450)","v":""},{"$f":"+XX!O451","v":"00:00:00"},{"$f":"+XX!E451","v":0},{"$f":"+XX!G451","v":0},{"$f":"+XX!T451","v":0},null,null,{"$f":"+XX!L451","v":0}]
["",{"$f":"+IF(XX!C452=\"\",\"\",XX!C452)","v":""},{"$f":"IF(B451=\"\",\"\",COUNTIFS($B$3:B451,B451))","v":""},{"$f":"IF(B451=\"\",\"\",LOOKUP(B451,DataFIX!$F$3:$F$21,DataFIX!$E$3:$E$21))","v":""},{"$f":"IF(B451=\"\",\"\",LOOKUP(B451,DataFIX!$F$3:$F$41,DataFIX!$G$3:$G$41)+C451)","v":""},{"$f":"+XX!O452","v":"00:00:00"},{"$f":"+XX!E452","v":0},{"$f":"+XX!G452","v":0},{"$f":"+XX!T452","v":0},null,null,{"$f":"+XX!L452","v":0}]
["",{"$f":"+IF(XX!C453=\"\",\"\",XX!C453)","v":""},{"$f":"IF(B452=\"\",\"\",COUNTIFS($B$3:B452,B452))","v":""},{"$f":"IF(B452=\"\",\"\",LOOKUP(B452,DataFIX!$F$3:$F$21,DataFIX!$E$3:$E$21))","v":""},{"$f":"IF(B452=\"\",\"\",LOOKUP(B452,DataFIX!$F$3:$F$41,DataFIX!$G$3:$G$41)+C452)","v":""},{"$f":"+XX!O453","v":"00:00:00"},{"$f":"+XX!E453","v":0},{"$f":"+XX!G453","v":0},{"$f":"+XX!T453","v":0},null,null,{"$f":"+XX!L453","v":0}]
["",{"$f":"+IF(XX!C454=\"\",\"\",XX!C454)","v":""},{"$f":"IF(B453=\"\",\"\",COUNTIFS($B$3:B453,B453))","v":""},{"$f":"IF(B453=\"\",\"\",LOOKUP(B453,DataFIX!$F$3:$F$21,DataFIX!$E$3:$E$21))","v":""},{"$f":"IF(B453=\"\",\"\",LOOKUP(B453,DataFIX!$F$3:$F$41,DataFIX!$G$3:$G$41)+C453)","v":""},{"$f":"+XX!O454","v":"00:00:00"},{"$f":"+XX!E454","v":0},{"$f":"+XX!G454","v":0},{"$f":"+XX!T454","v":0},null,null,{"$f":"+XX!L454","v":0}]
[{"$f":"+B454","v":""},{"$f":"+IF(XX!C455=\"\",\"\",XX!C455)","v":""},{"$f":"IF(B454=\"\",\"\",COUNTIFS($B$3:B454,B454))","v":""},{"$f":"IF(B454=\"\",\"\",LOOKUP(B454,DataFIX!$F$3:$F$21,DataFIX!$E$3:$E$21))","v":""},{"$f":"IF(B454=\"\",\"\",LOOKUP(B454,DataFIX!$F$3:$F$41,DataFIX!$G$3:$G$41)+C454)","v":""},{"$f":"+XX!O455","v":"00:00:00"},{"$f":"+XX!E455","v":0},{"$f":"+XX!G455","v":0},{"$f":"+XX!T455","v":0},null,null,{"$f":"+XX!L455","v":0}]
["",{"$f":"+IF(XX!C456=\"\",\"\",XX!C456)","v":""},{"$f":"IF(B455=\"\",\"\",COUNTIFS($B$3:B455,B455))","v":""},{"$f":"IF(B455=\"\",\"\",LOOKUP(B455,DataFIX!$F$3:$F$21,DataFIX!$E$3:$E$21))","v":""},{"$f":"IF(B455=\"\",\"\",LOOKUP(B455,DataFIX!$F$3:$F$41,DataFIX!$G$3:$G$41)+C455)","v":""},{"$f":"+XX!O456","v":"00:00:00"},{"$f":"+XX!E456","v":0},{"$f":"+XX!G456","v":0},{"$f":"+XX!T456","v":0},null,null,{"$f":"+XX!L456","v":0}]
["",{"$f":"+IF(XX!C457=\"\",\"\",XX!C457)","v":""},{"$f":"IF(B456=\"\",\"\",COUNTIFS($B$3:B456,B456))","v":""},{"$f":"IF(B456=\"\",\"\",LOOKUP(B456,DataFIX!$F$3:$F$21,DataFIX!$E$3:$E$21))","v":""},{"$f":"IF(B456=\"\",\"\",LOOKUP(B456,DataFIX!$F$3:$F$41,DataFIX!$G$3:$G$41)+C456)","v":""},{"$f":"+XX!O457","v":"00:00:00"},{"$f":"+XX!E457","v":0},{"$f":"+XX!G457","v":0},{"$f":"+XX!T457","v":0},null,null,{"$f":"+XX!L457","v":0}]
["",{"$f":"+IF(XX!C458=\"\",\"\",XX!C458)","v":""},{"$f":"IF(B457=\"\",\"\",COUNTIFS($B$3:B457,B457))","v":""},{"$f":"IF(B457=\"\",\"\",LOOKUP(B457,DataFIX!$F$3:$F$21,DataFIX!$E$3:$E$21))","v":""},{"$f":"IF(B457=\"\",\"\",LOOKUP(B457,DataFIX!$F$3:$F$41,DataFIX!$G$3:$G$41)+C457)","v":""},{"$f":"+XX!O458","v":"00:00:00"},{"$f":"+XX!E458","v":0},{"$f":"+XX!G458","v":0},{"$f":"+XX!T458","v":0},null,null,{"$f":"+XX!L458","v":0}]
["",{"$f":"+IF(XX!C459=\"\",\"\",XX!C459)","v":""},{"$f":"IF(B458=\"\",\"\",COUNTIFS($B$3:B458,B458))","v":""},{"$f":"IF(B458=\"\",\"\",LOOKUP(B458,DataFIX!$F$3:$F$21,DataFIX!$E$3:$E$21))","v":""},{"$f":"IF(B458=\"\",\"\",LOOKUP(B458,DataFIX!$F$3:$F$41,DataFIX!$G$3:$G$41)+C458)","v":""},{"$f":"+XX!O459","v":"00:00:00"},{"$f":"+XX!E459","v":0},{"$f":"+XX!G459","v":0},{"$f":"+XX!T459","v":0},null,null,{"$f":"+XX!L459","v":0}]
["",{"$f":"+IF(XX!C460=\"\",\"\",XX!C460)","v":""},{"$f":"IF(B459=\"\",\"\",COUNTIFS($B$3:B459,B459))","v":""},{"$f":"IF(B459=\"\",\"\",LOOKUP(B459,DataFIX!$F$3:$F$21,DataFIX!$E$3:$E$21))","v":""},{"$f":"IF(B459=\"\",\"\",LOOKUP(B459,DataFIX!$F$3:$F$41,DataFIX!$G$3:$G$41)+C459)","v":""},{"$f":"+XX!O460","v":"00:00:00"},{"$f":"+XX!E460","v":0},{"$f":"+XX!G460","v":0},{"$f":"+XX!T460","v":0},null,null,{"$f":"+XX!L460","v":0}]
["",{"$f":"+IF(XX!C461=\"\",\"\",XX!C461)","v":""},{"$f":"IF(B460=\"\",\"\",COUNTIFS($B$3:B460,B460))","v":""},{"$f":"IF(B460=\"\",\"\",LOOKUP(B460,DataFIX!$F$3:$F$21,DataFIX!$E$3:$E$21))","v":""},{"$f":"IF(B460=\"\",\"\",LOOKUP(B460,DataFIX!$F$3:$F$41,DataFIX!$G$3:$G$41)+C460)","v":""},{"$f":"+XX!O461","v":"00:00:00"},{"$f":"+XX!E461","v":0},{"$f":"+XX!G461","v":0},{"$f":"+XX!T461","v":0},null,null,{"$f":"+XX!L461","v":0}]
["",{"$f":"+IF(XX!C462=\"\",\"\",XX!C462)","v":""},{"$f":"IF(B461=\"\",\"\",COUNTIFS($B$3:B461,B461))","v":""},{"$f":"IF(B461=\"\",\"\",LOOKUP(B461,DataFIX!$F$3:$F$21,DataFIX!$E$3:$E$21))","v":""},{"$f":"IF(B461=\"\",\"\",LOOKUP(B461,DataFIX!$F$3:$F$41,DataFIX!$G$3:$G$41)+C461)","v":""},{"$f":"+XX!O462","v":"00:00:00"},{"$f":"+XX!E462","v":0},{"$f":"+XX!G462","v":0},{"$f":"+XX!T462","v":0},null,null,{"$f":"+XX!L462","v":0}]
["",{"$f":"+IF(XX!C463=\"\",\"\",XX!C463)","v":""},{"$f":"IF(B462=\"\",\"\",COUNTIFS($B$3:B462,B462))","v":""},{"$f":"IF(B462=\"\",\"\",LOOKUP(B462,DataFIX!$F$3:$F$21,DataFIX!$E$3:$E$21))","v":""},{"$f":"IF(B462=\"\",\"\",LOOKUP(B462,DataFIX!$F$3:$F$41,DataFIX!$G$3:$G$41)+C462)","v":""},{"$f":"+XX!O463","v":"00:00:00"},{"$f":"+XX!E463","v":0},{"$f":"+XX!G463","v":0},{"$f":"+XX!T463","v":0},null,null,{"$f":"+XX!L463","v":0}]
["",{"$f":"+IF(XX!C464=\"\",\"\",XX!C464)","v":""},{"$f":"IF(B463=\"\",\"\",COUNTIFS($B$3:B463,B463))","v":""},{"$f":"IF(B463=\"\",\"\",LOOKUP(B463,DataFIX!$F$3:$F$21,DataFIX!$E$3:$E$21))","v":""},{"$f":"IF(B463=\"\",\"\",LOOKUP(B463,DataFIX!$F$3:$F$41,DataFIX!$G$3:$G$41)+C463)","v":""},{"$f":"+XX!O464","v":"00:00:00"},{"$f":"+XX!E464","v":0},{"$f":"+XX!G464","v":0},{"$f":"+XX!T464","v":0},null,null,{"$f":"+XX!L464","v":0}]
["",{"$f":"+IF(XX!C465=\"\",\"\",XX!C465)","v":""},{"$f":"IF(B464=\"\",\"\",COUNTIFS($B$3:B464,B464))","v":""},{"$f":"IF(B464=\"\",\"\",LOOKUP(B464,DataFIX!$F$3:$F$21,DataFIX!$E$3:$E$21))","v":""},{"$f":"IF(B464=\"\",\"\",LOOKUP(B464,DataFIX!$F$3:$F$41,DataFIX!$G$3:$G$41)+C464)","v":""},{"$f":"+XX!O465","v":"00:00:00"},{"$f":"+XX!E465","v":0},{"$f":"+XX!G465","v":0},{"$f":"+XX!T465","v":0},null,null,{"$f":"+XX!L465","v":0}]
["",{"$f":"+IF(XX!C466=\"\",\"\",XX!C466)","v":""},{"$f":"IF(B465=\"\",\"\",COUNTIFS($B$3:B465,B465))","v":""},{"$f":"IF(B465=\"\",\"\",LOOKUP(B465,DataFIX!$F$3:$F$21,DataFIX!$E$3:$E$21))","v":""},{"$f":"IF(B465=\"\",\"\",LOOKUP(B465,DataFIX!$F$3:$F$41,DataFIX!$G$3:$G$41)+C465)","v":""},{"$f":"+XX!O466","v":"00:00:00"},{"$f":"+XX!E466","v":0},{"$f":"+XX!G466","v":0},{"$f":"+XX!T466","v":0},null,null,{"$f":"+XX!L466","v":0}]
["",{"$f":"+IF(XX!C467=\"\",\"\",XX!C467)","v":""},{"$f":"IF(B466=\"\",\"\",COUNTIFS($B$3:B466,B466))","v":""},{"$f":"IF(B466=\"\",\"\",LOOKUP(B466,DataFIX!$F$3:$F$21,DataFIX!$E$3:$E$21))","v":""},{"$f":"IF(B466=\"\",\"\",LOOKUP(B466,DataFIX!$F$3:$F$41,DataFIX!$G$3:$G$41)+C466)","v":""},{"$f":"+XX!O467","v":"00:00:00"},{"$f":"+XX!E467","v":0},{"$f":"+XX!G467","v":0},{"$f":"+XX!T467","v":0},null,null,{"$f":"+XX!L467","v":0}]
["",{"$f":"+IF(XX!C468=\"\",\"\",XX!C468)","v":""},{"$f":"IF(B467=\"\",\"\",COUNTIFS($B$3:B467,B467))","v":""},{"$f":"IF(B467=\"\",\"\",LOOKUP(B467,DataFIX!$F$3:$F$21,DataFIX!$E$3:$E$21))","v":""},{"$f":"IF(B467=\"\",\"\",LOOKUP(B467,DataFIX!$F$3:$F$41,DataFIX!$G$3:$G$41)+C467)","v":""},{"$f":"+XX!O468","v":"00:00:00"},{"$f":"+XX!E468","v":0},{"$f":"+XX!G468","v":0},{"$f":"+XX!T468","v":0},null,null,{"$f":"+XX!L468","v":0}]
["",{"$f":"+IF(XX!C469=\"\",\"\",XX!C469)","v":""},{"$f":"IF(B468=\"\",\"\",COUNTIFS($B$3:B468,B468))","v":""},{"$f":"IF(B468=\"\",\"\",LOOKUP(B468,DataFIX!$F$3:$F$21,DataFIX!$E$3:$E$21))","v":""},{"$f":"IF(B468=\"\",\"\",LOOKUP(B468,DataFIX!$F$3:$F$41,DataFIX!$G$3:$G$41)+C468)","v":""},{"$f":"+XX!O469","v":"00:00:00"},{"$f":"+XX!E469","v":0},{"$f":"+XX!G469","v":0},{"$f":"+XX!T469","v":0},null,null,{"$f":"+XX!L469","v":0}]
["",{"$f":"+IF(XX!C470=\"\",\"\",XX!C470)","v":""},{"$f":"IF(B469=\"\",\"\",COUNTIFS($B$3:B469,B469))","v":""},{"$f":"IF(B469=\"\",\"\",LOOKUP(B469,DataFIX!$F$3:$F$21,DataFIX!$E$3:$E$21))","v":""},{"$f":"IF(B469=\"\",\"\",LOOKUP(B469,DataFIX!$F$3:$F$41,DataFIX!$G$3:$G$41)+C469)","v":""},{"$f":"+XX!O470","v":"00:00:00"},{"$f":"+XX!E470","v":0},{"$f":"+XX!G470","v":0},{"$f":"+XX!T470","v":0},null,null,{"$f":"+XX!L470","v":0}]
["",{"$f":"+IF(XX!C471=\"\",\"\",XX!C471)","v":""},{"$f":"IF(B470=\"\",\"\",COUNTIFS($B$3:B470,B470))","v":""},{"$f":"IF(B470=\"\",\"\",LOOKUP(B470,DataFIX!$F$3:$F$21,DataFIX!$E$3:$E$21))","v":""},{"$f":"IF(B470=\"\",\"\",LOOKUP(B470,DataFIX!$F$3:$F$41,DataFIX!$G$3:$G$41)+C470)","v":""},{"$f":"+XX!O471","v":"00:00:00"},{"$f":"+XX!E471","v":0},{"$f":"+XX!G471","v":0},{"$f":"+XX!T471","v":0},null,null,{"$f":"+XX!L471","v":0}]
["",{"$f":"+IF(XX!C472=\"\",\"\",XX!C472)","v":""},{"$f":"IF(B471=\"\",\"\",COUNTIFS($B$3:B471,B471))","v":""},{"$f":"IF(B471=\"\",\"\",LOOKUP(B471,DataFIX!$F$3:$F$21,DataFIX!$E$3:$E$21))","v":""},{"$f":"IF(B471=\"\",\"\",LOOKUP(B471,DataFIX!$F$3:$F$41,DataFIX!$G$3:$G$41)+C471)","v":""},{"$f":"+XX!O472","v":"00:00:00"},{"$f":"+XX!E472","v":0},{"$f":"+XX!G472","v":0},{"$f":"+XX!T472","v":0},null,null,{"$f":"+XX!L472","v":0}]
["",{"$f":"+IF(XX!C473=\"\",\"\",XX!C473)","v":""},{"$f":"IF(B472=\"\",\"\",COUNTIFS($B$3:B472,B472))","v":""},{"$f":"IF(B472=\"\",\"\",LOOKUP(B472,DataFIX!$F$3:$F$21,DataFIX!$E$3:$E$21))","v":""},{"$f":"IF(B472=\"\",\"\",LOOKUP(B472,DataFIX!$F$3:$F$41,DataFIX!$G$3:$G$41)+C472)","v":""},{"$f":"+XX!O473","v":"00:00:00"},{"$f":"+XX!E473","v":0},{"$f":"+XX!G473","v":0},{"$f":"+XX!T473","v":0},null,null,{"$f":"+XX!L473","v":0}]
["",{"$f":"+IF(XX!C474=\"\",\"\",XX!C474)","v":""},{"$f":"IF(B473=\"\",\"\",COUNTIFS($B$3:B473,B473))","v":""},{"$f":"IF(B473=\"\",\"\",LOOKUP(B473,DataFIX!$F$3:$F$21,DataFIX!$E$3:$E$21))","v":""},{"$f":"IF(B473=\"\",\"\",LOOKUP(B473,DataFIX!$F$3:$F$41,DataFIX!$G$3:$G$41)+C473)","v":""},{"$f":"+XX!O474","v":"00:00:00"},{"$f":"+XX!E474","v":0},{"$f":"+XX!G474","v":0},{"$f":"+XX!T474","v":0},null,null,{"$f":"+XX!L474","v":0}]
["",{"$f":"+IF(XX!C475=\"\",\"\",XX!C475)","v":""},{"$f":"IF(B474=\"\",\"\",COUNTIFS($B$3:B474,B474))","v":""},{"$f":"IF(B474=\"\",\"\",LOOKUP(B474,DataFIX!$F$3:$F$21,DataFIX!$E$3:$E$21))","v":""},{"$f":"IF(B474=\"\",\"\",LOOKUP(B474,DataFIX!$F$3:$F$41,DataFIX!$G$3:$G$41)+C474)","v":""},{"$f":"+XX!O475","v":"00:00:00"},{"$f":"+XX!E475","v":0},{"$f":"+XX!G475","v":0},{"$f":"+XX!T475","v":0},null,null,{"$f":"+XX!L475","v":0}]
["",{"$f":"+IF(XX!C476=\"\",\"\",XX!C476)","v":""},{"$f":"IF(B475=\"\",\"\",COUNTIFS($B$3:B475,B475))","v":""},{"$f":"IF(B475=\"\",\"\",LOOKUP(B475,DataFIX!$F$3:$F$21,DataFIX!$E$3:$E$21))","v":""},{"$f":"IF(B475=\"\",\"\",LOOKUP(B475,DataFIX!$F$3:$F$41,DataFIX!$G$3:$G$41)+C475)","v":""},{"$f":"+XX!O476","v":"00:00:00"},{"$f":"+XX!E476","v":0},{"$f":"+XX!G476","v":0},{"$f":"+XX!T476","v":0},null,null,{"$f":"+XX!L476","v":0}]
["",{"$f":"+IF(XX!C477=\"\",\"\",XX!C477)","v":""},{"$f":"IF(B476=\"\",\"\",COUNTIFS($B$3:B476,B476))","v":""},{"$f":"IF(B476=\"\",\"\",LOOKUP(B476,DataFIX!$F$3:$F$21,DataFIX!$E$3:$E$21))","v":""},{"$f":"IF(B476=\"\",\"\",LOOKUP(B476,DataFIX!$F$3:$F$41,DataFIX!$G$3:$G$41)+C476)","v":""},{"$f":"+XX!O477","v":"00:00:00"},{"$f":"+XX!E477","v":0},{"$f":"+XX!G477","v":0},{"$f":"+XX!T477","v":0},null,null,{"$f":"+XX!L477","v":0}]
["",{"$f":"+IF(XX!C478=\"\",\"\",XX!C478)","v":""},{"$f":"IF(B477=\"\",\"\",COUNTIFS($B$3:B477,B477))","v":""},{"$f":"IF(B477=\"\",\"\",LOOKUP(B477,DataFIX!$F$3:$F$21,DataFIX!$E$3:$E$21))","v":""},{"$f":"IF(B477=\"\",\"\",LOOKUP(B477,DataFIX!$F$3:$F$41,DataFIX!$G$3:$G$41)+C477)","v":""},{"$f":"+XX!O478","v":"00:00:00"},{"$f":"+XX!E478","v":0},{"$f":"+XX!G478","v":0},{"$f":"+XX!T478","v":0},null,null,{"$f":"+XX!L478","v":0}]
["",{"$f":"+IF(XX!C479=\"\",\"\",XX!C479)","v":""},{"$f":"IF(B478=\"\",\"\",COUNTIFS($B$3:B478,B478))","v":""},{"$f":"IF(B478=\"\",\"\",LOOKUP(B478,DataFIX!$F$3:$F$21,DataFIX!$E$3:$E$21))","v":""},{"$f":"IF(B478=\"\",\"\",LOOKUP(B478,DataFIX!$F$3:$F$41,DataFIX!$G$3:$G$41)+C478)","v":""},{"$f":"+XX!O479","v":"00:00:00"},{"$f":"+XX!E479","v":0},{"$f":"+XX!G479","v":0},{"$f":"+XX!T479","v":0},null,null,{"$f":"+XX!L479","v":0}]
["",{"$f":"+IF(XX!C480=\"\",\"\",XX!C480)","v":""},{"$f":"IF(B479=\"\",\"\",COUNTIFS($B$3:B479,B479))","v":""},{"$f":"IF(B479=\"\",\"\",LOOKUP(B479,DataFIX!$F$3:$F$21,DataFIX!$E$3:$E$21))","v":""},{"$f":"IF(B479=\"\",\"\",LOOKUP(B479,DataFIX!$F$3:$F$41,DataFIX!$G$3:$G$41)+C479)","v":""},{"$f":"+XX!O480","v":"00:00:00"},{"$f":"+XX!E480","v":0},{"$f":"+XX!G480","v":0},{"$f":"+XX!T480","v":0},null,null,{"$f":"+XX!L480","v":0}]
["",{"$f":"+IF(XX!C481=\"\",\"\",XX!C481)","v":""},{"$f":"IF(B480=\"\",\"\",COUNTIFS($B$3:B480,B480))","v":""},{"$f":"IF(B480=\"\",\"\",LOOKUP(B480,DataFIX!$F$3:$F$21,DataFIX!$E$3:$E$21))","v":""},{"$f":"IF(B480=\"\",\"\",LOOKUP(B480,DataFIX!$F$3:$F$41,DataFIX!$G$3:$G$41)+C480)","v":""},{"$f":"+XX!O481","v":"00:00:00"},{"$f":"+XX!E481","v":0},{"$f":"+XX!G481","v":0},{"$f":"+XX!T481","v":0},null,null,{"$f":"+XX!L481","v":0}]
["",{"$f":"+IF(XX!C482=\"\",\"\",XX!C482)","v":""},{"$f":"IF(B481=\"\",\"\",COUNTIFS($B$3:B481,B481))","v":""},{"$f":"IF(B481=\"\",\"\",LOOKUP(B481,DataFIX!$F$3:$F$21,DataFIX!$E$3:$E$21))","v":""},{"$f":"IF(B481=\"\",\"\",LOOKUP(B481,DataFIX!$F$3:$F$41,DataFIX!$G$3:$G$41)+C481)","v":""},{"$f":"+XX!O482","v":"00:00:00"},{"$f":"+XX!E482","v":0},{"$f":"+XX!G482","v":0},{"$f":"+XX!T482","v":0},null,null,{"$f":"+XX!L482","v":0}]
["",{"$f":"+IF(XX!C483=\"\",\"\",XX!C483)","v":""},{"$f":"IF(B482=\"\",\"\",COUNTIFS($B$3:B482,B482))","v":""},{"$f":"IF(B482=\"\",\"\",LOOKUP(B482,DataFIX!$F$3:$F$21,DataFIX!$E$3:$E$21))","v":""},{"$f":"IF(B482=\"\",\"\",LOOKUP(B482,DataFIX!$F$3:$F$41,DataFIX!$G$3:$G$41)+C482)","v":""},{"$f":"+XX!O483","v":"00:00:00"},{"$f":"+XX!E483","v":0},{"$f":"+XX!G483","v":0},{"$f":"+XX!T483","v":0},null,null,{"$f":"+XX!L483","v":0}]
["",{"$f":"+IF(XX!C484=\"\",\"\",XX!C484)","v":""},{"$f":"IF(B483=\"\",\"\",COUNTIFS($B$3:B483,B483))","v":""},{"$f":"IF(B483=\"\",\"\",LOOKUP(B483,DataFIX!$F$3:$F$21,DataFIX!$E$3:$E$21))","v":""},{"$f":"IF(B483=\"\",\"\",LOOKUP(B483,DataFIX!$F$3:$F$41,DataFIX!$G$3:$G$41)+C483)","v":""},{"$f":"+XX!O484","v":"00:00:00"},{"$f":"+XX!E484","v":0},{"$f":"+XX!G484","v":0},{"$f":"+XX!T484","v":0},null,null,{"$f":"+XX!L484","v":0}]
["",{"$f":"+IF(XX!C485=\"\",\"\",XX!C485)","v":""},{"$f":"IF(B484=\"\",\"\",COUNTIFS($B$3:B484,B484))","v":""},{"$f":"IF(B484=\"\",\"\",LOOKUP(B484,DataFIX!$F$3:$F$21,DataFIX!$E$3:$E$21))","v":""},{"$f":"IF(B484=\"\",\"\",LOOKUP(B484,DataFIX!$F$3:$F$41,DataFIX!$G$3:$G$41)+C484)","v":""},{"$f":"+XX!O485","v":"00:00:00"},{"$f":"+XX!E485","v":0},{"$f":"+XX!G485","v":0},{"$f":"+XX!T485","v":0},null,null,{"$f":"+XX!L485","v":0}]
["",{"$f":"+IF(XX!C486=\"\",\"\",XX!C486)","v":""},{"$f":"IF(B485=\"\",\"\",COUNTIFS($B$3:B485,B485))","v":""},{"$f":"IF(B485=\"\",\"\",LOOKUP(B485,DataFIX!$F$3:$F$21,DataFIX!$E$3:$E$21))","v":""},{"$f":"IF(B485=\"\",\"\",LOOKUP(B485,DataFIX!$F$3:$F$41,DataFIX!$G$3:$G$41)+C485)","v":""},{"$f":"+XX!O486","v":"00:00:00"},{"$f":"+XX!E486","v":0},{"$f":"+XX!G486","v":0},{"$f":"+XX!T486","v":0},null,null,{"$f":"+XX!L486","v":0}]
["",{"$f":"+IF(XX!C487=\"\",\"\",XX!C487)","v":""},{"$f":"IF(B486=\"\",\"\",COUNTIFS($B$3:B486,B486))","v":""},{"$f":"IF(B486=\"\",\"\",LOOKUP(B486,DataFIX!$F$3:$F$21,DataFIX!$E$3:$E$21))","v":""},{"$f":"IF(B486=\"\",\"\",LOOKUP(B486,DataFIX!$F$3:$F$41,DataFIX!$G$3:$G$41)+C486)","v":""},{"$f":"+XX!O487","v":"00:00:00"},{"$f":"+XX!E487","v":0},{"$f":"+XX!G487","v":0},{"$f":"+XX!T487","v":0},null,null,{"$f":"+XX!L487","v":0}]
["",{"$f":"+IF(XX!C488=\"\",\"\",XX!C488)","v":""},{"$f":"IF(B487=\"\",\"\",COUNTIFS($B$3:B487,B487))","v":""},{"$f":"IF(B487=\"\",\"\",LOOKUP(B487,DataFIX!$F$3:$F$21,DataFIX!$E$3:$E$21))","v":""},{"$f":"IF(B487=\"\",\"\",LOOKUP(B487,DataFIX!$F$3:$F$41,DataFIX!$G$3:$G$41)+C487)","v":""},{"$f":"+XX!O488","v":"00:00:00"},{"$f":"+XX!E488","v":0},{"$f":"+XX!G488","v":0},{"$f":"+XX!T488","v":0},null,null,{"$f":"+XX!L488","v":0}]
["",{"$f":"+IF(XX!C489=\"\",\"\",XX!C489)","v":""},{"$f":"IF(B488=\"\",\"\",COUNTIFS($B$3:B488,B488))","v":""},{"$f":"IF(B488=\"\",\"\",LOOKUP(B488,DataFIX!$F$3:$F$21,DataFIX!$E$3:$E$21))","v":""},{"$f":"IF(B488=\"\",\"\",LOOKUP(B488,DataFIX!$F$3:$F$41,DataFIX!$G$3:$G$41)+C488)","v":""},{"$f":"+XX!O489","v":"00:00:00"},{"$f":"+XX!E489","v":0},{"$f":"+XX!G489","v":0},{"$f":"+XX!T489","v":0},null,null,{"$f":"+XX!L489","v":0}]
["",{"$f":"+IF(XX!C490=\"\",\"\",XX!C490)","v":""},{"$f":"IF(B489=\"\",\"\",COUNTIFS($B$3:B489,B489))","v":""},{"$f":"IF(B489=\"\",\"\",LOOKUP(B489,DataFIX!$F$3:$F$21,DataFIX!$E$3:$E$21))","v":""},{"$f":"IF(B489=\"\",\"\",LOOKUP(B489,DataFIX!$F$3:$F$41,DataFIX!$G$3:$G$41)+C489)","v":""},{"$f":"+XX!O490","v":"00:00:00"},{"$f":"+XX!E490","v":0},{"$f":"+XX!G490","v":0},{"$f":"+XX!T490","v":0},null,null,{"$f":"+XX!L490","v":0}]
["",{"$f":"+IF(XX!C491=\"\",\"\",XX!C491)","v":""},{"$f":"IF(B490=\"\",\"\",COUNTIFS($B$3:B490,B490))","v":""},{"$f":"IF(B490=\"\",\"\",LOOKUP(B490,DataFIX!$F$3:$F$21,DataFIX!$E$3:$E$21))","v":""},{"$f":"IF(B490=\"\",\"\",LOOKUP(B490,DataFIX!$F$3:$F$41,DataFIX!$G$3:$G$41)+C490)","v":""},{"$f":"+XX!O491","v":"00:00:00"},{"$f":"+XX!E491","v":0},{"$f":"+XX!G491","v":0},{"$f":"+XX!T491","v":0},null,null,{"$f":"+XX!L491","v":0}]
["",{"$f":"+IF(XX!C492=\"\",\"\",XX!C492)","v":""},{"$f":"IF(B491=\"\",\"\",COUNTIFS($B$3:B491,B491))","v":""},{"$f":"IF(B491=\"\",\"\",LOOKUP(B491,DataFIX!$F$3:$F$21,DataFIX!$E$3:$E$21))","v":""},{"$f":"IF(B491=\"\",\"\",LOOKUP(B491,DataFIX!$F$3:$F$41,DataFIX!$G$3:$G$41)+C491)","v":""},{"$f":"+XX!O492","v":"00:00:00"},{"$f":"+XX!E492","v":0},{"$f":"+XX!G492","v":0},{"$f":"+XX!T492","v":0},null,null,{"$f":"+XX!L492","v":0}]
["",{"$f":"+IF(XX!C493=\"\",\"\",XX!C493)","v":""},{"$f":"IF(B492=\"\",\"\",COUNTIFS($B$3:B492,B492))","v":""},{"$f":"IF(B492=\"\",\"\",LOOKUP(B492,DataFIX!$F$3:$F$21,DataFIX!$E$3:$E$21))","v":""},{"$f":"IF(B492=\"\",\"\",LOOKUP(B492,DataFIX!$F$3:$F$41,DataFIX!$G$3:$G$41)+C492)","v":""},{"$f":"+XX!O493","v":"00:00:00"},{"$f":"+XX!E493","v":0},{"$f":"+XX!G493","v":0},{"$f":"+XX!T493","v":0},null,null,{"$f":"+XX!L493","v":0}]
["",{"$f":"+IF(XX!C494=\"\",\"\",XX!C494)","v":""},{"$f":"IF(B493=\"\",\"\",COUNTIFS($B$3:B493,B493))","v":""},{"$f":"IF(B493=\"\",\"\",LOOKUP(B493,DataFIX!$F$3:$F$21,DataFIX!$E$3:$E$21))","v":""},{"$f":"IF(B493=\"\",\"\",LOOKUP(B493,DataFIX!$F$3:$F$41,DataFIX!$G$3:$G$41)+C493)","v":""},{"$f":"+XX!O494","v":"00:00:00"},{"$f":"+XX!E494","v":0},{"$f":"+XX!G494","v":0},{"$f":"+XX!T494","v":0},null,null,{"$f":"+XX!L494","v":0}]
["",{"$f":"+IF(XX!C495=\"\",\"\",XX!C495)","v":""},{"$f":"IF(B494=\"\",\"\",COUNTIFS($B$3:B494,B494))","v":""},{"$f":"IF(B494=\"\",\"\",LOOKUP(B494,DataFIX!$F$3:$F$21,DataFIX!$E$3:$E$21))","v":""},{"$f":"IF(B494=\"\",\"\",LOOKUP(B494,DataFIX!$F$3:$F$41,DataFIX!$G$3:$G$41)+C494)","v":""},{"$f":"+XX!O495","v":"00:00:00"},{"$f":"+XX!E495","v":0},{"$f":"+XX!G495","v":0},{"$f":"+XX!T495","v":0},null,null,{"$f":"+XX!L495","v":0}]
["",{"$f":"+IF(XX!C496=\"\",\"\",XX!C496)","v":""},{"$f":"IF(B495=\"\",\"\",COUNTIFS($B$3:B495,B495))","v":""},{"$f":"IF(B495=\"\",\"\",LOOKUP(B495,DataFIX!$F$3:$F$21,DataFIX!$E$3:$E$21))","v":""},{"$f":"IF(B495=\"\",\"\",LOOKUP(B495,DataFIX!$F$3:$F$41,DataFIX!$G$3:$G$41)+C495)","v":""},{"$f":"+XX!O496","v":"00:00:00"},{"$f":"+XX!E496","v":0},{"$f":"+XX!G496","v":0},{"$f":"+XX!T496","v":0},null,null,{"$f":"+XX!L496","v":0}]
["",{"$f":"+IF(XX!C497=\"\",\"\",XX!C497)","v":""},{"$f":"IF(B496=\"\",\"\",COUNTIFS($B$3:B496,B496))","v":""},{"$f":"IF(B496=\"\",\"\",LOOKUP(B496,DataFIX!$F$3:$F$21,DataFIX!$E$3:$E$21))","v":""},{"$f":"IF(B496=\"\",\"\",LOOKUP(B496,DataFIX!$F$3:$F$41,DataFIX!$G$3:$G$41)+C496)","v":""},{"$f":"+XX!O497","v":"00:00:00"},{"$f":"+XX!E497","v":0},{"$f":"+XX!G497","v":0},{"$f":"+XX!T497","v":0},null,null,{"$f":"+XX!L497","v":0}]
["",{"$f":"+IF(XX!C498=\"\",\"\",XX!C498)","v":""},{"$f":"IF(B497=\"\",\"\",COUNTIFS($B$3:B497,B497))","v":""},{"$f":"IF(B497=\"\",\"\",LOOKUP(B497,DataFIX!$F$3:$F$21,DataFIX!$E$3:$E$21))","v":""},{"$f":"IF(B497=\"\",\"\",LOOKUP(B497,DataFIX!$F$3:$F$41,DataFIX!$G$3:$G$41)+C497)","v":""},{"$f":"+XX!O498","v":"00:00:00"},{"$f":"+XX!E498","v":0},{"$f":"+XX!G498","v":0},{"$f":"+XX!T498","v":0},null,null,{"$f":"+XX!L498","v":0}]
["",{"$f":"+IF(XX!C499=\"\",\"\",XX!C499)","v":""},{"$f":"IF(B498=\"\",\"\",COUNTIFS($B$3:B498,B498))","v":""},{"$f":"IF(B498=\"\",\"\",LOOKUP(B498,DataFIX!$F$3:$F$21,DataFIX!$E$3:$E$21))","v":""},{"$f":"IF(B498=\"\",\"\",LOOKUP(B498,DataFIX!$F$3:$F$41,DataFIX!$G$3:$G$41)+C498)","v":""},{"$f":"+XX!O499","v":"00:00:00"},{"$f":"+XX!E499","v":0},{"$f":"+XX!G499","v":0},{"$f":"+XX!T499","v":0},null,null,{"$f":"+XX!L499","v":0}]
["",{"$f":"+IF(XX!C500=\"\",\"\",XX!C500)","v":""},{"$f":"IF(B499=\"\",\"\",COUNTIFS($B$3:B499,B499))","v":""},{"$f":"IF(B499=\"\",\"\",LOOKUP(B499,DataFIX!$F$3:$F$21,DataFIX!$E$3:$E$21))","v":""},{"$f":"IF(B499=\"\",\"\",LOOKUP(B499,DataFIX!$F$3:$F$41,DataFIX!$G$3:$G$41)+C499)","v":""},{"$f":"+XX!O500","v":"00:00:00"},{"$f":"+XX!E500","v":0},{"$f":"+XX!G500","v":0},{"$f":"+XX!T500","v":0},null,null,{"$f":"+XX!L500","v":0}]
["",{"$f":"+IF(XX!C501=\"\",\"\",XX!C501)","v":""},{"$f":"IF(B500=\"\",\"\",COUNTIFS($B$3:B500,B500))","v":""},{"$f":"IF(B500=\"\",\"\",LOOKUP(B500,DataFIX!$F$3:$F$21,DataFIX!$E$3:$E$21))","v":""},{"$f":"IF(B500=\"\",\"\",LOOKUP(B500,DataFIX!$F$3:$F$41,DataFIX!$G$3:$G$41)+C500)","v":""},{"$f":"+XX!O501","v":"00:00:00"},{"$f":"+XX!E501","v":0},{"$f":"+XX!G501","v":0},{"$f":"+XX!T501","v":0},null,null,{"$f":"+XX!L501","v":0}]
["",{"$f":"+IF(XX!C502=\"\",\"\",XX!C502)","v":""},{"$f":"IF(B501=\"\",\"\",COUNTIFS($B$3:B501,B501))","v":""},{"$f":"IF(B501=\"\",\"\",LOOKUP(B501,DataFIX!$F$3:$F$21,DataFIX!$E$3:$E$21))","v":""},{"$f":"IF(B501=\"\",\"\",LOOKUP(B501,DataFIX!$F$3:$F$41,DataFIX!$G$3:$G$41)+C501)","v":""},{"$f":"+XX!O502","v":"00:00:00"},{"$f":"+XX!E502","v":0},{"$f":"+XX!G502","v":0},{"$f":"+XX!T502","v":0},null,null,{"$f":"+XX!L502","v":0}]
["",{"$f":"+IF(XX!C503=\"\",\"\",XX!C503)","v":""},{"$f":"IF(B502=\"\",\"\",COUNTIFS($B$3:B502,B502))","v":""},{"$f":"IF(B502=\"\",\"\",LOOKUP(B502,DataFIX!$F$3:$F$21,DataFIX!$E$3:$E$21))","v":""},{"$f":"IF(B502=\"\",\"\",LOOKUP(B502,DataFIX!$F$3:$F$41,DataFIX!$G$3:$G$41)+C502)","v":""},{"$f":"+XX!O503","v":"00:00:00"},{"$f":"+XX!E503","v":0},{"$f":"+XX!G503","v":0},{"$f":"+XX!T503","v":0},null,null,{"$f":"+XX!L503","v":0}]
["",{"$f":"+IF(XX!C504=\"\",\"\",XX!C504)","v":""},{"$f":"IF(B503=\"\",\"\",COUNTIFS($B$3:B503,B503))","v":""},{"$f":"IF(B503=\"\",\"\",LOOKUP(B503,DataFIX!$F$3:$F$21,DataFIX!$E$3:$E$21))","v":""},{"$f":"IF(B503=\"\",\"\",LOOKUP(B503,DataFIX!$F$3:$F$41,DataFIX!$G$3:$G$41)+C503)","v":""},{"$f":"+XX!O504","v":"00:00:00"},{"$f":"+XX!E504","v":0},{"$f":"+XX!G504","v":0},{"$f":"+XX!T504","v":0},null,null,{"$f":"+XX!L504","v":0}]
["",{"$f":"+IF(XX!C505=\"\",\"\",XX!C505)","v":""},{"$f":"IF(B504=\"\",\"\",COUNTIFS($B$3:B504,B504))","v":""},{"$f":"IF(B504=\"\",\"\",LOOKUP(B504,DataFIX!$F$3:$F$21,DataFIX!$E$3:$E$21))","v":""},{"$f":"IF(B504=\"\",\"\",LOOKUP(B504,DataFIX!$F$3:$F$41,DataFIX!$G$3:$G$41)+C504)","v":""},{"$f":"+XX!O505","v":"00:00:00"},{"$f":"+XX!E505","v":0},{"$f":"+XX!G505","v":0},{"$f":"+XX!T505","v":0},null,null,{"$f":"+XX!L505","v":0}]
["",{"$f":"+IF(XX!C506=\"\",\"\",XX!C506)","v":""},{"$f":"IF(B505=\"\",\"\",COUNTIFS($B$3:B505,B505))","v":""},{"$f":"IF(B505=\"\",\"\",LOOKUP(B505,DataFIX!$F$3:$F$21,DataFIX!$E$3:$E$21))","v":""},{"$f":"IF(B505=\"\",\"\",LOOKUP(B505,DataFIX!$F$3:$F$41,DataFIX!$G$3:$G$41)+C505)","v":""},{"$f":"+XX!O506","v":"00:00:00"},{"$f":"+XX!E506","v":0},{"$f":"+XX!G506","v":0},{"$f":"+XX!T506","v":0},null,null,{"$f":"+XX!L506","v":0}]
["",{"$f":"+IF(XX!C507=\"\",\"\",XX!C507)","v":""},{"$f":"IF(B506=\"\",\"\",COUNTIFS($B$3:B506,B506))","v":""},{"$f":"IF(B506=\"\",\"\",LOOKUP(B506,DataFIX!$F$3:$F$21,DataFIX!$E$3:$E$21))","v":""},{"$f":"IF(B506=\"\",\"\",LOOKUP(B506,DataFIX!$F$3:$F$41,DataFIX!$G$3:$G$41)+C506)","v":""},{"$f":"+XX!O507","v":"00:00:00"},{"$f":"+XX!E507","v":0},{"$f":"+XX!G507","v":0},{"$f":"+XX!T507","v":0},null,null,{"$f":"+XX!L507","v":0}]
["",{"$f":"+IF(XX!C508=\"\",\"\",XX!C508)","v":""},{"$f":"IF(B507=\"\",\"\",COUNTIFS($B$3:B507,B507))","v":""},{"$f":"IF(B507=\"\",\"\",LOOKUP(B507,DataFIX!$F$3:$F$21,DataFIX!$E$3:$E$21))","v":""},{"$f":"IF(B507=\"\",\"\",LOOKUP(B507,DataFIX!$F$3:$F$41,DataFIX!$G$3:$G$41)+C507)","v":""},{"$f":"+XX!O508","v":"00:00:00"},{"$f":"+XX!E508","v":0},{"$f":"+XX!G508","v":0},{"$f":"+XX!T508","v":0},null,null,{"$f":"+XX!L508","v":0}]
["",{"$f":"+IF(XX!C509=\"\",\"\",XX!C509)","v":""},{"$f":"IF(B508=\"\",\"\",COUNTIFS($B$3:B508,B508))","v":""},{"$f":"IF(B508=\"\",\"\",LOOKUP(B508,DataFIX!$F$3:$F$21,DataFIX!$E$3:$E$21))","v":""},{"$f":"IF(B508=\"\",\"\",LOOKUP(B508,DataFIX!$F$3:$F$41,DataFIX!$G$3:$G$41)+C508)","v":""},{"$f":"+XX!O509","v":"00:00:00"},{"$f":"+XX!E509","v":0},{"$f":"+XX!G509","v":0},{"$f":"+XX!T509","v":0},null,null,{"$f":"+XX!L509","v":0}]
["",{"$f":"+IF(XX!C510=\"\",\"\",XX!C510)","v":""},{"$f":"IF(B509=\"\",\"\",COUNTIFS($B$3:B509,B509))","v":""},{"$f":"IF(B509=\"\",\"\",LOOKUP(B509,DataFIX!$F$3:$F$21,DataFIX!$E$3:$E$21))","v":""},{"$f":"IF(B509=\"\",\"\",LOOKUP(B509,DataFIX!$F$3:$F$41,DataFIX!$G$3:$G$41)+C509)","v":""},{"$f":"+XX!O510","v":"00:00:00"},{"$f":"+XX!E510","v":0},{"$f":"+XX!G510","v":0},{"$f":"+XX!T510","v":0},null,null,{"$f":"+XX!L510","v":0}]
["",{"$f":"+IF(XX!C511=\"\",\"\",XX!C511)","v":""},{"$f":"IF(B510=\"\",\"\",COUNTIFS($B$3:B510,B510))","v":""},{"$f":"IF(B510=\"\",\"\",LOOKUP(B510,DataFIX!$F$3:$F$21,DataFIX!$E$3:$E$21))","v":""},{"$f":"IF(B510=\"\",\"\",LOOKUP(B510,DataFIX!$F$3:$F$41,DataFIX!$G$3:$G$41)+C510)","v":""},{"$f":"+XX!O511","v":"00:00:00"},{"$f":"+XX!E511","v":0},{"$f":"+XX!G511","v":0},{"$f":"+XX!T511","v":0},null,null,{"$f":"+XX!L511","v":0}]
["",{"$f":"+IF(XX!C512=\"\",\"\",XX!C512)","v":""},{"$f":"IF(B511=\"\",\"\",COUNTIFS($B$3:B511,B511))","v":""},{"$f":"IF(B511=\"\",\"\",LOOKUP(B511,DataFIX!$F$3:$F$21,DataFIX!$E$3:$E$21))","v":""},{"$f":"IF(B511=\"\",\"\",LOOKUP(B511,DataFIX!$F$3:$F$41,DataFIX!$G$3:$G$41)+C511)","v":""},{"$f":"+XX!O512","v":"00:00:00"},{"$f":"+XX!E512","v":0},{"$f":"+XX!G512","v":0},{"$f":"+XX!T512","v":0},null,null,{"$f":"+XX!L512","v":0}]
["",{"$f":"+IF(XX!C513=\"\",\"\",XX!C513)","v":""},{"$f":"IF(B512=\"\",\"\",COUNTIFS($B$3:B512,B512))","v":""},{"$f":"IF(B512=\"\",\"\",LOOKUP(B512,DataFIX!$F$3:$F$21,DataFIX!$E$3:$E$21))","v":""},{"$f":"IF(B512=\"\",\"\",LOOKUP(B512,DataFIX!$F$3:$F$41,DataFIX!$G$3:$G$41)+C512)","v":""},{"$f":"+XX!O513","v":"00:00:00"},{"$f":"+XX!E513","v":0},{"$f":"+XX!G513","v":0},{"$f":"+XX!T513","v":0},null,null,{"$f":"+XX!L513","v":0}]
["",{"$f":"+IF(XX!C514=\"\",\"\",XX!C514)","v":""},{"$f":"IF(B513=\"\",\"\",COUNTIFS($B$3:B513,B513))","v":""},{"$f":"IF(B513=\"\",\"\",LOOKUP(B513,DataFIX!$F$3:$F$21,DataFIX!$E$3:$E$21))","v":""},{"$f":"IF(B513=\"\",\"\",LOOKUP(B513,DataFIX!$F$3:$F$41,DataFIX!$G$3:$G$41)+C513)","v":""},{"$f":"+XX!O514","v":"00:00:00"},{"$f":"+XX!E514","v":0},{"$f":"+XX!G514","v":0},{"$f":"+XX!T514","v":0},null,null,{"$f":"+XX!L514","v":0}]
["",{"$f":"+IF(XX!C515=\"\",\"\",XX!C515)","v":""},{"$f":"IF(B514=\"\",\"\",COUNTIFS($B$3:B514,B514))","v":""},{"$f":"IF(B514=\"\",\"\",LOOKUP(B514,DataFIX!$F$3:$F$21,DataFIX!$E$3:$E$21))","v":""},{"$f":"IF(B514=\"\",\"\",LOOKUP(B514,DataFIX!$F$3:$F$41,DataFIX!$G$3:$G$41)+C514)","v":""},{"$f":"+XX!O515","v":"00:00:00"},{"$f":"+XX!E515","v":0},{"$f":"+XX!G515","v":0},{"$f":"+XX!T515","v":0},null,null,{"$f":"+XX!L515","v":0}]
["",{"$f":"+IF(XX!C516=\"\",\"\",XX!C516)","v":""},{"$f":"IF(B515=\"\",\"\",COUNTIFS($B$3:B515,B515))","v":""},{"$f":"IF(B515=\"\",\"\",LOOKUP(B515,DataFIX!$F$3:$F$21,DataFIX!$E$3:$E$21))","v":""},{"$f":"IF(B515=\"\",\"\",LOOKUP(B515,DataFIX!$F$3:$F$41,DataFIX!$G$3:$G$41)+C515)","v":""},{"$f":"+XX!O516","v":"00:00:00"},{"$f":"+XX!E516","v":0},{"$f":"+XX!G516","v":0},{"$f":"+XX!T516","v":0},null,null,{"$f":"+XX!L516","v":0}]
["",{"$f":"+IF(XX!C517=\"\",\"\",XX!C517)","v":""},{"$f":"IF(B516=\"\",\"\",COUNTIFS($B$3:B516,B516))","v":""},{"$f":"IF(B516=\"\",\"\",LOOKUP(B516,DataFIX!$F$3:$F$21,DataFIX!$E$3:$E$21))","v":""},{"$f":"IF(B516=\"\",\"\",LOOKUP(B516,DataFIX!$F$3:$F$41,DataFIX!$G$3:$G$41)+C516)","v":""},{"$f":"+XX!O517","v":"00:00:00"},{"$f":"+XX!E517","v":0},{"$f":"+XX!G517","v":0},{"$f":"+XX!T517","v":0},null,null,{"$f":"+XX!L517","v":0}]
["",{"$f":"+IF(XX!C518=\"\",\"\",XX!C518)","v":""},{"$f":"IF(B517=\"\",\"\",COUNTIFS($B$3:B517,B517))","v":""},{"$f":"IF(B517=\"\",\"\",LOOKUP(B517,DataFIX!$F$3:$F$21,DataFIX!$E$3:$E$21))","v":""},{"$f":"IF(B517=\"\",\"\",LOOKUP(B517,DataFIX!$F$3:$F$41,DataFIX!$G$3:$G$41)+C517)","v":""},{"$f":"+XX!O518","v":"00:00:00"},{"$f":"+XX!E518","v":0},{"$f":"+XX!G518","v":0},{"$f":"+XX!T518","v":0},null,null,{"$f":"+XX!L518","v":0}]
[{"$f":"+B518","v":""},{"$f":"+IF(XX!C519=\"\",\"\",XX!C519)","v":""},{"$f":"IF(B518=\"\",\"\",COUNTIFS($B$3:B518,B518))","v":""},{"$f":"IF(B518=\"\",\"\",LOOKUP(B518,DataFIX!$F$3:$F$21,DataFIX!$E$3:$E$21))","v":""},{"$f":"IF(B518=\"\",\"\",LOOKUP(B518,DataFIX!$F$3:$F$41,DataFIX!$G$3:$G$41)+C518)","v":""},{"$f":"+XX!O519","v":"00:00:00"},{"$f":"+XX!E519","v":0},{"$f":"+XX!G519","v":0},{"$f":"+XX!T519","v":0},null,null,{"$f":"+XX!L519","v":0}]
["",{"$f":"+IF(XX!C520=\"\",\"\",XX!C520)","v":""},{"$f":"IF(B519=\"\",\"\",COUNTIFS($B$3:B519,B519))","v":""},{"$f":"IF(B519=\"\",\"\",LOOKUP(B519,DataFIX!$F$3:$F$21,DataFIX!$E$3:$E$21))","v":""},{"$f":"IF(B519=\"\",\"\",LOOKUP(B519,DataFIX!$F$3:$F$41,DataFIX!$G$3:$G$41)+C519)","v":""},{"$f":"+XX!O520","v":"00:00:00"},{"$f":"+XX!E520","v":0},{"$f":"+XX!G520","v":0},{"$f":"+XX!T520","v":0},null,null,{"$f":"+XX!L520","v":0}]
["",{"$f":"+IF(XX!C521=\"\",\"\",XX!C521)","v":""},{"$f":"IF(B520=\"\",\"\",COUNTIFS($B$3:B520,B520))","v":""},{"$f":"IF(B520=\"\",\"\",LOOKUP(B520,DataFIX!$F$3:$F$21,DataFIX!$E$3:$E$21))","v":""},{"$f":"IF(B520=\"\",\"\",LOOKUP(B520,DataFIX!$F$3:$F$41,DataFIX!$G$3:$G$41)+C520)","v":""},{"$f":"+XX!O521","v":"00:00:00"},{"$f":"+XX!E521","v":0},{"$f":"+XX!G521","v":0},{"$f":"+XX!T521","v":0},null,null,{"$f":"+XX!L521","v":0}]
["",{"$f":"+IF(XX!C522=\"\",\"\",XX!C522)","v":""},{"$f":"IF(B521=\"\",\"\",COUNTIFS($B$3:B521,B521))","v":""},{"$f":"IF(B521=\"\",\"\",LOOKUP(B521,DataFIX!$F$3:$F$21,DataFIX!$E$3:$E$21))","v":""},{"$f":"IF(B521=\"\",\"\",LOOKUP(B521,DataFIX!$F$3:$F$41,DataFIX!$G$3:$G$41)+C521)","v":""},{"$f":"+XX!O522","v":"00:00:00"},{"$f":"+XX!E522","v":0},{"$f":"+XX!G522","v":0},{"$f":"+XX!T522","v":0},null,null,{"$f":"+XX!L522","v":0}]
["",{"$f":"+IF(XX!C523=\"\",\"\",XX!C523)","v":""},{"$f":"IF(B522=\"\",\"\",COUNTIFS($B$3:B522,B522))","v":""},{"$f":"IF(B522=\"\",\"\",LOOKUP(B522,DataFIX!$F$3:$F$21,DataFIX!$E$3:$E$21))","v":""},{"$f":"IF(B522=\"\",\"\",LOOKUP(B522,DataFIX!$F$3:$F$41,DataFIX!$G$3:$G$41)+C522)","v":""},{"$f":"+XX!O523","v":"00:00:00"},{"$f":"+XX!E523","v":0},{"$f":"+XX!G523","v":0},{"$f":"+XX!T523","v":0},null,null,{"$f":"+XX!L523","v":0}]
["",{"$f":"+IF(XX!C524=\"\",\"\",XX!C524)","v":""},{"$f":"IF(B523=\"\",\"\",COUNTIFS($B$3:B523,B523))","v":""},{"$f":"IF(B523=\"\",\"\",LOOKUP(B523,DataFIX!$F$3:$F$21,DataFIX!$E$3:$E$21))","v":""},{"$f":"IF(B523=\"\",\"\",LOOKUP(B523,DataFIX!$F$3:$F$41,DataFIX!$G$3:$G$41)+C523)","v":""},{"$f":"+XX!O524","v":"00:00:00"},{"$f":"+XX!E524","v":0},{"$f":"+XX!G524","v":0},{"$f":"+XX!T524","v":0},null,null,{"$f":"+XX!L524","v":0}]
["",{"$f":"+IF(XX!C525=\"\",\"\",XX!C525)","v":""},{"$f":"IF(B524=\"\",\"\",COUNTIFS($B$3:B524,B524))","v":""},{"$f":"IF(B524=\"\",\"\",LOOKUP(B524,DataFIX!$F$3:$F$21,DataFIX!$E$3:$E$21))","v":""},{"$f":"IF(B524=\"\",\"\",LOOKUP(B524,DataFIX!$F$3:$F$41,DataFIX!$G$3:$G$41)+C524)","v":""},{"$f":"+XX!O525","v":"00:00:00"},{"$f":"+XX!E525","v":0},{"$f":"+XX!G525","v":0},{"$f":"+XX!T525","v":0},null,null,{"$f":"+XX!L525","v":0}]
["",{"$f":"+IF(XX!C526=\"\",\"\",XX!C526)","v":""},{"$f":"IF(B525=\"\",\"\",COUNTIFS($B$3:B525,B525))","v":""},{"$f":"IF(B525=\"\",\"\",LOOKUP(B525,DataFIX!$F$3:$F$21,DataFIX!$E$3:$E$21))","v":""},{"$f":"IF(B525=\"\",\"\",LOOKUP(B525,DataFIX!$F$3:$F$41,DataFIX!$G$3:$G$41)+C525)","v":""},{"$f":"+XX!O526","v":"00:00:00"},{"$f":"+XX!E526","v":0},{"$f":"+XX!G526","v":0},{"$f":"+XX!T526","v":0},null,null,{"$f":"+XX!L526","v":0}]
["",{"$f":"+IF(XX!C527=\"\",\"\",XX!C527)","v":""},{"$f":"IF(B526=\"\",\"\",COUNTIFS($B$3:B526,B526))","v":""},{"$f":"IF(B526=\"\",\"\",LOOKUP(B526,DataFIX!$F$3:$F$21,DataFIX!$E$3:$E$21))","v":""},{"$f":"IF(B526=\"\",\"\",LOOKUP(B526,DataFIX!$F$3:$F$41,DataFIX!$G$3:$G$41)+C526)","v":""},{"$f":"+XX!O527","v":"00:00:00"},{"$f":"+XX!E527","v":0},{"$f":"+XX!G527","v":0},{"$f":"+XX!T527","v":0},null,null,{"$f":"+XX!L527","v":0}]
["",{"$f":"+IF(XX!C528=\"\",\"\",XX!C528)","v":""},{"$f":"IF(B527=\"\",\"\",COUNTIFS($B$3:B527,B527))","v":""},{"$f":"IF(B527=\"\",\"\",LOOKUP(B527,DataFIX!$F$3:$F$21,DataFIX!$E$3:$E$21))","v":""},{"$f":"IF(B527=\"\",\"\",LOOKUP(B527,DataFIX!$F$3:$F$41,DataFIX!$G$3:$G$41)+C527)","v":""},{"$f":"+XX!O528","v":"00:00:00"},{"$f":"+XX!E528","v":0},{"$f":"+XX!G528","v":0},{"$f":"+XX!T528","v":0},null,null,{"$f":"+XX!L528","v":0}]
["",{"$f":"+IF(XX!C529=\"\",\"\",XX!C529)","v":""},{"$f":"IF(B528=\"\",\"\",COUNTIFS($B$3:B528,B528))","v":""},{"$f":"IF(B528=\"\",\"\",LOOKUP(B528,DataFIX!$F$3:$F$21,DataFIX!$E$3:$E$21))","v":""},{"$f":"IF(B528=\"\",\"\",LOOKUP(B528,DataFIX!$F$3:$F$41,DataFIX!$G$3:$G$41)+C528)","v":""},{"$f":"+XX!O529","v":"00:00:00"},{"$f":"+XX!E529","v":0},{"$f":"+XX!G529","v":0},{"$f":"+XX!T529","v":0},null,null,{"$f":"+XX!L529","v":0}]
["",{"$f":"+IF(XX!C530=\"\",\"\",XX!C530)","v":""},{"$f":"IF(B529=\"\",\"\",COUNTIFS($B$3:B529,B529))","v":""},{"$f":"IF(B529=\"\",\"\",LOOKUP(B529,DataFIX!$F$3:$F$21,DataFIX!$E$3:$E$21))","v":""},{"$f":"IF(B529=\"\",\"\",LOOKUP(B529,DataFIX!$F$3:$F$41,DataFIX!$G$3:$G$41)+C529)","v":""},{"$f":"+XX!O530","v":"00:00:00"},{"$f":"+XX!E530","v":0},{"$f":"+XX!G530","v":0},{"$f":"+XX!T530","v":0},null,null,{"$f":"+XX!L530","v":0}]
["",{"$f":"+IF(XX!C531=\"\",\"\",XX!C531)","v":""},{"$f":"IF(B530=\"\",\"\",COUNTIFS($B$3:B530,B530))","v":""},{"$f":"IF(B530=\"\",\"\",LOOKUP(B530,DataFIX!$F$3:$F$21,DataFIX!$E$3:$E$21))","v":""},{"$f":"IF(B530=\"\",\"\",LOOKUP(B530,DataFIX!$F$3:$F$41,DataFIX!$G$3:$G$41)+C530)","v":""},{"$f":"+XX!O531","v":"00:00:00"},{"$f":"+XX!E531","v":0},{"$f":"+XX!G531","v":0},{"$f":"+XX!T531","v":0},null,null,{"$f":"+XX!L531","v":0}]
["",{"$f":"+IF(XX!C532=\"\",\"\",XX!C532)","v":""},{"$f":"IF(B531=\"\",\"\",COUNTIFS($B$3:B531,B531))","v":""},{"$f":"IF(B531=\"\",\"\",LOOKUP(B531,DataFIX!$F$3:$F$21,DataFIX!$E$3:$E$21))","v":""},{"$f":"IF(B531=\"\",\"\",LOOKUP(B531,DataFIX!$F$3:$F$41,DataFIX!$G$3:$G$41)+C531)","v":""},{"$f":"+XX!O532","v":"00:00:00"},{"$f":"+XX!E532","v":0},{"$f":"+XX!G532","v":0},{"$f":"+XX!T532","v":0},null,null,{"$f":"+XX!L532","v":0}]
["",{"$f":"+IF(XX!C533=\"\",\"\",XX!C533)","v":""},{"$f":"IF(B532=\"\",\"\",COUNTIFS($B$3:B532,B532))","v":""},{"$f":"IF(B532=\"\",\"\",LOOKUP(B532,DataFIX!$F$3:$F$21,DataFIX!$E$3:$E$21))","v":""},{"$f":"IF(B532=\"\",\"\",LOOKUP(B532,DataFIX!$F$3:$F$41,DataFIX!$G$3:$G$41)+C532)","v":""},{"$f":"+XX!O533","v":"00:00:00"},{"$f":"+XX!E533","v":0},{"$f":"+XX!G533","v":0},{"$f":"+XX!T533","v":0},null,null,{"$f":"+XX!L533","v":0}]
["",{"$f":"+IF(XX!C534=\"\",\"\",XX!C534)","v":""},{"$f":"IF(B533=\"\",\"\",COUNTIFS($B$3:B533,B533))","v":""},{"$f":"IF(B533=\"\",\"\",LOOKUP(B533,DataFIX!$F$3:$F$21,DataFIX!$E$3:$E$21))","v":""},{"$f":"IF(B533=\"\",\"\",LOOKUP(B533,DataFIX!$F$3:$F$41,DataFIX!$G$3:$G$41)+C533)","v":""},{"$f":"+XX!O534","v":"00:00:00"},{"$f":"+XX!E534","v":0},{"$f":"+XX!G534","v":0},{"$f":"+XX!T534","v":0},null,null,{"$f":"+XX!L534","v":0}]
["",{"$f":"+IF(XX!C535=\"\",\"\",XX!C535)","v":""},{"$f":"IF(B534=\"\",\"\",COUNTIFS($B$3:B534,B534))","v":""},{"$f":"IF(B534=\"\",\"\",LOOKUP(B534,DataFIX!$F$3:$F$21,DataFIX!$E$3:$E$21))","v":""},{"$f":"IF(B534=\"\",\"\",LOOKUP(B534,DataFIX!$F$3:$F$41,DataFIX!$G$3:$G$41)+C534)","v":""},{"$f":"+XX!O535","v":"00:00:00"},{"$f":"+XX!E535","v":0},{"$f":"+XX!G535","v":0},{"$f":"+XX!T535","v":0},null,null,{"$f":"+XX!L535","v":0}]
["",{"$f":"+IF(XX!C536=\"\",\"\",XX!C536)","v":""},{"$f":"IF(B535=\"\",\"\",COUNTIFS($B$3:B535,B535))","v":""},{"$f":"IF(B535=\"\",\"\",LOOKUP(B535,DataFIX!$F$3:$F$21,DataFIX!$E$3:$E$21))","v":""},{"$f":"IF(B535=\"\",\"\",LOOKUP(B535,DataFIX!$F$3:$F$41,DataFIX!$G$3:$G$41)+C535)","v":""},{"$f":"+XX!O536","v":"00:00:00"},{"$f":"+XX!E536","v":0},{"$f":"+XX!G536","v":0},{"$f":"+XX!T536","v":0},null,null,{"$f":"+XX!L536","v":0}]
["",{"$f":"+IF(XX!C537=\"\",\"\",XX!C537)","v":""},{"$f":"IF(B536=\"\",\"\",COUNTIFS($B$3:B536,B536))","v":""},{"$f":"IF(B536=\"\",\"\",LOOKUP(B536,DataFIX!$F$3:$F$21,DataFIX!$E$3:$E$21))","v":""},{"$f":"IF(B536=\"\",\"\",LOOKUP(B536,DataFIX!$F$3:$F$41,DataFIX!$G$3:$G$41)+C536)","v":""},{"$f":"+XX!O537","v":"00:00:00"},{"$f":"+XX!E537","v":0},{"$f":"+XX!G537","v":0},{"$f":"+XX!T537","v":0},null,null,{"$f":"+XX!L537","v":0}]
["",{"$f":"+IF(XX!C538=\"\",\"\",XX!C538)","v":""},{"$f":"IF(B537=\"\",\"\",COUNTIFS($B$3:B537,B537))","v":""},{"$f":"IF(B537=\"\",\"\",LOOKUP(B537,DataFIX!$F$3:$F$21,DataFIX!$E$3:$E$21))","v":""},{"$f":"IF(B537=\"\",\"\",LOOKUP(B537,DataFIX!$F$3:$F$41,DataFIX!$G$3:$G$41)+C537)","v":""},{"$f":"+XX!O538","v":"00:00:00"},{"$f":"+XX!E538","v":0},{"$f":"+XX!G538","v":0},{"$f":"+XX!T538","v":0},null,null,{"$f":"+XX!L538","v":0}]
["",{"$f":"+IF(XX!C539=\"\",\"\",XX!C539)","v":""},{"$f":"IF(B538=\"\",\"\",COUNTIFS($B$3:B538,B538))","v":""},{"$f":"IF(B538=\"\",\"\",LOOKUP(B538,DataFIX!$F$3:$F$21,DataFIX!$E$3:$E$21))","v":""},{"$f":"IF(B538=\"\",\"\",LOOKUP(B538,DataFIX!$F$3:$F$41,DataFIX!$G$3:$G$41)+C538)","v":""},{"$f":"+XX!O539","v":"00:00:00"},{"$f":"+XX!E539","v":0},{"$f":"+XX!G539","v":0},{"$f":"+XX!T539","v":0},null,null,{"$f":"+XX!L539","v":0}]
["",{"$f":"+IF(XX!C540=\"\",\"\",XX!C540)","v":""},{"$f":"IF(B539=\"\",\"\",COUNTIFS($B$3:B539,B539))","v":""},{"$f":"IF(B539=\"\",\"\",LOOKUP(B539,DataFIX!$F$3:$F$21,DataFIX!$E$3:$E$21))","v":""},{"$f":"IF(B539=\"\",\"\",LOOKUP(B539,DataFIX!$F$3:$F$41,DataFIX!$G$3:$G$41)+C539)","v":""},{"$f":"+XX!O540","v":"00:00:00"},{"$f":"+XX!E540","v":0},{"$f":"+XX!G540","v":0},{"$f":"+XX!T540","v":0},null,null,{"$f":"+XX!L540","v":0}]
["",{"$f":"+IF(XX!C541=\"\",\"\",XX!C541)","v":""},{"$f":"IF(B540=\"\",\"\",COUNTIFS($B$3:B540,B540))","v":""},{"$f":"IF(B540=\"\",\"\",LOOKUP(B540,DataFIX!$F$3:$F$21,DataFIX!$E$3:$E$21))","v":""},{"$f":"IF(B540=\"\",\"\",LOOKUP(B540,DataFIX!$F$3:$F$41,DataFIX!$G$3:$G$41)+C540)","v":""},{"$f":"+XX!O541","v":"00:00:00"},{"$f":"+XX!E541","v":0},{"$f":"+XX!G541","v":0},{"$f":"+XX!T541","v":0},null,null,{"$f":"+XX!L541","v":0}]
["",{"$f":"+IF(XX!C542=\"\",\"\",XX!C542)","v":""},{"$f":"IF(B541=\"\",\"\",COUNTIFS($B$3:B541,B541))","v":""},{"$f":"IF(B541=\"\",\"\",LOOKUP(B541,DataFIX!$F$3:$F$21,DataFIX!$E$3:$E$21))","v":""},{"$f":"IF(B541=\"\",\"\",LOOKUP(B541,DataFIX!$F$3:$F$41,DataFIX!$G$3:$G$41)+C541)","v":""},{"$f":"+XX!O542","v":"00:00:00"},{"$f":"+XX!E542","v":0},{"$f":"+XX!G542","v":0},{"$f":"+XX!T542","v":0},null,null,{"$f":"+XX!L542","v":0}]
["",{"$f":"+IF(XX!C543=\"\",\"\",XX!C543)","v":""},{"$f":"IF(B542=\"\",\"\",COUNTIFS($B$3:B542,B542))","v":""},{"$f":"IF(B542=\"\",\"\",LOOKUP(B542,DataFIX!$F$3:$F$21,DataFIX!$E$3:$E$21))","v":""},{"$f":"IF(B542=\"\",\"\",LOOKUP(B542,DataFIX!$F$3:$F$41,DataFIX!$G$3:$G$41)+C542)","v":""},{"$f":"+XX!O543","v":"00:00:00"},{"$f":"+XX!E543","v":0},{"$f":"+XX!G543","v":0},{"$f":"+XX!T543","v":0},null,null,{"$f":"+XX!L543","v":0}]
["",{"$f":"+IF(XX!C544=\"\",\"\",XX!C544)","v":""},{"$f":"IF(B543=\"\",\"\",COUNTIFS($B$3:B543,B543))","v":""},{"$f":"IF(B543=\"\",\"\",LOOKUP(B543,DataFIX!$F$3:$F$21,DataFIX!$E$3:$E$21))","v":""},{"$f":"IF(B543=\"\",\"\",LOOKUP(B543,DataFIX!$F$3:$F$41,DataFIX!$G$3:$G$41)+C543)","v":""},{"$f":"+XX!O544","v":"00:00:00"},{"$f":"+XX!E544","v":0},{"$f":"+XX!G544","v":0},{"$f":"+XX!T544","v":0},null,null,{"$f":"+XX!L544","v":0}]
["",{"$f":"+IF(XX!C545=\"\",\"\",XX!C545)","v":""},{"$f":"IF(B544=\"\",\"\",COUNTIFS($B$3:B544,B544))","v":""},{"$f":"IF(B544=\"\",\"\",LOOKUP(B544,DataFIX!$F$3:$F$21,DataFIX!$E$3:$E$21))","v":""},{"$f":"IF(B544=\"\",\"\",LOOKUP(B544,DataFIX!$F$3:$F$41,DataFIX!$G$3:$G$41)+C544)","v":""},{"$f":"+XX!O545","v":"00:00:00"},{"$f":"+XX!E545","v":0},{"$f":"+XX!G545","v":0},{"$f":"+XX!T545","v":0},null,null,{"$f":"+XX!L545","v":0}]
["",{"$f":"+IF(XX!C546=\"\",\"\",XX!C546)","v":""},{"$f":"IF(B545=\"\",\"\",COUNTIFS($B$3:B545,B545))","v":""},{"$f":"IF(B545=\"\",\"\",LOOKUP(B545,DataFIX!$F$3:$F$21,DataFIX!$E$3:$E$21))","v":""},{"$f":"IF(B545=\"\",\"\",LOOKUP(B545,DataFIX!$F$3:$F$41,DataFIX!$G$3:$G$41)+C545)","v":""},{"$f":"+XX!O546","v":"00:00:00"},{"$f":"+XX!E546","v":0},{"$f":"+XX!G546","v":0},{"$f":"+XX!T546","v":0},null,null,{"$f":"+XX!L546","v":0}]
["",{"$f":"+IF(XX!C547=\"\",\"\",XX!C547)","v":""},{"$f":"IF(B546=\"\",\"\",COUNTIFS($B$3:B546,B546))","v":""},{"$f":"IF(B546=\"\",\"\",LOOKUP(B546,DataFIX!$F$3:$F$21,DataFIX!$E$3:$E$21))","v":""},{"$f":"IF(B546=\"\",\"\",LOOKUP(B546,DataFIX!$F$3:$F$41,DataFIX!$G$3:$G$41)+C546)","v":""},{"$f":"+XX!O547","v":"00:00:00"},{"$f":"+XX!E547","v":0},{"$f":"+XX!G547","v":0},{"$f":"+XX!T547","v":0},null,null,{"$f":"+XX!L547","v":0}]
["",{"$f":"+IF(XX!C548=\"\",\"\",XX!C548)","v":""},{"$f":"IF(B547=\"\",\"\",COUNTIFS($B$3:B547,B547))","v":""},{"$f":"IF(B547=\"\",\"\",LOOKUP(B547,DataFIX!$F$3:$F$21,DataFIX!$E$3:$E$21))","v":""},{"$f":"IF(B547=\"\",\"\",LOOKUP(B547,DataFIX!$F$3:$F$41,DataFIX!$G$3:$G$41)+C547)","v":""},{"$f":"+XX!O548","v":"00:00:00"},{"$f":"+XX!E548","v":0},{"$f":"+XX!G548","v":0},{"$f":"+XX!T548","v":0},null,null,{"$f":"+XX!L548","v":0}]
["",{"$f":"+IF(XX!C549=\"\",\"\",XX!C549)","v":""},{"$f":"IF(B548=\"\",\"\",COUNTIFS($B$3:B548,B548))","v":""},{"$f":"IF(B548=\"\",\"\",LOOKUP(B548,DataFIX!$F$3:$F$21,DataFIX!$E$3:$E$21))","v":""},{"$f":"IF(B548=\"\",\"\",LOOKUP(B548,DataFIX!$F$3:$F$41,DataFIX!$G$3:$G$41)+C548)","v":""},{"$f":"+XX!O549","v":"00:00:00"},{"$f":"+XX!E549","v":0},{"$f":"+XX!G549","v":0},{"$f":"+XX!T549","v":0},null,null,{"$f":"+XX!L549","v":0}]
["",{"$f":"+IF(XX!C550=\"\",\"\",XX!C550)","v":""},{"$f":"IF(B549=\"\",\"\",COUNTIFS($B$3:B549,B549))","v":""},{"$f":"IF(B549=\"\",\"\",LOOKUP(B549,DataFIX!$F$3:$F$21,DataFIX!$E$3:$E$21))","v":""},{"$f":"IF(B549=\"\",\"\",LOOKUP(B549,DataFIX!$F$3:$F$41,DataFIX!$G$3:$G$41)+C549)","v":""},{"$f":"+XX!O550","v":"00:00:00"},{"$f":"+XX!E550","v":0},{"$f":"+XX!G550","v":0},{"$f":"+XX!T550","v":0},null,null,{"$f":"+XX!L550","v":0}]
["",{"$f":"+IF(XX!C551=\"\",\"\",XX!C551)","v":""},{"$f":"IF(B550=\"\",\"\",COUNTIFS($B$3:B550,B550))","v":""},{"$f":"IF(B550=\"\",\"\",LOOKUP(B550,DataFIX!$F$3:$F$21,DataFIX!$E$3:$E$21))","v":""},{"$f":"IF(B550=\"\",\"\",LOOKUP(B550,DataFIX!$F$3:$F$41,DataFIX!$G$3:$G$41)+C550)","v":""},{"$f":"+XX!O551","v":"00:00:00"},{"$f":"+XX!E551","v":0},{"$f":"+XX!G551","v":0},{"$f":"+XX!T551","v":0},null,null,{"$f":"+XX!L551","v":0}]
["",{"$f":"+IF(XX!C552=\"\",\"\",XX!C552)","v":""},{"$f":"IF(B551=\"\",\"\",COUNTIFS($B$3:B551,B551))","v":""},{"$f":"IF(B551=\"\",\"\",LOOKUP(B551,DataFIX!$F$3:$F$21,DataFIX!$E$3:$E$21))","v":""},{"$f":"IF(B551=\"\",\"\",LOOKUP(B551,DataFIX!$F$3:$F$41,DataFIX!$G$3:$G$41)+C551)","v":""},{"$f":"+XX!O552","v":"00:00:00"},{"$f":"+XX!E552","v":0},{"$f":"+XX!G552","v":0},{"$f":"+XX!T552","v":0},null,null,{"$f":"+XX!L552","v":0}]
["",{"$f":"+IF(XX!C553=\"\",\"\",XX!C553)","v":""},{"$f":"IF(B552=\"\",\"\",COUNTIFS($B$3:B552,B552))","v":""},{"$f":"IF(B552=\"\",\"\",LOOKUP(B552,DataFIX!$F$3:$F$21,DataFIX!$E$3:$E$21))","v":""},{"$f":"IF(B552=\"\",\"\",LOOKUP(B552,DataFIX!$F$3:$F$41,DataFIX!$G$3:$G$41)+C552)","v":""},{"$f":"+XX!O553","v":"00:00:00"},{"$f":"+XX!E553","v":0},{"$f":"+XX!G553","v":0},{"$f":"+XX!T553","v":0},null,null,{"$f":"+XX!L553","v":0}]
["",{"$f":"+IF(XX!C554=\"\",\"\",XX!C554)","v":""},{"$f":"IF(B553=\"\",\"\",COUNTIFS($B$3:B553,B553))","v":""},{"$f":"IF(B553=\"\",\"\",LOOKUP(B553,DataFIX!$F$3:$F$21,DataFIX!$E$3:$E$21))","v":""},{"$f":"IF(B553=\"\",\"\",LOOKUP(B553,DataFIX!$F$3:$F$41,DataFIX!$G$3:$G$41)+C553)","v":""},{"$f":"+XX!O554","v":"00:00:00"},{"$f":"+XX!E554","v":0},{"$f":"+XX!G554","v":0},{"$f":"+XX!T554","v":0},null,null,{"$f":"+XX!L554","v":0}]
["",{"$f":"+IF(XX!C555=\"\",\"\",XX!C555)","v":""},{"$f":"IF(B554=\"\",\"\",COUNTIFS($B$3:B554,B554))","v":""},{"$f":"IF(B554=\"\",\"\",LOOKUP(B554,DataFIX!$F$3:$F$21,DataFIX!$E$3:$E$21))","v":""},{"$f":"IF(B554=\"\",\"\",LOOKUP(B554,DataFIX!$F$3:$F$41,DataFIX!$G$3:$G$41)+C554)","v":""},{"$f":"+XX!O555","v":"00:00:00"},{"$f":"+XX!E555","v":0},{"$f":"+XX!G555","v":0},{"$f":"+XX!T555","v":0},null,null,{"$f":"+XX!L555","v":0}]
["",{"$f":"+IF(XX!C556=\"\",\"\",XX!C556)","v":""},{"$f":"IF(B555=\"\",\"\",COUNTIFS($B$3:B555,B555))","v":""},{"$f":"IF(B555=\"\",\"\",LOOKUP(B555,DataFIX!$F$3:$F$21,DataFIX!$E$3:$E$21))","v":""},{"$f":"IF(B555=\"\",\"\",LOOKUP(B555,DataFIX!$F$3:$F$41,DataFIX!$G$3:$G$41)+C555)","v":""},{"$f":"+XX!O556","v":"00:00:00"},{"$f":"+XX!E556","v":0},{"$f":"+XX!G556","v":0},{"$f":"+XX!T556","v":0},null,null,{"$f":"+XX!L556","v":0}]
["",{"$f":"+IF(XX!C557=\"\",\"\",XX!C557)","v":""},{"$f":"IF(B556=\"\",\"\",COUNTIFS($B$3:B556,B556))","v":""},{"$f":"IF(B556=\"\",\"\",LOOKUP(B556,DataFIX!$F$3:$F$21,DataFIX!$E$3:$E$21))","v":""},{"$f":"IF(B556=\"\",\"\",LOOKUP(B556,DataFIX!$F$3:$F$41,DataFIX!$G$3:$G$41)+C556)","v":""},{"$f":"+XX!O557","v":"00:00:00"},{"$f":"+XX!E557","v":0},{"$f":"+XX!G557","v":0},{"$f":"+XX!T557","v":0},null,null,{"$f":"+XX!L557","v":0}]
["",{"$f":"+IF(XX!C558=\"\",\"\",XX!C558)","v":""},{"$f":"IF(B557=\"\",\"\",COUNTIFS($B$3:B557,B557))","v":""},{"$f":"IF(B557=\"\",\"\",LOOKUP(B557,DataFIX!$F$3:$F$21,DataFIX!$E$3:$E$21))","v":""},{"$f":"IF(B557=\"\",\"\",LOOKUP(B557,DataFIX!$F$3:$F$41,DataFIX!$G$3:$G$41)+C557)","v":""},{"$f":"+XX!O558","v":"00:00:00"},{"$f":"+XX!E558","v":0},{"$f":"+XX!G558","v":0},{"$f":"+XX!T558","v":0},null,null,{"$f":"+XX!L558","v":0}]
["",{"$f":"+IF(XX!C559=\"\",\"\",XX!C559)","v":""},{"$f":"IF(B558=\"\",\"\",COUNTIFS($B$3:B558,B558))","v":""},{"$f":"IF(B558=\"\",\"\",LOOKUP(B558,DataFIX!$F$3:$F$21,DataFIX!$E$3:$E$21))","v":""},{"$f":"IF(B558=\"\",\"\",LOOKUP(B558,DataFIX!$F$3:$F$41,DataFIX!$G$3:$G$41)+C558)","v":""},{"$f":"+XX!O559","v":"00:00:00"},{"$f":"+XX!E559","v":0},{"$f":"+XX!G559","v":0},{"$f":"+XX!T559","v":0},null,null,{"$f":"+XX!L559","v":0}]
["",{"$f":"+IF(XX!C560=\"\",\"\",XX!C560)","v":""},{"$f":"IF(B559=\"\",\"\",COUNTIFS($B$3:B559,B559))","v":""},{"$f":"IF(B559=\"\",\"\",LOOKUP(B559,DataFIX!$F$3:$F$21,DataFIX!$E$3:$E$21))","v":""},{"$f":"IF(B559=\"\",\"\",LOOKUP(B559,DataFIX!$F$3:$F$41,DataFIX!$G$3:$G$41)+C559)","v":""},{"$f":"+XX!O560","v":"00:00:00"},{"$f":"+XX!E560","v":0},{"$f":"+XX!G560","v":0},{"$f":"+XX!T560","v":0},null,null,{"$f":"+XX!L560","v":0}]
["",{"$f":"+IF(XX!C561=\"\",\"\",XX!C561)","v":""},{"$f":"IF(B560=\"\",\"\",COUNTIFS($B$3:B560,B560))","v":""},{"$f":"IF(B560=\"\",\"\",LOOKUP(B560,DataFIX!$F$3:$F$21,DataFIX!$E$3:$E$21))","v":""},{"$f":"IF(B560=\"\",\"\",LOOKUP(B560,DataFIX!$F$3:$F$41,DataFIX!$G$3:$G$41)+C560)","v":""},{"$f":"+XX!O561","v":"00:00:00"},{"$f":"+XX!E561","v":0},{"$f":"+XX!G561","v":0},{"$f":"+XX!T561","v":0},null,null,{"$f":"+XX!L561","v":0}]
["",{"$f":"+IF(XX!C562=\"\",\"\",XX!C562)","v":""},{"$f":"IF(B561=\"\",\"\",COUNTIFS($B$3:B561,B561))","v":""},{"$f":"IF(B561=\"\",\"\",LOOKUP(B561,DataFIX!$F$3:$F$21,DataFIX!$E$3:$E$21))","v":""},{"$f":"IF(B561=\"\",\"\",LOOKUP(B561,DataFIX!$F$3:$F$41,DataFIX!$G$3:$G$41)+C561)","v":""},{"$f":"+XX!O562","v":"00:00:00"},{"$f":"+XX!E562","v":0},{"$f":"+XX!G562","v":0},{"$f":"+XX!T562","v":0},null,null,{"$f":"+XX!L562","v":0}]
["",{"$f":"+IF(XX!C563=\"\",\"\",XX!C563)","v":""},{"$f":"IF(B562=\"\",\"\",COUNTIFS($B$3:B562,B562))","v":""},{"$f":"IF(B562=\"\",\"\",LOOKUP(B562,DataFIX!$F$3:$F$21,DataFIX!$E$3:$E$21))","v":""},{"$f":"IF(B562=\"\",\"\",LOOKUP(B562,DataFIX!$F$3:$F$41,DataFIX!$G$3:$G$41)+C562)","v":""},{"$f":"+XX!O563","v":"00:00:00"},{"$f":"+XX!E563","v":0},{"$f":"+XX!G563","v":0},{"$f":"+XX!T563","v":0},null,null,{"$f":"+XX!L563","v":0}]
["",{"$f":"+IF(XX!C564=\"\",\"\",XX!C564)","v":""},{"$f":"IF(B563=\"\",\"\",COUNTIFS($B$3:B563,B563))","v":""},{"$f":"IF(B563=\"\",\"\",LOOKUP(B563,DataFIX!$F$3:$F$21,DataFIX!$E$3:$E$21))","v":""},{"$f":"IF(B563=\"\",\"\",LOOKUP(B563,DataFIX!$F$3:$F$41,DataFIX!$G$3:$G$41)+C563)","v":""},{"$f":"+XX!O564","v":"00:00:00"},{"$f":"+XX!E564","v":0},{"$f":"+XX!G564","v":0},{"$f":"+XX!T564","v":0},null,null,{"$f":"+XX!L564","v":0}]
["",{"$f":"+IF(XX!C565=\"\",\"\",XX!C565)","v":""},{"$f":"IF(B564=\"\",\"\",COUNTIFS($B$3:B564,B564))","v":""},{"$f":"IF(B564=\"\",\"\",LOOKUP(B564,DataFIX!$F$3:$F$21,DataFIX!$E$3:$E$21))","v":""},{"$f":"IF(B564=\"\",\"\",LOOKUP(B564,DataFIX!$F$3:$F$41,DataFIX!$G$3:$G$41)+C564)","v":""},{"$f":"+XX!O565","v":"00:00:00"},{"$f":"+XX!E565","v":0},{"$f":"+XX!G565","v":0},{"$f":"+XX!T565","v":0},null,null,{"$f":"+XX!L565","v":0}]
["",{"$f":"+IF(XX!C566=\"\",\"\",XX!C566)","v":""},{"$f":"IF(B565=\"\",\"\",COUNTIFS($B$3:B565,B565))","v":""},{"$f":"IF(B565=\"\",\"\",LOOKUP(B565,DataFIX!$F$3:$F$21,DataFIX!$E$3:$E$21))","v":""},{"$f":"IF(B565=\"\",\"\",LOOKUP(B565,DataFIX!$F$3:$F$41,DataFIX!$G$3:$G$41)+C565)","v":""},{"$f":"+XX!O566","v":"00:00:00"},{"$f":"+XX!E566","v":0},{"$f":"+XX!G566","v":0},{"$f":"+XX!T566","v":0},null,null,{"$f":"+XX!L566","v":0}]
["",{"$f":"+IF(XX!C567=\"\",\"\",XX!C567)","v":""},{"$f":"IF(B566=\"\",\"\",COUNTIFS($B$3:B566,B566))","v":""},{"$f":"IF(B566=\"\",\"\",LOOKUP(B566,DataFIX!$F$3:$F$21,DataFIX!$E$3:$E$21))","v":""},{"$f":"IF(B566=\"\",\"\",LOOKUP(B566,DataFIX!$F$3:$F$41,DataFIX!$G$3:$G$41)+C566)","v":""},{"$f":"+XX!O567","v":"00:00:00"},{"$f":"+XX!E567","v":0},{"$f":"+XX!G567","v":0},{"$f":"+XX!T567","v":0},null,null,{"$f":"+XX!L567","v":0}]
["",{"$f":"+IF(XX!C568=\"\",\"\",XX!C568)","v":""},{"$f":"IF(B567=\"\",\"\",COUNTIFS($B$3:B567,B567))","v":""},{"$f":"IF(B567=\"\",\"\",LOOKUP(B567,DataFIX!$F$3:$F$21,DataFIX!$E$3:$E$21))","v":""},{"$f":"IF(B567=\"\",\"\",LOOKUP(B567,DataFIX!$F$3:$F$41,DataFIX!$G$3:$G$41)+C567)","v":""},{"$f":"+XX!O568","v":"00:00:00"},{"$f":"+XX!E568","v":0},{"$f":"+XX!G568","v":0},{"$f":"+XX!T568","v":0},null,null,{"$f":"+XX!L568","v":0}]
["",{"$f":"+IF(XX!C569=\"\",\"\",XX!C569)","v":""},{"$f":"IF(B568=\"\",\"\",COUNTIFS($B$3:B568,B568))","v":""},{"$f":"IF(B568=\"\",\"\",LOOKUP(B568,DataFIX!$F$3:$F$21,DataFIX!$E$3:$E$21))","v":""},{"$f":"IF(B568=\"\",\"\",LOOKUP(B568,DataFIX!$F$3:$F$41,DataFIX!$G$3:$G$41)+C568)","v":""},{"$f":"+XX!O569","v":"00:00:00"},{"$f":"+XX!E569","v":0},{"$f":"+XX!G569","v":0},{"$f":"+XX!T569","v":0},null,null,{"$f":"+XX!L569","v":0}]
["",{"$f":"+IF(XX!C570=\"\",\"\",XX!C570)","v":""},{"$f":"IF(B569=\"\",\"\",COUNTIFS($B$3:B569,B569))","v":""},{"$f":"IF(B569=\"\",\"\",LOOKUP(B569,DataFIX!$F$3:$F$21,DataFIX!$E$3:$E$21))","v":""},{"$f":"IF(B569=\"\",\"\",LOOKUP(B569,DataFIX!$F$3:$F$41,DataFIX!$G$3:$G$41)+C569)","v":""},{"$f":"+XX!O570","v":"00:00:00"},{"$f":"+XX!E570","v":0},{"$f":"+XX!G570","v":0},{"$f":"+XX!T570","v":0},null,null,{"$f":"+XX!L570","v":0}]
["",{"$f":"+IF(XX!C571=\"\",\"\",XX!C571)","v":""},{"$f":"IF(B570=\"\",\"\",COUNTIFS($B$3:B570,B570))","v":""},{"$f":"IF(B570=\"\",\"\",LOOKUP(B570,DataFIX!$F$3:$F$21,DataFIX!$E$3:$E$21))","v":""},{"$f":"IF(B570=\"\",\"\",LOOKUP(B570,DataFIX!$F$3:$F$41,DataFIX!$G$3:$G$41)+C570)","v":""},{"$f":"+XX!O571","v":"00:00:00"},{"$f":"+XX!E571","v":0},{"$f":"+XX!G571","v":0},{"$f":"+XX!T571","v":0},null,null,{"$f":"+XX!L571","v":0}]
["",{"$f":"+IF(XX!C572=\"\",\"\",XX!C572)","v":""},{"$f":"IF(B571=\"\",\"\",COUNTIFS($B$3:B571,B571))","v":""},{"$f":"IF(B571=\"\",\"\",LOOKUP(B571,DataFIX!$F$3:$F$21,DataFIX!$E$3:$E$21))","v":""},{"$f":"IF(B571=\"\",\"\",LOOKUP(B571,DataFIX!$F$3:$F$41,DataFIX!$G$3:$G$41)+C571)","v":""},{"$f":"+XX!O572","v":"00:00:00"},{"$f":"+XX!E572","v":0},{"$f":"+XX!G572","v":0},{"$f":"+XX!T572","v":0},null,null,{"$f":"+XX!L572","v":0}]
["",{"$f":"+IF(XX!C573=\"\",\"\",XX!C573)","v":""},{"$f":"IF(B572=\"\",\"\",COUNTIFS($B$3:B572,B572))","v":""},{"$f":"IF(B572=\"\",\"\",LOOKUP(B572,DataFIX!$F$3:$F$21,DataFIX!$E$3:$E$21))","v":""},{"$f":"IF(B572=\"\",\"\",LOOKUP(B572,DataFIX!$F$3:$F$41,DataFIX!$G$3:$G$41)+C572)","v":""},{"$f":"+XX!O573","v":"00:00:00"},{"$f":"+XX!E573","v":0},{"$f":"+XX!G573","v":0},{"$f":"+XX!T573","v":0},null,null,{"$f":"+XX!L573","v":0}]
["",{"$f":"+IF(XX!C574=\"\",\"\",XX!C574)","v":""},{"$f":"IF(B573=\"\",\"\",COUNTIFS($B$3:B573,B573))","v":""},{"$f":"IF(B573=\"\",\"\",LOOKUP(B573,DataFIX!$F$3:$F$21,DataFIX!$E$3:$E$21))","v":""},{"$f":"IF(B573=\"\",\"\",LOOKUP(B573,DataFIX!$F$3:$F$41,DataFIX!$G$3:$G$41)+C573)","v":""},{"$f":"+XX!O574","v":"00:00:00"},{"$f":"+XX!E574","v":0},{"$f":"+XX!G574","v":0},{"$f":"+XX!T574","v":0},null,null,{"$f":"+XX!L574","v":0}]
["",{"$f":"+IF(XX!C575=\"\",\"\",XX!C575)","v":""},{"$f":"IF(B574=\"\",\"\",COUNTIFS($B$3:B574,B574))","v":""},{"$f":"IF(B574=\"\",\"\",LOOKUP(B574,DataFIX!$F$3:$F$21,DataFIX!$E$3:$E$21))","v":""},{"$f":"IF(B574=\"\",\"\",LOOKUP(B574,DataFIX!$F$3:$F$41,DataFIX!$G$3:$G$41)+C574)","v":""},{"$f":"+XX!O575","v":"00:00:00"},{"$f":"+XX!E575","v":0},{"$f":"+XX!G575","v":0},{"$f":"+XX!T575","v":0},null,null,{"$f":"+XX!L575","v":0}]
["",{"$f":"+IF(XX!C576=\"\",\"\",XX!C576)","v":""},{"$f":"IF(B575=\"\",\"\",COUNTIFS($B$3:B575,B575))","v":""},{"$f":"IF(B575=\"\",\"\",LOOKUP(B575,DataFIX!$F$3:$F$21,DataFIX!$E$3:$E$21))","v":""},{"$f":"IF(B575=\"\",\"\",LOOKUP(B575,DataFIX!$F$3:$F$41,DataFIX!$G$3:$G$41)+C575)","v":""},{"$f":"+XX!O576","v":"00:00:00"},{"$f":"+XX!E576","v":0},{"$f":"+XX!G576","v":0},{"$f":"+XX!T576","v":0},null,null,{"$f":"+XX!L576","v":0}]
["",{"$f":"+IF(XX!C577=\"\",\"\",XX!C577)","v":""},{"$f":"IF(B576=\"\",\"\",COUNTIFS($B$3:B576,B576))","v":""},{"$f":"IF(B576=\"\",\"\",LOOKUP(B576,DataFIX!$F$3:$F$21,DataFIX!$E$3:$E$21))","v":""},{"$f":"IF(B576=\"\",\"\",LOOKUP(B576,DataFIX!$F$3:$F$41,DataFIX!$G$3:$G$41)+C576)","v":""},{"$f":"+XX!O577","v":"00:00:00"},{"$f":"+XX!E577","v":0},{"$f":"+XX!G577","v":0},{"$f":"+XX!T577","v":0},null,null,{"$f":"+XX!L577","v":0}]
["",{"$f":"+IF(XX!C578=\"\",\"\",XX!C578)","v":""},{"$f":"IF(B577=\"\",\"\",COUNTIFS($B$3:B577,B577))","v":""},{"$f":"IF(B577=\"\",\"\",LOOKUP(B577,DataFIX!$F$3:$F$21,DataFIX!$E$3:$E$21))","v":""},{"$f":"IF(B577=\"\",\"\",LOOKUP(B577,DataFIX!$F$3:$F$41,DataFIX!$G$3:$G$41)+C577)","v":""},{"$f":"+XX!O578","v":"00:00:00"},{"$f":"+XX!E578","v":0},{"$f":"+XX!G578","v":0},{"$f":"+XX!T578","v":0},null,null,{"$f":"+XX!L578","v":0}]
["",{"$f":"+IF(XX!C579=\"\",\"\",XX!C579)","v":""},{"$f":"IF(B578=\"\",\"\",COUNTIFS($B$3:B578,B578))","v":""},{"$f":"IF(B578=\"\",\"\",LOOKUP(B578,DataFIX!$F$3:$F$21,DataFIX!$E$3:$E$21))","v":""},{"$f":"IF(B578=\"\",\"\",LOOKUP(B578,DataFIX!$F$3:$F$41,DataFIX!$G$3:$G$41)+C578)","v":""},{"$f":"+XX!O579","v":"00:00:00"},{"$f":"+XX!E579","v":0},{"$f":"+XX!G579","v":0},{"$f":"+XX!T579","v":0},null,null,{"$f":"+XX!L579","v":0}]
["",{"$f":"+IF(XX!C580=\"\",\"\",XX!C580)","v":""},{"$f":"IF(B579=\"\",\"\",COUNTIFS($B$3:B579,B579))","v":""},{"$f":"IF(B579=\"\",\"\",LOOKUP(B579,DataFIX!$F$3:$F$21,DataFIX!$E$3:$E$21))","v":""},{"$f":"IF(B579=\"\",\"\",LOOKUP(B579,DataFIX!$F$3:$F$41,DataFIX!$G$3:$G$41)+C579)","v":""},{"$f":"+XX!O580","v":"00:00:00"},{"$f":"+XX!E580","v":0},{"$f":"+XX!G580","v":0},{"$f":"+XX!T580","v":0},null,null,{"$f":"+XX!L580","v":0}]
["",{"$f":"+IF(XX!C581=\"\",\"\",XX!C581)","v":""},{"$f":"IF(B580=\"\",\"\",COUNTIFS($B$3:B580,B580))","v":""},{"$f":"IF(B580=\"\",\"\",LOOKUP(B580,DataFIX!$F$3:$F$21,DataFIX!$E$3:$E$21))","v":""},{"$f":"IF(B580=\"\",\"\",LOOKUP(B580,DataFIX!$F$3:$F$41,DataFIX!$G$3:$G$41)+C580)","v":""},{"$f":"+XX!O581","v":"00:00:00"},{"$f":"+XX!E581","v":0},{"$f":"+XX!G581","v":0},{"$f":"+XX!T581","v":0},null,null,{"$f":"+XX!L581","v":0}]
["",{"$f":"+IF(XX!C582=\"\",\"\",XX!C582)","v":""},{"$f":"IF(B581=\"\",\"\",COUNTIFS($B$3:B581,B581))","v":""},{"$f":"IF(B581=\"\",\"\",LOOKUP(B581,DataFIX!$F$3:$F$21,DataFIX!$E$3:$E$21))","v":""},{"$f":"IF(B581=\"\",\"\",LOOKUP(B581,DataFIX!$F$3:$F$41,DataFIX!$G$3:$G$41)+C581)","v":""},{"$f":"+XX!O582","v":"00:00:00"},{"$f":"+XX!E582","v":0},{"$f":"+XX!G582","v":0},{"$f":"+XX!T582","v":0},null,null,{"$f":"+XX!L582","v":0}]
[{"$f":"+B582","v":""},{"$f":"+IF(XX!C583=\"\",\"\",XX!C583)","v":""},{"$f":"IF(B582=\"\",\"\",COUNTIFS($B$3:B582,B582))","v":""},{"$f":"IF(B582=\"\",\"\",LOOKUP(B582,DataFIX!$F$3:$F$21,DataFIX!$E$3:$E$21))","v":""},{"$f":"IF(B582=\"\",\"\",LOOKUP(B582,DataFIX!$F$3:$F$41,DataFIX!$G$3:$G$41)+C582)","v":""},{"$f":"+XX!O583","v":"00:00:00"},{"$f":"+XX!E583","v":0},{"$f":"+XX!G583","v":0},{"$f":"+XX!T583","v":0},null,null,{"$f":"+XX!L583","v":0}]
["",{"$f":"+IF(XX!C584=\"\",\"\",XX!C584)","v":""},{"$f":"IF(B583=\"\",\"\",COUNTIFS($B$3:B583,B583))","v":""},{"$f":"IF(B583=\"\",\"\",LOOKUP(B583,DataFIX!$F$3:$F$21,DataFIX!$E$3:$E$21))","v":""},{"$f":"IF(B583=\"\",\"\",LOOKUP(B583,DataFIX!$F$3:$F$41,DataFIX!$G$3:$G$41)+C583)","v":""},{"$f":"+XX!O584","v":"00:00:00"},{"$f":"+XX!E584","v":0},{"$f":"+XX!G584","v":0},{"$f":"+XX!T584","v":0},null,null,{"$f":"+XX!L584","v":0}]
["",{"$f":"+IF(XX!C585=\"\",\"\",XX!C585)","v":""},{"$f":"IF(B584=\"\",\"\",COUNTIFS($B$3:B584,B584))","v":""},{"$f":"IF(B584=\"\",\"\",LOOKUP(B584,DataFIX!$F$3:$F$21,DataFIX!$E$3:$E$21))","v":""},{"$f":"IF(B584=\"\",\"\",LOOKUP(B584,DataFIX!$F$3:$F$41,DataFIX!$G$3:$G$41)+C584)","v":""},{"$f":"+XX!O585","v":"00:00:00"},{"$f":"+XX!E585","v":0},{"$f":"+XX!G585","v":0},{"$f":"+XX!T585","v":0},null,null,{"$f":"+XX!L585","v":0}]
["",{"$f":"+IF(XX!C586=\"\",\"\",XX!C586)","v":""},{"$f":"IF(B585=\"\",\"\",COUNTIFS($B$3:B585,B585))","v":""},{"$f":"IF(B585=\"\",\"\",LOOKUP(B585,DataFIX!$F$3:$F$21,DataFIX!$E$3:$E$21))","v":""},{"$f":"IF(B585=\"\",\"\",LOOKUP(B585,DataFIX!$F$3:$F$41,DataFIX!$G$3:$G$41)+C585)","v":""},{"$f":"+XX!O586","v":"00:00:00"},{"$f":"+XX!E586","v":0},{"$f":"+XX!G586","v":0},{"$f":"+XX!T586","v":0},null,null,{"$f":"+XX!L586","v":0}]
["",{"$f":"+IF(XX!C587=\"\",\"\",XX!C587)","v":""},{"$f":"IF(B586=\"\",\"\",COUNTIFS($B$3:B586,B586))","v":""},{"$f":"IF(B586=\"\",\"\",LOOKUP(B586,DataFIX!$F$3:$F$21,DataFIX!$E$3:$E$21))","v":""},{"$f":"IF(B586=\"\",\"\",LOOKUP(B586,DataFIX!$F$3:$F$41,DataFIX!$G$3:$G$41)+C586)","v":""},{"$f":"+XX!O587","v":"00:00:00"},{"$f":"+XX!E587","v":0},{"$f":"+XX!G587","v":0},{"$f":"+XX!T587","v":0},null,null,{"$f":"+XX!L587","v":0}]
["",{"$f":"+IF(XX!C588=\"\",\"\",XX!C588)","v":""},{"$f":"IF(B587=\"\",\"\",COUNTIFS($B$3:B587,B587))","v":""},{"$f":"IF(B587=\"\",\"\",LOOKUP(B587,DataFIX!$F$3:$F$21,DataFIX!$E$3:$E$21))","v":""},{"$f":"IF(B587=\"\",\"\",LOOKUP(B587,DataFIX!$F$3:$F$41,DataFIX!$G$3:$G$41)+C587)","v":""},{"$f":"+XX!O588","v":"00:00:00"},{"$f":"+XX!E588","v":0},{"$f":"+XX!G588","v":0},{"$f":"+XX!T588","v":0},null,null,{"$f":"+XX!L588","v":0}]
["",{"$f":"+IF(XX!C589=\"\",\"\",XX!C589)","v":""},{"$f":"IF(B588=\"\",\"\",COUNTIFS($B$3:B588,B588))","v":""},{"$f":"IF(B588=\"\",\"\",LOOKUP(B588,DataFIX!$F$3:$F$21,DataFIX!$E$3:$E$21))","v":""},{"$f":"IF(B588=\"\",\"\",LOOKUP(B588,DataFIX!$F$3:$F$41,DataFIX!$G$3:$G$41)+C588)","v":""},{"$f":"+XX!O589","v":"00:00:00"},{"$f":"+XX!E589","v":0},{"$f":"+XX!G589","v":0},{"$f":"+XX!T589","v":0},null,null,{"$f":"+XX!L589","v":0}]
["",{"$f":"+IF(XX!C590=\"\",\"\",XX!C590)","v":""},{"$f":"IF(B589=\"\",\"\",COUNTIFS($B$3:B589,B589))","v":""},{"$f":"IF(B589=\"\",\"\",LOOKUP(B589,DataFIX!$F$3:$F$21,DataFIX!$E$3:$E$21))","v":""},{"$f":"IF(B589=\"\",\"\",LOOKUP(B589,DataFIX!$F$3:$F$41,DataFIX!$G$3:$G$41)+C589)","v":""},{"$f":"+XX!O590","v":"00:00:00"},{"$f":"+XX!E590","v":0},{"$f":"+XX!G590","v":0},{"$f":"+XX!T590","v":0},null,null,{"$f":"+XX!L590","v":0}]
["",{"$f":"+IF(XX!C591=\"\",\"\",XX!C591)","v":""},{"$f":"IF(B590=\"\",\"\",COUNTIFS($B$3:B590,B590))","v":""},{"$f":"IF(B590=\"\",\"\",LOOKUP(B590,DataFIX!$F$3:$F$21,DataFIX!$E$3:$E$21))","v":""},{"$f":"IF(B590=\"\",\"\",LOOKUP(B590,DataFIX!$F$3:$F$41,DataFIX!$G$3:$G$41)+C590)","v":""},{"$f":"+XX!O591","v":"00:00:00"},{"$f":"+XX!E591","v":0},{"$f":"+XX!G591","v":0},{"$f":"+XX!T591","v":0},null,null,{"$f":"+XX!L591","v":0}]
["",{"$f":"+IF(XX!C592=\"\",\"\",XX!C592)","v":""},{"$f":"IF(B591=\"\",\"\",COUNTIFS($B$3:B591,B591))","v":""},{"$f":"IF(B591=\"\",\"\",LOOKUP(B591,DataFIX!$F$3:$F$21,DataFIX!$E$3:$E$21))","v":""},{"$f":"IF(B591=\"\",\"\",LOOKUP(B591,DataFIX!$F$3:$F$41,DataFIX!$G$3:$G$41)+C591)","v":""},{"$f":"+XX!O592","v":"00:00:00"},{"$f":"+XX!E592","v":0},{"$f":"+XX!G592","v":0},{"$f":"+XX!T592","v":0},null,null,{"$f":"+XX!L592","v":0}]
["",{"$f":"+IF(XX!C593=\"\",\"\",XX!C593)","v":""},{"$f":"IF(B592=\"\",\"\",COUNTIFS($B$3:B592,B592))","v":""},{"$f":"IF(B592=\"\",\"\",LOOKUP(B592,DataFIX!$F$3:$F$21,DataFIX!$E$3:$E$21))","v":""},{"$f":"IF(B592=\"\",\"\",LOOKUP(B592,DataFIX!$F$3:$F$41,DataFIX!$G$3:$G$41)+C592)","v":""},{"$f":"+XX!O593","v":"00:00:00"},{"$f":"+XX!E593","v":0},{"$f":"+XX!G593","v":0},{"$f":"+XX!T593","v":0},null,null,{"$f":"+XX!L593","v":0}]
["",{"$f":"+IF(XX!C594=\"\",\"\",XX!C594)","v":""},{"$f":"IF(B593=\"\",\"\",COUNTIFS($B$3:B593,B593))","v":""},{"$f":"IF(B593=\"\",\"\",LOOKUP(B593,DataFIX!$F$3:$F$21,DataFIX!$E$3:$E$21))","v":""},{"$f":"IF(B593=\"\",\"\",LOOKUP(B593,DataFIX!$F$3:$F$41,DataFIX!$G$3:$G$41)+C593)","v":""},{"$f":"+XX!O594","v":"00:00:00"},{"$f":"+XX!E594","v":0},{"$f":"+XX!G594","v":0},{"$f":"+XX!T594","v":0},null,null,{"$f":"+XX!L594","v":0}]
["",{"$f":"+IF(XX!C595=\"\",\"\",XX!C595)","v":""},{"$f":"IF(B594=\"\",\"\",COUNTIFS($B$3:B594,B594))","v":""},{"$f":"IF(B594=\"\",\"\",LOOKUP(B594,DataFIX!$F$3:$F$21,DataFIX!$E$3:$E$21))","v":""},{"$f":"IF(B594=\"\",\"\",LOOKUP(B594,DataFIX!$F$3:$F$41,DataFIX!$G$3:$G$41)+C594)","v":""},{"$f":"+XX!O595","v":"00:00:00"},{"$f":"+XX!E595","v":0},{"$f":"+XX!G595","v":0},{"$f":"+XX!T595","v":0},null,null,{"$f":"+XX!L595","v":0}]
["",{"$f":"+IF(XX!C596=\"\",\"\",XX!C596)","v":""},{"$f":"IF(B595=\"\",\"\",COUNTIFS($B$3:B595,B595))","v":""},{"$f":"IF(B595=\"\",\"\",LOOKUP(B595,DataFIX!$F$3:$F$21,DataFIX!$E$3:$E$21))","v":""},{"$f":"IF(B595=\"\",\"\",LOOKUP(B595,DataFIX!$F$3:$F$41,DataFIX!$G$3:$G$41)+C595)","v":""},{"$f":"+XX!O596","v":"00:00:00"},{"$f":"+XX!E596","v":0},{"$f":"+XX!G596","v":0},{"$f":"+XX!T596","v":0},null,null,{"$f":"+XX!L596","v":0}]
["",{"$f":"+IF(XX!C597=\"\",\"\",XX!C597)","v":""},{"$f":"IF(B596=\"\",\"\",COUNTIFS($B$3:B596,B596))","v":""},{"$f":"IF(B596=\"\",\"\",LOOKUP(B596,DataFIX!$F$3:$F$21,DataFIX!$E$3:$E$21))","v":""},{"$f":"IF(B596=\"\",\"\",LOOKUP(B596,DataFIX!$F$3:$F$41,DataFIX!$G$3:$G$41)+C596)","v":""},{"$f":"+XX!O597","v":"00:00:00"},{"$f":"+XX!E597","v":0},{"$f":"+XX!G597","v":0},{"$f":"+XX!T597","v":0},null,null,{"$f":"+XX!L597","v":0}]
["",{"$f":"+IF(XX!C598=\"\",\"\",XX!C598)","v":""},{"$f":"IF(B597=\"\",\"\",COUNTIFS($B$3:B597,B597))","v":""},{"$f":"IF(B597=\"\",\"\",LOOKUP(B597,DataFIX!$F$3:$F$21,DataFIX!$E$3:$E$21))","v":""},{"$f":"IF(B597=\"\",\"\",LOOKUP(B597,DataFIX!$F$3:$F$41,DataFIX!$G$3:$G$41)+C597)","v":""},{"$f":"+XX!O598","v":"00:00:00"},{"$f":"+XX!E598","v":0},{"$f":"+XX!G598","v":0},{"$f":"+XX!T598","v":0},null,null,{"$f":"+XX!L598","v":0}]
["",{"$f":"+IF(XX!C599=\"\",\"\",XX!C599)","v":""},{"$f":"IF(B598=\"\",\"\",COUNTIFS($B$3:B598,B598))","v":""},{"$f":"IF(B598=\"\",\"\",LOOKUP(B598,DataFIX!$F$3:$F$21,DataFIX!$E$3:$E$21))","v":""},{"$f":"IF(B598=\"\",\"\",LOOKUP(B598,DataFIX!$F$3:$F$41,DataFIX!$G$3:$G$41)+C598)","v":""},{"$f":"+XX!O599","v":"00:00:00"},{"$f":"+XX!E599","v":0},{"$f":"+XX!G599","v":0},{"$f":"+XX!T599","v":0},null,null,{"$f":"+XX!L599","v":0}]
["",{"$f":"+IF(XX!C600=\"\",\"\",XX!C600)","v":""},{"$f":"IF(B599=\"\",\"\",COUNTIFS($B$3:B599,B599))","v":""},{"$f":"IF(B599=\"\",\"\",LOOKUP(B599,DataFIX!$F$3:$F$21,DataFIX!$E$3:$E$21))","v":""},{"$f":"IF(B599=\"\",\"\",LOOKUP(B599,DataFIX!$F$3:$F$41,DataFIX!$G$3:$G$41)+C599)","v":""},{"$f":"+XX!O600","v":"00:00:00"},{"$f":"+XX!E600","v":0},{"$f":"+XX!G600","v":0},{"$f":"+XX!T600","v":0},null,null,{"$f":"+XX!L600","v":0}]
["",{"$f":"+IF(XX!C601=\"\",\"\",XX!C601)","v":""},{"$f":"IF(B600=\"\",\"\",COUNTIFS($B$3:B600,B600))","v":""},{"$f":"IF(B600=\"\",\"\",LOOKUP(B600,DataFIX!$F$3:$F$21,DataFIX!$E$3:$E$21))","v":""},{"$f":"IF(B600=\"\",\"\",LOOKUP(B600,DataFIX!$F$3:$F$41,DataFIX!$G$3:$G$41)+C600)","v":""},{"$f":"+XX!O601","v":"00:00:00"},{"$f":"+XX!E601","v":0},{"$f":"+XX!G601","v":0},{"$f":"+XX!T601","v":0},null,null,{"$f":"+XX!L601","v":0}]
["",{"$f":"+IF(XX!C602=\"\",\"\",XX!C602)","v":""},{"$f":"IF(B601=\"\",\"\",COUNTIFS($B$3:B601,B601))","v":""},{"$f":"IF(B601=\"\",\"\",LOOKUP(B601,DataFIX!$F$3:$F$21,DataFIX!$E$3:$E$21))","v":""},{"$f":"IF(B601=\"\",\"\",LOOKUP(B601,DataFIX!$F$3:$F$41,DataFIX!$G$3:$G$41)+C601)","v":""},{"$f":"+XX!O602","v":"00:00:00"},{"$f":"+XX!E602","v":0},{"$f":"+XX!G602","v":0},{"$f":"+XX!T602","v":0},null,null,{"$f":"+XX!L602","v":0}]
["",{"$f":"+IF(XX!C603=\"\",\"\",XX!C603)","v":""},{"$f":"IF(B602=\"\",\"\",COUNTIFS($B$3:B602,B602))","v":""},{"$f":"IF(B602=\"\",\"\",LOOKUP(B602,DataFIX!$F$3:$F$21,DataFIX!$E$3:$E$21))","v":""},{"$f":"IF(B602=\"\",\"\",LOOKUP(B602,DataFIX!$F$3:$F$41,DataFIX!$G$3:$G$41)+C602)","v":""},{"$f":"+XX!O603","v":"00:00:00"},{"$f":"+XX!E603","v":0},{"$f":"+XX!G603","v":0},{"$f":"+XX!T603","v":0},null,null,{"$f":"+XX!L603","v":0}]
["",{"$f":"+IF(XX!C604=\"\",\"\",XX!C604)","v":""},{"$f":"IF(B603=\"\",\"\",COUNTIFS($B$3:B603,B603))","v":""},{"$f":"IF(B603=\"\",\"\",LOOKUP(B603,DataFIX!$F$3:$F$21,DataFIX!$E$3:$E$21))","v":""},{"$f":"IF(B603=\"\",\"\",LOOKUP(B603,DataFIX!$F$3:$F$41,DataFIX!$G$3:$G$41)+C603)","v":""},{"$f":"+XX!O604","v":"00:00:00"},{"$f":"+XX!E604","v":0},{"$f":"+XX!G604","v":0},{"$f":"+XX!T604","v":0},null,null,{"$f":"+XX!L604","v":0}]
["",{"$f":"+IF(XX!C605=\"\",\"\",XX!C605)","v":""},{"$f":"IF(B604=\"\",\"\",COUNTIFS($B$3:B604,B604))","v":""},{"$f":"IF(B604=\"\",\"\",LOOKUP(B604,DataFIX!$F$3:$F$21,DataFIX!$E$3:$E$21))","v":""},{"$f":"IF(B604=\"\",\"\",LOOKUP(B604,DataFIX!$F$3:$F$41,DataFIX!$G$3:$G$41)+C604)","v":""},{"$f":"+XX!O605","v":"00:00:00"},{"$f":"+XX!E605","v":0},{"$f":"+XX!G605","v":0},{"$f":"+XX!T605","v":0},null,null,{"$f":"+XX!L605","v":0}]
["",{"$f":"+IF(XX!C606=\"\",\"\",XX!C606)","v":""},{"$f":"IF(B605=\"\",\"\",COUNTIFS($B$3:B605,B605))","v":""},{"$f":"IF(B605=\"\",\"\",LOOKUP(B605,DataFIX!$F$3:$F$21,DataFIX!$E$3:$E$21))","v":""},{"$f":"IF(B605=\"\",\"\",LOOKUP(B605,DataFIX!$F$3:$F$41,DataFIX!$G$3:$G$41)+C605)","v":""},{"$f":"+XX!O606","v":"00:00:00"},{"$f":"+XX!E606","v":0},{"$f":"+XX!G606","v":0},{"$f":"+XX!T606","v":0},null,null,{"$f":"+XX!L606","v":0}]
["",{"$f":"+IF(XX!C607=\"\",\"\",XX!C607)","v":""},{"$f":"IF(B606=\"\",\"\",COUNTIFS($B$3:B606,B606))","v":""},{"$f":"IF(B606=\"\",\"\",LOOKUP(B606,DataFIX!$F$3:$F$21,DataFIX!$E$3:$E$21))","v":""},{"$f":"IF(B606=\"\",\"\",LOOKUP(B606,DataFIX!$F$3:$F$41,DataFIX!$G$3:$G$41)+C606)","v":""},{"$f":"+XX!O607","v":"00:00:00"},{"$f":"+XX!E607","v":0},{"$f":"+XX!G607","v":0},{"$f":"+XX!T607","v":0},null,null,{"$f":"+XX!L607","v":0}]
["",{"$f":"+IF(XX!C608=\"\",\"\",XX!C608)","v":""},{"$f":"IF(B607=\"\",\"\",COUNTIFS($B$3:B607,B607))","v":""},{"$f":"IF(B607=\"\",\"\",LOOKUP(B607,DataFIX!$F$3:$F$21,DataFIX!$E$3:$E$21))","v":""},{"$f":"IF(B607=\"\",\"\",LOOKUP(B607,DataFIX!$F$3:$F$41,DataFIX!$G$3:$G$41)+C607)","v":""},{"$f":"+XX!O608","v":"00:00:00"},{"$f":"+XX!E608","v":0},{"$f":"+XX!G608","v":0},{"$f":"+XX!T608","v":0},null,null,{"$f":"+XX!L608","v":0}]
["",{"$f":"+IF(XX!C609=\"\",\"\",XX!C609)","v":""},{"$f":"IF(B608=\"\",\"\",COUNTIFS($B$3:B608,B608))","v":""},{"$f":"IF(B608=\"\",\"\",LOOKUP(B608,DataFIX!$F$3:$F$21,DataFIX!$E$3:$E$21))","v":""},{"$f":"IF(B608=\"\",\"\",LOOKUP(B608,DataFIX!$F$3:$F$41,DataFIX!$G$3:$G$41)+C608)","v":""},{"$f":"+XX!O609","v":"00:00:00"},{"$f":"+XX!E609","v":0},{"$f":"+XX!G609","v":0},{"$f":"+XX!T609","v":0},null,null,{"$f":"+XX!L609","v":0}]
["",{"$f":"+IF(XX!C610=\"\",\"\",XX!C610)","v":""},{"$f":"IF(B609=\"\",\"\",COUNTIFS($B$3:B609,B609))","v":""},{"$f":"IF(B609=\"\",\"\",LOOKUP(B609,DataFIX!$F$3:$F$21,DataFIX!$E$3:$E$21))","v":""},{"$f":"IF(B609=\"\",\"\",LOOKUP(B609,DataFIX!$F$3:$F$41,DataFIX!$G$3:$G$41)+C609)","v":""},{"$f":"+XX!O610","v":"00:00:00"},{"$f":"+XX!E610","v":0},{"$f":"+XX!G610","v":0},{"$f":"+XX!T610","v":0},null,null,{"$f":"+XX!L610","v":0}]
["",{"$f":"+IF(XX!C611=\"\",\"\",XX!C611)","v":""},{"$f":"IF(B610=\"\",\"\",COUNTIFS($B$3:B610,B610))","v":""},{"$f":"IF(B610=\"\",\"\",LOOKUP(B610,DataFIX!$F$3:$F$21,DataFIX!$E$3:$E$21))","v":""},{"$f":"IF(B610=\"\",\"\",LOOKUP(B610,DataFIX!$F$3:$F$41,DataFIX!$G$3:$G$41)+C610)","v":""},{"$f":"+XX!O611","v":"00:00:00"},{"$f":"+XX!E611","v":0},{"$f":"+XX!G611","v":0},{"$f":"+XX!T611","v":0},null,null,{"$f":"+XX!L611","v":0}]
["",{"$f":"+IF(XX!C612=\"\",\"\",XX!C612)","v":""},{"$f":"IF(B611=\"\",\"\",COUNTIFS($B$3:B611,B611))","v":""},{"$f":"IF(B611=\"\",\"\",LOOKUP(B611,DataFIX!$F$3:$F$21,DataFIX!$E$3:$E$21))","v":""},{"$f":"IF(B611=\"\",\"\",LOOKUP(B611,DataFIX!$F$3:$F$41,DataFIX!$G$3:$G$41)+C611)","v":""},{"$f":"+XX!O612","v":"00:00:00"},{"$f":"+XX!E612","v":0},{"$f":"+XX!G612","v":0},{"$f":"+XX!T612","v":0},null,null,{"$f":"+XX!L612","v":0}]
["",{"$f":"+IF(XX!C613=\"\",\"\",XX!C613)","v":""},{"$f":"IF(B612=\"\",\"\",COUNTIFS($B$3:B612,B612))","v":""},{"$f":"IF(B612=\"\",\"\",LOOKUP(B612,DataFIX!$F$3:$F$21,DataFIX!$E$3:$E$21))","v":""},{"$f":"IF(B612=\"\",\"\",LOOKUP(B612,DataFIX!$F$3:$F$41,DataFIX!$G$3:$G$41)+C612)","v":""},{"$f":"+XX!O613","v":"00:00:00"},{"$f":"+XX!E613","v":0},{"$f":"+XX!G613","v":0},{"$f":"+XX!T613","v":0},null,null,{"$f":"+XX!L613","v":0}]
["",{"$f":"+IF(XX!C614=\"\",\"\",XX!C614)","v":""},{"$f":"IF(B613=\"\",\"\",COUNTIFS($B$3:B613,B613))","v":""},{"$f":"IF(B613=\"\",\"\",LOOKUP(B613,DataFIX!$F$3:$F$21,DataFIX!$E$3:$E$21))","v":""},{"$f":"IF(B613=\"\",\"\",LOOKUP(B613,DataFIX!$F$3:$F$41,DataFIX!$G$3:$G$41)+C613)","v":""},{"$f":"+XX!O614","v":"00:00:00"},{"$f":"+XX!E614","v":0},{"$f":"+XX!G614","v":0},{"$f":"+XX!T614","v":0},null,null,{"$f":"+XX!L614","v":0}]
["",{"$f":"+IF(XX!C615=\"\",\"\",XX!C615)","v":""},{"$f":"IF(B614=\"\",\"\",COUNTIFS($B$3:B614,B614))","v":""},{"$f":"IF(B614=\"\",\"\",LOOKUP(B614,DataFIX!$F$3:$F$21,DataFIX!$E$3:$E$21))","v":""},{"$f":"IF(B614=\"\",\"\",LOOKUP(B614,DataFIX!$F$3:$F$41,DataFIX!$G$3:$G$41)+C614)","v":""},{"$f":"+XX!O615","v":"00:00:00"},{"$f":"+XX!E615","v":0},{"$f":"+XX!G615","v":0},{"$f":"+XX!T615","v":0},null,null,{"$f":"+XX!L615","v":0}]
["",{"$f":"+IF(XX!C616=\"\",\"\",XX!C616)","v":""},{"$f":"IF(B615=\"\",\"\",COUNTIFS($B$3:B615,B615))","v":""},{"$f":"IF(B615=\"\",\"\",LOOKUP(B615,DataFIX!$F$3:$F$21,DataFIX!$E$3:$E$21))","v":""},{"$f":"IF(B615=\"\",\"\",LOOKUP(B615,DataFIX!$F$3:$F$41,DataFIX!$G$3:$G$41)+C615)","v":""},{"$f":"+XX!O616","v":"00:00:00"},{"$f":"+XX!E616","v":0},{"$f":"+XX!G616","v":0},{"$f":"+XX!T616","v":0},null,null,{"$f":"+XX!L616","v":0}]
["",{"$f":"+IF(XX!C617=\"\",\"\",XX!C617)","v":""},{"$f":"IF(B616=\"\",\"\",COUNTIFS($B$3:B616,B616))","v":""},{"$f":"IF(B616=\"\",\"\",LOOKUP(B616,DataFIX!$F$3:$F$21,DataFIX!$E$3:$E$21))","v":""},{"$f":"IF(B616=\"\",\"\",LOOKUP(B616,DataFIX!$F$3:$F$41,DataFIX!$G$3:$G$41)+C616)","v":""},{"$f":"+XX!O617","v":"00:00:00"},{"$f":"+XX!E617","v":0},{"$f":"+XX!G617","v":0},{"$f":"+XX!T617","v":0},null,null,{"$f":"+XX!L617","v":0}]
["",{"$f":"+IF(XX!C618=\"\",\"\",XX!C618)","v":""},{"$f":"IF(B617=\"\",\"\",COUNTIFS($B$3:B617,B617))","v":""},{"$f":"IF(B617=\"\",\"\",LOOKUP(B617,DataFIX!$F$3:$F$21,DataFIX!$E$3:$E$21))","v":""},{"$f":"IF(B617=\"\",\"\",LOOKUP(B617,DataFIX!$F$3:$F$41,DataFIX!$G$3:$G$41)+C617)","v":""},{"$f":"+XX!O618","v":"00:00:00"},{"$f":"+XX!E618","v":0},{"$f":"+XX!G618","v":0},{"$f":"+XX!T618","v":0},null,null,{"$f":"+XX!L618","v":0}]
["",{"$f":"+IF(XX!C619=\"\",\"\",XX!C619)","v":""},{"$f":"IF(B618=\"\",\"\",COUNTIFS($B$3:B618,B618))","v":""},{"$f":"IF(B618=\"\",\"\",LOOKUP(B618,DataFIX!$F$3:$F$21,DataFIX!$E$3:$E$21))","v":""},{"$f":"IF(B618=\"\",\"\",LOOKUP(B618,DataFIX!$F$3:$F$41,DataFIX!$G$3:$G$41)+C618)","v":""},{"$f":"+XX!O619","v":"00:00:00"},{"$f":"+XX!E619","v":0},{"$f":"+XX!G619","v":0},{"$f":"+XX!T619","v":0},null,null,{"$f":"+XX!L619","v":0}]
["",{"$f":"+IF(XX!C620=\"\",\"\",XX!C620)","v":""},{"$f":"IF(B619=\"\",\"\",COUNTIFS($B$3:B619,B619))","v":""},{"$f":"IF(B619=\"\",\"\",LOOKUP(B619,DataFIX!$F$3:$F$21,DataFIX!$E$3:$E$21))","v":""},{"$f":"IF(B619=\"\",\"\",LOOKUP(B619,DataFIX!$F$3:$F$41,DataFIX!$G$3:$G$41)+C619)","v":""},{"$f":"+XX!O620","v":"00:00:00"},{"$f":"+XX!E620","v":0},{"$f":"+XX!G620","v":0},{"$f":"+XX!T620","v":0},null,null,{"$f":"+XX!L620","v":0}]
["",{"$f":"+IF(XX!C621=\"\",\"\",XX!C621)","v":""},{"$f":"IF(B620=\"\",\"\",COUNTIFS($B$3:B620,B620))","v":""},{"$f":"IF(B620=\"\",\"\",LOOKUP(B620,DataFIX!$F$3:$F$21,DataFIX!$E$3:$E$21))","v":""},{"$f":"IF(B620=\"\",\"\",LOOKUP(B620,DataFIX!$F$3:$F$41,DataFIX!$G$3:$G$41)+C620)","v":""},{"$f":"+XX!O621","v":"00:00:00"},{"$f":"+XX!E621","v":0},{"$f":"+XX!G621","v":0},{"$f":"+XX!T621","v":0},null,null,{"$f":"+XX!L621","v":0}]
["",{"$f":"+IF(XX!C622=\"\",\"\",XX!C622)","v":""},{"$f":"IF(B621=\"\",\"\",COUNTIFS($B$3:B621,B621))","v":""},{"$f":"IF(B621=\"\",\"\",LOOKUP(B621,DataFIX!$F$3:$F$21,DataFIX!$E$3:$E$21))","v":""},{"$f":"IF(B621=\"\",\"\",LOOKUP(B621,DataFIX!$F$3:$F$41,DataFIX!$G$3:$G$41)+C621)","v":""},{"$f":"+XX!O622","v":"00:00:00"},{"$f":"+XX!E622","v":0},{"$f":"+XX!G622","v":0},{"$f":"+XX!T622","v":0},null,null,{"$f":"+XX!L622","v":0}]
["",{"$f":"+IF(XX!C623=\"\",\"\",XX!C623)","v":""},{"$f":"IF(B622=\"\",\"\",COUNTIFS($B$3:B622,B622))","v":""},{"$f":"IF(B622=\"\",\"\",LOOKUP(B622,DataFIX!$F$3:$F$21,DataFIX!$E$3:$E$21))","v":""},{"$f":"IF(B622=\"\",\"\",LOOKUP(B622,DataFIX!$F$3:$F$41,DataFIX!$G$3:$G$41)+C622)","v":""},{"$f":"+XX!O623","v":"00:00:00"},{"$f":"+XX!E623","v":0},{"$f":"+XX!G623","v":0},{"$f":"+XX!T623","v":0},null,null,{"$f":"+XX!L623","v":0}]
["",{"$f":"+IF(XX!C624=\"\",\"\",XX!C624)","v":""},{"$f":"IF(B623=\"\",\"\",COUNTIFS($B$3:B623,B623))","v":""},{"$f":"IF(B623=\"\",\"\",LOOKUP(B623,DataFIX!$F$3:$F$21,DataFIX!$E$3:$E$21))","v":""},{"$f":"IF(B623=\"\",\"\",LOOKUP(B623,DataFIX!$F$3:$F$41,DataFIX!$G$3:$G$41)+C623)","v":""},{"$f":"+XX!O624","v":"00:00:00"},{"$f":"+XX!E624","v":0},{"$f":"+XX!G624","v":0},{"$f":"+XX!T624","v":0},null,null,{"$f":"+XX!L624","v":0}]
["",{"$f":"+IF(XX!C625=\"\",\"\",XX!C625)","v":""},{"$f":"IF(B624=\"\",\"\",COUNTIFS($B$3:B624,B624))","v":""},{"$f":"IF(B624=\"\",\"\",LOOKUP(B624,DataFIX!$F$3:$F$21,DataFIX!$E$3:$E$21))","v":""},{"$f":"IF(B624=\"\",\"\",LOOKUP(B624,DataFIX!$F$3:$F$41,DataFIX!$G$3:$G$41)+C624)","v":""},{"$f":"+XX!O625","v":"00:00:00"},{"$f":"+XX!E625","v":0},{"$f":"+XX!G625","v":0},{"$f":"+XX!T625","v":0},null,null,{"$f":"+XX!L625","v":0}]
["",{"$f":"+IF(XX!C626=\"\",\"\",XX!C626)","v":""},{"$f":"IF(B625=\"\",\"\",COUNTIFS($B$3:B625,B625))","v":""},{"$f":"IF(B625=\"\",\"\",LOOKUP(B625,DataFIX!$F$3:$F$21,DataFIX!$E$3:$E$21))","v":""},{"$f":"IF(B625=\"\",\"\",LOOKUP(B625,DataFIX!$F$3:$F$41,DataFIX!$G$3:$G$41)+C625)","v":""},{"$f":"+XX!O626","v":"00:00:00"},{"$f":"+XX!E626","v":0},{"$f":"+XX!G626","v":0},{"$f":"+XX!T626","v":0},null,null,{"$f":"+XX!L626","v":0}]
["",{"$f":"+IF(XX!C627=\"\",\"\",XX!C627)","v":""},{"$f":"IF(B626=\"\",\"\",COUNTIFS($B$3:B626,B626))","v":""},{"$f":"IF(B626=\"\",\"\",LOOKUP(B626,DataFIX!$F$3:$F$21,DataFIX!$E$3:$E$21))","v":""},{"$f":"IF(B626=\"\",\"\",LOOKUP(B626,DataFIX!$F$3:$F$41,DataFIX!$G$3:$G$41)+C626)","v":""},{"$f":"+XX!O627","v":"00:00:00"},{"$f":"+XX!E627","v":0},{"$f":"+XX!G627","v":0},{"$f":"+XX!T627","v":0},null,null,{"$f":"+XX!L627","v":0}]
["",{"$f":"+IF(XX!C628=\"\",\"\",XX!C628)","v":""},{"$f":"IF(B627=\"\",\"\",COUNTIFS($B$3:B627,B627))","v":""},{"$f":"IF(B627=\"\",\"\",LOOKUP(B627,DataFIX!$F$3:$F$21,DataFIX!$E$3:$E$21))","v":""},{"$f":"IF(B627=\"\",\"\",LOOKUP(B627,DataFIX!$F$3:$F$41,DataFIX!$G$3:$G$41)+C627)","v":""},{"$f":"+XX!O628","v":"00:00:00"},{"$f":"+XX!E628","v":0},{"$f":"+XX!G628","v":0},{"$f":"+XX!T628","v":0},null,null,{"$f":"+XX!L628","v":0}]
["",{"$f":"+IF(XX!C629=\"\",\"\",XX!C629)","v":""},{"$f":"IF(B628=\"\",\"\",COUNTIFS($B$3:B628,B628))","v":""},{"$f":"IF(B628=\"\",\"\",LOOKUP(B628,DataFIX!$F$3:$F$21,DataFIX!$E$3:$E$21))","v":""},{"$f":"IF(B628=\"\",\"\",LOOKUP(B628,DataFIX!$F$3:$F$41,DataFIX!$G$3:$G$41)+C628)","v":""},{"$f":"+XX!O629","v":"00:00:00"},{"$f":"+XX!E629","v":0},{"$f":"+XX!G629","v":0},{"$f":"+XX!T629","v":0},null,null,{"$f":"+XX!L629","v":0}]
["",{"$f":"+IF(XX!C630=\"\",\"\",XX!C630)","v":""},{"$f":"IF(B629=\"\",\"\",COUNTIFS($B$3:B629,B629))","v":""},{"$f":"IF(B629=\"\",\"\",LOOKUP(B629,DataFIX!$F$3:$F$21,DataFIX!$E$3:$E$21))","v":""},{"$f":"IF(B629=\"\",\"\",LOOKUP(B629,DataFIX!$F$3:$F$41,DataFIX!$G$3:$G$41)+C629)","v":""},{"$f":"+XX!O630","v":"00:00:00"},{"$f":"+XX!E630","v":0},{"$f":"+XX!G630","v":0},{"$f":"+XX!T630","v":0},null,null,{"$f":"+XX!L630","v":0}]
["",{"$f":"+IF(XX!C631=\"\",\"\",XX!C631)","v":""},{"$f":"IF(B630=\"\",\"\",COUNTIFS($B$3:B630,B630))","v":""},{"$f":"IF(B630=\"\",\"\",LOOKUP(B630,DataFIX!$F$3:$F$21,DataFIX!$E$3:$E$21))","v":""},{"$f":"IF(B630=\"\",\"\",LOOKUP(B630,DataFIX!$F$3:$F$41,DataFIX!$G$3:$G$41)+C630)","v":""},{"$f":"+XX!O631","v":"00:00:00"},{"$f":"+XX!E631","v":0},{"$f":"+XX!G631","v":0},{"$f":"+XX!T631","v":0},null,null,{"$f":"+XX!L631","v":0}]
["",{"$f":"+IF(XX!C632=\"\",\"\",XX!C632)","v":""},{"$f":"IF(B631=\"\",\"\",COUNTIFS($B$3:B631,B631))","v":""},{"$f":"IF(B631=\"\",\"\",LOOKUP(B631,DataFIX!$F$3:$F$21,DataFIX!$E$3:$E$21))","v":""},{"$f":"IF(B631=\"\",\"\",LOOKUP(B631,DataFIX!$F$3:$F$41,DataFIX!$G$3:$G$41)+C631)","v":""},{"$f":"+XX!O632","v":"00:00:00"},{"$f":"+XX!E632","v":0},{"$f":"+XX!G632","v":0},{"$f":"+XX!T632","v":0},null,null,{"$f":"+XX!L632","v":0}]
["",{"$f":"+IF(XX!C633=\"\",\"\",XX!C633)","v":""},{"$f":"IF(B632=\"\",\"\",COUNTIFS($B$3:B632,B632))","v":""},{"$f":"IF(B632=\"\",\"\",LOOKUP(B632,DataFIX!$F$3:$F$21,DataFIX!$E$3:$E$21))","v":""},{"$f":"IF(B632=\"\",\"\",LOOKUP(B632,DataFIX!$F$3:$F$41,DataFIX!$G$3:$G$41)+C632)","v":""},{"$f":"+XX!O633","v":"00:00:00"},{"$f":"+XX!E633","v":0},{"$f":"+XX!G633","v":0},{"$f":"+XX!T633","v":0},null,null,{"$f":"+XX!L633","v":0}]
["",{"$f":"+IF(XX!C634=\"\",\"\",XX!C634)","v":""},{"$f":"IF(B633=\"\",\"\",COUNTIFS($B$3:B633,B633))","v":""},{"$f":"IF(B633=\"\",\"\",LOOKUP(B633,DataFIX!$F$3:$F$21,DataFIX!$E$3:$E$21))","v":""},{"$f":"IF(B633=\"\",\"\",LOOKUP(B633,DataFIX!$F$3:$F$41,DataFIX!$G$3:$G$41)+C633)","v":""},{"$f":"+XX!O634","v":"00:00:00"},{"$f":"+XX!E634","v":0},{"$f":"+XX!G634","v":0},{"$f":"+XX!T634","v":0},null,null,{"$f":"+XX!L634","v":0}]
["",{"$f":"+IF(XX!C635=\"\",\"\",XX!C635)","v":""},{"$f":"IF(B634=\"\",\"\",COUNTIFS($B$3:B634,B634))","v":""},{"$f":"IF(B634=\"\",\"\",LOOKUP(B634,DataFIX!$F$3:$F$21,DataFIX!$E$3:$E$21))","v":""},{"$f":"IF(B634=\"\",\"\",LOOKUP(B634,DataFIX!$F$3:$F$41,DataFIX!$G$3:$G$41)+C634)","v":""},{"$f":"+XX!O635","v":"00:00:00"},{"$f":"+XX!E635","v":0},{"$f":"+XX!G635","v":0},{"$f":"+XX!T635","v":0},null,null,{"$f":"+XX!L635","v":0}]
["",{"$f":"+IF(XX!C636=\"\",\"\",XX!C636)","v":""},{"$f":"IF(B635=\"\",\"\",COUNTIFS($B$3:B635,B635))","v":""},{"$f":"IF(B635=\"\",\"\",LOOKUP(B635,DataFIX!$F$3:$F$21,DataFIX!$E$3:$E$21))","v":""},{"$f":"IF(B635=\"\",\"\",LOOKUP(B635,DataFIX!$F$3:$F$41,DataFIX!$G$3:$G$41)+C635)","v":""},{"$f":"+XX!O636","v":"00:00:00"},{"$f":"+XX!E636","v":0},{"$f":"+XX!G636","v":0},{"$f":"+XX!T636","v":0},null,null,{"$f":"+XX!L636","v":0}]
["",{"$f":"+IF(XX!C637=\"\",\"\",XX!C637)","v":""},{"$f":"IF(B636=\"\",\"\",COUNTIFS($B$3:B636,B636))","v":""},{"$f":"IF(B636=\"\",\"\",LOOKUP(B636,DataFIX!$F$3:$F$21,DataFIX!$E$3:$E$21))","v":""},{"$f":"IF(B636=\"\",\"\",LOOKUP(B636,DataFIX!$F$3:$F$41,DataFIX!$G$3:$G$41)+C636)","v":""},{"$f":"+XX!O637","v":"00:00:00"},{"$f":"+XX!E637","v":0},{"$f":"+XX!G637","v":0},{"$f":"+XX!T637","v":0},null,null,{"$f":"+XX!L637","v":0}]
["",{"$f":"+IF(XX!C638=\"\",\"\",XX!C638)","v":""},{"$f":"IF(B637=\"\",\"\",COUNTIFS($B$3:B637,B637))","v":""},{"$f":"IF(B637=\"\",\"\",LOOKUP(B637,DataFIX!$F$3:$F$21,DataFIX!$E$3:$E$21))","v":""},{"$f":"IF(B637=\"\",\"\",LOOKUP(B637,DataFIX!$F$3:$F$41,DataFIX!$G$3:$G$41)+C637)","v":""},{"$f":"+XX!O638","v":"00:00:00"},{"$f":"+XX!E638","v":0},{"$f":"+XX!G638","v":0},{"$f":"+XX!T638","v":0},null,null,{"$f":"+XX!L638","v":0}]
["",{"$f":"+IF(XX!C639=\"\",\"\",XX!C639)","v":""},{"$f":"IF(B638=\"\",\"\",COUNTIFS($B$3:B638,B638))","v":""},{"$f":"IF(B638=\"\",\"\",LOOKUP(B638,DataFIX!$F$3:$F$21,DataFIX!$E$3:$E$21))","v":""},{"$f":"IF(B638=\"\",\"\",LOOKUP(B638,DataFIX!$F$3:$F$41,DataFIX!$G$3:$G$41)+C638)","v":""},{"$f":"+XX!O639","v":"00:00:00"},{"$f":"+XX!E639","v":0},{"$f":"+XX!G639","v":0},{"$f":"+XX!T639","v":0},null,null,{"$f":"+XX!L639","v":0}]
["",{"$f":"+IF(XX!C640=\"\",\"\",XX!C640)","v":""},{"$f":"IF(B639=\"\",\"\",COUNTIFS($B$3:B639,B639))","v":""},{"$f":"IF(B639=\"\",\"\",LOOKUP(B639,DataFIX!$F$3:$F$21,DataFIX!$E$3:$E$21))","v":""},{"$f":"IF(B639=\"\",\"\",LOOKUP(B639,DataFIX!$F$3:$F$41,DataFIX!$G$3:$G$41)+C639)","v":""},{"$f":"+XX!O640","v":"00:00:00"},{"$f":"+XX!E640","v":0},{"$f":"+XX!G640","v":0},{"$f":"+XX!T640","v":0},null,null,{"$f":"+XX!L640","v":0}]
["",{"$f":"+IF(XX!C641=\"\",\"\",XX!C641)","v":""},{"$f":"IF(B640=\"\",\"\",COUNTIFS($B$3:B640,B640))","v":""},{"$f":"IF(B640=\"\",\"\",LOOKUP(B640,DataFIX!$F$3:$F$21,DataFIX!$E$3:$E$21))","v":""},{"$f":"IF(B640=\"\",\"\",LOOKUP(B640,DataFIX!$F$3:$F$41,DataFIX!$G$3:$G$41)+C640)","v":""},{"$f":"+XX!O641","v":"00:00:00"},{"$f":"+XX!E641","v":0},{"$f":"+XX!G641","v":0},{"$f":"+XX!T641","v":0},null,null,{"$f":"+XX!L641","v":0}]
["",{"$f":"+IF(XX!C642=\"\",\"\",XX!C642)","v":""},{"$f":"IF(B641=\"\",\"\",COUNTIFS($B$3:B641,B641))","v":""},{"$f":"IF(B641=\"\",\"\",LOOKUP(B641,DataFIX!$F$3:$F$21,DataFIX!$E$3:$E$21))","v":""},{"$f":"IF(B641=\"\",\"\",LOOKUP(B641,DataFIX!$F$3:$F$41,DataFIX!$G$3:$G$41)+C641)","v":""},{"$f":"+XX!O642","v":"00:00:00"},{"$f":"+XX!E642","v":0},{"$f":"+XX!G642","v":0},{"$f":"+XX!T642","v":0},null,null,{"$f":"+XX!L642","v":0}]
["",{"$f":"+IF(XX!C643=\"\",\"\",XX!C643)","v":""},{"$f":"IF(B642=\"\",\"\",COUNTIFS($B$3:B642,B642))","v":""},{"$f":"IF(B642=\"\",\"\",LOOKUP(B642,DataFIX!$F$3:$F$21,DataFIX!$E$3:$E$21))","v":""},{"$f":"IF(B642=\"\",\"\",LOOKUP(B642,DataFIX!$F$3:$F$41,DataFIX!$G$3:$G$41)+C642)","v":""},{"$f":"+XX!O643","v":"00:00:00"},{"$f":"+XX!E643","v":0},{"$f":"+XX!G643","v":0},{"$f":"+XX!T643","v":0},null,null,{"$f":"+XX!L643","v":0}]
["",{"$f":"+IF(XX!C644=\"\",\"\",XX!C644)","v":""},{"$f":"IF(B643=\"\",\"\",COUNTIFS($B$3:B643,B643))","v":""},{"$f":"IF(B643=\"\",\"\",LOOKUP(B643,DataFIX!$F$3:$F$21,DataFIX!$E$3:$E$21))","v":""},{"$f":"IF(B643=\"\",\"\",LOOKUP(B643,DataFIX!$F$3:$F$41,DataFIX!$G$3:$G$41)+C643)","v":""},{"$f":"+XX!O644","v":"00:00:00"},{"$f":"+XX!E644","v":0},{"$f":"+XX!G644","v":0},{"$f":"+XX!T644","v":0},null,null,{"$f":"+XX!L644","v":0}]
["",{"$f":"+IF(XX!C645=\"\",\"\",XX!C645)","v":""},{"$f":"IF(B644=\"\",\"\",COUNTIFS($B$3:B644,B644))","v":""},{"$f":"IF(B644=\"\",\"\",LOOKUP(B644,DataFIX!$F$3:$F$21,DataFIX!$E$3:$E$21))","v":""},{"$f":"IF(B644=\"\",\"\",LOOKUP(B644,DataFIX!$F$3:$F$41,DataFIX!$G$3:$G$41)+C644)","v":""},{"$f":"+XX!O645","v":"00:00:00"},{"$f":"+XX!E645","v":0},{"$f":"+XX!G645","v":0},{"$f":"+XX!T645","v":0},null,null,{"$f":"+XX!L645","v":0}]
["",{"$f":"+IF(XX!C646=\"\",\"\",XX!C646)","v":""},{"$f":"IF(B645=\"\",\"\",COUNTIFS($B$3:B645,B645))","v":""},{"$f":"IF(B645=\"\",\"\",LOOKUP(B645,DataFIX!$F$3:$F$21,DataFIX!$E$3:$E$21))","v":""},{"$f":"IF(B645=\"\",\"\",LOOKUP(B645,DataFIX!$F$3:$F$41,DataFIX!$G$3:$G$41)+C645)","v":""},{"$f":"+XX!O646","v":"00:00:00"},{"$f":"+XX!E646","v":0},{"$f":"+XX!G646","v":0},{"$f":"+XX!T646","v":0},null,null,{"$f":"+XX!L646","v":0}]
[{"$f":"+B646","v":""},{"$f":"+IF(XX!C647=\"\",\"\",XX!C647)","v":""},{"$f":"IF(B646=\"\",\"\",COUNTIFS($B$3:B646,B646))","v":""},{"$f":"IF(B646=\"\",\"\",LOOKUP(B646,DataFIX!$F$3:$F$21,DataFIX!$E$3:$E$21))","v":""},{"$f":"IF(B646=\"\",\"\",LOOKUP(B646,DataFIX!$F$3:$F$41,DataFIX!$G$3:$G$41)+C646)","v":""},{"$f":"+XX!O647","v":"00:00:00"},{"$f":"+XX!E647","v":0},{"$f":"+XX!G647","v":0},{"$f":"+XX!T647","v":0},null,null,{"$f":"+XX!L647","v":0}]
["",{"$f":"+IF(XX!C648=\"\",\"\",XX!C648)","v":""},{"$f":"IF(B647=\"\",\"\",COUNTIFS($B$3:B647,B647))","v":""},{"$f":"IF(B647=\"\",\"\",LOOKUP(B647,DataFIX!$F$3:$F$21,DataFIX!$E$3:$E$21))","v":""},{"$f":"IF(B647=\"\",\"\",LOOKUP(B647,DataFIX!$F$3:$F$41,DataFIX!$G$3:$G$41)+C647)","v":""},{"$f":"+XX!O648","v":"00:00:00"},{"$f":"+XX!E648","v":0},{"$f":"+XX!G648","v":0},{"$f":"+XX!T648","v":0},null,null,{"$f":"+XX!L648","v":0}]
["",{"$f":"+IF(XX!C649=\"\",\"\",XX!C649)","v":""},{"$f":"IF(B648=\"\",\"\",COUNTIFS($B$3:B648,B648))","v":""},{"$f":"IF(B648=\"\",\"\",LOOKUP(B648,DataFIX!$F$3:$F$21,DataFIX!$E$3:$E$21))","v":""},{"$f":"IF(B648=\"\",\"\",LOOKUP(B648,DataFIX!$F$3:$F$41,DataFIX!$G$3:$G$41)+C648)","v":""},{"$f":"+XX!O649","v":"00:00:00"},{"$f":"+XX!E649","v":0},{"$f":"+XX!G649","v":0},{"$f":"+XX!T649","v":0},null,null,{"$f":"+XX!L649","v":0}]
["",{"$f":"+IF(XX!C650=\"\",\"\",XX!C650)","v":""},{"$f":"IF(B649=\"\",\"\",COUNTIFS($B$3:B649,B649))","v":""},{"$f":"IF(B649=\"\",\"\",LOOKUP(B649,DataFIX!$F$3:$F$21,DataFIX!$E$3:$E$21))","v":""},{"$f":"IF(B649=\"\",\"\",LOOKUP(B649,DataFIX!$F$3:$F$41,DataFIX!$G$3:$G$41)+C649)","v":""},{"$f":"+XX!O650","v":"00:00:00"},{"$f":"+XX!E650","v":0},{"$f":"+XX!G650","v":0},{"$f":"+XX!T650","v":0},null,null,{"$f":"+XX!L650","v":0}]
["",{"$f":"+IF(XX!C651=\"\",\"\",XX!C651)","v":""},{"$f":"IF(B650=\"\",\"\",COUNTIFS($B$3:B650,B650))","v":""},{"$f":"IF(B650=\"\",\"\",LOOKUP(B650,DataFIX!$F$3:$F$21,DataFIX!$E$3:$E$21))","v":""},{"$f":"IF(B650=\"\",\"\",LOOKUP(B650,DataFIX!$F$3:$F$41,DataFIX!$G$3:$G$41)+C650)","v":""},{"$f":"+XX!O651","v":"00:00:00"},{"$f":"+XX!E651","v":0},{"$f":"+XX!G651","v":0},{"$f":"+XX!T651","v":0},null,null,{"$f":"+XX!L651","v":0}]
["",{"$f":"+IF(XX!C652=\"\",\"\",XX!C652)","v":""},{"$f":"IF(B651=\"\",\"\",COUNTIFS($B$3:B651,B651))","v":""},{"$f":"IF(B651=\"\",\"\",LOOKUP(B651,DataFIX!$F$3:$F$21,DataFIX!$E$3:$E$21))","v":""},{"$f":"IF(B651=\"\",\"\",LOOKUP(B651,DataFIX!$F$3:$F$41,DataFIX!$G$3:$G$41)+C651)","v":""},{"$f":"+XX!O652","v":"00:00:00"},{"$f":"+XX!E652","v":0},{"$f":"+XX!G652","v":0},{"$f":"+XX!T652","v":0},null,null,{"$f":"+XX!L652","v":0}]
["",{"$f":"+IF(XX!C653=\"\",\"\",XX!C653)","v":""},{"$f":"IF(B652=\"\",\"\",COUNTIFS($B$3:B652,B652))","v":""},{"$f":"IF(B652=\"\",\"\",LOOKUP(B652,DataFIX!$F$3:$F$21,DataFIX!$E$3:$E$21))","v":""},{"$f":"IF(B652=\"\",\"\",LOOKUP(B652,DataFIX!$F$3:$F$41,DataFIX!$G$3:$G$41)+C652)","v":""},{"$f":"+XX!O653","v":"00:00:00"},{"$f":"+XX!E653","v":0},{"$f":"+XX!G653","v":0},{"$f":"+XX!T653","v":0},null,null,{"$f":"+XX!L653","v":0}]
["",{"$f":"+IF(XX!C654=\"\",\"\",XX!C654)","v":""},{"$f":"IF(B653=\"\",\"\",COUNTIFS($B$3:B653,B653))","v":""},{"$f":"IF(B653=\"\",\"\",LOOKUP(B653,DataFIX!$F$3:$F$21,DataFIX!$E$3:$E$21))","v":""},{"$f":"IF(B653=\"\",\"\",LOOKUP(B653,DataFIX!$F$3:$F$41,DataFIX!$G$3:$G$41)+C653)","v":""},{"$f":"+XX!O654","v":"00:00:00"},{"$f":"+XX!E654","v":0},{"$f":"+XX!G654","v":0},{"$f":"+XX!T654","v":0},null,null,{"$f":"+XX!L654","v":0}]
["",{"$f":"+IF(XX!C655=\"\",\"\",XX!C655)","v":""},{"$f":"IF(B654=\"\",\"\",COUNTIFS($B$3:B654,B654))","v":""},{"$f":"IF(B654=\"\",\"\",LOOKUP(B654,DataFIX!$F$3:$F$21,DataFIX!$E$3:$E$21))","v":""},{"$f":"IF(B654=\"\",\"\",LOOKUP(B654,DataFIX!$F$3:$F$41,DataFIX!$G$3:$G$41)+C654)","v":""},{"$f":"+XX!O655","v":"00:00:00"},{"$f":"+XX!E655","v":0},{"$f":"+XX!G655","v":0},{"$f":"+XX!T655","v":0},null,null,{"$f":"+XX!L655","v":0}]
["",{"$f":"+IF(XX!C656=\"\",\"\",XX!C656)","v":""},{"$f":"IF(B655=\"\",\"\",COUNTIFS($B$3:B655,B655))","v":""},{"$f":"IF(B655=\"\",\"\",LOOKUP(B655,DataFIX!$F$3:$F$21,DataFIX!$E$3:$E$21))","v":""},{"$f":"IF(B655=\"\",\"\",LOOKUP(B655,DataFIX!$F$3:$F$41,DataFIX!$G$3:$G$41)+C655)","v":""},{"$f":"+XX!O656","v":"00:00:00"},{"$f":"+XX!E656","v":0},{"$f":"+XX!G656","v":0},{"$f":"+XX!T656","v":0},null,null,{"$f":"+XX!L656","v":0}]
["",{"$f":"+IF(XX!C657=\"\",\"\",XX!C657)","v":""},{"$f":"IF(B656=\"\",\"\",COUNTIFS($B$3:B656,B656))","v":""},{"$f":"IF(B656=\"\",\"\",LOOKUP(B656,DataFIX!$F$3:$F$21,DataFIX!$E$3:$E$21))","v":""},{"$f":"IF(B656=\"\",\"\",LOOKUP(B656,DataFIX!$F$3:$F$41,DataFIX!$G$3:$G$41)+C656)","v":""},{"$f":"+XX!O657","v":"00:00:00"},{"$f":"+XX!E657","v":0},{"$f":"+XX!G657","v":0},{"$f":"+XX!T657","v":0},null,null,{"$f":"+XX!L657","v":0}]
["",{"$f":"+IF(XX!C658=\"\",\"\",XX!C658)","v":""},{"$f":"IF(B657=\"\",\"\",COUNTIFS($B$3:B657,B657))","v":""},{"$f":"IF(B657=\"\",\"\",LOOKUP(B657,DataFIX!$F$3:$F$21,DataFIX!$E$3:$E$21))","v":""},{"$f":"IF(B657=\"\",\"\",LOOKUP(B657,DataFIX!$F$3:$F$41,DataFIX!$G$3:$G$41)+C657)","v":""},{"$f":"+XX!O658","v":"00:00:00"},{"$f":"+XX!E658","v":0},{"$f":"+XX!G658","v":0},{"$f":"+XX!T658","v":0},null,null,{"$f":"+XX!L658","v":0}]
["",{"$f":"+IF(XX!C659=\"\",\"\",XX!C659)","v":""},{"$f":"IF(B658=\"\",\"\",COUNTIFS($B$3:B658,B658))","v":""},{"$f":"IF(B658=\"\",\"\",LOOKUP(B658,DataFIX!$F$3:$F$21,DataFIX!$E$3:$E$21))","v":""},{"$f":"IF(B658=\"\",\"\",LOOKUP(B658,DataFIX!$F$3:$F$41,DataFIX!$G$3:$G$41)+C658)","v":""},{"$f":"+XX!O659","v":"00:00:00"},{"$f":"+XX!E659","v":0},{"$f":"+XX!G659","v":0},{"$f":"+XX!T659","v":0},null,null,{"$f":"+XX!L659","v":0}]
["",{"$f":"+IF(XX!C660=\"\",\"\",XX!C660)","v":""},{"$f":"IF(B659=\"\",\"\",COUNTIFS($B$3:B659,B659))","v":""},{"$f":"IF(B659=\"\",\"\",LOOKUP(B659,DataFIX!$F$3:$F$21,DataFIX!$E$3:$E$21))","v":""},{"$f":"IF(B659=\"\",\"\",LOOKUP(B659,DataFIX!$F$3:$F$41,DataFIX!$G$3:$G$41)+C659)","v":""},{"$f":"+XX!O660","v":"00:00:00"},{"$f":"+XX!E660","v":0},{"$f":"+XX!G660","v":0},{"$f":"+XX!T660","v":0},null,null,{"$f":"+XX!L660","v":0}]
["",{"$f":"+IF(XX!C661=\"\",\"\",XX!C661)","v":""},{"$f":"IF(B660=\"\",\"\",COUNTIFS($B$3:B660,B660))","v":""},{"$f":"IF(B660=\"\",\"\",LOOKUP(B660,DataFIX!$F$3:$F$21,DataFIX!$E$3:$E$21))","v":""},{"$f":"IF(B660=\"\",\"\",LOOKUP(B660,DataFIX!$F$3:$F$41,DataFIX!$G$3:$G$41)+C660)","v":""},{"$f":"+XX!O661","v":"00:00:00"},{"$f":"+XX!E661","v":0},{"$f":"+XX!G661","v":0},{"$f":"+XX!T661","v":0},null,null,{"$f":"+XX!L661","v":0}]
["",{"$f":"+IF(XX!C662=\"\",\"\",XX!C662)","v":""},{"$f":"IF(B661=\"\",\"\",COUNTIFS($B$3:B661,B661))","v":""},{"$f":"IF(B661=\"\",\"\",LOOKUP(B661,DataFIX!$F$3:$F$21,DataFIX!$E$3:$E$21))","v":""},{"$f":"IF(B661=\"\",\"\",LOOKUP(B661,DataFIX!$F$3:$F$41,DataFIX!$G$3:$G$41)+C661)","v":""},{"$f":"+XX!O662","v":"00:00:00"},{"$f":"+XX!E662","v":0},{"$f":"+XX!G662","v":0},{"$f":"+XX!T662","v":0},null,null,{"$f":"+XX!L662","v":0}]
["",{"$f":"+IF(XX!C663=\"\",\"\",XX!C663)","v":""},{"$f":"IF(B662=\"\",\"\",COUNTIFS($B$3:B662,B662))","v":""},{"$f":"IF(B662=\"\",\"\",LOOKUP(B662,DataFIX!$F$3:$F$21,DataFIX!$E$3:$E$21))","v":""},{"$f":"IF(B662=\"\",\"\",LOOKUP(B662,DataFIX!$F$3:$F$41,DataFIX!$G$3:$G$41)+C662)","v":""},{"$f":"+XX!O663","v":"00:00:00"},{"$f":"+XX!E663","v":0},{"$f":"+XX!G663","v":0},{"$f":"+XX!T663","v":0},null,null,{"$f":"+XX!L663","v":0}]
["",{"$f":"+IF(XX!C664=\"\",\"\",XX!C664)","v":""},{"$f":"IF(B663=\"\",\"\",COUNTIFS($B$3:B663,B663))","v":""},{"$f":"IF(B663=\"\",\"\",LOOKUP(B663,DataFIX!$F$3:$F$21,DataFIX!$E$3:$E$21))","v":""},{"$f":"IF(B663=\"\",\"\",LOOKUP(B663,DataFIX!$F$3:$F$41,DataFIX!$G$3:$G$41)+C663)","v":""},{"$f":"+XX!O664","v":"00:00:00"},{"$f":"+XX!E664","v":0},{"$f":"+XX!G664","v":0},{"$f":"+XX!T664","v":0},null,null,{"$f":"+XX!L664","v":0}]
["",{"$f":"+IF(XX!C665=\"\",\"\",XX!C665)","v":""},{"$f":"IF(B664=\"\",\"\",COUNTIFS($B$3:B664,B664))","v":""},{"$f":"IF(B664=\"\",\"\",LOOKUP(B664,DataFIX!$F$3:$F$21,DataFIX!$E$3:$E$21))","v":""},{"$f":"IF(B664=\"\",\"\",LOOKUP(B664,DataFIX!$F$3:$F$41,DataFIX!$G$3:$G$41)+C664)","v":""},{"$f":"+XX!O665","v":"00:00:00"},{"$f":"+XX!E665","v":0},{"$f":"+XX!G665","v":0},{"$f":"+XX!T665","v":0},null,null,{"$f":"+XX!L665","v":0}]
["",{"$f":"+IF(XX!C666=\"\",\"\",XX!C666)","v":""},{"$f":"IF(B665=\"\",\"\",COUNTIFS($B$3:B665,B665))","v":""},{"$f":"IF(B665=\"\",\"\",LOOKUP(B665,DataFIX!$F$3:$F$21,DataFIX!$E$3:$E$21))","v":""},{"$f":"IF(B665=\"\",\"\",LOOKUP(B665,DataFIX!$F$3:$F$41,DataFIX!$G$3:$G$41)+C665)","v":""},{"$f":"+XX!O666","v":"00:00:00"},{"$f":"+XX!E666","v":0},{"$f":"+XX!G666","v":0},{"$f":"+XX!T666","v":0},null,null,{"$f":"+XX!L666","v":0}]
["",{"$f":"+IF(XX!C667=\"\",\"\",XX!C667)","v":""},{"$f":"IF(B666=\"\",\"\",COUNTIFS($B$3:B666,B666))","v":""},{"$f":"IF(B666=\"\",\"\",LOOKUP(B666,DataFIX!$F$3:$F$21,DataFIX!$E$3:$E$21))","v":""},{"$f":"IF(B666=\"\",\"\",LOOKUP(B666,DataFIX!$F$3:$F$41,DataFIX!$G$3:$G$41)+C666)","v":""},{"$f":"+XX!O667","v":"00:00:00"},{"$f":"+XX!E667","v":0},{"$f":"+XX!G667","v":0},{"$f":"+XX!T667","v":0},null,null,{"$f":"+XX!L667","v":0}]
["",{"$f":"+IF(XX!C668=\"\",\"\",XX!C668)","v":""},{"$f":"IF(B667=\"\",\"\",COUNTIFS($B$3:B667,B667))","v":""},{"$f":"IF(B667=\"\",\"\",LOOKUP(B667,DataFIX!$F$3:$F$21,DataFIX!$E$3:$E$21))","v":""},{"$f":"IF(B667=\"\",\"\",LOOKUP(B667,DataFIX!$F$3:$F$41,DataFIX!$G$3:$G$41)+C667)","v":""},{"$f":"+XX!O668","v":"00:00:00"},{"$f":"+XX!E668","v":0},{"$f":"+XX!G668","v":0},{"$f":"+XX!T668","v":0},null,null,{"$f":"+XX!L668","v":0}]
["",{"$f":"+IF(XX!C669=\"\",\"\",XX!C669)","v":""},{"$f":"IF(B668=\"\",\"\",COUNTIFS($B$3:B668,B668))","v":""},{"$f":"IF(B668=\"\",\"\",LOOKUP(B668,DataFIX!$F$3:$F$21,DataFIX!$E$3:$E$21))","v":""},{"$f":"IF(B668=\"\",\"\",LOOKUP(B668,DataFIX!$F$3:$F$41,DataFIX!$G$3:$G$41)+C668)","v":""},{"$f":"+XX!O669","v":"00:00:00"},{"$f":"+XX!E669","v":0},{"$f":"+XX!G669","v":0},{"$f":"+XX!T669","v":0},null,null,{"$f":"+XX!L669","v":0}]
["",{"$f":"+IF(XX!C670=\"\",\"\",XX!C670)","v":""},{"$f":"IF(B669=\"\",\"\",COUNTIFS($B$3:B669,B669))","v":""},{"$f":"IF(B669=\"\",\"\",LOOKUP(B669,DataFIX!$F$3:$F$21,DataFIX!$E$3:$E$21))","v":""},{"$f":"IF(B669=\"\",\"\",LOOKUP(B669,DataFIX!$F$3:$F$41,DataFIX!$G$3:$G$41)+C669)","v":""},{"$f":"+XX!O670","v":"00:00:00"},{"$f":"+XX!E670","v":0},{"$f":"+XX!G670","v":0},{"$f":"+XX!T670","v":0},null,null,{"$f":"+XX!L670","v":0}]
["",{"$f":"+IF(XX!C671=\"\",\"\",XX!C671)","v":""},{"$f":"IF(B670=\"\",\"\",COUNTIFS($B$3:B670,B670))","v":""},{"$f":"IF(B670=\"\",\"\",LOOKUP(B670,DataFIX!$F$3:$F$21,DataFIX!$E$3:$E$21))","v":""},{"$f":"IF(B670=\"\",\"\",LOOKUP(B670,DataFIX!$F$3:$F$41,DataFIX!$G$3:$G$41)+C670)","v":""},{"$f":"+XX!O671","v":"00:00:00"},{"$f":"+XX!E671","v":0},{"$f":"+XX!G671","v":0},{"$f":"+XX!T671","v":0},null,null,{"$f":"+XX!L671","v":0}]
["",{"$f":"+IF(XX!C672=\"\",\"\",XX!C672)","v":""},{"$f":"IF(B671=\"\",\"\",COUNTIFS($B$3:B671,B671))","v":""},{"$f":"IF(B671=\"\",\"\",LOOKUP(B671,DataFIX!$F$3:$F$21,DataFIX!$E$3:$E$21))","v":""},{"$f":"IF(B671=\"\",\"\",LOOKUP(B671,DataFIX!$F$3:$F$41,DataFIX!$G$3:$G$41)+C671)","v":""},{"$f":"+XX!O672","v":"00:00:00"},{"$f":"+XX!E672","v":0},{"$f":"+XX!G672","v":0},{"$f":"+XX!T672","v":0},null,null,{"$f":"+XX!L672","v":0}]
["",{"$f":"+IF(XX!C673=\"\",\"\",XX!C673)","v":""},{"$f":"IF(B672=\"\",\"\",COUNTIFS($B$3:B672,B672))","v":""},{"$f":"IF(B672=\"\",\"\",LOOKUP(B672,DataFIX!$F$3:$F$21,DataFIX!$E$3:$E$21))","v":""},{"$f":"IF(B672=\"\",\"\",LOOKUP(B672,DataFIX!$F$3:$F$41,DataFIX!$G$3:$G$41)+C672)","v":""},{"$f":"+XX!O673","v":"00:00:00"},{"$f":"+XX!E673","v":0},{"$f":"+XX!G673","v":0},{"$f":"+XX!T673","v":0},null,null,{"$f":"+XX!L673","v":0}]
["",{"$f":"+IF(XX!C674=\"\",\"\",XX!C674)","v":""},{"$f":"IF(B673=\"\",\"\",COUNTIFS($B$3:B673,B673))","v":""},{"$f":"IF(B673=\"\",\"\",LOOKUP(B673,DataFIX!$F$3:$F$21,DataFIX!$E$3:$E$21))","v":""},{"$f":"IF(B673=\"\",\"\",LOOKUP(B673,DataFIX!$F$3:$F$41,DataFIX!$G$3:$G$41)+C673)","v":""},{"$f":"+XX!O674","v":"00:00:00"},{"$f":"+XX!E674","v":0},{"$f":"+XX!G674","v":0},{"$f":"+XX!T674","v":0},null,null,{"$f":"+XX!L674","v":0}]
["",{"$f":"+IF(XX!C675=\"\",\"\",XX!C675)","v":""},{"$f":"IF(B674=\"\",\"\",COUNTIFS($B$3:B674,B674))","v":""},{"$f":"IF(B674=\"\",\"\",LOOKUP(B674,DataFIX!$F$3:$F$21,DataFIX!$E$3:$E$21))","v":""},{"$f":"IF(B674=\"\",\"\",LOOKUP(B674,DataFIX!$F$3:$F$41,DataFIX!$G$3:$G$41)+C674)","v":""},{"$f":"+XX!O675","v":"00:00:00"},{"$f":"+XX!E675","v":0},{"$f":"+XX!G675","v":0},{"$f":"+XX!T675","v":0},null,null,{"$f":"+XX!L675","v":0}]
["",{"$f":"+IF(XX!C676=\"\",\"\",XX!C676)","v":""},{"$f":"IF(B675=\"\",\"\",COUNTIFS($B$3:B675,B675))","v":""},{"$f":"IF(B675=\"\",\"\",LOOKUP(B675,DataFIX!$F$3:$F$21,DataFIX!$E$3:$E$21))","v":""},{"$f":"IF(B675=\"\",\"\",LOOKUP(B675,DataFIX!$F$3:$F$41,DataFIX!$G$3:$G$41)+C675)","v":""},{"$f":"+XX!O676","v":"00:00:00"},{"$f":"+XX!E676","v":0},{"$f":"+XX!G676","v":0},{"$f":"+XX!T676","v":0},null,null,{"$f":"+XX!L676","v":0}]
["",{"$f":"+IF(XX!C677=\"\",\"\",XX!C677)","v":""},{"$f":"IF(B676=\"\",\"\",COUNTIFS($B$3:B676,B676))","v":""},{"$f":"IF(B676=\"\",\"\",LOOKUP(B676,DataFIX!$F$3:$F$21,DataFIX!$E$3:$E$21))","v":""},{"$f":"IF(B676=\"\",\"\",LOOKUP(B676,DataFIX!$F$3:$F$41,DataFIX!$G$3:$G$41)+C676)","v":""},{"$f":"+XX!O677","v":"00:00:00"},{"$f":"+XX!E677","v":0},{"$f":"+XX!G677","v":0},{"$f":"+XX!T677","v":0},null,null,{"$f":"+XX!L677","v":0}]
["",{"$f":"+IF(XX!C678=\"\",\"\",XX!C678)","v":""},{"$f":"IF(B677=\"\",\"\",COUNTIFS($B$3:B677,B677))","v":""},{"$f":"IF(B677=\"\",\"\",LOOKUP(B677,DataFIX!$F$3:$F$21,DataFIX!$E$3:$E$21))","v":""},{"$f":"IF(B677=\"\",\"\",LOOKUP(B677,DataFIX!$F$3:$F$41,DataFIX!$G$3:$G$41)+C677)","v":""},{"$f":"+XX!O678","v":"00:00:00"},{"$f":"+XX!E678","v":0},{"$f":"+XX!G678","v":0},{"$f":"+XX!T678","v":0},null,null,{"$f":"+XX!L678","v":0}]
["",{"$f":"+IF(XX!C679=\"\",\"\",XX!C679)","v":""},{"$f":"IF(B678=\"\",\"\",COUNTIFS($B$3:B678,B678))","v":""},{"$f":"IF(B678=\"\",\"\",LOOKUP(B678,DataFIX!$F$3:$F$21,DataFIX!$E$3:$E$21))","v":""},{"$f":"IF(B678=\"\",\"\",LOOKUP(B678,DataFIX!$F$3:$F$41,DataFIX!$G$3:$G$41)+C678)","v":""},{"$f":"+XX!O679","v":"00:00:00"},{"$f":"+XX!E679","v":0},{"$f":"+XX!G679","v":0},{"$f":"+XX!T679","v":0},null,null,{"$f":"+XX!L679","v":0}]
["",{"$f":"+IF(XX!C680=\"\",\"\",XX!C680)","v":""},{"$f":"IF(B679=\"\",\"\",COUNTIFS($B$3:B679,B679))","v":""},{"$f":"IF(B679=\"\",\"\",LOOKUP(B679,DataFIX!$F$3:$F$21,DataFIX!$E$3:$E$21))","v":""},{"$f":"IF(B679=\"\",\"\",LOOKUP(B679,DataFIX!$F$3:$F$41,DataFIX!$G$3:$G$41)+C679)","v":""},{"$f":"+XX!O680","v":"00:00:00"},{"$f":"+XX!E680","v":0},{"$f":"+XX!G680","v":0},{"$f":"+XX!T680","v":0},null,null,{"$f":"+XX!L680","v":0}]
["",{"$f":"+IF(XX!C681=\"\",\"\",XX!C681)","v":""},{"$f":"IF(B680=\"\",\"\",COUNTIFS($B$3:B680,B680))","v":""},{"$f":"IF(B680=\"\",\"\",LOOKUP(B680,DataFIX!$F$3:$F$21,DataFIX!$E$3:$E$21))","v":""},{"$f":"IF(B680=\"\",\"\",LOOKUP(B680,DataFIX!$F$3:$F$41,DataFIX!$G$3:$G$41)+C680)","v":""},{"$f":"+XX!O681","v":"00:00:00"},{"$f":"+XX!E681","v":0},{"$f":"+XX!G681","v":0},{"$f":"+XX!T681","v":0},null,null,{"$f":"+XX!L681","v":0}]
["",{"$f":"+IF(XX!C682=\"\",\"\",XX!C682)","v":""},{"$f":"IF(B681=\"\",\"\",COUNTIFS($B$3:B681,B681))","v":""},{"$f":"IF(B681=\"\",\"\",LOOKUP(B681,DataFIX!$F$3:$F$21,DataFIX!$E$3:$E$21))","v":""},{"$f":"IF(B681=\"\",\"\",LOOKUP(B681,DataFIX!$F$3:$F$41,DataFIX!$G$3:$G$41)+C681)","v":""},{"$f":"+XX!O682","v":"00:00:00"},{"$f":"+XX!E682","v":0},{"$f":"+XX!G682","v":0},{"$f":"+XX!T682","v":0},null,null,{"$f":"+XX!L682","v":0}]
["",{"$f":"+IF(XX!C683=\"\",\"\",XX!C683)","v":""},{"$f":"IF(B682=\"\",\"\",COUNTIFS($B$3:B682,B682))","v":""},{"$f":"IF(B682=\"\",\"\",LOOKUP(B682,DataFIX!$F$3:$F$21,DataFIX!$E$3:$E$21))","v":""},{"$f":"IF(B682=\"\",\"\",LOOKUP(B682,DataFIX!$F$3:$F$41,DataFIX!$G$3:$G$41)+C682)","v":""},{"$f":"+XX!O683","v":"00:00:00"},{"$f":"+XX!E683","v":0},{"$f":"+XX!G683","v":0},{"$f":"+XX!T683","v":0},null,null,{"$f":"+XX!L683","v":0}]
["",{"$f":"+IF(XX!C684=\"\",\"\",XX!C684)","v":""},{"$f":"IF(B683=\"\",\"\",COUNTIFS($B$3:B683,B683))","v":""},{"$f":"IF(B683=\"\",\"\",LOOKUP(B683,DataFIX!$F$3:$F$21,DataFIX!$E$3:$E$21))","v":""},{"$f":"IF(B683=\"\",\"\",LOOKUP(B683,DataFIX!$F$3:$F$41,DataFIX!$G$3:$G$41)+C683)","v":""},{"$f":"+XX!O684","v":"00:00:00"},{"$f":"+XX!E684","v":0},{"$f":"+XX!G684","v":0},{"$f":"+XX!T684","v":0},null,null,{"$f":"+XX!L684","v":0}]
["",{"$f":"+IF(XX!C685=\"\",\"\",XX!C685)","v":""},{"$f":"IF(B684=\"\",\"\",COUNTIFS($B$3:B684,B684))","v":""},{"$f":"IF(B684=\"\",\"\",LOOKUP(B684,DataFIX!$F$3:$F$21,DataFIX!$E$3:$E$21))","v":""},{"$f":"IF(B684=\"\",\"\",LOOKUP(B684,DataFIX!$F$3:$F$41,DataFIX!$G$3:$G$41)+C684)","v":""},{"$f":"+XX!O685","v":"00:00:00"},{"$f":"+XX!E685","v":0},{"$f":"+XX!G685","v":0},{"$f":"+XX!T685","v":0},null,null,{"$f":"+XX!L685","v":0}]
["",{"$f":"+IF(XX!C686=\"\",\"\",XX!C686)","v":""},{"$f":"IF(B685=\"\",\"\",COUNTIFS($B$3:B685,B685))","v":""},{"$f":"IF(B685=\"\",\"\",LOOKUP(B685,DataFIX!$F$3:$F$21,DataFIX!$E$3:$E$21))","v":""},{"$f":"IF(B685=\"\",\"\",LOOKUP(B685,DataFIX!$F$3:$F$41,DataFIX!$G$3:$G$41)+C685)","v":""},{"$f":"+XX!O686","v":"00:00:00"},{"$f":"+XX!E686","v":0},{"$f":"+XX!G686","v":0},{"$f":"+XX!T686","v":0},null,null,{"$f":"+XX!L686","v":0}]
["",{"$f":"+IF(XX!C687=\"\",\"\",XX!C687)","v":""},{"$f":"IF(B686=\"\",\"\",COUNTIFS($B$3:B686,B686))","v":""},{"$f":"IF(B686=\"\",\"\",LOOKUP(B686,DataFIX!$F$3:$F$21,DataFIX!$E$3:$E$21))","v":""},{"$f":"IF(B686=\"\",\"\",LOOKUP(B686,DataFIX!$F$3:$F$41,DataFIX!$G$3:$G$41)+C686)","v":""},{"$f":"+XX!O687","v":"00:00:00"},{"$f":"+XX!E687","v":0},{"$f":"+XX!G687","v":0},{"$f":"+XX!T687","v":0},null,null,{"$f":"+XX!L687","v":0}]
["",{"$f":"+IF(XX!C688=\"\",\"\",XX!C688)","v":""},{"$f":"IF(B687=\"\",\"\",COUNTIFS($B$3:B687,B687))","v":""},{"$f":"IF(B687=\"\",\"\",LOOKUP(B687,DataFIX!$F$3:$F$21,DataFIX!$E$3:$E$21))","v":""},{"$f":"IF(B687=\"\",\"\",LOOKUP(B687,DataFIX!$F$3:$F$41,DataFIX!$G$3:$G$41)+C687)","v":""},{"$f":"+XX!O688","v":"00:00:00"},{"$f":"+XX!E688","v":0},{"$f":"+XX!G688","v":0},{"$f":"+XX!T688","v":0},null,null,{"$f":"+XX!L688","v":0}]
["",{"$f":"+IF(XX!C689=\"\",\"\",XX!C689)","v":""},{"$f":"IF(B688=\"\",\"\",COUNTIFS($B$3:B688,B688))","v":""},{"$f":"IF(B688=\"\",\"\",LOOKUP(B688,DataFIX!$F$3:$F$21,DataFIX!$E$3:$E$21))","v":""},{"$f":"IF(B688=\"\",\"\",LOOKUP(B688,DataFIX!$F$3:$F$41,DataFIX!$G$3:$G$41)+C688)","v":""},{"$f":"+XX!O689","v":"00:00:00"},{"$f":"+XX!E689","v":0},{"$f":"+XX!G689","v":0},{"$f":"+XX!T689","v":0},null,null,{"$f":"+XX!L689","v":0}]
["",{"$f":"+IF(XX!C690=\"\",\"\",XX!C690)","v":""},{"$f":"IF(B689=\"\",\"\",COUNTIFS($B$3:B689,B689))","v":""},{"$f":"IF(B689=\"\",\"\",LOOKUP(B689,DataFIX!$F$3:$F$21,DataFIX!$E$3:$E$21))","v":""},{"$f":"IF(B689=\"\",\"\",LOOKUP(B689,DataFIX!$F$3:$F$41,DataFIX!$G$3:$G$41)+C689)","v":""},{"$f":"+XX!O690","v":"00:00:00"},{"$f":"+XX!E690","v":0},{"$f":"+XX!G690","v":0},{"$f":"+XX!T690","v":0},null,null,{"$f":"+XX!L690","v":0}]
["",{"$f":"+IF(XX!C691=\"\",\"\",XX!C691)","v":""},{"$f":"IF(B690=\"\",\"\",COUNTIFS($B$3:B690,B690))","v":""},{"$f":"IF(B690=\"\",\"\",LOOKUP(B690,DataFIX!$F$3:$F$21,DataFIX!$E$3:$E$21))","v":""},{"$f":"IF(B690=\"\",\"\",LOOKUP(B690,DataFIX!$F$3:$F$41,DataFIX!$G$3:$G$41)+C690)","v":""},{"$f":"+XX!O691","v":"00:00:00"},{"$f":"+XX!E691","v":0},{"$f":"+XX!G691","v":0},{"$f":"+XX!T691","v":0},null,null,{"$f":"+XX!L691","v":0}]
["",{"$f":"+IF(XX!C692=\"\",\"\",XX!C692)","v":""},{"$f":"IF(B691=\"\",\"\",COUNTIFS($B$3:B691,B691))","v":""},{"$f":"IF(B691=\"\",\"\",LOOKUP(B691,DataFIX!$F$3:$F$21,DataFIX!$E$3:$E$21))","v":""},{"$f":"IF(B691=\"\",\"\",LOOKUP(B691,DataFIX!$F$3:$F$41,DataFIX!$G$3:$G$41)+C691)","v":""},{"$f":"+XX!O692","v":"00:00:00"},{"$f":"+XX!E692","v":0},{"$f":"+XX!G692","v":0},{"$f":"+XX!T692","v":0},null,null,{"$f":"+XX!L692","v":0}]
["",{"$f":"+IF(XX!C693=\"\",\"\",XX!C693)","v":""},{"$f":"IF(B692=\"\",\"\",COUNTIFS($B$3:B692,B692))","v":""},{"$f":"IF(B692=\"\",\"\",LOOKUP(B692,DataFIX!$F$3:$F$21,DataFIX!$E$3:$E$21))","v":""},{"$f":"IF(B692=\"\",\"\",LOOKUP(B692,DataFIX!$F$3:$F$41,DataFIX!$G$3:$G$41)+C692)","v":""},{"$f":"+XX!O693","v":"00:00:00"},{"$f":"+XX!E693","v":0},{"$f":"+XX!G693","v":0},{"$f":"+XX!T693","v":0},null,null,{"$f":"+XX!L693","v":0}]
["",{"$f":"+IF(XX!C694=\"\",\"\",XX!C694)","v":""},{"$f":"IF(B693=\"\",\"\",COUNTIFS($B$3:B693,B693))","v":""},{"$f":"IF(B693=\"\",\"\",LOOKUP(B693,DataFIX!$F$3:$F$21,DataFIX!$E$3:$E$21))","v":""},{"$f":"IF(B693=\"\",\"\",LOOKUP(B693,DataFIX!$F$3:$F$41,DataFIX!$G$3:$G$41)+C693)","v":""},{"$f":"+XX!O694","v":"00:00:00"},{"$f":"+XX!E694","v":0},{"$f":"+XX!G694","v":0},{"$f":"+XX!T694","v":0},null,null,{"$f":"+XX!L694","v":0}]
["",{"$f":"+IF(XX!C695=\"\",\"\",XX!C695)","v":""},{"$f":"IF(B694=\"\",\"\",COUNTIFS($B$3:B694,B694))","v":""},{"$f":"IF(B694=\"\",\"\",LOOKUP(B694,DataFIX!$F$3:$F$21,DataFIX!$E$3:$E$21))","v":""},{"$f":"IF(B694=\"\",\"\",LOOKUP(B694,DataFIX!$F$3:$F$41,DataFIX!$G$3:$G$41)+C694)","v":""},{"$f":"+XX!O695","v":"00:00:00"},{"$f":"+XX!E695","v":0},{"$f":"+XX!G695","v":0},{"$f":"+XX!T695","v":0},null,null,{"$f":"+XX!L695","v":0}]
["",{"$f":"+IF(XX!C696=\"\",\"\",XX!C696)","v":""},{"$f":"IF(B695=\"\",\"\",COUNTIFS($B$3:B695,B695))","v":""},{"$f":"IF(B695=\"\",\"\",LOOKUP(B695,DataFIX!$F$3:$F$21,DataFIX!$E$3:$E$21))","v":""},{"$f":"IF(B695=\"\",\"\",LOOKUP(B695,DataFIX!$F$3:$F$41,DataFIX!$G$3:$G$41)+C695)","v":""},{"$f":"+XX!O696","v":"00:00:00"},{"$f":"+XX!E696","v":0},{"$f":"+XX!G696","v":0},{"$f":"+XX!T696","v":0},null,null,{"$f":"+XX!L696","v":0}]
["",{"$f":"+IF(XX!C697=\"\",\"\",XX!C697)","v":""},{"$f":"IF(B696=\"\",\"\",COUNTIFS($B$3:B696,B696))","v":""},{"$f":"IF(B696=\"\",\"\",LOOKUP(B696,DataFIX!$F$3:$F$21,DataFIX!$E$3:$E$21))","v":""},{"$f":"IF(B696=\"\",\"\",LOOKUP(B696,DataFIX!$F$3:$F$41,DataFIX!$G$3:$G$41)+C696)","v":""},{"$f":"+XX!O697","v":"00:00:00"},{"$f":"+XX!E697","v":0},{"$f":"+XX!G697","v":0},{"$f":"+XX!T697","v":0},null,null,{"$f":"+XX!L697","v":0}]
["",{"$f":"+IF(XX!C698=\"\",\"\",XX!C698)","v":""},{"$f":"IF(B697=\"\",\"\",COUNTIFS($B$3:B697,B697))","v":""},{"$f":"IF(B697=\"\",\"\",LOOKUP(B697,DataFIX!$F$3:$F$21,DataFIX!$E$3:$E$21))","v":""},{"$f":"IF(B697=\"\",\"\",LOOKUP(B697,DataFIX!$F$3:$F$41,DataFIX!$G$3:$G$41)+C697)","v":""},{"$f":"+XX!O698","v":"00:00:00"},{"$f":"+XX!E698","v":0},{"$f":"+XX!G698","v":0},{"$f":"+XX!T698","v":0},null,null,{"$f":"+XX!L698","v":0}]
["",{"$f":"+IF(XX!C699=\"\",\"\",XX!C699)","v":""},{"$f":"IF(B698=\"\",\"\",COUNTIFS($B$3:B698,B698))","v":""},{"$f":"IF(B698=\"\",\"\",LOOKUP(B698,DataFIX!$F$3:$F$21,DataFIX!$E$3:$E$21))","v":""},{"$f":"IF(B698=\"\",\"\",LOOKUP(B698,DataFIX!$F$3:$F$41,DataFIX!$G$3:$G$41)+C698)","v":""},{"$f":"+XX!O699","v":"00:00:00"},{"$f":"+XX!E699","v":0},{"$f":"+XX!G699","v":0},{"$f":"+XX!T699","v":0},null,null,{"$f":"+XX!L699","v":0}]
["",{"$f":"+IF(XX!C700=\"\",\"\",XX!C700)","v":""},{"$f":"IF(B699=\"\",\"\",COUNTIFS($B$3:B699,B699))","v":""},{"$f":"IF(B699=\"\",\"\",LOOKUP(B699,DataFIX!$F$3:$F$21,DataFIX!$E$3:$E$21))","v":""},{"$f":"IF(B699=\"\",\"\",LOOKUP(B699,DataFIX!$F$3:$F$41,DataFIX!$G$3:$G$41)+C699)","v":""},{"$f":"+XX!O700","v":"00:00:00"},{"$f":"+XX!E700","v":0},{"$f":"+XX!G700","v":0},{"$f":"+XX!T700","v":0},null,null,{"$f":"+XX!L700","v":0}]