{"text_format":"1","workbook":"xlsx","n_sheets":1,"sheets":["List1"],"not_rendered":{"charts":0,"images":0,"macros":1,"external_links":1,"defined_names":0,"comments":0,"pivot_tables":0},"unopened":[],"bounds":{"document_bytes":16777216,"sheet_cells":100000,"rows_first":2000,"rows_last":500,"rows_between":2000,"halvings":0,"cell_chars":16384,"cell_head_chars":4096},"cells_cut":0,"cells_raw":0,"read":"whole","date_system":"1900"}

{"sheet":"List1","index":0,"n_rows":55,"n_cols":9,"rows_kept":55,"cut":false,"hidden":false,"merged":[[0,0,0,3],[0,5,0,8],[1,5,2,5],[54,4,54,9],[54,0,54,1]]}
["Náhled všech",null,null,null,null,"Skutečně odeslat"]
["Zbývá celkem","Datum","Pneu","Ráfky","Vybrané dny","Datum","Pneu","Ráfky","Celkem:"]
[{"$f":"SUM(C3,D3)","v":214203},"Celkem",{"$f":"SUBTOTAL(109,C4:C340)","v":7416},{"$f":"SUBTOTAL(109,D4:D340)","v":206787},"(zadej 1)",null,{"$f":"SUBTOTAL(109,G4:G340)","v":19244},86498,{"$f":"SUBTOTAL(109,I4:I340)","v":105742}]
[{"$f":"WEEKDAY(B4,1)","v":"1900-01-02"},"2021-02-01",{"$f":"[1]Denní!F6","v":8108},{"$f":"[1]Denní!G6","v":17468},1,"2021-02-01",{"$f":"SUMIF(E4,\">0\",C4)","v":8108},{"$f":"SUMIF(E4,\">0\",D4)","v":17468},{"$f":"H4+G4","v":25576}]
["1900-01-03","2021-02-02",{"$f":"[1]Denní!F7","v":4299},{"$f":"[1]Denní!G7","v":11968},1,"2021-02-02",4299,11968,16267]
["1900-01-04","2021-02-03",{"$f":"[1]Denní!F8","v":10055},{"$f":"[1]Denní!G8","v":5104},1,"2021-02-03",10055,5104,15159]
["1900-01-05","2021-02-04",{"$f":"[1]Denní!F9","v":8625},{"$f":"[1]Denní!G9","v":11399},1,"2021-02-04",8625,11399,20024]
["1900-01-06","2021-02-05",{"$f":"[1]Denní!F10","v":4124},{"$f":"[1]Denní!G10","v":6936},1,"2021-02-05",4124,6936,11060]
["1900-01-07","2021-02-06",{"$f":"[1]Denní!F11","v":9209},{"$f":"[1]Denní!G11","v":54968},1,"2021-02-06",9209,54968,64177]
["1900-01-01","2021-02-07",{"$f":"[1]Denní!F12","v":519},{"$f":"[1]Denní!G12","v":0},1,"2021-02-07",519,0,519]
["1900-01-02","2021-02-08",{"$f":"[1]Denní!F13","v":14049},{"$f":"[1]Denní!G13","v":6936},1,"2021-02-08",14049,6936,20985]
["1900-01-03","2021-02-09",{"$f":"[1]Denní!F14","v":-2549},{"$f":"[1]Denní!G14","v":-1968},1,"2021-02-09",-2549,-1968,-4517]
["1900-01-04","2021-02-10",{"$f":"[1]Denní!F15","v":8566},{"$f":"[1]Denní!G15","v":13904},1,"2021-02-10",8566,13904,22470]
["1900-01-05","2021-02-11",{"$f":"[1]Denní!F16","v":4086},{"$f":"[1]Denní!G16","v":3000},1,"2021-02-11",4086,3000,7086]
["1900-01-06","2021-02-12",{"$f":"[1]Denní!F17","v":13176},{"$f":"[1]Denní!G17","v":15104},1,"2021-02-12",13176,15104,28280]
["1900-01-07","2021-02-13",{"$f":"[1]Denní!F18","v":-5381},{"$f":"[1]Denní!G18","v":45000},1,"2021-02-13",-5381,45000,39619]
["1900-01-01","2021-02-14",{"$f":"[1]Denní!F19","v":20478},{"$f":"[1]Denní!G19","v":3000},1,"2021-02-14",20478,3000,23478]
["1900-01-02","2021-02-15",{"$f":"[1]Denní!F20","v":17364},{"$f":"[1]Denní!G20","v":489},1,"2021-02-15",17364,489,17853]
["1900-01-03","2021-02-16",{"$f":"[1]Denní!F21","v":-1185},{"$f":"[1]Denní!G21","v":0},1,"2021-02-16",-1185,0,-1185]
["1900-01-04","2021-02-17",{"$f":"[1]Denní!F22","v":11014},{"$f":"[1]Denní!G22","v":20808},1,"2021-02-17",11014,20808,31822]
["1900-01-05","2021-02-18",{"$f":"[1]Denní!F23","v":-8441},{"$f":"[1]Denní!G23","v":15911},1,"2021-02-18",-8441,15911,7470]
["1900-01-06","2021-02-19",{"$f":"[1]Denní!F24","v":-6459},{"$f":"[1]Denní!G24","v":8404},1,"2021-02-19",-6459,8404,1945]
["1900-01-07","2021-02-20",{"$f":"[1]Denní!F25","v":-6390},{"$f":"[1]Denní!G25","v":53000},1,"2021-02-20",-6390,53000,46610]
["1900-01-01","2021-02-21",{"$f":"[1]Denní!F26","v":-4852},{"$f":"[1]Denní!G26","v":0},1,"2021-02-21",-4852,0,-4852]
["1900-01-02","2021-02-22",{"$f":"[1]Denní!F27","v":6323},{"$f":"[1]Denní!G27","v":-3481},1,"2021-02-22",6323,-3481,2842]
["1900-01-03","2021-02-23",{"$f":"[1]Denní!F28","v":-6590},{"$f":"[1]Denní!G28","v":5968},1,"2021-02-23",-6590,5968,-622]
["1900-01-04","2021-02-24",{"$f":"[1]Denní!F29","v":-526},{"$f":"[1]Denní!G29","v":7332},1,"2021-02-24",-526,7332,6806]
["1900-01-05","2021-02-25",{"$f":"[1]Denní!F30","v":18828},{"$f":"[1]Denní!G30","v":16936},1,"2021-02-25",18828,16936,35764]
["1900-01-06","2021-02-26",{"$f":"[1]Denní!F31","v":11606},{"$f":"[1]Denní!G31","v":19071},1,"2021-02-26",11606,19071,30677]
["1900-01-07","2021-02-27",{"$f":"[1]Denní!F32","v":3497},{"$f":"[1]Denní!G32","v":60000},1,"2021-02-27",3497,60000,63497]
["1900-01-01","2021-02-28",{"$f":"[1]Denní!F33","v":6835},{"$f":"[1]Denní!G33","v":0},1,"2021-02-28",6835,0,6835]
["1900-01-02","2021-03-01",{"$f":"[1]Denní!F34","v":635},{"$f":"[1]Denní!G34","v":0},1,"2021-03-01",635,0,635]
["1900-01-03","2021-03-02",{"$f":"[1]Denní!F35","v":6604},{"$f":"[1]Denní!G35","v":-1435},1,"2021-03-02",6604,-1435,5169]
["1900-01-04","2021-03-03",{"$f":"[1]Denní!F36","v":19},{"$f":"[1]Denní!G36","v":10936},1,"2021-03-03",19,10936,10955]
["1900-01-05","2021-03-04",{"$f":"[1]Denní!F37","v":7735},{"$f":"[1]Denní!G37","v":4000},1,"2021-03-04",7735,4000,11735]
["1900-01-06","2021-03-05",{"$f":"[1]Denní!F38","v":15884},{"$f":"[1]Denní!G38","v":20340},1,"2021-03-05",15884,20340,36224]
["1900-01-07","2021-03-06",{"$f":"[1]Denní!F39","v":-1166},{"$f":"[1]Denní!G39","v":63593},1,"2021-03-06",-1166,63593,62427]
["1900-01-01","2021-03-07",{"$f":"[1]Denní!F40","v":-9813},{"$f":"[1]Denní!G40","v":0},1,"2021-03-07",-9813,0,-9813]
["1900-01-02","2021-03-08",{"$f":"[1]Denní!F41","v":-5206},{"$f":"[1]Denní!G41","v":6468},null,"2021-03-08",0,0,0]
["1900-01-03","2021-03-09",{"$f":"[1]Denní!F42","v":5611},{"$f":"[1]Denní!G42","v":8436},null,"2021-03-09",0,0,0]
["1900-01-04","2021-03-10",{"$f":"[1]Denní!F43","v":-9515},{"$f":"[1]Denní!G43","v":32072},null,"2021-03-10",0,0,0]
["1900-01-05","2021-03-11",{"$f":"[1]Denní!F44","v":100},{"$f":"[1]Denní!G44","v":3500},null,"2021-03-11",0,0,0]
["1900-01-06","2021-03-12",{"$f":"[1]Denní!F45","v":-1538},{"$f":"[1]Denní!G45","v":69813},null,"2021-03-12",0,0,{"$f":"H43+G43","v":0}]
["1900-01-07","2021-03-13",{"$f":"[1]Denní!F46","v":1713},{"$f":"[1]Denní!G46","v":0},null,"2021-03-13",{"$f":"SUMIF(E44,\">0\",C44:D44)","v":0},0,{"$f":"H44+G44","v":0}]
["1900-01-01","2021-03-14",{"$f":"[1]Denní!F47","v":-2993},{"$f":"[1]Denní!G47","v":0},null,"2021-03-14",0,0,0]
["1900-01-02","2021-03-15",{"$f":"[1]Denní!F48","v":0},{"$f":"[1]Denní!G48","v":0},null,"2021-03-15",0,0,0]
["1900-01-03","2021-03-16",{"$f":"[1]Denní!F49","v":0},{"$f":"[1]Denní!G49","v":0},null,"2021-03-16",0,0,0]
["1900-01-04","2021-03-17",{"$f":"[1]Denní!F50","v":0},{"$f":"[1]Denní!G50","v":0},null,"2021-03-17",0,0,0]
["1900-01-05","2021-03-18",{"$f":"[1]Denní!F51","v":0},{"$f":"[1]Denní!G51","v":0},null,"2021-03-18",0,0,0]
["1900-01-06","2021-03-19",{"$f":"[1]Denní!F52","v":0},{"$f":"[1]Denní!G52","v":0},null,"2021-03-19",0,0,0]
["1900-01-07","2021-03-20",{"$f":"[1]Denní!F53","v":0},{"$f":"[1]Denní!G53","v":0},null,"2021-03-20",0,0,0]
[]
[]
[]
["Skryté řádky neposílat!",null,null,null,"POKUD BUDE někde ve sloupci E4:E51 hodnota 1, Vyber oblast a tu odešli mailem"]