{"text_format":"1","workbook":"xlsx","n_sheets":6,"sheets":["CZ_2020-10","Input_CZ","List2","List1","List_CZ","Sheet1"],"not_rendered":{"charts":0,"images":0,"macros":1,"external_links":1,"defined_names":4,"comments":2,"pivot_tables":0},"unopened":[],"bounds":{"document_bytes":16777216,"sheet_cells":100000,"rows_first":2000,"rows_last":500,"rows_between":2000,"halvings":0,"cell_chars":16384,"cell_head_chars":4096},"cells_cut":0,"cells_raw":0,"read":"whole","date_system":"1900"}

{"sheet":"CZ_2020-10","index":0,"n_rows":613,"n_cols":8,"rows_kept":613,"cut":false,"hidden":true,"merged":[]}
[{"$f":"'[1]Základní data-kombinace'!C1","v":"EAN"},{"$f":"'[1]Základní data-kombinace'!D1","v":"Demos product name"},{"$f":"'[1]Základní data-kombinace'!E1","v":"Competitor"},{"$f":"CONCATENATE(B1,\"_\",C1)","v":"Demos product name_Competitor"},{"$f":"'[1]Základní data-kombinace'!F1","v":"Market"},{"$f":"'[1]Základní data-kombinace'!G1","v":"Period"},"ZC","Partner price"]
[{"$f":"CONCATENATE(VLOOKUP(C2,[1]Seznamy!$Q$2:$R$36,2,0),VLOOKUP(B2,[1]Produkty!$I:$O,7,0),E2,F2)","v":"10130CZ44105"},{"$f":"[1]Produkty!$I$31","v":"ABSB 77039/414 W980/500/W954 ST2 23/2"},{"$f":"[1]Seznamy!$Q$2","v":"_Demos"},{"$f":"CONCATENATE(B2,\"_\",C2)","v":"ABSB 77039/414 W980/500/W954 ST2 23/2__Demos"},"CZ","2020-10-01",14.23138,14.23138]
[{"$f":"CONCATENATE(VLOOKUP(C3,[1]Seznamy!$Q$2:$R$36,2,0),VLOOKUP(B3,[1]Produkty!$I:$O,7,0),E3,F3)","v":"10129CZ44105"},{"$f":"[1]Produkty!$I$30","v":"ABSB HU10113 Bílá 101/110/113/8100/8685/W954/B3822 PE 22/2"},{"$f":"[1]Seznamy!$Q$2","v":"_Demos"},null,"CZ","2020-10-01",12.2484,12.2484]
[{"$f":"CONCATENATE(VLOOKUP(C4,[1]Seznamy!$Q$2:$R$36,2,0),VLOOKUP(B4,[1]Produkty!$I:$O,7,0),E4,F4)","v":"10132CZ44105"},{"$f":"[1]Produkty!$I$33","v":"Alfa II profile 222788"},{"$f":"[1]Seznamy!$Q$2","v":"_Demos"},null,"CZ","2020-10-01","x","x"]
[{"$f":"CONCATENATE(VLOOKUP(C5,[1]Seznamy!$Q$2:$R$36,2,0),VLOOKUP(B5,[1]Produkty!$I:$O,7,0),E5,F5)","v":"1019CZ44105"},{"$f":"[1]Produkty!$I$10","v":"BBP OA Zásuvka 515 mm kovová černá"},{"$f":"[1]Seznamy!$Q$2","v":"_Demos"},null,"CZ","2020-10-01",260.55493999999999,181.70441786209315]
[{"$f":"CONCATENATE(VLOOKUP(C6,[1]Seznamy!$Q$2:$R$36,2,0),VLOOKUP(B6,[1]Produkty!$I:$O,7,0),E6,F6)","v":"10127CZ44105"},{"$f":"[1]Produkty!$I$28","v":"DTDD DUB COMMERCIAL A/B DEC 2800/2070/19"},{"$f":"[1]Seznamy!$Q$2","v":"_Demos"},null,"CZ","2020-10-01",3053.0362700000001,3053.0362700000001]
[{"$f":"CONCATENATE(VLOOKUP(C7,[1]Seznamy!$Q$2:$R$36,2,0),VLOOKUP(B7,[1]Produkty!$I:$O,7,0),E7,F7)","v":"10128CZ44105"},{"$f":"[1]Produkty!$I$29","v":"DTDD Dub evr. radiál st A/B 2800/2070/19"},{"$f":"[1]Seznamy!$Q$2","v":"_Demos"},null,"CZ","2020-10-01",3178.0189700000001,3178.0189700000001]
[{"$f":"CONCATENATE(VLOOKUP(C8,[1]Seznamy!$Q$2:$R$36,2,0),VLOOKUP(B8,[1]Produkty!$I:$O,7,0),E8,F8)","v":"10126CZ44105"},{"$f":"[1]Produkty!$I$27","v":"DTDL W980 ST2 Platinově bílá 2800/2070/18"},{"$f":"[1]Seznamy!$Q$2","v":"_Demos"},null,"CZ","2020-10-01",1506.2320199999999,1506.2320199999999]
[{"$f":"CONCATENATE(VLOOKUP(C9,[1]Seznamy!$Q$2:$R$36,2,0),VLOOKUP(B9,[1]Produkty!$I:$O,7,0),E9,F9)","v":"10111CZ44105"},{"$f":"[1]Produkty!$I$12","v":"FRANKE Dřez BFG 611-78 780 x 500 onyx"},{"$f":"[1]Seznamy!$Q$2","v":"_Demos"},null,"CZ","2020-10-01",4599.9816000000001,3085.4831316224286]
[{"$f":"CONCATENATE(VLOOKUP(C10,[1]Seznamy!$Q$2:$R$36,2,0),VLOOKUP(B10,[1]Produkty!$I:$O,7,0),E10,F10)","v":"10114CZ44105"},{"$f":"[1]Produkty!$I$15","v":"FRANKE Dřez ETN 610 455 x 435"},{"$f":"[1]Seznamy!$Q$2","v":"_Demos"},null,"CZ","2020-10-01",1600,1564.1322834300358]
[{"$f":"CONCATENATE(VLOOKUP(C11,[1]Seznamy!$Q$2:$R$36,2,0),VLOOKUP(B11,[1]Produkty!$I:$O,7,0),E11,F11)","v":"10110CZ44105"},{"$f":"[1]Produkty!$I$11","v":"FRANKE Dřez ETN 614 6/4 obyčejný ventil bez otvoru"},{"$f":"[1]Seznamy!$Q$2","v":"_Demos"},null,"CZ","2020-10-01",1300,1275.1291594958755]
[{"$f":"CONCATENATE(VLOOKUP(C12,[1]Seznamy!$Q$2:$R$36,2,0),VLOOKUP(B12,[1]Produkty!$I:$O,7,0),E12,F12)","v":"10113CZ44105"},{"$f":"[1]Produkty!$I$14","v":"GOLLINUCCI Sorter 580 Plus Line, 600 mm, výška 505mm, 80 l, šedý"},{"$f":"[1]Seznamy!$Q$2","v":"_Demos"},null,"CZ","2020-10-01",4041.3555000000001,2981.5793180431592]
[{"$f":"CONCATENATE(VLOOKUP(C13,[1]Seznamy!$Q$2:$R$36,2,0),VLOOKUP(B13,[1]Produkty!$I:$O,7,0),E13,F13)","v":"10115CZ44105"},{"$f":"[1]Produkty!$I$16","v":"GOLLINUCCI Sorter Linea 222, 300 mm"},{"$f":"[1]Seznamy!$Q$2","v":"_Demos"},null,"CZ","2020-10-01",1376.7255,941.62060518098815]
[{"$f":"CONCATENATE(VLOOKUP(C14,[1]Seznamy!$Q$2:$R$36,2,0),VLOOKUP(B14,[1]Produkty!$I:$O,7,0),E14,F14)","v":"10112CZ44105"},{"$f":"[1]Produkty!$I$13","v":"GOLLINUCCI Sorter Sistema 901/2x16 l, 600 mm"},{"$f":"[1]Seznamy!$Q$2","v":"_Demos"},null,"CZ","2020-10-01",925.74,667.05128585756177]
[{"$f":"CONCATENATE(VLOOKUP(C15,[1]Seznamy!$Q$2:$R$36,2,0),VLOOKUP(B15,[1]Produkty!$I:$O,7,0),E15,F15)","v":"10131CZ44105"},{"$f":"[1]Produkty!$I$32","v":"HDF LAK 101 BÍLÁ PE 2800/2070/3"},{"$f":"[1]Seznamy!$Q$2","v":"_Demos"},null,"CZ","2020-10-01",411.73243000000002,411.73243000000002]
[{"$f":"CONCATENATE(VLOOKUP(C16,[1]Seznamy!$Q$2:$R$36,2,0),VLOOKUP(B16,[1]Produkty!$I:$O,7,0),E16,F16)","v":"10125CZ44105"},{"$f":"[1]Produkty!$I$26","v":"Konfirmát 7/50 zinek bílý bulk"},{"$f":"[1]Seznamy!$Q$2","v":"_Demos"},null,"CZ","2020-10-01",0.28999999999999998,0.23829825998294432]
[{"$f":"CONCATENATE(VLOOKUP(C17,[1]Seznamy!$Q$2:$R$36,2,0),VLOOKUP(B17,[1]Produkty!$I:$O,7,0),E17,F17)","v":"10133CZ44105"},{"$f":"[1]Produkty!$I$34","v":"SEVROLL Era úchytová lišta 18mm 2,70m stříbrná"},{"$f":"[1]Seznamy!$Q$2","v":"_Demos"},null,"CZ","2020-10-01","x","x"]
[{"$f":"CONCATENATE(VLOOKUP(C18,[1]Seznamy!$Q$2:$R$36,2,0),VLOOKUP(B18,[1]Produkty!$I:$O,7,0),E18,F18)","v":"10134CZ44105"},{"$f":"[1]Produkty!$I$35","v":"Strong electric socket, lift"},{"$f":"[1]Seznamy!$Q$2","v":"_Demos"},null,"CZ","2020-10-01",1008.8361,"x"]
[{"$f":"CONCATENATE(VLOOKUP(C19,[1]Seznamy!$Q$2:$R$36,2,0),VLOOKUP(B19,[1]Produkty!$I:$O,7,0),E19,F19)","v":"1018CZ44105"},{"$f":"[1]Produkty!$I$9","v":"STRONG Elektrická zásuvka 3x230V, francouzský typ, 265x130x68 mm stříbrná"},{"$f":"[1]Seznamy!$Q$2","v":"_Demos"},null,"CZ","2020-10-01",1152.549,885.87639972546322]
[{"$f":"CONCATENATE(VLOOKUP(C20,[1]Seznamy!$Q$2:$R$36,2,0),VLOOKUP(B20,[1]Produkty!$I:$O,7,0),E20,F20)","v":"10135CZ44105"},{"$f":"[1]Produkty!$I$36","v":"STRONG Elektricky stavitelná podnož černá RAL 9005 mat"},{"$f":"[1]Seznamy!$Q$2","v":"_Demos"},null,"CZ","2020-10-01",8255.8799999999992,"x"]
[{"$f":"CONCATENATE(VLOOKUP(C21,[1]Seznamy!$Q$2:$R$36,2,0),VLOOKUP(B21,[1]Produkty!$I:$O,7,0),E21,F21)","v":"10122CZ44105"},{"$f":"[1]Produkty!$I$23","v":"STRONG LED pásek 21,6W/m 24V bílá neutrální 210 LED/m"},{"$f":"[1]Seznamy!$Q$2","v":"_Demos"},null,"CZ","2020-10-01",109,107.34070082633562]
[{"$f":"CONCATENATE(VLOOKUP(C22,[1]Seznamy!$Q$2:$R$36,2,0),VLOOKUP(B22,[1]Produkty!$I:$O,7,0),E22,F22)","v":"1011CZ44105"},{"$f":"[1]Produkty!$I$2","v":"STRONG plus závěs naložený s tlumením, s excentrem, klipový"},{"$f":"[1]Seznamy!$Q$2","v":"_Demos"},null,"CZ","2020-10-01",38.88964,25.986057448]
[{"$f":"CONCATENATE(VLOOKUP(C23,[1]Seznamy!$Q$2:$R$36,2,0),VLOOKUP(B23,[1]Produkty!$I:$O,7,0),E23,F23)","v":"1016CZ44105"},{"$f":"[1]Produkty!$I$7","v":"STRONG Rektifikační nožka 100 mm"},{"$f":"[1]Seznamy!$Q$2","v":"_Demos"},null,"CZ","2020-10-01",6.8351499999999996,4.9041713898845058]
[{"$f":"CONCATENATE(VLOOKUP(C24,[1]Seznamy!$Q$2:$R$36,2,0),VLOOKUP(B24,[1]Produkty!$I:$O,7,0),E24,F24)","v":"1017CZ44105"},{"$f":"[1]Produkty!$I$8","v":"STRONG Stolová noha centrální 450x450 černá"},{"$f":"[1]Seznamy!$Q$2","v":"_Demos"},null,"CZ","2020-10-01",1914.16741,1341.5356292243516]
[{"$f":"CONCATENATE(VLOOKUP(C25,[1]Seznamy!$Q$2:$R$36,2,0),VLOOKUP(B25,[1]Produkty!$I:$O,7,0),E25,F25)","v":"10123CZ44105"},{"$f":"[1]Produkty!$I$24","v":"STRONG transformátor plochý LED 24V 100W"},{"$f":"[1]Seznamy!$Q$2","v":"_Demos"},null,"CZ","2020-10-01",551.20000000000005,400.48289234403506]
[{"$f":"CONCATENATE(VLOOKUP(C26,[1]Seznamy!$Q$2:$R$36,2,0),VLOOKUP(B26,[1]Produkty!$I:$O,7,0),E26,F26)","v":"1012CZ44105"},{"$f":"[1]Produkty!$I$3","v":"STRONG závěs naložený, slide on"},{"$f":"[1]Seznamy!$Q$2","v":"_Demos"},null,"CZ","2020-10-01",9.2685899999999997,5.4839947839698304]
[{"$f":"CONCATENATE(VLOOKUP(C27,[1]Seznamy!$Q$2:$R$36,2,0),VLOOKUP(B27,[1]Produkty!$I:$O,7,0),E27,F27)","v":"1013CZ44105"},{"$f":"[1]Produkty!$I$4","v":"StrongBox H86/500mm bílý"},{"$f":"[1]Seznamy!$Q$2","v":"_Demos"},null,"CZ","2020-10-01",638.83925999999997,365.57767052762392]
[{"$f":"CONCATENATE(VLOOKUP(C28,[1]Seznamy!$Q$2:$R$36,2,0),VLOOKUP(B28,[1]Produkty!$I:$O,7,0),E28,F28)","v":"1014CZ44105"},{"$f":"[1]Produkty!$I$5","v":"StrongMax 89/500 mm šedý (antracit)"},{"$f":"[1]Seznamy!$Q$2","v":"_Demos"},null,"CZ","2020-10-01",810.64499999999998,456.0723671899998]
[{"$f":"CONCATENATE(VLOOKUP(C29,[1]Seznamy!$Q$2:$R$36,2,0),VLOOKUP(B29,[1]Produkty!$I:$O,7,0),E29,F29)","v":"1015CZ44105"},{"$f":"[1]Produkty!$I$6","v":"StrongRide synchro 3D celovýsuv 500 mm s tlumením"},{"$f":"[1]Seznamy!$Q$2","v":"_Demos"},null,"CZ","2020-10-01",525.29489999999998,322.83533921726081]
[{"$f":"CONCATENATE(VLOOKUP(C30,[1]Seznamy!$Q$2:$R$36,2,0),VLOOKUP(B30,[1]Produkty!$I:$O,7,0),E30,F30)","v":"10136CZ44105"},{"$f":"[1]Produkty!$I$37","v":"TULIP Gola dvířkový J profil 4,1m eloxovaný hliník"},{"$f":"[1]Seznamy!$Q$2","v":"_Demos"},null,"CZ","2020-10-01","x","x"]
[{"$f":"CONCATENATE(VLOOKUP(C31,[1]Seznamy!$Q$2:$R$36,2,0),VLOOKUP(B31,[1]Produkty!$I:$O,7,0),E31,F31)","v":"10118CZ44105"},{"$f":"[1]Produkty!$I$19","v":"TULIP úchytka Anita 96 nikl matný + šroubky"},{"$f":"[1]Seznamy!$Q$2","v":"_Demos"},null,"CZ","2020-10-01",33.032130000000002,17.083927433342758]
[{"$f":"CONCATENATE(VLOOKUP(C32,[1]Seznamy!$Q$2:$R$36,2,0),VLOOKUP(B32,[1]Produkty!$I:$O,7,0),E32,F32)","v":"10121CZ44105"},{"$f":"[1]Produkty!$I$22","v":"TULIP Úchytka Lucata 160 černá matná"},{"$f":"[1]Seznamy!$Q$2","v":"_Demos"},null,"CZ","2020-10-01",86.351299999999995,60.842228657570438]
[{"$f":"CONCATENATE(VLOOKUP(C33,[1]Seznamy!$Q$2:$R$36,2,0),VLOOKUP(B33,[1]Produkty!$I:$O,7,0),E33,F33)","v":"10116CZ44105"},{"$f":"[1]Produkty!$I$17","v":"TULIP úchytka Nakana 128 chrom matný + šroubky"},{"$f":"[1]Seznamy!$Q$2","v":"_Demos"},null,"CZ","2020-10-01",106.05477,61.262686258683587]
[{"$f":"CONCATENATE(VLOOKUP(C34,[1]Seznamy!$Q$2:$R$36,2,0),VLOOKUP(B34,[1]Produkty!$I:$O,7,0),E34,F34)","v":"10117CZ44105"},{"$f":"[1]Produkty!$I$18","v":"TULIP úchytka Piombina 96 nikl matný + šroubky"},{"$f":"[1]Seznamy!$Q$2","v":"_Demos"},null,"CZ","2020-10-01",55.100020000000001,49.94765035622278]
[{"$f":"CONCATENATE(VLOOKUP(C35,[1]Seznamy!$Q$2:$R$36,2,0),VLOOKUP(B35,[1]Produkty!$I:$O,7,0),E35,F35)","v":"10120CZ44105"},{"$f":"[1]Produkty!$I$21","v":"TULIP Úchytka Ramara 596 imitace nerezi"},{"$f":"[1]Seznamy!$Q$2","v":"_Demos"},null,"CZ","2020-10-01",316.01927999999998,215.70900466727966]
[{"$f":"CONCATENATE(VLOOKUP(C36,[1]Seznamy!$Q$2:$R$36,2,0),VLOOKUP(B36,[1]Produkty!$I:$O,7,0),E36,F36)","v":"10119CZ44105"},{"$f":"[1]Produkty!$I$20","v":"TULIP věšák Lugo XL chrom matný + šroubky"},{"$f":"[1]Seznamy!$Q$2","v":"_Demos"},null,"CZ","2020-10-01",75.336079999999995,43.693561394981508]
[{"$f":"CONCATENATE(VLOOKUP(C37,[1]Seznamy!$Q$2:$R$36,2,0),VLOOKUP(B37,[1]Produkty!$I:$O,7,0),E37,F37)","v":"10124CZ44105"},{"$f":"[1]Produkty!$I$25","v":"Vrut PZ 4x18 zápustná hlava zinek bílý PZ2"},{"$f":"[1]Seznamy!$Q$2","v":"_Demos"},null,"CZ","2020-10-01",7.0000000000000007E-2,4.8726883252198268E-2]
[{"$f":"CONCATENATE(VLOOKUP(C38,[1]Seznamy!$Q$2:$R$36,2,0),VLOOKUP(B38,[1]Produkty!$I:$O,7,0),E38,F38)","v":"11530CZ44105"},{"$f":"[1]Produkty!$I$31","v":"ABSB 77039/414 W980/500/W954 ST2 23/2"},{"$f":"[1]Seznamy!$Q$16","v":"ARDEA"},null,"CZ","2020-10-01","x","x"]
[{"$f":"CONCATENATE(VLOOKUP(C39,[1]Seznamy!$Q$2:$R$36,2,0),VLOOKUP(B39,[1]Produkty!$I:$O,7,0),E39,F39)","v":"11529CZ44105"},{"$f":"[1]Produkty!$I$30","v":"ABSB HU10113 Bílá 101/110/113/8100/8685/W954/B3822 PE 22/2"},{"$f":"[1]Seznamy!$Q$16","v":"ARDEA"},null,"CZ","2020-10-01","x","x"]
[{"$f":"CONCATENATE(VLOOKUP(C40,[1]Seznamy!$Q$2:$R$36,2,0),VLOOKUP(B40,[1]Produkty!$I:$O,7,0),E40,F40)","v":"11532CZ44105"},{"$f":"[1]Produkty!$I$33","v":"Alfa II profile 222788"},{"$f":"[1]Seznamy!$Q$16","v":"ARDEA"},null,"CZ","2020-10-01"]
[{"$f":"CONCATENATE(VLOOKUP(C41,[1]Seznamy!$Q$2:$R$36,2,0),VLOOKUP(B41,[1]Produkty!$I:$O,7,0),E41,F41)","v":"1159CZ44105"},{"$f":"[1]Produkty!$I$10","v":"BBP OA Zásuvka 515 mm kovová černá"},{"$f":"[1]Seznamy!$Q$16","v":"ARDEA"},null,"CZ","2020-10-01","x","x"]
[{"$f":"CONCATENATE(VLOOKUP(C42,[1]Seznamy!$Q$2:$R$36,2,0),VLOOKUP(B42,[1]Produkty!$I:$O,7,0),E42,F42)","v":"11527CZ44105"},{"$f":"[1]Produkty!$I$28","v":"DTDD DUB COMMERCIAL A/B DEC 2800/2070/19"},{"$f":"[1]Seznamy!$Q$16","v":"ARDEA"},null,"CZ","2020-10-01","x","x"]
[{"$f":"CONCATENATE(VLOOKUP(C43,[1]Seznamy!$Q$2:$R$36,2,0),VLOOKUP(B43,[1]Produkty!$I:$O,7,0),E43,F43)","v":"11528CZ44105"},{"$f":"[1]Produkty!$I$29","v":"DTDD Dub evr. radiál st A/B 2800/2070/19"},{"$f":"[1]Seznamy!$Q$16","v":"ARDEA"},null,"CZ","2020-10-01","x","x"]
[{"$f":"CONCATENATE(VLOOKUP(C44,[1]Seznamy!$Q$2:$R$36,2,0),VLOOKUP(B44,[1]Produkty!$I:$O,7,0),E44,F44)","v":"11526CZ44105"},{"$f":"[1]Produkty!$I$27","v":"DTDL W980 ST2 Platinově bílá 2800/2070/18"},{"$f":"[1]Seznamy!$Q$16","v":"ARDEA"},null,"CZ","2020-10-01","x","x"]
[{"$f":"CONCATENATE(VLOOKUP(C45,[1]Seznamy!$Q$2:$R$36,2,0),VLOOKUP(B45,[1]Produkty!$I:$O,7,0),E45,F45)","v":"11511CZ44105"},{"$f":"[1]Produkty!$I$12","v":"FRANKE Dřez BFG 611-78 780 x 500 onyx"},{"$f":"[1]Seznamy!$Q$16","v":"ARDEA"},null,"CZ","2020-10-01",4131,4131]
[{"$f":"CONCATENATE(VLOOKUP(C46,[1]Seznamy!$Q$2:$R$36,2,0),VLOOKUP(B46,[1]Produkty!$I:$O,7,0),E46,F46)","v":"11514CZ44105"},{"$f":"[1]Produkty!$I$15","v":"FRANKE Dřez ETN 610 455 x 435"},{"$f":"[1]Seznamy!$Q$16","v":"ARDEA"},null,"CZ","2020-10-01",1442,1442]
[{"$f":"CONCATENATE(VLOOKUP(C47,[1]Seznamy!$Q$2:$R$36,2,0),VLOOKUP(B47,[1]Produkty!$I:$O,7,0),E47,F47)","v":"11510CZ44105"},{"$f":"[1]Produkty!$I$11","v":"FRANKE Dřez ETN 614 6/4 obyčejný ventil bez otvoru"},{"$f":"[1]Seznamy!$Q$16","v":"ARDEA"},null,"CZ","2020-10-01",1300,1300]
[{"$f":"CONCATENATE(VLOOKUP(C48,[1]Seznamy!$Q$2:$R$36,2,0),VLOOKUP(B48,[1]Produkty!$I:$O,7,0),E48,F48)","v":"11513CZ44105"},{"$f":"[1]Produkty!$I$14","v":"GOLLINUCCI Sorter 580 Plus Line, 600 mm, výška 505mm, 80 l, šedý"},{"$f":"[1]Seznamy!$Q$16","v":"ARDEA"},null,"CZ","2020-10-01",2100,2100]
[{"$f":"CONCATENATE(VLOOKUP(C49,[1]Seznamy!$Q$2:$R$36,2,0),VLOOKUP(B49,[1]Produkty!$I:$O,7,0),E49,F49)","v":"11515CZ44105"},{"$f":"[1]Produkty!$I$16","v":"GOLLINUCCI Sorter Linea 222, 300 mm"},{"$f":"[1]Seznamy!$Q$16","v":"ARDEA"},null,"CZ","2020-10-01",1148,1148]
[{"$f":"CONCATENATE(VLOOKUP(C50,[1]Seznamy!$Q$2:$R$36,2,0),VLOOKUP(B50,[1]Produkty!$I:$O,7,0),E50,F50)","v":"11512CZ44105"},{"$f":"[1]Produkty!$I$13","v":"GOLLINUCCI Sorter Sistema 901/2x16 l, 600 mm"},{"$f":"[1]Seznamy!$Q$16","v":"ARDEA"},null,"CZ","2020-10-01",773.28,773.28]
[{"$f":"CONCATENATE(VLOOKUP(C51,[1]Seznamy!$Q$2:$R$36,2,0),VLOOKUP(B51,[1]Produkty!$I:$O,7,0),E51,F51)","v":"11531CZ44105"},{"$f":"[1]Produkty!$I$32","v":"HDF LAK 101 BÍLÁ PE 2800/2070/3"},{"$f":"[1]Seznamy!$Q$16","v":"ARDEA"},null,"CZ","2020-10-01","x","x"]
[{"$f":"CONCATENATE(VLOOKUP(C52,[1]Seznamy!$Q$2:$R$36,2,0),VLOOKUP(B52,[1]Produkty!$I:$O,7,0),E52,F52)","v":"11525CZ44105"},{"$f":"[1]Produkty!$I$26","v":"Konfirmát 7/50 zinek bílý bulk"},{"$f":"[1]Seznamy!$Q$16","v":"ARDEA"},null,"CZ","2020-10-01",1.1000000000000001,1.1000000000000001]
[{"$f":"CONCATENATE(VLOOKUP(C53,[1]Seznamy!$Q$2:$R$36,2,0),VLOOKUP(B53,[1]Produkty!$I:$O,7,0),E53,F53)","v":"11533CZ44105"},{"$f":"[1]Produkty!$I$34","v":"SEVROLL Era úchytová lišta 18mm 2,70m stříbrná"},{"$f":"[1]Seznamy!$Q$16","v":"ARDEA"},null,"CZ","2020-10-01"]
[{"$f":"CONCATENATE(VLOOKUP(C54,[1]Seznamy!$Q$2:$R$36,2,0),VLOOKUP(B54,[1]Produkty!$I:$O,7,0),E54,F54)","v":"11534CZ44105"},{"$f":"[1]Produkty!$I$35","v":"Strong electric socket, lift"},{"$f":"[1]Seznamy!$Q$16","v":"ARDEA"},null,"CZ","2020-10-01",890,890]
[{"$f":"CONCATENATE(VLOOKUP(C55,[1]Seznamy!$Q$2:$R$36,2,0),VLOOKUP(B55,[1]Produkty!$I:$O,7,0),E55,F55)","v":"1158CZ44105"},{"$f":"[1]Produkty!$I$9","v":"STRONG Elektrická zásuvka 3x230V, francouzský typ, 265x130x68 mm stříbrná"},{"$f":"[1]Seznamy!$Q$16","v":"ARDEA"},null,"CZ","2020-10-01",713,713]
[{"$f":"CONCATENATE(VLOOKUP(C56,[1]Seznamy!$Q$2:$R$36,2,0),VLOOKUP(B56,[1]Produkty!$I:$O,7,0),E56,F56)","v":"11535CZ44105"},{"$f":"[1]Produkty!$I$36","v":"STRONG Elektricky stavitelná podnož černá RAL 9005 mat"},{"$f":"[1]Seznamy!$Q$16","v":"ARDEA"},null,"CZ","2020-10-01",9326.7999999999993,9326.7999999999993]
[{"$f":"CONCATENATE(VLOOKUP(C57,[1]Seznamy!$Q$2:$R$36,2,0),VLOOKUP(B57,[1]Produkty!$I:$O,7,0),E57,F57)","v":"11522CZ44105"},{"$f":"[1]Produkty!$I$23","v":"STRONG LED pásek 21,6W/m 24V bílá neutrální 210 LED/m"},{"$f":"[1]Seznamy!$Q$16","v":"ARDEA"},null,"CZ","2020-10-01"]
[{"$f":"CONCATENATE(VLOOKUP(C58,[1]Seznamy!$Q$2:$R$36,2,0),VLOOKUP(B58,[1]Produkty!$I:$O,7,0),E58,F58)","v":"1151CZ44105"},{"$f":"[1]Produkty!$I$2","v":"STRONG plus závěs naložený s tlumením, s excentrem, klipový"},{"$f":"[1]Seznamy!$Q$16","v":"ARDEA"},null,"CZ","2020-10-01","x","x"]
[{"$f":"CONCATENATE(VLOOKUP(C59,[1]Seznamy!$Q$2:$R$36,2,0),VLOOKUP(B59,[1]Produkty!$I:$O,7,0),E59,F59)","v":"1156CZ44105"},{"$f":"[1]Produkty!$I$7","v":"STRONG Rektifikační nožka 100 mm"},{"$f":"[1]Seznamy!$Q$16","v":"ARDEA"},null,"CZ","2020-10-01",9.16,9.16]
[{"$f":"CONCATENATE(VLOOKUP(C60,[1]Seznamy!$Q$2:$R$36,2,0),VLOOKUP(B60,[1]Produkty!$I:$O,7,0),E60,F60)","v":"1157CZ44105"},{"$f":"[1]Produkty!$I$8","v":"STRONG Stolová noha centrální 450x450 černá"},{"$f":"[1]Seznamy!$Q$16","v":"ARDEA"},null,"CZ","2020-10-01",1200,1200]
[{"$f":"CONCATENATE(VLOOKUP(C61,[1]Seznamy!$Q$2:$R$36,2,0),VLOOKUP(B61,[1]Produkty!$I:$O,7,0),E61,F61)","v":"11523CZ44105"},{"$f":"[1]Produkty!$I$24","v":"STRONG transformátor plochý LED 24V 100W"},{"$f":"[1]Seznamy!$Q$16","v":"ARDEA"},null,"CZ","2020-10-01"]
[{"$f":"CONCATENATE(VLOOKUP(C62,[1]Seznamy!$Q$2:$R$36,2,0),VLOOKUP(B62,[1]Produkty!$I:$O,7,0),E62,F62)","v":"1152CZ44105"},{"$f":"[1]Produkty!$I$3","v":"STRONG závěs naložený, slide on"},{"$f":"[1]Seznamy!$Q$16","v":"ARDEA"},null,"CZ","2020-10-01","x","x"]
[{"$f":"CONCATENATE(VLOOKUP(C63,[1]Seznamy!$Q$2:$R$36,2,0),VLOOKUP(B63,[1]Produkty!$I:$O,7,0),E63,F63)","v":"1153CZ44105"},{"$f":"[1]Produkty!$I$4","v":"StrongBox H86/500mm bílý"},{"$f":"[1]Seznamy!$Q$16","v":"ARDEA"},null,"CZ","2020-10-01","x","x"]
[{"$f":"CONCATENATE(VLOOKUP(C64,[1]Seznamy!$Q$2:$R$36,2,0),VLOOKUP(B64,[1]Produkty!$I:$O,7,0),E64,F64)","v":"1154CZ44105"},{"$f":"[1]Produkty!$I$5","v":"StrongMax 89/500 mm šedý (antracit)"},{"$f":"[1]Seznamy!$Q$16","v":"ARDEA"},null,"CZ","2020-10-01","x","x"]
[{"$f":"CONCATENATE(VLOOKUP(C65,[1]Seznamy!$Q$2:$R$36,2,0),VLOOKUP(B65,[1]Produkty!$I:$O,7,0),E65,F65)","v":"1155CZ44105"},{"$f":"[1]Produkty!$I$6","v":"StrongRide synchro 3D celovýsuv 500 mm s tlumením"},{"$f":"[1]Seznamy!$Q$16","v":"ARDEA"},null,"CZ","2020-10-01","x","x"]
[{"$f":"CONCATENATE(VLOOKUP(C66,[1]Seznamy!$Q$2:$R$36,2,0),VLOOKUP(B66,[1]Produkty!$I:$O,7,0),E66,F66)","v":"11536CZ44105"},{"$f":"[1]Produkty!$I$37","v":"TULIP Gola dvířkový J profil 4,1m eloxovaný hliník"},{"$f":"[1]Seznamy!$Q$16","v":"ARDEA"},null,"CZ","2020-10-01"]
[{"$f":"CONCATENATE(VLOOKUP(C67,[1]Seznamy!$Q$2:$R$36,2,0),VLOOKUP(B67,[1]Produkty!$I:$O,7,0),E67,F67)","v":"11518CZ44105"},{"$f":"[1]Produkty!$I$19","v":"TULIP úchytka Anita 96 nikl matný + šroubky"},{"$f":"[1]Seznamy!$Q$16","v":"ARDEA"},null,"CZ","2020-10-01","x","x"]
[{"$f":"CONCATENATE(VLOOKUP(C68,[1]Seznamy!$Q$2:$R$36,2,0),VLOOKUP(B68,[1]Produkty!$I:$O,7,0),E68,F68)","v":"11521CZ44105"},{"$f":"[1]Produkty!$I$22","v":"TULIP Úchytka Lucata 160 černá matná"},{"$f":"[1]Seznamy!$Q$16","v":"ARDEA"},null,"CZ","2020-10-01",86.18,86.18]
[{"$f":"CONCATENATE(VLOOKUP(C69,[1]Seznamy!$Q$2:$R$36,2,0),VLOOKUP(B69,[1]Produkty!$I:$O,7,0),E69,F69)","v":"11516CZ44105"},{"$f":"[1]Produkty!$I$17","v":"TULIP úchytka Nakana 128 chrom matný + šroubky"},{"$f":"[1]Seznamy!$Q$16","v":"ARDEA"},null,"CZ","2020-10-01",87.48,87.48]
[{"$f":"CONCATENATE(VLOOKUP(C70,[1]Seznamy!$Q$2:$R$36,2,0),VLOOKUP(B70,[1]Produkty!$I:$O,7,0),E70,F70)","v":"11517CZ44105"},{"$f":"[1]Produkty!$I$18","v":"TULIP úchytka Piombina 96 nikl matný + šroubky"},{"$f":"[1]Seznamy!$Q$16","v":"ARDEA"},null,"CZ","2020-10-01","x","x"]
[{"$f":"CONCATENATE(VLOOKUP(C71,[1]Seznamy!$Q$2:$R$36,2,0),VLOOKUP(B71,[1]Produkty!$I:$O,7,0),E71,F71)","v":"11520CZ44105"},{"$f":"[1]Produkty!$I$21","v":"TULIP Úchytka Ramara 596 imitace nerezi"},{"$f":"[1]Seznamy!$Q$16","v":"ARDEA"},null,"CZ","2020-10-01",266.76,266.76]
[{"$f":"CONCATENATE(VLOOKUP(C72,[1]Seznamy!$Q$2:$R$36,2,0),VLOOKUP(B72,[1]Produkty!$I:$O,7,0),E72,F72)","v":"11519CZ44105"},{"$f":"[1]Produkty!$I$20","v":"TULIP věšák Lugo XL chrom matný + šroubky"},{"$f":"[1]Seznamy!$Q$16","v":"ARDEA"},null,"CZ","2020-10-01",53.46,53.46]
[{"$f":"CONCATENATE(VLOOKUP(C73,[1]Seznamy!$Q$2:$R$36,2,0),VLOOKUP(B73,[1]Produkty!$I:$O,7,0),E73,F73)","v":"11524CZ44105"},{"$f":"[1]Produkty!$I$25","v":"Vrut PZ 4x18 zápustná hlava zinek bílý PZ2"},{"$f":"[1]Seznamy!$Q$16","v":"ARDEA"},null,"CZ","2020-10-01",9.5000000000000001E-2,9.5000000000000001E-2]
[{"$f":"CONCATENATE(VLOOKUP(C74,[1]Seznamy!$Q$2:$R$36,2,0),VLOOKUP(B74,[1]Produkty!$I:$O,7,0),E74,F74)","v":"10430CZ44105"},{"$f":"[1]Produkty!$I$31","v":"ABSB 77039/414 W980/500/W954 ST2 23/2"},{"$f":"[1]Seznamy!$Q$5","v":"Dřevotrust"},null,"CZ","2020-10-01","x","x"]
[{"$f":"CONCATENATE(VLOOKUP(C75,[1]Seznamy!$Q$2:$R$36,2,0),VLOOKUP(B75,[1]Produkty!$I:$O,7,0),E75,F75)","v":"10429CZ44105"},{"$f":"[1]Produkty!$I$30","v":"ABSB HU10113 Bílá 101/110/113/8100/8685/W954/B3822 PE 22/2"},{"$f":"[1]Seznamy!$Q$5","v":"Dřevotrust"},null,"CZ","2020-10-01",16.3,9.68]
[{"$f":"CONCATENATE(VLOOKUP(C76,[1]Seznamy!$Q$2:$R$36,2,0),VLOOKUP(B76,[1]Produkty!$I:$O,7,0),E76,F76)","v":"10432CZ44105"},{"$f":"[1]Produkty!$I$33","v":"Alfa II profile 222788"},{"$f":"[1]Seznamy!$Q$5","v":"Dřevotrust"},null,"CZ","2020-10-01"]
[{"$f":"CONCATENATE(VLOOKUP(C77,[1]Seznamy!$Q$2:$R$36,2,0),VLOOKUP(B77,[1]Produkty!$I:$O,7,0),E77,F77)","v":"1049CZ44105"},{"$f":"[1]Produkty!$I$10","v":"BBP OA Zásuvka 515 mm kovová černá"},{"$f":"[1]Seznamy!$Q$5","v":"Dřevotrust"},null,"CZ","2020-10-01",497.03,347.92]
[{"$f":"CONCATENATE(VLOOKUP(C78,[1]Seznamy!$Q$2:$R$36,2,0),VLOOKUP(B78,[1]Produkty!$I:$O,7,0),E78,F78)","v":"10427CZ44105"},{"$f":"[1]Produkty!$I$28","v":"DTDD DUB COMMERCIAL A/B DEC 2800/2070/19"},{"$f":"[1]Seznamy!$Q$5","v":"Dřevotrust"},null,"CZ","2020-10-01",399.8,315.83999999999997]
[{"$f":"CONCATENATE(VLOOKUP(C79,[1]Seznamy!$Q$2:$R$36,2,0),VLOOKUP(B79,[1]Produkty!$I:$O,7,0),E79,F79)","v":"10428CZ44105"},{"$f":"[1]Produkty!$I$29","v":"DTDD Dub evr. radiál st A/B 2800/2070/19"},{"$f":"[1]Seznamy!$Q$5","v":"Dřevotrust"},null,"CZ","2020-10-01",520.6,411.27]
[{"$f":"CONCATENATE(VLOOKUP(C80,[1]Seznamy!$Q$2:$R$36,2,0),VLOOKUP(B80,[1]Produkty!$I:$O,7,0),E80,F80)","v":"10426CZ44105"},{"$f":"[1]Produkty!$I$27","v":"DTDL W980 ST2 Platinově bílá 2800/2070/18"},{"$f":"[1]Seznamy!$Q$5","v":"Dřevotrust"},null,"CZ","2020-10-01",219.43,122.88]
[{"$f":"CONCATENATE(VLOOKUP(C81,[1]Seznamy!$Q$2:$R$36,2,0),VLOOKUP(B81,[1]Produkty!$I:$O,7,0),E81,F81)","v":"10411CZ44105"},{"$f":"[1]Produkty!$I$12","v":"FRANKE Dřez BFG 611-78 780 x 500 onyx"},{"$f":"[1]Seznamy!$Q$5","v":"Dřevotrust"},null,"CZ","2020-10-01",4600,3450]
[{"$f":"CONCATENATE(VLOOKUP(C82,[1]Seznamy!$Q$2:$R$36,2,0),VLOOKUP(B82,[1]Produkty!$I:$O,7,0),E82,F82)","v":"10414CZ44105"},{"$f":"[1]Produkty!$I$15","v":"FRANKE Dřez ETN 610 455 x 435"},{"$f":"[1]Seznamy!$Q$5","v":"Dřevotrust"},null,"CZ","2020-10-01",1600,1200]
[{"$f":"CONCATENATE(VLOOKUP(C83,[1]Seznamy!$Q$2:$R$36,2,0),VLOOKUP(B83,[1]Produkty!$I:$O,7,0),E83,F83)","v":"10410CZ44105"},{"$f":"[1]Produkty!$I$11","v":"FRANKE Dřez ETN 614 6/4 obyčejný ventil bez otvoru"},{"$f":"[1]Seznamy!$Q$5","v":"Dřevotrust"},null,"CZ","2020-10-01",1300,975]
[{"$f":"CONCATENATE(VLOOKUP(C84,[1]Seznamy!$Q$2:$R$36,2,0),VLOOKUP(B84,[1]Produkty!$I:$O,7,0),E84,F84)","v":"10413CZ44105"},{"$f":"[1]Produkty!$I$14","v":"GOLLINUCCI Sorter 580 Plus Line, 600 mm, výška 505mm, 80 l, šedý"},{"$f":"[1]Seznamy!$Q$5","v":"Dřevotrust"},null,"CZ","2020-10-01","x","x"]
[{"$f":"CONCATENATE(VLOOKUP(C85,[1]Seznamy!$Q$2:$R$36,2,0),VLOOKUP(B85,[1]Produkty!$I:$O,7,0),E85,F85)","v":"10415CZ44105"},{"$f":"[1]Produkty!$I$16","v":"GOLLINUCCI Sorter Linea 222, 300 mm"},{"$f":"[1]Seznamy!$Q$5","v":"Dřevotrust"},null,"CZ","2020-10-01",1874,1499]
[{"$f":"CONCATENATE(VLOOKUP(C86,[1]Seznamy!$Q$2:$R$36,2,0),VLOOKUP(B86,[1]Produkty!$I:$O,7,0),E86,F86)","v":"10412CZ44105"},{"$f":"[1]Produkty!$I$13","v":"GOLLINUCCI Sorter Sistema 901/2x16 l, 600 mm"},{"$f":"[1]Seznamy!$Q$5","v":"Dřevotrust"},null,"CZ","2020-10-01",801.65,601.24]
[{"$f":"CONCATENATE(VLOOKUP(C87,[1]Seznamy!$Q$2:$R$36,2,0),VLOOKUP(B87,[1]Produkty!$I:$O,7,0),E87,F87)","v":"10431CZ44105"},{"$f":"[1]Produkty!$I$32","v":"HDF LAK 101 BÍLÁ PE 2800/2070/3"},{"$f":"[1]Seznamy!$Q$5","v":"Dřevotrust"},null,"CZ","2020-10-01",73.900000000000006,45.08]
[{"$f":"CONCATENATE(VLOOKUP(C88,[1]Seznamy!$Q$2:$R$36,2,0),VLOOKUP(B88,[1]Produkty!$I:$O,7,0),E88,F88)","v":"10425CZ44105"},{"$f":"[1]Produkty!$I$26","v":"Konfirmát 7/50 zinek bílý bulk"},{"$f":"[1]Seznamy!$Q$5","v":"Dřevotrust"},null,"CZ","2020-10-01",0.98,0.74]
[{"$f":"CONCATENATE(VLOOKUP(C89,[1]Seznamy!$Q$2:$R$36,2,0),VLOOKUP(B89,[1]Produkty!$I:$O,7,0),E89,F89)","v":"10433CZ44105"},{"$f":"[1]Produkty!$I$34","v":"SEVROLL Era úchytová lišta 18mm 2,70m stříbrná"},{"$f":"[1]Seznamy!$Q$5","v":"Dřevotrust"},null,"CZ","2020-10-01"]
[{"$f":"CONCATENATE(VLOOKUP(C90,[1]Seznamy!$Q$2:$R$36,2,0),VLOOKUP(B90,[1]Produkty!$I:$O,7,0),E90,F90)","v":"10434CZ44105"},{"$f":"[1]Produkty!$I$35","v":"Strong electric socket, lift"},{"$f":"[1]Seznamy!$Q$5","v":"Dřevotrust"},null,"CZ","2020-10-01",765.8,566.69000000000005]
[{"$f":"CONCATENATE(VLOOKUP(C91,[1]Seznamy!$Q$2:$R$36,2,0),VLOOKUP(B91,[1]Produkty!$I:$O,7,0),E91,F91)","v":"1048CZ44105"},{"$f":"[1]Produkty!$I$9","v":"STRONG Elektrická zásuvka 3x230V, francouzský typ, 265x130x68 mm stříbrná"},{"$f":"[1]Seznamy!$Q$5","v":"Dřevotrust"},null,"CZ","2020-10-01",999,849.15]
[{"$f":"CONCATENATE(VLOOKUP(C92,[1]Seznamy!$Q$2:$R$36,2,0),VLOOKUP(B92,[1]Produkty!$I:$O,7,0),E92,F92)","v":"10435CZ44105"},{"$f":"[1]Produkty!$I$36","v":"STRONG Elektricky stavitelná podnož černá RAL 9005 mat"},{"$f":"[1]Seznamy!$Q$5","v":"Dřevotrust"},null,"CZ","2020-10-01",33854.42,23698.09]
[{"$f":"CONCATENATE(VLOOKUP(C93,[1]Seznamy!$Q$2:$R$36,2,0),VLOOKUP(B93,[1]Produkty!$I:$O,7,0),E93,F93)","v":"10422CZ44105"},{"$f":"[1]Produkty!$I$23","v":"STRONG LED pásek 21,6W/m 24V bílá neutrální 210 LED/m"},{"$f":"[1]Seznamy!$Q$5","v":"Dřevotrust"},null,"CZ","2020-10-01","x","x"]
[{"$f":"CONCATENATE(VLOOKUP(C94,[1]Seznamy!$Q$2:$R$36,2,0),VLOOKUP(B94,[1]Produkty!$I:$O,7,0),E94,F94)","v":"1041CZ44105"},{"$f":"[1]Produkty!$I$2","v":"STRONG plus závěs naložený s tlumením, s excentrem, klipový"},{"$f":"[1]Seznamy!$Q$5","v":"Dřevotrust"},null,"CZ","2020-10-01",47,39.950000000000003]
[{"$f":"CONCATENATE(VLOOKUP(C95,[1]Seznamy!$Q$2:$R$36,2,0),VLOOKUP(B95,[1]Produkty!$I:$O,7,0),E95,F95)","v":"1046CZ44105"},{"$f":"[1]Produkty!$I$7","v":"STRONG Rektifikační nožka 100 mm"},{"$f":"[1]Seznamy!$Q$5","v":"Dřevotrust"},null,"CZ","2020-10-01",11.2,9.52]
[{"$f":"CONCATENATE(VLOOKUP(C96,[1]Seznamy!$Q$2:$R$36,2,0),VLOOKUP(B96,[1]Produkty!$I:$O,7,0),E96,F96)","v":"1047CZ44105"},{"$f":"[1]Produkty!$I$8","v":"STRONG Stolová noha centrální 450x450 černá"},{"$f":"[1]Seznamy!$Q$5","v":"Dřevotrust"},null,"CZ","2020-10-01",1840,1435.2]
[{"$f":"CONCATENATE(VLOOKUP(C97,[1]Seznamy!$Q$2:$R$36,2,0),VLOOKUP(B97,[1]Produkty!$I:$O,7,0),E97,F97)","v":"10423CZ44105"},{"$f":"[1]Produkty!$I$24","v":"STRONG transformátor plochý LED 24V 100W"},{"$f":"[1]Seznamy!$Q$5","v":"Dřevotrust"},null,"CZ","2020-10-01","x","x"]
[{"$f":"CONCATENATE(VLOOKUP(C98,[1]Seznamy!$Q$2:$R$36,2,0),VLOOKUP(B98,[1]Produkty!$I:$O,7,0),E98,F98)","v":"1042CZ44105"},{"$f":"[1]Produkty!$I$3","v":"STRONG závěs naložený, slide on"},{"$f":"[1]Seznamy!$Q$5","v":"Dřevotrust"},null,"CZ","2020-10-01",9,5.4]
[{"$f":"CONCATENATE(VLOOKUP(C99,[1]Seznamy!$Q$2:$R$36,2,0),VLOOKUP(B99,[1]Produkty!$I:$O,7,0),E99,F99)","v":"1043CZ44105"},{"$f":"[1]Produkty!$I$4","v":"StrongBox H86/500mm bílý"},{"$f":"[1]Seznamy!$Q$5","v":"Dřevotrust"},null,"CZ","2020-10-01","x","x"]
[{"$f":"CONCATENATE(VLOOKUP(C100,[1]Seznamy!$Q$2:$R$36,2,0),VLOOKUP(B100,[1]Produkty!$I:$O,7,0),E100,F100)","v":"1044CZ44105"},{"$f":"[1]Produkty!$I$5","v":"StrongMax 89/500 mm šedý (antracit)"},{"$f":"[1]Seznamy!$Q$5","v":"Dřevotrust"},null,"CZ","2020-10-01",489.89,333]
[{"$f":"CONCATENATE(VLOOKUP(C101,[1]Seznamy!$Q$2:$R$36,2,0),VLOOKUP(B101,[1]Produkty!$I:$O,7,0),E101,F101)","v":"1045CZ44105"},{"$f":"[1]Produkty!$I$6","v":"StrongRide synchro 3D celovýsuv 500 mm s tlumením"},{"$f":"[1]Seznamy!$Q$5","v":"Dřevotrust"},null,"CZ","2020-10-01","x","x"]
[{"$f":"CONCATENATE(VLOOKUP(C102,[1]Seznamy!$Q$2:$R$36,2,0),VLOOKUP(B102,[1]Produkty!$I:$O,7,0),E102,F102)","v":"10436CZ44105"},{"$f":"[1]Produkty!$I$37","v":"TULIP Gola dvířkový J profil 4,1m eloxovaný hliník"},{"$f":"[1]Seznamy!$Q$5","v":"Dřevotrust"},null,"CZ","2020-10-01"]
[{"$f":"CONCATENATE(VLOOKUP(C103,[1]Seznamy!$Q$2:$R$36,2,0),VLOOKUP(B103,[1]Produkty!$I:$O,7,0),E103,F103)","v":"10418CZ44105"},{"$f":"[1]Produkty!$I$19","v":"TULIP úchytka Anita 96 nikl matný + šroubky"},{"$f":"[1]Seznamy!$Q$5","v":"Dřevotrust"},null,"CZ","2020-10-01","x","x"]
[{"$f":"CONCATENATE(VLOOKUP(C104,[1]Seznamy!$Q$2:$R$36,2,0),VLOOKUP(B104,[1]Produkty!$I:$O,7,0),E104,F104)","v":"10421CZ44105"},{"$f":"[1]Produkty!$I$22","v":"TULIP Úchytka Lucata 160 černá matná"},{"$f":"[1]Seznamy!$Q$5","v":"Dřevotrust"},null,"CZ","2020-10-01","x","x"]
[{"$f":"CONCATENATE(VLOOKUP(C105,[1]Seznamy!$Q$2:$R$36,2,0),VLOOKUP(B105,[1]Produkty!$I:$O,7,0),E105,F105)","v":"10416CZ44105"},{"$f":"[1]Produkty!$I$17","v":"TULIP úchytka Nakana 128 chrom matný + šroubky"},{"$f":"[1]Seznamy!$Q$5","v":"Dřevotrust"},null,"CZ","2020-10-01","x","x"]
[{"$f":"CONCATENATE(VLOOKUP(C106,[1]Seznamy!$Q$2:$R$36,2,0),VLOOKUP(B106,[1]Produkty!$I:$O,7,0),E106,F106)","v":"10417CZ44105"},{"$f":"[1]Produkty!$I$18","v":"TULIP úchytka Piombina 96 nikl matný + šroubky"},{"$f":"[1]Seznamy!$Q$5","v":"Dřevotrust"},null,"CZ","2020-10-01","x","x"]
[{"$f":"CONCATENATE(VLOOKUP(C107,[1]Seznamy!$Q$2:$R$36,2,0),VLOOKUP(B107,[1]Produkty!$I:$O,7,0),E107,F107)","v":"10420CZ44105"},{"$f":"[1]Produkty!$I$21","v":"TULIP Úchytka Ramara 596 imitace nerezi"},{"$f":"[1]Seznamy!$Q$5","v":"Dřevotrust"},null,"CZ","2020-10-01","x","x"]
[{"$f":"CONCATENATE(VLOOKUP(C108,[1]Seznamy!$Q$2:$R$36,2,0),VLOOKUP(B108,[1]Produkty!$I:$O,7,0),E108,F108)","v":"10419CZ44105"},{"$f":"[1]Produkty!$I$20","v":"TULIP věšák Lugo XL chrom matný + šroubky"},{"$f":"[1]Seznamy!$Q$5","v":"Dřevotrust"},null,"CZ","2020-10-01",59.07,44.89]
[{"$f":"CONCATENATE(VLOOKUP(C109,[1]Seznamy!$Q$2:$R$36,2,0),VLOOKUP(B109,[1]Produkty!$I:$O,7,0),E109,F109)","v":"10424CZ44105"},{"$f":"[1]Produkty!$I$25","v":"Vrut PZ 4x18 zápustná hlava zinek bílý PZ2"},{"$f":"[1]Seznamy!$Q$5","v":"Dřevotrust"},null,"CZ","2020-10-01",0.2,0.15]
[{"$f":"CONCATENATE(VLOOKUP(C110,[1]Seznamy!$Q$2:$R$36,2,0),VLOOKUP(B110,[1]Produkty!$I:$O,7,0),E110,F110)","v":"11630CZ44105"},{"$f":"[1]Produkty!$I$31","v":"ABSB 77039/414 W980/500/W954 ST2 23/2"},{"$f":"[1]Seznamy!$Q$17","v":"Exkalibr"},null,"CZ","2020-10-01","x","x"]
[{"$f":"CONCATENATE(VLOOKUP(C111,[1]Seznamy!$Q$2:$R$36,2,0),VLOOKUP(B111,[1]Produkty!$I:$O,7,0),E111,F111)","v":"11629CZ44105"},{"$f":"[1]Produkty!$I$30","v":"ABSB HU10113 Bílá 101/110/113/8100/8685/W954/B3822 PE 22/2"},{"$f":"[1]Seznamy!$Q$17","v":"Exkalibr"},null,"CZ","2020-10-01","x","x"]
[{"$f":"CONCATENATE(VLOOKUP(C112,[1]Seznamy!$Q$2:$R$36,2,0),VLOOKUP(B112,[1]Produkty!$I:$O,7,0),E112,F112)","v":"11632CZ44105"},{"$f":"[1]Produkty!$I$33","v":"Alfa II profile 222788"},{"$f":"[1]Seznamy!$Q$17","v":"Exkalibr"},null,"CZ","2020-10-01"]
[{"$f":"CONCATENATE(VLOOKUP(C113,[1]Seznamy!$Q$2:$R$36,2,0),VLOOKUP(B113,[1]Produkty!$I:$O,7,0),E113,F113)","v":"1169CZ44105"},{"$f":"[1]Produkty!$I$10","v":"BBP OA Zásuvka 515 mm kovová černá"},{"$f":"[1]Seznamy!$Q$17","v":"Exkalibr"},null,"CZ","2020-10-01","x","x"]
[{"$f":"CONCATENATE(VLOOKUP(C114,[1]Seznamy!$Q$2:$R$36,2,0),VLOOKUP(B114,[1]Produkty!$I:$O,7,0),E114,F114)","v":"11627CZ44105"},{"$f":"[1]Produkty!$I$28","v":"DTDD DUB COMMERCIAL A/B DEC 2800/2070/19"},{"$f":"[1]Seznamy!$Q$17","v":"Exkalibr"},null,"CZ","2020-10-01","x","x"]
[{"$f":"CONCATENATE(VLOOKUP(C115,[1]Seznamy!$Q$2:$R$36,2,0),VLOOKUP(B115,[1]Produkty!$I:$O,7,0),E115,F115)","v":"11628CZ44105"},{"$f":"[1]Produkty!$I$29","v":"DTDD Dub evr. radiál st A/B 2800/2070/19"},{"$f":"[1]Seznamy!$Q$17","v":"Exkalibr"},null,"CZ","2020-10-01","x","x"]
[{"$f":"CONCATENATE(VLOOKUP(C116,[1]Seznamy!$Q$2:$R$36,2,0),VLOOKUP(B116,[1]Produkty!$I:$O,7,0),E116,F116)","v":"11626CZ44105"},{"$f":"[1]Produkty!$I$27","v":"DTDL W980 ST2 Platinově bílá 2800/2070/18"},{"$f":"[1]Seznamy!$Q$17","v":"Exkalibr"},null,"CZ","2020-10-01","x","x"]
[{"$f":"CONCATENATE(VLOOKUP(C117,[1]Seznamy!$Q$2:$R$36,2,0),VLOOKUP(B117,[1]Produkty!$I:$O,7,0),E117,F117)","v":"11611CZ44105"},{"$f":"[1]Produkty!$I$12","v":"FRANKE Dřez BFG 611-78 780 x 500 onyx"},{"$f":"[1]Seznamy!$Q$17","v":"Exkalibr"},null,"CZ","2020-10-01",3380,3299]
[{"$f":"CONCATENATE(VLOOKUP(C118,[1]Seznamy!$Q$2:$R$36,2,0),VLOOKUP(B118,[1]Produkty!$I:$O,7,0),E118,F118)","v":"11614CZ44105"},{"$f":"[1]Produkty!$I$15","v":"FRANKE Dřez ETN 610 455 x 435"},{"$f":"[1]Seznamy!$Q$17","v":"Exkalibr"},null,"CZ","2020-10-01",1030,976]
[{"$f":"CONCATENATE(VLOOKUP(C119,[1]Seznamy!$Q$2:$R$36,2,0),VLOOKUP(B119,[1]Produkty!$I:$O,7,0),E119,F119)","v":"11610CZ44105"},{"$f":"[1]Produkty!$I$11","v":"FRANKE Dřez ETN 614 6/4 obyčejný ventil bez otvoru"},{"$f":"[1]Seznamy!$Q$17","v":"Exkalibr"},null,"CZ","2020-10-01",1342,1271]
[{"$f":"CONCATENATE(VLOOKUP(C120,[1]Seznamy!$Q$2:$R$36,2,0),VLOOKUP(B120,[1]Produkty!$I:$O,7,0),E120,F120)","v":"11613CZ44105"},{"$f":"[1]Produkty!$I$14","v":"GOLLINUCCI Sorter 580 Plus Line, 600 mm, výška 505mm, 80 l, šedý"},{"$f":"[1]Seznamy!$Q$17","v":"Exkalibr"},null,"CZ","2020-10-01","x","x"]
[{"$f":"CONCATENATE(VLOOKUP(C121,[1]Seznamy!$Q$2:$R$36,2,0),VLOOKUP(B121,[1]Produkty!$I:$O,7,0),E121,F121)","v":"11615CZ44105"},{"$f":"[1]Produkty!$I$16","v":"GOLLINUCCI Sorter Linea 222, 300 mm"},{"$f":"[1]Seznamy!$Q$17","v":"Exkalibr"},null,"CZ","2020-10-01",1098,1040]
[{"$f":"CONCATENATE(VLOOKUP(C122,[1]Seznamy!$Q$2:$R$36,2,0),VLOOKUP(B122,[1]Produkty!$I:$O,7,0),E122,F122)","v":"11612CZ44105"},{"$f":"[1]Produkty!$I$13","v":"GOLLINUCCI Sorter Sistema 901/2x16 l, 600 mm"},{"$f":"[1]Seznamy!$Q$17","v":"Exkalibr"},null,"CZ","2020-10-01",657,623]
[{"$f":"CONCATENATE(VLOOKUP(C123,[1]Seznamy!$Q$2:$R$36,2,0),VLOOKUP(B123,[1]Produkty!$I:$O,7,0),E123,F123)","v":"11631CZ44105"},{"$f":"[1]Produkty!$I$32","v":"HDF LAK 101 BÍLÁ PE 2800/2070/3"},{"$f":"[1]Seznamy!$Q$17","v":"Exkalibr"},null,"CZ","2020-10-01","x","x"]
[{"$f":"CONCATENATE(VLOOKUP(C124,[1]Seznamy!$Q$2:$R$36,2,0),VLOOKUP(B124,[1]Produkty!$I:$O,7,0),E124,F124)","v":"11625CZ44105"},{"$f":"[1]Produkty!$I$26","v":"Konfirmát 7/50 zinek bílý bulk"},{"$f":"[1]Seznamy!$Q$17","v":"Exkalibr"},null,"CZ","2020-10-01","x","x"]
[{"$f":"CONCATENATE(VLOOKUP(C125,[1]Seznamy!$Q$2:$R$36,2,0),VLOOKUP(B125,[1]Produkty!$I:$O,7,0),E125,F125)","v":"11633CZ44105"},{"$f":"[1]Produkty!$I$34","v":"SEVROLL Era úchytová lišta 18mm 2,70m stříbrná"},{"$f":"[1]Seznamy!$Q$17","v":"Exkalibr"},null,"CZ","2020-10-01"]
[{"$f":"CONCATENATE(VLOOKUP(C126,[1]Seznamy!$Q$2:$R$36,2,0),VLOOKUP(B126,[1]Produkty!$I:$O,7,0),E126,F126)","v":"11634CZ44105"},{"$f":"[1]Produkty!$I$35","v":"Strong electric socket, lift"},{"$f":"[1]Seznamy!$Q$17","v":"Exkalibr"},null,"CZ","2020-10-01","x","x"]
[{"$f":"CONCATENATE(VLOOKUP(C127,[1]Seznamy!$Q$2:$R$36,2,0),VLOOKUP(B127,[1]Produkty!$I:$O,7,0),E127,F127)","v":"1168CZ44105"},{"$f":"[1]Produkty!$I$9","v":"STRONG Elektrická zásuvka 3x230V, francouzský typ, 265x130x68 mm stříbrná"},{"$f":"[1]Seznamy!$Q$17","v":"Exkalibr"},null,"CZ","2020-10-01",776,748]
[{"$f":"CONCATENATE(VLOOKUP(C128,[1]Seznamy!$Q$2:$R$36,2,0),VLOOKUP(B128,[1]Produkty!$I:$O,7,0),E128,F128)","v":"11635CZ44105"},{"$f":"[1]Produkty!$I$36","v":"STRONG Elektricky stavitelná podnož černá RAL 9005 mat"},{"$f":"[1]Seznamy!$Q$17","v":"Exkalibr"},null,"CZ","2020-10-01",13326,12945]
[{"$f":"CONCATENATE(VLOOKUP(C129,[1]Seznamy!$Q$2:$R$36,2,0),VLOOKUP(B129,[1]Produkty!$I:$O,7,0),E129,F129)","v":"11622CZ44105"},{"$f":"[1]Produkty!$I$23","v":"STRONG LED pásek 21,6W/m 24V bílá neutrální 210 LED/m"},{"$f":"[1]Seznamy!$Q$17","v":"Exkalibr"},null,"CZ","2020-10-01"]
[{"$f":"CONCATENATE(VLOOKUP(C130,[1]Seznamy!$Q$2:$R$36,2,0),VLOOKUP(B130,[1]Produkty!$I:$O,7,0),E130,F130)","v":"1161CZ44105"},{"$f":"[1]Produkty!$I$2","v":"STRONG plus závěs naložený s tlumením, s excentrem, klipový"},{"$f":"[1]Seznamy!$Q$17","v":"Exkalibr"},null,"CZ","2020-10-01","x","x"]
[{"$f":"CONCATENATE(VLOOKUP(C131,[1]Seznamy!$Q$2:$R$36,2,0),VLOOKUP(B131,[1]Produkty!$I:$O,7,0),E131,F131)","v":"1166CZ44105"},{"$f":"[1]Produkty!$I$7","v":"STRONG Rektifikační nožka 100 mm"},{"$f":"[1]Seznamy!$Q$17","v":"Exkalibr"},null,"CZ","2020-10-01","x","x"]
[{"$f":"CONCATENATE(VLOOKUP(C132,[1]Seznamy!$Q$2:$R$36,2,0),VLOOKUP(B132,[1]Produkty!$I:$O,7,0),E132,F132)","v":"1167CZ44105"},{"$f":"[1]Produkty!$I$8","v":"STRONG Stolová noha centrální 450x450 černá"},{"$f":"[1]Seznamy!$Q$17","v":"Exkalibr"},null,"CZ","2020-10-01","x","x"]
[{"$f":"CONCATENATE(VLOOKUP(C133,[1]Seznamy!$Q$2:$R$36,2,0),VLOOKUP(B133,[1]Produkty!$I:$O,7,0),E133,F133)","v":"11623CZ44105"},{"$f":"[1]Produkty!$I$24","v":"STRONG transformátor plochý LED 24V 100W"},{"$f":"[1]Seznamy!$Q$17","v":"Exkalibr"},null,"CZ","2020-10-01"]
[{"$f":"CONCATENATE(VLOOKUP(C134,[1]Seznamy!$Q$2:$R$36,2,0),VLOOKUP(B134,[1]Produkty!$I:$O,7,0),E134,F134)","v":"1162CZ44105"},{"$f":"[1]Produkty!$I$3","v":"STRONG závěs naložený, slide on"},{"$f":"[1]Seznamy!$Q$17","v":"Exkalibr"},null,"CZ","2020-10-01","x","x"]
[{"$f":"CONCATENATE(VLOOKUP(C135,[1]Seznamy!$Q$2:$R$36,2,0),VLOOKUP(B135,[1]Produkty!$I:$O,7,0),E135,F135)","v":"1163CZ44105"},{"$f":"[1]Produkty!$I$4","v":"StrongBox H86/500mm bílý"},{"$f":"[1]Seznamy!$Q$17","v":"Exkalibr"},null,"CZ","2020-10-01","x","x"]
[{"$f":"CONCATENATE(VLOOKUP(C136,[1]Seznamy!$Q$2:$R$36,2,0),VLOOKUP(B136,[1]Produkty!$I:$O,7,0),E136,F136)","v":"1164CZ44105"},{"$f":"[1]Produkty!$I$5","v":"StrongMax 89/500 mm šedý (antracit)"},{"$f":"[1]Seznamy!$Q$17","v":"Exkalibr"},null,"CZ","2020-10-01","x","x"]
[{"$f":"CONCATENATE(VLOOKUP(C137,[1]Seznamy!$Q$2:$R$36,2,0),VLOOKUP(B137,[1]Produkty!$I:$O,7,0),E137,F137)","v":"1165CZ44105"},{"$f":"[1]Produkty!$I$6","v":"StrongRide synchro 3D celovýsuv 500 mm s tlumením"},{"$f":"[1]Seznamy!$Q$17","v":"Exkalibr"},null,"CZ","2020-10-01","x","x"]
[{"$f":"CONCATENATE(VLOOKUP(C138,[1]Seznamy!$Q$2:$R$36,2,0),VLOOKUP(B138,[1]Produkty!$I:$O,7,0),E138,F138)","v":"11636CZ44105"},{"$f":"[1]Produkty!$I$37","v":"TULIP Gola dvířkový J profil 4,1m eloxovaný hliník"},{"$f":"[1]Seznamy!$Q$17","v":"Exkalibr"},null,"CZ","2020-10-01"]
[{"$f":"CONCATENATE(VLOOKUP(C139,[1]Seznamy!$Q$2:$R$36,2,0),VLOOKUP(B139,[1]Produkty!$I:$O,7,0),E139,F139)","v":"11618CZ44105"},{"$f":"[1]Produkty!$I$19","v":"TULIP úchytka Anita 96 nikl matný + šroubky"},{"$f":"[1]Seznamy!$Q$17","v":"Exkalibr"},null,"CZ","2020-10-01","x","x"]
[{"$f":"CONCATENATE(VLOOKUP(C140,[1]Seznamy!$Q$2:$R$36,2,0),VLOOKUP(B140,[1]Produkty!$I:$O,7,0),E140,F140)","v":"11621CZ44105"},{"$f":"[1]Produkty!$I$22","v":"TULIP Úchytka Lucata 160 černá matná"},{"$f":"[1]Seznamy!$Q$17","v":"Exkalibr"},null,"CZ","2020-10-01","x","x"]
[{"$f":"CONCATENATE(VLOOKUP(C141,[1]Seznamy!$Q$2:$R$36,2,0),VLOOKUP(B141,[1]Produkty!$I:$O,7,0),E141,F141)","v":"11616CZ44105"},{"$f":"[1]Produkty!$I$17","v":"TULIP úchytka Nakana 128 chrom matný + šroubky"},{"$f":"[1]Seznamy!$Q$17","v":"Exkalibr"},null,"CZ","2020-10-01","x","x"]
[{"$f":"CONCATENATE(VLOOKUP(C142,[1]Seznamy!$Q$2:$R$36,2,0),VLOOKUP(B142,[1]Produkty!$I:$O,7,0),E142,F142)","v":"11617CZ44105"},{"$f":"[1]Produkty!$I$18","v":"TULIP úchytka Piombina 96 nikl matný + šroubky"},{"$f":"[1]Seznamy!$Q$17","v":"Exkalibr"},null,"CZ","2020-10-01","x","x"]
[{"$f":"CONCATENATE(VLOOKUP(C143,[1]Seznamy!$Q$2:$R$36,2,0),VLOOKUP(B143,[1]Produkty!$I:$O,7,0),E143,F143)","v":"11620CZ44105"},{"$f":"[1]Produkty!$I$21","v":"TULIP Úchytka Ramara 596 imitace nerezi"},{"$f":"[1]Seznamy!$Q$17","v":"Exkalibr"},null,"CZ","2020-10-01","x","x"]
[{"$f":"CONCATENATE(VLOOKUP(C144,[1]Seznamy!$Q$2:$R$36,2,0),VLOOKUP(B144,[1]Produkty!$I:$O,7,0),E144,F144)","v":"11619CZ44105"},{"$f":"[1]Produkty!$I$20","v":"TULIP věšák Lugo XL chrom matný + šroubky"},{"$f":"[1]Seznamy!$Q$17","v":"Exkalibr"},null,"CZ","2020-10-01","x","x"]
[{"$f":"CONCATENATE(VLOOKUP(C145,[1]Seznamy!$Q$2:$R$36,2,0),VLOOKUP(B145,[1]Produkty!$I:$O,7,0),E145,F145)","v":"11624CZ44105"},{"$f":"[1]Produkty!$I$25","v":"Vrut PZ 4x18 zápustná hlava zinek bílý PZ2"},{"$f":"[1]Seznamy!$Q$17","v":"Exkalibr"},null,"CZ","2020-10-01",353,347]
[{"$f":"CONCATENATE(VLOOKUP(C146,[1]Seznamy!$Q$2:$R$36,2,0),VLOOKUP(B146,[1]Produkty!$I:$O,7,0),E146,F146)","v":"11030CZ44105"},{"$f":"[1]Produkty!$I$31","v":"ABSB 77039/414 W980/500/W954 ST2 23/2"},{"$f":"[1]Seznamy!$Q$11","v":"GTV"},null,"CZ","2020-10-01","x","x"]
[{"$f":"CONCATENATE(VLOOKUP(C147,[1]Seznamy!$Q$2:$R$36,2,0),VLOOKUP(B147,[1]Produkty!$I:$O,7,0),E147,F147)","v":"11029CZ44105"},{"$f":"[1]Produkty!$I$30","v":"ABSB HU10113 Bílá 101/110/113/8100/8685/W954/B3822 PE 22/2"},{"$f":"[1]Seznamy!$Q$11","v":"GTV"},null,"CZ","2020-10-01","x","x"]
[{"$f":"CONCATENATE(VLOOKUP(C148,[1]Seznamy!$Q$2:$R$36,2,0),VLOOKUP(B148,[1]Produkty!$I:$O,7,0),E148,F148)","v":"11032CZ44105"},{"$f":"[1]Produkty!$I$33","v":"Alfa II profile 222788"},{"$f":"[1]Seznamy!$Q$11","v":"GTV"},null,"CZ","2020-10-01"]
[{"$f":"CONCATENATE(VLOOKUP(C149,[1]Seznamy!$Q$2:$R$36,2,0),VLOOKUP(B149,[1]Produkty!$I:$O,7,0),E149,F149)","v":"1109CZ44105"},{"$f":"[1]Produkty!$I$10","v":"BBP OA Zásuvka 515 mm kovová černá"},{"$f":"[1]Seznamy!$Q$11","v":"GTV"},null,"CZ","2020-10-01","x","x"]
[{"$f":"CONCATENATE(VLOOKUP(C150,[1]Seznamy!$Q$2:$R$36,2,0),VLOOKUP(B150,[1]Produkty!$I:$O,7,0),E150,F150)","v":"11027CZ44105"},{"$f":"[1]Produkty!$I$28","v":"DTDD DUB COMMERCIAL A/B DEC 2800/2070/19"},{"$f":"[1]Seznamy!$Q$11","v":"GTV"},null,"CZ","2020-10-01","x","x"]
[{"$f":"CONCATENATE(VLOOKUP(C151,[1]Seznamy!$Q$2:$R$36,2,0),VLOOKUP(B151,[1]Produkty!$I:$O,7,0),E151,F151)","v":"11028CZ44105"},{"$f":"[1]Produkty!$I$29","v":"DTDD Dub evr. radiál st A/B 2800/2070/19"},{"$f":"[1]Seznamy!$Q$11","v":"GTV"},null,"CZ","2020-10-01","x","x"]
[{"$f":"CONCATENATE(VLOOKUP(C152,[1]Seznamy!$Q$2:$R$36,2,0),VLOOKUP(B152,[1]Produkty!$I:$O,7,0),E152,F152)","v":"11026CZ44105"},{"$f":"[1]Produkty!$I$27","v":"DTDL W980 ST2 Platinově bílá 2800/2070/18"},{"$f":"[1]Seznamy!$Q$11","v":"GTV"},null,"CZ","2020-10-01","x","x"]
[{"$f":"CONCATENATE(VLOOKUP(C153,[1]Seznamy!$Q$2:$R$36,2,0),VLOOKUP(B153,[1]Produkty!$I:$O,7,0),E153,F153)","v":"11011CZ44105"},{"$f":"[1]Produkty!$I$12","v":"FRANKE Dřez BFG 611-78 780 x 500 onyx"},{"$f":"[1]Seznamy!$Q$11","v":"GTV"},null,"CZ","2020-10-01","x","x"]
[{"$f":"CONCATENATE(VLOOKUP(C154,[1]Seznamy!$Q$2:$R$36,2,0),VLOOKUP(B154,[1]Produkty!$I:$O,7,0),E154,F154)","v":"11014CZ44105"},{"$f":"[1]Produkty!$I$15","v":"FRANKE Dřez ETN 610 455 x 435"},{"$f":"[1]Seznamy!$Q$11","v":"GTV"},null,"CZ","2020-10-01","x","x"]
[{"$f":"CONCATENATE(VLOOKUP(C155,[1]Seznamy!$Q$2:$R$36,2,0),VLOOKUP(B155,[1]Produkty!$I:$O,7,0),E155,F155)","v":"11010CZ44105"},{"$f":"[1]Produkty!$I$11","v":"FRANKE Dřez ETN 614 6/4 obyčejný ventil bez otvoru"},{"$f":"[1]Seznamy!$Q$11","v":"GTV"},null,"CZ","2020-10-01","x","x"]
[{"$f":"CONCATENATE(VLOOKUP(C156,[1]Seznamy!$Q$2:$R$36,2,0),VLOOKUP(B156,[1]Produkty!$I:$O,7,0),E156,F156)","v":"11013CZ44105"},{"$f":"[1]Produkty!$I$14","v":"GOLLINUCCI Sorter 580 Plus Line, 600 mm, výška 505mm, 80 l, šedý"},{"$f":"[1]Seznamy!$Q$11","v":"GTV"},null,"CZ","2020-10-01",2891.74,2891.74]
[{"$f":"CONCATENATE(VLOOKUP(C157,[1]Seznamy!$Q$2:$R$36,2,0),VLOOKUP(B157,[1]Produkty!$I:$O,7,0),E157,F157)","v":"11015CZ44105"},{"$f":"[1]Produkty!$I$16","v":"GOLLINUCCI Sorter Linea 222, 300 mm"},{"$f":"[1]Seznamy!$Q$11","v":"GTV"},null,"CZ","2020-10-01",1156.2,1156.2]
[{"$f":"CONCATENATE(VLOOKUP(C158,[1]Seznamy!$Q$2:$R$36,2,0),VLOOKUP(B158,[1]Produkty!$I:$O,7,0),E158,F158)","v":"11012CZ44105"},{"$f":"[1]Produkty!$I$13","v":"GOLLINUCCI Sorter Sistema 901/2x16 l, 600 mm"},{"$f":"[1]Seznamy!$Q$11","v":"GTV"},null,"CZ","2020-10-01",714.05,714.05]
[{"$f":"CONCATENATE(VLOOKUP(C159,[1]Seznamy!$Q$2:$R$36,2,0),VLOOKUP(B159,[1]Produkty!$I:$O,7,0),E159,F159)","v":"11031CZ44105"},{"$f":"[1]Produkty!$I$32","v":"HDF LAK 101 BÍLÁ PE 2800/2070/3"},{"$f":"[1]Seznamy!$Q$11","v":"GTV"},null,"CZ","2020-10-01","x","x"]
[{"$f":"CONCATENATE(VLOOKUP(C160,[1]Seznamy!$Q$2:$R$36,2,0),VLOOKUP(B160,[1]Produkty!$I:$O,7,0),E160,F160)","v":"11025CZ44105"},{"$f":"[1]Produkty!$I$26","v":"Konfirmát 7/50 zinek bílý bulk"},{"$f":"[1]Seznamy!$Q$11","v":"GTV"},null,"CZ","2020-10-01","x","x"]
[{"$f":"CONCATENATE(VLOOKUP(C161,[1]Seznamy!$Q$2:$R$36,2,0),VLOOKUP(B161,[1]Produkty!$I:$O,7,0),E161,F161)","v":"11033CZ44105"},{"$f":"[1]Produkty!$I$34","v":"SEVROLL Era úchytová lišta 18mm 2,70m stříbrná"},{"$f":"[1]Seznamy!$Q$11","v":"GTV"},null,"CZ","2020-10-01"]
[{"$f":"CONCATENATE(VLOOKUP(C162,[1]Seznamy!$Q$2:$R$36,2,0),VLOOKUP(B162,[1]Produkty!$I:$O,7,0),E162,F162)","v":"11034CZ44105"},{"$f":"[1]Produkty!$I$35","v":"Strong electric socket, lift"},{"$f":"[1]Seznamy!$Q$11","v":"GTV"},null,"CZ","2020-10-01",660.33,660.33]
[{"$f":"CONCATENATE(VLOOKUP(C163,[1]Seznamy!$Q$2:$R$36,2,0),VLOOKUP(B163,[1]Produkty!$I:$O,7,0),E163,F163)","v":"1108CZ44105"},{"$f":"[1]Produkty!$I$9","v":"STRONG Elektrická zásuvka 3x230V, francouzský typ, 265x130x68 mm stříbrná"},{"$f":"[1]Seznamy!$Q$11","v":"GTV"},null,"CZ","2020-10-01",742.98,742.98]
[{"$f":"CONCATENATE(VLOOKUP(C164,[1]Seznamy!$Q$2:$R$36,2,0),VLOOKUP(B164,[1]Produkty!$I:$O,7,0),E164,F164)","v":"11035CZ44105"},{"$f":"[1]Produkty!$I$36","v":"STRONG Elektricky stavitelná podnož černá RAL 9005 mat"},{"$f":"[1]Seznamy!$Q$11","v":"GTV"},null,"CZ","2020-10-01","x","x"]
[{"$f":"CONCATENATE(VLOOKUP(C165,[1]Seznamy!$Q$2:$R$36,2,0),VLOOKUP(B165,[1]Produkty!$I:$O,7,0),E165,F165)","v":"11022CZ44105"},{"$f":"[1]Produkty!$I$23","v":"STRONG LED pásek 21,6W/m 24V bílá neutrální 210 LED/m"},{"$f":"[1]Seznamy!$Q$11","v":"GTV"},null,"CZ","2020-10-01"]
[{"$f":"CONCATENATE(VLOOKUP(C166,[1]Seznamy!$Q$2:$R$36,2,0),VLOOKUP(B166,[1]Produkty!$I:$O,7,0),E166,F166)","v":"1101CZ44105"},{"$f":"[1]Produkty!$I$2","v":"STRONG plus závěs naložený s tlumením, s excentrem, klipový"},{"$f":"[1]Seznamy!$Q$11","v":"GTV"},null,"CZ","2020-10-01",20.66,20.66]
[{"$f":"CONCATENATE(VLOOKUP(C167,[1]Seznamy!$Q$2:$R$36,2,0),VLOOKUP(B167,[1]Produkty!$I:$O,7,0),E167,F167)","v":"1106CZ44105"},{"$f":"[1]Produkty!$I$7","v":"STRONG Rektifikační nožka 100 mm"},{"$f":"[1]Seznamy!$Q$11","v":"GTV"},null,"CZ","2020-10-01","x","x"]
[{"$f":"CONCATENATE(VLOOKUP(C168,[1]Seznamy!$Q$2:$R$36,2,0),VLOOKUP(B168,[1]Produkty!$I:$O,7,0),E168,F168)","v":"1107CZ44105"},{"$f":"[1]Produkty!$I$8","v":"STRONG Stolová noha centrální 450x450 černá"},{"$f":"[1]Seznamy!$Q$11","v":"GTV"},null,"CZ","2020-10-01","x","x"]
[{"$f":"CONCATENATE(VLOOKUP(C169,[1]Seznamy!$Q$2:$R$36,2,0),VLOOKUP(B169,[1]Produkty!$I:$O,7,0),E169,F169)","v":"11023CZ44105"},{"$f":"[1]Produkty!$I$24","v":"STRONG transformátor plochý LED 24V 100W"},{"$f":"[1]Seznamy!$Q$11","v":"GTV"},null,"CZ","2020-10-01"]
[{"$f":"CONCATENATE(VLOOKUP(C170,[1]Seznamy!$Q$2:$R$36,2,0),VLOOKUP(B170,[1]Produkty!$I:$O,7,0),E170,F170)","v":"1102CZ44105"},{"$f":"[1]Produkty!$I$3","v":"STRONG závěs naložený, slide on"},{"$f":"[1]Seznamy!$Q$11","v":"GTV"},null,"CZ","2020-10-01","x","x"]
[{"$f":"CONCATENATE(VLOOKUP(C171,[1]Seznamy!$Q$2:$R$36,2,0),VLOOKUP(B171,[1]Produkty!$I:$O,7,0),E171,F171)","v":"1103CZ44105"},{"$f":"[1]Produkty!$I$4","v":"StrongBox H86/500mm bílý"},{"$f":"[1]Seznamy!$Q$11","v":"GTV"},null,"CZ","2020-10-01",346.28,346.28]
[{"$f":"CONCATENATE(VLOOKUP(C172,[1]Seznamy!$Q$2:$R$36,2,0),VLOOKUP(B172,[1]Produkty!$I:$O,7,0),E172,F172)","v":"1104CZ44105"},{"$f":"[1]Produkty!$I$5","v":"StrongMax 89/500 mm šedý (antracit)"},{"$f":"[1]Seznamy!$Q$11","v":"GTV"},null,"CZ","2020-10-01",354.55,354.55]
[{"$f":"CONCATENATE(VLOOKUP(C173,[1]Seznamy!$Q$2:$R$36,2,0),VLOOKUP(B173,[1]Produkty!$I:$O,7,0),E173,F173)","v":"1105CZ44105"},{"$f":"[1]Produkty!$I$6","v":"StrongRide synchro 3D celovýsuv 500 mm s tlumením"},{"$f":"[1]Seznamy!$Q$11","v":"GTV"},null,"CZ","2020-10-01",230.58,230.58]
[{"$f":"CONCATENATE(VLOOKUP(C174,[1]Seznamy!$Q$2:$R$36,2,0),VLOOKUP(B174,[1]Produkty!$I:$O,7,0),E174,F174)","v":"11036CZ44105"},{"$f":"[1]Produkty!$I$37","v":"TULIP Gola dvířkový J profil 4,1m eloxovaný hliník"},{"$f":"[1]Seznamy!$Q$11","v":"GTV"},null,"CZ","2020-10-01"]
[{"$f":"CONCATENATE(VLOOKUP(C175,[1]Seznamy!$Q$2:$R$36,2,0),VLOOKUP(B175,[1]Produkty!$I:$O,7,0),E175,F175)","v":"11018CZ44105"},{"$f":"[1]Produkty!$I$19","v":"TULIP úchytka Anita 96 nikl matný + šroubky"},{"$f":"[1]Seznamy!$Q$11","v":"GTV"},null,"CZ","2020-10-01","x","x"]
[{"$f":"CONCATENATE(VLOOKUP(C176,[1]Seznamy!$Q$2:$R$36,2,0),VLOOKUP(B176,[1]Produkty!$I:$O,7,0),E176,F176)","v":"11021CZ44105"},{"$f":"[1]Produkty!$I$22","v":"TULIP Úchytka Lucata 160 černá matná"},{"$f":"[1]Seznamy!$Q$11","v":"GTV"},null,"CZ","2020-10-01","x","x"]
[{"$f":"CONCATENATE(VLOOKUP(C177,[1]Seznamy!$Q$2:$R$36,2,0),VLOOKUP(B177,[1]Produkty!$I:$O,7,0),E177,F177)","v":"11016CZ44105"},{"$f":"[1]Produkty!$I$17","v":"TULIP úchytka Nakana 128 chrom matný + šroubky"},{"$f":"[1]Seznamy!$Q$11","v":"GTV"},null,"CZ","2020-10-01","x","x"]
[{"$f":"CONCATENATE(VLOOKUP(C178,[1]Seznamy!$Q$2:$R$36,2,0),VLOOKUP(B178,[1]Produkty!$I:$O,7,0),E178,F178)","v":"11017CZ44105"},{"$f":"[1]Produkty!$I$18","v":"TULIP úchytka Piombina 96 nikl matný + šroubky"},{"$f":"[1]Seznamy!$Q$11","v":"GTV"},null,"CZ","2020-10-01","x","x"]
[{"$f":"CONCATENATE(VLOOKUP(C179,[1]Seznamy!$Q$2:$R$36,2,0),VLOOKUP(B179,[1]Produkty!$I:$O,7,0),E179,F179)","v":"11020CZ44105"},{"$f":"[1]Produkty!$I$21","v":"TULIP Úchytka Ramara 596 imitace nerezi"},{"$f":"[1]Seznamy!$Q$11","v":"GTV"},null,"CZ","2020-10-01","x","x"]
[{"$f":"CONCATENATE(VLOOKUP(C180,[1]Seznamy!$Q$2:$R$36,2,0),VLOOKUP(B180,[1]Produkty!$I:$O,7,0),E180,F180)","v":"11019CZ44105"},{"$f":"[1]Produkty!$I$20","v":"TULIP věšák Lugo XL chrom matný + šroubky"},{"$f":"[1]Seznamy!$Q$11","v":"GTV"},null,"CZ","2020-10-01","x","x"]
[{"$f":"CONCATENATE(VLOOKUP(C181,[1]Seznamy!$Q$2:$R$36,2,0),VLOOKUP(B181,[1]Produkty!$I:$O,7,0),E181,F181)","v":"11024CZ44105"},{"$f":"[1]Produkty!$I$25","v":"Vrut PZ 4x18 zápustná hlava zinek bílý PZ2"},{"$f":"[1]Seznamy!$Q$11","v":"GTV"},null,"CZ","2020-10-01","x","x"]
[{"$f":"CONCATENATE(VLOOKUP(C182,[1]Seznamy!$Q$2:$R$36,2,0),VLOOKUP(B182,[1]Produkty!$I:$O,7,0),E182,F182)","v":"10930CZ44105"},{"$f":"[1]Produkty!$I$31","v":"ABSB 77039/414 W980/500/W954 ST2 23/2"},{"$f":"[1]Seznamy!$Q$10","v":"Hafele"},null,"CZ","2020-10-01","x","x"]
[{"$f":"CONCATENATE(VLOOKUP(C183,[1]Seznamy!$Q$2:$R$36,2,0),VLOOKUP(B183,[1]Produkty!$I:$O,7,0),E183,F183)","v":"10929CZ44105"},{"$f":"[1]Produkty!$I$30","v":"ABSB HU10113 Bílá 101/110/113/8100/8685/W954/B3822 PE 22/2"},{"$f":"[1]Seznamy!$Q$10","v":"Hafele"},null,"CZ","2020-10-01","x","x"]
[{"$f":"CONCATENATE(VLOOKUP(C184,[1]Seznamy!$Q$2:$R$36,2,0),VLOOKUP(B184,[1]Produkty!$I:$O,7,0),E184,F184)","v":"10932CZ44105"},{"$f":"[1]Produkty!$I$33","v":"Alfa II profile 222788"},{"$f":"[1]Seznamy!$Q$10","v":"Hafele"},null,"CZ","2020-10-01"]
[{"$f":"CONCATENATE(VLOOKUP(C185,[1]Seznamy!$Q$2:$R$36,2,0),VLOOKUP(B185,[1]Produkty!$I:$O,7,0),E185,F185)","v":"1099CZ44105"},{"$f":"[1]Produkty!$I$10","v":"BBP OA Zásuvka 515 mm kovová černá"},{"$f":"[1]Seznamy!$Q$10","v":"Hafele"},null,"CZ","2020-10-01",237.87,237.87]
[{"$f":"CONCATENATE(VLOOKUP(C186,[1]Seznamy!$Q$2:$R$36,2,0),VLOOKUP(B186,[1]Produkty!$I:$O,7,0),E186,F186)","v":"10927CZ44105"},{"$f":"[1]Produkty!$I$28","v":"DTDD DUB COMMERCIAL A/B DEC 2800/2070/19"},{"$f":"[1]Seznamy!$Q$10","v":"Hafele"},null,"CZ","2020-10-01","x","x"]
[{"$f":"CONCATENATE(VLOOKUP(C187,[1]Seznamy!$Q$2:$R$36,2,0),VLOOKUP(B187,[1]Produkty!$I:$O,7,0),E187,F187)","v":"10928CZ44105"},{"$f":"[1]Produkty!$I$29","v":"DTDD Dub evr. radiál st A/B 2800/2070/19"},{"$f":"[1]Seznamy!$Q$10","v":"Hafele"},null,"CZ","2020-10-01","x","x"]
[{"$f":"CONCATENATE(VLOOKUP(C188,[1]Seznamy!$Q$2:$R$36,2,0),VLOOKUP(B188,[1]Produkty!$I:$O,7,0),E188,F188)","v":"10926CZ44105"},{"$f":"[1]Produkty!$I$27","v":"DTDL W980 ST2 Platinově bílá 2800/2070/18"},{"$f":"[1]Seznamy!$Q$10","v":"Hafele"},null,"CZ","2020-10-01","x","x"]
[{"$f":"CONCATENATE(VLOOKUP(C189,[1]Seznamy!$Q$2:$R$36,2,0),VLOOKUP(B189,[1]Produkty!$I:$O,7,0),E189,F189)","v":"10911CZ44105"},{"$f":"[1]Produkty!$I$12","v":"FRANKE Dřez BFG 611-78 780 x 500 onyx"},{"$f":"[1]Seznamy!$Q$10","v":"Hafele"},null,"CZ","2020-10-01","x","x"]
[{"$f":"CONCATENATE(VLOOKUP(C190,[1]Seznamy!$Q$2:$R$36,2,0),VLOOKUP(B190,[1]Produkty!$I:$O,7,0),E190,F190)","v":"10914CZ44105"},{"$f":"[1]Produkty!$I$15","v":"FRANKE Dřez ETN 610 455 x 435"},{"$f":"[1]Seznamy!$Q$10","v":"Hafele"},null,"CZ","2020-10-01",1784.7,1784.7]
[{"$f":"CONCATENATE(VLOOKUP(C191,[1]Seznamy!$Q$2:$R$36,2,0),VLOOKUP(B191,[1]Produkty!$I:$O,7,0),E191,F191)","v":"10910CZ44105"},{"$f":"[1]Produkty!$I$11","v":"FRANKE Dřez ETN 614 6/4 obyčejný ventil bez otvoru"},{"$f":"[1]Seznamy!$Q$10","v":"Hafele"},null,"CZ","2020-10-01",1652.4,1652.4]
[{"$f":"CONCATENATE(VLOOKUP(C192,[1]Seznamy!$Q$2:$R$36,2,0),VLOOKUP(B192,[1]Produkty!$I:$O,7,0),E192,F192)","v":"10913CZ44105"},{"$f":"[1]Produkty!$I$14","v":"GOLLINUCCI Sorter 580 Plus Line, 600 mm, výška 505mm, 80 l, šedý"},{"$f":"[1]Seznamy!$Q$10","v":"Hafele"},null,"CZ","2020-10-01","x","x"]
[{"$f":"CONCATENATE(VLOOKUP(C193,[1]Seznamy!$Q$2:$R$36,2,0),VLOOKUP(B193,[1]Produkty!$I:$O,7,0),E193,F193)","v":"10915CZ44105"},{"$f":"[1]Produkty!$I$16","v":"GOLLINUCCI Sorter Linea 222, 300 mm"},{"$f":"[1]Seznamy!$Q$10","v":"Hafele"},null,"CZ","2020-10-01","x","x"]
[{"$f":"CONCATENATE(VLOOKUP(C194,[1]Seznamy!$Q$2:$R$36,2,0),VLOOKUP(B194,[1]Produkty!$I:$O,7,0),E194,F194)","v":"10912CZ44105"},{"$f":"[1]Produkty!$I$13","v":"GOLLINUCCI Sorter Sistema 901/2x16 l, 600 mm"},{"$f":"[1]Seznamy!$Q$10","v":"Hafele"},null,"CZ","2020-10-01","x","x"]
[{"$f":"CONCATENATE(VLOOKUP(C195,[1]Seznamy!$Q$2:$R$36,2,0),VLOOKUP(B195,[1]Produkty!$I:$O,7,0),E195,F195)","v":"10931CZ44105"},{"$f":"[1]Produkty!$I$32","v":"HDF LAK 101 BÍLÁ PE 2800/2070/3"},{"$f":"[1]Seznamy!$Q$10","v":"Hafele"},null,"CZ","2020-10-01","x","x"]
[{"$f":"CONCATENATE(VLOOKUP(C196,[1]Seznamy!$Q$2:$R$36,2,0),VLOOKUP(B196,[1]Produkty!$I:$O,7,0),E196,F196)","v":"10925CZ44105"},{"$f":"[1]Produkty!$I$26","v":"Konfirmát 7/50 zinek bílý bulk"},{"$f":"[1]Seznamy!$Q$10","v":"Hafele"},null,"CZ","2020-10-01",71.28,71.28]
[{"$f":"CONCATENATE(VLOOKUP(C197,[1]Seznamy!$Q$2:$R$36,2,0),VLOOKUP(B197,[1]Produkty!$I:$O,7,0),E197,F197)","v":"10933CZ44105"},{"$f":"[1]Produkty!$I$34","v":"SEVROLL Era úchytová lišta 18mm 2,70m stříbrná"},{"$f":"[1]Seznamy!$Q$10","v":"Hafele"},null,"CZ","2020-10-01"]
[{"$f":"CONCATENATE(VLOOKUP(C198,[1]Seznamy!$Q$2:$R$36,2,0),VLOOKUP(B198,[1]Produkty!$I:$O,7,0),E198,F198)","v":"10934CZ44105"},{"$f":"[1]Produkty!$I$35","v":"Strong electric socket, lift"},{"$f":"[1]Seznamy!$Q$10","v":"Hafele"},null,"CZ","2020-10-01","x","x"]
[{"$f":"CONCATENATE(VLOOKUP(C199,[1]Seznamy!$Q$2:$R$36,2,0),VLOOKUP(B199,[1]Produkty!$I:$O,7,0),E199,F199)","v":"1098CZ44105"},{"$f":"[1]Produkty!$I$9","v":"STRONG Elektrická zásuvka 3x230V, francouzský typ, 265x130x68 mm stříbrná"},{"$f":"[1]Seznamy!$Q$10","v":"Hafele"},null,"CZ","2020-10-01",2263.6799999999998,2263.6799999999998]
[{"$f":"CONCATENATE(VLOOKUP(C200,[1]Seznamy!$Q$2:$R$36,2,0),VLOOKUP(B200,[1]Produkty!$I:$O,7,0),E200,F200)","v":"10935CZ44105"},{"$f":"[1]Produkty!$I$36","v":"STRONG Elektricky stavitelná podnož černá RAL 9005 mat"},{"$f":"[1]Seznamy!$Q$10","v":"Hafele"},null,"CZ","2020-10-01","x","x"]
[{"$f":"CONCATENATE(VLOOKUP(C201,[1]Seznamy!$Q$2:$R$36,2,0),VLOOKUP(B201,[1]Produkty!$I:$O,7,0),E201,F201)","v":"10922CZ44105"},{"$f":"[1]Produkty!$I$23","v":"STRONG LED pásek 21,6W/m 24V bílá neutrální 210 LED/m"},{"$f":"[1]Seznamy!$Q$10","v":"Hafele"},null,"CZ","2020-10-01"]
[{"$f":"CONCATENATE(VLOOKUP(C202,[1]Seznamy!$Q$2:$R$36,2,0),VLOOKUP(B202,[1]Produkty!$I:$O,7,0),E202,F202)","v":"1091CZ44105"},{"$f":"[1]Produkty!$I$2","v":"STRONG plus závěs naložený s tlumením, s excentrem, klipový"},{"$f":"[1]Seznamy!$Q$10","v":"Hafele"},null,"CZ","2020-10-01",24.3,24.3]
[{"$f":"CONCATENATE(VLOOKUP(C203,[1]Seznamy!$Q$2:$R$36,2,0),VLOOKUP(B203,[1]Produkty!$I:$O,7,0),E203,F203)","v":"1096CZ44105"},{"$f":"[1]Produkty!$I$7","v":"STRONG Rektifikační nožka 100 mm"},{"$f":"[1]Seznamy!$Q$10","v":"Hafele"},null,"CZ","2020-10-01",22.68,22.68]
[{"$f":"CONCATENATE(VLOOKUP(C204,[1]Seznamy!$Q$2:$R$36,2,0),VLOOKUP(B204,[1]Produkty!$I:$O,7,0),E204,F204)","v":"1097CZ44105"},{"$f":"[1]Produkty!$I$8","v":"STRONG Stolová noha centrální 450x450 černá"},{"$f":"[1]Seznamy!$Q$10","v":"Hafele"},null,"CZ","2020-10-01","x","x"]
[{"$f":"CONCATENATE(VLOOKUP(C205,[1]Seznamy!$Q$2:$R$36,2,0),VLOOKUP(B205,[1]Produkty!$I:$O,7,0),E205,F205)","v":"10923CZ44105"},{"$f":"[1]Produkty!$I$24","v":"STRONG transformátor plochý LED 24V 100W"},{"$f":"[1]Seznamy!$Q$10","v":"Hafele"},null,"CZ","2020-10-01"]
[{"$f":"CONCATENATE(VLOOKUP(C206,[1]Seznamy!$Q$2:$R$36,2,0),VLOOKUP(B206,[1]Produkty!$I:$O,7,0),E206,F206)","v":"1092CZ44105"},{"$f":"[1]Produkty!$I$3","v":"STRONG závěs naložený, slide on"},{"$f":"[1]Seznamy!$Q$10","v":"Hafele"},null,"CZ","2020-10-01",7.29,7.29]
[{"$f":"CONCATENATE(VLOOKUP(C207,[1]Seznamy!$Q$2:$R$36,2,0),VLOOKUP(B207,[1]Produkty!$I:$O,7,0),E207,F207)","v":"1093CZ44105"},{"$f":"[1]Produkty!$I$4","v":"StrongBox H86/500mm bílý"},{"$f":"[1]Seznamy!$Q$10","v":"Hafele"},null,"CZ","2020-10-01",280.26,280.26]
[{"$f":"CONCATENATE(VLOOKUP(C208,[1]Seznamy!$Q$2:$R$36,2,0),VLOOKUP(B208,[1]Produkty!$I:$O,7,0),E208,F208)","v":"1094CZ44105"},{"$f":"[1]Produkty!$I$5","v":"StrongMax 89/500 mm šedý (antracit)"},{"$f":"[1]Seznamy!$Q$10","v":"Hafele"},null,"CZ","2020-10-01",388.8,388.8]
[{"$f":"CONCATENATE(VLOOKUP(C209,[1]Seznamy!$Q$2:$R$36,2,0),VLOOKUP(B209,[1]Produkty!$I:$O,7,0),E209,F209)","v":"1095CZ44105"},{"$f":"[1]Produkty!$I$6","v":"StrongRide synchro 3D celovýsuv 500 mm s tlumením"},{"$f":"[1]Seznamy!$Q$10","v":"Hafele"},null,"CZ","2020-10-01",250.29,250.29]
[{"$f":"CONCATENATE(VLOOKUP(C210,[1]Seznamy!$Q$2:$R$36,2,0),VLOOKUP(B210,[1]Produkty!$I:$O,7,0),E210,F210)","v":"10936CZ44105"},{"$f":"[1]Produkty!$I$37","v":"TULIP Gola dvířkový J profil 4,1m eloxovaný hliník"},{"$f":"[1]Seznamy!$Q$10","v":"Hafele"},null,"CZ","2020-10-01"]
[{"$f":"CONCATENATE(VLOOKUP(C211,[1]Seznamy!$Q$2:$R$36,2,0),VLOOKUP(B211,[1]Produkty!$I:$O,7,0),E211,F211)","v":"10918CZ44105"},{"$f":"[1]Produkty!$I$19","v":"TULIP úchytka Anita 96 nikl matný + šroubky"},{"$f":"[1]Seznamy!$Q$10","v":"Hafele"},null,"CZ","2020-10-01","x","x"]
[{"$f":"CONCATENATE(VLOOKUP(C212,[1]Seznamy!$Q$2:$R$36,2,0),VLOOKUP(B212,[1]Produkty!$I:$O,7,0),E212,F212)","v":"10921CZ44105"},{"$f":"[1]Produkty!$I$22","v":"TULIP Úchytka Lucata 160 černá matná"},{"$f":"[1]Seznamy!$Q$10","v":"Hafele"},null,"CZ","2020-10-01",72.09,72.09]
[{"$f":"CONCATENATE(VLOOKUP(C213,[1]Seznamy!$Q$2:$R$36,2,0),VLOOKUP(B213,[1]Produkty!$I:$O,7,0),E213,F213)","v":"10916CZ44105"},{"$f":"[1]Produkty!$I$17","v":"TULIP úchytka Nakana 128 chrom matný + šroubky"},{"$f":"[1]Seznamy!$Q$10","v":"Hafele"},null,"CZ","2020-10-01",59.4,59.4]
[{"$f":"CONCATENATE(VLOOKUP(C214,[1]Seznamy!$Q$2:$R$36,2,0),VLOOKUP(B214,[1]Produkty!$I:$O,7,0),E214,F214)","v":"10917CZ44105"},{"$f":"[1]Produkty!$I$18","v":"TULIP úchytka Piombina 96 nikl matný + šroubky"},{"$f":"[1]Seznamy!$Q$10","v":"Hafele"},null,"CZ","2020-10-01","x","x"]
[{"$f":"CONCATENATE(VLOOKUP(C215,[1]Seznamy!$Q$2:$R$36,2,0),VLOOKUP(B215,[1]Produkty!$I:$O,7,0),E215,F215)","v":"10920CZ44105"},{"$f":"[1]Produkty!$I$21","v":"TULIP Úchytka Ramara 596 imitace nerezi"},{"$f":"[1]Seznamy!$Q$10","v":"Hafele"},null,"CZ","2020-10-01",215.46,215.46]
[{"$f":"CONCATENATE(VLOOKUP(C216,[1]Seznamy!$Q$2:$R$36,2,0),VLOOKUP(B216,[1]Produkty!$I:$O,7,0),E216,F216)","v":"10919CZ44105"},{"$f":"[1]Produkty!$I$20","v":"TULIP věšák Lugo XL chrom matný + šroubky"},{"$f":"[1]Seznamy!$Q$10","v":"Hafele"},null,"CZ","2020-10-01",48.6,48.6]
[{"$f":"CONCATENATE(VLOOKUP(C217,[1]Seznamy!$Q$2:$R$36,2,0),VLOOKUP(B217,[1]Produkty!$I:$O,7,0),E217,F217)","v":"10924CZ44105"},{"$f":"[1]Produkty!$I$25","v":"Vrut PZ 4x18 zápustná hlava zinek bílý PZ2"},{"$f":"[1]Seznamy!$Q$10","v":"Hafele"},null,"CZ","2020-10-01",12.96,12.96]
[{"$f":"CONCATENATE(VLOOKUP(C218,[1]Seznamy!$Q$2:$R$36,2,0),VLOOKUP(B218,[1]Produkty!$I:$O,7,0),E218,F218)","v":"10230CZ44105"},{"$f":"[1]Produkty!$I$31","v":"ABSB 77039/414 W980/500/W954 ST2 23/2"},{"$f":"[1]Seznamy!$Q$3","v":"Hranipex"},null,"CZ","2020-10-01"]
[{"$f":"CONCATENATE(VLOOKUP(C219,[1]Seznamy!$Q$2:$R$36,2,0),VLOOKUP(B219,[1]Produkty!$I:$O,7,0),E219,F219)","v":"10229CZ44105"},{"$f":"[1]Produkty!$I$30","v":"ABSB HU10113 Bílá 101/110/113/8100/8685/W954/B3822 PE 22/2"},{"$f":"[1]Seznamy!$Q$3","v":"Hranipex"},null,"CZ","2020-10-01"]
[{"$f":"CONCATENATE(VLOOKUP(C220,[1]Seznamy!$Q$2:$R$36,2,0),VLOOKUP(B220,[1]Produkty!$I:$O,7,0),E220,F220)","v":"10232CZ44105"},{"$f":"[1]Produkty!$I$33","v":"Alfa II profile 222788"},{"$f":"[1]Seznamy!$Q$3","v":"Hranipex"},null,"CZ","2020-10-01","x","x"]
[{"$f":"CONCATENATE(VLOOKUP(C221,[1]Seznamy!$Q$2:$R$36,2,0),VLOOKUP(B221,[1]Produkty!$I:$O,7,0),E221,F221)","v":"1029CZ44105"},{"$f":"[1]Produkty!$I$10","v":"BBP OA Zásuvka 515 mm kovová černá"},{"$f":"[1]Seznamy!$Q$3","v":"Hranipex"},null,"CZ","2020-10-01","x","x"]
[{"$f":"CONCATENATE(VLOOKUP(C222,[1]Seznamy!$Q$2:$R$36,2,0),VLOOKUP(B222,[1]Produkty!$I:$O,7,0),E222,F222)","v":"10227CZ44105"},{"$f":"[1]Produkty!$I$28","v":"DTDD DUB COMMERCIAL A/B DEC 2800/2070/19"},{"$f":"[1]Seznamy!$Q$3","v":"Hranipex"},null,"CZ","2020-10-01","x","x"]
[{"$f":"CONCATENATE(VLOOKUP(C223,[1]Seznamy!$Q$2:$R$36,2,0),VLOOKUP(B223,[1]Produkty!$I:$O,7,0),E223,F223)","v":"10228CZ44105"},{"$f":"[1]Produkty!$I$29","v":"DTDD Dub evr. radiál st A/B 2800/2070/19"},{"$f":"[1]Seznamy!$Q$3","v":"Hranipex"},null,"CZ","2020-10-01","x","x"]
[{"$f":"CONCATENATE(VLOOKUP(C224,[1]Seznamy!$Q$2:$R$36,2,0),VLOOKUP(B224,[1]Produkty!$I:$O,7,0),E224,F224)","v":"10226CZ44105"},{"$f":"[1]Produkty!$I$27","v":"DTDL W980 ST2 Platinově bílá 2800/2070/18"},{"$f":"[1]Seznamy!$Q$3","v":"Hranipex"},null,"CZ","2020-10-01","x","x"]
[{"$f":"CONCATENATE(VLOOKUP(C225,[1]Seznamy!$Q$2:$R$36,2,0),VLOOKUP(B225,[1]Produkty!$I:$O,7,0),E225,F225)","v":"10211CZ44105"},{"$f":"[1]Produkty!$I$12","v":"FRANKE Dřez BFG 611-78 780 x 500 onyx"},{"$f":"[1]Seznamy!$Q$3","v":"Hranipex"},null,"CZ","2020-10-01","x","x"]
[{"$f":"CONCATENATE(VLOOKUP(C226,[1]Seznamy!$Q$2:$R$36,2,0),VLOOKUP(B226,[1]Produkty!$I:$O,7,0),E226,F226)","v":"10214CZ44105"},{"$f":"[1]Produkty!$I$15","v":"FRANKE Dřez ETN 610 455 x 435"},{"$f":"[1]Seznamy!$Q$3","v":"Hranipex"},null,"CZ","2020-10-01","x","x"]
[{"$f":"CONCATENATE(VLOOKUP(C227,[1]Seznamy!$Q$2:$R$36,2,0),VLOOKUP(B227,[1]Produkty!$I:$O,7,0),E227,F227)","v":"10210CZ44105"},{"$f":"[1]Produkty!$I$11","v":"FRANKE Dřez ETN 614 6/4 obyčejný ventil bez otvoru"},{"$f":"[1]Seznamy!$Q$3","v":"Hranipex"},null,"CZ","2020-10-01","x","x"]
[{"$f":"CONCATENATE(VLOOKUP(C228,[1]Seznamy!$Q$2:$R$36,2,0),VLOOKUP(B228,[1]Produkty!$I:$O,7,0),E228,F228)","v":"10213CZ44105"},{"$f":"[1]Produkty!$I$14","v":"GOLLINUCCI Sorter 580 Plus Line, 600 mm, výška 505mm, 80 l, šedý"},{"$f":"[1]Seznamy!$Q$3","v":"Hranipex"},null,"CZ","2020-10-01","x","x"]
[{"$f":"CONCATENATE(VLOOKUP(C229,[1]Seznamy!$Q$2:$R$36,2,0),VLOOKUP(B229,[1]Produkty!$I:$O,7,0),E229,F229)","v":"10215CZ44105"},{"$f":"[1]Produkty!$I$16","v":"GOLLINUCCI Sorter Linea 222, 300 mm"},{"$f":"[1]Seznamy!$Q$3","v":"Hranipex"},null,"CZ","2020-10-01","x","x"]
[{"$f":"CONCATENATE(VLOOKUP(C230,[1]Seznamy!$Q$2:$R$36,2,0),VLOOKUP(B230,[1]Produkty!$I:$O,7,0),E230,F230)","v":"10212CZ44105"},{"$f":"[1]Produkty!$I$13","v":"GOLLINUCCI Sorter Sistema 901/2x16 l, 600 mm"},{"$f":"[1]Seznamy!$Q$3","v":"Hranipex"},null,"CZ","2020-10-01","x","x"]
[{"$f":"CONCATENATE(VLOOKUP(C231,[1]Seznamy!$Q$2:$R$36,2,0),VLOOKUP(B231,[1]Produkty!$I:$O,7,0),E231,F231)","v":"10231CZ44105"},{"$f":"[1]Produkty!$I$32","v":"HDF LAK 101 BÍLÁ PE 2800/2070/3"},{"$f":"[1]Seznamy!$Q$3","v":"Hranipex"},null,"CZ","2020-10-01","x","x"]
[{"$f":"CONCATENATE(VLOOKUP(C232,[1]Seznamy!$Q$2:$R$36,2,0),VLOOKUP(B232,[1]Produkty!$I:$O,7,0),E232,F232)","v":"10225CZ44105"},{"$f":"[1]Produkty!$I$26","v":"Konfirmát 7/50 zinek bílý bulk"},{"$f":"[1]Seznamy!$Q$3","v":"Hranipex"},null,"CZ","2020-10-01","x","x"]
[{"$f":"CONCATENATE(VLOOKUP(C233,[1]Seznamy!$Q$2:$R$36,2,0),VLOOKUP(B233,[1]Produkty!$I:$O,7,0),E233,F233)","v":"10233CZ44105"},{"$f":"[1]Produkty!$I$34","v":"SEVROLL Era úchytová lišta 18mm 2,70m stříbrná"},{"$f":"[1]Seznamy!$Q$3","v":"Hranipex"},null,"CZ","2020-10-01","x","x"]
[{"$f":"CONCATENATE(VLOOKUP(C234,[1]Seznamy!$Q$2:$R$36,2,0),VLOOKUP(B234,[1]Produkty!$I:$O,7,0),E234,F234)","v":"10234CZ44105"},{"$f":"[1]Produkty!$I$35","v":"Strong electric socket, lift"},{"$f":"[1]Seznamy!$Q$3","v":"Hranipex"},null,"CZ","2020-10-01","x","x"]
[{"$f":"CONCATENATE(VLOOKUP(C235,[1]Seznamy!$Q$2:$R$36,2,0),VLOOKUP(B235,[1]Produkty!$I:$O,7,0),E235,F235)","v":"1028CZ44105"},{"$f":"[1]Produkty!$I$9","v":"STRONG Elektrická zásuvka 3x230V, francouzský typ, 265x130x68 mm stříbrná"},{"$f":"[1]Seznamy!$Q$3","v":"Hranipex"},null,"CZ","2020-10-01","x","x"]
[{"$f":"CONCATENATE(VLOOKUP(C236,[1]Seznamy!$Q$2:$R$36,2,0),VLOOKUP(B236,[1]Produkty!$I:$O,7,0),E236,F236)","v":"10235CZ44105"},{"$f":"[1]Produkty!$I$36","v":"STRONG Elektricky stavitelná podnož černá RAL 9005 mat"},{"$f":"[1]Seznamy!$Q$3","v":"Hranipex"},null,"CZ","2020-10-01","x","x"]
[{"$f":"CONCATENATE(VLOOKUP(C237,[1]Seznamy!$Q$2:$R$36,2,0),VLOOKUP(B237,[1]Produkty!$I:$O,7,0),E237,F237)","v":"10222CZ44105"},{"$f":"[1]Produkty!$I$23","v":"STRONG LED pásek 21,6W/m 24V bílá neutrální 210 LED/m"},{"$f":"[1]Seznamy!$Q$3","v":"Hranipex"},null,"CZ","2020-10-01","x","x"]
[{"$f":"CONCATENATE(VLOOKUP(C238,[1]Seznamy!$Q$2:$R$36,2,0),VLOOKUP(B238,[1]Produkty!$I:$O,7,0),E238,F238)","v":"1021CZ44105"},{"$f":"[1]Produkty!$I$2","v":"STRONG plus závěs naložený s tlumením, s excentrem, klipový"},{"$f":"[1]Seznamy!$Q$3","v":"Hranipex"},null,"CZ","2020-10-01","x","x"]
[{"$f":"CONCATENATE(VLOOKUP(C239,[1]Seznamy!$Q$2:$R$36,2,0),VLOOKUP(B239,[1]Produkty!$I:$O,7,0),E239,F239)","v":"1026CZ44105"},{"$f":"[1]Produkty!$I$7","v":"STRONG Rektifikační nožka 100 mm"},{"$f":"[1]Seznamy!$Q$3","v":"Hranipex"},null,"CZ","2020-10-01","x","x"]
[{"$f":"CONCATENATE(VLOOKUP(C240,[1]Seznamy!$Q$2:$R$36,2,0),VLOOKUP(B240,[1]Produkty!$I:$O,7,0),E240,F240)","v":"1027CZ44105"},{"$f":"[1]Produkty!$I$8","v":"STRONG Stolová noha centrální 450x450 černá"},{"$f":"[1]Seznamy!$Q$3","v":"Hranipex"},null,"CZ","2020-10-01","x","x"]
[{"$f":"CONCATENATE(VLOOKUP(C241,[1]Seznamy!$Q$2:$R$36,2,0),VLOOKUP(B241,[1]Produkty!$I:$O,7,0),E241,F241)","v":"10223CZ44105"},{"$f":"[1]Produkty!$I$24","v":"STRONG transformátor plochý LED 24V 100W"},{"$f":"[1]Seznamy!$Q$3","v":"Hranipex"},null,"CZ","2020-10-01","x","x"]
[{"$f":"CONCATENATE(VLOOKUP(C242,[1]Seznamy!$Q$2:$R$36,2,0),VLOOKUP(B242,[1]Produkty!$I:$O,7,0),E242,F242)","v":"1022CZ44105"},{"$f":"[1]Produkty!$I$3","v":"STRONG závěs naložený, slide on"},{"$f":"[1]Seznamy!$Q$3","v":"Hranipex"},null,"CZ","2020-10-01","x","x"]
[{"$f":"CONCATENATE(VLOOKUP(C243,[1]Seznamy!$Q$2:$R$36,2,0),VLOOKUP(B243,[1]Produkty!$I:$O,7,0),E243,F243)","v":"1023CZ44105"},{"$f":"[1]Produkty!$I$4","v":"StrongBox H86/500mm bílý"},{"$f":"[1]Seznamy!$Q$3","v":"Hranipex"},null,"CZ","2020-10-01","x","x"]
[{"$f":"CONCATENATE(VLOOKUP(C244,[1]Seznamy!$Q$2:$R$36,2,0),VLOOKUP(B244,[1]Produkty!$I:$O,7,0),E244,F244)","v":"1024CZ44105"},{"$f":"[1]Produkty!$I$5","v":"StrongMax 89/500 mm šedý (antracit)"},{"$f":"[1]Seznamy!$Q$3","v":"Hranipex"},null,"CZ","2020-10-01","x","x"]
[{"$f":"CONCATENATE(VLOOKUP(C245,[1]Seznamy!$Q$2:$R$36,2,0),VLOOKUP(B245,[1]Produkty!$I:$O,7,0),E245,F245)","v":"1025CZ44105"},{"$f":"[1]Produkty!$I$6","v":"StrongRide synchro 3D celovýsuv 500 mm s tlumením"},{"$f":"[1]Seznamy!$Q$3","v":"Hranipex"},null,"CZ","2020-10-01","x","x"]
[{"$f":"CONCATENATE(VLOOKUP(C246,[1]Seznamy!$Q$2:$R$36,2,0),VLOOKUP(B246,[1]Produkty!$I:$O,7,0),E246,F246)","v":"10236CZ44105"},{"$f":"[1]Produkty!$I$37","v":"TULIP Gola dvířkový J profil 4,1m eloxovaný hliník"},{"$f":"[1]Seznamy!$Q$3","v":"Hranipex"},null,"CZ","2020-10-01","x","x"]
[{"$f":"CONCATENATE(VLOOKUP(C247,[1]Seznamy!$Q$2:$R$36,2,0),VLOOKUP(B247,[1]Produkty!$I:$O,7,0),E247,F247)","v":"10218CZ44105"},{"$f":"[1]Produkty!$I$19","v":"TULIP úchytka Anita 96 nikl matný + šroubky"},{"$f":"[1]Seznamy!$Q$3","v":"Hranipex"},null,"CZ","2020-10-01","x","x"]
[{"$f":"CONCATENATE(VLOOKUP(C248,[1]Seznamy!$Q$2:$R$36,2,0),VLOOKUP(B248,[1]Produkty!$I:$O,7,0),E248,F248)","v":"10221CZ44105"},{"$f":"[1]Produkty!$I$22","v":"TULIP Úchytka Lucata 160 černá matná"},{"$f":"[1]Seznamy!$Q$3","v":"Hranipex"},null,"CZ","2020-10-01","x","x"]
[{"$f":"CONCATENATE(VLOOKUP(C249,[1]Seznamy!$Q$2:$R$36,2,0),VLOOKUP(B249,[1]Produkty!$I:$O,7,0),E249,F249)","v":"10216CZ44105"},{"$f":"[1]Produkty!$I$17","v":"TULIP úchytka Nakana 128 chrom matný + šroubky"},{"$f":"[1]Seznamy!$Q$3","v":"Hranipex"},null,"CZ","2020-10-01","x","x"]
[{"$f":"CONCATENATE(VLOOKUP(C250,[1]Seznamy!$Q$2:$R$36,2,0),VLOOKUP(B250,[1]Produkty!$I:$O,7,0),E250,F250)","v":"10217CZ44105"},{"$f":"[1]Produkty!$I$18","v":"TULIP úchytka Piombina 96 nikl matný + šroubky"},{"$f":"[1]Seznamy!$Q$3","v":"Hranipex"},null,"CZ","2020-10-01","x","x"]
[{"$f":"CONCATENATE(VLOOKUP(C251,[1]Seznamy!$Q$2:$R$36,2,0),VLOOKUP(B251,[1]Produkty!$I:$O,7,0),E251,F251)","v":"10220CZ44105"},{"$f":"[1]Produkty!$I$21","v":"TULIP Úchytka Ramara 596 imitace nerezi"},{"$f":"[1]Seznamy!$Q$3","v":"Hranipex"},null,"CZ","2020-10-01","x","x"]
[{"$f":"CONCATENATE(VLOOKUP(C252,[1]Seznamy!$Q$2:$R$36,2,0),VLOOKUP(B252,[1]Produkty!$I:$O,7,0),E252,F252)","v":"10219CZ44105"},{"$f":"[1]Produkty!$I$20","v":"TULIP věšák Lugo XL chrom matný + šroubky"},{"$f":"[1]Seznamy!$Q$3","v":"Hranipex"},null,"CZ","2020-10-01","x","x"]
[{"$f":"CONCATENATE(VLOOKUP(C253,[1]Seznamy!$Q$2:$R$36,2,0),VLOOKUP(B253,[1]Produkty!$I:$O,7,0),E253,F253)","v":"10224CZ44105"},{"$f":"[1]Produkty!$I$25","v":"Vrut PZ 4x18 zápustná hlava zinek bílý PZ2"},{"$f":"[1]Seznamy!$Q$3","v":"Hranipex"},null,"CZ","2020-10-01","x","x"]
[{"$f":"CONCATENATE(VLOOKUP(C254,[1]Seznamy!$Q$2:$R$36,2,0),VLOOKUP(B254,[1]Produkty!$I:$O,7,0),E254,F254)","v":"10530CZ44105"},{"$f":"[1]Produkty!$I$31","v":"ABSB 77039/414 W980/500/W954 ST2 23/2"},{"$f":"[1]Seznamy!$Q$6","v":"Jaf Holz"},null,"CZ","2020-10-01",15.5,10.85]
[{"$f":"CONCATENATE(VLOOKUP(C255,[1]Seznamy!$Q$2:$R$36,2,0),VLOOKUP(B255,[1]Produkty!$I:$O,7,0),E255,F255)","v":"10529CZ44105"},{"$f":"[1]Produkty!$I$30","v":"ABSB HU10113 Bílá 101/110/113/8100/8685/W954/B3822 PE 22/2"},{"$f":"[1]Seznamy!$Q$6","v":"Jaf Holz"},null,"CZ","2020-10-01",12.6,8.82]
[{"$f":"CONCATENATE(VLOOKUP(C256,[1]Seznamy!$Q$2:$R$36,2,0),VLOOKUP(B256,[1]Produkty!$I:$O,7,0),E256,F256)","v":"10532CZ44105"},{"$f":"[1]Produkty!$I$33","v":"Alfa II profile 222788"},{"$f":"[1]Seznamy!$Q$6","v":"Jaf Holz"},null,"CZ","2020-10-01","x","x"]
[{"$f":"CONCATENATE(VLOOKUP(C257,[1]Seznamy!$Q$2:$R$36,2,0),VLOOKUP(B257,[1]Produkty!$I:$O,7,0),E257,F257)","v":"1059CZ44105"},{"$f":"[1]Produkty!$I$10","v":"BBP OA Zásuvka 515 mm kovová černá"},{"$f":"[1]Seznamy!$Q$6","v":"Jaf Holz"},null,"CZ","2020-10-01","x","x"]
[{"$f":"CONCATENATE(VLOOKUP(C258,[1]Seznamy!$Q$2:$R$36,2,0),VLOOKUP(B258,[1]Produkty!$I:$O,7,0),E258,F258)","v":"10527CZ44105"},{"$f":"[1]Produkty!$I$28","v":"DTDD DUB COMMERCIAL A/B DEC 2800/2070/19"},{"$f":"[1]Seznamy!$Q$6","v":"Jaf Holz"},null,"CZ","2020-10-01",581,458.99]
[{"$f":"CONCATENATE(VLOOKUP(C259,[1]Seznamy!$Q$2:$R$36,2,0),VLOOKUP(B259,[1]Produkty!$I:$O,7,0),E259,F259)","v":"10528CZ44105"},{"$f":"[1]Produkty!$I$29","v":"DTDD Dub evr. radiál st A/B 2800/2070/19"},{"$f":"[1]Seznamy!$Q$6","v":"Jaf Holz"},null,"CZ","2020-10-01",581,458.99]
[{"$f":"CONCATENATE(VLOOKUP(C260,[1]Seznamy!$Q$2:$R$36,2,0),VLOOKUP(B260,[1]Produkty!$I:$O,7,0),E260,F260)","v":"10526CZ44105"},{"$f":"[1]Produkty!$I$27","v":"DTDL W980 ST2 Platinově bílá 2800/2070/18"},{"$f":"[1]Seznamy!$Q$6","v":"Jaf Holz"},null,"CZ","2020-10-01",225,155.25]
[{"$f":"CONCATENATE(VLOOKUP(C261,[1]Seznamy!$Q$2:$R$36,2,0),VLOOKUP(B261,[1]Produkty!$I:$O,7,0),E261,F261)","v":"10511CZ44105"},{"$f":"[1]Produkty!$I$12","v":"FRANKE Dřez BFG 611-78 780 x 500 onyx"},{"$f":"[1]Seznamy!$Q$6","v":"Jaf Holz"},null,"CZ","2020-10-01",4139.6000000000004,4139.6000000000004]
[{"$f":"CONCATENATE(VLOOKUP(C262,[1]Seznamy!$Q$2:$R$36,2,0),VLOOKUP(B262,[1]Produkty!$I:$O,7,0),E262,F262)","v":"10514CZ44105"},{"$f":"[1]Produkty!$I$15","v":"FRANKE Dřez ETN 610 455 x 435"},{"$f":"[1]Seznamy!$Q$6","v":"Jaf Holz"},null,"CZ","2020-10-01",1113.9000000000001,1113.9000000000001]
[{"$f":"CONCATENATE(VLOOKUP(C263,[1]Seznamy!$Q$2:$R$36,2,0),VLOOKUP(B263,[1]Produkty!$I:$O,7,0),E263,F263)","v":"10510CZ44105"},{"$f":"[1]Produkty!$I$11","v":"FRANKE Dřez ETN 614 6/4 obyčejný ventil bez otvoru"},{"$f":"[1]Seznamy!$Q$6","v":"Jaf Holz"},null,"CZ","2020-10-01",1098.0999999999999,1098.0999999999999]
[{"$f":"CONCATENATE(VLOOKUP(C264,[1]Seznamy!$Q$2:$R$36,2,0),VLOOKUP(B264,[1]Produkty!$I:$O,7,0),E264,F264)","v":"10513CZ44105"},{"$f":"[1]Produkty!$I$14","v":"GOLLINUCCI Sorter 580 Plus Line, 600 mm, výška 505mm, 80 l, šedý"},{"$f":"[1]Seznamy!$Q$6","v":"Jaf Holz"},null,"CZ","2020-10-01","x","x"]
[{"$f":"CONCATENATE(VLOOKUP(C265,[1]Seznamy!$Q$2:$R$36,2,0),VLOOKUP(B265,[1]Produkty!$I:$O,7,0),E265,F265)","v":"10515CZ44105"},{"$f":"[1]Produkty!$I$16","v":"GOLLINUCCI Sorter Linea 222, 300 mm"},{"$f":"[1]Seznamy!$Q$6","v":"Jaf Holz"},null,"CZ","2020-10-01","x","x"]
[{"$f":"CONCATENATE(VLOOKUP(C266,[1]Seznamy!$Q$2:$R$36,2,0),VLOOKUP(B266,[1]Produkty!$I:$O,7,0),E266,F266)","v":"10512CZ44105"},{"$f":"[1]Produkty!$I$13","v":"GOLLINUCCI Sorter Sistema 901/2x16 l, 600 mm"},{"$f":"[1]Seznamy!$Q$6","v":"Jaf Holz"},null,"CZ","2020-10-01","x","x"]
[{"$f":"CONCATENATE(VLOOKUP(C267,[1]Seznamy!$Q$2:$R$36,2,0),VLOOKUP(B267,[1]Produkty!$I:$O,7,0),E267,F267)","v":"10531CZ44105"},{"$f":"[1]Produkty!$I$32","v":"HDF LAK 101 BÍLÁ PE 2800/2070/3"},{"$f":"[1]Seznamy!$Q$6","v":"Jaf Holz"},null,"CZ","2020-10-01",69,52.44]
[{"$f":"CONCATENATE(VLOOKUP(C268,[1]Seznamy!$Q$2:$R$36,2,0),VLOOKUP(B268,[1]Produkty!$I:$O,7,0),E268,F268)","v":"10525CZ44105"},{"$f":"[1]Produkty!$I$26","v":"Konfirmát 7/50 zinek bílý bulk"},{"$f":"[1]Seznamy!$Q$6","v":"Jaf Holz"},null,"CZ","2020-10-01",21.05,15.79]
[{"$f":"CONCATENATE(VLOOKUP(C269,[1]Seznamy!$Q$2:$R$36,2,0),VLOOKUP(B269,[1]Produkty!$I:$O,7,0),E269,F269)","v":"10533CZ44105"},{"$f":"[1]Produkty!$I$34","v":"SEVROLL Era úchytová lišta 18mm 2,70m stříbrná"},{"$f":"[1]Seznamy!$Q$6","v":"Jaf Holz"},null,"CZ","2020-10-01","x","x"]
[{"$f":"CONCATENATE(VLOOKUP(C270,[1]Seznamy!$Q$2:$R$36,2,0),VLOOKUP(B270,[1]Produkty!$I:$O,7,0),E270,F270)","v":"10534CZ44105"},{"$f":"[1]Produkty!$I$35","v":"Strong electric socket, lift"},{"$f":"[1]Seznamy!$Q$6","v":"Jaf Holz"},null,"CZ","2020-10-01",2798.92,1959.24]
[{"$f":"CONCATENATE(VLOOKUP(C271,[1]Seznamy!$Q$2:$R$36,2,0),VLOOKUP(B271,[1]Produkty!$I:$O,7,0),E271,F271)","v":"1058CZ44105"},{"$f":"[1]Produkty!$I$9","v":"STRONG Elektrická zásuvka 3x230V, francouzský typ, 265x130x68 mm stříbrná"},{"$f":"[1]Seznamy!$Q$6","v":"Jaf Holz"},null,"CZ","2020-10-01","x","x"]
[{"$f":"CONCATENATE(VLOOKUP(C272,[1]Seznamy!$Q$2:$R$36,2,0),VLOOKUP(B272,[1]Produkty!$I:$O,7,0),E272,F272)","v":"10535CZ44105"},{"$f":"[1]Produkty!$I$36","v":"STRONG Elektricky stavitelná podnož černá RAL 9005 mat"},{"$f":"[1]Seznamy!$Q$6","v":"Jaf Holz"},null,"CZ","2020-10-01","x","x"]
[{"$f":"CONCATENATE(VLOOKUP(C273,[1]Seznamy!$Q$2:$R$36,2,0),VLOOKUP(B273,[1]Produkty!$I:$O,7,0),E273,F273)","v":"10522CZ44105"},{"$f":"[1]Produkty!$I$23","v":"STRONG LED pásek 21,6W/m 24V bílá neutrální 210 LED/m"},{"$f":"[1]Seznamy!$Q$6","v":"Jaf Holz"},null,"CZ","2020-10-01"]
[{"$f":"CONCATENATE(VLOOKUP(C274,[1]Seznamy!$Q$2:$R$36,2,0),VLOOKUP(B274,[1]Produkty!$I:$O,7,0),E274,F274)","v":"1051CZ44105"},{"$f":"[1]Produkty!$I$2","v":"STRONG plus závěs naložený s tlumením, s excentrem, klipový"},{"$f":"[1]Seznamy!$Q$6","v":"Jaf Holz"},null,"CZ","2020-10-01",32,24]
[{"$f":"CONCATENATE(VLOOKUP(C275,[1]Seznamy!$Q$2:$R$36,2,0),VLOOKUP(B275,[1]Produkty!$I:$O,7,0),E275,F275)","v":"1056CZ44105"},{"$f":"[1]Produkty!$I$7","v":"STRONG Rektifikační nožka 100 mm"},{"$f":"[1]Seznamy!$Q$6","v":"Jaf Holz"},null,"CZ","2020-10-01",6.71,5.03]
[{"$f":"CONCATENATE(VLOOKUP(C276,[1]Seznamy!$Q$2:$R$36,2,0),VLOOKUP(B276,[1]Produkty!$I:$O,7,0),E276,F276)","v":"1057CZ44105"},{"$f":"[1]Produkty!$I$8","v":"STRONG Stolová noha centrální 450x450 černá"},{"$f":"[1]Seznamy!$Q$6","v":"Jaf Holz"},null,"CZ","2020-10-01","x","x"]
[{"$f":"CONCATENATE(VLOOKUP(C277,[1]Seznamy!$Q$2:$R$36,2,0),VLOOKUP(B277,[1]Produkty!$I:$O,7,0),E277,F277)","v":"10523CZ44105"},{"$f":"[1]Produkty!$I$24","v":"STRONG transformátor plochý LED 24V 100W"},{"$f":"[1]Seznamy!$Q$6","v":"Jaf Holz"},null,"CZ","2020-10-01"]
[{"$f":"CONCATENATE(VLOOKUP(C278,[1]Seznamy!$Q$2:$R$36,2,0),VLOOKUP(B278,[1]Produkty!$I:$O,7,0),E278,F278)","v":"1052CZ44105"},{"$f":"[1]Produkty!$I$3","v":"STRONG závěs naložený, slide on"},{"$f":"[1]Seznamy!$Q$6","v":"Jaf Holz"},null,"CZ","2020-10-01"]
[{"$f":"CONCATENATE(VLOOKUP(C279,[1]Seznamy!$Q$2:$R$36,2,0),VLOOKUP(B279,[1]Produkty!$I:$O,7,0),E279,F279)","v":"1053CZ44105"},{"$f":"[1]Produkty!$I$4","v":"StrongBox H86/500mm bílý"},{"$f":"[1]Seznamy!$Q$6","v":"Jaf Holz"},null,"CZ","2020-10-01",495.92,332]
[{"$f":"CONCATENATE(VLOOKUP(C280,[1]Seznamy!$Q$2:$R$36,2,0),VLOOKUP(B280,[1]Produkty!$I:$O,7,0),E280,F280)","v":"1054CZ44105"},{"$f":"[1]Produkty!$I$5","v":"StrongMax 89/500 mm šedý (antracit)"},{"$f":"[1]Seznamy!$Q$6","v":"Jaf Holz"},null,"CZ","2020-10-01","x","x"]
[{"$f":"CONCATENATE(VLOOKUP(C281,[1]Seznamy!$Q$2:$R$36,2,0),VLOOKUP(B281,[1]Produkty!$I:$O,7,0),E281,F281)","v":"1055CZ44105"},{"$f":"[1]Produkty!$I$6","v":"StrongRide synchro 3D celovýsuv 500 mm s tlumením"},{"$f":"[1]Seznamy!$Q$6","v":"Jaf Holz"},null,"CZ","2020-10-01","x","x"]
[{"$f":"CONCATENATE(VLOOKUP(C282,[1]Seznamy!$Q$2:$R$36,2,0),VLOOKUP(B282,[1]Produkty!$I:$O,7,0),E282,F282)","v":"10536CZ44105"},{"$f":"[1]Produkty!$I$37","v":"TULIP Gola dvířkový J profil 4,1m eloxovaný hliník"},{"$f":"[1]Seznamy!$Q$6","v":"Jaf Holz"},null,"CZ","2020-10-01","x","x"]
[{"$f":"CONCATENATE(VLOOKUP(C283,[1]Seznamy!$Q$2:$R$36,2,0),VLOOKUP(B283,[1]Produkty!$I:$O,7,0),E283,F283)","v":"10518CZ44105"},{"$f":"[1]Produkty!$I$19","v":"TULIP úchytka Anita 96 nikl matný + šroubky"},{"$f":"[1]Seznamy!$Q$6","v":"Jaf Holz"},null,"CZ","2020-10-01","x","x"]
[{"$f":"CONCATENATE(VLOOKUP(C284,[1]Seznamy!$Q$2:$R$36,2,0),VLOOKUP(B284,[1]Produkty!$I:$O,7,0),E284,F284)","v":"10521CZ44105"},{"$f":"[1]Produkty!$I$22","v":"TULIP Úchytka Lucata 160 černá matná"},{"$f":"[1]Seznamy!$Q$6","v":"Jaf Holz"},null,"CZ","2020-10-01","x","x"]
[{"$f":"CONCATENATE(VLOOKUP(C285,[1]Seznamy!$Q$2:$R$36,2,0),VLOOKUP(B285,[1]Produkty!$I:$O,7,0),E285,F285)","v":"10516CZ44105"},{"$f":"[1]Produkty!$I$17","v":"TULIP úchytka Nakana 128 chrom matný + šroubky"},{"$f":"[1]Seznamy!$Q$6","v":"Jaf Holz"},null,"CZ","2020-10-01",61.43,46.07]
[{"$f":"CONCATENATE(VLOOKUP(C286,[1]Seznamy!$Q$2:$R$36,2,0),VLOOKUP(B286,[1]Produkty!$I:$O,7,0),E286,F286)","v":"10517CZ44105"},{"$f":"[1]Produkty!$I$18","v":"TULIP úchytka Piombina 96 nikl matný + šroubky"},{"$f":"[1]Seznamy!$Q$6","v":"Jaf Holz"},null,"CZ","2020-10-01","x","x"]
[{"$f":"CONCATENATE(VLOOKUP(C287,[1]Seznamy!$Q$2:$R$36,2,0),VLOOKUP(B287,[1]Produkty!$I:$O,7,0),E287,F287)","v":"10520CZ44105"},{"$f":"[1]Produkty!$I$21","v":"TULIP Úchytka Ramara 596 imitace nerezi"},{"$f":"[1]Seznamy!$Q$6","v":"Jaf Holz"},null,"CZ","2020-10-01","x","x"]
[{"$f":"CONCATENATE(VLOOKUP(C288,[1]Seznamy!$Q$2:$R$36,2,0),VLOOKUP(B288,[1]Produkty!$I:$O,7,0),E288,F288)","v":"10519CZ44105"},{"$f":"[1]Produkty!$I$20","v":"TULIP věšák Lugo XL chrom matný + šroubky"},{"$f":"[1]Seznamy!$Q$6","v":"Jaf Holz"},null,"CZ","2020-10-01",72.05,54.04]
[{"$f":"CONCATENATE(VLOOKUP(C289,[1]Seznamy!$Q$2:$R$36,2,0),VLOOKUP(B289,[1]Produkty!$I:$O,7,0),E289,F289)","v":"10524CZ44105"},{"$f":"[1]Produkty!$I$25","v":"Vrut PZ 4x18 zápustná hlava zinek bílý PZ2"},{"$f":"[1]Seznamy!$Q$6","v":"Jaf Holz"},null,"CZ","2020-10-01",22.93,17.2]
[{"$f":"CONCATENATE(VLOOKUP(C290,[1]Seznamy!$Q$2:$R$36,2,0),VLOOKUP(B290,[1]Produkty!$I:$O,7,0),E290,F290)","v":"11130CZ44105"},{"$f":"[1]Produkty!$I$31","v":"ABSB 77039/414 W980/500/W954 ST2 23/2"},{"$f":"[1]Seznamy!$Q$12","v":"Kili"},null,"CZ","2020-10-01","x","x"]
[{"$f":"CONCATENATE(VLOOKUP(C291,[1]Seznamy!$Q$2:$R$36,2,0),VLOOKUP(B291,[1]Produkty!$I:$O,7,0),E291,F291)","v":"11129CZ44105"},{"$f":"[1]Produkty!$I$30","v":"ABSB HU10113 Bílá 101/110/113/8100/8685/W954/B3822 PE 22/2"},{"$f":"[1]Seznamy!$Q$12","v":"Kili"},null,"CZ","2020-10-01","x","x"]
[{"$f":"CONCATENATE(VLOOKUP(C292,[1]Seznamy!$Q$2:$R$36,2,0),VLOOKUP(B292,[1]Produkty!$I:$O,7,0),E292,F292)","v":"11132CZ44105"},{"$f":"[1]Produkty!$I$33","v":"Alfa II profile 222788"},{"$f":"[1]Seznamy!$Q$12","v":"Kili"},null,"CZ","2020-10-01"]
[{"$f":"CONCATENATE(VLOOKUP(C293,[1]Seznamy!$Q$2:$R$36,2,0),VLOOKUP(B293,[1]Produkty!$I:$O,7,0),E293,F293)","v":"1119CZ44105"},{"$f":"[1]Produkty!$I$10","v":"BBP OA Zásuvka 515 mm kovová černá"},{"$f":"[1]Seznamy!$Q$12","v":"Kili"},null,"CZ","2020-10-01","x","x"]
[{"$f":"CONCATENATE(VLOOKUP(C294,[1]Seznamy!$Q$2:$R$36,2,0),VLOOKUP(B294,[1]Produkty!$I:$O,7,0),E294,F294)","v":"11127CZ44105"},{"$f":"[1]Produkty!$I$28","v":"DTDD DUB COMMERCIAL A/B DEC 2800/2070/19"},{"$f":"[1]Seznamy!$Q$12","v":"Kili"},null,"CZ","2020-10-01",2588.58,2588.58]
[{"$f":"CONCATENATE(VLOOKUP(C295,[1]Seznamy!$Q$2:$R$36,2,0),VLOOKUP(B295,[1]Produkty!$I:$O,7,0),E295,F295)","v":"11128CZ44105"},{"$f":"[1]Produkty!$I$29","v":"DTDD Dub evr. radiál st A/B 2800/2070/19"},{"$f":"[1]Seznamy!$Q$12","v":"Kili"},null,"CZ","2020-10-01","x","x"]
[{"$f":"CONCATENATE(VLOOKUP(C296,[1]Seznamy!$Q$2:$R$36,2,0),VLOOKUP(B296,[1]Produkty!$I:$O,7,0),E296,F296)","v":"11126CZ44105"},{"$f":"[1]Produkty!$I$27","v":"DTDL W980 ST2 Platinově bílá 2800/2070/18"},{"$f":"[1]Seznamy!$Q$12","v":"Kili"},null,"CZ","2020-10-01",1344.09,1344.09]
[{"$f":"CONCATENATE(VLOOKUP(C297,[1]Seznamy!$Q$2:$R$36,2,0),VLOOKUP(B297,[1]Produkty!$I:$O,7,0),E297,F297)","v":"11111CZ44105"},{"$f":"[1]Produkty!$I$12","v":"FRANKE Dřez BFG 611-78 780 x 500 onyx"},{"$f":"[1]Seznamy!$Q$12","v":"Kili"},null,"CZ","2020-10-01",2882.71,2882.71]
[{"$f":"CONCATENATE(VLOOKUP(C298,[1]Seznamy!$Q$2:$R$36,2,0),VLOOKUP(B298,[1]Produkty!$I:$O,7,0),E298,F298)","v":"11114CZ44105"},{"$f":"[1]Produkty!$I$15","v":"FRANKE Dřez ETN 610 455 x 435"},{"$f":"[1]Seznamy!$Q$12","v":"Kili"},null,"CZ","2020-10-01",1529.44,1529.44]
[{"$f":"CONCATENATE(VLOOKUP(C299,[1]Seznamy!$Q$2:$R$36,2,0),VLOOKUP(B299,[1]Produkty!$I:$O,7,0),E299,F299)","v":"11110CZ44105"},{"$f":"[1]Produkty!$I$11","v":"FRANKE Dřez ETN 614 6/4 obyčejný ventil bez otvoru"},{"$f":"[1]Seznamy!$Q$12","v":"Kili"},null,"CZ","2020-10-01",1242.67,1242.67]
[{"$f":"CONCATENATE(VLOOKUP(C300,[1]Seznamy!$Q$2:$R$36,2,0),VLOOKUP(B300,[1]Produkty!$I:$O,7,0),E300,F300)","v":"11113CZ44105"},{"$f":"[1]Produkty!$I$14","v":"GOLLINUCCI Sorter 580 Plus Line, 600 mm, výška 505mm, 80 l, šedý"},{"$f":"[1]Seznamy!$Q$12","v":"Kili"},null,"CZ","2020-10-01","x","x"]
[{"$f":"CONCATENATE(VLOOKUP(C301,[1]Seznamy!$Q$2:$R$36,2,0),VLOOKUP(B301,[1]Produkty!$I:$O,7,0),E301,F301)","v":"11115CZ44105"},{"$f":"[1]Produkty!$I$16","v":"GOLLINUCCI Sorter Linea 222, 300 mm"},{"$f":"[1]Seznamy!$Q$12","v":"Kili"},null,"CZ","2020-10-01",1809.1,1809.1]
[{"$f":"CONCATENATE(VLOOKUP(C302,[1]Seznamy!$Q$2:$R$36,2,0),VLOOKUP(B302,[1]Produkty!$I:$O,7,0),E302,F302)","v":"11112CZ44105"},{"$f":"[1]Produkty!$I$13","v":"GOLLINUCCI Sorter Sistema 901/2x16 l, 600 mm"},{"$f":"[1]Seznamy!$Q$12","v":"Kili"},null,"CZ","2020-10-01",766.3,766.3]
[{"$f":"CONCATENATE(VLOOKUP(C303,[1]Seznamy!$Q$2:$R$36,2,0),VLOOKUP(B303,[1]Produkty!$I:$O,7,0),E303,F303)","v":"11131CZ44105"},{"$f":"[1]Produkty!$I$32","v":"HDF LAK 101 BÍLÁ PE 2800/2070/3"},{"$f":"[1]Seznamy!$Q$12","v":"Kili"},null,"CZ","2020-10-01",419.35,419.35]
[{"$f":"CONCATENATE(VLOOKUP(C304,[1]Seznamy!$Q$2:$R$36,2,0),VLOOKUP(B304,[1]Produkty!$I:$O,7,0),E304,F304)","v":"11125CZ44105"},{"$f":"[1]Produkty!$I$26","v":"Konfirmát 7/50 zinek bílý bulk"},{"$f":"[1]Seznamy!$Q$12","v":"Kili"},null,"CZ","2020-10-01",0.72,0.72]
[{"$f":"CONCATENATE(VLOOKUP(C305,[1]Seznamy!$Q$2:$R$36,2,0),VLOOKUP(B305,[1]Produkty!$I:$O,7,0),E305,F305)","v":"11133CZ44105"},{"$f":"[1]Produkty!$I$34","v":"SEVROLL Era úchytová lišta 18mm 2,70m stříbrná"},{"$f":"[1]Seznamy!$Q$12","v":"Kili"},null,"CZ","2020-10-01"]
[{"$f":"CONCATENATE(VLOOKUP(C306,[1]Seznamy!$Q$2:$R$36,2,0),VLOOKUP(B306,[1]Produkty!$I:$O,7,0),E306,F306)","v":"11134CZ44105"},{"$f":"[1]Produkty!$I$35","v":"Strong electric socket, lift"},{"$f":"[1]Seznamy!$Q$12","v":"Kili"},null,"CZ","2020-10-01",923.3,923.3]
[{"$f":"CONCATENATE(VLOOKUP(C307,[1]Seznamy!$Q$2:$R$36,2,0),VLOOKUP(B307,[1]Produkty!$I:$O,7,0),E307,F307)","v":"1118CZ44105"},{"$f":"[1]Produkty!$I$9","v":"STRONG Elektrická zásuvka 3x230V, francouzský typ, 265x130x68 mm stříbrná"},{"$f":"[1]Seznamy!$Q$12","v":"Kili"},null,"CZ","2020-10-01",954.9,954.9]
[{"$f":"CONCATENATE(VLOOKUP(C308,[1]Seznamy!$Q$2:$R$36,2,0),VLOOKUP(B308,[1]Produkty!$I:$O,7,0),E308,F308)","v":"11135CZ44105"},{"$f":"[1]Produkty!$I$36","v":"STRONG Elektricky stavitelná podnož černá RAL 9005 mat"},{"$f":"[1]Seznamy!$Q$12","v":"Kili"},null,"CZ","2020-10-01",23462,23462]
[{"$f":"CONCATENATE(VLOOKUP(C309,[1]Seznamy!$Q$2:$R$36,2,0),VLOOKUP(B309,[1]Produkty!$I:$O,7,0),E309,F309)","v":"11122CZ44105"},{"$f":"[1]Produkty!$I$23","v":"STRONG LED pásek 21,6W/m 24V bílá neutrální 210 LED/m"},{"$f":"[1]Seznamy!$Q$12","v":"Kili"},null,"CZ","2020-10-01"]
[{"$f":"CONCATENATE(VLOOKUP(C310,[1]Seznamy!$Q$2:$R$36,2,0),VLOOKUP(B310,[1]Produkty!$I:$O,7,0),E310,F310)","v":"1111CZ44105"},{"$f":"[1]Produkty!$I$2","v":"STRONG plus závěs naložený s tlumením, s excentrem, klipový"},{"$f":"[1]Seznamy!$Q$12","v":"Kili"},null,"CZ","2020-10-01",29.87,29.87]
[{"$f":"CONCATENATE(VLOOKUP(C311,[1]Seznamy!$Q$2:$R$36,2,0),VLOOKUP(B311,[1]Produkty!$I:$O,7,0),E311,F311)","v":"1116CZ44105"},{"$f":"[1]Produkty!$I$7","v":"STRONG Rektifikační nožka 100 mm"},{"$f":"[1]Seznamy!$Q$12","v":"Kili"},null,"CZ","2020-10-01",6.28,6.28]
[{"$f":"CONCATENATE(VLOOKUP(C312,[1]Seznamy!$Q$2:$R$36,2,0),VLOOKUP(B312,[1]Produkty!$I:$O,7,0),E312,F312)","v":"1117CZ44105"},{"$f":"[1]Produkty!$I$8","v":"STRONG Stolová noha centrální 450x450 černá"},{"$f":"[1]Seznamy!$Q$12","v":"Kili"},null,"CZ","2020-10-01",2028.18,2028.18]
[{"$f":"CONCATENATE(VLOOKUP(C313,[1]Seznamy!$Q$2:$R$36,2,0),VLOOKUP(B313,[1]Produkty!$I:$O,7,0),E313,F313)","v":"11123CZ44105"},{"$f":"[1]Produkty!$I$24","v":"STRONG transformátor plochý LED 24V 100W"},{"$f":"[1]Seznamy!$Q$12","v":"Kili"},null,"CZ","2020-10-01"]
[{"$f":"CONCATENATE(VLOOKUP(C314,[1]Seznamy!$Q$2:$R$36,2,0),VLOOKUP(B314,[1]Produkty!$I:$O,7,0),E314,F314)","v":"1112CZ44105"},{"$f":"[1]Produkty!$I$3","v":"STRONG závěs naložený, slide on"},{"$f":"[1]Seznamy!$Q$12","v":"Kili"},null,"CZ","2020-10-01",10.49,10.49]
[{"$f":"CONCATENATE(VLOOKUP(C315,[1]Seznamy!$Q$2:$R$36,2,0),VLOOKUP(B315,[1]Produkty!$I:$O,7,0),E315,F315)","v":"1113CZ44105"},{"$f":"[1]Produkty!$I$4","v":"StrongBox H86/500mm bílý"},{"$f":"[1]Seznamy!$Q$12","v":"Kili"},null,"CZ","2020-10-01",421.49,421.49]
[{"$f":"CONCATENATE(VLOOKUP(C316,[1]Seznamy!$Q$2:$R$36,2,0),VLOOKUP(B316,[1]Produkty!$I:$O,7,0),E316,F316)","v":"1114CZ44105"},{"$f":"[1]Produkty!$I$5","v":"StrongMax 89/500 mm šedý (antracit)"},{"$f":"[1]Seznamy!$Q$12","v":"Kili"},null,"CZ","2020-10-01",472.86,472.86]
[{"$f":"CONCATENATE(VLOOKUP(C317,[1]Seznamy!$Q$2:$R$36,2,0),VLOOKUP(B317,[1]Produkty!$I:$O,7,0),E317,F317)","v":"1115CZ44105"},{"$f":"[1]Produkty!$I$6","v":"StrongRide synchro 3D celovýsuv 500 mm s tlumením"},{"$f":"[1]Seznamy!$Q$12","v":"Kili"},null,"CZ","2020-10-01",389.56,389.56]
[{"$f":"CONCATENATE(VLOOKUP(C318,[1]Seznamy!$Q$2:$R$36,2,0),VLOOKUP(B318,[1]Produkty!$I:$O,7,0),E318,F318)","v":"11136CZ44105"},{"$f":"[1]Produkty!$I$37","v":"TULIP Gola dvířkový J profil 4,1m eloxovaný hliník"},{"$f":"[1]Seznamy!$Q$12","v":"Kili"},null,"CZ","2020-10-01"]
[{"$f":"CONCATENATE(VLOOKUP(C319,[1]Seznamy!$Q$2:$R$36,2,0),VLOOKUP(B319,[1]Produkty!$I:$O,7,0),E319,F319)","v":"11118CZ44105"},{"$f":"[1]Produkty!$I$19","v":"TULIP úchytka Anita 96 nikl matný + šroubky"},{"$f":"[1]Seznamy!$Q$12","v":"Kili"},null,"CZ","2020-10-01","x","x"]
[{"$f":"CONCATENATE(VLOOKUP(C320,[1]Seznamy!$Q$2:$R$36,2,0),VLOOKUP(B320,[1]Produkty!$I:$O,7,0),E320,F320)","v":"11121CZ44105"},{"$f":"[1]Produkty!$I$22","v":"TULIP Úchytka Lucata 160 černá matná"},{"$f":"[1]Seznamy!$Q$12","v":"Kili"},null,"CZ","2020-10-01","x","x"]
[{"$f":"CONCATENATE(VLOOKUP(C321,[1]Seznamy!$Q$2:$R$36,2,0),VLOOKUP(B321,[1]Produkty!$I:$O,7,0),E321,F321)","v":"11116CZ44105"},{"$f":"[1]Produkty!$I$17","v":"TULIP úchytka Nakana 128 chrom matný + šroubky"},{"$f":"[1]Seznamy!$Q$12","v":"Kili"},null,"CZ","2020-10-01",167.86,167.86]
[{"$f":"CONCATENATE(VLOOKUP(C322,[1]Seznamy!$Q$2:$R$36,2,0),VLOOKUP(B322,[1]Produkty!$I:$O,7,0),E322,F322)","v":"11117CZ44105"},{"$f":"[1]Produkty!$I$18","v":"TULIP úchytka Piombina 96 nikl matný + šroubky"},{"$f":"[1]Seznamy!$Q$12","v":"Kili"},null,"CZ","2020-10-01","x","x"]
[{"$f":"CONCATENATE(VLOOKUP(C323,[1]Seznamy!$Q$2:$R$36,2,0),VLOOKUP(B323,[1]Produkty!$I:$O,7,0),E323,F323)","v":"11120CZ44105"},{"$f":"[1]Produkty!$I$21","v":"TULIP Úchytka Ramara 596 imitace nerezi"},{"$f":"[1]Seznamy!$Q$12","v":"Kili"},null,"CZ","2020-10-01","x","x"]
[{"$f":"CONCATENATE(VLOOKUP(C324,[1]Seznamy!$Q$2:$R$36,2,0),VLOOKUP(B324,[1]Produkty!$I:$O,7,0),E324,F324)","v":"11119CZ44105"},{"$f":"[1]Produkty!$I$20","v":"TULIP věšák Lugo XL chrom matný + šroubky"},{"$f":"[1]Seznamy!$Q$12","v":"Kili"},null,"CZ","2020-10-01",42,42]
[{"$f":"CONCATENATE(VLOOKUP(C325,[1]Seznamy!$Q$2:$R$36,2,0),VLOOKUP(B325,[1]Produkty!$I:$O,7,0),E325,F325)","v":"11124CZ44105"},{"$f":"[1]Produkty!$I$25","v":"Vrut PZ 4x18 zápustná hlava zinek bílý PZ2"},{"$f":"[1]Seznamy!$Q$12","v":"Kili"},null,"CZ","2020-10-01",0.14000000000000001,0.14000000000000001]
[{"$f":"CONCATENATE(VLOOKUP(C326,[1]Seznamy!$Q$2:$R$36,2,0),VLOOKUP(B326,[1]Produkty!$I:$O,7,0),E326,F326)","v":"11930CZ44105"},{"$f":"[1]Produkty!$I$31","v":"ABSB 77039/414 W980/500/W954 ST2 23/2"},{"$f":"[1]Seznamy!$Q$20","v":"KNK"},null,"CZ","2020-10-01","x","x"]
[{"$f":"CONCATENATE(VLOOKUP(C327,[1]Seznamy!$Q$2:$R$36,2,0),VLOOKUP(B327,[1]Produkty!$I:$O,7,0),E327,F327)","v":"11929CZ44105"},{"$f":"[1]Produkty!$I$30","v":"ABSB HU10113 Bílá 101/110/113/8100/8685/W954/B3822 PE 22/2"},{"$f":"[1]Seznamy!$Q$20","v":"KNK"},null,"CZ","2020-10-01",8.06,8.06]
[{"$f":"CONCATENATE(VLOOKUP(C328,[1]Seznamy!$Q$2:$R$36,2,0),VLOOKUP(B328,[1]Produkty!$I:$O,7,0),E328,F328)","v":"11932CZ44105"},{"$f":"[1]Produkty!$I$33","v":"Alfa II profile 222788"},{"$f":"[1]Seznamy!$Q$20","v":"KNK"},null,"CZ","2020-10-01","x","x"]
[{"$f":"CONCATENATE(VLOOKUP(C329,[1]Seznamy!$Q$2:$R$36,2,0),VLOOKUP(B329,[1]Produkty!$I:$O,7,0),E329,F329)","v":"1199CZ44105"},{"$f":"[1]Produkty!$I$10","v":"BBP OA Zásuvka 515 mm kovová černá"},{"$f":"[1]Seznamy!$Q$20","v":"KNK"},null,"CZ","2020-10-01","x","x"]
[{"$f":"CONCATENATE(VLOOKUP(C330,[1]Seznamy!$Q$2:$R$36,2,0),VLOOKUP(B330,[1]Produkty!$I:$O,7,0),E330,F330)","v":"11927CZ44105"},{"$f":"[1]Produkty!$I$28","v":"DTDD DUB COMMERCIAL A/B DEC 2800/2070/19"},{"$f":"[1]Seznamy!$Q$20","v":"KNK"},null,"CZ","2020-10-01","x","x"]
[{"$f":"CONCATENATE(VLOOKUP(C331,[1]Seznamy!$Q$2:$R$36,2,0),VLOOKUP(B331,[1]Produkty!$I:$O,7,0),E331,F331)","v":"11928CZ44105"},{"$f":"[1]Produkty!$I$29","v":"DTDD Dub evr. radiál st A/B 2800/2070/19"},{"$f":"[1]Seznamy!$Q$20","v":"KNK"},null,"CZ","2020-10-01","x","x"]
[{"$f":"CONCATENATE(VLOOKUP(C332,[1]Seznamy!$Q$2:$R$36,2,0),VLOOKUP(B332,[1]Produkty!$I:$O,7,0),E332,F332)","v":"11926CZ44105"},{"$f":"[1]Produkty!$I$27","v":"DTDL W980 ST2 Platinově bílá 2800/2070/18"},{"$f":"[1]Seznamy!$Q$20","v":"KNK"},null,"CZ","2020-10-01","x","x"]
[{"$f":"CONCATENATE(VLOOKUP(C333,[1]Seznamy!$Q$2:$R$36,2,0),VLOOKUP(B333,[1]Produkty!$I:$O,7,0),E333,F333)","v":"11911CZ44105"},{"$f":"[1]Produkty!$I$12","v":"FRANKE Dřez BFG 611-78 780 x 500 onyx"},{"$f":"[1]Seznamy!$Q$20","v":"KNK"},null,"CZ","2020-10-01",3725.6,3725.6]
[{"$f":"CONCATENATE(VLOOKUP(C334,[1]Seznamy!$Q$2:$R$36,2,0),VLOOKUP(B334,[1]Produkty!$I:$O,7,0),E334,F334)","v":"11914CZ44105"},{"$f":"[1]Produkty!$I$15","v":"FRANKE Dřez ETN 610 455 x 435"},{"$f":"[1]Seznamy!$Q$20","v":"KNK"},null,"CZ","2020-10-01",816.8,816.8]
[{"$f":"CONCATENATE(VLOOKUP(C335,[1]Seznamy!$Q$2:$R$36,2,0),VLOOKUP(B335,[1]Produkty!$I:$O,7,0),E335,F335)","v":"11910CZ44105"},{"$f":"[1]Produkty!$I$11","v":"FRANKE Dřez ETN 614 6/4 obyčejný ventil bez otvoru"},{"$f":"[1]Seznamy!$Q$20","v":"KNK"},null,"CZ","2020-10-01",1414.8,1414.8]
[{"$f":"CONCATENATE(VLOOKUP(C336,[1]Seznamy!$Q$2:$R$36,2,0),VLOOKUP(B336,[1]Produkty!$I:$O,7,0),E336,F336)","v":"11913CZ44105"},{"$f":"[1]Produkty!$I$14","v":"GOLLINUCCI Sorter 580 Plus Line, 600 mm, výška 505mm, 80 l, šedý"},{"$f":"[1]Seznamy!$Q$20","v":"KNK"},null,"CZ","2020-10-01","x","x"]
[{"$f":"CONCATENATE(VLOOKUP(C337,[1]Seznamy!$Q$2:$R$36,2,0),VLOOKUP(B337,[1]Produkty!$I:$O,7,0),E337,F337)","v":"11915CZ44105"},{"$f":"[1]Produkty!$I$16","v":"GOLLINUCCI Sorter Linea 222, 300 mm"},{"$f":"[1]Seznamy!$Q$20","v":"KNK"},null,"CZ","2020-10-01","x","x"]
[{"$f":"CONCATENATE(VLOOKUP(C338,[1]Seznamy!$Q$2:$R$36,2,0),VLOOKUP(B338,[1]Produkty!$I:$O,7,0),E338,F338)","v":"11912CZ44105"},{"$f":"[1]Produkty!$I$13","v":"GOLLINUCCI Sorter Sistema 901/2x16 l, 600 mm"},{"$f":"[1]Seznamy!$Q$20","v":"KNK"},null,"CZ","2020-10-01","x","x"]
[{"$f":"CONCATENATE(VLOOKUP(C339,[1]Seznamy!$Q$2:$R$36,2,0),VLOOKUP(B339,[1]Produkty!$I:$O,7,0),E339,F339)","v":"11931CZ44105"},{"$f":"[1]Produkty!$I$32","v":"HDF LAK 101 BÍLÁ PE 2800/2070/3"},{"$f":"[1]Seznamy!$Q$20","v":"KNK"},null,"CZ","2020-10-01","x","x"]
[{"$f":"CONCATENATE(VLOOKUP(C340,[1]Seznamy!$Q$2:$R$36,2,0),VLOOKUP(B340,[1]Produkty!$I:$O,7,0),E340,F340)","v":"11925CZ44105"},{"$f":"[1]Produkty!$I$26","v":"Konfirmát 7/50 zinek bílý bulk"},{"$f":"[1]Seznamy!$Q$20","v":"KNK"},null,"CZ","2020-10-01",0.5,0.5]
[{"$f":"CONCATENATE(VLOOKUP(C341,[1]Seznamy!$Q$2:$R$36,2,0),VLOOKUP(B341,[1]Produkty!$I:$O,7,0),E341,F341)","v":"11933CZ44105"},{"$f":"[1]Produkty!$I$34","v":"SEVROLL Era úchytová lišta 18mm 2,70m stříbrná"},{"$f":"[1]Seznamy!$Q$20","v":"KNK"},null,"CZ","2020-10-01"]
[{"$f":"CONCATENATE(VLOOKUP(C342,[1]Seznamy!$Q$2:$R$36,2,0),VLOOKUP(B342,[1]Produkty!$I:$O,7,0),E342,F342)","v":"11934CZ44105"},{"$f":"[1]Produkty!$I$35","v":"Strong electric socket, lift"},{"$f":"[1]Seznamy!$Q$20","v":"KNK"},null,"CZ","2020-10-01","x","x"]
[{"$f":"CONCATENATE(VLOOKUP(C343,[1]Seznamy!$Q$2:$R$36,2,0),VLOOKUP(B343,[1]Produkty!$I:$O,7,0),E343,F343)","v":"1198CZ44105"},{"$f":"[1]Produkty!$I$9","v":"STRONG Elektrická zásuvka 3x230V, francouzský typ, 265x130x68 mm stříbrná"},{"$f":"[1]Seznamy!$Q$20","v":"KNK"},null,"CZ","2020-10-01",750.5,750.5]
[{"$f":"CONCATENATE(VLOOKUP(C344,[1]Seznamy!$Q$2:$R$36,2,0),VLOOKUP(B344,[1]Produkty!$I:$O,7,0),E344,F344)","v":"11935CZ44105"},{"$f":"[1]Produkty!$I$36","v":"STRONG Elektricky stavitelná podnož černá RAL 9005 mat"},{"$f":"[1]Seznamy!$Q$20","v":"KNK"},null,"CZ","2020-10-01","x","x"]
[{"$f":"CONCATENATE(VLOOKUP(C345,[1]Seznamy!$Q$2:$R$36,2,0),VLOOKUP(B345,[1]Produkty!$I:$O,7,0),E345,F345)","v":"11922CZ44105"},{"$f":"[1]Produkty!$I$23","v":"STRONG LED pásek 21,6W/m 24V bílá neutrální 210 LED/m"},{"$f":"[1]Seznamy!$Q$20","v":"KNK"},null,"CZ","2020-10-01"]
[{"$f":"CONCATENATE(VLOOKUP(C346,[1]Seznamy!$Q$2:$R$36,2,0),VLOOKUP(B346,[1]Produkty!$I:$O,7,0),E346,F346)","v":"1191CZ44105"},{"$f":"[1]Produkty!$I$2","v":"STRONG plus závěs naložený s tlumením, s excentrem, klipový"},{"$f":"[1]Seznamy!$Q$20","v":"KNK"},null,"CZ","2020-10-01",22.9,22.9]
[{"$f":"CONCATENATE(VLOOKUP(C347,[1]Seznamy!$Q$2:$R$36,2,0),VLOOKUP(B347,[1]Produkty!$I:$O,7,0),E347,F347)","v":"1196CZ44105"},{"$f":"[1]Produkty!$I$7","v":"STRONG Rektifikační nožka 100 mm"},{"$f":"[1]Seznamy!$Q$20","v":"KNK"},null,"CZ","2020-10-01",5.2,5.2]
[{"$f":"CONCATENATE(VLOOKUP(C348,[1]Seznamy!$Q$2:$R$36,2,0),VLOOKUP(B348,[1]Produkty!$I:$O,7,0),E348,F348)","v":"1197CZ44105"},{"$f":"[1]Produkty!$I$8","v":"STRONG Stolová noha centrální 450x450 černá"},{"$f":"[1]Seznamy!$Q$20","v":"KNK"},null,"CZ","2020-10-01","x","x"]
[{"$f":"CONCATENATE(VLOOKUP(C349,[1]Seznamy!$Q$2:$R$36,2,0),VLOOKUP(B349,[1]Produkty!$I:$O,7,0),E349,F349)","v":"11923CZ44105"},{"$f":"[1]Produkty!$I$24","v":"STRONG transformátor plochý LED 24V 100W"},{"$f":"[1]Seznamy!$Q$20","v":"KNK"},null,"CZ","2020-10-01"]
[{"$f":"CONCATENATE(VLOOKUP(C350,[1]Seznamy!$Q$2:$R$36,2,0),VLOOKUP(B350,[1]Produkty!$I:$O,7,0),E350,F350)","v":"1192CZ44105"},{"$f":"[1]Produkty!$I$3","v":"STRONG závěs naložený, slide on"},{"$f":"[1]Seznamy!$Q$20","v":"KNK"},null,"CZ","2020-10-01",5.5,5.5]
[{"$f":"CONCATENATE(VLOOKUP(C351,[1]Seznamy!$Q$2:$R$36,2,0),VLOOKUP(B351,[1]Produkty!$I:$O,7,0),E351,F351)","v":"1193CZ44105"},{"$f":"[1]Produkty!$I$4","v":"StrongBox H86/500mm bílý"},{"$f":"[1]Seznamy!$Q$20","v":"KNK"},null,"CZ","2020-10-01",406.4,406.4]
[{"$f":"CONCATENATE(VLOOKUP(C352,[1]Seznamy!$Q$2:$R$36,2,0),VLOOKUP(B352,[1]Produkty!$I:$O,7,0),E352,F352)","v":"1194CZ44105"},{"$f":"[1]Produkty!$I$5","v":"StrongMax 89/500 mm šedý (antracit)"},{"$f":"[1]Seznamy!$Q$20","v":"KNK"},null,"CZ","2020-10-01",695.8,695.8]
[{"$f":"CONCATENATE(VLOOKUP(C353,[1]Seznamy!$Q$2:$R$36,2,0),VLOOKUP(B353,[1]Produkty!$I:$O,7,0),E353,F353)","v":"1195CZ44105"},{"$f":"[1]Produkty!$I$6","v":"StrongRide synchro 3D celovýsuv 500 mm s tlumením"},{"$f":"[1]Seznamy!$Q$20","v":"KNK"},null,"CZ","2020-10-01",427.2,427.2]
[{"$f":"CONCATENATE(VLOOKUP(C354,[1]Seznamy!$Q$2:$R$36,2,0),VLOOKUP(B354,[1]Produkty!$I:$O,7,0),E354,F354)","v":"11936CZ44105"},{"$f":"[1]Produkty!$I$37","v":"TULIP Gola dvířkový J profil 4,1m eloxovaný hliník"},{"$f":"[1]Seznamy!$Q$20","v":"KNK"},null,"CZ","2020-10-01","x","x"]
[{"$f":"CONCATENATE(VLOOKUP(C355,[1]Seznamy!$Q$2:$R$36,2,0),VLOOKUP(B355,[1]Produkty!$I:$O,7,0),E355,F355)","v":"11918CZ44105"},{"$f":"[1]Produkty!$I$19","v":"TULIP úchytka Anita 96 nikl matný + šroubky"},{"$f":"[1]Seznamy!$Q$20","v":"KNK"},null,"CZ","2020-10-01","x","x"]
[{"$f":"CONCATENATE(VLOOKUP(C356,[1]Seznamy!$Q$2:$R$36,2,0),VLOOKUP(B356,[1]Produkty!$I:$O,7,0),E356,F356)","v":"11921CZ44105"},{"$f":"[1]Produkty!$I$22","v":"TULIP Úchytka Lucata 160 černá matná"},{"$f":"[1]Seznamy!$Q$20","v":"KNK"},null,"CZ","2020-10-01","x","x"]
[{"$f":"CONCATENATE(VLOOKUP(C357,[1]Seznamy!$Q$2:$R$36,2,0),VLOOKUP(B357,[1]Produkty!$I:$O,7,0),E357,F357)","v":"11916CZ44105"},{"$f":"[1]Produkty!$I$17","v":"TULIP úchytka Nakana 128 chrom matný + šroubky"},{"$f":"[1]Seznamy!$Q$20","v":"KNK"},null,"CZ","2020-10-01","x","x"]
[{"$f":"CONCATENATE(VLOOKUP(C358,[1]Seznamy!$Q$2:$R$36,2,0),VLOOKUP(B358,[1]Produkty!$I:$O,7,0),E358,F358)","v":"11917CZ44105"},{"$f":"[1]Produkty!$I$18","v":"TULIP úchytka Piombina 96 nikl matný + šroubky"},{"$f":"[1]Seznamy!$Q$20","v":"KNK"},null,"CZ","2020-10-01","x","x"]
[{"$f":"CONCATENATE(VLOOKUP(C359,[1]Seznamy!$Q$2:$R$36,2,0),VLOOKUP(B359,[1]Produkty!$I:$O,7,0),E359,F359)","v":"11920CZ44105"},{"$f":"[1]Produkty!$I$21","v":"TULIP Úchytka Ramara 596 imitace nerezi"},{"$f":"[1]Seznamy!$Q$20","v":"KNK"},null,"CZ","2020-10-01","x","x"]
[{"$f":"CONCATENATE(VLOOKUP(C360,[1]Seznamy!$Q$2:$R$36,2,0),VLOOKUP(B360,[1]Produkty!$I:$O,7,0),E360,F360)","v":"11919CZ44105"},{"$f":"[1]Produkty!$I$20","v":"TULIP věšák Lugo XL chrom matný + šroubky"},{"$f":"[1]Seznamy!$Q$20","v":"KNK"},null,"CZ","2020-10-01",36.299999999999997,36.299999999999997]
[{"$f":"CONCATENATE(VLOOKUP(C361,[1]Seznamy!$Q$2:$R$36,2,0),VLOOKUP(B361,[1]Produkty!$I:$O,7,0),E361,F361)","v":"11924CZ44105"},{"$f":"[1]Produkty!$I$25","v":"Vrut PZ 4x18 zápustná hlava zinek bílý PZ2"},{"$f":"[1]Seznamy!$Q$20","v":"KNK"},null,"CZ","2020-10-01","x","x"]
[{"$f":"CONCATENATE(VLOOKUP(C362,[1]Seznamy!$Q$2:$R$36,2,0),VLOOKUP(B362,[1]Produkty!$I:$O,7,0),E362,F362)","v":"11430CZ44105"},{"$f":"[1]Produkty!$I$31","v":"ABSB 77039/414 W980/500/W954 ST2 23/2"},{"$f":"[1]Seznamy!$Q$15","v":"Kopecký CZ"},null,"CZ","2020-10-01","x","x"]
[{"$f":"CONCATENATE(VLOOKUP(C363,[1]Seznamy!$Q$2:$R$36,2,0),VLOOKUP(B363,[1]Produkty!$I:$O,7,0),E363,F363)","v":"11429CZ44105"},{"$f":"[1]Produkty!$I$30","v":"ABSB HU10113 Bílá 101/110/113/8100/8685/W954/B3822 PE 22/2"},{"$f":"[1]Seznamy!$Q$15","v":"Kopecký CZ"},null,"CZ","2020-10-01","x","x"]
[{"$f":"CONCATENATE(VLOOKUP(C364,[1]Seznamy!$Q$2:$R$36,2,0),VLOOKUP(B364,[1]Produkty!$I:$O,7,0),E364,F364)","v":"11432CZ44105"},{"$f":"[1]Produkty!$I$33","v":"Alfa II profile 222788"},{"$f":"[1]Seznamy!$Q$15","v":"Kopecký CZ"},null,"CZ","2020-10-01"]
[{"$f":"CONCATENATE(VLOOKUP(C365,[1]Seznamy!$Q$2:$R$36,2,0),VLOOKUP(B365,[1]Produkty!$I:$O,7,0),E365,F365)","v":"1149CZ44105"},{"$f":"[1]Produkty!$I$10","v":"BBP OA Zásuvka 515 mm kovová černá"},{"$f":"[1]Seznamy!$Q$15","v":"Kopecký CZ"},null,"CZ","2020-10-01","x","x"]
[{"$f":"CONCATENATE(VLOOKUP(C366,[1]Seznamy!$Q$2:$R$36,2,0),VLOOKUP(B366,[1]Produkty!$I:$O,7,0),E366,F366)","v":"11427CZ44105"},{"$f":"[1]Produkty!$I$28","v":"DTDD DUB COMMERCIAL A/B DEC 2800/2070/19"},{"$f":"[1]Seznamy!$Q$15","v":"Kopecký CZ"},null,"CZ","2020-10-01","x","x"]
[{"$f":"CONCATENATE(VLOOKUP(C367,[1]Seznamy!$Q$2:$R$36,2,0),VLOOKUP(B367,[1]Produkty!$I:$O,7,0),E367,F367)","v":"11428CZ44105"},{"$f":"[1]Produkty!$I$29","v":"DTDD Dub evr. radiál st A/B 2800/2070/19"},{"$f":"[1]Seznamy!$Q$15","v":"Kopecký CZ"},null,"CZ","2020-10-01","x","x"]
[{"$f":"CONCATENATE(VLOOKUP(C368,[1]Seznamy!$Q$2:$R$36,2,0),VLOOKUP(B368,[1]Produkty!$I:$O,7,0),E368,F368)","v":"11426CZ44105"},{"$f":"[1]Produkty!$I$27","v":"DTDL W980 ST2 Platinově bílá 2800/2070/18"},{"$f":"[1]Seznamy!$Q$15","v":"Kopecký CZ"},null,"CZ","2020-10-01","x","x"]
[{"$f":"CONCATENATE(VLOOKUP(C369,[1]Seznamy!$Q$2:$R$36,2,0),VLOOKUP(B369,[1]Produkty!$I:$O,7,0),E369,F369)","v":"11411CZ44105"},{"$f":"[1]Produkty!$I$12","v":"FRANKE Dřez BFG 611-78 780 x 500 onyx"},{"$f":"[1]Seznamy!$Q$15","v":"Kopecký CZ"},null,"CZ","2020-10-01",3628.09,3628.09]
[{"$f":"CONCATENATE(VLOOKUP(C370,[1]Seznamy!$Q$2:$R$36,2,0),VLOOKUP(B370,[1]Produkty!$I:$O,7,0),E370,F370)","v":"11414CZ44105"},{"$f":"[1]Produkty!$I$15","v":"FRANKE Dřez ETN 610 455 x 435"},{"$f":"[1]Seznamy!$Q$15","v":"Kopecký CZ"},null,"CZ","2020-10-01",1512,1512]
[{"$f":"CONCATENATE(VLOOKUP(C371,[1]Seznamy!$Q$2:$R$36,2,0),VLOOKUP(B371,[1]Produkty!$I:$O,7,0),E371,F371)","v":"11410CZ44105"},{"$f":"[1]Produkty!$I$11","v":"FRANKE Dřez ETN 614 6/4 obyčejný ventil bez otvoru"},{"$f":"[1]Seznamy!$Q$15","v":"Kopecký CZ"},null,"CZ","2020-10-01",1600,1600]
[{"$f":"CONCATENATE(VLOOKUP(C372,[1]Seznamy!$Q$2:$R$36,2,0),VLOOKUP(B372,[1]Produkty!$I:$O,7,0),E372,F372)","v":"11413CZ44105"},{"$f":"[1]Produkty!$I$14","v":"GOLLINUCCI Sorter 580 Plus Line, 600 mm, výška 505mm, 80 l, šedý"},{"$f":"[1]Seznamy!$Q$15","v":"Kopecký CZ"},null,"CZ","2020-10-01",3483.81,3483.81]
[{"$f":"CONCATENATE(VLOOKUP(C373,[1]Seznamy!$Q$2:$R$36,2,0),VLOOKUP(B373,[1]Produkty!$I:$O,7,0),E373,F373)","v":"11415CZ44105"},{"$f":"[1]Produkty!$I$16","v":"GOLLINUCCI Sorter Linea 222, 300 mm"},{"$f":"[1]Seznamy!$Q$15","v":"Kopecký CZ"},null,"CZ","2020-10-01",1644.6,1644.6]
[{"$f":"CONCATENATE(VLOOKUP(C374,[1]Seznamy!$Q$2:$R$36,2,0),VLOOKUP(B374,[1]Produkty!$I:$O,7,0),E374,F374)","v":"11412CZ44105"},{"$f":"[1]Produkty!$I$13","v":"GOLLINUCCI Sorter Sistema 901/2x16 l, 600 mm"},{"$f":"[1]Seznamy!$Q$15","v":"Kopecký CZ"},null,"CZ","2020-10-01",1314.4,1314.4]
[{"$f":"CONCATENATE(VLOOKUP(C375,[1]Seznamy!$Q$2:$R$36,2,0),VLOOKUP(B375,[1]Produkty!$I:$O,7,0),E375,F375)","v":"11431CZ44105"},{"$f":"[1]Produkty!$I$32","v":"HDF LAK 101 BÍLÁ PE 2800/2070/3"},{"$f":"[1]Seznamy!$Q$15","v":"Kopecký CZ"},null,"CZ","2020-10-01","x","x"]
[{"$f":"CONCATENATE(VLOOKUP(C376,[1]Seznamy!$Q$2:$R$36,2,0),VLOOKUP(B376,[1]Produkty!$I:$O,7,0),E376,F376)","v":"11425CZ44105"},{"$f":"[1]Produkty!$I$26","v":"Konfirmát 7/50 zinek bílý bulk"},{"$f":"[1]Seznamy!$Q$15","v":"Kopecký CZ"},null,"CZ","2020-10-01",0.76,0.76]
[{"$f":"CONCATENATE(VLOOKUP(C377,[1]Seznamy!$Q$2:$R$36,2,0),VLOOKUP(B377,[1]Produkty!$I:$O,7,0),E377,F377)","v":"11433CZ44105"},{"$f":"[1]Produkty!$I$34","v":"SEVROLL Era úchytová lišta 18mm 2,70m stříbrná"},{"$f":"[1]Seznamy!$Q$15","v":"Kopecký CZ"},null,"CZ","2020-10-01"]
[{"$f":"CONCATENATE(VLOOKUP(C378,[1]Seznamy!$Q$2:$R$36,2,0),VLOOKUP(B378,[1]Produkty!$I:$O,7,0),E378,F378)","v":"11434CZ44105"},{"$f":"[1]Produkty!$I$35","v":"Strong electric socket, lift"},{"$f":"[1]Seznamy!$Q$15","v":"Kopecký CZ"},null,"CZ","2020-10-01",850.6,850.6]
[{"$f":"CONCATENATE(VLOOKUP(C379,[1]Seznamy!$Q$2:$R$36,2,0),VLOOKUP(B379,[1]Produkty!$I:$O,7,0),E379,F379)","v":"1148CZ44105"},{"$f":"[1]Produkty!$I$9","v":"STRONG Elektrická zásuvka 3x230V, francouzský typ, 265x130x68 mm stříbrná"},{"$f":"[1]Seznamy!$Q$15","v":"Kopecký CZ"},null,"CZ","2020-10-01",1127.7,1127.7]
[{"$f":"CONCATENATE(VLOOKUP(C380,[1]Seznamy!$Q$2:$R$36,2,0),VLOOKUP(B380,[1]Produkty!$I:$O,7,0),E380,F380)","v":"11435CZ44105"},{"$f":"[1]Produkty!$I$36","v":"STRONG Elektricky stavitelná podnož černá RAL 9005 mat"},{"$f":"[1]Seznamy!$Q$15","v":"Kopecký CZ"},null,"CZ","2020-10-01","x","x"]
[{"$f":"CONCATENATE(VLOOKUP(C381,[1]Seznamy!$Q$2:$R$36,2,0),VLOOKUP(B381,[1]Produkty!$I:$O,7,0),E381,F381)","v":"11422CZ44105"},{"$f":"[1]Produkty!$I$23","v":"STRONG LED pásek 21,6W/m 24V bílá neutrální 210 LED/m"},{"$f":"[1]Seznamy!$Q$15","v":"Kopecký CZ"},null,"CZ","2020-10-01"]
[{"$f":"CONCATENATE(VLOOKUP(C382,[1]Seznamy!$Q$2:$R$36,2,0),VLOOKUP(B382,[1]Produkty!$I:$O,7,0),E382,F382)","v":"1141CZ44105"},{"$f":"[1]Produkty!$I$2","v":"STRONG plus závěs naložený s tlumením, s excentrem, klipový"},{"$f":"[1]Seznamy!$Q$15","v":"Kopecký CZ"},null,"CZ","2020-10-01",26.1,26.1]
[{"$f":"CONCATENATE(VLOOKUP(C383,[1]Seznamy!$Q$2:$R$36,2,0),VLOOKUP(B383,[1]Produkty!$I:$O,7,0),E383,F383)","v":"1146CZ44105"},{"$f":"[1]Produkty!$I$7","v":"STRONG Rektifikační nožka 100 mm"},{"$f":"[1]Seznamy!$Q$15","v":"Kopecký CZ"},null,"CZ","2020-10-01",6.04,6.04]
[{"$f":"CONCATENATE(VLOOKUP(C384,[1]Seznamy!$Q$2:$R$36,2,0),VLOOKUP(B384,[1]Produkty!$I:$O,7,0),E384,F384)","v":"1147CZ44105"},{"$f":"[1]Produkty!$I$8","v":"STRONG Stolová noha centrální 450x450 černá"},{"$f":"[1]Seznamy!$Q$15","v":"Kopecký CZ"},null,"CZ","2020-10-01",3504.6,3504.6]
[{"$f":"CONCATENATE(VLOOKUP(C385,[1]Seznamy!$Q$2:$R$36,2,0),VLOOKUP(B385,[1]Produkty!$I:$O,7,0),E385,F385)","v":"11423CZ44105"},{"$f":"[1]Produkty!$I$24","v":"STRONG transformátor plochý LED 24V 100W"},{"$f":"[1]Seznamy!$Q$15","v":"Kopecký CZ"},null,"CZ","2020-10-01"]
[{"$f":"CONCATENATE(VLOOKUP(C386,[1]Seznamy!$Q$2:$R$36,2,0),VLOOKUP(B386,[1]Produkty!$I:$O,7,0),E386,F386)","v":"1142CZ44105"},{"$f":"[1]Produkty!$I$3","v":"STRONG závěs naložený, slide on"},{"$f":"[1]Seznamy!$Q$15","v":"Kopecký CZ"},null,"CZ","2020-10-01",9.31,9.31]
[{"$f":"CONCATENATE(VLOOKUP(C387,[1]Seznamy!$Q$2:$R$36,2,0),VLOOKUP(B387,[1]Produkty!$I:$O,7,0),E387,F387)","v":"1143CZ44105"},{"$f":"[1]Produkty!$I$4","v":"StrongBox H86/500mm bílý"},{"$f":"[1]Seznamy!$Q$15","v":"Kopecký CZ"},null,"CZ","2020-10-01",576.73,576.73]
[{"$f":"CONCATENATE(VLOOKUP(C388,[1]Seznamy!$Q$2:$R$36,2,0),VLOOKUP(B388,[1]Produkty!$I:$O,7,0),E388,F388)","v":"1144CZ44105"},{"$f":"[1]Produkty!$I$5","v":"StrongMax 89/500 mm šedý (antracit)"},{"$f":"[1]Seznamy!$Q$15","v":"Kopecký CZ"},null,"CZ","2020-10-01",673.65,673.65]
[{"$f":"CONCATENATE(VLOOKUP(C389,[1]Seznamy!$Q$2:$R$36,2,0),VLOOKUP(B389,[1]Produkty!$I:$O,7,0),E389,F389)","v":"1145CZ44105"},{"$f":"[1]Produkty!$I$6","v":"StrongRide synchro 3D celovýsuv 500 mm s tlumením"},{"$f":"[1]Seznamy!$Q$15","v":"Kopecký CZ"},null,"CZ","2020-10-01",382.73,382.73]
[{"$f":"CONCATENATE(VLOOKUP(C390,[1]Seznamy!$Q$2:$R$36,2,0),VLOOKUP(B390,[1]Produkty!$I:$O,7,0),E390,F390)","v":"11436CZ44105"},{"$f":"[1]Produkty!$I$37","v":"TULIP Gola dvířkový J profil 4,1m eloxovaný hliník"},{"$f":"[1]Seznamy!$Q$15","v":"Kopecký CZ"},null,"CZ","2020-10-01"]
[{"$f":"CONCATENATE(VLOOKUP(C391,[1]Seznamy!$Q$2:$R$36,2,0),VLOOKUP(B391,[1]Produkty!$I:$O,7,0),E391,F391)","v":"11418CZ44105"},{"$f":"[1]Produkty!$I$19","v":"TULIP úchytka Anita 96 nikl matný + šroubky"},{"$f":"[1]Seznamy!$Q$15","v":"Kopecký CZ"},null,"CZ","2020-10-01","x","x"]
[{"$f":"CONCATENATE(VLOOKUP(C392,[1]Seznamy!$Q$2:$R$36,2,0),VLOOKUP(B392,[1]Produkty!$I:$O,7,0),E392,F392)","v":"11421CZ44105"},{"$f":"[1]Produkty!$I$22","v":"TULIP Úchytka Lucata 160 černá matná"},{"$f":"[1]Seznamy!$Q$15","v":"Kopecký CZ"},null,"CZ","2020-10-01","x","x"]
[{"$f":"CONCATENATE(VLOOKUP(C393,[1]Seznamy!$Q$2:$R$36,2,0),VLOOKUP(B393,[1]Produkty!$I:$O,7,0),E393,F393)","v":"11416CZ44105"},{"$f":"[1]Produkty!$I$17","v":"TULIP úchytka Nakana 128 chrom matný + šroubky"},{"$f":"[1]Seznamy!$Q$15","v":"Kopecký CZ"},null,"CZ","2020-10-01",102.3,102.3]
[{"$f":"CONCATENATE(VLOOKUP(C394,[1]Seznamy!$Q$2:$R$36,2,0),VLOOKUP(B394,[1]Produkty!$I:$O,7,0),E394,F394)","v":"11417CZ44105"},{"$f":"[1]Produkty!$I$18","v":"TULIP úchytka Piombina 96 nikl matný + šroubky"},{"$f":"[1]Seznamy!$Q$15","v":"Kopecký CZ"},null,"CZ","2020-10-01","x","x"]
[{"$f":"CONCATENATE(VLOOKUP(C395,[1]Seznamy!$Q$2:$R$36,2,0),VLOOKUP(B395,[1]Produkty!$I:$O,7,0),E395,F395)","v":"11420CZ44105"},{"$f":"[1]Produkty!$I$21","v":"TULIP Úchytka Ramara 596 imitace nerezi"},{"$f":"[1]Seznamy!$Q$15","v":"Kopecký CZ"},null,"CZ","2020-10-01","x","x"]
[{"$f":"CONCATENATE(VLOOKUP(C396,[1]Seznamy!$Q$2:$R$36,2,0),VLOOKUP(B396,[1]Produkty!$I:$O,7,0),E396,F396)","v":"11419CZ44105"},{"$f":"[1]Produkty!$I$20","v":"TULIP věšák Lugo XL chrom matný + šroubky"},{"$f":"[1]Seznamy!$Q$15","v":"Kopecký CZ"},null,"CZ","2020-10-01",88,88]
[{"$f":"CONCATENATE(VLOOKUP(C397,[1]Seznamy!$Q$2:$R$36,2,0),VLOOKUP(B397,[1]Produkty!$I:$O,7,0),E397,F397)","v":"11424CZ44105"},{"$f":"[1]Produkty!$I$25","v":"Vrut PZ 4x18 zápustná hlava zinek bílý PZ2"},{"$f":"[1]Seznamy!$Q$15","v":"Kopecký CZ"},null,"CZ","2020-10-01",14.68,14.68]
[{"$f":"CONCATENATE(VLOOKUP(C398,[1]Seznamy!$Q$2:$R$36,2,0),VLOOKUP(B398,[1]Produkty!$I:$O,7,0),E398,F398)","v":"10330CZ44105"},{"$f":"[1]Produkty!$I$31","v":"ABSB 77039/414 W980/500/W954 ST2 23/2"},{"$f":"[1]Seznamy!$Q$4","v":"Lunit"},null,"CZ","2020-10-01","x","x"]
[{"$f":"CONCATENATE(VLOOKUP(C399,[1]Seznamy!$Q$2:$R$36,2,0),VLOOKUP(B399,[1]Produkty!$I:$O,7,0),E399,F399)","v":"10329CZ44105"},{"$f":"[1]Produkty!$I$30","v":"ABSB HU10113 Bílá 101/110/113/8100/8685/W954/B3822 PE 22/2"},{"$f":"[1]Seznamy!$Q$4","v":"Lunit"},null,"CZ","2020-10-01","x","x"]
[{"$f":"CONCATENATE(VLOOKUP(C400,[1]Seznamy!$Q$2:$R$36,2,0),VLOOKUP(B400,[1]Produkty!$I:$O,7,0),E400,F400)","v":"10332CZ44105"},{"$f":"[1]Produkty!$I$33","v":"Alfa II profile 222788"},{"$f":"[1]Seznamy!$Q$4","v":"Lunit"},null,"CZ","2020-10-01","x","x"]
[{"$f":"CONCATENATE(VLOOKUP(C401,[1]Seznamy!$Q$2:$R$36,2,0),VLOOKUP(B401,[1]Produkty!$I:$O,7,0),E401,F401)","v":"1039CZ44105"},{"$f":"[1]Produkty!$I$10","v":"BBP OA Zásuvka 515 mm kovová černá"},{"$f":"[1]Seznamy!$Q$4","v":"Lunit"},null,"CZ","2020-10-01","x","x"]
[{"$f":"CONCATENATE(VLOOKUP(C402,[1]Seznamy!$Q$2:$R$36,2,0),VLOOKUP(B402,[1]Produkty!$I:$O,7,0),E402,F402)","v":"10327CZ44105"},{"$f":"[1]Produkty!$I$28","v":"DTDD DUB COMMERCIAL A/B DEC 2800/2070/19"},{"$f":"[1]Seznamy!$Q$4","v":"Lunit"},null,"CZ","2020-10-01",2361.42,2361.42]
[{"$f":"CONCATENATE(VLOOKUP(C403,[1]Seznamy!$Q$2:$R$36,2,0),VLOOKUP(B403,[1]Produkty!$I:$O,7,0),E403,F403)","v":"10328CZ44105"},{"$f":"[1]Produkty!$I$29","v":"DTDD Dub evr. radiál st A/B 2800/2070/19"},{"$f":"[1]Seznamy!$Q$4","v":"Lunit"},null,"CZ","2020-10-01","x","x"]
[{"$f":"CONCATENATE(VLOOKUP(C404,[1]Seznamy!$Q$2:$R$36,2,0),VLOOKUP(B404,[1]Produkty!$I:$O,7,0),E404,F404)","v":"10326CZ44105"},{"$f":"[1]Produkty!$I$27","v":"DTDL W980 ST2 Platinově bílá 2800/2070/18"},{"$f":"[1]Seznamy!$Q$4","v":"Lunit"},null,"CZ","2020-10-01","x","x"]
[{"$f":"CONCATENATE(VLOOKUP(C405,[1]Seznamy!$Q$2:$R$36,2,0),VLOOKUP(B405,[1]Produkty!$I:$O,7,0),E405,F405)","v":"10311CZ44105"},{"$f":"[1]Produkty!$I$12","v":"FRANKE Dřez BFG 611-78 780 x 500 onyx"},{"$f":"[1]Seznamy!$Q$4","v":"Lunit"},null,"CZ","2020-10-01","x","x"]
[{"$f":"CONCATENATE(VLOOKUP(C406,[1]Seznamy!$Q$2:$R$36,2,0),VLOOKUP(B406,[1]Produkty!$I:$O,7,0),E406,F406)","v":"10314CZ44105"},{"$f":"[1]Produkty!$I$15","v":"FRANKE Dřez ETN 610 455 x 435"},{"$f":"[1]Seznamy!$Q$4","v":"Lunit"},null,"CZ","2020-10-01","x","x"]
[{"$f":"CONCATENATE(VLOOKUP(C407,[1]Seznamy!$Q$2:$R$36,2,0),VLOOKUP(B407,[1]Produkty!$I:$O,7,0),E407,F407)","v":"10310CZ44105"},{"$f":"[1]Produkty!$I$11","v":"FRANKE Dřez ETN 614 6/4 obyčejný ventil bez otvoru"},{"$f":"[1]Seznamy!$Q$4","v":"Lunit"},null,"CZ","2020-10-01",855.09,855.09]
[{"$f":"CONCATENATE(VLOOKUP(C408,[1]Seznamy!$Q$2:$R$36,2,0),VLOOKUP(B408,[1]Produkty!$I:$O,7,0),E408,F408)","v":"10313CZ44105"},{"$f":"[1]Produkty!$I$14","v":"GOLLINUCCI Sorter 580 Plus Line, 600 mm, výška 505mm, 80 l, šedý"},{"$f":"[1]Seznamy!$Q$4","v":"Lunit"},null,"CZ","2020-10-01","x","x"]
[{"$f":"CONCATENATE(VLOOKUP(C409,[1]Seznamy!$Q$2:$R$36,2,0),VLOOKUP(B409,[1]Produkty!$I:$O,7,0),E409,F409)","v":"10315CZ44105"},{"$f":"[1]Produkty!$I$16","v":"GOLLINUCCI Sorter Linea 222, 300 mm"},{"$f":"[1]Seznamy!$Q$4","v":"Lunit"},null,"CZ","2020-10-01","x","x"]
[{"$f":"CONCATENATE(VLOOKUP(C410,[1]Seznamy!$Q$2:$R$36,2,0),VLOOKUP(B410,[1]Produkty!$I:$O,7,0),E410,F410)","v":"10312CZ44105"},{"$f":"[1]Produkty!$I$13","v":"GOLLINUCCI Sorter Sistema 901/2x16 l, 600 mm"},{"$f":"[1]Seznamy!$Q$4","v":"Lunit"},null,"CZ","2020-10-01",1594,1594]
[{"$f":"CONCATENATE(VLOOKUP(C411,[1]Seznamy!$Q$2:$R$36,2,0),VLOOKUP(B411,[1]Produkty!$I:$O,7,0),E411,F411)","v":"10331CZ44105"},{"$f":"[1]Produkty!$I$32","v":"HDF LAK 101 BÍLÁ PE 2800/2070/3"},{"$f":"[1]Seznamy!$Q$4","v":"Lunit"},null,"CZ","2020-10-01",299.7,299.7]
[{"$f":"CONCATENATE(VLOOKUP(C412,[1]Seznamy!$Q$2:$R$36,2,0),VLOOKUP(B412,[1]Produkty!$I:$O,7,0),E412,F412)","v":"10325CZ44105"},{"$f":"[1]Produkty!$I$26","v":"Konfirmát 7/50 zinek bílý bulk"},{"$f":"[1]Seznamy!$Q$4","v":"Lunit"},null,"CZ","2020-10-01",1.08,1.08]
[{"$f":"CONCATENATE(VLOOKUP(C413,[1]Seznamy!$Q$2:$R$36,2,0),VLOOKUP(B413,[1]Produkty!$I:$O,7,0),E413,F413)","v":"10333CZ44105"},{"$f":"[1]Produkty!$I$34","v":"SEVROLL Era úchytová lišta 18mm 2,70m stříbrná"},{"$f":"[1]Seznamy!$Q$4","v":"Lunit"},null,"CZ","2020-10-01",70.7,70.7]
[{"$f":"CONCATENATE(VLOOKUP(C414,[1]Seznamy!$Q$2:$R$36,2,0),VLOOKUP(B414,[1]Produkty!$I:$O,7,0),E414,F414)","v":"10334CZ44105"},{"$f":"[1]Produkty!$I$35","v":"Strong electric socket, lift"},{"$f":"[1]Seznamy!$Q$4","v":"Lunit"},null,"CZ","2020-10-01",966.87,966.87]
[{"$f":"CONCATENATE(VLOOKUP(C415,[1]Seznamy!$Q$2:$R$36,2,0),VLOOKUP(B415,[1]Produkty!$I:$O,7,0),E415,F415)","v":"1038CZ44105"},{"$f":"[1]Produkty!$I$9","v":"STRONG Elektrická zásuvka 3x230V, francouzský typ, 265x130x68 mm stříbrná"},{"$f":"[1]Seznamy!$Q$4","v":"Lunit"},null,"CZ","2020-10-01",1354,1354]
[{"$f":"CONCATENATE(VLOOKUP(C416,[1]Seznamy!$Q$2:$R$36,2,0),VLOOKUP(B416,[1]Produkty!$I:$O,7,0),E416,F416)","v":"10335CZ44105"},{"$f":"[1]Produkty!$I$36","v":"STRONG Elektricky stavitelná podnož černá RAL 9005 mat"},{"$f":"[1]Seznamy!$Q$4","v":"Lunit"},null,"CZ","2020-10-01","x","x"]
[{"$f":"CONCATENATE(VLOOKUP(C417,[1]Seznamy!$Q$2:$R$36,2,0),VLOOKUP(B417,[1]Produkty!$I:$O,7,0),E417,F417)","v":"10322CZ44105"},{"$f":"[1]Produkty!$I$23","v":"STRONG LED pásek 21,6W/m 24V bílá neutrální 210 LED/m"},{"$f":"[1]Seznamy!$Q$4","v":"Lunit"},null,"CZ","2020-10-01","x","x"]
[{"$f":"CONCATENATE(VLOOKUP(C418,[1]Seznamy!$Q$2:$R$36,2,0),VLOOKUP(B418,[1]Produkty!$I:$O,7,0),E418,F418)","v":"1031CZ44105"},{"$f":"[1]Produkty!$I$2","v":"STRONG plus závěs naložený s tlumením, s excentrem, klipový"},{"$f":"[1]Seznamy!$Q$4","v":"Lunit"},null,"CZ","2020-10-01",32.4,32.4]
[{"$f":"CONCATENATE(VLOOKUP(C419,[1]Seznamy!$Q$2:$R$36,2,0),VLOOKUP(B419,[1]Produkty!$I:$O,7,0),E419,F419)","v":"1036CZ44105"},{"$f":"[1]Produkty!$I$7","v":"STRONG Rektifikační nožka 100 mm"},{"$f":"[1]Seznamy!$Q$4","v":"Lunit"},null,"CZ","2020-10-01",8.64,8.64]
[{"$f":"CONCATENATE(VLOOKUP(C420,[1]Seznamy!$Q$2:$R$36,2,0),VLOOKUP(B420,[1]Produkty!$I:$O,7,0),E420,F420)","v":"1037CZ44105"},{"$f":"[1]Produkty!$I$8","v":"STRONG Stolová noha centrální 450x450 černá"},{"$f":"[1]Seznamy!$Q$4","v":"Lunit"},null,"CZ","2020-10-01",2915.7,2915.7]
[{"$f":"CONCATENATE(VLOOKUP(C421,[1]Seznamy!$Q$2:$R$36,2,0),VLOOKUP(B421,[1]Produkty!$I:$O,7,0),E421,F421)","v":"10323CZ44105"},{"$f":"[1]Produkty!$I$24","v":"STRONG transformátor plochý LED 24V 100W"},{"$f":"[1]Seznamy!$Q$4","v":"Lunit"},null,"CZ","2020-10-01","x","x"]
[{"$f":"CONCATENATE(VLOOKUP(C422,[1]Seznamy!$Q$2:$R$36,2,0),VLOOKUP(B422,[1]Produkty!$I:$O,7,0),E422,F422)","v":"1032CZ44105"},{"$f":"[1]Produkty!$I$3","v":"STRONG závěs naložený, slide on"},{"$f":"[1]Seznamy!$Q$4","v":"Lunit"},null,"CZ","2020-10-01",5.94,5.94]
[{"$f":"CONCATENATE(VLOOKUP(C423,[1]Seznamy!$Q$2:$R$36,2,0),VLOOKUP(B423,[1]Produkty!$I:$O,7,0),E423,F423)","v":"1033CZ44105"},{"$f":"[1]Produkty!$I$4","v":"StrongBox H86/500mm bílý"},{"$f":"[1]Seznamy!$Q$4","v":"Lunit"},null,"CZ","2020-10-01","x","x"]
[{"$f":"CONCATENATE(VLOOKUP(C424,[1]Seznamy!$Q$2:$R$36,2,0),VLOOKUP(B424,[1]Produkty!$I:$O,7,0),E424,F424)","v":"1034CZ44105"},{"$f":"[1]Produkty!$I$5","v":"StrongMax 89/500 mm šedý (antracit)"},{"$f":"[1]Seznamy!$Q$4","v":"Lunit"},null,"CZ","2020-10-01",728.4,728.4]
[{"$f":"CONCATENATE(VLOOKUP(C425,[1]Seznamy!$Q$2:$R$36,2,0),VLOOKUP(B425,[1]Produkty!$I:$O,7,0),E425,F425)","v":"1035CZ44105"},{"$f":"[1]Produkty!$I$6","v":"StrongRide synchro 3D celovýsuv 500 mm s tlumením"},{"$f":"[1]Seznamy!$Q$4","v":"Lunit"},null,"CZ","2020-10-01","x","x"]
[{"$f":"CONCATENATE(VLOOKUP(C426,[1]Seznamy!$Q$2:$R$36,2,0),VLOOKUP(B426,[1]Produkty!$I:$O,7,0),E426,F426)","v":"10336CZ44105"},{"$f":"[1]Produkty!$I$37","v":"TULIP Gola dvířkový J profil 4,1m eloxovaný hliník"},{"$f":"[1]Seznamy!$Q$4","v":"Lunit"},null,"CZ","2020-10-01"]
[{"$f":"CONCATENATE(VLOOKUP(C427,[1]Seznamy!$Q$2:$R$36,2,0),VLOOKUP(B427,[1]Produkty!$I:$O,7,0),E427,F427)","v":"10318CZ44105"},{"$f":"[1]Produkty!$I$19","v":"TULIP úchytka Anita 96 nikl matný + šroubky"},{"$f":"[1]Seznamy!$Q$4","v":"Lunit"},null,"CZ","2020-10-01","x","x"]
[{"$f":"CONCATENATE(VLOOKUP(C428,[1]Seznamy!$Q$2:$R$36,2,0),VLOOKUP(B428,[1]Produkty!$I:$O,7,0),E428,F428)","v":"10321CZ44105"},{"$f":"[1]Produkty!$I$22","v":"TULIP Úchytka Lucata 160 černá matná"},{"$f":"[1]Seznamy!$Q$4","v":"Lunit"},null,"CZ","2020-10-01","x","x"]
[{"$f":"CONCATENATE(VLOOKUP(C429,[1]Seznamy!$Q$2:$R$36,2,0),VLOOKUP(B429,[1]Produkty!$I:$O,7,0),E429,F429)","v":"10316CZ44105"},{"$f":"[1]Produkty!$I$17","v":"TULIP úchytka Nakana 128 chrom matný + šroubky"},{"$f":"[1]Seznamy!$Q$4","v":"Lunit"},null,"CZ","2020-10-01",122.8,122.8]
[{"$f":"CONCATENATE(VLOOKUP(C430,[1]Seznamy!$Q$2:$R$36,2,0),VLOOKUP(B430,[1]Produkty!$I:$O,7,0),E430,F430)","v":"10317CZ44105"},{"$f":"[1]Produkty!$I$18","v":"TULIP úchytka Piombina 96 nikl matný + šroubky"},{"$f":"[1]Seznamy!$Q$4","v":"Lunit"},null,"CZ","2020-10-01","x","x"]
[{"$f":"CONCATENATE(VLOOKUP(C431,[1]Seznamy!$Q$2:$R$36,2,0),VLOOKUP(B431,[1]Produkty!$I:$O,7,0),E431,F431)","v":"10320CZ44105"},{"$f":"[1]Produkty!$I$21","v":"TULIP Úchytka Ramara 596 imitace nerezi"},{"$f":"[1]Seznamy!$Q$4","v":"Lunit"},null,"CZ","2020-10-01","x","x"]
[{"$f":"CONCATENATE(VLOOKUP(C432,[1]Seznamy!$Q$2:$R$36,2,0),VLOOKUP(B432,[1]Produkty!$I:$O,7,0),E432,F432)","v":"10319CZ44105"},{"$f":"[1]Produkty!$I$20","v":"TULIP věšák Lugo XL chrom matný + šroubky"},{"$f":"[1]Seznamy!$Q$4","v":"Lunit"},null,"CZ","2020-10-01",58.86,58.86]
[{"$f":"CONCATENATE(VLOOKUP(C433,[1]Seznamy!$Q$2:$R$36,2,0),VLOOKUP(B433,[1]Produkty!$I:$O,7,0),E433,F433)","v":"10324CZ44105"},{"$f":"[1]Produkty!$I$25","v":"Vrut PZ 4x18 zápustná hlava zinek bílý PZ2"},{"$f":"[1]Seznamy!$Q$4","v":"Lunit"},null,"CZ","2020-10-01","x","x"]
[{"$f":"CONCATENATE(VLOOKUP(C434,[1]Seznamy!$Q$2:$R$36,2,0),VLOOKUP(B434,[1]Produkty!$I:$O,7,0),E434,F434)","v":"10630CZ44105"},{"$f":"[1]Produkty!$I$31","v":"ABSB 77039/414 W980/500/W954 ST2 23/2"},{"$f":"[1]Seznamy!$Q$7","v":"Nábytkár"},null,"CZ","2020-10-01","x","x"]
[{"$f":"CONCATENATE(VLOOKUP(C435,[1]Seznamy!$Q$2:$R$36,2,0),VLOOKUP(B435,[1]Produkty!$I:$O,7,0),E435,F435)","v":"10629CZ44105"},{"$f":"[1]Produkty!$I$30","v":"ABSB HU10113 Bílá 101/110/113/8100/8685/W954/B3822 PE 22/2"},{"$f":"[1]Seznamy!$Q$7","v":"Nábytkár"},null,"CZ","2020-10-01","x","x"]
[{"$f":"CONCATENATE(VLOOKUP(C436,[1]Seznamy!$Q$2:$R$36,2,0),VLOOKUP(B436,[1]Produkty!$I:$O,7,0),E436,F436)","v":"10632CZ44105"},{"$f":"[1]Produkty!$I$33","v":"Alfa II profile 222788"},{"$f":"[1]Seznamy!$Q$7","v":"Nábytkár"},null,"CZ","2020-10-01"]
[{"$f":"CONCATENATE(VLOOKUP(C437,[1]Seznamy!$Q$2:$R$36,2,0),VLOOKUP(B437,[1]Produkty!$I:$O,7,0),E437,F437)","v":"1069CZ44105"},{"$f":"[1]Produkty!$I$10","v":"BBP OA Zásuvka 515 mm kovová černá"},{"$f":"[1]Seznamy!$Q$7","v":"Nábytkár"},null,"CZ","2020-10-01","x","x"]
[{"$f":"CONCATENATE(VLOOKUP(C438,[1]Seznamy!$Q$2:$R$36,2,0),VLOOKUP(B438,[1]Produkty!$I:$O,7,0),E438,F438)","v":"10627CZ44105"},{"$f":"[1]Produkty!$I$28","v":"DTDD DUB COMMERCIAL A/B DEC 2800/2070/19"},{"$f":"[1]Seznamy!$Q$7","v":"Nábytkár"},null,"CZ","2020-10-01","x","x"]
[{"$f":"CONCATENATE(VLOOKUP(C439,[1]Seznamy!$Q$2:$R$36,2,0),VLOOKUP(B439,[1]Produkty!$I:$O,7,0),E439,F439)","v":"10628CZ44105"},{"$f":"[1]Produkty!$I$29","v":"DTDD Dub evr. radiál st A/B 2800/2070/19"},{"$f":"[1]Seznamy!$Q$7","v":"Nábytkár"},null,"CZ","2020-10-01","x","x"]
[{"$f":"CONCATENATE(VLOOKUP(C440,[1]Seznamy!$Q$2:$R$36,2,0),VLOOKUP(B440,[1]Produkty!$I:$O,7,0),E440,F440)","v":"10626CZ44105"},{"$f":"[1]Produkty!$I$27","v":"DTDL W980 ST2 Platinově bílá 2800/2070/18"},{"$f":"[1]Seznamy!$Q$7","v":"Nábytkár"},null,"CZ","2020-10-01","x","x"]
[{"$f":"CONCATENATE(VLOOKUP(C441,[1]Seznamy!$Q$2:$R$36,2,0),VLOOKUP(B441,[1]Produkty!$I:$O,7,0),E441,F441)","v":"10611CZ44105"},{"$f":"[1]Produkty!$I$12","v":"FRANKE Dřez BFG 611-78 780 x 500 onyx"},{"$f":"[1]Seznamy!$Q$7","v":"Nábytkár"},null,"CZ","2020-10-01",3477,3477]
[{"$f":"CONCATENATE(VLOOKUP(C442,[1]Seznamy!$Q$2:$R$36,2,0),VLOOKUP(B442,[1]Produkty!$I:$O,7,0),E442,F442)","v":"10614CZ44105"},{"$f":"[1]Produkty!$I$15","v":"FRANKE Dřez ETN 610 455 x 435"},{"$f":"[1]Seznamy!$Q$7","v":"Nábytkár"},null,"CZ","2020-10-01","x","x"]
[{"$f":"CONCATENATE(VLOOKUP(C443,[1]Seznamy!$Q$2:$R$36,2,0),VLOOKUP(B443,[1]Produkty!$I:$O,7,0),E443,F443)","v":"10610CZ44105"},{"$f":"[1]Produkty!$I$11","v":"FRANKE Dřez ETN 614 6/4 obyčejný ventil bez otvoru"},{"$f":"[1]Seznamy!$Q$7","v":"Nábytkár"},null,"CZ","2020-10-01",783,783]
[{"$f":"CONCATENATE(VLOOKUP(C444,[1]Seznamy!$Q$2:$R$36,2,0),VLOOKUP(B444,[1]Produkty!$I:$O,7,0),E444,F444)","v":"10613CZ44105"},{"$f":"[1]Produkty!$I$14","v":"GOLLINUCCI Sorter 580 Plus Line, 600 mm, výška 505mm, 80 l, šedý"},{"$f":"[1]Seznamy!$Q$7","v":"Nábytkár"},null,"CZ","2020-10-01","x","x"]
[{"$f":"CONCATENATE(VLOOKUP(C445,[1]Seznamy!$Q$2:$R$36,2,0),VLOOKUP(B445,[1]Produkty!$I:$O,7,0),E445,F445)","v":"10615CZ44105"},{"$f":"[1]Produkty!$I$16","v":"GOLLINUCCI Sorter Linea 222, 300 mm"},{"$f":"[1]Seznamy!$Q$7","v":"Nábytkár"},null,"CZ","2020-10-01",1134,1134]
[{"$f":"CONCATENATE(VLOOKUP(C446,[1]Seznamy!$Q$2:$R$36,2,0),VLOOKUP(B446,[1]Produkty!$I:$O,7,0),E446,F446)","v":"10612CZ44105"},{"$f":"[1]Produkty!$I$13","v":"GOLLINUCCI Sorter Sistema 901/2x16 l, 600 mm"},{"$f":"[1]Seznamy!$Q$7","v":"Nábytkár"},null,"CZ","2020-10-01",628.79999999999995,628.79999999999995]
[{"$f":"CONCATENATE(VLOOKUP(C447,[1]Seznamy!$Q$2:$R$36,2,0),VLOOKUP(B447,[1]Produkty!$I:$O,7,0),E447,F447)","v":"10631CZ44105"},{"$f":"[1]Produkty!$I$32","v":"HDF LAK 101 BÍLÁ PE 2800/2070/3"},{"$f":"[1]Seznamy!$Q$7","v":"Nábytkár"},null,"CZ","2020-10-01","x","x"]
[{"$f":"CONCATENATE(VLOOKUP(C448,[1]Seznamy!$Q$2:$R$36,2,0),VLOOKUP(B448,[1]Produkty!$I:$O,7,0),E448,F448)","v":"10625CZ44105"},{"$f":"[1]Produkty!$I$26","v":"Konfirmát 7/50 zinek bílý bulk"},{"$f":"[1]Seznamy!$Q$7","v":"Nábytkár"},null,"CZ","2020-10-01",48.3,48.3]
[{"$f":"CONCATENATE(VLOOKUP(C449,[1]Seznamy!$Q$2:$R$36,2,0),VLOOKUP(B449,[1]Produkty!$I:$O,7,0),E449,F449)","v":"10633CZ44105"},{"$f":"[1]Produkty!$I$34","v":"SEVROLL Era úchytová lišta 18mm 2,70m stříbrná"},{"$f":"[1]Seznamy!$Q$7","v":"Nábytkár"},null,"CZ","2020-10-01"]
[{"$f":"CONCATENATE(VLOOKUP(C450,[1]Seznamy!$Q$2:$R$36,2,0),VLOOKUP(B450,[1]Produkty!$I:$O,7,0),E450,F450)","v":"10634CZ44105"},{"$f":"[1]Produkty!$I$35","v":"Strong electric socket, lift"},{"$f":"[1]Seznamy!$Q$7","v":"Nábytkár"},null,"CZ","2020-10-01",626.4,626.4]
[{"$f":"CONCATENATE(VLOOKUP(C451,[1]Seznamy!$Q$2:$R$36,2,0),VLOOKUP(B451,[1]Produkty!$I:$O,7,0),E451,F451)","v":"1068CZ44105"},{"$f":"[1]Produkty!$I$9","v":"STRONG Elektrická zásuvka 3x230V, francouzský typ, 265x130x68 mm stříbrná"},{"$f":"[1]Seznamy!$Q$7","v":"Nábytkár"},null,"CZ","2020-10-01",729,729]
[{"$f":"CONCATENATE(VLOOKUP(C452,[1]Seznamy!$Q$2:$R$36,2,0),VLOOKUP(B452,[1]Produkty!$I:$O,7,0),E452,F452)","v":"10635CZ44105"},{"$f":"[1]Produkty!$I$36","v":"STRONG Elektricky stavitelná podnož černá RAL 9005 mat"},{"$f":"[1]Seznamy!$Q$7","v":"Nábytkár"},null,"CZ","2020-10-01",6993,6993]
[{"$f":"CONCATENATE(VLOOKUP(C453,[1]Seznamy!$Q$2:$R$36,2,0),VLOOKUP(B453,[1]Produkty!$I:$O,7,0),E453,F453)","v":"10622CZ44105"},{"$f":"[1]Produkty!$I$23","v":"STRONG LED pásek 21,6W/m 24V bílá neutrální 210 LED/m"},{"$f":"[1]Seznamy!$Q$7","v":"Nábytkár"},null,"CZ","2020-10-01"]
[{"$f":"CONCATENATE(VLOOKUP(C454,[1]Seznamy!$Q$2:$R$36,2,0),VLOOKUP(B454,[1]Produkty!$I:$O,7,0),E454,F454)","v":"1061CZ44105"},{"$f":"[1]Produkty!$I$2","v":"STRONG plus závěs naložený s tlumením, s excentrem, klipový"},{"$f":"[1]Seznamy!$Q$7","v":"Nábytkár"},null,"CZ","2020-10-01",37.799999999999997,37.799999999999997]
[{"$f":"CONCATENATE(VLOOKUP(C455,[1]Seznamy!$Q$2:$R$36,2,0),VLOOKUP(B455,[1]Produkty!$I:$O,7,0),E455,F455)","v":"1066CZ44105"},{"$f":"[1]Produkty!$I$7","v":"STRONG Rektifikační nožka 100 mm"},{"$f":"[1]Seznamy!$Q$7","v":"Nábytkár"},null,"CZ","2020-10-01",6.21,6.21]
[{"$f":"CONCATENATE(VLOOKUP(C456,[1]Seznamy!$Q$2:$R$36,2,0),VLOOKUP(B456,[1]Produkty!$I:$O,7,0),E456,F456)","v":"1067CZ44105"},{"$f":"[1]Produkty!$I$8","v":"STRONG Stolová noha centrální 450x450 černá"},{"$f":"[1]Seznamy!$Q$7","v":"Nábytkár"},null,"CZ","2020-10-01",1323,1323]
[{"$f":"CONCATENATE(VLOOKUP(C457,[1]Seznamy!$Q$2:$R$36,2,0),VLOOKUP(B457,[1]Produkty!$I:$O,7,0),E457,F457)","v":"10623CZ44105"},{"$f":"[1]Produkty!$I$24","v":"STRONG transformátor plochý LED 24V 100W"},{"$f":"[1]Seznamy!$Q$7","v":"Nábytkár"},null,"CZ","2020-10-01"]
[{"$f":"CONCATENATE(VLOOKUP(C458,[1]Seznamy!$Q$2:$R$36,2,0),VLOOKUP(B458,[1]Produkty!$I:$O,7,0),E458,F458)","v":"1062CZ44105"},{"$f":"[1]Produkty!$I$3","v":"STRONG závěs naložený, slide on"},{"$f":"[1]Seznamy!$Q$7","v":"Nábytkár"},null,"CZ","2020-10-01",6.75,6.75]
[{"$f":"CONCATENATE(VLOOKUP(C459,[1]Seznamy!$Q$2:$R$36,2,0),VLOOKUP(B459,[1]Produkty!$I:$O,7,0),E459,F459)","v":"1063CZ44105"},{"$f":"[1]Produkty!$I$4","v":"StrongBox H86/500mm bílý"},{"$f":"[1]Seznamy!$Q$7","v":"Nábytkár"},null,"CZ","2020-10-01",294.3,294.3]
[{"$f":"CONCATENATE(VLOOKUP(C460,[1]Seznamy!$Q$2:$R$36,2,0),VLOOKUP(B460,[1]Produkty!$I:$O,7,0),E460,F460)","v":"1064CZ44105"},{"$f":"[1]Produkty!$I$5","v":"StrongMax 89/500 mm šedý (antracit)"},{"$f":"[1]Seznamy!$Q$7","v":"Nábytkár"},null,"CZ","2020-10-01",321.3,321.3]
[{"$f":"CONCATENATE(VLOOKUP(C461,[1]Seznamy!$Q$2:$R$36,2,0),VLOOKUP(B461,[1]Produkty!$I:$O,7,0),E461,F461)","v":"1065CZ44105"},{"$f":"[1]Produkty!$I$6","v":"StrongRide synchro 3D celovýsuv 500 mm s tlumením"},{"$f":"[1]Seznamy!$Q$7","v":"Nábytkár"},null,"CZ","2020-10-01",229.5,229.5]
[{"$f":"CONCATENATE(VLOOKUP(C462,[1]Seznamy!$Q$2:$R$36,2,0),VLOOKUP(B462,[1]Produkty!$I:$O,7,0),E462,F462)","v":"10636CZ44105"},{"$f":"[1]Produkty!$I$37","v":"TULIP Gola dvířkový J profil 4,1m eloxovaný hliník"},{"$f":"[1]Seznamy!$Q$7","v":"Nábytkár"},null,"CZ","2020-10-01","x","x"]
[{"$f":"CONCATENATE(VLOOKUP(C463,[1]Seznamy!$Q$2:$R$36,2,0),VLOOKUP(B463,[1]Produkty!$I:$O,7,0),E463,F463)","v":"10618CZ44105"},{"$f":"[1]Produkty!$I$19","v":"TULIP úchytka Anita 96 nikl matný + šroubky"},{"$f":"[1]Seznamy!$Q$7","v":"Nábytkár"},null,"CZ","2020-10-01","x","x"]
[{"$f":"CONCATENATE(VLOOKUP(C464,[1]Seznamy!$Q$2:$R$36,2,0),VLOOKUP(B464,[1]Produkty!$I:$O,7,0),E464,F464)","v":"10621CZ44105"},{"$f":"[1]Produkty!$I$22","v":"TULIP Úchytka Lucata 160 černá matná"},{"$f":"[1]Seznamy!$Q$7","v":"Nábytkár"},null,"CZ","2020-10-01",96.93,96.93]
[{"$f":"CONCATENATE(VLOOKUP(C465,[1]Seznamy!$Q$2:$R$36,2,0),VLOOKUP(B465,[1]Produkty!$I:$O,7,0),E465,F465)","v":"10616CZ44105"},{"$f":"[1]Produkty!$I$17","v":"TULIP úchytka Nakana 128 chrom matný + šroubky"},{"$f":"[1]Seznamy!$Q$7","v":"Nábytkár"},null,"CZ","2020-10-01","x","x"]
[{"$f":"CONCATENATE(VLOOKUP(C466,[1]Seznamy!$Q$2:$R$36,2,0),VLOOKUP(B466,[1]Produkty!$I:$O,7,0),E466,F466)","v":"10617CZ44105"},{"$f":"[1]Produkty!$I$18","v":"TULIP úchytka Piombina 96 nikl matný + šroubky"},{"$f":"[1]Seznamy!$Q$7","v":"Nábytkár"},null,"CZ","2020-10-01","x","x"]
[{"$f":"CONCATENATE(VLOOKUP(C467,[1]Seznamy!$Q$2:$R$36,2,0),VLOOKUP(B467,[1]Produkty!$I:$O,7,0),E467,F467)","v":"10620CZ44105"},{"$f":"[1]Produkty!$I$21","v":"TULIP Úchytka Ramara 596 imitace nerezi"},{"$f":"[1]Seznamy!$Q$7","v":"Nábytkár"},null,"CZ","2020-10-01",218.16,218.16]
[{"$f":"CONCATENATE(VLOOKUP(C468,[1]Seznamy!$Q$2:$R$36,2,0),VLOOKUP(B468,[1]Produkty!$I:$O,7,0),E468,F468)","v":"10619CZ44105"},{"$f":"[1]Produkty!$I$20","v":"TULIP věšák Lugo XL chrom matný + šroubky"},{"$f":"[1]Seznamy!$Q$7","v":"Nábytkár"},null,"CZ","2020-10-01",43.2,43.2]
[{"$f":"CONCATENATE(VLOOKUP(C469,[1]Seznamy!$Q$2:$R$36,2,0),VLOOKUP(B469,[1]Produkty!$I:$O,7,0),E469,F469)","v":"10624CZ44105"},{"$f":"[1]Produkty!$I$25","v":"Vrut PZ 4x18 zápustná hlava zinek bílý PZ2"},{"$f":"[1]Seznamy!$Q$7","v":"Nábytkár"},null,"CZ","2020-10-01","x","x"]
[{"$f":"CONCATENATE(VLOOKUP(C470,[1]Seznamy!$Q$2:$R$36,2,0),VLOOKUP(B470,[1]Produkty!$I:$O,7,0),E470,F470)","v":"10830CZ44105"},{"$f":"[1]Produkty!$I$31","v":"ABSB 77039/414 W980/500/W954 ST2 23/2"},{"$f":"[1]Seznamy!$Q$9","v":"Schachermayer"},null,"CZ","2020-10-01","x","x"]
[{"$f":"CONCATENATE(VLOOKUP(C471,[1]Seznamy!$Q$2:$R$36,2,0),VLOOKUP(B471,[1]Produkty!$I:$O,7,0),E471,F471)","v":"10829CZ44105"},{"$f":"[1]Produkty!$I$30","v":"ABSB HU10113 Bílá 101/110/113/8100/8685/W954/B3822 PE 22/2"},{"$f":"[1]Seznamy!$Q$9","v":"Schachermayer"},null,"CZ","2020-10-01","x","x"]
[{"$f":"CONCATENATE(VLOOKUP(C472,[1]Seznamy!$Q$2:$R$36,2,0),VLOOKUP(B472,[1]Produkty!$I:$O,7,0),E472,F472)","v":"10832CZ44105"},{"$f":"[1]Produkty!$I$33","v":"Alfa II profile 222788"},{"$f":"[1]Seznamy!$Q$9","v":"Schachermayer"},null,"CZ","2020-10-01"]
[{"$f":"CONCATENATE(VLOOKUP(C473,[1]Seznamy!$Q$2:$R$36,2,0),VLOOKUP(B473,[1]Produkty!$I:$O,7,0),E473,F473)","v":"1089CZ44105"},{"$f":"[1]Produkty!$I$10","v":"BBP OA Zásuvka 515 mm kovová černá"},{"$f":"[1]Seznamy!$Q$9","v":"Schachermayer"},null,"CZ","2020-10-01","x","x"]
[{"$f":"CONCATENATE(VLOOKUP(C474,[1]Seznamy!$Q$2:$R$36,2,0),VLOOKUP(B474,[1]Produkty!$I:$O,7,0),E474,F474)","v":"10827CZ44105"},{"$f":"[1]Produkty!$I$28","v":"DTDD DUB COMMERCIAL A/B DEC 2800/2070/19"},{"$f":"[1]Seznamy!$Q$9","v":"Schachermayer"},null,"CZ","2020-10-01","x","x"]
[{"$f":"CONCATENATE(VLOOKUP(C475,[1]Seznamy!$Q$2:$R$36,2,0),VLOOKUP(B475,[1]Produkty!$I:$O,7,0),E475,F475)","v":"10828CZ44105"},{"$f":"[1]Produkty!$I$29","v":"DTDD Dub evr. radiál st A/B 2800/2070/19"},{"$f":"[1]Seznamy!$Q$9","v":"Schachermayer"},null,"CZ","2020-10-01","x","x"]
[{"$f":"CONCATENATE(VLOOKUP(C476,[1]Seznamy!$Q$2:$R$36,2,0),VLOOKUP(B476,[1]Produkty!$I:$O,7,0),E476,F476)","v":"10826CZ44105"},{"$f":"[1]Produkty!$I$27","v":"DTDL W980 ST2 Platinově bílá 2800/2070/18"},{"$f":"[1]Seznamy!$Q$9","v":"Schachermayer"},null,"CZ","2020-10-01","x","x"]
[{"$f":"CONCATENATE(VLOOKUP(C477,[1]Seznamy!$Q$2:$R$36,2,0),VLOOKUP(B477,[1]Produkty!$I:$O,7,0),E477,F477)","v":"10811CZ44105"},{"$f":"[1]Produkty!$I$12","v":"FRANKE Dřez BFG 611-78 780 x 500 onyx"},{"$f":"[1]Seznamy!$Q$9","v":"Schachermayer"},null,"CZ","2020-10-01",4600,3128]
[{"$f":"CONCATENATE(VLOOKUP(C478,[1]Seznamy!$Q$2:$R$36,2,0),VLOOKUP(B478,[1]Produkty!$I:$O,7,0),E478,F478)","v":"10814CZ44105"},{"$f":"[1]Produkty!$I$15","v":"FRANKE Dřez ETN 610 455 x 435"},{"$f":"[1]Seznamy!$Q$9","v":"Schachermayer"},null,"CZ","2020-10-01",1300,884]
[{"$f":"CONCATENATE(VLOOKUP(C479,[1]Seznamy!$Q$2:$R$36,2,0),VLOOKUP(B479,[1]Produkty!$I:$O,7,0),E479,F479)","v":"10810CZ44105"},{"$f":"[1]Produkty!$I$11","v":"FRANKE Dřez ETN 614 6/4 obyčejný ventil bez otvoru"},{"$f":"[1]Seznamy!$Q$9","v":"Schachermayer"},null,"CZ","2020-10-01",1400,952]
[{"$f":"CONCATENATE(VLOOKUP(C480,[1]Seznamy!$Q$2:$R$36,2,0),VLOOKUP(B480,[1]Produkty!$I:$O,7,0),E480,F480)","v":"10813CZ44105"},{"$f":"[1]Produkty!$I$14","v":"GOLLINUCCI Sorter 580 Plus Line, 600 mm, výška 505mm, 80 l, šedý"},{"$f":"[1]Seznamy!$Q$9","v":"Schachermayer"},null,"CZ","2020-10-01","x","x"]
[{"$f":"CONCATENATE(VLOOKUP(C481,[1]Seznamy!$Q$2:$R$36,2,0),VLOOKUP(B481,[1]Produkty!$I:$O,7,0),E481,F481)","v":"10815CZ44105"},{"$f":"[1]Produkty!$I$16","v":"GOLLINUCCI Sorter Linea 222, 300 mm"},{"$f":"[1]Seznamy!$Q$9","v":"Schachermayer"},null,"CZ","2020-10-01","x","x"]
[{"$f":"CONCATENATE(VLOOKUP(C482,[1]Seznamy!$Q$2:$R$36,2,0),VLOOKUP(B482,[1]Produkty!$I:$O,7,0),E482,F482)","v":"10812CZ44105"},{"$f":"[1]Produkty!$I$13","v":"GOLLINUCCI Sorter Sistema 901/2x16 l, 600 mm"},{"$f":"[1]Seznamy!$Q$9","v":"Schachermayer"},null,"CZ","2020-10-01","x","x"]
[{"$f":"CONCATENATE(VLOOKUP(C483,[1]Seznamy!$Q$2:$R$36,2,0),VLOOKUP(B483,[1]Produkty!$I:$O,7,0),E483,F483)","v":"10831CZ44105"},{"$f":"[1]Produkty!$I$32","v":"HDF LAK 101 BÍLÁ PE 2800/2070/3"},{"$f":"[1]Seznamy!$Q$9","v":"Schachermayer"},null,"CZ","2020-10-01","x","x"]
[{"$f":"CONCATENATE(VLOOKUP(C484,[1]Seznamy!$Q$2:$R$36,2,0),VLOOKUP(B484,[1]Produkty!$I:$O,7,0),E484,F484)","v":"10825CZ44105"},{"$f":"[1]Produkty!$I$26","v":"Konfirmát 7/50 zinek bílý bulk"},{"$f":"[1]Seznamy!$Q$9","v":"Schachermayer"},null,"CZ","2020-10-01",7.7,5.01]
[{"$f":"CONCATENATE(VLOOKUP(C485,[1]Seznamy!$Q$2:$R$36,2,0),VLOOKUP(B485,[1]Produkty!$I:$O,7,0),E485,F485)","v":"10833CZ44105"},{"$f":"[1]Produkty!$I$34","v":"SEVROLL Era úchytová lišta 18mm 2,70m stříbrná"},{"$f":"[1]Seznamy!$Q$9","v":"Schachermayer"},null,"CZ","2020-10-01"]
[{"$f":"CONCATENATE(VLOOKUP(C486,[1]Seznamy!$Q$2:$R$36,2,0),VLOOKUP(B486,[1]Produkty!$I:$O,7,0),E486,F486)","v":"10834CZ44105"},{"$f":"[1]Produkty!$I$35","v":"Strong electric socket, lift"},{"$f":"[1]Seznamy!$Q$9","v":"Schachermayer"},null,"CZ","2020-10-01","x","x"]
[{"$f":"CONCATENATE(VLOOKUP(C487,[1]Seznamy!$Q$2:$R$36,2,0),VLOOKUP(B487,[1]Produkty!$I:$O,7,0),E487,F487)","v":"1088CZ44105"},{"$f":"[1]Produkty!$I$9","v":"STRONG Elektrická zásuvka 3x230V, francouzský typ, 265x130x68 mm stříbrná"},{"$f":"[1]Seznamy!$Q$9","v":"Schachermayer"},null,"CZ","2020-10-01","x","x"]
[{"$f":"CONCATENATE(VLOOKUP(C488,[1]Seznamy!$Q$2:$R$36,2,0),VLOOKUP(B488,[1]Produkty!$I:$O,7,0),E488,F488)","v":"10835CZ44105"},{"$f":"[1]Produkty!$I$36","v":"STRONG Elektricky stavitelná podnož černá RAL 9005 mat"},{"$f":"[1]Seznamy!$Q$9","v":"Schachermayer"},null,"CZ","2020-10-01",20688.900000000001,11999]
[{"$f":"CONCATENATE(VLOOKUP(C489,[1]Seznamy!$Q$2:$R$36,2,0),VLOOKUP(B489,[1]Produkty!$I:$O,7,0),E489,F489)","v":"10822CZ44105"},{"$f":"[1]Produkty!$I$23","v":"STRONG LED pásek 21,6W/m 24V bílá neutrální 210 LED/m"},{"$f":"[1]Seznamy!$Q$9","v":"Schachermayer"},null,"CZ","2020-10-01"]
[{"$f":"CONCATENATE(VLOOKUP(C490,[1]Seznamy!$Q$2:$R$36,2,0),VLOOKUP(B490,[1]Produkty!$I:$O,7,0),E490,F490)","v":"1081CZ44105"},{"$f":"[1]Produkty!$I$2","v":"STRONG plus závěs naložený s tlumením, s excentrem, klipový"},{"$f":"[1]Seznamy!$Q$9","v":"Schachermayer"},null,"CZ","2020-10-01",46.18,30.02]
[{"$f":"CONCATENATE(VLOOKUP(C491,[1]Seznamy!$Q$2:$R$36,2,0),VLOOKUP(B491,[1]Produkty!$I:$O,7,0),E491,F491)","v":"1086CZ44105"},{"$f":"[1]Produkty!$I$7","v":"STRONG Rektifikační nožka 100 mm"},{"$f":"[1]Seznamy!$Q$9","v":"Schachermayer"},null,"CZ","2020-10-01","x","x"]
[{"$f":"CONCATENATE(VLOOKUP(C492,[1]Seznamy!$Q$2:$R$36,2,0),VLOOKUP(B492,[1]Produkty!$I:$O,7,0),E492,F492)","v":"1087CZ44105"},{"$f":"[1]Produkty!$I$8","v":"STRONG Stolová noha centrální 450x450 černá"},{"$f":"[1]Seznamy!$Q$9","v":"Schachermayer"},null,"CZ","2020-10-01","x","x"]
[{"$f":"CONCATENATE(VLOOKUP(C493,[1]Seznamy!$Q$2:$R$36,2,0),VLOOKUP(B493,[1]Produkty!$I:$O,7,0),E493,F493)","v":"10823CZ44105"},{"$f":"[1]Produkty!$I$24","v":"STRONG transformátor plochý LED 24V 100W"},{"$f":"[1]Seznamy!$Q$9","v":"Schachermayer"},null,"CZ","2020-10-01"]
[{"$f":"CONCATENATE(VLOOKUP(C494,[1]Seznamy!$Q$2:$R$36,2,0),VLOOKUP(B494,[1]Produkty!$I:$O,7,0),E494,F494)","v":"1082CZ44105"},{"$f":"[1]Produkty!$I$3","v":"STRONG závěs naložený, slide on"},{"$f":"[1]Seznamy!$Q$9","v":"Schachermayer"},null,"CZ","2020-10-01",14.42,9.3800000000000008]
[{"$f":"CONCATENATE(VLOOKUP(C495,[1]Seznamy!$Q$2:$R$36,2,0),VLOOKUP(B495,[1]Produkty!$I:$O,7,0),E495,F495)","v":"1083CZ44105"},{"$f":"[1]Produkty!$I$4","v":"StrongBox H86/500mm bílý"},{"$f":"[1]Seznamy!$Q$9","v":"Schachermayer"},null,"CZ","2020-10-01","x","x"]
[{"$f":"CONCATENATE(VLOOKUP(C496,[1]Seznamy!$Q$2:$R$36,2,0),VLOOKUP(B496,[1]Produkty!$I:$O,7,0),E496,F496)","v":"1084CZ44105"},{"$f":"[1]Produkty!$I$5","v":"StrongMax 89/500 mm šedý (antracit)"},{"$f":"[1]Seznamy!$Q$9","v":"Schachermayer"},null,"CZ","2020-10-01","x","x"]
[{"$f":"CONCATENATE(VLOOKUP(C497,[1]Seznamy!$Q$2:$R$36,2,0),VLOOKUP(B497,[1]Produkty!$I:$O,7,0),E497,F497)","v":"1085CZ44105"},{"$f":"[1]Produkty!$I$6","v":"StrongRide synchro 3D celovýsuv 500 mm s tlumením"},{"$f":"[1]Seznamy!$Q$9","v":"Schachermayer"},null,"CZ","2020-10-01","x","x"]
[{"$f":"CONCATENATE(VLOOKUP(C498,[1]Seznamy!$Q$2:$R$36,2,0),VLOOKUP(B498,[1]Produkty!$I:$O,7,0),E498,F498)","v":"10836CZ44105"},{"$f":"[1]Produkty!$I$37","v":"TULIP Gola dvířkový J profil 4,1m eloxovaný hliník"},{"$f":"[1]Seznamy!$Q$9","v":"Schachermayer"},null,"CZ","2020-10-01"]
[{"$f":"CONCATENATE(VLOOKUP(C499,[1]Seznamy!$Q$2:$R$36,2,0),VLOOKUP(B499,[1]Produkty!$I:$O,7,0),E499,F499)","v":"10818CZ44105"},{"$f":"[1]Produkty!$I$19","v":"TULIP úchytka Anita 96 nikl matný + šroubky"},{"$f":"[1]Seznamy!$Q$9","v":"Schachermayer"},null,"CZ","2020-10-01","x","x"]
[{"$f":"CONCATENATE(VLOOKUP(C500,[1]Seznamy!$Q$2:$R$36,2,0),VLOOKUP(B500,[1]Produkty!$I:$O,7,0),E500,F500)","v":"10821CZ44105"},{"$f":"[1]Produkty!$I$22","v":"TULIP Úchytka Lucata 160 černá matná"},{"$f":"[1]Seznamy!$Q$9","v":"Schachermayer"},null,"CZ","2020-10-01","x","x"]
[{"$f":"CONCATENATE(VLOOKUP(C501,[1]Seznamy!$Q$2:$R$36,2,0),VLOOKUP(B501,[1]Produkty!$I:$O,7,0),E501,F501)","v":"10816CZ44105"},{"$f":"[1]Produkty!$I$17","v":"TULIP úchytka Nakana 128 chrom matný + šroubky"},{"$f":"[1]Seznamy!$Q$9","v":"Schachermayer"},null,"CZ","2020-10-01",220.8,132.5]
[{"$f":"CONCATENATE(VLOOKUP(C502,[1]Seznamy!$Q$2:$R$36,2,0),VLOOKUP(B502,[1]Produkty!$I:$O,7,0),E502,F502)","v":"10817CZ44105"},{"$f":"[1]Produkty!$I$18","v":"TULIP úchytka Piombina 96 nikl matný + šroubky"},{"$f":"[1]Seznamy!$Q$9","v":"Schachermayer"},null,"CZ","2020-10-01","x","x"]
[{"$f":"CONCATENATE(VLOOKUP(C503,[1]Seznamy!$Q$2:$R$36,2,0),VLOOKUP(B503,[1]Produkty!$I:$O,7,0),E503,F503)","v":"10820CZ44105"},{"$f":"[1]Produkty!$I$21","v":"TULIP Úchytka Ramara 596 imitace nerezi"},{"$f":"[1]Seznamy!$Q$9","v":"Schachermayer"},null,"CZ","2020-10-01",328.3,183.85]
[{"$f":"CONCATENATE(VLOOKUP(C504,[1]Seznamy!$Q$2:$R$36,2,0),VLOOKUP(B504,[1]Produkty!$I:$O,7,0),E504,F504)","v":"10819CZ44105"},{"$f":"[1]Produkty!$I$20","v":"TULIP věšák Lugo XL chrom matný + šroubky"},{"$f":"[1]Seznamy!$Q$9","v":"Schachermayer"},null,"CZ","2020-10-01","x","x"]
[{"$f":"CONCATENATE(VLOOKUP(C505,[1]Seznamy!$Q$2:$R$36,2,0),VLOOKUP(B505,[1]Produkty!$I:$O,7,0),E505,F505)","v":"10824CZ44105"},{"$f":"[1]Produkty!$I$25","v":"Vrut PZ 4x18 zápustná hlava zinek bílý PZ2"},{"$f":"[1]Seznamy!$Q$9","v":"Schachermayer"},null,"CZ","2020-10-01",0.41,0.22]
[{"$f":"CONCATENATE(VLOOKUP(C506,[1]Seznamy!$Q$2:$R$36,2,0),VLOOKUP(B506,[1]Produkty!$I:$O,7,0),E506,F506)","v":"11330CZ44105"},{"$f":"[1]Produkty!$I$31","v":"ABSB 77039/414 W980/500/W954 ST2 23/2"},{"$f":"[1]Seznamy!$Q$14","v":"Sinks"},null,"CZ","2020-10-01","x","x"]
[{"$f":"CONCATENATE(VLOOKUP(C507,[1]Seznamy!$Q$2:$R$36,2,0),VLOOKUP(B507,[1]Produkty!$I:$O,7,0),E507,F507)","v":"11329CZ44105"},{"$f":"[1]Produkty!$I$30","v":"ABSB HU10113 Bílá 101/110/113/8100/8685/W954/B3822 PE 22/2"},{"$f":"[1]Seznamy!$Q$14","v":"Sinks"},null,"CZ","2020-10-01","x","x"]
[{"$f":"CONCATENATE(VLOOKUP(C508,[1]Seznamy!$Q$2:$R$36,2,0),VLOOKUP(B508,[1]Produkty!$I:$O,7,0),E508,F508)","v":"11332CZ44105"},{"$f":"[1]Produkty!$I$33","v":"Alfa II profile 222788"},{"$f":"[1]Seznamy!$Q$14","v":"Sinks"},null,"CZ","2020-10-01","x","x"]
[{"$f":"CONCATENATE(VLOOKUP(C509,[1]Seznamy!$Q$2:$R$36,2,0),VLOOKUP(B509,[1]Produkty!$I:$O,7,0),E509,F509)","v":"1139CZ44105"},{"$f":"[1]Produkty!$I$10","v":"BBP OA Zásuvka 515 mm kovová černá"},{"$f":"[1]Seznamy!$Q$14","v":"Sinks"},null,"CZ","2020-10-01","x","x"]
[{"$f":"CONCATENATE(VLOOKUP(C510,[1]Seznamy!$Q$2:$R$36,2,0),VLOOKUP(B510,[1]Produkty!$I:$O,7,0),E510,F510)","v":"11327CZ44105"},{"$f":"[1]Produkty!$I$28","v":"DTDD DUB COMMERCIAL A/B DEC 2800/2070/19"},{"$f":"[1]Seznamy!$Q$14","v":"Sinks"},null,"CZ","2020-10-01","x","x"]
[{"$f":"CONCATENATE(VLOOKUP(C511,[1]Seznamy!$Q$2:$R$36,2,0),VLOOKUP(B511,[1]Produkty!$I:$O,7,0),E511,F511)","v":"11328CZ44105"},{"$f":"[1]Produkty!$I$29","v":"DTDD Dub evr. radiál st A/B 2800/2070/19"},{"$f":"[1]Seznamy!$Q$14","v":"Sinks"},null,"CZ","2020-10-01","x","x"]
[{"$f":"CONCATENATE(VLOOKUP(C512,[1]Seznamy!$Q$2:$R$36,2,0),VLOOKUP(B512,[1]Produkty!$I:$O,7,0),E512,F512)","v":"11326CZ44105"},{"$f":"[1]Produkty!$I$27","v":"DTDL W980 ST2 Platinově bílá 2800/2070/18"},{"$f":"[1]Seznamy!$Q$14","v":"Sinks"},null,"CZ","2020-10-01","x","x"]
[{"$f":"CONCATENATE(VLOOKUP(C513,[1]Seznamy!$Q$2:$R$36,2,0),VLOOKUP(B513,[1]Produkty!$I:$O,7,0),E513,F513)","v":"11311CZ44105"},{"$f":"[1]Produkty!$I$12","v":"FRANKE Dřez BFG 611-78 780 x 500 onyx"},{"$f":"[1]Seznamy!$Q$14","v":"Sinks"},null,"CZ","2020-10-01",2992,2992]
[{"$f":"CONCATENATE(VLOOKUP(C514,[1]Seznamy!$Q$2:$R$36,2,0),VLOOKUP(B514,[1]Produkty!$I:$O,7,0),E514,F514)","v":"11314CZ44105"},{"$f":"[1]Produkty!$I$15","v":"FRANKE Dřez ETN 610 455 x 435"},{"$f":"[1]Seznamy!$Q$14","v":"Sinks"},null,"CZ","2020-10-01",1114,1114]
[{"$f":"CONCATENATE(VLOOKUP(C515,[1]Seznamy!$Q$2:$R$36,2,0),VLOOKUP(B515,[1]Produkty!$I:$O,7,0),E515,F515)","v":"11310CZ44105"},{"$f":"[1]Produkty!$I$11","v":"FRANKE Dřez ETN 614 6/4 obyčejný ventil bez otvoru"},{"$f":"[1]Seznamy!$Q$14","v":"Sinks"},null,"CZ","2020-10-01",1564,1564]
[{"$f":"CONCATENATE(VLOOKUP(C516,[1]Seznamy!$Q$2:$R$36,2,0),VLOOKUP(B516,[1]Produkty!$I:$O,7,0),E516,F516)","v":"11313CZ44105"},{"$f":"[1]Produkty!$I$14","v":"GOLLINUCCI Sorter 580 Plus Line, 600 mm, výška 505mm, 80 l, šedý"},{"$f":"[1]Seznamy!$Q$14","v":"Sinks"},null,"CZ","2020-10-01","x","x"]
[{"$f":"CONCATENATE(VLOOKUP(C517,[1]Seznamy!$Q$2:$R$36,2,0),VLOOKUP(B517,[1]Produkty!$I:$O,7,0),E517,F517)","v":"11315CZ44105"},{"$f":"[1]Produkty!$I$16","v":"GOLLINUCCI Sorter Linea 222, 300 mm"},{"$f":"[1]Seznamy!$Q$14","v":"Sinks"},null,"CZ","2020-10-01",1280,1280]
[{"$f":"CONCATENATE(VLOOKUP(C518,[1]Seznamy!$Q$2:$R$36,2,0),VLOOKUP(B518,[1]Produkty!$I:$O,7,0),E518,F518)","v":"11312CZ44105"},{"$f":"[1]Produkty!$I$13","v":"GOLLINUCCI Sorter Sistema 901/2x16 l, 600 mm"},{"$f":"[1]Seznamy!$Q$14","v":"Sinks"},null,"CZ","2020-10-01",766,766]
[{"$f":"CONCATENATE(VLOOKUP(C519,[1]Seznamy!$Q$2:$R$36,2,0),VLOOKUP(B519,[1]Produkty!$I:$O,7,0),E519,F519)","v":"11331CZ44105"},{"$f":"[1]Produkty!$I$32","v":"HDF LAK 101 BÍLÁ PE 2800/2070/3"},{"$f":"[1]Seznamy!$Q$14","v":"Sinks"},null,"CZ","2020-10-01","x","x"]
[{"$f":"CONCATENATE(VLOOKUP(C520,[1]Seznamy!$Q$2:$R$36,2,0),VLOOKUP(B520,[1]Produkty!$I:$O,7,0),E520,F520)","v":"11325CZ44105"},{"$f":"[1]Produkty!$I$26","v":"Konfirmát 7/50 zinek bílý bulk"},{"$f":"[1]Seznamy!$Q$14","v":"Sinks"},null,"CZ","2020-10-01","x","x"]
[{"$f":"CONCATENATE(VLOOKUP(C521,[1]Seznamy!$Q$2:$R$36,2,0),VLOOKUP(B521,[1]Produkty!$I:$O,7,0),E521,F521)","v":"11333CZ44105"},{"$f":"[1]Produkty!$I$34","v":"SEVROLL Era úchytová lišta 18mm 2,70m stříbrná"},{"$f":"[1]Seznamy!$Q$14","v":"Sinks"},null,"CZ","2020-10-01","x","x"]
[{"$f":"CONCATENATE(VLOOKUP(C522,[1]Seznamy!$Q$2:$R$36,2,0),VLOOKUP(B522,[1]Produkty!$I:$O,7,0),E522,F522)","v":"11334CZ44105"},{"$f":"[1]Produkty!$I$35","v":"Strong electric socket, lift"},{"$f":"[1]Seznamy!$Q$14","v":"Sinks"},null,"CZ","2020-10-01","x","x"]
[{"$f":"CONCATENATE(VLOOKUP(C523,[1]Seznamy!$Q$2:$R$36,2,0),VLOOKUP(B523,[1]Produkty!$I:$O,7,0),E523,F523)","v":"1138CZ44105"},{"$f":"[1]Produkty!$I$9","v":"STRONG Elektrická zásuvka 3x230V, francouzský typ, 265x130x68 mm stříbrná"},{"$f":"[1]Seznamy!$Q$14","v":"Sinks"},null,"CZ","2020-10-01","x","x"]
[{"$f":"CONCATENATE(VLOOKUP(C524,[1]Seznamy!$Q$2:$R$36,2,0),VLOOKUP(B524,[1]Produkty!$I:$O,7,0),E524,F524)","v":"11335CZ44105"},{"$f":"[1]Produkty!$I$36","v":"STRONG Elektricky stavitelná podnož černá RAL 9005 mat"},{"$f":"[1]Seznamy!$Q$14","v":"Sinks"},null,"CZ","2020-10-01","x","x"]
[{"$f":"CONCATENATE(VLOOKUP(C525,[1]Seznamy!$Q$2:$R$36,2,0),VLOOKUP(B525,[1]Produkty!$I:$O,7,0),E525,F525)","v":"11322CZ44105"},{"$f":"[1]Produkty!$I$23","v":"STRONG LED pásek 21,6W/m 24V bílá neutrální 210 LED/m"},{"$f":"[1]Seznamy!$Q$14","v":"Sinks"},null,"CZ","2020-10-01","x","x"]
[{"$f":"CONCATENATE(VLOOKUP(C526,[1]Seznamy!$Q$2:$R$36,2,0),VLOOKUP(B526,[1]Produkty!$I:$O,7,0),E526,F526)","v":"1131CZ44105"},{"$f":"[1]Produkty!$I$2","v":"STRONG plus závěs naložený s tlumením, s excentrem, klipový"},{"$f":"[1]Seznamy!$Q$14","v":"Sinks"},null,"CZ","2020-10-01","x","x"]
[{"$f":"CONCATENATE(VLOOKUP(C527,[1]Seznamy!$Q$2:$R$36,2,0),VLOOKUP(B527,[1]Produkty!$I:$O,7,0),E527,F527)","v":"1136CZ44105"},{"$f":"[1]Produkty!$I$7","v":"STRONG Rektifikační nožka 100 mm"},{"$f":"[1]Seznamy!$Q$14","v":"Sinks"},null,"CZ","2020-10-01","x","x"]
[{"$f":"CONCATENATE(VLOOKUP(C528,[1]Seznamy!$Q$2:$R$36,2,0),VLOOKUP(B528,[1]Produkty!$I:$O,7,0),E528,F528)","v":"1137CZ44105"},{"$f":"[1]Produkty!$I$8","v":"STRONG Stolová noha centrální 450x450 černá"},{"$f":"[1]Seznamy!$Q$14","v":"Sinks"},null,"CZ","2020-10-01","x","x"]
[{"$f":"CONCATENATE(VLOOKUP(C529,[1]Seznamy!$Q$2:$R$36,2,0),VLOOKUP(B529,[1]Produkty!$I:$O,7,0),E529,F529)","v":"11323CZ44105"},{"$f":"[1]Produkty!$I$24","v":"STRONG transformátor plochý LED 24V 100W"},{"$f":"[1]Seznamy!$Q$14","v":"Sinks"},null,"CZ","2020-10-01","x","x"]
[{"$f":"CONCATENATE(VLOOKUP(C530,[1]Seznamy!$Q$2:$R$36,2,0),VLOOKUP(B530,[1]Produkty!$I:$O,7,0),E530,F530)","v":"1132CZ44105"},{"$f":"[1]Produkty!$I$3","v":"STRONG závěs naložený, slide on"},{"$f":"[1]Seznamy!$Q$14","v":"Sinks"},null,"CZ","2020-10-01","x","x"]
[{"$f":"CONCATENATE(VLOOKUP(C531,[1]Seznamy!$Q$2:$R$36,2,0),VLOOKUP(B531,[1]Produkty!$I:$O,7,0),E531,F531)","v":"1133CZ44105"},{"$f":"[1]Produkty!$I$4","v":"StrongBox H86/500mm bílý"},{"$f":"[1]Seznamy!$Q$14","v":"Sinks"},null,"CZ","2020-10-01","x","x"]
[{"$f":"CONCATENATE(VLOOKUP(C532,[1]Seznamy!$Q$2:$R$36,2,0),VLOOKUP(B532,[1]Produkty!$I:$O,7,0),E532,F532)","v":"1134CZ44105"},{"$f":"[1]Produkty!$I$5","v":"StrongMax 89/500 mm šedý (antracit)"},{"$f":"[1]Seznamy!$Q$14","v":"Sinks"},null,"CZ","2020-10-01","x","x"]
[{"$f":"CONCATENATE(VLOOKUP(C533,[1]Seznamy!$Q$2:$R$36,2,0),VLOOKUP(B533,[1]Produkty!$I:$O,7,0),E533,F533)","v":"1135CZ44105"},{"$f":"[1]Produkty!$I$6","v":"StrongRide synchro 3D celovýsuv 500 mm s tlumením"},{"$f":"[1]Seznamy!$Q$14","v":"Sinks"},null,"CZ","2020-10-01","x","x"]
[{"$f":"CONCATENATE(VLOOKUP(C534,[1]Seznamy!$Q$2:$R$36,2,0),VLOOKUP(B534,[1]Produkty!$I:$O,7,0),E534,F534)","v":"11336CZ44105"},{"$f":"[1]Produkty!$I$37","v":"TULIP Gola dvířkový J profil 4,1m eloxovaný hliník"},{"$f":"[1]Seznamy!$Q$14","v":"Sinks"},null,"CZ","2020-10-01","x","x"]
[{"$f":"CONCATENATE(VLOOKUP(C535,[1]Seznamy!$Q$2:$R$36,2,0),VLOOKUP(B535,[1]Produkty!$I:$O,7,0),E535,F535)","v":"11318CZ44105"},{"$f":"[1]Produkty!$I$19","v":"TULIP úchytka Anita 96 nikl matný + šroubky"},{"$f":"[1]Seznamy!$Q$14","v":"Sinks"},null,"CZ","2020-10-01","x","x"]
[{"$f":"CONCATENATE(VLOOKUP(C536,[1]Seznamy!$Q$2:$R$36,2,0),VLOOKUP(B536,[1]Produkty!$I:$O,7,0),E536,F536)","v":"11321CZ44105"},{"$f":"[1]Produkty!$I$22","v":"TULIP Úchytka Lucata 160 černá matná"},{"$f":"[1]Seznamy!$Q$14","v":"Sinks"},null,"CZ","2020-10-01","x","x"]
[{"$f":"CONCATENATE(VLOOKUP(C537,[1]Seznamy!$Q$2:$R$36,2,0),VLOOKUP(B537,[1]Produkty!$I:$O,7,0),E537,F537)","v":"11316CZ44105"},{"$f":"[1]Produkty!$I$17","v":"TULIP úchytka Nakana 128 chrom matný + šroubky"},{"$f":"[1]Seznamy!$Q$14","v":"Sinks"},null,"CZ","2020-10-01","x","x"]
[{"$f":"CONCATENATE(VLOOKUP(C538,[1]Seznamy!$Q$2:$R$36,2,0),VLOOKUP(B538,[1]Produkty!$I:$O,7,0),E538,F538)","v":"11317CZ44105"},{"$f":"[1]Produkty!$I$18","v":"TULIP úchytka Piombina 96 nikl matný + šroubky"},{"$f":"[1]Seznamy!$Q$14","v":"Sinks"},null,"CZ","2020-10-01","x","x"]
[{"$f":"CONCATENATE(VLOOKUP(C539,[1]Seznamy!$Q$2:$R$36,2,0),VLOOKUP(B539,[1]Produkty!$I:$O,7,0),E539,F539)","v":"11320CZ44105"},{"$f":"[1]Produkty!$I$21","v":"TULIP Úchytka Ramara 596 imitace nerezi"},{"$f":"[1]Seznamy!$Q$14","v":"Sinks"},null,"CZ","2020-10-01","x","x"]
[{"$f":"CONCATENATE(VLOOKUP(C540,[1]Seznamy!$Q$2:$R$36,2,0),VLOOKUP(B540,[1]Produkty!$I:$O,7,0),E540,F540)","v":"11319CZ44105"},{"$f":"[1]Produkty!$I$20","v":"TULIP věšák Lugo XL chrom matný + šroubky"},{"$f":"[1]Seznamy!$Q$14","v":"Sinks"},null,"CZ","2020-10-01","x","x"]
[{"$f":"CONCATENATE(VLOOKUP(C541,[1]Seznamy!$Q$2:$R$36,2,0),VLOOKUP(B541,[1]Produkty!$I:$O,7,0),E541,F541)","v":"11324CZ44105"},{"$f":"[1]Produkty!$I$25","v":"Vrut PZ 4x18 zápustná hlava zinek bílý PZ2"},{"$f":"[1]Seznamy!$Q$14","v":"Sinks"},null,"CZ","2020-10-01","x","x"]
[{"$f":"CONCATENATE(VLOOKUP(C542,[1]Seznamy!$Q$2:$R$36,2,0),VLOOKUP(B542,[1]Produkty!$I:$O,7,0),E542,F542)","v":"10730CZ44105"},{"$f":"[1]Produkty!$I$31","v":"ABSB 77039/414 W980/500/W954 ST2 23/2"},{"$f":"[1]Seznamy!$Q$8","v":"TWD"},null,"CZ","2020-10-01","x","x"]
[{"$f":"CONCATENATE(VLOOKUP(C543,[1]Seznamy!$Q$2:$R$36,2,0),VLOOKUP(B543,[1]Produkty!$I:$O,7,0),E543,F543)","v":"10729CZ44105"},{"$f":"[1]Produkty!$I$30","v":"ABSB HU10113 Bílá 101/110/113/8100/8685/W954/B3822 PE 22/2"},{"$f":"[1]Seznamy!$Q$8","v":"TWD"},null,"CZ","2020-10-01","x","x"]
[{"$f":"CONCATENATE(VLOOKUP(C544,[1]Seznamy!$Q$2:$R$36,2,0),VLOOKUP(B544,[1]Produkty!$I:$O,7,0),E544,F544)","v":"10732CZ44105"},{"$f":"[1]Produkty!$I$33","v":"Alfa II profile 222788"},{"$f":"[1]Seznamy!$Q$8","v":"TWD"},null,"CZ","2020-10-01"]
[{"$f":"CONCATENATE(VLOOKUP(C545,[1]Seznamy!$Q$2:$R$36,2,0),VLOOKUP(B545,[1]Produkty!$I:$O,7,0),E545,F545)","v":"1079CZ44105"},{"$f":"[1]Produkty!$I$10","v":"BBP OA Zásuvka 515 mm kovová černá"},{"$f":"[1]Seznamy!$Q$8","v":"TWD"},null,"CZ","2020-10-01","x","x"]
[{"$f":"CONCATENATE(VLOOKUP(C546,[1]Seznamy!$Q$2:$R$36,2,0),VLOOKUP(B546,[1]Produkty!$I:$O,7,0),E546,F546)","v":"10727CZ44105"},{"$f":"[1]Produkty!$I$28","v":"DTDD DUB COMMERCIAL A/B DEC 2800/2070/19"},{"$f":"[1]Seznamy!$Q$8","v":"TWD"},null,"CZ","2020-10-01","x","x"]
[{"$f":"CONCATENATE(VLOOKUP(C547,[1]Seznamy!$Q$2:$R$36,2,0),VLOOKUP(B547,[1]Produkty!$I:$O,7,0),E547,F547)","v":"10728CZ44105"},{"$f":"[1]Produkty!$I$29","v":"DTDD Dub evr. radiál st A/B 2800/2070/19"},{"$f":"[1]Seznamy!$Q$8","v":"TWD"},null,"CZ","2020-10-01","x","x"]
[{"$f":"CONCATENATE(VLOOKUP(C548,[1]Seznamy!$Q$2:$R$36,2,0),VLOOKUP(B548,[1]Produkty!$I:$O,7,0),E548,F548)","v":"10726CZ44105"},{"$f":"[1]Produkty!$I$27","v":"DTDL W980 ST2 Platinově bílá 2800/2070/18"},{"$f":"[1]Seznamy!$Q$8","v":"TWD"},null,"CZ","2020-10-01","x","x"]
[{"$f":"CONCATENATE(VLOOKUP(C549,[1]Seznamy!$Q$2:$R$36,2,0),VLOOKUP(B549,[1]Produkty!$I:$O,7,0),E549,F549)","v":"10711CZ44105"},{"$f":"[1]Produkty!$I$12","v":"FRANKE Dřez BFG 611-78 780 x 500 onyx"},{"$f":"[1]Seznamy!$Q$8","v":"TWD"},null,"CZ","2020-10-01","x","x"]
[{"$f":"CONCATENATE(VLOOKUP(C550,[1]Seznamy!$Q$2:$R$36,2,0),VLOOKUP(B550,[1]Produkty!$I:$O,7,0),E550,F550)","v":"10714CZ44105"},{"$f":"[1]Produkty!$I$15","v":"FRANKE Dřez ETN 610 455 x 435"},{"$f":"[1]Seznamy!$Q$8","v":"TWD"},null,"CZ","2020-10-01","x","x"]
[{"$f":"CONCATENATE(VLOOKUP(C551,[1]Seznamy!$Q$2:$R$36,2,0),VLOOKUP(B551,[1]Produkty!$I:$O,7,0),E551,F551)","v":"10710CZ44105"},{"$f":"[1]Produkty!$I$11","v":"FRANKE Dřez ETN 614 6/4 obyčejný ventil bez otvoru"},{"$f":"[1]Seznamy!$Q$8","v":"TWD"},null,"CZ","2020-10-01","x","x"]
[{"$f":"CONCATENATE(VLOOKUP(C552,[1]Seznamy!$Q$2:$R$36,2,0),VLOOKUP(B552,[1]Produkty!$I:$O,7,0),E552,F552)","v":"10713CZ44105"},{"$f":"[1]Produkty!$I$14","v":"GOLLINUCCI Sorter 580 Plus Line, 600 mm, výška 505mm, 80 l, šedý"},{"$f":"[1]Seznamy!$Q$8","v":"TWD"},null,"CZ","2020-10-01","x","x"]
[{"$f":"CONCATENATE(VLOOKUP(C553,[1]Seznamy!$Q$2:$R$36,2,0),VLOOKUP(B553,[1]Produkty!$I:$O,7,0),E553,F553)","v":"10715CZ44105"},{"$f":"[1]Produkty!$I$16","v":"GOLLINUCCI Sorter Linea 222, 300 mm"},{"$f":"[1]Seznamy!$Q$8","v":"TWD"},null,"CZ","2020-10-01",1552,1552]
[{"$f":"CONCATENATE(VLOOKUP(C554,[1]Seznamy!$Q$2:$R$36,2,0),VLOOKUP(B554,[1]Produkty!$I:$O,7,0),E554,F554)","v":"10712CZ44105"},{"$f":"[1]Produkty!$I$13","v":"GOLLINUCCI Sorter Sistema 901/2x16 l, 600 mm"},{"$f":"[1]Seznamy!$Q$8","v":"TWD"},null,"CZ","2020-10-01","x","x"]
[{"$f":"CONCATENATE(VLOOKUP(C555,[1]Seznamy!$Q$2:$R$36,2,0),VLOOKUP(B555,[1]Produkty!$I:$O,7,0),E555,F555)","v":"10731CZ44105"},{"$f":"[1]Produkty!$I$32","v":"HDF LAK 101 BÍLÁ PE 2800/2070/3"},{"$f":"[1]Seznamy!$Q$8","v":"TWD"},null,"CZ","2020-10-01",360,360]
[{"$f":"CONCATENATE(VLOOKUP(C556,[1]Seznamy!$Q$2:$R$36,2,0),VLOOKUP(B556,[1]Produkty!$I:$O,7,0),E556,F556)","v":"10725CZ44105"},{"$f":"[1]Produkty!$I$26","v":"Konfirmát 7/50 zinek bílý bulk"},{"$f":"[1]Seznamy!$Q$8","v":"TWD"},null,"CZ","2020-10-01",1.04,1.04]
[{"$f":"CONCATENATE(VLOOKUP(C557,[1]Seznamy!$Q$2:$R$36,2,0),VLOOKUP(B557,[1]Produkty!$I:$O,7,0),E557,F557)","v":"10733CZ44105"},{"$f":"[1]Produkty!$I$34","v":"SEVROLL Era úchytová lišta 18mm 2,70m stříbrná"},{"$f":"[1]Seznamy!$Q$8","v":"TWD"},null,"CZ","2020-10-01"]
[{"$f":"CONCATENATE(VLOOKUP(C558,[1]Seznamy!$Q$2:$R$36,2,0),VLOOKUP(B558,[1]Produkty!$I:$O,7,0),E558,F558)","v":"10734CZ44105"},{"$f":"[1]Produkty!$I$35","v":"Strong electric socket, lift"},{"$f":"[1]Seznamy!$Q$8","v":"TWD"},null,"CZ","2020-10-01","x","x"]
[{"$f":"CONCATENATE(VLOOKUP(C559,[1]Seznamy!$Q$2:$R$36,2,0),VLOOKUP(B559,[1]Produkty!$I:$O,7,0),E559,F559)","v":"1078CZ44105"},{"$f":"[1]Produkty!$I$9","v":"STRONG Elektrická zásuvka 3x230V, francouzský typ, 265x130x68 mm stříbrná"},{"$f":"[1]Seznamy!$Q$8","v":"TWD"},null,"CZ","2020-10-01","x","x"]
[{"$f":"CONCATENATE(VLOOKUP(C560,[1]Seznamy!$Q$2:$R$36,2,0),VLOOKUP(B560,[1]Produkty!$I:$O,7,0),E560,F560)","v":"10735CZ44105"},{"$f":"[1]Produkty!$I$36","v":"STRONG Elektricky stavitelná podnož černá RAL 9005 mat"},{"$f":"[1]Seznamy!$Q$8","v":"TWD"},null,"CZ","2020-10-01","x","x"]
[{"$f":"CONCATENATE(VLOOKUP(C561,[1]Seznamy!$Q$2:$R$36,2,0),VLOOKUP(B561,[1]Produkty!$I:$O,7,0),E561,F561)","v":"10722CZ44105"},{"$f":"[1]Produkty!$I$23","v":"STRONG LED pásek 21,6W/m 24V bílá neutrální 210 LED/m"},{"$f":"[1]Seznamy!$Q$8","v":"TWD"},null,"CZ","2020-10-01"]
[{"$f":"CONCATENATE(VLOOKUP(C562,[1]Seznamy!$Q$2:$R$36,2,0),VLOOKUP(B562,[1]Produkty!$I:$O,7,0),E562,F562)","v":"1071CZ44105"},{"$f":"[1]Produkty!$I$2","v":"STRONG plus závěs naložený s tlumením, s excentrem, klipový"},{"$f":"[1]Seznamy!$Q$8","v":"TWD"},null,"CZ","2020-10-01",33.21,33.21]
[{"$f":"CONCATENATE(VLOOKUP(C563,[1]Seznamy!$Q$2:$R$36,2,0),VLOOKUP(B563,[1]Produkty!$I:$O,7,0),E563,F563)","v":"1076CZ44105"},{"$f":"[1]Produkty!$I$7","v":"STRONG Rektifikační nožka 100 mm"},{"$f":"[1]Seznamy!$Q$8","v":"TWD"},null,"CZ","2020-10-01",2.97,2.97]
[{"$f":"CONCATENATE(VLOOKUP(C564,[1]Seznamy!$Q$2:$R$36,2,0),VLOOKUP(B564,[1]Produkty!$I:$O,7,0),E564,F564)","v":"1077CZ44105"},{"$f":"[1]Produkty!$I$8","v":"STRONG Stolová noha centrální 450x450 černá"},{"$f":"[1]Seznamy!$Q$8","v":"TWD"},null,"CZ","2020-10-01","x","x"]
[{"$f":"CONCATENATE(VLOOKUP(C565,[1]Seznamy!$Q$2:$R$36,2,0),VLOOKUP(B565,[1]Produkty!$I:$O,7,0),E565,F565)","v":"10723CZ44105"},{"$f":"[1]Produkty!$I$24","v":"STRONG transformátor plochý LED 24V 100W"},{"$f":"[1]Seznamy!$Q$8","v":"TWD"},null,"CZ","2020-10-01"]
[{"$f":"CONCATENATE(VLOOKUP(C566,[1]Seznamy!$Q$2:$R$36,2,0),VLOOKUP(B566,[1]Produkty!$I:$O,7,0),E566,F566)","v":"1072CZ44105"},{"$f":"[1]Produkty!$I$3","v":"STRONG závěs naložený, slide on"},{"$f":"[1]Seznamy!$Q$8","v":"TWD"},null,"CZ","2020-10-01",12.15,12.15]
[{"$f":"CONCATENATE(VLOOKUP(C567,[1]Seznamy!$Q$2:$R$36,2,0),VLOOKUP(B567,[1]Produkty!$I:$O,7,0),E567,F567)","v":"1073CZ44105"},{"$f":"[1]Produkty!$I$4","v":"StrongBox H86/500mm bílý"},{"$f":"[1]Seznamy!$Q$8","v":"TWD"},null,"CZ","2020-10-01","x","x"]
[{"$f":"CONCATENATE(VLOOKUP(C568,[1]Seznamy!$Q$2:$R$36,2,0),VLOOKUP(B568,[1]Produkty!$I:$O,7,0),E568,F568)","v":"1074CZ44105"},{"$f":"[1]Produkty!$I$5","v":"StrongMax 89/500 mm šedý (antracit)"},{"$f":"[1]Seznamy!$Q$8","v":"TWD"},null,"CZ","2020-10-01","x","x"]
[{"$f":"CONCATENATE(VLOOKUP(C569,[1]Seznamy!$Q$2:$R$36,2,0),VLOOKUP(B569,[1]Produkty!$I:$O,7,0),E569,F569)","v":"1075CZ44105"},{"$f":"[1]Produkty!$I$6","v":"StrongRide synchro 3D celovýsuv 500 mm s tlumením"},{"$f":"[1]Seznamy!$Q$8","v":"TWD"},null,"CZ","2020-10-01","x","x"]
[{"$f":"CONCATENATE(VLOOKUP(C570,[1]Seznamy!$Q$2:$R$36,2,0),VLOOKUP(B570,[1]Produkty!$I:$O,7,0),E570,F570)","v":"10736CZ44105"},{"$f":"[1]Produkty!$I$37","v":"TULIP Gola dvířkový J profil 4,1m eloxovaný hliník"},{"$f":"[1]Seznamy!$Q$8","v":"TWD"},null,"CZ","2020-10-01"]
[{"$f":"CONCATENATE(VLOOKUP(C571,[1]Seznamy!$Q$2:$R$36,2,0),VLOOKUP(B571,[1]Produkty!$I:$O,7,0),E571,F571)","v":"10718CZ44105"},{"$f":"[1]Produkty!$I$19","v":"TULIP úchytka Anita 96 nikl matný + šroubky"},{"$f":"[1]Seznamy!$Q$8","v":"TWD"},null,"CZ","2020-10-01","x","x"]
[{"$f":"CONCATENATE(VLOOKUP(C572,[1]Seznamy!$Q$2:$R$36,2,0),VLOOKUP(B572,[1]Produkty!$I:$O,7,0),E572,F572)","v":"10721CZ44105"},{"$f":"[1]Produkty!$I$22","v":"TULIP Úchytka Lucata 160 černá matná"},{"$f":"[1]Seznamy!$Q$8","v":"TWD"},null,"CZ","2020-10-01","x","x"]
[{"$f":"CONCATENATE(VLOOKUP(C573,[1]Seznamy!$Q$2:$R$36,2,0),VLOOKUP(B573,[1]Produkty!$I:$O,7,0),E573,F573)","v":"10716CZ44105"},{"$f":"[1]Produkty!$I$17","v":"TULIP úchytka Nakana 128 chrom matný + šroubky"},{"$f":"[1]Seznamy!$Q$8","v":"TWD"},null,"CZ","2020-10-01","x","x"]
[{"$f":"CONCATENATE(VLOOKUP(C574,[1]Seznamy!$Q$2:$R$36,2,0),VLOOKUP(B574,[1]Produkty!$I:$O,7,0),E574,F574)","v":"10717CZ44105"},{"$f":"[1]Produkty!$I$18","v":"TULIP úchytka Piombina 96 nikl matný + šroubky"},{"$f":"[1]Seznamy!$Q$8","v":"TWD"},null,"CZ","2020-10-01","x","x"]
[{"$f":"CONCATENATE(VLOOKUP(C575,[1]Seznamy!$Q$2:$R$36,2,0),VLOOKUP(B575,[1]Produkty!$I:$O,7,0),E575,F575)","v":"10720CZ44105"},{"$f":"[1]Produkty!$I$21","v":"TULIP Úchytka Ramara 596 imitace nerezi"},{"$f":"[1]Seznamy!$Q$8","v":"TWD"},null,"CZ","2020-10-01","x","x"]
[{"$f":"CONCATENATE(VLOOKUP(C576,[1]Seznamy!$Q$2:$R$36,2,0),VLOOKUP(B576,[1]Produkty!$I:$O,7,0),E576,F576)","v":"10719CZ44105"},{"$f":"[1]Produkty!$I$20","v":"TULIP věšák Lugo XL chrom matný + šroubky"},{"$f":"[1]Seznamy!$Q$8","v":"TWD"},null,"CZ","2020-10-01","x","x"]
[{"$f":"CONCATENATE(VLOOKUP(C577,[1]Seznamy!$Q$2:$R$36,2,0),VLOOKUP(B577,[1]Produkty!$I:$O,7,0),E577,F577)","v":"10724CZ44105"},{"$f":"[1]Produkty!$I$25","v":"Vrut PZ 4x18 zápustná hlava zinek bílý PZ2"},{"$f":"[1]Seznamy!$Q$8","v":"TWD"},null,"CZ","2020-10-01","x","x"]
[{"$f":"CONCATENATE(VLOOKUP(C578,[1]Seznamy!$Q$2:$R$36,2,0),VLOOKUP(B578,[1]Produkty!$I:$O,7,0),E578,F578)","v":"11730CZ44105"},{"$f":"[1]Produkty!$I$31","v":"ABSB 77039/414 W980/500/W954 ST2 23/2"},{"$f":"[1]Seznamy!$Q$18","v":"Weyland"},null,"CZ","2020-10-01","x","x"]
[{"$f":"CONCATENATE(VLOOKUP(C579,[1]Seznamy!$Q$2:$R$36,2,0),VLOOKUP(B579,[1]Produkty!$I:$O,7,0),E579,F579)","v":"11729CZ44105"},{"$f":"[1]Produkty!$I$30","v":"ABSB HU10113 Bílá 101/110/113/8100/8685/W954/B3822 PE 22/2"},{"$f":"[1]Seznamy!$Q$18","v":"Weyland"},null,"CZ","2020-10-01","x","x"]
[{"$f":"CONCATENATE(VLOOKUP(C580,[1]Seznamy!$Q$2:$R$36,2,0),VLOOKUP(B580,[1]Produkty!$I:$O,7,0),E580,F580)","v":"11732CZ44105"},{"$f":"[1]Produkty!$I$33","v":"Alfa II profile 222788"},{"$f":"[1]Seznamy!$Q$18","v":"Weyland"},null,"CZ","2020-10-01","x","x"]
[{"$f":"CONCATENATE(VLOOKUP(C581,[1]Seznamy!$Q$2:$R$36,2,0),VLOOKUP(B581,[1]Produkty!$I:$O,7,0),E581,F581)","v":"1179CZ44105"},{"$f":"[1]Produkty!$I$10","v":"BBP OA Zásuvka 515 mm kovová černá"},{"$f":"[1]Seznamy!$Q$18","v":"Weyland"},null,"CZ","2020-10-01","x","x"]
[{"$f":"CONCATENATE(VLOOKUP(C582,[1]Seznamy!$Q$2:$R$36,2,0),VLOOKUP(B582,[1]Produkty!$I:$O,7,0),E582,F582)","v":"11727CZ44105"},{"$f":"[1]Produkty!$I$28","v":"DTDD DUB COMMERCIAL A/B DEC 2800/2070/19"},{"$f":"[1]Seznamy!$Q$18","v":"Weyland"},null,"CZ","2020-10-01","x","x"]
[{"$f":"CONCATENATE(VLOOKUP(C583,[1]Seznamy!$Q$2:$R$36,2,0),VLOOKUP(B583,[1]Produkty!$I:$O,7,0),E583,F583)","v":"11728CZ44105"},{"$f":"[1]Produkty!$I$29","v":"DTDD Dub evr. radiál st A/B 2800/2070/19"},{"$f":"[1]Seznamy!$Q$18","v":"Weyland"},null,"CZ","2020-10-01","x","x"]
[{"$f":"CONCATENATE(VLOOKUP(C584,[1]Seznamy!$Q$2:$R$36,2,0),VLOOKUP(B584,[1]Produkty!$I:$O,7,0),E584,F584)","v":"11726CZ44105"},{"$f":"[1]Produkty!$I$27","v":"DTDL W980 ST2 Platinově bílá 2800/2070/18"},{"$f":"[1]Seznamy!$Q$18","v":"Weyland"},null,"CZ","2020-10-01","x","x"]
[{"$f":"CONCATENATE(VLOOKUP(C585,[1]Seznamy!$Q$2:$R$36,2,0),VLOOKUP(B585,[1]Produkty!$I:$O,7,0),E585,F585)","v":"11711CZ44105"},{"$f":"[1]Produkty!$I$12","v":"FRANKE Dřez BFG 611-78 780 x 500 onyx"},{"$f":"[1]Seznamy!$Q$18","v":"Weyland"},null,"CZ","2020-10-01","x","x"]
[{"$f":"CONCATENATE(VLOOKUP(C586,[1]Seznamy!$Q$2:$R$36,2,0),VLOOKUP(B586,[1]Produkty!$I:$O,7,0),E586,F586)","v":"11714CZ44105"},{"$f":"[1]Produkty!$I$15","v":"FRANKE Dřez ETN 610 455 x 435"},{"$f":"[1]Seznamy!$Q$18","v":"Weyland"},null,"CZ","2020-10-01","x","x"]
[{"$f":"CONCATENATE(VLOOKUP(C587,[1]Seznamy!$Q$2:$R$36,2,0),VLOOKUP(B587,[1]Produkty!$I:$O,7,0),E587,F587)","v":"11710CZ44105"},{"$f":"[1]Produkty!$I$11","v":"FRANKE Dřez ETN 614 6/4 obyčejný ventil bez otvoru"},{"$f":"[1]Seznamy!$Q$18","v":"Weyland"},null,"CZ","2020-10-01","x","x"]
[{"$f":"CONCATENATE(VLOOKUP(C588,[1]Seznamy!$Q$2:$R$36,2,0),VLOOKUP(B588,[1]Produkty!$I:$O,7,0),E588,F588)","v":"11713CZ44105"},{"$f":"[1]Produkty!$I$14","v":"GOLLINUCCI Sorter 580 Plus Line, 600 mm, výška 505mm, 80 l, šedý"},{"$f":"[1]Seznamy!$Q$18","v":"Weyland"},null,"CZ","2020-10-01","x","x"]
[{"$f":"CONCATENATE(VLOOKUP(C589,[1]Seznamy!$Q$2:$R$36,2,0),VLOOKUP(B589,[1]Produkty!$I:$O,7,0),E589,F589)","v":"11715CZ44105"},{"$f":"[1]Produkty!$I$16","v":"GOLLINUCCI Sorter Linea 222, 300 mm"},{"$f":"[1]Seznamy!$Q$18","v":"Weyland"},null,"CZ","2020-10-01","x","x"]
[{"$f":"CONCATENATE(VLOOKUP(C590,[1]Seznamy!$Q$2:$R$36,2,0),VLOOKUP(B590,[1]Produkty!$I:$O,7,0),E590,F590)","v":"11712CZ44105"},{"$f":"[1]Produkty!$I$13","v":"GOLLINUCCI Sorter Sistema 901/2x16 l, 600 mm"},{"$f":"[1]Seznamy!$Q$18","v":"Weyland"},null,"CZ","2020-10-01","x","x"]
[{"$f":"CONCATENATE(VLOOKUP(C591,[1]Seznamy!$Q$2:$R$36,2,0),VLOOKUP(B591,[1]Produkty!$I:$O,7,0),E591,F591)","v":"11731CZ44105"},{"$f":"[1]Produkty!$I$32","v":"HDF LAK 101 BÍLÁ PE 2800/2070/3"},{"$f":"[1]Seznamy!$Q$18","v":"Weyland"},null,"CZ","2020-10-01","x","x"]
[{"$f":"CONCATENATE(VLOOKUP(C592,[1]Seznamy!$Q$2:$R$36,2,0),VLOOKUP(B592,[1]Produkty!$I:$O,7,0),E592,F592)","v":"11725CZ44105"},{"$f":"[1]Produkty!$I$26","v":"Konfirmát 7/50 zinek bílý bulk"},{"$f":"[1]Seznamy!$Q$18","v":"Weyland"},null,"CZ","2020-10-01","x","x"]
[{"$f":"CONCATENATE(VLOOKUP(C593,[1]Seznamy!$Q$2:$R$36,2,0),VLOOKUP(B593,[1]Produkty!$I:$O,7,0),E593,F593)","v":"11733CZ44105"},{"$f":"[1]Produkty!$I$34","v":"SEVROLL Era úchytová lišta 18mm 2,70m stříbrná"},{"$f":"[1]Seznamy!$Q$18","v":"Weyland"},null,"CZ","2020-10-01","x","x"]
[{"$f":"CONCATENATE(VLOOKUP(C594,[1]Seznamy!$Q$2:$R$36,2,0),VLOOKUP(B594,[1]Produkty!$I:$O,7,0),E594,F594)","v":"11734CZ44105"},{"$f":"[1]Produkty!$I$35","v":"Strong electric socket, lift"},{"$f":"[1]Seznamy!$Q$18","v":"Weyland"},null,"CZ","2020-10-01","x","x"]
[{"$f":"CONCATENATE(VLOOKUP(C595,[1]Seznamy!$Q$2:$R$36,2,0),VLOOKUP(B595,[1]Produkty!$I:$O,7,0),E595,F595)","v":"1178CZ44105"},{"$f":"[1]Produkty!$I$9","v":"STRONG Elektrická zásuvka 3x230V, francouzský typ, 265x130x68 mm stříbrná"},{"$f":"[1]Seznamy!$Q$18","v":"Weyland"},null,"CZ","2020-10-01","x","x"]
[{"$f":"CONCATENATE(VLOOKUP(C596,[1]Seznamy!$Q$2:$R$36,2,0),VLOOKUP(B596,[1]Produkty!$I:$O,7,0),E596,F596)","v":"11735CZ44105"},{"$f":"[1]Produkty!$I$36","v":"STRONG Elektricky stavitelná podnož černá RAL 9005 mat"},{"$f":"[1]Seznamy!$Q$18","v":"Weyland"},null,"CZ","2020-10-01","x","x"]
[{"$f":"CONCATENATE(VLOOKUP(C597,[1]Seznamy!$Q$2:$R$36,2,0),VLOOKUP(B597,[1]Produkty!$I:$O,7,0),E597,F597)","v":"11722CZ44105"},{"$f":"[1]Produkty!$I$23","v":"STRONG LED pásek 21,6W/m 24V bílá neutrální 210 LED/m"},{"$f":"[1]Seznamy!$Q$18","v":"Weyland"},null,"CZ","2020-10-01","x","x"]
[{"$f":"CONCATENATE(VLOOKUP(C598,[1]Seznamy!$Q$2:$R$36,2,0),VLOOKUP(B598,[1]Produkty!$I:$O,7,0),E598,F598)","v":"1171CZ44105"},{"$f":"[1]Produkty!$I$2","v":"STRONG plus závěs naložený s tlumením, s excentrem, klipový"},{"$f":"[1]Seznamy!$Q$18","v":"Weyland"},null,"CZ","2020-10-01","x","x"]
[{"$f":"CONCATENATE(VLOOKUP(C599,[1]Seznamy!$Q$2:$R$36,2,0),VLOOKUP(B599,[1]Produkty!$I:$O,7,0),E599,F599)","v":"1176CZ44105"},{"$f":"[1]Produkty!$I$7","v":"STRONG Rektifikační nožka 100 mm"},{"$f":"[1]Seznamy!$Q$18","v":"Weyland"},null,"CZ","2020-10-01","x","x"]
[{"$f":"CONCATENATE(VLOOKUP(C600,[1]Seznamy!$Q$2:$R$36,2,0),VLOOKUP(B600,[1]Produkty!$I:$O,7,0),E600,F600)","v":"1177CZ44105"},{"$f":"[1]Produkty!$I$8","v":"STRONG Stolová noha centrální 450x450 černá"},{"$f":"[1]Seznamy!$Q$18","v":"Weyland"},null,"CZ","2020-10-01","x","x"]
[{"$f":"CONCATENATE(VLOOKUP(C601,[1]Seznamy!$Q$2:$R$36,2,0),VLOOKUP(B601,[1]Produkty!$I:$O,7,0),E601,F601)","v":"11723CZ44105"},{"$f":"[1]Produkty!$I$24","v":"STRONG transformátor plochý LED 24V 100W"},{"$f":"[1]Seznamy!$Q$18","v":"Weyland"},null,"CZ","2020-10-01","x","x"]
[{"$f":"CONCATENATE(VLOOKUP(C602,[1]Seznamy!$Q$2:$R$36,2,0),VLOOKUP(B602,[1]Produkty!$I:$O,7,0),E602,F602)","v":"1172CZ44105"},{"$f":"[1]Produkty!$I$3","v":"STRONG závěs naložený, slide on"},{"$f":"[1]Seznamy!$Q$18","v":"Weyland"},null,"CZ","2020-10-01","x","x"]
[{"$f":"CONCATENATE(VLOOKUP(C603,[1]Seznamy!$Q$2:$R$36,2,0),VLOOKUP(B603,[1]Produkty!$I:$O,7,0),E603,F603)","v":"1173CZ44105"},{"$f":"[1]Produkty!$I$4","v":"StrongBox H86/500mm bílý"},{"$f":"[1]Seznamy!$Q$18","v":"Weyland"},null,"CZ","2020-10-01","x","x"]
[{"$f":"CONCATENATE(VLOOKUP(C604,[1]Seznamy!$Q$2:$R$36,2,0),VLOOKUP(B604,[1]Produkty!$I:$O,7,0),E604,F604)","v":"1174CZ44105"},{"$f":"[1]Produkty!$I$5","v":"StrongMax 89/500 mm šedý (antracit)"},{"$f":"[1]Seznamy!$Q$18","v":"Weyland"},null,"CZ","2020-10-01","x","x"]
[{"$f":"CONCATENATE(VLOOKUP(C605,[1]Seznamy!$Q$2:$R$36,2,0),VLOOKUP(B605,[1]Produkty!$I:$O,7,0),E605,F605)","v":"1175CZ44105"},{"$f":"[1]Produkty!$I$6","v":"StrongRide synchro 3D celovýsuv 500 mm s tlumením"},{"$f":"[1]Seznamy!$Q$18","v":"Weyland"},null,"CZ","2020-10-01","x","x"]
[{"$f":"CONCATENATE(VLOOKUP(C606,[1]Seznamy!$Q$2:$R$36,2,0),VLOOKUP(B606,[1]Produkty!$I:$O,7,0),E606,F606)","v":"11736CZ44105"},{"$f":"[1]Produkty!$I$37","v":"TULIP Gola dvířkový J profil 4,1m eloxovaný hliník"},{"$f":"[1]Seznamy!$Q$18","v":"Weyland"},null,"CZ","2020-10-01","x","x"]
[{"$f":"CONCATENATE(VLOOKUP(C607,[1]Seznamy!$Q$2:$R$36,2,0),VLOOKUP(B607,[1]Produkty!$I:$O,7,0),E607,F607)","v":"11718CZ44105"},{"$f":"[1]Produkty!$I$19","v":"TULIP úchytka Anita 96 nikl matný + šroubky"},{"$f":"[1]Seznamy!$Q$18","v":"Weyland"},null,"CZ","2020-10-01","x","x"]
[{"$f":"CONCATENATE(VLOOKUP(C608,[1]Seznamy!$Q$2:$R$36,2,0),VLOOKUP(B608,[1]Produkty!$I:$O,7,0),E608,F608)","v":"11721CZ44105"},{"$f":"[1]Produkty!$I$22","v":"TULIP Úchytka Lucata 160 černá matná"},{"$f":"[1]Seznamy!$Q$18","v":"Weyland"},null,"CZ","2020-10-01","x","x"]
[{"$f":"CONCATENATE(VLOOKUP(C609,[1]Seznamy!$Q$2:$R$36,2,0),VLOOKUP(B609,[1]Produkty!$I:$O,7,0),E609,F609)","v":"11716CZ44105"},{"$f":"[1]Produkty!$I$17","v":"TULIP úchytka Nakana 128 chrom matný + šroubky"},{"$f":"[1]Seznamy!$Q$18","v":"Weyland"},null,"CZ","2020-10-01","x","x"]
[{"$f":"CONCATENATE(VLOOKUP(C610,[1]Seznamy!$Q$2:$R$36,2,0),VLOOKUP(B610,[1]Produkty!$I:$O,7,0),E610,F610)","v":"11717CZ44105"},{"$f":"[1]Produkty!$I$18","v":"TULIP úchytka Piombina 96 nikl matný + šroubky"},{"$f":"[1]Seznamy!$Q$18","v":"Weyland"},null,"CZ","2020-10-01","x","x"]
[{"$f":"CONCATENATE(VLOOKUP(C611,[1]Seznamy!$Q$2:$R$36,2,0),VLOOKUP(B611,[1]Produkty!$I:$O,7,0),E611,F611)","v":"11720CZ44105"},{"$f":"[1]Produkty!$I$21","v":"TULIP Úchytka Ramara 596 imitace nerezi"},{"$f":"[1]Seznamy!$Q$18","v":"Weyland"},null,"CZ","2020-10-01","x","x"]
[{"$f":"CONCATENATE(VLOOKUP(C612,[1]Seznamy!$Q$2:$R$36,2,0),VLOOKUP(B612,[1]Produkty!$I:$O,7,0),E612,F612)","v":"11719CZ44105"},{"$f":"[1]Produkty!$I$20","v":"TULIP věšák Lugo XL chrom matný + šroubky"},{"$f":"[1]Seznamy!$Q$18","v":"Weyland"},null,"CZ","2020-10-01","x","x"]
[{"$f":"CONCATENATE(VLOOKUP(C613,[1]Seznamy!$Q$2:$R$36,2,0),VLOOKUP(B613,[1]Produkty!$I:$O,7,0),E613,F613)","v":"11724CZ44105"},{"$f":"[1]Produkty!$I$25","v":"Vrut PZ 4x18 zápustná hlava zinek bílý PZ2"},{"$f":"[1]Seznamy!$Q$18","v":"Weyland"},null,"CZ","2020-10-01",0.26,0.26]

{"sheet":"Input_CZ","index":1,"n_rows":5000,"n_cols":67,"rows_kept":2250,"cut":true,"hidden":false,"merged":[],"bounds":{"rows_first":1000,"rows_last":250,"rows_between":1000,"halvings":1}}
[{"$f":"VLOOKUP(A2,List1!$D:$E,2,0)","v":44105},0,{"$f":"TODAY()","v":"2020-10-31"},null,null,null,null,"Konec",null,null,null,null,"Competitor","Product name","Con","Odkaz",null,null,"Competitor","Product name","Con","Odkaz",null,null,null,null,null,null,null,null,null,null,null,null,null,null,null,null,null,null,null,null,null,null,null,null,null,null,null,null,null,null,1,2,"EAN","Demos product name","Competitor","Market","Period","PM_S","NC Demos","ZC","Partner price","ZC - €","Partner price - €"]
[{"$f":"MONTH(C1)","v":10},null,null,null,null,null,null,null,null,null,null,"CZ","ARDEA","FRANKE Dřez ETN 610 455 x 435","ARDEA_FRANKE Dřez ETN 610 455 x 435","https://www.ardea-cz.cz/drez-franke-etn-610",null,"SK","Avecan","STRONG LED pásek 21,6W/m 24V bílá neutrální 210 LED/m","Avecan_STRONG LED pásek 21,6W/m 24V bílá neutrální 210 LED/m",0,null,null,null,null,null,null,null,null,null,null,null,null,null,null,null,null,null,null,null,null,null,null,null,null,null,null,null,null,null,null,"'CZ_2020-10'!$A:$H","$A:$H","10132CZ44105","Alfa II profile 222788","_Demos","neuwirth","2020-10-01","NULL",4.206132684,"x","x","x","x"]
[null,null,null,null,null,null,null,null,null,null,null,"CZ","ARDEA","FRANKE Dřez ETN 614 6/4 obyčejný ventil bez otvoru","ARDEA_FRANKE Dřez ETN 614 6/4 obyčejný ventil bez otvoru","https://www.ardea-cz.cz/drez-franke-etn-614-nova",null,"SK","Avecan","STRONG transformátor plochý LED 24V 100W","Avecan_STRONG transformátor plochý LED 24V 100W",0,null,null,null,null,null,null,null,null,null,null,null,null,null,null,null,null,null,null,null,null,null,null,null,null,null,null,null,null,null,null,"'CZ_2020-10'!$A:$H","$A:$H","10133CZ44105","SEVROLL Era úchytová lišta 18mm 2,70m stříbrná","_Demos","neuwirth","2020-10-01","NULL",3.8168000000000002E-4,"x","x","x","x"]
[null,0,null,null,null,null,null,null,null,null,null,"CZ","ARDEA","FRANKE Dřez BFG 611-78 780 x 500 onyx","ARDEA_FRANKE Dřez BFG 611-78 780 x 500 onyx","https://www.ardea-cz.cz/franke-drez-bfg-611-78",null,"SK","Drevina","STRONG LED pásek 21,6W/m 24V bílá neutrální 210 LED/m","Drevina_STRONG LED pásek 21,6W/m 24V bílá neutrální 210 LED/m",0,null,null,null,null,null,null,null,null,null,null,null,null,null,null,null,null,null,null,null,null,null,null,null,null,null,null,null,null,null,null,"'CZ_2020-10'!$A:$H","$A:$H","10136CZ44105","TULIP Gola dvířkový J profil 4,1m eloxovaný hliník","_Demos","neuwirth","2020-10-01","NULL",3.8168000000000002E-4,"x","x","x","x"]
[null,null,null,null,null,null,null,null,null,null,null,"CZ","ARDEA","GOLLINUCCI Sorter Sistema 901/2x16 l, 600 mm","ARDEA_GOLLINUCCI Sorter Sistema 901/2x16 l, 600 mm","https://www.ardea-cz.cz/gollinucci-sorter-sistema-901-2x16-l-600-mm",null,"SK","Drevina","STRONG transformátor plochý LED 24V 100W","Drevina_STRONG transformátor plochý LED 24V 100W",0,null,null,null,null,null,null,null,null,null,null,null,null,null,null,null,null,null,null,null,null,null,null,null,null,null,null,null,null,null,null,"'CZ_2020-10'!$A:$H","$A:$H","1151CZ44105","STRONG plus závěs naložený s tlumením, s excentrem, klipový","ARDEA","neuwirth","2020-10-01","Martin Zniszczol",0.27061111999999998,"x","x","x","x"]
[null,0,null,null,null,null,null,null,null,null,null,"CZ","ARDEA","Konfirmát 7/50 zinek bílý bulk","ARDEA_Konfirmát 7/50 zinek bílý bulk","https://www.ardea-cz.cz/konfirmat-zinek-bily",null,"SK","Sezam","STRONG LED pásek 21,6W/m 24V bílá neutrální 210 LED/m","Sezam_STRONG LED pásek 21,6W/m 24V bílá neutrální 210 LED/m",0,null,null,null,null,null,null,null,null,null,null,null,null,null,null,null,null,null,null,null,null,null,null,null,null,null,null,null,null,null,null,"'CZ_2020-10'!$A:$H","$A:$H","1152CZ44105","STRONG závěs naložený, slide on","ARDEA","neuwirth","2020-10-01","Martin Zniszczol",0.11145056,"x","x","x","x"]
[null,"PM_O","Market","Period","Competitor","Product name","Base price","Partner price",null,null,null,"CZ","ARDEA","STRONG Stolová noha centrální 450x450 černá","ARDEA_STRONG Stolová noha centrální 450x450 černá","https://www.ardea-cz.cz/miladesign-centralni-noha-st-855nt-sde-v720mm-cerna-ral-9005",null,"SK","Sezam","STRONG transformátor plochý LED 24V 100W","Sezam_STRONG transformátor plochý LED 24V 100W",0,null,null,null,null,null,null,null,null,null,null,null,null,null,null,null,null,null,null,null,null,null,null,null,null,null,null,null,null,null,null,"'CZ_2020-10'!$A:$H","$A:$H","1153CZ44105","StrongBox H86/500mm bílý","ARDEA","neuwirth","2020-10-01","Martin Zniszczol",7.0057364000000009,"x","x","x","x"]
[{"$f":"TEXT(J8,1)","v":"10726SK44105"},"badzik",{"$f":"IFERROR(VLOOKUP(B8,List1!$A:$B,2,0),\"x\")","v":"SK"},44105,"TWD","DTDL W980 ST2 Platinově bílá 2800/2070/18",200,183,null,{"$f":"CONCATENATE(VLOOKUP(E8,[1]Seznamy!$Q$2:$R$36,2,0),VLOOKUP(F8,[1]Produkty!$I:$O,7,0),C8,D8)","v":"10726SK44105"},null,"CZ","ARDEA","STRONG Elektrická zásuvka 3x230V, francouzský typ, 265x130x68 mm stříbrná","ARDEA_STRONG Elektrická zásuvka 3x230V, francouzský typ, 265x130x68 mm stříbrná","https://www.ardea-cz.cz/orno-zasuvka-elektro-stolova-vyklopna-zapustna-3x-zasuvka-kabel",null,"SK","Nábytkár","STRONG plus závěs naložený s tlumením, s excentrem, klipový","Nábytkár_STRONG plus závěs naložený s tlumením, s excentrem, klipový","https://eshop.nabytkar.com/zbozi/dynamicke-kovanie/a01-zavesy/s-tlmenim/785221",null,null,null,null,null,null,null,null,null,null,null,null,null,null,null,null,null,null,null,null,null,null,null,null,null,null,null,null,null,null,"'CZ_2020-10'!$A:$H","$A:$H","1154CZ44105","StrongMax 89/500 mm šedý (antracit)","ARDEA","neuwirth","2020-10-01","Martin Zniszczol",9.1003962400000002,"x","x","x","x"]
[{"$f":"TEXT(J9,1)","v":"10726CZ44105"},"neuwirth",{"$f":"IFERROR(VLOOKUP(B9,List1!$A:$B,2,0),\"x\")","v":"CZ"},44105,"TWD","DTDL W980 ST2 Platinově bílá 2800/2070/18",201,200,null,{"$f":"CONCATENATE(VLOOKUP(E9,[1]Seznamy!$Q$2:$R$36,2,0),VLOOKUP(F9,[1]Produkty!$I:$O,7,0),C9,D9)","v":"10726CZ44105"},null,"CZ","ARDEA","Strong electric socket, lift","ARDEA_Strong electric socket, lift","https://www.ardea-cz.cz/orno-zasuvka-elektro-stolova-vysuvna-vez-60-mm-3x-zasuvka-2x-usb-kabel-stribrna-plast",null,"SK","Nábytkár","StrongMax 89/500 mm šedý (antracit)","Nábytkár_StrongMax 89/500 mm šedý (antracit)","https://eshop.nabytkar.com/zbozi/dynamicke-kovanie/a03-vysuvy/creobox/780232",null,null,null,null,null,null,null,null,null,null,null,null,null,null,null,null,null,null,null,null,null,null,null,null,null,null,null,null,null,null,"'CZ_2020-10'!$A:$H","$A:$H","1155CZ44105","StrongRide synchro 3D celovýsuv 500 mm s tlumením","ARDEA","neuwirth","2020-10-01","Martin Zniszczol",5.1412296,"x","x","x","x"]
["10714CZ44105","neuwirth",{"$f":"IFERROR(VLOOKUP(B10,List1!$A:$B,2,0),\"x\")","v":"CZ"},44105,"TWD","FRANKE Dřez ETN 610 455 x 435",16,12,null,{"$f":"CONCATENATE(VLOOKUP(E10,[1]Seznamy!$Q$2:$R$36,2,0),VLOOKUP(F10,[1]Produkty!$I:$O,7,0),C10,D10)","v":"10714CZ44105"},null,"CZ","ARDEA","GOLLINUCCI Sorter Linea 222, 300 mm","ARDEA_GOLLINUCCI Sorter Linea 222, 300 mm","https://www.ardea-cz.cz/rejs-odpadkovy-kos-jc603-300-mm-za-dvirka-1-x-9-l-1-x-20l-sedy",null,"SK","Nábytkár","StrongBox H86/500mm bílý","Nábytkár_StrongBox H86/500mm bílý","https://eshop.nabytkar.com/zbozi/dynamicke-kovanie/a03-vysuvy/evobox-sety/788289",null,null,null,null,null,null,null,null,null,null,null,null,null,null,null,null,null,null,null,null,null,null,null,null,null,null,null,null,null,null,"'CZ_2020-10'!$A:$H","$A:$H","1159CZ44105","BBP OA Zásuvka 515 mm kovová černá","ARDEA","neuwirth","2020-10-01","Lukáš Sládek",4.7811832224000002,"x","x","x","x"]
[{"$error":"#N/A"},null,{"$f":"IFERROR(VLOOKUP(B11,List1!$A:$B,2,0),\"x\")","v":"x"},null,null,null,null,null,null,{"$f":"CONCATENATE(VLOOKUP(E11,[1]Seznamy!$Q$2:$R$36,2,0),VLOOKUP(F11,[1]Produkty!$I:$O,7,0),C11,D11)","v":{"$error":"#N/A"}},null,"CZ","ARDEA","GOLLINUCCI Sorter 580 Plus Line, 600 mm, výška 505mm, 80 l, šedý","ARDEA_GOLLINUCCI Sorter 580 Plus Line, 600 mm, výška 505mm, 80 l, šedý","https://www.ardea-cz.cz/rejs-odpadkovy-kos-jc609-600-mm-na-dvirka-2-x-9l-2-x-20l-sedy",null,"SK","Nábytkár","Strong electric socket, lift","Nábytkár_Strong electric socket, lift","https://eshop.nabytkar.com/zbozi/nabytkove-svietidla/e09-zasuvky/788166",null,null,null,null,null,null,null,null,null,null,null,null,null,null,null,null,null,null,null,null,null,null,null,null,null,null,null,null,null,null,"'CZ_2020-10'!$A:$H","$A:$H","11517CZ44105","TULIP úchytka Piombina 96 nikl matný + šroubky","ARDEA","neuwirth","2020-10-01","Lenka Kormaník",0.41656555200000001,"x","x","x","x"]
[{"$error":"#N/A"},null,{"$f":"IFERROR(VLOOKUP(B12,List1!$A:$B,2,0),\"x\")","v":"x"},null,null,null,null,null,null,{"$f":"CONCATENATE(VLOOKUP(E12,[1]Seznamy!$Q$2:$R$36,2,0),VLOOKUP(F12,[1]Produkty!$I:$O,7,0),C12,D12)","v":{"$error":"#N/A"}},null,"CZ","ARDEA","STRONG Rektifikační nožka 100 mm","ARDEA_STRONG Rektifikační nožka 100 mm","https://www.ardea-cz.cz/soklova-nozka-scilm-plast-100mm",null,"SK","Nábytkár","STRONG Elektricky stavitelná podnož černá RAL 9005 mat","Nábytkár_STRONG Elektricky stavitelná podnož černá RAL 9005 mat","https://eshop.nabytkar.com/zbozi/pasivne-kovanie/b03-nohy/782761",null,null,null,null,null,null,null,null,null,null,null,null,null,null,null,null,null,null,null,null,null,null,null,null,null,null,null,null,null,null,"'CZ_2020-10'!$A:$H","$A:$H","11518CZ44105","TULIP úchytka Anita 96 nikl matný + šroubky","ARDEA","neuwirth","2020-10-01","Lenka Kormaník",0.26375996400000001,"x","x","x","x"]
[{"$error":"#N/A"},null,{"$f":"IFERROR(VLOOKUP(B13,List1!$A:$B,2,0),\"x\")","v":"x"},null,null,null,null,null,null,{"$f":"CONCATENATE(VLOOKUP(E13,[1]Seznamy!$Q$2:$R$36,2,0),VLOOKUP(F13,[1]Produkty!$I:$O,7,0),C13,D13)","v":{"$error":"#N/A"}},null,"CZ","ARDEA","STRONG Elektricky stavitelná podnož černá RAL 9005 mat","ARDEA_STRONG Elektricky stavitelná podnož černá RAL 9005 mat","https://www.ardea-cz.cz/stolova-podnoz-s-elektropohonem-680-1180-mm-stribrna",null,"SK","Nábytkár","Alfa II profile 222788","Nábytkár_Alfa II profile 222788","https://eshop.nabytkar.com/zbozi/satnikove-kovanie/d01-posuvne-systemy/satnikove-systemy/779113",null,null,null,null,null,null,null,null,null,null,null,null,null,null,null,null,null,null,null,null,null,null,null,null,null,null,null,null,null,null,"'CZ_2020-10'!$A:$H","$A:$H","11526CZ44105","DTDL W980 ST2 Platinově bílá 2800/2070/18","ARDEA","neuwirth","2020-10-01","Martin Karaščák",25.214852557439997,"x","x","x","x"]
[{"$error":"#N/A"},null,{"$f":"IFERROR(VLOOKUP(B14,List1!$A:$B,2,0),\"x\")","v":"x"},null,null,null,null,null,null,{"$f":"CONCATENATE(VLOOKUP(E14,[1]Seznamy!$Q$2:$R$36,2,0),VLOOKUP(F14,[1]Produkty!$I:$O,7,0),C14,D14)","v":{"$error":"#N/A"}},null,"CZ","ARDEA","TULIP úchytka Nakana 128 chrom matný + šroubky","ARDEA_TULIP úchytka Nakana 128 chrom matný + šroubky","https://www.ardea-cz.cz/uchytka-kovova-nakana-satin-chrom-brouseny-nikl",null,"SK","Nábytkár","GOLLINUCCI Sorter 580 Plus Line, 600 mm, výška 505mm, 80 l, šedý","Nábytkár_GOLLINUCCI Sorter 580 Plus Line, 600 mm, výška 505mm, 80 l, šedý","https://eshop.nabytkar.com/zbozi/vybavenie-kuchyn/c04-odpadkove-kose/786533",null,null,null,null,null,null,null,null,null,null,null,null,null,null,null,null,null,null,null,null,null,null,null,null,null,null,null,null,null,null,"'CZ_2020-10'!$A:$H","$A:$H","11527CZ44105","DTDD DUB COMMERCIAL A/B DEC 2800/2070/19","ARDEA","neuwirth","2020-10-01","Martin Karaščák",55.226676912160002,"x","x","x","x"]
[{"$error":"#N/A"},null,{"$f":"IFERROR(VLOOKUP(B15,List1!$A:$B,2,0),\"x\")","v":"x"},null,null,null,null,null,null,{"$f":"CONCATENATE(VLOOKUP(E15,[1]Seznamy!$Q$2:$R$36,2,0),VLOOKUP(F15,[1]Produkty!$I:$O,7,0),C15,D15)","v":{"$error":"#N/A"}},null,"CZ","ARDEA","TULIP Úchytka Lucata 160 černá matná","ARDEA_TULIP Úchytka Lucata 160 černá matná","https://www.ardea-cz.cz/uchytka-narazeci-lucata-cerna-roztec-160-mm",null,"SK","Nábytkár","GOLLINUCCI Sorter Linea 222, 300 mm","Nábytkár_GOLLINUCCI Sorter Linea 222, 300 mm","https://eshop.nabytkar.com/zbozi/vybavenie-kuchyn/c04-odpadkove-kose/786539",null,null,null,null,null,null,null,null,null,null,null,null,null,null,null,null,null,null,null,null,null,null,null,null,null,null,null,null,null,null,"'CZ_2020-10'!$A:$H","$A:$H","11528CZ44105","DTDD Dub evr. radiál st A/B 2800/2070/19","ARDEA","neuwirth","2020-10-01","Martin Karaščák",0,"x","x","x","x"]
[{"$error":"#N/A"},null,{"$f":"IFERROR(VLOOKUP(B16,List1!$A:$B,2,0),\"x\")","v":"x"},null,null,null,null,null,null,{"$f":"CONCATENATE(VLOOKUP(E16,[1]Seznamy!$Q$2:$R$36,2,0),VLOOKUP(F16,[1]Produkty!$I:$O,7,0),C16,D16)","v":{"$error":"#N/A"}},null,"CZ","ARDEA","TULIP Úchytka Ramara 596 imitace nerezi","ARDEA_TULIP Úchytka Ramara 596 imitace nerezi","https://www.ardea-cz.cz/uchytka-narazeci-ramara-imitace-nerezi-roztec-596-mm",null,"SK","Nábytkár","FRANKE Dřez ETN 614 6/4 obyčejný ventil bez otvoru","Nábytkár_FRANKE Dřez ETN 614 6/4 obyčejný ventil bez otvoru","https://eshop.nabytkar.com/zbozi/vybavenie-kuchyn/c05-drezy-a-baterie/784177",null,null,null,null,null,null,null,null,null,null,null,null,null,null,null,null,null,null,null,null,null,null,null,null,null,null,null,null,null,null,"'CZ_2020-10'!$A:$H","$A:$H","11529CZ44105","ABSB HU10113 Bílá 101/110/113/8100/8685/W954/B3822 PE 22/2","ARDEA","neuwirth","2020-10-01","Martin Karaščák",0.20190872000000001,"x","x","x","x"]
[{"$error":"#N/A"},null,{"$f":"IFERROR(VLOOKUP(B17,List1!$A:$B,2,0),\"x\")","v":"x"},null,null,null,null,null,null,{"$f":"CONCATENATE(VLOOKUP(E17,[1]Seznamy!$Q$2:$R$36,2,0),VLOOKUP(F17,[1]Produkty!$I:$O,7,0),C17,D17)","v":{"$error":"#N/A"}},null,"CZ","ARDEA","TULIP věšák Lugo XL chrom matný + šroubky","ARDEA_TULIP věšák Lugo XL chrom matný + šroubky","https://www.ardea-cz.cz/vesak-lugo-chrom-satin",null,"SK","Nábytkár","FRANKE Dřez BFG 611-78 780 x 500 onyx","Nábytkár_FRANKE Dřez BFG 611-78 780 x 500 onyx","https://eshop.nabytkar.com/zbozi/vybavenie-kuchyn/c05-drezy-a-baterie/granitove-drezy/780590",null,null,null,null,null,null,null,null,null,null,null,null,null,null,null,null,null,null,null,null,null,null,null,null,null,null,null,null,null,null,"'CZ_2020-10'!$A:$H","$A:$H","11530CZ44105","ABSB 77039/414 W980/500/W954 ST2 23/2","ARDEA","neuwirth","2020-10-01","Martin Karaščák",0,"x","x","x","x"]
[{"$error":"#N/A"},null,{"$f":"IFERROR(VLOOKUP(B18,List1!$A:$B,2,0),\"x\")","v":"x"},null,null,null,null,null,null,{"$f":"CONCATENATE(VLOOKUP(E18,[1]Seznamy!$Q$2:$R$36,2,0),VLOOKUP(F18,[1]Produkty!$I:$O,7,0),C18,D18)","v":{"$error":"#N/A"}},null,"CZ","ARDEA","Vrut PZ 4x18 zápustná hlava zinek bílý PZ2","ARDEA_Vrut PZ 4x18 zápustná hlava zinek bílý PZ2","https://www.ardea-cz.cz/vrut-4-x-16-mm-zluty-zinek-1-bal-1000-ks",null,"SK","Nábytkár","FRANKE Dřez ETN 610 455 x 435","Nábytkár_FRANKE Dřez ETN 610 455 x 435","https://eshop.nabytkar.com/zbozi/vybavenie-kuchyn/c05-drezy-a-baterie/nerezove-drezy/784178",null,null,null,null,null,null,null,null,null,null,null,null,null,null,null,null,null,null,null,null,null,null,null,null,null,null,null,null,null,null,"'CZ_2020-10'!$A:$H","$A:$H","11531CZ44105","HDF LAK 101 BÍLÁ PE 2800/2070/3","ARDEA","neuwirth","2020-10-01","Martin Karaščák",5.8424658364800006,"x","x","x","x"]
[{"$error":"#N/A"},null,{"$f":"IFERROR(VLOOKUP(B19,List1!$A:$B,2,0),\"x\")","v":"x"},null,null,null,null,null,null,{"$f":"CONCATENATE(VLOOKUP(E19,[1]Seznamy!$Q$2:$R$36,2,0),VLOOKUP(F19,[1]Produkty!$I:$O,7,0),C19,D19)","v":{"$error":"#N/A"}},null,"CZ","ARDEA","Alfa II profile 222788","ARDEA_Alfa II profile 222788",0,null,"SK","Nábytkár","ABSB HU10113 Bílá 101/110/113/8100/8685/W954/B3822 PE 22/2","Nábytkár_ABSB HU10113 Bílá 101/110/113/8100/8685/W954/B3822 PE 22/2","https://eshop.nabytkar.sk/zbozi/19159",null,null,null,null,null,null,null,null,null,null,null,null,null,null,null,null,null,null,null,null,null,null,null,null,null,null,null,null,null,null,"'CZ_2020-10'!$A:$H","$A:$H","1043CZ44105","StrongBox H86/500mm bílý","Dřevotrust","neuwirth","2020-10-01","Martin Zniszczol",7.0057364000000009,"x","x","x","x"]
[{"$error":"#N/A"},null,{"$f":"IFERROR(VLOOKUP(B20,List1!$A:$B,2,0),\"x\")","v":"x"},null,null,null,null,null,null,{"$f":"CONCATENATE(VLOOKUP(E20,[1]Seznamy!$Q$2:$R$36,2,0),VLOOKUP(F20,[1]Produkty!$I:$O,7,0),C20,D20)","v":{"$error":"#N/A"}},null,"CZ","ARDEA","SEVROLL Era úchytová lišta 18mm 2,70m stříbrná","ARDEA_SEVROLL Era úchytová lišta 18mm 2,70m stříbrná",0,null,"SK","Nábytkár","ABSB 77039/414 W980/500/W954 ST2 23/2","Nábytkár_ABSB 77039/414 W980/500/W954 ST2 23/2","https://eshop.nabytkar.sk/zbozi/774846",null,null,null,null,null,null,null,null,null,null,null,null,null,null,null,null,null,null,null,null,null,null,null,null,null,null,null,null,null,null,"'CZ_2020-10'!$A:$H","$A:$H","1045CZ44105","StrongRide synchro 3D celovýsuv 500 mm s tlumením","Dřevotrust","neuwirth","2020-10-01","Martin Zniszczol",5.1412296,"x","x","x","x"]
[{"$error":"#N/A"},null,{"$f":"IFERROR(VLOOKUP(B21,List1!$A:$B,2,0),\"x\")","v":"x"},null,null,null,null,null,null,{"$f":"CONCATENATE(VLOOKUP(E21,[1]Seznamy!$Q$2:$R$36,2,0),VLOOKUP(F21,[1]Produkty!$I:$O,7,0),C21,D21)","v":{"$error":"#N/A"}},null,"CZ","ARDEA","TULIP Gola dvířkový J profil 4,1m eloxovaný hliník","ARDEA_TULIP Gola dvířkový J profil 4,1m eloxovaný hliník",0,null,"SK","Nábytkár","StrongRide synchro 3D celovýsuv 500 mm s tlumením","Nábytkár_StrongRide synchro 3D celovýsuv 500 mm s tlumením","https://eshop.nabytkar.sk/zbozi/775771",null,null,null,null,null,null,null,null,null,null,null,null,null,null,null,null,null,null,null,null,null,null,null,null,null,null,null,null,null,null,"'CZ_2020-10'!$A:$H","$A:$H","10413CZ44105","GOLLINUCCI Sorter 580 Plus Line, 600 mm, výška 505mm, 80 l, šedý","Dřevotrust","neuwirth","2020-10-01","Marcela Piechová",68.555453200000002,"x","x","x","x"]
[{"$error":"#N/A"},null,{"$f":"IFERROR(VLOOKUP(B22,List1!$A:$B,2,0),\"x\")","v":"x"},null,null,null,null,null,null,{"$f":"CONCATENATE(VLOOKUP(E22,[1]Seznamy!$Q$2:$R$36,2,0),VLOOKUP(F22,[1]Produkty!$I:$O,7,0),C22,D22)","v":{"$error":"#N/A"}},null,"CZ","ARDEA","STRONG LED pásek 21,6W/m 24V bílá neutrální 210 LED/m","ARDEA_STRONG LED pásek 21,6W/m 24V bílá neutrální 210 LED/m",0,null,"SK","Nábytkár","TULIP Úchytka Ramara 596 imitace nerezi","Nábytkár_TULIP Úchytka Ramara 596 imitace nerezi","https://eshop.nabytkar.sk/zbozi/776030",null,null,null,null,null,null,null,null,null,null,null,null,null,null,null,null,null,null,null,null,null,null,null,null,null,null,null,null,null,null,"'CZ_2020-10'!$A:$H","$A:$H","10416CZ44105","TULIP úchytka Nakana 128 chrom matný + šroubky","Dřevotrust","neuwirth","2020-10-01","Lenka Kormaník",0.75916152000000003,"x","x","x","x"]
[{"$error":"#N/A"},null,{"$f":"IFERROR(VLOOKUP(B23,List1!$A:$B,2,0),\"x\")","v":"x"},null,null,null,null,null,null,{"$f":"CONCATENATE(VLOOKUP(E23,[1]Seznamy!$Q$2:$R$36,2,0),VLOOKUP(F23,[1]Produkty!$I:$O,7,0),C23,D23)","v":{"$error":"#N/A"}},null,"CZ","ARDEA","STRONG transformátor plochý LED 24V 100W","ARDEA_STRONG transformátor plochý LED 24V 100W",0,null,"SK","Nábytkár","TULIP věšák Lugo XL chrom matný + šroubky","Nábytkár_TULIP věšák Lugo XL chrom matný + šroubky","https://eshop.nabytkar.sk/zbozi/776051",null,null,null,null,null,null,null,null,null,null,null,null,null,null,null,null,null,null,null,null,null,null,null,null,null,null,null,null,null,null,"'CZ_2020-10'!$A:$H","$A:$H","10417CZ44105","TULIP úchytka Piombina 96 nikl matný + šroubky","Dřevotrust","neuwirth","2020-10-01","Lenka Kormaník",0.41656555200000001,"x","x","x","x"]
[{"$error":"#N/A"},null,{"$f":"IFERROR(VLOOKUP(B24,List1!$A:$B,2,0),\"x\")","v":"x"},null,null,null,null,null,null,{"$f":"CONCATENATE(VLOOKUP(E24,[1]Seznamy!$Q$2:$R$36,2,0),VLOOKUP(F24,[1]Produkty!$I:$O,7,0),C24,D24)","v":{"$error":"#N/A"}},null,"CZ","ARDEA","ABSB 77039/414 W980/500/W954 ST2 23/2","ARDEA_ABSB 77039/414 W980/500/W954 ST2 23/2",0,null,"SK","Nábytkár","STRONG Rektifikační nožka 100 mm","Nábytkár_STRONG Rektifikační nožka 100 mm","https://eshop.nabytkar.sk/zbozi/776105",null,null,null,null,null,null,null,null,null,null,null,null,null,null,null,null,null,null,null,null,null,null,null,null,null,null,null,null,null,null,"'CZ_2020-10'!$A:$H","$A:$H","10418CZ44105","TULIP úchytka Anita 96 nikl matný + šroubky","Dřevotrust","neuwirth","2020-10-01","Lenka Kormaník",0.26375996400000001,"x","x","x","x"]
[{"$error":"#N/A"},null,{"$f":"IFERROR(VLOOKUP(B25,List1!$A:$B,2,0),\"x\")","v":"x"},null,null,null,null,null,null,{"$f":"CONCATENATE(VLOOKUP(E25,[1]Seznamy!$Q$2:$R$36,2,0),VLOOKUP(F25,[1]Produkty!$I:$O,7,0),C25,D25)","v":{"$error":"#N/A"}},null,"CZ","ARDEA","ABSB HU10113 Bílá 101/110/113/8100/8685/W954/B3822 PE 22/2","ARDEA_ABSB HU10113 Bílá 101/110/113/8100/8685/W954/B3822 PE 22/2",0,null,"SK","Nábytkár","Konfirmát 7/50 zinek bílý bulk","Nábytkár_Konfirmát 7/50 zinek bílý bulk","https://eshop.nabytkar.sk/zbozi/776156",null,null,null,null,null,null,null,null,null,null,null,null,null,null,null,null,null,null,null,null,null,null,null,null,null,null,null,null,null,null,"'CZ_2020-10'!$A:$H","$A:$H","10420CZ44105","TULIP Úchytka Ramara 596 imitace nerezi","Dřevotrust","neuwirth","2020-10-01","Lenka Kormaník",3.3996810120000003,"x","x","x","x"]
[{"$error":"#N/A"},null,{"$f":"IFERROR(VLOOKUP(B26,List1!$A:$B,2,0),\"x\")","v":"x"},null,null,null,null,null,null,{"$f":"CONCATENATE(VLOOKUP(E26,[1]Seznamy!$Q$2:$R$36,2,0),VLOOKUP(F26,[1]Produkty!$I:$O,7,0),C26,D26)","v":{"$error":"#N/A"}},null,"CZ","ARDEA","BBP OA Zásuvka 515 mm kovová černá","ARDEA_BBP OA Zásuvka 515 mm kovová černá",0,null,"SK","Nábytkár","STRONG závěs naložený, slide on","Nábytkár_STRONG závěs naložený, slide on","https://eshop.nabytkar.sk/zbozi/776409",null,null,null,null,null,null,null,null,null,null,null,null,null,null,null,null,null,null,null,null,null,null,null,null,null,null,null,null,null,null,"'CZ_2020-10'!$A:$H","$A:$H","10421CZ44105","TULIP Úchytka Lucata 160 černá matná","Dřevotrust","neuwirth","2020-10-01","Lenka Kormaník",0.771814212,"x","x","x","x"]
[{"$error":"#N/A"},null,{"$f":"IFERROR(VLOOKUP(B27,List1!$A:$B,2,0),\"x\")","v":"x"},null,null,null,null,null,null,{"$f":"CONCATENATE(VLOOKUP(E27,[1]Seznamy!$Q$2:$R$36,2,0),VLOOKUP(F27,[1]Produkty!$I:$O,7,0),C27,D27)","v":{"$error":"#N/A"}},null,"CZ","ARDEA","DTDD DUB COMMERCIAL A/B DEC 2800/2070/19","ARDEA_DTDD DUB COMMERCIAL A/B DEC 2800/2070/19",0,null,"SK","Nábytkár","TULIP úchytka Anita 96 nikl matný + šroubky","Nábytkár_TULIP úchytka Anita 96 nikl matný + šroubky","https://eshop.nabytkar.sk/zbozi/776904",null,null,null,null,null,null,null,null,null,null,null,null,null,null,null,null,null,null,null,null,null,null,null,null,null,null,null,null,null,null,"'CZ_2020-10'!$A:$H","$A:$H","10422CZ44105","STRONG LED pásek 21,6W/m 24V bílá neutrální 210 LED/m","Dřevotrust","neuwirth","2020-10-01","Stančo Denčev",3.2118372000000002,"x","x","x","x"]
[{"$error":"#N/A"},null,{"$f":"IFERROR(VLOOKUP(B28,List1!$A:$B,2,0),\"x\")","v":"x"},null,null,null,null,null,null,{"$f":"CONCATENATE(VLOOKUP(E28,[1]Seznamy!$Q$2:$R$36,2,0),VLOOKUP(F28,[1]Produkty!$I:$O,7,0),C28,D28)","v":{"$error":"#N/A"}},null,"CZ","ARDEA","DTDD Dub evr. radiál st A/B 2800/2070/19","ARDEA_DTDD Dub evr. radiál st A/B 2800/2070/19",0,null,"SK","Nábytkár","TULIP úchytka Nakana 128 chrom matný + šroubky","Nábytkár_TULIP úchytka Nakana 128 chrom matný + šroubky","https://eshop.nabytkar.sk/zbozi/779220",null,null,null,null,null,null,null,null,null,null,null,null,null,null,null,null,null,null,null,null,null,null,null,null,null,null,null,null,null,null,"'CZ_2020-10'!$A:$H","$A:$H","10423CZ44105","STRONG transformátor plochý LED 24V 100W","Dřevotrust","neuwirth","2020-10-01","Stančo Denčev",16.197148434480003,"x","x","x","x"]
[{"$error":"#N/A"},null,{"$f":"IFERROR(VLOOKUP(B29,List1!$A:$B,2,0),\"x\")","v":"x"},null,null,null,null,null,null,{"$f":"CONCATENATE(VLOOKUP(E29,[1]Seznamy!$Q$2:$R$36,2,0),VLOOKUP(F29,[1]Produkty!$I:$O,7,0),C29,D29)","v":{"$error":"#N/A"}},null,"CZ","ARDEA","DTDL W980 ST2 Platinově bílá 2800/2070/18","ARDEA_DTDL W980 ST2 Platinově bílá 2800/2070/18",0,null,"SK","Nábytkár","TULIP úchytka Piombina 96 nikl matný + šroubky","Nábytkár_TULIP úchytka Piombina 96 nikl matný + šroubky","https://eshop.nabytkar.sk/zbozi/779254",null,null,null,null,null,null,null,null,null,null,null,null,null,null,null,null,null,null,null,null,null,null,null,null,null,null,null,null,null,null,"'CZ_2020-10'!$A:$H","$A:$H","10430CZ44105","ABSB 77039/414 W980/500/W954 ST2 23/2","Dřevotrust","neuwirth","2020-10-01","Martin Karaščák",0,"x","x","x","x"]
[{"$error":"#N/A"},null,{"$f":"IFERROR(VLOOKUP(B30,List1!$A:$B,2,0),\"x\")","v":"x"},null,null,null,null,null,null,{"$f":"CONCATENATE(VLOOKUP(E30,[1]Seznamy!$Q$2:$R$36,2,0),VLOOKUP(F30,[1]Produkty!$I:$O,7,0),C30,D30)","v":{"$error":"#N/A"}},null,"CZ","ARDEA","HDF LAK 101 BÍLÁ PE 2800/2070/3","ARDEA_HDF LAK 101 BÍLÁ PE 2800/2070/3",0,null,"SK","Nábytkár","STRONG Elektrická zásuvka 3x230V, francouzský typ, 265x130x68 mm stříbrná","Nábytkár_STRONG Elektrická zásuvka 3x230V, francouzský typ, 265x130x68 mm stříbrná","https://eshop.nabytkar.sk/zbozi/784571",null,null,null,null,null,null,null,null,null,null,null,null,null,null,null,null,null,null,null,null,null,null,null,null,null,null,null,null,null,null,"'CZ_2020-10'!$A:$H","$A:$H","1161CZ44105","STRONG plus závěs naložený s tlumením, s excentrem, klipový","Exkalibr","neuwirth","2020-10-01","Martin Zniszczol",0.27061111999999998,"x","x","x","x"]
[{"$error":"#N/A"},null,{"$f":"IFERROR(VLOOKUP(B31,List1!$A:$B,2,0),\"x\")","v":"x"},null,null,null,null,null,null,{"$f":"CONCATENATE(VLOOKUP(E31,[1]Seznamy!$Q$2:$R$36,2,0),VLOOKUP(F31,[1]Produkty!$I:$O,7,0),C31,D31)","v":{"$error":"#N/A"}},null,"CZ","ARDEA","STRONG plus závěs naložený s tlumením, s excentrem, klipový","ARDEA_STRONG plus závěs naložený s tlumením, s excentrem, klipový",0,null,"SK","Nábytkár","STRONG transformátor plochý LED 24V 100W","Nábytkár_STRONG transformátor plochý LED 24V 100W","https://eshop.nabytkar.sk/zbozi/785717",null,null,null,null,null,null,null,null,null,null,null,null,null,null,null,null,null,null,null,null,null,null,null,null,null,null,null,null,null,null,"'CZ_2020-10'!$A:$H","$A:$H","1162CZ44105","STRONG závěs naložený, slide on","Exkalibr","neuwirth","2020-10-01","Martin Zniszczol",0.11145056,"x","x","x","x"]
[{"$error":"#N/A"},null,{"$f":"IFERROR(VLOOKUP(B32,List1!$A:$B,2,0),\"x\")","v":"x"},null,null,null,null,null,null,{"$f":"CONCATENATE(VLOOKUP(E32,[1]Seznamy!$Q$2:$R$36,2,0),VLOOKUP(F32,[1]Produkty!$I:$O,7,0),C32,D32)","v":{"$error":"#N/A"}},null,"CZ","ARDEA","STRONG závěs naložený, slide on","ARDEA_STRONG závěs naložený, slide on",0,null,"SK","Nábytkár","STRONG LED pásek 21,6W/m 24V bílá neutrální 210 LED/m","Nábytkár_STRONG LED pásek 21,6W/m 24V bílá neutrální 210 LED/m","https://eshop.nabytkar.sk/zbozi/785855",null,null,null,null,null,null,null,null,null,null,null,null,null,null,null,null,null,null,null,null,null,null,null,null,null,null,null,null,null,null,"'CZ_2020-10'!$A:$H","$A:$H","1163CZ44105","StrongBox H86/500mm bílý","Exkalibr","neuwirth","2020-10-01","Martin Zniszczol",7.0057364000000009,"x","x","x","x"]
[{"$error":"#N/A"},null,{"$f":"IFERROR(VLOOKUP(B33,List1!$A:$B,2,0),\"x\")","v":"x"},null,null,null,null,null,null,{"$f":"CONCATENATE(VLOOKUP(E33,[1]Seznamy!$Q$2:$R$36,2,0),VLOOKUP(F33,[1]Produkty!$I:$O,7,0),C33,D33)","v":{"$error":"#N/A"}},null,"CZ","ARDEA","StrongBox H86/500mm bílý","ARDEA_StrongBox H86/500mm bílý",0,null,"SK","Nábytkár","STRONG Stolová noha centrální 450x450 černá","Nábytkár_STRONG Stolová noha centrální 450x450 černá","https://eshop.nabytkar.sk/zbozi/786167",null,null,null,null,null,null,null,null,null,null,null,null,null,null,null,null,null,null,null,null,null,null,null,null,null,null,null,null,null,null,"'CZ_2020-10'!$A:$H","$A:$H","1164CZ44105","StrongMax 89/500 mm šedý (antracit)","Exkalibr","neuwirth","2020-10-01","Martin Zniszczol",9.1003962400000002,"x","x","x","x"]
[{"$error":"#N/A"},null,{"$f":"IFERROR(VLOOKUP(B34,List1!$A:$B,2,0),\"x\")","v":"x"},null,null,null,null,null,null,{"$f":"CONCATENATE(VLOOKUP(E34,[1]Seznamy!$Q$2:$R$36,2,0),VLOOKUP(F34,[1]Produkty!$I:$O,7,0),C34,D34)","v":{"$error":"#N/A"}},null,"CZ","ARDEA","StrongMax 89/500 mm šedý (antracit)","ARDEA_StrongMax 89/500 mm šedý (antracit)",0,null,"SK","Nábytkár","GOLLINUCCI Sorter Sistema 901/2x16 l, 600 mm","Nábytkár_GOLLINUCCI Sorter Sistema 901/2x16 l, 600 mm","https://eshop.nabytkar.sk/zbozi/789025",null,null,null,null,null,null,null,null,null,null,null,null,null,null,null,null,null,null,null,null,null,null,null,null,null,null,null,null,null,null,"'CZ_2020-10'!$A:$H","$A:$H","1165CZ44105","StrongRide synchro 3D celovýsuv 500 mm s tlumením","Exkalibr","neuwirth","2020-10-01","Martin Zniszczol",5.1412296,"x","x","x","x"]
[{"$error":"#N/A"},null,{"$f":"IFERROR(VLOOKUP(B35,List1!$A:$B,2,0),\"x\")","v":"x"},null,null,null,null,null,null,{"$f":"CONCATENATE(VLOOKUP(E35,[1]Seznamy!$Q$2:$R$36,2,0),VLOOKUP(F35,[1]Produkty!$I:$O,7,0),C35,D35)","v":{"$error":"#N/A"}},null,"CZ","ARDEA","StrongRide synchro 3D celovýsuv 500 mm s tlumením","ARDEA_StrongRide synchro 3D celovýsuv 500 mm s tlumením",0,null,"SK","Nábytkár","TULIP Úchytka Lucata 160 černá matná","Nábytkár_TULIP Úchytka Lucata 160 černá matná","https://eshop.nabytkar.sk/zbozi/789299",null,null,null,null,null,null,null,null,null,null,null,null,null,null,null,null,null,null,null,null,null,null,null,null,null,null,null,null,null,null,"'CZ_2020-10'!$A:$H","$A:$H","1166CZ44105","STRONG Rektifikační nožka 100 mm","Exkalibr","neuwirth","2020-10-01","Lukáš Sládek",9.5496335999999987E-2,"x","x","x","x"]
[{"$error":"#N/A"},null,{"$f":"IFERROR(VLOOKUP(B36,List1!$A:$B,2,0),\"x\")","v":"x"},null,null,null,null,null,null,{"$f":"CONCATENATE(VLOOKUP(E36,[1]Seznamy!$Q$2:$R$36,2,0),VLOOKUP(F36,[1]Produkty!$I:$O,7,0),C36,D36)","v":{"$error":"#N/A"}},null,"CZ","ARDEA","TULIP úchytka Anita 96 nikl matný + šroubky","ARDEA_TULIP úchytka Anita 96 nikl matný + šroubky",0,null,"SK","TWD","STRONG Rektifikační nožka 100 mm","TWD_STRONG Rektifikační nožka 100 mm","https://eshop.twd.sk/produkt/nohy-podnoze-kolieska/nabytkove-nozicky/noha-nab-100mm-plast-cierna/41763",null,null,null,null,null,null,null,null,null,null,null,null,null,null,null,null,null,null,null,null,null,null,null,null,null,null,null,null,null,null,"'CZ_2020-10'!$A:$H","$A:$H","1167CZ44105","STRONG Stolová noha centrální 450x450 černá","Exkalibr","neuwirth","2020-10-01","Lukáš Sládek",33.67505388,"x","x","x","x"]
[{"$error":"#N/A"},null,{"$f":"IFERROR(VLOOKUP(B37,List1!$A:$B,2,0),\"x\")","v":"x"},null,null,null,null,null,null,{"$f":"CONCATENATE(VLOOKUP(E37,[1]Seznamy!$Q$2:$R$36,2,0),VLOOKUP(F37,[1]Produkty!$I:$O,7,0),C37,D37)","v":{"$error":"#N/A"}},null,"CZ","ARDEA","TULIP úchytka Piombina 96 nikl matný + šroubky","ARDEA_TULIP úchytka Piombina 96 nikl matný + šroubky",0,null,"SK","TWD","Konfirmát 7/50 zinek bílý bulk","TWD_Konfirmát 7/50 zinek bílý bulk","https://eshop.twd.sk/produkt/spojovacie-kovanie/konfirmaty/konfirmat-7-0-50-sw4-zn/1907",null,null,null,null,null,null,null,null,null,null,null,null,null,null,null,null,null,null,null,null,null,null,null,null,null,null,null,null,null,null,"'CZ_2020-10'!$A:$H","$A:$H","1169CZ44105","BBP OA Zásuvka 515 mm kovová černá","Exkalibr","neuwirth","2020-10-01","Lukáš Sládek",4.7811832224000002,"x","x","x","x"]
[{"$error":"#N/A"},null,{"$f":"IFERROR(VLOOKUP(B38,List1!$A:$B,2,0),\"x\")","v":"x"},null,null,null,null,null,null,{"$f":"CONCATENATE(VLOOKUP(E38,[1]Seznamy!$Q$2:$R$36,2,0),VLOOKUP(F38,[1]Produkty!$I:$O,7,0),C38,D38)","v":{"$error":"#N/A"}},null,"CZ","Dřevotrust","HDF LAK 101 BÍLÁ PE 2800/2070/3","Dřevotrust_HDF LAK 101 BÍLÁ PE 2800/2070/3","https://b2b.drevotrust.cz/ - Article/100104",null,"SK","TWD","TULIP úchytka Anita 96 nikl matný + šroubky","TWD_TULIP úchytka Anita 96 nikl matný + šroubky","https://eshop.twd.sk/produkt/uchytky-vesiaky/ocelove/uchytka-for-1011-96mm-nisat/16571",null,null,null,null,null,null,null,null,null,null,null,null,null,null,null,null,null,null,null,null,null,null,null,null,null,null,null,null,null,null,"'CZ_2020-10'!$A:$H","$A:$H","11613CZ44105","GOLLINUCCI Sorter 580 Plus Line, 600 mm, výška 505mm, 80 l, šedý","Exkalibr","neuwirth","2020-10-01","Marcela Piechová",68.555453200000002,"x","x","x","x"]
[{"$error":"#N/A"},null,{"$f":"IFERROR(VLOOKUP(B39,List1!$A:$B,2,0),\"x\")","v":"x"},null,null,null,null,null,null,{"$f":"CONCATENATE(VLOOKUP(E39,[1]Seznamy!$Q$2:$R$36,2,0),VLOOKUP(F39,[1]Produkty!$I:$O,7,0),C39,D39)","v":{"$error":"#N/A"}},null,"CZ","Dřevotrust","Konfirmát 7/50 zinek bílý bulk","Dřevotrust_Konfirmát 7/50 zinek bílý bulk","https://b2b.drevotrust.cz/ - Article/10163",null,"SK","TWD","HDF LAK 101 BÍLÁ PE 2800/2070/3","TWD_HDF LAK 101 BÍLÁ PE 2800/2070/3","https://eshop.twd.sk/produkt/velkoplosny-material/hdf/hdf-biela/21147",null,null,null,null,null,null,null,null,null,null,null,null,null,null,null,null,null,null,null,null,null,null,null,null,null,null,null,null,null,null,"'CZ_2020-10'!$A:$H","$A:$H","11616CZ44105","TULIP úchytka Nakana 128 chrom matný + šroubky","Exkalibr","neuwirth","2020-10-01","Lenka Kormaník",0.75916152000000003,"x","x","x","x"]
[{"$error":"#N/A"},null,{"$f":"IFERROR(VLOOKUP(B40,List1!$A:$B,2,0),\"x\")","v":"x"},null,null,null,null,null,null,{"$f":"CONCATENATE(VLOOKUP(E40,[1]Seznamy!$Q$2:$R$36,2,0),VLOOKUP(F40,[1]Produkty!$I:$O,7,0),C40,D40)","v":{"$error":"#N/A"}},null,"CZ","Dřevotrust","FRANKE Dřez ETN 610 455 x 435","Dřevotrust_FRANKE Dřez ETN 610 455 x 435","https://b2b.drevotrust.cz/ - Article/10509",null,"SK","TWD","Alfa II profile 222788","TWD_Alfa II profile 222788","https://eshop.twd.sk/produkt/vstavane-skrine/uchytky/uchytka-westa-18mm-270cm-striebro/47810",null,null,null,null,null,null,null,null,null,null,null,null,null,null,null,null,null,null,null,null,null,null,null,null,null,null,null,null,null,null,"'CZ_2020-10'!$A:$H","$A:$H","11617CZ44105","TULIP úchytka Piombina 96 nikl matný + šroubky","Exkalibr","neuwirth","2020-10-01","Lenka Kormaník",0.41656555200000001,"x","x","x","x"]
[{"$error":"#N/A"},null,{"$f":"IFERROR(VLOOKUP(B41,List1!$A:$B,2,0),\"x\")","v":"x"},null,null,null,null,null,null,{"$f":"CONCATENATE(VLOOKUP(E41,[1]Seznamy!$Q$2:$R$36,2,0),VLOOKUP(F41,[1]Produkty!$I:$O,7,0),C41,D41)","v":{"$error":"#N/A"}},null,"CZ","Dřevotrust","Vrut PZ 4x18 zápustná hlava zinek bílý PZ2","Dřevotrust_Vrut PZ 4x18 zápustná hlava zinek bílý PZ2","https://b2b.drevotrust.cz/ - Article/115784",null,"SK","TWD","STRONG závěs naložený, slide on","TWD_STRONG závěs naložený, slide on","https://eshop.twd.sk/produkt/zavesy-nabytkove/nalozene/zaves-nalozeny-mpl-d35mm/41720",null,null,null,null,null,null,null,null,null,null,null,null,null,null,null,null,null,null,null,null,null,null,null,null,null,null,null,null,null,null,"'CZ_2020-10'!$A:$H","$A:$H","11618CZ44105","TULIP úchytka Anita 96 nikl matný + šroubky","Exkalibr","neuwirth","2020-10-01","Lenka Kormaník",0.26375996400000001,"x","x","x","x"]
[{"$error":"#N/A"},null,{"$f":"IFERROR(VLOOKUP(B42,List1!$A:$B,2,0),\"x\")","v":"x"},null,null,null,null,null,null,{"$f":"CONCATENATE(VLOOKUP(E42,[1]Seznamy!$Q$2:$R$36,2,0),VLOOKUP(F42,[1]Produkty!$I:$O,7,0),C42,D42)","v":{"$error":"#N/A"}},null,"CZ","Dřevotrust","ABSB HU10113 Bílá 101/110/113/8100/8685/W954/B3822 PE 22/2","Dřevotrust_ABSB HU10113 Bílá 101/110/113/8100/8685/W954/B3822 PE 22/2","https://b2b.drevotrust.cz/ - Article/12929",null,"SK","Schachermayer","FRANKE Dřez ETN 610 455 x 435","Schachermayer_FRANKE Dřez ETN 610 455 x 435","https://webshop.schachermayer.com/cat/sk-SK/product/franke-zabudovany-drez-etn-610-45-5-x-43-5-cm-18-10/113500085?query=franke",null,null,null,null,null,null,null,null,null,null,null,null,null,null,null,null,null,null,null,null,null,null,null,null,null,null,null,null,null,null,"'CZ_2020-10'!$A:$H","$A:$H","11619CZ44105","TULIP věšák Lugo XL chrom matný + šroubky","Exkalibr","neuwirth","2020-10-01","Lenka Kormaník",0.71147060399999995,"x","x","x","x"]
[{"$error":"#N/A"},null,{"$f":"IFERROR(VLOOKUP(B43,List1!$A:$B,2,0),\"x\")","v":"x"},null,null,null,null,null,null,{"$f":"CONCATENATE(VLOOKUP(E43,[1]Seznamy!$Q$2:$R$36,2,0),VLOOKUP(F43,[1]Produkty!$I:$O,7,0),C43,D43)","v":{"$error":"#N/A"}},null,"CZ","Dřevotrust","STRONG Rektifikační nožka 100 mm","Dřevotrust_STRONG Rektifikační nožka 100 mm","https://b2b.drevotrust.cz/ - Article/15143",null,"SK","Schachermayer","TULIP úchytka Nakana 128 chrom matný + šroubky","Schachermayer_TULIP úchytka Nakana 128 chrom matný + šroubky","https://webshop.schachermayer.com/cat/sk-SK/product/nabytkova-uchytka-nestor-roztec-otvorov-128mm-sirka-140mm-zn-matny-chrom/103301618",null,null,null,null,null,null,null,null,null,null,null,null,null,null,null,null,null,null,null,null,null,null,null,null,null,null,null,null,null,null,"'CZ_2020-10'!$A:$H","$A:$H","11620CZ44105","TULIP Úchytka Ramara 596 imitace nerezi","Exkalibr","neuwirth","2020-10-01","Lenka Kormaník",3.3996810120000003,"x","x","x","x"]
[{"$error":"#N/A"},null,{"$f":"IFERROR(VLOOKUP(B44,List1!$A:$B,2,0),\"x\")","v":"x"},null,null,null,null,null,null,{"$f":"CONCATENATE(VLOOKUP(E44,[1]Seznamy!$Q$2:$R$36,2,0),VLOOKUP(F44,[1]Produkty!$I:$O,7,0),C44,D44)","v":{"$error":"#N/A"}},null,"CZ","Dřevotrust","GOLLINUCCI Sorter Linea 222, 300 mm","Dřevotrust_GOLLINUCCI Sorter Linea 222, 300 mm","https://b2b.drevotrust.cz/ - Article/175478",null,"SK","Schachermayer","Alfa II profile 222788","Schachermayer_Alfa II profile 222788","https://webshop.schachermayer.com/cat/sk-SK/product/salu-zvisly-uchytkovy-profil-s04n-2700-mm-strieborne-eloxovany-hlinik/103333017",null,null,null,null,null,null,null,null,null,null,null,null,null,null,null,null,null,null,null,null,null,null,null,null,null,null,null,null,null,null,"'CZ_2020-10'!$A:$H","$A:$H","11621CZ44105","TULIP Úchytka Lucata 160 černá matná","Exkalibr","neuwirth","2020-10-01","Lenka Kormaník",0.771814212,"x","x","x","x"]
[{"$error":"#N/A"},null,{"$f":"IFERROR(VLOOKUP(B45,List1!$A:$B,2,0),\"x\")","v":"x"},null,null,null,null,null,null,{"$f":"CONCATENATE(VLOOKUP(E45,[1]Seznamy!$Q$2:$R$36,2,0),VLOOKUP(F45,[1]Produkty!$I:$O,7,0),C45,D45)","v":{"$error":"#N/A"}},null,"CZ","Dřevotrust","BBP OA Zásuvka 515 mm kovová černá","Dřevotrust_BBP OA Zásuvka 515 mm kovová černá","https://b2b.drevotrust.cz/ - Article/181020",null,"SK","Schachermayer","STRONG plus závěs naložený s tlumením, s excentrem, klipový","Schachermayer_STRONG plus závěs naložený s tlumením, s excentrem, klipový","https://webshop.schachermayer.com/cat/sk-SK/product/softclose-miskovy-zaves-110-nalozeny-s-excentrickou-zakladnou-platnickou/103332951",null,null,null,null,null,null,null,null,null,null,null,null,null,null,null,null,null,null,null,null,null,null,null,null,null,null,null,null,null,null,"'CZ_2020-10'!$A:$H","$A:$H","11625CZ44105","Konfirmát 7/50 zinek bílý bulk","Exkalibr","neuwirth","2020-10-01","Stančo Denčev",7.9419974399999992E-3,"x","x","x","x"]
[{"$error":"#N/A"},null,{"$f":"IFERROR(VLOOKUP(B46,List1!$A:$B,2,0),\"x\")","v":"x"},null,null,null,null,null,null,{"$f":"CONCATENATE(VLOOKUP(E46,[1]Seznamy!$Q$2:$R$36,2,0),VLOOKUP(F46,[1]Produkty!$I:$O,7,0),C46,D46)","v":{"$error":"#N/A"}},null,"CZ","Dřevotrust","DTDD DUB COMMERCIAL A/B DEC 2800/2070/19","Dřevotrust_DTDD DUB COMMERCIAL A/B DEC 2800/2070/19","https://b2b.drevotrust.cz/ - Article/352340",null,"SK","Schachermayer","STRONG závěs naložený, slide on","Schachermayer_STRONG závěs naložený, slide on","https://webshop.schachermayer.com/cat/sk-SK/product/softclose-miskovy-zaves-110-nalozeny-so-zakladnou-platnickou/103332931",null,null,null,null,null,null,null,null,null,null,null,null,null,null,null,null,null,null,null,null,null,null,null,null,null,null,null,null,null,null,"'CZ_2020-10'!$A:$H","$A:$H","11626CZ44105","DTDL W980 ST2 Platinově bílá 2800/2070/18","Exkalibr","neuwirth","2020-10-01","Martin Karaščák",25.214852557439997,"x","x","x","x"]
[{"$error":"#N/A"},null,{"$f":"IFERROR(VLOOKUP(B47,List1!$A:$B,2,0),\"x\")","v":"x"},null,null,null,null,null,null,{"$f":"CONCATENATE(VLOOKUP(E47,[1]Seznamy!$Q$2:$R$36,2,0),VLOOKUP(F47,[1]Produkty!$I:$O,7,0),C47,D47)","v":{"$error":"#N/A"}},null,"CZ","Dřevotrust","GOLLINUCCI Sorter Sistema 901/2x16 l, 600 mm","Dřevotrust_GOLLINUCCI Sorter Sistema 901/2x16 l, 600 mm","https://b2b.drevotrust.cz/ - Article/384566",null,"SK","Schachermayer","STRONG Rektifikační nožka 100 mm","Schachermayer_STRONG Rektifikační nožka 100 mm","https://webshop.schachermayer.com/cat/sk-SK/product/soklova-nastavite-na-noha-unico-oe-70-mm-vyska-sokla-100-mm-cierny-plast/103323370",null,null,null,null,null,null,null,null,null,null,null,null,null,null,null,null,null,null,null,null,null,null,null,null,null,null,null,null,null,null,"'CZ_2020-10'!$A:$H","$A:$H","11627CZ44105","DTDD DUB COMMERCIAL A/B DEC 2800/2070/19","Exkalibr","neuwirth","2020-10-01","Martin Karaščák",55.226676912160002,"x","x","x","x"]
[{"$error":"#N/A"},null,{"$f":"IFERROR(VLOOKUP(B48,List1!$A:$B,2,0),\"x\")","v":"x"},null,null,null,null,null,null,{"$f":"CONCATENATE(VLOOKUP(E48,[1]Seznamy!$Q$2:$R$36,2,0),VLOOKUP(F48,[1]Produkty!$I:$O,7,0),C48,D48)","v":{"$error":"#N/A"}},null,"CZ","Dřevotrust","FRANKE Dřez BFG 611-78 780 x 500 onyx","Dřevotrust_FRANKE Dřez BFG 611-78 780 x 500 onyx","https://b2b.drevotrust.cz/ - Article/472557",null,"SK","Schachermayer","Konfirmát 7/50 zinek bílý bulk","Schachermayer_Konfirmát 7/50 zinek bílý bulk","https://webshop.schachermayer.com/cat/sk-SK/product/spojov-skrutka-vnut-sesthr-4-mm-a-kriz-zarez-d-50-oe7-pozink-oce/103331270?query=konfirmat",null,null,null,null,null,null,null,null,null,null,null,null,null,null,null,null,null,null,null,null,null,null,null,null,null,null,null,null,null,null,"'CZ_2020-10'!$A:$H","$A:$H","11628CZ44105","DTDD Dub evr. radiál st A/B 2800/2070/19","Exkalibr","neuwirth","2020-10-01","Martin Karaščák",0,"x","x","x","x"]
[{"$error":"#N/A"},null,{"$f":"IFERROR(VLOOKUP(B49,List1!$A:$B,2,0),\"x\")","v":"x"},null,null,null,null,null,null,{"$f":"CONCATENATE(VLOOKUP(E49,[1]Seznamy!$Q$2:$R$36,2,0),VLOOKUP(F49,[1]Produkty!$I:$O,7,0),C49,D49)","v":{"$error":"#N/A"}},null,"CZ","Dřevotrust","STRONG závěs naložený, slide on","Dřevotrust_STRONG závěs naložený, slide on","https://b2b.drevotrust.cz/ - Article/497778",null,"SK","Schachermayer","STRONG Stolová noha centrální 450x450 černá","Schachermayer_STRONG Stolová noha centrální 450x450 černá","https://webshop.schachermayer.com/cat/sk-SK/product/stolova-podnoz-bludenz-s-platnou-cierny-povrch/103320905?query=centralna+stolova+noha",null,null,null,null,null,null,null,null,null,null,null,null,null,null,null,null,null,null,null,null,null,null,null,null,null,null,null,null,null,null,"'CZ_2020-10'!$A:$H","$A:$H","11629CZ44105","ABSB HU10113 Bílá 101/110/113/8100/8685/W954/B3822 PE 22/2","Exkalibr","neuwirth","2020-10-01","Martin Karaščák",0.20190872000000001,"x","x","x","x"]
[{"$error":"#N/A"},null,{"$f":"IFERROR(VLOOKUP(B50,List1!$A:$B,2,0),\"x\")","v":"x"},null,null,null,null,null,null,{"$f":"CONCATENATE(VLOOKUP(E50,[1]Seznamy!$Q$2:$R$36,2,0),VLOOKUP(F50,[1]Produkty!$I:$O,7,0),C50,D50)","v":{"$error":"#N/A"}},null,"CZ","Dřevotrust","FRANKE Dřez ETN 614 6/4 obyčejný ventil bez otvoru","Dřevotrust_FRANKE Dřez ETN 614 6/4 obyčejný ventil bez otvoru","https://b2b.drevotrust.cz/ - Article/555027",null,"SK","Schachermayer","TULIP Úchytka Lucata 160 černá matná","Schachermayer_TULIP Úchytka Lucata 160 černá matná","https://webshop.schachermayer.com/cat/sk-SK/product/uchytkova-lista-edge-straight-vzd-dier-2-x-80-mm-dlzka-200mm-hlinik-cierny-matny/103300684?query=103300684",null,null,null,null,null,null,null,null,null,null,null,null,null,null,null,null,null,null,null,null,null,null,null,null,null,null,null,null,null,null,"'CZ_2020-10'!$A:$H","$A:$H","11630CZ44105","ABSB 77039/414 W980/500/W954 ST2 23/2","Exkalibr","neuwirth","2020-10-01","Martin Karaščák",0,"x","x","x","x"]
[{"$error":"#N/A"},null,{"$f":"IFERROR(VLOOKUP(B51,List1!$A:$B,2,0),\"x\")","v":"x"},null,null,null,null,null,null,{"$f":"CONCATENATE(VLOOKUP(E51,[1]Seznamy!$Q$2:$R$36,2,0),VLOOKUP(F51,[1]Produkty!$I:$O,7,0),C51,D51)","v":{"$error":"#N/A"}},null,"CZ","Dřevotrust","TULIP věšák Lugo XL chrom matný + šroubky","Dřevotrust_TULIP věšák Lugo XL chrom matný + šroubky","https://b2b.drevotrust.cz/ - Article/63674",null,"SK","Schachermayer","TULIP Úchytka Ramara 596 imitace nerezi","Schachermayer_TULIP Úchytka Ramara 596 imitace nerezi","https://webshop.schachermayer.com/cat/sk-SK/product/uchytkova-lista-trim-sirka-595-mm-hlinik-antikorovy-efekt/103300719?query=103300719",null,null,null,null,null,null,null,null,null,null,null,null,null,null,null,null,null,null,null,null,null,null,null,null,null,null,null,null,null,null,"'CZ_2020-10'!$A:$H","$A:$H","11631CZ44105","HDF LAK 101 BÍLÁ PE 2800/2070/3","Exkalibr","neuwirth","2020-10-01","Martin Karaščák",5.8424658364800006,"x","x","x","x"]
[{"$error":"#N/A"},null,{"$f":"IFERROR(VLOOKUP(B52,List1!$A:$B,2,0),\"x\")","v":"x"},null,null,null,null,null,null,{"$f":"CONCATENATE(VLOOKUP(E52,[1]Seznamy!$Q$2:$R$36,2,0),VLOOKUP(F52,[1]Produkty!$I:$O,7,0),C52,D52)","v":{"$error":"#N/A"}},null,"CZ","Dřevotrust","STRONG Elektrická zásuvka 3x230V, francouzský typ, 265x130x68 mm stříbrná","Dřevotrust_STRONG Elektrická zásuvka 3x230V, francouzský typ, 265x130x68 mm stříbrná","https://b2b.drevotrust.cz/ - Article/669087",null,"SK","Schachermayer","TULIP věšák Lugo XL chrom matný + šroubky","Schachermayer_TULIP věšák Lugo XL chrom matný + šroubky","https://webshop.schachermayer.com/cat/sk-SK/product/vesiak-na-klobuk-albireu-sirka-72mm-vyska-175-mm-poniklovany-matny/103380312?query=103380312",null,null,null,null,null,null,null,null,null,null,null,null,null,null,null,null,null,null,null,null,null,null,null,null,null,null,null,null,null,null,"'CZ_2020-10'!$A:$H","$A:$H","11634CZ44105","Strong electric socket, lift","Exkalibr","neuwirth","2020-10-01","NULL",12.923845868960001,"x","x","x","x"]
[{"$error":"#N/A"},null,{"$f":"IFERROR(VLOOKUP(B53,List1!$A:$B,2,0),\"x\")","v":"x"},null,null,null,null,null,null,{"$f":"CONCATENATE(VLOOKUP(E53,[1]Seznamy!$Q$2:$R$36,2,0),VLOOKUP(F53,[1]Produkty!$I:$O,7,0),C53,D53)","v":{"$error":"#N/A"}},null,"CZ","Dřevotrust","DTDD Dub evr. radiál st A/B 2800/2070/19","Dřevotrust_DTDD Dub evr. radiál st A/B 2800/2070/19","https://b2b.drevotrust.cz/ - Article/719298",null,"SK","Schachermayer","GOLLINUCCI Sorter 580 Plus Line, 600 mm, výška 505mm, 80 l, šedý","Schachermayer_GOLLINUCCI Sorter 580 Plus Line, 600 mm, výška 505mm, 80 l, šedý","https://webshop.schachermayer.com/cat/sk-SK/product/vs-envi-space-xx-pro-system-na-odpad-2x35l-sk450mm-vv580mm-vh515mm-lavovo-sivy/103370044?query=VS+ENVI",null,null,null,null,null,null,null,null,null,null,null,null,null,null,null,null,null,null,null,null,null,null,null,null,null,null,null,null,null,null,"'CZ_2020-10'!$A:$H","$A:$H","1102CZ44105","STRONG závěs naložený, slide on","GTV","neuwirth","2020-10-01","Martin Zniszczol",0.11145056,"x","x","x","x"]
[{"$error":"#N/A"},null,{"$f":"IFERROR(VLOOKUP(B54,List1!$A:$B,2,0),\"x\")","v":"x"},null,null,null,null,null,null,{"$f":"CONCATENATE(VLOOKUP(E54,[1]Seznamy!$Q$2:$R$36,2,0),VLOOKUP(F54,[1]Produkty!$I:$O,7,0),C54,D54)","v":{"$error":"#N/A"}},null,"CZ","Dřevotrust","STRONG Stolová noha centrální 450x450 černá","Dřevotrust_STRONG Stolová noha centrální 450x450 černá","https://b2b.drevotrust.cz/ - Article/765185",null,"SK","Schachermayer","GOLLINUCCI Sorter Linea 222, 300 mm","Schachermayer_GOLLINUCCI Sorter Linea 222, 300 mm","https://webshop.schachermayer.com/cat/sk-SK/product/wesco-double-boy-deluxe-vstavany-odpadkovy-kos-260-x-400-x-450-mm/103371639?query=wesco",null,null,null,null,null,null,null,null,null,null,null,null,null,null,null,null,null,null,null,null,null,null,null,null,null,null,null,null,null,null,"'CZ_2020-10'!$A:$H","$A:$H","1106CZ44105","STRONG Rektifikační nožka 100 mm","GTV","neuwirth","2020-10-01","Lukáš Sládek",9.5496335999999987E-2,"x","x","x","x"]
[{"$error":"#N/A"},null,{"$f":"IFERROR(VLOOKUP(B55,List1!$A:$B,2,0),\"x\")","v":"x"},null,null,null,null,null,null,{"$f":"CONCATENATE(VLOOKUP(E55,[1]Seznamy!$Q$2:$R$36,2,0),VLOOKUP(F55,[1]Produkty!$I:$O,7,0),C55,D55)","v":{"$error":"#N/A"}},null,"CZ","Dřevotrust","StrongMax 89/500 mm šedý (antracit)","Dřevotrust_StrongMax 89/500 mm šedý (antracit)","https://b2b.drevotrust.cz/ - Article/766615",null,"SK","Schachermayer","GOLLINUCCI Sorter Sistema 901/2x16 l, 600 mm","Schachermayer_GOLLINUCCI Sorter Sistema 901/2x16 l, 600 mm","https://webshop.schachermayer.com/cat/sk-SK/product/wesco-pullboy-flex-60-celny-vysuv-kb-600-2x14-l-vyska-250mm-sivy-plast/103332828",null,null,null,null,null,null,null,null,null,null,null,null,null,null,null,null,null,null,null,null,null,null,null,null,null,null,null,null,null,null,"'CZ_2020-10'!$A:$H","$A:$H","1107CZ44105","STRONG Stolová noha centrální 450x450 černá","GTV","neuwirth","2020-10-01","Lukáš Sládek",33.67505388,"x","x","x","x"]
[{"$error":"#N/A"},null,{"$f":"IFERROR(VLOOKUP(B56,List1!$A:$B,2,0),\"x\")","v":"x"},null,null,null,null,null,null,{"$f":"CONCATENATE(VLOOKUP(E56,[1]Seznamy!$Q$2:$R$36,2,0),VLOOKUP(F56,[1]Produkty!$I:$O,7,0),C56,D56)","v":{"$error":"#N/A"}},null,"CZ","Dřevotrust","STRONG plus závěs naložený s tlumením, s excentrem, klipový","Dřevotrust_STRONG plus závěs naložený s tlumením, s excentrem, klipový","https://b2b.drevotrust.cz/ - Article/766700",null,"SK","Schachermayer","STRONG Elektrická zásuvka 3x230V, francouzský typ, 265x130x68 mm stříbrná","Schachermayer_STRONG Elektrická zásuvka 3x230V, francouzský typ, 265x130x68 mm stříbrná","https://webshop.schachermayer.com/cat/sk-SK/product/zabudovana-zasuvkova-lista-evoline-frame-dock-3-x-zasuvka-stn-csn-hlinik/103378202?query=zasuvka",null,null,null,null,null,null,null,null,null,null,null,null,null,null,null,null,null,null,null,null,null,null,null,null,null,null,null,null,null,null,"'CZ_2020-10'!$A:$H","$A:$H","1109CZ44105","BBP OA Zásuvka 515 mm kovová černá","GTV","neuwirth","2020-10-01","Lukáš Sládek",4.7811832224000002,"x","x","x","x"]
[{"$error":"#N/A"},null,{"$f":"IFERROR(VLOOKUP(B57,List1!$A:$B,2,0),\"x\")","v":"x"},null,null,null,null,null,null,{"$f":"CONCATENATE(VLOOKUP(E57,[1]Seznamy!$Q$2:$R$36,2,0),VLOOKUP(F57,[1]Produkty!$I:$O,7,0),C57,D57)","v":{"$error":"#N/A"}},null,"CZ","Dřevotrust","DTDL W980 ST2 Platinově bílá 2800/2070/18","Dřevotrust_DTDL W980 ST2 Platinově bílá 2800/2070/18","https://b2b.drevotrust.cz/ - Article/776854",null,"SK","GTV","STRONG závěs naložený, slide on","GTV_STRONG závěs naložený, slide on","https://www.cps-interier.sk/eshop/gtv-zaves-nalozeny-s-platnickou/p-1725137.xhtml",null,null,null,null,null,null,null,null,null,null,null,null,null,null,null,null,null,null,null,null,null,null,null,null,null,null,null,null,null,null,"'CZ_2020-10'!$A:$H","$A:$H","11010CZ44105","FRANKE Dřez ETN 614 6/4 obyčejný ventil bez otvoru","GTV","neuwirth","2020-10-01","Marcela Piechová",20.916063999999999,"x","x","x","x"]
[{"$error":"#N/A"},null,{"$f":"IFERROR(VLOOKUP(B58,List1!$A:$B,2,0),\"x\")","v":"x"},null,null,null,null,null,null,{"$f":"CONCATENATE(VLOOKUP(E58,[1]Seznamy!$Q$2:$R$36,2,0),VLOOKUP(F58,[1]Produkty!$I:$O,7,0),C58,D58)","v":{"$error":"#N/A"}},null,"CZ","Dřevotrust","TULIP Gola dvířkový J profil 4,1m eloxovaný hliník","Dřevotrust_TULIP Gola dvířkový J profil 4,1m eloxovaný hliník","https://b2b.drevotrust.cz/#Article/559080",null,"SK","GTV","StrongBox H86/500mm bílý","GTV_StrongBox H86/500mm bílý","https://www.gtv-kovanie.sk/gtv-modern-box-biely--a-nizky/",null,null,null,null,null,null,null,null,null,null,null,null,null,null,null,null,null,null,null,null,null,null,null,null,null,null,null,null,null,null,"'CZ_2020-10'!$A:$H","$A:$H","11011CZ44105","FRANKE Dřez BFG 611-78 780 x 500 onyx","GTV","neuwirth","2020-10-01","Marcela Piechová",101.832224,"x","x","x","x"]
[{"$error":"#N/A"},null,{"$f":"IFERROR(VLOOKUP(B59,List1!$A:$B,2,0),\"x\")","v":"x"},null,null,null,null,null,null,{"$f":"CONCATENATE(VLOOKUP(E59,[1]Seznamy!$Q$2:$R$36,2,0),VLOOKUP(F59,[1]Produkty!$I:$O,7,0),C59,D59)","v":{"$error":"#N/A"}},null,"CZ","Dřevotrust","STRONG Elektricky stavitelná podnož černá RAL 9005 mat","Dřevotrust_STRONG Elektricky stavitelná podnož černá RAL 9005 mat","https://b2b.drevotrust.cz/#Article/665880",null,"SK","GTV","GOLLINUCCI Sorter Linea 222, 300 mm","GTV_GOLLINUCCI Sorter Linea 222, 300 mm","https://www.gtv-kovanie.sk/gtv-smetny-kos-300mm-20-10l/",null,null,null,null,null,null,null,null,null,null,null,null,null,null,null,null,null,null,null,null,null,null,null,null,null,null,null,null,null,null,"'CZ_2020-10'!$A:$H","$A:$H","11014CZ44105","FRANKE Dřez ETN 610 455 x 435","GTV","neuwirth","2020-10-01","Marcela Piechová",23.091640000000002,"x","x","x","x"]
[{"$error":"#N/A"},null,{"$f":"IFERROR(VLOOKUP(B60,List1!$A:$B,2,0),\"x\")","v":"x"},null,null,null,null,null,null,{"$f":"CONCATENATE(VLOOKUP(E60,[1]Seznamy!$Q$2:$R$36,2,0),VLOOKUP(F60,[1]Produkty!$I:$O,7,0),C60,D60)","v":{"$error":"#N/A"}},null,"CZ","Dřevotrust","Strong electric socket, lift","Dřevotrust_Strong electric socket, lift","https://b2b.drevotrust.cz/#Article/765538",null,"SK","GTV","STRONG Elektrická zásuvka 3x230V, francouzský typ, 265x130x68 mm stříbrná","GTV_STRONG Elektrická zásuvka 3x230V, francouzský typ, 265x130x68 mm stříbrná","https://www.gtv-kovanie.sk/gtv-vyklopna-3-zasuvka/",null,null,null,null,null,null,null,null,null,null,null,null,null,null,null,null,null,null,null,null,null,null,null,null,null,null,null,null,null,null,"'CZ_2020-10'!$A:$H","$A:$H","11016CZ44105","TULIP úchytka Nakana 128 chrom matný + šroubky","GTV","neuwirth","2020-10-01","Lenka Kormaník",0.75916152000000003,"x","x","x","x"]
[{"$error":"#N/A"},null,{"$f":"IFERROR(VLOOKUP(B61,List1!$A:$B,2,0),\"x\")","v":"x"},null,null,null,null,null,null,{"$f":"CONCATENATE(VLOOKUP(E61,[1]Seznamy!$Q$2:$R$36,2,0),VLOOKUP(F61,[1]Produkty!$I:$O,7,0),C61,D61)","v":{"$error":"#N/A"}},null,"CZ","Dřevotrust","Alfa II profile 222788","Dřevotrust_Alfa II profile 222788",0,null,"SK","GTV","STRONG Rektifikační nožka 100 mm","GTV_STRONG Rektifikační nožka 100 mm","https://www.gtv-kovanie.sk/nabytkova-nozicka-volpato-cierna/",null,null,null,null,null,null,null,null,null,null,null,null,null,null,null,null,null,null,null,null,null,null,null,null,null,null,null,null,null,null,"'CZ_2020-10'!$A:$H","$A:$H","11017CZ44105","TULIP úchytka Piombina 96 nikl matný + šroubky","GTV","neuwirth","2020-10-01","Lenka Kormaník",0.41656555200000001,"x","x","x","x"]
[{"$error":"#N/A"},null,{"$f":"IFERROR(VLOOKUP(B62,List1!$A:$B,2,0),\"x\")","v":"x"},null,null,null,null,null,null,{"$f":"CONCATENATE(VLOOKUP(E62,[1]Seznamy!$Q$2:$R$36,2,0),VLOOKUP(F62,[1]Produkty!$I:$O,7,0),C62,D62)","v":{"$error":"#N/A"}},null,"CZ","Dřevotrust","SEVROLL Era úchytová lišta 18mm 2,70m stříbrná","Dřevotrust_SEVROLL Era úchytová lišta 18mm 2,70m stříbrná",0,null,"SK","GTV","Strong electric socket, lift","GTV_Strong electric socket, lift","https://www.gtv-kovanie.sk/vysuvna-zasuvka-gtv-slim-usb/",null,null,null,null,null,null,null,null,null,null,null,null,null,null,null,null,null,null,null,null,null,null,null,null,null,null,null,null,null,null,"'CZ_2020-10'!$A:$H","$A:$H","11018CZ44105","TULIP úchytka Anita 96 nikl matný + šroubky","GTV","neuwirth","2020-10-01","Lenka Kormaník",0.26375996400000001,"x","x","x","x"]
[{"$error":"#N/A"},null,{"$f":"IFERROR(VLOOKUP(B63,List1!$A:$B,2,0),\"x\")","v":"x"},null,null,null,null,null,null,{"$f":"CONCATENATE(VLOOKUP(E63,[1]Seznamy!$Q$2:$R$36,2,0),VLOOKUP(F63,[1]Produkty!$I:$O,7,0),C63,D63)","v":{"$error":"#N/A"}},null,"CZ","Dřevotrust","ABSB 77039/414 W980/500/W954 ST2 23/2","Dřevotrust_ABSB 77039/414 W980/500/W954 ST2 23/2",0,null,"SK","GTV","STRONG plus závěs naložený s tlumením, s excentrem, klipový","GTV_STRONG plus závěs naložený s tlumením, s excentrem, klipový","https://www.gtv-kovanie.sk/zaves-nalozeny-s-intergrovanym-tlmenim-gtv-prestige-s-3dplatnickou/",null,null,null,null,null,null,null,null,null,null,null,null,null,null,null,null,null,null,null,null,null,null,null,null,null,null,null,null,null,null,"'CZ_2020-10'!$A:$H","$A:$H","11019CZ44105","TULIP věšák Lugo XL chrom matný + šroubky","GTV","neuwirth","2020-10-01","Lenka Kormaník",0.71147060399999995,"x","x","x","x"]
[{"$error":"#N/A"},null,{"$f":"IFERROR(VLOOKUP(B64,List1!$A:$B,2,0),\"x\")","v":"x"},null,null,null,null,null,null,{"$f":"CONCATENATE(VLOOKUP(E64,[1]Seznamy!$Q$2:$R$36,2,0),VLOOKUP(F64,[1]Produkty!$I:$O,7,0),C64,D64)","v":{"$error":"#N/A"}},null,"CZ","Dřevotrust","GOLLINUCCI Sorter 580 Plus Line, 600 mm, výška 505mm, 80 l, šedý","Dřevotrust_GOLLINUCCI Sorter 580 Plus Line, 600 mm, výška 505mm, 80 l, šedý",0,null,"SK","Hranipex","ABSB HU10113 Bílá 101/110/113/8100/8685/W954/B3822 PE 22/2","Hranipex_ABSB HU10113 Bílá 101/110/113/8100/8685/W954/B3822 PE 22/2","https://www.hranipex.sk/sk/katalog/abs-hrany/uni-farby/hu-10113-abs-biela-perl-101/",null,null,null,null,null,null,null,null,null,null,null,null,null,null,null,null,null,null,null,null,null,null,null,null,null,null,null,null,null,null,"'CZ_2020-10'!$A:$H","$A:$H","11020CZ44105","TULIP Úchytka Ramara 596 imitace nerezi","GTV","neuwirth","2020-10-01","Lenka Kormaník",3.3996810120000003,"x","x","x","x"]
[{"$error":"#N/A"},null,{"$f":"IFERROR(VLOOKUP(B65,List1!$A:$B,2,0),\"x\")","v":"x"},null,null,null,null,null,null,{"$f":"CONCATENATE(VLOOKUP(E65,[1]Seznamy!$Q$2:$R$36,2,0),VLOOKUP(F65,[1]Produkty!$I:$O,7,0),C65,D65)","v":{"$error":"#N/A"}},null,"CZ","Dřevotrust","STRONG LED pásek 21,6W/m 24V bílá neutrální 210 LED/m","Dřevotrust_STRONG LED pásek 21,6W/m 24V bílá neutrální 210 LED/m",0,null,"SK","Hranipex","ABSB 77039/414 W980/500/W954 ST2 23/2","Hranipex_ABSB 77039/414 W980/500/W954 ST2 23/2","https://www.hranipex.sk/sk/katalog/abs-hrany/uni-farby/hu-10980-abs-biela-perl-101/",null,null,null,null,null,null,null,null,null,null,null,null,null,null,null,null,null,null,null,null,null,null,null,null,null,null,null,null,null,null,"'CZ_2020-10'!$A:$H","$A:$H","11021CZ44105","TULIP Úchytka Lucata 160 černá matná","GTV","neuwirth","2020-10-01","Lenka Kormaník",0.771814212,"x","x","x","x"]
[{"$error":"#N/A"},null,{"$f":"IFERROR(VLOOKUP(B66,List1!$A:$B,2,0),\"x\")","v":"x"},null,null,null,null,null,null,{"$f":"CONCATENATE(VLOOKUP(E66,[1]Seznamy!$Q$2:$R$36,2,0),VLOOKUP(F66,[1]Produkty!$I:$O,7,0),C66,D66)","v":{"$error":"#N/A"}},null,"CZ","Dřevotrust","STRONG transformátor plochý LED 24V 100W","Dřevotrust_STRONG transformátor plochý LED 24V 100W",0,null,"SK","GTV","GOLLINUCCI Sorter Sistema 901/2x16 l, 600 mm","GTV_GOLLINUCCI Sorter Sistema 901/2x16 l, 600 mm","https://www.ivim.sk/e-shop/nabytkove_kovanie/odpadkove_kose/kos_multino_600_2x15l_seda~%7B5570-1-s-2532c%7D.html",null,null,null,null,null,null,null,null,null,null,null,null,null,null,null,null,null,null,null,null,null,null,null,null,null,null,null,null,null,null,"'CZ_2020-10'!$A:$H","$A:$H","11024CZ44105","Vrut PZ 4x18 zápustná hlava zinek bílý PZ2","GTV","neuwirth","2020-10-01","Stančo Denčev",1.9465679999999999E-3,"x","x","x","x"]
[{"$error":"#N/A"},null,{"$f":"IFERROR(VLOOKUP(B67,List1!$A:$B,2,0),\"x\")","v":"x"},null,null,null,null,null,null,{"$f":"CONCATENATE(VLOOKUP(E67,[1]Seznamy!$Q$2:$R$36,2,0),VLOOKUP(F67,[1]Produkty!$I:$O,7,0),C67,D67)","v":{"$error":"#N/A"}},null,"CZ","Dřevotrust","StrongBox H86/500mm bílý","Dřevotrust_StrongBox H86/500mm bílý",0,null,"SK","GTV","Alfa II profile 222788","GTV_Alfa II profile 222788","https://www.ivim.sk/e-shop/nabytkove_kovanie/posuvne_kovanie/satnikove_dvere_system_18_mm/profil_bocny_novo_s_2_7m_strieborny~%7B58333%7D.html",null,null,null,null,null,null,null,null,null,null,null,null,null,null,null,null,null,null,null,null,null,null,null,null,null,null,null,null,null,null,"'CZ_2020-10'!$A:$H","$A:$H","11025CZ44105","Konfirmát 7/50 zinek bílý bulk","GTV","neuwirth","2020-10-01","Stančo Denčev",7.9419974399999992E-3,"x","x","x","x"]
[{"$error":"#N/A"},null,{"$f":"IFERROR(VLOOKUP(B68,List1!$A:$B,2,0),\"x\")","v":"x"},null,null,null,null,null,null,{"$f":"CONCATENATE(VLOOKUP(E68,[1]Seznamy!$Q$2:$R$36,2,0),VLOOKUP(F68,[1]Produkty!$I:$O,7,0),C68,D68)","v":{"$error":"#N/A"}},null,"CZ","Dřevotrust","StrongRide synchro 3D celovýsuv 500 mm s tlumením","Dřevotrust_StrongRide synchro 3D celovýsuv 500 mm s tlumením",0,null,"SK","GTV","TULIP úchytka Anita 96 nikl matný + šroubky","GTV_TULIP úchytka Anita 96 nikl matný + šroubky","https://www.ivim.sk/e-shop/nabytkove_kovanie/uchytky_vesiaky/nabytkove_uchytky_-_kovove/uchytka_07-96mm_matny_nikel~%7B2945-2%7D.html",null,null,null,null,null,null,null,null,null,null,null,null,null,null,null,null,null,null,null,null,null,null,null,null,null,null,null,null,null,null,"'CZ_2020-10'!$A:$H","$A:$H","11026CZ44105","DTDL W980 ST2 Platinově bílá 2800/2070/18","GTV","neuwirth","2020-10-01","Martin Karaščák",25.214852557439997,"x","x","x","x"]
[{"$error":"#N/A"},null,{"$f":"IFERROR(VLOOKUP(B69,List1!$A:$B,2,0),\"x\")","v":"x"},null,null,null,null,null,null,{"$f":"CONCATENATE(VLOOKUP(E69,[1]Seznamy!$Q$2:$R$36,2,0),VLOOKUP(F69,[1]Produkty!$I:$O,7,0),C69,D69)","v":{"$error":"#N/A"}},null,"CZ","Dřevotrust","TULIP úchytka Anita 96 nikl matný + šroubky","Dřevotrust_TULIP úchytka Anita 96 nikl matný + šroubky",0,null,"SK","GTV","TULIP úchytka Nakana 128 chrom matný + šroubky","GTV_TULIP úchytka Nakana 128 chrom matný + šroubky","https://www.ivim.sk/e-shop/nabytkove_kovanie/uchytky_vesiaky/nabytkove_uchytky_-_kovove/uchytka_8190_128mm_matny_chrom~%7B2941-2%7D.html",null,null,null,null,null,null,null,null,null,null,null,null,null,null,null,null,null,null,null,null,null,null,null,null,null,null,null,null,null,null,"'CZ_2020-10'!$A:$H","$A:$H","11027CZ44105","DTDD DUB COMMERCIAL A/B DEC 2800/2070/19","GTV","neuwirth","2020-10-01","Martin Karaščák",55.226676912160002,"x","x","x","x"]
[{"$error":"#N/A"},null,{"$f":"IFERROR(VLOOKUP(B70,List1!$A:$B,2,0),\"x\")","v":"x"},null,null,null,null,null,null,{"$f":"CONCATENATE(VLOOKUP(E70,[1]Seznamy!$Q$2:$R$36,2,0),VLOOKUP(F70,[1]Produkty!$I:$O,7,0),C70,D70)","v":{"$error":"#N/A"}},null,"CZ","Dřevotrust","TULIP Úchytka Lucata 160 černá matná","Dřevotrust_TULIP Úchytka Lucata 160 černá matná",0,null,"SK","GTV","TULIP úchytka Piombina 96 nikl matný + šroubky","GTV_TULIP úchytka Piombina 96 nikl matný + šroubky","https://www.ivim.sk/e-shop/nabytkove_kovanie/uchytky_vesiaky/nabytkove_uchytky_-_kovove/uchytka_paloma_96_mm_mat.nikel~%7B7730-3%7D.html",null,null,null,null,null,null,null,null,null,null,null,null,null,null,null,null,null,null,null,null,null,null,null,null,null,null,null,null,null,null,"'CZ_2020-10'!$A:$H","$A:$H","11028CZ44105","DTDD Dub evr. radiál st A/B 2800/2070/19","GTV","neuwirth","2020-10-01","Martin Karaščák",0,"x","x","x","x"]
[{"$error":"#N/A"},null,{"$f":"IFERROR(VLOOKUP(B71,List1!$A:$B,2,0),\"x\")","v":"x"},null,null,null,null,null,null,{"$f":"CONCATENATE(VLOOKUP(E71,[1]Seznamy!$Q$2:$R$36,2,0),VLOOKUP(F71,[1]Produkty!$I:$O,7,0),C71,D71)","v":{"$error":"#N/A"}},null,"CZ","Dřevotrust","TULIP úchytka Nakana 128 chrom matný + šroubky","Dřevotrust_TULIP úchytka Nakana 128 chrom matný + šroubky",0,null,"SK","GTV","TULIP věšák Lugo XL chrom matný + šroubky","GTV_TULIP věšák Lugo XL chrom matný + šroubky","https://www.ivim.sk/e-shop/nabytkove_kovanie/uchytky_vesiaky/vesiaky/vesiak_romana_velky_saten_chrom~%7B3907-2%7D.html",null,null,null,null,null,null,null,null,null,null,null,null,null,null,null,null,null,null,null,null,null,null,null,null,null,null,null,null,null,null,"'CZ_2020-10'!$A:$H","$A:$H","11029CZ44105","ABSB HU10113 Bílá 101/110/113/8100/8685/W954/B3822 PE 22/2","GTV","neuwirth","2020-10-01","Martin Karaščák",0.20190872000000001,"x","x","x","x"]
[{"$error":"#N/A"},null,{"$f":"IFERROR(VLOOKUP(B72,List1!$A:$B,2,0),\"x\")","v":"x"},null,null,null,null,null,null,{"$f":"CONCATENATE(VLOOKUP(E72,[1]Seznamy!$Q$2:$R$36,2,0),VLOOKUP(F72,[1]Produkty!$I:$O,7,0),C72,D72)","v":{"$error":"#N/A"}},null,"CZ","Dřevotrust","TULIP úchytka Piombina 96 nikl matný + šroubky","Dřevotrust_TULIP úchytka Piombina 96 nikl matný + šroubky",0,null,"SK","GTV","StrongMax 89/500 mm šedý (antracit)","GTV_StrongMax 89/500 mm šedý (antracit)","https://www.ivim.sk/e-shop/nabytkove_kovanie/zasuvkove_systemy/zasuvkove_systemy_gtv_axis_pro/axis-pro_500mm_a_nizka_antracit_h84~%7B37390-6%7D.html",null,null,null,null,null,null,null,null,null,null,null,null,null,null,null,null,null,null,null,null,null,null,null,null,null,null,null,null,null,null,"'CZ_2020-10'!$A:$H","$A:$H","11030CZ44105","ABSB 77039/414 W980/500/W954 ST2 23/2","GTV","neuwirth","2020-10-01","Martin Karaščák",0,"x","x","x","x"]
[{"$f":"TEXT(J73,1)","v":{"$error":"#N/A"}},null,{"$f":"IFERROR(VLOOKUP(B73,List1!$A:$B,2,0),\"x\")","v":"x"},null,null,null,null,null,null,{"$f":"CONCATENATE(VLOOKUP(E73,[1]Seznamy!$Q$2:$R$36,2,0),VLOOKUP(F73,[1]Produkty!$I:$O,7,0),C73,D73)","v":{"$error":"#N/A"}},null,"CZ","Dřevotrust","TULIP Úchytka Ramara 596 imitace nerezi","Dřevotrust_TULIP Úchytka Ramara 596 imitace nerezi",0,null,"SK","IW Trend","DTDL W980 ST2 Platinově bílá 2800/2070/18","IW Trend_DTDL W980 ST2 Platinově bílá 2800/2070/18","https://www.iwtrend.sk/p/1943/laminatova-drevorieska-egger",null,null,null,null,null,null,null,null,null,null,null,null,null,null,null,null,null,null,null,null,null,null,null,null,null,null,null,null,null,null,"'CZ_2020-10'!$A:$H","$A:$H","11031CZ44105","HDF LAK 101 BÍLÁ PE 2800/2070/3","GTV","neuwirth","2020-10-01","Martin Karaščák",5.8424658364800006,"x","x","x","x"]
[{"$error":"#N/A"},null,{"$f":"IFERROR(VLOOKUP(B74,List1!$A:$B,2,0),\"x\")","v":"x"},null,null,null,null,null,null,{"$f":"CONCATENATE(VLOOKUP(E74,[1]Seznamy!$Q$2:$R$36,2,0),VLOOKUP(F74,[1]Produkty!$I:$O,7,0),C74,D74)","v":{"$error":"#N/A"}},null,"CZ","Exkalibr","STRONG Elektrická zásuvka 3x230V, francouzský typ, 265x130x68 mm stříbrná","Exkalibr_STRONG Elektrická zásuvka 3x230V, francouzský typ, 265x130x68 mm stříbrná","https://www.exkalibr.cz/gtv-vyklopna-zasuvkova-lista-3x-zasuvka-stribrna_d62875.html",null,"SK","IW Trend","ABSB 77039/414 W980/500/W954 ST2 23/2","IW Trend_ABSB 77039/414 W980/500/W954 ST2 23/2","https://www.iwtrend.sk/p/3181/abs-hrana-hranipex",null,null,null,null,null,null,null,null,null,null,null,null,null,null,null,null,null,null,null,null,null,null,null,null,null,null,null,null,null,null,"'CZ_2020-10'!$A:$H","$A:$H","11035CZ44105","STRONG Elektricky stavitelná podnož černá RAL 9005 mat","GTV","neuwirth","2020-10-01","NULL",110.69330687999999,"x","x","x","x"]
[{"$error":"#N/A"},null,{"$f":"IFERROR(VLOOKUP(B75,List1!$A:$B,2,0),\"x\")","v":"x"},null,null,null,null,null,null,{"$f":"CONCATENATE(VLOOKUP(E75,[1]Seznamy!$Q$2:$R$36,2,0),VLOOKUP(F75,[1]Produkty!$I:$O,7,0),C75,D75)","v":{"$error":"#N/A"}},null,"CZ","Exkalibr","STRONG Elektricky stavitelná podnož černá RAL 9005 mat","Exkalibr_STRONG Elektricky stavitelná podnož černá RAL 9005 mat","https://www.exkalibr.cz/podnoz-expander-elektricky-stavitelna-vyska-680-1180mm-cerna-ral-9005_d58870.html?fulltextword=podno%C5%BE",null,"SK","IW Trend","ABSB HU10113 Bílá 101/110/113/8100/8685/W954/B3822 PE 22/2","IW Trend_ABSB HU10113 Bílá 101/110/113/8100/8685/W954/B3822 PE 22/2","https://www.iwtrend.sk/p/3320/abs-hrana-hranipex",null,null,null,null,null,null,null,null,null,null,null,null,null,null,null,null,null,null,null,null,null,null,null,null,null,null,null,null,null,null,"'CZ_2020-10'!$A:$H","$A:$H","1097CZ44105","STRONG Stolová noha centrální 450x450 černá","Hafele","neuwirth","2020-10-01","Lukáš Sládek",33.67505388,"x","x","x","x"]
[{"$error":"#N/A"},null,{"$f":"IFERROR(VLOOKUP(B76,List1!$A:$B,2,0),\"x\")","v":"x"},null,null,null,null,null,null,{"$f":"CONCATENATE(VLOOKUP(E76,[1]Seznamy!$Q$2:$R$36,2,0),VLOOKUP(F76,[1]Produkty!$I:$O,7,0),C76,D76)","v":{"$error":"#N/A"}},null,"CZ","Exkalibr","FRANKE Dřez ETN 610 455 x 435","Exkalibr_FRANKE Dřez ETN 610 455 x 435","https://www.exkalibr.cz/sinks-compact-435-v-0-5mm-matny_d34102.html",null,"SK","IW Trend","STRONG Rektifikační nožka 100 mm","IW Trend_STRONG Rektifikační nožka 100 mm","https://www.iwtrend.sk/p/3740/glt-soklova-noha-plastcierna-100-130mm",null,null,null,null,null,null,null,null,null,null,null,null,null,null,null,null,null,null,null,null,null,null,null,null,null,null,null,null,null,null,"'CZ_2020-10'!$A:$H","$A:$H","10911CZ44105","FRANKE Dřez BFG 611-78 780 x 500 onyx","Hafele","neuwirth","2020-10-01","Marcela Piechová",101.832224,"x","x","x","x"]
[{"$error":"#N/A"},null,{"$f":"IFERROR(VLOOKUP(B77,List1!$A:$B,2,0),\"x\")","v":"x"},null,null,null,null,null,null,{"$f":"CONCATENATE(VLOOKUP(E77,[1]Seznamy!$Q$2:$R$36,2,0),VLOOKUP(F77,[1]Produkty!$I:$O,7,0),C77,D77)","v":{"$error":"#N/A"}},null,"CZ","Exkalibr","FRANKE Dřez ETN 614 6/4 obyčejný ventil bez otvoru","Exkalibr_FRANKE Dřez ETN 614 6/4 obyčejný ventil bez otvoru","https://www.exkalibr.cz/sinks-okio-780-v-0-5mm-lesteny_d34258.html",null,"SK","IW Trend","STRONG závěs naložený, slide on","IW Trend_STRONG závěs naložený, slide on","https://www.iwtrend.sk/p/3751/glt-zaves-110-nalozeny-50g-bez-tlmenia",null,null,null,null,null,null,null,null,null,null,null,null,null,null,null,null,null,null,null,null,null,null,null,null,null,null,null,null,null,null,"'CZ_2020-10'!$A:$H","$A:$H","10912CZ44105","GOLLINUCCI Sorter Sistema 901/2x16 l, 600 mm","Hafele","neuwirth","2020-10-01","Marcela Piechová",15.70384192,"x","x","x","x"]
[{"$error":"#N/A"},null,{"$f":"IFERROR(VLOOKUP(B78,List1!$A:$B,2,0),\"x\")","v":"x"},null,null,null,null,null,null,{"$f":"CONCATENATE(VLOOKUP(E78,[1]Seznamy!$Q$2:$R$36,2,0),VLOOKUP(F78,[1]Produkty!$I:$O,7,0),C78,D78)","v":{"$error":"#N/A"}},null,"CZ","Exkalibr","GOLLINUCCI Sorter Linea 222, 300 mm","Exkalibr_GOLLINUCCI Sorter Linea 222, 300 mm","https://www.exkalibr.cz/sinks-patty-30-1x8l-1x16l_d8876.html",null,"SK","IW Trend","Alfa II profile 222788","IW Trend_Alfa II profile 222788","https://www.iwtrend.sk/p/3811/pa-madlo-trend-line-27m-strieborna",null,null,null,null,null,null,null,null,null,null,null,null,null,null,null,null,null,null,null,null,null,null,null,null,null,null,null,null,null,null,"'CZ_2020-10'!$A:$H","$A:$H","10913CZ44105","GOLLINUCCI Sorter 580 Plus Line, 600 mm, výška 505mm, 80 l, šedý","Hafele","neuwirth","2020-10-01","Marcela Piechová",68.555453200000002,"x","x","x","x"]
[{"$error":"#N/A"},null,{"$f":"IFERROR(VLOOKUP(B79,List1!$A:$B,2,0),\"x\")","v":"x"},null,null,null,null,null,null,{"$f":"CONCATENATE(VLOOKUP(E79,[1]Seznamy!$Q$2:$R$36,2,0),VLOOKUP(F79,[1]Produkty!$I:$O,7,0),C79,D79)","v":{"$error":"#N/A"}},null,"CZ","Exkalibr","GOLLINUCCI Sorter Sistema 901/2x16 l, 600 mm","Exkalibr_GOLLINUCCI Sorter Sistema 901/2x16 l, 600 mm","https://www.exkalibr.cz/sinks-practiko-600-2x15l_d8842.html",null,"SK","IW Trend","SEVROLL Era úchytová lišta 18mm 2,70m stříbrná","IW Trend_SEVROLL Era úchytová lišta 18mm 2,70m stříbrná","https://www.iwtrend.sk/p/3812/pa-madlo-modena-slim-27m-strieborna",null,null,null,null,null,null,null,null,null,null,null,null,null,null,null,null,null,null,null,null,null,null,null,null,null,null,null,null,null,null,"'CZ_2020-10'!$A:$H","$A:$H","10915CZ44105","GOLLINUCCI Sorter Linea 222, 300 mm","Hafele","neuwirth","2020-10-01","Marcela Piechová",25.28515496,"x","x","x","x"]
[{"$error":"#N/A"},null,{"$f":"IFERROR(VLOOKUP(B80,List1!$A:$B,2,0),\"x\")","v":"x"},null,null,null,null,null,null,{"$f":"CONCATENATE(VLOOKUP(E80,[1]Seznamy!$Q$2:$R$36,2,0),VLOOKUP(F80,[1]Produkty!$I:$O,7,0),C80,D80)","v":{"$error":"#N/A"}},null,"CZ","Exkalibr","FRANKE Dřez BFG 611-78 780 x 500 onyx","Exkalibr_FRANKE Dřez BFG 611-78 780 x 500 onyx","https://www.exkalibr.cz/solido-drez-rock-130-cerny-78-x-48-cm-pravolevy_d58733.html",null,"SK","IW Trend","FRANKE Dřez BFG 611-78 780 x 500 onyx","IW Trend_FRANKE Dřez BFG 611-78 780 x 500 onyx","https://www.iwtrend.sk/p/3877/teka-granitovy-drez-simpla-45-s-tg-nero-antracit",null,null,null,null,null,null,null,null,null,null,null,null,null,null,null,null,null,null,null,null,null,null,null,null,null,null,null,null,null,null,"'CZ_2020-10'!$A:$H","$A:$H","10917CZ44105","TULIP úchytka Piombina 96 nikl matný + šroubky","Hafele","neuwirth","2020-10-01","Lenka Kormaník",0.41656555200000001,"x","x","x","x"]
[{"$error":"#N/A"},null,{"$f":"IFERROR(VLOOKUP(B81,List1!$A:$B,2,0),\"x\")","v":"x"},null,null,null,null,null,null,{"$f":"CONCATENATE(VLOOKUP(E81,[1]Seznamy!$Q$2:$R$36,2,0),VLOOKUP(F81,[1]Produkty!$I:$O,7,0),C81,D81)","v":{"$error":"#N/A"}},null,"CZ","Exkalibr","Vrut PZ 4x18 zápustná hlava zinek bílý PZ2","Exkalibr_Vrut PZ 4x18 zápustná hlava zinek bílý PZ2","https://www.exkalibr.cz/spax-vrut-cockova-hl-zap-pz2-4-0x16-1000-ks-_d39053.html",null,"SK","IW Trend","GOLLINUCCI Sorter 580 Plus Line, 600 mm, výška 505mm, 80 l, šedý","IW Trend_GOLLINUCCI Sorter 580 Plus Line, 600 mm, výška 505mm, 80 l, šedý","https://www.iwtrend.sk/p/3939/odpadkovy-kos-2x24-l-vysuv-grass-s-tlmenim-m600",null,null,null,null,null,null,null,null,null,null,null,null,null,null,null,null,null,null,null,null,null,null,null,null,null,null,null,null,null,null,"'CZ_2020-10'!$A:$H","$A:$H","10918CZ44105","TULIP úchytka Anita 96 nikl matný + šroubky","Hafele","neuwirth","2020-10-01","Lenka Kormaník",0.26375996400000001,"x","x","x","x"]
[{"$error":"#N/A"},null,{"$f":"IFERROR(VLOOKUP(B82,List1!$A:$B,2,0),\"x\")","v":"x"},null,null,null,null,null,null,{"$f":"CONCATENATE(VLOOKUP(E82,[1]Seznamy!$Q$2:$R$36,2,0),VLOOKUP(F82,[1]Produkty!$I:$O,7,0),C82,D82)","v":{"$error":"#N/A"}},null,"CZ","Exkalibr","Alfa II profile 222788","Exkalibr_Alfa II profile 222788",0,null,"SK","IW Trend","StrongRide synchro 3D celovýsuv 500 mm s tlumením","IW Trend_StrongRide synchro 3D celovýsuv 500 mm s tlumením","https://www.iwtrend.sk/p/4196/gr-vysuv-dynamoov-500-mm30-kg-soft-close-draw",null,null,null,null,null,null,null,null,null,null,null,null,null,null,null,null,null,null,null,null,null,null,null,null,null,null,null,null,null,null,"'CZ_2020-10'!$A:$H","$A:$H","10926CZ44105","DTDL W980 ST2 Platinově bílá 2800/2070/18","Hafele","neuwirth","2020-10-01","Martin Karaščák",25.214852557439997,"x","x","x","x"]
[{"$error":"#N/A"},null,{"$f":"IFERROR(VLOOKUP(B83,List1!$A:$B,2,0),\"x\")","v":"x"},null,null,null,null,null,null,{"$f":"CONCATENATE(VLOOKUP(E83,[1]Seznamy!$Q$2:$R$36,2,0),VLOOKUP(F83,[1]Produkty!$I:$O,7,0),C83,D83)","v":{"$error":"#N/A"}},null,"CZ","Exkalibr","SEVROLL Era úchytová lišta 18mm 2,70m stříbrná","Exkalibr_SEVROLL Era úchytová lišta 18mm 2,70m stříbrná",0,null,"SK","IW Trend","StrongBox H86/500mm bílý","IW Trend_StrongBox H86/500mm bílý","https://www.iwtrend.sk/p/4340/gr-zas-dwd-xp-h9550040kg-soft-close-biela",null,null,null,null,null,null,null,null,null,null,null,null,null,null,null,null,null,null,null,null,null,null,null,null,null,null,null,null,null,null,"'CZ_2020-10'!$A:$H","$A:$H","10927CZ44105","DTDD DUB COMMERCIAL A/B DEC 2800/2070/19","Hafele","neuwirth","2020-10-01","Martin Karaščák",55.226676912160002,"x","x","x","x"]
[{"$error":"#N/A"},null,{"$f":"IFERROR(VLOOKUP(B84,List1!$A:$B,2,0),\"x\")","v":"x"},null,null,null,null,null,null,{"$f":"CONCATENATE(VLOOKUP(E84,[1]Seznamy!$Q$2:$R$36,2,0),VLOOKUP(F84,[1]Produkty!$I:$O,7,0),C84,D84)","v":{"$error":"#N/A"}},null,"CZ","Exkalibr","TULIP Gola dvířkový J profil 4,1m eloxovaný hliník","Exkalibr_TULIP Gola dvířkový J profil 4,1m eloxovaný hliník",0,null,"SK","IW Trend","StrongMax 89/500 mm šedý (antracit)","IW Trend_StrongMax 89/500 mm šedý (antracit)","https://www.iwtrend.sk/p/4551/gr-zas-npsc-h9050040kg-soft-close-kamen",null,null,null,null,null,null,null,null,null,null,null,null,null,null,null,null,null,null,null,null,null,null,null,null,null,null,null,null,null,null,"'CZ_2020-10'!$A:$H","$A:$H","10928CZ44105","DTDD Dub evr. radiál st A/B 2800/2070/19","Hafele","neuwirth","2020-10-01","Martin Karaščák",0,"x","x","x","x"]
[{"$error":"#N/A"},null,{"$f":"IFERROR(VLOOKUP(B85,List1!$A:$B,2,0),\"x\")","v":"x"},null,null,null,null,null,null,{"$f":"CONCATENATE(VLOOKUP(E85,[1]Seznamy!$Q$2:$R$36,2,0),VLOOKUP(F85,[1]Produkty!$I:$O,7,0),C85,D85)","v":{"$error":"#N/A"}},null,"CZ","Exkalibr","STRONG LED pásek 21,6W/m 24V bílá neutrální 210 LED/m","Exkalibr_STRONG LED pásek 21,6W/m 24V bílá neutrální 210 LED/m",0,null,"SK","IW Trend","STRONG plus závěs naložený s tlumením, s excentrem, klipový","IW Trend_STRONG plus závěs naložený s tlumením, s excentrem, klipový","https://www.iwtrend.sk/p/5428/gr-zaves-tiomos-impresso-110-nalozeny-tlmenie",null,null,null,null,null,null,null,null,null,null,null,null,null,null,null,null,null,null,null,null,null,null,null,null,null,null,null,null,null,null,"'CZ_2020-10'!$A:$H","$A:$H","10929CZ44105","ABSB HU10113 Bílá 101/110/113/8100/8685/W954/B3822 PE 22/2","Hafele","neuwirth","2020-10-01","Martin Karaščák",0.20190872000000001,"x","x","x","x"]
[{"$error":"#N/A"},null,{"$f":"IFERROR(VLOOKUP(B86,List1!$A:$B,2,0),\"x\")","v":"x"},null,null,null,null,null,null,{"$f":"CONCATENATE(VLOOKUP(E86,[1]Seznamy!$Q$2:$R$36,2,0),VLOOKUP(F86,[1]Produkty!$I:$O,7,0),C86,D86)","v":{"$error":"#N/A"}},null,"CZ","Exkalibr","STRONG transformátor plochý LED 24V 100W","Exkalibr_STRONG transformátor plochý LED 24V 100W",0,null,"SK","IW Trend","DTDD DUB COMMERCIAL A/B DEC 2800/2070/19","IW Trend_DTDD DUB COMMERCIAL A/B DEC 2800/2070/19","https://www.iwtrend.sk/p/5915/dtd-dub-19x2520x1810-natur-ab-brusena",null,null,null,null,null,null,null,null,null,null,null,null,null,null,null,null,null,null,null,null,null,null,null,null,null,null,null,null,null,null,"'CZ_2020-10'!$A:$H","$A:$H","10930CZ44105","ABSB 77039/414 W980/500/W954 ST2 23/2","Hafele","neuwirth","2020-10-01","Martin Karaščák",0,"x","x","x","x"]
[{"$error":"#N/A"},null,{"$f":"IFERROR(VLOOKUP(B87,List1!$A:$B,2,0),\"x\")","v":"x"},null,null,null,null,null,null,{"$f":"CONCATENATE(VLOOKUP(E87,[1]Seznamy!$Q$2:$R$36,2,0),VLOOKUP(F87,[1]Produkty!$I:$O,7,0),C87,D87)","v":{"$error":"#N/A"}},null,"CZ","Exkalibr","ABSB 77039/414 W980/500/W954 ST2 23/2","Exkalibr_ABSB 77039/414 W980/500/W954 ST2 23/2",0,null,"SK","IW Trend","DTDD Dub evr. radiál st A/B 2800/2070/19","IW Trend_DTDD Dub evr. radiál st A/B 2800/2070/19","https://www.iwtrend.sk/p/5915/dtd-dub-19x2520x1810-natur-ab-brusena",null,null,null,null,null,null,null,null,null,null,null,null,null,null,null,null,null,null,null,null,null,null,null,null,null,null,null,null,null,null,"'CZ_2020-10'!$A:$H","$A:$H","10931CZ44105","HDF LAK 101 BÍLÁ PE 2800/2070/3","Hafele","neuwirth","2020-10-01","Martin Karaščák",5.8424658364800006,"x","x","x","x"]
[{"$error":"#N/A"},null,{"$f":"IFERROR(VLOOKUP(B88,List1!$A:$B,2,0),\"x\")","v":"x"},null,null,null,null,null,null,{"$f":"CONCATENATE(VLOOKUP(E88,[1]Seznamy!$Q$2:$R$36,2,0),VLOOKUP(F88,[1]Produkty!$I:$O,7,0),C88,D88)","v":{"$error":"#N/A"}},null,"CZ","Exkalibr","ABSB HU10113 Bílá 101/110/113/8100/8685/W954/B3822 PE 22/2","Exkalibr_ABSB HU10113 Bílá 101/110/113/8100/8685/W954/B3822 PE 22/2",0,null,"SK","IW Trend","HDF LAK 101 BÍLÁ PE 2800/2070/3","IW Trend_HDF LAK 101 BÍLÁ PE 2800/2070/3","https://www.iwtrend.sk/p/6033/skhdf-kronospan",null,null,null,null,null,null,null,null,null,null,null,null,null,null,null,null,null,null,null,null,null,null,null,null,null,null,null,null,null,null,"'CZ_2020-10'!$A:$H","$A:$H","10934CZ44105","Strong electric socket, lift","Hafele","neuwirth","2020-10-01","NULL",12.923845868960001,"x","x","x","x"]
[{"$error":"#N/A"},null,{"$f":"IFERROR(VLOOKUP(B89,List1!$A:$B,2,0),\"x\")","v":"x"},null,null,null,null,null,null,{"$f":"CONCATENATE(VLOOKUP(E89,[1]Seznamy!$Q$2:$R$36,2,0),VLOOKUP(F89,[1]Produkty!$I:$O,7,0),C89,D89)","v":{"$error":"#N/A"}},null,"CZ","Exkalibr","BBP OA Zásuvka 515 mm kovová černá","Exkalibr_BBP OA Zásuvka 515 mm kovová černá",0,null,"SK","Jaf Holz","TULIP Gola dvířkový J profil 4,1m eloxovaný hliník","Jaf Holz_TULIP Gola dvířkový J profil 4,1m eloxovaný hliník","https://www.jafholz.sk/shop/Kovanie/Nabytkove-uchytky--vesiaky/Uchytkove-listy/hafele-12637006--hlinikovy-profil-zapustene-uchytky--5000-mm--elox-nerez~p4824789?category=2706942",null,null,null,null,null,null,null,null,null,null,null,null,null,null,null,null,null,null,null,null,null,null,null,null,null,null,null,null,null,null,"'CZ_2020-10'!$A:$H","$A:$H","10935CZ44105","STRONG Elektricky stavitelná podnož černá RAL 9005 mat","Hafele","neuwirth","2020-10-01","NULL",110.69330687999999,"x","x","x","x"]
[{"$error":"#N/A"},null,{"$f":"IFERROR(VLOOKUP(B90,List1!$A:$B,2,0),\"x\")","v":"x"},null,null,null,null,null,null,{"$f":"CONCATENATE(VLOOKUP(E90,[1]Seznamy!$Q$2:$R$36,2,0),VLOOKUP(F90,[1]Produkty!$I:$O,7,0),C90,D90)","v":{"$error":"#N/A"}},null,"CZ","Exkalibr","DTDD DUB COMMERCIAL A/B DEC 2800/2070/19","Exkalibr_DTDD DUB COMMERCIAL A/B DEC 2800/2070/19",0,null,"SK","Hafele","STRONG Rektifikační nožka 100 mm","Hafele_STRONG Rektifikační nožka 100 mm","https://www.jafholz.sk/shop/Kovanie/Stolove-kovanie--stolove-podnozie--nabytkove-nohy--kolieska/Nastavenie-sokla/hafele-63745326--plastova-soklova-noha-na-priskrutkovanie--vyska-100-mm--cierna~p985661?category=1821303",null,null,null,null,null,null,null,null,null,null,null,null,null,null,null,null,null,null,null,null,null,null,null,null,null,null,null,null,null,null,"'CZ_2020-10'!$A:$H","$A:$H","1021CZ44105","STRONG plus závěs naložený s tlumením, s excentrem, klipový","Hranipex","neuwirth","2020-10-01","Martin Zniszczol",0.27061111999999998,"x","x","x","x"]
[{"$error":"#N/A"},null,{"$f":"IFERROR(VLOOKUP(B91,List1!$A:$B,2,0),\"x\")","v":"x"},null,null,null,null,null,null,{"$f":"CONCATENATE(VLOOKUP(E91,[1]Seznamy!$Q$2:$R$36,2,0),VLOOKUP(F91,[1]Produkty!$I:$O,7,0),C91,D91)","v":{"$error":"#N/A"}},null,"CZ","Exkalibr","DTDD Dub evr. radiál st A/B 2800/2070/19","Exkalibr_DTDD Dub evr. radiál st A/B 2800/2070/19",0,null,"SK","Jaf Holz","STRONG Rektifikační nožka 100 mm","Jaf Holz_STRONG Rektifikační nožka 100 mm","https://www.jafholz.sk/shop/Kovanie/Stolove-kovanie--stolove-podnozie--nabytkove-nohy--kolieska/Nastavenie-sokla/hafele-63745326--plastova-soklova-noha-na-priskrutkovanie--vyska-100-mm--cierna~p985661?category=1821303",null,null,null,null,null,null,null,null,null,null,null,null,null,null,null,null,null,null,null,null,null,null,null,null,null,null,null,null,null,null,"'CZ_2020-10'!$A:$H","$A:$H","1022CZ44105","STRONG závěs naložený, slide on","Hranipex","neuwirth","2020-10-01","Martin Zniszczol",0.11145056,"x","x","x","x"]
[{"$error":"#N/A"},null,{"$f":"IFERROR(VLOOKUP(B92,List1!$A:$B,2,0),\"x\")","v":"x"},null,null,null,null,null,null,{"$f":"CONCATENATE(VLOOKUP(E92,[1]Seznamy!$Q$2:$R$36,2,0),VLOOKUP(F92,[1]Produkty!$I:$O,7,0),C92,D92)","v":{"$error":"#N/A"}},null,"CZ","Exkalibr","DTDL W980 ST2 Platinově bílá 2800/2070/18","Exkalibr_DTDL W980 ST2 Platinově bílá 2800/2070/18",0,null,"SK","Hafele","StrongBox H86/500mm bílý","Hafele_StrongBox H86/500mm bílý","https://www.jafholz.sk/shop/Kovanie/Zasuvkove-systemy--vysuvy-pre-skrine/Box-systemy/hafele-55256795--vysuv-matrix-box-s35--84x500-mm--biela--set~p5480107",null,null,null,null,null,null,null,null,null,null,null,null,null,null,null,null,null,null,null,null,null,null,null,null,null,null,null,null,null,null,"'CZ_2020-10'!$A:$H","$A:$H","1023CZ44105","StrongBox H86/500mm bílý","Hranipex","neuwirth","2020-10-01","Martin Zniszczol",7.0057364000000009,"x","x","x","x"]
[{"$error":"#N/A"},null,{"$f":"IFERROR(VLOOKUP(B93,List1!$A:$B,2,0),\"x\")","v":"x"},null,null,null,null,null,null,{"$f":"CONCATENATE(VLOOKUP(E93,[1]Seznamy!$Q$2:$R$36,2,0),VLOOKUP(F93,[1]Produkty!$I:$O,7,0),C93,D93)","v":{"$error":"#N/A"}},null,"CZ","Exkalibr","GOLLINUCCI Sorter 580 Plus Line, 600 mm, výška 505mm, 80 l, šedý","Exkalibr_GOLLINUCCI Sorter 580 Plus Line, 600 mm, výška 505mm, 80 l, šedý",0,null,"SK","Jaf Holz","StrongBox H86/500mm bílý","Jaf Holz_StrongBox H86/500mm bílý","https://www.jafholz.sk/shop/Kovanie/Zasuvkove-systemy--vysuvy-pre-skrine/Box-systemy/hafele-55256795--vysuv-matrix-box-s35--84x500-mm--biela--set~p5480107",null,null,null,null,null,null,null,null,null,null,null,null,null,null,null,null,null,null,null,null,null,null,null,null,null,null,null,null,null,null,"'CZ_2020-10'!$A:$H","$A:$H","1024CZ44105","StrongMax 89/500 mm šedý (antracit)","Hranipex","neuwirth","2020-10-01","Martin Zniszczol",9.1003962400000002,"x","x","x","x"]
[{"$error":"#N/A"},null,{"$f":"IFERROR(VLOOKUP(B94,List1!$A:$B,2,0),\"x\")","v":"x"},null,null,null,null,null,null,{"$f":"CONCATENATE(VLOOKUP(E94,[1]Seznamy!$Q$2:$R$36,2,0),VLOOKUP(F94,[1]Produkty!$I:$O,7,0),C94,D94)","v":{"$error":"#N/A"}},null,"CZ","Exkalibr","HDF LAK 101 BÍLÁ PE 2800/2070/3","Exkalibr_HDF LAK 101 BÍLÁ PE 2800/2070/3",0,null,"SK","Hafele","StrongMax 89/500 mm šedý (antracit)","Hafele_StrongMax 89/500 mm šedý (antracit)","https://www.jafholz.sk/shop/Kovanie/Zasuvkove-systemy--vysuvy-pre-skrine/hafele-55221755--sada-zasuvky-matrix-box-slim-a30--vyska-bocnice-89-mm--nosnost-30-kg--menovita-dlzka--500-mm--s-mechanizmom-tlmeneho-dotahu--biela~p8499197?brandName=H%C3%A4fele&category=1821286",null,null,null,null,null,null,null,null,null,null,null,null,null,null,null,null,null,null,null,null,null,null,null,null,null,null,null,null,null,null,"'CZ_2020-10'!$A:$H","$A:$H","1025CZ44105","StrongRide synchro 3D celovýsuv 500 mm s tlumením","Hranipex","neuwirth","2020-10-01","Martin Zniszczol",5.1412296,"x","x","x","x"]
[{"$error":"#N/A"},null,{"$f":"IFERROR(VLOOKUP(B95,List1!$A:$B,2,0),\"x\")","v":"x"},null,null,null,null,null,null,{"$f":"CONCATENATE(VLOOKUP(E95,[1]Seznamy!$Q$2:$R$36,2,0),VLOOKUP(F95,[1]Produkty!$I:$O,7,0),C95,D95)","v":{"$error":"#N/A"}},null,"CZ","Exkalibr","Konfirmát 7/50 zinek bílý bulk","Exkalibr_Konfirmát 7/50 zinek bílý bulk",0,null,"SK","Jaf Holz","StrongMax 89/500 mm šedý (antracit)","Jaf Holz_StrongMax 89/500 mm šedý (antracit)","https://www.jafholz.sk/shop/Kovanie/Zasuvkove-systemy--vysuvy-pre-skrine/hafele-55221755--sada-zasuvky-matrix-box-slim-a30--vyska-bocnice-89-mm--nosnost-30-kg--menovita-dlzka--500-mm--s-mechanizmom-tlmeneho-dotahu--biela~p8499197?brandName=H%C3%A4fele&category=1821286",null,null,null,null,null,null,null,null,null,null,null,null,null,null,null,null,null,null,null,null,null,null,null,null,null,null,null,null,null,null,"'CZ_2020-10'!$A:$H","$A:$H","1026CZ44105","STRONG Rektifikační nožka 100 mm","Hranipex","neuwirth","2020-10-01","Lukáš Sládek",9.5496335999999987E-2,"x","x","x","x"]
[{"$error":"#N/A"},null,{"$f":"IFERROR(VLOOKUP(B96,List1!$A:$B,2,0),\"x\")","v":"x"},null,null,null,null,null,null,{"$f":"CONCATENATE(VLOOKUP(E96,[1]Seznamy!$Q$2:$R$36,2,0),VLOOKUP(F96,[1]Produkty!$I:$O,7,0),C96,D96)","v":{"$error":"#N/A"}},null,"CZ","Exkalibr","Strong electric socket, lift","Exkalibr_Strong electric socket, lift",0,null,"SK","Hafele","StrongRide synchro 3D celovýsuv 500 mm s tlumením","Hafele_StrongRide synchro 3D celovýsuv 500 mm s tlumením","https://www.jafholz.sk/shop/Kovanie/Zasuvkove-systemy--vysuvy-pre-skrine/Nabytkove-vysuvy/hafele-43310153--zasuvkove-systemy--skryte-vysuvy-s-tlmenim--pre-montaz-na-plochu--nosnost-30-kg--dlzka-500-mm~p1558408?brandName=H%C3%A4fele&category=1821286",null,null,null,null,null,null,null,null,null,null,null,null,null,null,null,null,null,null,null,null,null,null,null,null,null,null,null,null,null,null,"'CZ_2020-10'!$A:$H","$A:$H","1027CZ44105","STRONG Stolová noha centrální 450x450 černá","Hranipex","neuwirth","2020-10-01","Lukáš Sládek",33.67505388,"x","x","x","x"]
[{"$error":"#N/A"},null,{"$f":"IFERROR(VLOOKUP(B97,List1!$A:$B,2,0),\"x\")","v":"x"},null,null,null,null,null,null,{"$f":"CONCATENATE(VLOOKUP(E97,[1]Seznamy!$Q$2:$R$36,2,0),VLOOKUP(F97,[1]Produkty!$I:$O,7,0),C97,D97)","v":{"$error":"#N/A"}},null,"CZ","Exkalibr","STRONG plus závěs naložený s tlumením, s excentrem, klipový","Exkalibr_STRONG plus závěs naložený s tlumením, s excentrem, klipový",0,null,"SK","Jaf Holz","StrongRide synchro 3D celovýsuv 500 mm s tlumením","Jaf Holz_StrongRide synchro 3D celovýsuv 500 mm s tlumením","https://www.jafholz.sk/shop/Kovanie/Zasuvkove-systemy--vysuvy-pre-skrine/Nabytkove-vysuvy/hafele-43310153--zasuvkove-systemy--skryte-vysuvy-s-tlmenim--pre-montaz-na-plochu--nosnost-30-kg--dlzka-500-mm~p1558408?brandName=H%C3%A4fele&category=1821286",null,null,null,null,null,null,null,null,null,null,null,null,null,null,null,null,null,null,null,null,null,null,null,null,null,null,null,null,null,null,"'CZ_2020-10'!$A:$H","$A:$H","1028CZ44105","STRONG Elektrická zásuvka 3x230V, francouzský typ, 265x130x68 mm stříbrná","Hranipex","neuwirth","2020-10-01","Lukáš Sládek",12.88628016,"x","x","x","x"]
[{"$error":"#N/A"},null,{"$f":"IFERROR(VLOOKUP(B98,List1!$A:$B,2,0),\"x\")","v":"x"},null,null,null,null,null,null,{"$f":"CONCATENATE(VLOOKUP(E98,[1]Seznamy!$Q$2:$R$36,2,0),VLOOKUP(F98,[1]Produkty!$I:$O,7,0),C98,D98)","v":{"$error":"#N/A"}},null,"CZ","Exkalibr","STRONG Rektifikační nožka 100 mm","Exkalibr_STRONG Rektifikační nožka 100 mm",0,null,"SK","Hafele","STRONG plus závěs naložený s tlumením, s excentrem, klipový","Hafele_STRONG plus závěs naložený s tlumením, s excentrem, klipový","https://www.jafholz.sk/shop/Kovanie/Zavesy-nabytkove--specialne/Miskove-zavesy/hafele-31160505--nabytkovy-zaves-pre-drevene-dvere---metalla-sm-kombi-110deg-nalozeny--na-klip--s-tlmenim--459-5-mm~p985986?brandName=H%C3%A4fele&category=1821264",null,null,null,null,null,null,null,null,null,null,null,null,null,null,null,null,null,null,null,null,null,null,null,null,null,null,null,null,null,null,"'CZ_2020-10'!$A:$H","$A:$H","1029CZ44105","BBP OA Zásuvka 515 mm kovová černá","Hranipex","neuwirth","2020-10-01","Lukáš Sládek",4.7811832224000002,"x","x","x","x"]
[{"$error":"#N/A"},null,{"$f":"IFERROR(VLOOKUP(B99,List1!$A:$B,2,0),\"x\")","v":"x"},null,null,null,null,null,null,{"$f":"CONCATENATE(VLOOKUP(E99,[1]Seznamy!$Q$2:$R$36,2,0),VLOOKUP(F99,[1]Produkty!$I:$O,7,0),C99,D99)","v":{"$error":"#N/A"}},null,"CZ","Exkalibr","STRONG Stolová noha centrální 450x450 černá","Exkalibr_STRONG Stolová noha centrální 450x450 černá",0,null,"SK","Jaf Holz","STRONG plus závěs naložený s tlumením, s excentrem, klipový","Jaf Holz_STRONG plus závěs naložený s tlumením, s excentrem, klipový","https://www.jafholz.sk/shop/Kovanie/Zavesy-nabytkove--specialne/Miskove-zavesy/hafele-31160505--nabytkovy-zaves-pre-drevene-dvere---metalla-sm-kombi-110deg-nalozeny--na-klip--s-tlmenim--459-5-mm~p985986?category=2707242&page=3",null,null,null,null,null,null,null,null,null,null,null,null,null,null,null,null,null,null,null,null,null,null,null,null,null,null,null,null,null,null,"'CZ_2020-10'!$A:$H","$A:$H","10210CZ44105","FRANKE Dřez ETN 614 6/4 obyčejný ventil bez otvoru","Hranipex","neuwirth","2020-10-01","Marcela Piechová",20.916063999999999,"x","x","x","x"]
[{"$error":"#N/A"},null,{"$f":"IFERROR(VLOOKUP(B100,List1!$A:$B,2,0),\"x\")","v":"x"},null,null,null,null,null,null,{"$f":"CONCATENATE(VLOOKUP(E100,[1]Seznamy!$Q$2:$R$36,2,0),VLOOKUP(F100,[1]Produkty!$I:$O,7,0),C100,D100)","v":{"$error":"#N/A"}},null,"CZ","Exkalibr","STRONG závěs naložený, slide on","Exkalibr_STRONG závěs naložený, slide on",0,null,"SK","Hafele","STRONG závěs naložený, slide on","Hafele_STRONG závěs naložený, slide on","https://www.jafholz.sk/shop/Kovanie/Zavesy-nabytkove--specialne/Miskove-zavesy/hafele-31190500--nabytkovy-zaves-pre-drevene-dvere---metalla-a-110deg-nalozeny--k-nasunutiu--bez-tlmenia--486-mm~p986022?brandName=H%C3%A4fele&category=1821264",null,null,null,null,null,null,null,null,null,null,null,null,null,null,null,null,null,null,null,null,null,null,null,null,null,null,null,null,null,null,"'CZ_2020-10'!$A:$H","$A:$H","10211CZ44105","FRANKE Dřez BFG 611-78 780 x 500 onyx","Hranipex","neuwirth","2020-10-01","Marcela Piechová",101.832224,"x","x","x","x"]
[{"$error":"#N/A"},null,{"$f":"IFERROR(VLOOKUP(B101,List1!$A:$B,2,0),\"x\")","v":"x"},null,null,null,null,null,null,{"$f":"CONCATENATE(VLOOKUP(E101,[1]Seznamy!$Q$2:$R$36,2,0),VLOOKUP(F101,[1]Produkty!$I:$O,7,0),C101,D101)","v":{"$error":"#N/A"}},null,"CZ","Exkalibr","StrongBox H86/500mm bílý","Exkalibr_StrongBox H86/500mm bílý",0,null,"SK","Jaf Holz","STRONG závěs naložený, slide on","Jaf Holz_STRONG závěs naložený, slide on","https://www.jafholz.sk/shop/Kovanie/Zavesy-nabytkove--specialne/Miskove-zavesy/hafele-31190500--nabytkovy-zaves-pre-drevene-dvere---metalla-a-110deg-nalozeny--k-nasunutiu--bez-tlmenia--486-mm~p986022?brandName=H%C3%A4fele&category=1821264",null,null,null,null,null,null,null,null,null,null,null,null,null,null,null,null,null,null,null,null,null,null,null,null,null,null,null,null,null,null,"'CZ_2020-10'!$A:$H","$A:$H","10212CZ44105","GOLLINUCCI Sorter Sistema 901/2x16 l, 600 mm","Hranipex","neuwirth","2020-10-01","Marcela Piechová",15.70384192,"x","x","x","x"]
[{"$error":"#N/A"},null,{"$f":"IFERROR(VLOOKUP(B102,List1!$A:$B,2,0),\"x\")","v":"x"},null,null,null,null,null,null,{"$f":"CONCATENATE(VLOOKUP(E102,[1]Seznamy!$Q$2:$R$36,2,0),VLOOKUP(F102,[1]Produkty!$I:$O,7,0),C102,D102)","v":{"$error":"#N/A"}},null,"CZ","Exkalibr","StrongMax 89/500 mm šedý (antracit)","Exkalibr_StrongMax 89/500 mm šedý (antracit)",0,null,"SK","Jaf Holz","DTDD DUB COMMERCIAL A/B DEC 2800/2070/19","Jaf Holz_DTDD DUB COMMERCIAL A/B DEC 2800/2070/19","https://www.jafholz.sk/shop/Materialy-s-dekorativnym-povrchom/Dyhovane-dosky/Dyhovane-dosky/dtd-dyhovana--trend-natur--dub-natur-basic~p122530?q=DTD+dyhovan%C3%A1+%2F+TREND+NATUR+%2F+Dub+natur+BASIC",null,null,null,null,null,null,null,null,null,null,null,null,null,null,null,null,null,null,null,null,null,null,null,null,null,null,null,null,null,null,"'CZ_2020-10'!$A:$H","$A:$H","10213CZ44105","GOLLINUCCI Sorter 580 Plus Line, 600 mm, výška 505mm, 80 l, šedý","Hranipex","neuwirth","2020-10-01","Marcela Piechová",68.555453200000002,"x","x","x","x"]
[{"$error":"#N/A"},null,{"$f":"IFERROR(VLOOKUP(B103,List1!$A:$B,2,0),\"x\")","v":"x"},null,null,null,null,null,null,{"$f":"CONCATENATE(VLOOKUP(E103,[1]Seznamy!$Q$2:$R$36,2,0),VLOOKUP(F103,[1]Produkty!$I:$O,7,0),C103,D103)","v":{"$error":"#N/A"}},null,"CZ","Exkalibr","StrongRide synchro 3D celovýsuv 500 mm s tlumením","Exkalibr_StrongRide synchro 3D celovýsuv 500 mm s tlumením",0,null,"SK","Jaf Holz","DTDD Dub evr. radiál st A/B 2800/2070/19","Jaf Holz_DTDD Dub evr. radiál st A/B 2800/2070/19","https://www.jafholz.sk/shop/Materialy-s-dekorativnym-povrchom/Dyhovane-dosky/Dyhovane-dosky/dtd-dyhovana--trend-natur--dub-natur-basic~p122530?q=DTD+dyhovan%C3%A1+%2F+TREND+NATUR+%2F+Dub+natur+BASIC",null,null,null,null,null,null,null,null,null,null,null,null,null,null,null,null,null,null,null,null,null,null,null,null,null,null,null,null,null,null,"'CZ_2020-10'!$A:$H","$A:$H","10214CZ44105","FRANKE Dřez ETN 610 455 x 435","Hranipex","neuwirth","2020-10-01","Marcela Piechová",23.091640000000002,"x","x","x","x"]
[{"$error":"#N/A"},null,{"$f":"IFERROR(VLOOKUP(B104,List1!$A:$B,2,0),\"x\")","v":"x"},null,null,null,null,null,null,{"$f":"CONCATENATE(VLOOKUP(E104,[1]Seznamy!$Q$2:$R$36,2,0),VLOOKUP(F104,[1]Produkty!$I:$O,7,0),C104,D104)","v":{"$error":"#N/A"}},null,"CZ","Exkalibr","TULIP úchytka Anita 96 nikl matný + šroubky","Exkalibr_TULIP úchytka Anita 96 nikl matný + šroubky",0,null,"SK","Jaf Holz","HDF LAK 101 BÍLÁ PE 2800/2070/3","Jaf Holz_HDF LAK 101 BÍLÁ PE 2800/2070/3","https://www.jafholz.sk/shop/Materialy-s-dekorativnym-povrchom/HDF-lakovane-dosky/hdf-jednostranne-lakovana-0101-pe-biela~p7243674?length=2800&q=hdf",null,null,null,null,null,null,null,null,null,null,null,null,null,null,null,null,null,null,null,null,null,null,null,null,null,null,null,null,null,null,"'CZ_2020-10'!$A:$H","$A:$H","10215CZ44105","GOLLINUCCI Sorter Linea 222, 300 mm","Hranipex","neuwirth","2020-10-01","Marcela Piechová",25.28515496,"x","x","x","x"]
[{"$error":"#N/A"},null,{"$f":"IFERROR(VLOOKUP(B105,List1!$A:$B,2,0),\"x\")","v":"x"},null,null,null,null,null,null,{"$f":"CONCATENATE(VLOOKUP(E105,[1]Seznamy!$Q$2:$R$36,2,0),VLOOKUP(F105,[1]Produkty!$I:$O,7,0),C105,D105)","v":{"$error":"#N/A"}},null,"CZ","Exkalibr","TULIP Úchytka Lucata 160 černá matná","Exkalibr_TULIP Úchytka Lucata 160 černá matná",0,null,"SK","Jaf Holz","ABSB 77039/414 W980/500/W954 ST2 23/2","Jaf Holz_ABSB 77039/414 W980/500/W954 ST2 23/2","https://www.jafholz.sk/shop/Materialy-s-dekorativnym-povrchom/Hrany/abs-hrana-101-113-500--po-biela-gravir~p2377348?q=500",null,null,null,null,null,null,null,null,null,null,null,null,null,null,null,null,null,null,null,null,null,null,null,null,null,null,null,null,null,null,"'CZ_2020-10'!$A:$H","$A:$H","10216CZ44105","TULIP úchytka Nakana 128 chrom matný + šroubky","Hranipex","neuwirth","2020-10-01","Lenka Kormaník",0.75916152000000003,"x","x","x","x"]
[{"$error":"#N/A"},null,{"$f":"IFERROR(VLOOKUP(B106,List1!$A:$B,2,0),\"x\")","v":"x"},null,null,null,null,null,null,{"$f":"CONCATENATE(VLOOKUP(E106,[1]Seznamy!$Q$2:$R$36,2,0),VLOOKUP(F106,[1]Produkty!$I:$O,7,0),C106,D106)","v":{"$error":"#N/A"}},null,"CZ","Exkalibr","TULIP úchytka Nakana 128 chrom matný + šroubky","Exkalibr_TULIP úchytka Nakana 128 chrom matný + šroubky",0,null,"SK","Jaf Holz","ABSB HU10113 Bílá 101/110/113/8100/8685/W954/B3822 PE 22/2","Jaf Holz_ABSB HU10113 Bílá 101/110/113/8100/8685/W954/B3822 PE 22/2","https://www.jafholz.sk/shop/Materialy-s-dekorativnym-povrchom/Hrany/abs-hrana-101-113-500--po-biela-gravir~p2377348?q=500",null,null,null,null,null,null,null,null,null,null,null,null,null,null,null,null,null,null,null,null,null,null,null,null,null,null,null,null,null,null,"'CZ_2020-10'!$A:$H","$A:$H","10217CZ44105","TULIP úchytka Piombina 96 nikl matný + šroubky","Hranipex","neuwirth","2020-10-01","Lenka Kormaník",0.41656555200000001,"x","x","x","x"]
[{"$error":"#N/A"},null,{"$f":"IFERROR(VLOOKUP(B107,List1!$A:$B,2,0),\"x\")","v":"x"},null,null,null,null,null,null,{"$f":"CONCATENATE(VLOOKUP(E107,[1]Seznamy!$Q$2:$R$36,2,0),VLOOKUP(F107,[1]Produkty!$I:$O,7,0),C107,D107)","v":{"$error":"#N/A"}},null,"CZ","Exkalibr","TULIP úchytka Piombina 96 nikl matný + šroubky","Exkalibr_TULIP úchytka Piombina 96 nikl matný + šroubky",0,null,"SK","Jaf Holz","DTDL W980 ST2 Platinově bílá 2800/2070/18","Jaf Holz_DTDL W980 ST2 Platinově bílá 2800/2070/18","https://www.jafholz.sk/shop/Materialy-s-dekorativnym-povrchom/Lamino-dosky-DTDL/lamino-dtdl-egger-w980-st2-platinova-biela~p2204412?q=w980",null,null,null,null,null,null,null,null,null,null,null,null,null,null,null,null,null,null,null,null,null,null,null,null,null,null,null,null,null,null,"'CZ_2020-10'!$A:$H","$A:$H","10218CZ44105","TULIP úchytka Anita 96 nikl matný + šroubky","Hranipex","neuwirth","2020-10-01","Lenka Kormaník",0.26375996400000001,"x","x","x","x"]
[{"$error":"#N/A"},null,{"$f":"IFERROR(VLOOKUP(B108,List1!$A:$B,2,0),\"x\")","v":"x"},null,null,null,null,null,null,{"$f":"CONCATENATE(VLOOKUP(E108,[1]Seznamy!$Q$2:$R$36,2,0),VLOOKUP(F108,[1]Produkty!$I:$O,7,0),C108,D108)","v":{"$error":"#N/A"}},null,"CZ","Exkalibr","TULIP Úchytka Ramara 596 imitace nerezi","Exkalibr_TULIP Úchytka Ramara 596 imitace nerezi",0,null,"SK","Lunit","ABSB 77039/414 W980/500/W954 ST2 23/2","Lunit_ABSB 77039/414 W980/500/W954 ST2 23/2","https://www.lunit.sk/detail/abs-glt-8100sm-biela-hladka-22x20mmsb345smks6459sm",null,null,null,null,null,null,null,null,null,null,null,null,null,null,null,null,null,null,null,null,null,null,null,null,null,null,null,null,null,null,"'CZ_2020-10'!$A:$H","$A:$H","10219CZ44105","TULIP věšák Lugo XL chrom matný + šroubky","Hranipex","neuwirth","2020-10-01","Lenka Kormaník",0.71147060399999995,"x","x","x","x"]
[{"$error":"#N/A"},null,{"$f":"IFERROR(VLOOKUP(B109,List1!$A:$B,2,0),\"x\")","v":"x"},null,null,null,null,null,null,{"$f":"CONCATENATE(VLOOKUP(E109,[1]Seznamy!$Q$2:$R$36,2,0),VLOOKUP(F109,[1]Produkty!$I:$O,7,0),C109,D109)","v":{"$error":"#N/A"}},null,"CZ","Exkalibr","TULIP věšák Lugo XL chrom matný + šroubky","Exkalibr_TULIP věšák Lugo XL chrom matný + šroubky",0,null,"SK","Lunit","ABSB HU10113 Bílá 101/110/113/8100/8685/W954/B3822 PE 22/2","Lunit_ABSB HU10113 Bílá 101/110/113/8100/8685/W954/B3822 PE 22/2","https://www.lunit.sk/detail/abs-glt-8100sm-biela-hladka-22x20mmsb345smks6459sm",null,null,null,null,null,null,null,null,null,null,null,null,null,null,null,null,null,null,null,null,null,null,null,null,null,null,null,null,null,null,"'CZ_2020-10'!$A:$H","$A:$H","10220CZ44105","TULIP Úchytka Ramara 596 imitace nerezi","Hranipex","neuwirth","2020-10-01","Lenka Kormaník",3.3996810120000003,"x","x","x","x"]
[{"$error":"#N/A"},null,{"$f":"IFERROR(VLOOKUP(B110,List1!$A:$B,2,0),\"x\")","v":"x"},null,null,null,null,null,null,{"$f":"CONCATENATE(VLOOKUP(E110,[1]Seznamy!$Q$2:$R$36,2,0),VLOOKUP(F110,[1]Produkty!$I:$O,7,0),C110,D110)","v":{"$error":"#N/A"}},null,"CZ","GTV","StrongMax 89/500 mm šedý (antracit)","GTV_StrongMax 89/500 mm šedý (antracit)","http://www.gtv.cz/axis-pro-450-mm-nizky-h-86-barva-antracit/",null,"SK","Lunit","TULIP Úchytka Lucata 160 černá matná","Lunit_TULIP Úchytka Lucata 160 černá matná","https://www.lunit.sk/detail/c-4909a-158-p61-uchytka-vera-cierna-128158-mm",null,null,null,null,null,null,null,null,null,null,null,null,null,null,null,null,null,null,null,null,null,null,null,null,null,null,null,null,null,null,"'CZ_2020-10'!$A:$H","$A:$H","10221CZ44105","TULIP Úchytka Lucata 160 černá matná","Hranipex","neuwirth","2020-10-01","Lenka Kormaník",0.771814212,"x","x","x","x"]
[{"$error":"#N/A"},null,{"$f":"IFERROR(VLOOKUP(B111,List1!$A:$B,2,0),\"x\")","v":"x"},null,null,null,null,null,null,{"$f":"CONCATENATE(VLOOKUP(E111,[1]Seznamy!$Q$2:$R$36,2,0),VLOOKUP(F111,[1]Produkty!$I:$O,7,0),C111,D111)","v":{"$error":"#N/A"}},null,"CZ","GTV","StrongBox H86/500mm bílý","GTV_StrongBox H86/500mm bílý","http://www.gtv.cz/modern-box-nizky-bily-pb-d-kpl400a1/",null,"SK","Lunit","FRANKE Dřez ETN 614 6/4 obyčejný ventil bez otvoru","Lunit_FRANKE Dřez ETN 614 6/4 obyčejný ventil bez otvoru","https://www.lunit.sk/detail/drez-basic-150-435x780-mm-64-ventil-nerez",null,null,null,null,null,null,null,null,null,null,null,null,null,null,null,null,null,null,null,null,null,null,null,null,null,null,null,null,null,null,"'CZ_2020-10'!$A:$H","$A:$H","10222CZ44105","STRONG LED pásek 21,6W/m 24V bílá neutrální 210 LED/m","Hranipex","neuwirth","2020-10-01","Stančo Denčev",3.2118372000000002,"x","x","x","x"]
[{"$error":"#N/A"},null,{"$f":"IFERROR(VLOOKUP(B112,List1!$A:$B,2,0),\"x\")","v":"x"},null,null,null,null,null,null,{"$f":"CONCATENATE(VLOOKUP(E112,[1]Seznamy!$Q$2:$R$36,2,0),VLOOKUP(F112,[1]Produkty!$I:$O,7,0),C112,D112)","v":{"$error":"#N/A"}},null,"CZ","GTV","GOLLINUCCI Sorter Sistema 901/2x16 l, 600 mm","GTV_GOLLINUCCI Sorter Sistema 901/2x16 l, 600 mm","http://www.gtv.cz/multino-odpadkovy-kos-do-skrinky-600mm--2-x-15l-2-miska/",null,"SK","Lunit","FRANKE Dřez BFG 611-78 780 x 500 onyx","Lunit_FRANKE Dřez BFG 611-78 780 x 500 onyx","https://www.lunit.sk/detail/drez-simpla-45-s-tg-500x780-mm-cierna-09",null,null,null,null,null,null,null,null,null,null,null,null,null,null,null,null,null,null,null,null,null,null,null,null,null,null,null,null,null,null,"'CZ_2020-10'!$A:$H","$A:$H","10223CZ44105","STRONG transformátor plochý LED 24V 100W","Hranipex","neuwirth","2020-10-01","Stančo Denčev",16.197148434480003,"x","x","x","x"]
[{"$error":"#N/A"},null,{"$f":"IFERROR(VLOOKUP(B113,List1!$A:$B,2,0),\"x\")","v":"x"},null,null,null,null,null,null,{"$f":"CONCATENATE(VLOOKUP(E113,[1]Seznamy!$Q$2:$R$36,2,0),VLOOKUP(F113,[1]Produkty!$I:$O,7,0),C113,D113)","v":{"$error":"#N/A"}},null,"CZ","GTV","GOLLINUCCI Sorter Linea 222, 300 mm","GTV_GOLLINUCCI Sorter Linea 222, 300 mm","http://www.gtv.cz/odpadkovy-kos-na-vysuvu-s-tlumenim-do-skrinky-300-mm--1-x-10-1-x-20l/",null,"SK","Lunit","FRANKE Dřez ETN 610 455 x 435","Lunit_FRANKE Dřez ETN 610 455 x 435","https://www.lunit.sk/detail/drez-universal-ee-465x465-mm-nerez",null,null,null,null,null,null,null,null,null,null,null,null,null,null,null,null,null,null,null,null,null,null,null,null,null,null,null,null,null,null,"'CZ_2020-10'!$A:$H","$A:$H","10224CZ44105","Vrut PZ 4x18 zápustná hlava zinek bílý PZ2","Hranipex","neuwirth","2020-10-01","Stančo Denčev",1.9465679999999999E-3,"x","x","x","x"]
[{"$error":"#N/A"},null,{"$f":"IFERROR(VLOOKUP(B114,List1!$A:$B,2,0),\"x\")","v":"x"},null,null,null,null,null,null,{"$f":"CONCATENATE(VLOOKUP(E114,[1]Seznamy!$Q$2:$R$36,2,0),VLOOKUP(F114,[1]Produkty!$I:$O,7,0),C114,D114)","v":{"$error":"#N/A"}},null,"CZ","GTV","GOLLINUCCI Sorter 580 Plus Line, 600 mm, výška 505mm, 80 l, šedý","GTV_GOLLINUCCI Sorter 580 Plus Line, 600 mm, výška 505mm, 80 l, šedý","http://www.gtv.cz/odpadkovy-kos-unito-s-uchytem-cilka--2-x-15l/",null,"SK","Lunit","DTDD DUB COMMERCIAL A/B DEC 2800/2070/19","Lunit_DTDD DUB COMMERCIAL A/B DEC 2800/2070/19","https://www.lunit.sk/detail/dtd-dyhovana-dub-ab-2780x2050x19-mm",null,null,null,null,null,null,null,null,null,null,null,null,null,null,null,null,null,null,null,null,null,null,null,null,null,null,null,null,null,null,"'CZ_2020-10'!$A:$H","$A:$H","10225CZ44105","Konfirmát 7/50 zinek bílý bulk","Hranipex","neuwirth","2020-10-01","Stančo Denčev",7.9419974399999992E-3,"x","x","x","x"]
[{"$error":"#N/A"},null,{"$f":"IFERROR(VLOOKUP(B115,List1!$A:$B,2,0),\"x\")","v":"x"},null,null,null,null,null,null,{"$f":"CONCATENATE(VLOOKUP(E115,[1]Seznamy!$Q$2:$R$36,2,0),VLOOKUP(F115,[1]Produkty!$I:$O,7,0),C115,D115)","v":{"$error":"#N/A"}},null,"CZ","GTV","StrongRide synchro 3D celovýsuv 500 mm s tlumením","GTV_StrongRide synchro 3D celovýsuv 500 mm s tlumením","http://www.gtv.cz/skryty-plnovysuv-modern-slide-500-mm-s-dotahem-a-tlumenim/",null,"SK","Lunit","DTDD Dub evr. radiál st A/B 2800/2070/19","Lunit_DTDD Dub evr. radiál st A/B 2800/2070/19","https://www.lunit.sk/detail/dtd-dyhovana-dub-ab-2780x2050x19-mm",null,null,null,null,null,null,null,null,null,null,null,null,null,null,null,null,null,null,null,null,null,null,null,null,null,null,null,null,null,null,"'CZ_2020-10'!$A:$H","$A:$H","10226CZ44105","DTDL W980 ST2 Platinově bílá 2800/2070/18","Hranipex","neuwirth","2020-10-01","Martin Karaščák",25.214852557439997,"x","x","x","x"]
[{"$error":"#N/A"},null,{"$f":"IFERROR(VLOOKUP(B116,List1!$A:$B,2,0),\"x\")","v":"x"},null,null,null,null,null,null,{"$f":"CONCATENATE(VLOOKUP(E116,[1]Seznamy!$Q$2:$R$36,2,0),VLOOKUP(F116,[1]Produkty!$I:$O,7,0),C116,D116)","v":{"$error":"#N/A"}},null,"CZ","GTV","Strong electric socket, lift","GTV_Strong electric socket, lift","http://www.gtv.cz/vysuvna-el--zasuvka-3-x-220-v--kabel-1-5m-stribrna-2-usb/",null,"SK","Lunit","STRONG Elektrická zásuvka 3x230V, francouzský typ, 265x130x68 mm stříbrná","Lunit_STRONG Elektrická zásuvka 3x230V, francouzský typ, 265x130x68 mm stříbrná","https://www.lunit.sk/detail/el-rozvod-vyklopny-kombi-3-zasuvky-sch-hu-s-nap-kablom-cierny",null,null,null,null,null,null,null,null,null,null,null,null,null,null,null,null,null,null,null,null,null,null,null,null,null,null,null,null,null,null,"'CZ_2020-10'!$A:$H","$A:$H","10227CZ44105","DTDD DUB COMMERCIAL A/B DEC 2800/2070/19","Hranipex","neuwirth","2020-10-01","Martin Karaščák",55.226676912160002,"x","x","x","x"]
[{"$error":"#N/A"},null,{"$f":"IFERROR(VLOOKUP(B117,List1!$A:$B,2,0),\"x\")","v":"x"},null,null,null,null,null,null,{"$f":"CONCATENATE(VLOOKUP(E117,[1]Seznamy!$Q$2:$R$36,2,0),VLOOKUP(F117,[1]Produkty!$I:$O,7,0),C117,D117)","v":{"$error":"#N/A"}},null,"CZ","GTV","STRONG Elektrická zásuvka 3x230V, francouzský typ, 265x130x68 mm stříbrná","GTV_STRONG Elektrická zásuvka 3x230V, francouzský typ, 265x130x68 mm stříbrná","http://www.gtv.cz/zapustna-zasuvka-soft-3-x-220-v--kabel-1-5m--hlinik/",null,"SK","Lunit","Strong electric socket, lift","Lunit_Strong electric socket, lift","https://www.lunit.sk/detail/el-rozvod-vysuvny-lift-60-mm-3-zasuvky-sk-2xusb-s-nap-kablom-3600w-chrom-matny",null,null,null,null,null,null,null,null,null,null,null,null,null,null,null,null,null,null,null,null,null,null,null,null,null,null,null,null,null,null,"'CZ_2020-10'!$A:$H","$A:$H","10228CZ44105","DTDD Dub evr. radiál st A/B 2800/2070/19","Hranipex","neuwirth","2020-10-01","Martin Karaščák",0,"x","x","x","x"]
[{"$error":"#N/A"},null,{"$f":"IFERROR(VLOOKUP(B118,List1!$A:$B,2,0),\"x\")","v":"x"},null,null,null,null,null,null,{"$f":"CONCATENATE(VLOOKUP(E118,[1]Seznamy!$Q$2:$R$36,2,0),VLOOKUP(F118,[1]Produkty!$I:$O,7,0),C118,D118)","v":{"$error":"#N/A"}},null,"CZ","GTV","STRONG plus závěs naložený s tlumením, s excentrem, klipový","GTV_STRONG plus závěs naložený s tlumením, s excentrem, klipový","http://www.gtv.cz/zaves-hydraulicky-gtv-econom-clip-on/",null,"SK","Lunit","HDF LAK 101 BÍLÁ PE 2800/2070/3","Lunit_HDF LAK 101 BÍLÁ PE 2800/2070/3","https://www.lunit.sk/detail/lhdf-0110-pe-or-biela-3x2070x2800-mm",null,null,null,null,null,null,null,null,null,null,null,null,null,null,null,null,null,null,null,null,null,null,null,null,null,null,null,null,null,null,"'CZ_2020-10'!$A:$H","$A:$H","10231CZ44105","HDF LAK 101 BÍLÁ PE 2800/2070/3","Hranipex","neuwirth","2020-10-01","Martin Karaščák",5.8424658364800006,"x","x","x","x"]
[{"$error":"#N/A"},null,{"$f":"IFERROR(VLOOKUP(B119,List1!$A:$B,2,0),\"x\")","v":"x"},null,null,null,null,null,null,{"$f":"CONCATENATE(VLOOKUP(E119,[1]Seznamy!$Q$2:$R$36,2,0),VLOOKUP(F119,[1]Produkty!$I:$O,7,0),C119,D119)","v":{"$error":"#N/A"}},null,"CZ","GTV","Alfa II profile 222788","GTV_Alfa II profile 222788",0,null,"SK","Lunit","Alfa II profile 222788","Lunit_Alfa II profile 222788","https://www.lunit.sk/detail/madlo-trend-line-27m-strieborna",null,null,null,null,null,null,null,null,null,null,null,null,null,null,null,null,null,null,null,null,null,null,null,null,null,null,null,null,null,null,"'CZ_2020-10'!$A:$H","$A:$H","10232CZ44105","Alfa II profile 222788","Hranipex","neuwirth","2020-10-01","NULL",4.206132684,"x","x","x","x"]
[{"$error":"#N/A"},null,{"$f":"IFERROR(VLOOKUP(B120,List1!$A:$B,2,0),\"x\")","v":"x"},null,null,null,null,null,null,{"$f":"CONCATENATE(VLOOKUP(E120,[1]Seznamy!$Q$2:$R$36,2,0),VLOOKUP(F120,[1]Produkty!$I:$O,7,0),C120,D120)","v":{"$error":"#N/A"}},null,"CZ","GTV","SEVROLL Era úchytová lišta 18mm 2,70m stříbrná","GTV_SEVROLL Era úchytová lišta 18mm 2,70m stříbrná",0,null,"SK","Lunit","GOLLINUCCI Sorter Sistema 901/2x16 l, 600 mm","Lunit_GOLLINUCCI Sorter Sistema 901/2x16 l, 600 mm","https://www.lunit.sk/detail/odpadkovy-kos-pre-zasuvku-do-600mm-skrinky",null,null,null,null,null,null,null,null,null,null,null,null,null,null,null,null,null,null,null,null,null,null,null,null,null,null,null,null,null,null,"'CZ_2020-10'!$A:$H","$A:$H","10233CZ44105","SEVROLL Era úchytová lišta 18mm 2,70m stříbrná","Hranipex","neuwirth","2020-10-01","NULL",3.8168000000000002E-4,"x","x","x","x"]
[{"$error":"#N/A"},null,{"$f":"IFERROR(VLOOKUP(B121,List1!$A:$B,2,0),\"x\")","v":"x"},null,null,null,null,null,null,{"$f":"CONCATENATE(VLOOKUP(E121,[1]Seznamy!$Q$2:$R$36,2,0),VLOOKUP(F121,[1]Produkty!$I:$O,7,0),C121,D121)","v":{"$error":"#N/A"}},null,"CZ","GTV","TULIP Gola dvířkový J profil 4,1m eloxovaný hliník","GTV_TULIP Gola dvířkový J profil 4,1m eloxovaný hliník",0,null,"SK","Lunit","TULIP Gola dvířkový J profil 4,1m eloxovaný hliník","Lunit_TULIP Gola dvířkový J profil 4,1m eloxovaný hliník","https://www.lunit.sk/detail/profil-l-90101461-pre-bezuchytkove-dvere-5m-hlinik",null,null,null,null,null,null,null,null,null,null,null,null,null,null,null,null,null,null,null,null,null,null,null,null,null,null,null,null,null,null,"'CZ_2020-10'!$A:$H","$A:$H","10234CZ44105","Strong electric socket, lift","Hranipex","neuwirth","2020-10-01","NULL",12.923845868960001,"x","x","x","x"]
[{"$error":"#N/A"},null,{"$f":"IFERROR(VLOOKUP(B122,List1!$A:$B,2,0),\"x\")","v":"x"},null,null,null,null,null,null,{"$f":"CONCATENATE(VLOOKUP(E122,[1]Seznamy!$Q$2:$R$36,2,0),VLOOKUP(F122,[1]Produkty!$I:$O,7,0),C122,D122)","v":{"$error":"#N/A"}},null,"CZ","GTV","STRONG LED pásek 21,6W/m 24V bílá neutrální 210 LED/m","GTV_STRONG LED pásek 21,6W/m 24V bílá neutrální 210 LED/m",0,null,"SK","Lunit","StrongMax 89/500 mm šedý (antracit)","Lunit_StrongMax 89/500 mm šedý (antracit)","https://www.lunit.sk/detail/smartbox-sedy-nizky-l500",null,null,null,null,null,null,null,null,null,null,null,null,null,null,null,null,null,null,null,null,null,null,null,null,null,null,null,null,null,null,"'CZ_2020-10'!$A:$H","$A:$H","10235CZ44105","STRONG Elektricky stavitelná podnož černá RAL 9005 mat","Hranipex","neuwirth","2020-10-01","NULL",110.69330687999999,"x","x","x","x"]
[{"$error":"#N/A"},null,{"$f":"IFERROR(VLOOKUP(B123,List1!$A:$B,2,0),\"x\")","v":"x"},null,null,null,null,null,null,{"$f":"CONCATENATE(VLOOKUP(E123,[1]Seznamy!$Q$2:$R$36,2,0),VLOOKUP(F123,[1]Produkty!$I:$O,7,0),C123,D123)","v":{"$error":"#N/A"}},null,"CZ","GTV","STRONG transformátor plochý LED 24V 100W","GTV_STRONG transformátor plochý LED 24V 100W",0,null,"SK","Lunit","STRONG Rektifikační nožka 100 mm","Lunit_STRONG Rektifikační nožka 100 mm","https://www.lunit.sk/detail/soklova-noha-plastcierna-100-130mm",null,null,null,null,null,null,null,null,null,null,null,null,null,null,null,null,null,null,null,null,null,null,null,null,null,null,null,null,null,null,"'CZ_2020-10'!$A:$H","$A:$H","10236CZ44105","TULIP Gola dvířkový J profil 4,1m eloxovaný hliník","Hranipex","neuwirth","2020-10-01","NULL",3.8168000000000002E-4,"x","x","x","x"]
[{"$error":"#N/A"},null,{"$f":"IFERROR(VLOOKUP(B124,List1!$A:$B,2,0),\"x\")","v":"x"},null,null,null,null,null,null,{"$f":"CONCATENATE(VLOOKUP(E124,[1]Seznamy!$Q$2:$R$36,2,0),VLOOKUP(F124,[1]Produkty!$I:$O,7,0),C124,D124)","v":{"$error":"#N/A"}},null,"CZ","GTV","ABSB 77039/414 W980/500/W954 ST2 23/2","GTV_ABSB 77039/414 W980/500/W954 ST2 23/2",0,null,"SK","Lunit","TULIP úchytka Piombina 96 nikl matný + šroubky","Lunit_TULIP úchytka Piombina 96 nikl matný + šroubky","https://www.lunit.sk/detail/uz-01-096-01-uchytka-chrom-96mm",null,null,null,null,null,null,null,null,null,null,null,null,null,null,null,null,null,null,null,null,null,null,null,null,null,null,null,null,null,null,"'CZ_2020-10'!$A:$H","$A:$H","1054CZ44105","StrongMax 89/500 mm šedý (antracit)","Jaf Holz","neuwirth","2020-10-01","Martin Zniszczol",9.1003962400000002,"x","x","x","x"]
[{"$error":"#N/A"},null,{"$f":"IFERROR(VLOOKUP(B125,List1!$A:$B,2,0),\"x\")","v":"x"},null,null,null,null,null,null,{"$f":"CONCATENATE(VLOOKUP(E125,[1]Seznamy!$Q$2:$R$36,2,0),VLOOKUP(F125,[1]Produkty!$I:$O,7,0),C125,D125)","v":{"$error":"#N/A"}},null,"CZ","GTV","ABSB HU10113 Bílá 101/110/113/8100/8685/W954/B3822 PE 22/2","GTV_ABSB HU10113 Bílá 101/110/113/8100/8685/W954/B3822 PE 22/2",0,null,"SK","Lunit","TULIP úchytka Nakana 128 chrom matný + šroubky","Lunit_TULIP úchytka Nakana 128 chrom matný + šroubky","https://www.lunit.sk/detail/uz-819-128-05-chrom-matny",null,null,null,null,null,null,null,null,null,null,null,null,null,null,null,null,null,null,null,null,null,null,null,null,null,null,null,null,null,null,"'CZ_2020-10'!$A:$H","$A:$H","1055CZ44105","StrongRide synchro 3D celovýsuv 500 mm s tlumením","Jaf Holz","neuwirth","2020-10-01","Martin Zniszczol",5.1412296,"x","x","x","x"]
[{"$error":"#N/A"},null,{"$f":"IFERROR(VLOOKUP(B126,List1!$A:$B,2,0),\"x\")","v":"x"},null,null,null,null,null,null,{"$f":"CONCATENATE(VLOOKUP(E126,[1]Seznamy!$Q$2:$R$36,2,0),VLOOKUP(F126,[1]Produkty!$I:$O,7,0),C126,D126)","v":{"$error":"#N/A"}},null,"CZ","GTV","BBP OA Zásuvka 515 mm kovová černá","GTV_BBP OA Zásuvka 515 mm kovová černá",0,null,"SK","Lunit","TULIP věšák Lugo XL chrom matný + šroubky","Lunit_TULIP věšák Lugo XL chrom matný + šroubky","https://www.lunit.sk/detail/vesiak-k2405a-dvojity-velky-chrom-g2",null,null,null,null,null,null,null,null,null,null,null,null,null,null,null,null,null,null,null,null,null,null,null,null,null,null,null,null,null,null,"'CZ_2020-10'!$A:$H","$A:$H","1057CZ44105","STRONG Stolová noha centrální 450x450 černá","Jaf Holz","neuwirth","2020-10-01","Lukáš Sládek",33.67505388,"x","x","x","x"]
[{"$error":"#N/A"},null,{"$f":"IFERROR(VLOOKUP(B127,List1!$A:$B,2,0),\"x\")","v":"x"},null,null,null,null,null,null,{"$f":"CONCATENATE(VLOOKUP(E127,[1]Seznamy!$Q$2:$R$36,2,0),VLOOKUP(F127,[1]Produkty!$I:$O,7,0),C127,D127)","v":{"$error":"#N/A"}},null,"CZ","GTV","DTDD DUB COMMERCIAL A/B DEC 2800/2070/19","GTV_DTDD DUB COMMERCIAL A/B DEC 2800/2070/19",0,null,"SK","Lunit","TULIP Úchytka Ramara 596 imitace nerezi","Lunit_TULIP Úchytka Ramara 596 imitace nerezi","https://www.lunit.sk/detail/zapustna-uchytka-mg537-l597-chrom",null,null,null,null,null,null,null,null,null,null,null,null,null,null,null,null,null,null,null,null,null,null,null,null,null,null,null,null,null,null,"'CZ_2020-10'!$A:$H","$A:$H","1058CZ44105","STRONG Elektrická zásuvka 3x230V, francouzský typ, 265x130x68 mm stříbrná","Jaf Holz","neuwirth","2020-10-01","Lukáš Sládek",12.88628016,"x","x","x","x"]
[{"$error":"#N/A"},null,{"$f":"IFERROR(VLOOKUP(B128,List1!$A:$B,2,0),\"x\")","v":"x"},null,null,null,null,null,null,{"$f":"CONCATENATE(VLOOKUP(E128,[1]Seznamy!$Q$2:$R$36,2,0),VLOOKUP(F128,[1]Produkty!$I:$O,7,0),C128,D128)","v":{"$error":"#N/A"}},null,"CZ","GTV","DTDD Dub evr. radiál st A/B 2800/2070/19","GTV_DTDD Dub evr. radiál st A/B 2800/2070/19",0,null,"SK","Lunit","STRONG závěs naložený, slide on","Lunit_STRONG závěs naložený, slide on","https://www.lunit.sk/detail/zaves-glt-nalozeny-eko",null,null,null,null,null,null,null,null,null,null,null,null,null,null,null,null,null,null,null,null,null,null,null,null,null,null,null,null,null,null,"'CZ_2020-10'!$A:$H","$A:$H","1059CZ44105","BBP OA Zásuvka 515 mm kovová černá","Jaf Holz","neuwirth","2020-10-01","Lukáš Sládek",4.7811832224000002,"x","x","x","x"]
[{"$error":"#N/A"},null,{"$f":"IFERROR(VLOOKUP(B129,List1!$A:$B,2,0),\"x\")","v":"x"},null,null,null,null,null,null,{"$f":"CONCATENATE(VLOOKUP(E129,[1]Seznamy!$Q$2:$R$36,2,0),VLOOKUP(F129,[1]Produkty!$I:$O,7,0),C129,D129)","v":{"$error":"#N/A"}},null,"CZ","GTV","DTDL W980 ST2 Platinově bílá 2800/2070/18","GTV_DTDL W980 ST2 Platinově bílá 2800/2070/18",0,null,"SK","Lunit","STRONG plus závěs naložený s tlumením, s excentrem, klipový","Lunit_STRONG plus závěs naložený s tlumením, s excentrem, klipový","https://www.lunit.sk/detail/zaves-glt-nalozeny-s-dotlmenim-3d-exclusive",null,null,null,null,null,null,null,null,null,null,null,null,null,null,null,null,null,null,null,null,null,null,null,null,null,null,null,null,null,null,"'CZ_2020-10'!$A:$H","$A:$H","10512CZ44105","GOLLINUCCI Sorter Sistema 901/2x16 l, 600 mm","Jaf Holz","neuwirth","2020-10-01","Marcela Piechová",15.70384192,"x","x","x","x"]
[{"$error":"#N/A"},null,{"$f":"IFERROR(VLOOKUP(B130,List1!$A:$B,2,0),\"x\")","v":"x"},null,null,null,null,null,null,{"$f":"CONCATENATE(VLOOKUP(E130,[1]Seznamy!$Q$2:$R$36,2,0),VLOOKUP(F130,[1]Produkty!$I:$O,7,0),C130,D130)","v":{"$error":"#N/A"}},null,"CZ","GTV","FRANKE Dřez BFG 611-78 780 x 500 onyx","GTV_FRANKE Dřez BFG 611-78 780 x 500 onyx",0,null,"SK","TWD","STRONG plus závěs naložený s tlumením, s excentrem, klipový","TWD_STRONG plus závěs naložený s tlumením, s excentrem, klipový",0,null,null,null,null,null,null,null,null,null,null,null,null,null,null,null,null,null,null,null,null,null,null,null,null,null,null,null,null,null,null,"'CZ_2020-10'!$A:$H","$A:$H","10513CZ44105","GOLLINUCCI Sorter 580 Plus Line, 600 mm, výška 505mm, 80 l, šedý","Jaf Holz","neuwirth","2020-10-01","Marcela Piechová",68.555453200000002,"x","x","x","x"]
[{"$error":"#N/A"},null,{"$f":"IFERROR(VLOOKUP(B131,List1!$A:$B,2,0),\"x\")","v":"x"},null,null,null,null,null,null,{"$f":"CONCATENATE(VLOOKUP(E131,[1]Seznamy!$Q$2:$R$36,2,0),VLOOKUP(F131,[1]Produkty!$I:$O,7,0),C131,D131)","v":{"$error":"#N/A"}},null,"CZ","GTV","FRANKE Dřez ETN 610 455 x 435","GTV_FRANKE Dřez ETN 610 455 x 435",0,null,"SK","Avecan","ABSB 77039/414 W980/500/W954 ST2 23/2","Avecan_ABSB 77039/414 W980/500/W954 ST2 23/2",0,null,null,null,null,null,null,null,null,null,null,null,null,null,null,null,null,null,null,null,null,null,null,null,null,null,null,null,null,null,null,"'CZ_2020-10'!$A:$H","$A:$H","10515CZ44105","GOLLINUCCI Sorter Linea 222, 300 mm","Jaf Holz","neuwirth","2020-10-01","Marcela Piechová",25.28515496,"x","x","x","x"]
[{"$error":"#N/A"},null,{"$f":"IFERROR(VLOOKUP(B132,List1!$A:$B,2,0),\"x\")","v":"x"},null,null,null,null,null,null,{"$f":"CONCATENATE(VLOOKUP(E132,[1]Seznamy!$Q$2:$R$36,2,0),VLOOKUP(F132,[1]Produkty!$I:$O,7,0),C132,D132)","v":{"$error":"#N/A"}},null,"CZ","GTV","FRANKE Dřez ETN 614 6/4 obyčejný ventil bez otvoru","GTV_FRANKE Dřez ETN 614 6/4 obyčejný ventil bez otvoru",0,null,"SK","Avecan","ABSB HU10113 Bílá 101/110/113/8100/8685/W954/B3822 PE 22/2","Avecan_ABSB HU10113 Bílá 101/110/113/8100/8685/W954/B3822 PE 22/2",0,null,null,null,null,null,null,null,null,null,null,null,null,null,null,null,null,null,null,null,null,null,null,null,null,null,null,null,null,null,null,"'CZ_2020-10'!$A:$H","$A:$H","10517CZ44105","TULIP úchytka Piombina 96 nikl matný + šroubky","Jaf Holz","neuwirth","2020-10-01","Lenka Kormaník",0.41656555200000001,"x","x","x","x"]
[{"$error":"#N/A"},null,{"$f":"IFERROR(VLOOKUP(B133,List1!$A:$B,2,0),\"x\")","v":"x"},null,null,null,null,null,null,{"$f":"CONCATENATE(VLOOKUP(E133,[1]Seznamy!$Q$2:$R$36,2,0),VLOOKUP(F133,[1]Produkty!$I:$O,7,0),C133,D133)","v":{"$error":"#N/A"}},null,"CZ","GTV","HDF LAK 101 BÍLÁ PE 2800/2070/3","GTV_HDF LAK 101 BÍLÁ PE 2800/2070/3",0,null,"SK","Avecan","BBP OA Zásuvka 515 mm kovová černá","Avecan_BBP OA Zásuvka 515 mm kovová černá",0,null,null,null,null,null,null,null,null,null,null,null,null,null,null,null,null,null,null,null,null,null,null,null,null,null,null,null,null,null,null,"'CZ_2020-10'!$A:$H","$A:$H","10518CZ44105","TULIP úchytka Anita 96 nikl matný + šroubky","Jaf Holz","neuwirth","2020-10-01","Lenka Kormaník",0.26375996400000001,"x","x","x","x"]
[{"$error":"#N/A"},null,{"$f":"IFERROR(VLOOKUP(B134,List1!$A:$B,2,0),\"x\")","v":"x"},null,null,null,null,null,null,{"$f":"CONCATENATE(VLOOKUP(E134,[1]Seznamy!$Q$2:$R$36,2,0),VLOOKUP(F134,[1]Produkty!$I:$O,7,0),C134,D134)","v":{"$error":"#N/A"}},null,"CZ","GTV","Konfirmát 7/50 zinek bílý bulk","GTV_Konfirmát 7/50 zinek bílý bulk",0,null,"SK","Avecan","DTDD DUB COMMERCIAL A/B DEC 2800/2070/19","Avecan_DTDD DUB COMMERCIAL A/B DEC 2800/2070/19",0,null,null,null,null,null,null,null,null,null,null,null,null,null,null,null,null,null,null,null,null,null,null,null,null,null,null,null,null,null,null,"'CZ_2020-10'!$A:$H","$A:$H","10520CZ44105","TULIP Úchytka Ramara 596 imitace nerezi","Jaf Holz","neuwirth","2020-10-01","Lenka Kormaník",3.3996810120000003,"x","x","x","x"]
[{"$error":"#N/A"},null,{"$f":"IFERROR(VLOOKUP(B135,List1!$A:$B,2,0),\"x\")","v":"x"},null,null,null,null,null,null,{"$f":"CONCATENATE(VLOOKUP(E135,[1]Seznamy!$Q$2:$R$36,2,0),VLOOKUP(F135,[1]Produkty!$I:$O,7,0),C135,D135)","v":{"$error":"#N/A"}},null,"CZ","GTV","STRONG Elektricky stavitelná podnož černá RAL 9005 mat","GTV_STRONG Elektricky stavitelná podnož černá RAL 9005 mat",0,null,"SK","Avecan","DTDD Dub evr. radiál st A/B 2800/2070/19","Avecan_DTDD Dub evr. radiál st A/B 2800/2070/19",0,null,null,null,null,null,null,null,null,null,null,null,null,null,null,null,null,null,null,null,null,null,null,null,null,null,null,null,null,null,null,"'CZ_2020-10'!$A:$H","$A:$H","10521CZ44105","TULIP Úchytka Lucata 160 černá matná","Jaf Holz","neuwirth","2020-10-01","Lenka Kormaník",0.771814212,"x","x","x","x"]
[{"$error":"#N/A"},null,{"$f":"IFERROR(VLOOKUP(B136,List1!$A:$B,2,0),\"x\")","v":"x"},null,null,null,null,null,null,{"$f":"CONCATENATE(VLOOKUP(E136,[1]Seznamy!$Q$2:$R$36,2,0),VLOOKUP(F136,[1]Produkty!$I:$O,7,0),C136,D136)","v":{"$error":"#N/A"}},null,"CZ","GTV","STRONG Rektifikační nožka 100 mm","GTV_STRONG Rektifikační nožka 100 mm",0,null,"SK","Avecan","DTDL W980 ST2 Platinově bílá 2800/2070/18","Avecan_DTDL W980 ST2 Platinově bílá 2800/2070/18",0,null,null,null,null,null,null,null,null,null,null,null,null,null,null,null,null,null,null,null,null,null,null,null,null,null,null,null,null,null,null,"'CZ_2020-10'!$A:$H","$A:$H","10532CZ44105","Alfa II profile 222788","Jaf Holz","neuwirth","2020-10-01","NULL",4.206132684,"x","x","x","x"]
[{"$f":"TEXT(J137,1)","v":{"$error":"#N/A"}},null,{"$f":"IFERROR(VLOOKUP(B137,List1!$A:$B,2,0),\"x\")","v":"x"},null,null,null,null,null,null,{"$f":"CONCATENATE(VLOOKUP(E137,[1]Seznamy!$Q$2:$R$36,2,0),VLOOKUP(F137,[1]Produkty!$I:$O,7,0),C137,D137)","v":{"$error":"#N/A"}},null,"CZ","GTV","STRONG Stolová noha centrální 450x450 černá","GTV_STRONG Stolová noha centrální 450x450 černá",0,null,"SK","Avecan","FRANKE Dřez BFG 611-78 780 x 500 onyx","Avecan_FRANKE Dřez BFG 611-78 780 x 500 onyx",0,null,null,null,null,null,null,null,null,null,null,null,null,null,null,null,null,null,null,null,null,null,null,null,null,null,null,null,null,null,null,"'CZ_2020-10'!$A:$H","$A:$H","10533CZ44105","SEVROLL Era úchytová lišta 18mm 2,70m stříbrná","Jaf Holz","neuwirth","2020-10-01","NULL",3.8168000000000002E-4,"x","x","x","x"]
[{"$error":"#N/A"},null,{"$f":"IFERROR(VLOOKUP(B138,List1!$A:$B,2,0),\"x\")","v":"x"},null,null,null,null,null,null,{"$f":"CONCATENATE(VLOOKUP(E138,[1]Seznamy!$Q$2:$R$36,2,0),VLOOKUP(F138,[1]Produkty!$I:$O,7,0),C138,D138)","v":{"$error":"#N/A"}},null,"CZ","GTV","STRONG závěs naložený, slide on","GTV_STRONG závěs naložený, slide on",0,null,"SK","Avecan","FRANKE Dřez ETN 610 455 x 435","Avecan_FRANKE Dřez ETN 610 455 x 435",0,null,null,null,null,null,null,null,null,null,null,null,null,null,null,null,null,null,null,null,null,null,null,null,null,null,null,null,null,null,null,"'CZ_2020-10'!$A:$H","$A:$H","10535CZ44105","STRONG Elektricky stavitelná podnož černá RAL 9005 mat","Jaf Holz","neuwirth","2020-10-01","NULL",110.69330687999999,"x","x","x","x"]
[{"$error":"#N/A"},null,{"$f":"IFERROR(VLOOKUP(B139,List1!$A:$B,2,0),\"x\")","v":"x"},null,null,null,null,null,null,{"$f":"CONCATENATE(VLOOKUP(E139,[1]Seznamy!$Q$2:$R$36,2,0),VLOOKUP(F139,[1]Produkty!$I:$O,7,0),C139,D139)","v":{"$error":"#N/A"}},null,"CZ","GTV","TULIP úchytka Anita 96 nikl matný + šroubky","GTV_TULIP úchytka Anita 96 nikl matný + šroubky",0,null,"SK","Avecan","FRANKE Dřez ETN 614 6/4 obyčejný ventil bez otvoru","Avecan_FRANKE Dřez ETN 614 6/4 obyčejný ventil bez otvoru",0,null,null,null,null,null,null,null,null,null,null,null,null,null,null,null,null,null,null,null,null,null,null,null,null,null,null,null,null,null,null,"'CZ_2020-10'!$A:$H","$A:$H","10536CZ44105","TULIP Gola dvířkový J profil 4,1m eloxovaný hliník","Jaf Holz","neuwirth","2020-10-01","NULL",3.8168000000000002E-4,"x","x","x","x"]
[{"$error":"#N/A"},null,{"$f":"IFERROR(VLOOKUP(B140,List1!$A:$B,2,0),\"x\")","v":"x"},null,null,null,null,null,null,{"$f":"CONCATENATE(VLOOKUP(E140,[1]Seznamy!$Q$2:$R$36,2,0),VLOOKUP(F140,[1]Produkty!$I:$O,7,0),C140,D140)","v":{"$error":"#N/A"}},null,"CZ","GTV","TULIP Úchytka Lucata 160 černá matná","GTV_TULIP Úchytka Lucata 160 černá matná",0,null,"SK","Avecan","GOLLINUCCI Sorter 580 Plus Line, 600 mm, výška 505mm, 80 l, šedý","Avecan_GOLLINUCCI Sorter 580 Plus Line, 600 mm, výška 505mm, 80 l, šedý",0,null,null,null,null,null,null,null,null,null,null,null,null,null,null,null,null,null,null,null,null,null,null,null,null,null,null,null,null,null,null,"'CZ_2020-10'!$A:$H","$A:$H","1119CZ44105","BBP OA Zásuvka 515 mm kovová černá","Kili","neuwirth","2020-10-01","Lukáš Sládek",4.7811832224000002,"x","x","x","x"]
[{"$error":"#N/A"},null,{"$f":"IFERROR(VLOOKUP(B141,List1!$A:$B,2,0),\"x\")","v":"x"},null,null,null,null,null,null,{"$f":"CONCATENATE(VLOOKUP(E141,[1]Seznamy!$Q$2:$R$36,2,0),VLOOKUP(F141,[1]Produkty!$I:$O,7,0),C141,D141)","v":{"$error":"#N/A"}},null,"CZ","GTV","TULIP úchytka Nakana 128 chrom matný + šroubky","GTV_TULIP úchytka Nakana 128 chrom matný + šroubky",0,null,"SK","Avecan","GOLLINUCCI Sorter Linea 222, 300 mm","Avecan_GOLLINUCCI Sorter Linea 222, 300 mm",0,null,null,null,null,null,null,null,null,null,null,null,null,null,null,null,null,null,null,null,null,null,null,null,null,null,null,null,null,null,null,"'CZ_2020-10'!$A:$H","$A:$H","11113CZ44105","GOLLINUCCI Sorter 580 Plus Line, 600 mm, výška 505mm, 80 l, šedý","Kili","neuwirth","2020-10-01","Marcela Piechová",68.555453200000002,"x","x","x","x"]
[{"$error":"#N/A"},null,{"$f":"IFERROR(VLOOKUP(B142,List1!$A:$B,2,0),\"x\")","v":"x"},null,null,null,null,null,null,{"$f":"CONCATENATE(VLOOKUP(E142,[1]Seznamy!$Q$2:$R$36,2,0),VLOOKUP(F142,[1]Produkty!$I:$O,7,0),C142,D142)","v":{"$error":"#N/A"}},null,"CZ","GTV","TULIP úchytka Piombina 96 nikl matný + šroubky","GTV_TULIP úchytka Piombina 96 nikl matný + šroubky",0,null,"SK","Avecan","GOLLINUCCI Sorter Sistema 901/2x16 l, 600 mm","Avecan_GOLLINUCCI Sorter Sistema 901/2x16 l, 600 mm",0,null,null,null,null,null,null,null,null,null,null,null,null,null,null,null,null,null,null,null,null,null,null,null,null,null,null,null,null,null,null,"'CZ_2020-10'!$A:$H","$A:$H","11117CZ44105","TULIP úchytka Piombina 96 nikl matný + šroubky","Kili","neuwirth","2020-10-01","Lenka Kormaník",0.41656555200000001,"x","x","x","x"]
[{"$error":"#N/A"},null,{"$f":"IFERROR(VLOOKUP(B143,List1!$A:$B,2,0),\"x\")","v":"x"},null,null,null,null,null,null,{"$f":"CONCATENATE(VLOOKUP(E143,[1]Seznamy!$Q$2:$R$36,2,0),VLOOKUP(F143,[1]Produkty!$I:$O,7,0),C143,D143)","v":{"$error":"#N/A"}},null,"CZ","GTV","TULIP Úchytka Ramara 596 imitace nerezi","GTV_TULIP Úchytka Ramara 596 imitace nerezi",0,null,"SK","Avecan","HDF LAK 101 BÍLÁ PE 2800/2070/3","Avecan_HDF LAK 101 BÍLÁ PE 2800/2070/3",0,null,null,null,null,null,null,null,null,null,null,null,null,null,null,null,null,null,null,null,null,null,null,null,null,null,null,null,null,null,null,"'CZ_2020-10'!$A:$H","$A:$H","11118CZ44105","TULIP úchytka Anita 96 nikl matný + šroubky","Kili","neuwirth","2020-10-01","Lenka Kormaník",0.26375996400000001,"x","x","x","x"]
[{"$error":"#N/A"},null,{"$f":"IFERROR(VLOOKUP(B144,List1!$A:$B,2,0),\"x\")","v":"x"},null,null,null,null,null,null,{"$f":"CONCATENATE(VLOOKUP(E144,[1]Seznamy!$Q$2:$R$36,2,0),VLOOKUP(F144,[1]Produkty!$I:$O,7,0),C144,D144)","v":{"$error":"#N/A"}},null,"CZ","GTV","TULIP věšák Lugo XL chrom matný + šroubky","GTV_TULIP věšák Lugo XL chrom matný + šroubky",0,null,"SK","Avecan","Konfirmát 7/50 zinek bílý bulk","Avecan_Konfirmát 7/50 zinek bílý bulk",0,null,null,null,null,null,null,null,null,null,null,null,null,null,null,null,null,null,null,null,null,null,null,null,null,null,null,null,null,null,null,"'CZ_2020-10'!$A:$H","$A:$H","11120CZ44105","TULIP Úchytka Ramara 596 imitace nerezi","Kili","neuwirth","2020-10-01","Lenka Kormaník",3.3996810120000003,"x","x","x","x"]
[{"$error":"#N/A"},null,{"$f":"IFERROR(VLOOKUP(B145,List1!$A:$B,2,0),\"x\")","v":"x"},null,null,null,null,null,null,{"$f":"CONCATENATE(VLOOKUP(E145,[1]Seznamy!$Q$2:$R$36,2,0),VLOOKUP(F145,[1]Produkty!$I:$O,7,0),C145,D145)","v":{"$error":"#N/A"}},null,"CZ","GTV","Vrut PZ 4x18 zápustná hlava zinek bílý PZ2","GTV_Vrut PZ 4x18 zápustná hlava zinek bílý PZ2",0,null,"SK","Avecan","STRONG Elektrická zásuvka 3x230V, francouzský typ, 265x130x68 mm stříbrná","Avecan_STRONG Elektrická zásuvka 3x230V, francouzský typ, 265x130x68 mm stříbrná",0,null,null,null,null,null,null,null,null,null,null,null,null,null,null,null,null,null,null,null,null,null,null,null,null,null,null,null,null,null,null,"'CZ_2020-10'!$A:$H","$A:$H","11121CZ44105","TULIP Úchytka Lucata 160 černá matná","Kili","neuwirth","2020-10-01","Lenka Kormaník",0.771814212,"x","x","x","x"]
[{"$error":"#N/A"},null,{"$f":"IFERROR(VLOOKUP(B146,List1!$A:$B,2,0),\"x\")","v":"x"},null,null,null,null,null,null,{"$f":"CONCATENATE(VLOOKUP(E146,[1]Seznamy!$Q$2:$R$36,2,0),VLOOKUP(F146,[1]Produkty!$I:$O,7,0),C146,D146)","v":{"$error":"#N/A"}},null,"CZ","Hafele","FRANKE Dřez ETN 610 455 x 435","Hafele_FRANKE Dřez ETN 610 455 x 435","https://www.hafele.cz/cs/product/d-ez-nerez-franke-eurostar-etn-610/0000001b0000bc4200020023/ - SearchParameter=&@QueryTerm=etn+610&ContentType=V%C3%BDrobky&@P.FF.followSearch=9875&PageNumber=1&OriginalPageSize=12&PageSize=12&OrigPos=1&ProductListSize=5",null,"SK","Avecan","STRONG plus závěs naložený s tlumením, s excentrem, klipový","Avecan_STRONG plus závěs naložený s tlumením, s excentrem, klipový",0,null,null,null,null,null,null,null,null,null,null,null,null,null,null,null,null,null,null,null,null,null,null,null,null,null,null,null,null,null,null,"'CZ_2020-10'!$A:$H","$A:$H","11128CZ44105","DTDD Dub evr. radiál st A/B 2800/2070/19","Kili","neuwirth","2020-10-01","Martin Karaščák",0,"x","x","x","x"]
[{"$error":"#N/A"},null,{"$f":"IFERROR(VLOOKUP(B147,List1!$A:$B,2,0),\"x\")","v":"x"},null,null,null,null,null,null,{"$f":"CONCATENATE(VLOOKUP(E147,[1]Seznamy!$Q$2:$R$36,2,0),VLOOKUP(F147,[1]Produkty!$I:$O,7,0),C147,D147)","v":{"$error":"#N/A"}},null,"CZ","Hafele","FRANKE Dřez ETN 614 6/4 obyčejný ventil bez otvoru","Hafele_FRANKE Dřez ETN 614 6/4 obyčejný ventil bez otvoru","https://www.hafele.cz/cs/product/d-ez-nerez-franke-eurostar-etn-614/000000010001525400010023/ - SearchParameter=&@QueryTerm=Franke+Eurostar+ETN+614.+565.04.030&@P.FF.followSearch=9250&PageNumber=1&OriginalPageSize=12&PageSize=12&Position=1&OrigPos=1&ProductListSize=3&PDP=true",null,"SK","Avecan","STRONG Rektifikační nožka 100 mm","Avecan_STRONG Rektifikační nožka 100 mm",0,null,null,null,null,null,null,null,null,null,null,null,null,null,null,null,null,null,null,null,null,null,null,null,null,null,null,null,null,null,null,"'CZ_2020-10'!$A:$H","$A:$H","11129CZ44105","ABSB HU10113 Bílá 101/110/113/8100/8685/W954/B3822 PE 22/2","Kili","neuwirth","2020-10-01","Martin Karaščák",0.20190872000000001,"x","x","x","x"]
[{"$error":"#N/A"},null,{"$f":"IFERROR(VLOOKUP(B148,List1!$A:$B,2,0),\"x\")","v":"x"},null,null,null,null,null,null,{"$f":"CONCATENATE(VLOOKUP(E148,[1]Seznamy!$Q$2:$R$36,2,0),VLOOKUP(F148,[1]Produkty!$I:$O,7,0),C148,D148)","v":{"$error":"#N/A"}},null,"CZ","Hafele","TULIP věšák Lugo XL chrom matný + šroubky","Hafele_TULIP věšák Lugo XL chrom matný + šroubky","https://www.hafele.cz/cs/product/h-ek-na-aty-zinc-alloy-with-3-hooks/85500022/?MasterSKU=000000f90002b1b300080023&Quantity=1 - &SearchParameter=%26Category%3D3dIKAOsFHucAAAFsb9j0_hGx%26checkbox_fs_finish%3DChrom%26%40P.FF.followSearch%3D10000&PageNumber=1&ProductListSize=32&PageSize=12",null,"SK","Avecan","STRONG Stolová noha centrální 450x450 černá","Avecan_STRONG Stolová noha centrální 450x450 černá",0,null,null,null,null,null,null,null,null,null,null,null,null,null,null,null,null,null,null,null,null,null,null,null,null,null,null,null,null,null,null,"'CZ_2020-10'!$A:$H","$A:$H","11130CZ44105","ABSB 77039/414 W980/500/W954 ST2 23/2","Kili","neuwirth","2020-10-01","Martin Karaščák",0,"x","x","x","x"]
[{"$error":"#N/A"},null,{"$f":"IFERROR(VLOOKUP(B149,List1!$A:$B,2,0),\"x\")","v":"x"},null,null,null,null,null,null,{"$f":"CONCATENATE(VLOOKUP(E149,[1]Seznamy!$Q$2:$R$36,2,0),VLOOKUP(F149,[1]Produkty!$I:$O,7,0),C149,D149)","v":{"$error":"#N/A"}},null,"CZ","Hafele","TULIP Úchytka Lucata 160 černá matná","Hafele_TULIP Úchytka Lucata 160 černá matná","https://www.hafele.cz/cs/product/-chytkov-profil-hlin-k-mont-n-st-edy-32-416-mm/0000010f0001991b00030023/ - SearchParameter=&Category=FN0KAOsFc8sAAAFsXNX0_hGx&checkbox_fs_colour=__010Dern%C3%A1&checkbox_fs_material=Hlin%C3%ADk&@P.FF.followSearch=10000&PageNumber=3&OriginalPageSize=12&PageSize=12&Position=25&OrigPos=6714&ProductListSize=55",null,"SK","Avecan","STRONG závěs naložený, slide on","Avecan_STRONG závěs naložený, slide on",0,null,null,null,null,null,null,null,null,null,null,null,null,null,null,null,null,null,null,null,null,null,null,null,null,null,null,null,null,null,null,"'CZ_2020-10'!$A:$H","$A:$H","1197CZ44105","STRONG Stolová noha centrální 450x450 černá","KNK","neuwirth","2020-10-01","Lukáš Sládek",33.67505388,"x","x","x","x"]
[{"$error":"#N/A"},null,{"$f":"IFERROR(VLOOKUP(B150,List1!$A:$B,2,0),\"x\")","v":"x"},null,null,null,null,null,null,{"$f":"CONCATENATE(VLOOKUP(E150,[1]Seznamy!$Q$2:$R$36,2,0),VLOOKUP(F150,[1]Produkty!$I:$O,7,0),C150,D150)","v":{"$error":"#N/A"}},null,"CZ","Hafele","Konfirmát 7/50 zinek bílý bulk","Hafele_Konfirmát 7/50 zinek bílý bulk","https://www.hafele.cz/cs/product/jednod-ln-spoj-konfirm-t-haefele-z-pustn-hlava-pro-vrtan-otvor-5-mm-sw4/26443600/?MasterSKU=000000000000ff4e00010023",null,"SK","Avecan","StrongBox H86/500mm bílý","Avecan_StrongBox H86/500mm bílý",0,null,null,null,null,null,null,null,null,null,null,null,null,null,null,null,null,null,null,null,null,null,null,null,null,null,null,null,null,null,null,"'CZ_2020-10'!$A:$H","$A:$H","1199CZ44105","BBP OA Zásuvka 515 mm kovová černá","KNK","neuwirth","2020-10-01","Lukáš Sládek",4.7811832224000002,"x","x","x","x"]
[{"$error":"#N/A"},null,{"$f":"IFERROR(VLOOKUP(B151,List1!$A:$B,2,0),\"x\")","v":"x"},null,null,null,null,null,null,{"$f":"CONCATENATE(VLOOKUP(E151,[1]Seznamy!$Q$2:$R$36,2,0),VLOOKUP(F151,[1]Produkty!$I:$O,7,0),C151,D151)","v":{"$error":"#N/A"}},null,"CZ","Hafele","TULIP úchytka Nakana 128 chrom matný + šroubky","Hafele_TULIP úchytka Nakana 128 chrom matný + šroubky","https://www.hafele.cz/cs/product/n-bytkov-chytka-madlo-zinkov-slitina/0000007e00001b6500010023/ - SearchParameter=&@QueryTerm=N%C3%A1bytkov%C3%A1+%C3%BAchytka%2Cmadlo&@P.FF.followSearch=9895&PageNumber=4&OriginalPageSize=12&PageSize=12&Position=44&OrigPos=22&ProductListSize=310&PDP=true",null,"SK","Avecan","StrongMax 89/500 mm šedý (antracit)","Avecan_StrongMax 89/500 mm šedý (antracit)",0,null,null,null,null,null,null,null,null,null,null,null,null,null,null,null,null,null,null,null,null,null,null,null,null,null,null,null,null,null,null,"'CZ_2020-10'!$A:$H","$A:$H","11912CZ44105","GOLLINUCCI Sorter Sistema 901/2x16 l, 600 mm","KNK","neuwirth","2020-10-01","Marcela Piechová",15.70384192,"x","x","x","x"]
[{"$error":"#N/A"},null,{"$f":"IFERROR(VLOOKUP(B152,List1!$A:$B,2,0),\"x\")","v":"x"},null,null,null,null,null,null,{"$f":"CONCATENATE(VLOOKUP(E152,[1]Seznamy!$Q$2:$R$36,2,0),VLOOKUP(F152,[1]Produkty!$I:$O,7,0),C152,D152)","v":{"$error":"#N/A"}},null,"CZ","Hafele","STRONG plus závěs naložený s tlumením, s excentrem, klipový","Hafele_STRONG plus závěs naložený s tlumením, s excentrem, klipový","https://www.hafele.cz/cs/product/n-bytkov-z-v-s-haefele-duomatic-110-pln-nalo-en-mont-/32917507/?MasterSKU=0000009f00018de700050023 - &SearchParameter=%26Category%3DHxwKAOsFloUAAAFsycn0_hGx%26checkbox_fs_hinges_haefele_duomatic%3DPro%2Bd__0159ev__011Bn%25C3%25A9%2Bdve__0159e%26%40P.FF.followSearch%3D10000&PageNumber=1&ProductListSize=62&PageSize=12",null,"SK","Avecan","StrongRide synchro 3D celovýsuv 500 mm s tlumením","Avecan_StrongRide synchro 3D celovýsuv 500 mm s tlumením",0,null,null,null,null,null,null,null,null,null,null,null,null,null,null,null,null,null,null,null,null,null,null,null,null,null,null,null,null,null,null,"'CZ_2020-10'!$A:$H","$A:$H","11913CZ44105","GOLLINUCCI Sorter 580 Plus Line, 600 mm, výška 505mm, 80 l, šedý","KNK","neuwirth","2020-10-01","Marcela Piechová",68.555453200000002,"x","x","x","x"]
[{"$error":"#N/A"},null,{"$f":"IFERROR(VLOOKUP(B153,List1!$A:$B,2,0),\"x\")","v":"x"},null,null,null,null,null,null,{"$f":"CONCATENATE(VLOOKUP(E153,[1]Seznamy!$Q$2:$R$36,2,0),VLOOKUP(F153,[1]Produkty!$I:$O,7,0),C153,D153)","v":{"$error":"#N/A"}},null,"CZ","Hafele","STRONG závěs naložený, slide on","Hafele_STRONG závěs naložený, slide on","https://www.hafele.cz/cs/product/n-bytkov-z-v-s-haefele-metallamat-a-sm-110-pln-nalo-en-mont-/31630500/?MasterSKU=0000002d0002d17400010023 - &SearchParameter=%26Category%3DHxwKAOsFloUAAAFsycn0_hGx%26checkbox_fs_hinges_overlay%3DPln__011B%2Bnalo__017Een%25C3%25A9%26slider_fs_hinges_opening_angle%3D60.0%253B100%2B-%2B110%253B270.0%26%40P.FF.followSearch%3D10000&PageNumber=1&ProductListSize=29&PageSize=12",null,"SK","Avecan","TULIP úchytka Anita 96 nikl matný + šroubky","Avecan_TULIP úchytka Anita 96 nikl matný + šroubky",0,null,null,null,null,null,null,null,null,null,null,null,null,null,null,null,null,null,null,null,null,null,null,null,null,null,null,null,null,null,null,"'CZ_2020-10'!$A:$H","$A:$H","11915CZ44105","GOLLINUCCI Sorter Linea 222, 300 mm","KNK","neuwirth","2020-10-01","Marcela Piechová",25.28515496,"x","x","x","x"]
[{"$error":"#N/A"},null,{"$f":"IFERROR(VLOOKUP(B154,List1!$A:$B,2,0),\"x\")","v":"x"},null,null,null,null,null,null,{"$f":"CONCATENATE(VLOOKUP(E154,[1]Seznamy!$Q$2:$R$36,2,0),VLOOKUP(F154,[1]Produkty!$I:$O,7,0),C154,D154)","v":{"$error":"#N/A"}},null,"CZ","Hafele","TULIP Úchytka Ramara 596 imitace nerezi","Hafele_TULIP Úchytka Ramara 596 imitace nerezi","https://www.hafele.cz/cs/product/profilov-li-ty-aluminium/0000016a0000fdc600040023/ - SearchParameter=&Category=FN0KAOsFc8sAAAFsXNX0_hGx&checkbox_fs_handles_knobs_product_type=%C3%9Achytkov%C3%A9+profily&@P.FF.followSearch=10000&PageNumber=2&OriginalPageSize=12&PageSize=12&Position=13&OrigPos=358&ProductListSize=43",null,"SK","Avecan","TULIP Úchytka Lucata 160 černá matná","Avecan_TULIP Úchytka Lucata 160 černá matná",0,null,null,null,null,null,null,null,null,null,null,null,null,null,null,null,null,null,null,null,null,null,null,null,null,null,null,null,null,null,null,"'CZ_2020-10'!$A:$H","$A:$H","11916CZ44105","TULIP úchytka Nakana 128 chrom matný + šroubky","KNK","neuwirth","2020-10-01","Lenka Kormaník",0.75916152000000003,"x","x","x","x"]
[{"$error":"#N/A"},null,{"$f":"IFERROR(VLOOKUP(B155,List1!$A:$B,2,0),\"x\")","v":"x"},null,null,null,null,null,null,{"$f":"CONCATENATE(VLOOKUP(E155,[1]Seznamy!$Q$2:$R$36,2,0),VLOOKUP(F155,[1]Produkty!$I:$O,7,0),C155,D155)","v":{"$error":"#N/A"}},null,"CZ","Hafele","STRONG Rektifikační nožka 100 mm","Hafele_STRONG Rektifikační nožka 100 mm","https://www.hafele.cz/cs/product/rektifika-n-soklov-noha-k-p-i-roubov-n-/63745326/?MasterSKU=0000000100013c1500010023 - &SearchParameter=%26%40QueryTerm%3DRektifika%25C4%258Dn%25C3%25AD%2Bsoklov%25C3%25A1%2Bnoha%2Bk%2Bp%25C5%2599i%25C5%25A1roubov%25C3%25A1n%25C3%25AD.%2B637.45.326%26%40P.FF.followSearch%3D9590&PageNumber=1&ProductListSize=13&PageSize=12",null,"SK","Avecan","TULIP úchytka Nakana 128 chrom matný + šroubky","Avecan_TULIP úchytka Nakana 128 chrom matný + šroubky",0,null,null,null,null,null,null,null,null,null,null,null,null,null,null,null,null,null,null,null,null,null,null,null,null,null,null,null,null,null,null,"'CZ_2020-10'!$A:$H","$A:$H","11917CZ44105","TULIP úchytka Piombina 96 nikl matný + šroubky","KNK","neuwirth","2020-10-01","Lenka Kormaník",0.41656555200000001,"x","x","x","x"]
[{"$error":"#N/A"},null,{"$f":"IFERROR(VLOOKUP(B156,List1!$A:$B,2,0),\"x\")","v":"x"},null,null,null,null,null,null,{"$f":"CONCATENATE(VLOOKUP(E156,[1]Seznamy!$Q$2:$R$36,2,0),VLOOKUP(F156,[1]Produkty!$I:$O,7,0),C156,D156)","v":{"$error":"#N/A"}},null,"CZ","Hafele","StrongBox H86/500mm bílý","Hafele_StrongBox H86/500mm bílý","https://www.hafele.cz/cs/product/sada-z-suvky-haefele-matrix-box-s35-v-ka-bo-nice-84-mm-nosnost-35-kg-s-mechanismem-tlumen-ho-dotahu/55256790/?MasterSKU=000001550003d2b400030023 - &SearchParameter=%26%40QueryTerm%3D*%26Category%3DoDkKAOsF9J4AAAFs0Mb0_hGx%26%40P.FF.followSearch%3D10000&PageNumber=1&ProductListSize=469&PageSize=12",null,"SK","Avecan","TULIP úchytka Piombina 96 nikl matný + šroubky","Avecan_TULIP úchytka Piombina 96 nikl matný + šroubky",0,null,null,null,null,null,null,null,null,null,null,null,null,null,null,null,null,null,null,null,null,null,null,null,null,null,null,null,null,null,null,"'CZ_2020-10'!$A:$H","$A:$H","11918CZ44105","TULIP úchytka Anita 96 nikl matný + šroubky","KNK","neuwirth","2020-10-01","Lenka Kormaník",0.26375996400000001,"x","x","x","x"]
[{"$error":"#N/A"},null,{"$f":"IFERROR(VLOOKUP(B157,List1!$A:$B,2,0),\"x\")","v":"x"},null,null,null,null,null,null,{"$f":"CONCATENATE(VLOOKUP(E157,[1]Seznamy!$Q$2:$R$36,2,0),VLOOKUP(F157,[1]Produkty!$I:$O,7,0),C157,D157)","v":{"$error":"#N/A"}},null,"CZ","Hafele","StrongMax 89/500 mm šedý (antracit)","Hafele_StrongMax 89/500 mm šedý (antracit)","https://www.hafele.cz/cs/product/sada-z-suvky-haefele-matrix-box-slim-a30-v-ka-bo-nice-89-mm-nosnost-30-kg-s-mechanismem-tlumen-ho-dotahu/55221750/?MasterSKU=0000015500037b9d00020023",null,"SK","Avecan","TULIP Úchytka Ramara 596 imitace nerezi","Avecan_TULIP Úchytka Ramara 596 imitace nerezi",0,null,null,null,null,null,null,null,null,null,null,null,null,null,null,null,null,null,null,null,null,null,null,null,null,null,null,null,null,null,null,"'CZ_2020-10'!$A:$H","$A:$H","11920CZ44105","TULIP Úchytka Ramara 596 imitace nerezi","KNK","neuwirth","2020-10-01","Lenka Kormaník",3.3996810120000003,"x","x","x","x"]
[{"$error":"#N/A"},null,{"$f":"IFERROR(VLOOKUP(B158,List1!$A:$B,2,0),\"x\")","v":"x"},null,null,null,null,null,null,{"$f":"CONCATENATE(VLOOKUP(E158,[1]Seznamy!$Q$2:$R$36,2,0),VLOOKUP(F158,[1]Produkty!$I:$O,7,0),C158,D158)","v":{"$error":"#N/A"}},null,"CZ","Hafele","StrongRide synchro 3D celovýsuv 500 mm s tlumením","Hafele_StrongRide synchro 3D celovýsuv 500 mm s tlumením","https://www.hafele.cz/cs/product/skryt-v-suvy-haefele-matrix-runner-um-a30-plnov-suv-nosnost-do-30-kg-ocel-mont-pomoc-spojky/0000015600036d6d00010023/ - SearchParameter=&@QueryTerm=Matrix+Runner+UM+A30%2C+spojka&@P.FF.followSearch=9378&PageNumber=1&OriginalPageSize=12&PageSize=12&Position=1&OrigPos=1&ProductListSize=4&PDP=true",null,"SK","Avecan","TULIP věšák Lugo XL chrom matný + šroubky","Avecan_TULIP věšák Lugo XL chrom matný + šroubky",0,null,null,null,null,null,null,null,null,null,null,null,null,null,null,null,null,null,null,null,null,null,null,null,null,null,null,null,null,null,null,"'CZ_2020-10'!$A:$H","$A:$H","11921CZ44105","TULIP Úchytka Lucata 160 černá matná","KNK","neuwirth","2020-10-01","Lenka Kormaník",0.771814212,"x","x","x","x"]
[{"$error":"#N/A"},null,{"$f":"IFERROR(VLOOKUP(B159,List1!$A:$B,2,0),\"x\")","v":"x"},null,null,null,null,null,null,{"$f":"CONCATENATE(VLOOKUP(E159,[1]Seznamy!$Q$2:$R$36,2,0),VLOOKUP(F159,[1]Produkty!$I:$O,7,0),C159,D159)","v":{"$error":"#N/A"}},null,"CZ","Hafele","BBP OA Zásuvka 515 mm kovová černá","Hafele_BBP OA Zásuvka 515 mm kovová černá","https://www.hafele.cz/cs/product/syst-mov-z-suvka-pro-mont-n-ku-392-mm/0000002f0003b91900020023/ - SearchParameter=&@QueryTerm=Syst%C3%A9mov%C3%A1+z%C3%A1suvka%2C+pro+mont%C3%A1%C5%BEn%C3%AD+%C5%A1%C3%AD%C5%99ku+392%2C+hl.+530.+429.34.228&@P.FF.followSearch=9296&PageNumber=1&OriginalPageSize=12&PageSize=12&Position=1&OrigPos=1&ProductListSize=194&PDP=true",null,"SK","Avecan","Vrut PZ 4x18 zápustná hlava zinek bílý PZ2","Avecan_Vrut PZ 4x18 zápustná hlava zinek bílý PZ2",0,null,null,null,null,null,null,null,null,null,null,null,null,null,null,null,null,null,null,null,null,null,null,null,null,null,null,null,null,null,null,"'CZ_2020-10'!$A:$H","$A:$H","11924CZ44105","Vrut PZ 4x18 zápustná hlava zinek bílý PZ2","KNK","neuwirth","2020-10-01","Stančo Denčev",1.9465679999999999E-3,"x","x","x","x"]
[{"$error":"#N/A"},null,{"$f":"IFERROR(VLOOKUP(B160,List1!$A:$B,2,0),\"x\")","v":"x"},null,null,null,null,null,null,{"$f":"CONCATENATE(VLOOKUP(E160,[1]Seznamy!$Q$2:$R$36,2,0),VLOOKUP(F160,[1]Produkty!$I:$O,7,0),C160,D160)","v":{"$error":"#N/A"}},null,"CZ","Hafele","Vrut PZ 4x18 zápustná hlava zinek bílý PZ2","Hafele_Vrut PZ 4x18 zápustná hlava zinek bílý PZ2","https://www.hafele.cz/cs/product/vrut-do-d-evot-sky-hospa-z-pustn-hlava-pz-pln-z-vit-pro-kov-n-n-bytkov-z-v-sy-orga-box/01535833/?MasterSKU=00000001000020a300010023&Quantity=1000 - &SearchParameter=%26Category%3DpAsKAOsFynMAAAFsOdX0_hGx%26checkbox_fs_fixing_screws_type_of_drive%3DK__0159%25C3%25AD__017Eov%25C3%25A1%2Bdr%25C3%25A1__017Eka%2B%252F%2BPozi%2B%252F%2BPZ%26checkbox_fs_fixing_screws_type_of_head%3DZ%25C3%25A1pustn%25C3%25A1%2Bhlava%26checkbox_fs_fixing_screws_type_of_screw%3DVruty%2BHospa_or_Vruty%2Bdo%2Bd__0159eva_or_Vruty%2Bdo%2Bd__0159evot__0159%25C3%25ADsky%26ContentType%3DV%25C3%25BDrobky%26slider_fs_fixing_screws_length%3D10.0%253B16%2B-%2B28%253B180.0%26%40P.FF.followSearch%3D10000&PageNumber=1&ProductListSize=2&PageSize=12",null,"SK","Drevina","ABSB 77039/414 W980/500/W954 ST2 23/2","Drevina_ABSB 77039/414 W980/500/W954 ST2 23/2",0,null,null,null,null,null,null,null,null,null,null,null,null,null,null,null,null,null,null,null,null,null,null,null,null,null,null,null,null,null,null,"'CZ_2020-10'!$A:$H","$A:$H","11926CZ44105","DTDL W980 ST2 Platinově bílá 2800/2070/18","KNK","neuwirth","2020-10-01","Martin Karaščák",25.214852557439997,"x","x","x","x"]
[{"$error":"#N/A"},null,{"$f":"IFERROR(VLOOKUP(B161,List1!$A:$B,2,0),\"x\")","v":"x"},null,null,null,null,null,null,{"$f":"CONCATENATE(VLOOKUP(E161,[1]Seznamy!$Q$2:$R$36,2,0),VLOOKUP(F161,[1]Produkty!$I:$O,7,0),C161,D161)","v":{"$error":"#N/A"}},null,"CZ","Hafele","STRONG Elektrická zásuvka 3x230V, francouzský typ, 265x130x68 mm stříbrná","Hafele_STRONG Elektrická zásuvka 3x230V, francouzský typ, 265x130x68 mm stříbrná","https://www.hafele.cz/cs/product/v-suvn-z-suvkov-modul-se-syst-mem-z-suvek-sv16-skl-dac-230-v/82666003/?MasterSKU=0000001b0001ddc600050023&PageSize=48 - &SearchParameter=%26%40QueryTerm%3D*%26Category%3DWQoKAOsFmvkAAAFsSNP0_hGx%26%40P.FF.followSearch%3D10000&PageNumber=1&ProductListSize=73&PageSize=48",null,"SK","Drevina","ABSB HU10113 Bílá 101/110/113/8100/8685/W954/B3822 PE 22/2","Drevina_ABSB HU10113 Bílá 101/110/113/8100/8685/W954/B3822 PE 22/2",0,null,null,null,null,null,null,null,null,null,null,null,null,null,null,null,null,null,null,null,null,null,null,null,null,null,null,null,null,null,null,"'CZ_2020-10'!$A:$H","$A:$H","11927CZ44105","DTDD DUB COMMERCIAL A/B DEC 2800/2070/19","KNK","neuwirth","2020-10-01","Martin Karaščák",55.226676912160002,"x","x","x","x"]
[{"$error":"#N/A"},null,{"$f":"IFERROR(VLOOKUP(B162,List1!$A:$B,2,0),\"x\")","v":"x"},null,null,null,null,null,null,{"$f":"CONCATENATE(VLOOKUP(E162,[1]Seznamy!$Q$2:$R$36,2,0),VLOOKUP(F162,[1]Produkty!$I:$O,7,0),C162,D162)","v":{"$error":"#N/A"}},null,"CZ","Hafele","Alfa II profile 222788","Hafele_Alfa II profile 222788",0,null,"SK","Drevina","BBP OA Zásuvka 515 mm kovová černá","Drevina_BBP OA Zásuvka 515 mm kovová černá",0,null,null,null,null,null,null,null,null,null,null,null,null,null,null,null,null,null,null,null,null,null,null,null,null,null,null,null,null,null,null,"'CZ_2020-10'!$A:$H","$A:$H","11928CZ44105","DTDD Dub evr. radiál st A/B 2800/2070/19","KNK","neuwirth","2020-10-01","Martin Karaščák",0,"x","x","x","x"]
[{"$error":"#N/A"},null,{"$f":"IFERROR(VLOOKUP(B163,List1!$A:$B,2,0),\"x\")","v":"x"},null,null,null,null,null,null,{"$f":"CONCATENATE(VLOOKUP(E163,[1]Seznamy!$Q$2:$R$36,2,0),VLOOKUP(F163,[1]Produkty!$I:$O,7,0),C163,D163)","v":{"$error":"#N/A"}},null,"CZ","Hafele","SEVROLL Era úchytová lišta 18mm 2,70m stříbrná","Hafele_SEVROLL Era úchytová lišta 18mm 2,70m stříbrná",0,null,"SK","Drevina","DTDD DUB COMMERCIAL A/B DEC 2800/2070/19","Drevina_DTDD DUB COMMERCIAL A/B DEC 2800/2070/19",0,null,null,null,null,null,null,null,null,null,null,null,null,null,null,null,null,null,null,null,null,null,null,null,null,null,null,null,null,null,null,"'CZ_2020-10'!$A:$H","$A:$H","11930CZ44105","ABSB 77039/414 W980/500/W954 ST2 23/2","KNK","neuwirth","2020-10-01","Martin Karaščák",0,"x","x","x","x"]
[{"$error":"#N/A"},null,{"$f":"IFERROR(VLOOKUP(B164,List1!$A:$B,2,0),\"x\")","v":"x"},null,null,null,null,null,null,{"$f":"CONCATENATE(VLOOKUP(E164,[1]Seznamy!$Q$2:$R$36,2,0),VLOOKUP(F164,[1]Produkty!$I:$O,7,0),C164,D164)","v":{"$error":"#N/A"}},null,"CZ","Hafele","TULIP Gola dvířkový J profil 4,1m eloxovaný hliník","Hafele_TULIP Gola dvířkový J profil 4,1m eloxovaný hliník",0,null,"SK","Drevina","DTDD Dub evr. radiál st A/B 2800/2070/19","Drevina_DTDD Dub evr. radiál st A/B 2800/2070/19",0,null,null,null,null,null,null,null,null,null,null,null,null,null,null,null,null,null,null,null,null,null,null,null,null,null,null,null,null,null,null,"'CZ_2020-10'!$A:$H","$A:$H","11931CZ44105","HDF LAK 101 BÍLÁ PE 2800/2070/3","KNK","neuwirth","2020-10-01","Martin Karaščák",5.8424658364800006,"x","x","x","x"]
[{"$error":"#N/A"},null,{"$f":"IFERROR(VLOOKUP(B165,List1!$A:$B,2,0),\"x\")","v":"x"},null,null,null,null,null,null,{"$f":"CONCATENATE(VLOOKUP(E165,[1]Seznamy!$Q$2:$R$36,2,0),VLOOKUP(F165,[1]Produkty!$I:$O,7,0),C165,D165)","v":{"$error":"#N/A"}},null,"CZ","Hafele","STRONG LED pásek 21,6W/m 24V bílá neutrální 210 LED/m","Hafele_STRONG LED pásek 21,6W/m 24V bílá neutrální 210 LED/m",0,null,"SK","Drevina","DTDL W980 ST2 Platinově bílá 2800/2070/18","Drevina_DTDL W980 ST2 Platinově bílá 2800/2070/18",0,null,null,null,null,null,null,null,null,null,null,null,null,null,null,null,null,null,null,null,null,null,null,null,null,null,null,null,null,null,null,"'CZ_2020-10'!$A:$H","$A:$H","11932CZ44105","Alfa II profile 222788","KNK","neuwirth","2020-10-01","NULL",4.206132684,"x","x","x","x"]
[{"$error":"#N/A"},null,{"$f":"IFERROR(VLOOKUP(B166,List1!$A:$B,2,0),\"x\")","v":"x"},null,null,null,null,null,null,{"$f":"CONCATENATE(VLOOKUP(E166,[1]Seznamy!$Q$2:$R$36,2,0),VLOOKUP(F166,[1]Produkty!$I:$O,7,0),C166,D166)","v":{"$error":"#N/A"}},null,"CZ","Hafele","STRONG transformátor plochý LED 24V 100W","Hafele_STRONG transformátor plochý LED 24V 100W",0,null,"SK","Drevina","FRANKE Dřez BFG 611-78 780 x 500 onyx","Drevina_FRANKE Dřez BFG 611-78 780 x 500 onyx",0,null,null,null,null,null,null,null,null,null,null,null,null,null,null,null,null,null,null,null,null,null,null,null,null,null,null,null,null,null,null,"'CZ_2020-10'!$A:$H","$A:$H","11934CZ44105","Strong electric socket, lift","KNK","neuwirth","2020-10-01","NULL",12.923845868960001,"x","x","x","x"]
[{"$error":"#N/A"},null,{"$f":"IFERROR(VLOOKUP(B167,List1!$A:$B,2,0),\"x\")","v":"x"},null,null,null,null,null,null,{"$f":"CONCATENATE(VLOOKUP(E167,[1]Seznamy!$Q$2:$R$36,2,0),VLOOKUP(F167,[1]Produkty!$I:$O,7,0),C167,D167)","v":{"$error":"#N/A"}},null,"CZ","Hafele","ABSB 77039/414 W980/500/W954 ST2 23/2","Hafele_ABSB 77039/414 W980/500/W954 ST2 23/2",0,null,"SK","Drevina","FRANKE Dřez ETN 610 455 x 435","Drevina_FRANKE Dřez ETN 610 455 x 435",0,null,null,null,null,null,null,null,null,null,null,null,null,null,null,null,null,null,null,null,null,null,null,null,null,null,null,null,null,null,null,"'CZ_2020-10'!$A:$H","$A:$H","11935CZ44105","STRONG Elektricky stavitelná podnož černá RAL 9005 mat","KNK","neuwirth","2020-10-01","NULL",110.69330687999999,"x","x","x","x"]
[{"$error":"#N/A"},null,{"$f":"IFERROR(VLOOKUP(B168,List1!$A:$B,2,0),\"x\")","v":"x"},null,null,null,null,null,null,{"$f":"CONCATENATE(VLOOKUP(E168,[1]Seznamy!$Q$2:$R$36,2,0),VLOOKUP(F168,[1]Produkty!$I:$O,7,0),C168,D168)","v":{"$error":"#N/A"}},null,"CZ","Hafele","ABSB HU10113 Bílá 101/110/113/8100/8685/W954/B3822 PE 22/2","Hafele_ABSB HU10113 Bílá 101/110/113/8100/8685/W954/B3822 PE 22/2",0,null,"SK","Drevina","FRANKE Dřez ETN 614 6/4 obyčejný ventil bez otvoru","Drevina_FRANKE Dřez ETN 614 6/4 obyčejný ventil bez otvoru",0,null,null,null,null,null,null,null,null,null,null,null,null,null,null,null,null,null,null,null,null,null,null,null,null,null,null,null,null,null,null,"'CZ_2020-10'!$A:$H","$A:$H","11936CZ44105","TULIP Gola dvířkový J profil 4,1m eloxovaný hliník","KNK","neuwirth","2020-10-01","NULL",3.8168000000000002E-4,"x","x","x","x"]
[{"$error":"#N/A"},null,{"$f":"IFERROR(VLOOKUP(B169,List1!$A:$B,2,0),\"x\")","v":"x"},null,null,null,null,null,null,{"$f":"CONCATENATE(VLOOKUP(E169,[1]Seznamy!$Q$2:$R$36,2,0),VLOOKUP(F169,[1]Produkty!$I:$O,7,0),C169,D169)","v":{"$error":"#N/A"}},null,"CZ","Hafele","DTDD DUB COMMERCIAL A/B DEC 2800/2070/19","Hafele_DTDD DUB COMMERCIAL A/B DEC 2800/2070/19",0,null,"SK","Drevina","GOLLINUCCI Sorter 580 Plus Line, 600 mm, výška 505mm, 80 l, šedý","Drevina_GOLLINUCCI Sorter 580 Plus Line, 600 mm, výška 505mm, 80 l, šedý",0,null,null,null,null,null,null,null,null,null,null,null,null,null,null,null,null,null,null,null,null,null,null,null,null,null,null,null,null,null,null,"'CZ_2020-10'!$A:$H","$A:$H","1149CZ44105","BBP OA Zásuvka 515 mm kovová černá","Kopecký CZ","neuwirth","2020-10-01","Lukáš Sládek",4.7811832224000002,"x","x","x","x"]
[{"$error":"#N/A"},null,{"$f":"IFERROR(VLOOKUP(B170,List1!$A:$B,2,0),\"x\")","v":"x"},null,null,null,null,null,null,{"$f":"CONCATENATE(VLOOKUP(E170,[1]Seznamy!$Q$2:$R$36,2,0),VLOOKUP(F170,[1]Produkty!$I:$O,7,0),C170,D170)","v":{"$error":"#N/A"}},null,"CZ","Hafele","DTDD Dub evr. radiál st A/B 2800/2070/19","Hafele_DTDD Dub evr. radiál st A/B 2800/2070/19",0,null,"SK","Drevina","GOLLINUCCI Sorter Linea 222, 300 mm","Drevina_GOLLINUCCI Sorter Linea 222, 300 mm",0,null,null,null,null,null,null,null,null,null,null,null,null,null,null,null,null,null,null,null,null,null,null,null,null,null,null,null,null,null,null,"'CZ_2020-10'!$A:$H","$A:$H","11417CZ44105","TULIP úchytka Piombina 96 nikl matný + šroubky","Kopecký CZ","neuwirth","2020-10-01","Lenka Kormaník",0.41656555200000001,"x","x","x","x"]
[{"$error":"#N/A"},null,{"$f":"IFERROR(VLOOKUP(B171,List1!$A:$B,2,0),\"x\")","v":"x"},null,null,null,null,null,null,{"$f":"CONCATENATE(VLOOKUP(E171,[1]Seznamy!$Q$2:$R$36,2,0),VLOOKUP(F171,[1]Produkty!$I:$O,7,0),C171,D171)","v":{"$error":"#N/A"}},null,"CZ","Hafele","DTDL W980 ST2 Platinově bílá 2800/2070/18","Hafele_DTDL W980 ST2 Platinově bílá 2800/2070/18",0,null,"SK","Drevina","GOLLINUCCI Sorter Sistema 901/2x16 l, 600 mm","Drevina_GOLLINUCCI Sorter Sistema 901/2x16 l, 600 mm",0,null,null,null,null,null,null,null,null,null,null,null,null,null,null,null,null,null,null,null,null,null,null,null,null,null,null,null,null,null,null,"'CZ_2020-10'!$A:$H","$A:$H","11418CZ44105","TULIP úchytka Anita 96 nikl matný + šroubky","Kopecký CZ","neuwirth","2020-10-01","Lenka Kormaník",0.26375996400000001,"x","x","x","x"]
[{"$error":"#N/A"},null,{"$f":"IFERROR(VLOOKUP(B172,List1!$A:$B,2,0),\"x\")","v":"x"},null,null,null,null,null,null,{"$f":"CONCATENATE(VLOOKUP(E172,[1]Seznamy!$Q$2:$R$36,2,0),VLOOKUP(F172,[1]Produkty!$I:$O,7,0),C172,D172)","v":{"$error":"#N/A"}},null,"CZ","Hafele","FRANKE Dřez BFG 611-78 780 x 500 onyx","Hafele_FRANKE Dřez BFG 611-78 780 x 500 onyx",0,null,"SK","Drevina","HDF LAK 101 BÍLÁ PE 2800/2070/3","Drevina_HDF LAK 101 BÍLÁ PE 2800/2070/3",0,null,null,null,null,null,null,null,null,null,null,null,null,null,null,null,null,null,null,null,null,null,null,null,null,null,null,null,null,null,null,"'CZ_2020-10'!$A:$H","$A:$H","11420CZ44105","TULIP Úchytka Ramara 596 imitace nerezi","Kopecký CZ","neuwirth","2020-10-01","Lenka Kormaník",3.3996810120000003,"x","x","x","x"]
[{"$error":"#N/A"},null,{"$f":"IFERROR(VLOOKUP(B173,List1!$A:$B,2,0),\"x\")","v":"x"},null,null,null,null,null,null,{"$f":"CONCATENATE(VLOOKUP(E173,[1]Seznamy!$Q$2:$R$36,2,0),VLOOKUP(F173,[1]Produkty!$I:$O,7,0),C173,D173)","v":{"$error":"#N/A"}},null,"CZ","Hafele","GOLLINUCCI Sorter 580 Plus Line, 600 mm, výška 505mm, 80 l, šedý","Hafele_GOLLINUCCI Sorter 580 Plus Line, 600 mm, výška 505mm, 80 l, šedý",0,null,"SK","Drevina","Konfirmát 7/50 zinek bílý bulk","Drevina_Konfirmát 7/50 zinek bílý bulk",0,null,null,null,null,null,null,null,null,null,null,null,null,null,null,null,null,null,null,null,null,null,null,null,null,null,null,null,null,null,null,"'CZ_2020-10'!$A:$H","$A:$H","11421CZ44105","TULIP Úchytka Lucata 160 černá matná","Kopecký CZ","neuwirth","2020-10-01","Lenka Kormaník",0.771814212,"x","x","x","x"]
[{"$error":"#N/A"},null,{"$f":"IFERROR(VLOOKUP(B174,List1!$A:$B,2,0),\"x\")","v":"x"},null,null,null,null,null,null,{"$f":"CONCATENATE(VLOOKUP(E174,[1]Seznamy!$Q$2:$R$36,2,0),VLOOKUP(F174,[1]Produkty!$I:$O,7,0),C174,D174)","v":{"$error":"#N/A"}},null,"CZ","Hafele","GOLLINUCCI Sorter Linea 222, 300 mm","Hafele_GOLLINUCCI Sorter Linea 222, 300 mm",0,null,"SK","Drevina","STRONG Elektrická zásuvka 3x230V, francouzský typ, 265x130x68 mm stříbrná","Drevina_STRONG Elektrická zásuvka 3x230V, francouzský typ, 265x130x68 mm stříbrná",0,null,null,null,null,null,null,null,null,null,null,null,null,null,null,null,null,null,null,null,null,null,null,null,null,null,null,null,null,null,null,"'CZ_2020-10'!$A:$H","$A:$H","11426CZ44105","DTDL W980 ST2 Platinově bílá 2800/2070/18","Kopecký CZ","neuwirth","2020-10-01","Martin Karaščák",25.214852557439997,"x","x","x","x"]
[{"$error":"#N/A"},null,{"$f":"IFERROR(VLOOKUP(B175,List1!$A:$B,2,0),\"x\")","v":"x"},null,null,null,null,null,null,{"$f":"CONCATENATE(VLOOKUP(E175,[1]Seznamy!$Q$2:$R$36,2,0),VLOOKUP(F175,[1]Produkty!$I:$O,7,0),C175,D175)","v":{"$error":"#N/A"}},null,"CZ","Hafele","GOLLINUCCI Sorter Sistema 901/2x16 l, 600 mm","Hafele_GOLLINUCCI Sorter Sistema 901/2x16 l, 600 mm",0,null,"SK","Drevina","STRONG plus závěs naložený s tlumením, s excentrem, klipový","Drevina_STRONG plus závěs naložený s tlumením, s excentrem, klipový",0,null,null,null,null,null,null,null,null,null,null,null,null,null,null,null,null,null,null,null,null,null,null,null,null,null,null,null,null,null,null,"'CZ_2020-10'!$A:$H","$A:$H","11427CZ44105","DTDD DUB COMMERCIAL A/B DEC 2800/2070/19","Kopecký CZ","neuwirth","2020-10-01","Martin Karaščák",55.226676912160002,"x","x","x","x"]
[{"$error":"#N/A"},null,{"$f":"IFERROR(VLOOKUP(B176,List1!$A:$B,2,0),\"x\")","v":"x"},null,null,null,null,null,null,{"$f":"CONCATENATE(VLOOKUP(E176,[1]Seznamy!$Q$2:$R$36,2,0),VLOOKUP(F176,[1]Produkty!$I:$O,7,0),C176,D176)","v":{"$error":"#N/A"}},null,"CZ","Hafele","HDF LAK 101 BÍLÁ PE 2800/2070/3","Hafele_HDF LAK 101 BÍLÁ PE 2800/2070/3",0,null,"SK","Drevina","STRONG Rektifikační nožka 100 mm","Drevina_STRONG Rektifikační nožka 100 mm",0,null,null,null,null,null,null,null,null,null,null,null,null,null,null,null,null,null,null,null,null,null,null,null,null,null,null,null,null,null,null,"'CZ_2020-10'!$A:$H","$A:$H","11428CZ44105","DTDD Dub evr. radiál st A/B 2800/2070/19","Kopecký CZ","neuwirth","2020-10-01","Martin Karaščák",0,"x","x","x","x"]
[{"$error":"#N/A"},null,{"$f":"IFERROR(VLOOKUP(B177,List1!$A:$B,2,0),\"x\")","v":"x"},null,null,null,null,null,null,{"$f":"CONCATENATE(VLOOKUP(E177,[1]Seznamy!$Q$2:$R$36,2,0),VLOOKUP(F177,[1]Produkty!$I:$O,7,0),C177,D177)","v":{"$error":"#N/A"}},null,"CZ","Hafele","Strong electric socket, lift","Hafele_Strong electric socket, lift",0,null,"SK","Drevina","STRONG Stolová noha centrální 450x450 černá","Drevina_STRONG Stolová noha centrální 450x450 černá",0,null,null,null,null,null,null,null,null,null,null,null,null,null,null,null,null,null,null,null,null,null,null,null,null,null,null,null,null,null,null,"'CZ_2020-10'!$A:$H","$A:$H","11429CZ44105","ABSB HU10113 Bílá 101/110/113/8100/8685/W954/B3822 PE 22/2","Kopecký CZ","neuwirth","2020-10-01","Martin Karaščák",0.20190872000000001,"x","x","x","x"]
[{"$error":"#N/A"},null,{"$f":"IFERROR(VLOOKUP(B178,List1!$A:$B,2,0),\"x\")","v":"x"},null,null,null,null,null,null,{"$f":"CONCATENATE(VLOOKUP(E178,[1]Seznamy!$Q$2:$R$36,2,0),VLOOKUP(F178,[1]Produkty!$I:$O,7,0),C178,D178)","v":{"$error":"#N/A"}},null,"CZ","Hafele","STRONG Elektricky stavitelná podnož černá RAL 9005 mat","Hafele_STRONG Elektricky stavitelná podnož černá RAL 9005 mat",0,null,"SK","Drevina","STRONG závěs naložený, slide on","Drevina_STRONG závěs naložený, slide on",0,null,null,null,null,null,null,null,null,null,null,null,null,null,null,null,null,null,null,null,null,null,null,null,null,null,null,null,null,null,null,"'CZ_2020-10'!$A:$H","$A:$H","11430CZ44105","ABSB 77039/414 W980/500/W954 ST2 23/2","Kopecký CZ","neuwirth","2020-10-01","Martin Karaščák",0,"x","x","x","x"]
[{"$error":"#N/A"},null,{"$f":"IFERROR(VLOOKUP(B179,List1!$A:$B,2,0),\"x\")","v":"x"},null,null,null,null,null,null,{"$f":"CONCATENATE(VLOOKUP(E179,[1]Seznamy!$Q$2:$R$36,2,0),VLOOKUP(F179,[1]Produkty!$I:$O,7,0),C179,D179)","v":{"$error":"#N/A"}},null,"CZ","Hafele","STRONG Stolová noha centrální 450x450 černá","Hafele_STRONG Stolová noha centrální 450x450 černá",0,null,"SK","Drevina","StrongBox H86/500mm bílý","Drevina_StrongBox H86/500mm bílý",0,null,null,null,null,null,null,null,null,null,null,null,null,null,null,null,null,null,null,null,null,null,null,null,null,null,null,null,null,null,null,"'CZ_2020-10'!$A:$H","$A:$H","11431CZ44105","HDF LAK 101 BÍLÁ PE 2800/2070/3","Kopecký CZ","neuwirth","2020-10-01","Martin Karaščák",5.8424658364800006,"x","x","x","x"]
[{"$error":"#N/A"},null,{"$f":"IFERROR(VLOOKUP(B180,List1!$A:$B,2,0),\"x\")","v":"x"},null,null,null,null,null,null,{"$f":"CONCATENATE(VLOOKUP(E180,[1]Seznamy!$Q$2:$R$36,2,0),VLOOKUP(F180,[1]Produkty!$I:$O,7,0),C180,D180)","v":{"$error":"#N/A"}},null,"CZ","Hafele","TULIP úchytka Anita 96 nikl matný + šroubky","Hafele_TULIP úchytka Anita 96 nikl matný + šroubky",0,null,"SK","Drevina","StrongMax 89/500 mm šedý (antracit)","Drevina_StrongMax 89/500 mm šedý (antracit)",0,null,null,null,null,null,null,null,null,null,null,null,null,null,null,null,null,null,null,null,null,null,null,null,null,null,null,null,null,null,null,"'CZ_2020-10'!$A:$H","$A:$H","11435CZ44105","STRONG Elektricky stavitelná podnož černá RAL 9005 mat","Kopecký CZ","neuwirth","2020-10-01","NULL",110.69330687999999,"x","x","x","x"]
[{"$error":"#N/A"},null,{"$f":"IFERROR(VLOOKUP(B181,List1!$A:$B,2,0),\"x\")","v":"x"},null,null,null,null,null,null,{"$f":"CONCATENATE(VLOOKUP(E181,[1]Seznamy!$Q$2:$R$36,2,0),VLOOKUP(F181,[1]Produkty!$I:$O,7,0),C181,D181)","v":{"$error":"#N/A"}},null,"CZ","Hafele","TULIP úchytka Piombina 96 nikl matný + šroubky","Hafele_TULIP úchytka Piombina 96 nikl matný + šroubky",0,null,"SK","Drevina","StrongRide synchro 3D celovýsuv 500 mm s tlumením","Drevina_StrongRide synchro 3D celovýsuv 500 mm s tlumením",0,null,null,null,null,null,null,null,null,null,null,null,null,null,null,null,null,null,null,null,null,null,null,null,null,null,null,null,null,null,null,"'CZ_2020-10'!$A:$H","$A:$H","1033CZ44105","StrongBox H86/500mm bílý","Lunit","neuwirth","2020-10-01","Martin Zniszczol",7.0057364000000009,"x","x","x","x"]
[{"$error":"#N/A"},null,{"$f":"IFERROR(VLOOKUP(B182,List1!$A:$B,2,0),\"x\")","v":"x"},null,null,null,null,null,null,{"$f":"CONCATENATE(VLOOKUP(E182,[1]Seznamy!$Q$2:$R$36,2,0),VLOOKUP(F182,[1]Produkty!$I:$O,7,0),C182,D182)","v":{"$error":"#N/A"}},null,"CZ","Hranipex","ABSB HU10113 Bílá 101/110/113/8100/8685/W954/B3822 PE 22/2","Hranipex_ABSB HU10113 Bílá 101/110/113/8100/8685/W954/B3822 PE 22/2","https://www.hranipex.cz/cs/katalog/abs-hrany/uni-barvy/hu-10113-abs-hrana-bila-perla-101/",null,"SK","Drevina","TULIP úchytka Anita 96 nikl matný + šroubky","Drevina_TULIP úchytka Anita 96 nikl matný + šroubky",0,null,null,null,null,null,null,null,null,null,null,null,null,null,null,null,null,null,null,null,null,null,null,null,null,null,null,null,null,null,null,"'CZ_2020-10'!$A:$H","$A:$H","1035CZ44105","StrongRide synchro 3D celovýsuv 500 mm s tlumením","Lunit","neuwirth","2020-10-01","Martin Zniszczol",5.1412296,"x","x","x","x"]
[{"$error":"#N/A"},null,{"$f":"IFERROR(VLOOKUP(B183,List1!$A:$B,2,0),\"x\")","v":"x"},null,null,null,null,null,null,{"$f":"CONCATENATE(VLOOKUP(E183,[1]Seznamy!$Q$2:$R$36,2,0),VLOOKUP(F183,[1]Produkty!$I:$O,7,0),C183,D183)","v":{"$error":"#N/A"}},null,"CZ","Hranipex","ABSB 77039/414 W980/500/W954 ST2 23/2","Hranipex_ABSB 77039/414 W980/500/W954 ST2 23/2","https://www.hranipex.cz/cs/katalog/abs-hrany-advantedge/abs-hrany-advantedge/hu-10980-abs-hrana-bila-perla-101-hot-air/",null,"SK","Drevina","TULIP Úchytka Lucata 160 černá matná","Drevina_TULIP Úchytka Lucata 160 černá matná",0,null,null,null,null,null,null,null,null,null,null,null,null,null,null,null,null,null,null,null,null,null,null,null,null,null,null,null,null,null,null,"'CZ_2020-10'!$A:$H","$A:$H","1039CZ44105","BBP OA Zásuvka 515 mm kovová černá","Lunit","neuwirth","2020-10-01","Lukáš Sládek",4.7811832224000002,"x","x","x","x"]
[{"$error":"#N/A"},null,{"$f":"IFERROR(VLOOKUP(B184,List1!$A:$B,2,0),\"x\")","v":"x"},null,null,null,null,null,null,{"$f":"CONCATENATE(VLOOKUP(E184,[1]Seznamy!$Q$2:$R$36,2,0),VLOOKUP(F184,[1]Produkty!$I:$O,7,0),C184,D184)","v":{"$error":"#N/A"}},null,"CZ","Hranipex","Alfa II profile 222788","Hranipex_Alfa II profile 222788",0,null,"SK","Drevina","TULIP úchytka Nakana 128 chrom matný + šroubky","Drevina_TULIP úchytka Nakana 128 chrom matný + šroubky",0,null,null,null,null,null,null,null,null,null,null,null,null,null,null,null,null,null,null,null,null,null,null,null,null,null,null,null,null,null,null,"'CZ_2020-10'!$A:$H","$A:$H","10311CZ44105","FRANKE Dřez BFG 611-78 780 x 500 onyx","Lunit","neuwirth","2020-10-01","Marcela Piechová",101.832224,"x","x","x","x"]
[{"$error":"#N/A"},null,{"$f":"IFERROR(VLOOKUP(B185,List1!$A:$B,2,0),\"x\")","v":"x"},null,null,null,null,null,null,{"$f":"CONCATENATE(VLOOKUP(E185,[1]Seznamy!$Q$2:$R$36,2,0),VLOOKUP(F185,[1]Produkty!$I:$O,7,0),C185,D185)","v":{"$error":"#N/A"}},null,"CZ","Hranipex","BBP OA Zásuvka 515 mm kovová černá","Hranipex_BBP OA Zásuvka 515 mm kovová černá",0,null,"SK","Drevina","TULIP úchytka Piombina 96 nikl matný + šroubky","Drevina_TULIP úchytka Piombina 96 nikl matný + šroubky",0,null,null,null,null,null,null,null,null,null,null,null,null,null,null,null,null,null,null,null,null,null,null,null,null,null,null,null,null,null,null,"'CZ_2020-10'!$A:$H","$A:$H","10313CZ44105","GOLLINUCCI Sorter 580 Plus Line, 600 mm, výška 505mm, 80 l, šedý","Lunit","neuwirth","2020-10-01","Marcela Piechová",68.555453200000002,"x","x","x","x"]
[{"$error":"#N/A"},null,{"$f":"IFERROR(VLOOKUP(B186,List1!$A:$B,2,0),\"x\")","v":"x"},null,null,null,null,null,null,{"$f":"CONCATENATE(VLOOKUP(E186,[1]Seznamy!$Q$2:$R$36,2,0),VLOOKUP(F186,[1]Produkty!$I:$O,7,0),C186,D186)","v":{"$error":"#N/A"}},null,"CZ","Hranipex","DTDD DUB COMMERCIAL A/B DEC 2800/2070/19","Hranipex_DTDD DUB COMMERCIAL A/B DEC 2800/2070/19",0,null,"SK","Drevina","TULIP Úchytka Ramara 596 imitace nerezi","Drevina_TULIP Úchytka Ramara 596 imitace nerezi",0,null,null,null,null,null,null,null,null,null,null,null,null,null,null,null,null,null,null,null,null,null,null,null,null,null,null,null,null,null,null,"'CZ_2020-10'!$A:$H","$A:$H","10314CZ44105","FRANKE Dřez ETN 610 455 x 435","Lunit","neuwirth","2020-10-01","Marcela Piechová",23.091640000000002,"x","x","x","x"]
[{"$error":"#N/A"},null,{"$f":"IFERROR(VLOOKUP(B187,List1!$A:$B,2,0),\"x\")","v":"x"},null,null,null,null,null,null,{"$f":"CONCATENATE(VLOOKUP(E187,[1]Seznamy!$Q$2:$R$36,2,0),VLOOKUP(F187,[1]Produkty!$I:$O,7,0),C187,D187)","v":{"$error":"#N/A"}},null,"CZ","Hranipex","DTDD Dub evr. radiál st A/B 2800/2070/19","Hranipex_DTDD Dub evr. radiál st A/B 2800/2070/19",0,null,"SK","Drevina","TULIP věšák Lugo XL chrom matný + šroubky","Drevina_TULIP věšák Lugo XL chrom matný + šroubky",0,null,null,null,null,null,null,null,null,null,null,null,null,null,null,null,null,null,null,null,null,null,null,null,null,null,null,null,null,null,null,"'CZ_2020-10'!$A:$H","$A:$H","10315CZ44105","GOLLINUCCI Sorter Linea 222, 300 mm","Lunit","neuwirth","2020-10-01","Marcela Piechová",25.28515496,"x","x","x","x"]
[{"$error":"#N/A"},null,{"$f":"IFERROR(VLOOKUP(B188,List1!$A:$B,2,0),\"x\")","v":"x"},null,null,null,null,null,null,{"$f":"CONCATENATE(VLOOKUP(E188,[1]Seznamy!$Q$2:$R$36,2,0),VLOOKUP(F188,[1]Produkty!$I:$O,7,0),C188,D188)","v":{"$error":"#N/A"}},null,"CZ","Hranipex","DTDL W980 ST2 Platinově bílá 2800/2070/18","Hranipex_DTDL W980 ST2 Platinově bílá 2800/2070/18",0,null,"SK","Drevina","Vrut PZ 4x18 zápustná hlava zinek bílý PZ2","Drevina_Vrut PZ 4x18 zápustná hlava zinek bílý PZ2",0,null,null,null,null,null,null,null,null,null,null,null,null,null,null,null,null,null,null,null,null,null,null,null,null,null,null,null,null,null,null,"'CZ_2020-10'!$A:$H","$A:$H","10317CZ44105","TULIP úchytka Piombina 96 nikl matný + šroubky","Lunit","neuwirth","2020-10-01","Lenka Kormaník",0.41656555200000001,"x","x","x","x"]
[{"$error":"#N/A"},null,{"$f":"IFERROR(VLOOKUP(B189,List1!$A:$B,2,0),\"x\")","v":"x"},null,null,null,null,null,null,{"$f":"CONCATENATE(VLOOKUP(E189,[1]Seznamy!$Q$2:$R$36,2,0),VLOOKUP(F189,[1]Produkty!$I:$O,7,0),C189,D189)","v":{"$error":"#N/A"}},null,"CZ","Hranipex","FRANKE Dřez BFG 611-78 780 x 500 onyx","Hranipex_FRANKE Dřez BFG 611-78 780 x 500 onyx",0,null,"SK","IW Trend","BBP OA Zásuvka 515 mm kovová černá","IW Trend_BBP OA Zásuvka 515 mm kovová černá",0,null,null,null,null,null,null,null,null,null,null,null,null,null,null,null,null,null,null,null,null,null,null,null,null,null,null,null,null,null,null,"'CZ_2020-10'!$A:$H","$A:$H","10318CZ44105","TULIP úchytka Anita 96 nikl matný + šroubky","Lunit","neuwirth","2020-10-01","Lenka Kormaník",0.26375996400000001,"x","x","x","x"]
[{"$error":"#N/A"},null,{"$f":"IFERROR(VLOOKUP(B190,List1!$A:$B,2,0),\"x\")","v":"x"},null,null,null,null,null,null,{"$f":"CONCATENATE(VLOOKUP(E190,[1]Seznamy!$Q$2:$R$36,2,0),VLOOKUP(F190,[1]Produkty!$I:$O,7,0),C190,D190)","v":{"$error":"#N/A"}},null,"CZ","Hranipex","FRANKE Dřez ETN 610 455 x 435","Hranipex_FRANKE Dřez ETN 610 455 x 435",0,null,"SK","IW Trend","FRANKE Dřez ETN 610 455 x 435","IW Trend_FRANKE Dřez ETN 610 455 x 435",0,null,null,null,null,null,null,null,null,null,null,null,null,null,null,null,null,null,null,null,null,null,null,null,null,null,null,null,null,null,null,"'CZ_2020-10'!$A:$H","$A:$H","10320CZ44105","TULIP Úchytka Ramara 596 imitace nerezi","Lunit","neuwirth","2020-10-01","Lenka Kormaník",3.3996810120000003,"x","x","x","x"]
[{"$error":"#N/A"},null,{"$f":"IFERROR(VLOOKUP(B191,List1!$A:$B,2,0),\"x\")","v":"x"},null,null,null,null,null,null,{"$f":"CONCATENATE(VLOOKUP(E191,[1]Seznamy!$Q$2:$R$36,2,0),VLOOKUP(F191,[1]Produkty!$I:$O,7,0),C191,D191)","v":{"$error":"#N/A"}},null,"CZ","Hranipex","FRANKE Dřez ETN 614 6/4 obyčejný ventil bez otvoru","Hranipex_FRANKE Dřez ETN 614 6/4 obyčejný ventil bez otvoru",0,null,"SK","IW Trend","FRANKE Dřez ETN 614 6/4 obyčejný ventil bez otvoru","IW Trend_FRANKE Dřez ETN 614 6/4 obyčejný ventil bez otvoru",0,null,null,null,null,null,null,null,null,null,null,null,null,null,null,null,null,null,null,null,null,null,null,null,null,null,null,null,null,null,null,"'CZ_2020-10'!$A:$H","$A:$H","10321CZ44105","TULIP Úchytka Lucata 160 černá matná","Lunit","neuwirth","2020-10-01","Lenka Kormaník",0.771814212,"x","x","x","x"]
[{"$error":"#N/A"},null,{"$f":"IFERROR(VLOOKUP(B192,List1!$A:$B,2,0),\"x\")","v":"x"},null,null,null,null,null,null,{"$f":"CONCATENATE(VLOOKUP(E192,[1]Seznamy!$Q$2:$R$36,2,0),VLOOKUP(F192,[1]Produkty!$I:$O,7,0),C192,D192)","v":{"$error":"#N/A"}},null,"CZ","Hranipex","GOLLINUCCI Sorter 580 Plus Line, 600 mm, výška 505mm, 80 l, šedý","Hranipex_GOLLINUCCI Sorter 580 Plus Line, 600 mm, výška 505mm, 80 l, šedý",0,null,"SK","IW Trend","GOLLINUCCI Sorter Linea 222, 300 mm","IW Trend_GOLLINUCCI Sorter Linea 222, 300 mm",0,null,null,null,null,null,null,null,null,null,null,null,null,null,null,null,null,null,null,null,null,null,null,null,null,null,null,null,null,null,null,"'CZ_2020-10'!$A:$H","$A:$H","10322CZ44105","STRONG LED pásek 21,6W/m 24V bílá neutrální 210 LED/m","Lunit","neuwirth","2020-10-01","Stančo Denčev",3.2118372000000002,"x","x","x","x"]
[{"$error":"#N/A"},null,{"$f":"IFERROR(VLOOKUP(B193,List1!$A:$B,2,0),\"x\")","v":"x"},null,null,null,null,null,null,{"$f":"CONCATENATE(VLOOKUP(E193,[1]Seznamy!$Q$2:$R$36,2,0),VLOOKUP(F193,[1]Produkty!$I:$O,7,0),C193,D193)","v":{"$error":"#N/A"}},null,"CZ","Hranipex","GOLLINUCCI Sorter Linea 222, 300 mm","Hranipex_GOLLINUCCI Sorter Linea 222, 300 mm",0,null,"SK","IW Trend","GOLLINUCCI Sorter Sistema 901/2x16 l, 600 mm","IW Trend_GOLLINUCCI Sorter Sistema 901/2x16 l, 600 mm",0,null,null,null,null,null,null,null,null,null,null,null,null,null,null,null,null,null,null,null,null,null,null,null,null,null,null,null,null,null,null,"'CZ_2020-10'!$A:$H","$A:$H","10323CZ44105","STRONG transformátor plochý LED 24V 100W","Lunit","neuwirth","2020-10-01","Stančo Denčev",16.197148434480003,"x","x","x","x"]
[{"$error":"#N/A"},null,{"$f":"IFERROR(VLOOKUP(B194,List1!$A:$B,2,0),\"x\")","v":"x"},null,null,null,null,null,null,{"$f":"CONCATENATE(VLOOKUP(E194,[1]Seznamy!$Q$2:$R$36,2,0),VLOOKUP(F194,[1]Produkty!$I:$O,7,0),C194,D194)","v":{"$error":"#N/A"}},null,"CZ","Hranipex","GOLLINUCCI Sorter Sistema 901/2x16 l, 600 mm","Hranipex_GOLLINUCCI Sorter Sistema 901/2x16 l, 600 mm",0,null,"SK","IW Trend","Konfirmát 7/50 zinek bílý bulk","IW Trend_Konfirmát 7/50 zinek bílý bulk",0,null,null,null,null,null,null,null,null,null,null,null,null,null,null,null,null,null,null,null,null,null,null,null,null,null,null,null,null,null,null,"'CZ_2020-10'!$A:$H","$A:$H","10324CZ44105","Vrut PZ 4x18 zápustná hlava zinek bílý PZ2","Lunit","neuwirth","2020-10-01","Stančo Denčev",1.9465679999999999E-3,"x","x","x","x"]
[{"$error":"#N/A"},null,{"$f":"IFERROR(VLOOKUP(B195,List1!$A:$B,2,0),\"x\")","v":"x"},null,null,null,null,null,null,{"$f":"CONCATENATE(VLOOKUP(E195,[1]Seznamy!$Q$2:$R$36,2,0),VLOOKUP(F195,[1]Produkty!$I:$O,7,0),C195,D195)","v":{"$error":"#N/A"}},null,"CZ","Hranipex","HDF LAK 101 BÍLÁ PE 2800/2070/3","Hranipex_HDF LAK 101 BÍLÁ PE 2800/2070/3",0,null,"SK","IW Trend","STRONG Elektrická zásuvka 3x230V, francouzský typ, 265x130x68 mm stříbrná","IW Trend_STRONG Elektrická zásuvka 3x230V, francouzský typ, 265x130x68 mm stříbrná",0,null,null,null,null,null,null,null,null,null,null,null,null,null,null,null,null,null,null,null,null,null,null,null,null,null,null,null,null,null,null,"'CZ_2020-10'!$A:$H","$A:$H","10326CZ44105","DTDL W980 ST2 Platinově bílá 2800/2070/18","Lunit","neuwirth","2020-10-01","Martin Karaščák",25.214852557439997,"x","x","x","x"]
[{"$error":"#N/A"},null,{"$f":"IFERROR(VLOOKUP(B196,List1!$A:$B,2,0),\"x\")","v":"x"},null,null,null,null,null,null,{"$f":"CONCATENATE(VLOOKUP(E196,[1]Seznamy!$Q$2:$R$36,2,0),VLOOKUP(F196,[1]Produkty!$I:$O,7,0),C196,D196)","v":{"$error":"#N/A"}},null,"CZ","Hranipex","Konfirmát 7/50 zinek bílý bulk","Hranipex_Konfirmát 7/50 zinek bílý bulk",0,null,"SK","IW Trend","STRONG Stolová noha centrální 450x450 černá","IW Trend_STRONG Stolová noha centrální 450x450 černá",0,null,null,null,null,null,null,null,null,null,null,null,null,null,null,null,null,null,null,null,null,null,null,null,null,null,null,null,null,null,null,"'CZ_2020-10'!$A:$H","$A:$H","10328CZ44105","DTDD Dub evr. radiál st A/B 2800/2070/19","Lunit","neuwirth","2020-10-01","Martin Karaščák",0,"x","x","x","x"]
[{"$error":"#N/A"},null,{"$f":"IFERROR(VLOOKUP(B197,List1!$A:$B,2,0),\"x\")","v":"x"},null,null,null,null,null,null,{"$f":"CONCATENATE(VLOOKUP(E197,[1]Seznamy!$Q$2:$R$36,2,0),VLOOKUP(F197,[1]Produkty!$I:$O,7,0),C197,D197)","v":{"$error":"#N/A"}},null,"CZ","Hranipex","SEVROLL Era úchytová lišta 18mm 2,70m stříbrná","Hranipex_SEVROLL Era úchytová lišta 18mm 2,70m stříbrná",0,null,"SK","IW Trend","TULIP úchytka Anita 96 nikl matný + šroubky","IW Trend_TULIP úchytka Anita 96 nikl matný + šroubky",0,null,null,null,null,null,null,null,null,null,null,null,null,null,null,null,null,null,null,null,null,null,null,null,null,null,null,null,null,null,null,"'CZ_2020-10'!$A:$H","$A:$H","10329CZ44105","ABSB HU10113 Bílá 101/110/113/8100/8685/W954/B3822 PE 22/2","Lunit","neuwirth","2020-10-01","Martin Karaščák",0.20190872000000001,"x","x","x","x"]
[{"$error":"#N/A"},null,{"$f":"IFERROR(VLOOKUP(B198,List1!$A:$B,2,0),\"x\")","v":"x"},null,null,null,null,null,null,{"$f":"CONCATENATE(VLOOKUP(E198,[1]Seznamy!$Q$2:$R$36,2,0),VLOOKUP(F198,[1]Produkty!$I:$O,7,0),C198,D198)","v":{"$error":"#N/A"}},null,"CZ","Hranipex","Strong electric socket, lift","Hranipex_Strong electric socket, lift",0,null,"SK","IW Trend","TULIP úchytka Nakana 128 chrom matný + šroubky","IW Trend_TULIP úchytka Nakana 128 chrom matný + šroubky",0,null,null,null,null,null,null,null,null,null,null,null,null,null,null,null,null,null,null,null,null,null,null,null,null,null,null,null,null,null,null,"'CZ_2020-10'!$A:$H","$A:$H","10330CZ44105","ABSB 77039/414 W980/500/W954 ST2 23/2","Lunit","neuwirth","2020-10-01","Martin Karaščák",0,"x","x","x","x"]
[{"$error":"#N/A"},null,{"$f":"IFERROR(VLOOKUP(B199,List1!$A:$B,2,0),\"x\")","v":"x"},null,null,null,null,null,null,{"$f":"CONCATENATE(VLOOKUP(E199,[1]Seznamy!$Q$2:$R$36,2,0),VLOOKUP(F199,[1]Produkty!$I:$O,7,0),C199,D199)","v":{"$error":"#N/A"}},null,"CZ","Hranipex","STRONG Elektrická zásuvka 3x230V, francouzský typ, 265x130x68 mm stříbrná","Hranipex_STRONG Elektrická zásuvka 3x230V, francouzský typ, 265x130x68 mm stříbrná",0,null,"SK","IW Trend","TULIP úchytka Piombina 96 nikl matný + šroubky","IW Trend_TULIP úchytka Piombina 96 nikl matný + šroubky",0,null,null,null,null,null,null,null,null,null,null,null,null,null,null,null,null,null,null,null,null,null,null,null,null,null,null,null,null,null,null,"'CZ_2020-10'!$A:$H","$A:$H","10332CZ44105","Alfa II profile 222788","Lunit","neuwirth","2020-10-01","NULL",4.206132684,"x","x","x","x"]
[{"$error":"#N/A"},null,{"$f":"IFERROR(VLOOKUP(B200,List1!$A:$B,2,0),\"x\")","v":"x"},null,null,null,null,null,null,{"$f":"CONCATENATE(VLOOKUP(E200,[1]Seznamy!$Q$2:$R$36,2,0),VLOOKUP(F200,[1]Produkty!$I:$O,7,0),C200,D200)","v":{"$error":"#N/A"}},null,"CZ","Hranipex","STRONG Elektricky stavitelná podnož černá RAL 9005 mat","Hranipex_STRONG Elektricky stavitelná podnož černá RAL 9005 mat",0,null,"SK","IW Trend","TULIP Úchytka Ramara 596 imitace nerezi","IW Trend_TULIP Úchytka Ramara 596 imitace nerezi",0,null,null,null,null,null,null,null,null,null,null,null,null,null,null,null,null,null,null,null,null,null,null,null,null,null,null,null,null,null,null,"'CZ_2020-10'!$A:$H","$A:$H","10335CZ44105","STRONG Elektricky stavitelná podnož černá RAL 9005 mat","Lunit","neuwirth","2020-10-01","NULL",110.69330687999999,"x","x","x","x"]
[{"$f":"TEXT(J201,1)","v":{"$error":"#N/A"}},null,{"$f":"IFERROR(VLOOKUP(B201,List1!$A:$B,2,0),\"x\")","v":"x"},null,null,null,null,null,null,{"$f":"CONCATENATE(VLOOKUP(E201,[1]Seznamy!$Q$2:$R$36,2,0),VLOOKUP(F201,[1]Produkty!$I:$O,7,0),C201,D201)","v":{"$error":"#N/A"}},null,"CZ","Hranipex","STRONG LED pásek 21,6W/m 24V bílá neutrální 210 LED/m","Hranipex_STRONG LED pásek 21,6W/m 24V bílá neutrální 210 LED/m",0,null,"SK","IW Trend","TULIP věšák Lugo XL chrom matný + šroubky","IW Trend_TULIP věšák Lugo XL chrom matný + šroubky",0,null,null,null,null,null,null,null,null,null,null,null,null,null,null,null,null,null,null,null,null,null,null,null,null,null,null,null,null,null,null,"'CZ_2020-10'!$A:$H","$A:$H","1069CZ44105","BBP OA Zásuvka 515 mm kovová černá","Nábytkár","neuwirth","2020-10-01","Lukáš Sládek",4.7811832224000002,"x","x","x","x"]
[{"$error":"#N/A"},null,{"$f":"IFERROR(VLOOKUP(B202,List1!$A:$B,2,0),\"x\")","v":"x"},null,null,null,null,null,null,{"$f":"CONCATENATE(VLOOKUP(E202,[1]Seznamy!$Q$2:$R$36,2,0),VLOOKUP(F202,[1]Produkty!$I:$O,7,0),C202,D202)","v":{"$error":"#N/A"}},null,"CZ","Hranipex","STRONG plus závěs naložený s tlumením, s excentrem, klipový","Hranipex_STRONG plus závěs naložený s tlumením, s excentrem, klipový",0,null,"SK","IW Trend","Vrut PZ 4x18 zápustná hlava zinek bílý PZ2","IW Trend_Vrut PZ 4x18 zápustná hlava zinek bílý PZ2",0,null,null,null,null,null,null,null,null,null,null,null,null,null,null,null,null,null,null,null,null,null,null,null,null,null,null,null,null,null,null,"'CZ_2020-10'!$A:$H","$A:$H","10613CZ44105","GOLLINUCCI Sorter 580 Plus Line, 600 mm, výška 505mm, 80 l, šedý","Nábytkár","neuwirth","2020-10-01","Marcela Piechová",68.555453200000002,"x","x","x","x"]
[{"$error":"#N/A"},null,{"$f":"IFERROR(VLOOKUP(B203,List1!$A:$B,2,0),\"x\")","v":"x"},null,null,null,null,null,null,{"$f":"CONCATENATE(VLOOKUP(E203,[1]Seznamy!$Q$2:$R$36,2,0),VLOOKUP(F203,[1]Produkty!$I:$O,7,0),C203,D203)","v":{"$error":"#N/A"}},null,"CZ","Hranipex","STRONG Rektifikační nožka 100 mm","Hranipex_STRONG Rektifikační nožka 100 mm",0,null,"SK","Sezam","ABSB 77039/414 W980/500/W954 ST2 23/2","Sezam_ABSB 77039/414 W980/500/W954 ST2 23/2",0,null,null,null,null,null,null,null,null,null,null,null,null,null,null,null,null,null,null,null,null,null,null,null,null,null,null,null,null,null,null,"'CZ_2020-10'!$A:$H","$A:$H","10614CZ44105","FRANKE Dřez ETN 610 455 x 435","Nábytkár","neuwirth","2020-10-01","Marcela Piechová",23.091640000000002,"x","x","x","x"]
[{"$error":"#N/A"},null,{"$f":"IFERROR(VLOOKUP(B204,List1!$A:$B,2,0),\"x\")","v":"x"},null,null,null,null,null,null,{"$f":"CONCATENATE(VLOOKUP(E204,[1]Seznamy!$Q$2:$R$36,2,0),VLOOKUP(F204,[1]Produkty!$I:$O,7,0),C204,D204)","v":{"$error":"#N/A"}},null,"CZ","Hranipex","STRONG Stolová noha centrální 450x450 černá","Hranipex_STRONG Stolová noha centrální 450x450 černá",0,null,"SK","Sezam","ABSB HU10113 Bílá 101/110/113/8100/8685/W954/B3822 PE 22/2","Sezam_ABSB HU10113 Bílá 101/110/113/8100/8685/W954/B3822 PE 22/2",0,null,null,null,null,null,null,null,null,null,null,null,null,null,null,null,null,null,null,null,null,null,null,null,null,null,null,null,null,null,null,"'CZ_2020-10'!$A:$H","$A:$H","10616CZ44105","TULIP úchytka Nakana 128 chrom matný + šroubky","Nábytkár","neuwirth","2020-10-01","Lenka Kormaník",0.75916152000000003,"x","x","x","x"]
[{"$error":"#N/A"},null,{"$f":"IFERROR(VLOOKUP(B205,List1!$A:$B,2,0),\"x\")","v":"x"},null,null,null,null,null,null,{"$f":"CONCATENATE(VLOOKUP(E205,[1]Seznamy!$Q$2:$R$36,2,0),VLOOKUP(F205,[1]Produkty!$I:$O,7,0),C205,D205)","v":{"$error":"#N/A"}},null,"CZ","Hranipex","STRONG transformátor plochý LED 24V 100W","Hranipex_STRONG transformátor plochý LED 24V 100W",0,null,"SK","Sezam","BBP OA Zásuvka 515 mm kovová černá","Sezam_BBP OA Zásuvka 515 mm kovová černá",0,null,null,null,null,null,null,null,null,null,null,null,null,null,null,null,null,null,null,null,null,null,null,null,null,null,null,null,null,null,null,"'CZ_2020-10'!$A:$H","$A:$H","10617CZ44105","TULIP úchytka Piombina 96 nikl matný + šroubky","Nábytkár","neuwirth","2020-10-01","Lenka Kormaník",0.41656555200000001,"x","x","x","x"]
[{"$error":"#N/A"},null,{"$f":"IFERROR(VLOOKUP(B206,List1!$A:$B,2,0),\"x\")","v":"x"},null,null,null,null,null,null,{"$f":"CONCATENATE(VLOOKUP(E206,[1]Seznamy!$Q$2:$R$36,2,0),VLOOKUP(F206,[1]Produkty!$I:$O,7,0),C206,D206)","v":{"$error":"#N/A"}},null,"CZ","Hranipex","STRONG závěs naložený, slide on","Hranipex_STRONG závěs naložený, slide on",0,null,"SK","Sezam","DTDD DUB COMMERCIAL A/B DEC 2800/2070/19","Sezam_DTDD DUB COMMERCIAL A/B DEC 2800/2070/19",0,null,null,null,null,null,null,null,null,null,null,null,null,null,null,null,null,null,null,null,null,null,null,null,null,null,null,null,null,null,null,"'CZ_2020-10'!$A:$H","$A:$H","10618CZ44105","TULIP úchytka Anita 96 nikl matný + šroubky","Nábytkár","neuwirth","2020-10-01","Lenka Kormaník",0.26375996400000001,"x","x","x","x"]
[{"$error":"#N/A"},null,{"$f":"IFERROR(VLOOKUP(B207,List1!$A:$B,2,0),\"x\")","v":"x"},null,null,null,null,null,null,{"$f":"CONCATENATE(VLOOKUP(E207,[1]Seznamy!$Q$2:$R$36,2,0),VLOOKUP(F207,[1]Produkty!$I:$O,7,0),C207,D207)","v":{"$error":"#N/A"}},null,"CZ","Hranipex","StrongBox H86/500mm bílý","Hranipex_StrongBox H86/500mm bílý",0,null,"SK","Sezam","DTDD Dub evr. radiál st A/B 2800/2070/19","Sezam_DTDD Dub evr. radiál st A/B 2800/2070/19",0,null,null,null,null,null,null,null,null,null,null,null,null,null,null,null,null,null,null,null,null,null,null,null,null,null,null,null,null,null,null,"'CZ_2020-10'!$A:$H","$A:$H","10624CZ44105","Vrut PZ 4x18 zápustná hlava zinek bílý PZ2","Nábytkár","neuwirth","2020-10-01","Stančo Denčev",1.9465679999999999E-3,"x","x","x","x"]
[{"$error":"#N/A"},null,{"$f":"IFERROR(VLOOKUP(B208,List1!$A:$B,2,0),\"x\")","v":"x"},null,null,null,null,null,null,{"$f":"CONCATENATE(VLOOKUP(E208,[1]Seznamy!$Q$2:$R$36,2,0),VLOOKUP(F208,[1]Produkty!$I:$O,7,0),C208,D208)","v":{"$error":"#N/A"}},null,"CZ","Hranipex","StrongMax 89/500 mm šedý (antracit)","Hranipex_StrongMax 89/500 mm šedý (antracit)",0,null,"SK","Sezam","DTDL W980 ST2 Platinově bílá 2800/2070/18","Sezam_DTDL W980 ST2 Platinově bílá 2800/2070/18",0,null,null,null,null,null,null,null,null,null,null,null,null,null,null,null,null,null,null,null,null,null,null,null,null,null,null,null,null,null,null,"'CZ_2020-10'!$A:$H","$A:$H","10626CZ44105","DTDL W980 ST2 Platinově bílá 2800/2070/18","Nábytkár","neuwirth","2020-10-01","Martin Karaščák",25.214852557439997,"x","x","x","x"]
[{"$error":"#N/A"},null,{"$f":"IFERROR(VLOOKUP(B209,List1!$A:$B,2,0),\"x\")","v":"x"},null,null,null,null,null,null,{"$f":"CONCATENATE(VLOOKUP(E209,[1]Seznamy!$Q$2:$R$36,2,0),VLOOKUP(F209,[1]Produkty!$I:$O,7,0),C209,D209)","v":{"$error":"#N/A"}},null,"CZ","Hranipex","StrongRide synchro 3D celovýsuv 500 mm s tlumením","Hranipex_StrongRide synchro 3D celovýsuv 500 mm s tlumením",0,null,"SK","Sezam","FRANKE Dřez BFG 611-78 780 x 500 onyx","Sezam_FRANKE Dřez BFG 611-78 780 x 500 onyx",0,null,null,null,null,null,null,null,null,null,null,null,null,null,null,null,null,null,null,null,null,null,null,null,null,null,null,null,null,null,null,"'CZ_2020-10'!$A:$H","$A:$H","10627CZ44105","DTDD DUB COMMERCIAL A/B DEC 2800/2070/19","Nábytkár","neuwirth","2020-10-01","Martin Karaščák",55.226676912160002,"x","x","x","x"]
[{"$error":"#N/A"},null,{"$f":"IFERROR(VLOOKUP(B210,List1!$A:$B,2,0),\"x\")","v":"x"},null,null,null,null,null,null,{"$f":"CONCATENATE(VLOOKUP(E210,[1]Seznamy!$Q$2:$R$36,2,0),VLOOKUP(F210,[1]Produkty!$I:$O,7,0),C210,D210)","v":{"$error":"#N/A"}},null,"CZ","Hranipex","TULIP Gola dvířkový J profil 4,1m eloxovaný hliník","Hranipex_TULIP Gola dvířkový J profil 4,1m eloxovaný hliník",0,null,"SK","Sezam","FRANKE Dřez ETN 610 455 x 435","Sezam_FRANKE Dřez ETN 610 455 x 435",0,null,null,null,null,null,null,null,null,null,null,null,null,null,null,null,null,null,null,null,null,null,null,null,null,null,null,null,null,null,null,"'CZ_2020-10'!$A:$H","$A:$H","10628CZ44105","DTDD Dub evr. radiál st A/B 2800/2070/19","Nábytkár","neuwirth","2020-10-01","Martin Karaščák",0,"x","x","x","x"]
[{"$error":"#N/A"},null,{"$f":"IFERROR(VLOOKUP(B211,List1!$A:$B,2,0),\"x\")","v":"x"},null,null,null,null,null,null,{"$f":"CONCATENATE(VLOOKUP(E211,[1]Seznamy!$Q$2:$R$36,2,0),VLOOKUP(F211,[1]Produkty!$I:$O,7,0),C211,D211)","v":{"$error":"#N/A"}},null,"CZ","Hranipex","TULIP úchytka Anita 96 nikl matný + šroubky","Hranipex_TULIP úchytka Anita 96 nikl matný + šroubky",0,null,"SK","Sezam","FRANKE Dřez ETN 614 6/4 obyčejný ventil bez otvoru","Sezam_FRANKE Dřez ETN 614 6/4 obyčejný ventil bez otvoru",0,null,null,null,null,null,null,null,null,null,null,null,null,null,null,null,null,null,null,null,null,null,null,null,null,null,null,null,null,null,null,"'CZ_2020-10'!$A:$H","$A:$H","10629CZ44105","ABSB HU10113 Bílá 101/110/113/8100/8685/W954/B3822 PE 22/2","Nábytkár","neuwirth","2020-10-01","Martin Karaščák",0.20190872000000001,"x","x","x","x"]
[{"$error":"#N/A"},null,{"$f":"IFERROR(VLOOKUP(B212,List1!$A:$B,2,0),\"x\")","v":"x"},null,null,null,null,null,null,{"$f":"CONCATENATE(VLOOKUP(E212,[1]Seznamy!$Q$2:$R$36,2,0),VLOOKUP(F212,[1]Produkty!$I:$O,7,0),C212,D212)","v":{"$error":"#N/A"}},null,"CZ","Hranipex","TULIP Úchytka Lucata 160 černá matná","Hranipex_TULIP Úchytka Lucata 160 černá matná",0,null,"SK","Sezam","GOLLINUCCI Sorter 580 Plus Line, 600 mm, výška 505mm, 80 l, šedý","Sezam_GOLLINUCCI Sorter 580 Plus Line, 600 mm, výška 505mm, 80 l, šedý",0,null,null,null,null,null,null,null,null,null,null,null,null,null,null,null,null,null,null,null,null,null,null,null,null,null,null,null,null,null,null,"'CZ_2020-10'!$A:$H","$A:$H","10630CZ44105","ABSB 77039/414 W980/500/W954 ST2 23/2","Nábytkár","neuwirth","2020-10-01","Martin Karaščák",0,"x","x","x","x"]
[{"$error":"#N/A"},null,{"$f":"IFERROR(VLOOKUP(B213,List1!$A:$B,2,0),\"x\")","v":"x"},null,null,null,null,null,null,{"$f":"CONCATENATE(VLOOKUP(E213,[1]Seznamy!$Q$2:$R$36,2,0),VLOOKUP(F213,[1]Produkty!$I:$O,7,0),C213,D213)","v":{"$error":"#N/A"}},null,"CZ","Hranipex","TULIP úchytka Nakana 128 chrom matný + šroubky","Hranipex_TULIP úchytka Nakana 128 chrom matný + šroubky",0,null,"SK","Sezam","GOLLINUCCI Sorter Linea 222, 300 mm","Sezam_GOLLINUCCI Sorter Linea 222, 300 mm",0,null,null,null,null,null,null,null,null,null,null,null,null,null,null,null,null,null,null,null,null,null,null,null,null,null,null,null,null,null,null,"'CZ_2020-10'!$A:$H","$A:$H","10631CZ44105","HDF LAK 101 BÍLÁ PE 2800/2070/3","Nábytkár","neuwirth","2020-10-01","Martin Karaščák",5.8424658364800006,"x","x","x","x"]
[{"$error":"#N/A"},null,{"$f":"IFERROR(VLOOKUP(B214,List1!$A:$B,2,0),\"x\")","v":"x"},null,null,null,null,null,null,{"$f":"CONCATENATE(VLOOKUP(E214,[1]Seznamy!$Q$2:$R$36,2,0),VLOOKUP(F214,[1]Produkty!$I:$O,7,0),C214,D214)","v":{"$error":"#N/A"}},null,"CZ","Hranipex","TULIP úchytka Piombina 96 nikl matný + šroubky","Hranipex_TULIP úchytka Piombina 96 nikl matný + šroubky",0,null,"SK","Sezam","GOLLINUCCI Sorter Sistema 901/2x16 l, 600 mm","Sezam_GOLLINUCCI Sorter Sistema 901/2x16 l, 600 mm",0,null,null,null,null,null,null,null,null,null,null,null,null,null,null,null,null,null,null,null,null,null,null,null,null,null,null,null,null,null,null,"'CZ_2020-10'!$A:$H","$A:$H","10636CZ44105","TULIP Gola dvířkový J profil 4,1m eloxovaný hliník","Nábytkár","neuwirth","2020-10-01","NULL",3.8168000000000002E-4,"x","x","x","x"]
[{"$error":"#N/A"},null,{"$f":"IFERROR(VLOOKUP(B215,List1!$A:$B,2,0),\"x\")","v":"x"},null,null,null,null,null,null,{"$f":"CONCATENATE(VLOOKUP(E215,[1]Seznamy!$Q$2:$R$36,2,0),VLOOKUP(F215,[1]Produkty!$I:$O,7,0),C215,D215)","v":{"$error":"#N/A"}},null,"CZ","Hranipex","TULIP Úchytka Ramara 596 imitace nerezi","Hranipex_TULIP Úchytka Ramara 596 imitace nerezi",0,null,"SK","Sezam","HDF LAK 101 BÍLÁ PE 2800/2070/3","Sezam_HDF LAK 101 BÍLÁ PE 2800/2070/3",0,null,null,null,null,null,null,null,null,null,null,null,null,null,null,null,null,null,null,null,null,null,null,null,null,null,null,null,null,null,null,"'CZ_2020-10'!$A:$H","$A:$H","1083CZ44105","StrongBox H86/500mm bílý","Schachermayer","neuwirth","2020-10-01","Martin Zniszczol",7.0057364000000009,"x","x","x","x"]
[{"$error":"#N/A"},null,{"$f":"IFERROR(VLOOKUP(B216,List1!$A:$B,2,0),\"x\")","v":"x"},null,null,null,null,null,null,{"$f":"CONCATENATE(VLOOKUP(E216,[1]Seznamy!$Q$2:$R$36,2,0),VLOOKUP(F216,[1]Produkty!$I:$O,7,0),C216,D216)","v":{"$error":"#N/A"}},null,"CZ","Hranipex","TULIP věšák Lugo XL chrom matný + šroubky","Hranipex_TULIP věšák Lugo XL chrom matný + šroubky",0,null,"SK","Sezam","Konfirmát 7/50 zinek bílý bulk","Sezam_Konfirmát 7/50 zinek bílý bulk",0,null,null,null,null,null,null,null,null,null,null,null,null,null,null,null,null,null,null,null,null,null,null,null,null,null,null,null,null,null,null,"'CZ_2020-10'!$A:$H","$A:$H","1084CZ44105","StrongMax 89/500 mm šedý (antracit)","Schachermayer","neuwirth","2020-10-01","Martin Zniszczol",9.1003962400000002,"x","x","x","x"]
[{"$error":"#N/A"},null,{"$f":"IFERROR(VLOOKUP(B217,List1!$A:$B,2,0),\"x\")","v":"x"},null,null,null,null,null,null,{"$f":"CONCATENATE(VLOOKUP(E217,[1]Seznamy!$Q$2:$R$36,2,0),VLOOKUP(F217,[1]Produkty!$I:$O,7,0),C217,D217)","v":{"$error":"#N/A"}},null,"CZ","Hranipex","Vrut PZ 4x18 zápustná hlava zinek bílý PZ2","Hranipex_Vrut PZ 4x18 zápustná hlava zinek bílý PZ2",0,null,"SK","Sezam","STRONG Elektrická zásuvka 3x230V, francouzský typ, 265x130x68 mm stříbrná","Sezam_STRONG Elektrická zásuvka 3x230V, francouzský typ, 265x130x68 mm stříbrná",0,null,null,null,null,null,null,null,null,null,null,null,null,null,null,null,null,null,null,null,null,null,null,null,null,null,null,null,null,null,null,"'CZ_2020-10'!$A:$H","$A:$H","1085CZ44105","StrongRide synchro 3D celovýsuv 500 mm s tlumením","Schachermayer","neuwirth","2020-10-01","Martin Zniszczol",5.1412296,"x","x","x","x"]
[{"$error":"#N/A"},null,{"$f":"IFERROR(VLOOKUP(B218,List1!$A:$B,2,0),\"x\")","v":"x"},null,null,null,null,null,null,{"$f":"CONCATENATE(VLOOKUP(E218,[1]Seznamy!$Q$2:$R$36,2,0),VLOOKUP(F218,[1]Produkty!$I:$O,7,0),C218,D218)","v":{"$error":"#N/A"}},null,"CZ","Jaf Holz","FRANKE Dřez BFG 611-78 780 x 500 onyx","Jaf Holz_FRANKE Dřez BFG 611-78 780 x 500 onyx","https://www.jafholz.cz/produkty/kovani",null,"SK","Sezam","STRONG plus závěs naložený s tlumením, s excentrem, klipový","Sezam_STRONG plus závěs naložený s tlumením, s excentrem, klipový",0,null,null,null,null,null,null,null,null,null,null,null,null,null,null,null,null,null,null,null,null,null,null,null,null,null,null,null,null,null,null,"'CZ_2020-10'!$A:$H","$A:$H","1086CZ44105","STRONG Rektifikační nožka 100 mm","Schachermayer","neuwirth","2020-10-01","Lukáš Sládek",9.5496335999999987E-2,"x","x","x","x"]
[{"$error":"#N/A"},null,{"$f":"IFERROR(VLOOKUP(B219,List1!$A:$B,2,0),\"x\")","v":"x"},null,null,null,null,null,null,{"$f":"CONCATENATE(VLOOKUP(E219,[1]Seznamy!$Q$2:$R$36,2,0),VLOOKUP(F219,[1]Produkty!$I:$O,7,0),C219,D219)","v":{"$error":"#N/A"}},null,"CZ","Jaf Holz","FRANKE Dřez ETN 610 455 x 435","Jaf Holz_FRANKE Dřez ETN 610 455 x 435","https://www.jafholz.cz/produkty/kovani",null,"SK","Sezam","STRONG Rektifikační nožka 100 mm","Sezam_STRONG Rektifikační nožka 100 mm",0,null,null,null,null,null,null,null,null,null,null,null,null,null,null,null,null,null,null,null,null,null,null,null,null,null,null,null,null,null,null,"'CZ_2020-10'!$A:$H","$A:$H","1087CZ44105","STRONG Stolová noha centrální 450x450 černá","Schachermayer","neuwirth","2020-10-01","Lukáš Sládek",33.67505388,"x","x","x","x"]
[{"$error":"#N/A"},null,{"$f":"IFERROR(VLOOKUP(B220,List1!$A:$B,2,0),\"x\")","v":"x"},null,null,null,null,null,null,{"$f":"CONCATENATE(VLOOKUP(E220,[1]Seznamy!$Q$2:$R$36,2,0),VLOOKUP(F220,[1]Produkty!$I:$O,7,0),C220,D220)","v":{"$error":"#N/A"}},null,"CZ","Jaf Holz","FRANKE Dřez ETN 614 6/4 obyčejný ventil bez otvoru","Jaf Holz_FRANKE Dřez ETN 614 6/4 obyčejný ventil bez otvoru","https://www.jafholz.cz/produkty/kovani",null,"SK","Sezam","STRONG Stolová noha centrální 450x450 černá","Sezam_STRONG Stolová noha centrální 450x450 černá",0,null,null,null,null,null,null,null,null,null,null,null,null,null,null,null,null,null,null,null,null,null,null,null,null,null,null,null,null,null,null,"'CZ_2020-10'!$A:$H","$A:$H","1088CZ44105","STRONG Elektrická zásuvka 3x230V, francouzský typ, 265x130x68 mm stříbrná","Schachermayer","neuwirth","2020-10-01","Lukáš Sládek",12.88628016,"x","x","x","x"]
[{"$error":"#N/A"},null,{"$f":"IFERROR(VLOOKUP(B221,List1!$A:$B,2,0),\"x\")","v":"x"},null,null,null,null,null,null,{"$f":"CONCATENATE(VLOOKUP(E221,[1]Seznamy!$Q$2:$R$36,2,0),VLOOKUP(F221,[1]Produkty!$I:$O,7,0),C221,D221)","v":{"$error":"#N/A"}},null,"CZ","Jaf Holz","Vrut PZ 4x18 zápustná hlava zinek bílý PZ2","Jaf Holz_Vrut PZ 4x18 zápustná hlava zinek bílý PZ2","https://www.jafholz.cz/shop/Kovani/Montazni-pomucky--upevnovaci-material/Upevnovaci-srouby/hafele-01800115--vrut-do-drevotrisky-spax-pz2--plny-zavit--4x17-mm--pozink--artikl-obsahuje-50-ks~p6385068?fittingThreadDiameter=4&fittingThreadType=fittingThreadType2&fittingHeadShape=fittingHeadShape5&fittingLength=17.00&category=2706825",null,"SK","Sezam","STRONG závěs naložený, slide on","Sezam_STRONG závěs naložený, slide on",0,null,null,null,null,null,null,null,null,null,null,null,null,null,null,null,null,null,null,null,null,null,null,null,null,null,null,null,null,null,null,"'CZ_2020-10'!$A:$H","$A:$H","1089CZ44105","BBP OA Zásuvka 515 mm kovová černá","Schachermayer","neuwirth","2020-10-01","Lukáš Sládek",4.7811832224000002,"x","x","x","x"]
[{"$error":"#N/A"},null,{"$f":"IFERROR(VLOOKUP(B222,List1!$A:$B,2,0),\"x\")","v":"x"},null,null,null,null,null,null,{"$f":"CONCATENATE(VLOOKUP(E222,[1]Seznamy!$Q$2:$R$36,2,0),VLOOKUP(F222,[1]Produkty!$I:$O,7,0),C222,D222)","v":{"$error":"#N/A"}},null,"CZ","Jaf Holz","TULIP úchytka Nakana 128 chrom matný + šroubky","Jaf Holz_TULIP úchytka Nakana 128 chrom matný + šroubky","https://www.jafholz.cz/shop/Kovani/Nabytkove-uchytky--vesaky/Nabytkove-uchytky/hafele-10979261--nabytkova-uchytka-157x26-mm--odlitek-ze-zinku--chrom-lesk~p1535564?fittingHoleDistance=fittingHoleDistance3&fittingSurface=%24%24EMPTY%24%24&category=2706933&page=1",null,"SK","Sezam","StrongBox H86/500mm bílý","Sezam_StrongBox H86/500mm bílý",0,null,null,null,null,null,null,null,null,null,null,null,null,null,null,null,null,null,null,null,null,null,null,null,null,null,null,null,null,null,null,"'CZ_2020-10'!$A:$H","$A:$H","10812CZ44105","GOLLINUCCI Sorter Sistema 901/2x16 l, 600 mm","Schachermayer","neuwirth","2020-10-01","Marcela Piechová",15.70384192,"x","x","x","x"]
[{"$error":"#N/A"},null,{"$f":"IFERROR(VLOOKUP(B223,List1!$A:$B,2,0),\"x\")","v":"x"},null,null,null,null,null,null,{"$f":"CONCATENATE(VLOOKUP(E223,[1]Seznamy!$Q$2:$R$36,2,0),VLOOKUP(F223,[1]Produkty!$I:$O,7,0),C223,D223)","v":{"$error":"#N/A"}},null,"CZ","Jaf Holz","TULIP věšák Lugo XL chrom matný + šroubky","Jaf Holz_TULIP věšák Lugo XL chrom matný + šroubky","https://www.jafholz.cz/shop/Kovani/Nabytkove-uchytky--vesaky/Satni-vesaky/hafele-88505401--satni-vesak-77x77x123-mm--odlitek-ze-zinku--matny-chrom~p1118649?category=2706960",null,"SK","Sezam","StrongMax 89/500 mm šedý (antracit)","Sezam_StrongMax 89/500 mm šedý (antracit)",0,null,null,null,null,null,null,null,null,null,null,null,null,null,null,null,null,null,null,null,null,null,null,null,null,null,null,null,null,null,null,"'CZ_2020-10'!$A:$H","$A:$H","10813CZ44105","GOLLINUCCI Sorter 580 Plus Line, 600 mm, výška 505mm, 80 l, šedý","Schachermayer","neuwirth","2020-10-01","Marcela Piechová",68.555453200000002,"x","x","x","x"]
[{"$error":"#N/A"},null,{"$f":"IFERROR(VLOOKUP(B224,List1!$A:$B,2,0),\"x\")","v":"x"},null,null,null,null,null,null,{"$f":"CONCATENATE(VLOOKUP(E224,[1]Seznamy!$Q$2:$R$36,2,0),VLOOKUP(F224,[1]Produkty!$I:$O,7,0),C224,D224)","v":{"$error":"#N/A"}},null,"CZ","Jaf Holz","Strong electric socket, lift","Jaf Holz_Strong electric socket, lift","https://www.jafholz.cz/shop/Kovani/Osvetleni/Vypinace-a-zasuvky/hafele-83353300--zasuvkovy-prvek-zapustny-se-3-zasuvkami-schuko-a-2-pripojkami-usb--se-samostatnym-hlavnim-vypinacem-napajeni--230v--stribrnacerna~p970289?category=2706863",null,"SK","Sezam","StrongRide synchro 3D celovýsuv 500 mm s tlumením","Sezam_StrongRide synchro 3D celovýsuv 500 mm s tlumením",0,null,null,null,null,null,null,null,null,null,null,null,null,null,null,null,null,null,null,null,null,null,null,null,null,null,null,null,null,null,null,"'CZ_2020-10'!$A:$H","$A:$H","10815CZ44105","GOLLINUCCI Sorter Linea 222, 300 mm","Schachermayer","neuwirth","2020-10-01","Marcela Piechová",25.28515496,"x","x","x","x"]
[{"$error":"#N/A"},null,{"$f":"IFERROR(VLOOKUP(B225,List1!$A:$B,2,0),\"x\")","v":"x"},null,null,null,null,null,null,{"$f":"CONCATENATE(VLOOKUP(E225,[1]Seznamy!$Q$2:$R$36,2,0),VLOOKUP(F225,[1]Produkty!$I:$O,7,0),C225,D225)","v":{"$error":"#N/A"}},null,"CZ","Jaf Holz","Konfirmát 7/50 zinek bílý bulk","Jaf Holz_Konfirmát 7/50 zinek bílý bulk","https://www.jafholz.cz/shop/Kovani/Spojovaci-kovani--podpery-polic/Spojovaci-kovani-pro-korpusy-a-police/hafele-26443600--konfirmat-sw4-pro-otvor-o-5-mm--zapustna-hlava--sestihran-7x50-mm---pozinkovano--artikl-obsahuje-20-ks~p969804?category=2707179&page=2",null,"SK","Sezam","TULIP úchytka Anita 96 nikl matný + šroubky","Sezam_TULIP úchytka Anita 96 nikl matný + šroubky",0,null,null,null,null,null,null,null,null,null,null,null,null,null,null,null,null,null,null,null,null,null,null,null,null,null,null,null,null,null,null,"'CZ_2020-10'!$A:$H","$A:$H","10817CZ44105","TULIP úchytka Piombina 96 nikl matný + šroubky","Schachermayer","neuwirth","2020-10-01","Lenka Kormaník",0.41656555200000001,"x","x","x","x"]
[{"$error":"#N/A"},null,{"$f":"IFERROR(VLOOKUP(B226,List1!$A:$B,2,0),\"x\")","v":"x"},null,null,null,null,null,null,{"$f":"CONCATENATE(VLOOKUP(E226,[1]Seznamy!$Q$2:$R$36,2,0),VLOOKUP(F226,[1]Produkty!$I:$O,7,0),C226,D226)","v":{"$error":"#N/A"}},null,"CZ","Jaf Holz","STRONG Rektifikační nožka 100 mm","Jaf Holz_STRONG Rektifikační nožka 100 mm","https://www.jafholz.cz/shop/Kovani/Stolove-kovani--stolove-podnozi--nabytkove-nohy--kolecka/Serizeni-soklu/hafele-63717303--soklove-nohy-plastove--vyska-100-mm--cerna~p969550?category=2707140",null,"SK","Sezam","TULIP Úchytka Lucata 160 černá matná","Sezam_TULIP Úchytka Lucata 160 černá matná",0,null,null,null,null,null,null,null,null,null,null,null,null,null,null,null,null,null,null,null,null,null,null,null,null,null,null,null,null,null,null,"'CZ_2020-10'!$A:$H","$A:$H","10818CZ44105","TULIP úchytka Anita 96 nikl matný + šroubky","Schachermayer","neuwirth","2020-10-01","Lenka Kormaník",0.26375996400000001,"x","x","x","x"]
[{"$error":"#N/A"},null,{"$f":"IFERROR(VLOOKUP(B227,List1!$A:$B,2,0),\"x\")","v":"x"},null,null,null,null,null,null,{"$f":"CONCATENATE(VLOOKUP(E227,[1]Seznamy!$Q$2:$R$36,2,0),VLOOKUP(F227,[1]Produkty!$I:$O,7,0),C227,D227)","v":{"$error":"#N/A"}},null,"CZ","Jaf Holz","StrongBox H86/500mm bílý","Jaf Holz_StrongBox H86/500mm bílý","https://www.jafholz.cz/shop/Kovani/Zasuvkove-systemy--vysuvy-pro-skrine/Box-systemy/hafele-55256795--vysuv-matrix-box-s35--84x500-mm--bila--set~p5480110?brandName=H%C3%A4fele&category=3199536",null,"SK","Sezam","TULIP úchytka Nakana 128 chrom matný + šroubky","Sezam_TULIP úchytka Nakana 128 chrom matný + šroubky",0,null,null,null,null,null,null,null,null,null,null,null,null,null,null,null,null,null,null,null,null,null,null,null,null,null,null,null,null,null,null,"'CZ_2020-10'!$A:$H","$A:$H","10819CZ44105","TULIP věšák Lugo XL chrom matný + šroubky","Schachermayer","neuwirth","2020-10-01","Lenka Kormaník",0.71147060399999995,"x","x","x","x"]
[{"$error":"#N/A"},null,{"$f":"IFERROR(VLOOKUP(B228,List1!$A:$B,2,0),\"x\")","v":"x"},null,null,null,null,null,null,{"$f":"CONCATENATE(VLOOKUP(E228,[1]Seznamy!$Q$2:$R$36,2,0),VLOOKUP(F228,[1]Produkty!$I:$O,7,0),C228,D228)","v":{"$error":"#N/A"}},null,"CZ","Jaf Holz","STRONG plus závěs naložený s tlumením, s excentrem, klipový","Jaf Holz_STRONG plus závěs naložený s tlumením, s excentrem, klipový","https://www.jafholz.cz/shop/Kovani/Zavesy-nabytkove--specialni/Miskove-zavesy/hafele-31160525--nabytkovy-zaves-pro-drevene-dvere---metalla-sm-kombi-110deg-nalozeny--na-klip--s-tlumenim--486-mm~p1141898?fittingHingeConcealedHinge=fittingHingeConcealedHinge1&fittingCupAssembly=%24%24EMPTY%24%24&fittingPosition=fittingPosition2&fittingAssembly=fittingAssembly14&brandName=H%C3%A4fele&category=2707242",null,"SK","Sezam","TULIP úchytka Piombina 96 nikl matný + šroubky","Sezam_TULIP úchytka Piombina 96 nikl matný + šroubky",0,null,null,null,null,null,null,null,null,null,null,null,null,null,null,null,null,null,null,null,null,null,null,null,null,null,null,null,null,null,null,"'CZ_2020-10'!$A:$H","$A:$H","10821CZ44105","TULIP Úchytka Lucata 160 černá matná","Schachermayer","neuwirth","2020-10-01","Lenka Kormaník",0.771814212,"x","x","x","x"]
[{"$error":"#N/A"},null,{"$f":"IFERROR(VLOOKUP(B229,List1!$A:$B,2,0),\"x\")","v":"x"},null,null,null,null,null,null,{"$f":"CONCATENATE(VLOOKUP(E229,[1]Seznamy!$Q$2:$R$36,2,0),VLOOKUP(F229,[1]Produkty!$I:$O,7,0),C229,D229)","v":{"$error":"#N/A"}},null,"CZ","Jaf Holz","STRONG závěs naložený, slide on","Jaf Holz_STRONG závěs naložený, slide on","https://www.jafholz.cz/shop/Kovani/Zavesy-nabytkove--specialni/Miskove-zavesy/hafele-31190500--nabytkovy-zaves-pro-drevene-dvere---metalla-a-110deg-nalozeny--k-nasunuti--bez-tlumeni--486-mm~p970548?fittingHingeConcealedHinge=fittingHingeConcealedHinge1&fittingCupAssembly=%24%24EMPTY%24%24&fittingPosition=fittingPosition2&fittingAssembly=fittingAssembly2&brandName=H%C3%A4fele&category=2707242",null,"SK","Sezam","TULIP Úchytka Ramara 596 imitace nerezi","Sezam_TULIP Úchytka Ramara 596 imitace nerezi",0,null,null,null,null,null,null,null,null,null,null,null,null,null,null,null,null,null,null,null,null,null,null,null,null,null,null,null,null,null,null,"'CZ_2020-10'!$A:$H","$A:$H","10826CZ44105","DTDL W980 ST2 Platinově bílá 2800/2070/18","Schachermayer","neuwirth","2020-10-01","Martin Karaščák",25.214852557439997,"x","x","x","x"]
[{"$error":"#N/A"},null,{"$f":"IFERROR(VLOOKUP(B230,List1!$A:$B,2,0),\"x\")","v":"x"},null,null,null,null,null,null,{"$f":"CONCATENATE(VLOOKUP(E230,[1]Seznamy!$Q$2:$R$36,2,0),VLOOKUP(F230,[1]Produkty!$I:$O,7,0),C230,D230)","v":{"$error":"#N/A"}},null,"CZ","Jaf Holz","HDF LAK 101 BÍLÁ PE 2800/2070/3","Jaf Holz_HDF LAK 101 BÍLÁ PE 2800/2070/3","https://www.jafholz.cz/shop/Materialy-s-dekorativnim-povrchem/DVD-a-HDF-lakovane-desky/hdf-jednostranne-lakovana-kronospan-0101-pe-bila~p6767648?decorSurfaceStructureSupplier%5B0%5D=%24%24EMPTY%24%24&thickness_from=&decorDecortype=uni&thickness_to=&width_from=&brandName%5B0%5D=Kronospan&thickness=%24%24EMPTY%24%24&category=829358&width_to=",null,"SK","Sezam","TULIP věšák Lugo XL chrom matný + šroubky","Sezam_TULIP věšák Lugo XL chrom matný + šroubky",0,null,null,null,null,null,null,null,null,null,null,null,null,null,null,null,null,null,null,null,null,null,null,null,null,null,null,null,null,null,null,"'CZ_2020-10'!$A:$H","$A:$H","10827CZ44105","DTDD DUB COMMERCIAL A/B DEC 2800/2070/19","Schachermayer","neuwirth","2020-10-01","Martin Karaščák",55.226676912160002,"x","x","x","x"]
[{"$error":"#N/A"},null,{"$f":"IFERROR(VLOOKUP(B231,List1!$A:$B,2,0),\"x\")","v":"x"},null,null,null,null,null,null,{"$f":"CONCATENATE(VLOOKUP(E231,[1]Seznamy!$Q$2:$R$36,2,0),VLOOKUP(F231,[1]Produkty!$I:$O,7,0),C231,D231)","v":{"$error":"#N/A"}},null,"CZ","Jaf Holz","DTDD DUB COMMERCIAL A/B DEC 2800/2070/19","Jaf Holz_DTDD DUB COMMERCIAL A/B DEC 2800/2070/19","https://www.jafholz.cz/shop/Materialy-s-dekorativnim-povrchem/Dyhovane-desky/Dyhovane-desky/dtd-dyhovana-kaindl-charismo-dub-evropsky-e-friese-fries~p1309855?thickness_from=&boardSpecies%5B0%5D=1646&thickness_to=&length_from=&brandName%5B0%5D=%24%24EMPTY%24%24&length_to=&thickness=19&category=829385&length=2800",null,"SK","Sezam","Vrut PZ 4x18 zápustná hlava zinek bílý PZ2","Sezam_Vrut PZ 4x18 zápustná hlava zinek bílý PZ2",0,null,null,null,null,null,null,null,null,null,null,null,null,null,null,null,null,null,null,null,null,null,null,null,null,null,null,null,null,null,null,"'CZ_2020-10'!$A:$H","$A:$H","10828CZ44105","DTDD Dub evr. radiál st A/B 2800/2070/19","Schachermayer","neuwirth","2020-10-01","Martin Karaščák",0,"x","x","x","x"]
[{"$error":"#N/A"},null,{"$f":"IFERROR(VLOOKUP(B232,List1!$A:$B,2,0),\"x\")","v":"x"},null,null,null,null,null,null,{"$f":"CONCATENATE(VLOOKUP(E232,[1]Seznamy!$Q$2:$R$36,2,0),VLOOKUP(F232,[1]Produkty!$I:$O,7,0),C232,D232)","v":{"$error":"#N/A"}},null,"CZ","Jaf Holz","DTDD Dub evr. radiál st A/B 2800/2070/19","Jaf Holz_DTDD Dub evr. radiál st A/B 2800/2070/19","https://www.jafholz.cz/shop/Materialy-s-dekorativnim-povrchem/Dyhovane-desky/Dyhovane-desky/dtd-dyhovana-kaindl-charismo-dub-evropsky-e-friese-fries~p1309855?thickness_from=&boardSpecies%5B0%5D=1646&thickness_to=&length_from=&brandName%5B0%5D=%24%24EMPTY%24%24&length_to=&thickness=19&category=829385&length=2800",null,"SK","Avecan","Alfa II profile 222788","Avecan_Alfa II profile 222788",0,null,null,null,null,null,null,null,null,null,null,null,null,null,null,null,null,null,null,null,null,null,null,null,null,null,null,null,null,null,null,"'CZ_2020-10'!$A:$H","$A:$H","10829CZ44105","ABSB HU10113 Bílá 101/110/113/8100/8685/W954/B3822 PE 22/2","Schachermayer","neuwirth","2020-10-01","Martin Karaščák",0.20190872000000001,"x","x","x","x"]
[{"$error":"#N/A"},null,{"$f":"IFERROR(VLOOKUP(B233,List1!$A:$B,2,0),\"x\")","v":"x"},null,null,null,null,null,null,{"$f":"CONCATENATE(VLOOKUP(E233,[1]Seznamy!$Q$2:$R$36,2,0),VLOOKUP(F233,[1]Produkty!$I:$O,7,0),C233,D233)","v":{"$error":"#N/A"}},null,"CZ","Jaf Holz","ABSB HU10113 Bílá 101/110/113/8100/8685/W954/B3822 PE 22/2","Jaf Holz_ABSB HU10113 Bílá 101/110/113/8100/8685/W954/B3822 PE 22/2","https://www.jafholz.cz/shop/Materialy-s-dekorativnim-povrchem/Hrany/abs-hrana-0101-0113-w954-1570-8100-pe-bila-perlicka~p2371642?decorSurfaceStructureSupplier%5B0%5D=%24%24EMPTY%24%24&profileProfileType=abs&thickness_from=2&technologies%5B0%5D=%24%24EMPTY%24%24&thickness_to=2&width_from=&brandName%5B0%5D=%24%24EMPTY%24%24&category=829430&width_to=&width=22",null,"SK","Avecan","SEVROLL Era úchytová lišta 18mm 2,70m stříbrná","Avecan_SEVROLL Era úchytová lišta 18mm 2,70m stříbrná",0,null,null,null,null,null,null,null,null,null,null,null,null,null,null,null,null,null,null,null,null,null,null,null,null,null,null,null,null,null,null,"'CZ_2020-10'!$A:$H","$A:$H","10830CZ44105","ABSB 77039/414 W980/500/W954 ST2 23/2","Schachermayer","neuwirth","2020-10-01","Martin Karaščák",0,"x","x","x","x"]
[{"$error":"#N/A"},null,{"$f":"IFERROR(VLOOKUP(B234,List1!$A:$B,2,0),\"x\")","v":"x"},null,null,null,null,null,null,{"$f":"CONCATENATE(VLOOKUP(E234,[1]Seznamy!$Q$2:$R$36,2,0),VLOOKUP(F234,[1]Produkty!$I:$O,7,0),C234,D234)","v":{"$error":"#N/A"}},null,"CZ","Jaf Holz","ABSB 77039/414 W980/500/W954 ST2 23/2","Jaf Holz_ABSB 77039/414 W980/500/W954 ST2 23/2","https://www.jafholz.cz/shop/Materialy-s-dekorativnim-povrchem/Hrany/abs-hrana-egger-w980-st2-platinove-bila~p53981?decorSurfaceStructureSupplier%5B0%5D=ST2+Smoothtouch+Pear&thickness_from=&technologies%5B0%5D=%24%24EMPTY%24%24&thickness_to=&width_from=&brandName%5B0%5D=%24%24EMPTY%24%24&thickness=2&category=829430&width_to=&width=23",null,"SK","Avecan","Strong electric socket, lift","Avecan_Strong electric socket, lift",0,null,null,null,null,null,null,null,null,null,null,null,null,null,null,null,null,null,null,null,null,null,null,null,null,null,null,null,null,null,null,"'CZ_2020-10'!$A:$H","$A:$H","10831CZ44105","HDF LAK 101 BÍLÁ PE 2800/2070/3","Schachermayer","neuwirth","2020-10-01","Martin Karaščák",5.8424658364800006,"x","x","x","x"]
[{"$error":"#N/A"},null,{"$f":"IFERROR(VLOOKUP(B235,List1!$A:$B,2,0),\"x\")","v":"x"},null,null,null,null,null,null,{"$f":"CONCATENATE(VLOOKUP(E235,[1]Seznamy!$Q$2:$R$36,2,0),VLOOKUP(F235,[1]Produkty!$I:$O,7,0),C235,D235)","v":{"$error":"#N/A"}},null,"CZ","Jaf Holz","DTDL W980 ST2 Platinově bílá 2800/2070/18","Jaf Holz_DTDL W980 ST2 Platinově bílá 2800/2070/18","https://www.jafholz.cz/shop/Materialy-s-dekorativnim-povrchem/Lamino-desky-DTDL/lamino-dtdl-egger-w980-st2-platinove-bila~p2204418?decorSurfaceStructureSupplier%5B0%5D=ST2+Smoothtouch+Pear&boardBaseMaterial%5B0%5D=%24%24EMPTY%24%24&thickness_from=&thickness_to=18&technologies%5B0%5D=%24%24EMPTY%24%24&technologies%5B1%5D=%24%24EMPTY%24%24&length_from=&width_from=&thickness=18&brandName%5B0%5D=Egger&length_to=&width_to=&category=829328&length=2800",null,"SK","Avecan","STRONG Elektricky stavitelná podnož černá RAL 9005 mat","Avecan_STRONG Elektricky stavitelná podnož černá RAL 9005 mat",0,null,null,null,null,null,null,null,null,null,null,null,null,null,null,null,null,null,null,null,null,null,null,null,null,null,null,null,null,null,null,"'CZ_2020-10'!$A:$H","$A:$H","10834CZ44105","Strong electric socket, lift","Schachermayer","neuwirth","2020-10-01","NULL",12.923845868960001,"x","x","x","x"]
[{"$error":"#N/A"},null,{"$f":"IFERROR(VLOOKUP(B236,List1!$A:$B,2,0),\"x\")","v":"x"},null,null,null,null,null,null,{"$f":"CONCATENATE(VLOOKUP(E236,[1]Seznamy!$Q$2:$R$36,2,0),VLOOKUP(F236,[1]Produkty!$I:$O,7,0),C236,D236)","v":{"$error":"#N/A"}},null,"CZ","Jaf Holz","STRONG LED pásek 21,6W/m 24V bílá neutrální 210 LED/m","Jaf Holz_STRONG LED pásek 21,6W/m 24V bílá neutrální 210 LED/m",0,null,"SK","Avecan","TULIP Gola dvířkový J profil 4,1m eloxovaný hliník","Avecan_TULIP Gola dvířkový J profil 4,1m eloxovaný hliník",0,null,null,null,null,null,null,null,null,null,null,null,null,null,null,null,null,null,null,null,null,null,null,null,null,null,null,null,null,null,null,"'CZ_2020-10'!$A:$H","$A:$H","1131CZ44105","STRONG plus závěs naložený s tlumením, s excentrem, klipový","Sinks","neuwirth","2020-10-01","Martin Zniszczol",0.27061111999999998,"x","x","x","x"]
[{"$error":"#N/A"},null,{"$f":"IFERROR(VLOOKUP(B237,List1!$A:$B,2,0),\"x\")","v":"x"},null,null,null,null,null,null,{"$f":"CONCATENATE(VLOOKUP(E237,[1]Seznamy!$Q$2:$R$36,2,0),VLOOKUP(F237,[1]Produkty!$I:$O,7,0),C237,D237)","v":{"$error":"#N/A"}},null,"CZ","Jaf Holz","STRONG transformátor plochý LED 24V 100W","Jaf Holz_STRONG transformátor plochý LED 24V 100W",0,null,"SK","Drevina","Alfa II profile 222788","Drevina_Alfa II profile 222788",0,null,null,null,null,null,null,null,null,null,null,null,null,null,null,null,null,null,null,null,null,null,null,null,null,null,null,null,null,null,null,"'CZ_2020-10'!$A:$H","$A:$H","1132CZ44105","STRONG závěs naložený, slide on","Sinks","neuwirth","2020-10-01","Martin Zniszczol",0.11145056,"x","x","x","x"]
[{"$error":"#N/A"},null,{"$f":"IFERROR(VLOOKUP(B238,List1!$A:$B,2,0),\"x\")","v":"x"},null,null,null,null,null,null,{"$f":"CONCATENATE(VLOOKUP(E238,[1]Seznamy!$Q$2:$R$36,2,0),VLOOKUP(F238,[1]Produkty!$I:$O,7,0),C238,D238)","v":{"$error":"#N/A"}},null,"CZ","Jaf Holz","Alfa II profile 222788","Jaf Holz_Alfa II profile 222788",0,null,"SK","Drevina","SEVROLL Era úchytová lišta 18mm 2,70m stříbrná","Drevina_SEVROLL Era úchytová lišta 18mm 2,70m stříbrná",0,null,null,null,null,null,null,null,null,null,null,null,null,null,null,null,null,null,null,null,null,null,null,null,null,null,null,null,null,null,null,"'CZ_2020-10'!$A:$H","$A:$H","1133CZ44105","StrongBox H86/500mm bílý","Sinks","neuwirth","2020-10-01","Martin Zniszczol",7.0057364000000009,"x","x","x","x"]
[{"$error":"#N/A"},null,{"$f":"IFERROR(VLOOKUP(B239,List1!$A:$B,2,0),\"x\")","v":"x"},null,null,null,null,null,null,{"$f":"CONCATENATE(VLOOKUP(E239,[1]Seznamy!$Q$2:$R$36,2,0),VLOOKUP(F239,[1]Produkty!$I:$O,7,0),C239,D239)","v":{"$error":"#N/A"}},null,"CZ","Jaf Holz","BBP OA Zásuvka 515 mm kovová černá","Jaf Holz_BBP OA Zásuvka 515 mm kovová černá",0,null,"SK","Drevina","Strong electric socket, lift","Drevina_Strong electric socket, lift",0,null,null,null,null,null,null,null,null,null,null,null,null,null,null,null,null,null,null,null,null,null,null,null,null,null,null,null,null,null,null,"'CZ_2020-10'!$A:$H","$A:$H","1134CZ44105","StrongMax 89/500 mm šedý (antracit)","Sinks","neuwirth","2020-10-01","Martin Zniszczol",9.1003962400000002,"x","x","x","x"]
[{"$error":"#N/A"},null,{"$f":"IFERROR(VLOOKUP(B240,List1!$A:$B,2,0),\"x\")","v":"x"},null,null,null,null,null,null,{"$f":"CONCATENATE(VLOOKUP(E240,[1]Seznamy!$Q$2:$R$36,2,0),VLOOKUP(F240,[1]Produkty!$I:$O,7,0),C240,D240)","v":{"$error":"#N/A"}},null,"CZ","Jaf Holz","GOLLINUCCI Sorter 580 Plus Line, 600 mm, výška 505mm, 80 l, šedý","Jaf Holz_GOLLINUCCI Sorter 580 Plus Line, 600 mm, výška 505mm, 80 l, šedý",0,null,"SK","Drevina","STRONG Elektricky stavitelná podnož černá RAL 9005 mat","Drevina_STRONG Elektricky stavitelná podnož černá RAL 9005 mat",0,null,null,null,null,null,null,null,null,null,null,null,null,null,null,null,null,null,null,null,null,null,null,null,null,null,null,null,null,null,null,"'CZ_2020-10'!$A:$H","$A:$H","1135CZ44105","StrongRide synchro 3D celovýsuv 500 mm s tlumením","Sinks","neuwirth","2020-10-01","Martin Zniszczol",5.1412296,"x","x","x","x"]
[{"$error":"#N/A"},null,{"$f":"IFERROR(VLOOKUP(B241,List1!$A:$B,2,0),\"x\")","v":"x"},null,null,null,null,null,null,{"$f":"CONCATENATE(VLOOKUP(E241,[1]Seznamy!$Q$2:$R$36,2,0),VLOOKUP(F241,[1]Produkty!$I:$O,7,0),C241,D241)","v":{"$error":"#N/A"}},null,"CZ","Jaf Holz","GOLLINUCCI Sorter Linea 222, 300 mm","Jaf Holz_GOLLINUCCI Sorter Linea 222, 300 mm",0,null,"SK","Drevina","TULIP Gola dvířkový J profil 4,1m eloxovaný hliník","Drevina_TULIP Gola dvířkový J profil 4,1m eloxovaný hliník",0,null,null,null,null,null,null,null,null,null,null,null,null,null,null,null,null,null,null,null,null,null,null,null,null,null,null,null,null,null,null,"'CZ_2020-10'!$A:$H","$A:$H","1136CZ44105","STRONG Rektifikační nožka 100 mm","Sinks","neuwirth","2020-10-01","Lukáš Sládek",9.5496335999999987E-2,"x","x","x","x"]
[{"$error":"#N/A"},null,{"$f":"IFERROR(VLOOKUP(B242,List1!$A:$B,2,0),\"x\")","v":"x"},null,null,null,null,null,null,{"$f":"CONCATENATE(VLOOKUP(E242,[1]Seznamy!$Q$2:$R$36,2,0),VLOOKUP(F242,[1]Produkty!$I:$O,7,0),C242,D242)","v":{"$error":"#N/A"}},null,"CZ","Jaf Holz","GOLLINUCCI Sorter Sistema 901/2x16 l, 600 mm","Jaf Holz_GOLLINUCCI Sorter Sistema 901/2x16 l, 600 mm",0,null,"SK","GTV","ABSB 77039/414 W980/500/W954 ST2 23/2","GTV_ABSB 77039/414 W980/500/W954 ST2 23/2",0,null,null,null,null,null,null,null,null,null,null,null,null,null,null,null,null,null,null,null,null,null,null,null,null,null,null,null,null,null,null,"'CZ_2020-10'!$A:$H","$A:$H","1137CZ44105","STRONG Stolová noha centrální 450x450 černá","Sinks","neuwirth","2020-10-01","Lukáš Sládek",33.67505388,"x","x","x","x"]
[{"$error":"#N/A"},null,{"$f":"IFERROR(VLOOKUP(B243,List1!$A:$B,2,0),\"x\")","v":"x"},null,null,null,null,null,null,{"$f":"CONCATENATE(VLOOKUP(E243,[1]Seznamy!$Q$2:$R$36,2,0),VLOOKUP(F243,[1]Produkty!$I:$O,7,0),C243,D243)","v":{"$error":"#N/A"}},null,"CZ","Jaf Holz","SEVROLL Era úchytová lišta 18mm 2,70m stříbrná","Jaf Holz_SEVROLL Era úchytová lišta 18mm 2,70m stříbrná",0,null,"SK","GTV","ABSB HU10113 Bílá 101/110/113/8100/8685/W954/B3822 PE 22/2","GTV_ABSB HU10113 Bílá 101/110/113/8100/8685/W954/B3822 PE 22/2",0,null,null,null,null,null,null,null,null,null,null,null,null,null,null,null,null,null,null,null,null,null,null,null,null,null,null,null,null,null,null,"'CZ_2020-10'!$A:$H","$A:$H","1138CZ44105","STRONG Elektrická zásuvka 3x230V, francouzský typ, 265x130x68 mm stříbrná","Sinks","neuwirth","2020-10-01","Lukáš Sládek",12.88628016,"x","x","x","x"]
[{"$error":"#N/A"},null,{"$f":"IFERROR(VLOOKUP(B244,List1!$A:$B,2,0),\"x\")","v":"x"},null,null,null,null,null,null,{"$f":"CONCATENATE(VLOOKUP(E244,[1]Seznamy!$Q$2:$R$36,2,0),VLOOKUP(F244,[1]Produkty!$I:$O,7,0),C244,D244)","v":{"$error":"#N/A"}},null,"CZ","Jaf Holz","STRONG Elektrická zásuvka 3x230V, francouzský typ, 265x130x68 mm stříbrná","Jaf Holz_STRONG Elektrická zásuvka 3x230V, francouzský typ, 265x130x68 mm stříbrná",0,null,"SK","GTV","BBP OA Zásuvka 515 mm kovová černá","GTV_BBP OA Zásuvka 515 mm kovová černá",0,null,null,null,null,null,null,null,null,null,null,null,null,null,null,null,null,null,null,null,null,null,null,null,null,null,null,null,null,null,null,"'CZ_2020-10'!$A:$H","$A:$H","1139CZ44105","BBP OA Zásuvka 515 mm kovová černá","Sinks","neuwirth","2020-10-01","Lukáš Sládek",4.7811832224000002,"x","x","x","x"]
[{"$error":"#N/A"},null,{"$f":"IFERROR(VLOOKUP(B245,List1!$A:$B,2,0),\"x\")","v":"x"},null,null,null,null,null,null,{"$f":"CONCATENATE(VLOOKUP(E245,[1]Seznamy!$Q$2:$R$36,2,0),VLOOKUP(F245,[1]Produkty!$I:$O,7,0),C245,D245)","v":{"$error":"#N/A"}},null,"CZ","Jaf Holz","STRONG Elektricky stavitelná podnož černá RAL 9005 mat","Jaf Holz_STRONG Elektricky stavitelná podnož černá RAL 9005 mat",0,null,"SK","GTV","DTDD DUB COMMERCIAL A/B DEC 2800/2070/19","GTV_DTDD DUB COMMERCIAL A/B DEC 2800/2070/19",0,null,null,null,null,null,null,null,null,null,null,null,null,null,null,null,null,null,null,null,null,null,null,null,null,null,null,null,null,null,null,"'CZ_2020-10'!$A:$H","$A:$H","11313CZ44105","GOLLINUCCI Sorter 580 Plus Line, 600 mm, výška 505mm, 80 l, šedý","Sinks","neuwirth","2020-10-01","Marcela Piechová",68.555453200000002,"x","x","x","x"]
[{"$error":"#N/A"},null,{"$f":"IFERROR(VLOOKUP(B246,List1!$A:$B,2,0),\"x\")","v":"x"},null,null,null,null,null,null,{"$f":"CONCATENATE(VLOOKUP(E246,[1]Seznamy!$Q$2:$R$36,2,0),VLOOKUP(F246,[1]Produkty!$I:$O,7,0),C246,D246)","v":{"$error":"#N/A"}},null,"CZ","Jaf Holz","STRONG Stolová noha centrální 450x450 černá","Jaf Holz_STRONG Stolová noha centrální 450x450 černá",0,null,"SK","GTV","DTDD Dub evr. radiál st A/B 2800/2070/19","GTV_DTDD Dub evr. radiál st A/B 2800/2070/19",0,null,null,null,null,null,null,null,null,null,null,null,null,null,null,null,null,null,null,null,null,null,null,null,null,null,null,null,null,null,null,"'CZ_2020-10'!$A:$H","$A:$H","11316CZ44105","TULIP úchytka Nakana 128 chrom matný + šroubky","Sinks","neuwirth","2020-10-01","Lenka Kormaník",0.75916152000000003,"x","x","x","x"]
[{"$error":"#N/A"},null,{"$f":"IFERROR(VLOOKUP(B247,List1!$A:$B,2,0),\"x\")","v":"x"},null,null,null,null,null,null,{"$f":"CONCATENATE(VLOOKUP(E247,[1]Seznamy!$Q$2:$R$36,2,0),VLOOKUP(F247,[1]Produkty!$I:$O,7,0),C247,D247)","v":{"$error":"#N/A"}},null,"CZ","Jaf Holz","StrongMax 89/500 mm šedý (antracit)","Jaf Holz_StrongMax 89/500 mm šedý (antracit)",0,null,"SK","GTV","DTDL W980 ST2 Platinově bílá 2800/2070/18","GTV_DTDL W980 ST2 Platinově bílá 2800/2070/18",0,null,null,null,null,null,null,null,null,null,null,null,null,null,null,null,null,null,null,null,null,null,null,null,null,null,null,null,null,null,null,"'CZ_2020-10'!$A:$H","$A:$H","11317CZ44105","TULIP úchytka Piombina 96 nikl matný + šroubky","Sinks","neuwirth","2020-10-01","Lenka Kormaník",0.41656555200000001,"x","x","x","x"]
[{"$error":"#N/A"},null,{"$f":"IFERROR(VLOOKUP(B248,List1!$A:$B,2,0),\"x\")","v":"x"},null,null,null,null,null,null,{"$f":"CONCATENATE(VLOOKUP(E248,[1]Seznamy!$Q$2:$R$36,2,0),VLOOKUP(F248,[1]Produkty!$I:$O,7,0),C248,D248)","v":{"$error":"#N/A"}},null,"CZ","Jaf Holz","StrongRide synchro 3D celovýsuv 500 mm s tlumením","Jaf Holz_StrongRide synchro 3D celovýsuv 500 mm s tlumením",0,null,"SK","GTV","FRANKE Dřez BFG 611-78 780 x 500 onyx","GTV_FRANKE Dřez BFG 611-78 780 x 500 onyx",0,null,null,null,null,null,null,null,null,null,null,null,null,null,null,null,null,null,null,null,null,null,null,null,null,null,null,null,null,null,null,"'CZ_2020-10'!$A:$H","$A:$H","11318CZ44105","TULIP úchytka Anita 96 nikl matný + šroubky","Sinks","neuwirth","2020-10-01","Lenka Kormaník",0.26375996400000001,"x","x","x","x"]
[{"$error":"#N/A"},null,{"$f":"IFERROR(VLOOKUP(B249,List1!$A:$B,2,0),\"x\")","v":"x"},null,null,null,null,null,null,{"$f":"CONCATENATE(VLOOKUP(E249,[1]Seznamy!$Q$2:$R$36,2,0),VLOOKUP(F249,[1]Produkty!$I:$O,7,0),C249,D249)","v":{"$error":"#N/A"}},null,"CZ","Jaf Holz","TULIP Gola dvířkový J profil 4,1m eloxovaný hliník","Jaf Holz_TULIP Gola dvířkový J profil 4,1m eloxovaný hliník",0,null,"SK","GTV","FRANKE Dřez ETN 610 455 x 435","GTV_FRANKE Dřez ETN 610 455 x 435",0,null,null,null,null,null,null,null,null,null,null,null,null,null,null,null,null,null,null,null,null,null,null,null,null,null,null,null,null,null,null,"'CZ_2020-10'!$A:$H","$A:$H","11319CZ44105","TULIP věšák Lugo XL chrom matný + šroubky","Sinks","neuwirth","2020-10-01","Lenka Kormaník",0.71147060399999995,"x","x","x","x"]
[{"$error":"#N/A"},null,{"$f":"IFERROR(VLOOKUP(B250,List1!$A:$B,2,0),\"x\")","v":"x"},null,null,null,null,null,null,{"$f":"CONCATENATE(VLOOKUP(E250,[1]Seznamy!$Q$2:$R$36,2,0),VLOOKUP(F250,[1]Produkty!$I:$O,7,0),C250,D250)","v":{"$error":"#N/A"}},null,"CZ","Jaf Holz","TULIP úchytka Anita 96 nikl matný + šroubky","Jaf Holz_TULIP úchytka Anita 96 nikl matný + šroubky",0,null,"SK","GTV","FRANKE Dřez ETN 614 6/4 obyčejný ventil bez otvoru","GTV_FRANKE Dřez ETN 614 6/4 obyčejný ventil bez otvoru",0,null,null,null,null,null,null,null,null,null,null,null,null,null,null,null,null,null,null,null,null,null,null,null,null,null,null,null,null,null,null,"'CZ_2020-10'!$A:$H","$A:$H","11320CZ44105","TULIP Úchytka Ramara 596 imitace nerezi","Sinks","neuwirth","2020-10-01","Lenka Kormaník",3.3996810120000003,"x","x","x","x"]
[{"$error":"#N/A"},null,{"$f":"IFERROR(VLOOKUP(B251,List1!$A:$B,2,0),\"x\")","v":"x"},null,null,null,null,null,null,{"$f":"CONCATENATE(VLOOKUP(E251,[1]Seznamy!$Q$2:$R$36,2,0),VLOOKUP(F251,[1]Produkty!$I:$O,7,0),C251,D251)","v":{"$error":"#N/A"}},null,"CZ","Jaf Holz","TULIP Úchytka Lucata 160 černá matná","Jaf Holz_TULIP Úchytka Lucata 160 černá matná",0,null,"SK","GTV","GOLLINUCCI Sorter 580 Plus Line, 600 mm, výška 505mm, 80 l, šedý","GTV_GOLLINUCCI Sorter 580 Plus Line, 600 mm, výška 505mm, 80 l, šedý",0,null,null,null,null,null,null,null,null,null,null,null,null,null,null,null,null,null,null,null,null,null,null,null,null,null,null,null,null,null,null,"'CZ_2020-10'!$A:$H","$A:$H","11321CZ44105","TULIP Úchytka Lucata 160 černá matná","Sinks","neuwirth","2020-10-01","Lenka Kormaník",0.771814212,"x","x","x","x"]
[{"$error":"#N/A"},null,{"$f":"IFERROR(VLOOKUP(B252,List1!$A:$B,2,0),\"x\")","v":"x"},null,null,null,null,null,null,{"$f":"CONCATENATE(VLOOKUP(E252,[1]Seznamy!$Q$2:$R$36,2,0),VLOOKUP(F252,[1]Produkty!$I:$O,7,0),C252,D252)","v":{"$error":"#N/A"}},null,"CZ","Jaf Holz","TULIP úchytka Piombina 96 nikl matný + šroubky","Jaf Holz_TULIP úchytka Piombina 96 nikl matný + šroubky",0,null,"SK","GTV","HDF LAK 101 BÍLÁ PE 2800/2070/3","GTV_HDF LAK 101 BÍLÁ PE 2800/2070/3",0,null,null,null,null,null,null,null,null,null,null,null,null,null,null,null,null,null,null,null,null,null,null,null,null,null,null,null,null,null,null,"'CZ_2020-10'!$A:$H","$A:$H","11322CZ44105","STRONG LED pásek 21,6W/m 24V bílá neutrální 210 LED/m","Sinks","neuwirth","2020-10-01","Stančo Denčev",3.2118372000000002,"x","x","x","x"]
[{"$error":"#N/A"},null,{"$f":"IFERROR(VLOOKUP(B253,List1!$A:$B,2,0),\"x\")","v":"x"},null,null,null,null,null,null,{"$f":"CONCATENATE(VLOOKUP(E253,[1]Seznamy!$Q$2:$R$36,2,0),VLOOKUP(F253,[1]Produkty!$I:$O,7,0),C253,D253)","v":{"$error":"#N/A"}},null,"CZ","Jaf Holz","TULIP Úchytka Ramara 596 imitace nerezi","Jaf Holz_TULIP Úchytka Ramara 596 imitace nerezi",0,null,"SK","GTV","Konfirmát 7/50 zinek bílý bulk","GTV_Konfirmát 7/50 zinek bílý bulk",0,null,null,null,null,null,null,null,null,null,null,null,null,null,null,null,null,null,null,null,null,null,null,null,null,null,null,null,null,null,null,"'CZ_2020-10'!$A:$H","$A:$H","11323CZ44105","STRONG transformátor plochý LED 24V 100W","Sinks","neuwirth","2020-10-01","Stančo Denčev",16.197148434480003,"x","x","x","x"]
[{"$error":"#N/A"},null,{"$f":"IFERROR(VLOOKUP(B254,List1!$A:$B,2,0),\"x\")","v":"x"},null,null,null,null,null,null,{"$f":"CONCATENATE(VLOOKUP(E254,[1]Seznamy!$Q$2:$R$36,2,0),VLOOKUP(F254,[1]Produkty!$I:$O,7,0),C254,D254)","v":{"$error":"#N/A"}},null,"CZ","Kili","HDF LAK 101 BÍLÁ PE 2800/2070/3","Kili_HDF LAK 101 BÍLÁ PE 2800/2070/3","https://shop.kili.cz/desky-a-hrany/drevovlaknite-desky/hdf-lakovane/hdf-lak-jed-front-white-bila-101-pe-s466766182",null,"SK","GTV","SEVROLL Era úchytová lišta 18mm 2,70m stříbrná","GTV_SEVROLL Era úchytová lišta 18mm 2,70m stříbrná",0,null,null,null,null,null,null,null,null,null,null,null,null,null,null,null,null,null,null,null,null,null,null,null,null,null,null,null,null,null,null,"'CZ_2020-10'!$A:$H","$A:$H","11324CZ44105","Vrut PZ 4x18 zápustná hlava zinek bílý PZ2","Sinks","neuwirth","2020-10-01","Stančo Denčev",1.9465679999999999E-3,"x","x","x","x"]
[{"$error":"#N/A"},null,{"$f":"IFERROR(VLOOKUP(B255,List1!$A:$B,2,0),\"x\")","v":"x"},null,null,null,null,null,null,{"$f":"CONCATENATE(VLOOKUP(E255,[1]Seznamy!$Q$2:$R$36,2,0),VLOOKUP(F255,[1]Produkty!$I:$O,7,0),C255,D255)","v":{"$error":"#N/A"}},null,"CZ","Kili","DTDD DUB COMMERCIAL A/B DEC 2800/2070/19","Kili_DTDD DUB COMMERCIAL A/B DEC 2800/2070/19","https://shop.kili.cz/desky-a-hrany/dyhovane-desky/dtd-dyhovane-desky/dtd-dyhovana-dub-commercial-a-b-s466732664",null,"SK","GTV","STRONG Elektricky stavitelná podnož černá RAL 9005 mat","GTV_STRONG Elektricky stavitelná podnož černá RAL 9005 mat",0,null,null,null,null,null,null,null,null,null,null,null,null,null,null,null,null,null,null,null,null,null,null,null,null,null,null,null,null,null,null,"'CZ_2020-10'!$A:$H","$A:$H","11325CZ44105","Konfirmát 7/50 zinek bílý bulk","Sinks","neuwirth","2020-10-01","Stančo Denčev",7.9419974399999992E-3,"x","x","x","x"]
[{"$error":"#N/A"},null,{"$f":"IFERROR(VLOOKUP(B256,List1!$A:$B,2,0),\"x\")","v":"x"},null,null,null,null,null,null,{"$f":"CONCATENATE(VLOOKUP(E256,[1]Seznamy!$Q$2:$R$36,2,0),VLOOKUP(F256,[1]Produkty!$I:$O,7,0),C256,D256)","v":{"$error":"#N/A"}},null,"CZ","Kili","DTDL W980 ST2 Platinově bílá 2800/2070/18","Kili_DTDL W980 ST2 Platinově bílá 2800/2070/18","https://shop.kili.cz/desky-a-hrany/laminovane-desky-ltd/ltd-platinove-bila-w-980-st2-s466764962",null,"SK","GTV","STRONG LED pásek 21,6W/m 24V bílá neutrální 210 LED/m","GTV_STRONG LED pásek 21,6W/m 24V bílá neutrální 210 LED/m",0,null,null,null,null,null,null,null,null,null,null,null,null,null,null,null,null,null,null,null,null,null,null,null,null,null,null,null,null,null,null,"'CZ_2020-10'!$A:$H","$A:$H","11326CZ44105","DTDL W980 ST2 Platinově bílá 2800/2070/18","Sinks","neuwirth","2020-10-01","Martin Karaščák",25.214852557439997,"x","x","x","x"]
[{"$error":"#N/A"},null,{"$f":"IFERROR(VLOOKUP(B257,List1!$A:$B,2,0),\"x\")","v":"x"},null,null,null,null,null,null,{"$f":"CONCATENATE(VLOOKUP(E257,[1]Seznamy!$Q$2:$R$36,2,0),VLOOKUP(F257,[1]Produkty!$I:$O,7,0),C257,D257)","v":{"$error":"#N/A"}},null,"CZ","Kili","Konfirmát 7/50 zinek bílý bulk","Kili_Konfirmát 7/50 zinek bílý bulk","https://shop.kili.cz/nabytkove-kovani/spojovaci-kovani/vruty-konfirmaty/zapustna-hlava/konfirmat-bily-7x50-baleno-po-250ks-s611124879",null,"SK","GTV","STRONG Stolová noha centrální 450x450 černá","GTV_STRONG Stolová noha centrální 450x450 černá",0,null,null,null,null,null,null,null,null,null,null,null,null,null,null,null,null,null,null,null,null,null,null,null,null,null,null,null,null,null,null,"'CZ_2020-10'!$A:$H","$A:$H","11327CZ44105","DTDD DUB COMMERCIAL A/B DEC 2800/2070/19","Sinks","neuwirth","2020-10-01","Martin Karaščák",55.226676912160002,"x","x","x","x"]
[{"$error":"#N/A"},null,{"$f":"IFERROR(VLOOKUP(B258,List1!$A:$B,2,0),\"x\")","v":"x"},null,null,null,null,null,null,{"$f":"CONCATENATE(VLOOKUP(E258,[1]Seznamy!$Q$2:$R$36,2,0),VLOOKUP(F258,[1]Produkty!$I:$O,7,0),C258,D258)","v":{"$error":"#N/A"}},null,"CZ","Kili","Vrut PZ 4x18 zápustná hlava zinek bílý PZ2","Kili_Vrut PZ 4x18 zápustná hlava zinek bílý PZ2","https://shop.kili.cz/nabytkove-kovani/spojovaci-kovani/vruty-konfirmaty/zapustna-hlava/vrut-zluty-zap-hlava-pz-celozavit-s526489604",null,"SK","GTV","STRONG transformátor plochý LED 24V 100W","GTV_STRONG transformátor plochý LED 24V 100W",0,null,null,null,null,null,null,null,null,null,null,null,null,null,null,null,null,null,null,null,null,null,null,null,null,null,null,null,null,null,null,"'CZ_2020-10'!$A:$H","$A:$H","11328CZ44105","DTDD Dub evr. radiál st A/B 2800/2070/19","Sinks","neuwirth","2020-10-01","Martin Karaščák",0,"x","x","x","x"]
[{"$error":"#N/A"},null,{"$f":"IFERROR(VLOOKUP(B259,List1!$A:$B,2,0),\"x\")","v":"x"},null,null,null,null,null,null,{"$f":"CONCATENATE(VLOOKUP(E259,[1]Seznamy!$Q$2:$R$36,2,0),VLOOKUP(F259,[1]Produkty!$I:$O,7,0),C259,D259)","v":{"$error":"#N/A"}},null,"CZ","Kili","StrongRide synchro 3D celovýsuv 500 mm s tlumením","Kili_StrongRide synchro 3D celovýsuv 500 mm s tlumením","https://shop.kili.cz/nabytkove-kovani/zasuvky/skryte-vysuvy/s-tlumenim/plnovysuv-smart-slide-pro-drevene-z-500mm-30kg-ne-s490473710",null,"SK","GTV","StrongRide synchro 3D celovýsuv 500 mm s tlumením","GTV_StrongRide synchro 3D celovýsuv 500 mm s tlumením",0,null,null,null,null,null,null,null,null,null,null,null,null,null,null,null,null,null,null,null,null,null,null,null,null,null,null,null,null,null,null,"'CZ_2020-10'!$A:$H","$A:$H","11329CZ44105","ABSB HU10113 Bílá 101/110/113/8100/8685/W954/B3822 PE 22/2","Sinks","neuwirth","2020-10-01","Martin Karaščák",0.20190872000000001,"x","x","x","x"]
[{"$error":"#N/A"},null,{"$f":"IFERROR(VLOOKUP(B260,List1!$A:$B,2,0),\"x\")","v":"x"},null,null,null,null,null,null,{"$f":"CONCATENATE(VLOOKUP(E260,[1]Seznamy!$Q$2:$R$36,2,0),VLOOKUP(F260,[1]Produkty!$I:$O,7,0),C260,D260)","v":{"$error":"#N/A"}},null,"CZ","Kili","StrongMax 89/500 mm šedý (antracit)","Kili_StrongMax 89/500 mm šedý (antracit)","https://shop.kili.cz/nabytkove-kovani/zasuvky/systemy-dvojitych-bocnic/sety-s-vysuvy/kompletni-zasuvka-concept-bila-105-mm-500-mm-30-k-s601727584",null,"SK","GTV","TULIP Gola dvířkový J profil 4,1m eloxovaný hliník","GTV_TULIP Gola dvířkový J profil 4,1m eloxovaný hliník",0,null,null,null,null,null,null,null,null,null,null,null,null,null,null,null,null,null,null,null,null,null,null,null,null,null,null,null,null,null,null,"'CZ_2020-10'!$A:$H","$A:$H","11330CZ44105","ABSB 77039/414 W980/500/W954 ST2 23/2","Sinks","neuwirth","2020-10-01","Martin Karaščák",0,"x","x","x","x"]
[{"$error":"#N/A"},null,{"$f":"IFERROR(VLOOKUP(B261,List1!$A:$B,2,0),\"x\")","v":"x"},null,null,null,null,null,null,{"$f":"CONCATENATE(VLOOKUP(E261,[1]Seznamy!$Q$2:$R$36,2,0),VLOOKUP(F261,[1]Produkty!$I:$O,7,0),C261,D261)","v":{"$error":"#N/A"}},null,"CZ","Kili","StrongBox H86/500mm bílý","Kili_StrongBox H86/500mm bílý","https://shop.kili.cz/nabytkove-kovani/zasuvky/systemy-dvojitych-bocnic/sety-s-vysuvy/plnovysuv-gamet-box-2-sedy-500mm-40kg-s496072570",null,"SK","GTV","TULIP Úchytka Lucata 160 černá matná","GTV_TULIP Úchytka Lucata 160 černá matná",0,null,null,null,null,null,null,null,null,null,null,null,null,null,null,null,null,null,null,null,null,null,null,null,null,null,null,null,null,null,null,"'CZ_2020-10'!$A:$H","$A:$H","11331CZ44105","HDF LAK 101 BÍLÁ PE 2800/2070/3","Sinks","neuwirth","2020-10-01","Martin Karaščák",5.8424658364800006,"x","x","x","x"]
[{"$error":"#N/A"},null,{"$f":"IFERROR(VLOOKUP(B262,List1!$A:$B,2,0),\"x\")","v":"x"},null,null,null,null,null,null,{"$f":"CONCATENATE(VLOOKUP(E262,[1]Seznamy!$Q$2:$R$36,2,0),VLOOKUP(F262,[1]Produkty!$I:$O,7,0),C262,D262)","v":{"$error":"#N/A"}},null,"CZ","Kili","STRONG závěs naložený, slide on","Kili_STRONG závěs naložený, slide on","https://shop.kili.cz/nabytkove-kovani/zavesy/standardni-miskove-zavesy/bez-klipu-slide-on/ti-zaves-b-type-nalozeny-110-na-vrut-roztec-45-mm-s557437848",null,"SK","GTV","TULIP Úchytka Ramara 596 imitace nerezi","GTV_TULIP Úchytka Ramara 596 imitace nerezi",0,null,null,null,null,null,null,null,null,null,null,null,null,null,null,null,null,null,null,null,null,null,null,null,null,null,null,null,null,null,null,"'CZ_2020-10'!$A:$H","$A:$H","11332CZ44105","Alfa II profile 222788","Sinks","neuwirth","2020-10-01","NULL",4.206132684,"x","x","x","x"]
[{"$error":"#N/A"},null,{"$f":"IFERROR(VLOOKUP(B263,List1!$A:$B,2,0),\"x\")","v":"x"},null,null,null,null,null,null,{"$f":"CONCATENATE(VLOOKUP(E263,[1]Seznamy!$Q$2:$R$36,2,0),VLOOKUP(F263,[1]Produkty!$I:$O,7,0),C263,D263)","v":{"$error":"#N/A"}},null,"CZ","Kili","STRONG plus závěs naložený s tlumením, s excentrem, klipový","Kili_STRONG plus závěs naložený s tlumením, s excentrem, klipový","https://shop.kili.cz/nabytkove-kovani/zavesy/standardni-miskove-zavesy/klipovy-s-integrovanym-tlumenim/zaves-clip-nalozeny-s-tlumenim-na-vrut-podlozka-s604153292",null,"SK","GTV","Vrut PZ 4x18 zápustná hlava zinek bílý PZ2","GTV_Vrut PZ 4x18 zápustná hlava zinek bílý PZ2",0,null,null,null,null,null,null,null,null,null,null,null,null,null,null,null,null,null,null,null,null,null,null,null,null,null,null,null,null,null,null,"'CZ_2020-10'!$A:$H","$A:$H","11333CZ44105","SEVROLL Era úchytová lišta 18mm 2,70m stříbrná","Sinks","neuwirth","2020-10-01","NULL",3.8168000000000002E-4,"x","x","x","x"]
[{"$error":"#N/A"},null,{"$f":"IFERROR(VLOOKUP(B264,List1!$A:$B,2,0),\"x\")","v":"x"},null,null,null,null,null,null,{"$f":"CONCATENATE(VLOOKUP(E264,[1]Seznamy!$Q$2:$R$36,2,0),VLOOKUP(F264,[1]Produkty!$I:$O,7,0),C264,D264)","v":{"$error":"#N/A"}},null,"CZ","Kili","FRANKE Dřez BFG 611-78 780 x 500 onyx","Kili_FRANKE Dřez BFG 611-78 780 x 500 onyx","https://shop.kili.cz/nabytkove-prislusenstvi/drezy-a-baterie/drezy/granitove/drez-linea-780-n-3-1-2-metalblack-horni-otocny-s628858237",null,"SK","Hafele","ABSB 77039/414 W980/500/W954 ST2 23/2","Hafele_ABSB 77039/414 W980/500/W954 ST2 23/2",0,null,null,null,null,null,null,null,null,null,null,null,null,null,null,null,null,null,null,null,null,null,null,null,null,null,null,null,null,null,null,"'CZ_2020-10'!$A:$H","$A:$H","11334CZ44105","Strong electric socket, lift","Sinks","neuwirth","2020-10-01","NULL",12.923845868960001,"x","x","x","x"]
[{"$f":"TEXT(J265,1)","v":{"$error":"#N/A"}},null,{"$f":"IFERROR(VLOOKUP(B265,List1!$A:$B,2,0),\"x\")","v":"x"},null,null,null,null,null,null,{"$f":"CONCATENATE(VLOOKUP(E265,[1]Seznamy!$Q$2:$R$36,2,0),VLOOKUP(F265,[1]Produkty!$I:$O,7,0),C265,D265)","v":{"$error":"#N/A"}},null,"CZ","Kili","FRANKE Dřez ETN 610 455 x 435","Kili_FRANKE Dřez ETN 610 455 x 435","https://shop.kili.cz/nabytkove-prislusenstvi/drezy-a-baterie/drezy/nerezove/drez-etn-610-455x435mm-6-4-s466765100",null,"SK","Hafele","ABSB HU10113 Bílá 101/110/113/8100/8685/W954/B3822 PE 22/2","Hafele_ABSB HU10113 Bílá 101/110/113/8100/8685/W954/B3822 PE 22/2",0,null,null,null,null,null,null,null,null,null,null,null,null,null,null,null,null,null,null,null,null,null,null,null,null,null,null,null,null,null,null,"'CZ_2020-10'!$A:$H","$A:$H","11335CZ44105","STRONG Elektricky stavitelná podnož černá RAL 9005 mat","Sinks","neuwirth","2020-10-01","NULL",110.69330687999999,"x","x","x","x"]
[{"$error":"#N/A"},null,{"$f":"IFERROR(VLOOKUP(B266,List1!$A:$B,2,0),\"x\")","v":"x"},null,null,null,null,null,null,{"$f":"CONCATENATE(VLOOKUP(E266,[1]Seznamy!$Q$2:$R$36,2,0),VLOOKUP(F266,[1]Produkty!$I:$O,7,0),C266,D266)","v":{"$error":"#N/A"}},null,"CZ","Kili","FRANKE Dřez ETN 614 6/4 obyčejný ventil bez otvoru","Kili_FRANKE Dřez ETN 614 6/4 obyčejný ventil bez otvoru","https://shop.kili.cz/nabytkove-prislusenstvi/drezy-a-baterie/drezy/nerezove/drez-etn-614-nova-6-4-780x435mm-s543036629",null,"SK","Hafele","Alfa II profile 222788","Hafele_Alfa II profile 222788",0,null,null,null,null,null,null,null,null,null,null,null,null,null,null,null,null,null,null,null,null,null,null,null,null,null,null,null,null,null,null,"'CZ_2020-10'!$A:$H","$A:$H","11336CZ44105","TULIP Gola dvířkový J profil 4,1m eloxovaný hliník","Sinks","neuwirth","2020-10-01","NULL",3.8168000000000002E-4,"x","x","x","x"]
[{"$error":"#N/A"},null,{"$f":"IFERROR(VLOOKUP(B267,List1!$A:$B,2,0),\"x\")","v":"x"},null,null,null,null,null,null,{"$f":"CONCATENATE(VLOOKUP(E267,[1]Seznamy!$Q$2:$R$36,2,0),VLOOKUP(F267,[1]Produkty!$I:$O,7,0),C267,D267)","v":{"$error":"#N/A"}},null,"CZ","Kili","STRONG Stolová noha centrální 450x450 černá","Kili_STRONG Stolová noha centrální 450x450 černá","https://shop.kili.cz/nabytkove-prislusenstvi/nohy-kolecka-a-kluzaky/centralni-nohy/jednoduche/centralni-noha-bci-1711-43x43-cerna-s466740872",null,"SK","Hafele","BBP OA Zásuvka 515 mm kovová černá","Hafele_BBP OA Zásuvka 515 mm kovová černá",0,null,null,null,null,null,null,null,null,null,null,null,null,null,null,null,null,null,null,null,null,null,null,null,null,null,null,null,null,null,null,"'CZ_2020-10'!$A:$H","$A:$H","1073CZ44105","StrongBox H86/500mm bílý","TWD","neuwirth","2020-10-01","Martin Zniszczol",7.0057364000000009,"x","x","x","x"]
[{"$error":"#N/A"},null,{"$f":"IFERROR(VLOOKUP(B268,List1!$A:$B,2,0),\"x\")","v":"x"},null,null,null,null,null,null,{"$f":"CONCATENATE(VLOOKUP(E268,[1]Seznamy!$Q$2:$R$36,2,0),VLOOKUP(F268,[1]Produkty!$I:$O,7,0),C268,D268)","v":{"$error":"#N/A"}},null,"CZ","Kili","STRONG Rektifikační nožka 100 mm","Kili_STRONG Rektifikační nožka 100 mm","https://shop.kili.cz/nabytkove-prislusenstvi/nohy-kolecka-a-kluzaky/rektifikacni-nozky/soklova-nozka-volpato-100-mm-s466731388",null,"SK","Hafele","DTDD DUB COMMERCIAL A/B DEC 2800/2070/19","Hafele_DTDD DUB COMMERCIAL A/B DEC 2800/2070/19",0,null,null,null,null,null,null,null,null,null,null,null,null,null,null,null,null,null,null,null,null,null,null,null,null,null,null,null,null,null,null,"'CZ_2020-10'!$A:$H","$A:$H","1074CZ44105","StrongMax 89/500 mm šedý (antracit)","TWD","neuwirth","2020-10-01","Martin Zniszczol",9.1003962400000002,"x","x","x","x"]
[{"$error":"#N/A"},null,{"$f":"IFERROR(VLOOKUP(B269,List1!$A:$B,2,0),\"x\")","v":"x"},null,null,null,null,null,null,{"$f":"CONCATENATE(VLOOKUP(E269,[1]Seznamy!$Q$2:$R$36,2,0),VLOOKUP(F269,[1]Produkty!$I:$O,7,0),C269,D269)","v":{"$error":"#N/A"}},null,"CZ","Kili","STRONG Elektricky stavitelná podnož černá RAL 9005 mat","Kili_STRONG Elektricky stavitelná podnož černá RAL 9005 mat","https://shop.kili.cz/nabytkove-prislusenstvi/nohy-kolecka-a-kluzaky/stolove-konstrukce/elektricky-stavitelne/legadrive-sada-basic-antracitalu-elox-s560466519",null,"SK","Hafele","DTDD Dub evr. radiál st A/B 2800/2070/19","Hafele_DTDD Dub evr. radiál st A/B 2800/2070/19",0,null,null,null,null,null,null,null,null,null,null,null,null,null,null,null,null,null,null,null,null,null,null,null,null,null,null,null,null,null,null,"'CZ_2020-10'!$A:$H","$A:$H","1075CZ44105","StrongRide synchro 3D celovýsuv 500 mm s tlumením","TWD","neuwirth","2020-10-01","Martin Zniszczol",5.1412296,"x","x","x","x"]
[{"$error":"#N/A"},null,{"$f":"IFERROR(VLOOKUP(B270,List1!$A:$B,2,0),\"x\")","v":"x"},null,null,null,null,null,null,{"$f":"CONCATENATE(VLOOKUP(E270,[1]Seznamy!$Q$2:$R$36,2,0),VLOOKUP(F270,[1]Produkty!$I:$O,7,0),C270,D270)","v":{"$error":"#N/A"}},null,"CZ","Kili","GOLLINUCCI Sorter Sistema 901/2x16 l, 600 mm","Kili_GOLLINUCCI Sorter Sistema 901/2x16 l, 600 mm","https://shop.kili.cz/nabytkove-prislusenstvi/odpadkove-kose/do-zasuvky/odpadkovy-kos-practiko-600-2x15l-s466744720",null,"SK","Hafele","DTDL W980 ST2 Platinově bílá 2800/2070/18","Hafele_DTDL W980 ST2 Platinově bílá 2800/2070/18",0,null,null,null,null,null,null,null,null,null,null,null,null,null,null,null,null,null,null,null,null,null,null,null,null,null,null,null,null,null,null,"'CZ_2020-10'!$A:$H","$A:$H","1077CZ44105","STRONG Stolová noha centrální 450x450 černá","TWD","neuwirth","2020-10-01","Lukáš Sládek",33.67505388,"x","x","x","x"]
[{"$error":"#N/A"},null,{"$f":"IFERROR(VLOOKUP(B271,List1!$A:$B,2,0),\"x\")","v":"x"},null,null,null,null,null,null,{"$f":"CONCATENATE(VLOOKUP(E271,[1]Seznamy!$Q$2:$R$36,2,0),VLOOKUP(F271,[1]Produkty!$I:$O,7,0),C271,D271)","v":{"$error":"#N/A"}},null,"CZ","Kili","GOLLINUCCI Sorter Linea 222, 300 mm","Kili_GOLLINUCCI Sorter Linea 222, 300 mm","https://shop.kili.cz/nabytkove-prislusenstvi/odpadkove-kose/vestavne/odpadkovy-kos-albio-20-2x14l-s598872691",null,"SK","Hafele","FRANKE Dřez BFG 611-78 780 x 500 onyx","Hafele_FRANKE Dřez BFG 611-78 780 x 500 onyx",0,null,null,null,null,null,null,null,null,null,null,null,null,null,null,null,null,null,null,null,null,null,null,null,null,null,null,null,null,null,null,"'CZ_2020-10'!$A:$H","$A:$H","1078CZ44105","STRONG Elektrická zásuvka 3x230V, francouzský typ, 265x130x68 mm stříbrná","TWD","neuwirth","2020-10-01","Lukáš Sládek",12.88628016,"x","x","x","x"]
[{"$error":"#N/A"},null,{"$f":"IFERROR(VLOOKUP(B272,List1!$A:$B,2,0),\"x\")","v":"x"},null,null,null,null,null,null,{"$f":"CONCATENATE(VLOOKUP(E272,[1]Seznamy!$Q$2:$R$36,2,0),VLOOKUP(F272,[1]Produkty!$I:$O,7,0),C272,D272)","v":{"$error":"#N/A"}},null,"CZ","Kili","TULIP úchytka Nakana 128 chrom matný + šroubky","Kili_TULIP úchytka Nakana 128 chrom matný + šroubky","https://shop.kili.cz/nabytkove-prislusenstvi/uchytky-a-vesaky/uchytky/kovove/uchytka-1956-185-zn1-chrom-s563445012",null,"SK","Hafele","FRANKE Dřez ETN 610 455 x 435","Hafele_FRANKE Dřez ETN 610 455 x 435",0,null,null,null,null,null,null,null,null,null,null,null,null,null,null,null,null,null,null,null,null,null,null,null,null,null,null,null,null,null,null,"'CZ_2020-10'!$A:$H","$A:$H","1079CZ44105","BBP OA Zásuvka 515 mm kovová černá","TWD","neuwirth","2020-10-01","Lukáš Sládek",4.7811832224000002,"x","x","x","x"]
[{"$error":"#N/A"},null,{"$f":"IFERROR(VLOOKUP(B273,List1!$A:$B,2,0),\"x\")","v":"x"},null,null,null,null,null,null,{"$f":"CONCATENATE(VLOOKUP(E273,[1]Seznamy!$Q$2:$R$36,2,0),VLOOKUP(F273,[1]Produkty!$I:$O,7,0),C273,D273)","v":{"$error":"#N/A"}},null,"CZ","Kili","TULIP věšák Lugo XL chrom matný + šroubky","Kili_TULIP věšák Lugo XL chrom matný + šroubky","https://shop.kili.cz/nabytkove-prislusenstvi/uchytky-a-vesaky/vesaky/trojhacky/vesak-pavel-nikl-mat-s466767606",null,"SK","Hafele","FRANKE Dřez ETN 614 6/4 obyčejný ventil bez otvoru","Hafele_FRANKE Dřez ETN 614 6/4 obyčejný ventil bez otvoru",0,null,null,null,null,null,null,null,null,null,null,null,null,null,null,null,null,null,null,null,null,null,null,null,null,null,null,null,null,null,null,"'CZ_2020-10'!$A:$H","$A:$H","10710CZ44105","FRANKE Dřez ETN 614 6/4 obyčejný ventil bez otvoru","TWD","neuwirth","2020-10-01","Marcela Piechová",20.916063999999999,"x","x","x","x"]
[{"$error":"#N/A"},null,{"$f":"IFERROR(VLOOKUP(B274,List1!$A:$B,2,0),\"x\")","v":"x"},null,null,null,null,null,null,{"$f":"CONCATENATE(VLOOKUP(E274,[1]Seznamy!$Q$2:$R$36,2,0),VLOOKUP(F274,[1]Produkty!$I:$O,7,0),C274,D274)","v":{"$error":"#N/A"}},null,"CZ","Kili","Strong electric socket, lift","Kili_Strong electric socket, lift","https://shop.kili.cz/spotrebice-led-osvetleni-a-naradi/svetla-elektrodoplnky/elektrodoplnky/elektro-sloupek-vysuvny-alu-3zasuvky-2xusb-na-s522117232",null,"SK","Hafele","GOLLINUCCI Sorter 580 Plus Line, 600 mm, výška 505mm, 80 l, šedý","Hafele_GOLLINUCCI Sorter 580 Plus Line, 600 mm, výška 505mm, 80 l, šedý",0,null,null,null,null,null,null,null,null,null,null,null,null,null,null,null,null,null,null,null,null,null,null,null,null,null,null,null,null,null,null,"'CZ_2020-10'!$A:$H","$A:$H","10711CZ44105","FRANKE Dřez BFG 611-78 780 x 500 onyx","TWD","neuwirth","2020-10-01","Marcela Piechová",101.832224,"x","x","x","x"]
[{"$error":"#N/A"},null,{"$f":"IFERROR(VLOOKUP(B275,List1!$A:$B,2,0),\"x\")","v":"x"},null,null,null,null,null,null,{"$f":"CONCATENATE(VLOOKUP(E275,[1]Seznamy!$Q$2:$R$36,2,0),VLOOKUP(F275,[1]Produkty!$I:$O,7,0),C275,D275)","v":{"$error":"#N/A"}},null,"CZ","Kili","STRONG Elektrická zásuvka 3x230V, francouzský typ, 265x130x68 mm stříbrná","Kili_STRONG Elektrická zásuvka 3x230V, francouzský typ, 265x130x68 mm stříbrná","https://shop.kili.cz/spotrebice-led-osvetleni-a-naradi/zasuvka-stolova-vyklapeci-3-x-desksocket-flexi-bil-s559795420",null,"SK","Hafele","GOLLINUCCI Sorter Linea 222, 300 mm","Hafele_GOLLINUCCI Sorter Linea 222, 300 mm",0,null,null,null,null,null,null,null,null,null,null,null,null,null,null,null,null,null,null,null,null,null,null,null,null,null,null,null,null,null,null,"'CZ_2020-10'!$A:$H","$A:$H","10712CZ44105","GOLLINUCCI Sorter Sistema 901/2x16 l, 600 mm","TWD","neuwirth","2020-10-01","Marcela Piechová",15.70384192,"x","x","x","x"]
[{"$error":"#N/A"},null,{"$f":"IFERROR(VLOOKUP(B276,List1!$A:$B,2,0),\"x\")","v":"x"},null,null,null,null,null,null,{"$f":"CONCATENATE(VLOOKUP(E276,[1]Seznamy!$Q$2:$R$36,2,0),VLOOKUP(F276,[1]Produkty!$I:$O,7,0),C276,D276)","v":{"$error":"#N/A"}},null,"CZ","Kili","Alfa II profile 222788","Kili_Alfa II profile 222788",0,null,"SK","Hafele","GOLLINUCCI Sorter Sistema 901/2x16 l, 600 mm","Hafele_GOLLINUCCI Sorter Sistema 901/2x16 l, 600 mm",0,null,null,null,null,null,null,null,null,null,null,null,null,null,null,null,null,null,null,null,null,null,null,null,null,null,null,null,null,null,null,"'CZ_2020-10'!$A:$H","$A:$H","10713CZ44105","GOLLINUCCI Sorter 580 Plus Line, 600 mm, výška 505mm, 80 l, šedý","TWD","neuwirth","2020-10-01","Marcela Piechová",68.555453200000002,"x","x","x","x"]
[{"$error":"#N/A"},null,{"$f":"IFERROR(VLOOKUP(B277,List1!$A:$B,2,0),\"x\")","v":"x"},null,null,null,null,null,null,{"$f":"CONCATENATE(VLOOKUP(E277,[1]Seznamy!$Q$2:$R$36,2,0),VLOOKUP(F277,[1]Produkty!$I:$O,7,0),C277,D277)","v":{"$error":"#N/A"}},null,"CZ","Kili","SEVROLL Era úchytová lišta 18mm 2,70m stříbrná","Kili_SEVROLL Era úchytová lišta 18mm 2,70m stříbrná",0,null,"SK","Hafele","HDF LAK 101 BÍLÁ PE 2800/2070/3","Hafele_HDF LAK 101 BÍLÁ PE 2800/2070/3",0,null,null,null,null,null,null,null,null,null,null,null,null,null,null,null,null,null,null,null,null,null,null,null,null,null,null,null,null,null,null,"'CZ_2020-10'!$A:$H","$A:$H","10714CZ44105","FRANKE Dřez ETN 610 455 x 435","TWD","neuwirth","2020-10-01","Marcela Piechová",23.091640000000002,"x","x","x","x"]
[{"$error":"#N/A"},null,{"$f":"IFERROR(VLOOKUP(B278,List1!$A:$B,2,0),\"x\")","v":"x"},null,null,null,null,null,null,{"$f":"CONCATENATE(VLOOKUP(E278,[1]Seznamy!$Q$2:$R$36,2,0),VLOOKUP(F278,[1]Produkty!$I:$O,7,0),C278,D278)","v":{"$error":"#N/A"}},null,"CZ","Kili","TULIP Gola dvířkový J profil 4,1m eloxovaný hliník","Kili_TULIP Gola dvířkový J profil 4,1m eloxovaný hliník",0,null,"SK","Hafele","Konfirmát 7/50 zinek bílý bulk","Hafele_Konfirmát 7/50 zinek bílý bulk",0,null,null,null,null,null,null,null,null,null,null,null,null,null,null,null,null,null,null,null,null,null,null,null,null,null,null,null,null,null,null,"'CZ_2020-10'!$A:$H","$A:$H","10716CZ44105","TULIP úchytka Nakana 128 chrom matný + šroubky","TWD","neuwirth","2020-10-01","Lenka Kormaník",0.75916152000000003,"x","x","x","x"]
[{"$error":"#N/A"},null,{"$f":"IFERROR(VLOOKUP(B279,List1!$A:$B,2,0),\"x\")","v":"x"},null,null,null,null,null,null,{"$f":"CONCATENATE(VLOOKUP(E279,[1]Seznamy!$Q$2:$R$36,2,0),VLOOKUP(F279,[1]Produkty!$I:$O,7,0),C279,D279)","v":{"$error":"#N/A"}},null,"CZ","Kili","STRONG transformátor plochý LED 24V 100W","Kili_STRONG transformátor plochý LED 24V 100W",0,null,"SK","Hafele","SEVROLL Era úchytová lišta 18mm 2,70m stříbrná","Hafele_SEVROLL Era úchytová lišta 18mm 2,70m stříbrná",0,null,null,null,null,null,null,null,null,null,null,null,null,null,null,null,null,null,null,null,null,null,null,null,null,null,null,null,null,null,null,"'CZ_2020-10'!$A:$H","$A:$H","10717CZ44105","TULIP úchytka Piombina 96 nikl matný + šroubky","TWD","neuwirth","2020-10-01","Lenka Kormaník",0.41656555200000001,"x","x","x","x"]
[{"$error":"#N/A"},null,{"$f":"IFERROR(VLOOKUP(B280,List1!$A:$B,2,0),\"x\")","v":"x"},null,null,null,null,null,null,{"$f":"CONCATENATE(VLOOKUP(E280,[1]Seznamy!$Q$2:$R$36,2,0),VLOOKUP(F280,[1]Produkty!$I:$O,7,0),C280,D280)","v":{"$error":"#N/A"}},null,"CZ","Kili","STRONG LED pásek 21,6W/m 24V bílá neutrální 210 LED/m","Kili_STRONG LED pásek 21,6W/m 24V bílá neutrální 210 LED/m",0,null,"SK","Hafele","Strong electric socket, lift","Hafele_Strong electric socket, lift",0,null,null,null,null,null,null,null,null,null,null,null,null,null,null,null,null,null,null,null,null,null,null,null,null,null,null,null,null,null,null,"'CZ_2020-10'!$A:$H","$A:$H","10718CZ44105","TULIP úchytka Anita 96 nikl matný + šroubky","TWD","neuwirth","2020-10-01","Lenka Kormaník",0.26375996400000001,"x","x","x","x"]
[{"$error":"#N/A"},null,{"$f":"IFERROR(VLOOKUP(B281,List1!$A:$B,2,0),\"x\")","v":"x"},null,null,null,null,null,null,{"$f":"CONCATENATE(VLOOKUP(E281,[1]Seznamy!$Q$2:$R$36,2,0),VLOOKUP(F281,[1]Produkty!$I:$O,7,0),C281,D281)","v":{"$error":"#N/A"}},null,"CZ","Kili","ABSB 77039/414 W980/500/W954 ST2 23/2","Kili_ABSB 77039/414 W980/500/W954 ST2 23/2",0,null,"SK","Hafele","STRONG Elektrická zásuvka 3x230V, francouzský typ, 265x130x68 mm stříbrná","Hafele_STRONG Elektrická zásuvka 3x230V, francouzský typ, 265x130x68 mm stříbrná",0,null,null,null,null,null,null,null,null,null,null,null,null,null,null,null,null,null,null,null,null,null,null,null,null,null,null,null,null,null,null,"'CZ_2020-10'!$A:$H","$A:$H","10719CZ44105","TULIP věšák Lugo XL chrom matný + šroubky","TWD","neuwirth","2020-10-01","Lenka Kormaník",0.71147060399999995,"x","x","x","x"]
[{"$error":"#N/A"},null,{"$f":"IFERROR(VLOOKUP(B282,List1!$A:$B,2,0),\"x\")","v":"x"},null,null,null,null,null,null,{"$f":"CONCATENATE(VLOOKUP(E282,[1]Seznamy!$Q$2:$R$36,2,0),VLOOKUP(F282,[1]Produkty!$I:$O,7,0),C282,D282)","v":{"$error":"#N/A"}},null,"CZ","Kili","ABSB HU10113 Bílá 101/110/113/8100/8685/W954/B3822 PE 22/2","Kili_ABSB HU10113 Bílá 101/110/113/8100/8685/W954/B3822 PE 22/2",0,null,"SK","Hafele","STRONG Elektricky stavitelná podnož černá RAL 9005 mat","Hafele_STRONG Elektricky stavitelná podnož černá RAL 9005 mat",0,null,null,null,null,null,null,null,null,null,null,null,null,null,null,null,null,null,null,null,null,null,null,null,null,null,null,null,null,null,null,"'CZ_2020-10'!$A:$H","$A:$H","10720CZ44105","TULIP Úchytka Ramara 596 imitace nerezi","TWD","neuwirth","2020-10-01","Lenka Kormaník",3.3996810120000003,"x","x","x","x"]
[{"$error":"#N/A"},null,{"$f":"IFERROR(VLOOKUP(B283,List1!$A:$B,2,0),\"x\")","v":"x"},null,null,null,null,null,null,{"$f":"CONCATENATE(VLOOKUP(E283,[1]Seznamy!$Q$2:$R$36,2,0),VLOOKUP(F283,[1]Produkty!$I:$O,7,0),C283,D283)","v":{"$error":"#N/A"}},null,"CZ","Kili","BBP OA Zásuvka 515 mm kovová černá","Kili_BBP OA Zásuvka 515 mm kovová černá",0,null,"SK","Hafele","STRONG LED pásek 21,6W/m 24V bílá neutrální 210 LED/m","Hafele_STRONG LED pásek 21,6W/m 24V bílá neutrální 210 LED/m",0,null,null,null,null,null,null,null,null,null,null,null,null,null,null,null,null,null,null,null,null,null,null,null,null,null,null,null,null,null,null,"'CZ_2020-10'!$A:$H","$A:$H","10721CZ44105","TULIP Úchytka Lucata 160 černá matná","TWD","neuwirth","2020-10-01","Lenka Kormaník",0.771814212,"x","x","x","x"]
[{"$error":"#N/A"},null,{"$f":"IFERROR(VLOOKUP(B284,List1!$A:$B,2,0),\"x\")","v":"x"},null,null,null,null,null,null,{"$f":"CONCATENATE(VLOOKUP(E284,[1]Seznamy!$Q$2:$R$36,2,0),VLOOKUP(F284,[1]Produkty!$I:$O,7,0),C284,D284)","v":{"$error":"#N/A"}},null,"CZ","Kili","DTDD Dub evr. radiál st A/B 2800/2070/19","Kili_DTDD Dub evr. radiál st A/B 2800/2070/19",0,null,"SK","Hafele","STRONG Stolová noha centrální 450x450 černá","Hafele_STRONG Stolová noha centrální 450x450 černá",0,null,null,null,null,null,null,null,null,null,null,null,null,null,null,null,null,null,null,null,null,null,null,null,null,null,null,null,null,null,null,"'CZ_2020-10'!$A:$H","$A:$H","10724CZ44105","Vrut PZ 4x18 zápustná hlava zinek bílý PZ2","TWD","neuwirth","2020-10-01","Stančo Denčev",1.9465679999999999E-3,"x","x","x","x"]
[{"$error":"#N/A"},null,{"$f":"IFERROR(VLOOKUP(B285,List1!$A:$B,2,0),\"x\")","v":"x"},null,null,null,null,null,null,{"$f":"CONCATENATE(VLOOKUP(E285,[1]Seznamy!$Q$2:$R$36,2,0),VLOOKUP(F285,[1]Produkty!$I:$O,7,0),C285,D285)","v":{"$error":"#N/A"}},null,"CZ","Kili","GOLLINUCCI Sorter 580 Plus Line, 600 mm, výška 505mm, 80 l, šedý","Kili_GOLLINUCCI Sorter 580 Plus Line, 600 mm, výška 505mm, 80 l, šedý",0,null,"SK","Hafele","STRONG transformátor plochý LED 24V 100W","Hafele_STRONG transformátor plochý LED 24V 100W",0,null,null,null,null,null,null,null,null,null,null,null,null,null,null,null,null,null,null,null,null,null,null,null,null,null,null,null,null,null,null,"'CZ_2020-10'!$A:$H","$A:$H","10726CZ44105","DTDL W980 ST2 Platinově bílá 2800/2070/18","TWD","neuwirth","2020-10-01","Martin Karaščák",25.214852557439997,"x","x","x","x"]
[{"$error":"#N/A"},null,{"$f":"IFERROR(VLOOKUP(B286,List1!$A:$B,2,0),\"x\")","v":"x"},null,null,null,null,null,null,{"$f":"CONCATENATE(VLOOKUP(E286,[1]Seznamy!$Q$2:$R$36,2,0),VLOOKUP(F286,[1]Produkty!$I:$O,7,0),C286,D286)","v":{"$error":"#N/A"}},null,"CZ","Kili","TULIP úchytka Anita 96 nikl matný + šroubky","Kili_TULIP úchytka Anita 96 nikl matný + šroubky",0,null,"SK","Hafele","TULIP Gola dvířkový J profil 4,1m eloxovaný hliník","Hafele_TULIP Gola dvířkový J profil 4,1m eloxovaný hliník",0,null,null,null,null,null,null,null,null,null,null,null,null,null,null,null,null,null,null,null,null,null,null,null,null,null,null,null,null,null,null,"'CZ_2020-10'!$A:$H","$A:$H","10727CZ44105","DTDD DUB COMMERCIAL A/B DEC 2800/2070/19","TWD","neuwirth","2020-10-01","Martin Karaščák",55.226676912160002,"x","x","x","x"]
[{"$error":"#N/A"},null,{"$f":"IFERROR(VLOOKUP(B287,List1!$A:$B,2,0),\"x\")","v":"x"},null,null,null,null,null,null,{"$f":"CONCATENATE(VLOOKUP(E287,[1]Seznamy!$Q$2:$R$36,2,0),VLOOKUP(F287,[1]Produkty!$I:$O,7,0),C287,D287)","v":{"$error":"#N/A"}},null,"CZ","Kili","TULIP Úchytka Lucata 160 černá matná","Kili_TULIP Úchytka Lucata 160 černá matná",0,null,"SK","Hafele","TULIP úchytka Anita 96 nikl matný + šroubky","Hafele_TULIP úchytka Anita 96 nikl matný + šroubky",0,null,null,null,null,null,null,null,null,null,null,null,null,null,null,null,null,null,null,null,null,null,null,null,null,null,null,null,null,null,null,"'CZ_2020-10'!$A:$H","$A:$H","10728CZ44105","DTDD Dub evr. radiál st A/B 2800/2070/19","TWD","neuwirth","2020-10-01","Martin Karaščák",0,"x","x","x","x"]
[{"$error":"#N/A"},null,{"$f":"IFERROR(VLOOKUP(B288,List1!$A:$B,2,0),\"x\")","v":"x"},null,null,null,null,null,null,{"$f":"CONCATENATE(VLOOKUP(E288,[1]Seznamy!$Q$2:$R$36,2,0),VLOOKUP(F288,[1]Produkty!$I:$O,7,0),C288,D288)","v":{"$error":"#N/A"}},null,"CZ","Kili","TULIP úchytka Piombina 96 nikl matný + šroubky","Kili_TULIP úchytka Piombina 96 nikl matný + šroubky",0,null,"SK","Hafele","TULIP Úchytka Lucata 160 černá matná","Hafele_TULIP Úchytka Lucata 160 černá matná",0,null,null,null,null,null,null,null,null,null,null,null,null,null,null,null,null,null,null,null,null,null,null,null,null,null,null,null,null,null,null,"'CZ_2020-10'!$A:$H","$A:$H","10729CZ44105","ABSB HU10113 Bílá 101/110/113/8100/8685/W954/B3822 PE 22/2","TWD","neuwirth","2020-10-01","Martin Karaščák",0.20190872000000001,"x","x","x","x"]
[{"$error":"#N/A"},null,{"$f":"IFERROR(VLOOKUP(B289,List1!$A:$B,2,0),\"x\")","v":"x"},null,null,null,null,null,null,{"$f":"CONCATENATE(VLOOKUP(E289,[1]Seznamy!$Q$2:$R$36,2,0),VLOOKUP(F289,[1]Produkty!$I:$O,7,0),C289,D289)","v":{"$error":"#N/A"}},null,"CZ","Kili","TULIP Úchytka Ramara 596 imitace nerezi","Kili_TULIP Úchytka Ramara 596 imitace nerezi",0,null,"SK","Hafele","TULIP úchytka Nakana 128 chrom matný + šroubky","Hafele_TULIP úchytka Nakana 128 chrom matný + šroubky",0,null,null,null,null,null,null,null,null,null,null,null,null,null,null,null,null,null,null,null,null,null,null,null,null,null,null,null,null,null,null,"'CZ_2020-10'!$A:$H","$A:$H","10730CZ44105","ABSB 77039/414 W980/500/W954 ST2 23/2","TWD","neuwirth","2020-10-01","Martin Karaščák",0,"x","x","x","x"]
[{"$error":"#N/A"},null,{"$f":"IFERROR(VLOOKUP(B290,List1!$A:$B,2,0),\"x\")","v":"x"},null,null,null,null,null,null,{"$f":"CONCATENATE(VLOOKUP(E290,[1]Seznamy!$Q$2:$R$36,2,0),VLOOKUP(F290,[1]Produkty!$I:$O,7,0),C290,D290)","v":{"$error":"#N/A"}},null,"CZ","KNK","FRANKE Dřez BFG 611-78 780 x 500 onyx","KNK_FRANKE Dřez BFG 611-78 780 x 500 onyx","https://www.knk.cz/eshop/produkt/best-780-500-granit-cerny-777349",null,"SK","Hafele","TULIP úchytka Piombina 96 nikl matný + šroubky","Hafele_TULIP úchytka Piombina 96 nikl matný + šroubky",0,null,null,null,null,null,null,null,null,null,null,null,null,null,null,null,null,null,null,null,null,null,null,null,null,null,null,null,null,null,null,"'CZ_2020-10'!$A:$H","$A:$H","10734CZ44105","Strong electric socket, lift","TWD","neuwirth","2020-10-01","NULL",12.923845868960001,"x","x","x","x"]
[{"$error":"#N/A"},null,{"$f":"IFERROR(VLOOKUP(B291,List1!$A:$B,2,0),\"x\")","v":"x"},null,null,null,null,null,null,{"$f":"CONCATENATE(VLOOKUP(E291,[1]Seznamy!$Q$2:$R$36,2,0),VLOOKUP(F291,[1]Produkty!$I:$O,7,0),C291,D291)","v":{"$error":"#N/A"}},null,"CZ","KNK","ABSB HU10113 Bílá 101/110/113/8100/8685/W954/B3822 PE 22/2","KNK_ABSB HU10113 Bílá 101/110/113/8100/8685/W954/B3822 PE 22/2","https://www.knk.cz/eshop/produkt/bila-hladka-22-2-777247",null,"SK","Hafele","TULIP Úchytka Ramara 596 imitace nerezi","Hafele_TULIP Úchytka Ramara 596 imitace nerezi",0,null,null,null,null,null,null,null,null,null,null,null,null,null,null,null,null,null,null,null,null,null,null,null,null,null,null,null,null,null,null,"'CZ_2020-10'!$A:$H","$A:$H","10735CZ44105","STRONG Elektricky stavitelná podnož černá RAL 9005 mat","TWD","neuwirth","2020-10-01","NULL",110.69330687999999,"x","x","x","x"]
[{"$error":"#N/A"},null,{"$f":"IFERROR(VLOOKUP(B292,List1!$A:$B,2,0),\"x\")","v":"x"},null,null,null,null,null,null,{"$f":"CONCATENATE(VLOOKUP(E292,[1]Seznamy!$Q$2:$R$36,2,0),VLOOKUP(F292,[1]Produkty!$I:$O,7,0),C292,D292)","v":{"$error":"#N/A"}},null,"CZ","KNK","FRANKE Dřez ETN 610 455 x 435","KNK_FRANKE Dřez ETN 610 455 x 435","https://www.knk.cz/eshop/produkt/classic-480x480m-bez-odkapu-777343",null,"SK","Hafele","TULIP věšák Lugo XL chrom matný + šroubky","Hafele_TULIP věšák Lugo XL chrom matný + šroubky",0,null,null,null,null,null,null,null,null,null,null,null,null,null,null,null,null,null,null,null,null,null,null,null,null,null,null,null,null,null,null,"'CZ_2020-10'!$A:$H","$A:$H","1171CZ44105","STRONG plus závěs naložený s tlumením, s excentrem, klipový","Weyland","neuwirth","2020-10-01","Martin Zniszczol",0.27061111999999998,"x","x","x","x"]
[{"$error":"#N/A"},null,{"$f":"IFERROR(VLOOKUP(B293,List1!$A:$B,2,0),\"x\")","v":"x"},null,null,null,null,null,null,{"$f":"CONCATENATE(VLOOKUP(E293,[1]Seznamy!$Q$2:$R$36,2,0),VLOOKUP(F293,[1]Produkty!$I:$O,7,0),C293,D293)","v":{"$error":"#N/A"}},null,"CZ","KNK","StrongBox H86/500mm bílý","KNK_StrongBox H86/500mm bílý","https://www.knk.cz/eshop/produkt/gamet-box-500100",null,"SK","Hafele","Vrut PZ 4x18 zápustná hlava zinek bílý PZ2","Hafele_Vrut PZ 4x18 zápustná hlava zinek bílý PZ2",0,null,null,null,null,null,null,null,null,null,null,null,null,null,null,null,null,null,null,null,null,null,null,null,null,null,null,null,null,null,null,"'CZ_2020-10'!$A:$H","$A:$H","1172CZ44105","STRONG závěs naložený, slide on","Weyland","neuwirth","2020-10-01","Martin Zniszczol",0.11145056,"x","x","x","x"]
[{"$error":"#N/A"},null,{"$f":"IFERROR(VLOOKUP(B294,List1!$A:$B,2,0),\"x\")","v":"x"},null,null,null,null,null,null,{"$f":"CONCATENATE(VLOOKUP(E294,[1]Seznamy!$Q$2:$R$36,2,0),VLOOKUP(F294,[1]Produkty!$I:$O,7,0),C294,D294)","v":{"$error":"#N/A"}},null,"CZ","KNK","Konfirmát 7/50 zinek bílý bulk","KNK_Konfirmát 7/50 zinek bílý bulk","https://www.knk.cz/eshop/produkt/konfirmat-7x50-zn-776888",null,"SK","Hranipex","Alfa II profile 222788","Hranipex_Alfa II profile 222788",0,null,null,null,null,null,null,null,null,null,null,null,null,null,null,null,null,null,null,null,null,null,null,null,null,null,null,null,null,null,null,"'CZ_2020-10'!$A:$H","$A:$H","1173CZ44105","StrongBox H86/500mm bílý","Weyland","neuwirth","2020-10-01","Martin Zniszczol",7.0057364000000009,"x","x","x","x"]
[{"$error":"#N/A"},null,{"$f":"IFERROR(VLOOKUP(B295,List1!$A:$B,2,0),\"x\")","v":"x"},null,null,null,null,null,null,{"$f":"CONCATENATE(VLOOKUP(E295,[1]Seznamy!$Q$2:$R$36,2,0),VLOOKUP(F295,[1]Produkty!$I:$O,7,0),C295,D295)","v":{"$error":"#N/A"}},null,"CZ","KNK","STRONG závěs naložený, slide on","KNK_STRONG závěs naložený, slide on","https://www.knk.cz/eshop/produkt/nalozeny-ip-podl-776082",null,"SK","Hranipex","BBP OA Zásuvka 515 mm kovová černá","Hranipex_BBP OA Zásuvka 515 mm kovová černá",0,null,null,null,null,null,null,null,null,null,null,null,null,null,null,null,null,null,null,null,null,null,null,null,null,null,null,null,null,null,null,"'CZ_2020-10'!$A:$H","$A:$H","1174CZ44105","StrongMax 89/500 mm šedý (antracit)","Weyland","neuwirth","2020-10-01","Martin Zniszczol",9.1003962400000002,"x","x","x","x"]
[{"$error":"#N/A"},null,{"$f":"IFERROR(VLOOKUP(B296,List1!$A:$B,2,0),\"x\")","v":"x"},null,null,null,null,null,null,{"$f":"CONCATENATE(VLOOKUP(E296,[1]Seznamy!$Q$2:$R$36,2,0),VLOOKUP(F296,[1]Produkty!$I:$O,7,0),C296,D296)","v":{"$error":"#N/A"}},null,"CZ","KNK","STRONG plus závěs naložený s tlumením, s excentrem, klipový","KNK_STRONG plus závěs naložený s tlumením, s excentrem, klipový","https://www.knk.cz/eshop/produkt/nalozeny-tlumklip-3d-gt",null,"SK","Hranipex","DTDD DUB COMMERCIAL A/B DEC 2800/2070/19","Hranipex_DTDD DUB COMMERCIAL A/B DEC 2800/2070/19",0,null,null,null,null,null,null,null,null,null,null,null,null,null,null,null,null,null,null,null,null,null,null,null,null,null,null,null,null,null,null,"'CZ_2020-10'!$A:$H","$A:$H","1175CZ44105","StrongRide synchro 3D celovýsuv 500 mm s tlumením","Weyland","neuwirth","2020-10-01","Martin Zniszczol",5.1412296,"x","x","x","x"]
[{"$error":"#N/A"},null,{"$f":"IFERROR(VLOOKUP(B297,List1!$A:$B,2,0),\"x\")","v":"x"},null,null,null,null,null,null,{"$f":"CONCATENATE(VLOOKUP(E297,[1]Seznamy!$Q$2:$R$36,2,0),VLOOKUP(F297,[1]Produkty!$I:$O,7,0),C297,D297)","v":{"$error":"#N/A"}},null,"CZ","KNK","FRANKE Dřez ETN 614 6/4 obyčejný ventil bez otvoru","KNK_FRANKE Dřez ETN 614 6/4 obyčejný ventil bez otvoru","https://www.knk.cz/eshop/produkt/okio-780x435v-s-odkapem-777345",null,"SK","Hranipex","DTDD Dub evr. radiál st A/B 2800/2070/19","Hranipex_DTDD Dub evr. radiál st A/B 2800/2070/19",0,null,null,null,null,null,null,null,null,null,null,null,null,null,null,null,null,null,null,null,null,null,null,null,null,null,null,null,null,null,null,"'CZ_2020-10'!$A:$H","$A:$H","1176CZ44105","STRONG Rektifikační nožka 100 mm","Weyland","neuwirth","2020-10-01","Lukáš Sládek",9.5496335999999987E-2,"x","x","x","x"]
[{"$error":"#N/A"},null,{"$f":"IFERROR(VLOOKUP(B298,List1!$A:$B,2,0),\"x\")","v":"x"},null,null,null,null,null,null,{"$f":"CONCATENATE(VLOOKUP(E298,[1]Seznamy!$Q$2:$R$36,2,0),VLOOKUP(F298,[1]Produkty!$I:$O,7,0),C298,D298)","v":{"$error":"#N/A"}},null,"CZ","KNK","SEVROLL Era úchytová lišta 18mm 2,70m stříbrná","KNK_SEVROLL Era úchytová lišta 18mm 2,70m stříbrná","https://www.knk.cz/eshop/produkt/omegamulti-madlo-wide-al-2-7m-776597",null,"SK","Hranipex","DTDL W980 ST2 Platinově bílá 2800/2070/18","Hranipex_DTDL W980 ST2 Platinově bílá 2800/2070/18",0,null,null,null,null,null,null,null,null,null,null,null,null,null,null,null,null,null,null,null,null,null,null,null,null,null,null,null,null,null,null,"'CZ_2020-10'!$A:$H","$A:$H","1177CZ44105","STRONG Stolová noha centrální 450x450 černá","Weyland","neuwirth","2020-10-01","Lukáš Sládek",33.67505388,"x","x","x","x"]
[{"$error":"#N/A"},null,{"$f":"IFERROR(VLOOKUP(B299,List1!$A:$B,2,0),\"x\")","v":"x"},null,null,null,null,null,null,{"$f":"CONCATENATE(VLOOKUP(E299,[1]Seznamy!$Q$2:$R$36,2,0),VLOOKUP(F299,[1]Produkty!$I:$O,7,0),C299,D299)","v":{"$error":"#N/A"}},null,"CZ","KNK","STRONG Rektifikační nožka 100 mm","KNK_STRONG Rektifikační nožka 100 mm","https://www.knk.cz/eshop/produkt/regul-nozka-ph-100-95-165-776458",null,"SK","Hranipex","FRANKE Dřez BFG 611-78 780 x 500 onyx","Hranipex_FRANKE Dřez BFG 611-78 780 x 500 onyx",0,null,null,null,null,null,null,null,null,null,null,null,null,null,null,null,null,null,null,null,null,null,null,null,null,null,null,null,null,null,null,"'CZ_2020-10'!$A:$H","$A:$H","1178CZ44105","STRONG Elektrická zásuvka 3x230V, francouzský typ, 265x130x68 mm stříbrná","Weyland","neuwirth","2020-10-01","Lukáš Sládek",12.88628016,"x","x","x","x"]
[{"$error":"#N/A"},null,{"$f":"IFERROR(VLOOKUP(B300,List1!$A:$B,2,0),\"x\")","v":"x"},null,null,null,null,null,null,{"$f":"CONCATENATE(VLOOKUP(E300,[1]Seznamy!$Q$2:$R$36,2,0),VLOOKUP(F300,[1]Produkty!$I:$O,7,0),C300,D300)","v":{"$error":"#N/A"}},null,"CZ","KNK","StrongMax 89/500 mm šedý (antracit)","KNK_StrongMax 89/500 mm šedý (antracit)","https://www.knk.cz/eshop/produkt/smart-box-500-68-sedy-40kg-16mm-776707",null,"SK","Hranipex","FRANKE Dřez ETN 610 455 x 435","Hranipex_FRANKE Dřez ETN 610 455 x 435",0,null,null,null,null,null,null,null,null,null,null,null,null,null,null,null,null,null,null,null,null,null,null,null,null,null,null,null,null,null,null,"'CZ_2020-10'!$A:$H","$A:$H","1179CZ44105","BBP OA Zásuvka 515 mm kovová černá","Weyland","neuwirth","2020-10-01","Lukáš Sládek",4.7811832224000002,"x","x","x","x"]
[{"$error":"#N/A"},null,{"$f":"IFERROR(VLOOKUP(B301,List1!$A:$B,2,0),\"x\")","v":"x"},null,null,null,null,null,null,{"$f":"CONCATENATE(VLOOKUP(E301,[1]Seznamy!$Q$2:$R$36,2,0),VLOOKUP(F301,[1]Produkty!$I:$O,7,0),C301,D301)","v":{"$error":"#N/A"}},null,"CZ","KNK","StrongRide synchro 3D celovýsuv 500 mm s tlumením","KNK_StrongRide synchro 3D celovýsuv 500 mm s tlumením","https://www.knk.cz/eshop/produkt/smart-plnovysuv-500mm-komplet-776764",null,"SK","Hranipex","FRANKE Dřez ETN 614 6/4 obyčejný ventil bez otvoru","Hranipex_FRANKE Dřez ETN 614 6/4 obyčejný ventil bez otvoru",0,null,null,null,null,null,null,null,null,null,null,null,null,null,null,null,null,null,null,null,null,null,null,null,null,null,null,null,null,null,null,"'CZ_2020-10'!$A:$H","$A:$H","11710CZ44105","FRANKE Dřez ETN 614 6/4 obyčejný ventil bez otvoru","Weyland","neuwirth","2020-10-01","Marcela Piechová",20.916063999999999,"x","x","x","x"]
[{"$error":"#N/A"},null,{"$f":"IFERROR(VLOOKUP(B302,List1!$A:$B,2,0),\"x\")","v":"x"},null,null,null,null,null,null,{"$f":"CONCATENATE(VLOOKUP(E302,[1]Seznamy!$Q$2:$R$36,2,0),VLOOKUP(F302,[1]Produkty!$I:$O,7,0),C302,D302)","v":{"$error":"#N/A"}},null,"CZ","KNK","STRONG Elektrická zásuvka 3x230V, francouzský typ, 265x130x68 mm stříbrná","KNK_STRONG Elektrická zásuvka 3x230V, francouzský typ, 265x130x68 mm stříbrná","https://www.knk.cz/eshop/produkt/vyklopna-3zasuvka-g6-266x130mm-s-kabelem-777358",null,"SK","Hranipex","GOLLINUCCI Sorter 580 Plus Line, 600 mm, výška 505mm, 80 l, šedý","Hranipex_GOLLINUCCI Sorter 580 Plus Line, 600 mm, výška 505mm, 80 l, šedý",0,null,null,null,null,null,null,null,null,null,null,null,null,null,null,null,null,null,null,null,null,null,null,null,null,null,null,null,null,null,null,"'CZ_2020-10'!$A:$H","$A:$H","11711CZ44105","FRANKE Dřez BFG 611-78 780 x 500 onyx","Weyland","neuwirth","2020-10-01","Marcela Piechová",101.832224,"x","x","x","x"]
[{"$error":"#N/A"},null,{"$f":"IFERROR(VLOOKUP(B303,List1!$A:$B,2,0),\"x\")","v":"x"},null,null,null,null,null,null,{"$f":"CONCATENATE(VLOOKUP(E303,[1]Seznamy!$Q$2:$R$36,2,0),VLOOKUP(F303,[1]Produkty!$I:$O,7,0),C303,D303)","v":{"$error":"#N/A"}},null,"CZ","KNK","TULIP věšák Lugo XL chrom matný + šroubky","KNK_TULIP věšák Lugo XL chrom matný + šroubky","https://www.knk.cz/eshop?id=834864&filter=its%255B8787%255D%255B0%255D%3Dmatn%25C3%25BD%2Bchrom&action=itemDetail&oid=5670677&nid=16146",null,"SK","Hranipex","GOLLINUCCI Sorter Linea 222, 300 mm","Hranipex_GOLLINUCCI Sorter Linea 222, 300 mm",0,null,null,null,null,null,null,null,null,null,null,null,null,null,null,null,null,null,null,null,null,null,null,null,null,null,null,null,null,null,null,"'CZ_2020-10'!$A:$H","$A:$H","11712CZ44105","GOLLINUCCI Sorter Sistema 901/2x16 l, 600 mm","Weyland","neuwirth","2020-10-01","Marcela Piechová",15.70384192,"x","x","x","x"]
[{"$error":"#N/A"},null,{"$f":"IFERROR(VLOOKUP(B304,List1!$A:$B,2,0),\"x\")","v":"x"},null,null,null,null,null,null,{"$f":"CONCATENATE(VLOOKUP(E304,[1]Seznamy!$Q$2:$R$36,2,0),VLOOKUP(F304,[1]Produkty!$I:$O,7,0),C304,D304)","v":{"$error":"#N/A"}},null,"CZ","KNK","STRONG LED pásek 21,6W/m 24V bílá neutrální 210 LED/m","KNK_STRONG LED pásek 21,6W/m 24V bílá neutrální 210 LED/m",0,null,"SK","Hranipex","GOLLINUCCI Sorter Sistema 901/2x16 l, 600 mm","Hranipex_GOLLINUCCI Sorter Sistema 901/2x16 l, 600 mm",0,null,null,null,null,null,null,null,null,null,null,null,null,null,null,null,null,null,null,null,null,null,null,null,null,null,null,null,null,null,null,"'CZ_2020-10'!$A:$H","$A:$H","11713CZ44105","GOLLINUCCI Sorter 580 Plus Line, 600 mm, výška 505mm, 80 l, šedý","Weyland","neuwirth","2020-10-01","Marcela Piechová",68.555453200000002,"x","x","x","x"]
[{"$error":"#N/A"},null,{"$f":"IFERROR(VLOOKUP(B305,List1!$A:$B,2,0),\"x\")","v":"x"},null,null,null,null,null,null,{"$f":"CONCATENATE(VLOOKUP(E305,[1]Seznamy!$Q$2:$R$36,2,0),VLOOKUP(F305,[1]Produkty!$I:$O,7,0),C305,D305)","v":{"$error":"#N/A"}},null,"CZ","KNK","STRONG transformátor plochý LED 24V 100W","KNK_STRONG transformátor plochý LED 24V 100W",0,null,"SK","Hranipex","HDF LAK 101 BÍLÁ PE 2800/2070/3","Hranipex_HDF LAK 101 BÍLÁ PE 2800/2070/3",0,null,null,null,null,null,null,null,null,null,null,null,null,null,null,null,null,null,null,null,null,null,null,null,null,null,null,null,null,null,null,"'CZ_2020-10'!$A:$H","$A:$H","11714CZ44105","FRANKE Dřez ETN 610 455 x 435","Weyland","neuwirth","2020-10-01","Marcela Piechová",23.091640000000002,"x","x","x","x"]
[{"$error":"#N/A"},null,{"$f":"IFERROR(VLOOKUP(B306,List1!$A:$B,2,0),\"x\")","v":"x"},null,null,null,null,null,null,{"$f":"CONCATENATE(VLOOKUP(E306,[1]Seznamy!$Q$2:$R$36,2,0),VLOOKUP(F306,[1]Produkty!$I:$O,7,0),C306,D306)","v":{"$error":"#N/A"}},null,"CZ","KNK","ABSB 77039/414 W980/500/W954 ST2 23/2","KNK_ABSB 77039/414 W980/500/W954 ST2 23/2",0,null,"SK","Hranipex","Konfirmát 7/50 zinek bílý bulk","Hranipex_Konfirmát 7/50 zinek bílý bulk",0,null,null,null,null,null,null,null,null,null,null,null,null,null,null,null,null,null,null,null,null,null,null,null,null,null,null,null,null,null,null,"'CZ_2020-10'!$A:$H","$A:$H","11715CZ44105","GOLLINUCCI Sorter Linea 222, 300 mm","Weyland","neuwirth","2020-10-01","Marcela Piechová",25.28515496,"x","x","x","x"]
[{"$error":"#N/A"},null,{"$f":"IFERROR(VLOOKUP(B307,List1!$A:$B,2,0),\"x\")","v":"x"},null,null,null,null,null,null,{"$f":"CONCATENATE(VLOOKUP(E307,[1]Seznamy!$Q$2:$R$36,2,0),VLOOKUP(F307,[1]Produkty!$I:$O,7,0),C307,D307)","v":{"$error":"#N/A"}},null,"CZ","KNK","Alfa II profile 222788","KNK_Alfa II profile 222788",0,null,"SK","Hranipex","SEVROLL Era úchytová lišta 18mm 2,70m stříbrná","Hranipex_SEVROLL Era úchytová lišta 18mm 2,70m stříbrná",0,null,null,null,null,null,null,null,null,null,null,null,null,null,null,null,null,null,null,null,null,null,null,null,null,null,null,null,null,null,null,"'CZ_2020-10'!$A:$H","$A:$H","11716CZ44105","TULIP úchytka Nakana 128 chrom matný + šroubky","Weyland","neuwirth","2020-10-01","Lenka Kormaník",0.75916152000000003,"x","x","x","x"]
[{"$error":"#N/A"},null,{"$f":"IFERROR(VLOOKUP(B308,List1!$A:$B,2,0),\"x\")","v":"x"},null,null,null,null,null,null,{"$f":"CONCATENATE(VLOOKUP(E308,[1]Seznamy!$Q$2:$R$36,2,0),VLOOKUP(F308,[1]Produkty!$I:$O,7,0),C308,D308)","v":{"$error":"#N/A"}},null,"CZ","KNK","BBP OA Zásuvka 515 mm kovová černá","KNK_BBP OA Zásuvka 515 mm kovová černá",0,null,"SK","Hranipex","Strong electric socket, lift","Hranipex_Strong electric socket, lift",0,null,null,null,null,null,null,null,null,null,null,null,null,null,null,null,null,null,null,null,null,null,null,null,null,null,null,null,null,null,null,"'CZ_2020-10'!$A:$H","$A:$H","11717CZ44105","TULIP úchytka Piombina 96 nikl matný + šroubky","Weyland","neuwirth","2020-10-01","Lenka Kormaník",0.41656555200000001,"x","x","x","x"]
[{"$error":"#N/A"},null,{"$f":"IFERROR(VLOOKUP(B309,List1!$A:$B,2,0),\"x\")","v":"x"},null,null,null,null,null,null,{"$f":"CONCATENATE(VLOOKUP(E309,[1]Seznamy!$Q$2:$R$36,2,0),VLOOKUP(F309,[1]Produkty!$I:$O,7,0),C309,D309)","v":{"$error":"#N/A"}},null,"CZ","KNK","DTDD DUB COMMERCIAL A/B DEC 2800/2070/19","KNK_DTDD DUB COMMERCIAL A/B DEC 2800/2070/19",0,null,"SK","Hranipex","STRONG Elektrická zásuvka 3x230V, francouzský typ, 265x130x68 mm stříbrná","Hranipex_STRONG Elektrická zásuvka 3x230V, francouzský typ, 265x130x68 mm stříbrná",0,null,null,null,null,null,null,null,null,null,null,null,null,null,null,null,null,null,null,null,null,null,null,null,null,null,null,null,null,null,null,"'CZ_2020-10'!$A:$H","$A:$H","11718CZ44105","TULIP úchytka Anita 96 nikl matný + šroubky","Weyland","neuwirth","2020-10-01","Lenka Kormaník",0.26375996400000001,"x","x","x","x"]
[{"$error":"#N/A"},null,{"$f":"IFERROR(VLOOKUP(B310,List1!$A:$B,2,0),\"x\")","v":"x"},null,null,null,null,null,null,{"$f":"CONCATENATE(VLOOKUP(E310,[1]Seznamy!$Q$2:$R$36,2,0),VLOOKUP(F310,[1]Produkty!$I:$O,7,0),C310,D310)","v":{"$error":"#N/A"}},null,"CZ","KNK","DTDD Dub evr. radiál st A/B 2800/2070/19","KNK_DTDD Dub evr. radiál st A/B 2800/2070/19",0,null,"SK","Hranipex","STRONG Elektricky stavitelná podnož černá RAL 9005 mat","Hranipex_STRONG Elektricky stavitelná podnož černá RAL 9005 mat",0,null,null,null,null,null,null,null,null,null,null,null,null,null,null,null,null,null,null,null,null,null,null,null,null,null,null,null,null,null,null,"'CZ_2020-10'!$A:$H","$A:$H","11719CZ44105","TULIP věšák Lugo XL chrom matný + šroubky","Weyland","neuwirth","2020-10-01","Lenka Kormaník",0.71147060399999995,"x","x","x","x"]
[{"$error":"#N/A"},null,{"$f":"IFERROR(VLOOKUP(B311,List1!$A:$B,2,0),\"x\")","v":"x"},null,null,null,null,null,null,{"$f":"CONCATENATE(VLOOKUP(E311,[1]Seznamy!$Q$2:$R$36,2,0),VLOOKUP(F311,[1]Produkty!$I:$O,7,0),C311,D311)","v":{"$error":"#N/A"}},null,"CZ","KNK","DTDL W980 ST2 Platinově bílá 2800/2070/18","KNK_DTDL W980 ST2 Platinově bílá 2800/2070/18",0,null,"SK","Hranipex","STRONG LED pásek 21,6W/m 24V bílá neutrální 210 LED/m","Hranipex_STRONG LED pásek 21,6W/m 24V bílá neutrální 210 LED/m",0,null,null,null,null,null,null,null,null,null,null,null,null,null,null,null,null,null,null,null,null,null,null,null,null,null,null,null,null,null,null,"'CZ_2020-10'!$A:$H","$A:$H","11720CZ44105","TULIP Úchytka Ramara 596 imitace nerezi","Weyland","neuwirth","2020-10-01","Lenka Kormaník",3.3996810120000003,"x","x","x","x"]
[{"$error":"#N/A"},null,{"$f":"IFERROR(VLOOKUP(B312,List1!$A:$B,2,0),\"x\")","v":"x"},null,null,null,null,null,null,{"$f":"CONCATENATE(VLOOKUP(E312,[1]Seznamy!$Q$2:$R$36,2,0),VLOOKUP(F312,[1]Produkty!$I:$O,7,0),C312,D312)","v":{"$error":"#N/A"}},null,"CZ","KNK","GOLLINUCCI Sorter 580 Plus Line, 600 mm, výška 505mm, 80 l, šedý","KNK_GOLLINUCCI Sorter 580 Plus Line, 600 mm, výška 505mm, 80 l, šedý",0,null,"SK","Hranipex","STRONG plus závěs naložený s tlumením, s excentrem, klipový","Hranipex_STRONG plus závěs naložený s tlumením, s excentrem, klipový",0,null,null,null,null,null,null,null,null,null,null,null,null,null,null,null,null,null,null,null,null,null,null,null,null,null,null,null,null,null,null,"'CZ_2020-10'!$A:$H","$A:$H","11721CZ44105","TULIP Úchytka Lucata 160 černá matná","Weyland","neuwirth","2020-10-01","Lenka Kormaník",0.771814212,"x","x","x","x"]
[{"$error":"#N/A"},null,{"$f":"IFERROR(VLOOKUP(B313,List1!$A:$B,2,0),\"x\")","v":"x"},null,null,null,null,null,null,{"$f":"CONCATENATE(VLOOKUP(E313,[1]Seznamy!$Q$2:$R$36,2,0),VLOOKUP(F313,[1]Produkty!$I:$O,7,0),C313,D313)","v":{"$error":"#N/A"}},null,"CZ","KNK","GOLLINUCCI Sorter Linea 222, 300 mm","KNK_GOLLINUCCI Sorter Linea 222, 300 mm",0,null,"SK","Hranipex","STRONG Rektifikační nožka 100 mm","Hranipex_STRONG Rektifikační nožka 100 mm",0,null,null,null,null,null,null,null,null,null,null,null,null,null,null,null,null,null,null,null,null,null,null,null,null,null,null,null,null,null,null,"'CZ_2020-10'!$A:$H","$A:$H","11722CZ44105","STRONG LED pásek 21,6W/m 24V bílá neutrální 210 LED/m","Weyland","neuwirth","2020-10-01","Stančo Denčev",3.2118372000000002,"x","x","x","x"]
[{"$error":"#N/A"},null,{"$f":"IFERROR(VLOOKUP(B314,List1!$A:$B,2,0),\"x\")","v":"x"},null,null,null,null,null,null,{"$f":"CONCATENATE(VLOOKUP(E314,[1]Seznamy!$Q$2:$R$36,2,0),VLOOKUP(F314,[1]Produkty!$I:$O,7,0),C314,D314)","v":{"$error":"#N/A"}},null,"CZ","KNK","GOLLINUCCI Sorter Sistema 901/2x16 l, 600 mm","KNK_GOLLINUCCI Sorter Sistema 901/2x16 l, 600 mm",0,null,"SK","Hranipex","STRONG Stolová noha centrální 450x450 černá","Hranipex_STRONG Stolová noha centrální 450x450 černá",0,null,null,null,null,null,null,null,null,null,null,null,null,null,null,null,null,null,null,null,null,null,null,null,null,null,null,null,null,null,null,"'CZ_2020-10'!$A:$H","$A:$H","11723CZ44105","STRONG transformátor plochý LED 24V 100W","Weyland","neuwirth","2020-10-01","Stančo Denčev",16.197148434480003,"x","x","x","x"]
[{"$error":"#N/A"},null,{"$f":"IFERROR(VLOOKUP(B315,List1!$A:$B,2,0),\"x\")","v":"x"},null,null,null,null,null,null,{"$f":"CONCATENATE(VLOOKUP(E315,[1]Seznamy!$Q$2:$R$36,2,0),VLOOKUP(F315,[1]Produkty!$I:$O,7,0),C315,D315)","v":{"$error":"#N/A"}},null,"CZ","KNK","HDF LAK 101 BÍLÁ PE 2800/2070/3","KNK_HDF LAK 101 BÍLÁ PE 2800/2070/3",0,null,"SK","Hranipex","STRONG transformátor plochý LED 24V 100W","Hranipex_STRONG transformátor plochý LED 24V 100W",0,null,null,null,null,null,null,null,null,null,null,null,null,null,null,null,null,null,null,null,null,null,null,null,null,null,null,null,null,null,null,"'CZ_2020-10'!$A:$H","$A:$H","11725CZ44105","Konfirmát 7/50 zinek bílý bulk","Weyland","neuwirth","2020-10-01","Stančo Denčev",7.9419974399999992E-3,"x","x","x","x"]
[{"$error":"#N/A"},null,{"$f":"IFERROR(VLOOKUP(B316,List1!$A:$B,2,0),\"x\")","v":"x"},null,null,null,null,null,null,{"$f":"CONCATENATE(VLOOKUP(E316,[1]Seznamy!$Q$2:$R$36,2,0),VLOOKUP(F316,[1]Produkty!$I:$O,7,0),C316,D316)","v":{"$error":"#N/A"}},null,"CZ","KNK","Strong electric socket, lift","KNK_Strong electric socket, lift",0,null,"SK","Hranipex","STRONG závěs naložený, slide on","Hranipex_STRONG závěs naložený, slide on",0,null,null,null,null,null,null,null,null,null,null,null,null,null,null,null,null,null,null,null,null,null,null,null,null,null,null,null,null,null,null,"'CZ_2020-10'!$A:$H","$A:$H","11726CZ44105","DTDL W980 ST2 Platinově bílá 2800/2070/18","Weyland","neuwirth","2020-10-01","Martin Karaščák",25.214852557439997,"x","x","x","x"]
[{"$error":"#N/A"},null,{"$f":"IFERROR(VLOOKUP(B317,List1!$A:$B,2,0),\"x\")","v":"x"},null,null,null,null,null,null,{"$f":"CONCATENATE(VLOOKUP(E317,[1]Seznamy!$Q$2:$R$36,2,0),VLOOKUP(F317,[1]Produkty!$I:$O,7,0),C317,D317)","v":{"$error":"#N/A"}},null,"CZ","KNK","STRONG Elektricky stavitelná podnož černá RAL 9005 mat","KNK_STRONG Elektricky stavitelná podnož černá RAL 9005 mat",0,null,"SK","Hranipex","StrongBox H86/500mm bílý","Hranipex_StrongBox H86/500mm bílý",0,null,null,null,null,null,null,null,null,null,null,null,null,null,null,null,null,null,null,null,null,null,null,null,null,null,null,null,null,null,null,"'CZ_2020-10'!$A:$H","$A:$H","11727CZ44105","DTDD DUB COMMERCIAL A/B DEC 2800/2070/19","Weyland","neuwirth","2020-10-01","Martin Karaščák",55.226676912160002,"x","x","x","x"]
[{"$error":"#N/A"},null,{"$f":"IFERROR(VLOOKUP(B318,List1!$A:$B,2,0),\"x\")","v":"x"},null,null,null,null,null,null,{"$f":"CONCATENATE(VLOOKUP(E318,[1]Seznamy!$Q$2:$R$36,2,0),VLOOKUP(F318,[1]Produkty!$I:$O,7,0),C318,D318)","v":{"$error":"#N/A"}},null,"CZ","KNK","STRONG Stolová noha centrální 450x450 černá","KNK_STRONG Stolová noha centrální 450x450 černá",0,null,"SK","Hranipex","StrongMax 89/500 mm šedý (antracit)","Hranipex_StrongMax 89/500 mm šedý (antracit)",0,null,null,null,null,null,null,null,null,null,null,null,null,null,null,null,null,null,null,null,null,null,null,null,null,null,null,null,null,null,null,"'CZ_2020-10'!$A:$H","$A:$H","11728CZ44105","DTDD Dub evr. radiál st A/B 2800/2070/19","Weyland","neuwirth","2020-10-01","Martin Karaščák",0,"x","x","x","x"]
[{"$error":"#N/A"},null,{"$f":"IFERROR(VLOOKUP(B319,List1!$A:$B,2,0),\"x\")","v":"x"},null,null,null,null,null,null,{"$f":"CONCATENATE(VLOOKUP(E319,[1]Seznamy!$Q$2:$R$36,2,0),VLOOKUP(F319,[1]Produkty!$I:$O,7,0),C319,D319)","v":{"$error":"#N/A"}},null,"CZ","KNK","TULIP Gola dvířkový J profil 4,1m eloxovaný hliník","KNK_TULIP Gola dvířkový J profil 4,1m eloxovaný hliník",0,null,"SK","Hranipex","StrongRide synchro 3D celovýsuv 500 mm s tlumením","Hranipex_StrongRide synchro 3D celovýsuv 500 mm s tlumením",0,null,null,null,null,null,null,null,null,null,null,null,null,null,null,null,null,null,null,null,null,null,null,null,null,null,null,null,null,null,null,"'CZ_2020-10'!$A:$H","$A:$H","11729CZ44105","ABSB HU10113 Bílá 101/110/113/8100/8685/W954/B3822 PE 22/2","Weyland","neuwirth","2020-10-01","Martin Karaščák",0.20190872000000001,"x","x","x","x"]
[{"$error":"#N/A"},null,{"$f":"IFERROR(VLOOKUP(B320,List1!$A:$B,2,0),\"x\")","v":"x"},null,null,null,null,null,null,{"$f":"CONCATENATE(VLOOKUP(E320,[1]Seznamy!$Q$2:$R$36,2,0),VLOOKUP(F320,[1]Produkty!$I:$O,7,0),C320,D320)","v":{"$error":"#N/A"}},null,"CZ","KNK","TULIP úchytka Anita 96 nikl matný + šroubky","KNK_TULIP úchytka Anita 96 nikl matný + šroubky",0,null,"SK","Hranipex","TULIP Gola dvířkový J profil 4,1m eloxovaný hliník","Hranipex_TULIP Gola dvířkový J profil 4,1m eloxovaný hliník",0,null,null,null,null,null,null,null,null,null,null,null,null,null,null,null,null,null,null,null,null,null,null,null,null,null,null,null,null,null,null,"'CZ_2020-10'!$A:$H","$A:$H","11730CZ44105","ABSB 77039/414 W980/500/W954 ST2 23/2","Weyland","neuwirth","2020-10-01","Martin Karaščák",0,"x","x","x","x"]
[{"$error":"#N/A"},null,{"$f":"IFERROR(VLOOKUP(B321,List1!$A:$B,2,0),\"x\")","v":"x"},null,null,null,null,null,null,{"$f":"CONCATENATE(VLOOKUP(E321,[1]Seznamy!$Q$2:$R$36,2,0),VLOOKUP(F321,[1]Produkty!$I:$O,7,0),C321,D321)","v":{"$error":"#N/A"}},null,"CZ","KNK","TULIP Úchytka Lucata 160 černá matná","KNK_TULIP Úchytka Lucata 160 černá matná",0,null,"SK","Hranipex","TULIP úchytka Anita 96 nikl matný + šroubky","Hranipex_TULIP úchytka Anita 96 nikl matný + šroubky",0,null,null,null,null,null,null,null,null,null,null,null,null,null,null,null,null,null,null,null,null,null,null,null,null,null,null,null,null,null,null,"'CZ_2020-10'!$A:$H","$A:$H","11731CZ44105","HDF LAK 101 BÍLÁ PE 2800/2070/3","Weyland","neuwirth","2020-10-01","Martin Karaščák",5.8424658364800006,"x","x","x","x"]
[{"$error":"#N/A"},null,{"$f":"IFERROR(VLOOKUP(B322,List1!$A:$B,2,0),\"x\")","v":"x"},null,null,null,null,null,null,{"$f":"CONCATENATE(VLOOKUP(E322,[1]Seznamy!$Q$2:$R$36,2,0),VLOOKUP(F322,[1]Produkty!$I:$O,7,0),C322,D322)","v":{"$error":"#N/A"}},null,"CZ","KNK","TULIP úchytka Nakana 128 chrom matný + šroubky","KNK_TULIP úchytka Nakana 128 chrom matný + šroubky",0,null,"SK","Hranipex","TULIP Úchytka Lucata 160 černá matná","Hranipex_TULIP Úchytka Lucata 160 černá matná",0,null,null,null,null,null,null,null,null,null,null,null,null,null,null,null,null,null,null,null,null,null,null,null,null,null,null,null,null,null,null,"'CZ_2020-10'!$A:$H","$A:$H","11732CZ44105","Alfa II profile 222788","Weyland","neuwirth","2020-10-01","NULL",4.206132684,"x","x","x","x"]
[{"$error":"#N/A"},null,{"$f":"IFERROR(VLOOKUP(B323,List1!$A:$B,2,0),\"x\")","v":"x"},null,null,null,null,null,null,{"$f":"CONCATENATE(VLOOKUP(E323,[1]Seznamy!$Q$2:$R$36,2,0),VLOOKUP(F323,[1]Produkty!$I:$O,7,0),C323,D323)","v":{"$error":"#N/A"}},null,"CZ","KNK","TULIP úchytka Piombina 96 nikl matný + šroubky","KNK_TULIP úchytka Piombina 96 nikl matný + šroubky",0,null,"SK","Hranipex","TULIP úchytka Nakana 128 chrom matný + šroubky","Hranipex_TULIP úchytka Nakana 128 chrom matný + šroubky",0,null,null,null,null,null,null,null,null,null,null,null,null,null,null,null,null,null,null,null,null,null,null,null,null,null,null,null,null,null,null,"'CZ_2020-10'!$A:$H","$A:$H","11733CZ44105","SEVROLL Era úchytová lišta 18mm 2,70m stříbrná","Weyland","neuwirth","2020-10-01","NULL",3.8168000000000002E-4,"x","x","x","x"]
[{"$error":"#N/A"},null,{"$f":"IFERROR(VLOOKUP(B324,List1!$A:$B,2,0),\"x\")","v":"x"},null,null,null,null,null,null,{"$f":"CONCATENATE(VLOOKUP(E324,[1]Seznamy!$Q$2:$R$36,2,0),VLOOKUP(F324,[1]Produkty!$I:$O,7,0),C324,D324)","v":{"$error":"#N/A"}},null,"CZ","KNK","TULIP Úchytka Ramara 596 imitace nerezi","KNK_TULIP Úchytka Ramara 596 imitace nerezi",0,null,"SK","Hranipex","TULIP úchytka Piombina 96 nikl matný + šroubky","Hranipex_TULIP úchytka Piombina 96 nikl matný + šroubky",0,null,null,null,null,null,null,null,null,null,null,null,null,null,null,null,null,null,null,null,null,null,null,null,null,null,null,null,null,null,null,"'CZ_2020-10'!$A:$H","$A:$H","11734CZ44105","Strong electric socket, lift","Weyland","neuwirth","2020-10-01","NULL",12.923845868960001,"x","x","x","x"]
[{"$error":"#N/A"},null,{"$f":"IFERROR(VLOOKUP(B325,List1!$A:$B,2,0),\"x\")","v":"x"},null,null,null,null,null,null,{"$f":"CONCATENATE(VLOOKUP(E325,[1]Seznamy!$Q$2:$R$36,2,0),VLOOKUP(F325,[1]Produkty!$I:$O,7,0),C325,D325)","v":{"$error":"#N/A"}},null,"CZ","KNK","Vrut PZ 4x18 zápustná hlava zinek bílý PZ2","KNK_Vrut PZ 4x18 zápustná hlava zinek bílý PZ2",0,null,"SK","Hranipex","TULIP Úchytka Ramara 596 imitace nerezi","Hranipex_TULIP Úchytka Ramara 596 imitace nerezi",0,null,null,null,null,null,null,null,null,null,null,null,null,null,null,null,null,null,null,null,null,null,null,null,null,null,null,null,null,null,null,"'CZ_2020-10'!$A:$H","$A:$H","11735CZ44105","STRONG Elektricky stavitelná podnož černá RAL 9005 mat","Weyland","neuwirth","2020-10-01","NULL",110.69330687999999,"x","x","x","x"]
[{"$error":"#N/A"},null,{"$f":"IFERROR(VLOOKUP(B326,List1!$A:$B,2,0),\"x\")","v":"x"},null,null,null,null,null,null,{"$f":"CONCATENATE(VLOOKUP(E326,[1]Seznamy!$Q$2:$R$36,2,0),VLOOKUP(F326,[1]Produkty!$I:$O,7,0),C326,D326)","v":{"$error":"#N/A"}},null,"CZ","Kopecký CZ","STRONG Stolová noha centrální 450x450 černá","Kopecký CZ_STRONG Stolová noha centrální 450x450 černá","https://www.kovani-nabytek.cz/cs/centralni-nohy/noha-centralni-hranata-435x435x700mm-cerna-komplet.html",null,"SK","Hranipex","TULIP věšák Lugo XL chrom matný + šroubky","Hranipex_TULIP věšák Lugo XL chrom matný + šroubky",0,null,null,null,null,null,null,null,null,null,null,null,null,null,null,null,null,null,null,null,null,null,null,null,null,null,null,null,null,null,null,"'CZ_2020-10'!$A:$H","$A:$H","11736CZ44105","TULIP Gola dvířkový J profil 4,1m eloxovaný hliník","Weyland","neuwirth","2020-10-01","NULL",3.8168000000000002E-4,"x","x","x","x"]
[{"$error":"#N/A"},null,{"$f":"IFERROR(VLOOKUP(B327,List1!$A:$B,2,0),\"x\")","v":"x"},null,null,null,null,null,null,{"$f":"CONCATENATE(VLOOKUP(E327,[1]Seznamy!$Q$2:$R$36,2,0),VLOOKUP(F327,[1]Produkty!$I:$O,7,0),C327,D327)","v":{"$error":"#N/A"}},null,"CZ","Kopecký CZ","StrongMax 89/500 mm šedý (antracit)","Kopecký CZ_StrongMax 89/500 mm šedý (antracit)","https://www.kovani-nabytek.cz/cs/designo-box-komplet/designo-box-slim-s-tlumenim-nizky-500-111-18mm-40kg-regulace-4d-antracit-bal-10.html",null,"SK","Hranipex","Vrut PZ 4x18 zápustná hlava zinek bílý PZ2","Hranipex_Vrut PZ 4x18 zápustná hlava zinek bílý PZ2",0,null,null,null,null,null,null,null,null,null,null,null,null,null,null,null,null,null,null,null,null,null,null,null,null,null,null,null,null,null,null,"'HU_2020-10'!$A:$H","$A:$H","10132HU44105","Alfa II profile 222788","_Demos","keves","2020-10-01","NULL",4.4872215449599997,"x","x","x","x"]
[{"$error":"#N/A"},null,{"$f":"IFERROR(VLOOKUP(B328,List1!$A:$B,2,0),\"x\")","v":"x"},null,null,null,null,null,null,{"$f":"CONCATENATE(VLOOKUP(E328,[1]Seznamy!$Q$2:$R$36,2,0),VLOOKUP(F328,[1]Produkty!$I:$O,7,0),C328,D328)","v":{"$error":"#N/A"}},null,"CZ","Kopecký CZ","GOLLINUCCI Sorter Sistema 901/2x16 l, 600 mm","Kopecký CZ_GOLLINUCCI Sorter Sistema 901/2x16 l, 600 mm","https://www.kovani-nabytek.cz/cs/do-zasuvky/kos-odp-multino-do-zasuvky-600-2-kos-2x15ll-sedy.html",null,"SK","IW Trend","Strong electric socket, lift","IW Trend_Strong electric socket, lift",0,null,null,null,null,null,null,null,null,null,null,null,null,null,null,null,null,null,null,null,null,null,null,null,null,null,null,null,null,null,null,"'HU_2020-10'!$A:$H","$A:$H","10133HU44105","SEVROLL Era úchytová lišta 18mm 2,70m stříbrná","_Demos","keves","2020-10-01","NULL",2.8160000000000001E-5,"x","x","x","x"]
[{"$f":"TEXT(J329,1)","v":{"$error":"#N/A"}},null,{"$f":"IFERROR(VLOOKUP(B329,List1!$A:$B,2,0),\"x\")","v":"x"},null,null,null,null,null,null,{"$f":"CONCATENATE(VLOOKUP(E329,[1]Seznamy!$Q$2:$R$36,2,0),VLOOKUP(F329,[1]Produkty!$I:$O,7,0),C329,D329)","v":{"$error":"#N/A"}},null,"CZ","Kopecký CZ","STRONG Elektrická zásuvka 3x230V, francouzský typ, 265x130x68 mm stříbrná","Kopecký CZ_STRONG Elektrická zásuvka 3x230V, francouzský typ, 265x130x68 mm stříbrná","https://www.kovani-nabytek.cz/cs/elektroveze-zasuvky/zasuvka-elektro-stolova-vyklopna-zapustna-3x-zasuvka-kabel-stribrna.html",null,"SK","IW Trend","STRONG Elektricky stavitelná podnož černá RAL 9005 mat","IW Trend_STRONG Elektricky stavitelná podnož černá RAL 9005 mat",0,null,null,null,null,null,null,null,null,null,null,null,null,null,null,null,null,null,null,null,null,null,null,null,null,null,null,null,null,null,null,"'HU_2020-10'!$A:$H","$A:$H","10134HU44105","Strong electric socket, lift","_Demos","keves","2020-10-01","NULL",11.736545835519999,"x","x","x","x"]
[{"$error":"#N/A"},null,{"$f":"IFERROR(VLOOKUP(B330,List1!$A:$B,2,0),\"x\")","v":"x"},null,null,null,null,null,null,{"$f":"CONCATENATE(VLOOKUP(E330,[1]Seznamy!$Q$2:$R$36,2,0),VLOOKUP(F330,[1]Produkty!$I:$O,7,0),C330,D330)","v":{"$error":"#N/A"}},null,"CZ","Kopecký CZ","Strong electric socket, lift","Kopecký CZ_Strong electric socket, lift","https://www.kovani-nabytek.cz/cs/elektroveze-zasuvky/zasuvka-elektro-stolova-vysuvna-vez-60mm-3x-zasuvka-xusb-kabel-stribrna-plast.html?search_query=zasuvka&results=153",null,"SK","IW Trend","STRONG LED pásek 21,6W/m 24V bílá neutrální 210 LED/m","IW Trend_STRONG LED pásek 21,6W/m 24V bílá neutrální 210 LED/m",0,null,null,null,null,null,null,null,null,null,null,null,null,null,null,null,null,null,null,null,null,null,null,null,null,null,null,null,null,null,null,"'HU_2020-10'!$A:$H","$A:$H","10135HU44105","STRONG Elektricky stavitelná podnož černá RAL 9005 mat","_Demos","keves","2020-10-01","NULL",129.44718006528001,"x","x","x","x"]
[{"$error":"#N/A"},null,{"$f":"IFERROR(VLOOKUP(B331,List1!$A:$B,2,0),\"x\")","v":"x"},null,null,null,null,null,null,{"$f":"CONCATENATE(VLOOKUP(E331,[1]Seznamy!$Q$2:$R$36,2,0),VLOOKUP(F331,[1]Produkty!$I:$O,7,0),C331,D331)","v":{"$error":"#N/A"}},null,"CZ","Kopecký CZ","TULIP věšák Lugo XL chrom matný + šroubky","Kopecký CZ_TULIP věšák Lugo XL chrom matný + šroubky","https://www.kovani-nabytek.cz/cs/hacky-na-saty/vesak-k24-velky-wp59-romana-i-cr-sat.html",null,"SK","IW Trend","STRONG transformátor plochý LED 24V 100W","IW Trend_STRONG transformátor plochý LED 24V 100W",0,null,null,null,null,null,null,null,null,null,null,null,null,null,null,null,null,null,null,null,null,null,null,null,null,null,null,null,null,null,null,"'HU_2020-10'!$A:$H","$A:$H","10136HU44105","TULIP Gola dvířkový J profil 4,1m eloxovaný hliník","_Demos","keves","2020-10-01","NULL",2.8160000000000001E-5,"x","x","x","x"]
[{"$error":"#N/A"},null,{"$f":"IFERROR(VLOOKUP(B332,List1!$A:$B,2,0),\"x\")","v":"x"},null,null,null,null,null,null,{"$f":"CONCATENATE(VLOOKUP(E332,[1]Seznamy!$Q$2:$R$36,2,0),VLOOKUP(F332,[1]Produkty!$I:$O,7,0),C332,D332)","v":{"$error":"#N/A"}},null,"CZ","Kopecký CZ","FRANKE Dřez ETN 610 455 x 435","Kopecký CZ_FRANKE Dřez ETN 610 455 x 435","https://www.kovani-nabytek.cz/cs/jednodrezy/drez-etn-610-1-drez-455-x-435mm.html",null,"SK","IW Trend","TULIP Gola dvířkový J profil 4,1m eloxovaný hliník","IW Trend_TULIP Gola dvířkový J profil 4,1m eloxovaný hliník",0,null,null,null,null,null,null,null,null,null,null,null,null,null,null,null,null,null,null,null,null,null,null,null,null,null,null,null,null,null,null,"'HU_2020-10'!$A:$H","$A:$H","1359HU44105","BBP OA Zásuvka 515 mm kovová černá","Bors és Horváth","keves","2020-10-01","Lukáš Sládek",4.79256509952,"x","x","x","x"]
[{"$error":"#N/A"},null,{"$f":"IFERROR(VLOOKUP(B333,List1!$A:$B,2,0),\"x\")","v":"x"},null,null,null,null,null,null,{"$f":"CONCATENATE(VLOOKUP(E333,[1]Seznamy!$Q$2:$R$36,2,0),VLOOKUP(F333,[1]Produkty!$I:$O,7,0),C333,D333)","v":{"$error":"#N/A"}},null,"CZ","Kopecký CZ","FRANKE Dřez ETN 614 6/4 obyčejný ventil bez otvoru","Kopecký CZ_FRANKE Dřez ETN 614 6/4 obyčejný ventil bez otvoru","https://www.kovani-nabytek.cz/cs/jednodrezy-s-odkapni-plochou/drez-etn-614-1-drez-odkap-780-x-435mm.html",null,"SK","IW Trend","TULIP Úchytka Lucata 160 černá matná","IW Trend_TULIP Úchytka Lucata 160 černá matná",0,null,null,null,null,null,null,null,null,null,null,null,null,null,null,null,null,null,null,null,null,null,null,null,null,null,null,null,null,null,null,"'HU_2020-10'!$A:$H","$A:$H","13517HU44105","TULIP úchytka Piombina 96 nikl matný + šroubky","Bors és Horváth","keves","2020-10-01","Lenka Kormaník",0.42360876799999997,"x","x","x","x"]
[{"$error":"#N/A"},null,{"$f":"IFERROR(VLOOKUP(B334,List1!$A:$B,2,0),\"x\")","v":"x"},null,null,null,null,null,null,{"$f":"CONCATENATE(VLOOKUP(E334,[1]Seznamy!$Q$2:$R$36,2,0),VLOOKUP(F334,[1]Produkty!$I:$O,7,0),C334,D334)","v":{"$error":"#N/A"}},null,"CZ","Kopecký CZ","FRANKE Dřez BFG 611-78 780 x 500 onyx","Kopecký CZ_FRANKE Dřez BFG 611-78 780 x 500 onyx","https://www.kovani-nabytek.cz/cs/jednodrezy-s-odkapni-plochou-jbl/drez-rock-130-1-drez-odk-sif-780x480-180-granit-cerny.html",null,"SK","Jaf Holz","Alfa II profile 222788","Jaf Holz_Alfa II profile 222788",0,null,null,null,null,null,null,null,null,null,null,null,null,null,null,null,null,null,null,null,null,null,null,null,null,null,null,null,null,null,null,"'HU_2020-10'!$A:$H","$A:$H","13521HU44105","TULIP Úchytka Lucata 160 černá matná","Bors és Horváth","keves","2020-10-01","Lenka Kormaník",0.78860125696000005,"x","x","x","x"]
[{"$error":"#N/A"},null,{"$f":"IFERROR(VLOOKUP(B335,List1!$A:$B,2,0),\"x\")","v":"x"},null,null,null,null,null,null,{"$f":"CONCATENATE(VLOOKUP(E335,[1]Seznamy!$Q$2:$R$36,2,0),VLOOKUP(F335,[1]Produkty!$I:$O,7,0),C335,D335)","v":{"$error":"#N/A"}},null,"CZ","Kopecký CZ","Konfirmát 7/50 zinek bílý bulk","Kopecký CZ_Konfirmát 7/50 zinek bílý bulk","https://www.kovani-nabytek.cz/cs/konfirmaty-eurovruty-ostatni/konfirmat-7-50-zinek.html",null,"SK","Jaf Holz","BBP OA Zásuvka 515 mm kovová černá","Jaf Holz_BBP OA Zásuvka 515 mm kovová černá",0,null,null,null,null,null,null,null,null,null,null,null,null,null,null,null,null,null,null,null,null,null,null,null,null,null,null,null,null,null,null,"'HU_2020-10'!$A:$H","$A:$H","13522HU44105","STRONG LED pásek 21,6W/m 24V bílá neutrální 210 LED/m","Bors és Horváth","keves","2020-10-01","Stančo Denčev",3.31660032,"x","x","x","x"]
[{"$error":"#N/A"},null,{"$f":"IFERROR(VLOOKUP(B336,List1!$A:$B,2,0),\"x\")","v":"x"},null,null,null,null,null,null,{"$f":"CONCATENATE(VLOOKUP(E336,[1]Seznamy!$Q$2:$R$36,2,0),VLOOKUP(F336,[1]Produkty!$I:$O,7,0),C336,D336)","v":{"$error":"#N/A"}},null,"CZ","Kopecký CZ","STRONG Rektifikační nožka 100 mm","Kopecký CZ_STRONG Rektifikační nožka 100 mm","https://www.kovani-nabytek.cz/cs/kuchynske-nozky/nozka-kuchynska-100mm-3-dilna.html",null,"SK","Jaf Holz","FRANKE Dřez BFG 611-78 780 x 500 onyx","Jaf Holz_FRANKE Dřez BFG 611-78 780 x 500 onyx",0,null,null,null,null,null,null,null,null,null,null,null,null,null,null,null,null,null,null,null,null,null,null,null,null,null,null,null,null,null,null,"'HU_2020-10'!$A:$H","$A:$H","13526HU44105","DTDL W980 ST2 Platinově bílá 2800/2070/18","Bors és Horváth","keves","2020-10-01","Martin Karaščák",0,"x","x","x","x"]
[{"$error":"#N/A"},null,{"$f":"IFERROR(VLOOKUP(B337,List1!$A:$B,2,0),\"x\")","v":"x"},null,null,null,null,null,null,{"$f":"CONCATENATE(VLOOKUP(E337,[1]Seznamy!$Q$2:$R$36,2,0),VLOOKUP(F337,[1]Produkty!$I:$O,7,0),C337,D337)","v":{"$error":"#N/A"}},null,"CZ","Kopecký CZ","StrongBox H86/500mm bílý","Kopecký CZ_StrongBox H86/500mm bílý","https://www.kovani-nabytek.cz/cs/modern-box-gtv/modern-box-plno-otah-tlumeni-500-96mm-40kg-bily.html",null,"SK","Jaf Holz","FRANKE Dřez ETN 610 455 x 435","Jaf Holz_FRANKE Dřez ETN 610 455 x 435",0,null,null,null,null,null,null,null,null,null,null,null,null,null,null,null,null,null,null,null,null,null,null,null,null,null,null,null,null,null,null,"'HU_2020-10'!$A:$H","$A:$H","13527HU44105","DTDD DUB COMMERCIAL A/B DEC 2800/2070/19","Bors és Horváth","keves","2020-10-01","Martin Karaščák",0,"x","x","x","x"]
[{"$error":"#N/A"},null,{"$f":"IFERROR(VLOOKUP(B338,List1!$A:$B,2,0),\"x\")","v":"x"},null,null,null,null,null,null,{"$f":"CONCATENATE(VLOOKUP(E338,[1]Seznamy!$Q$2:$R$36,2,0),VLOOKUP(F338,[1]Produkty!$I:$O,7,0),C338,D338)","v":{"$error":"#N/A"}},null,"CZ","Kopecký CZ","StrongRide synchro 3D celovýsuv 500 mm s tlumením","Kopecký CZ_StrongRide synchro 3D celovýsuv 500 mm s tlumením","https://www.kovani-nabytek.cz/cs/plnovysuvy-s-tlumenim/plnovysuv-skryty-star-synchro-500-18mm-tlumeni-3d-regulace-40kg.html",null,"SK","Jaf Holz","FRANKE Dřez ETN 614 6/4 obyčejný ventil bez otvoru","Jaf Holz_FRANKE Dřez ETN 614 6/4 obyčejný ventil bez otvoru",0,null,null,null,null,null,null,null,null,null,null,null,null,null,null,null,null,null,null,null,null,null,null,null,null,null,null,null,null,null,null,"'HU_2020-10'!$A:$H","$A:$H","13528HU44105","DTDD Dub evr. radiál st A/B 2800/2070/19","Bors és Horváth","keves","2020-10-01","Martin Karaščák",0,"x","x","x","x"]
[{"$error":"#N/A"},null,{"$f":"IFERROR(VLOOKUP(B339,List1!$A:$B,2,0),\"x\")","v":"x"},null,null,null,null,null,null,{"$f":"CONCATENATE(VLOOKUP(E339,[1]Seznamy!$Q$2:$R$36,2,0),VLOOKUP(F339,[1]Produkty!$I:$O,7,0),C339,D339)","v":{"$error":"#N/A"}},null,"CZ","Kopecký CZ","TULIP úchytka Nakana 128 chrom matný + šroubky","Kopecký CZ_TULIP úchytka Nakana 128 chrom matný + šroubky","https://www.kovani-nabytek.cz/cs/uchytky-kovove/uchytka-d705-128mm-cr-mat.html?search_query=D705+128&results=9",null,"SK","Jaf Holz","GOLLINUCCI Sorter 580 Plus Line, 600 mm, výška 505mm, 80 l, šedý","Jaf Holz_GOLLINUCCI Sorter 580 Plus Line, 600 mm, výška 505mm, 80 l, šedý",0,null,null,null,null,null,null,null,null,null,null,null,null,null,null,null,null,null,null,null,null,null,null,null,null,null,null,null,null,null,null,"'HU_2020-10'!$A:$H","$A:$H","13529HU44105","ABSB HU10113 Bílá 101/110/113/8100/8685/W954/B3822 PE 22/2","Bors és Horváth","keves","2020-10-01","Martin Karaščák",0,"x","x","x","x"]
[{"$error":"#N/A"},null,{"$f":"IFERROR(VLOOKUP(B340,List1!$A:$B,2,0),\"x\")","v":"x"},null,null,null,null,null,null,{"$f":"CONCATENATE(VLOOKUP(E340,[1]Seznamy!$Q$2:$R$36,2,0),VLOOKUP(F340,[1]Produkty!$I:$O,7,0),C340,D340)","v":{"$error":"#N/A"}},null,"CZ","Kopecký CZ","Vrut PZ 4x18 zápustná hlava zinek bílý PZ2","Kopecký CZ_Vrut PZ 4x18 zápustná hlava zinek bílý PZ2","https://www.kovani-nabytek.cz/cs/vruty-do-drevotrisky/vrut-4-16-pozidriv-zn-zluty.html",null,"SK","Jaf Holz","GOLLINUCCI Sorter Linea 222, 300 mm","Jaf Holz_GOLLINUCCI Sorter Linea 222, 300 mm",0,null,null,null,null,null,null,null,null,null,null,null,null,null,null,null,null,null,null,null,null,null,null,null,null,null,null,null,null,null,null,"'HU_2020-10'!$A:$H","$A:$H","13530HU44105","ABSB 77039/414 W980/500/W954 ST2 23/2","Bors és Horváth","keves","2020-10-01","Martin Karaščák",0,"x","x","x","x"]
[{"$error":"#N/A"},null,{"$f":"IFERROR(VLOOKUP(B341,List1!$A:$B,2,0),\"x\")","v":"x"},null,null,null,null,null,null,{"$f":"CONCATENATE(VLOOKUP(E341,[1]Seznamy!$Q$2:$R$36,2,0),VLOOKUP(F341,[1]Produkty!$I:$O,7,0),C341,D341)","v":{"$error":"#N/A"}},null,"CZ","Kopecký CZ","GOLLINUCCI Sorter 580 Plus Line, 600 mm, výška 505mm, 80 l, šedý","Kopecký CZ_GOLLINUCCI Sorter 580 Plus Line, 600 mm, výška 505mm, 80 l, šedý","https://www.kovani-nabytek.cz/cs/vysuvne-s-tlumenim/kos-odpadkovy-rejs-jc609-60-plnovysuv-soft-v450mm-2x20l-2x9l-sedy.html",null,"SK","Jaf Holz","GOLLINUCCI Sorter Sistema 901/2x16 l, 600 mm","Jaf Holz_GOLLINUCCI Sorter Sistema 901/2x16 l, 600 mm",0,null,null,null,null,null,null,null,null,null,null,null,null,null,null,null,null,null,null,null,null,null,null,null,null,null,null,null,null,null,null,"'HU_2020-10'!$A:$H","$A:$H","13531HU44105","HDF LAK 101 BÍLÁ PE 2800/2070/3","Bors és Horváth","keves","2020-10-01","Martin Karaščák",0,"x","x","x","x"]
[{"$error":"#N/A"},null,{"$f":"IFERROR(VLOOKUP(B342,List1!$A:$B,2,0),\"x\")","v":"x"},null,null,null,null,null,null,{"$f":"CONCATENATE(VLOOKUP(E342,[1]Seznamy!$Q$2:$R$36,2,0),VLOOKUP(F342,[1]Produkty!$I:$O,7,0),C342,D342)","v":{"$error":"#N/A"}},null,"CZ","Kopecký CZ","GOLLINUCCI Sorter Linea 222, 300 mm","Kopecký CZ_GOLLINUCCI Sorter Linea 222, 300 mm","https://www.kovani-nabytek.cz/cs/vysuvne-s-tlumenim/kos-odp-jc60330-1x20l-x10lse.html",null,"SK","Jaf Holz","SEVROLL Era úchytová lišta 18mm 2,70m stříbrná","Jaf Holz_SEVROLL Era úchytová lišta 18mm 2,70m stříbrná",0,null,null,null,null,null,null,null,null,null,null,null,null,null,null,null,null,null,null,null,null,null,null,null,null,null,null,null,null,null,null,"'HU_2020-10'!$A:$H","$A:$H","1321HU44105","STRONG plus závěs naložený s tlumením, s excentrem, klipový","Bútorvonal","keves","2020-10-01","Martin Zniszczol",0.28351488000000002,"x","x","x","x"]
[{"$error":"#N/A"},null,{"$f":"IFERROR(VLOOKUP(B343,List1!$A:$B,2,0),\"x\")","v":"x"},null,null,null,null,null,null,{"$f":"CONCATENATE(VLOOKUP(E343,[1]Seznamy!$Q$2:$R$36,2,0),VLOOKUP(F343,[1]Produkty!$I:$O,7,0),C343,D343)","v":{"$error":"#N/A"}},null,"CZ","Kopecký CZ","STRONG závěs naložený, slide on","Kopecký CZ_STRONG závěs naložený, slide on","https://www.kovani-nabytek.cz/cs/zavesy-klasicke-slide-on/zaves-nalozeny-gtv-cn-09-100-podlozka.html",null,"SK","Jaf Holz","Strong electric socket, lift","Jaf Holz_Strong electric socket, lift",0,null,null,null,null,null,null,null,null,null,null,null,null,null,null,null,null,null,null,null,null,null,null,null,null,null,null,null,null,null,null,"'HU_2020-10'!$A:$H","$A:$H","1322HU44105","STRONG závěs naložený, slide on","Bútorvonal","keves","2020-10-01","Martin Zniszczol",0.11635711999999999,"x","x","x","x"]
[{"$error":"#N/A"},null,{"$f":"IFERROR(VLOOKUP(B344,List1!$A:$B,2,0),\"x\")","v":"x"},null,null,null,null,null,null,{"$f":"CONCATENATE(VLOOKUP(E344,[1]Seznamy!$Q$2:$R$36,2,0),VLOOKUP(F344,[1]Produkty!$I:$O,7,0),C344,D344)","v":{"$error":"#N/A"}},null,"CZ","Kopecký CZ","STRONG plus závěs naložený s tlumením, s excentrem, klipový","Kopecký CZ_STRONG plus závěs naložený s tlumením, s excentrem, klipový","https://www.kovani-nabytek.cz/cs/zavesy-s-tlumenim/zaves-nalozeny-gtv-innovo-clip-tlumeni-podlozka-eur.html",null,"SK","Jaf Holz","STRONG Elektrická zásuvka 3x230V, francouzský typ, 265x130x68 mm stříbrná","Jaf Holz_STRONG Elektrická zásuvka 3x230V, francouzský typ, 265x130x68 mm stříbrná",0,null,null,null,null,null,null,null,null,null,null,null,null,null,null,null,null,null,null,null,null,null,null,null,null,null,null,null,null,null,null,"'HU_2020-10'!$A:$H","$A:$H","1323HU44105","StrongBox H86/500mm bílý","Bútorvonal","keves","2020-10-01","Martin Zniszczol",7.2608588799999998,"x","x","x","x"]
[{"$error":"#N/A"},null,{"$f":"IFERROR(VLOOKUP(B345,List1!$A:$B,2,0),\"x\")","v":"x"},null,null,null,null,null,null,{"$f":"CONCATENATE(VLOOKUP(E345,[1]Seznamy!$Q$2:$R$36,2,0),VLOOKUP(F345,[1]Produkty!$I:$O,7,0),C345,D345)","v":{"$error":"#N/A"}},null,"CZ","Kopecký CZ","Alfa II profile 222788","Kopecký CZ_Alfa II profile 222788",0,null,"SK","Jaf Holz","STRONG Elektricky stavitelná podnož černá RAL 9005 mat","Jaf Holz_STRONG Elektricky stavitelná podnož černá RAL 9005 mat",0,null,null,null,null,null,null,null,null,null,null,null,null,null,null,null,null,null,null,null,null,null,null,null,null,null,null,null,null,null,null,"'HU_2020-10'!$A:$H","$A:$H","1324HU44105","StrongMax 89/500 mm šedý (antracit)","Bútorvonal","keves","2020-10-01","Martin Zniszczol",9.5790182399999999,"x","x","x","x"]
[{"$error":"#N/A"},null,{"$f":"IFERROR(VLOOKUP(B346,List1!$A:$B,2,0),\"x\")","v":"x"},null,null,null,null,null,null,{"$f":"CONCATENATE(VLOOKUP(E346,[1]Seznamy!$Q$2:$R$36,2,0),VLOOKUP(F346,[1]Produkty!$I:$O,7,0),C346,D346)","v":{"$error":"#N/A"}},null,"CZ","Kopecký CZ","SEVROLL Era úchytová lišta 18mm 2,70m stříbrná","Kopecký CZ_SEVROLL Era úchytová lišta 18mm 2,70m stříbrná",0,null,"SK","Jaf Holz","STRONG LED pásek 21,6W/m 24V bílá neutrální 210 LED/m","Jaf Holz_STRONG LED pásek 21,6W/m 24V bílá neutrální 210 LED/m",0,null,null,null,null,null,null,null,null,null,null,null,null,null,null,null,null,null,null,null,null,null,null,null,null,null,null,null,null,null,null,"'HU_2020-10'!$A:$H","$A:$H","1325HU44105","StrongRide synchro 3D celovýsuv 500 mm s tlumením","Bútorvonal","keves","2020-10-01","Martin Zniszczol",5.45270528,"x","x","x","x"]
[{"$error":"#N/A"},null,{"$f":"IFERROR(VLOOKUP(B347,List1!$A:$B,2,0),\"x\")","v":"x"},null,null,null,null,null,null,{"$f":"CONCATENATE(VLOOKUP(E347,[1]Seznamy!$Q$2:$R$36,2,0),VLOOKUP(F347,[1]Produkty!$I:$O,7,0),C347,D347)","v":{"$error":"#N/A"}},null,"CZ","Kopecký CZ","TULIP Gola dvířkový J profil 4,1m eloxovaný hliník","Kopecký CZ_TULIP Gola dvířkový J profil 4,1m eloxovaný hliník",0,null,"SK","Jaf Holz","STRONG Stolová noha centrální 450x450 černá","Jaf Holz_STRONG Stolová noha centrální 450x450 černá",0,null,null,null,null,null,null,null,null,null,null,null,null,null,null,null,null,null,null,null,null,null,null,null,null,null,null,null,null,null,null,"'HU_2020-10'!$A:$H","$A:$H","1326HU44105","STRONG Rektifikační nožka 100 mm","Bútorvonal","keves","2020-10-01","Lukáš Sládek",9.6852940799999995E-2,"x","x","x","x"]
[{"$error":"#N/A"},null,{"$f":"IFERROR(VLOOKUP(B348,List1!$A:$B,2,0),\"x\")","v":"x"},null,null,null,null,null,null,{"$f":"CONCATENATE(VLOOKUP(E348,[1]Seznamy!$Q$2:$R$36,2,0),VLOOKUP(F348,[1]Produkty!$I:$O,7,0),C348,D348)","v":{"$error":"#N/A"}},null,"CZ","Kopecký CZ","STRONG LED pásek 21,6W/m 24V bílá neutrální 210 LED/m","Kopecký CZ_STRONG LED pásek 21,6W/m 24V bílá neutrální 210 LED/m",0,null,"SK","Jaf Holz","STRONG transformátor plochý LED 24V 100W","Jaf Holz_STRONG transformátor plochý LED 24V 100W",0,null,null,null,null,null,null,null,null,null,null,null,null,null,null,null,null,null,null,null,null,null,null,null,null,null,null,null,null,null,null,"'HU_2020-10'!$A:$H","$A:$H","1327HU44105","STRONG Stolová noha centrální 450x450 černá","Bútorvonal","keves","2020-10-01","Lukáš Sládek",33.755219013119998,"x","x","x","x"]
[{"$error":"#N/A"},null,{"$f":"IFERROR(VLOOKUP(B349,List1!$A:$B,2,0),\"x\")","v":"x"},null,null,null,null,null,null,{"$f":"CONCATENATE(VLOOKUP(E349,[1]Seznamy!$Q$2:$R$36,2,0),VLOOKUP(F349,[1]Produkty!$I:$O,7,0),C349,D349)","v":{"$error":"#N/A"}},null,"CZ","Kopecký CZ","STRONG transformátor plochý LED 24V 100W","Kopecký CZ_STRONG transformátor plochý LED 24V 100W",0,null,"SK","Jaf Holz","TULIP úchytka Anita 96 nikl matný + šroubky","Jaf Holz_TULIP úchytka Anita 96 nikl matný + šroubky",0,null,null,null,null,null,null,null,null,null,null,null,null,null,null,null,null,null,null,null,null,null,null,null,null,null,null,null,null,null,null,"'HU_2020-10'!$A:$H","$A:$H","1329HU44105","BBP OA Zásuvka 515 mm kovová černá","Bútorvonal","keves","2020-10-01","Lukáš Sládek",4.79256509952,"x","x","x","x"]
[{"$error":"#N/A"},null,{"$f":"IFERROR(VLOOKUP(B350,List1!$A:$B,2,0),\"x\")","v":"x"},null,null,null,null,null,null,{"$f":"CONCATENATE(VLOOKUP(E350,[1]Seznamy!$Q$2:$R$36,2,0),VLOOKUP(F350,[1]Produkty!$I:$O,7,0),C350,D350)","v":{"$error":"#N/A"}},null,"CZ","Kopecký CZ","ABSB 77039/414 W980/500/W954 ST2 23/2","Kopecký CZ_ABSB 77039/414 W980/500/W954 ST2 23/2",0,null,"SK","Jaf Holz","TULIP Úchytka Lucata 160 černá matná","Jaf Holz_TULIP Úchytka Lucata 160 černá matná",0,null,null,null,null,null,null,null,null,null,null,null,null,null,null,null,null,null,null,null,null,null,null,null,null,null,null,null,null,null,null,"'HU_2020-10'!$A:$H","$A:$H","13210HU44105","FRANKE Dřez ETN 614 6/4 obyčejný ventil bez otvoru","Bútorvonal","keves","2020-10-01","Marcela Piechová",20.256896000000001,"x","x","x","x"]
[{"$error":"#N/A"},null,{"$f":"IFERROR(VLOOKUP(B351,List1!$A:$B,2,0),\"x\")","v":"x"},null,null,null,null,null,null,{"$f":"CONCATENATE(VLOOKUP(E351,[1]Seznamy!$Q$2:$R$36,2,0),VLOOKUP(F351,[1]Produkty!$I:$O,7,0),C351,D351)","v":{"$error":"#N/A"}},null,"CZ","Kopecký CZ","ABSB HU10113 Bílá 101/110/113/8100/8685/W954/B3822 PE 22/2","Kopecký CZ_ABSB HU10113 Bílá 101/110/113/8100/8685/W954/B3822 PE 22/2",0,null,"SK","Jaf Holz","TULIP úchytka Nakana 128 chrom matný + šroubky","Jaf Holz_TULIP úchytka Nakana 128 chrom matný + šroubky",0,null,null,null,null,null,null,null,null,null,null,null,null,null,null,null,null,null,null,null,null,null,null,null,null,null,null,null,null,null,null,"'HU_2020-10'!$A:$H","$A:$H","13212HU44105","GOLLINUCCI Sorter Sistema 901/2x16 l, 600 mm","Bútorvonal","keves","2020-10-01","Marcela Piechová",16.545126399999997,"x","x","x","x"]
[{"$error":"#N/A"},null,{"$f":"IFERROR(VLOOKUP(B352,List1!$A:$B,2,0),\"x\")","v":"x"},null,null,null,null,null,null,{"$f":"CONCATENATE(VLOOKUP(E352,[1]Seznamy!$Q$2:$R$36,2,0),VLOOKUP(F352,[1]Produkty!$I:$O,7,0),C352,D352)","v":{"$error":"#N/A"}},null,"CZ","Kopecký CZ","BBP OA Zásuvka 515 mm kovová černá","Kopecký CZ_BBP OA Zásuvka 515 mm kovová černá",0,null,"SK","Jaf Holz","TULIP úchytka Piombina 96 nikl matný + šroubky","Jaf Holz_TULIP úchytka Piombina 96 nikl matný + šroubky",0,null,null,null,null,null,null,null,null,null,null,null,null,null,null,null,null,null,null,null,null,null,null,null,null,null,null,null,null,null,null,"'HU_2020-10'!$A:$H","$A:$H","13214HU44105","FRANKE Dřez ETN 610 455 x 435","Bútorvonal","keves","2020-10-01","Marcela Piechová",22.363855359999999,"x","x","x","x"]
[{"$error":"#N/A"},null,{"$f":"IFERROR(VLOOKUP(B353,List1!$A:$B,2,0),\"x\")","v":"x"},null,null,null,null,null,null,{"$f":"CONCATENATE(VLOOKUP(E353,[1]Seznamy!$Q$2:$R$36,2,0),VLOOKUP(F353,[1]Produkty!$I:$O,7,0),C353,D353)","v":{"$error":"#N/A"}},null,"CZ","Kopecký CZ","DTDD DUB COMMERCIAL A/B DEC 2800/2070/19","Kopecký CZ_DTDD DUB COMMERCIAL A/B DEC 2800/2070/19",0,null,"SK","Jaf Holz","TULIP Úchytka Ramara 596 imitace nerezi","Jaf Holz_TULIP Úchytka Ramara 596 imitace nerezi",0,null,null,null,null,null,null,null,null,null,null,null,null,null,null,null,null,null,null,null,null,null,null,null,null,null,null,null,null,null,null,"'HU_2020-10'!$A:$H","$A:$H","13216HU44105","TULIP úchytka Nakana 128 chrom matný + šroubky","Bútorvonal","keves","2020-10-01","Lenka Kormaník",0.77199727615999991,"x","x","x","x"]
[{"$error":"#N/A"},null,{"$f":"IFERROR(VLOOKUP(B354,List1!$A:$B,2,0),\"x\")","v":"x"},null,null,null,null,null,null,{"$f":"CONCATENATE(VLOOKUP(E354,[1]Seznamy!$Q$2:$R$36,2,0),VLOOKUP(F354,[1]Produkty!$I:$O,7,0),C354,D354)","v":{"$error":"#N/A"}},null,"CZ","Kopecký CZ","DTDD Dub evr. radiál st A/B 2800/2070/19","Kopecký CZ_DTDD Dub evr. radiál st A/B 2800/2070/19",0,null,"SK","Jaf Holz","TULIP věšák Lugo XL chrom matný + šroubky","Jaf Holz_TULIP věšák Lugo XL chrom matný + šroubky",0,null,null,null,null,null,null,null,null,null,null,null,null,null,null,null,null,null,null,null,null,null,null,null,null,null,null,null,null,null,null,"'HU_2020-10'!$A:$H","$A:$H","13217HU44105","TULIP úchytka Piombina 96 nikl matný + šroubky","Bútorvonal","keves","2020-10-01","Lenka Kormaník",0.42360876799999997,"x","x","x","x"]
[{"$error":"#N/A"},null,{"$f":"IFERROR(VLOOKUP(B355,List1!$A:$B,2,0),\"x\")","v":"x"},null,null,null,null,null,null,{"$f":"CONCATENATE(VLOOKUP(E355,[1]Seznamy!$Q$2:$R$36,2,0),VLOOKUP(F355,[1]Produkty!$I:$O,7,0),C355,D355)","v":{"$error":"#N/A"}},null,"CZ","Kopecký CZ","DTDL W980 ST2 Platinově bílá 2800/2070/18","Kopecký CZ_DTDL W980 ST2 Platinově bílá 2800/2070/18",0,null,"SK","Jaf Holz","Vrut PZ 4x18 zápustná hlava zinek bílý PZ2","Jaf Holz_Vrut PZ 4x18 zápustná hlava zinek bílý PZ2",0,null,null,null,null,null,null,null,null,null,null,null,null,null,null,null,null,null,null,null,null,null,null,null,null,null,null,null,null,null,null,"'HU_2020-10'!$A:$H","$A:$H","13218HU44105","TULIP úchytka Anita 96 nikl matný + šroubky","Bútorvonal","keves","2020-10-01","Lenka Kormaník",0.26821974784000002,"x","x","x","x"]
[{"$error":"#N/A"},null,{"$f":"IFERROR(VLOOKUP(B356,List1!$A:$B,2,0),\"x\")","v":"x"},null,null,null,null,null,null,{"$f":"CONCATENATE(VLOOKUP(E356,[1]Seznamy!$Q$2:$R$36,2,0),VLOOKUP(F356,[1]Produkty!$I:$O,7,0),C356,D356)","v":{"$error":"#N/A"}},null,"CZ","Kopecký CZ","HDF LAK 101 BÍLÁ PE 2800/2070/3","Kopecký CZ_HDF LAK 101 BÍLÁ PE 2800/2070/3",0,null,"SK","Lunit","BBP OA Zásuvka 515 mm kovová černá","Lunit_BBP OA Zásuvka 515 mm kovová černá",0,null,null,null,null,null,null,null,null,null,null,null,null,null,null,null,null,null,null,null,null,null,null,null,null,null,null,null,null,null,null,"'HU_2020-10'!$A:$H","$A:$H","13219HU44105","TULIP věšák Lugo XL chrom matný + šroubky","Bútorvonal","keves","2020-10-01","Lenka Kormaník",0.72694533119999993,"x","x","x","x"]
[{"$error":"#N/A"},null,{"$f":"IFERROR(VLOOKUP(B357,List1!$A:$B,2,0),\"x\")","v":"x"},null,null,null,null,null,null,{"$f":"CONCATENATE(VLOOKUP(E357,[1]Seznamy!$Q$2:$R$36,2,0),VLOOKUP(F357,[1]Produkty!$I:$O,7,0),C357,D357)","v":{"$error":"#N/A"}},null,"CZ","Kopecký CZ","STRONG Elektricky stavitelná podnož černá RAL 9005 mat","Kopecký CZ_STRONG Elektricky stavitelná podnož černá RAL 9005 mat",0,null,"SK","Lunit","DTDL W980 ST2 Platinově bílá 2800/2070/18","Lunit_DTDL W980 ST2 Platinově bílá 2800/2070/18",0,null,null,null,null,null,null,null,null,null,null,null,null,null,null,null,null,null,null,null,null,null,null,null,null,null,null,null,null,null,null,"'HU_2020-10'!$A:$H","$A:$H","13220HU44105","TULIP Úchytka Ramara 596 imitace nerezi","Bútorvonal","keves","2020-10-01","Lenka Kormaník",3.4736247040000001,"x","x","x","x"]
[{"$error":"#N/A"},null,{"$f":"IFERROR(VLOOKUP(B358,List1!$A:$B,2,0),\"x\")","v":"x"},null,null,null,null,null,null,{"$f":"CONCATENATE(VLOOKUP(E358,[1]Seznamy!$Q$2:$R$36,2,0),VLOOKUP(F358,[1]Produkty!$I:$O,7,0),C358,D358)","v":{"$error":"#N/A"}},null,"CZ","Kopecký CZ","TULIP úchytka Anita 96 nikl matný + šroubky","Kopecký CZ_TULIP úchytka Anita 96 nikl matný + šroubky",0,null,"SK","Lunit","GOLLINUCCI Sorter 580 Plus Line, 600 mm, výška 505mm, 80 l, šedý","Lunit_GOLLINUCCI Sorter 580 Plus Line, 600 mm, výška 505mm, 80 l, šedý",0,null,null,null,null,null,null,null,null,null,null,null,null,null,null,null,null,null,null,null,null,null,null,null,null,null,null,null,null,null,null,"'HU_2020-10'!$A:$H","$A:$H","13221HU44105","TULIP Úchytka Lucata 160 černá matná","Bútorvonal","keves","2020-10-01","Lenka Kormaník",0.78860125696000005,"x","x","x","x"]
[{"$error":"#N/A"},null,{"$f":"IFERROR(VLOOKUP(B359,List1!$A:$B,2,0),\"x\")","v":"x"},null,null,null,null,null,null,{"$f":"CONCATENATE(VLOOKUP(E359,[1]Seznamy!$Q$2:$R$36,2,0),VLOOKUP(F359,[1]Produkty!$I:$O,7,0),C359,D359)","v":{"$error":"#N/A"}},null,"CZ","Kopecký CZ","TULIP Úchytka Lucata 160 černá matná","Kopecký CZ_TULIP Úchytka Lucata 160 černá matná",0,null,"SK","Lunit","GOLLINUCCI Sorter Linea 222, 300 mm","Lunit_GOLLINUCCI Sorter Linea 222, 300 mm",0,null,null,null,null,null,null,null,null,null,null,null,null,null,null,null,null,null,null,null,null,null,null,null,null,null,null,null,null,null,null,"'HU_2020-10'!$A:$H","$A:$H","13222HU44105","STRONG LED pásek 21,6W/m 24V bílá neutrální 210 LED/m","Bútorvonal","keves","2020-10-01","Stančo Denčev",3.31660032,"x","x","x","x"]
[{"$error":"#N/A"},null,{"$f":"IFERROR(VLOOKUP(B360,List1!$A:$B,2,0),\"x\")","v":"x"},null,null,null,null,null,null,{"$f":"CONCATENATE(VLOOKUP(E360,[1]Seznamy!$Q$2:$R$36,2,0),VLOOKUP(F360,[1]Produkty!$I:$O,7,0),C360,D360)","v":{"$error":"#N/A"}},null,"CZ","Kopecký CZ","TULIP úchytka Piombina 96 nikl matný + šroubky","Kopecký CZ_TULIP úchytka Piombina 96 nikl matný + šroubky",0,null,"SK","Lunit","Konfirmát 7/50 zinek bílý bulk","Lunit_Konfirmát 7/50 zinek bílý bulk",0,null,null,null,null,null,null,null,null,null,null,null,null,null,null,null,null,null,null,null,null,null,null,null,null,null,null,null,null,null,null,"'HU_2020-10'!$A:$H","$A:$H","13223HU44105","STRONG transformátor plochý LED 24V 100W","Bútorvonal","keves","2020-10-01","Stančo Denčev",16.423951976959998,"x","x","x","x"]
[{"$error":"#N/A"},null,{"$f":"IFERROR(VLOOKUP(B361,List1!$A:$B,2,0),\"x\")","v":"x"},null,null,null,null,null,null,{"$f":"CONCATENATE(VLOOKUP(E361,[1]Seznamy!$Q$2:$R$36,2,0),VLOOKUP(F361,[1]Produkty!$I:$O,7,0),C361,D361)","v":{"$error":"#N/A"}},null,"CZ","Kopecký CZ","TULIP Úchytka Ramara 596 imitace nerezi","Kopecký CZ_TULIP Úchytka Ramara 596 imitace nerezi",0,null,"SK","Lunit","SEVROLL Era úchytová lišta 18mm 2,70m stříbrná","Lunit_SEVROLL Era úchytová lišta 18mm 2,70m stříbrná",0,null,null,null,null,null,null,null,null,null,null,null,null,null,null,null,null,null,null,null,null,null,null,null,null,null,null,null,null,null,null,"'HU_2020-10'!$A:$H","$A:$H","13224HU44105","Vrut PZ 4x18 zápustná hlava zinek bílý PZ2","Bútorvonal","keves","2020-10-01","Stančo Denčev",2.2612198399999998E-3,"x","x","x","x"]
[{"$error":"#N/A"},null,{"$f":"IFERROR(VLOOKUP(B362,List1!$A:$B,2,0),\"x\")","v":"x"},null,null,null,null,null,null,{"$f":"CONCATENATE(VLOOKUP(E362,[1]Seznamy!$Q$2:$R$36,2,0),VLOOKUP(F362,[1]Produkty!$I:$O,7,0),C362,D362)","v":{"$error":"#N/A"}},null,"CZ","Lunit","FRANKE Dřez ETN 614 6/4 obyčejný ventil bez otvoru","Lunit_FRANKE Dřez ETN 614 6/4 obyčejný ventil bez otvoru","https://www.lunit.sk/detail/drez-basic-150-435x780-mm-64-ventil-nerez",null,"SK","Lunit","STRONG Elektricky stavitelná podnož černá RAL 9005 mat","Lunit_STRONG Elektricky stavitelná podnož černá RAL 9005 mat",0,null,null,null,null,null,null,null,null,null,null,null,null,null,null,null,null,null,null,null,null,null,null,null,null,null,null,null,null,null,null,"'HU_2020-10'!$A:$H","$A:$H","13225HU44105","Konfirmát 7/50 zinek bílý bulk","Bútorvonal","keves","2020-10-01","Stančo Denčev",8.0809343999999998E-3,"x","x","x","x"]
[{"$error":"#N/A"},null,{"$f":"IFERROR(VLOOKUP(B363,List1!$A:$B,2,0),\"x\")","v":"x"},null,null,null,null,null,null,{"$f":"CONCATENATE(VLOOKUP(E363,[1]Seznamy!$Q$2:$R$36,2,0),VLOOKUP(F363,[1]Produkty!$I:$O,7,0),C363,D363)","v":{"$error":"#N/A"}},null,"CZ","Lunit","STRONG Elektrická zásuvka 3x230V, francouzský typ, 265x130x68 mm stříbrná","Lunit_STRONG Elektrická zásuvka 3x230V, francouzský typ, 265x130x68 mm stříbrná","https://www.lunit.sk/detail/el-rozvod-vyklopny-kombi-3-zasuvky-sk-s-napkablom-chm",null,"SK","Lunit","STRONG LED pásek 21,6W/m 24V bílá neutrální 210 LED/m","Lunit_STRONG LED pásek 21,6W/m 24V bílá neutrální 210 LED/m",0,null,null,null,null,null,null,null,null,null,null,null,null,null,null,null,null,null,null,null,null,null,null,null,null,null,null,null,null,null,null,"'HU_2020-10'!$A:$H","$A:$H","13226HU44105","DTDL W980 ST2 Platinově bílá 2800/2070/18","Bútorvonal","keves","2020-10-01","Martin Karaščák",0,"x","x","x","x"]
[{"$error":"#N/A"},null,{"$f":"IFERROR(VLOOKUP(B364,List1!$A:$B,2,0),\"x\")","v":"x"},null,null,null,null,null,null,{"$f":"CONCATENATE(VLOOKUP(E364,[1]Seznamy!$Q$2:$R$36,2,0),VLOOKUP(F364,[1]Produkty!$I:$O,7,0),C364,D364)","v":{"$error":"#N/A"}},null,"CZ","Lunit","Strong electric socket, lift","Lunit_Strong electric socket, lift","https://www.lunit.sk/detail/el-rozvod-vysuvny-lift-60-mm-3-zasuvky-sk-2xusb-s-nap-kablom-3600w-chrom-matny",null,"SK","Lunit","STRONG Stolová noha centrální 450x450 černá","Lunit_STRONG Stolová noha centrální 450x450 černá",0,null,null,null,null,null,null,null,null,null,null,null,null,null,null,null,null,null,null,null,null,null,null,null,null,null,null,null,null,null,null,"'HU_2020-10'!$A:$H","$A:$H","13227HU44105","DTDD DUB COMMERCIAL A/B DEC 2800/2070/19","Bútorvonal","keves","2020-10-01","Martin Karaščák",0,"x","x","x","x"]
[{"$error":"#N/A"},null,{"$f":"IFERROR(VLOOKUP(B365,List1!$A:$B,2,0),\"x\")","v":"x"},null,null,null,null,null,null,{"$f":"CONCATENATE(VLOOKUP(E365,[1]Seznamy!$Q$2:$R$36,2,0),VLOOKUP(F365,[1]Produkty!$I:$O,7,0),C365,D365)","v":{"$error":"#N/A"}},null,"CZ","Lunit","Konfirmát 7/50 zinek bílý bulk","Lunit_Konfirmát 7/50 zinek bílý bulk","https://www.lunit.sk/detail/konfirmaty-5x50",null,"SK","Lunit","STRONG transformátor plochý LED 24V 100W","Lunit_STRONG transformátor plochý LED 24V 100W",0,null,null,null,null,null,null,null,null,null,null,null,null,null,null,null,null,null,null,null,null,null,null,null,null,null,null,null,null,null,null,"'HU_2020-10'!$A:$H","$A:$H","13228HU44105","DTDD Dub evr. radiál st A/B 2800/2070/19","Bútorvonal","keves","2020-10-01","Martin Karaščák",0,"x","x","x","x"]
[{"$error":"#N/A"},null,{"$f":"IFERROR(VLOOKUP(B366,List1!$A:$B,2,0),\"x\")","v":"x"},null,null,null,null,null,null,{"$f":"CONCATENATE(VLOOKUP(E366,[1]Seznamy!$Q$2:$R$36,2,0),VLOOKUP(F366,[1]Produkty!$I:$O,7,0),C366,D366)","v":{"$error":"#N/A"}},null,"CZ","Lunit","HDF LAK 101 BÍLÁ PE 2800/2070/3","Lunit_HDF LAK 101 BÍLÁ PE 2800/2070/3","https://www.lunit.sk/detail/lhdf-0101pe-or-biela-3x2070x2800-mm",null,"SK","Lunit","StrongBox H86/500mm bílý","Lunit_StrongBox H86/500mm bílý",0,null,null,null,null,null,null,null,null,null,null,null,null,null,null,null,null,null,null,null,null,null,null,null,null,null,null,null,null,null,null,"'HU_2020-10'!$A:$H","$A:$H","13229HU44105","ABSB HU10113 Bílá 101/110/113/8100/8685/W954/B3822 PE 22/2","Bútorvonal","keves","2020-10-01","Martin Karaščák",0,"x","x","x","x"]
[{"$error":"#N/A"},null,{"$f":"IFERROR(VLOOKUP(B367,List1!$A:$B,2,0),\"x\")","v":"x"},null,null,null,null,null,null,{"$f":"CONCATENATE(VLOOKUP(E367,[1]Seznamy!$Q$2:$R$36,2,0),VLOOKUP(F367,[1]Produkty!$I:$O,7,0),C367,D367)","v":{"$error":"#N/A"}},null,"CZ","Lunit","SEVROLL Era úchytová lišta 18mm 2,70m stříbrná","Lunit_SEVROLL Era úchytová lišta 18mm 2,70m stříbrná","https://www.lunit.sk/detail/madlo-trend-line-27m-strieborna",null,"SK","Lunit","StrongRide synchro 3D celovýsuv 500 mm s tlumením","Lunit_StrongRide synchro 3D celovýsuv 500 mm s tlumením",0,null,null,null,null,null,null,null,null,null,null,null,null,null,null,null,null,null,null,null,null,null,null,null,null,null,null,null,null,null,null,"'HU_2020-10'!$A:$H","$A:$H","13230HU44105","ABSB 77039/414 W980/500/W954 ST2 23/2","Bútorvonal","keves","2020-10-01","Martin Karaščák",0,"x","x","x","x"]
[{"$error":"#N/A"},null,{"$f":"IFERROR(VLOOKUP(B368,List1!$A:$B,2,0),\"x\")","v":"x"},null,null,null,null,null,null,{"$f":"CONCATENATE(VLOOKUP(E368,[1]Seznamy!$Q$2:$R$36,2,0),VLOOKUP(F368,[1]Produkty!$I:$O,7,0),C368,D368)","v":{"$error":"#N/A"}},null,"CZ","Lunit","DTDD DUB COMMERCIAL A/B DEC 2800/2070/19","Lunit_DTDD DUB COMMERCIAL A/B DEC 2800/2070/19","https://www.lunit.sk/detail/mdf-dyhovana-dub-ab-2800x2070x19-mm",null,"SK","Lunit","TULIP úchytka Anita 96 nikl matný + šroubky","Lunit_TULIP úchytka Anita 96 nikl matný + šroubky",0,null,null,null,null,null,null,null,null,null,null,null,null,null,null,null,null,null,null,null,null,null,null,null,null,null,null,null,null,null,null,"'HU_2020-10'!$A:$H","$A:$H","13231HU44105","HDF LAK 101 BÍLÁ PE 2800/2070/3","Bútorvonal","keves","2020-10-01","Martin Karaščák",0,"x","x","x","x"]
[{"$error":"#N/A"},null,{"$f":"IFERROR(VLOOKUP(B369,List1!$A:$B,2,0),\"x\")","v":"x"},null,null,null,null,null,null,{"$f":"CONCATENATE(VLOOKUP(E369,[1]Seznamy!$Q$2:$R$36,2,0),VLOOKUP(F369,[1]Produkty!$I:$O,7,0),C369,D369)","v":{"$error":"#N/A"}},null,"CZ","Lunit","GOLLINUCCI Sorter Sistema 901/2x16 l, 600 mm","Lunit_GOLLINUCCI Sorter Sistema 901/2x16 l, 600 mm","https://www.lunit.sk/detail/odpadkovy-kos-pre-zasuvku-do-600mm-skrinky",null,"SK","Lunit","Vrut PZ 4x18 zápustná hlava zinek bílý PZ2","Lunit_Vrut PZ 4x18 zápustná hlava zinek bílý PZ2",0,null,null,null,null,null,null,null,null,null,null,null,null,null,null,null,null,null,null,null,null,null,null,null,null,null,null,null,null,null,null,"'HU_2020-10'!$A:$H","$A:$H","1309HU44105","BBP OA Zásuvka 515 mm kovová černá","Forest","keves","2020-10-01","Lukáš Sládek",4.79256509952,"x","x","x","x"]
[{"$error":"#N/A"},null,{"$f":"IFERROR(VLOOKUP(B370,List1!$A:$B,2,0),\"x\")","v":"x"},null,null,null,null,null,null,{"$f":"CONCATENATE(VLOOKUP(E370,[1]Seznamy!$Q$2:$R$36,2,0),VLOOKUP(F370,[1]Produkty!$I:$O,7,0),C370,D370)","v":{"$error":"#N/A"}},null,"CZ","Lunit","STRONG Stolová noha centrální 450x450 černá","Lunit_STRONG Stolová noha centrální 450x450 černá","https://www.lunit.sk/detail/podnoz-720-inox",null,"SK","Nábytkár","BBP OA Zásuvka 515 mm kovová černá","Nábytkár_BBP OA Zásuvka 515 mm kovová černá",0,null,null,null,null,null,null,null,null,null,null,null,null,null,null,null,null,null,null,null,null,null,null,null,null,null,null,null,null,null,null,"'HU_2020-10'!$A:$H","$A:$H","13021HU44105","TULIP Úchytka Lucata 160 černá matná","Forest","keves","2020-10-01","Lenka Kormaník",0.78860125696000005,"x","x","x","x"]
[{"$error":"#N/A"},null,{"$f":"IFERROR(VLOOKUP(B371,List1!$A:$B,2,0),\"x\")","v":"x"},null,null,null,null,null,null,{"$f":"CONCATENATE(VLOOKUP(E371,[1]Seznamy!$Q$2:$R$36,2,0),VLOOKUP(F371,[1]Produkty!$I:$O,7,0),C371,D371)","v":{"$error":"#N/A"}},null,"CZ","Lunit","TULIP Gola dvířkový J profil 4,1m eloxovaný hliník","Lunit_TULIP Gola dvířkový J profil 4,1m eloxovaný hliník","https://www.lunit.sk/detail/profil-l-90101461-pre-bezuchytkove-dvere-5m-hlinik",null,"SK","Nábytkár","DTDD DUB COMMERCIAL A/B DEC 2800/2070/19","Nábytkár_DTDD DUB COMMERCIAL A/B DEC 2800/2070/19",0,null,null,null,null,null,null,null,null,null,null,null,null,null,null,null,null,null,null,null,null,null,null,null,null,null,null,null,null,null,null,"'HU_2020-10'!$A:$H","$A:$H","13022HU44105","STRONG LED pásek 21,6W/m 24V bílá neutrální 210 LED/m","Forest","keves","2020-10-01","Stančo Denčev",3.31660032,"x","x","x","x"]
[{"$error":"#N/A"},null,{"$f":"IFERROR(VLOOKUP(B372,List1!$A:$B,2,0),\"x\")","v":"x"},null,null,null,null,null,null,{"$f":"CONCATENATE(VLOOKUP(E372,[1]Seznamy!$Q$2:$R$36,2,0),VLOOKUP(F372,[1]Produkty!$I:$O,7,0),C372,D372)","v":{"$error":"#N/A"}},null,"CZ","Lunit","StrongMax 89/500 mm šedý (antracit)","Lunit_StrongMax 89/500 mm šedý (antracit)","https://www.lunit.sk/detail/smartbox-sedy-nizky-l500",null,"SK","Nábytkár","DTDD Dub evr. radiál st A/B 2800/2070/19","Nábytkár_DTDD Dub evr. radiál st A/B 2800/2070/19",0,null,null,null,null,null,null,null,null,null,null,null,null,null,null,null,null,null,null,null,null,null,null,null,null,null,null,null,null,null,null,"'HU_2020-10'!$A:$H","$A:$H","13023HU44105","STRONG transformátor plochý LED 24V 100W","Forest","keves","2020-10-01","Stančo Denčev",16.423951976959998,"x","x","x","x"]
[{"$error":"#N/A"},null,{"$f":"IFERROR(VLOOKUP(B373,List1!$A:$B,2,0),\"x\")","v":"x"},null,null,null,null,null,null,{"$f":"CONCATENATE(VLOOKUP(E373,[1]Seznamy!$Q$2:$R$36,2,0),VLOOKUP(F373,[1]Produkty!$I:$O,7,0),C373,D373)","v":{"$error":"#N/A"}},null,"CZ","Lunit","STRONG Rektifikační nožka 100 mm","Lunit_STRONG Rektifikační nožka 100 mm","https://www.lunit.sk/detail/soklova-noha-volpato-vo2-h100-mm",null,"SK","Nábytkár","DTDL W980 ST2 Platinově bílá 2800/2070/18","Nábytkár_DTDL W980 ST2 Platinově bílá 2800/2070/18",0,null,null,null,null,null,null,null,null,null,null,null,null,null,null,null,null,null,null,null,null,null,null,null,null,null,null,null,null,null,null,"'HU_2020-10'!$A:$H","$A:$H","13026HU44105","DTDL W980 ST2 Platinově bílá 2800/2070/18","Forest","keves","2020-10-01","Martin Karaščák",0,"x","x","x","x"]
[{"$error":"#N/A"},null,{"$f":"IFERROR(VLOOKUP(B374,List1!$A:$B,2,0),\"x\")","v":"x"},null,null,null,null,null,null,{"$f":"CONCATENATE(VLOOKUP(E374,[1]Seznamy!$Q$2:$R$36,2,0),VLOOKUP(F374,[1]Produkty!$I:$O,7,0),C374,D374)","v":{"$error":"#N/A"}},null,"CZ","Lunit","TULIP úchytka Nakana 128 chrom matný + šroubky","Lunit_TULIP úchytka Nakana 128 chrom matný + šroubky","https://www.lunit.sk/detail/uz-819-128-05-chrom-matny",null,"SK","Nábytkár","HDF LAK 101 BÍLÁ PE 2800/2070/3","Nábytkár_HDF LAK 101 BÍLÁ PE 2800/2070/3",0,null,null,null,null,null,null,null,null,null,null,null,null,null,null,null,null,null,null,null,null,null,null,null,null,null,null,null,null,null,null,"'HU_2020-10'!$A:$H","$A:$H","13027HU44105","DTDD DUB COMMERCIAL A/B DEC 2800/2070/19","Forest","keves","2020-10-01","Martin Karaščák",0,"x","x","x","x"]
[{"$error":"#N/A"},null,{"$f":"IFERROR(VLOOKUP(B375,List1!$A:$B,2,0),\"x\")","v":"x"},null,null,null,null,null,null,{"$f":"CONCATENATE(VLOOKUP(E375,[1]Seznamy!$Q$2:$R$36,2,0),VLOOKUP(F375,[1]Produkty!$I:$O,7,0),C375,D375)","v":{"$error":"#N/A"}},null,"CZ","Lunit","TULIP věšák Lugo XL chrom matný + šroubky","Lunit_TULIP věšák Lugo XL chrom matný + šroubky","https://www.lunit.sk/detail/vesiak-k2405a-dvojity-velky-chrom-g2",null,"SK","Nábytkár","SEVROLL Era úchytová lišta 18mm 2,70m stříbrná","Nábytkár_SEVROLL Era úchytová lišta 18mm 2,70m stříbrná",0,null,null,null,null,null,null,null,null,null,null,null,null,null,null,null,null,null,null,null,null,null,null,null,null,null,null,null,null,null,null,"'HU_2020-10'!$A:$H","$A:$H","13028HU44105","DTDD Dub evr. radiál st A/B 2800/2070/19","Forest","keves","2020-10-01","Martin Karaščák",0,"x","x","x","x"]
[{"$error":"#N/A"},null,{"$f":"IFERROR(VLOOKUP(B376,List1!$A:$B,2,0),\"x\")","v":"x"},null,null,null,null,null,null,{"$f":"CONCATENATE(VLOOKUP(E376,[1]Seznamy!$Q$2:$R$36,2,0),VLOOKUP(F376,[1]Produkty!$I:$O,7,0),C376,D376)","v":{"$error":"#N/A"}},null,"CZ","Lunit","STRONG plus závěs naložený s tlumením, s excentrem, klipový","Lunit_STRONG plus závěs naložený s tlumením, s excentrem, klipový","https://www.lunit.sk/detail/zaves-glt-nalozeny-clip-s-dotlmenim",null,"SK","Nábytkár","TULIP Gola dvířkový J profil 4,1m eloxovaný hliník","Nábytkár_TULIP Gola dvířkový J profil 4,1m eloxovaný hliník",0,null,null,null,null,null,null,null,null,null,null,null,null,null,null,null,null,null,null,null,null,null,null,null,null,null,null,null,null,null,null,"'HU_2020-10'!$A:$H","$A:$H","13031HU44105","HDF LAK 101 BÍLÁ PE 2800/2070/3","Forest","keves","2020-10-01","Martin Karaščák",0,"x","x","x","x"]
[{"$error":"#N/A"},null,{"$f":"IFERROR(VLOOKUP(B377,List1!$A:$B,2,0),\"x\")","v":"x"},null,null,null,null,null,null,{"$f":"CONCATENATE(VLOOKUP(E377,[1]Seznamy!$Q$2:$R$36,2,0),VLOOKUP(F377,[1]Produkty!$I:$O,7,0),C377,D377)","v":{"$error":"#N/A"}},null,"CZ","Lunit","STRONG závěs naložený, slide on","Lunit_STRONG závěs naložený, slide on","https://www.lunit.sk/detail/zaves-glt-nalozeny-eko",null,"SK","Nábytkár","Vrut PZ 4x18 zápustná hlava zinek bílý PZ2","Nábytkár_Vrut PZ 4x18 zápustná hlava zinek bílý PZ2",0,null,null,null,null,null,null,null,null,null,null,null,null,null,null,null,null,null,null,null,null,null,null,null,null,null,null,null,null,null,null,"'HU_2020-10'!$A:$H","$A:$H","1337HU44105","STRONG Stolová noha centrální 450x450 černá","Homoki-Zár","keves","2020-10-01","Lukáš Sládek",33.755219013119998,"x","x","x","x"]
[{"$error":"#N/A"},null,{"$f":"IFERROR(VLOOKUP(B378,List1!$A:$B,2,0),\"x\")","v":"x"},null,null,null,null,null,null,{"$f":"CONCATENATE(VLOOKUP(E378,[1]Seznamy!$Q$2:$R$36,2,0),VLOOKUP(F378,[1]Produkty!$I:$O,7,0),C378,D378)","v":{"$error":"#N/A"}},null,"CZ","Lunit","ABSB 77039/414 W980/500/W954 ST2 23/2","Lunit_ABSB 77039/414 W980/500/W954 ST2 23/2",0,null,"SK","Sezam","Alfa II profile 222788","Sezam_Alfa II profile 222788",0,null,null,null,null,null,null,null,null,null,null,null,null,null,null,null,null,null,null,null,null,null,null,null,null,null,null,null,null,null,null,"'HU_2020-10'!$A:$H","$A:$H","1339HU44105","BBP OA Zásuvka 515 mm kovová černá","Homoki-Zár","keves","2020-10-01","Lukáš Sládek",4.79256509952,"x","x","x","x"]
[{"$error":"#N/A"},null,{"$f":"IFERROR(VLOOKUP(B379,List1!$A:$B,2,0),\"x\")","v":"x"},null,null,null,null,null,null,{"$f":"CONCATENATE(VLOOKUP(E379,[1]Seznamy!$Q$2:$R$36,2,0),VLOOKUP(F379,[1]Produkty!$I:$O,7,0),C379,D379)","v":{"$error":"#N/A"}},null,"CZ","Lunit","ABSB HU10113 Bílá 101/110/113/8100/8685/W954/B3822 PE 22/2","Lunit_ABSB HU10113 Bílá 101/110/113/8100/8685/W954/B3822 PE 22/2",0,null,"SK","Sezam","SEVROLL Era úchytová lišta 18mm 2,70m stříbrná","Sezam_SEVROLL Era úchytová lišta 18mm 2,70m stříbrná",0,null,null,null,null,null,null,null,null,null,null,null,null,null,null,null,null,null,null,null,null,null,null,null,null,null,null,null,null,null,null,"'HU_2020-10'!$A:$H","$A:$H","13310HU44105","FRANKE Dřez ETN 614 6/4 obyčejný ventil bez otvoru","Homoki-Zár","keves","2020-10-01","Marcela Piechová",20.256896000000001,"x","x","x","x"]
[{"$error":"#N/A"},null,{"$f":"IFERROR(VLOOKUP(B380,List1!$A:$B,2,0),\"x\")","v":"x"},null,null,null,null,null,null,{"$f":"CONCATENATE(VLOOKUP(E380,[1]Seznamy!$Q$2:$R$36,2,0),VLOOKUP(F380,[1]Produkty!$I:$O,7,0),C380,D380)","v":{"$error":"#N/A"}},null,"CZ","Lunit","Alfa II profile 222788","Lunit_Alfa II profile 222788",0,null,"SK","Sezam","Strong electric socket, lift","Sezam_Strong electric socket, lift",0,null,null,null,null,null,null,null,null,null,null,null,null,null,null,null,null,null,null,null,null,null,null,null,null,null,null,null,null,null,null,"'HU_2020-10'!$A:$H","$A:$H","13311HU44105","FRANKE Dřez BFG 611-78 780 x 500 onyx","Homoki-Zár","keves","2020-10-01","Marcela Piechová",98.622796800000003,"x","x","x","x"]
[{"$error":"#N/A"},null,{"$f":"IFERROR(VLOOKUP(B381,List1!$A:$B,2,0),\"x\")","v":"x"},null,null,null,null,null,null,{"$f":"CONCATENATE(VLOOKUP(E381,[1]Seznamy!$Q$2:$R$36,2,0),VLOOKUP(F381,[1]Produkty!$I:$O,7,0),C381,D381)","v":{"$error":"#N/A"}},null,"CZ","Lunit","BBP OA Zásuvka 515 mm kovová černá","Lunit_BBP OA Zásuvka 515 mm kovová černá",0,null,"SK","Sezam","STRONG Elektricky stavitelná podnož černá RAL 9005 mat","Sezam_STRONG Elektricky stavitelná podnož černá RAL 9005 mat",0,null,null,null,null,null,null,null,null,null,null,null,null,null,null,null,null,null,null,null,null,null,null,null,null,null,null,null,null,null,null,"'HU_2020-10'!$A:$H","$A:$H","13313HU44105","GOLLINUCCI Sorter 580 Plus Line, 600 mm, výška 505mm, 80 l, šedý","Homoki-Zár","keves","2020-10-01","Marcela Piechová",72.310374400000001,"x","x","x","x"]
[{"$error":"#N/A"},null,{"$f":"IFERROR(VLOOKUP(B382,List1!$A:$B,2,0),\"x\")","v":"x"},null,null,null,null,null,null,{"$f":"CONCATENATE(VLOOKUP(E382,[1]Seznamy!$Q$2:$R$36,2,0),VLOOKUP(F382,[1]Produkty!$I:$O,7,0),C382,D382)","v":{"$error":"#N/A"}},null,"CZ","Lunit","DTDD Dub evr. radiál st A/B 2800/2070/19","Lunit_DTDD Dub evr. radiál st A/B 2800/2070/19",0,null,"SK","Sezam","TULIP Gola dvířkový J profil 4,1m eloxovaný hliník","Sezam_TULIP Gola dvířkový J profil 4,1m eloxovaný hliník",0,null,null,null,null,null,null,null,null,null,null,null,null,null,null,null,null,null,null,null,null,null,null,null,null,null,null,null,null,null,null,"'HU_2020-10'!$A:$H","$A:$H","13314HU44105","FRANKE Dřez ETN 610 455 x 435","Homoki-Zár","keves","2020-10-01","Marcela Piechová",22.363855359999999,"x","x","x","x"]
[{"$error":"#N/A"},null,{"$f":"IFERROR(VLOOKUP(B383,List1!$A:$B,2,0),\"x\")","v":"x"},null,null,null,null,null,null,{"$f":"CONCATENATE(VLOOKUP(E383,[1]Seznamy!$Q$2:$R$36,2,0),VLOOKUP(F383,[1]Produkty!$I:$O,7,0),C383,D383)","v":{"$error":"#N/A"}},null,"CZ","Lunit","DTDL W980 ST2 Platinově bílá 2800/2070/18","Lunit_DTDL W980 ST2 Platinově bílá 2800/2070/18",0,null,"SK","Schachermayer","ABSB 77039/414 W980/500/W954 ST2 23/2","Schachermayer_ABSB 77039/414 W980/500/W954 ST2 23/2",0,null,null,null,null,null,null,null,null,null,null,null,null,null,null,null,null,null,null,null,null,null,null,null,null,null,null,null,null,null,null,"'HU_2020-10'!$A:$H","$A:$H","13317HU44105","TULIP úchytka Piombina 96 nikl matný + šroubky","Homoki-Zár","keves","2020-10-01","Lenka Kormaník",0.42360876799999997,"x","x","x","x"]
[{"$error":"#N/A"},null,{"$f":"IFERROR(VLOOKUP(B384,List1!$A:$B,2,0),\"x\")","v":"x"},null,null,null,null,null,null,{"$f":"CONCATENATE(VLOOKUP(E384,[1]Seznamy!$Q$2:$R$36,2,0),VLOOKUP(F384,[1]Produkty!$I:$O,7,0),C384,D384)","v":{"$error":"#N/A"}},null,"CZ","Lunit","FRANKE Dřez BFG 611-78 780 x 500 onyx","Lunit_FRANKE Dřez BFG 611-78 780 x 500 onyx",0,null,"SK","Schachermayer","ABSB HU10113 Bílá 101/110/113/8100/8685/W954/B3822 PE 22/2","Schachermayer_ABSB HU10113 Bílá 101/110/113/8100/8685/W954/B3822 PE 22/2",0,null,null,null,null,null,null,null,null,null,null,null,null,null,null,null,null,null,null,null,null,null,null,null,null,null,null,null,null,null,null,"'HU_2020-10'!$A:$H","$A:$H","13318HU44105","TULIP úchytka Anita 96 nikl matný + šroubky","Homoki-Zár","keves","2020-10-01","Lenka Kormaník",0.26821974784000002,"x","x","x","x"]
[{"$error":"#N/A"},null,{"$f":"IFERROR(VLOOKUP(B385,List1!$A:$B,2,0),\"x\")","v":"x"},null,null,null,null,null,null,{"$f":"CONCATENATE(VLOOKUP(E385,[1]Seznamy!$Q$2:$R$36,2,0),VLOOKUP(F385,[1]Produkty!$I:$O,7,0),C385,D385)","v":{"$error":"#N/A"}},null,"CZ","Lunit","FRANKE Dřez ETN 610 455 x 435","Lunit_FRANKE Dřez ETN 610 455 x 435",0,null,"SK","Schachermayer","BBP OA Zásuvka 515 mm kovová černá","Schachermayer_BBP OA Zásuvka 515 mm kovová černá",0,null,null,null,null,null,null,null,null,null,null,null,null,null,null,null,null,null,null,null,null,null,null,null,null,null,null,null,null,null,null,"'HU_2020-10'!$A:$H","$A:$H","13320HU44105","TULIP Úchytka Ramara 596 imitace nerezi","Homoki-Zár","keves","2020-10-01","Lenka Kormaník",3.4736247040000001,"x","x","x","x"]
[{"$error":"#N/A"},null,{"$f":"IFERROR(VLOOKUP(B386,List1!$A:$B,2,0),\"x\")","v":"x"},null,null,null,null,null,null,{"$f":"CONCATENATE(VLOOKUP(E386,[1]Seznamy!$Q$2:$R$36,2,0),VLOOKUP(F386,[1]Produkty!$I:$O,7,0),C386,D386)","v":{"$error":"#N/A"}},null,"CZ","Lunit","GOLLINUCCI Sorter 580 Plus Line, 600 mm, výška 505mm, 80 l, šedý","Lunit_GOLLINUCCI Sorter 580 Plus Line, 600 mm, výška 505mm, 80 l, šedý",0,null,"SK","Schachermayer","DTDD DUB COMMERCIAL A/B DEC 2800/2070/19","Schachermayer_DTDD DUB COMMERCIAL A/B DEC 2800/2070/19",0,null,null,null,null,null,null,null,null,null,null,null,null,null,null,null,null,null,null,null,null,null,null,null,null,null,null,null,null,null,null,"'HU_2020-10'!$A:$H","$A:$H","13322HU44105","STRONG LED pásek 21,6W/m 24V bílá neutrální 210 LED/m","Homoki-Zár","keves","2020-10-01","Stančo Denčev",3.31660032,"x","x","x","x"]
[{"$error":"#N/A"},null,{"$f":"IFERROR(VLOOKUP(B387,List1!$A:$B,2,0),\"x\")","v":"x"},null,null,null,null,null,null,{"$f":"CONCATENATE(VLOOKUP(E387,[1]Seznamy!$Q$2:$R$36,2,0),VLOOKUP(F387,[1]Produkty!$I:$O,7,0),C387,D387)","v":{"$error":"#N/A"}},null,"CZ","Lunit","GOLLINUCCI Sorter Linea 222, 300 mm","Lunit_GOLLINUCCI Sorter Linea 222, 300 mm",0,null,"SK","Schachermayer","DTDD Dub evr. radiál st A/B 2800/2070/19","Schachermayer_DTDD Dub evr. radiál st A/B 2800/2070/19",0,null,null,null,null,null,null,null,null,null,null,null,null,null,null,null,null,null,null,null,null,null,null,null,null,null,null,null,null,null,null,"'HU_2020-10'!$A:$H","$A:$H","13323HU44105","STRONG transformátor plochý LED 24V 100W","Homoki-Zár","keves","2020-10-01","Stančo Denčev",16.423951976959998,"x","x","x","x"]
[{"$error":"#N/A"},null,{"$f":"IFERROR(VLOOKUP(B388,List1!$A:$B,2,0),\"x\")","v":"x"},null,null,null,null,null,null,{"$f":"CONCATENATE(VLOOKUP(E388,[1]Seznamy!$Q$2:$R$36,2,0),VLOOKUP(F388,[1]Produkty!$I:$O,7,0),C388,D388)","v":{"$error":"#N/A"}},null,"CZ","Lunit","STRONG Elektricky stavitelná podnož černá RAL 9005 mat","Lunit_STRONG Elektricky stavitelná podnož černá RAL 9005 mat",0,null,"SK","Schachermayer","DTDL W980 ST2 Platinově bílá 2800/2070/18","Schachermayer_DTDL W980 ST2 Platinově bílá 2800/2070/18",0,null,null,null,null,null,null,null,null,null,null,null,null,null,null,null,null,null,null,null,null,null,null,null,null,null,null,null,null,null,null,"'HU_2020-10'!$A:$H","$A:$H","13324HU44105","Vrut PZ 4x18 zápustná hlava zinek bílý PZ2","Homoki-Zár","keves","2020-10-01","Stančo Denčev",2.2612198399999998E-3,"x","x","x","x"]
[{"$error":"#N/A"},null,{"$f":"IFERROR(VLOOKUP(B389,List1!$A:$B,2,0),\"x\")","v":"x"},null,null,null,null,null,null,{"$f":"CONCATENATE(VLOOKUP(E389,[1]Seznamy!$Q$2:$R$36,2,0),VLOOKUP(F389,[1]Produkty!$I:$O,7,0),C389,D389)","v":{"$error":"#N/A"}},null,"CZ","Lunit","STRONG LED pásek 21,6W/m 24V bílá neutrální 210 LED/m","Lunit_STRONG LED pásek 21,6W/m 24V bílá neutrální 210 LED/m",0,null,"SK","Schachermayer","FRANKE Dřez BFG 611-78 780 x 500 onyx","Schachermayer_FRANKE Dřez BFG 611-78 780 x 500 onyx",0,null,null,null,null,null,null,null,null,null,null,null,null,null,null,null,null,null,null,null,null,null,null,null,null,null,null,null,null,null,null,"'HU_2020-10'!$A:$H","$A:$H","13325HU44105","Konfirmát 7/50 zinek bílý bulk","Homoki-Zár","keves","2020-10-01","Stančo Denčev",8.0809343999999998E-3,"x","x","x","x"]
[{"$error":"#N/A"},null,{"$f":"IFERROR(VLOOKUP(B390,List1!$A:$B,2,0),\"x\")","v":"x"},null,null,null,null,null,null,{"$f":"CONCATENATE(VLOOKUP(E390,[1]Seznamy!$Q$2:$R$36,2,0),VLOOKUP(F390,[1]Produkty!$I:$O,7,0),C390,D390)","v":{"$error":"#N/A"}},null,"CZ","Lunit","STRONG transformátor plochý LED 24V 100W","Lunit_STRONG transformátor plochý LED 24V 100W",0,null,"SK","Schachermayer","FRANKE Dřez ETN 614 6/4 obyčejný ventil bez otvoru","Schachermayer_FRANKE Dřez ETN 614 6/4 obyčejný ventil bez otvoru",0,null,null,null,null,null,null,null,null,null,null,null,null,null,null,null,null,null,null,null,null,null,null,null,null,null,null,null,null,null,null,"'HU_2020-10'!$A:$H","$A:$H","13326HU44105","DTDL W980 ST2 Platinově bílá 2800/2070/18","Homoki-Zár","keves","2020-10-01","Martin Karaščák",0,"x","x","x","x"]
[{"$error":"#N/A"},null,{"$f":"IFERROR(VLOOKUP(B391,List1!$A:$B,2,0),\"x\")","v":"x"},null,null,null,null,null,null,{"$f":"CONCATENATE(VLOOKUP(E391,[1]Seznamy!$Q$2:$R$36,2,0),VLOOKUP(F391,[1]Produkty!$I:$O,7,0),C391,D391)","v":{"$error":"#N/A"}},null,"CZ","Lunit","StrongBox H86/500mm bílý","Lunit_StrongBox H86/500mm bílý",0,null,"SK","Schachermayer","HDF LAK 101 BÍLÁ PE 2800/2070/3","Schachermayer_HDF LAK 101 BÍLÁ PE 2800/2070/3",0,null,null,null,null,null,null,null,null,null,null,null,null,null,null,null,null,null,null,null,null,null,null,null,null,null,null,null,null,null,null,"'HU_2020-10'!$A:$H","$A:$H","13327HU44105","DTDD DUB COMMERCIAL A/B DEC 2800/2070/19","Homoki-Zár","keves","2020-10-01","Martin Karaščák",0,"x","x","x","x"]
[{"$error":"#N/A"},null,{"$f":"IFERROR(VLOOKUP(B392,List1!$A:$B,2,0),\"x\")","v":"x"},null,null,null,null,null,null,{"$f":"CONCATENATE(VLOOKUP(E392,[1]Seznamy!$Q$2:$R$36,2,0),VLOOKUP(F392,[1]Produkty!$I:$O,7,0),C392,D392)","v":{"$error":"#N/A"}},null,"CZ","Lunit","StrongRide synchro 3D celovýsuv 500 mm s tlumením","Lunit_StrongRide synchro 3D celovýsuv 500 mm s tlumením",0,null,"SK","Schachermayer","SEVROLL Era úchytová lišta 18mm 2,70m stříbrná","Schachermayer_SEVROLL Era úchytová lišta 18mm 2,70m stříbrná",0,null,null,null,null,null,null,null,null,null,null,null,null,null,null,null,null,null,null,null,null,null,null,null,null,null,null,null,null,null,null,"'HU_2020-10'!$A:$H","$A:$H","13328HU44105","DTDD Dub evr. radiál st A/B 2800/2070/19","Homoki-Zár","keves","2020-10-01","Martin Karaščák",0,"x","x","x","x"]
[{"$f":"TEXT(J393,1)","v":{"$error":"#N/A"}},null,{"$f":"IFERROR(VLOOKUP(B393,List1!$A:$B,2,0),\"x\")","v":"x"},null,null,null,null,null,null,{"$f":"CONCATENATE(VLOOKUP(E393,[1]Seznamy!$Q$2:$R$36,2,0),VLOOKUP(F393,[1]Produkty!$I:$O,7,0),C393,D393)","v":{"$error":"#N/A"}},null,"CZ","Lunit","TULIP úchytka Anita 96 nikl matný + šroubky","Lunit_TULIP úchytka Anita 96 nikl matný + šroubky",0,null,"SK","Schachermayer","Strong electric socket, lift","Schachermayer_Strong electric socket, lift",0,null,null,null,null,null,null,null,null,null,null,null,null,null,null,null,null,null,null,null,null,null,null,null,null,null,null,null,null,null,null,"'HU_2020-10'!$A:$H","$A:$H","13329HU44105","ABSB HU10113 Bílá 101/110/113/8100/8685/W954/B3822 PE 22/2","Homoki-Zár","keves","2020-10-01","Martin Karaščák",0,"x","x","x","x"]
[{"$error":"#N/A"},null,{"$f":"IFERROR(VLOOKUP(B394,List1!$A:$B,2,0),\"x\")","v":"x"},null,null,null,null,null,null,{"$f":"CONCATENATE(VLOOKUP(E394,[1]Seznamy!$Q$2:$R$36,2,0),VLOOKUP(F394,[1]Produkty!$I:$O,7,0),C394,D394)","v":{"$error":"#N/A"}},null,"CZ","Lunit","TULIP Úchytka Lucata 160 černá matná","Lunit_TULIP Úchytka Lucata 160 černá matná",0,null,"SK","Schachermayer","STRONG Elektricky stavitelná podnož černá RAL 9005 mat","Schachermayer_STRONG Elektricky stavitelná podnož černá RAL 9005 mat",0,null,null,null,null,null,null,null,null,null,null,null,null,null,null,null,null,null,null,null,null,null,null,null,null,null,null,null,null,null,null,"'HU_2020-10'!$A:$H","$A:$H","13330HU44105","ABSB 77039/414 W980/500/W954 ST2 23/2","Homoki-Zár","keves","2020-10-01","Martin Karaščák",0,"x","x","x","x"]
[{"$error":"#N/A"},null,{"$f":"IFERROR(VLOOKUP(B395,List1!$A:$B,2,0),\"x\")","v":"x"},null,null,null,null,null,null,{"$f":"CONCATENATE(VLOOKUP(E395,[1]Seznamy!$Q$2:$R$36,2,0),VLOOKUP(F395,[1]Produkty!$I:$O,7,0),C395,D395)","v":{"$error":"#N/A"}},null,"CZ","Lunit","TULIP úchytka Piombina 96 nikl matný + šroubky","Lunit_TULIP úchytka Piombina 96 nikl matný + šroubky",0,null,"SK","Schachermayer","STRONG LED pásek 21,6W/m 24V bílá neutrální 210 LED/m","Schachermayer_STRONG LED pásek 21,6W/m 24V bílá neutrální 210 LED/m",0,null,null,null,null,null,null,null,null,null,null,null,null,null,null,null,null,null,null,null,null,null,null,null,null,null,null,null,null,null,null,"'HU_2020-10'!$A:$H","$A:$H","13331HU44105","HDF LAK 101 BÍLÁ PE 2800/2070/3","Homoki-Zár","keves","2020-10-01","Martin Karaščák",0,"x","x","x","x"]
[{"$error":"#N/A"},null,{"$f":"IFERROR(VLOOKUP(B396,List1!$A:$B,2,0),\"x\")","v":"x"},null,null,null,null,null,null,{"$f":"CONCATENATE(VLOOKUP(E396,[1]Seznamy!$Q$2:$R$36,2,0),VLOOKUP(F396,[1]Produkty!$I:$O,7,0),C396,D396)","v":{"$error":"#N/A"}},null,"CZ","Lunit","TULIP Úchytka Ramara 596 imitace nerezi","Lunit_TULIP Úchytka Ramara 596 imitace nerezi",0,null,"SK","Schachermayer","STRONG transformátor plochý LED 24V 100W","Schachermayer_STRONG transformátor plochý LED 24V 100W",0,null,null,null,null,null,null,null,null,null,null,null,null,null,null,null,null,null,null,null,null,null,null,null,null,null,null,null,null,null,null,"'HU_2020-10'!$A:$H","$A:$H","1311HU44105","STRONG plus závěs naložený s tlumením, s excentrem, klipový","Kamex-Laguna","keves","2020-10-01","Martin Zniszczol",0.28351488000000002,"x","x","x","x"]
[{"$error":"#N/A"},null,{"$f":"IFERROR(VLOOKUP(B397,List1!$A:$B,2,0),\"x\")","v":"x"},null,null,null,null,null,null,{"$f":"CONCATENATE(VLOOKUP(E397,[1]Seznamy!$Q$2:$R$36,2,0),VLOOKUP(F397,[1]Produkty!$I:$O,7,0),C397,D397)","v":{"$error":"#N/A"}},null,"CZ","Lunit","Vrut PZ 4x18 zápustná hlava zinek bílý PZ2","Lunit_Vrut PZ 4x18 zápustná hlava zinek bílý PZ2",0,null,"SK","Schachermayer","StrongBox H86/500mm bílý","Schachermayer_StrongBox H86/500mm bílý",0,null,null,null,null,null,null,null,null,null,null,null,null,null,null,null,null,null,null,null,null,null,null,null,null,null,null,null,null,null,null,"'HU_2020-10'!$A:$H","$A:$H","1312HU44105","STRONG závěs naložený, slide on","Kamex-Laguna","keves","2020-10-01","Martin Zniszczol",0.11635711999999999,"x","x","x","x"]
[{"$error":"#N/A"},null,{"$f":"IFERROR(VLOOKUP(B398,List1!$A:$B,2,0),\"x\")","v":"x"},null,null,null,null,null,null,{"$f":"CONCATENATE(VLOOKUP(E398,[1]Seznamy!$Q$2:$R$36,2,0),VLOOKUP(F398,[1]Produkty!$I:$O,7,0),C398,D398)","v":{"$error":"#N/A"}},null,"CZ","Nábytkár","StrongMax 89/500 mm šedý (antracit)","Nábytkár_StrongMax 89/500 mm šedý (antracit)","https://eshop.nabytkar.com/zbozi/780232",null,"SK","Schachermayer","StrongMax 89/500 mm šedý (antracit)","Schachermayer_StrongMax 89/500 mm šedý (antracit)",0,null,null,null,null,null,null,null,null,null,null,null,null,null,null,null,null,null,null,null,null,null,null,null,null,null,null,null,null,null,null,"'HU_2020-10'!$A:$H","$A:$H","1313HU44105","StrongBox H86/500mm bílý","Kamex-Laguna","keves","2020-10-01","Martin Zniszczol",7.2608588799999998,"x","x","x","x"]
[{"$error":"#N/A"},null,{"$f":"IFERROR(VLOOKUP(B399,List1!$A:$B,2,0),\"x\")","v":"x"},null,null,null,null,null,null,{"$f":"CONCATENATE(VLOOKUP(E399,[1]Seznamy!$Q$2:$R$36,2,0),VLOOKUP(F399,[1]Produkty!$I:$O,7,0),C399,D399)","v":{"$error":"#N/A"}},null,"CZ","Nábytkár","STRONG plus závěs naložený s tlumením, s excentrem, klipový","Nábytkár_STRONG plus závěs naložený s tlumením, s excentrem, klipový","https://eshop.nabytkar.com/zbozi/dynamicke-kovani/a01-zavesy/781968",null,"SK","Schachermayer","StrongRide synchro 3D celovýsuv 500 mm s tlumením","Schachermayer_StrongRide synchro 3D celovýsuv 500 mm s tlumením",0,null,null,null,null,null,null,null,null,null,null,null,null,null,null,null,null,null,null,null,null,null,null,null,null,null,null,null,null,null,null,"'HU_2020-10'!$A:$H","$A:$H","1314HU44105","StrongMax 89/500 mm šedý (antracit)","Kamex-Laguna","keves","2020-10-01","Martin Zniszczol",9.5790182399999999,"x","x","x","x"]
[{"$error":"#N/A"},null,{"$f":"IFERROR(VLOOKUP(B400,List1!$A:$B,2,0),\"x\")","v":"x"},null,null,null,null,null,null,{"$f":"CONCATENATE(VLOOKUP(E400,[1]Seznamy!$Q$2:$R$36,2,0),VLOOKUP(F400,[1]Produkty!$I:$O,7,0),C400,D400)","v":{"$error":"#N/A"}},null,"CZ","Nábytkár","StrongBox H86/500mm bílý","Nábytkár_StrongBox H86/500mm bílý","https://eshop.nabytkar.com/zbozi/dynamicke-kovanie/a03-vysuvy/788289",null,"SK","Schachermayer","TULIP Gola dvířkový J profil 4,1m eloxovaný hliník","Schachermayer_TULIP Gola dvířkový J profil 4,1m eloxovaný hliník",0,null,null,null,null,null,null,null,null,null,null,null,null,null,null,null,null,null,null,null,null,null,null,null,null,null,null,null,null,null,null,"'HU_2020-10'!$A:$H","$A:$H","1315HU44105","StrongRide synchro 3D celovýsuv 500 mm s tlumením","Kamex-Laguna","keves","2020-10-01","Martin Zniszczol",5.45270528,"x","x","x","x"]
[{"$error":"#N/A"},null,{"$f":"IFERROR(VLOOKUP(B401,List1!$A:$B,2,0),\"x\")","v":"x"},null,null,null,null,null,null,{"$f":"CONCATENATE(VLOOKUP(E401,[1]Seznamy!$Q$2:$R$36,2,0),VLOOKUP(F401,[1]Produkty!$I:$O,7,0),C401,D401)","v":{"$error":"#N/A"}},null,"CZ","Nábytkár","StrongRide synchro 3D celovýsuv 500 mm s tlumením","Nábytkár_StrongRide synchro 3D celovýsuv 500 mm s tlumením","https://eshop.nabytkar.com/zbozi/dynamicke-kovanie/a03-vysuvy/skryte-plnovysuvy/775771",null,"SK","Schachermayer","TULIP úchytka Anita 96 nikl matný + šroubky","Schachermayer_TULIP úchytka Anita 96 nikl matný + šroubky",0,null,null,null,null,null,null,null,null,null,null,null,null,null,null,null,null,null,null,null,null,null,null,null,null,null,null,null,null,null,null,"'HU_2020-10'!$A:$H","$A:$H","1316HU44105","STRONG Rektifikační nožka 100 mm","Kamex-Laguna","keves","2020-10-01","Lukáš Sládek",9.6852940799999995E-2,"x","x","x","x"]
[{"$error":"#N/A"},null,{"$f":"IFERROR(VLOOKUP(B402,List1!$A:$B,2,0),\"x\")","v":"x"},null,null,null,null,null,null,{"$f":"CONCATENATE(VLOOKUP(E402,[1]Seznamy!$Q$2:$R$36,2,0),VLOOKUP(F402,[1]Produkty!$I:$O,7,0),C402,D402)","v":{"$error":"#N/A"}},null,"CZ","Nábytkár","FRANKE Dřez ETN 614 6/4 obyčejný ventil bez otvoru","Nábytkár_FRANKE Dřez ETN 614 6/4 obyčejný ventil bez otvoru","https://eshop.nabytkar.com/zbozi/vybavenie-kuchyn/c05-drezy-a-baterie/nerezove-drezy/880291",null,"SK","Schachermayer","TULIP úchytka Piombina 96 nikl matný + šroubky","Schachermayer_TULIP úchytka Piombina 96 nikl matný + šroubky",0,null,null,null,null,null,null,null,null,null,null,null,null,null,null,null,null,null,null,null,null,null,null,null,null,null,null,null,null,null,null,"'HU_2020-10'!$A:$H","$A:$H","1317HU44105","STRONG Stolová noha centrální 450x450 černá","Kamex-Laguna","keves","2020-10-01","Lukáš Sládek",33.755219013119998,"x","x","x","x"]
[{"$error":"#N/A"},null,{"$f":"IFERROR(VLOOKUP(B403,List1!$A:$B,2,0),\"x\")","v":"x"},null,null,null,null,null,null,{"$f":"CONCATENATE(VLOOKUP(E403,[1]Seznamy!$Q$2:$R$36,2,0),VLOOKUP(F403,[1]Produkty!$I:$O,7,0),C403,D403)","v":{"$error":"#N/A"}},null,"CZ","Nábytkár","GOLLINUCCI Sorter Linea 222, 300 mm","Nábytkár_GOLLINUCCI Sorter Linea 222, 300 mm","https://eshop.nabytkar.sk/zbozi/775649",null,"SK","Schachermayer","Vrut PZ 4x18 zápustná hlava zinek bílý PZ2","Schachermayer_Vrut PZ 4x18 zápustná hlava zinek bílý PZ2",0,null,null,null,null,null,null,null,null,null,null,null,null,null,null,null,null,null,null,null,null,null,null,null,null,null,null,null,null,null,null,"'HU_2020-10'!$A:$H","$A:$H","1318HU44105","STRONG Elektrická zásuvka 3x230V, francouzský typ, 265x130x68 mm stříbrná","Kamex-Laguna","keves","2020-10-01","Lukáš Sládek",13.197135959039999,"x","x","x","x"]
[{"$error":"#N/A"},null,{"$f":"IFERROR(VLOOKUP(B404,List1!$A:$B,2,0),\"x\")","v":"x"},null,null,null,null,null,null,{"$f":"CONCATENATE(VLOOKUP(E404,[1]Seznamy!$Q$2:$R$36,2,0),VLOOKUP(F404,[1]Produkty!$I:$O,7,0),C404,D404)","v":{"$error":"#N/A"}},null,"CZ","Nábytkár","TULIP Úchytka Ramara 596 imitace nerezi","Nábytkár_TULIP Úchytka Ramara 596 imitace nerezi","https://eshop.nabytkar.sk/zbozi/776030",null,"SK","TWD","ABSB 77039/414 W980/500/W954 ST2 23/2","TWD_ABSB 77039/414 W980/500/W954 ST2 23/2",0,null,null,null,null,null,null,null,null,null,null,null,null,null,null,null,null,null,null,null,null,null,null,null,null,null,null,null,null,null,null,"'HU_2020-10'!$A:$H","$A:$H","1319HU44105","BBP OA Zásuvka 515 mm kovová černá","Kamex-Laguna","keves","2020-10-01","Lukáš Sládek",4.79256509952,"x","x","x","x"]
[{"$error":"#N/A"},null,{"$f":"IFERROR(VLOOKUP(B405,List1!$A:$B,2,0),\"x\")","v":"x"},null,null,null,null,null,null,{"$f":"CONCATENATE(VLOOKUP(E405,[1]Seznamy!$Q$2:$R$36,2,0),VLOOKUP(F405,[1]Produkty!$I:$O,7,0),C405,D405)","v":{"$error":"#N/A"}},null,"CZ","Nábytkár","TULIP věšák Lugo XL chrom matný + šroubky","Nábytkár_TULIP věšák Lugo XL chrom matný + šroubky","https://eshop.nabytkar.sk/zbozi/776051",null,"SK","TWD","ABSB HU10113 Bílá 101/110/113/8100/8685/W954/B3822 PE 22/2","TWD_ABSB HU10113 Bílá 101/110/113/8100/8685/W954/B3822 PE 22/2",0,null,null,null,null,null,null,null,null,null,null,null,null,null,null,null,null,null,null,null,null,null,null,null,null,null,null,null,null,null,null,"'HU_2020-10'!$A:$H","$A:$H","13110HU44105","FRANKE Dřez ETN 614 6/4 obyčejný ventil bez otvoru","Kamex-Laguna","keves","2020-10-01","Marcela Piechová",20.256896000000001,"x","x","x","x"]
[{"$error":"#N/A"},null,{"$f":"IFERROR(VLOOKUP(B406,List1!$A:$B,2,0),\"x\")","v":"x"},null,null,null,null,null,null,{"$f":"CONCATENATE(VLOOKUP(E406,[1]Seznamy!$Q$2:$R$36,2,0),VLOOKUP(F406,[1]Produkty!$I:$O,7,0),C406,D406)","v":{"$error":"#N/A"}},null,"CZ","Nábytkár","STRONG Rektifikační nožka 100 mm","Nábytkár_STRONG Rektifikační nožka 100 mm","https://eshop.nabytkar.sk/zbozi/776105",null,"SK","TWD","BBP OA Zásuvka 515 mm kovová černá","TWD_BBP OA Zásuvka 515 mm kovová černá",0,null,null,null,null,null,null,null,null,null,null,null,null,null,null,null,null,null,null,null,null,null,null,null,null,null,null,null,null,null,null,"'HU_2020-10'!$A:$H","$A:$H","13111HU44105","FRANKE Dřez BFG 611-78 780 x 500 onyx","Kamex-Laguna","keves","2020-10-01","Marcela Piechová",98.622796800000003,"x","x","x","x"]
[{"$error":"#N/A"},null,{"$f":"IFERROR(VLOOKUP(B407,List1!$A:$B,2,0),\"x\")","v":"x"},null,null,null,null,null,null,{"$f":"CONCATENATE(VLOOKUP(E407,[1]Seznamy!$Q$2:$R$36,2,0),VLOOKUP(F407,[1]Produkty!$I:$O,7,0),C407,D407)","v":{"$error":"#N/A"}},null,"CZ","Nábytkár","Konfirmát 7/50 zinek bílý bulk","Nábytkár_Konfirmát 7/50 zinek bílý bulk","https://eshop.nabytkar.sk/zbozi/776156",null,"SK","TWD","DTDD DUB COMMERCIAL A/B DEC 2800/2070/19","TWD_DTDD DUB COMMERCIAL A/B DEC 2800/2070/19",0,null,null,null,null,null,null,null,null,null,null,null,null,null,null,null,null,null,null,null,null,null,null,null,null,null,null,null,null,null,null,"'HU_2020-10'!$A:$H","$A:$H","13112HU44105","GOLLINUCCI Sorter Sistema 901/2x16 l, 600 mm","Kamex-Laguna","keves","2020-10-01","Marcela Piechová",16.545126399999997,"x","x","x","x"]
[{"$error":"#N/A"},null,{"$f":"IFERROR(VLOOKUP(B408,List1!$A:$B,2,0),\"x\")","v":"x"},null,null,null,null,null,null,{"$f":"CONCATENATE(VLOOKUP(E408,[1]Seznamy!$Q$2:$R$36,2,0),VLOOKUP(F408,[1]Produkty!$I:$O,7,0),C408,D408)","v":{"$error":"#N/A"}},null,"CZ","Nábytkár","STRONG závěs naložený, slide on","Nábytkár_STRONG závěs naložený, slide on","https://eshop.nabytkar.sk/zbozi/776409",null,"SK","TWD","DTDD Dub evr. radiál st A/B 2800/2070/19","TWD_DTDD Dub evr. radiál st A/B 2800/2070/19",0,null,null,null,null,null,null,null,null,null,null,null,null,null,null,null,null,null,null,null,null,null,null,null,null,null,null,null,null,null,null,"'HU_2020-10'!$A:$H","$A:$H","13113HU44105","GOLLINUCCI Sorter 580 Plus Line, 600 mm, výška 505mm, 80 l, šedý","Kamex-Laguna","keves","2020-10-01","Marcela Piechová",72.310374400000001,"x","x","x","x"]
[{"$error":"#N/A"},null,{"$f":"IFERROR(VLOOKUP(B409,List1!$A:$B,2,0),\"x\")","v":"x"},null,null,null,null,null,null,{"$f":"CONCATENATE(VLOOKUP(E409,[1]Seznamy!$Q$2:$R$36,2,0),VLOOKUP(F409,[1]Produkty!$I:$O,7,0),C409,D409)","v":{"$error":"#N/A"}},null,"CZ","Nábytkár","TULIP Úchytka Lucata 160 černá matná","Nábytkár_TULIP Úchytka Lucata 160 černá matná","https://eshop.nabytkar.sk/zbozi/779661",null,"SK","TWD","DTDL W980 ST2 Platinově bílá 2800/2070/18","TWD_DTDL W980 ST2 Platinově bílá 2800/2070/18",0,null,null,null,null,null,null,null,null,null,null,null,null,null,null,null,null,null,null,null,null,null,null,null,null,null,null,null,null,null,null,"'HU_2020-10'!$A:$H","$A:$H","13114HU44105","FRANKE Dřez ETN 610 455 x 435","Kamex-Laguna","keves","2020-10-01","Marcela Piechová",22.363855359999999,"x","x","x","x"]
[{"$error":"#N/A"},null,{"$f":"IFERROR(VLOOKUP(B410,List1!$A:$B,2,0),\"x\")","v":"x"},null,null,null,null,null,null,{"$f":"CONCATENATE(VLOOKUP(E410,[1]Seznamy!$Q$2:$R$36,2,0),VLOOKUP(F410,[1]Produkty!$I:$O,7,0),C410,D410)","v":{"$error":"#N/A"}},null,"CZ","Nábytkár","FRANKE Dřez BFG 611-78 780 x 500 onyx","Nábytkár_FRANKE Dřez BFG 611-78 780 x 500 onyx","https://eshop.nabytkar.sk/zbozi/780590",null,"SK","TWD","FRANKE Dřez BFG 611-78 780 x 500 onyx","TWD_FRANKE Dřez BFG 611-78 780 x 500 onyx",0,null,null,null,null,null,null,null,null,null,null,null,null,null,null,null,null,null,null,null,null,null,null,null,null,null,null,null,null,null,null,"'HU_2020-10'!$A:$H","$A:$H","13115HU44105","GOLLINUCCI Sorter Linea 222, 300 mm","Kamex-Laguna","keves","2020-10-01","Marcela Piechová",26.7038464,"x","x","x","x"]
[{"$error":"#N/A"},null,{"$f":"IFERROR(VLOOKUP(B411,List1!$A:$B,2,0),\"x\")","v":"x"},null,null,null,null,null,null,{"$f":"CONCATENATE(VLOOKUP(E411,[1]Seznamy!$Q$2:$R$36,2,0),VLOOKUP(F411,[1]Produkty!$I:$O,7,0),C411,D411)","v":{"$error":"#N/A"}},null,"CZ","Nábytkár","STRONG Elektrická zásuvka 3x230V, francouzský typ, 265x130x68 mm stříbrná","Nábytkár_STRONG Elektrická zásuvka 3x230V, francouzský typ, 265x130x68 mm stříbrná","https://eshop.nabytkar.sk/zbozi/784571",null,"SK","TWD","FRANKE Dřez ETN 610 455 x 435","TWD_FRANKE Dřez ETN 610 455 x 435",0,null,null,null,null,null,null,null,null,null,null,null,null,null,null,null,null,null,null,null,null,null,null,null,null,null,null,null,null,null,null,"'HU_2020-10'!$A:$H","$A:$H","13116HU44105","TULIP úchytka Nakana 128 chrom matný + šroubky","Kamex-Laguna","keves","2020-10-01","Lenka Kormaník",0.77199727615999991,"x","x","x","x"]
[{"$error":"#N/A"},null,{"$f":"IFERROR(VLOOKUP(B412,List1!$A:$B,2,0),\"x\")","v":"x"},null,null,null,null,null,null,{"$f":"CONCATENATE(VLOOKUP(E412,[1]Seznamy!$Q$2:$R$36,2,0),VLOOKUP(F412,[1]Produkty!$I:$O,7,0),C412,D412)","v":{"$error":"#N/A"}},null,"CZ","Nábytkár","STRONG Stolová noha centrální 450x450 černá","Nábytkár_STRONG Stolová noha centrální 450x450 černá","https://eshop.nabytkar.sk/zbozi/786167",null,"SK","TWD","FRANKE Dřez ETN 614 6/4 obyčejný ventil bez otvoru","TWD_FRANKE Dřez ETN 614 6/4 obyčejný ventil bez otvoru",0,null,null,null,null,null,null,null,null,null,null,null,null,null,null,null,null,null,null,null,null,null,null,null,null,null,null,null,null,null,null,"'HU_2020-10'!$A:$H","$A:$H","13117HU44105","TULIP úchytka Piombina 96 nikl matný + šroubky","Kamex-Laguna","keves","2020-10-01","Lenka Kormaník",0.42360876799999997,"x","x","x","x"]
[{"$error":"#N/A"},null,{"$f":"IFERROR(VLOOKUP(B413,List1!$A:$B,2,0),\"x\")","v":"x"},null,null,null,null,null,null,{"$f":"CONCATENATE(VLOOKUP(E413,[1]Seznamy!$Q$2:$R$36,2,0),VLOOKUP(F413,[1]Produkty!$I:$O,7,0),C413,D413)","v":{"$error":"#N/A"}},null,"CZ","Nábytkár","Strong electric socket, lift","Nábytkár_Strong electric socket, lift","https://eshop.nabytkar.sk/zbozi/788166",null,"SK","TWD","GOLLINUCCI Sorter 580 Plus Line, 600 mm, výška 505mm, 80 l, šedý","TWD_GOLLINUCCI Sorter 580 Plus Line, 600 mm, výška 505mm, 80 l, šedý",0,null,null,null,null,null,null,null,null,null,null,null,null,null,null,null,null,null,null,null,null,null,null,null,null,null,null,null,null,null,null,"'HU_2020-10'!$A:$H","$A:$H","13118HU44105","TULIP úchytka Anita 96 nikl matný + šroubky","Kamex-Laguna","keves","2020-10-01","Lenka Kormaník",0.26821974784000002,"x","x","x","x"]
[{"$error":"#N/A"},null,{"$f":"IFERROR(VLOOKUP(B414,List1!$A:$B,2,0),\"x\")","v":"x"},null,null,null,null,null,null,{"$f":"CONCATENATE(VLOOKUP(E414,[1]Seznamy!$Q$2:$R$36,2,0),VLOOKUP(F414,[1]Produkty!$I:$O,7,0),C414,D414)","v":{"$error":"#N/A"}},null,"CZ","Nábytkár","GOLLINUCCI Sorter Sistema 901/2x16 l, 600 mm","Nábytkár_GOLLINUCCI Sorter Sistema 901/2x16 l, 600 mm","https://eshop.nabytkar.sk/zbozi/789025",null,"SK","TWD","GOLLINUCCI Sorter Linea 222, 300 mm","TWD_GOLLINUCCI Sorter Linea 222, 300 mm",0,null,null,null,null,null,null,null,null,null,null,null,null,null,null,null,null,null,null,null,null,null,null,null,null,null,null,null,null,null,null,"'HU_2020-10'!$A:$H","$A:$H","13119HU44105","TULIP věšák Lugo XL chrom matný + šroubky","Kamex-Laguna","keves","2020-10-01","Lenka Kormaník",0.72694533119999993,"x","x","x","x"]
[{"$error":"#N/A"},null,{"$f":"IFERROR(VLOOKUP(B415,List1!$A:$B,2,0),\"x\")","v":"x"},null,null,null,null,null,null,{"$f":"CONCATENATE(VLOOKUP(E415,[1]Seznamy!$Q$2:$R$36,2,0),VLOOKUP(F415,[1]Produkty!$I:$O,7,0),C415,D415)","v":{"$error":"#N/A"}},null,"CZ","Nábytkár","STRONG Elektricky stavitelná podnož černá RAL 9005 mat","Nábytkár_STRONG Elektricky stavitelná podnož černá RAL 9005 mat","https://eshop.nabytkar.sk/zbozi/789840",null,"SK","TWD","GOLLINUCCI Sorter Sistema 901/2x16 l, 600 mm","TWD_GOLLINUCCI Sorter Sistema 901/2x16 l, 600 mm",0,null,null,null,null,null,null,null,null,null,null,null,null,null,null,null,null,null,null,null,null,null,null,null,null,null,null,null,null,null,null,"'HU_2020-10'!$A:$H","$A:$H","13120HU44105","TULIP Úchytka Ramara 596 imitace nerezi","Kamex-Laguna","keves","2020-10-01","Lenka Kormaník",3.4736247040000001,"x","x","x","x"]
[{"$error":"#N/A"},null,{"$f":"IFERROR(VLOOKUP(B416,List1!$A:$B,2,0),\"x\")","v":"x"},null,null,null,null,null,null,{"$f":"CONCATENATE(VLOOKUP(E416,[1]Seznamy!$Q$2:$R$36,2,0),VLOOKUP(F416,[1]Produkty!$I:$O,7,0),C416,D416)","v":{"$error":"#N/A"}},null,"CZ","Nábytkár","Alfa II profile 222788","Nábytkár_Alfa II profile 222788",0,null,"SK","TWD","SEVROLL Era úchytová lišta 18mm 2,70m stříbrná","TWD_SEVROLL Era úchytová lišta 18mm 2,70m stříbrná",0,null,null,null,null,null,null,null,null,null,null,null,null,null,null,null,null,null,null,null,null,null,null,null,null,null,null,null,null,null,null,"'HU_2020-10'!$A:$H","$A:$H","13121HU44105","TULIP Úchytka Lucata 160 černá matná","Kamex-Laguna","keves","2020-10-01","Lenka Kormaník",0.78860125696000005,"x","x","x","x"]
[{"$error":"#N/A"},null,{"$f":"IFERROR(VLOOKUP(B417,List1!$A:$B,2,0),\"x\")","v":"x"},null,null,null,null,null,null,{"$f":"CONCATENATE(VLOOKUP(E417,[1]Seznamy!$Q$2:$R$36,2,0),VLOOKUP(F417,[1]Produkty!$I:$O,7,0),C417,D417)","v":{"$error":"#N/A"}},null,"CZ","Nábytkár","SEVROLL Era úchytová lišta 18mm 2,70m stříbrná","Nábytkár_SEVROLL Era úchytová lišta 18mm 2,70m stříbrná",0,null,"SK","TWD","Strong electric socket, lift","TWD_Strong electric socket, lift",0,null,null,null,null,null,null,null,null,null,null,null,null,null,null,null,null,null,null,null,null,null,null,null,null,null,null,null,null,null,null,"'HU_2020-10'!$A:$H","$A:$H","13122HU44105","STRONG LED pásek 21,6W/m 24V bílá neutrální 210 LED/m","Kamex-Laguna","keves","2020-10-01","Stančo Denčev",3.31660032,"x","x","x","x"]
[{"$error":"#N/A"},null,{"$f":"IFERROR(VLOOKUP(B418,List1!$A:$B,2,0),\"x\")","v":"x"},null,null,null,null,null,null,{"$f":"CONCATENATE(VLOOKUP(E418,[1]Seznamy!$Q$2:$R$36,2,0),VLOOKUP(F418,[1]Produkty!$I:$O,7,0),C418,D418)","v":{"$error":"#N/A"}},null,"CZ","Nábytkár","STRONG LED pásek 21,6W/m 24V bílá neutrální 210 LED/m","Nábytkár_STRONG LED pásek 21,6W/m 24V bílá neutrální 210 LED/m",0,null,"SK","TWD","STRONG Elektrická zásuvka 3x230V, francouzský typ, 265x130x68 mm stříbrná","TWD_STRONG Elektrická zásuvka 3x230V, francouzský typ, 265x130x68 mm stříbrná",0,null,null,null,null,null,null,null,null,null,null,null,null,null,null,null,null,null,null,null,null,null,null,null,null,null,null,null,null,null,null,"'HU_2020-10'!$A:$H","$A:$H","13123HU44105","STRONG transformátor plochý LED 24V 100W","Kamex-Laguna","keves","2020-10-01","Stančo Denčev",16.423951976959998,"x","x","x","x"]
[{"$error":"#N/A"},null,{"$f":"IFERROR(VLOOKUP(B419,List1!$A:$B,2,0),\"x\")","v":"x"},null,null,null,null,null,null,{"$f":"CONCATENATE(VLOOKUP(E419,[1]Seznamy!$Q$2:$R$36,2,0),VLOOKUP(F419,[1]Produkty!$I:$O,7,0),C419,D419)","v":{"$error":"#N/A"}},null,"CZ","Nábytkár","STRONG transformátor plochý LED 24V 100W","Nábytkár_STRONG transformátor plochý LED 24V 100W",0,null,"SK","TWD","STRONG Elektricky stavitelná podnož černá RAL 9005 mat","TWD_STRONG Elektricky stavitelná podnož černá RAL 9005 mat",0,null,null,null,null,null,null,null,null,null,null,null,null,null,null,null,null,null,null,null,null,null,null,null,null,null,null,null,null,null,null,"'HU_2020-10'!$A:$H","$A:$H","13124HU44105","Vrut PZ 4x18 zápustná hlava zinek bílý PZ2","Kamex-Laguna","keves","2020-10-01","Stančo Denčev",2.2612198399999998E-3,"x","x","x","x"]
[{"$error":"#N/A"},null,{"$f":"IFERROR(VLOOKUP(B420,List1!$A:$B,2,0),\"x\")","v":"x"},null,null,null,null,null,null,{"$f":"CONCATENATE(VLOOKUP(E420,[1]Seznamy!$Q$2:$R$36,2,0),VLOOKUP(F420,[1]Produkty!$I:$O,7,0),C420,D420)","v":{"$error":"#N/A"}},null,"CZ","Nábytkár","ABSB 77039/414 W980/500/W954 ST2 23/2","Nábytkár_ABSB 77039/414 W980/500/W954 ST2 23/2",0,null,"SK","TWD","STRONG LED pásek 21,6W/m 24V bílá neutrální 210 LED/m","TWD_STRONG LED pásek 21,6W/m 24V bílá neutrální 210 LED/m",0,null,null,null,null,null,null,null,null,null,null,null,null,null,null,null,null,null,null,null,null,null,null,null,null,null,null,null,null,null,null,"'HU_2020-10'!$A:$H","$A:$H","13125HU44105","Konfirmát 7/50 zinek bílý bulk","Kamex-Laguna","keves","2020-10-01","Stančo Denčev",8.0809343999999998E-3,"x","x","x","x"]
[{"$error":"#N/A"},null,{"$f":"IFERROR(VLOOKUP(B421,List1!$A:$B,2,0),\"x\")","v":"x"},null,null,null,null,null,null,{"$f":"CONCATENATE(VLOOKUP(E421,[1]Seznamy!$Q$2:$R$36,2,0),VLOOKUP(F421,[1]Produkty!$I:$O,7,0),C421,D421)","v":{"$error":"#N/A"}},null,"CZ","Nábytkár","ABSB HU10113 Bílá 101/110/113/8100/8685/W954/B3822 PE 22/2","Nábytkár_ABSB HU10113 Bílá 101/110/113/8100/8685/W954/B3822 PE 22/2",0,null,"SK","TWD","STRONG Stolová noha centrální 450x450 černá","TWD_STRONG Stolová noha centrální 450x450 černá",0,null,null,null,null,null,null,null,null,null,null,null,null,null,null,null,null,null,null,null,null,null,null,null,null,null,null,null,null,null,null,"'HU_2020-10'!$A:$H","$A:$H","13126HU44105","DTDL W980 ST2 Platinově bílá 2800/2070/18","Kamex-Laguna","keves","2020-10-01","Martin Karaščák",0,"x","x","x","x"]
[{"$error":"#N/A"},null,{"$f":"IFERROR(VLOOKUP(B422,List1!$A:$B,2,0),\"x\")","v":"x"},null,null,null,null,null,null,{"$f":"CONCATENATE(VLOOKUP(E422,[1]Seznamy!$Q$2:$R$36,2,0),VLOOKUP(F422,[1]Produkty!$I:$O,7,0),C422,D422)","v":{"$error":"#N/A"}},null,"CZ","Nábytkár","BBP OA Zásuvka 515 mm kovová černá","Nábytkár_BBP OA Zásuvka 515 mm kovová černá",0,null,"SK","TWD","STRONG transformátor plochý LED 24V 100W","TWD_STRONG transformátor plochý LED 24V 100W",0,null,null,null,null,null,null,null,null,null,null,null,null,null,null,null,null,null,null,null,null,null,null,null,null,null,null,null,null,null,null,"'HU_2020-10'!$A:$H","$A:$H","13127HU44105","DTDD DUB COMMERCIAL A/B DEC 2800/2070/19","Kamex-Laguna","keves","2020-10-01","Martin Karaščák",0,"x","x","x","x"]
[{"$error":"#N/A"},null,{"$f":"IFERROR(VLOOKUP(B423,List1!$A:$B,2,0),\"x\")","v":"x"},null,null,null,null,null,null,{"$f":"CONCATENATE(VLOOKUP(E423,[1]Seznamy!$Q$2:$R$36,2,0),VLOOKUP(F423,[1]Produkty!$I:$O,7,0),C423,D423)","v":{"$error":"#N/A"}},null,"CZ","Nábytkár","DTDD DUB COMMERCIAL A/B DEC 2800/2070/19","Nábytkár_DTDD DUB COMMERCIAL A/B DEC 2800/2070/19",0,null,"SK","TWD","StrongBox H86/500mm bílý","TWD_StrongBox H86/500mm bílý",0,null,null,null,null,null,null,null,null,null,null,null,null,null,null,null,null,null,null,null,null,null,null,null,null,null,null,null,null,null,null,"'HU_2020-10'!$A:$H","$A:$H","13128HU44105","DTDD Dub evr. radiál st A/B 2800/2070/19","Kamex-Laguna","keves","2020-10-01","Martin Karaščák",0,"x","x","x","x"]
[{"$error":"#N/A"},null,{"$f":"IFERROR(VLOOKUP(B424,List1!$A:$B,2,0),\"x\")","v":"x"},null,null,null,null,null,null,{"$f":"CONCATENATE(VLOOKUP(E424,[1]Seznamy!$Q$2:$R$36,2,0),VLOOKUP(F424,[1]Produkty!$I:$O,7,0),C424,D424)","v":{"$error":"#N/A"}},null,"CZ","Nábytkár","DTDD Dub evr. radiál st A/B 2800/2070/19","Nábytkár_DTDD Dub evr. radiál st A/B 2800/2070/19",0,null,"SK","TWD","StrongMax 89/500 mm šedý (antracit)","TWD_StrongMax 89/500 mm šedý (antracit)",0,null,null,null,null,null,null,null,null,null,null,null,null,null,null,null,null,null,null,null,null,null,null,null,null,null,null,null,null,null,null,"'HU_2020-10'!$A:$H","$A:$H","13129HU44105","ABSB HU10113 Bílá 101/110/113/8100/8685/W954/B3822 PE 22/2","Kamex-Laguna","keves","2020-10-01","Martin Karaščák",0,"x","x","x","x"]
[{"$error":"#N/A"},null,{"$f":"IFERROR(VLOOKUP(B425,List1!$A:$B,2,0),\"x\")","v":"x"},null,null,null,null,null,null,{"$f":"CONCATENATE(VLOOKUP(E425,[1]Seznamy!$Q$2:$R$36,2,0),VLOOKUP(F425,[1]Produkty!$I:$O,7,0),C425,D425)","v":{"$error":"#N/A"}},null,"CZ","Nábytkár","DTDL W980 ST2 Platinově bílá 2800/2070/18","Nábytkár_DTDL W980 ST2 Platinově bílá 2800/2070/18",0,null,"SK","TWD","StrongRide synchro 3D celovýsuv 500 mm s tlumením","TWD_StrongRide synchro 3D celovýsuv 500 mm s tlumením",0,null,null,null,null,null,null,null,null,null,null,null,null,null,null,null,null,null,null,null,null,null,null,null,null,null,null,null,null,null,null,"'HU_2020-10'!$A:$H","$A:$H","13130HU44105","ABSB 77039/414 W980/500/W954 ST2 23/2","Kamex-Laguna","keves","2020-10-01","Martin Karaščák",0,"x","x","x","x"]
[{"$error":"#N/A"},null,{"$f":"IFERROR(VLOOKUP(B426,List1!$A:$B,2,0),\"x\")","v":"x"},null,null,null,null,null,null,{"$f":"CONCATENATE(VLOOKUP(E426,[1]Seznamy!$Q$2:$R$36,2,0),VLOOKUP(F426,[1]Produkty!$I:$O,7,0),C426,D426)","v":{"$error":"#N/A"}},null,"CZ","Nábytkár","FRANKE Dřez ETN 610 455 x 435","Nábytkár_FRANKE Dřez ETN 610 455 x 435",0,null,"SK","TWD","TULIP Gola dvířkový J profil 4,1m eloxovaný hliník","TWD_TULIP Gola dvířkový J profil 4,1m eloxovaný hliník",0,null,null,null,null,null,null,null,null,null,null,null,null,null,null,null,null,null,null,null,null,null,null,null,null,null,null,null,null,null,null,"'HU_2020-10'!$A:$H","$A:$H","13131HU44105","HDF LAK 101 BÍLÁ PE 2800/2070/3","Kamex-Laguna","keves","2020-10-01","Martin Karaščák",0,"x","x","x","x"]
[{"$error":"#N/A"},null,{"$f":"IFERROR(VLOOKUP(B427,List1!$A:$B,2,0),\"x\")","v":"x"},null,null,null,null,null,null,{"$f":"CONCATENATE(VLOOKUP(E427,[1]Seznamy!$Q$2:$R$36,2,0),VLOOKUP(F427,[1]Produkty!$I:$O,7,0),C427,D427)","v":{"$error":"#N/A"}},null,"CZ","Nábytkár","GOLLINUCCI Sorter 580 Plus Line, 600 mm, výška 505mm, 80 l, šedý","Nábytkár_GOLLINUCCI Sorter 580 Plus Line, 600 mm, výška 505mm, 80 l, šedý",0,null,"SK","TWD","TULIP Úchytka Lucata 160 černá matná","TWD_TULIP Úchytka Lucata 160 černá matná",0,null,null,null,null,null,null,null,null,null,null,null,null,null,null,null,null,null,null,null,null,null,null,null,null,null,null,null,null,null,null,"'HU_2020-10'!$A:$H","$A:$H","1033HU44105","StrongBox H86/500mm bílý","Lunit","keves","2020-10-01","Martin Zniszczol",7.2608588799999998,"x","x","x","x"]
[{"$error":"#N/A"},null,{"$f":"IFERROR(VLOOKUP(B428,List1!$A:$B,2,0),\"x\")","v":"x"},null,null,null,null,null,null,{"$f":"CONCATENATE(VLOOKUP(E428,[1]Seznamy!$Q$2:$R$36,2,0),VLOOKUP(F428,[1]Produkty!$I:$O,7,0),C428,D428)","v":{"$error":"#N/A"}},null,"CZ","Nábytkár","HDF LAK 101 BÍLÁ PE 2800/2070/3","Nábytkár_HDF LAK 101 BÍLÁ PE 2800/2070/3",0,null,"SK","TWD","TULIP úchytka Nakana 128 chrom matný + šroubky","TWD_TULIP úchytka Nakana 128 chrom matný + šroubky",0,null,null,null,null,null,null,null,null,null,null,null,null,null,null,null,null,null,null,null,null,null,null,null,null,null,null,null,null,null,null,"'HU_2020-10'!$A:$H","$A:$H","1035HU44105","StrongRide synchro 3D celovýsuv 500 mm s tlumením","Lunit","keves","2020-10-01","Martin Zniszczol",5.45270528,"x","x","x","x"]
[{"$error":"#N/A"},null,{"$f":"IFERROR(VLOOKUP(B429,List1!$A:$B,2,0),\"x\")","v":"x"},null,null,null,null,null,null,{"$f":"CONCATENATE(VLOOKUP(E429,[1]Seznamy!$Q$2:$R$36,2,0),VLOOKUP(F429,[1]Produkty!$I:$O,7,0),C429,D429)","v":{"$error":"#N/A"}},null,"CZ","Nábytkár","TULIP Gola dvířkový J profil 4,1m eloxovaný hliník","Nábytkár_TULIP Gola dvířkový J profil 4,1m eloxovaný hliník",0,null,"SK","TWD","TULIP úchytka Piombina 96 nikl matný + šroubky","TWD_TULIP úchytka Piombina 96 nikl matný + šroubky",0,null,null,null,null,null,null,null,null,null,null,null,null,null,null,null,null,null,null,null,null,null,null,null,null,null,null,null,null,null,null,"'HU_2020-10'!$A:$H","$A:$H","1039HU44105","BBP OA Zásuvka 515 mm kovová černá","Lunit","keves","2020-10-01","Lukáš Sládek",4.79256509952,"x","x","x","x"]
[{"$error":"#N/A"},null,{"$f":"IFERROR(VLOOKUP(B430,List1!$A:$B,2,0),\"x\")","v":"x"},null,null,null,null,null,null,{"$f":"CONCATENATE(VLOOKUP(E430,[1]Seznamy!$Q$2:$R$36,2,0),VLOOKUP(F430,[1]Produkty!$I:$O,7,0),C430,D430)","v":{"$error":"#N/A"}},null,"CZ","Nábytkár","TULIP úchytka Anita 96 nikl matný + šroubky","Nábytkár_TULIP úchytka Anita 96 nikl matný + šroubky",0,null,"SK","TWD","TULIP Úchytka Ramara 596 imitace nerezi","TWD_TULIP Úchytka Ramara 596 imitace nerezi",0,null,null,null,null,null,null,null,null,null,null,null,null,null,null,null,null,null,null,null,null,null,null,null,null,null,null,null,null,null,null,"'HU_2020-10'!$A:$H","$A:$H","10318HU44105","TULIP úchytka Anita 96 nikl matný + šroubky","Lunit","keves","2020-10-01","Lenka Kormaník",0.26821974784000002,"x","x","x","x"]
[{"$error":"#N/A"},null,{"$f":"IFERROR(VLOOKUP(B431,List1!$A:$B,2,0),\"x\")","v":"x"},null,null,null,null,null,null,{"$f":"CONCATENATE(VLOOKUP(E431,[1]Seznamy!$Q$2:$R$36,2,0),VLOOKUP(F431,[1]Produkty!$I:$O,7,0),C431,D431)","v":{"$error":"#N/A"}},null,"CZ","Nábytkár","TULIP úchytka Nakana 128 chrom matný + šroubky","Nábytkár_TULIP úchytka Nakana 128 chrom matný + šroubky",0,null,"SK","TWD","TULIP věšák Lugo XL chrom matný + šroubky","TWD_TULIP věšák Lugo XL chrom matný + šroubky",0,null,null,null,null,null,null,null,null,null,null,null,null,null,null,null,null,null,null,null,null,null,null,null,null,null,null,null,null,null,null,"'HU_2020-10'!$A:$H","$A:$H","10322HU44105","STRONG LED pásek 21,6W/m 24V bílá neutrální 210 LED/m","Lunit","keves","2020-10-01","Stančo Denčev",3.31660032,"x","x","x","x"]
[{"$error":"#N/A"},null,{"$f":"IFERROR(VLOOKUP(B432,List1!$A:$B,2,0),\"x\")","v":"x"},null,null,null,null,null,null,{"$f":"CONCATENATE(VLOOKUP(E432,[1]Seznamy!$Q$2:$R$36,2,0),VLOOKUP(F432,[1]Produkty!$I:$O,7,0),C432,D432)","v":{"$error":"#N/A"}},null,"CZ","Nábytkár","TULIP úchytka Piombina 96 nikl matný + šroubky","Nábytkár_TULIP úchytka Piombina 96 nikl matný + šroubky",0,null,"SK","TWD","Vrut PZ 4x18 zápustná hlava zinek bílý PZ2","TWD_Vrut PZ 4x18 zápustná hlava zinek bílý PZ2",0,null,null,null,null,null,null,null,null,null,null,null,null,null,null,null,null,null,null,null,null,null,null,null,null,null,null,null,null,null,null,"'HU_2020-10'!$A:$H","$A:$H","10323HU44105","STRONG transformátor plochý LED 24V 100W","Lunit","keves","2020-10-01","Stančo Denčev",16.423951976959998,"x","x","x","x"]
[{"$error":"#N/A"},null,{"$f":"IFERROR(VLOOKUP(B433,List1!$A:$B,2,0),\"x\")","v":"x"},null,null,null,null,null,null,{"$f":"CONCATENATE(VLOOKUP(E433,[1]Seznamy!$Q$2:$R$36,2,0),VLOOKUP(F433,[1]Produkty!$I:$O,7,0),C433,D433)","v":{"$error":"#N/A"}},null,"CZ","Nábytkár","Vrut PZ 4x18 zápustná hlava zinek bílý PZ2","Nábytkár_Vrut PZ 4x18 zápustná hlava zinek bílý PZ2",0,null,"SK","Jaf Holz","Konfirmát 7/50 zinek bílý bulk","Jaf Holz_Konfirmát 7/50 zinek bílý bulk",0,null,null,null,null,null,null,null,null,null,null,null,null,null,null,null,null,null,null,null,null,null,null,null,null,null,null,null,null,null,null,"'HU_2020-10'!$A:$H","$A:$H","10324HU44105","Vrut PZ 4x18 zápustná hlava zinek bílý PZ2","Lunit","keves","2020-10-01","Stančo Denčev",2.2612198399999998E-3,"x","x","x","x"]
[{"$error":"#N/A"},null,{"$f":"IFERROR(VLOOKUP(B434,List1!$A:$B,2,0),\"x\")","v":"x"},null,null,null,null,null,null,{"$f":"CONCATENATE(VLOOKUP(E434,[1]Seznamy!$Q$2:$R$36,2,0),VLOOKUP(F434,[1]Produkty!$I:$O,7,0),C434,D434)","v":{"$error":"#N/A"}},null,"CZ","Schachermayer","FRANKE Dřez BFG 611-78 780 x 500 onyx","Schachermayer_FRANKE Dřez BFG 611-78 780 x 500 onyx","https://webshop.schachermayer.com/cat/cs-CZ/product/franke-vestavny-drez-bfg-611-78-78-x-50-cm-fragranit-grafit-cerny/113548059?query=bfg+611",null,"SK",null,null,"_",0,null,null,null,null,null,null,null,null,null,null,null,null,null,null,null,null,null,null,null,null,null,null,null,null,null,null,null,null,null,null,"'HU_2020-10'!$A:$H","$A:$H","10326HU44105","DTDL W980 ST2 Platinově bílá 2800/2070/18","Lunit","keves","2020-10-01","Martin Karaščák",0,"x","x","x","x"]
[{"$error":"#N/A"},null,{"$f":"IFERROR(VLOOKUP(B435,List1!$A:$B,2,0),\"x\")","v":"x"},null,null,null,null,null,null,{"$f":"CONCATENATE(VLOOKUP(E435,[1]Seznamy!$Q$2:$R$36,2,0),VLOOKUP(F435,[1]Produkty!$I:$O,7,0),C435,D435)","v":{"$error":"#N/A"}},null,"CZ","Schachermayer","FRANKE Dřez ETN 610 455 x 435","Schachermayer_FRANKE Dřez ETN 610 455 x 435","https://webshop.schachermayer.com/cat/cs-CZ/product/franke-vestavny-drez-etn-610-45-5-x-43-5-cm-nerez-18-10/113548066?query=etn+610",null,"SK",null,null,"_",0,null,null,null,null,null,null,null,null,null,null,null,null,null,null,null,null,null,null,null,null,null,null,null,null,null,null,null,null,null,null,"'HU_2020-10'!$A:$H","$A:$H","10327HU44105","DTDD DUB COMMERCIAL A/B DEC 2800/2070/19","Lunit","keves","2020-10-01","Martin Karaščák",0,"x","x","x","x"]
[{"$error":"#N/A"},null,{"$f":"IFERROR(VLOOKUP(B436,List1!$A:$B,2,0),\"x\")","v":"x"},null,null,null,null,null,null,{"$f":"CONCATENATE(VLOOKUP(E436,[1]Seznamy!$Q$2:$R$36,2,0),VLOOKUP(F436,[1]Produkty!$I:$O,7,0),C436,D436)","v":{"$error":"#N/A"}},null,"CZ","Schachermayer","FRANKE Dřez ETN 614 6/4 obyčejný ventil bez otvoru","Schachermayer_FRANKE Dřez ETN 614 6/4 obyčejný ventil bez otvoru","https://webshop.schachermayer.com/cat/cs-CZ/product/franke-vestavny-drez-etn-614-3-1-2-78-x-43-5-cm-nerez-18-10/113500803?query=etn+614",null,"SK",null,null,"_",0,null,null,null,null,null,null,null,null,null,null,null,null,null,null,null,null,null,null,null,null,null,null,null,null,null,null,null,null,null,null,"'HU_2020-10'!$A:$H","$A:$H","10328HU44105","DTDD Dub evr. radiál st A/B 2800/2070/19","Lunit","keves","2020-10-01","Martin Karaščák",0,"x","x","x","x"]
[{"$error":"#N/A"},null,{"$f":"IFERROR(VLOOKUP(B437,List1!$A:$B,2,0),\"x\")","v":"x"},null,null,null,null,null,null,{"$f":"CONCATENATE(VLOOKUP(E437,[1]Seznamy!$Q$2:$R$36,2,0),VLOOKUP(F437,[1]Produkty!$I:$O,7,0),C437,D437)","v":{"$error":"#N/A"}},null,"CZ","Schachermayer","STRONG závěs naložený, slide on","Schachermayer_STRONG závěs naložený, slide on","https://webshop.schachermayer.com/cat/cs-CZ/product/miskovy-zaves-nalozeny-105-vc-montazni-podlozky-na-vrut-100-ks/103337436",null,"SK",null,null,"_",0,null,null,null,null,null,null,null,null,null,null,null,null,null,null,null,null,null,null,null,null,null,null,null,null,null,null,null,null,null,null,"'HU_2020-10'!$A:$H","$A:$H","10330HU44105","ABSB 77039/414 W980/500/W954 ST2 23/2","Lunit","keves","2020-10-01","Martin Karaščák",0,"x","x","x","x"]
[{"$error":"#N/A"},null,{"$f":"IFERROR(VLOOKUP(B438,List1!$A:$B,2,0),\"x\")","v":"x"},null,null,null,null,null,null,{"$f":"CONCATENATE(VLOOKUP(E438,[1]Seznamy!$Q$2:$R$36,2,0),VLOOKUP(F438,[1]Produkty!$I:$O,7,0),C438,D438)","v":{"$error":"#N/A"}},null,"CZ","Schachermayer","STRONG plus závěs naložený s tlumením, s excentrem, klipový","Schachermayer_STRONG plus závěs naložený s tlumením, s excentrem, klipový","https://webshop.schachermayer.com/cat/cs-CZ/product/miskovy-zaves-s-tlumenim-nalozeny-110-klipova-montaz-podlozka-excentr-vrut/103332951",null,"SK",null,null,"_",0,null,null,null,null,null,null,null,null,null,null,null,null,null,null,null,null,null,null,null,null,null,null,null,null,null,null,null,null,null,null,"'HU_2020-10'!$A:$H","$A:$H","10331HU44105","HDF LAK 101 BÍLÁ PE 2800/2070/3","Lunit","keves","2020-10-01","Martin Karaščák",0,"x","x","x","x"]
[{"$error":"#N/A"},null,{"$f":"IFERROR(VLOOKUP(B439,List1!$A:$B,2,0),\"x\")","v":"x"},null,null,null,null,null,null,{"$f":"CONCATENATE(VLOOKUP(E439,[1]Seznamy!$Q$2:$R$36,2,0),VLOOKUP(F439,[1]Produkty!$I:$O,7,0),C439,D439)","v":{"$error":"#N/A"}},null,"CZ","Schachermayer","STRONG Elektricky stavitelná podnož černá RAL 9005 mat","Schachermayer_STRONG Elektricky stavitelná podnož černá RAL 9005 mat","https://webshop.schachermayer.com/cat/cs-CZ/product/podnoz-expander-elektricky-stavitelna-vyska-680-1180mm-cerna-ral-9005/103327043",null,"SK",null,null,"_",0,null,null,null,null,null,null,null,null,null,null,null,null,null,null,null,null,null,null,null,null,null,null,null,null,null,null,null,null,null,null,"'HU_2020-10'!$A:$H","$A:$H","1083HU44105","StrongBox H86/500mm bílý","Schachermayer","keves","2020-10-01","Martin Zniszczol",7.2608588799999998,"x","x","x","x"]
[{"$error":"#N/A"},null,{"$f":"IFERROR(VLOOKUP(B440,List1!$A:$B,2,0),\"x\")","v":"x"},null,null,null,null,null,null,{"$f":"CONCATENATE(VLOOKUP(E440,[1]Seznamy!$Q$2:$R$36,2,0),VLOOKUP(F440,[1]Produkty!$I:$O,7,0),C440,D440)","v":{"$error":"#N/A"}},null,"CZ","Schachermayer","Vrut PZ 4x18 zápustná hlava zinek bílý PZ2","Schachermayer_Vrut PZ 4x18 zápustná hlava zinek bílý PZ2","https://webshop.schachermayer.com/cat/cs-CZ/product/spax-zap-hlava-3-5x-18-plny-zavit-pozidriv-2-wirox-stribrna-s-certifikatem/104404790?query=vrut",null,"SK",null,null,"_",0,null,null,null,null,null,null,null,null,null,null,null,null,null,null,null,null,null,null,null,null,null,null,null,null,null,null,null,null,null,null,"'HU_2020-10'!$A:$H","$A:$H","1084HU44105","StrongMax 89/500 mm šedý (antracit)","Schachermayer","keves","2020-10-01","Martin Zniszczol",9.5790182399999999,"x","x","x","x"]
[{"$error":"#N/A"},null,{"$f":"IFERROR(VLOOKUP(B441,List1!$A:$B,2,0),\"x\")","v":"x"},null,null,null,null,null,null,{"$f":"CONCATENATE(VLOOKUP(E441,[1]Seznamy!$Q$2:$R$36,2,0),VLOOKUP(F441,[1]Produkty!$I:$O,7,0),C441,D441)","v":{"$error":"#N/A"}},null,"CZ","Schachermayer","Konfirmát 7/50 zinek bílý bulk","Schachermayer_Konfirmát 7/50 zinek bílý bulk","https://webshop.schachermayer.com/cat/cs-CZ/product/spojovaci-sroub-konfirmat-delka-50mm-oe-7mm-inbus-4-ocel-pozink-cerny/103337082?query=konfirm%C3%A1t",null,"SK",null,null,"_",0,null,null,null,null,null,null,null,null,null,null,null,null,null,null,null,null,null,null,null,null,null,null,null,null,null,null,null,null,null,null,"'HU_2020-10'!$A:$H","$A:$H","1085HU44105","StrongRide synchro 3D celovýsuv 500 mm s tlumením","Schachermayer","keves","2020-10-01","Martin Zniszczol",5.45270528,"x","x","x","x"]
[{"$error":"#N/A"},null,{"$f":"IFERROR(VLOOKUP(B442,List1!$A:$B,2,0),\"x\")","v":"x"},null,null,null,null,null,null,{"$f":"CONCATENATE(VLOOKUP(E442,[1]Seznamy!$Q$2:$R$36,2,0),VLOOKUP(F442,[1]Produkty!$I:$O,7,0),C442,D442)","v":{"$error":"#N/A"}},null,"CZ","Schachermayer","TULIP úchytka Nakana 128 chrom matný + šroubky","Schachermayer_TULIP úchytka Nakana 128 chrom matný + šroubky","https://webshop.schachermayer.com/cat/cs-CZ/product/uchytka-eudore-roztec-128-mm-s-152-mm-kartac-nerez/103301317?query=%C3%BAchytka",null,"SK",null,null,"_",0,null,null,null,null,null,null,null,null,null,null,null,null,null,null,null,null,null,null,null,null,null,null,null,null,null,null,null,null,null,null,"'HU_2020-10'!$A:$H","$A:$H","1088HU44105","STRONG Elektrická zásuvka 3x230V, francouzský typ, 265x130x68 mm stříbrná","Schachermayer","keves","2020-10-01","Lukáš Sládek",13.197135959039999,"x","x","x","x"]
[{"$error":"#N/A"},null,{"$f":"IFERROR(VLOOKUP(B443,List1!$A:$B,2,0),\"x\")","v":"x"},null,null,null,null,null,null,{"$f":"CONCATENATE(VLOOKUP(E443,[1]Seznamy!$Q$2:$R$36,2,0),VLOOKUP(F443,[1]Produkty!$I:$O,7,0),C443,D443)","v":{"$error":"#N/A"}},null,"CZ","Schachermayer","TULIP Úchytka Ramara 596 imitace nerezi","Schachermayer_TULIP Úchytka Ramara 596 imitace nerezi","https://webshop.schachermayer.com/cat/cs-CZ/product/uchytkova-lista-trim-sirka-595-mm-hlinik-nerez-efekt/103300719?query=%C3%BAchytka",null,"SK",null,null,"_",0,null,null,null,null,null,null,null,null,null,null,null,null,null,null,null,null,null,null,null,null,null,null,null,null,null,null,null,null,null,null,"'HU_2020-10'!$A:$H","$A:$H","1089HU44105","BBP OA Zásuvka 515 mm kovová černá","Schachermayer","keves","2020-10-01","Lukáš Sládek",4.79256509952,"x","x","x","x"]
[{"$error":"#N/A"},null,{"$f":"IFERROR(VLOOKUP(B444,List1!$A:$B,2,0),\"x\")","v":"x"},null,null,null,null,null,null,{"$f":"CONCATENATE(VLOOKUP(E444,[1]Seznamy!$Q$2:$R$36,2,0),VLOOKUP(F444,[1]Produkty!$I:$O,7,0),C444,D444)","v":{"$error":"#N/A"}},null,"CZ","Schachermayer","Alfa II profile 222788","Schachermayer_Alfa II profile 222788",0,null,"SK",null,null,"_",0,null,null,null,null,null,null,null,null,null,null,null,null,null,null,null,null,null,null,null,null,null,null,null,null,null,null,null,null,null,null,"'HU_2020-10'!$A:$H","$A:$H","10810HU44105","FRANKE Dřez ETN 614 6/4 obyčejný ventil bez otvoru","Schachermayer","keves","2020-10-01","Marcela Piechová",20.256896000000001,"x","x","x","x"]
[{"$error":"#N/A"},null,{"$f":"IFERROR(VLOOKUP(B445,List1!$A:$B,2,0),\"x\")","v":"x"},null,null,null,null,null,null,{"$f":"CONCATENATE(VLOOKUP(E445,[1]Seznamy!$Q$2:$R$36,2,0),VLOOKUP(F445,[1]Produkty!$I:$O,7,0),C445,D445)","v":{"$error":"#N/A"}},null,"CZ","Schachermayer","SEVROLL Era úchytová lišta 18mm 2,70m stříbrná","Schachermayer_SEVROLL Era úchytová lišta 18mm 2,70m stříbrná",0,null,"SK",null,null,"_",0,null,null,null,null,null,null,null,null,null,null,null,null,null,null,null,null,null,null,null,null,null,null,null,null,null,null,null,null,null,null,"'HU_2020-10'!$A:$H","$A:$H","10811HU44105","FRANKE Dřez BFG 611-78 780 x 500 onyx","Schachermayer","keves","2020-10-01","Marcela Piechová",98.622796800000003,"x","x","x","x"]
[{"$error":"#N/A"},null,{"$f":"IFERROR(VLOOKUP(B446,List1!$A:$B,2,0),\"x\")","v":"x"},null,null,null,null,null,null,{"$f":"CONCATENATE(VLOOKUP(E446,[1]Seznamy!$Q$2:$R$36,2,0),VLOOKUP(F446,[1]Produkty!$I:$O,7,0),C446,D446)","v":{"$error":"#N/A"}},null,"CZ","Schachermayer","TULIP Gola dvířkový J profil 4,1m eloxovaný hliník","Schachermayer_TULIP Gola dvířkový J profil 4,1m eloxovaný hliník",0,null,"SK",null,null,"_",0,null,null,null,null,null,null,null,null,null,null,null,null,null,null,null,null,null,null,null,null,null,null,null,null,null,null,null,null,null,null,"'HU_2020-10'!$A:$H","$A:$H","10814HU44105","FRANKE Dřez ETN 610 455 x 435","Schachermayer","keves","2020-10-01","Marcela Piechová",22.363855359999999,"x","x","x","x"]
[{"$error":"#N/A"},null,{"$f":"IFERROR(VLOOKUP(B447,List1!$A:$B,2,0),\"x\")","v":"x"},null,null,null,null,null,null,{"$f":"CONCATENATE(VLOOKUP(E447,[1]Seznamy!$Q$2:$R$36,2,0),VLOOKUP(F447,[1]Produkty!$I:$O,7,0),C447,D447)","v":{"$error":"#N/A"}},null,"CZ","Schachermayer","STRONG LED pásek 21,6W/m 24V bílá neutrální 210 LED/m","Schachermayer_STRONG LED pásek 21,6W/m 24V bílá neutrální 210 LED/m",0,null,"SK",null,null,"_",0,null,null,null,null,null,null,null,null,null,null,null,null,null,null,null,null,null,null,null,null,null,null,null,null,null,null,null,null,null,null,"'HU_2020-10'!$A:$H","$A:$H","10817HU44105","TULIP úchytka Piombina 96 nikl matný + šroubky","Schachermayer","keves","2020-10-01","Lenka Kormaník",0.42360876799999997,"x","x","x","x"]
[{"$error":"#N/A"},null,{"$f":"IFERROR(VLOOKUP(B448,List1!$A:$B,2,0),\"x\")","v":"x"},null,null,null,null,null,null,{"$f":"CONCATENATE(VLOOKUP(E448,[1]Seznamy!$Q$2:$R$36,2,0),VLOOKUP(F448,[1]Produkty!$I:$O,7,0),C448,D448)","v":{"$error":"#N/A"}},null,"CZ","Schachermayer","STRONG transformátor plochý LED 24V 100W","Schachermayer_STRONG transformátor plochý LED 24V 100W",0,null,"SK",null,null,"_",0,null,null,null,null,null,null,null,null,null,null,null,null,null,null,null,null,null,null,null,null,null,null,null,null,null,null,null,null,null,null,"'HU_2020-10'!$A:$H","$A:$H","10821HU44105","TULIP Úchytka Lucata 160 černá matná","Schachermayer","keves","2020-10-01","Lenka Kormaník",0.78860125696000005,"x","x","x","x"]
[{"$error":"#N/A"},null,{"$f":"IFERROR(VLOOKUP(B449,List1!$A:$B,2,0),\"x\")","v":"x"},null,null,null,null,null,null,{"$f":"CONCATENATE(VLOOKUP(E449,[1]Seznamy!$Q$2:$R$36,2,0),VLOOKUP(F449,[1]Produkty!$I:$O,7,0),C449,D449)","v":{"$error":"#N/A"}},null,"CZ","Schachermayer","ABSB 77039/414 W980/500/W954 ST2 23/2","Schachermayer_ABSB 77039/414 W980/500/W954 ST2 23/2",0,null,"SK",null,null,"_",0,null,null,null,null,null,null,null,null,null,null,null,null,null,null,null,null,null,null,null,null,null,null,null,null,null,null,null,null,null,null,"'HU_2020-10'!$A:$H","$A:$H","10826HU44105","DTDL W980 ST2 Platinově bílá 2800/2070/18","Schachermayer","keves","2020-10-01","Martin Karaščák",0,"x","x","x","x"]
[{"$error":"#N/A"},null,{"$f":"IFERROR(VLOOKUP(B450,List1!$A:$B,2,0),\"x\")","v":"x"},null,null,null,null,null,null,{"$f":"CONCATENATE(VLOOKUP(E450,[1]Seznamy!$Q$2:$R$36,2,0),VLOOKUP(F450,[1]Produkty!$I:$O,7,0),C450,D450)","v":{"$error":"#N/A"}},null,"CZ","Schachermayer","ABSB HU10113 Bílá 101/110/113/8100/8685/W954/B3822 PE 22/2","Schachermayer_ABSB HU10113 Bílá 101/110/113/8100/8685/W954/B3822 PE 22/2",0,null,"SK",null,null,"_",0,null,null,null,null,null,null,null,null,null,null,null,null,null,null,null,null,null,null,null,null,null,null,null,null,null,null,null,null,null,null,"'HU_2020-10'!$A:$H","$A:$H","10827HU44105","DTDD DUB COMMERCIAL A/B DEC 2800/2070/19","Schachermayer","keves","2020-10-01","Martin Karaščák",0,"x","x","x","x"]
[{"$error":"#N/A"},null,{"$f":"IFERROR(VLOOKUP(B451,List1!$A:$B,2,0),\"x\")","v":"x"},null,null,null,null,null,null,{"$f":"CONCATENATE(VLOOKUP(E451,[1]Seznamy!$Q$2:$R$36,2,0),VLOOKUP(F451,[1]Produkty!$I:$O,7,0),C451,D451)","v":{"$error":"#N/A"}},null,"CZ","Schachermayer","BBP OA Zásuvka 515 mm kovová černá","Schachermayer_BBP OA Zásuvka 515 mm kovová černá",0,null,"SK",null,null,"_",0,null,null,null,null,null,null,null,null,null,null,null,null,null,null,null,null,null,null,null,null,null,null,null,null,null,null,null,null,null,null,"'HU_2020-10'!$A:$H","$A:$H","10828HU44105","DTDD Dub evr. radiál st A/B 2800/2070/19","Schachermayer","keves","2020-10-01","Martin Karaščák",0,"x","x","x","x"]
[{"$error":"#N/A"},null,{"$f":"IFERROR(VLOOKUP(B452,List1!$A:$B,2,0),\"x\")","v":"x"},null,null,null,null,null,null,{"$f":"CONCATENATE(VLOOKUP(E452,[1]Seznamy!$Q$2:$R$36,2,0),VLOOKUP(F452,[1]Produkty!$I:$O,7,0),C452,D452)","v":{"$error":"#N/A"}},null,"CZ","Schachermayer","DTDD DUB COMMERCIAL A/B DEC 2800/2070/19","Schachermayer_DTDD DUB COMMERCIAL A/B DEC 2800/2070/19",0,null,"SK",null,null,"_",0,null,null,null,null,null,null,null,null,null,null,null,null,null,null,null,null,null,null,null,null,null,null,null,null,null,null,null,null,null,null,"'HU_2020-10'!$A:$H","$A:$H","10829HU44105","ABSB HU10113 Bílá 101/110/113/8100/8685/W954/B3822 PE 22/2","Schachermayer","keves","2020-10-01","Martin Karaščák",0,"x","x","x","x"]
[{"$error":"#N/A"},null,{"$f":"IFERROR(VLOOKUP(B453,List1!$A:$B,2,0),\"x\")","v":"x"},null,null,null,null,null,null,{"$f":"CONCATENATE(VLOOKUP(E453,[1]Seznamy!$Q$2:$R$36,2,0),VLOOKUP(F453,[1]Produkty!$I:$O,7,0),C453,D453)","v":{"$error":"#N/A"}},null,"CZ","Schachermayer","DTDD Dub evr. radiál st A/B 2800/2070/19","Schachermayer_DTDD Dub evr. radiál st A/B 2800/2070/19",0,null,"SK",null,null,"_",0,null,null,null,null,null,null,null,null,null,null,null,null,null,null,null,null,null,null,null,null,null,null,null,null,null,null,null,null,null,null,"'HU_2020-10'!$A:$H","$A:$H","10830HU44105","ABSB 77039/414 W980/500/W954 ST2 23/2","Schachermayer","keves","2020-10-01","Martin Karaščák",0,"x","x","x","x"]
[{"$error":"#N/A"},null,{"$f":"IFERROR(VLOOKUP(B454,List1!$A:$B,2,0),\"x\")","v":"x"},null,null,null,null,null,null,{"$f":"CONCATENATE(VLOOKUP(E454,[1]Seznamy!$Q$2:$R$36,2,0),VLOOKUP(F454,[1]Produkty!$I:$O,7,0),C454,D454)","v":{"$error":"#N/A"}},null,"CZ","Schachermayer","DTDL W980 ST2 Platinově bílá 2800/2070/18","Schachermayer_DTDL W980 ST2 Platinově bílá 2800/2070/18",0,null,"SK",null,null,"_",0,null,null,null,null,null,null,null,null,null,null,null,null,null,null,null,null,null,null,null,null,null,null,null,null,null,null,null,null,null,null,"'HU_2020-10'!$A:$H","$A:$H","10831HU44105","HDF LAK 101 BÍLÁ PE 2800/2070/3","Schachermayer","keves","2020-10-01","Martin Karaščák",0,"x","x","x","x"]
[{"$error":"#N/A"},null,{"$f":"IFERROR(VLOOKUP(B455,List1!$A:$B,2,0),\"x\")","v":"x"},null,null,null,null,null,null,{"$f":"CONCATENATE(VLOOKUP(E455,[1]Seznamy!$Q$2:$R$36,2,0),VLOOKUP(F455,[1]Produkty!$I:$O,7,0),C455,D455)","v":{"$error":"#N/A"}},null,"CZ","Schachermayer","GOLLINUCCI Sorter 580 Plus Line, 600 mm, výška 505mm, 80 l, šedý","Schachermayer_GOLLINUCCI Sorter 580 Plus Line, 600 mm, výška 505mm, 80 l, šedý",0,null,"SK",null,null,"_",0,null,null,null,null,null,null,null,null,null,null,null,null,null,null,null,null,null,null,null,null,null,null,null,null,null,null,null,null,null,null,"'PL_2020-10'!$A:$H","$A:$H","10132PL44105","Alfa II profile 222788","_Demos","pastuszak","2020-10-01","NULL",4.8045342576000003,"x","x","x","x"]
[{"$error":"#N/A"},null,{"$f":"IFERROR(VLOOKUP(B456,List1!$A:$B,2,0),\"x\")","v":"x"},null,null,null,null,null,null,{"$f":"CONCATENATE(VLOOKUP(E456,[1]Seznamy!$Q$2:$R$36,2,0),VLOOKUP(F456,[1]Produkty!$I:$O,7,0),C456,D456)","v":{"$error":"#N/A"}},null,"CZ","Schachermayer","GOLLINUCCI Sorter Linea 222, 300 mm","Schachermayer_GOLLINUCCI Sorter Linea 222, 300 mm",0,null,"SK",null,null,"_",0,null,null,null,null,null,null,null,null,null,null,null,null,null,null,null,null,null,null,null,null,null,null,null,null,null,null,null,null,null,null,"'PL_2020-10'!$A:$H","$A:$H","10133PL44105","SEVROLL Era úchytová lišta 18mm 2,70m stříbrná","_Demos","pastuszak","2020-10-01","NULL",2.27634E-3,"x","x","x","x"]
[{"$f":"TEXT(J457,1)","v":{"$error":"#N/A"}},null,{"$f":"IFERROR(VLOOKUP(B457,List1!$A:$B,2,0),\"x\")","v":"x"},null,null,null,null,null,null,{"$f":"CONCATENATE(VLOOKUP(E457,[1]Seznamy!$Q$2:$R$36,2,0),VLOOKUP(F457,[1]Produkty!$I:$O,7,0),C457,D457)","v":{"$error":"#N/A"}},null,"CZ","Schachermayer","GOLLINUCCI Sorter Sistema 901/2x16 l, 600 mm","Schachermayer_GOLLINUCCI Sorter Sistema 901/2x16 l, 600 mm",0,null,"SK",null,null,"_",0,null,null,null,null,null,null,null,null,null,null,null,null,null,null,null,null,null,null,null,null,null,null,null,null,null,null,null,null,null,null,"'PL_2020-10'!$A:$H","$A:$H","10134PL44105","Strong electric socket, lift","_Demos","pastuszak","2020-10-01","NULL",15.801669378,"x","x","x","x"]
[{"$error":"#N/A"},null,{"$f":"IFERROR(VLOOKUP(B458,List1!$A:$B,2,0),\"x\")","v":"x"},null,null,null,null,null,null,{"$f":"CONCATENATE(VLOOKUP(E458,[1]Seznamy!$Q$2:$R$36,2,0),VLOOKUP(F458,[1]Produkty!$I:$O,7,0),C458,D458)","v":{"$error":"#N/A"}},null,"CZ","Schachermayer","HDF LAK 101 BÍLÁ PE 2800/2070/3","Schachermayer_HDF LAK 101 BÍLÁ PE 2800/2070/3",0,null,"SK",null,null,"_",0,null,null,null,null,null,null,null,null,null,null,null,null,null,null,null,null,null,null,null,null,null,null,null,null,null,null,null,null,null,null,"'PL_2020-10'!$A:$H","$A:$H","10135PL44105","STRONG Elektricky stavitelná podnož černá RAL 9005 mat","_Demos","pastuszak","2020-10-01","NULL",125.09899630800001,"x","x","x","x"]
[{"$error":"#N/A"},null,{"$f":"IFERROR(VLOOKUP(B459,List1!$A:$B,2,0),\"x\")","v":"x"},null,null,null,null,null,null,{"$f":"CONCATENATE(VLOOKUP(E459,[1]Seznamy!$Q$2:$R$36,2,0),VLOOKUP(F459,[1]Produkty!$I:$O,7,0),C459,D459)","v":{"$error":"#N/A"}},null,"CZ","Schachermayer","Strong electric socket, lift","Schachermayer_Strong electric socket, lift",0,null,"SK",null,null,"_",0,null,null,null,null,null,null,null,null,null,null,null,null,null,null,null,null,null,null,null,null,null,null,null,null,null,null,null,null,null,null,"'PL_2020-10'!$A:$H","$A:$H","10136PL44105","TULIP Gola dvířkový J profil 4,1m eloxovaný hliník","_Demos","pastuszak","2020-10-01","NULL",2.27634E-3,"x","x","x","x"]
[{"$error":"#N/A"},null,{"$f":"IFERROR(VLOOKUP(B460,List1!$A:$B,2,0),\"x\")","v":"x"},null,null,null,null,null,null,{"$f":"CONCATENATE(VLOOKUP(E460,[1]Seznamy!$Q$2:$R$36,2,0),VLOOKUP(F460,[1]Produkty!$I:$O,7,0),C460,D460)","v":{"$error":"#N/A"}},null,"CZ","Schachermayer","STRONG Elektrická zásuvka 3x230V, francouzský typ, 265x130x68 mm stříbrná","Schachermayer_STRONG Elektrická zásuvka 3x230V, francouzský typ, 265x130x68 mm stříbrná",0,null,"SK",null,null,"_",0,null,null,null,null,null,null,null,null,null,null,null,null,null,null,null,null,null,null,null,null,null,null,null,null,null,null,null,null,null,null,"'PL_2020-10'!$A:$H","$A:$H","1259PL44105","BBP OA Zásuvka 515 mm kovová černá","Amix","pastuszak","2020-10-01","Lukáš Sládek",5.0717492575200005,"x","x","x","x"]
[{"$error":"#N/A"},null,{"$f":"IFERROR(VLOOKUP(B461,List1!$A:$B,2,0),\"x\")","v":"x"},null,null,null,null,null,null,{"$f":"CONCATENATE(VLOOKUP(E461,[1]Seznamy!$Q$2:$R$36,2,0),VLOOKUP(F461,[1]Produkty!$I:$O,7,0),C461,D461)","v":{"$error":"#N/A"}},null,"CZ","Schachermayer","STRONG Rektifikační nožka 100 mm","Schachermayer_STRONG Rektifikační nožka 100 mm",0,null,"SK",null,null,"_",0,null,null,null,null,null,null,null,null,null,null,null,null,null,null,null,null,null,null,null,null,null,null,null,null,null,null,null,null,null,null,"'PL_2020-10'!$A:$H","$A:$H","12510PL44105","FRANKE Dřez ETN 614 6/4 obyčejný ventil bez otvoru","Amix","pastuszak","2020-10-01","Marcela Piechová",22.854453600000003,"x","x","x","x"]
[{"$error":"#N/A"},null,{"$f":"IFERROR(VLOOKUP(B462,List1!$A:$B,2,0),\"x\")","v":"x"},null,null,null,null,null,null,{"$f":"CONCATENATE(VLOOKUP(E462,[1]Seznamy!$Q$2:$R$36,2,0),VLOOKUP(F462,[1]Produkty!$I:$O,7,0),C462,D462)","v":{"$error":"#N/A"}},null,"CZ","Schachermayer","STRONG Stolová noha centrální 450x450 černá","Schachermayer_STRONG Stolová noha centrální 450x450 černá",0,null,"SK",null,null,"_",0,null,null,null,null,null,null,null,null,null,null,null,null,null,null,null,null,null,null,null,null,null,null,null,null,null,null,null,null,null,null,"'PL_2020-10'!$A:$H","$A:$H","12511PL44105","FRANKE Dřez BFG 611-78 780 x 500 onyx","Amix","pastuszak","2020-10-01","Marcela Piechová",111.2674992,"x","x","x","x"]
[{"$error":"#N/A"},null,{"$f":"IFERROR(VLOOKUP(B463,List1!$A:$B,2,0),\"x\")","v":"x"},null,null,null,null,null,null,{"$f":"CONCATENATE(VLOOKUP(E463,[1]Seznamy!$Q$2:$R$36,2,0),VLOOKUP(F463,[1]Produkty!$I:$O,7,0),C463,D463)","v":{"$error":"#N/A"}},null,"CZ","Schachermayer","StrongBox H86/500mm bílý","Schachermayer_StrongBox H86/500mm bílý",0,null,"SK",null,null,"_",0,null,null,null,null,null,null,null,null,null,null,null,null,null,null,null,null,null,null,null,null,null,null,null,null,null,null,null,null,null,null,"'PL_2020-10'!$A:$H","$A:$H","12513PL44105","GOLLINUCCI Sorter 580 Plus Line, 600 mm, výška 505mm, 80 l, šedý","Amix","pastuszak","2020-10-01","Marcela Piechová",76.735421400000007,"x","x","x","x"]
[{"$error":"#N/A"},null,{"$f":"IFERROR(VLOOKUP(B464,List1!$A:$B,2,0),\"x\")","v":"x"},null,null,null,null,null,null,{"$f":"CONCATENATE(VLOOKUP(E464,[1]Seznamy!$Q$2:$R$36,2,0),VLOOKUP(F464,[1]Produkty!$I:$O,7,0),C464,D464)","v":{"$error":"#N/A"}},null,"CZ","Schachermayer","StrongMax 89/500 mm šedý (antracit)","Schachermayer_StrongMax 89/500 mm šedý (antracit)",0,null,"SK",null,null,"_",0,null,null,null,null,null,null,null,null,null,null,null,null,null,null,null,null,null,null,null,null,null,null,null,null,null,null,null,null,null,null,"'PL_2020-10'!$A:$H","$A:$H","12514PL44105","FRANKE Dřez ETN 610 455 x 435","Amix","pastuszak","2020-10-01","Marcela Piechová",25.228676220000001,"x","x","x","x"]
[{"$error":"#N/A"},null,{"$f":"IFERROR(VLOOKUP(B465,List1!$A:$B,2,0),\"x\")","v":"x"},null,null,null,null,null,null,{"$f":"CONCATENATE(VLOOKUP(E465,[1]Seznamy!$Q$2:$R$36,2,0),VLOOKUP(F465,[1]Produkty!$I:$O,7,0),C465,D465)","v":{"$error":"#N/A"}},null,"CZ","Schachermayer","StrongRide synchro 3D celovýsuv 500 mm s tlumením","Schachermayer_StrongRide synchro 3D celovýsuv 500 mm s tlumením",0,null,"SK",null,null,"_",0,null,null,null,null,null,null,null,null,null,null,null,null,null,null,null,null,null,null,null,null,null,null,null,null,null,null,null,null,null,null,"'PL_2020-10'!$A:$H","$A:$H","12515PL44105","GOLLINUCCI Sorter Linea 222, 300 mm","Amix","pastuszak","2020-10-01","Marcela Piechová",27.866954280000002,"x","x","x","x"]
[{"$error":"#N/A"},null,{"$f":"IFERROR(VLOOKUP(B466,List1!$A:$B,2,0),\"x\")","v":"x"},null,null,null,null,null,null,{"$f":"CONCATENATE(VLOOKUP(E466,[1]Seznamy!$Q$2:$R$36,2,0),VLOOKUP(F466,[1]Produkty!$I:$O,7,0),C466,D466)","v":{"$error":"#N/A"}},null,"CZ","Schachermayer","TULIP úchytka Anita 96 nikl matný + šroubky","Schachermayer_TULIP úchytka Anita 96 nikl matný + šroubky",0,null,"SK",null,null,"_",0,null,null,null,null,null,null,null,null,null,null,null,null,null,null,null,null,null,null,null,null,null,null,null,null,null,null,null,null,null,null,"'PL_2020-10'!$A:$H","$A:$H","12520PL44105","TULIP Úchytka Ramara 596 imitace nerezi","Amix","pastuszak","2020-10-01","Lenka Kormaník",3.63724531632,"x","x","x","x"]
[{"$error":"#N/A"},null,{"$f":"IFERROR(VLOOKUP(B467,List1!$A:$B,2,0),\"x\")","v":"x"},null,null,null,null,null,null,{"$f":"CONCATENATE(VLOOKUP(E467,[1]Seznamy!$Q$2:$R$36,2,0),VLOOKUP(F467,[1]Produkty!$I:$O,7,0),C467,D467)","v":{"$error":"#N/A"}},null,"CZ","Schachermayer","TULIP Úchytka Lucata 160 černá matná","Schachermayer_TULIP Úchytka Lucata 160 černá matná",0,null,"SK",null,null,"_",0,null,null,null,null,null,null,null,null,null,null,null,null,null,null,null,null,null,null,null,null,null,null,null,null,null,null,null,null,null,null,"'PL_2020-10'!$A:$H","$A:$H","12522PL44105","STRONG LED pásek 21,6W/m 24V bílá neutrální 210 LED/m","Amix","pastuszak","2020-10-01","Stančo Denčev",3.2988537172800001,"x","x","x","x"]
[{"$error":"#N/A"},null,{"$f":"IFERROR(VLOOKUP(B468,List1!$A:$B,2,0),\"x\")","v":"x"},null,null,null,null,null,null,{"$f":"CONCATENATE(VLOOKUP(E468,[1]Seznamy!$Q$2:$R$36,2,0),VLOOKUP(F468,[1]Produkty!$I:$O,7,0),C468,D468)","v":{"$error":"#N/A"}},null,"CZ","Schachermayer","TULIP úchytka Piombina 96 nikl matný + šroubky","Schachermayer_TULIP úchytka Piombina 96 nikl matný + šroubky",0,null,"SK",null,null,"_",0,null,null,null,null,null,null,null,null,null,null,null,null,null,null,null,null,null,null,null,null,null,null,null,null,null,null,null,null,null,null,"'PL_2020-10'!$A:$H","$A:$H","12523PL44105","STRONG transformátor plochý LED 24V 100W","Amix","pastuszak","2020-10-01","Stančo Denčev",15.99443667822,"x","x","x","x"]
[{"$error":"#N/A"},null,{"$f":"IFERROR(VLOOKUP(B469,List1!$A:$B,2,0),\"x\")","v":"x"},null,null,null,null,null,null,{"$f":"CONCATENATE(VLOOKUP(E469,[1]Seznamy!$Q$2:$R$36,2,0),VLOOKUP(F469,[1]Produkty!$I:$O,7,0),C469,D469)","v":{"$error":"#N/A"}},null,"CZ","Schachermayer","TULIP věšák Lugo XL chrom matný + šroubky","Schachermayer_TULIP věšák Lugo XL chrom matný + šroubky",0,null,"SK",null,null,"_",0,null,null,null,null,null,null,null,null,null,null,null,null,null,null,null,null,null,null,null,null,null,null,null,null,null,null,null,null,null,null,"'PL_2020-10'!$A:$H","$A:$H","12524PL44105","Vrut PZ 4x18 zápustná hlava zinek bílý PZ2","Amix","pastuszak","2020-10-01","Stančo Denčev",2.03960064E-3,"x","x","x","x"]
[{"$error":"#N/A"},null,{"$f":"IFERROR(VLOOKUP(B470,List1!$A:$B,2,0),\"x\")","v":"x"},null,null,null,null,null,null,{"$f":"CONCATENATE(VLOOKUP(E470,[1]Seznamy!$Q$2:$R$36,2,0),VLOOKUP(F470,[1]Produkty!$I:$O,7,0),C470,D470)","v":{"$error":"#N/A"}},null,"CZ","Sinks","FRANKE Dřez ETN 610 455 x 435","Sinks_FRANKE Dřez ETN 610 455 x 435","https://www.sinks.cz/sinks-compact-435-m-05mm-matny",null,"SK",null,null,"_",0,null,null,null,null,null,null,null,null,null,null,null,null,null,null,null,null,null,null,null,null,null,null,null,null,null,null,null,null,null,null,"'PL_2020-10'!$A:$H","$A:$H","12526PL44105","DTDL W980 ST2 Platinově bílá 2800/2070/18","Amix","pastuszak","2020-10-01","Martin Karaščák",0,"x","x","x","x"]
[{"$error":"#N/A"},null,{"$f":"IFERROR(VLOOKUP(B471,List1!$A:$B,2,0),\"x\")","v":"x"},null,null,null,null,null,null,{"$f":"CONCATENATE(VLOOKUP(E471,[1]Seznamy!$Q$2:$R$36,2,0),VLOOKUP(F471,[1]Produkty!$I:$O,7,0),C471,D471)","v":{"$error":"#N/A"}},null,"CZ","Sinks","FRANKE Dřez ETN 614 6/4 obyčejný ventil bez otvoru","Sinks_FRANKE Dřez ETN 614 6/4 obyčejný ventil bez otvoru","https://www.sinks.cz/sinks-okio-780-v-05mm-lesteny",null,"SK",null,null,"_",0,null,null,null,null,null,null,null,null,null,null,null,null,null,null,null,null,null,null,null,null,null,null,null,null,null,null,null,null,null,null,"'PL_2020-10'!$A:$H","$A:$H","12527PL44105","DTDD DUB COMMERCIAL A/B DEC 2800/2070/19","Amix","pastuszak","2020-10-01","Martin Karaščák",0,"x","x","x","x"]
[{"$error":"#N/A"},null,{"$f":"IFERROR(VLOOKUP(B472,List1!$A:$B,2,0),\"x\")","v":"x"},null,null,null,null,null,null,{"$f":"CONCATENATE(VLOOKUP(E472,[1]Seznamy!$Q$2:$R$36,2,0),VLOOKUP(F472,[1]Produkty!$I:$O,7,0),C472,D472)","v":{"$error":"#N/A"}},null,"CZ","Sinks","GOLLINUCCI Sorter Linea 222, 300 mm","Sinks_GOLLINUCCI Sorter Linea 222, 300 mm","https://www.sinks.cz/sinks-patty-30-1x8l-1x16l",null,"SK",null,null,"_",0,null,null,null,null,null,null,null,null,null,null,null,null,null,null,null,null,null,null,null,null,null,null,null,null,null,null,null,null,null,null,"'PL_2020-10'!$A:$H","$A:$H","12528PL44105","DTDD Dub evr. radiál st A/B 2800/2070/19","Amix","pastuszak","2020-10-01","Martin Karaščák",0,"x","x","x","x"]
[{"$error":"#N/A"},null,{"$f":"IFERROR(VLOOKUP(B473,List1!$A:$B,2,0),\"x\")","v":"x"},null,null,null,null,null,null,{"$f":"CONCATENATE(VLOOKUP(E473,[1]Seznamy!$Q$2:$R$36,2,0),VLOOKUP(F473,[1]Produkty!$I:$O,7,0),C473,D473)","v":{"$error":"#N/A"}},null,"CZ","Sinks","GOLLINUCCI Sorter Sistema 901/2x16 l, 600 mm","Sinks_GOLLINUCCI Sorter Sistema 901/2x16 l, 600 mm","https://www.sinks.cz/sinks-practiko-600-2x15l",null,"SK",null,null,"_",0,null,null,null,null,null,null,null,null,null,null,null,null,null,null,null,null,null,null,null,null,null,null,null,null,null,null,null,null,null,null,"'PL_2020-10'!$A:$H","$A:$H","12529PL44105","ABSB HU10113 Bílá 101/110/113/8100/8685/W954/B3822 PE 22/2","Amix","pastuszak","2020-10-01","Martin Karaščák",0,"x","x","x","x"]
[{"$error":"#N/A"},null,{"$f":"IFERROR(VLOOKUP(B474,List1!$A:$B,2,0),\"x\")","v":"x"},null,null,null,null,null,null,{"$f":"CONCATENATE(VLOOKUP(E474,[1]Seznamy!$Q$2:$R$36,2,0),VLOOKUP(F474,[1]Produkty!$I:$O,7,0),C474,D474)","v":{"$error":"#N/A"}},null,"CZ","Sinks","FRANKE Dřez BFG 611-78 780 x 500 onyx","Sinks_FRANKE Dřez BFG 611-78 780 x 500 onyx","https://www.sinks.cz/sinks-rapid-780-granblack",null,"SK",null,null,"_",0,null,null,null,null,null,null,null,null,null,null,null,null,null,null,null,null,null,null,null,null,null,null,null,null,null,null,null,null,null,null,"'PL_2020-10'!$A:$H","$A:$H","12530PL44105","ABSB 77039/414 W980/500/W954 ST2 23/2","Amix","pastuszak","2020-10-01","Martin Karaščák",0,"x","x","x","x"]
[{"$error":"#N/A"},null,{"$f":"IFERROR(VLOOKUP(B475,List1!$A:$B,2,0),\"x\")","v":"x"},null,null,null,null,null,null,{"$f":"CONCATENATE(VLOOKUP(E475,[1]Seznamy!$Q$2:$R$36,2,0),VLOOKUP(F475,[1]Produkty!$I:$O,7,0),C475,D475)","v":{"$error":"#N/A"}},null,"CZ","Sinks","ABSB 77039/414 W980/500/W954 ST2 23/2","Sinks_ABSB 77039/414 W980/500/W954 ST2 23/2",0,null,"SK",null,null,"_",0,null,null,null,null,null,null,null,null,null,null,null,null,null,null,null,null,null,null,null,null,null,null,null,null,null,null,null,null,null,null,"'PL_2020-10'!$A:$H","$A:$H","12531PL44105","HDF LAK 101 BÍLÁ PE 2800/2070/3","Amix","pastuszak","2020-10-01","Martin Karaščák",0,"x","x","x","x"]
[{"$error":"#N/A"},null,{"$f":"IFERROR(VLOOKUP(B476,List1!$A:$B,2,0),\"x\")","v":"x"},null,null,null,null,null,null,{"$f":"CONCATENATE(VLOOKUP(E476,[1]Seznamy!$Q$2:$R$36,2,0),VLOOKUP(F476,[1]Produkty!$I:$O,7,0),C476,D476)","v":{"$error":"#N/A"}},null,"CZ","Sinks","ABSB HU10113 Bílá 101/110/113/8100/8685/W954/B3822 PE 22/2","Sinks_ABSB HU10113 Bílá 101/110/113/8100/8685/W954/B3822 PE 22/2",0,null,"SK",null,null,"_",0,null,null,null,null,null,null,null,null,null,null,null,null,null,null,null,null,null,null,null,null,null,null,null,null,null,null,null,null,null,null,"'PL_2020-10'!$A:$H","$A:$H","1279PL44105","BBP OA Zásuvka 515 mm kovová černá","Belmeb","pastuszak","2020-10-01","Lukáš Sládek",5.0717492575200005,"x","x","x","x"]
[{"$error":"#N/A"},null,{"$f":"IFERROR(VLOOKUP(B477,List1!$A:$B,2,0),\"x\")","v":"x"},null,null,null,null,null,null,{"$f":"CONCATENATE(VLOOKUP(E477,[1]Seznamy!$Q$2:$R$36,2,0),VLOOKUP(F477,[1]Produkty!$I:$O,7,0),C477,D477)","v":{"$error":"#N/A"}},null,"CZ","Sinks","Alfa II profile 222788","Sinks_Alfa II profile 222788",0,null,"SK",null,null,"_",0,null,null,null,null,null,null,null,null,null,null,null,null,null,null,null,null,null,null,null,null,null,null,null,null,null,null,null,null,null,null,"'PL_2020-10'!$A:$H","$A:$H","12711PL44105","FRANKE Dřez BFG 611-78 780 x 500 onyx","Belmeb","pastuszak","2020-10-01","Marcela Piechová",111.2674992,"x","x","x","x"]
[{"$error":"#N/A"},null,{"$f":"IFERROR(VLOOKUP(B478,List1!$A:$B,2,0),\"x\")","v":"x"},null,null,null,null,null,null,{"$f":"CONCATENATE(VLOOKUP(E478,[1]Seznamy!$Q$2:$R$36,2,0),VLOOKUP(F478,[1]Produkty!$I:$O,7,0),C478,D478)","v":{"$error":"#N/A"}},null,"CZ","Sinks","BBP OA Zásuvka 515 mm kovová černá","Sinks_BBP OA Zásuvka 515 mm kovová černá",0,null,"SK",null,null,"_",0,null,null,null,null,null,null,null,null,null,null,null,null,null,null,null,null,null,null,null,null,null,null,null,null,null,null,null,null,null,null,"'PL_2020-10'!$A:$H","$A:$H","12714PL44105","FRANKE Dřez ETN 610 455 x 435","Belmeb","pastuszak","2020-10-01","Marcela Piechová",25.228676220000001,"x","x","x","x"]
[{"$error":"#N/A"},null,{"$f":"IFERROR(VLOOKUP(B479,List1!$A:$B,2,0),\"x\")","v":"x"},null,null,null,null,null,null,{"$f":"CONCATENATE(VLOOKUP(E479,[1]Seznamy!$Q$2:$R$36,2,0),VLOOKUP(F479,[1]Produkty!$I:$O,7,0),C479,D479)","v":{"$error":"#N/A"}},null,"CZ","Sinks","DTDD DUB COMMERCIAL A/B DEC 2800/2070/19","Sinks_DTDD DUB COMMERCIAL A/B DEC 2800/2070/19",0,null,"SK",null,null,"_",0,null,null,null,null,null,null,null,null,null,null,null,null,null,null,null,null,null,null,null,null,null,null,null,null,null,null,null,null,null,null,"'PL_2020-10'!$A:$H","$A:$H","12715PL44105","GOLLINUCCI Sorter Linea 222, 300 mm","Belmeb","pastuszak","2020-10-01","Marcela Piechová",27.866954280000002,"x","x","x","x"]
[{"$error":"#N/A"},null,{"$f":"IFERROR(VLOOKUP(B480,List1!$A:$B,2,0),\"x\")","v":"x"},null,null,null,null,null,null,{"$f":"CONCATENATE(VLOOKUP(E480,[1]Seznamy!$Q$2:$R$36,2,0),VLOOKUP(F480,[1]Produkty!$I:$O,7,0),C480,D480)","v":{"$error":"#N/A"}},null,"CZ","Sinks","DTDD Dub evr. radiál st A/B 2800/2070/19","Sinks_DTDD Dub evr. radiál st A/B 2800/2070/19",0,null,"SK",null,null,"_",0,null,null,null,null,null,null,null,null,null,null,null,null,null,null,null,null,null,null,null,null,null,null,null,null,null,null,null,null,null,null,"'PL_2020-10'!$A:$H","$A:$H","12722PL44105","STRONG LED pásek 21,6W/m 24V bílá neutrální 210 LED/m","Belmeb","pastuszak","2020-10-01","Stančo Denčev",3.2988537172800001,"x","x","x","x"]
[{"$error":"#N/A"},null,{"$f":"IFERROR(VLOOKUP(B481,List1!$A:$B,2,0),\"x\")","v":"x"},null,null,null,null,null,null,{"$f":"CONCATENATE(VLOOKUP(E481,[1]Seznamy!$Q$2:$R$36,2,0),VLOOKUP(F481,[1]Produkty!$I:$O,7,0),C481,D481)","v":{"$error":"#N/A"}},null,"CZ","Sinks","DTDL W980 ST2 Platinově bílá 2800/2070/18","Sinks_DTDL W980 ST2 Platinově bílá 2800/2070/18",0,null,"SK",null,null,"_",0,null,null,null,null,null,null,null,null,null,null,null,null,null,null,null,null,null,null,null,null,null,null,null,null,null,null,null,null,null,null,"'PL_2020-10'!$A:$H","$A:$H","12723PL44105","STRONG transformátor plochý LED 24V 100W","Belmeb","pastuszak","2020-10-01","Stančo Denčev",15.99443667822,"x","x","x","x"]
[{"$error":"#N/A"},null,{"$f":"IFERROR(VLOOKUP(B482,List1!$A:$B,2,0),\"x\")","v":"x"},null,null,null,null,null,null,{"$f":"CONCATENATE(VLOOKUP(E482,[1]Seznamy!$Q$2:$R$36,2,0),VLOOKUP(F482,[1]Produkty!$I:$O,7,0),C482,D482)","v":{"$error":"#N/A"}},null,"CZ","Sinks","GOLLINUCCI Sorter 580 Plus Line, 600 mm, výška 505mm, 80 l, šedý","Sinks_GOLLINUCCI Sorter 580 Plus Line, 600 mm, výška 505mm, 80 l, šedý",0,null,"SK",null,null,"_",0,null,null,null,null,null,null,null,null,null,null,null,null,null,null,null,null,null,null,null,null,null,null,null,null,null,null,null,null,null,null,"'PL_2020-10'!$A:$H","$A:$H","12726PL44105","DTDL W980 ST2 Platinově bílá 2800/2070/18","Belmeb","pastuszak","2020-10-01","Martin Karaščák",0,"x","x","x","x"]
[{"$error":"#N/A"},null,{"$f":"IFERROR(VLOOKUP(B483,List1!$A:$B,2,0),\"x\")","v":"x"},null,null,null,null,null,null,{"$f":"CONCATENATE(VLOOKUP(E483,[1]Seznamy!$Q$2:$R$36,2,0),VLOOKUP(F483,[1]Produkty!$I:$O,7,0),C483,D483)","v":{"$error":"#N/A"}},null,"CZ","Sinks","HDF LAK 101 BÍLÁ PE 2800/2070/3","Sinks_HDF LAK 101 BÍLÁ PE 2800/2070/3",0,null,"SK",null,null,"_",0,null,null,null,null,null,null,null,null,null,null,null,null,null,null,null,null,null,null,null,null,null,null,null,null,null,null,null,null,null,null,"'PL_2020-10'!$A:$H","$A:$H","12727PL44105","DTDD DUB COMMERCIAL A/B DEC 2800/2070/19","Belmeb","pastuszak","2020-10-01","Martin Karaščák",0,"x","x","x","x"]
[{"$error":"#N/A"},null,{"$f":"IFERROR(VLOOKUP(B484,List1!$A:$B,2,0),\"x\")","v":"x"},null,null,null,null,null,null,{"$f":"CONCATENATE(VLOOKUP(E484,[1]Seznamy!$Q$2:$R$36,2,0),VLOOKUP(F484,[1]Produkty!$I:$O,7,0),C484,D484)","v":{"$error":"#N/A"}},null,"CZ","Sinks","Konfirmát 7/50 zinek bílý bulk","Sinks_Konfirmát 7/50 zinek bílý bulk",0,null,"SK",null,null,"_",0,null,null,null,null,null,null,null,null,null,null,null,null,null,null,null,null,null,null,null,null,null,null,null,null,null,null,null,null,null,null,"'PL_2020-10'!$A:$H","$A:$H","12728PL44105","DTDD Dub evr. radiál st A/B 2800/2070/19","Belmeb","pastuszak","2020-10-01","Martin Karaščák",0,"x","x","x","x"]
[{"$error":"#N/A"},null,{"$f":"IFERROR(VLOOKUP(B485,List1!$A:$B,2,0),\"x\")","v":"x"},null,null,null,null,null,null,{"$f":"CONCATENATE(VLOOKUP(E485,[1]Seznamy!$Q$2:$R$36,2,0),VLOOKUP(F485,[1]Produkty!$I:$O,7,0),C485,D485)","v":{"$error":"#N/A"}},null,"CZ","Sinks","SEVROLL Era úchytová lišta 18mm 2,70m stříbrná","Sinks_SEVROLL Era úchytová lišta 18mm 2,70m stříbrná",0,null,"SK",null,null,"_",0,null,null,null,null,null,null,null,null,null,null,null,null,null,null,null,null,null,null,null,null,null,null,null,null,null,null,null,null,null,null,"'PL_2020-10'!$A:$H","$A:$H","12729PL44105","ABSB HU10113 Bílá 101/110/113/8100/8685/W954/B3822 PE 22/2","Belmeb","pastuszak","2020-10-01","Martin Karaščák",0,"x","x","x","x"]
[{"$error":"#N/A"},null,{"$f":"IFERROR(VLOOKUP(B486,List1!$A:$B,2,0),\"x\")","v":"x"},null,null,null,null,null,null,{"$f":"CONCATENATE(VLOOKUP(E486,[1]Seznamy!$Q$2:$R$36,2,0),VLOOKUP(F486,[1]Produkty!$I:$O,7,0),C486,D486)","v":{"$error":"#N/A"}},null,"CZ","Sinks","Strong electric socket, lift","Sinks_Strong electric socket, lift",0,null,"SK",null,null,"_",0,null,null,null,null,null,null,null,null,null,null,null,null,null,null,null,null,null,null,null,null,null,null,null,null,null,null,null,null,null,null,"'PL_2020-10'!$A:$H","$A:$H","12730PL44105","ABSB 77039/414 W980/500/W954 ST2 23/2","Belmeb","pastuszak","2020-10-01","Martin Karaščák",0,"x","x","x","x"]
[{"$error":"#N/A"},null,{"$f":"IFERROR(VLOOKUP(B487,List1!$A:$B,2,0),\"x\")","v":"x"},null,null,null,null,null,null,{"$f":"CONCATENATE(VLOOKUP(E487,[1]Seznamy!$Q$2:$R$36,2,0),VLOOKUP(F487,[1]Produkty!$I:$O,7,0),C487,D487)","v":{"$error":"#N/A"}},null,"CZ","Sinks","STRONG Elektrická zásuvka 3x230V, francouzský typ, 265x130x68 mm stříbrná","Sinks_STRONG Elektrická zásuvka 3x230V, francouzský typ, 265x130x68 mm stříbrná",0,null,"SK",null,null,"_",0,null,null,null,null,null,null,null,null,null,null,null,null,null,null,null,null,null,null,null,null,null,null,null,null,null,null,null,null,null,null,"'PL_2020-10'!$A:$H","$A:$H","12731PL44105","HDF LAK 101 BÍLÁ PE 2800/2070/3","Belmeb","pastuszak","2020-10-01","Martin Karaščák",0,"x","x","x","x"]
[{"$error":"#N/A"},null,{"$f":"IFERROR(VLOOKUP(B488,List1!$A:$B,2,0),\"x\")","v":"x"},null,null,null,null,null,null,{"$f":"CONCATENATE(VLOOKUP(E488,[1]Seznamy!$Q$2:$R$36,2,0),VLOOKUP(F488,[1]Produkty!$I:$O,7,0),C488,D488)","v":{"$error":"#N/A"}},null,"CZ","Sinks","STRONG Elektricky stavitelná podnož černá RAL 9005 mat","Sinks_STRONG Elektricky stavitelná podnož černá RAL 9005 mat",0,null,"SK",null,null,"_",0,null,null,null,null,null,null,null,null,null,null,null,null,null,null,null,null,null,null,null,null,null,null,null,null,null,null,null,null,null,null,"'PL_2020-10'!$A:$H","$A:$H","1261PL44105","STRONG plus závěs naložený s tlumením, s excentrem, klipový","DesignLight","pastuszak","2020-10-01","Martin Zniszczol",0.29137151999999999,"x","x","x","x"]
[{"$error":"#N/A"},null,{"$f":"IFERROR(VLOOKUP(B489,List1!$A:$B,2,0),\"x\")","v":"x"},null,null,null,null,null,null,{"$f":"CONCATENATE(VLOOKUP(E489,[1]Seznamy!$Q$2:$R$36,2,0),VLOOKUP(F489,[1]Produkty!$I:$O,7,0),C489,D489)","v":{"$error":"#N/A"}},null,"CZ","Sinks","STRONG LED pásek 21,6W/m 24V bílá neutrální 210 LED/m","Sinks_STRONG LED pásek 21,6W/m 24V bílá neutrální 210 LED/m",0,null,"SK",null,null,"_",0,null,null,null,null,null,null,null,null,null,null,null,null,null,null,null,null,null,null,null,null,null,null,null,null,null,null,null,null,null,null,"'PL_2020-10'!$A:$H","$A:$H","1262PL44105","STRONG závěs naložený, slide on","DesignLight","pastuszak","2020-10-01","Martin Zniszczol",0.116548608,"x","x","x","x"]
[{"$error":"#N/A"},null,{"$f":"IFERROR(VLOOKUP(B490,List1!$A:$B,2,0),\"x\")","v":"x"},null,null,null,null,null,null,{"$f":"CONCATENATE(VLOOKUP(E490,[1]Seznamy!$Q$2:$R$36,2,0),VLOOKUP(F490,[1]Produkty!$I:$O,7,0),C490,D490)","v":{"$error":"#N/A"}},null,"CZ","Sinks","STRONG plus závěs naložený s tlumením, s excentrem, klipový","Sinks_STRONG plus závěs naložený s tlumením, s excentrem, klipový",0,null,"SK",null,null,"_",0,null,null,null,null,null,null,null,null,null,null,null,null,null,null,null,null,null,null,null,null,null,null,null,null,null,null,null,null,null,null,"'PL_2020-10'!$A:$H","$A:$H","1263PL44105","StrongBox H86/500mm bílý","DesignLight","pastuszak","2020-10-01","Martin Zniszczol",7.336643819999999,"x","x","x","x"]
[{"$error":"#N/A"},null,{"$f":"IFERROR(VLOOKUP(B491,List1!$A:$B,2,0),\"x\")","v":"x"},null,null,null,null,null,null,{"$f":"CONCATENATE(VLOOKUP(E491,[1]Seznamy!$Q$2:$R$36,2,0),VLOOKUP(F491,[1]Produkty!$I:$O,7,0),C491,D491)","v":{"$error":"#N/A"}},null,"CZ","Sinks","STRONG Rektifikační nožka 100 mm","Sinks_STRONG Rektifikační nožka 100 mm",0,null,"SK",null,null,"_",0,null,null,null,null,null,null,null,null,null,null,null,null,null,null,null,null,null,null,null,null,null,null,null,null,null,null,null,null,null,null,"'PL_2020-10'!$A:$H","$A:$H","1264PL44105","StrongMax 89/500 mm šedý (antracit)","DesignLight","pastuszak","2020-10-01","Martin Zniszczol",9.6698923199999989,"x","x","x","x"]
[{"$error":"#N/A"},null,{"$f":"IFERROR(VLOOKUP(B492,List1!$A:$B,2,0),\"x\")","v":"x"},null,null,null,null,null,null,{"$f":"CONCATENATE(VLOOKUP(E492,[1]Seznamy!$Q$2:$R$36,2,0),VLOOKUP(F492,[1]Produkty!$I:$O,7,0),C492,D492)","v":{"$error":"#N/A"}},null,"CZ","Sinks","STRONG Stolová noha centrální 450x450 černá","Sinks_STRONG Stolová noha centrální 450x450 černá",0,null,"SK",null,null,"_",0,null,null,null,null,null,null,null,null,null,null,null,null,null,null,null,null,null,null,null,null,null,null,null,null,null,null,null,null,null,null,"'PL_2020-10'!$A:$H","$A:$H","1265PL44105","StrongRide synchro 3D celovýsuv 500 mm s tlumením","DesignLight","pastuszak","2020-10-01","Martin Zniszczol",5.5246771800000003,"x","x","x","x"]
[{"$error":"#N/A"},null,{"$f":"IFERROR(VLOOKUP(B493,List1!$A:$B,2,0),\"x\")","v":"x"},null,null,null,null,null,null,{"$f":"CONCATENATE(VLOOKUP(E493,[1]Seznamy!$Q$2:$R$36,2,0),VLOOKUP(F493,[1]Produkty!$I:$O,7,0),C493,D493)","v":{"$error":"#N/A"}},null,"CZ","Sinks","STRONG transformátor plochý LED 24V 100W","Sinks_STRONG transformátor plochý LED 24V 100W",0,null,"SK",null,null,"_",0,null,null,null,null,null,null,null,null,null,null,null,null,null,null,null,null,null,null,null,null,null,null,null,null,null,null,null,null,null,null,"'PL_2020-10'!$A:$H","$A:$H","1266PL44105","STRONG Rektifikační nožka 100 mm","DesignLight","pastuszak","2020-10-01","Lukáš Sládek",0.10149289523999999,"x","x","x","x"]
[{"$error":"#N/A"},null,{"$f":"IFERROR(VLOOKUP(B494,List1!$A:$B,2,0),\"x\")","v":"x"},null,null,null,null,null,null,{"$f":"CONCATENATE(VLOOKUP(E494,[1]Seznamy!$Q$2:$R$36,2,0),VLOOKUP(F494,[1]Produkty!$I:$O,7,0),C494,D494)","v":{"$error":"#N/A"}},null,"CZ","Sinks","STRONG závěs naložený, slide on","Sinks_STRONG závěs naložený, slide on",0,null,"SK",null,null,"_",0,null,null,null,null,null,null,null,null,null,null,null,null,null,null,null,null,null,null,null,null,null,null,null,null,null,null,null,null,null,null,"'PL_2020-10'!$A:$H","$A:$H","1267PL44105","STRONG Stolová noha centrální 450x450 černá","DesignLight","pastuszak","2020-10-01","Lukáš Sládek",33.268595282999996,"x","x","x","x"]
[{"$error":"#N/A"},null,{"$f":"IFERROR(VLOOKUP(B495,List1!$A:$B,2,0),\"x\")","v":"x"},null,null,null,null,null,null,{"$f":"CONCATENATE(VLOOKUP(E495,[1]Seznamy!$Q$2:$R$36,2,0),VLOOKUP(F495,[1]Produkty!$I:$O,7,0),C495,D495)","v":{"$error":"#N/A"}},null,"CZ","Sinks","StrongBox H86/500mm bílý","Sinks_StrongBox H86/500mm bílý",0,null,"SK",null,null,"_",0,null,null,null,null,null,null,null,null,null,null,null,null,null,null,null,null,null,null,null,null,null,null,null,null,null,null,null,null,null,null,"'PL_2020-10'!$A:$H","$A:$H","1268PL44105","STRONG Elektrická zásuvka 3x230V, francouzský typ, 265x130x68 mm stříbrná","DesignLight","pastuszak","2020-10-01","Lukáš Sládek",14.75416827654,"x","x","x","x"]
[{"$error":"#N/A"},null,{"$f":"IFERROR(VLOOKUP(B496,List1!$A:$B,2,0),\"x\")","v":"x"},null,null,null,null,null,null,{"$f":"CONCATENATE(VLOOKUP(E496,[1]Seznamy!$Q$2:$R$36,2,0),VLOOKUP(F496,[1]Produkty!$I:$O,7,0),C496,D496)","v":{"$error":"#N/A"}},null,"CZ","Sinks","StrongMax 89/500 mm šedý (antracit)","Sinks_StrongMax 89/500 mm šedý (antracit)",0,null,"SK",null,null,"_",0,null,null,null,null,null,null,null,null,null,null,null,null,null,null,null,null,null,null,null,null,null,null,null,null,null,null,null,null,null,null,"'PL_2020-10'!$A:$H","$A:$H","1269PL44105","BBP OA Zásuvka 515 mm kovová černá","DesignLight","pastuszak","2020-10-01","Lukáš Sládek",5.0717492575200005,"x","x","x","x"]
[{"$error":"#N/A"},null,{"$f":"IFERROR(VLOOKUP(B497,List1!$A:$B,2,0),\"x\")","v":"x"},null,null,null,null,null,null,{"$f":"CONCATENATE(VLOOKUP(E497,[1]Seznamy!$Q$2:$R$36,2,0),VLOOKUP(F497,[1]Produkty!$I:$O,7,0),C497,D497)","v":{"$error":"#N/A"}},null,"CZ","Sinks","StrongRide synchro 3D celovýsuv 500 mm s tlumením","Sinks_StrongRide synchro 3D celovýsuv 500 mm s tlumením",0,null,"SK",null,null,"_",0,null,null,null,null,null,null,null,null,null,null,null,null,null,null,null,null,null,null,null,null,null,null,null,null,null,null,null,null,null,null,"'PL_2020-10'!$A:$H","$A:$H","12610PL44105","FRANKE Dřez ETN 614 6/4 obyčejný ventil bez otvoru","DesignLight","pastuszak","2020-10-01","Marcela Piechová",22.854453600000003,"x","x","x","x"]
[{"$error":"#N/A"},null,{"$f":"IFERROR(VLOOKUP(B498,List1!$A:$B,2,0),\"x\")","v":"x"},null,null,null,null,null,null,{"$f":"CONCATENATE(VLOOKUP(E498,[1]Seznamy!$Q$2:$R$36,2,0),VLOOKUP(F498,[1]Produkty!$I:$O,7,0),C498,D498)","v":{"$error":"#N/A"}},null,"CZ","Sinks","TULIP Gola dvířkový J profil 4,1m eloxovaný hliník","Sinks_TULIP Gola dvířkový J profil 4,1m eloxovaný hliník",0,null,"SK",null,null,"_",0,null,null,null,null,null,null,null,null,null,null,null,null,null,null,null,null,null,null,null,null,null,null,null,null,null,null,null,null,null,null,"'PL_2020-10'!$A:$H","$A:$H","12611PL44105","FRANKE Dřez BFG 611-78 780 x 500 onyx","DesignLight","pastuszak","2020-10-01","Marcela Piechová",111.2674992,"x","x","x","x"]
[{"$error":"#N/A"},null,{"$f":"IFERROR(VLOOKUP(B499,List1!$A:$B,2,0),\"x\")","v":"x"},null,null,null,null,null,null,{"$f":"CONCATENATE(VLOOKUP(E499,[1]Seznamy!$Q$2:$R$36,2,0),VLOOKUP(F499,[1]Produkty!$I:$O,7,0),C499,D499)","v":{"$error":"#N/A"}},null,"CZ","Sinks","TULIP úchytka Anita 96 nikl matný + šroubky","Sinks_TULIP úchytka Anita 96 nikl matný + šroubky",0,null,"SK",null,null,"_",0,null,null,null,null,null,null,null,null,null,null,null,null,null,null,null,null,null,null,null,null,null,null,null,null,null,null,null,null,null,null,"'PL_2020-10'!$A:$H","$A:$H","12612PL44105","GOLLINUCCI Sorter Sistema 901/2x16 l, 600 mm","DesignLight","pastuszak","2020-10-01","Marcela Piechová",17.270591580000001,"x","x","x","x"]
[{"$error":"#N/A"},null,{"$f":"IFERROR(VLOOKUP(B500,List1!$A:$B,2,0),\"x\")","v":"x"},null,null,null,null,null,null,{"$f":"CONCATENATE(VLOOKUP(E500,[1]Seznamy!$Q$2:$R$36,2,0),VLOOKUP(F500,[1]Produkty!$I:$O,7,0),C500,D500)","v":{"$error":"#N/A"}},null,"CZ","Sinks","TULIP Úchytka Lucata 160 černá matná","Sinks_TULIP Úchytka Lucata 160 černá matná",0,null,"SK",null,null,"_",0,null,null,null,null,null,null,null,null,null,null,null,null,null,null,null,null,null,null,null,null,null,null,null,null,null,null,null,null,null,null,"'PL_2020-10'!$A:$H","$A:$H","12613PL44105","GOLLINUCCI Sorter 580 Plus Line, 600 mm, výška 505mm, 80 l, šedý","DesignLight","pastuszak","2020-10-01","Marcela Piechová",76.735421400000007,"x","x","x","x"]
[{"$error":"#N/A"},null,{"$f":"IFERROR(VLOOKUP(B501,List1!$A:$B,2,0),\"x\")","v":"x"},null,null,null,null,null,null,{"$f":"CONCATENATE(VLOOKUP(E501,[1]Seznamy!$Q$2:$R$36,2,0),VLOOKUP(F501,[1]Produkty!$I:$O,7,0),C501,D501)","v":{"$error":"#N/A"}},null,"CZ","Sinks","TULIP úchytka Nakana 128 chrom matný + šroubky","Sinks_TULIP úchytka Nakana 128 chrom matný + šroubky",0,null,"SK",null,null,"_",0,null,null,null,null,null,null,null,null,null,null,null,null,null,null,null,null,null,null,null,null,null,null,null,null,null,null,null,null,null,null,"'PL_2020-10'!$A:$H","$A:$H","12614PL44105","FRANKE Dřez ETN 610 455 x 435","DesignLight","pastuszak","2020-10-01","Marcela Piechová",25.228676220000001,"x","x","x","x"]
[{"$error":"#N/A"},null,{"$f":"IFERROR(VLOOKUP(B502,List1!$A:$B,2,0),\"x\")","v":"x"},null,null,null,null,null,null,{"$f":"CONCATENATE(VLOOKUP(E502,[1]Seznamy!$Q$2:$R$36,2,0),VLOOKUP(F502,[1]Produkty!$I:$O,7,0),C502,D502)","v":{"$error":"#N/A"}},null,"CZ","Sinks","TULIP úchytka Piombina 96 nikl matný + šroubky","Sinks_TULIP úchytka Piombina 96 nikl matný + šroubky",0,null,"SK",null,null,"_",0,null,null,null,null,null,null,null,null,null,null,null,null,null,null,null,null,null,null,null,null,null,null,null,null,null,null,null,null,null,null,"'PL_2020-10'!$A:$H","$A:$H","12615PL44105","GOLLINUCCI Sorter Linea 222, 300 mm","DesignLight","pastuszak","2020-10-01","Marcela Piechová",27.866954280000002,"x","x","x","x"]
[{"$error":"#N/A"},null,{"$f":"IFERROR(VLOOKUP(B503,List1!$A:$B,2,0),\"x\")","v":"x"},null,null,null,null,null,null,{"$f":"CONCATENATE(VLOOKUP(E503,[1]Seznamy!$Q$2:$R$36,2,0),VLOOKUP(F503,[1]Produkty!$I:$O,7,0),C503,D503)","v":{"$error":"#N/A"}},null,"CZ","Sinks","TULIP Úchytka Ramara 596 imitace nerezi","Sinks_TULIP Úchytka Ramara 596 imitace nerezi",0,null,"SK",null,null,"_",0,null,null,null,null,null,null,null,null,null,null,null,null,null,null,null,null,null,null,null,null,null,null,null,null,null,null,null,null,null,null,"'PL_2020-10'!$A:$H","$A:$H","12616PL44105","TULIP úchytka Nakana 128 chrom matný + šroubky","DesignLight","pastuszak","2020-10-01","Lenka Kormaník",0.79492979675999997,"x","x","x","x"]
[{"$error":"#N/A"},null,{"$f":"IFERROR(VLOOKUP(B504,List1!$A:$B,2,0),\"x\")","v":"x"},null,null,null,null,null,null,{"$f":"CONCATENATE(VLOOKUP(E504,[1]Seznamy!$Q$2:$R$36,2,0),VLOOKUP(F504,[1]Produkty!$I:$O,7,0),C504,D504)","v":{"$error":"#N/A"}},null,"CZ","Sinks","TULIP věšák Lugo XL chrom matný + šroubky","Sinks_TULIP věšák Lugo XL chrom matný + šroubky",0,null,"SK",null,null,"_",0,null,null,null,null,null,null,null,null,null,null,null,null,null,null,null,null,null,null,null,null,null,null,null,null,null,null,null,null,null,null,"'PL_2020-10'!$A:$H","$A:$H","12617PL44105","TULIP úchytka Piombina 96 nikl matný + šroubky","DesignLight","pastuszak","2020-10-01","Lenka Kormaník",0.4361922708,"x","x","x","x"]
[{"$error":"#N/A"},null,{"$f":"IFERROR(VLOOKUP(B505,List1!$A:$B,2,0),\"x\")","v":"x"},null,null,null,null,null,null,{"$f":"CONCATENATE(VLOOKUP(E505,[1]Seznamy!$Q$2:$R$36,2,0),VLOOKUP(F505,[1]Produkty!$I:$O,7,0),C505,D505)","v":{"$error":"#N/A"}},null,"CZ","Sinks","Vrut PZ 4x18 zápustná hlava zinek bílý PZ2","Sinks_Vrut PZ 4x18 zápustná hlava zinek bílý PZ2",0,null,"SK",null,null,"_",0,null,null,null,null,null,null,null,null,null,null,null,null,null,null,null,null,null,null,null,null,null,null,null,null,null,null,null,null,null,null,"'PL_2020-10'!$A:$H","$A:$H","12618PL44105","TULIP úchytka Anita 96 nikl matný + šroubky","DesignLight","pastuszak","2020-10-01","Lenka Kormaník",0.2761883322,"x","x","x","x"]
[{"$error":"#N/A"},null,{"$f":"IFERROR(VLOOKUP(B506,List1!$A:$B,2,0),\"x\")","v":"x"},null,null,null,null,null,null,{"$f":"CONCATENATE(VLOOKUP(E506,[1]Seznamy!$Q$2:$R$36,2,0),VLOOKUP(F506,[1]Produkty!$I:$O,7,0),C506,D506)","v":{"$error":"#N/A"}},null,"CZ","TWD","GOLLINUCCI Sorter Linea 222, 300 mm","TWD_GOLLINUCCI Sorter Linea 222, 300 mm","https://eshop.twd.sk/produkt/kose-odpadkove/kose-s-vysuvom/smetny-k-s-291-tmavosivy/64723",null,"SK",null,null,"_",0,null,null,null,null,null,null,null,null,null,null,null,null,null,null,null,null,null,null,null,null,null,null,null,null,null,null,null,null,null,null,"'PL_2020-10'!$A:$H","$A:$H","12619PL44105","TULIP věšák Lugo XL chrom matný + šroubky","DesignLight","pastuszak","2020-10-01","Lenka Kormaník",0.74823068165999995,"x","x","x","x"]
[{"$error":"#N/A"},null,{"$f":"IFERROR(VLOOKUP(B507,List1!$A:$B,2,0),\"x\")","v":"x"},null,null,null,null,null,null,{"$f":"CONCATENATE(VLOOKUP(E507,[1]Seznamy!$Q$2:$R$36,2,0),VLOOKUP(F507,[1]Produkty!$I:$O,7,0),C507,D507)","v":{"$error":"#N/A"}},null,"CZ","TWD","STRONG Rektifikační nožka 100 mm","TWD_STRONG Rektifikační nožka 100 mm","https://eshop.twd.sk/produkt/nohy-podnoze-kolieska/nabytkove-nozicky/noha-nab-100mm-plast-cierna/41763",null,"SK",null,null,"_",0,null,null,null,null,null,null,null,null,null,null,null,null,null,null,null,null,null,null,null,null,null,null,null,null,null,null,null,null,null,null,"'PL_2020-10'!$A:$H","$A:$H","12620PL44105","TULIP Úchytka Ramara 596 imitace nerezi","DesignLight","pastuszak","2020-10-01","Lenka Kormaník",3.63724531632,"x","x","x","x"]
[{"$error":"#N/A"},null,{"$f":"IFERROR(VLOOKUP(B508,List1!$A:$B,2,0),\"x\")","v":"x"},null,null,null,null,null,null,{"$f":"CONCATENATE(VLOOKUP(E508,[1]Seznamy!$Q$2:$R$36,2,0),VLOOKUP(F508,[1]Produkty!$I:$O,7,0),C508,D508)","v":{"$error":"#N/A"}},null,"CZ","TWD","Konfirmát 7/50 zinek bílý bulk","TWD_Konfirmát 7/50 zinek bílý bulk","https://eshop.twd.sk/produkt/spojovacie-kovanie/konfirmaty/konfirmat-7-0-50-sw4-zcr/2502",null,"SK",null,null,"_",0,null,null,null,null,null,null,null,null,null,null,null,null,null,null,null,null,null,null,null,null,null,null,null,null,null,null,null,null,null,null,"'PL_2020-10'!$A:$H","$A:$H","12621PL44105","TULIP Úchytka Lucata 160 černá matná","DesignLight","pastuszak","2020-10-01","Lenka Kormaník",0.82574688768000004,"x","x","x","x"]
[{"$error":"#N/A"},null,{"$f":"IFERROR(VLOOKUP(B509,List1!$A:$B,2,0),\"x\")","v":"x"},null,null,null,null,null,null,{"$f":"CONCATENATE(VLOOKUP(E509,[1]Seznamy!$Q$2:$R$36,2,0),VLOOKUP(F509,[1]Produkty!$I:$O,7,0),C509,D509)","v":{"$error":"#N/A"}},null,"CZ","TWD","HDF LAK 101 BÍLÁ PE 2800/2070/3","TWD_HDF LAK 101 BÍLÁ PE 2800/2070/3","https://eshop.twd.sk/produkt/velkoplosny-material/hdf/hdf-biela/21147",null,"SK",null,null,"_",0,null,null,null,null,null,null,null,null,null,null,null,null,null,null,null,null,null,null,null,null,null,null,null,null,null,null,null,null,null,null,"'PL_2020-10'!$A:$H","$A:$H","12624PL44105","Vrut PZ 4x18 zápustná hlava zinek bílý PZ2","DesignLight","pastuszak","2020-10-01","Stančo Denčev",2.03960064E-3,"x","x","x","x"]
[{"$error":"#N/A"},null,{"$f":"IFERROR(VLOOKUP(B510,List1!$A:$B,2,0),\"x\")","v":"x"},null,null,null,null,null,null,{"$f":"CONCATENATE(VLOOKUP(E510,[1]Seznamy!$Q$2:$R$36,2,0),VLOOKUP(F510,[1]Produkty!$I:$O,7,0),C510,D510)","v":{"$error":"#N/A"}},null,"CZ","TWD","STRONG plus závěs naložený s tlumením, s excentrem, klipový","TWD_STRONG plus závěs naložený s tlumením, s excentrem, klipový","https://eshop.twd.sk/produkt/zavesy-nabytkove/nalozene/blum-71t3550-zaves-clip-top-nalozeny-s-perom-110/44163",null,"SK",null,null,"_",0,null,null,null,null,null,null,null,null,null,null,null,null,null,null,null,null,null,null,null,null,null,null,null,null,null,null,null,null,null,null,"'PL_2020-10'!$A:$H","$A:$H","12625PL44105","Konfirmát 7/50 zinek bílý bulk","DesignLight","pastuszak","2020-10-01","Stančo Denčev",8.3200227000000005E-3,"x","x","x","x"]
[{"$error":"#N/A"},null,{"$f":"IFERROR(VLOOKUP(B511,List1!$A:$B,2,0),\"x\")","v":"x"},null,null,null,null,null,null,{"$f":"CONCATENATE(VLOOKUP(E511,[1]Seznamy!$Q$2:$R$36,2,0),VLOOKUP(F511,[1]Produkty!$I:$O,7,0),C511,D511)","v":{"$error":"#N/A"}},null,"CZ","TWD","STRONG závěs naložený, slide on","TWD_STRONG závěs naložený, slide on","https://eshop.twd.sk/produkt/zavesy-nabytkove/nalozene/zaves-nk-metalamat-110st-nikel-nalozeny-311-90-500/29977",null,"SK",null,null,"_",0,null,null,null,null,null,null,null,null,null,null,null,null,null,null,null,null,null,null,null,null,null,null,null,null,null,null,null,null,null,null,"'PL_2020-10'!$A:$H","$A:$H","12626PL44105","DTDL W980 ST2 Platinově bílá 2800/2070/18","DesignLight","pastuszak","2020-10-01","Martin Karaščák",0,"x","x","x","x"]
[{"$error":"#N/A"},null,{"$f":"IFERROR(VLOOKUP(B512,List1!$A:$B,2,0),\"x\")","v":"x"},null,null,null,null,null,null,{"$f":"CONCATENATE(VLOOKUP(E512,[1]Seznamy!$Q$2:$R$36,2,0),VLOOKUP(F512,[1]Produkty!$I:$O,7,0),C512,D512)","v":{"$error":"#N/A"}},null,"CZ","TWD","Alfa II profile 222788","TWD_Alfa II profile 222788",0,null,"SK",null,null,"_",0,null,null,null,null,null,null,null,null,null,null,null,null,null,null,null,null,null,null,null,null,null,null,null,null,null,null,null,null,null,null,"'PL_2020-10'!$A:$H","$A:$H","12627PL44105","DTDD DUB COMMERCIAL A/B DEC 2800/2070/19","DesignLight","pastuszak","2020-10-01","Martin Karaščák",0,"x","x","x","x"]
[{"$error":"#N/A"},null,{"$f":"IFERROR(VLOOKUP(B513,List1!$A:$B,2,0),\"x\")","v":"x"},null,null,null,null,null,null,{"$f":"CONCATENATE(VLOOKUP(E513,[1]Seznamy!$Q$2:$R$36,2,0),VLOOKUP(F513,[1]Produkty!$I:$O,7,0),C513,D513)","v":{"$error":"#N/A"}},null,"CZ","TWD","SEVROLL Era úchytová lišta 18mm 2,70m stříbrná","TWD_SEVROLL Era úchytová lišta 18mm 2,70m stříbrná",0,null,"SK",null,null,"_",0,null,null,null,null,null,null,null,null,null,null,null,null,null,null,null,null,null,null,null,null,null,null,null,null,null,null,null,null,null,null,"'PL_2020-10'!$A:$H","$A:$H","12628PL44105","DTDD Dub evr. radiál st A/B 2800/2070/19","DesignLight","pastuszak","2020-10-01","Martin Karaščák",0,"x","x","x","x"]
[{"$error":"#N/A"},null,{"$f":"IFERROR(VLOOKUP(B514,List1!$A:$B,2,0),\"x\")","v":"x"},null,null,null,null,null,null,{"$f":"CONCATENATE(VLOOKUP(E514,[1]Seznamy!$Q$2:$R$36,2,0),VLOOKUP(F514,[1]Produkty!$I:$O,7,0),C514,D514)","v":{"$error":"#N/A"}},null,"CZ","TWD","TULIP Gola dvířkový J profil 4,1m eloxovaný hliník","TWD_TULIP Gola dvířkový J profil 4,1m eloxovaný hliník",0,null,"SK",null,null,"_",0,null,null,null,null,null,null,null,null,null,null,null,null,null,null,null,null,null,null,null,null,null,null,null,null,null,null,null,null,null,null,"'PL_2020-10'!$A:$H","$A:$H","12629PL44105","ABSB HU10113 Bílá 101/110/113/8100/8685/W954/B3822 PE 22/2","DesignLight","pastuszak","2020-10-01","Martin Karaščák",0,"x","x","x","x"]
[{"$error":"#N/A"},null,{"$f":"IFERROR(VLOOKUP(B515,List1!$A:$B,2,0),\"x\")","v":"x"},null,null,null,null,null,null,{"$f":"CONCATENATE(VLOOKUP(E515,[1]Seznamy!$Q$2:$R$36,2,0),VLOOKUP(F515,[1]Produkty!$I:$O,7,0),C515,D515)","v":{"$error":"#N/A"}},null,"CZ","TWD","STRONG LED pásek 21,6W/m 24V bílá neutrální 210 LED/m","TWD_STRONG LED pásek 21,6W/m 24V bílá neutrální 210 LED/m",0,null,"SK",null,null,"_",0,null,null,null,null,null,null,null,null,null,null,null,null,null,null,null,null,null,null,null,null,null,null,null,null,null,null,null,null,null,null,"'PL_2020-10'!$A:$H","$A:$H","12630PL44105","ABSB 77039/414 W980/500/W954 ST2 23/2","DesignLight","pastuszak","2020-10-01","Martin Karaščák",0,"x","x","x","x"]
[{"$error":"#N/A"},null,{"$f":"IFERROR(VLOOKUP(B516,List1!$A:$B,2,0),\"x\")","v":"x"},null,null,null,null,null,null,{"$f":"CONCATENATE(VLOOKUP(E516,[1]Seznamy!$Q$2:$R$36,2,0),VLOOKUP(F516,[1]Produkty!$I:$O,7,0),C516,D516)","v":{"$error":"#N/A"}},null,"CZ","TWD","STRONG transformátor plochý LED 24V 100W","TWD_STRONG transformátor plochý LED 24V 100W",0,null,"SK",null,null,"_",0,null,null,null,null,null,null,null,null,null,null,null,null,null,null,null,null,null,null,null,null,null,null,null,null,null,null,null,null,null,null,"'PL_2020-10'!$A:$H","$A:$H","12631PL44105","HDF LAK 101 BÍLÁ PE 2800/2070/3","DesignLight","pastuszak","2020-10-01","Martin Karaščák",0,"x","x","x","x"]
[{"$error":"#N/A"},null,{"$f":"IFERROR(VLOOKUP(B517,List1!$A:$B,2,0),\"x\")","v":"x"},null,null,null,null,null,null,{"$f":"CONCATENATE(VLOOKUP(E517,[1]Seznamy!$Q$2:$R$36,2,0),VLOOKUP(F517,[1]Produkty!$I:$O,7,0),C517,D517)","v":{"$error":"#N/A"}},null,"CZ","TWD","ABSB 77039/414 W980/500/W954 ST2 23/2","TWD_ABSB 77039/414 W980/500/W954 ST2 23/2",0,null,"SK",null,null,"_",0,null,null,null,null,null,null,null,null,null,null,null,null,null,null,null,null,null,null,null,null,null,null,null,null,null,null,null,null,null,null,"'PL_2020-10'!$A:$H","$A:$H","1102PL44105","STRONG závěs naložený, slide on","GTV","pastuszak","2020-10-01","Martin Zniszczol",0.116548608,"x","x","x","x"]
[{"$error":"#N/A"},null,{"$f":"IFERROR(VLOOKUP(B518,List1!$A:$B,2,0),\"x\")","v":"x"},null,null,null,null,null,null,{"$f":"CONCATENATE(VLOOKUP(E518,[1]Seznamy!$Q$2:$R$36,2,0),VLOOKUP(F518,[1]Produkty!$I:$O,7,0),C518,D518)","v":{"$error":"#N/A"}},null,"CZ","TWD","ABSB HU10113 Bílá 101/110/113/8100/8685/W954/B3822 PE 22/2","TWD_ABSB HU10113 Bílá 101/110/113/8100/8685/W954/B3822 PE 22/2",0,null,"SK",null,null,"_",0,null,null,null,null,null,null,null,null,null,null,null,null,null,null,null,null,null,null,null,null,null,null,null,null,null,null,null,null,null,null,"'PL_2020-10'!$A:$H","$A:$H","1109PL44105","BBP OA Zásuvka 515 mm kovová černá","GTV","pastuszak","2020-10-01","Lukáš Sládek",5.0717492575200005,"x","x","x","x"]
[{"$error":"#N/A"},null,{"$f":"IFERROR(VLOOKUP(B519,List1!$A:$B,2,0),\"x\")","v":"x"},null,null,null,null,null,null,{"$f":"CONCATENATE(VLOOKUP(E519,[1]Seznamy!$Q$2:$R$36,2,0),VLOOKUP(F519,[1]Produkty!$I:$O,7,0),C519,D519)","v":{"$error":"#N/A"}},null,"CZ","TWD","BBP OA Zásuvka 515 mm kovová černá","TWD_BBP OA Zásuvka 515 mm kovová černá",0,null,"SK",null,null,"_",0,null,null,null,null,null,null,null,null,null,null,null,null,null,null,null,null,null,null,null,null,null,null,null,null,null,null,null,null,null,null,"'PL_2020-10'!$A:$H","$A:$H","11010PL44105","FRANKE Dřez ETN 614 6/4 obyčejný ventil bez otvoru","GTV","pastuszak","2020-10-01","Marcela Piechová",22.854453600000003,"x","x","x","x"]
[{"$error":"#N/A"},null,{"$f":"IFERROR(VLOOKUP(B520,List1!$A:$B,2,0),\"x\")","v":"x"},null,null,null,null,null,null,{"$f":"CONCATENATE(VLOOKUP(E520,[1]Seznamy!$Q$2:$R$36,2,0),VLOOKUP(F520,[1]Produkty!$I:$O,7,0),C520,D520)","v":{"$error":"#N/A"}},null,"CZ","TWD","DTDD DUB COMMERCIAL A/B DEC 2800/2070/19","TWD_DTDD DUB COMMERCIAL A/B DEC 2800/2070/19",0,null,"SK",null,null,"_",0,null,null,null,null,null,null,null,null,null,null,null,null,null,null,null,null,null,null,null,null,null,null,null,null,null,null,null,null,null,null,"'PL_2020-10'!$A:$H","$A:$H","11011PL44105","FRANKE Dřez BFG 611-78 780 x 500 onyx","GTV","pastuszak","2020-10-01","Marcela Piechová",111.2674992,"x","x","x","x"]
[{"$f":"TEXT(J521,1)","v":{"$error":"#N/A"}},null,{"$f":"IFERROR(VLOOKUP(B521,List1!$A:$B,2,0),\"x\")","v":"x"},null,null,null,null,null,null,{"$f":"CONCATENATE(VLOOKUP(E521,[1]Seznamy!$Q$2:$R$36,2,0),VLOOKUP(F521,[1]Produkty!$I:$O,7,0),C521,D521)","v":{"$error":"#N/A"}},null,"CZ","TWD","DTDD Dub evr. radiál st A/B 2800/2070/19","TWD_DTDD Dub evr. radiál st A/B 2800/2070/19",0,null,"SK",null,null,"_",0,null,null,null,null,null,null,null,null,null,null,null,null,null,null,null,null,null,null,null,null,null,null,null,null,null,null,null,null,null,null,"'PL_2020-10'!$A:$H","$A:$H","11014PL44105","FRANKE Dřez ETN 610 455 x 435","GTV","pastuszak","2020-10-01","Marcela Piechová",25.228676220000001,"x","x","x","x"]
[{"$error":"#N/A"},null,{"$f":"IFERROR(VLOOKUP(B522,List1!$A:$B,2,0),\"x\")","v":"x"},null,null,null,null,null,null,{"$f":"CONCATENATE(VLOOKUP(E522,[1]Seznamy!$Q$2:$R$36,2,0),VLOOKUP(F522,[1]Produkty!$I:$O,7,0),C522,D522)","v":{"$error":"#N/A"}},null,"CZ","TWD","DTDL W980 ST2 Platinově bílá 2800/2070/18","TWD_DTDL W980 ST2 Platinově bílá 2800/2070/18",0,null,"SK",null,null,"_",0,null,null,null,null,null,null,null,null,null,null,null,null,null,null,null,null,null,null,null,null,null,null,null,null,null,null,null,null,null,null,"'PL_2020-10'!$A:$H","$A:$H","11017PL44105","TULIP úchytka Piombina 96 nikl matný + šroubky","GTV","pastuszak","2020-10-01","Lenka Kormaník",0.4361922708,"x","x","x","x"]
[{"$error":"#N/A"},null,{"$f":"IFERROR(VLOOKUP(B523,List1!$A:$B,2,0),\"x\")","v":"x"},null,null,null,null,null,null,{"$f":"CONCATENATE(VLOOKUP(E523,[1]Seznamy!$Q$2:$R$36,2,0),VLOOKUP(F523,[1]Produkty!$I:$O,7,0),C523,D523)","v":{"$error":"#N/A"}},null,"CZ","TWD","FRANKE Dřez BFG 611-78 780 x 500 onyx","TWD_FRANKE Dřez BFG 611-78 780 x 500 onyx",0,null,"SK",null,null,"_",0,null,null,null,null,null,null,null,null,null,null,null,null,null,null,null,null,null,null,null,null,null,null,null,null,null,null,null,null,null,null,"'PL_2020-10'!$A:$H","$A:$H","11018PL44105","TULIP úchytka Anita 96 nikl matný + šroubky","GTV","pastuszak","2020-10-01","Lenka Kormaník",0.2761883322,"x","x","x","x"]
[{"$error":"#N/A"},null,{"$f":"IFERROR(VLOOKUP(B524,List1!$A:$B,2,0),\"x\")","v":"x"},null,null,null,null,null,null,{"$f":"CONCATENATE(VLOOKUP(E524,[1]Seznamy!$Q$2:$R$36,2,0),VLOOKUP(F524,[1]Produkty!$I:$O,7,0),C524,D524)","v":{"$error":"#N/A"}},null,"CZ","TWD","FRANKE Dřez ETN 610 455 x 435","TWD_FRANKE Dřez ETN 610 455 x 435",0,null,"SK",null,null,"_",0,null,null,null,null,null,null,null,null,null,null,null,null,null,null,null,null,null,null,null,null,null,null,null,null,null,null,null,null,null,null,"'PL_2020-10'!$A:$H","$A:$H","11020PL44105","TULIP Úchytka Ramara 596 imitace nerezi","GTV","pastuszak","2020-10-01","Lenka Kormaník",3.63724531632,"x","x","x","x"]
[{"$error":"#N/A"},null,{"$f":"IFERROR(VLOOKUP(B525,List1!$A:$B,2,0),\"x\")","v":"x"},null,null,null,null,null,null,{"$f":"CONCATENATE(VLOOKUP(E525,[1]Seznamy!$Q$2:$R$36,2,0),VLOOKUP(F525,[1]Produkty!$I:$O,7,0),C525,D525)","v":{"$error":"#N/A"}},null,"CZ","TWD","FRANKE Dřez ETN 614 6/4 obyčejný ventil bez otvoru","TWD_FRANKE Dřez ETN 614 6/4 obyčejný ventil bez otvoru",0,null,"SK",null,null,"_",0,null,null,null,null,null,null,null,null,null,null,null,null,null,null,null,null,null,null,null,null,null,null,null,null,null,null,null,null,null,null,"'PL_2020-10'!$A:$H","$A:$H","11022PL44105","STRONG LED pásek 21,6W/m 24V bílá neutrální 210 LED/m","GTV","pastuszak","2020-10-01","Stančo Denčev",3.2988537172800001,"x","x","x","x"]
[{"$error":"#N/A"},null,{"$f":"IFERROR(VLOOKUP(B526,List1!$A:$B,2,0),\"x\")","v":"x"},null,null,null,null,null,null,{"$f":"CONCATENATE(VLOOKUP(E526,[1]Seznamy!$Q$2:$R$36,2,0),VLOOKUP(F526,[1]Produkty!$I:$O,7,0),C526,D526)","v":{"$error":"#N/A"}},null,"CZ","TWD","GOLLINUCCI Sorter 580 Plus Line, 600 mm, výška 505mm, 80 l, šedý","TWD_GOLLINUCCI Sorter 580 Plus Line, 600 mm, výška 505mm, 80 l, šedý",0,null,"SK",null,null,"_",0,null,null,null,null,null,null,null,null,null,null,null,null,null,null,null,null,null,null,null,null,null,null,null,null,null,null,null,null,null,null,"'PL_2020-10'!$A:$H","$A:$H","11024PL44105","Vrut PZ 4x18 zápustná hlava zinek bílý PZ2","GTV","pastuszak","2020-10-01","Stančo Denčev",2.03960064E-3,"x","x","x","x"]
[{"$error":"#N/A"},null,{"$f":"IFERROR(VLOOKUP(B527,List1!$A:$B,2,0),\"x\")","v":"x"},null,null,null,null,null,null,{"$f":"CONCATENATE(VLOOKUP(E527,[1]Seznamy!$Q$2:$R$36,2,0),VLOOKUP(F527,[1]Produkty!$I:$O,7,0),C527,D527)","v":{"$error":"#N/A"}},null,"CZ","TWD","GOLLINUCCI Sorter Sistema 901/2x16 l, 600 mm","TWD_GOLLINUCCI Sorter Sistema 901/2x16 l, 600 mm",0,null,"SK",null,null,"_",0,null,null,null,null,null,null,null,null,null,null,null,null,null,null,null,null,null,null,null,null,null,null,null,null,null,null,null,null,null,null,"'PL_2020-10'!$A:$H","$A:$H","11026PL44105","DTDL W980 ST2 Platinově bílá 2800/2070/18","GTV","pastuszak","2020-10-01","Martin Karaščák",0,"x","x","x","x"]
[{"$error":"#N/A"},null,{"$f":"IFERROR(VLOOKUP(B528,List1!$A:$B,2,0),\"x\")","v":"x"},null,null,null,null,null,null,{"$f":"CONCATENATE(VLOOKUP(E528,[1]Seznamy!$Q$2:$R$36,2,0),VLOOKUP(F528,[1]Produkty!$I:$O,7,0),C528,D528)","v":{"$error":"#N/A"}},null,"CZ","TWD","Strong electric socket, lift","TWD_Strong electric socket, lift",0,null,"SK",null,null,"_",0,null,null,null,null,null,null,null,null,null,null,null,null,null,null,null,null,null,null,null,null,null,null,null,null,null,null,null,null,null,null,"'PL_2020-10'!$A:$H","$A:$H","11027PL44105","DTDD DUB COMMERCIAL A/B DEC 2800/2070/19","GTV","pastuszak","2020-10-01","Martin Karaščák",0,"x","x","x","x"]
[{"$error":"#N/A"},null,{"$f":"IFERROR(VLOOKUP(B529,List1!$A:$B,2,0),\"x\")","v":"x"},null,null,null,null,null,null,{"$f":"CONCATENATE(VLOOKUP(E529,[1]Seznamy!$Q$2:$R$36,2,0),VLOOKUP(F529,[1]Produkty!$I:$O,7,0),C529,D529)","v":{"$error":"#N/A"}},null,"CZ","TWD","STRONG Elektrická zásuvka 3x230V, francouzský typ, 265x130x68 mm stříbrná","TWD_STRONG Elektrická zásuvka 3x230V, francouzský typ, 265x130x68 mm stříbrná",0,null,"SK",null,null,"_",0,null,null,null,null,null,null,null,null,null,null,null,null,null,null,null,null,null,null,null,null,null,null,null,null,null,null,null,null,null,null,"'PL_2020-10'!$A:$H","$A:$H","11028PL44105","DTDD Dub evr. radiál st A/B 2800/2070/19","GTV","pastuszak","2020-10-01","Martin Karaščák",0,"x","x","x","x"]
[{"$error":"#N/A"},null,{"$f":"IFERROR(VLOOKUP(B530,List1!$A:$B,2,0),\"x\")","v":"x"},null,null,null,null,null,null,{"$f":"CONCATENATE(VLOOKUP(E530,[1]Seznamy!$Q$2:$R$36,2,0),VLOOKUP(F530,[1]Produkty!$I:$O,7,0),C530,D530)","v":{"$error":"#N/A"}},null,"CZ","TWD","STRONG Elektricky stavitelná podnož černá RAL 9005 mat","TWD_STRONG Elektricky stavitelná podnož černá RAL 9005 mat",0,null,"SK",null,null,"_",0,null,null,null,null,null,null,null,null,null,null,null,null,null,null,null,null,null,null,null,null,null,null,null,null,null,null,null,null,null,null,"'PL_2020-10'!$A:$H","$A:$H","11029PL44105","ABSB HU10113 Bílá 101/110/113/8100/8685/W954/B3822 PE 22/2","GTV","pastuszak","2020-10-01","Martin Karaščák",0,"x","x","x","x"]
[{"$error":"#N/A"},null,{"$f":"IFERROR(VLOOKUP(B531,List1!$A:$B,2,0),\"x\")","v":"x"},null,null,null,null,null,null,{"$f":"CONCATENATE(VLOOKUP(E531,[1]Seznamy!$Q$2:$R$36,2,0),VLOOKUP(F531,[1]Produkty!$I:$O,7,0),C531,D531)","v":{"$error":"#N/A"}},null,"CZ","TWD","STRONG Stolová noha centrální 450x450 černá","TWD_STRONG Stolová noha centrální 450x450 černá",0,null,"SK",null,null,"_",0,null,null,null,null,null,null,null,null,null,null,null,null,null,null,null,null,null,null,null,null,null,null,null,null,null,null,null,null,null,null,"'PL_2020-10'!$A:$H","$A:$H","11030PL44105","ABSB 77039/414 W980/500/W954 ST2 23/2","GTV","pastuszak","2020-10-01","Martin Karaščák",0,"x","x","x","x"]
[{"$error":"#N/A"},null,{"$f":"IFERROR(VLOOKUP(B532,List1!$A:$B,2,0),\"x\")","v":"x"},null,null,null,null,null,null,{"$f":"CONCATENATE(VLOOKUP(E532,[1]Seznamy!$Q$2:$R$36,2,0),VLOOKUP(F532,[1]Produkty!$I:$O,7,0),C532,D532)","v":{"$error":"#N/A"}},null,"CZ","TWD","StrongBox H86/500mm bílý","TWD_StrongBox H86/500mm bílý",0,null,"SK",null,null,"_",0,null,null,null,null,null,null,null,null,null,null,null,null,null,null,null,null,null,null,null,null,null,null,null,null,null,null,null,null,null,null,"'PL_2020-10'!$A:$H","$A:$H","11031PL44105","HDF LAK 101 BÍLÁ PE 2800/2070/3","GTV","pastuszak","2020-10-01","Martin Karaščák",0,"x","x","x","x"]
[{"$error":"#N/A"},null,{"$f":"IFERROR(VLOOKUP(B533,List1!$A:$B,2,0),\"x\")","v":"x"},null,null,null,null,null,null,{"$f":"CONCATENATE(VLOOKUP(E533,[1]Seznamy!$Q$2:$R$36,2,0),VLOOKUP(F533,[1]Produkty!$I:$O,7,0),C533,D533)","v":{"$error":"#N/A"}},null,"CZ","TWD","StrongMax 89/500 mm šedý (antracit)","TWD_StrongMax 89/500 mm šedý (antracit)",0,null,"SK",null,null,"_",0,null,null,null,null,null,null,null,null,null,null,null,null,null,null,null,null,null,null,null,null,null,null,null,null,null,null,null,null,null,null,"'PL_2020-10'!$A:$H","$A:$H","1092PL44105","STRONG závěs naložený, slide on","Hafele","pastuszak","2020-10-01","Martin Zniszczol",0.116548608,"x","x","x","x"]
[{"$error":"#N/A"},null,{"$f":"IFERROR(VLOOKUP(B534,List1!$A:$B,2,0),\"x\")","v":"x"},null,null,null,null,null,null,{"$f":"CONCATENATE(VLOOKUP(E534,[1]Seznamy!$Q$2:$R$36,2,0),VLOOKUP(F534,[1]Produkty!$I:$O,7,0),C534,D534)","v":{"$error":"#N/A"}},null,"CZ","TWD","StrongRide synchro 3D celovýsuv 500 mm s tlumením","TWD_StrongRide synchro 3D celovýsuv 500 mm s tlumením",0,null,"SK",null,null,"_",0,null,null,null,null,null,null,null,null,null,null,null,null,null,null,null,null,null,null,null,null,null,null,null,null,null,null,null,null,null,null,"'PL_2020-10'!$A:$H","$A:$H","1094PL44105","StrongMax 89/500 mm šedý (antracit)","Hafele","pastuszak","2020-10-01","Martin Zniszczol",9.6698923199999989,"x","x","x","x"]
[{"$error":"#N/A"},null,{"$f":"IFERROR(VLOOKUP(B535,List1!$A:$B,2,0),\"x\")","v":"x"},null,null,null,null,null,null,{"$f":"CONCATENATE(VLOOKUP(E535,[1]Seznamy!$Q$2:$R$36,2,0),VLOOKUP(F535,[1]Produkty!$I:$O,7,0),C535,D535)","v":{"$error":"#N/A"}},null,"CZ","TWD","TULIP úchytka Anita 96 nikl matný + šroubky","TWD_TULIP úchytka Anita 96 nikl matný + šroubky",0,null,"SK",null,null,"_",0,null,null,null,null,null,null,null,null,null,null,null,null,null,null,null,null,null,null,null,null,null,null,null,null,null,null,null,null,null,null,"'PL_2020-10'!$A:$H","$A:$H","1095PL44105","StrongRide synchro 3D celovýsuv 500 mm s tlumením","Hafele","pastuszak","2020-10-01","Martin Zniszczol",5.5246771800000003,"x","x","x","x"]
[{"$error":"#N/A"},null,{"$f":"IFERROR(VLOOKUP(B536,List1!$A:$B,2,0),\"x\")","v":"x"},null,null,null,null,null,null,{"$f":"CONCATENATE(VLOOKUP(E536,[1]Seznamy!$Q$2:$R$36,2,0),VLOOKUP(F536,[1]Produkty!$I:$O,7,0),C536,D536)","v":{"$error":"#N/A"}},null,"CZ","TWD","TULIP Úchytka Lucata 160 černá matná","TWD_TULIP Úchytka Lucata 160 černá matná",0,null,"SK",null,null,"_",0,null,null,null,null,null,null,null,null,null,null,null,null,null,null,null,null,null,null,null,null,null,null,null,null,null,null,null,null,null,null,"'PL_2020-10'!$A:$H","$A:$H","1096PL44105","STRONG Rektifikační nožka 100 mm","Hafele","pastuszak","2020-10-01","Lukáš Sládek",0.10149289523999999,"x","x","x","x"]
[{"$error":"#N/A"},null,{"$f":"IFERROR(VLOOKUP(B537,List1!$A:$B,2,0),\"x\")","v":"x"},null,null,null,null,null,null,{"$f":"CONCATENATE(VLOOKUP(E537,[1]Seznamy!$Q$2:$R$36,2,0),VLOOKUP(F537,[1]Produkty!$I:$O,7,0),C537,D537)","v":{"$error":"#N/A"}},null,"CZ","TWD","TULIP úchytka Nakana 128 chrom matný + šroubky","TWD_TULIP úchytka Nakana 128 chrom matný + šroubky",0,null,"SK",null,null,"_",0,null,null,null,null,null,null,null,null,null,null,null,null,null,null,null,null,null,null,null,null,null,null,null,null,null,null,null,null,null,null,"'PL_2020-10'!$A:$H","$A:$H","1097PL44105","STRONG Stolová noha centrální 450x450 černá","Hafele","pastuszak","2020-10-01","Lukáš Sládek",33.268595282999996,"x","x","x","x"]
[{"$error":"#N/A"},null,{"$f":"IFERROR(VLOOKUP(B538,List1!$A:$B,2,0),\"x\")","v":"x"},null,null,null,null,null,null,{"$f":"CONCATENATE(VLOOKUP(E538,[1]Seznamy!$Q$2:$R$36,2,0),VLOOKUP(F538,[1]Produkty!$I:$O,7,0),C538,D538)","v":{"$error":"#N/A"}},null,"CZ","TWD","TULIP úchytka Piombina 96 nikl matný + šroubky","TWD_TULIP úchytka Piombina 96 nikl matný + šroubky",0,null,"SK",null,null,"_",0,null,null,null,null,null,null,null,null,null,null,null,null,null,null,null,null,null,null,null,null,null,null,null,null,null,null,null,null,null,null,"'PL_2020-10'!$A:$H","$A:$H","1098PL44105","STRONG Elektrická zásuvka 3x230V, francouzský typ, 265x130x68 mm stříbrná","Hafele","pastuszak","2020-10-01","Lukáš Sládek",14.75416827654,"x","x","x","x"]
[{"$error":"#N/A"},null,{"$f":"IFERROR(VLOOKUP(B539,List1!$A:$B,2,0),\"x\")","v":"x"},null,null,null,null,null,null,{"$f":"CONCATENATE(VLOOKUP(E539,[1]Seznamy!$Q$2:$R$36,2,0),VLOOKUP(F539,[1]Produkty!$I:$O,7,0),C539,D539)","v":{"$error":"#N/A"}},null,"CZ","TWD","TULIP Úchytka Ramara 596 imitace nerezi","TWD_TULIP Úchytka Ramara 596 imitace nerezi",0,null,"SK",null,null,"_",0,null,null,null,null,null,null,null,null,null,null,null,null,null,null,null,null,null,null,null,null,null,null,null,null,null,null,null,null,null,null,"'PL_2020-10'!$A:$H","$A:$H","1099PL44105","BBP OA Zásuvka 515 mm kovová černá","Hafele","pastuszak","2020-10-01","Lukáš Sládek",5.0717492575200005,"x","x","x","x"]
[{"$error":"#N/A"},null,{"$f":"IFERROR(VLOOKUP(B540,List1!$A:$B,2,0),\"x\")","v":"x"},null,null,null,null,null,null,{"$f":"CONCATENATE(VLOOKUP(E540,[1]Seznamy!$Q$2:$R$36,2,0),VLOOKUP(F540,[1]Produkty!$I:$O,7,0),C540,D540)","v":{"$error":"#N/A"}},null,"CZ","TWD","TULIP věšák Lugo XL chrom matný + šroubky","TWD_TULIP věšák Lugo XL chrom matný + šroubky",0,null,"SK",null,null,"_",0,null,null,null,null,null,null,null,null,null,null,null,null,null,null,null,null,null,null,null,null,null,null,null,null,null,null,null,null,null,null,"'PL_2020-10'!$A:$H","$A:$H","10910PL44105","FRANKE Dřez ETN 614 6/4 obyčejný ventil bez otvoru","Hafele","pastuszak","2020-10-01","Marcela Piechová",22.854453600000003,"x","x","x","x"]
[{"$error":"#N/A"},null,{"$f":"IFERROR(VLOOKUP(B541,List1!$A:$B,2,0),\"x\")","v":"x"},null,null,null,null,null,null,{"$f":"CONCATENATE(VLOOKUP(E541,[1]Seznamy!$Q$2:$R$36,2,0),VLOOKUP(F541,[1]Produkty!$I:$O,7,0),C541,D541)","v":{"$error":"#N/A"}},null,"CZ","TWD","Vrut PZ 4x18 zápustná hlava zinek bílý PZ2","TWD_Vrut PZ 4x18 zápustná hlava zinek bílý PZ2",0,null,"SK",null,null,"_",0,null,null,null,null,null,null,null,null,null,null,null,null,null,null,null,null,null,null,null,null,null,null,null,null,null,null,null,null,null,null,"'PL_2020-10'!$A:$H","$A:$H","10911PL44105","FRANKE Dřez BFG 611-78 780 x 500 onyx","Hafele","pastuszak","2020-10-01","Marcela Piechová",111.2674992,"x","x","x","x"]
[{"$error":"#N/A"},null,{"$f":"IFERROR(VLOOKUP(B542,List1!$A:$B,2,0),\"x\")","v":"x"},null,null,null,null,null,null,{"$f":"CONCATENATE(VLOOKUP(E542,[1]Seznamy!$Q$2:$R$36,2,0),VLOOKUP(F542,[1]Produkty!$I:$O,7,0),C542,D542)","v":{"$error":"#N/A"}},null,"CZ","Weyland","Vrut PZ 4x18 zápustná hlava zinek bílý PZ2","Weyland_Vrut PZ 4x18 zápustná hlava zinek bílý PZ2","https://www.hpmtec.cz/vruty-uni-tec-pz-s-plnym-zavitem-zinek?varietyid=6080",null,"SK",null,null,"_",0,null,null,null,null,null,null,null,null,null,null,null,null,null,null,null,null,null,null,null,null,null,null,null,null,null,null,null,null,null,null,"'PL_2020-10'!$A:$H","$A:$H","10912PL44105","GOLLINUCCI Sorter Sistema 901/2x16 l, 600 mm","Hafele","pastuszak","2020-10-01","Marcela Piechová",17.270591580000001,"x","x","x","x"]
[{"$error":"#N/A"},null,{"$f":"IFERROR(VLOOKUP(B543,List1!$A:$B,2,0),\"x\")","v":"x"},null,null,null,null,null,null,{"$f":"CONCATENATE(VLOOKUP(E543,[1]Seznamy!$Q$2:$R$36,2,0),VLOOKUP(F543,[1]Produkty!$I:$O,7,0),C543,D543)","v":{"$error":"#N/A"}},null,"CZ","Weyland","ABSB 77039/414 W980/500/W954 ST2 23/2","Weyland_ABSB 77039/414 W980/500/W954 ST2 23/2",0,null,"SK",null,null,"_",0,null,null,null,null,null,null,null,null,null,null,null,null,null,null,null,null,null,null,null,null,null,null,null,null,null,null,null,null,null,null,"'PL_2020-10'!$A:$H","$A:$H","10913PL44105","GOLLINUCCI Sorter 580 Plus Line, 600 mm, výška 505mm, 80 l, šedý","Hafele","pastuszak","2020-10-01","Marcela Piechová",76.735421400000007,"x","x","x","x"]
[{"$error":"#N/A"},null,{"$f":"IFERROR(VLOOKUP(B544,List1!$A:$B,2,0),\"x\")","v":"x"},null,null,null,null,null,null,{"$f":"CONCATENATE(VLOOKUP(E544,[1]Seznamy!$Q$2:$R$36,2,0),VLOOKUP(F544,[1]Produkty!$I:$O,7,0),C544,D544)","v":{"$error":"#N/A"}},null,"CZ","Weyland","ABSB HU10113 Bílá 101/110/113/8100/8685/W954/B3822 PE 22/2","Weyland_ABSB HU10113 Bílá 101/110/113/8100/8685/W954/B3822 PE 22/2",0,null,"SK",null,null,"_",0,null,null,null,null,null,null,null,null,null,null,null,null,null,null,null,null,null,null,null,null,null,null,null,null,null,null,null,null,null,null,"'PL_2020-10'!$A:$H","$A:$H","10914PL44105","FRANKE Dřez ETN 610 455 x 435","Hafele","pastuszak","2020-10-01","Marcela Piechová",25.228676220000001,"x","x","x","x"]
[{"$error":"#N/A"},null,{"$f":"IFERROR(VLOOKUP(B545,List1!$A:$B,2,0),\"x\")","v":"x"},null,null,null,null,null,null,{"$f":"CONCATENATE(VLOOKUP(E545,[1]Seznamy!$Q$2:$R$36,2,0),VLOOKUP(F545,[1]Produkty!$I:$O,7,0),C545,D545)","v":{"$error":"#N/A"}},null,"CZ","Weyland","Alfa II profile 222788","Weyland_Alfa II profile 222788",0,null,"SK",null,null,"_",0,null,null,null,null,null,null,null,null,null,null,null,null,null,null,null,null,null,null,null,null,null,null,null,null,null,null,null,null,null,null,"'PL_2020-10'!$A:$H","$A:$H","10915PL44105","GOLLINUCCI Sorter Linea 222, 300 mm","Hafele","pastuszak","2020-10-01","Marcela Piechová",27.866954280000002,"x","x","x","x"]
[{"$error":"#N/A"},null,{"$f":"IFERROR(VLOOKUP(B546,List1!$A:$B,2,0),\"x\")","v":"x"},null,null,null,null,null,null,{"$f":"CONCATENATE(VLOOKUP(E546,[1]Seznamy!$Q$2:$R$36,2,0),VLOOKUP(F546,[1]Produkty!$I:$O,7,0),C546,D546)","v":{"$error":"#N/A"}},null,"CZ","Weyland","BBP OA Zásuvka 515 mm kovová černá","Weyland_BBP OA Zásuvka 515 mm kovová černá",0,null,"SK",null,null,"_",0,null,null,null,null,null,null,null,null,null,null,null,null,null,null,null,null,null,null,null,null,null,null,null,null,null,null,null,null,null,null,"'PL_2020-10'!$A:$H","$A:$H","10916PL44105","TULIP úchytka Nakana 128 chrom matný + šroubky","Hafele","pastuszak","2020-10-01","Lenka Kormaník",0.79492979675999997,"x","x","x","x"]
[{"$error":"#N/A"},null,{"$f":"IFERROR(VLOOKUP(B547,List1!$A:$B,2,0),\"x\")","v":"x"},null,null,null,null,null,null,{"$f":"CONCATENATE(VLOOKUP(E547,[1]Seznamy!$Q$2:$R$36,2,0),VLOOKUP(F547,[1]Produkty!$I:$O,7,0),C547,D547)","v":{"$error":"#N/A"}},null,"CZ","Weyland","DTDD DUB COMMERCIAL A/B DEC 2800/2070/19","Weyland_DTDD DUB COMMERCIAL A/B DEC 2800/2070/19",0,null,"SK",null,null,"_",0,null,null,null,null,null,null,null,null,null,null,null,null,null,null,null,null,null,null,null,null,null,null,null,null,null,null,null,null,null,null,"'PL_2020-10'!$A:$H","$A:$H","10917PL44105","TULIP úchytka Piombina 96 nikl matný + šroubky","Hafele","pastuszak","2020-10-01","Lenka Kormaník",0.4361922708,"x","x","x","x"]
[{"$error":"#N/A"},null,{"$f":"IFERROR(VLOOKUP(B548,List1!$A:$B,2,0),\"x\")","v":"x"},null,null,null,null,null,null,{"$f":"CONCATENATE(VLOOKUP(E548,[1]Seznamy!$Q$2:$R$36,2,0),VLOOKUP(F548,[1]Produkty!$I:$O,7,0),C548,D548)","v":{"$error":"#N/A"}},null,"CZ","Weyland","DTDD Dub evr. radiál st A/B 2800/2070/19","Weyland_DTDD Dub evr. radiál st A/B 2800/2070/19",0,null,"SK",null,null,"_",0,null,null,null,null,null,null,null,null,null,null,null,null,null,null,null,null,null,null,null,null,null,null,null,null,null,null,null,null,null,null,"'PL_2020-10'!$A:$H","$A:$H","10918PL44105","TULIP úchytka Anita 96 nikl matný + šroubky","Hafele","pastuszak","2020-10-01","Lenka Kormaník",0.2761883322,"x","x","x","x"]
[{"$error":"#N/A"},null,{"$f":"IFERROR(VLOOKUP(B549,List1!$A:$B,2,0),\"x\")","v":"x"},null,null,null,null,null,null,{"$f":"CONCATENATE(VLOOKUP(E549,[1]Seznamy!$Q$2:$R$36,2,0),VLOOKUP(F549,[1]Produkty!$I:$O,7,0),C549,D549)","v":{"$error":"#N/A"}},null,"CZ","Weyland","DTDL W980 ST2 Platinově bílá 2800/2070/18","Weyland_DTDL W980 ST2 Platinově bílá 2800/2070/18",0,null,"SK",null,null,"_",0,null,null,null,null,null,null,null,null,null,null,null,null,null,null,null,null,null,null,null,null,null,null,null,null,null,null,null,null,null,null,"'PL_2020-10'!$A:$H","$A:$H","10919PL44105","TULIP věšák Lugo XL chrom matný + šroubky","Hafele","pastuszak","2020-10-01","Lenka Kormaník",0.74823068165999995,"x","x","x","x"]
[{"$error":"#N/A"},null,{"$f":"IFERROR(VLOOKUP(B550,List1!$A:$B,2,0),\"x\")","v":"x"},null,null,null,null,null,null,{"$f":"CONCATENATE(VLOOKUP(E550,[1]Seznamy!$Q$2:$R$36,2,0),VLOOKUP(F550,[1]Produkty!$I:$O,7,0),C550,D550)","v":{"$error":"#N/A"}},null,"CZ","Weyland","FRANKE Dřez BFG 611-78 780 x 500 onyx","Weyland_FRANKE Dřez BFG 611-78 780 x 500 onyx",0,null,"SK",null,null,"_",0,null,null,null,null,null,null,null,null,null,null,null,null,null,null,null,null,null,null,null,null,null,null,null,null,null,null,null,null,null,null,"'PL_2020-10'!$A:$H","$A:$H","10920PL44105","TULIP Úchytka Ramara 596 imitace nerezi","Hafele","pastuszak","2020-10-01","Lenka Kormaník",3.63724531632,"x","x","x","x"]
[{"$error":"#N/A"},null,{"$f":"IFERROR(VLOOKUP(B551,List1!$A:$B,2,0),\"x\")","v":"x"},null,null,null,null,null,null,{"$f":"CONCATENATE(VLOOKUP(E551,[1]Seznamy!$Q$2:$R$36,2,0),VLOOKUP(F551,[1]Produkty!$I:$O,7,0),C551,D551)","v":{"$error":"#N/A"}},null,"CZ","Weyland","FRANKE Dřez ETN 610 455 x 435","Weyland_FRANKE Dřez ETN 610 455 x 435",0,null,"SK",null,null,"_",0,null,null,null,null,null,null,null,null,null,null,null,null,null,null,null,null,null,null,null,null,null,null,null,null,null,null,null,null,null,null,"'PL_2020-10'!$A:$H","$A:$H","10921PL44105","TULIP Úchytka Lucata 160 černá matná","Hafele","pastuszak","2020-10-01","Lenka Kormaník",0.82574688768000004,"x","x","x","x"]
[{"$error":"#N/A"},null,{"$f":"IFERROR(VLOOKUP(B552,List1!$A:$B,2,0),\"x\")","v":"x"},null,null,null,null,null,null,{"$f":"CONCATENATE(VLOOKUP(E552,[1]Seznamy!$Q$2:$R$36,2,0),VLOOKUP(F552,[1]Produkty!$I:$O,7,0),C552,D552)","v":{"$error":"#N/A"}},null,"CZ","Weyland","FRANKE Dřez ETN 614 6/4 obyčejný ventil bez otvoru","Weyland_FRANKE Dřez ETN 614 6/4 obyčejný ventil bez otvoru",0,null,"SK",null,null,"_",0,null,null,null,null,null,null,null,null,null,null,null,null,null,null,null,null,null,null,null,null,null,null,null,null,null,null,null,null,null,null,"'PL_2020-10'!$A:$H","$A:$H","10922PL44105","STRONG LED pásek 21,6W/m 24V bílá neutrální 210 LED/m","Hafele","pastuszak","2020-10-01","Stančo Denčev",3.2988537172800001,"x","x","x","x"]
[{"$error":"#N/A"},null,{"$f":"IFERROR(VLOOKUP(B553,List1!$A:$B,2,0),\"x\")","v":"x"},null,null,null,null,null,null,{"$f":"CONCATENATE(VLOOKUP(E553,[1]Seznamy!$Q$2:$R$36,2,0),VLOOKUP(F553,[1]Produkty!$I:$O,7,0),C553,D553)","v":{"$error":"#N/A"}},null,"CZ","Weyland","GOLLINUCCI Sorter 580 Plus Line, 600 mm, výška 505mm, 80 l, šedý","Weyland_GOLLINUCCI Sorter 580 Plus Line, 600 mm, výška 505mm, 80 l, šedý",0,null,"SK",null,null,"_",0,null,null,null,null,null,null,null,null,null,null,null,null,null,null,null,null,null,null,null,null,null,null,null,null,null,null,null,null,null,null,"'PL_2020-10'!$A:$H","$A:$H","10923PL44105","STRONG transformátor plochý LED 24V 100W","Hafele","pastuszak","2020-10-01","Stančo Denčev",15.99443667822,"x","x","x","x"]
[{"$error":"#N/A"},null,{"$f":"IFERROR(VLOOKUP(B554,List1!$A:$B,2,0),\"x\")","v":"x"},null,null,null,null,null,null,{"$f":"CONCATENATE(VLOOKUP(E554,[1]Seznamy!$Q$2:$R$36,2,0),VLOOKUP(F554,[1]Produkty!$I:$O,7,0),C554,D554)","v":{"$error":"#N/A"}},null,"CZ","Weyland","GOLLINUCCI Sorter Linea 222, 300 mm","Weyland_GOLLINUCCI Sorter Linea 222, 300 mm",0,null,"SK",null,null,"_",0,null,null,null,null,null,null,null,null,null,null,null,null,null,null,null,null,null,null,null,null,null,null,null,null,null,null,null,null,null,null,"'PL_2020-10'!$A:$H","$A:$H","10924PL44105","Vrut PZ 4x18 zápustná hlava zinek bílý PZ2","Hafele","pastuszak","2020-10-01","Stančo Denčev",2.03960064E-3,"x","x","x","x"]
[{"$error":"#N/A"},null,{"$f":"IFERROR(VLOOKUP(B555,List1!$A:$B,2,0),\"x\")","v":"x"},null,null,null,null,null,null,{"$f":"CONCATENATE(VLOOKUP(E555,[1]Seznamy!$Q$2:$R$36,2,0),VLOOKUP(F555,[1]Produkty!$I:$O,7,0),C555,D555)","v":{"$error":"#N/A"}},null,"CZ","Weyland","GOLLINUCCI Sorter Sistema 901/2x16 l, 600 mm","Weyland_GOLLINUCCI Sorter Sistema 901/2x16 l, 600 mm",0,null,"SK",null,null,"_",0,null,null,null,null,null,null,null,null,null,null,null,null,null,null,null,null,null,null,null,null,null,null,null,null,null,null,null,null,null,null,"'PL_2020-10'!$A:$H","$A:$H","10925PL44105","Konfirmát 7/50 zinek bílý bulk","Hafele","pastuszak","2020-10-01","Stančo Denčev",8.3200227000000005E-3,"x","x","x","x"]
[{"$error":"#N/A"},null,{"$f":"IFERROR(VLOOKUP(B556,List1!$A:$B,2,0),\"x\")","v":"x"},null,null,null,null,null,null,{"$f":"CONCATENATE(VLOOKUP(E556,[1]Seznamy!$Q$2:$R$36,2,0),VLOOKUP(F556,[1]Produkty!$I:$O,7,0),C556,D556)","v":{"$error":"#N/A"}},null,"CZ","Weyland","HDF LAK 101 BÍLÁ PE 2800/2070/3","Weyland_HDF LAK 101 BÍLÁ PE 2800/2070/3",0,null,"SK",null,null,"_",0,null,null,null,null,null,null,null,null,null,null,null,null,null,null,null,null,null,null,null,null,null,null,null,null,null,null,null,null,null,null,"'PL_2020-10'!$A:$H","$A:$H","10926PL44105","DTDL W980 ST2 Platinově bílá 2800/2070/18","Hafele","pastuszak","2020-10-01","Martin Karaščák",0,"x","x","x","x"]
[{"$error":"#N/A"},null,{"$f":"IFERROR(VLOOKUP(B557,List1!$A:$B,2,0),\"x\")","v":"x"},null,null,null,null,null,null,{"$f":"CONCATENATE(VLOOKUP(E557,[1]Seznamy!$Q$2:$R$36,2,0),VLOOKUP(F557,[1]Produkty!$I:$O,7,0),C557,D557)","v":{"$error":"#N/A"}},null,"CZ","Weyland","Konfirmát 7/50 zinek bílý bulk","Weyland_Konfirmát 7/50 zinek bílý bulk",0,null,"SK",null,null,"_",0,null,null,null,null,null,null,null,null,null,null,null,null,null,null,null,null,null,null,null,null,null,null,null,null,null,null,null,null,null,null,"'PL_2020-10'!$A:$H","$A:$H","10927PL44105","DTDD DUB COMMERCIAL A/B DEC 2800/2070/19","Hafele","pastuszak","2020-10-01","Martin Karaščák",0,"x","x","x","x"]
[{"$error":"#N/A"},null,{"$f":"IFERROR(VLOOKUP(B558,List1!$A:$B,2,0),\"x\")","v":"x"},null,null,null,null,null,null,{"$f":"CONCATENATE(VLOOKUP(E558,[1]Seznamy!$Q$2:$R$36,2,0),VLOOKUP(F558,[1]Produkty!$I:$O,7,0),C558,D558)","v":{"$error":"#N/A"}},null,"CZ","Weyland","SEVROLL Era úchytová lišta 18mm 2,70m stříbrná","Weyland_SEVROLL Era úchytová lišta 18mm 2,70m stříbrná",0,null,"SK",null,null,"_",0,null,null,null,null,null,null,null,null,null,null,null,null,null,null,null,null,null,null,null,null,null,null,null,null,null,null,null,null,null,null,"'PL_2020-10'!$A:$H","$A:$H","10928PL44105","DTDD Dub evr. radiál st A/B 2800/2070/19","Hafele","pastuszak","2020-10-01","Martin Karaščák",0,"x","x","x","x"]
[{"$error":"#N/A"},null,{"$f":"IFERROR(VLOOKUP(B559,List1!$A:$B,2,0),\"x\")","v":"x"},null,null,null,null,null,null,{"$f":"CONCATENATE(VLOOKUP(E559,[1]Seznamy!$Q$2:$R$36,2,0),VLOOKUP(F559,[1]Produkty!$I:$O,7,0),C559,D559)","v":{"$error":"#N/A"}},null,"CZ","Weyland","Strong electric socket, lift","Weyland_Strong electric socket, lift",0,null,"SK",null,null,"_",0,null,null,null,null,null,null,null,null,null,null,null,null,null,null,null,null,null,null,null,null,null,null,null,null,null,null,null,null,null,null,"'PL_2020-10'!$A:$H","$A:$H","10929PL44105","ABSB HU10113 Bílá 101/110/113/8100/8685/W954/B3822 PE 22/2","Hafele","pastuszak","2020-10-01","Martin Karaščák",0,"x","x","x","x"]
[{"$error":"#N/A"},null,{"$f":"IFERROR(VLOOKUP(B560,List1!$A:$B,2,0),\"x\")","v":"x"},null,null,null,null,null,null,{"$f":"CONCATENATE(VLOOKUP(E560,[1]Seznamy!$Q$2:$R$36,2,0),VLOOKUP(F560,[1]Produkty!$I:$O,7,0),C560,D560)","v":{"$error":"#N/A"}},null,"CZ","Weyland","STRONG Elektrická zásuvka 3x230V, francouzský typ, 265x130x68 mm stříbrná","Weyland_STRONG Elektrická zásuvka 3x230V, francouzský typ, 265x130x68 mm stříbrná",0,null,"SK",null,null,"_",0,null,null,null,null,null,null,null,null,null,null,null,null,null,null,null,null,null,null,null,null,null,null,null,null,null,null,null,null,null,null,"'PL_2020-10'!$A:$H","$A:$H","10930PL44105","ABSB 77039/414 W980/500/W954 ST2 23/2","Hafele","pastuszak","2020-10-01","Martin Karaščák",0,"x","x","x","x"]
[{"$error":"#N/A"},null,{"$f":"IFERROR(VLOOKUP(B561,List1!$A:$B,2,0),\"x\")","v":"x"},null,null,null,null,null,null,{"$f":"CONCATENATE(VLOOKUP(E561,[1]Seznamy!$Q$2:$R$36,2,0),VLOOKUP(F561,[1]Produkty!$I:$O,7,0),C561,D561)","v":{"$error":"#N/A"}},null,"CZ","Weyland","STRONG Elektricky stavitelná podnož černá RAL 9005 mat","Weyland_STRONG Elektricky stavitelná podnož černá RAL 9005 mat",0,null,"SK",null,null,"_",0,null,null,null,null,null,null,null,null,null,null,null,null,null,null,null,null,null,null,null,null,null,null,null,null,null,null,null,null,null,null,"'PL_2020-10'!$A:$H","$A:$H","10931PL44105","HDF LAK 101 BÍLÁ PE 2800/2070/3","Hafele","pastuszak","2020-10-01","Martin Karaščák",0,"x","x","x","x"]
[{"$error":"#N/A"},null,{"$f":"IFERROR(VLOOKUP(B562,List1!$A:$B,2,0),\"x\")","v":"x"},null,null,null,null,null,null,{"$f":"CONCATENATE(VLOOKUP(E562,[1]Seznamy!$Q$2:$R$36,2,0),VLOOKUP(F562,[1]Produkty!$I:$O,7,0),C562,D562)","v":{"$error":"#N/A"}},null,"CZ","Weyland","STRONG LED pásek 21,6W/m 24V bílá neutrální 210 LED/m","Weyland_STRONG LED pásek 21,6W/m 24V bílá neutrální 210 LED/m",0,null,"SK",null,null,"_",0,null,null,null,null,null,null,null,null,null,null,null,null,null,null,null,null,null,null,null,null,null,null,null,null,null,null,null,null,null,null,"'PL_2020-10'!$A:$H","$A:$H","1281PL44105","STRONG plus závěs naložený s tlumením, s excentrem, klipový","Nomet","pastuszak","2020-10-01","Martin Zniszczol",0.29137151999999999,"x","x","x","x"]
[{"$error":"#N/A"},null,{"$f":"IFERROR(VLOOKUP(B563,List1!$A:$B,2,0),\"x\")","v":"x"},null,null,null,null,null,null,{"$f":"CONCATENATE(VLOOKUP(E563,[1]Seznamy!$Q$2:$R$36,2,0),VLOOKUP(F563,[1]Produkty!$I:$O,7,0),C563,D563)","v":{"$error":"#N/A"}},null,"CZ","Weyland","STRONG plus závěs naložený s tlumením, s excentrem, klipový","Weyland_STRONG plus závěs naložený s tlumením, s excentrem, klipový",0,null,"SK",null,null,"_",0,null,null,null,null,null,null,null,null,null,null,null,null,null,null,null,null,null,null,null,null,null,null,null,null,null,null,null,null,null,null,"'PL_2020-10'!$A:$H","$A:$H","1282PL44105","STRONG závěs naložený, slide on","Nomet","pastuszak","2020-10-01","Martin Zniszczol",0.116548608,"x","x","x","x"]
[{"$error":"#N/A"},null,{"$f":"IFERROR(VLOOKUP(B564,List1!$A:$B,2,0),\"x\")","v":"x"},null,null,null,null,null,null,{"$f":"CONCATENATE(VLOOKUP(E564,[1]Seznamy!$Q$2:$R$36,2,0),VLOOKUP(F564,[1]Produkty!$I:$O,7,0),C564,D564)","v":{"$error":"#N/A"}},null,"CZ","Weyland","STRONG Rektifikační nožka 100 mm","Weyland_STRONG Rektifikační nožka 100 mm",0,null,"SK",null,null,"_",0,null,null,null,null,null,null,null,null,null,null,null,null,null,null,null,null,null,null,null,null,null,null,null,null,null,null,null,null,null,null,"'PL_2020-10'!$A:$H","$A:$H","1283PL44105","StrongBox H86/500mm bílý","Nomet","pastuszak","2020-10-01","Martin Zniszczol",7.336643819999999,"x","x","x","x"]
[{"$error":"#N/A"},null,{"$f":"IFERROR(VLOOKUP(B565,List1!$A:$B,2,0),\"x\")","v":"x"},null,null,null,null,null,null,{"$f":"CONCATENATE(VLOOKUP(E565,[1]Seznamy!$Q$2:$R$36,2,0),VLOOKUP(F565,[1]Produkty!$I:$O,7,0),C565,D565)","v":{"$error":"#N/A"}},null,"CZ","Weyland","STRONG Stolová noha centrální 450x450 černá","Weyland_STRONG Stolová noha centrální 450x450 černá",0,null,"SK",null,null,"_",0,null,null,null,null,null,null,null,null,null,null,null,null,null,null,null,null,null,null,null,null,null,null,null,null,null,null,null,null,null,null,"'PL_2020-10'!$A:$H","$A:$H","1284PL44105","StrongMax 89/500 mm šedý (antracit)","Nomet","pastuszak","2020-10-01","Martin Zniszczol",9.6698923199999989,"x","x","x","x"]
[{"$error":"#N/A"},null,{"$f":"IFERROR(VLOOKUP(B566,List1!$A:$B,2,0),\"x\")","v":"x"},null,null,null,null,null,null,{"$f":"CONCATENATE(VLOOKUP(E566,[1]Seznamy!$Q$2:$R$36,2,0),VLOOKUP(F566,[1]Produkty!$I:$O,7,0),C566,D566)","v":{"$error":"#N/A"}},null,"CZ","Weyland","STRONG transformátor plochý LED 24V 100W","Weyland_STRONG transformátor plochý LED 24V 100W",0,null,"SK",null,null,"_",0,null,null,null,null,null,null,null,null,null,null,null,null,null,null,null,null,null,null,null,null,null,null,null,null,null,null,null,null,null,null,"'PL_2020-10'!$A:$H","$A:$H","1285PL44105","StrongRide synchro 3D celovýsuv 500 mm s tlumením","Nomet","pastuszak","2020-10-01","Martin Zniszczol",5.5246771800000003,"x","x","x","x"]
[{"$error":"#N/A"},null,{"$f":"IFERROR(VLOOKUP(B567,List1!$A:$B,2,0),\"x\")","v":"x"},null,null,null,null,null,null,{"$f":"CONCATENATE(VLOOKUP(E567,[1]Seznamy!$Q$2:$R$36,2,0),VLOOKUP(F567,[1]Produkty!$I:$O,7,0),C567,D567)","v":{"$error":"#N/A"}},null,"CZ","Weyland","STRONG závěs naložený, slide on","Weyland_STRONG závěs naložený, slide on",0,null,"SK",null,null,"_",0,null,null,null,null,null,null,null,null,null,null,null,null,null,null,null,null,null,null,null,null,null,null,null,null,null,null,null,null,null,null,"'PL_2020-10'!$A:$H","$A:$H","1286PL44105","STRONG Rektifikační nožka 100 mm","Nomet","pastuszak","2020-10-01","Lukáš Sládek",0.10149289523999999,"x","x","x","x"]
[{"$error":"#N/A"},null,{"$f":"IFERROR(VLOOKUP(B568,List1!$A:$B,2,0),\"x\")","v":"x"},null,null,null,null,null,null,{"$f":"CONCATENATE(VLOOKUP(E568,[1]Seznamy!$Q$2:$R$36,2,0),VLOOKUP(F568,[1]Produkty!$I:$O,7,0),C568,D568)","v":{"$error":"#N/A"}},null,"CZ","Weyland","StrongBox H86/500mm bílý","Weyland_StrongBox H86/500mm bílý",0,null,"SK",null,null,"_",0,null,null,null,null,null,null,null,null,null,null,null,null,null,null,null,null,null,null,null,null,null,null,null,null,null,null,null,null,null,null,"'PL_2020-10'!$A:$H","$A:$H","1287PL44105","STRONG Stolová noha centrální 450x450 černá","Nomet","pastuszak","2020-10-01","Lukáš Sládek",33.268595282999996,"x","x","x","x"]
[{"$error":"#N/A"},null,{"$f":"IFERROR(VLOOKUP(B569,List1!$A:$B,2,0),\"x\")","v":"x"},null,null,null,null,null,null,{"$f":"CONCATENATE(VLOOKUP(E569,[1]Seznamy!$Q$2:$R$36,2,0),VLOOKUP(F569,[1]Produkty!$I:$O,7,0),C569,D569)","v":{"$error":"#N/A"}},null,"CZ","Weyland","StrongMax 89/500 mm šedý (antracit)","Weyland_StrongMax 89/500 mm šedý (antracit)",0,null,"SK",null,null,"_",0,null,null,null,null,null,null,null,null,null,null,null,null,null,null,null,null,null,null,null,null,null,null,null,null,null,null,null,null,null,null,"'PL_2020-10'!$A:$H","$A:$H","1288PL44105","STRONG Elektrická zásuvka 3x230V, francouzský typ, 265x130x68 mm stříbrná","Nomet","pastuszak","2020-10-01","Lukáš Sládek",14.75416827654,"x","x","x","x"]
[{"$error":"#N/A"},null,{"$f":"IFERROR(VLOOKUP(B570,List1!$A:$B,2,0),\"x\")","v":"x"},null,null,null,null,null,null,{"$f":"CONCATENATE(VLOOKUP(E570,[1]Seznamy!$Q$2:$R$36,2,0),VLOOKUP(F570,[1]Produkty!$I:$O,7,0),C570,D570)","v":{"$error":"#N/A"}},null,"CZ","Weyland","StrongRide synchro 3D celovýsuv 500 mm s tlumením","Weyland_StrongRide synchro 3D celovýsuv 500 mm s tlumením",0,null,"SK",null,null,"_",0,null,null,null,null,null,null,null,null,null,null,null,null,null,null,null,null,null,null,null,null,null,null,null,null,null,null,null,null,null,null,"'PL_2020-10'!$A:$H","$A:$H","1289PL44105","BBP OA Zásuvka 515 mm kovová černá","Nomet","pastuszak","2020-10-01","Lukáš Sládek",5.0717492575200005,"x","x","x","x"]
[{"$error":"#N/A"},null,{"$f":"IFERROR(VLOOKUP(B571,List1!$A:$B,2,0),\"x\")","v":"x"},null,null,null,null,null,null,{"$f":"CONCATENATE(VLOOKUP(E571,[1]Seznamy!$Q$2:$R$36,2,0),VLOOKUP(F571,[1]Produkty!$I:$O,7,0),C571,D571)","v":{"$error":"#N/A"}},null,"CZ","Weyland","TULIP Gola dvířkový J profil 4,1m eloxovaný hliník","Weyland_TULIP Gola dvířkový J profil 4,1m eloxovaný hliník",0,null,"SK",null,null,"_",0,null,null,null,null,null,null,null,null,null,null,null,null,null,null,null,null,null,null,null,null,null,null,null,null,null,null,null,null,null,null,"'PL_2020-10'!$A:$H","$A:$H","12810PL44105","FRANKE Dřez ETN 614 6/4 obyčejný ventil bez otvoru","Nomet","pastuszak","2020-10-01","Marcela Piechová",22.854453600000003,"x","x","x","x"]
[{"$error":"#N/A"},null,{"$f":"IFERROR(VLOOKUP(B572,List1!$A:$B,2,0),\"x\")","v":"x"},null,null,null,null,null,null,{"$f":"CONCATENATE(VLOOKUP(E572,[1]Seznamy!$Q$2:$R$36,2,0),VLOOKUP(F572,[1]Produkty!$I:$O,7,0),C572,D572)","v":{"$error":"#N/A"}},null,"CZ","Weyland","TULIP úchytka Anita 96 nikl matný + šroubky","Weyland_TULIP úchytka Anita 96 nikl matný + šroubky",0,null,"SK",null,null,"_",0,null,null,null,null,null,null,null,null,null,null,null,null,null,null,null,null,null,null,null,null,null,null,null,null,null,null,null,null,null,null,"'PL_2020-10'!$A:$H","$A:$H","12811PL44105","FRANKE Dřez BFG 611-78 780 x 500 onyx","Nomet","pastuszak","2020-10-01","Marcela Piechová",111.2674992,"x","x","x","x"]
[{"$error":"#N/A"},null,{"$f":"IFERROR(VLOOKUP(B573,List1!$A:$B,2,0),\"x\")","v":"x"},null,null,null,null,null,null,{"$f":"CONCATENATE(VLOOKUP(E573,[1]Seznamy!$Q$2:$R$36,2,0),VLOOKUP(F573,[1]Produkty!$I:$O,7,0),C573,D573)","v":{"$error":"#N/A"}},null,"CZ","Weyland","TULIP Úchytka Lucata 160 černá matná","Weyland_TULIP Úchytka Lucata 160 černá matná",0,null,"SK",null,null,"_",0,null,null,null,null,null,null,null,null,null,null,null,null,null,null,null,null,null,null,null,null,null,null,null,null,null,null,null,null,null,null,"'PL_2020-10'!$A:$H","$A:$H","12812PL44105","GOLLINUCCI Sorter Sistema 901/2x16 l, 600 mm","Nomet","pastuszak","2020-10-01","Marcela Piechová",17.270591580000001,"x","x","x","x"]
[{"$error":"#N/A"},null,{"$f":"IFERROR(VLOOKUP(B574,List1!$A:$B,2,0),\"x\")","v":"x"},null,null,null,null,null,null,{"$f":"CONCATENATE(VLOOKUP(E574,[1]Seznamy!$Q$2:$R$36,2,0),VLOOKUP(F574,[1]Produkty!$I:$O,7,0),C574,D574)","v":{"$error":"#N/A"}},null,"CZ","Weyland","TULIP úchytka Nakana 128 chrom matný + šroubky","Weyland_TULIP úchytka Nakana 128 chrom matný + šroubky",0,null,"SK",null,null,"_",0,null,null,null,null,null,null,null,null,null,null,null,null,null,null,null,null,null,null,null,null,null,null,null,null,null,null,null,null,null,null,"'PL_2020-10'!$A:$H","$A:$H","12813PL44105","GOLLINUCCI Sorter 580 Plus Line, 600 mm, výška 505mm, 80 l, šedý","Nomet","pastuszak","2020-10-01","Marcela Piechová",76.735421400000007,"x","x","x","x"]
[{"$error":"#N/A"},null,{"$f":"IFERROR(VLOOKUP(B575,List1!$A:$B,2,0),\"x\")","v":"x"},null,null,null,null,null,null,{"$f":"CONCATENATE(VLOOKUP(E575,[1]Seznamy!$Q$2:$R$36,2,0),VLOOKUP(F575,[1]Produkty!$I:$O,7,0),C575,D575)","v":{"$error":"#N/A"}},null,"CZ","Weyland","TULIP úchytka Piombina 96 nikl matný + šroubky","Weyland_TULIP úchytka Piombina 96 nikl matný + šroubky",0,null,"SK",null,null,"_",0,null,null,null,null,null,null,null,null,null,null,null,null,null,null,null,null,null,null,null,null,null,null,null,null,null,null,null,null,null,null,"'PL_2020-10'!$A:$H","$A:$H","12814PL44105","FRANKE Dřez ETN 610 455 x 435","Nomet","pastuszak","2020-10-01","Marcela Piechová",25.228676220000001,"x","x","x","x"]
[{"$error":"#N/A"},null,{"$f":"IFERROR(VLOOKUP(B576,List1!$A:$B,2,0),\"x\")","v":"x"},null,null,null,null,null,null,{"$f":"CONCATENATE(VLOOKUP(E576,[1]Seznamy!$Q$2:$R$36,2,0),VLOOKUP(F576,[1]Produkty!$I:$O,7,0),C576,D576)","v":{"$error":"#N/A"}},null,"CZ","Weyland","TULIP Úchytka Ramara 596 imitace nerezi","Weyland_TULIP Úchytka Ramara 596 imitace nerezi",0,null,"SK",null,null,"_",0,null,null,null,null,null,null,null,null,null,null,null,null,null,null,null,null,null,null,null,null,null,null,null,null,null,null,null,null,null,null,"'PL_2020-10'!$A:$H","$A:$H","12815PL44105","GOLLINUCCI Sorter Linea 222, 300 mm","Nomet","pastuszak","2020-10-01","Marcela Piechová",27.866954280000002,"x","x","x","x"]
[{"$error":"#N/A"},null,{"$f":"IFERROR(VLOOKUP(B577,List1!$A:$B,2,0),\"x\")","v":"x"},null,null,null,null,null,null,{"$f":"CONCATENATE(VLOOKUP(E577,[1]Seznamy!$Q$2:$R$36,2,0),VLOOKUP(F577,[1]Produkty!$I:$O,7,0),C577,D577)","v":{"$error":"#N/A"}},null,"CZ","Weyland","TULIP věšák Lugo XL chrom matný + šroubky","Weyland_TULIP věšák Lugo XL chrom matný + šroubky",0,null,"SK",null,null,"_",0,null,null,null,null,null,null,null,null,null,null,null,null,null,null,null,null,null,null,null,null,null,null,null,null,null,null,null,null,null,null,"'PL_2020-10'!$A:$H","$A:$H","12817PL44105","TULIP úchytka Piombina 96 nikl matný + šroubky","Nomet","pastuszak","2020-10-01","Lenka Kormaník",0.4361922708,"x","x","x","x"]
[{"$error":"#N/A"},null,{"$f":"IFERROR(VLOOKUP(B578,List1!$A:$B,2,0),\"x\")","v":"x"},null,null,null,null,null,null,{"$f":"CONCATENATE(VLOOKUP(E578,[1]Seznamy!$Q$2:$R$36,2,0),VLOOKUP(F578,[1]Produkty!$I:$O,7,0),C578,D578)","v":{"$error":"#N/A"}},null,null,null,null,null,null,null,null,null,null,null,null,null,null,null,null,null,null,null,null,null,null,null,null,null,null,null,null,null,null,null,null,null,null,null,null,null,null,null,null,null,null,"'PL_2020-10'!$A:$H","$A:$H","12818PL44105","TULIP úchytka Anita 96 nikl matný + šroubky","Nomet","pastuszak","2020-10-01","Lenka Kormaník",0.2761883322,"x","x","x","x"]
[{"$error":"#N/A"},null,{"$f":"IFERROR(VLOOKUP(B579,List1!$A:$B,2,0),\"x\")","v":"x"},null,null,null,null,null,null,{"$f":"CONCATENATE(VLOOKUP(E579,[1]Seznamy!$Q$2:$R$36,2,0),VLOOKUP(F579,[1]Produkty!$I:$O,7,0),C579,D579)","v":{"$error":"#N/A"}},null,null,null,null,null,null,null,null,null,null,null,null,null,null,null,null,null,null,null,null,null,null,null,null,null,null,null,null,null,null,null,null,null,null,null,null,null,null,null,null,null,null,"'PL_2020-10'!$A:$H","$A:$H","12822PL44105","STRONG LED pásek 21,6W/m 24V bílá neutrální 210 LED/m","Nomet","pastuszak","2020-10-01","Stančo Denčev",3.2988537172800001,"x","x","x","x"]
[{"$error":"#N/A"},null,{"$f":"IFERROR(VLOOKUP(B580,List1!$A:$B,2,0),\"x\")","v":"x"},null,null,null,null,null,null,{"$f":"CONCATENATE(VLOOKUP(E580,[1]Seznamy!$Q$2:$R$36,2,0),VLOOKUP(F580,[1]Produkty!$I:$O,7,0),C580,D580)","v":{"$error":"#N/A"}},null,null,null,null,null,null,null,null,null,null,null,null,null,null,null,null,null,null,null,null,null,null,null,null,null,null,null,null,null,null,null,null,null,null,null,null,null,null,null,null,null,null,"'PL_2020-10'!$A:$H","$A:$H","12823PL44105","STRONG transformátor plochý LED 24V 100W","Nomet","pastuszak","2020-10-01","Stančo Denčev",15.99443667822,"x","x","x","x"]
[{"$error":"#N/A"},null,{"$f":"IFERROR(VLOOKUP(B581,List1!$A:$B,2,0),\"x\")","v":"x"},null,null,null,null,null,null,{"$f":"CONCATENATE(VLOOKUP(E581,[1]Seznamy!$Q$2:$R$36,2,0),VLOOKUP(F581,[1]Produkty!$I:$O,7,0),C581,D581)","v":{"$error":"#N/A"}},null,null,null,null,null,null,null,null,null,null,null,null,null,null,null,null,null,null,null,null,null,null,null,null,null,null,null,null,null,null,null,null,null,null,null,null,null,null,null,null,null,null,"'PL_2020-10'!$A:$H","$A:$H","12824PL44105","Vrut PZ 4x18 zápustná hlava zinek bílý PZ2","Nomet","pastuszak","2020-10-01","Stančo Denčev",2.03960064E-3,"x","x","x","x"]
[{"$error":"#N/A"},null,{"$f":"IFERROR(VLOOKUP(B582,List1!$A:$B,2,0),\"x\")","v":"x"},null,null,null,null,null,null,{"$f":"CONCATENATE(VLOOKUP(E582,[1]Seznamy!$Q$2:$R$36,2,0),VLOOKUP(F582,[1]Produkty!$I:$O,7,0),C582,D582)","v":{"$error":"#N/A"}},null,null,null,null,null,null,null,null,null,null,null,null,null,null,null,null,null,null,null,null,null,null,null,null,null,null,null,null,null,null,null,null,null,null,null,null,null,null,null,null,null,null,"'PL_2020-10'!$A:$H","$A:$H","12825PL44105","Konfirmát 7/50 zinek bílý bulk","Nomet","pastuszak","2020-10-01","Stančo Denčev",8.3200227000000005E-3,"x","x","x","x"]
[{"$error":"#N/A"},null,{"$f":"IFERROR(VLOOKUP(B583,List1!$A:$B,2,0),\"x\")","v":"x"},null,null,null,null,null,null,{"$f":"CONCATENATE(VLOOKUP(E583,[1]Seznamy!$Q$2:$R$36,2,0),VLOOKUP(F583,[1]Produkty!$I:$O,7,0),C583,D583)","v":{"$error":"#N/A"}},null,null,null,null,null,null,null,null,null,null,null,null,null,null,null,null,null,null,null,null,null,null,null,null,null,null,null,null,null,null,null,null,null,null,null,null,null,null,null,null,null,null,"'PL_2020-10'!$A:$H","$A:$H","12826PL44105","DTDL W980 ST2 Platinově bílá 2800/2070/18","Nomet","pastuszak","2020-10-01","Martin Karaščák",0,"x","x","x","x"]
[{"$error":"#N/A"},null,{"$f":"IFERROR(VLOOKUP(B584,List1!$A:$B,2,0),\"x\")","v":"x"},null,null,null,null,null,null,{"$f":"CONCATENATE(VLOOKUP(E584,[1]Seznamy!$Q$2:$R$36,2,0),VLOOKUP(F584,[1]Produkty!$I:$O,7,0),C584,D584)","v":{"$error":"#N/A"}},null,null,null,null,null,null,null,null,null,null,null,null,null,null,null,null,null,null,null,null,null,null,null,null,null,null,null,null,null,null,null,null,null,null,null,null,null,null,null,null,null,null,"'PL_2020-10'!$A:$H","$A:$H","12827PL44105","DTDD DUB COMMERCIAL A/B DEC 2800/2070/19","Nomet","pastuszak","2020-10-01","Martin Karaščák",0,"x","x","x","x"]
[{"$f":"TEXT(J585,1)","v":{"$error":"#N/A"}},null,{"$f":"IFERROR(VLOOKUP(B585,List1!$A:$B,2,0),\"x\")","v":"x"},null,null,null,null,null,null,{"$f":"CONCATENATE(VLOOKUP(E585,[1]Seznamy!$Q$2:$R$36,2,0),VLOOKUP(F585,[1]Produkty!$I:$O,7,0),C585,D585)","v":{"$error":"#N/A"}},null,null,null,null,null,null,null,null,null,null,null,null,null,null,null,null,null,null,null,null,null,null,null,null,null,null,null,null,null,null,null,null,null,null,null,null,null,null,null,null,null,null,"'PL_2020-10'!$A:$H","$A:$H","12828PL44105","DTDD Dub evr. radiál st A/B 2800/2070/19","Nomet","pastuszak","2020-10-01","Martin Karaščák",0,"x","x","x","x"]
[{"$error":"#N/A"},null,{"$f":"IFERROR(VLOOKUP(B586,List1!$A:$B,2,0),\"x\")","v":"x"},null,null,null,null,null,null,{"$f":"CONCATENATE(VLOOKUP(E586,[1]Seznamy!$Q$2:$R$36,2,0),VLOOKUP(F586,[1]Produkty!$I:$O,7,0),C586,D586)","v":{"$error":"#N/A"}},null,null,null,null,null,null,null,null,null,null,null,null,null,null,null,null,null,null,null,null,null,null,null,null,null,null,null,null,null,null,null,null,null,null,null,null,null,null,null,null,null,null,"'PL_2020-10'!$A:$H","$A:$H","12829PL44105","ABSB HU10113 Bílá 101/110/113/8100/8685/W954/B3822 PE 22/2","Nomet","pastuszak","2020-10-01","Martin Karaščák",0,"x","x","x","x"]
[{"$error":"#N/A"},null,{"$f":"IFERROR(VLOOKUP(B587,List1!$A:$B,2,0),\"x\")","v":"x"},null,null,null,null,null,null,{"$f":"CONCATENATE(VLOOKUP(E587,[1]Seznamy!$Q$2:$R$36,2,0),VLOOKUP(F587,[1]Produkty!$I:$O,7,0),C587,D587)","v":{"$error":"#N/A"}},null,null,null,null,null,null,null,null,null,null,null,null,null,null,null,null,null,null,null,null,null,null,null,null,null,null,null,null,null,null,null,null,null,null,null,null,null,null,null,null,null,null,"'PL_2020-10'!$A:$H","$A:$H","12830PL44105","ABSB 77039/414 W980/500/W954 ST2 23/2","Nomet","pastuszak","2020-10-01","Martin Karaščák",0,"x","x","x","x"]
[{"$error":"#N/A"},null,{"$f":"IFERROR(VLOOKUP(B588,List1!$A:$B,2,0),\"x\")","v":"x"},null,null,null,null,null,null,{"$f":"CONCATENATE(VLOOKUP(E588,[1]Seznamy!$Q$2:$R$36,2,0),VLOOKUP(F588,[1]Produkty!$I:$O,7,0),C588,D588)","v":{"$error":"#N/A"}},null,null,null,null,null,null,null,null,null,null,null,null,null,null,null,null,null,null,null,null,null,null,null,null,null,null,null,null,null,null,null,null,null,null,null,null,null,null,null,null,null,null,"'PL_2020-10'!$A:$H","$A:$H","12831PL44105","HDF LAK 101 BÍLÁ PE 2800/2070/3","Nomet","pastuszak","2020-10-01","Martin Karaščák",0,"x","x","x","x"]
[{"$error":"#N/A"},null,{"$f":"IFERROR(VLOOKUP(B589,List1!$A:$B,2,0),\"x\")","v":"x"},null,null,null,null,null,null,{"$f":"CONCATENATE(VLOOKUP(E589,[1]Seznamy!$Q$2:$R$36,2,0),VLOOKUP(F589,[1]Produkty!$I:$O,7,0),C589,D589)","v":{"$error":"#N/A"}},null,null,null,null,null,null,null,null,null,null,null,null,null,null,null,null,null,null,null,null,null,null,null,null,null,null,null,null,null,null,null,null,null,null,null,null,null,null,null,null,null,null,"'PL_2020-10'!$A:$H","$A:$H","1292PL44105","STRONG závěs naložený, slide on","Sevroll","pastuszak","2020-10-01","Martin Zniszczol",0.116548608,"x","x","x","x"]
[{"$error":"#N/A"},null,{"$f":"IFERROR(VLOOKUP(B590,List1!$A:$B,2,0),\"x\")","v":"x"},null,null,null,null,null,null,{"$f":"CONCATENATE(VLOOKUP(E590,[1]Seznamy!$Q$2:$R$36,2,0),VLOOKUP(F590,[1]Produkty!$I:$O,7,0),C590,D590)","v":{"$error":"#N/A"}},null,null,null,null,null,null,null,null,null,null,null,null,null,null,null,null,null,null,null,null,null,null,null,null,null,null,null,null,null,null,null,null,null,null,null,null,null,null,null,null,null,null,"'PL_2020-10'!$A:$H","$A:$H","1293PL44105","StrongBox H86/500mm bílý","Sevroll","pastuszak","2020-10-01","Martin Zniszczol",7.336643819999999,"x","x","x","x"]
[{"$error":"#N/A"},null,{"$f":"IFERROR(VLOOKUP(B591,List1!$A:$B,2,0),\"x\")","v":"x"},null,null,null,null,null,null,{"$f":"CONCATENATE(VLOOKUP(E591,[1]Seznamy!$Q$2:$R$36,2,0),VLOOKUP(F591,[1]Produkty!$I:$O,7,0),C591,D591)","v":{"$error":"#N/A"}},null,null,null,null,null,null,null,null,null,null,null,null,null,null,null,null,null,null,null,null,null,null,null,null,null,null,null,null,null,null,null,null,null,null,null,null,null,null,null,null,null,null,"'PL_2020-10'!$A:$H","$A:$H","1295PL44105","StrongRide synchro 3D celovýsuv 500 mm s tlumením","Sevroll","pastuszak","2020-10-01","Martin Zniszczol",5.5246771800000003,"x","x","x","x"]
[{"$error":"#N/A"},null,{"$f":"IFERROR(VLOOKUP(B592,List1!$A:$B,2,0),\"x\")","v":"x"},null,null,null,null,null,null,{"$f":"CONCATENATE(VLOOKUP(E592,[1]Seznamy!$Q$2:$R$36,2,0),VLOOKUP(F592,[1]Produkty!$I:$O,7,0),C592,D592)","v":{"$error":"#N/A"}},null,null,null,null,null,null,null,null,null,null,null,null,null,null,null,null,null,null,null,null,null,null,null,null,null,null,null,null,null,null,null,null,null,null,null,null,null,null,null,null,null,null,"'PL_2020-10'!$A:$H","$A:$H","1296PL44105","STRONG Rektifikační nožka 100 mm","Sevroll","pastuszak","2020-10-01","Lukáš Sládek",0.10149289523999999,"x","x","x","x"]
[{"$error":"#N/A"},null,{"$f":"IFERROR(VLOOKUP(B593,List1!$A:$B,2,0),\"x\")","v":"x"},null,null,null,null,null,null,{"$f":"CONCATENATE(VLOOKUP(E593,[1]Seznamy!$Q$2:$R$36,2,0),VLOOKUP(F593,[1]Produkty!$I:$O,7,0),C593,D593)","v":{"$error":"#N/A"}},null,null,null,null,null,null,null,null,null,null,null,null,null,null,null,null,null,null,null,null,null,null,null,null,null,null,null,null,null,null,null,null,null,null,null,null,null,null,null,null,null,null,"'PL_2020-10'!$A:$H","$A:$H","1297PL44105","STRONG Stolová noha centrální 450x450 černá","Sevroll","pastuszak","2020-10-01","Lukáš Sládek",33.268595282999996,"x","x","x","x"]
[{"$error":"#N/A"},null,{"$f":"IFERROR(VLOOKUP(B594,List1!$A:$B,2,0),\"x\")","v":"x"},null,null,null,null,null,null,{"$f":"CONCATENATE(VLOOKUP(E594,[1]Seznamy!$Q$2:$R$36,2,0),VLOOKUP(F594,[1]Produkty!$I:$O,7,0),C594,D594)","v":{"$error":"#N/A"}},null,null,null,null,null,null,null,null,null,null,null,null,null,null,null,null,null,null,null,null,null,null,null,null,null,null,null,null,null,null,null,null,null,null,null,null,null,null,null,null,null,null,"'PL_2020-10'!$A:$H","$A:$H","1298PL44105","STRONG Elektrická zásuvka 3x230V, francouzský typ, 265x130x68 mm stříbrná","Sevroll","pastuszak","2020-10-01","Lukáš Sládek",14.75416827654,"x","x","x","x"]
[{"$error":"#N/A"},null,{"$f":"IFERROR(VLOOKUP(B595,List1!$A:$B,2,0),\"x\")","v":"x"},null,null,null,null,null,null,{"$f":"CONCATENATE(VLOOKUP(E595,[1]Seznamy!$Q$2:$R$36,2,0),VLOOKUP(F595,[1]Produkty!$I:$O,7,0),C595,D595)","v":{"$error":"#N/A"}},null,null,null,null,null,null,null,null,null,null,null,null,null,null,null,null,null,null,null,null,null,null,null,null,null,null,null,null,null,null,null,null,null,null,null,null,null,null,null,null,null,null,"'PL_2020-10'!$A:$H","$A:$H","1299PL44105","BBP OA Zásuvka 515 mm kovová černá","Sevroll","pastuszak","2020-10-01","Lukáš Sládek",5.0717492575200005,"x","x","x","x"]
[{"$error":"#N/A"},null,{"$f":"IFERROR(VLOOKUP(B596,List1!$A:$B,2,0),\"x\")","v":"x"},null,null,null,null,null,null,{"$f":"CONCATENATE(VLOOKUP(E596,[1]Seznamy!$Q$2:$R$36,2,0),VLOOKUP(F596,[1]Produkty!$I:$O,7,0),C596,D596)","v":{"$error":"#N/A"}},null,null,null,null,null,null,null,null,null,null,null,null,null,null,null,null,null,null,null,null,null,null,null,null,null,null,null,null,null,null,null,null,null,null,null,null,null,null,null,null,null,null,"'PL_2020-10'!$A:$H","$A:$H","12910PL44105","FRANKE Dřez ETN 614 6/4 obyčejný ventil bez otvoru","Sevroll","pastuszak","2020-10-01","Marcela Piechová",22.854453600000003,"x","x","x","x"]
[{"$error":"#N/A"},null,{"$f":"IFERROR(VLOOKUP(B597,List1!$A:$B,2,0),\"x\")","v":"x"},null,null,null,null,null,null,{"$f":"CONCATENATE(VLOOKUP(E597,[1]Seznamy!$Q$2:$R$36,2,0),VLOOKUP(F597,[1]Produkty!$I:$O,7,0),C597,D597)","v":{"$error":"#N/A"}},null,null,null,null,null,null,null,null,null,null,null,null,null,null,null,null,null,null,null,null,null,null,null,null,null,null,null,null,null,null,null,null,null,null,null,null,null,null,null,null,null,null,"'PL_2020-10'!$A:$H","$A:$H","12911PL44105","FRANKE Dřez BFG 611-78 780 x 500 onyx","Sevroll","pastuszak","2020-10-01","Marcela Piechová",111.2674992,"x","x","x","x"]
[{"$error":"#N/A"},null,{"$f":"IFERROR(VLOOKUP(B598,List1!$A:$B,2,0),\"x\")","v":"x"},null,null,null,null,null,null,{"$f":"CONCATENATE(VLOOKUP(E598,[1]Seznamy!$Q$2:$R$36,2,0),VLOOKUP(F598,[1]Produkty!$I:$O,7,0),C598,D598)","v":{"$error":"#N/A"}},null,null,null,null,null,null,null,null,null,null,null,null,null,null,null,null,null,null,null,null,null,null,null,null,null,null,null,null,null,null,null,null,null,null,null,null,null,null,null,null,null,null,"'PL_2020-10'!$A:$H","$A:$H","12912PL44105","GOLLINUCCI Sorter Sistema 901/2x16 l, 600 mm","Sevroll","pastuszak","2020-10-01","Marcela Piechová",17.270591580000001,"x","x","x","x"]
[{"$error":"#N/A"},null,{"$f":"IFERROR(VLOOKUP(B599,List1!$A:$B,2,0),\"x\")","v":"x"},null,null,null,null,null,null,{"$f":"CONCATENATE(VLOOKUP(E599,[1]Seznamy!$Q$2:$R$36,2,0),VLOOKUP(F599,[1]Produkty!$I:$O,7,0),C599,D599)","v":{"$error":"#N/A"}},null,null,null,null,null,null,null,null,null,null,null,null,null,null,null,null,null,null,null,null,null,null,null,null,null,null,null,null,null,null,null,null,null,null,null,null,null,null,null,null,null,null,"'PL_2020-10'!$A:$H","$A:$H","12913PL44105","GOLLINUCCI Sorter 580 Plus Line, 600 mm, výška 505mm, 80 l, šedý","Sevroll","pastuszak","2020-10-01","Marcela Piechová",76.735421400000007,"x","x","x","x"]
[{"$error":"#N/A"},null,{"$f":"IFERROR(VLOOKUP(B600,List1!$A:$B,2,0),\"x\")","v":"x"},null,null,null,null,null,null,{"$f":"CONCATENATE(VLOOKUP(E600,[1]Seznamy!$Q$2:$R$36,2,0),VLOOKUP(F600,[1]Produkty!$I:$O,7,0),C600,D600)","v":{"$error":"#N/A"}},null,null,null,null,null,null,null,null,null,null,null,null,null,null,null,null,null,null,null,null,null,null,null,null,null,null,null,null,null,null,null,null,null,null,null,null,null,null,null,null,null,null,"'PL_2020-10'!$A:$H","$A:$H","12914PL44105","FRANKE Dřez ETN 610 455 x 435","Sevroll","pastuszak","2020-10-01","Marcela Piechová",25.228676220000001,"x","x","x","x"]
[{"$error":"#N/A"},null,{"$f":"IFERROR(VLOOKUP(B601,List1!$A:$B,2,0),\"x\")","v":"x"},null,null,null,null,null,null,{"$f":"CONCATENATE(VLOOKUP(E601,[1]Seznamy!$Q$2:$R$36,2,0),VLOOKUP(F601,[1]Produkty!$I:$O,7,0),C601,D601)","v":{"$error":"#N/A"}},null,null,null,null,null,null,null,null,null,null,null,null,null,null,null,null,null,null,null,null,null,null,null,null,null,null,null,null,null,null,null,null,null,null,null,null,null,null,null,null,null,null,"'PL_2020-10'!$A:$H","$A:$H","12915PL44105","GOLLINUCCI Sorter Linea 222, 300 mm","Sevroll","pastuszak","2020-10-01","Marcela Piechová",27.866954280000002,"x","x","x","x"]
[{"$error":"#N/A"},null,{"$f":"IFERROR(VLOOKUP(B602,List1!$A:$B,2,0),\"x\")","v":"x"},null,null,null,null,null,null,{"$f":"CONCATENATE(VLOOKUP(E602,[1]Seznamy!$Q$2:$R$36,2,0),VLOOKUP(F602,[1]Produkty!$I:$O,7,0),C602,D602)","v":{"$error":"#N/A"}},null,null,null,null,null,null,null,null,null,null,null,null,null,null,null,null,null,null,null,null,null,null,null,null,null,null,null,null,null,null,null,null,null,null,null,null,null,null,null,null,null,null,"'PL_2020-10'!$A:$H","$A:$H","12916PL44105","TULIP úchytka Nakana 128 chrom matný + šroubky","Sevroll","pastuszak","2020-10-01","Lenka Kormaník",0.79492979675999997,"x","x","x","x"]
[{"$error":"#N/A"},null,{"$f":"IFERROR(VLOOKUP(B603,List1!$A:$B,2,0),\"x\")","v":"x"},null,null,null,null,null,null,{"$f":"CONCATENATE(VLOOKUP(E603,[1]Seznamy!$Q$2:$R$36,2,0),VLOOKUP(F603,[1]Produkty!$I:$O,7,0),C603,D603)","v":{"$error":"#N/A"}},null,null,null,null,null,null,null,null,null,null,null,null,null,null,null,null,null,null,null,null,null,null,null,null,null,null,null,null,null,null,null,null,null,null,null,null,null,null,null,null,null,null,"'PL_2020-10'!$A:$H","$A:$H","12917PL44105","TULIP úchytka Piombina 96 nikl matný + šroubky","Sevroll","pastuszak","2020-10-01","Lenka Kormaník",0.4361922708,"x","x","x","x"]
[{"$error":"#N/A"},null,{"$f":"IFERROR(VLOOKUP(B604,List1!$A:$B,2,0),\"x\")","v":"x"},null,null,null,null,null,null,{"$f":"CONCATENATE(VLOOKUP(E604,[1]Seznamy!$Q$2:$R$36,2,0),VLOOKUP(F604,[1]Produkty!$I:$O,7,0),C604,D604)","v":{"$error":"#N/A"}},null,null,null,null,null,null,null,null,null,null,null,null,null,null,null,null,null,null,null,null,null,null,null,null,null,null,null,null,null,null,null,null,null,null,null,null,null,null,null,null,null,null,"'PL_2020-10'!$A:$H","$A:$H","12918PL44105","TULIP úchytka Anita 96 nikl matný + šroubky","Sevroll","pastuszak","2020-10-01","Lenka Kormaník",0.2761883322,"x","x","x","x"]
[{"$error":"#N/A"},null,{"$f":"IFERROR(VLOOKUP(B605,List1!$A:$B,2,0),\"x\")","v":"x"},null,null,null,null,null,null,{"$f":"CONCATENATE(VLOOKUP(E605,[1]Seznamy!$Q$2:$R$36,2,0),VLOOKUP(F605,[1]Produkty!$I:$O,7,0),C605,D605)","v":{"$error":"#N/A"}},null,null,null,null,null,null,null,null,null,null,null,null,null,null,null,null,null,null,null,null,null,null,null,null,null,null,null,null,null,null,null,null,null,null,null,null,null,null,null,null,null,null,"'PL_2020-10'!$A:$H","$A:$H","12919PL44105","TULIP věšák Lugo XL chrom matný + šroubky","Sevroll","pastuszak","2020-10-01","Lenka Kormaník",0.74823068165999995,"x","x","x","x"]
[{"$error":"#N/A"},null,{"$f":"IFERROR(VLOOKUP(B606,List1!$A:$B,2,0),\"x\")","v":"x"},null,null,null,null,null,null,{"$f":"CONCATENATE(VLOOKUP(E606,[1]Seznamy!$Q$2:$R$36,2,0),VLOOKUP(F606,[1]Produkty!$I:$O,7,0),C606,D606)","v":{"$error":"#N/A"}},null,null,null,null,null,null,null,null,null,null,null,null,null,null,null,null,null,null,null,null,null,null,null,null,null,null,null,null,null,null,null,null,null,null,null,null,null,null,null,null,null,null,"'PL_2020-10'!$A:$H","$A:$H","12920PL44105","TULIP Úchytka Ramara 596 imitace nerezi","Sevroll","pastuszak","2020-10-01","Lenka Kormaník",3.63724531632,"x","x","x","x"]
[{"$error":"#N/A"},null,{"$f":"IFERROR(VLOOKUP(B607,List1!$A:$B,2,0),\"x\")","v":"x"},null,null,null,null,null,null,{"$f":"CONCATENATE(VLOOKUP(E607,[1]Seznamy!$Q$2:$R$36,2,0),VLOOKUP(F607,[1]Produkty!$I:$O,7,0),C607,D607)","v":{"$error":"#N/A"}},null,null,null,null,null,null,null,null,null,null,null,null,null,null,null,null,null,null,null,null,null,null,null,null,null,null,null,null,null,null,null,null,null,null,null,null,null,null,null,null,null,null,"'PL_2020-10'!$A:$H","$A:$H","12921PL44105","TULIP Úchytka Lucata 160 černá matná","Sevroll","pastuszak","2020-10-01","Lenka Kormaník",0.82574688768000004,"x","x","x","x"]
[{"$error":"#N/A"},null,{"$f":"IFERROR(VLOOKUP(B608,List1!$A:$B,2,0),\"x\")","v":"x"},null,null,null,null,null,null,{"$f":"CONCATENATE(VLOOKUP(E608,[1]Seznamy!$Q$2:$R$36,2,0),VLOOKUP(F608,[1]Produkty!$I:$O,7,0),C608,D608)","v":{"$error":"#N/A"}},null,null,null,null,null,null,null,null,null,null,null,null,null,null,null,null,null,null,null,null,null,null,null,null,null,null,null,null,null,null,null,null,null,null,null,null,null,null,null,null,null,null,"'PL_2020-10'!$A:$H","$A:$H","12922PL44105","STRONG LED pásek 21,6W/m 24V bílá neutrální 210 LED/m","Sevroll","pastuszak","2020-10-01","Stančo Denčev",3.2988537172800001,"x","x","x","x"]
[{"$error":"#N/A"},null,{"$f":"IFERROR(VLOOKUP(B609,List1!$A:$B,2,0),\"x\")","v":"x"},null,null,null,null,null,null,{"$f":"CONCATENATE(VLOOKUP(E609,[1]Seznamy!$Q$2:$R$36,2,0),VLOOKUP(F609,[1]Produkty!$I:$O,7,0),C609,D609)","v":{"$error":"#N/A"}},null,null,null,null,null,null,null,null,null,null,null,null,null,null,null,null,null,null,null,null,null,null,null,null,null,null,null,null,null,null,null,null,null,null,null,null,null,null,null,null,null,null,"'PL_2020-10'!$A:$H","$A:$H","12923PL44105","STRONG transformátor plochý LED 24V 100W","Sevroll","pastuszak","2020-10-01","Stančo Denčev",15.99443667822,"x","x","x","x"]
[{"$error":"#N/A"},null,{"$f":"IFERROR(VLOOKUP(B610,List1!$A:$B,2,0),\"x\")","v":"x"},null,null,null,null,null,null,{"$f":"CONCATENATE(VLOOKUP(E610,[1]Seznamy!$Q$2:$R$36,2,0),VLOOKUP(F610,[1]Produkty!$I:$O,7,0),C610,D610)","v":{"$error":"#N/A"}},null,null,null,null,null,null,null,null,null,null,null,null,null,null,null,null,null,null,null,null,null,null,null,null,null,null,null,null,null,null,null,null,null,null,null,null,null,null,null,null,null,null,"'PL_2020-10'!$A:$H","$A:$H","12924PL44105","Vrut PZ 4x18 zápustná hlava zinek bílý PZ2","Sevroll","pastuszak","2020-10-01","Stančo Denčev",2.03960064E-3,"x","x","x","x"]
[{"$error":"#N/A"},null,{"$f":"IFERROR(VLOOKUP(B611,List1!$A:$B,2,0),\"x\")","v":"x"},null,null,null,null,null,null,{"$f":"CONCATENATE(VLOOKUP(E611,[1]Seznamy!$Q$2:$R$36,2,0),VLOOKUP(F611,[1]Produkty!$I:$O,7,0),C611,D611)","v":{"$error":"#N/A"}},null,null,null,null,null,null,null,null,null,null,null,null,null,null,null,null,null,null,null,null,null,null,null,null,null,null,null,null,null,null,null,null,null,null,null,null,null,null,null,null,null,null,"'PL_2020-10'!$A:$H","$A:$H","12925PL44105","Konfirmát 7/50 zinek bílý bulk","Sevroll","pastuszak","2020-10-01","Stančo Denčev",8.3200227000000005E-3,"x","x","x","x"]
[{"$error":"#N/A"},null,{"$f":"IFERROR(VLOOKUP(B612,List1!$A:$B,2,0),\"x\")","v":"x"},null,null,null,null,null,null,{"$f":"CONCATENATE(VLOOKUP(E612,[1]Seznamy!$Q$2:$R$36,2,0),VLOOKUP(F612,[1]Produkty!$I:$O,7,0),C612,D612)","v":{"$error":"#N/A"}},null,null,null,null,null,null,null,null,null,null,null,null,null,null,null,null,null,null,null,null,null,null,null,null,null,null,null,null,null,null,null,null,null,null,null,null,null,null,null,null,null,null,"'PL_2020-10'!$A:$H","$A:$H","12926PL44105","DTDL W980 ST2 Platinově bílá 2800/2070/18","Sevroll","pastuszak","2020-10-01","Martin Karaščák",0,"x","x","x","x"]
[{"$error":"#N/A"},null,{"$f":"IFERROR(VLOOKUP(B613,List1!$A:$B,2,0),\"x\")","v":"x"},null,null,null,null,null,null,{"$f":"CONCATENATE(VLOOKUP(E613,[1]Seznamy!$Q$2:$R$36,2,0),VLOOKUP(F613,[1]Produkty!$I:$O,7,0),C613,D613)","v":{"$error":"#N/A"}},null,null,null,null,null,null,null,null,null,null,null,null,null,null,null,null,null,null,null,null,null,null,null,null,null,null,null,null,null,null,null,null,null,null,null,null,null,null,null,null,null,null,"'PL_2020-10'!$A:$H","$A:$H","12927PL44105","DTDD DUB COMMERCIAL A/B DEC 2800/2070/19","Sevroll","pastuszak","2020-10-01","Martin Karaščák",0,"x","x","x","x"]
[{"$error":"#N/A"},null,{"$f":"IFERROR(VLOOKUP(B614,List1!$A:$B,2,0),\"x\")","v":"x"},null,null,null,null,null,null,{"$f":"CONCATENATE(VLOOKUP(E614,[1]Seznamy!$Q$2:$R$36,2,0),VLOOKUP(F614,[1]Produkty!$I:$O,7,0),C614,D614)","v":{"$error":"#N/A"}},null,null,null,null,null,null,null,null,null,null,null,null,null,null,null,null,null,null,null,null,null,null,null,null,null,null,null,null,null,null,null,null,null,null,null,null,null,null,null,null,null,null,"'PL_2020-10'!$A:$H","$A:$H","12928PL44105","DTDD Dub evr. radiál st A/B 2800/2070/19","Sevroll","pastuszak","2020-10-01","Martin Karaščák",0,"x","x","x","x"]
[{"$error":"#N/A"},null,{"$f":"IFERROR(VLOOKUP(B615,List1!$A:$B,2,0),\"x\")","v":"x"},null,null,null,null,null,null,{"$f":"CONCATENATE(VLOOKUP(E615,[1]Seznamy!$Q$2:$R$36,2,0),VLOOKUP(F615,[1]Produkty!$I:$O,7,0),C615,D615)","v":{"$error":"#N/A"}},null,null,null,null,null,null,null,null,null,null,null,null,null,null,null,null,null,null,null,null,null,null,null,null,null,null,null,null,null,null,null,null,null,null,null,null,null,null,null,null,null,null,"'PL_2020-10'!$A:$H","$A:$H","12929PL44105","ABSB HU10113 Bílá 101/110/113/8100/8685/W954/B3822 PE 22/2","Sevroll","pastuszak","2020-10-01","Martin Karaščák",0,"x","x","x","x"]
[{"$error":"#N/A"},null,{"$f":"IFERROR(VLOOKUP(B616,List1!$A:$B,2,0),\"x\")","v":"x"},null,null,null,null,null,null,{"$f":"CONCATENATE(VLOOKUP(E616,[1]Seznamy!$Q$2:$R$36,2,0),VLOOKUP(F616,[1]Produkty!$I:$O,7,0),C616,D616)","v":{"$error":"#N/A"}},null,null,null,null,null,null,null,null,null,null,null,null,null,null,null,null,null,null,null,null,null,null,null,null,null,null,null,null,null,null,null,null,null,null,null,null,null,null,null,null,null,null,"'PL_2020-10'!$A:$H","$A:$H","12930PL44105","ABSB 77039/414 W980/500/W954 ST2 23/2","Sevroll","pastuszak","2020-10-01","Martin Karaščák",0,"x","x","x","x"]
[{"$error":"#N/A"},null,{"$f":"IFERROR(VLOOKUP(B617,List1!$A:$B,2,0),\"x\")","v":"x"},null,null,null,null,null,null,{"$f":"CONCATENATE(VLOOKUP(E617,[1]Seznamy!$Q$2:$R$36,2,0),VLOOKUP(F617,[1]Produkty!$I:$O,7,0),C617,D617)","v":{"$error":"#N/A"}},null,null,null,null,null,null,null,null,null,null,null,null,null,null,null,null,null,null,null,null,null,null,null,null,null,null,null,null,null,null,null,null,null,null,null,null,null,null,null,null,null,null,"'PL_2020-10'!$A:$H","$A:$H","12931PL44105","HDF LAK 101 BÍLÁ PE 2800/2070/3","Sevroll","pastuszak","2020-10-01","Martin Karaščák",0,"x","x","x","x"]
[{"$error":"#N/A"},null,{"$f":"IFERROR(VLOOKUP(B618,List1!$A:$B,2,0),\"x\")","v":"x"},null,null,null,null,null,null,{"$f":"CONCATENATE(VLOOKUP(E618,[1]Seznamy!$Q$2:$R$36,2,0),VLOOKUP(F618,[1]Produkty!$I:$O,7,0),C618,D618)","v":{"$error":"#N/A"}},null,null,null,null,null,null,null,null,null,null,null,null,null,null,null,null,null,null,null,null,null,null,null,null,null,null,null,null,null,null,null,null,null,null,null,null,null,null,null,null,null,null,"'PL_2020-10'!$A:$H","$A:$H","1087PL44105","STRONG Stolová noha centrální 450x450 černá","Schachermayer","pastuszak","2020-10-01","Lukáš Sládek",33.268595282999996,"x","x","x","x"]
[{"$error":"#N/A"},null,{"$f":"IFERROR(VLOOKUP(B619,List1!$A:$B,2,0),\"x\")","v":"x"},null,null,null,null,null,null,{"$f":"CONCATENATE(VLOOKUP(E619,[1]Seznamy!$Q$2:$R$36,2,0),VLOOKUP(F619,[1]Produkty!$I:$O,7,0),C619,D619)","v":{"$error":"#N/A"}},null,null,null,null,null,null,null,null,null,null,null,null,null,null,null,null,null,null,null,null,null,null,null,null,null,null,null,null,null,null,null,null,null,null,null,null,null,null,null,null,null,null,"'PL_2020-10'!$A:$H","$A:$H","10810PL44105","FRANKE Dřez ETN 614 6/4 obyčejný ventil bez otvoru","Schachermayer","pastuszak","2020-10-01","Marcela Piechová",22.854453600000003,"x","x","x","x"]
[{"$error":"#N/A"},null,{"$f":"IFERROR(VLOOKUP(B620,List1!$A:$B,2,0),\"x\")","v":"x"},null,null,null,null,null,null,{"$f":"CONCATENATE(VLOOKUP(E620,[1]Seznamy!$Q$2:$R$36,2,0),VLOOKUP(F620,[1]Produkty!$I:$O,7,0),C620,D620)","v":{"$error":"#N/A"}},null,null,null,null,null,null,null,null,null,null,null,null,null,null,null,null,null,null,null,null,null,null,null,null,null,null,null,null,null,null,null,null,null,null,null,null,null,null,null,null,null,null,"'PL_2020-10'!$A:$H","$A:$H","10811PL44105","FRANKE Dřez BFG 611-78 780 x 500 onyx","Schachermayer","pastuszak","2020-10-01","Marcela Piechová",111.2674992,"x","x","x","x"]
[{"$error":"#N/A"},null,{"$f":"IFERROR(VLOOKUP(B621,List1!$A:$B,2,0),\"x\")","v":"x"},null,null,null,null,null,null,{"$f":"CONCATENATE(VLOOKUP(E621,[1]Seznamy!$Q$2:$R$36,2,0),VLOOKUP(F621,[1]Produkty!$I:$O,7,0),C621,D621)","v":{"$error":"#N/A"}},null,null,null,null,null,null,null,null,null,null,null,null,null,null,null,null,null,null,null,null,null,null,null,null,null,null,null,null,null,null,null,null,null,null,null,null,null,null,null,null,null,null,"'PL_2020-10'!$A:$H","$A:$H","10812PL44105","GOLLINUCCI Sorter Sistema 901/2x16 l, 600 mm","Schachermayer","pastuszak","2020-10-01","Marcela Piechová",17.270591580000001,"x","x","x","x"]
[{"$error":"#N/A"},null,{"$f":"IFERROR(VLOOKUP(B622,List1!$A:$B,2,0),\"x\")","v":"x"},null,null,null,null,null,null,{"$f":"CONCATENATE(VLOOKUP(E622,[1]Seznamy!$Q$2:$R$36,2,0),VLOOKUP(F622,[1]Produkty!$I:$O,7,0),C622,D622)","v":{"$error":"#N/A"}},null,null,null,null,null,null,null,null,null,null,null,null,null,null,null,null,null,null,null,null,null,null,null,null,null,null,null,null,null,null,null,null,null,null,null,null,null,null,null,null,null,null,"'PL_2020-10'!$A:$H","$A:$H","10813PL44105","GOLLINUCCI Sorter 580 Plus Line, 600 mm, výška 505mm, 80 l, šedý","Schachermayer","pastuszak","2020-10-01","Marcela Piechová",76.735421400000007,"x","x","x","x"]
[{"$error":"#N/A"},null,{"$f":"IFERROR(VLOOKUP(B623,List1!$A:$B,2,0),\"x\")","v":"x"},null,null,null,null,null,null,{"$f":"CONCATENATE(VLOOKUP(E623,[1]Seznamy!$Q$2:$R$36,2,0),VLOOKUP(F623,[1]Produkty!$I:$O,7,0),C623,D623)","v":{"$error":"#N/A"}},null,null,null,null,null,null,null,null,null,null,null,null,null,null,null,null,null,null,null,null,null,null,null,null,null,null,null,null,null,null,null,null,null,null,null,null,null,null,null,null,null,null,"'PL_2020-10'!$A:$H","$A:$H","10814PL44105","FRANKE Dřez ETN 610 455 x 435","Schachermayer","pastuszak","2020-10-01","Marcela Piechová",25.228676220000001,"x","x","x","x"]
[{"$error":"#N/A"},null,{"$f":"IFERROR(VLOOKUP(B624,List1!$A:$B,2,0),\"x\")","v":"x"},null,null,null,null,null,null,{"$f":"CONCATENATE(VLOOKUP(E624,[1]Seznamy!$Q$2:$R$36,2,0),VLOOKUP(F624,[1]Produkty!$I:$O,7,0),C624,D624)","v":{"$error":"#N/A"}},null,null,null,null,null,null,null,null,null,null,null,null,null,null,null,null,null,null,null,null,null,null,null,null,null,null,null,null,null,null,null,null,null,null,null,null,null,null,null,null,null,null,"'PL_2020-10'!$A:$H","$A:$H","10815PL44105","GOLLINUCCI Sorter Linea 222, 300 mm","Schachermayer","pastuszak","2020-10-01","Marcela Piechová",27.866954280000002,"x","x","x","x"]
[{"$error":"#N/A"},null,{"$f":"IFERROR(VLOOKUP(B625,List1!$A:$B,2,0),\"x\")","v":"x"},null,null,null,null,null,null,{"$f":"CONCATENATE(VLOOKUP(E625,[1]Seznamy!$Q$2:$R$36,2,0),VLOOKUP(F625,[1]Produkty!$I:$O,7,0),C625,D625)","v":{"$error":"#N/A"}},null,null,null,null,null,null,null,null,null,null,null,null,null,null,null,null,null,null,null,null,null,null,null,null,null,null,null,null,null,null,null,null,null,null,null,null,null,null,null,null,null,null,"'PL_2020-10'!$A:$H","$A:$H","10816PL44105","TULIP úchytka Nakana 128 chrom matný + šroubky","Schachermayer","pastuszak","2020-10-01","Lenka Kormaník",0.79492979675999997,"x","x","x","x"]
[{"$error":"#N/A"},null,{"$f":"IFERROR(VLOOKUP(B626,List1!$A:$B,2,0),\"x\")","v":"x"},null,null,null,null,null,null,{"$f":"CONCATENATE(VLOOKUP(E626,[1]Seznamy!$Q$2:$R$36,2,0),VLOOKUP(F626,[1]Produkty!$I:$O,7,0),C626,D626)","v":{"$error":"#N/A"}},null,null,null,null,null,null,null,null,null,null,null,null,null,null,null,null,null,null,null,null,null,null,null,null,null,null,null,null,null,null,null,null,null,null,null,null,null,null,null,null,null,null,"'PL_2020-10'!$A:$H","$A:$H","10820PL44105","TULIP Úchytka Ramara 596 imitace nerezi","Schachermayer","pastuszak","2020-10-01","Lenka Kormaník",3.63724531632,"X","X","x","x"]
[{"$error":"#N/A"},null,{"$f":"IFERROR(VLOOKUP(B627,List1!$A:$B,2,0),\"x\")","v":"x"},null,null,null,null,null,null,{"$f":"CONCATENATE(VLOOKUP(E627,[1]Seznamy!$Q$2:$R$36,2,0),VLOOKUP(F627,[1]Produkty!$I:$O,7,0),C627,D627)","v":{"$error":"#N/A"}},null,null,null,null,null,null,null,null,null,null,null,null,null,null,null,null,null,null,null,null,null,null,null,null,null,null,null,null,null,null,null,null,null,null,null,null,null,null,null,null,null,null,"'PL_2020-10'!$A:$H","$A:$H","10821PL44105","TULIP Úchytka Lucata 160 černá matná","Schachermayer","pastuszak","2020-10-01","Lenka Kormaník",0.82574688768000004,"X","X","x","x"]
[{"$error":"#N/A"},null,{"$f":"IFERROR(VLOOKUP(B628,List1!$A:$B,2,0),\"x\")","v":"x"},null,null,null,null,null,null,{"$f":"CONCATENATE(VLOOKUP(E628,[1]Seznamy!$Q$2:$R$36,2,0),VLOOKUP(F628,[1]Produkty!$I:$O,7,0),C628,D628)","v":{"$error":"#N/A"}},null,null,null,null,null,null,null,null,null,null,null,null,null,null,null,null,null,null,null,null,null,null,null,null,null,null,null,null,null,null,null,null,null,null,null,null,null,null,null,null,null,null,"'PL_2020-10'!$A:$H","$A:$H","10822PL44105","STRONG LED pásek 21,6W/m 24V bílá neutrální 210 LED/m","Schachermayer","pastuszak","2020-10-01","Stančo Denčev",3.2988537172800001,"x","x","x","x"]
[{"$error":"#N/A"},null,{"$f":"IFERROR(VLOOKUP(B629,List1!$A:$B,2,0),\"x\")","v":"x"},null,null,null,null,null,null,{"$f":"CONCATENATE(VLOOKUP(E629,[1]Seznamy!$Q$2:$R$36,2,0),VLOOKUP(F629,[1]Produkty!$I:$O,7,0),C629,D629)","v":{"$error":"#N/A"}},null,null,null,null,null,null,null,null,null,null,null,null,null,null,null,null,null,null,null,null,null,null,null,null,null,null,null,null,null,null,null,null,null,null,null,null,null,null,null,null,null,null,"'PL_2020-10'!$A:$H","$A:$H","10823PL44105","STRONG transformátor plochý LED 24V 100W","Schachermayer","pastuszak","2020-10-01","Stančo Denčev",15.99443667822,"x","x","x","x"]
[{"$error":"#N/A"},null,{"$f":"IFERROR(VLOOKUP(B630,List1!$A:$B,2,0),\"x\")","v":"x"},null,null,null,null,null,null,{"$f":"CONCATENATE(VLOOKUP(E630,[1]Seznamy!$Q$2:$R$36,2,0),VLOOKUP(F630,[1]Produkty!$I:$O,7,0),C630,D630)","v":{"$error":"#N/A"}},null,null,null,null,null,null,null,null,null,null,null,null,null,null,null,null,null,null,null,null,null,null,null,null,null,null,null,null,null,null,null,null,null,null,null,null,null,null,null,null,null,null,"'PL_2020-10'!$A:$H","$A:$H","10824PL44105","Vrut PZ 4x18 zápustná hlava zinek bílý PZ2","Schachermayer","pastuszak","2020-10-01","Stančo Denčev",2.03960064E-3,"x","x","x","x"]
[{"$error":"#N/A"},null,{"$f":"IFERROR(VLOOKUP(B631,List1!$A:$B,2,0),\"x\")","v":"x"},null,null,null,null,null,null,{"$f":"CONCATENATE(VLOOKUP(E631,[1]Seznamy!$Q$2:$R$36,2,0),VLOOKUP(F631,[1]Produkty!$I:$O,7,0),C631,D631)","v":{"$error":"#N/A"}},null,null,null,null,null,null,null,null,null,null,null,null,null,null,null,null,null,null,null,null,null,null,null,null,null,null,null,null,null,null,null,null,null,null,null,null,null,null,null,null,null,null,"'PL_2020-10'!$A:$H","$A:$H","10826PL44105","DTDL W980 ST2 Platinově bílá 2800/2070/18","Schachermayer","pastuszak","2020-10-01","Martin Karaščák",0,"x","x","x","x"]
[{"$error":"#N/A"},null,{"$f":"IFERROR(VLOOKUP(B632,List1!$A:$B,2,0),\"x\")","v":"x"},null,null,null,null,null,null,{"$f":"CONCATENATE(VLOOKUP(E632,[1]Seznamy!$Q$2:$R$36,2,0),VLOOKUP(F632,[1]Produkty!$I:$O,7,0),C632,D632)","v":{"$error":"#N/A"}},null,null,null,null,null,null,null,null,null,null,null,null,null,null,null,null,null,null,null,null,null,null,null,null,null,null,null,null,null,null,null,null,null,null,null,null,null,null,null,null,null,null,"'PL_2020-10'!$A:$H","$A:$H","10827PL44105","DTDD DUB COMMERCIAL A/B DEC 2800/2070/19","Schachermayer","pastuszak","2020-10-01","Martin Karaščák",0,"x","x","x","x"]
[{"$error":"#N/A"},null,{"$f":"IFERROR(VLOOKUP(B633,List1!$A:$B,2,0),\"x\")","v":"x"},null,null,null,null,null,null,{"$f":"CONCATENATE(VLOOKUP(E633,[1]Seznamy!$Q$2:$R$36,2,0),VLOOKUP(F633,[1]Produkty!$I:$O,7,0),C633,D633)","v":{"$error":"#N/A"}},null,null,null,null,null,null,null,null,null,null,null,null,null,null,null,null,null,null,null,null,null,null,null,null,null,null,null,null,null,null,null,null,null,null,null,null,null,null,null,null,null,null,"'PL_2020-10'!$A:$H","$A:$H","10828PL44105","DTDD Dub evr. radiál st A/B 2800/2070/19","Schachermayer","pastuszak","2020-10-01","Martin Karaščák",0,"x","x","x","x"]
[{"$error":"#N/A"},null,{"$f":"IFERROR(VLOOKUP(B634,List1!$A:$B,2,0),\"x\")","v":"x"},null,null,null,null,null,null,{"$f":"CONCATENATE(VLOOKUP(E634,[1]Seznamy!$Q$2:$R$36,2,0),VLOOKUP(F634,[1]Produkty!$I:$O,7,0),C634,D634)","v":{"$error":"#N/A"}},null,null,null,null,null,null,null,null,null,null,null,null,null,null,null,null,null,null,null,null,null,null,null,null,null,null,null,null,null,null,null,null,null,null,null,null,null,null,null,null,null,null,"'PL_2020-10'!$A:$H","$A:$H","10829PL44105","ABSB HU10113 Bílá 101/110/113/8100/8685/W954/B3822 PE 22/2","Schachermayer","pastuszak","2020-10-01","Martin Karaščák",0,"x","x","x","x"]
[{"$error":"#N/A"},null,{"$f":"IFERROR(VLOOKUP(B635,List1!$A:$B,2,0),\"x\")","v":"x"},null,null,null,null,null,null,{"$f":"CONCATENATE(VLOOKUP(E635,[1]Seznamy!$Q$2:$R$36,2,0),VLOOKUP(F635,[1]Produkty!$I:$O,7,0),C635,D635)","v":{"$error":"#N/A"}},null,null,null,null,null,null,null,null,null,null,null,null,null,null,null,null,null,null,null,null,null,null,null,null,null,null,null,null,null,null,null,null,null,null,null,null,null,null,null,null,null,null,"'PL_2020-10'!$A:$H","$A:$H","10830PL44105","ABSB 77039/414 W980/500/W954 ST2 23/2","Schachermayer","pastuszak","2020-10-01","Martin Karaščák",0,"x","x","x","x"]
[{"$error":"#N/A"},null,{"$f":"IFERROR(VLOOKUP(B636,List1!$A:$B,2,0),\"x\")","v":"x"},null,null,null,null,null,null,{"$f":"CONCATENATE(VLOOKUP(E636,[1]Seznamy!$Q$2:$R$36,2,0),VLOOKUP(F636,[1]Produkty!$I:$O,7,0),C636,D636)","v":{"$error":"#N/A"}},null,null,null,null,null,null,null,null,null,null,null,null,null,null,null,null,null,null,null,null,null,null,null,null,null,null,null,null,null,null,null,null,null,null,null,null,null,null,null,null,null,null,"'PL_2020-10'!$A:$H","$A:$H","10831PL44105","HDF LAK 101 BÍLÁ PE 2800/2070/3","Schachermayer","pastuszak","2020-10-01","Martin Karaščák",0,"x","x","x","x"]
[{"$error":"#N/A"},null,{"$f":"IFERROR(VLOOKUP(B637,List1!$A:$B,2,0),\"x\")","v":"x"},null,null,null,null,null,null,{"$f":"CONCATENATE(VLOOKUP(E637,[1]Seznamy!$Q$2:$R$36,2,0),VLOOKUP(F637,[1]Produkty!$I:$O,7,0),C637,D637)","v":{"$error":"#N/A"}},null,null,null,null,null,null,null,null,null,null,null,null,null,null,null,null,null,null,null,null,null,null,null,null,null,null,null,null,null,null,null,null,null,null,null,null,null,null,null,null,null,null,"'PL_2020-10'!$A:$H","$A:$H","1242PL44105","STRONG závěs naložený, slide on","Star","pastuszak","2020-10-01","Martin Zniszczol",0.116548608,"x","x","x","x"]
[{"$error":"#N/A"},null,{"$f":"IFERROR(VLOOKUP(B638,List1!$A:$B,2,0),\"x\")","v":"x"},null,null,null,null,null,null,{"$f":"CONCATENATE(VLOOKUP(E638,[1]Seznamy!$Q$2:$R$36,2,0),VLOOKUP(F638,[1]Produkty!$I:$O,7,0),C638,D638)","v":{"$error":"#N/A"}},null,null,null,null,null,null,null,null,null,null,null,null,null,null,null,null,null,null,null,null,null,null,null,null,null,null,null,null,null,null,null,null,null,null,null,null,null,null,null,null,null,null,"'PL_2020-10'!$A:$H","$A:$H","1245PL44105","StrongRide synchro 3D celovýsuv 500 mm s tlumením","Star","pastuszak","2020-10-01","Martin Zniszczol",5.5246771800000003,"x","x","x","x"]
[{"$error":"#N/A"},null,{"$f":"IFERROR(VLOOKUP(B639,List1!$A:$B,2,0),\"x\")","v":"x"},null,null,null,null,null,null,{"$f":"CONCATENATE(VLOOKUP(E639,[1]Seznamy!$Q$2:$R$36,2,0),VLOOKUP(F639,[1]Produkty!$I:$O,7,0),C639,D639)","v":{"$error":"#N/A"}},null,null,null,null,null,null,null,null,null,null,null,null,null,null,null,null,null,null,null,null,null,null,null,null,null,null,null,null,null,null,null,null,null,null,null,null,null,null,null,null,null,null,"'PL_2020-10'!$A:$H","$A:$H","1246PL44105","STRONG Rektifikační nožka 100 mm","Star","pastuszak","2020-10-01","Lukáš Sládek",0.10149289523999999,"x","x","x","x"]
[{"$error":"#N/A"},null,{"$f":"IFERROR(VLOOKUP(B640,List1!$A:$B,2,0),\"x\")","v":"x"},null,null,null,null,null,null,{"$f":"CONCATENATE(VLOOKUP(E640,[1]Seznamy!$Q$2:$R$36,2,0),VLOOKUP(F640,[1]Produkty!$I:$O,7,0),C640,D640)","v":{"$error":"#N/A"}},null,null,null,null,null,null,null,null,null,null,null,null,null,null,null,null,null,null,null,null,null,null,null,null,null,null,null,null,null,null,null,null,null,null,null,null,null,null,null,null,null,null,"'PL_2020-10'!$A:$H","$A:$H","1247PL44105","STRONG Stolová noha centrální 450x450 černá","Star","pastuszak","2020-10-01","Lukáš Sládek",33.268595282999996,"x","x","x","x"]
[{"$error":"#N/A"},null,{"$f":"IFERROR(VLOOKUP(B641,List1!$A:$B,2,0),\"x\")","v":"x"},null,null,null,null,null,null,{"$f":"CONCATENATE(VLOOKUP(E641,[1]Seznamy!$Q$2:$R$36,2,0),VLOOKUP(F641,[1]Produkty!$I:$O,7,0),C641,D641)","v":{"$error":"#N/A"}},null,null,null,null,null,null,null,null,null,null,null,null,null,null,null,null,null,null,null,null,null,null,null,null,null,null,null,null,null,null,null,null,null,null,null,null,null,null,null,null,null,null,"'PL_2020-10'!$A:$H","$A:$H","1248PL44105","STRONG Elektrická zásuvka 3x230V, francouzský typ, 265x130x68 mm stříbrná","Star","pastuszak","2020-10-01","Lukáš Sládek",14.75416827654,"x","x","x","x"]
[{"$error":"#N/A"},null,{"$f":"IFERROR(VLOOKUP(B642,List1!$A:$B,2,0),\"x\")","v":"x"},null,null,null,null,null,null,{"$f":"CONCATENATE(VLOOKUP(E642,[1]Seznamy!$Q$2:$R$36,2,0),VLOOKUP(F642,[1]Produkty!$I:$O,7,0),C642,D642)","v":{"$error":"#N/A"}},null,null,null,null,null,null,null,null,null,null,null,null,null,null,null,null,null,null,null,null,null,null,null,null,null,null,null,null,null,null,null,null,null,null,null,null,null,null,null,null,null,null,"'PL_2020-10'!$A:$H","$A:$H","1249PL44105","BBP OA Zásuvka 515 mm kovová černá","Star","pastuszak","2020-10-01","Lukáš Sládek",5.0717492575200005,"x","x","x","x"]
[{"$error":"#N/A"},null,{"$f":"IFERROR(VLOOKUP(B643,List1!$A:$B,2,0),\"x\")","v":"x"},null,null,null,null,null,null,{"$f":"CONCATENATE(VLOOKUP(E643,[1]Seznamy!$Q$2:$R$36,2,0),VLOOKUP(F643,[1]Produkty!$I:$O,7,0),C643,D643)","v":{"$error":"#N/A"}},null,null,null,null,null,null,null,null,null,null,null,null,null,null,null,null,null,null,null,null,null,null,null,null,null,null,null,null,null,null,null,null,null,null,null,null,null,null,null,null,null,null,"'PL_2020-10'!$A:$H","$A:$H","12410PL44105","FRANKE Dřez ETN 614 6/4 obyčejný ventil bez otvoru","Star","pastuszak","2020-10-01","Marcela Piechová",22.854453600000003,"x","x","x","x"]
[{"$error":"#N/A"},null,{"$f":"IFERROR(VLOOKUP(B644,List1!$A:$B,2,0),\"x\")","v":"x"},null,null,null,null,null,null,{"$f":"CONCATENATE(VLOOKUP(E644,[1]Seznamy!$Q$2:$R$36,2,0),VLOOKUP(F644,[1]Produkty!$I:$O,7,0),C644,D644)","v":{"$error":"#N/A"}},null,null,null,null,null,null,null,null,null,null,null,null,null,null,null,null,null,null,null,null,null,null,null,null,null,null,null,null,null,null,null,null,null,null,null,null,null,null,null,null,null,null,"'PL_2020-10'!$A:$H","$A:$H","12411PL44105","FRANKE Dřez BFG 611-78 780 x 500 onyx","Star","pastuszak","2020-10-01","Marcela Piechová",111.2674992,"x","x","x","x"]
[{"$error":"#N/A"},null,{"$f":"IFERROR(VLOOKUP(B645,List1!$A:$B,2,0),\"x\")","v":"x"},null,null,null,null,null,null,{"$f":"CONCATENATE(VLOOKUP(E645,[1]Seznamy!$Q$2:$R$36,2,0),VLOOKUP(F645,[1]Produkty!$I:$O,7,0),C645,D645)","v":{"$error":"#N/A"}},null,null,null,null,null,null,null,null,null,null,null,null,null,null,null,null,null,null,null,null,null,null,null,null,null,null,null,null,null,null,null,null,null,null,null,null,null,null,null,null,null,null,"'PL_2020-10'!$A:$H","$A:$H","12412PL44105","GOLLINUCCI Sorter Sistema 901/2x16 l, 600 mm","Star","pastuszak","2020-10-01","Marcela Piechová",17.270591580000001,"x","x","x","x"]
[{"$error":"#N/A"},null,{"$f":"IFERROR(VLOOKUP(B646,List1!$A:$B,2,0),\"x\")","v":"x"},null,null,null,null,null,null,{"$f":"CONCATENATE(VLOOKUP(E646,[1]Seznamy!$Q$2:$R$36,2,0),VLOOKUP(F646,[1]Produkty!$I:$O,7,0),C646,D646)","v":{"$error":"#N/A"}},null,null,null,null,null,null,null,null,null,null,null,null,null,null,null,null,null,null,null,null,null,null,null,null,null,null,null,null,null,null,null,null,null,null,null,null,null,null,null,null,null,null,"'PL_2020-10'!$A:$H","$A:$H","12413PL44105","GOLLINUCCI Sorter 580 Plus Line, 600 mm, výška 505mm, 80 l, šedý","Star","pastuszak","2020-10-01","Marcela Piechová",76.735421400000007,"x","x","x","x"]
[{"$error":"#N/A"},null,{"$f":"IFERROR(VLOOKUP(B647,List1!$A:$B,2,0),\"x\")","v":"x"},null,null,null,null,null,null,{"$f":"CONCATENATE(VLOOKUP(E647,[1]Seznamy!$Q$2:$R$36,2,0),VLOOKUP(F647,[1]Produkty!$I:$O,7,0),C647,D647)","v":{"$error":"#N/A"}},null,null,null,null,null,null,null,null,null,null,null,null,null,null,null,null,null,null,null,null,null,null,null,null,null,null,null,null,null,null,null,null,null,null,null,null,null,null,null,null,null,null,"'PL_2020-10'!$A:$H","$A:$H","12414PL44105","FRANKE Dřez ETN 610 455 x 435","Star","pastuszak","2020-10-01","Marcela Piechová",25.228676220000001,"x","x","x","x"]
[{"$error":"#N/A"},null,{"$f":"IFERROR(VLOOKUP(B648,List1!$A:$B,2,0),\"x\")","v":"x"},null,null,null,null,null,null,{"$f":"CONCATENATE(VLOOKUP(E648,[1]Seznamy!$Q$2:$R$36,2,0),VLOOKUP(F648,[1]Produkty!$I:$O,7,0),C648,D648)","v":{"$error":"#N/A"}},null,null,null,null,null,null,null,null,null,null,null,null,null,null,null,null,null,null,null,null,null,null,null,null,null,null,null,null,null,null,null,null,null,null,null,null,null,null,null,null,null,null,"'PL_2020-10'!$A:$H","$A:$H","12415PL44105","GOLLINUCCI Sorter Linea 222, 300 mm","Star","pastuszak","2020-10-01","Marcela Piechová",27.866954280000002,"x","x","x","x"]
[{"$f":"TEXT(J649,1)","v":{"$error":"#N/A"}},null,{"$f":"IFERROR(VLOOKUP(B649,List1!$A:$B,2,0),\"x\")","v":"x"},null,null,null,null,null,null,{"$f":"CONCATENATE(VLOOKUP(E649,[1]Seznamy!$Q$2:$R$36,2,0),VLOOKUP(F649,[1]Produkty!$I:$O,7,0),C649,D649)","v":{"$error":"#N/A"}},null,null,null,null,null,null,null,null,null,null,null,null,null,null,null,null,null,null,null,null,null,null,null,null,null,null,null,null,null,null,null,null,null,null,null,null,null,null,null,null,null,null,"'PL_2020-10'!$A:$H","$A:$H","12416PL44105","TULIP úchytka Nakana 128 chrom matný + šroubky","Star","pastuszak","2020-10-01","Lenka Kormaník",0.79492979675999997,"x","x","x","x"]
[{"$error":"#N/A"},null,{"$f":"IFERROR(VLOOKUP(B650,List1!$A:$B,2,0),\"x\")","v":"x"},null,null,null,null,null,null,{"$f":"CONCATENATE(VLOOKUP(E650,[1]Seznamy!$Q$2:$R$36,2,0),VLOOKUP(F650,[1]Produkty!$I:$O,7,0),C650,D650)","v":{"$error":"#N/A"}},null,null,null,null,null,null,null,null,null,null,null,null,null,null,null,null,null,null,null,null,null,null,null,null,null,null,null,null,null,null,null,null,null,null,null,null,null,null,null,null,null,null,"'PL_2020-10'!$A:$H","$A:$H","12417PL44105","TULIP úchytka Piombina 96 nikl matný + šroubky","Star","pastuszak","2020-10-01","Lenka Kormaník",0.4361922708,"x","x","x","x"]
[{"$error":"#N/A"},null,{"$f":"IFERROR(VLOOKUP(B651,List1!$A:$B,2,0),\"x\")","v":"x"},null,null,null,null,null,null,{"$f":"CONCATENATE(VLOOKUP(E651,[1]Seznamy!$Q$2:$R$36,2,0),VLOOKUP(F651,[1]Produkty!$I:$O,7,0),C651,D651)","v":{"$error":"#N/A"}},null,null,null,null,null,null,null,null,null,null,null,null,null,null,null,null,null,null,null,null,null,null,null,null,null,null,null,null,null,null,null,null,null,null,null,null,null,null,null,null,null,null,"'PL_2020-10'!$A:$H","$A:$H","12418PL44105","TULIP úchytka Anita 96 nikl matný + šroubky","Star","pastuszak","2020-10-01","Lenka Kormaník",0.2761883322,"x","x","x","x"]
[{"$error":"#N/A"},null,{"$f":"IFERROR(VLOOKUP(B652,List1!$A:$B,2,0),\"x\")","v":"x"},null,null,null,null,null,null,{"$f":"CONCATENATE(VLOOKUP(E652,[1]Seznamy!$Q$2:$R$36,2,0),VLOOKUP(F652,[1]Produkty!$I:$O,7,0),C652,D652)","v":{"$error":"#N/A"}},null,null,null,null,null,null,null,null,null,null,null,null,null,null,null,null,null,null,null,null,null,null,null,null,null,null,null,null,null,null,null,null,null,null,null,null,null,null,null,null,null,null,"'PL_2020-10'!$A:$H","$A:$H","12419PL44105","TULIP věšák Lugo XL chrom matný + šroubky","Star","pastuszak","2020-10-01","Lenka Kormaník",0.74823068165999995,"x","x","x","x"]
[{"$error":"#N/A"},null,{"$f":"IFERROR(VLOOKUP(B653,List1!$A:$B,2,0),\"x\")","v":"x"},null,null,null,null,null,null,{"$f":"CONCATENATE(VLOOKUP(E653,[1]Seznamy!$Q$2:$R$36,2,0),VLOOKUP(F653,[1]Produkty!$I:$O,7,0),C653,D653)","v":{"$error":"#N/A"}},null,null,null,null,null,null,null,null,null,null,null,null,null,null,null,null,null,null,null,null,null,null,null,null,null,null,null,null,null,null,null,null,null,null,null,null,null,null,null,null,null,null,"'PL_2020-10'!$A:$H","$A:$H","12420PL44105","TULIP Úchytka Ramara 596 imitace nerezi","Star","pastuszak","2020-10-01","Lenka Kormaník",3.63724531632,"x","x","x","x"]
[{"$error":"#N/A"},null,{"$f":"IFERROR(VLOOKUP(B654,List1!$A:$B,2,0),\"x\")","v":"x"},null,null,null,null,null,null,{"$f":"CONCATENATE(VLOOKUP(E654,[1]Seznamy!$Q$2:$R$36,2,0),VLOOKUP(F654,[1]Produkty!$I:$O,7,0),C654,D654)","v":{"$error":"#N/A"}},null,null,null,null,null,null,null,null,null,null,null,null,null,null,null,null,null,null,null,null,null,null,null,null,null,null,null,null,null,null,null,null,null,null,null,null,null,null,null,null,null,null,"'PL_2020-10'!$A:$H","$A:$H","12421PL44105","TULIP Úchytka Lucata 160 černá matná","Star","pastuszak","2020-10-01","Lenka Kormaník",0.82574688768000004,"x","x","x","x"]
[{"$error":"#N/A"},null,{"$f":"IFERROR(VLOOKUP(B655,List1!$A:$B,2,0),\"x\")","v":"x"},null,null,null,null,null,null,{"$f":"CONCATENATE(VLOOKUP(E655,[1]Seznamy!$Q$2:$R$36,2,0),VLOOKUP(F655,[1]Produkty!$I:$O,7,0),C655,D655)","v":{"$error":"#N/A"}},null,null,null,null,null,null,null,null,null,null,null,null,null,null,null,null,null,null,null,null,null,null,null,null,null,null,null,null,null,null,null,null,null,null,null,null,null,null,null,null,null,null,"'PL_2020-10'!$A:$H","$A:$H","12422PL44105","STRONG LED pásek 21,6W/m 24V bílá neutrální 210 LED/m","Star","pastuszak","2020-10-01","Stančo Denčev",3.2988537172800001,"x","x","x","x"]
[{"$error":"#N/A"},null,{"$f":"IFERROR(VLOOKUP(B656,List1!$A:$B,2,0),\"x\")","v":"x"},null,null,null,null,null,null,{"$f":"CONCATENATE(VLOOKUP(E656,[1]Seznamy!$Q$2:$R$36,2,0),VLOOKUP(F656,[1]Produkty!$I:$O,7,0),C656,D656)","v":{"$error":"#N/A"}},null,null,null,null,null,null,null,null,null,null,null,null,null,null,null,null,null,null,null,null,null,null,null,null,null,null,null,null,null,null,null,null,null,null,null,null,null,null,null,null,null,null,"'PL_2020-10'!$A:$H","$A:$H","12423PL44105","STRONG transformátor plochý LED 24V 100W","Star","pastuszak","2020-10-01","Stančo Denčev",15.99443667822,"x","x","x","x"]
[{"$error":"#N/A"},null,{"$f":"IFERROR(VLOOKUP(B657,List1!$A:$B,2,0),\"x\")","v":"x"},null,null,null,null,null,null,{"$f":"CONCATENATE(VLOOKUP(E657,[1]Seznamy!$Q$2:$R$36,2,0),VLOOKUP(F657,[1]Produkty!$I:$O,7,0),C657,D657)","v":{"$error":"#N/A"}},null,null,null,null,null,null,null,null,null,null,null,null,null,null,null,null,null,null,null,null,null,null,null,null,null,null,null,null,null,null,null,null,null,null,null,null,null,null,null,null,null,null,"'PL_2020-10'!$A:$H","$A:$H","12424PL44105","Vrut PZ 4x18 zápustná hlava zinek bílý PZ2","Star","pastuszak","2020-10-01","Stančo Denčev",2.03960064E-3,"x","x","x","x"]
[{"$error":"#N/A"},null,{"$f":"IFERROR(VLOOKUP(B658,List1!$A:$B,2,0),\"x\")","v":"x"},null,null,null,null,null,null,{"$f":"CONCATENATE(VLOOKUP(E658,[1]Seznamy!$Q$2:$R$36,2,0),VLOOKUP(F658,[1]Produkty!$I:$O,7,0),C658,D658)","v":{"$error":"#N/A"}},null,null,null,null,null,null,null,null,null,null,null,null,null,null,null,null,null,null,null,null,null,null,null,null,null,null,null,null,null,null,null,null,null,null,null,null,null,null,null,null,null,null,"'PL_2020-10'!$A:$H","$A:$H","12425PL44105","Konfirmát 7/50 zinek bílý bulk","Star","pastuszak","2020-10-01","Stančo Denčev",8.3200227000000005E-3,"x","x","x","x"]
[{"$error":"#N/A"},null,{"$f":"IFERROR(VLOOKUP(B659,List1!$A:$B,2,0),\"x\")","v":"x"},null,null,null,null,null,null,{"$f":"CONCATENATE(VLOOKUP(E659,[1]Seznamy!$Q$2:$R$36,2,0),VLOOKUP(F659,[1]Produkty!$I:$O,7,0),C659,D659)","v":{"$error":"#N/A"}},null,null,null,null,null,null,null,null,null,null,null,null,null,null,null,null,null,null,null,null,null,null,null,null,null,null,null,null,null,null,null,null,null,null,null,null,null,null,null,null,null,null,"'PL_2020-10'!$A:$H","$A:$H","12426PL44105","DTDL W980 ST2 Platinově bílá 2800/2070/18","Star","pastuszak","2020-10-01","Martin Karaščák",0,"x","x","x","x"]
[{"$error":"#N/A"},null,{"$f":"IFERROR(VLOOKUP(B660,List1!$A:$B,2,0),\"x\")","v":"x"},null,null,null,null,null,null,{"$f":"CONCATENATE(VLOOKUP(E660,[1]Seznamy!$Q$2:$R$36,2,0),VLOOKUP(F660,[1]Produkty!$I:$O,7,0),C660,D660)","v":{"$error":"#N/A"}},null,null,null,null,null,null,null,null,null,null,null,null,null,null,null,null,null,null,null,null,null,null,null,null,null,null,null,null,null,null,null,null,null,null,null,null,null,null,null,null,null,null,"'PL_2020-10'!$A:$H","$A:$H","12427PL44105","DTDD DUB COMMERCIAL A/B DEC 2800/2070/19","Star","pastuszak","2020-10-01","Martin Karaščák",0,"x","x","x","x"]
[{"$error":"#N/A"},null,{"$f":"IFERROR(VLOOKUP(B661,List1!$A:$B,2,0),\"x\")","v":"x"},null,null,null,null,null,null,{"$f":"CONCATENATE(VLOOKUP(E661,[1]Seznamy!$Q$2:$R$36,2,0),VLOOKUP(F661,[1]Produkty!$I:$O,7,0),C661,D661)","v":{"$error":"#N/A"}},null,null,null,null,null,null,null,null,null,null,null,null,null,null,null,null,null,null,null,null,null,null,null,null,null,null,null,null,null,null,null,null,null,null,null,null,null,null,null,null,null,null,"'PL_2020-10'!$A:$H","$A:$H","12428PL44105","DTDD Dub evr. radiál st A/B 2800/2070/19","Star","pastuszak","2020-10-01","Martin Karaščák",0,"x","x","x","x"]
[{"$error":"#N/A"},null,{"$f":"IFERROR(VLOOKUP(B662,List1!$A:$B,2,0),\"x\")","v":"x"},null,null,null,null,null,null,{"$f":"CONCATENATE(VLOOKUP(E662,[1]Seznamy!$Q$2:$R$36,2,0),VLOOKUP(F662,[1]Produkty!$I:$O,7,0),C662,D662)","v":{"$error":"#N/A"}},null,null,null,null,null,null,null,null,null,null,null,null,null,null,null,null,null,null,null,null,null,null,null,null,null,null,null,null,null,null,null,null,null,null,null,null,null,null,null,null,null,null,"'PL_2020-10'!$A:$H","$A:$H","12429PL44105","ABSB HU10113 Bílá 101/110/113/8100/8685/W954/B3822 PE 22/2","Star","pastuszak","2020-10-01","Martin Karaščák",0,"x","x","x","x"]
[{"$error":"#N/A"},null,{"$f":"IFERROR(VLOOKUP(B663,List1!$A:$B,2,0),\"x\")","v":"x"},null,null,null,null,null,null,{"$f":"CONCATENATE(VLOOKUP(E663,[1]Seznamy!$Q$2:$R$36,2,0),VLOOKUP(F663,[1]Produkty!$I:$O,7,0),C663,D663)","v":{"$error":"#N/A"}},null,null,null,null,null,null,null,null,null,null,null,null,null,null,null,null,null,null,null,null,null,null,null,null,null,null,null,null,null,null,null,null,null,null,null,null,null,null,null,null,null,null,"'PL_2020-10'!$A:$H","$A:$H","12430PL44105","ABSB 77039/414 W980/500/W954 ST2 23/2","Star","pastuszak","2020-10-01","Martin Karaščák",0,"x","x","x","x"]
[{"$error":"#N/A"},null,{"$f":"IFERROR(VLOOKUP(B664,List1!$A:$B,2,0),\"x\")","v":"x"},null,null,null,null,null,null,{"$f":"CONCATENATE(VLOOKUP(E664,[1]Seznamy!$Q$2:$R$36,2,0),VLOOKUP(F664,[1]Produkty!$I:$O,7,0),C664,D664)","v":{"$error":"#N/A"}},null,null,null,null,null,null,null,null,null,null,null,null,null,null,null,null,null,null,null,null,null,null,null,null,null,null,null,null,null,null,null,null,null,null,null,null,null,null,null,null,null,null,"'PL_2020-10'!$A:$H","$A:$H","12431PL44105","HDF LAK 101 BÍLÁ PE 2800/2070/3","Star","pastuszak","2020-10-01","Martin Karaščák",0,"x","x","x","x"]
[{"$error":"#N/A"},null,{"$f":"IFERROR(VLOOKUP(B665,List1!$A:$B,2,0),\"x\")","v":"x"},null,null,null,null,null,null,{"$f":"CONCATENATE(VLOOKUP(E665,[1]Seznamy!$Q$2:$R$36,2,0),VLOOKUP(F665,[1]Produkty!$I:$O,7,0),C665,D665)","v":{"$error":"#N/A"}},null,null,null,null,null,null,null,null,null,null,null,null,null,null,null,null,null,null,null,null,null,null,null,null,null,null,null,null,null,null,null,null,null,null,null,null,null,null,null,null,null,null,"'SK_2020-10'!$A:$H","$A:$H","12332SK44105","Alfa II profile 222788","Avecan","badzik","2020-10-01","NULL",4.3739999999999997,"x","x","x","x"]
[{"$error":"#N/A"},null,{"$f":"IFERROR(VLOOKUP(B666,List1!$A:$B,2,0),\"x\")","v":"x"},null,null,null,null,null,null,{"$f":"CONCATENATE(VLOOKUP(E666,[1]Seznamy!$Q$2:$R$36,2,0),VLOOKUP(F666,[1]Produkty!$I:$O,7,0),C666,D666)","v":{"$error":"#N/A"}},null,null,null,null,null,null,null,null,null,null,null,null,null,null,null,null,null,null,null,null,null,null,null,null,null,null,null,null,null,null,null,null,null,null,null,null,null,null,null,null,null,null,"'SK_2020-10'!$A:$H","$A:$H","12333SK44105","SEVROLL Era úchytová lišta 18mm 2,70m stříbrná","Avecan","badzik","2020-10-01","NULL",0.01,"x","x","x","x"]
[{"$error":"#N/A"},null,{"$f":"IFERROR(VLOOKUP(B667,List1!$A:$B,2,0),\"x\")","v":"x"},null,null,null,null,null,null,{"$f":"CONCATENATE(VLOOKUP(E667,[1]Seznamy!$Q$2:$R$36,2,0),VLOOKUP(F667,[1]Produkty!$I:$O,7,0),C667,D667)","v":{"$error":"#N/A"}},null,null,null,null,null,null,null,null,null,null,null,null,null,null,null,null,null,null,null,null,null,null,null,null,null,null,null,null,null,null,null,null,null,null,null,null,null,null,null,null,null,null,"'SK_2020-10'!$A:$H","$A:$H","12334SK44105","Strong electric socket, lift","Avecan","badzik","2020-10-01","NULL",14.40442,"x","x","x","x"]
[{"$error":"#N/A"},null,{"$f":"IFERROR(VLOOKUP(B668,List1!$A:$B,2,0),\"x\")","v":"x"},null,null,null,null,null,null,{"$f":"CONCATENATE(VLOOKUP(E668,[1]Seznamy!$Q$2:$R$36,2,0),VLOOKUP(F668,[1]Produkty!$I:$O,7,0),C668,D668)","v":{"$error":"#N/A"}},null,null,null,null,null,null,null,null,null,null,null,null,null,null,null,null,null,null,null,null,null,null,null,null,null,null,null,null,null,null,null,null,null,null,null,null,null,null,null,null,null,null,"'SK_2020-10'!$A:$H","$A:$H","12335SK44105","STRONG Elektricky stavitelná podnož černá RAL 9005 mat","Avecan","badzik","2020-10-01","NULL",126.18097,"x","x","x","x"]
[{"$error":"#N/A"},null,{"$f":"IFERROR(VLOOKUP(B669,List1!$A:$B,2,0),\"x\")","v":"x"},null,null,null,null,null,null,{"$f":"CONCATENATE(VLOOKUP(E669,[1]Seznamy!$Q$2:$R$36,2,0),VLOOKUP(F669,[1]Produkty!$I:$O,7,0),C669,D669)","v":{"$error":"#N/A"}},null,null,null,null,null,null,null,null,null,null,null,null,null,null,null,null,null,null,null,null,null,null,null,null,null,null,null,null,null,null,null,null,null,null,null,null,null,null,null,null,null,null,"'SK_2020-10'!$A:$H","$A:$H","12336SK44105","TULIP Gola dvířkový J profil 4,1m eloxovaný hliník","Avecan","badzik","2020-10-01","NULL",0.01,"x","x","x","x"]
[{"$error":"#N/A"},null,{"$f":"IFERROR(VLOOKUP(B670,List1!$A:$B,2,0),\"x\")","v":"x"},null,null,null,null,null,null,{"$f":"CONCATENATE(VLOOKUP(E670,[1]Seznamy!$Q$2:$R$36,2,0),VLOOKUP(F670,[1]Produkty!$I:$O,7,0),C670,D670)","v":{"$error":"#N/A"}},null,null,null,null,null,null,null,null,null,null,null,null,null,null,null,null,null,null,null,null,null,null,null,null,null,null,null,null,null,null,null,null,null,null,null,null,null,null,null,null,null,null,"'SK_2020-10'!$A:$H","$A:$H","12232SK44105","Alfa II profile 222788","Drevina","badzik","2020-10-01","NULL",4.3739999999999997,"x","x","x","x"]
[{"$error":"#N/A"},null,{"$f":"IFERROR(VLOOKUP(B671,List1!$A:$B,2,0),\"x\")","v":"x"},null,null,null,null,null,null,{"$f":"CONCATENATE(VLOOKUP(E671,[1]Seznamy!$Q$2:$R$36,2,0),VLOOKUP(F671,[1]Produkty!$I:$O,7,0),C671,D671)","v":{"$error":"#N/A"}},null,null,null,null,null,null,null,null,null,null,null,null,null,null,null,null,null,null,null,null,null,null,null,null,null,null,null,null,null,null,null,null,null,null,null,null,null,null,null,null,null,null,"'SK_2020-10'!$A:$H","$A:$H","12233SK44105","SEVROLL Era úchytová lišta 18mm 2,70m stříbrná","Drevina","badzik","2020-10-01","NULL",0.01,"x","x","x","x"]
[{"$error":"#N/A"},null,{"$f":"IFERROR(VLOOKUP(B672,List1!$A:$B,2,0),\"x\")","v":"x"},null,null,null,null,null,null,{"$f":"CONCATENATE(VLOOKUP(E672,[1]Seznamy!$Q$2:$R$36,2,0),VLOOKUP(F672,[1]Produkty!$I:$O,7,0),C672,D672)","v":{"$error":"#N/A"}},null,null,null,null,null,null,null,null,null,null,null,null,null,null,null,null,null,null,null,null,null,null,null,null,null,null,null,null,null,null,null,null,null,null,null,null,null,null,null,null,null,null,"'SK_2020-10'!$A:$H","$A:$H","12234SK44105","Strong electric socket, lift","Drevina","badzik","2020-10-01","NULL",14.40442,"x","x","x","x"]
[{"$error":"#N/A"},null,{"$f":"IFERROR(VLOOKUP(B673,List1!$A:$B,2,0),\"x\")","v":"x"},null,null,null,null,null,null,{"$f":"CONCATENATE(VLOOKUP(E673,[1]Seznamy!$Q$2:$R$36,2,0),VLOOKUP(F673,[1]Produkty!$I:$O,7,0),C673,D673)","v":{"$error":"#N/A"}},null,null,null,null,null,null,null,null,null,null,null,null,null,null,null,null,null,null,null,null,null,null,null,null,null,null,null,null,null,null,null,null,null,null,null,null,null,null,null,null,null,null,"'SK_2020-10'!$A:$H","$A:$H","12235SK44105","STRONG Elektricky stavitelná podnož černá RAL 9005 mat","Drevina","badzik","2020-10-01","NULL",126.18097,"x","x","x","x"]
[{"$error":"#N/A"},null,{"$f":"IFERROR(VLOOKUP(B674,List1!$A:$B,2,0),\"x\")","v":"x"},null,null,null,null,null,null,{"$f":"CONCATENATE(VLOOKUP(E674,[1]Seznamy!$Q$2:$R$36,2,0),VLOOKUP(F674,[1]Produkty!$I:$O,7,0),C674,D674)","v":{"$error":"#N/A"}},null,null,null,null,null,null,null,null,null,null,null,null,null,null,null,null,null,null,null,null,null,null,null,null,null,null,null,null,null,null,null,null,null,null,null,null,null,null,null,null,null,null,"'SK_2020-10'!$A:$H","$A:$H","12236SK44105","TULIP Gola dvířkový J profil 4,1m eloxovaný hliník","Drevina","badzik","2020-10-01","NULL",0.01,"x","x","x","x"]
[{"$error":"#N/A"},null,{"$f":"IFERROR(VLOOKUP(B675,List1!$A:$B,2,0),\"x\")","v":"x"},null,null,null,null,null,null,{"$f":"CONCATENATE(VLOOKUP(E675,[1]Seznamy!$Q$2:$R$36,2,0),VLOOKUP(F675,[1]Produkty!$I:$O,7,0),C675,D675)","v":{"$error":"#N/A"}},null,null,null,null,null,null,null,null,null,null,null,null,null,null,null,null,null,null,null,null,null,null,null,null,null,null,null,null,null,null,null,null,null,null,null,null,null,null,null,null,null,null,"'SK_2020-10'!$A:$H","$A:$H","1105SK44105","StrongRide synchro 3D celovýsuv 500 mm s tlumením","GTV","badzik","2020-10-01","Martin Zniszczol",5.84,"x","x","x","x"]
[{"$error":"#N/A"},null,{"$f":"IFERROR(VLOOKUP(B676,List1!$A:$B,2,0),\"x\")","v":"x"},null,null,null,null,null,null,{"$f":"CONCATENATE(VLOOKUP(E676,[1]Seznamy!$Q$2:$R$36,2,0),VLOOKUP(F676,[1]Produkty!$I:$O,7,0),C676,D676)","v":{"$error":"#N/A"}},null,null,null,null,null,null,null,null,null,null,null,null,null,null,null,null,null,null,null,null,null,null,null,null,null,null,null,null,null,null,null,null,null,null,null,null,null,null,null,null,null,null,"'SK_2020-10'!$A:$H","$A:$H","1107SK44105","STRONG Stolová noha centrální 450x450 černá","GTV","badzik","2020-10-01","Lukáš Sládek",34.751869999999997,"x","x","x","x"]
[{"$error":"#N/A"},null,{"$f":"IFERROR(VLOOKUP(B677,List1!$A:$B,2,0),\"x\")","v":"x"},null,null,null,null,null,null,{"$f":"CONCATENATE(VLOOKUP(E677,[1]Seznamy!$Q$2:$R$36,2,0),VLOOKUP(F677,[1]Produkty!$I:$O,7,0),C677,D677)","v":{"$error":"#N/A"}},null,null,null,null,null,null,null,null,null,null,null,null,null,null,null,null,null,null,null,null,null,null,null,null,null,null,null,null,null,null,null,null,null,null,null,null,null,null,null,null,null,null,"'SK_2020-10'!$A:$H","$A:$H","1109SK44105","BBP OA Zásuvka 515 mm kovová černá","GTV","badzik","2020-10-01","Lukáš Sládek",4.8439500000000004,"x","x","x","x"]
[{"$error":"#N/A"},null,{"$f":"IFERROR(VLOOKUP(B678,List1!$A:$B,2,0),\"x\")","v":"x"},null,null,null,null,null,null,{"$f":"CONCATENATE(VLOOKUP(E678,[1]Seznamy!$Q$2:$R$36,2,0),VLOOKUP(F678,[1]Produkty!$I:$O,7,0),C678,D678)","v":{"$error":"#N/A"}},null,null,null,null,null,null,null,null,null,null,null,null,null,null,null,null,null,null,null,null,null,null,null,null,null,null,null,null,null,null,null,null,null,null,null,null,null,null,null,null,null,null,"'SK_2020-10'!$A:$H","$A:$H","11010SK44105","FRANKE Dřez ETN 614 6/4 obyčejný ventil bez otvoru","GTV","badzik","2020-10-01","Marcela Piechová",26.24,"x","x","x","x"]
[{"$error":"#N/A"},null,{"$f":"IFERROR(VLOOKUP(B679,List1!$A:$B,2,0),\"x\")","v":"x"},null,null,null,null,null,null,{"$f":"CONCATENATE(VLOOKUP(E679,[1]Seznamy!$Q$2:$R$36,2,0),VLOOKUP(F679,[1]Produkty!$I:$O,7,0),C679,D679)","v":{"$error":"#N/A"}},null,null,null,null,null,null,null,null,null,null,null,null,null,null,null,null,null,null,null,null,null,null,null,null,null,null,null,null,null,null,null,null,null,null,null,null,null,null,null,null,null,null,"'SK_2020-10'!$A:$H","$A:$H","11011SK44105","FRANKE Dřez BFG 611-78 780 x 500 onyx","GTV","badzik","2020-10-01","Marcela Piechová",106.13,"x","x","x","x"]
[{"$error":"#N/A"},null,{"$f":"IFERROR(VLOOKUP(B680,List1!$A:$B,2,0),\"x\")","v":"x"},null,null,null,null,null,null,{"$f":"CONCATENATE(VLOOKUP(E680,[1]Seznamy!$Q$2:$R$36,2,0),VLOOKUP(F680,[1]Produkty!$I:$O,7,0),C680,D680)","v":{"$error":"#N/A"}},null,null,null,null,null,null,null,null,null,null,null,null,null,null,null,null,null,null,null,null,null,null,null,null,null,null,null,null,null,null,null,null,null,null,null,null,null,null,null,null,null,null,"'SK_2020-10'!$A:$H","$A:$H","11013SK44105","GOLLINUCCI Sorter 580 Plus Line, 600 mm, výška 505mm, 80 l, šedý","GTV","badzik","2020-10-01","Marcela Piechová",74.02,"x","x","x","x"]
[{"$error":"#N/A"},null,{"$f":"IFERROR(VLOOKUP(B681,List1!$A:$B,2,0),\"x\")","v":"x"},null,null,null,null,null,null,{"$f":"CONCATENATE(VLOOKUP(E681,[1]Seznamy!$Q$2:$R$36,2,0),VLOOKUP(F681,[1]Produkty!$I:$O,7,0),C681,D681)","v":{"$error":"#N/A"}},null,null,null,null,null,null,null,null,null,null,null,null,null,null,null,null,null,null,null,null,null,null,null,null,null,null,null,null,null,null,null,null,null,null,null,null,null,null,null,null,null,null,"'SK_2020-10'!$A:$H","$A:$H","11014SK44105","FRANKE Dřez ETN 610 455 x 435","GTV","badzik","2020-10-01","Marcela Piechová",26.13,"x","x","x","x"]
[{"$error":"#N/A"},null,{"$f":"IFERROR(VLOOKUP(B682,List1!$A:$B,2,0),\"x\")","v":"x"},null,null,null,null,null,null,{"$f":"CONCATENATE(VLOOKUP(E682,[1]Seznamy!$Q$2:$R$36,2,0),VLOOKUP(F682,[1]Produkty!$I:$O,7,0),C682,D682)","v":{"$error":"#N/A"}},null,null,null,null,null,null,null,null,null,null,null,null,null,null,null,null,null,null,null,null,null,null,null,null,null,null,null,null,null,null,null,null,null,null,null,null,null,null,null,null,null,null,"'SK_2020-10'!$A:$H","$A:$H","11020SK44105","TULIP Úchytka Ramara 596 imitace nerezi","GTV","badzik","2020-10-01","Lenka Kormaník",3.7006299999999999,"x","x","x","x"]
[{"$error":"#N/A"},null,{"$f":"IFERROR(VLOOKUP(B683,List1!$A:$B,2,0),\"x\")","v":"x"},null,null,null,null,null,null,{"$f":"CONCATENATE(VLOOKUP(E683,[1]Seznamy!$Q$2:$R$36,2,0),VLOOKUP(F683,[1]Produkty!$I:$O,7,0),C683,D683)","v":{"$error":"#N/A"}},null,null,null,null,null,null,null,null,null,null,null,null,null,null,null,null,null,null,null,null,null,null,null,null,null,null,null,null,null,null,null,null,null,null,null,null,null,null,null,null,null,null,"'SK_2020-10'!$A:$H","$A:$H","11021SK44105","TULIP Úchytka Lucata 160 černá matná","GTV","badzik","2020-10-01","Lenka Kormaník",0.84014,"x","x","x","x"]
[{"$error":"#N/A"},null,{"$f":"IFERROR(VLOOKUP(B684,List1!$A:$B,2,0),\"x\")","v":"x"},null,null,null,null,null,null,{"$f":"CONCATENATE(VLOOKUP(E684,[1]Seznamy!$Q$2:$R$36,2,0),VLOOKUP(F684,[1]Produkty!$I:$O,7,0),C684,D684)","v":{"$error":"#N/A"}},null,null,null,null,null,null,null,null,null,null,null,null,null,null,null,null,null,null,null,null,null,null,null,null,null,null,null,null,null,null,null,null,null,null,null,null,null,null,null,null,null,null,"'SK_2020-10'!$A:$H","$A:$H","11022SK44105","STRONG LED pásek 21,6W/m 24V bílá neutrální 210 LED/m","GTV","badzik","2020-10-01","Stančo Denčev",3.3847,"x","x","x","x"]
[{"$error":"#N/A"},null,{"$f":"IFERROR(VLOOKUP(B685,List1!$A:$B,2,0),\"x\")","v":"x"},null,null,null,null,null,null,{"$f":"CONCATENATE(VLOOKUP(E685,[1]Seznamy!$Q$2:$R$36,2,0),VLOOKUP(F685,[1]Produkty!$I:$O,7,0),C685,D685)","v":{"$error":"#N/A"}},null,null,null,null,null,null,null,null,null,null,null,null,null,null,null,null,null,null,null,null,null,null,null,null,null,null,null,null,null,null,null,null,null,null,null,null,null,null,null,null,null,null,"'SK_2020-10'!$A:$H","$A:$H","11023SK44105","STRONG transformátor plochý LED 24V 100W","GTV","badzik","2020-10-01","Stančo Denčev",16.410900000000002,"x","x","x","x"]
[{"$error":"#N/A"},null,{"$f":"IFERROR(VLOOKUP(B686,List1!$A:$B,2,0),\"x\")","v":"x"},null,null,null,null,null,null,{"$f":"CONCATENATE(VLOOKUP(E686,[1]Seznamy!$Q$2:$R$36,2,0),VLOOKUP(F686,[1]Produkty!$I:$O,7,0),C686,D686)","v":{"$error":"#N/A"}},null,null,null,null,null,null,null,null,null,null,null,null,null,null,null,null,null,null,null,null,null,null,null,null,null,null,null,null,null,null,null,null,null,null,null,null,null,null,null,null,null,null,"'SK_2020-10'!$A:$H","$A:$H","11024SK44105","Vrut PZ 4x18 zápustná hlava zinek bílý PZ2","GTV","badzik","2020-10-01","Stančo Denčev",2.1299999999999999E-3,"x","x","x","x"]
[{"$error":"#N/A"},null,{"$f":"IFERROR(VLOOKUP(B687,List1!$A:$B,2,0),\"x\")","v":"x"},null,null,null,null,null,null,{"$f":"CONCATENATE(VLOOKUP(E687,[1]Seznamy!$Q$2:$R$36,2,0),VLOOKUP(F687,[1]Produkty!$I:$O,7,0),C687,D687)","v":{"$error":"#N/A"}},null,null,null,null,null,null,null,null,null,null,null,null,null,null,null,null,null,null,null,null,null,null,null,null,null,null,null,null,null,null,null,null,null,null,null,null,null,null,null,null,null,null,"'SK_2020-10'!$A:$H","$A:$H","11025SK44105","Konfirmát 7/50 zinek bílý bulk","GTV","badzik","2020-10-01","Stančo Denčev",8.6999999999999994E-3,"x","x","x","x"]
[{"$error":"#N/A"},null,{"$f":"IFERROR(VLOOKUP(B688,List1!$A:$B,2,0),\"x\")","v":"x"},null,null,null,null,null,null,{"$f":"CONCATENATE(VLOOKUP(E688,[1]Seznamy!$Q$2:$R$36,2,0),VLOOKUP(F688,[1]Produkty!$I:$O,7,0),C688,D688)","v":{"$error":"#N/A"}},null,null,null,null,null,null,null,null,null,null,null,null,null,null,null,null,null,null,null,null,null,null,null,null,null,null,null,null,null,null,null,null,null,null,null,null,null,null,null,null,null,null,"'SK_2020-10'!$A:$H","$A:$H","11026SK44105","DTDL W980 ST2 Platinově bílá 2800/2070/18","GTV","badzik","2020-10-01","Martin Karaščák",23.7636,"x","x","x","x"]
[{"$error":"#N/A"},null,{"$f":"IFERROR(VLOOKUP(B689,List1!$A:$B,2,0),\"x\")","v":"x"},null,null,null,null,null,null,{"$f":"CONCATENATE(VLOOKUP(E689,[1]Seznamy!$Q$2:$R$36,2,0),VLOOKUP(F689,[1]Produkty!$I:$O,7,0),C689,D689)","v":{"$error":"#N/A"}},null,null,null,null,null,null,null,null,null,null,null,null,null,null,null,null,null,null,null,null,null,null,null,null,null,null,null,null,null,null,null,null,null,null,null,null,null,null,null,null,null,null,"'SK_2020-10'!$A:$H","$A:$H","11027SK44105","DTDD DUB COMMERCIAL A/B DEC 2800/2070/19","GTV","badzik","2020-10-01","Martin Karaščák",0,"x","x","x","x"]
[{"$error":"#N/A"},null,{"$f":"IFERROR(VLOOKUP(B690,List1!$A:$B,2,0),\"x\")","v":"x"},null,null,null,null,null,null,{"$f":"CONCATENATE(VLOOKUP(E690,[1]Seznamy!$Q$2:$R$36,2,0),VLOOKUP(F690,[1]Produkty!$I:$O,7,0),C690,D690)","v":{"$error":"#N/A"}},null,null,null,null,null,null,null,null,null,null,null,null,null,null,null,null,null,null,null,null,null,null,null,null,null,null,null,null,null,null,null,null,null,null,null,null,null,null,null,null,null,null,"'SK_2020-10'!$A:$H","$A:$H","11028SK44105","DTDD Dub evr. radiál st A/B 2800/2070/19","GTV","badzik","2020-10-01","Martin Karaščák",58.655520000000003,"x","x","x","x"]
[{"$error":"#N/A"},null,{"$f":"IFERROR(VLOOKUP(B691,List1!$A:$B,2,0),\"x\")","v":"x"},null,null,null,null,null,null,{"$f":"CONCATENATE(VLOOKUP(E691,[1]Seznamy!$Q$2:$R$36,2,0),VLOOKUP(F691,[1]Produkty!$I:$O,7,0),C691,D691)","v":{"$error":"#N/A"}},null,null,null,null,null,null,null,null,null,null,null,null,null,null,null,null,null,null,null,null,null,null,null,null,null,null,null,null,null,null,null,null,null,null,null,null,null,null,null,null,null,null,"'SK_2020-10'!$A:$H","$A:$H","11029SK44105","ABSB HU10113 Bílá 101/110/113/8100/8685/W954/B3822 PE 22/2","GTV","badzik","2020-10-01","Martin Karaščák",0,"x","x","x","x"]
[{"$error":"#N/A"},null,{"$f":"IFERROR(VLOOKUP(B692,List1!$A:$B,2,0),\"x\")","v":"x"},null,null,null,null,null,null,{"$f":"CONCATENATE(VLOOKUP(E692,[1]Seznamy!$Q$2:$R$36,2,0),VLOOKUP(F692,[1]Produkty!$I:$O,7,0),C692,D692)","v":{"$error":"#N/A"}},null,null,null,null,null,null,null,null,null,null,null,null,null,null,null,null,null,null,null,null,null,null,null,null,null,null,null,null,null,null,null,null,null,null,null,null,null,null,null,null,null,null,"'SK_2020-10'!$A:$H","$A:$H","11030SK44105","ABSB 77039/414 W980/500/W954 ST2 23/2","GTV","badzik","2020-10-01","Martin Karaščák",0.16747999999999999,"x","x","x","x"]
[{"$error":"#N/A"},null,{"$f":"IFERROR(VLOOKUP(B693,List1!$A:$B,2,0),\"x\")","v":"x"},null,null,null,null,null,null,{"$f":"CONCATENATE(VLOOKUP(E693,[1]Seznamy!$Q$2:$R$36,2,0),VLOOKUP(F693,[1]Produkty!$I:$O,7,0),C693,D693)","v":{"$error":"#N/A"}},null,null,null,null,null,null,null,null,null,null,null,null,null,null,null,null,null,null,null,null,null,null,null,null,null,null,null,null,null,null,null,null,null,null,null,null,null,null,null,null,null,null,"'SK_2020-10'!$A:$H","$A:$H","11031SK44105","HDF LAK 101 BÍLÁ PE 2800/2070/3","GTV","badzik","2020-10-01","Martin Karaščák",5.5061999999999998,"x","x","x","x"]
[{"$error":"#N/A"},null,{"$f":"IFERROR(VLOOKUP(B694,List1!$A:$B,2,0),\"x\")","v":"x"},null,null,null,null,null,null,{"$f":"CONCATENATE(VLOOKUP(E694,[1]Seznamy!$Q$2:$R$36,2,0),VLOOKUP(F694,[1]Produkty!$I:$O,7,0),C694,D694)","v":{"$error":"#N/A"}},null,null,null,null,null,null,null,null,null,null,null,null,null,null,null,null,null,null,null,null,null,null,null,null,null,null,null,null,null,null,null,null,null,null,null,null,null,null,null,null,null,null,"'SK_2020-10'!$A:$H","$A:$H","11032SK44105","Alfa II profile 222788","GTV","badzik","2020-10-01","NULL",4.3739999999999997,"x","x","x","x"]
[{"$error":"#N/A"},null,{"$f":"IFERROR(VLOOKUP(B695,List1!$A:$B,2,0),\"x\")","v":"x"},null,null,null,null,null,null,{"$f":"CONCATENATE(VLOOKUP(E695,[1]Seznamy!$Q$2:$R$36,2,0),VLOOKUP(F695,[1]Produkty!$I:$O,7,0),C695,D695)","v":{"$error":"#N/A"}},null,null,null,null,null,null,null,null,null,null,null,null,null,null,null,null,null,null,null,null,null,null,null,null,null,null,null,null,null,null,null,null,null,null,null,null,null,null,null,null,null,null,"'SK_2020-10'!$A:$H","$A:$H","11033SK44105","SEVROLL Era úchytová lišta 18mm 2,70m stříbrná","GTV","badzik","2020-10-01","NULL",0.01,"x","x","x","x"]
[{"$error":"#N/A"},null,{"$f":"IFERROR(VLOOKUP(B696,List1!$A:$B,2,0),\"x\")","v":"x"},null,null,null,null,null,null,{"$f":"CONCATENATE(VLOOKUP(E696,[1]Seznamy!$Q$2:$R$36,2,0),VLOOKUP(F696,[1]Produkty!$I:$O,7,0),C696,D696)","v":{"$error":"#N/A"}},null,null,null,null,null,null,null,null,null,null,null,null,null,null,null,null,null,null,null,null,null,null,null,null,null,null,null,null,null,null,null,null,null,null,null,null,null,null,null,null,null,null,"'SK_2020-10'!$A:$H","$A:$H","11034SK44105","Strong electric socket, lift","GTV","badzik","2020-10-01","NULL",14.40442,"x","x","x","x"]
[{"$error":"#N/A"},null,{"$f":"IFERROR(VLOOKUP(B697,List1!$A:$B,2,0),\"x\")","v":"x"},null,null,null,null,null,null,{"$f":"CONCATENATE(VLOOKUP(E697,[1]Seznamy!$Q$2:$R$36,2,0),VLOOKUP(F697,[1]Produkty!$I:$O,7,0),C697,D697)","v":{"$error":"#N/A"}},null,null,null,null,null,null,null,null,null,null,null,null,null,null,null,null,null,null,null,null,null,null,null,null,null,null,null,null,null,null,null,null,null,null,null,null,null,null,null,null,null,null,"'SK_2020-10'!$A:$H","$A:$H","11035SK44105","STRONG Elektricky stavitelná podnož černá RAL 9005 mat","GTV","badzik","2020-10-01","NULL",126.18097,"x","x","x","x"]
[{"$error":"#N/A"},null,{"$f":"IFERROR(VLOOKUP(B698,List1!$A:$B,2,0),\"x\")","v":"x"},null,null,null,null,null,null,{"$f":"CONCATENATE(VLOOKUP(E698,[1]Seznamy!$Q$2:$R$36,2,0),VLOOKUP(F698,[1]Produkty!$I:$O,7,0),C698,D698)","v":{"$error":"#N/A"}},null,null,null,null,null,null,null,null,null,null,null,null,null,null,null,null,null,null,null,null,null,null,null,null,null,null,null,null,null,null,null,null,null,null,null,null,null,null,null,null,null,null,"'SK_2020-10'!$A:$H","$A:$H","11036SK44105","TULIP Gola dvířkový J profil 4,1m eloxovaný hliník","GTV","badzik","2020-10-01","NULL",0.01,"x","x","x","x"]
[{"$error":"#N/A"},null,{"$f":"IFERROR(VLOOKUP(B699,List1!$A:$B,2,0),\"x\")","v":"x"},null,null,null,null,null,null,{"$f":"CONCATENATE(VLOOKUP(E699,[1]Seznamy!$Q$2:$R$36,2,0),VLOOKUP(F699,[1]Produkty!$I:$O,7,0),C699,D699)","v":{"$error":"#N/A"}},null,null,null,null,null,null,null,null,null,null,null,null,null,null,null,null,null,null,null,null,null,null,null,null,null,null,null,null,null,null,null,null,null,null,null,null,null,null,null,null,null,null,"'SK_2020-10'!$A:$H","$A:$H","1097SK44105","STRONG Stolová noha centrální 450x450 černá","Hafele","badzik","2020-10-01","Lukáš Sládek",34.751869999999997,"x","x","x","x"]
[{"$error":"#N/A"},null,{"$f":"IFERROR(VLOOKUP(B700,List1!$A:$B,2,0),\"x\")","v":"x"},null,null,null,null,null,null,{"$f":"CONCATENATE(VLOOKUP(E700,[1]Seznamy!$Q$2:$R$36,2,0),VLOOKUP(F700,[1]Produkty!$I:$O,7,0),C700,D700)","v":{"$error":"#N/A"}},null,null,null,null,null,null,null,null,null,null,null,null,null,null,null,null,null,null,null,null,null,null,null,null,null,null,null,null,null,null,null,null,null,null,null,null,null,null,null,null,null,null,"'SK_2020-10'!$A:$H","$A:$H","1098SK44105","STRONG Elektrická zásuvka 3x230V, francouzský typ, 265x130x68 mm stříbrná","Hafele","badzik","2020-10-01","Lukáš Sládek",13.449540000000001,"x","x","x","x"]
[{"$error":"#N/A"},null,{"$f":"IFERROR(VLOOKUP(B701,List1!$A:$B,2,0),\"x\")","v":"x"},null,null,null,null,null,null,{"$f":"CONCATENATE(VLOOKUP(E701,[1]Seznamy!$Q$2:$R$36,2,0),VLOOKUP(F701,[1]Produkty!$I:$O,7,0),C701,D701)","v":{"$error":"#N/A"}},null,null,null,null,null,null,null,null,null,null,null,null,null,null,null,null,null,null,null,null,null,null,null,null,null,null,null,null,null,null,null,null,null,null,null,null,null,null,null,null,null,null,"'SK_2020-10'!$A:$H","$A:$H","1099SK44105","BBP OA Zásuvka 515 mm kovová černá","Hafele","badzik","2020-10-01","Lukáš Sládek",4.8439500000000004,"x","x","x","x"]
[{"$error":"#N/A"},null,{"$f":"IFERROR(VLOOKUP(B702,List1!$A:$B,2,0),\"x\")","v":"x"},null,null,null,null,null,null,{"$f":"CONCATENATE(VLOOKUP(E702,[1]Seznamy!$Q$2:$R$36,2,0),VLOOKUP(F702,[1]Produkty!$I:$O,7,0),C702,D702)","v":{"$error":"#N/A"}},null,null,null,null,null,null,null,null,null,null,null,null,null,null,null,null,null,null,null,null,null,null,null,null,null,null,null,null,null,null,null,null,null,null,null,null,null,null,null,null,null,null,"'SK_2020-10'!$A:$H","$A:$H","10910SK44105","FRANKE Dřez ETN 614 6/4 obyčejný ventil bez otvoru","Hafele","badzik","2020-10-01","Marcela Piechová",26.24,"x","x","x","x"]
[{"$error":"#N/A"},null,{"$f":"IFERROR(VLOOKUP(B703,List1!$A:$B,2,0),\"x\")","v":"x"},null,null,null,null,null,null,{"$f":"CONCATENATE(VLOOKUP(E703,[1]Seznamy!$Q$2:$R$36,2,0),VLOOKUP(F703,[1]Produkty!$I:$O,7,0),C703,D703)","v":{"$error":"#N/A"}},null,null,null,null,null,null,null,null,null,null,null,null,null,null,null,null,null,null,null,null,null,null,null,null,null,null,null,null,null,null,null,null,null,null,null,null,null,null,null,null,null,null,"'SK_2020-10'!$A:$H","$A:$H","10911SK44105","FRANKE Dřez BFG 611-78 780 x 500 onyx","Hafele","badzik","2020-10-01","Marcela Piechová",106.13,"x","x","x","x"]
[{"$error":"#N/A"},null,{"$f":"IFERROR(VLOOKUP(B704,List1!$A:$B,2,0),\"x\")","v":"x"},null,null,null,null,null,null,{"$f":"CONCATENATE(VLOOKUP(E704,[1]Seznamy!$Q$2:$R$36,2,0),VLOOKUP(F704,[1]Produkty!$I:$O,7,0),C704,D704)","v":{"$error":"#N/A"}},null,null,null,null,null,null,null,null,null,null,null,null,null,null,null,null,null,null,null,null,null,null,null,null,null,null,null,null,null,null,null,null,null,null,null,null,null,null,null,null,null,null,"'SK_2020-10'!$A:$H","$A:$H","10912SK44105","GOLLINUCCI Sorter Sistema 901/2x16 l, 600 mm","Hafele","badzik","2020-10-01","Marcela Piechová",16.93,"x","x","x","x"]
[{"$error":"#N/A"},null,{"$f":"IFERROR(VLOOKUP(B705,List1!$A:$B,2,0),\"x\")","v":"x"},null,null,null,null,null,null,{"$f":"CONCATENATE(VLOOKUP(E705,[1]Seznamy!$Q$2:$R$36,2,0),VLOOKUP(F705,[1]Produkty!$I:$O,7,0),C705,D705)","v":{"$error":"#N/A"}},null,null,null,null,null,null,null,null,null,null,null,null,null,null,null,null,null,null,null,null,null,null,null,null,null,null,null,null,null,null,null,null,null,null,null,null,null,null,null,null,null,null,"'SK_2020-10'!$A:$H","$A:$H","10913SK44105","GOLLINUCCI Sorter 580 Plus Line, 600 mm, výška 505mm, 80 l, šedý","Hafele","badzik","2020-10-01","Marcela Piechová",74.02,"x","x","x","x"]
[{"$error":"#N/A"},null,{"$f":"IFERROR(VLOOKUP(B706,List1!$A:$B,2,0),\"x\")","v":"x"},null,null,null,null,null,null,{"$f":"CONCATENATE(VLOOKUP(E706,[1]Seznamy!$Q$2:$R$36,2,0),VLOOKUP(F706,[1]Produkty!$I:$O,7,0),C706,D706)","v":{"$error":"#N/A"}},null,null,null,null,null,null,null,null,null,null,null,null,null,null,null,null,null,null,null,null,null,null,null,null,null,null,null,null,null,null,null,null,null,null,null,null,null,null,null,null,null,null,"'SK_2020-10'!$A:$H","$A:$H","10914SK44105","FRANKE Dřez ETN 610 455 x 435","Hafele","badzik","2020-10-01","Marcela Piechová",26.13,"x","x","x","x"]
[{"$error":"#N/A"},null,{"$f":"IFERROR(VLOOKUP(B707,List1!$A:$B,2,0),\"x\")","v":"x"},null,null,null,null,null,null,{"$f":"CONCATENATE(VLOOKUP(E707,[1]Seznamy!$Q$2:$R$36,2,0),VLOOKUP(F707,[1]Produkty!$I:$O,7,0),C707,D707)","v":{"$error":"#N/A"}},null,null,null,null,null,null,null,null,null,null,null,null,null,null,null,null,null,null,null,null,null,null,null,null,null,null,null,null,null,null,null,null,null,null,null,null,null,null,null,null,null,null,"'SK_2020-10'!$A:$H","$A:$H","10915SK44105","GOLLINUCCI Sorter Linea 222, 300 mm","Hafele","badzik","2020-10-01","Marcela Piechová",27.33,"x","x","x","x"]
[{"$error":"#N/A"},null,{"$f":"IFERROR(VLOOKUP(B708,List1!$A:$B,2,0),\"x\")","v":"x"},null,null,null,null,null,null,{"$f":"CONCATENATE(VLOOKUP(E708,[1]Seznamy!$Q$2:$R$36,2,0),VLOOKUP(F708,[1]Produkty!$I:$O,7,0),C708,D708)","v":{"$error":"#N/A"}},null,null,null,null,null,null,null,null,null,null,null,null,null,null,null,null,null,null,null,null,null,null,null,null,null,null,null,null,null,null,null,null,null,null,null,null,null,null,null,null,null,null,"'SK_2020-10'!$A:$H","$A:$H","10916SK44105","TULIP úchytka Nakana 128 chrom matný + šroubky","Hafele","badzik","2020-10-01","Lenka Kormaník",0.85141,"x","x","x","x"]
[{"$error":"#N/A"},null,{"$f":"IFERROR(VLOOKUP(B709,List1!$A:$B,2,0),\"x\")","v":"x"},null,null,null,null,null,null,{"$f":"CONCATENATE(VLOOKUP(E709,[1]Seznamy!$Q$2:$R$36,2,0),VLOOKUP(F709,[1]Produkty!$I:$O,7,0),C709,D709)","v":{"$error":"#N/A"}},null,null,null,null,null,null,null,null,null,null,null,null,null,null,null,null,null,null,null,null,null,null,null,null,null,null,null,null,null,null,null,null,null,null,null,null,null,null,null,null,null,null,"'SK_2020-10'!$A:$H","$A:$H","10917SK44105","TULIP úchytka Piombina 96 nikl matný + šroubky","Hafele","badzik","2020-10-01","Lenka Kormaník",0.46717999999999998,"x","x","x","x"]
[{"$error":"#N/A"},null,{"$f":"IFERROR(VLOOKUP(B710,List1!$A:$B,2,0),\"x\")","v":"x"},null,null,null,null,null,null,{"$f":"CONCATENATE(VLOOKUP(E710,[1]Seznamy!$Q$2:$R$36,2,0),VLOOKUP(F710,[1]Produkty!$I:$O,7,0),C710,D710)","v":{"$error":"#N/A"}},null,null,null,null,null,null,null,null,null,null,null,null,null,null,null,null,null,null,null,null,null,null,null,null,null,null,null,null,null,null,null,null,null,null,null,null,null,null,null,null,null,null,"'SK_2020-10'!$A:$H","$A:$H","10918SK44105","TULIP úchytka Anita 96 nikl matný + šroubky","Hafele","badzik","2020-10-01","Lenka Kormaník",0.29581000000000002,"x","x","x","x"]
[{"$error":"#N/A"},null,{"$f":"IFERROR(VLOOKUP(B711,List1!$A:$B,2,0),\"x\")","v":"x"},null,null,null,null,null,null,{"$f":"CONCATENATE(VLOOKUP(E711,[1]Seznamy!$Q$2:$R$36,2,0),VLOOKUP(F711,[1]Produkty!$I:$O,7,0),C711,D711)","v":{"$error":"#N/A"}},null,null,null,null,null,null,null,null,null,null,null,null,null,null,null,null,null,null,null,null,null,null,null,null,null,null,null,null,null,null,null,null,null,null,null,null,null,null,null,null,null,null,"'SK_2020-10'!$A:$H","$A:$H","10919SK44105","TULIP věšák Lugo XL chrom matný + šroubky","Hafele","badzik","2020-10-01","Lenka Kormaník",0.80127000000000004,"x","x","x","x"]
[{"$error":"#N/A"},null,{"$f":"IFERROR(VLOOKUP(B712,List1!$A:$B,2,0),\"x\")","v":"x"},null,null,null,null,null,null,{"$f":"CONCATENATE(VLOOKUP(E712,[1]Seznamy!$Q$2:$R$36,2,0),VLOOKUP(F712,[1]Produkty!$I:$O,7,0),C712,D712)","v":{"$error":"#N/A"}},null,null,null,null,null,null,null,null,null,null,null,null,null,null,null,null,null,null,null,null,null,null,null,null,null,null,null,null,null,null,null,null,null,null,null,null,null,null,null,null,null,null,"'SK_2020-10'!$A:$H","$A:$H","10920SK44105","TULIP Úchytka Ramara 596 imitace nerezi","Hafele","badzik","2020-10-01","Lenka Kormaník",3.7006299999999999,"x","x","x","x"]
[{"$f":"TEXT(J713,1)","v":{"$error":"#N/A"}},null,{"$f":"IFERROR(VLOOKUP(B713,List1!$A:$B,2,0),\"x\")","v":"x"},null,null,null,null,null,null,{"$f":"CONCATENATE(VLOOKUP(E713,[1]Seznamy!$Q$2:$R$36,2,0),VLOOKUP(F713,[1]Produkty!$I:$O,7,0),C713,D713)","v":{"$error":"#N/A"}},null,null,null,null,null,null,null,null,null,null,null,null,null,null,null,null,null,null,null,null,null,null,null,null,null,null,null,null,null,null,null,null,null,null,null,null,null,null,null,null,null,null,"'SK_2020-10'!$A:$H","$A:$H","10921SK44105","TULIP Úchytka Lucata 160 černá matná","Hafele","badzik","2020-10-01","Lenka Kormaník",0.84014,"x","x","x","x"]
[{"$error":"#N/A"},null,{"$f":"IFERROR(VLOOKUP(B714,List1!$A:$B,2,0),\"x\")","v":"x"},null,null,null,null,null,null,{"$f":"CONCATENATE(VLOOKUP(E714,[1]Seznamy!$Q$2:$R$36,2,0),VLOOKUP(F714,[1]Produkty!$I:$O,7,0),C714,D714)","v":{"$error":"#N/A"}},null,null,null,null,null,null,null,null,null,null,null,null,null,null,null,null,null,null,null,null,null,null,null,null,null,null,null,null,null,null,null,null,null,null,null,null,null,null,null,null,null,null,"'SK_2020-10'!$A:$H","$A:$H","10922SK44105","STRONG LED pásek 21,6W/m 24V bílá neutrální 210 LED/m","Hafele","badzik","2020-10-01","Stančo Denčev",3.3847,"x","x","x","x"]
[{"$error":"#N/A"},null,{"$f":"IFERROR(VLOOKUP(B715,List1!$A:$B,2,0),\"x\")","v":"x"},null,null,null,null,null,null,{"$f":"CONCATENATE(VLOOKUP(E715,[1]Seznamy!$Q$2:$R$36,2,0),VLOOKUP(F715,[1]Produkty!$I:$O,7,0),C715,D715)","v":{"$error":"#N/A"}},null,null,null,null,null,null,null,null,null,null,null,null,null,null,null,null,null,null,null,null,null,null,null,null,null,null,null,null,null,null,null,null,null,null,null,null,null,null,null,null,null,null,"'SK_2020-10'!$A:$H","$A:$H","10923SK44105","STRONG transformátor plochý LED 24V 100W","Hafele","badzik","2020-10-01","Stančo Denčev",16.410900000000002,"x","x","x","x"]
[{"$error":"#N/A"},null,{"$f":"IFERROR(VLOOKUP(B716,List1!$A:$B,2,0),\"x\")","v":"x"},null,null,null,null,null,null,{"$f":"CONCATENATE(VLOOKUP(E716,[1]Seznamy!$Q$2:$R$36,2,0),VLOOKUP(F716,[1]Produkty!$I:$O,7,0),C716,D716)","v":{"$error":"#N/A"}},null,null,null,null,null,null,null,null,null,null,null,null,null,null,null,null,null,null,null,null,null,null,null,null,null,null,null,null,null,null,null,null,null,null,null,null,null,null,null,null,null,null,"'SK_2020-10'!$A:$H","$A:$H","10924SK44105","Vrut PZ 4x18 zápustná hlava zinek bílý PZ2","Hafele","badzik","2020-10-01","Stančo Denčev",2.1299999999999999E-3,"x","x","x","x"]
[{"$error":"#N/A"},null,{"$f":"IFERROR(VLOOKUP(B717,List1!$A:$B,2,0),\"x\")","v":"x"},null,null,null,null,null,null,{"$f":"CONCATENATE(VLOOKUP(E717,[1]Seznamy!$Q$2:$R$36,2,0),VLOOKUP(F717,[1]Produkty!$I:$O,7,0),C717,D717)","v":{"$error":"#N/A"}},null,null,null,null,null,null,null,null,null,null,null,null,null,null,null,null,null,null,null,null,null,null,null,null,null,null,null,null,null,null,null,null,null,null,null,null,null,null,null,null,null,null,"'SK_2020-10'!$A:$H","$A:$H","10925SK44105","Konfirmát 7/50 zinek bílý bulk","Hafele","badzik","2020-10-01","Stančo Denčev",8.6999999999999994E-3,"x","x","x","x"]
[{"$error":"#N/A"},null,{"$f":"IFERROR(VLOOKUP(B718,List1!$A:$B,2,0),\"x\")","v":"x"},null,null,null,null,null,null,{"$f":"CONCATENATE(VLOOKUP(E718,[1]Seznamy!$Q$2:$R$36,2,0),VLOOKUP(F718,[1]Produkty!$I:$O,7,0),C718,D718)","v":{"$error":"#N/A"}},null,null,null,null,null,null,null,null,null,null,null,null,null,null,null,null,null,null,null,null,null,null,null,null,null,null,null,null,null,null,null,null,null,null,null,null,null,null,null,null,null,null,"'SK_2020-10'!$A:$H","$A:$H","10926SK44105","DTDL W980 ST2 Platinově bílá 2800/2070/18","Hafele","badzik","2020-10-01","Martin Karaščák",23.7636,"x","x","x","x"]
[{"$error":"#N/A"},null,{"$f":"IFERROR(VLOOKUP(B719,List1!$A:$B,2,0),\"x\")","v":"x"},null,null,null,null,null,null,{"$f":"CONCATENATE(VLOOKUP(E719,[1]Seznamy!$Q$2:$R$36,2,0),VLOOKUP(F719,[1]Produkty!$I:$O,7,0),C719,D719)","v":{"$error":"#N/A"}},null,null,null,null,null,null,null,null,null,null,null,null,null,null,null,null,null,null,null,null,null,null,null,null,null,null,null,null,null,null,null,null,null,null,null,null,null,null,null,null,null,null,"'SK_2020-10'!$A:$H","$A:$H","10927SK44105","DTDD DUB COMMERCIAL A/B DEC 2800/2070/19","Hafele","badzik","2020-10-01","Martin Karaščák",0,"x","x","x","x"]
[{"$error":"#N/A"},null,{"$f":"IFERROR(VLOOKUP(B720,List1!$A:$B,2,0),\"x\")","v":"x"},null,null,null,null,null,null,{"$f":"CONCATENATE(VLOOKUP(E720,[1]Seznamy!$Q$2:$R$36,2,0),VLOOKUP(F720,[1]Produkty!$I:$O,7,0),C720,D720)","v":{"$error":"#N/A"}},null,null,null,null,null,null,null,null,null,null,null,null,null,null,null,null,null,null,null,null,null,null,null,null,null,null,null,null,null,null,null,null,null,null,null,null,null,null,null,null,null,null,"'SK_2020-10'!$A:$H","$A:$H","10928SK44105","DTDD Dub evr. radiál st A/B 2800/2070/19","Hafele","badzik","2020-10-01","Martin Karaščák",58.655520000000003,"x","x","x","x"]
[{"$error":"#N/A"},null,{"$f":"IFERROR(VLOOKUP(B721,List1!$A:$B,2,0),\"x\")","v":"x"},null,null,null,null,null,null,{"$f":"CONCATENATE(VLOOKUP(E721,[1]Seznamy!$Q$2:$R$36,2,0),VLOOKUP(F721,[1]Produkty!$I:$O,7,0),C721,D721)","v":{"$error":"#N/A"}},null,null,null,null,null,null,null,null,null,null,null,null,null,null,null,null,null,null,null,null,null,null,null,null,null,null,null,null,null,null,null,null,null,null,null,null,null,null,null,null,null,null,"'SK_2020-10'!$A:$H","$A:$H","10929SK44105","ABSB HU10113 Bílá 101/110/113/8100/8685/W954/B3822 PE 22/2","Hafele","badzik","2020-10-01","Martin Karaščák",0,"x","x","x","x"]
[{"$error":"#N/A"},null,{"$f":"IFERROR(VLOOKUP(B722,List1!$A:$B,2,0),\"x\")","v":"x"},null,null,null,null,null,null,{"$f":"CONCATENATE(VLOOKUP(E722,[1]Seznamy!$Q$2:$R$36,2,0),VLOOKUP(F722,[1]Produkty!$I:$O,7,0),C722,D722)","v":{"$error":"#N/A"}},null,null,null,null,null,null,null,null,null,null,null,null,null,null,null,null,null,null,null,null,null,null,null,null,null,null,null,null,null,null,null,null,null,null,null,null,null,null,null,null,null,null,"'SK_2020-10'!$A:$H","$A:$H","10930SK44105","ABSB 77039/414 W980/500/W954 ST2 23/2","Hafele","badzik","2020-10-01","Martin Karaščák",0.16747999999999999,"x","x","x","x"]
[{"$error":"#N/A"},null,{"$f":"IFERROR(VLOOKUP(B723,List1!$A:$B,2,0),\"x\")","v":"x"},null,null,null,null,null,null,{"$f":"CONCATENATE(VLOOKUP(E723,[1]Seznamy!$Q$2:$R$36,2,0),VLOOKUP(F723,[1]Produkty!$I:$O,7,0),C723,D723)","v":{"$error":"#N/A"}},null,null,null,null,null,null,null,null,null,null,null,null,null,null,null,null,null,null,null,null,null,null,null,null,null,null,null,null,null,null,null,null,null,null,null,null,null,null,null,null,null,null,"'SK_2020-10'!$A:$H","$A:$H","10931SK44105","HDF LAK 101 BÍLÁ PE 2800/2070/3","Hafele","badzik","2020-10-01","Martin Karaščák",5.5061999999999998,"x","x","x","x"]
[{"$error":"#N/A"},null,{"$f":"IFERROR(VLOOKUP(B724,List1!$A:$B,2,0),\"x\")","v":"x"},null,null,null,null,null,null,{"$f":"CONCATENATE(VLOOKUP(E724,[1]Seznamy!$Q$2:$R$36,2,0),VLOOKUP(F724,[1]Produkty!$I:$O,7,0),C724,D724)","v":{"$error":"#N/A"}},null,null,null,null,null,null,null,null,null,null,null,null,null,null,null,null,null,null,null,null,null,null,null,null,null,null,null,null,null,null,null,null,null,null,null,null,null,null,null,null,null,null,"'SK_2020-10'!$A:$H","$A:$H","10932SK44105","Alfa II profile 222788","Hafele","badzik","2020-10-01","NULL",4.3739999999999997,"x","x","x","x"]
[{"$error":"#N/A"},null,{"$f":"IFERROR(VLOOKUP(B725,List1!$A:$B,2,0),\"x\")","v":"x"},null,null,null,null,null,null,{"$f":"CONCATENATE(VLOOKUP(E725,[1]Seznamy!$Q$2:$R$36,2,0),VLOOKUP(F725,[1]Produkty!$I:$O,7,0),C725,D725)","v":{"$error":"#N/A"}},null,null,null,null,null,null,null,null,null,null,null,null,null,null,null,null,null,null,null,null,null,null,null,null,null,null,null,null,null,null,null,null,null,null,null,null,null,null,null,null,null,null,"'SK_2020-10'!$A:$H","$A:$H","10933SK44105","SEVROLL Era úchytová lišta 18mm 2,70m stříbrná","Hafele","badzik","2020-10-01","NULL",0.01,"x","x","x","x"]
[{"$error":"#N/A"},null,{"$f":"IFERROR(VLOOKUP(B726,List1!$A:$B,2,0),\"x\")","v":"x"},null,null,null,null,null,null,{"$f":"CONCATENATE(VLOOKUP(E726,[1]Seznamy!$Q$2:$R$36,2,0),VLOOKUP(F726,[1]Produkty!$I:$O,7,0),C726,D726)","v":{"$error":"#N/A"}},null,null,null,null,null,null,null,null,null,null,null,null,null,null,null,null,null,null,null,null,null,null,null,null,null,null,null,null,null,null,null,null,null,null,null,null,null,null,null,null,null,null,"'SK_2020-10'!$A:$H","$A:$H","10934SK44105","Strong electric socket, lift","Hafele","badzik","2020-10-01","NULL",14.40442,"x","x","x","x"]
[{"$error":"#N/A"},null,{"$f":"IFERROR(VLOOKUP(B727,List1!$A:$B,2,0),\"x\")","v":"x"},null,null,null,null,null,null,{"$f":"CONCATENATE(VLOOKUP(E727,[1]Seznamy!$Q$2:$R$36,2,0),VLOOKUP(F727,[1]Produkty!$I:$O,7,0),C727,D727)","v":{"$error":"#N/A"}},null,null,null,null,null,null,null,null,null,null,null,null,null,null,null,null,null,null,null,null,null,null,null,null,null,null,null,null,null,null,null,null,null,null,null,null,null,null,null,null,null,null,"'SK_2020-10'!$A:$H","$A:$H","10935SK44105","STRONG Elektricky stavitelná podnož černá RAL 9005 mat","Hafele","badzik","2020-10-01","NULL",126.18097,"x","x","x","x"]
[{"$error":"#N/A"},null,{"$f":"IFERROR(VLOOKUP(B728,List1!$A:$B,2,0),\"x\")","v":"x"},null,null,null,null,null,null,{"$f":"CONCATENATE(VLOOKUP(E728,[1]Seznamy!$Q$2:$R$36,2,0),VLOOKUP(F728,[1]Produkty!$I:$O,7,0),C728,D728)","v":{"$error":"#N/A"}},null,null,null,null,null,null,null,null,null,null,null,null,null,null,null,null,null,null,null,null,null,null,null,null,null,null,null,null,null,null,null,null,null,null,null,null,null,null,null,null,null,null,"'SK_2020-10'!$A:$H","$A:$H","10936SK44105","TULIP Gola dvířkový J profil 4,1m eloxovaný hliník","Hafele","badzik","2020-10-01","NULL",0.01,"x","x","x","x"]
[{"$error":"#N/A"},null,{"$f":"IFERROR(VLOOKUP(B729,List1!$A:$B,2,0),\"x\")","v":"x"},null,null,null,null,null,null,{"$f":"CONCATENATE(VLOOKUP(E729,[1]Seznamy!$Q$2:$R$36,2,0),VLOOKUP(F729,[1]Produkty!$I:$O,7,0),C729,D729)","v":{"$error":"#N/A"}},null,null,null,null,null,null,null,null,null,null,null,null,null,null,null,null,null,null,null,null,null,null,null,null,null,null,null,null,null,null,null,null,null,null,null,null,null,null,null,null,null,null,"'SK_2020-10'!$A:$H","$A:$H","1021SK44105","STRONG plus závěs naložený s tlumením, s excentrem, klipový","Hranipex","badzik","2020-10-01","Martin Zniszczol",0.30399999999999999,"x","x","x","x"]
[{"$error":"#N/A"},null,{"$f":"IFERROR(VLOOKUP(B730,List1!$A:$B,2,0),\"x\")","v":"x"},null,null,null,null,null,null,{"$f":"CONCATENATE(VLOOKUP(E730,[1]Seznamy!$Q$2:$R$36,2,0),VLOOKUP(F730,[1]Produkty!$I:$O,7,0),C730,D730)","v":{"$error":"#N/A"}},null,null,null,null,null,null,null,null,null,null,null,null,null,null,null,null,null,null,null,null,null,null,null,null,null,null,null,null,null,null,null,null,null,null,null,null,null,null,null,null,null,null,"'SK_2020-10'!$A:$H","$A:$H","1022SK44105","STRONG závěs naložený, slide on","Hranipex","badzik","2020-10-01","Martin Zniszczol",0.125,"x","x","x","x"]
[{"$error":"#N/A"},null,{"$f":"IFERROR(VLOOKUP(B731,List1!$A:$B,2,0),\"x\")","v":"x"},null,null,null,null,null,null,{"$f":"CONCATENATE(VLOOKUP(E731,[1]Seznamy!$Q$2:$R$36,2,0),VLOOKUP(F731,[1]Produkty!$I:$O,7,0),C731,D731)","v":{"$error":"#N/A"}},null,null,null,null,null,null,null,null,null,null,null,null,null,null,null,null,null,null,null,null,null,null,null,null,null,null,null,null,null,null,null,null,null,null,null,null,null,null,null,null,null,null,"'SK_2020-10'!$A:$H","$A:$H","1023SK44105","StrongBox H86/500mm bílý","Hranipex","badzik","2020-10-01","Martin Zniszczol",7.86,"x","x","x","x"]
[{"$error":"#N/A"},null,{"$f":"IFERROR(VLOOKUP(B732,List1!$A:$B,2,0),\"x\")","v":"x"},null,null,null,null,null,null,{"$f":"CONCATENATE(VLOOKUP(E732,[1]Seznamy!$Q$2:$R$36,2,0),VLOOKUP(F732,[1]Produkty!$I:$O,7,0),C732,D732)","v":{"$error":"#N/A"}},null,null,null,null,null,null,null,null,null,null,null,null,null,null,null,null,null,null,null,null,null,null,null,null,null,null,null,null,null,null,null,null,null,null,null,null,null,null,null,null,null,null,"'SK_2020-10'!$A:$H","$A:$H","1024SK44105","StrongMax 89/500 mm šedý (antracit)","Hranipex","badzik","2020-10-01","Martin Zniszczol",10.35,"x","x","x","x"]
[{"$error":"#N/A"},null,{"$f":"IFERROR(VLOOKUP(B733,List1!$A:$B,2,0),\"x\")","v":"x"},null,null,null,null,null,null,{"$f":"CONCATENATE(VLOOKUP(E733,[1]Seznamy!$Q$2:$R$36,2,0),VLOOKUP(F733,[1]Produkty!$I:$O,7,0),C733,D733)","v":{"$error":"#N/A"}},null,null,null,null,null,null,null,null,null,null,null,null,null,null,null,null,null,null,null,null,null,null,null,null,null,null,null,null,null,null,null,null,null,null,null,null,null,null,null,null,null,null,"'SK_2020-10'!$A:$H","$A:$H","1025SK44105","StrongRide synchro 3D celovýsuv 500 mm s tlumením","Hranipex","badzik","2020-10-01","Martin Zniszczol",5.84,"x","x","x","x"]
[{"$error":"#N/A"},null,{"$f":"IFERROR(VLOOKUP(B734,List1!$A:$B,2,0),\"x\")","v":"x"},null,null,null,null,null,null,{"$f":"CONCATENATE(VLOOKUP(E734,[1]Seznamy!$Q$2:$R$36,2,0),VLOOKUP(F734,[1]Produkty!$I:$O,7,0),C734,D734)","v":{"$error":"#N/A"}},null,null,null,null,null,null,null,null,null,null,null,null,null,null,null,null,null,null,null,null,null,null,null,null,null,null,null,null,null,null,null,null,null,null,null,null,null,null,null,null,null,null,"'SK_2020-10'!$A:$H","$A:$H","1026SK44105","STRONG Rektifikační nožka 100 mm","Hranipex","badzik","2020-10-01","Lukáš Sládek",0.10051,"x","x","x","x"]
[{"$error":"#N/A"},null,{"$f":"IFERROR(VLOOKUP(B735,List1!$A:$B,2,0),\"x\")","v":"x"},null,null,null,null,null,null,{"$f":"CONCATENATE(VLOOKUP(E735,[1]Seznamy!$Q$2:$R$36,2,0),VLOOKUP(F735,[1]Produkty!$I:$O,7,0),C735,D735)","v":{"$error":"#N/A"}},null,null,null,null,null,null,null,null,null,null,null,null,null,null,null,null,null,null,null,null,null,null,null,null,null,null,null,null,null,null,null,null,null,null,null,null,null,null,null,null,null,null,"'SK_2020-10'!$A:$H","$A:$H","1027SK44105","STRONG Stolová noha centrální 450x450 černá","Hranipex","badzik","2020-10-01","Lukáš Sládek",34.751869999999997,"x","x","x","x"]
[{"$error":"#N/A"},null,{"$f":"IFERROR(VLOOKUP(B736,List1!$A:$B,2,0),\"x\")","v":"x"},null,null,null,null,null,null,{"$f":"CONCATENATE(VLOOKUP(E736,[1]Seznamy!$Q$2:$R$36,2,0),VLOOKUP(F736,[1]Produkty!$I:$O,7,0),C736,D736)","v":{"$error":"#N/A"}},null,null,null,null,null,null,null,null,null,null,null,null,null,null,null,null,null,null,null,null,null,null,null,null,null,null,null,null,null,null,null,null,null,null,null,null,null,null,null,null,null,null,"'SK_2020-10'!$A:$H","$A:$H","1028SK44105","STRONG Elektrická zásuvka 3x230V, francouzský typ, 265x130x68 mm stříbrná","Hranipex","badzik","2020-10-01","Lukáš Sládek",13.449540000000001,"x","x","x","x"]
[{"$error":"#N/A"},null,{"$f":"IFERROR(VLOOKUP(B737,List1!$A:$B,2,0),\"x\")","v":"x"},null,null,null,null,null,null,{"$f":"CONCATENATE(VLOOKUP(E737,[1]Seznamy!$Q$2:$R$36,2,0),VLOOKUP(F737,[1]Produkty!$I:$O,7,0),C737,D737)","v":{"$error":"#N/A"}},null,null,null,null,null,null,null,null,null,null,null,null,null,null,null,null,null,null,null,null,null,null,null,null,null,null,null,null,null,null,null,null,null,null,null,null,null,null,null,null,null,null,"'SK_2020-10'!$A:$H","$A:$H","1029SK44105","BBP OA Zásuvka 515 mm kovová černá","Hranipex","badzik","2020-10-01","Lukáš Sládek",4.8439500000000004,"x","x","x","x"]
[{"$error":"#N/A"},null,{"$f":"IFERROR(VLOOKUP(B738,List1!$A:$B,2,0),\"x\")","v":"x"},null,null,null,null,null,null,{"$f":"CONCATENATE(VLOOKUP(E738,[1]Seznamy!$Q$2:$R$36,2,0),VLOOKUP(F738,[1]Produkty!$I:$O,7,0),C738,D738)","v":{"$error":"#N/A"}},null,null,null,null,null,null,null,null,null,null,null,null,null,null,null,null,null,null,null,null,null,null,null,null,null,null,null,null,null,null,null,null,null,null,null,null,null,null,null,null,null,null,"'SK_2020-10'!$A:$H","$A:$H","10210SK44105","FRANKE Dřez ETN 614 6/4 obyčejný ventil bez otvoru","Hranipex","badzik","2020-10-01","Marcela Piechová",26.24,"x","x","x","x"]
[{"$error":"#N/A"},null,{"$f":"IFERROR(VLOOKUP(B739,List1!$A:$B,2,0),\"x\")","v":"x"},null,null,null,null,null,null,{"$f":"CONCATENATE(VLOOKUP(E739,[1]Seznamy!$Q$2:$R$36,2,0),VLOOKUP(F739,[1]Produkty!$I:$O,7,0),C739,D739)","v":{"$error":"#N/A"}},null,null,null,null,null,null,null,null,null,null,null,null,null,null,null,null,null,null,null,null,null,null,null,null,null,null,null,null,null,null,null,null,null,null,null,null,null,null,null,null,null,null,"'SK_2020-10'!$A:$H","$A:$H","10211SK44105","FRANKE Dřez BFG 611-78 780 x 500 onyx","Hranipex","badzik","2020-10-01","Marcela Piechová",106.13,"x","x","x","x"]
[{"$error":"#N/A"},null,{"$f":"IFERROR(VLOOKUP(B740,List1!$A:$B,2,0),\"x\")","v":"x"},null,null,null,null,null,null,{"$f":"CONCATENATE(VLOOKUP(E740,[1]Seznamy!$Q$2:$R$36,2,0),VLOOKUP(F740,[1]Produkty!$I:$O,7,0),C740,D740)","v":{"$error":"#N/A"}},null,null,null,null,null,null,null,null,null,null,null,null,null,null,null,null,null,null,null,null,null,null,null,null,null,null,null,null,null,null,null,null,null,null,null,null,null,null,null,null,null,null,"'SK_2020-10'!$A:$H","$A:$H","10212SK44105","GOLLINUCCI Sorter Sistema 901/2x16 l, 600 mm","Hranipex","badzik","2020-10-01","Marcela Piechová",16.93,"x","x","x","x"]
[{"$error":"#N/A"},null,{"$f":"IFERROR(VLOOKUP(B741,List1!$A:$B,2,0),\"x\")","v":"x"},null,null,null,null,null,null,{"$f":"CONCATENATE(VLOOKUP(E741,[1]Seznamy!$Q$2:$R$36,2,0),VLOOKUP(F741,[1]Produkty!$I:$O,7,0),C741,D741)","v":{"$error":"#N/A"}},null,null,null,null,null,null,null,null,null,null,null,null,null,null,null,null,null,null,null,null,null,null,null,null,null,null,null,null,null,null,null,null,null,null,null,null,null,null,null,null,null,null,"'SK_2020-10'!$A:$H","$A:$H","10213SK44105","GOLLINUCCI Sorter 580 Plus Line, 600 mm, výška 505mm, 80 l, šedý","Hranipex","badzik","2020-10-01","Marcela Piechová",74.02,"x","x","x","x"]
[{"$error":"#N/A"},null,{"$f":"IFERROR(VLOOKUP(B742,List1!$A:$B,2,0),\"x\")","v":"x"},null,null,null,null,null,null,{"$f":"CONCATENATE(VLOOKUP(E742,[1]Seznamy!$Q$2:$R$36,2,0),VLOOKUP(F742,[1]Produkty!$I:$O,7,0),C742,D742)","v":{"$error":"#N/A"}},null,null,null,null,null,null,null,null,null,null,null,null,null,null,null,null,null,null,null,null,null,null,null,null,null,null,null,null,null,null,null,null,null,null,null,null,null,null,null,null,null,null,"'SK_2020-10'!$A:$H","$A:$H","10214SK44105","FRANKE Dřez ETN 610 455 x 435","Hranipex","badzik","2020-10-01","Marcela Piechová",26.13,"x","x","x","x"]
[{"$error":"#N/A"},null,{"$f":"IFERROR(VLOOKUP(B743,List1!$A:$B,2,0),\"x\")","v":"x"},null,null,null,null,null,null,{"$f":"CONCATENATE(VLOOKUP(E743,[1]Seznamy!$Q$2:$R$36,2,0),VLOOKUP(F743,[1]Produkty!$I:$O,7,0),C743,D743)","v":{"$error":"#N/A"}},null,null,null,null,null,null,null,null,null,null,null,null,null,null,null,null,null,null,null,null,null,null,null,null,null,null,null,null,null,null,null,null,null,null,null,null,null,null,null,null,null,null,"'SK_2020-10'!$A:$H","$A:$H","10215SK44105","GOLLINUCCI Sorter Linea 222, 300 mm","Hranipex","badzik","2020-10-01","Marcela Piechová",27.33,"x","x","x","x"]
[{"$error":"#N/A"},null,{"$f":"IFERROR(VLOOKUP(B744,List1!$A:$B,2,0),\"x\")","v":"x"},null,null,null,null,null,null,{"$f":"CONCATENATE(VLOOKUP(E744,[1]Seznamy!$Q$2:$R$36,2,0),VLOOKUP(F744,[1]Produkty!$I:$O,7,0),C744,D744)","v":{"$error":"#N/A"}},null,null,null,null,null,null,null,null,null,null,null,null,null,null,null,null,null,null,null,null,null,null,null,null,null,null,null,null,null,null,null,null,null,null,null,null,null,null,null,null,null,null,"'SK_2020-10'!$A:$H","$A:$H","10216SK44105","TULIP úchytka Nakana 128 chrom matný + šroubky","Hranipex","badzik","2020-10-01","Lenka Kormaník",0.85141,"x","x","x","x"]
[{"$error":"#N/A"},null,{"$f":"IFERROR(VLOOKUP(B745,List1!$A:$B,2,0),\"x\")","v":"x"},null,null,null,null,null,null,{"$f":"CONCATENATE(VLOOKUP(E745,[1]Seznamy!$Q$2:$R$36,2,0),VLOOKUP(F745,[1]Produkty!$I:$O,7,0),C745,D745)","v":{"$error":"#N/A"}},null,null,null,null,null,null,null,null,null,null,null,null,null,null,null,null,null,null,null,null,null,null,null,null,null,null,null,null,null,null,null,null,null,null,null,null,null,null,null,null,null,null,"'SK_2020-10'!$A:$H","$A:$H","10217SK44105","TULIP úchytka Piombina 96 nikl matný + šroubky","Hranipex","badzik","2020-10-01","Lenka Kormaník",0.46717999999999998,"x","x","x","x"]
[{"$error":"#N/A"},null,{"$f":"IFERROR(VLOOKUP(B746,List1!$A:$B,2,0),\"x\")","v":"x"},null,null,null,null,null,null,{"$f":"CONCATENATE(VLOOKUP(E746,[1]Seznamy!$Q$2:$R$36,2,0),VLOOKUP(F746,[1]Produkty!$I:$O,7,0),C746,D746)","v":{"$error":"#N/A"}},null,null,null,null,null,null,null,null,null,null,null,null,null,null,null,null,null,null,null,null,null,null,null,null,null,null,null,null,null,null,null,null,null,null,null,null,null,null,null,null,null,null,"'SK_2020-10'!$A:$H","$A:$H","10218SK44105","TULIP úchytka Anita 96 nikl matný + šroubky","Hranipex","badzik","2020-10-01","Lenka Kormaník",0.29581000000000002,"x","x","x","x"]
[{"$error":"#N/A"},null,{"$f":"IFERROR(VLOOKUP(B747,List1!$A:$B,2,0),\"x\")","v":"x"},null,null,null,null,null,null,{"$f":"CONCATENATE(VLOOKUP(E747,[1]Seznamy!$Q$2:$R$36,2,0),VLOOKUP(F747,[1]Produkty!$I:$O,7,0),C747,D747)","v":{"$error":"#N/A"}},null,null,null,null,null,null,null,null,null,null,null,null,null,null,null,null,null,null,null,null,null,null,null,null,null,null,null,null,null,null,null,null,null,null,null,null,null,null,null,null,null,null,"'SK_2020-10'!$A:$H","$A:$H","10219SK44105","TULIP věšák Lugo XL chrom matný + šroubky","Hranipex","badzik","2020-10-01","Lenka Kormaník",0.80127000000000004,"x","x","x","x"]
[{"$error":"#N/A"},null,{"$f":"IFERROR(VLOOKUP(B748,List1!$A:$B,2,0),\"x\")","v":"x"},null,null,null,null,null,null,{"$f":"CONCATENATE(VLOOKUP(E748,[1]Seznamy!$Q$2:$R$36,2,0),VLOOKUP(F748,[1]Produkty!$I:$O,7,0),C748,D748)","v":{"$error":"#N/A"}},null,null,null,null,null,null,null,null,null,null,null,null,null,null,null,null,null,null,null,null,null,null,null,null,null,null,null,null,null,null,null,null,null,null,null,null,null,null,null,null,null,null,"'SK_2020-10'!$A:$H","$A:$H","10220SK44105","TULIP Úchytka Ramara 596 imitace nerezi","Hranipex","badzik","2020-10-01","Lenka Kormaník",3.7006299999999999,"x","x","x","x"]
[{"$error":"#N/A"},null,{"$f":"IFERROR(VLOOKUP(B749,List1!$A:$B,2,0),\"x\")","v":"x"},null,null,null,null,null,null,{"$f":"CONCATENATE(VLOOKUP(E749,[1]Seznamy!$Q$2:$R$36,2,0),VLOOKUP(F749,[1]Produkty!$I:$O,7,0),C749,D749)","v":{"$error":"#N/A"}},null,null,null,null,null,null,null,null,null,null,null,null,null,null,null,null,null,null,null,null,null,null,null,null,null,null,null,null,null,null,null,null,null,null,null,null,null,null,null,null,null,null,"'SK_2020-10'!$A:$H","$A:$H","10221SK44105","TULIP Úchytka Lucata 160 černá matná","Hranipex","badzik","2020-10-01","Lenka Kormaník",0.84014,"x","x","x","x"]
[{"$error":"#N/A"},null,{"$f":"IFERROR(VLOOKUP(B750,List1!$A:$B,2,0),\"x\")","v":"x"},null,null,null,null,null,null,{"$f":"CONCATENATE(VLOOKUP(E750,[1]Seznamy!$Q$2:$R$36,2,0),VLOOKUP(F750,[1]Produkty!$I:$O,7,0),C750,D750)","v":{"$error":"#N/A"}},null,null,null,null,null,null,null,null,null,null,null,null,null,null,null,null,null,null,null,null,null,null,null,null,null,null,null,null,null,null,null,null,null,null,null,null,null,null,null,null,null,null,"'SK_2020-10'!$A:$H","$A:$H","10222SK44105","STRONG LED pásek 21,6W/m 24V bílá neutrální 210 LED/m","Hranipex","badzik","2020-10-01","Stančo Denčev",3.3847,"x","x","x","x"]
[{"$error":"#N/A"},null,{"$f":"IFERROR(VLOOKUP(B751,List1!$A:$B,2,0),\"x\")","v":"x"},null,null,null,null,null,null,{"$f":"CONCATENATE(VLOOKUP(E751,[1]Seznamy!$Q$2:$R$36,2,0),VLOOKUP(F751,[1]Produkty!$I:$O,7,0),C751,D751)","v":{"$error":"#N/A"}},null,null,null,null,null,null,null,null,null,null,null,null,null,null,null,null,null,null,null,null,null,null,null,null,null,null,null,null,null,null,null,null,null,null,null,null,null,null,null,null,null,null,"'SK_2020-10'!$A:$H","$A:$H","10223SK44105","STRONG transformátor plochý LED 24V 100W","Hranipex","badzik","2020-10-01","Stančo Denčev",16.410900000000002,"x","x","x","x"]
[{"$error":"#N/A"},null,{"$f":"IFERROR(VLOOKUP(B752,List1!$A:$B,2,0),\"x\")","v":"x"},null,null,null,null,null,null,{"$f":"CONCATENATE(VLOOKUP(E752,[1]Seznamy!$Q$2:$R$36,2,0),VLOOKUP(F752,[1]Produkty!$I:$O,7,0),C752,D752)","v":{"$error":"#N/A"}},null,null,null,null,null,null,null,null,null,null,null,null,null,null,null,null,null,null,null,null,null,null,null,null,null,null,null,null,null,null,null,null,null,null,null,null,null,null,null,null,null,null,"'SK_2020-10'!$A:$H","$A:$H","10224SK44105","Vrut PZ 4x18 zápustná hlava zinek bílý PZ2","Hranipex","badzik","2020-10-01","Stančo Denčev",2.1299999999999999E-3,"x","x","x","x"]
[{"$error":"#N/A"},null,{"$f":"IFERROR(VLOOKUP(B753,List1!$A:$B,2,0),\"x\")","v":"x"},null,null,null,null,null,null,{"$f":"CONCATENATE(VLOOKUP(E753,[1]Seznamy!$Q$2:$R$36,2,0),VLOOKUP(F753,[1]Produkty!$I:$O,7,0),C753,D753)","v":{"$error":"#N/A"}},null,null,null,null,null,null,null,null,null,null,null,null,null,null,null,null,null,null,null,null,null,null,null,null,null,null,null,null,null,null,null,null,null,null,null,null,null,null,null,null,null,null,"'SK_2020-10'!$A:$H","$A:$H","10225SK44105","Konfirmát 7/50 zinek bílý bulk","Hranipex","badzik","2020-10-01","Stančo Denčev",8.6999999999999994E-3,"x","x","x","x"]
[{"$error":"#N/A"},null,{"$f":"IFERROR(VLOOKUP(B754,List1!$A:$B,2,0),\"x\")","v":"x"},null,null,null,null,null,null,{"$f":"CONCATENATE(VLOOKUP(E754,[1]Seznamy!$Q$2:$R$36,2,0),VLOOKUP(F754,[1]Produkty!$I:$O,7,0),C754,D754)","v":{"$error":"#N/A"}},null,null,null,null,null,null,null,null,null,null,null,null,null,null,null,null,null,null,null,null,null,null,null,null,null,null,null,null,null,null,null,null,null,null,null,null,null,null,null,null,null,null,"'SK_2020-10'!$A:$H","$A:$H","10226SK44105","DTDL W980 ST2 Platinově bílá 2800/2070/18","Hranipex","badzik","2020-10-01","Martin Karaščák",23.7636,"x","x","x","x"]
[{"$error":"#N/A"},null,{"$f":"IFERROR(VLOOKUP(B755,List1!$A:$B,2,0),\"x\")","v":"x"},null,null,null,null,null,null,{"$f":"CONCATENATE(VLOOKUP(E755,[1]Seznamy!$Q$2:$R$36,2,0),VLOOKUP(F755,[1]Produkty!$I:$O,7,0),C755,D755)","v":{"$error":"#N/A"}},null,null,null,null,null,null,null,null,null,null,null,null,null,null,null,null,null,null,null,null,null,null,null,null,null,null,null,null,null,null,null,null,null,null,null,null,null,null,null,null,null,null,"'SK_2020-10'!$A:$H","$A:$H","10227SK44105","DTDD DUB COMMERCIAL A/B DEC 2800/2070/19","Hranipex","badzik","2020-10-01","Martin Karaščák",0,"x","x","x","x"]
[{"$error":"#N/A"},null,{"$f":"IFERROR(VLOOKUP(B756,List1!$A:$B,2,0),\"x\")","v":"x"},null,null,null,null,null,null,{"$f":"CONCATENATE(VLOOKUP(E756,[1]Seznamy!$Q$2:$R$36,2,0),VLOOKUP(F756,[1]Produkty!$I:$O,7,0),C756,D756)","v":{"$error":"#N/A"}},null,null,null,null,null,null,null,null,null,null,null,null,null,null,null,null,null,null,null,null,null,null,null,null,null,null,null,null,null,null,null,null,null,null,null,null,null,null,null,null,null,null,"'SK_2020-10'!$A:$H","$A:$H","10228SK44105","DTDD Dub evr. radiál st A/B 2800/2070/19","Hranipex","badzik","2020-10-01","Martin Karaščák",58.655520000000003,"x","x","x","x"]
[{"$error":"#N/A"},null,{"$f":"IFERROR(VLOOKUP(B757,List1!$A:$B,2,0),\"x\")","v":"x"},null,null,null,null,null,null,{"$f":"CONCATENATE(VLOOKUP(E757,[1]Seznamy!$Q$2:$R$36,2,0),VLOOKUP(F757,[1]Produkty!$I:$O,7,0),C757,D757)","v":{"$error":"#N/A"}},null,null,null,null,null,null,null,null,null,null,null,null,null,null,null,null,null,null,null,null,null,null,null,null,null,null,null,null,null,null,null,null,null,null,null,null,null,null,null,null,null,null,"'SK_2020-10'!$A:$H","$A:$H","10231SK44105","HDF LAK 101 BÍLÁ PE 2800/2070/3","Hranipex","badzik","2020-10-01","Martin Karaščák",5.5061999999999998,"x","x","x","x"]
[{"$error":"#N/A"},null,{"$f":"IFERROR(VLOOKUP(B758,List1!$A:$B,2,0),\"x\")","v":"x"},null,null,null,null,null,null,{"$f":"CONCATENATE(VLOOKUP(E758,[1]Seznamy!$Q$2:$R$36,2,0),VLOOKUP(F758,[1]Produkty!$I:$O,7,0),C758,D758)","v":{"$error":"#N/A"}},null,null,null,null,null,null,null,null,null,null,null,null,null,null,null,null,null,null,null,null,null,null,null,null,null,null,null,null,null,null,null,null,null,null,null,null,null,null,null,null,null,null,"'SK_2020-10'!$A:$H","$A:$H","10232SK44105","Alfa II profile 222788","Hranipex","badzik","2020-10-01","NULL",4.3739999999999997,"x","x","x","x"]
[{"$error":"#N/A"},null,{"$f":"IFERROR(VLOOKUP(B759,List1!$A:$B,2,0),\"x\")","v":"x"},null,null,null,null,null,null,{"$f":"CONCATENATE(VLOOKUP(E759,[1]Seznamy!$Q$2:$R$36,2,0),VLOOKUP(F759,[1]Produkty!$I:$O,7,0),C759,D759)","v":{"$error":"#N/A"}},null,null,null,null,null,null,null,null,null,null,null,null,null,null,null,null,null,null,null,null,null,null,null,null,null,null,null,null,null,null,null,null,null,null,null,null,null,null,null,null,null,null,"'SK_2020-10'!$A:$H","$A:$H","10233SK44105","SEVROLL Era úchytová lišta 18mm 2,70m stříbrná","Hranipex","badzik","2020-10-01","NULL",0.01,"x","x","x","x"]
[{"$error":"#N/A"},null,{"$f":"IFERROR(VLOOKUP(B760,List1!$A:$B,2,0),\"x\")","v":"x"},null,null,null,null,null,null,{"$f":"CONCATENATE(VLOOKUP(E760,[1]Seznamy!$Q$2:$R$36,2,0),VLOOKUP(F760,[1]Produkty!$I:$O,7,0),C760,D760)","v":{"$error":"#N/A"}},null,null,null,null,null,null,null,null,null,null,null,null,null,null,null,null,null,null,null,null,null,null,null,null,null,null,null,null,null,null,null,null,null,null,null,null,null,null,null,null,null,null,"'SK_2020-10'!$A:$H","$A:$H","10234SK44105","Strong electric socket, lift","Hranipex","badzik","2020-10-01","NULL",14.40442,"x","x","x","x"]
[{"$error":"#N/A"},null,{"$f":"IFERROR(VLOOKUP(B761,List1!$A:$B,2,0),\"x\")","v":"x"},null,null,null,null,null,null,{"$f":"CONCATENATE(VLOOKUP(E761,[1]Seznamy!$Q$2:$R$36,2,0),VLOOKUP(F761,[1]Produkty!$I:$O,7,0),C761,D761)","v":{"$error":"#N/A"}},null,null,null,null,null,null,null,null,null,null,null,null,null,null,null,null,null,null,null,null,null,null,null,null,null,null,null,null,null,null,null,null,null,null,null,null,null,null,null,null,null,null,"'SK_2020-10'!$A:$H","$A:$H","10235SK44105","STRONG Elektricky stavitelná podnož černá RAL 9005 mat","Hranipex","badzik","2020-10-01","NULL",126.18097,"x","x","x","x"]
[{"$error":"#N/A"},null,{"$f":"IFERROR(VLOOKUP(B762,List1!$A:$B,2,0),\"x\")","v":"x"},null,null,null,null,null,null,{"$f":"CONCATENATE(VLOOKUP(E762,[1]Seznamy!$Q$2:$R$36,2,0),VLOOKUP(F762,[1]Produkty!$I:$O,7,0),C762,D762)","v":{"$error":"#N/A"}},null,null,null,null,null,null,null,null,null,null,null,null,null,null,null,null,null,null,null,null,null,null,null,null,null,null,null,null,null,null,null,null,null,null,null,null,null,null,null,null,null,null,"'SK_2020-10'!$A:$H","$A:$H","10236SK44105","TULIP Gola dvířkový J profil 4,1m eloxovaný hliník","Hranipex","badzik","2020-10-01","NULL",0.01,"x","x","x","x"]
[{"$error":"#N/A"},null,{"$f":"IFERROR(VLOOKUP(B763,List1!$A:$B,2,0),\"x\")","v":"x"},null,null,null,null,null,null,{"$f":"CONCATENATE(VLOOKUP(E763,[1]Seznamy!$Q$2:$R$36,2,0),VLOOKUP(F763,[1]Produkty!$I:$O,7,0),C763,D763)","v":{"$error":"#N/A"}},null,null,null,null,null,null,null,null,null,null,null,null,null,null,null,null,null,null,null,null,null,null,null,null,null,null,null,null,null,null,null,null,null,null,null,null,null,null,null,null,null,null,"'SK_2020-10'!$A:$H","$A:$H","12132SK44105","Alfa II profile 222788","IW Trend","badzik","2020-10-01","NULL",4.3739999999999997,"x","x","x","x"]
[{"$error":"#N/A"},null,{"$f":"IFERROR(VLOOKUP(B764,List1!$A:$B,2,0),\"x\")","v":"x"},null,null,null,null,null,null,{"$f":"CONCATENATE(VLOOKUP(E764,[1]Seznamy!$Q$2:$R$36,2,0),VLOOKUP(F764,[1]Produkty!$I:$O,7,0),C764,D764)","v":{"$error":"#N/A"}},null,null,null,null,null,null,null,null,null,null,null,null,null,null,null,null,null,null,null,null,null,null,null,null,null,null,null,null,null,null,null,null,null,null,null,null,null,null,null,null,null,null,"'SK_2020-10'!$A:$H","$A:$H","12133SK44105","SEVROLL Era úchytová lišta 18mm 2,70m stříbrná","IW Trend","badzik","2020-10-01","NULL",0.01,"x","x","x","x"]
[{"$error":"#N/A"},null,{"$f":"IFERROR(VLOOKUP(B765,List1!$A:$B,2,0),\"x\")","v":"x"},null,null,null,null,null,null,{"$f":"CONCATENATE(VLOOKUP(E765,[1]Seznamy!$Q$2:$R$36,2,0),VLOOKUP(F765,[1]Produkty!$I:$O,7,0),C765,D765)","v":{"$error":"#N/A"}},null,null,null,null,null,null,null,null,null,null,null,null,null,null,null,null,null,null,null,null,null,null,null,null,null,null,null,null,null,null,null,null,null,null,null,null,null,null,null,null,null,null,"'SK_2020-10'!$A:$H","$A:$H","12134SK44105","Strong electric socket, lift","IW Trend","badzik","2020-10-01","NULL",14.40442,"x","x","x","x"]
[{"$error":"#N/A"},null,{"$f":"IFERROR(VLOOKUP(B766,List1!$A:$B,2,0),\"x\")","v":"x"},null,null,null,null,null,null,{"$f":"CONCATENATE(VLOOKUP(E766,[1]Seznamy!$Q$2:$R$36,2,0),VLOOKUP(F766,[1]Produkty!$I:$O,7,0),C766,D766)","v":{"$error":"#N/A"}},null,null,null,null,null,null,null,null,null,null,null,null,null,null,null,null,null,null,null,null,null,null,null,null,null,null,null,null,null,null,null,null,null,null,null,null,null,null,null,null,null,null,"'SK_2020-10'!$A:$H","$A:$H","12135SK44105","STRONG Elektricky stavitelná podnož černá RAL 9005 mat","IW Trend","badzik","2020-10-01","NULL",126.18097,"x","x","x","x"]
[{"$error":"#N/A"},null,{"$f":"IFERROR(VLOOKUP(B767,List1!$A:$B,2,0),\"x\")","v":"x"},null,null,null,null,null,null,{"$f":"CONCATENATE(VLOOKUP(E767,[1]Seznamy!$Q$2:$R$36,2,0),VLOOKUP(F767,[1]Produkty!$I:$O,7,0),C767,D767)","v":{"$error":"#N/A"}},null,null,null,null,null,null,null,null,null,null,null,null,null,null,null,null,null,null,null,null,null,null,null,null,null,null,null,null,null,null,null,null,null,null,null,null,null,null,null,null,null,null,"'SK_2020-10'!$A:$H","$A:$H","12136SK44105","TULIP Gola dvířkový J profil 4,1m eloxovaný hliník","IW Trend","badzik","2020-10-01","NULL",0.01,"x","x","x","x"]
[{"$error":"#N/A"},null,{"$f":"IFERROR(VLOOKUP(B768,List1!$A:$B,2,0),\"x\")","v":"x"},null,null,null,null,null,null,{"$f":"CONCATENATE(VLOOKUP(E768,[1]Seznamy!$Q$2:$R$36,2,0),VLOOKUP(F768,[1]Produkty!$I:$O,7,0),C768,D768)","v":{"$error":"#N/A"}},null,null,null,null,null,null,null,null,null,null,null,null,null,null,null,null,null,null,null,null,null,null,null,null,null,null,null,null,null,null,null,null,null,null,null,null,null,null,null,null,null,null,"'SK_2020-10'!$A:$H","$A:$H","1057SK44105","STRONG Stolová noha centrální 450x450 černá","Jaf Holz","badzik","2020-10-01","Lukáš Sládek",34.751869999999997,"x","x","x","x"]
[{"$error":"#N/A"},null,{"$f":"IFERROR(VLOOKUP(B769,List1!$A:$B,2,0),\"x\")","v":"x"},null,null,null,null,null,null,{"$f":"CONCATENATE(VLOOKUP(E769,[1]Seznamy!$Q$2:$R$36,2,0),VLOOKUP(F769,[1]Produkty!$I:$O,7,0),C769,D769)","v":{"$error":"#N/A"}},null,null,null,null,null,null,null,null,null,null,null,null,null,null,null,null,null,null,null,null,null,null,null,null,null,null,null,null,null,null,null,null,null,null,null,null,null,null,null,null,null,null,"'SK_2020-10'!$A:$H","$A:$H","1058SK44105","STRONG Elektrická zásuvka 3x230V, francouzský typ, 265x130x68 mm stříbrná","Jaf Holz","badzik","2020-10-01","Lukáš Sládek",13.449540000000001,"x","x","x","x"]
[{"$error":"#N/A"},null,{"$f":"IFERROR(VLOOKUP(B770,List1!$A:$B,2,0),\"x\")","v":"x"},null,null,null,null,null,null,{"$f":"CONCATENATE(VLOOKUP(E770,[1]Seznamy!$Q$2:$R$36,2,0),VLOOKUP(F770,[1]Produkty!$I:$O,7,0),C770,D770)","v":{"$error":"#N/A"}},null,null,null,null,null,null,null,null,null,null,null,null,null,null,null,null,null,null,null,null,null,null,null,null,null,null,null,null,null,null,null,null,null,null,null,null,null,null,null,null,null,null,"'SK_2020-10'!$A:$H","$A:$H","1059SK44105","BBP OA Zásuvka 515 mm kovová černá","Jaf Holz","badzik","2020-10-01","Lukáš Sládek",4.8439500000000004,"x","x","x","x"]
[{"$error":"#N/A"},null,{"$f":"IFERROR(VLOOKUP(B771,List1!$A:$B,2,0),\"x\")","v":"x"},null,null,null,null,null,null,{"$f":"CONCATENATE(VLOOKUP(E771,[1]Seznamy!$Q$2:$R$36,2,0),VLOOKUP(F771,[1]Produkty!$I:$O,7,0),C771,D771)","v":{"$error":"#N/A"}},null,null,null,null,null,null,null,null,null,null,null,null,null,null,null,null,null,null,null,null,null,null,null,null,null,null,null,null,null,null,null,null,null,null,null,null,null,null,null,null,null,null,"'SK_2020-10'!$A:$H","$A:$H","10510SK44105","FRANKE Dřez ETN 614 6/4 obyčejný ventil bez otvoru","Jaf Holz","badzik","2020-10-01","Marcela Piechová",26.24,"x","x","x","x"]
[{"$error":"#N/A"},null,{"$f":"IFERROR(VLOOKUP(B772,List1!$A:$B,2,0),\"x\")","v":"x"},null,null,null,null,null,null,{"$f":"CONCATENATE(VLOOKUP(E772,[1]Seznamy!$Q$2:$R$36,2,0),VLOOKUP(F772,[1]Produkty!$I:$O,7,0),C772,D772)","v":{"$error":"#N/A"}},null,null,null,null,null,null,null,null,null,null,null,null,null,null,null,null,null,null,null,null,null,null,null,null,null,null,null,null,null,null,null,null,null,null,null,null,null,null,null,null,null,null,"'SK_2020-10'!$A:$H","$A:$H","10511SK44105","FRANKE Dřez BFG 611-78 780 x 500 onyx","Jaf Holz","badzik","2020-10-01","Marcela Piechová",106.13,"x","x","x","x"]
[{"$error":"#N/A"},null,{"$f":"IFERROR(VLOOKUP(B773,List1!$A:$B,2,0),\"x\")","v":"x"},null,null,null,null,null,null,{"$f":"CONCATENATE(VLOOKUP(E773,[1]Seznamy!$Q$2:$R$36,2,0),VLOOKUP(F773,[1]Produkty!$I:$O,7,0),C773,D773)","v":{"$error":"#N/A"}},null,null,null,null,null,null,null,null,null,null,null,null,null,null,null,null,null,null,null,null,null,null,null,null,null,null,null,null,null,null,null,null,null,null,null,null,null,null,null,null,null,null,"'SK_2020-10'!$A:$H","$A:$H","10512SK44105","GOLLINUCCI Sorter Sistema 901/2x16 l, 600 mm","Jaf Holz","badzik","2020-10-01","Marcela Piechová",16.93,"x","x","x","x"]
[{"$error":"#N/A"},null,{"$f":"IFERROR(VLOOKUP(B774,List1!$A:$B,2,0),\"x\")","v":"x"},null,null,null,null,null,null,{"$f":"CONCATENATE(VLOOKUP(E774,[1]Seznamy!$Q$2:$R$36,2,0),VLOOKUP(F774,[1]Produkty!$I:$O,7,0),C774,D774)","v":{"$error":"#N/A"}},null,null,null,null,null,null,null,null,null,null,null,null,null,null,null,null,null,null,null,null,null,null,null,null,null,null,null,null,null,null,null,null,null,null,null,null,null,null,null,null,null,null,"'SK_2020-10'!$A:$H","$A:$H","10513SK44105","GOLLINUCCI Sorter 580 Plus Line, 600 mm, výška 505mm, 80 l, šedý","Jaf Holz","badzik","2020-10-01","Marcela Piechová",74.02,"x","x","x","x"]
[{"$error":"#N/A"},null,{"$f":"IFERROR(VLOOKUP(B775,List1!$A:$B,2,0),\"x\")","v":"x"},null,null,null,null,null,null,{"$f":"CONCATENATE(VLOOKUP(E775,[1]Seznamy!$Q$2:$R$36,2,0),VLOOKUP(F775,[1]Produkty!$I:$O,7,0),C775,D775)","v":{"$error":"#N/A"}},null,null,null,null,null,null,null,null,null,null,null,null,null,null,null,null,null,null,null,null,null,null,null,null,null,null,null,null,null,null,null,null,null,null,null,null,null,null,null,null,null,null,"'SK_2020-10'!$A:$H","$A:$H","10514SK44105","FRANKE Dřez ETN 610 455 x 435","Jaf Holz","badzik","2020-10-01","Marcela Piechová",26.13,"x","x","x","x"]
[{"$error":"#N/A"},null,{"$f":"IFERROR(VLOOKUP(B776,List1!$A:$B,2,0),\"x\")","v":"x"},null,null,null,null,null,null,{"$f":"CONCATENATE(VLOOKUP(E776,[1]Seznamy!$Q$2:$R$36,2,0),VLOOKUP(F776,[1]Produkty!$I:$O,7,0),C776,D776)","v":{"$error":"#N/A"}},null,null,null,null,null,null,null,null,null,null,null,null,null,null,null,null,null,null,null,null,null,null,null,null,null,null,null,null,null,null,null,null,null,null,null,null,null,null,null,null,null,null,"'SK_2020-10'!$A:$H","$A:$H","10515SK44105","GOLLINUCCI Sorter Linea 222, 300 mm","Jaf Holz","badzik","2020-10-01","Marcela Piechová",27.33,"x","x","x","x"]
[{"$f":"TEXT(J777,1)","v":{"$error":"#N/A"}},null,{"$f":"IFERROR(VLOOKUP(B777,List1!$A:$B,2,0),\"x\")","v":"x"},null,null,null,null,null,null,{"$f":"CONCATENATE(VLOOKUP(E777,[1]Seznamy!$Q$2:$R$36,2,0),VLOOKUP(F777,[1]Produkty!$I:$O,7,0),C777,D777)","v":{"$error":"#N/A"}},null,null,null,null,null,null,null,null,null,null,null,null,null,null,null,null,null,null,null,null,null,null,null,null,null,null,null,null,null,null,null,null,null,null,null,null,null,null,null,null,null,null,"'SK_2020-10'!$A:$H","$A:$H","10516SK44105","TULIP úchytka Nakana 128 chrom matný + šroubky","Jaf Holz","badzik","2020-10-01","Lenka Kormaník",0.85141,"x","x","x","x"]
[{"$error":"#N/A"},null,{"$f":"IFERROR(VLOOKUP(B778,List1!$A:$B,2,0),\"x\")","v":"x"},null,null,null,null,null,null,{"$f":"CONCATENATE(VLOOKUP(E778,[1]Seznamy!$Q$2:$R$36,2,0),VLOOKUP(F778,[1]Produkty!$I:$O,7,0),C778,D778)","v":{"$error":"#N/A"}},null,null,null,null,null,null,null,null,null,null,null,null,null,null,null,null,null,null,null,null,null,null,null,null,null,null,null,null,null,null,null,null,null,null,null,null,null,null,null,null,null,null,"'SK_2020-10'!$A:$H","$A:$H","10517SK44105","TULIP úchytka Piombina 96 nikl matný + šroubky","Jaf Holz","badzik","2020-10-01","Lenka Kormaník",0.46717999999999998,"x","x","x","x"]
[{"$error":"#N/A"},null,{"$f":"IFERROR(VLOOKUP(B779,List1!$A:$B,2,0),\"x\")","v":"x"},null,null,null,null,null,null,{"$f":"CONCATENATE(VLOOKUP(E779,[1]Seznamy!$Q$2:$R$36,2,0),VLOOKUP(F779,[1]Produkty!$I:$O,7,0),C779,D779)","v":{"$error":"#N/A"}},null,null,null,null,null,null,null,null,null,null,null,null,null,null,null,null,null,null,null,null,null,null,null,null,null,null,null,null,null,null,null,null,null,null,null,null,null,null,null,null,null,null,"'SK_2020-10'!$A:$H","$A:$H","10518SK44105","TULIP úchytka Anita 96 nikl matný + šroubky","Jaf Holz","badzik","2020-10-01","Lenka Kormaník",0.29581000000000002,"x","x","x","x"]
[{"$error":"#N/A"},null,{"$f":"IFERROR(VLOOKUP(B780,List1!$A:$B,2,0),\"x\")","v":"x"},null,null,null,null,null,null,{"$f":"CONCATENATE(VLOOKUP(E780,[1]Seznamy!$Q$2:$R$36,2,0),VLOOKUP(F780,[1]Produkty!$I:$O,7,0),C780,D780)","v":{"$error":"#N/A"}},null,null,null,null,null,null,null,null,null,null,null,null,null,null,null,null,null,null,null,null,null,null,null,null,null,null,null,null,null,null,null,null,null,null,null,null,null,null,null,null,null,null,"'SK_2020-10'!$A:$H","$A:$H","10519SK44105","TULIP věšák Lugo XL chrom matný + šroubky","Jaf Holz","badzik","2020-10-01","Lenka Kormaník",0.80127000000000004,"x","x","x","x"]
[{"$error":"#N/A"},null,{"$f":"IFERROR(VLOOKUP(B781,List1!$A:$B,2,0),\"x\")","v":"x"},null,null,null,null,null,null,{"$f":"CONCATENATE(VLOOKUP(E781,[1]Seznamy!$Q$2:$R$36,2,0),VLOOKUP(F781,[1]Produkty!$I:$O,7,0),C781,D781)","v":{"$error":"#N/A"}},null,null,null,null,null,null,null,null,null,null,null,null,null,null,null,null,null,null,null,null,null,null,null,null,null,null,null,null,null,null,null,null,null,null,null,null,null,null,null,null,null,null,"'SK_2020-10'!$A:$H","$A:$H","10520SK44105","TULIP Úchytka Ramara 596 imitace nerezi","Jaf Holz","badzik","2020-10-01","Lenka Kormaník",3.7006299999999999,"x","x","x","x"]
[{"$error":"#N/A"},null,{"$f":"IFERROR(VLOOKUP(B782,List1!$A:$B,2,0),\"x\")","v":"x"},null,null,null,null,null,null,{"$f":"CONCATENATE(VLOOKUP(E782,[1]Seznamy!$Q$2:$R$36,2,0),VLOOKUP(F782,[1]Produkty!$I:$O,7,0),C782,D782)","v":{"$error":"#N/A"}},null,null,null,null,null,null,null,null,null,null,null,null,null,null,null,null,null,null,null,null,null,null,null,null,null,null,null,null,null,null,null,null,null,null,null,null,null,null,null,null,null,null,"'SK_2020-10'!$A:$H","$A:$H","10521SK44105","TULIP Úchytka Lucata 160 černá matná","Jaf Holz","badzik","2020-10-01","Lenka Kormaník",0.84014,"x","x","x","x"]
[{"$error":"#N/A"},null,{"$f":"IFERROR(VLOOKUP(B783,List1!$A:$B,2,0),\"x\")","v":"x"},null,null,null,null,null,null,{"$f":"CONCATENATE(VLOOKUP(E783,[1]Seznamy!$Q$2:$R$36,2,0),VLOOKUP(F783,[1]Produkty!$I:$O,7,0),C783,D783)","v":{"$error":"#N/A"}},null,null,null,null,null,null,null,null,null,null,null,null,null,null,null,null,null,null,null,null,null,null,null,null,null,null,null,null,null,null,null,null,null,null,null,null,null,null,null,null,null,null,"'SK_2020-10'!$A:$H","$A:$H","10522SK44105","STRONG LED pásek 21,6W/m 24V bílá neutrální 210 LED/m","Jaf Holz","badzik","2020-10-01","Stančo Denčev",3.3847,"x","x","x","x"]
[{"$error":"#N/A"},null,{"$f":"IFERROR(VLOOKUP(B784,List1!$A:$B,2,0),\"x\")","v":"x"},null,null,null,null,null,null,{"$f":"CONCATENATE(VLOOKUP(E784,[1]Seznamy!$Q$2:$R$36,2,0),VLOOKUP(F784,[1]Produkty!$I:$O,7,0),C784,D784)","v":{"$error":"#N/A"}},null,null,null,null,null,null,null,null,null,null,null,null,null,null,null,null,null,null,null,null,null,null,null,null,null,null,null,null,null,null,null,null,null,null,null,null,null,null,null,null,null,null,"'SK_2020-10'!$A:$H","$A:$H","10523SK44105","STRONG transformátor plochý LED 24V 100W","Jaf Holz","badzik","2020-10-01","Stančo Denčev",16.410900000000002,"x","x","x","x"]
[{"$error":"#N/A"},null,{"$f":"IFERROR(VLOOKUP(B785,List1!$A:$B,2,0),\"x\")","v":"x"},null,null,null,null,null,null,{"$f":"CONCATENATE(VLOOKUP(E785,[1]Seznamy!$Q$2:$R$36,2,0),VLOOKUP(F785,[1]Produkty!$I:$O,7,0),C785,D785)","v":{"$error":"#N/A"}},null,null,null,null,null,null,null,null,null,null,null,null,null,null,null,null,null,null,null,null,null,null,null,null,null,null,null,null,null,null,null,null,null,null,null,null,null,null,null,null,null,null,"'SK_2020-10'!$A:$H","$A:$H","10524SK44105","Vrut PZ 4x18 zápustná hlava zinek bílý PZ2","Jaf Holz","badzik","2020-10-01","Stančo Denčev",2.1299999999999999E-3,"x","x","x","x"]
[{"$error":"#N/A"},null,{"$f":"IFERROR(VLOOKUP(B786,List1!$A:$B,2,0),\"x\")","v":"x"},null,null,null,null,null,null,{"$f":"CONCATENATE(VLOOKUP(E786,[1]Seznamy!$Q$2:$R$36,2,0),VLOOKUP(F786,[1]Produkty!$I:$O,7,0),C786,D786)","v":{"$error":"#N/A"}},null,null,null,null,null,null,null,null,null,null,null,null,null,null,null,null,null,null,null,null,null,null,null,null,null,null,null,null,null,null,null,null,null,null,null,null,null,null,null,null,null,null,"'SK_2020-10'!$A:$H","$A:$H","10532SK44105","Alfa II profile 222788","Jaf Holz","badzik","2020-10-01","NULL",4.3739999999999997,"x","x","x","x"]
[{"$error":"#N/A"},null,{"$f":"IFERROR(VLOOKUP(B787,List1!$A:$B,2,0),\"x\")","v":"x"},null,null,null,null,null,null,{"$f":"CONCATENATE(VLOOKUP(E787,[1]Seznamy!$Q$2:$R$36,2,0),VLOOKUP(F787,[1]Produkty!$I:$O,7,0),C787,D787)","v":{"$error":"#N/A"}},null,null,null,null,null,null,null,null,null,null,null,null,null,null,null,null,null,null,null,null,null,null,null,null,null,null,null,null,null,null,null,null,null,null,null,null,null,null,null,null,null,null,"'SK_2020-10'!$A:$H","$A:$H","10533SK44105","SEVROLL Era úchytová lišta 18mm 2,70m stříbrná","Jaf Holz","badzik","2020-10-01","NULL",0.01,"x","x","x","x"]
[{"$error":"#N/A"},null,{"$f":"IFERROR(VLOOKUP(B788,List1!$A:$B,2,0),\"x\")","v":"x"},null,null,null,null,null,null,{"$f":"CONCATENATE(VLOOKUP(E788,[1]Seznamy!$Q$2:$R$36,2,0),VLOOKUP(F788,[1]Produkty!$I:$O,7,0),C788,D788)","v":{"$error":"#N/A"}},null,null,null,null,null,null,null,null,null,null,null,null,null,null,null,null,null,null,null,null,null,null,null,null,null,null,null,null,null,null,null,null,null,null,null,null,null,null,null,null,null,null,"'SK_2020-10'!$A:$H","$A:$H","10534SK44105","Strong electric socket, lift","Jaf Holz","badzik","2020-10-01","NULL",14.40442,"x","x","x","x"]
[{"$error":"#N/A"},null,{"$f":"IFERROR(VLOOKUP(B789,List1!$A:$B,2,0),\"x\")","v":"x"},null,null,null,null,null,null,{"$f":"CONCATENATE(VLOOKUP(E789,[1]Seznamy!$Q$2:$R$36,2,0),VLOOKUP(F789,[1]Produkty!$I:$O,7,0),C789,D789)","v":{"$error":"#N/A"}},null,null,null,null,null,null,null,null,null,null,null,null,null,null,null,null,null,null,null,null,null,null,null,null,null,null,null,null,null,null,null,null,null,null,null,null,null,null,null,null,null,null,"'SK_2020-10'!$A:$H","$A:$H","10535SK44105","STRONG Elektricky stavitelná podnož černá RAL 9005 mat","Jaf Holz","badzik","2020-10-01","NULL",126.18097,"x","x","x","x"]
[{"$error":"#N/A"},null,{"$f":"IFERROR(VLOOKUP(B790,List1!$A:$B,2,0),\"x\")","v":"x"},null,null,null,null,null,null,{"$f":"CONCATENATE(VLOOKUP(E790,[1]Seznamy!$Q$2:$R$36,2,0),VLOOKUP(F790,[1]Produkty!$I:$O,7,0),C790,D790)","v":{"$error":"#N/A"}},null,null,null,null,null,null,null,null,null,null,null,null,null,null,null,null,null,null,null,null,null,null,null,null,null,null,null,null,null,null,null,null,null,null,null,null,null,null,null,null,null,null,"'SK_2020-10'!$A:$H","$A:$H","10536SK44105","TULIP Gola dvířkový J profil 4,1m eloxovaný hliník","Jaf Holz","badzik","2020-10-01","NULL",0.01,"x","x","x","x"]
[{"$error":"#N/A"},null,{"$f":"IFERROR(VLOOKUP(B791,List1!$A:$B,2,0),\"x\")","v":"x"},null,null,null,null,null,null,{"$f":"CONCATENATE(VLOOKUP(E791,[1]Seznamy!$Q$2:$R$36,2,0),VLOOKUP(F791,[1]Produkty!$I:$O,7,0),C791,D791)","v":{"$error":"#N/A"}},null,null,null,null,null,null,null,null,null,null,null,null,null,null,null,null,null,null,null,null,null,null,null,null,null,null,null,null,null,null,null,null,null,null,null,null,null,null,null,null,null,null,"'SK_2020-10'!$A:$H","$A:$H","1033SK44105","StrongBox H86/500mm bílý","Lunit","badzik","2020-10-01","Martin Zniszczol",7.86,"x","x","x","x"]
[{"$error":"#N/A"},null,{"$f":"IFERROR(VLOOKUP(B792,List1!$A:$B,2,0),\"x\")","v":"x"},null,null,null,null,null,null,{"$f":"CONCATENATE(VLOOKUP(E792,[1]Seznamy!$Q$2:$R$36,2,0),VLOOKUP(F792,[1]Produkty!$I:$O,7,0),C792,D792)","v":{"$error":"#N/A"}},null,null,null,null,null,null,null,null,null,null,null,null,null,null,null,null,null,null,null,null,null,null,null,null,null,null,null,null,null,null,null,null,null,null,null,null,null,null,null,null,null,null,"'SK_2020-10'!$A:$H","$A:$H","1035SK44105","StrongRide synchro 3D celovýsuv 500 mm s tlumením","Lunit","badzik","2020-10-01","Martin Zniszczol",5.84,"x","x","x","x"]
[{"$error":"#N/A"},null,{"$f":"IFERROR(VLOOKUP(B793,List1!$A:$B,2,0),\"x\")","v":"x"},null,null,null,null,null,null,{"$f":"CONCATENATE(VLOOKUP(E793,[1]Seznamy!$Q$2:$R$36,2,0),VLOOKUP(F793,[1]Produkty!$I:$O,7,0),C793,D793)","v":{"$error":"#N/A"}},null,null,null,null,null,null,null,null,null,null,null,null,null,null,null,null,null,null,null,null,null,null,null,null,null,null,null,null,null,null,null,null,null,null,null,null,null,null,null,null,null,null,"'SK_2020-10'!$A:$H","$A:$H","1037SK44105","STRONG Stolová noha centrální 450x450 černá","Lunit","badzik","2020-10-01","Lukáš Sládek",34.751869999999997,"x","x","x","x"]
[{"$error":"#N/A"},null,{"$f":"IFERROR(VLOOKUP(B794,List1!$A:$B,2,0),\"x\")","v":"x"},null,null,null,null,null,null,{"$f":"CONCATENATE(VLOOKUP(E794,[1]Seznamy!$Q$2:$R$36,2,0),VLOOKUP(F794,[1]Produkty!$I:$O,7,0),C794,D794)","v":{"$error":"#N/A"}},null,null,null,null,null,null,null,null,null,null,null,null,null,null,null,null,null,null,null,null,null,null,null,null,null,null,null,null,null,null,null,null,null,null,null,null,null,null,null,null,null,null,"'SK_2020-10'!$A:$H","$A:$H","1039SK44105","BBP OA Zásuvka 515 mm kovová černá","Lunit","badzik","2020-10-01","Lukáš Sládek",4.8439500000000004,"x","x","x","x"]
[{"$error":"#N/A"},null,{"$f":"IFERROR(VLOOKUP(B795,List1!$A:$B,2,0),\"x\")","v":"x"},null,null,null,null,null,null,{"$f":"CONCATENATE(VLOOKUP(E795,[1]Seznamy!$Q$2:$R$36,2,0),VLOOKUP(F795,[1]Produkty!$I:$O,7,0),C795,D795)","v":{"$error":"#N/A"}},null,null,null,null,null,null,null,null,null,null,null,null,null,null,null,null,null,null,null,null,null,null,null,null,null,null,null,null,null,null,null,null,null,null,null,null,null,null,null,null,null,null,"'SK_2020-10'!$A:$H","$A:$H","10313SK44105","GOLLINUCCI Sorter 580 Plus Line, 600 mm, výška 505mm, 80 l, šedý","Lunit","badzik","2020-10-01","Marcela Piechová",74.02,"x","x","x","x"]
[{"$error":"#N/A"},null,{"$f":"IFERROR(VLOOKUP(B796,List1!$A:$B,2,0),\"x\")","v":"x"},null,null,null,null,null,null,{"$f":"CONCATENATE(VLOOKUP(E796,[1]Seznamy!$Q$2:$R$36,2,0),VLOOKUP(F796,[1]Produkty!$I:$O,7,0),C796,D796)","v":{"$error":"#N/A"}},null,null,null,null,null,null,null,null,null,null,null,null,null,null,null,null,null,null,null,null,null,null,null,null,null,null,null,null,null,null,null,null,null,null,null,null,null,null,null,null,null,null,"'SK_2020-10'!$A:$H","$A:$H","10315SK44105","GOLLINUCCI Sorter Linea 222, 300 mm","Lunit","badzik","2020-10-01","Marcela Piechová",27.33,"x","x","x","x"]
[{"$error":"#N/A"},null,{"$f":"IFERROR(VLOOKUP(B797,List1!$A:$B,2,0),\"x\")","v":"x"},null,null,null,null,null,null,{"$f":"CONCATENATE(VLOOKUP(E797,[1]Seznamy!$Q$2:$R$36,2,0),VLOOKUP(F797,[1]Produkty!$I:$O,7,0),C797,D797)","v":{"$error":"#N/A"}},null,null,null,null,null,null,null,null,null,null,null,null,null,null,null,null,null,null,null,null,null,null,null,null,null,null,null,null,null,null,null,null,null,null,null,null,null,null,null,null,null,null,"'SK_2020-10'!$A:$H","$A:$H","10318SK44105","TULIP úchytka Anita 96 nikl matný + šroubky","Lunit","badzik","2020-10-01","Lenka Kormaník",0.29581000000000002,"x","x","x","x"]
[{"$error":"#N/A"},null,{"$f":"IFERROR(VLOOKUP(B798,List1!$A:$B,2,0),\"x\")","v":"x"},null,null,null,null,null,null,{"$f":"CONCATENATE(VLOOKUP(E798,[1]Seznamy!$Q$2:$R$36,2,0),VLOOKUP(F798,[1]Produkty!$I:$O,7,0),C798,D798)","v":{"$error":"#N/A"}},null,null,null,null,null,null,null,null,null,null,null,null,null,null,null,null,null,null,null,null,null,null,null,null,null,null,null,null,null,null,null,null,null,null,null,null,null,null,null,null,null,null,"'SK_2020-10'!$A:$H","$A:$H","10322SK44105","STRONG LED pásek 21,6W/m 24V bílá neutrální 210 LED/m","Lunit","badzik","2020-10-01","Stančo Denčev",3.3847,"x","x","x","x"]
[{"$error":"#N/A"},null,{"$f":"IFERROR(VLOOKUP(B799,List1!$A:$B,2,0),\"x\")","v":"x"},null,null,null,null,null,null,{"$f":"CONCATENATE(VLOOKUP(E799,[1]Seznamy!$Q$2:$R$36,2,0),VLOOKUP(F799,[1]Produkty!$I:$O,7,0),C799,D799)","v":{"$error":"#N/A"}},null,null,null,null,null,null,null,null,null,null,null,null,null,null,null,null,null,null,null,null,null,null,null,null,null,null,null,null,null,null,null,null,null,null,null,null,null,null,null,null,null,null,"'SK_2020-10'!$A:$H","$A:$H","10323SK44105","STRONG transformátor plochý LED 24V 100W","Lunit","badzik","2020-10-01","Stančo Denčev",16.410900000000002,"x","x","x","x"]
[{"$error":"#N/A"},null,{"$f":"IFERROR(VLOOKUP(B800,List1!$A:$B,2,0),\"x\")","v":"x"},null,null,null,null,null,null,{"$f":"CONCATENATE(VLOOKUP(E800,[1]Seznamy!$Q$2:$R$36,2,0),VLOOKUP(F800,[1]Produkty!$I:$O,7,0),C800,D800)","v":{"$error":"#N/A"}},null,null,null,null,null,null,null,null,null,null,null,null,null,null,null,null,null,null,null,null,null,null,null,null,null,null,null,null,null,null,null,null,null,null,null,null,null,null,null,null,null,null,"'SK_2020-10'!$A:$H","$A:$H","10324SK44105","Vrut PZ 4x18 zápustná hlava zinek bílý PZ2","Lunit","badzik","2020-10-01","Stančo Denčev",2.1299999999999999E-3,"x","x","x","x"]
[{"$error":"#N/A"},null,{"$f":"IFERROR(VLOOKUP(B801,List1!$A:$B,2,0),\"x\")","v":"x"},null,null,null,null,null,null,{"$f":"CONCATENATE(VLOOKUP(E801,[1]Seznamy!$Q$2:$R$36,2,0),VLOOKUP(F801,[1]Produkty!$I:$O,7,0),C801,D801)","v":{"$error":"#N/A"}},null,null,null,null,null,null,null,null,null,null,null,null,null,null,null,null,null,null,null,null,null,null,null,null,null,null,null,null,null,null,null,null,null,null,null,null,null,null,null,null,null,null,"'SK_2020-10'!$A:$H","$A:$H","10325SK44105","Konfirmát 7/50 zinek bílý bulk","Lunit","badzik","2020-10-01","Stančo Denčev",8.6999999999999994E-3,"x","x","x","x"]
[{"$error":"#N/A"},null,{"$f":"IFERROR(VLOOKUP(B802,List1!$A:$B,2,0),\"x\")","v":"x"},null,null,null,null,null,null,{"$f":"CONCATENATE(VLOOKUP(E802,[1]Seznamy!$Q$2:$R$36,2,0),VLOOKUP(F802,[1]Produkty!$I:$O,7,0),C802,D802)","v":{"$error":"#N/A"}},null,null,null,null,null,null,null,null,null,null,null,null,null,null,null,null,null,null,null,null,null,null,null,null,null,null,null,null,null,null,null,null,null,null,null,null,null,null,null,null,null,null,"'SK_2020-10'!$A:$H","$A:$H","10326SK44105","DTDL W980 ST2 Platinově bílá 2800/2070/18","Lunit","badzik","2020-10-01","Martin Karaščák",23.7636,"x","x","x","x"]
[{"$error":"#N/A"},null,{"$f":"IFERROR(VLOOKUP(B803,List1!$A:$B,2,0),\"x\")","v":"x"},null,null,null,null,null,null,{"$f":"CONCATENATE(VLOOKUP(E803,[1]Seznamy!$Q$2:$R$36,2,0),VLOOKUP(F803,[1]Produkty!$I:$O,7,0),C803,D803)","v":{"$error":"#N/A"}},null,null,null,null,null,null,null,null,null,null,null,null,null,null,null,null,null,null,null,null,null,null,null,null,null,null,null,null,null,null,null,null,null,null,null,null,null,null,null,null,null,null,"'SK_2020-10'!$A:$H","$A:$H","10332SK44105","Alfa II profile 222788","Lunit","badzik","2020-10-01","NULL",4.3739999999999997,"x","x","x","x"]
[{"$error":"#N/A"},null,{"$f":"IFERROR(VLOOKUP(B804,List1!$A:$B,2,0),\"x\")","v":"x"},null,null,null,null,null,null,{"$f":"CONCATENATE(VLOOKUP(E804,[1]Seznamy!$Q$2:$R$36,2,0),VLOOKUP(F804,[1]Produkty!$I:$O,7,0),C804,D804)","v":{"$error":"#N/A"}},null,null,null,null,null,null,null,null,null,null,null,null,null,null,null,null,null,null,null,null,null,null,null,null,null,null,null,null,null,null,null,null,null,null,null,null,null,null,null,null,null,null,"'SK_2020-10'!$A:$H","$A:$H","10333SK44105","SEVROLL Era úchytová lišta 18mm 2,70m stříbrná","Lunit","badzik","2020-10-01","NULL",0.01,"x","x","x","x"]
[{"$error":"#N/A"},null,{"$f":"IFERROR(VLOOKUP(B805,List1!$A:$B,2,0),\"x\")","v":"x"},null,null,null,null,null,null,{"$f":"CONCATENATE(VLOOKUP(E805,[1]Seznamy!$Q$2:$R$36,2,0),VLOOKUP(F805,[1]Produkty!$I:$O,7,0),C805,D805)","v":{"$error":"#N/A"}},null,null,null,null,null,null,null,null,null,null,null,null,null,null,null,null,null,null,null,null,null,null,null,null,null,null,null,null,null,null,null,null,null,null,null,null,null,null,null,null,null,null,"'SK_2020-10'!$A:$H","$A:$H","10334SK44105","Strong electric socket, lift","Lunit","badzik","2020-10-01","NULL",14.40442,"x","x","x","x"]
[{"$error":"#N/A"},null,{"$f":"IFERROR(VLOOKUP(B806,List1!$A:$B,2,0),\"x\")","v":"x"},null,null,null,null,null,null,{"$f":"CONCATENATE(VLOOKUP(E806,[1]Seznamy!$Q$2:$R$36,2,0),VLOOKUP(F806,[1]Produkty!$I:$O,7,0),C806,D806)","v":{"$error":"#N/A"}},null,null,null,null,null,null,null,null,null,null,null,null,null,null,null,null,null,null,null,null,null,null,null,null,null,null,null,null,null,null,null,null,null,null,null,null,null,null,null,null,null,null,"'SK_2020-10'!$A:$H","$A:$H","10335SK44105","STRONG Elektricky stavitelná podnož černá RAL 9005 mat","Lunit","badzik","2020-10-01","NULL",126.18097,"x","x","x","x"]
[{"$error":"#N/A"},null,{"$f":"IFERROR(VLOOKUP(B807,List1!$A:$B,2,0),\"x\")","v":"x"},null,null,null,null,null,null,{"$f":"CONCATENATE(VLOOKUP(E807,[1]Seznamy!$Q$2:$R$36,2,0),VLOOKUP(F807,[1]Produkty!$I:$O,7,0),C807,D807)","v":{"$error":"#N/A"}},null,null,null,null,null,null,null,null,null,null,null,null,null,null,null,null,null,null,null,null,null,null,null,null,null,null,null,null,null,null,null,null,null,null,null,null,null,null,null,null,null,null,"'SK_2020-10'!$A:$H","$A:$H","10336SK44105","TULIP Gola dvířkový J profil 4,1m eloxovaný hliník","Lunit","badzik","2020-10-01","NULL",0.01,"x","x","x","x"]
[{"$error":"#N/A"},null,{"$f":"IFERROR(VLOOKUP(B808,List1!$A:$B,2,0),\"x\")","v":"x"},null,null,null,null,null,null,{"$f":"CONCATENATE(VLOOKUP(E808,[1]Seznamy!$Q$2:$R$36,2,0),VLOOKUP(F808,[1]Produkty!$I:$O,7,0),C808,D808)","v":{"$error":"#N/A"}},null,null,null,null,null,null,null,null,null,null,null,null,null,null,null,null,null,null,null,null,null,null,null,null,null,null,null,null,null,null,null,null,null,null,null,null,null,null,null,null,null,null,"'SK_2020-10'!$A:$H","$A:$H","1069SK44105","BBP OA Zásuvka 515 mm kovová černá","Nábytkár","badzik","2020-10-01","Lukáš Sládek",4.8439500000000004,"x","x","x","x"]
[{"$error":"#N/A"},null,{"$f":"IFERROR(VLOOKUP(B809,List1!$A:$B,2,0),\"x\")","v":"x"},null,null,null,null,null,null,{"$f":"CONCATENATE(VLOOKUP(E809,[1]Seznamy!$Q$2:$R$36,2,0),VLOOKUP(F809,[1]Produkty!$I:$O,7,0),C809,D809)","v":{"$error":"#N/A"}},null,null,null,null,null,null,null,null,null,null,null,null,null,null,null,null,null,null,null,null,null,null,null,null,null,null,null,null,null,null,null,null,null,null,null,null,null,null,null,null,null,null,"'SK_2020-10'!$A:$H","$A:$H","10624SK44105","Vrut PZ 4x18 zápustná hlava zinek bílý PZ2","Nábytkár","badzik","2020-10-01","Stančo Denčev",2.1299999999999999E-3,"x","x","x","x"]
[{"$error":"#N/A"},null,{"$f":"IFERROR(VLOOKUP(B810,List1!$A:$B,2,0),\"x\")","v":"x"},null,null,null,null,null,null,{"$f":"CONCATENATE(VLOOKUP(E810,[1]Seznamy!$Q$2:$R$36,2,0),VLOOKUP(F810,[1]Produkty!$I:$O,7,0),C810,D810)","v":{"$error":"#N/A"}},null,null,null,null,null,null,null,null,null,null,null,null,null,null,null,null,null,null,null,null,null,null,null,null,null,null,null,null,null,null,null,null,null,null,null,null,null,null,null,null,null,null,"'SK_2020-10'!$A:$H","$A:$H","10626SK44105","DTDL W980 ST2 Platinově bílá 2800/2070/18","Nábytkár","badzik","2020-10-01","Martin Karaščák",23.7636,"x","x","x","x"]
[{"$error":"#N/A"},null,{"$f":"IFERROR(VLOOKUP(B811,List1!$A:$B,2,0),\"x\")","v":"x"},null,null,null,null,null,null,{"$f":"CONCATENATE(VLOOKUP(E811,[1]Seznamy!$Q$2:$R$36,2,0),VLOOKUP(F811,[1]Produkty!$I:$O,7,0),C811,D811)","v":{"$error":"#N/A"}},null,null,null,null,null,null,null,null,null,null,null,null,null,null,null,null,null,null,null,null,null,null,null,null,null,null,null,null,null,null,null,null,null,null,null,null,null,null,null,null,null,null,"'SK_2020-10'!$A:$H","$A:$H","10627SK44105","DTDD DUB COMMERCIAL A/B DEC 2800/2070/19","Nábytkár","badzik","2020-10-01","Martin Karaščák",0,"x","x","x","x"]
[{"$error":"#N/A"},null,{"$f":"IFERROR(VLOOKUP(B812,List1!$A:$B,2,0),\"x\")","v":"x"},null,null,null,null,null,null,{"$f":"CONCATENATE(VLOOKUP(E812,[1]Seznamy!$Q$2:$R$36,2,0),VLOOKUP(F812,[1]Produkty!$I:$O,7,0),C812,D812)","v":{"$error":"#N/A"}},null,null,null,null,null,null,null,null,null,null,null,null,null,null,null,null,null,null,null,null,null,null,null,null,null,null,null,null,null,null,null,null,null,null,null,null,null,null,null,null,null,null,"'SK_2020-10'!$A:$H","$A:$H","10628SK44105","DTDD Dub evr. radiál st A/B 2800/2070/19","Nábytkár","badzik","2020-10-01","Martin Karaščák",58.655520000000003,"x","x","x","x"]
[{"$error":"#N/A"},null,{"$f":"IFERROR(VLOOKUP(B813,List1!$A:$B,2,0),\"x\")","v":"x"},null,null,null,null,null,null,{"$f":"CONCATENATE(VLOOKUP(E813,[1]Seznamy!$Q$2:$R$36,2,0),VLOOKUP(F813,[1]Produkty!$I:$O,7,0),C813,D813)","v":{"$error":"#N/A"}},null,null,null,null,null,null,null,null,null,null,null,null,null,null,null,null,null,null,null,null,null,null,null,null,null,null,null,null,null,null,null,null,null,null,null,null,null,null,null,null,null,null,"'SK_2020-10'!$A:$H","$A:$H","10631SK44105","HDF LAK 101 BÍLÁ PE 2800/2070/3","Nábytkár","badzik","2020-10-01","Martin Karaščák",5.5061999999999998,"x","x","x","x"]
[{"$error":"#N/A"},null,{"$f":"IFERROR(VLOOKUP(B814,List1!$A:$B,2,0),\"x\")","v":"x"},null,null,null,null,null,null,{"$f":"CONCATENATE(VLOOKUP(E814,[1]Seznamy!$Q$2:$R$36,2,0),VLOOKUP(F814,[1]Produkty!$I:$O,7,0),C814,D814)","v":{"$error":"#N/A"}},null,null,null,null,null,null,null,null,null,null,null,null,null,null,null,null,null,null,null,null,null,null,null,null,null,null,null,null,null,null,null,null,null,null,null,null,null,null,null,null,null,null,"'SK_2020-10'!$A:$H","$A:$H","10632SK44105","Alfa II profile 222788","Nábytkár","badzik","2020-10-01","NULL",4.3739999999999997,"x","x","x","x"]
[{"$error":"#N/A"},null,{"$f":"IFERROR(VLOOKUP(B815,List1!$A:$B,2,0),\"x\")","v":"x"},null,null,null,null,null,null,{"$f":"CONCATENATE(VLOOKUP(E815,[1]Seznamy!$Q$2:$R$36,2,0),VLOOKUP(F815,[1]Produkty!$I:$O,7,0),C815,D815)","v":{"$error":"#N/A"}},null,null,null,null,null,null,null,null,null,null,null,null,null,null,null,null,null,null,null,null,null,null,null,null,null,null,null,null,null,null,null,null,null,null,null,null,null,null,null,null,null,null,"'SK_2020-10'!$A:$H","$A:$H","10633SK44105","SEVROLL Era úchytová lišta 18mm 2,70m stříbrná","Nábytkár","badzik","2020-10-01","NULL",0.01,"x","x","x","x"]
[{"$error":"#N/A"},null,{"$f":"IFERROR(VLOOKUP(B816,List1!$A:$B,2,0),\"x\")","v":"x"},null,null,null,null,null,null,{"$f":"CONCATENATE(VLOOKUP(E816,[1]Seznamy!$Q$2:$R$36,2,0),VLOOKUP(F816,[1]Produkty!$I:$O,7,0),C816,D816)","v":{"$error":"#N/A"}},null,null,null,null,null,null,null,null,null,null,null,null,null,null,null,null,null,null,null,null,null,null,null,null,null,null,null,null,null,null,null,null,null,null,null,null,null,null,null,null,null,null,"'SK_2020-10'!$A:$H","$A:$H","10634SK44105","Strong electric socket, lift","Nábytkár","badzik","2020-10-01","NULL",14.40442,"x","x","x","x"]
[{"$error":"#N/A"},null,{"$f":"IFERROR(VLOOKUP(B817,List1!$A:$B,2,0),\"x\")","v":"x"},null,null,null,null,null,null,{"$f":"CONCATENATE(VLOOKUP(E817,[1]Seznamy!$Q$2:$R$36,2,0),VLOOKUP(F817,[1]Produkty!$I:$O,7,0),C817,D817)","v":{"$error":"#N/A"}},null,null,null,null,null,null,null,null,null,null,null,null,null,null,null,null,null,null,null,null,null,null,null,null,null,null,null,null,null,null,null,null,null,null,null,null,null,null,null,null,null,null,"'SK_2020-10'!$A:$H","$A:$H","10635SK44105","STRONG Elektricky stavitelná podnož černá RAL 9005 mat","Nábytkár","badzik","2020-10-01","NULL",126.18097,"x","x","x","x"]
[{"$error":"#N/A"},null,{"$f":"IFERROR(VLOOKUP(B818,List1!$A:$B,2,0),\"x\")","v":"x"},null,null,null,null,null,null,{"$f":"CONCATENATE(VLOOKUP(E818,[1]Seznamy!$Q$2:$R$36,2,0),VLOOKUP(F818,[1]Produkty!$I:$O,7,0),C818,D818)","v":{"$error":"#N/A"}},null,null,null,null,null,null,null,null,null,null,null,null,null,null,null,null,null,null,null,null,null,null,null,null,null,null,null,null,null,null,null,null,null,null,null,null,null,null,null,null,null,null,"'SK_2020-10'!$A:$H","$A:$H","10636SK44105","TULIP Gola dvířkový J profil 4,1m eloxovaný hliník","Nábytkár","badzik","2020-10-01","NULL",0.01,"x","x","x","x"]
[{"$error":"#N/A"},null,{"$f":"IFERROR(VLOOKUP(B819,List1!$A:$B,2,0),\"x\")","v":"x"},null,null,null,null,null,null,{"$f":"CONCATENATE(VLOOKUP(E819,[1]Seznamy!$Q$2:$R$36,2,0),VLOOKUP(F819,[1]Produkty!$I:$O,7,0),C819,D819)","v":{"$error":"#N/A"}},null,null,null,null,null,null,null,null,null,null,null,null,null,null,null,null,null,null,null,null,null,null,null,null,null,null,null,null,null,null,null,null,null,null,null,null,null,null,null,null,null,null,"'SK_2020-10'!$A:$H","$A:$H","12032SK44105","Alfa II profile 222788","Sezam","badzik","2020-10-01","NULL",4.3739999999999997,"x","x","x","x"]
[{"$error":"#N/A"},null,{"$f":"IFERROR(VLOOKUP(B820,List1!$A:$B,2,0),\"x\")","v":"x"},null,null,null,null,null,null,{"$f":"CONCATENATE(VLOOKUP(E820,[1]Seznamy!$Q$2:$R$36,2,0),VLOOKUP(F820,[1]Produkty!$I:$O,7,0),C820,D820)","v":{"$error":"#N/A"}},null,null,null,null,null,null,null,null,null,null,null,null,null,null,null,null,null,null,null,null,null,null,null,null,null,null,null,null,null,null,null,null,null,null,null,null,null,null,null,null,null,null,"'SK_2020-10'!$A:$H","$A:$H","12033SK44105","SEVROLL Era úchytová lišta 18mm 2,70m stříbrná","Sezam","badzik","2020-10-01","NULL",0.01,"x","x","x","x"]
[{"$error":"#N/A"},null,{"$f":"IFERROR(VLOOKUP(B821,List1!$A:$B,2,0),\"x\")","v":"x"},null,null,null,null,null,null,{"$f":"CONCATENATE(VLOOKUP(E821,[1]Seznamy!$Q$2:$R$36,2,0),VLOOKUP(F821,[1]Produkty!$I:$O,7,0),C821,D821)","v":{"$error":"#N/A"}},null,null,null,null,null,null,null,null,null,null,null,null,null,null,null,null,null,null,null,null,null,null,null,null,null,null,null,null,null,null,null,null,null,null,null,null,null,null,null,null,null,null,"'SK_2020-10'!$A:$H","$A:$H","12034SK44105","Strong electric socket, lift","Sezam","badzik","2020-10-01","NULL",14.40442,"x","x","x","x"]
[{"$error":"#N/A"},null,{"$f":"IFERROR(VLOOKUP(B822,List1!$A:$B,2,0),\"x\")","v":"x"},null,null,null,null,null,null,{"$f":"CONCATENATE(VLOOKUP(E822,[1]Seznamy!$Q$2:$R$36,2,0),VLOOKUP(F822,[1]Produkty!$I:$O,7,0),C822,D822)","v":{"$error":"#N/A"}},null,null,null,null,null,null,null,null,null,null,null,null,null,null,null,null,null,null,null,null,null,null,null,null,null,null,null,null,null,null,null,null,null,null,null,null,null,null,null,null,null,null,"'SK_2020-10'!$A:$H","$A:$H","12035SK44105","STRONG Elektricky stavitelná podnož černá RAL 9005 mat","Sezam","badzik","2020-10-01","NULL",126.18097,"x","x","x","x"]
[{"$error":"#N/A"},null,{"$f":"IFERROR(VLOOKUP(B823,List1!$A:$B,2,0),\"x\")","v":"x"},null,null,null,null,null,null,{"$f":"CONCATENATE(VLOOKUP(E823,[1]Seznamy!$Q$2:$R$36,2,0),VLOOKUP(F823,[1]Produkty!$I:$O,7,0),C823,D823)","v":{"$error":"#N/A"}},null,null,null,null,null,null,null,null,null,null,null,null,null,null,null,null,null,null,null,null,null,null,null,null,null,null,null,null,null,null,null,null,null,null,null,null,null,null,null,null,null,null,"'SK_2020-10'!$A:$H","$A:$H","12036SK44105","TULIP Gola dvířkový J profil 4,1m eloxovaný hliník","Sezam","badzik","2020-10-01","NULL",0.01,"x","x","x","x"]
[{"$error":"#N/A"},null,{"$f":"IFERROR(VLOOKUP(B824,List1!$A:$B,2,0),\"x\")","v":"x"},null,null,null,null,null,null,{"$f":"CONCATENATE(VLOOKUP(E824,[1]Seznamy!$Q$2:$R$36,2,0),VLOOKUP(F824,[1]Produkty!$I:$O,7,0),C824,D824)","v":{"$error":"#N/A"}},null,null,null,null,null,null,null,null,null,null,null,null,null,null,null,null,null,null,null,null,null,null,null,null,null,null,null,null,null,null,null,null,null,null,null,null,null,null,null,null,null,null,"'SK_2020-10'!$A:$H","$A:$H","1083SK44105","StrongBox H86/500mm bílý","Schachermayer","badzik","2020-10-01","Martin Zniszczol",7.86,"x","x","x","x"]
[{"$error":"#N/A"},null,{"$f":"IFERROR(VLOOKUP(B825,List1!$A:$B,2,0),\"x\")","v":"x"},null,null,null,null,null,null,{"$f":"CONCATENATE(VLOOKUP(E825,[1]Seznamy!$Q$2:$R$36,2,0),VLOOKUP(F825,[1]Produkty!$I:$O,7,0),C825,D825)","v":{"$error":"#N/A"}},null,null,null,null,null,null,null,null,null,null,null,null,null,null,null,null,null,null,null,null,null,null,null,null,null,null,null,null,null,null,null,null,null,null,null,null,null,null,null,null,null,null,"'SK_2020-10'!$A:$H","$A:$H","1084SK44105","StrongMax 89/500 mm šedý (antracit)","Schachermayer","badzik","2020-10-01","Martin Zniszczol",10.35,"x","x","x","x"]
[{"$error":"#N/A"},null,{"$f":"IFERROR(VLOOKUP(B826,List1!$A:$B,2,0),\"x\")","v":"x"},null,null,null,null,null,null,{"$f":"CONCATENATE(VLOOKUP(E826,[1]Seznamy!$Q$2:$R$36,2,0),VLOOKUP(F826,[1]Produkty!$I:$O,7,0),C826,D826)","v":{"$error":"#N/A"}},null,null,null,null,null,null,null,null,null,null,null,null,null,null,null,null,null,null,null,null,null,null,null,null,null,null,null,null,null,null,null,null,null,null,null,null,null,null,null,null,null,null,"'SK_2020-10'!$A:$H","$A:$H","1085SK44105","StrongRide synchro 3D celovýsuv 500 mm s tlumením","Schachermayer","badzik","2020-10-01","Martin Zniszczol",5.84,"x","x","x","x"]
[{"$error":"#N/A"},null,{"$f":"IFERROR(VLOOKUP(B827,List1!$A:$B,2,0),\"x\")","v":"x"},null,null,null,null,null,null,{"$f":"CONCATENATE(VLOOKUP(E827,[1]Seznamy!$Q$2:$R$36,2,0),VLOOKUP(F827,[1]Produkty!$I:$O,7,0),C827,D827)","v":{"$error":"#N/A"}},null,null,null,null,null,null,null,null,null,null,null,null,null,null,null,null,null,null,null,null,null,null,null,null,null,null,null,null,null,null,null,null,null,null,null,null,null,null,null,null,null,null,"'SK_2020-10'!$A:$H","$A:$H","1089SK44105","BBP OA Zásuvka 515 mm kovová černá","Schachermayer","badzik","2020-10-01","Lukáš Sládek",4.8439500000000004,"x","x","x","x"]
[{"$error":"#N/A"},null,{"$f":"IFERROR(VLOOKUP(B828,List1!$A:$B,2,0),\"x\")","v":"x"},null,null,null,null,null,null,{"$f":"CONCATENATE(VLOOKUP(E828,[1]Seznamy!$Q$2:$R$36,2,0),VLOOKUP(F828,[1]Produkty!$I:$O,7,0),C828,D828)","v":{"$error":"#N/A"}},null,null,null,null,null,null,null,null,null,null,null,null,null,null,null,null,null,null,null,null,null,null,null,null,null,null,null,null,null,null,null,null,null,null,null,null,null,null,null,null,null,null,"'SK_2020-10'!$A:$H","$A:$H","10810SK44105","FRANKE Dřez ETN 614 6/4 obyčejný ventil bez otvoru","Schachermayer","badzik","2020-10-01","Marcela Piechová",26.24,"x","x","x","x"]
[{"$error":"#N/A"},null,{"$f":"IFERROR(VLOOKUP(B829,List1!$A:$B,2,0),\"x\")","v":"x"},null,null,null,null,null,null,{"$f":"CONCATENATE(VLOOKUP(E829,[1]Seznamy!$Q$2:$R$36,2,0),VLOOKUP(F829,[1]Produkty!$I:$O,7,0),C829,D829)","v":{"$error":"#N/A"}},null,null,null,null,null,null,null,null,null,null,null,null,null,null,null,null,null,null,null,null,null,null,null,null,null,null,null,null,null,null,null,null,null,null,null,null,null,null,null,null,null,null,"'SK_2020-10'!$A:$H","$A:$H","10811SK44105","FRANKE Dřez BFG 611-78 780 x 500 onyx","Schachermayer","badzik","2020-10-01","Marcela Piechová",106.13,"x","x","x","x"]
[{"$error":"#N/A"},null,{"$f":"IFERROR(VLOOKUP(B830,List1!$A:$B,2,0),\"x\")","v":"x"},null,null,null,null,null,null,{"$f":"CONCATENATE(VLOOKUP(E830,[1]Seznamy!$Q$2:$R$36,2,0),VLOOKUP(F830,[1]Produkty!$I:$O,7,0),C830,D830)","v":{"$error":"#N/A"}},null,null,null,null,null,null,null,null,null,null,null,null,null,null,null,null,null,null,null,null,null,null,null,null,null,null,null,null,null,null,null,null,null,null,null,null,null,null,null,null,null,null,"'SK_2020-10'!$A:$H","$A:$H","10817SK44105","TULIP úchytka Piombina 96 nikl matný + šroubky","Schachermayer","badzik","2020-10-01","Lenka Kormaník",0.46717999999999998,"x","x","x","x"]
[{"$error":"#N/A"},null,{"$f":"IFERROR(VLOOKUP(B831,List1!$A:$B,2,0),\"x\")","v":"x"},null,null,null,null,null,null,{"$f":"CONCATENATE(VLOOKUP(E831,[1]Seznamy!$Q$2:$R$36,2,0),VLOOKUP(F831,[1]Produkty!$I:$O,7,0),C831,D831)","v":{"$error":"#N/A"}},null,null,null,null,null,null,null,null,null,null,null,null,null,null,null,null,null,null,null,null,null,null,null,null,null,null,null,null,null,null,null,null,null,null,null,null,null,null,null,null,null,null,"'SK_2020-10'!$A:$H","$A:$H","10818SK44105","TULIP úchytka Anita 96 nikl matný + šroubky","Schachermayer","badzik","2020-10-01","Lenka Kormaník",0.29581000000000002,"x","x","x","x"]
[{"$error":"#N/A"},null,{"$f":"IFERROR(VLOOKUP(B832,List1!$A:$B,2,0),\"x\")","v":"x"},null,null,null,null,null,null,{"$f":"CONCATENATE(VLOOKUP(E832,[1]Seznamy!$Q$2:$R$36,2,0),VLOOKUP(F832,[1]Produkty!$I:$O,7,0),C832,D832)","v":{"$error":"#N/A"}},null,null,null,null,null,null,null,null,null,null,null,null,null,null,null,null,null,null,null,null,null,null,null,null,null,null,null,null,null,null,null,null,null,null,null,null,null,null,null,null,null,null,"'SK_2020-10'!$A:$H","$A:$H","10822SK44105","STRONG LED pásek 21,6W/m 24V bílá neutrální 210 LED/m","Schachermayer","badzik","2020-10-01","Stančo Denčev",3.3847,"x","x","x","x"]
[{"$error":"#N/A"},null,{"$f":"IFERROR(VLOOKUP(B833,List1!$A:$B,2,0),\"x\")","v":"x"},null,null,null,null,null,null,{"$f":"CONCATENATE(VLOOKUP(E833,[1]Seznamy!$Q$2:$R$36,2,0),VLOOKUP(F833,[1]Produkty!$I:$O,7,0),C833,D833)","v":{"$error":"#N/A"}},null,null,null,null,null,null,null,null,null,null,null,null,null,null,null,null,null,null,null,null,null,null,null,null,null,null,null,null,null,null,null,null,null,null,null,null,null,null,null,null,null,null,"'SK_2020-10'!$A:$H","$A:$H","10823SK44105","STRONG transformátor plochý LED 24V 100W","Schachermayer","badzik","2020-10-01","Stančo Denčev",16.410900000000002,"x","x","x","x"]
[{"$error":"#N/A"},null,{"$f":"IFERROR(VLOOKUP(B834,List1!$A:$B,2,0),\"x\")","v":"x"},null,null,null,null,null,null,{"$f":"CONCATENATE(VLOOKUP(E834,[1]Seznamy!$Q$2:$R$36,2,0),VLOOKUP(F834,[1]Produkty!$I:$O,7,0),C834,D834)","v":{"$error":"#N/A"}},null,null,null,null,null,null,null,null,null,null,null,null,null,null,null,null,null,null,null,null,null,null,null,null,null,null,null,null,null,null,null,null,null,null,null,null,null,null,null,null,null,null,"'SK_2020-10'!$A:$H","$A:$H","10824SK44105","Vrut PZ 4x18 zápustná hlava zinek bílý PZ2","Schachermayer","badzik","2020-10-01","Stančo Denčev",2.1299999999999999E-3,"x","x","x","x"]
[{"$error":"#N/A"},null,{"$f":"IFERROR(VLOOKUP(B835,List1!$A:$B,2,0),\"x\")","v":"x"},null,null,null,null,null,null,{"$f":"CONCATENATE(VLOOKUP(E835,[1]Seznamy!$Q$2:$R$36,2,0),VLOOKUP(F835,[1]Produkty!$I:$O,7,0),C835,D835)","v":{"$error":"#N/A"}},null,null,null,null,null,null,null,null,null,null,null,null,null,null,null,null,null,null,null,null,null,null,null,null,null,null,null,null,null,null,null,null,null,null,null,null,null,null,null,null,null,null,"'SK_2020-10'!$A:$H","$A:$H","10826SK44105","DTDL W980 ST2 Platinově bílá 2800/2070/18","Schachermayer","badzik","2020-10-01","Martin Karaščák",23.7636,"x","x","x","x"]
[{"$error":"#N/A"},null,{"$f":"IFERROR(VLOOKUP(B836,List1!$A:$B,2,0),\"x\")","v":"x"},null,null,null,null,null,null,{"$f":"CONCATENATE(VLOOKUP(E836,[1]Seznamy!$Q$2:$R$36,2,0),VLOOKUP(F836,[1]Produkty!$I:$O,7,0),C836,D836)","v":{"$error":"#N/A"}},null,null,null,null,null,null,null,null,null,null,null,null,null,null,null,null,null,null,null,null,null,null,null,null,null,null,null,null,null,null,null,null,null,null,null,null,null,null,null,null,null,null,"'SK_2020-10'!$A:$H","$A:$H","10827SK44105","DTDD DUB COMMERCIAL A/B DEC 2800/2070/19","Schachermayer","badzik","2020-10-01","Martin Karaščák",0,"x","x","x","x"]
[{"$error":"#N/A"},null,{"$f":"IFERROR(VLOOKUP(B837,List1!$A:$B,2,0),\"x\")","v":"x"},null,null,null,null,null,null,{"$f":"CONCATENATE(VLOOKUP(E837,[1]Seznamy!$Q$2:$R$36,2,0),VLOOKUP(F837,[1]Produkty!$I:$O,7,0),C837,D837)","v":{"$error":"#N/A"}},null,null,null,null,null,null,null,null,null,null,null,null,null,null,null,null,null,null,null,null,null,null,null,null,null,null,null,null,null,null,null,null,null,null,null,null,null,null,null,null,null,null,"'SK_2020-10'!$A:$H","$A:$H","10828SK44105","DTDD Dub evr. radiál st A/B 2800/2070/19","Schachermayer","badzik","2020-10-01","Martin Karaščák",58.655520000000003,"x","x","x","x"]
[{"$error":"#N/A"},null,{"$f":"IFERROR(VLOOKUP(B838,List1!$A:$B,2,0),\"x\")","v":"x"},null,null,null,null,null,null,{"$f":"CONCATENATE(VLOOKUP(E838,[1]Seznamy!$Q$2:$R$36,2,0),VLOOKUP(F838,[1]Produkty!$I:$O,7,0),C838,D838)","v":{"$error":"#N/A"}},null,null,null,null,null,null,null,null,null,null,null,null,null,null,null,null,null,null,null,null,null,null,null,null,null,null,null,null,null,null,null,null,null,null,null,null,null,null,null,null,null,null,"'SK_2020-10'!$A:$H","$A:$H","10829SK44105","ABSB HU10113 Bílá 101/110/113/8100/8685/W954/B3822 PE 22/2","Schachermayer","badzik","2020-10-01","Martin Karaščák",0,"x","x","x","x"]
[{"$error":"#N/A"},null,{"$f":"IFERROR(VLOOKUP(B839,List1!$A:$B,2,0),\"x\")","v":"x"},null,null,null,null,null,null,{"$f":"CONCATENATE(VLOOKUP(E839,[1]Seznamy!$Q$2:$R$36,2,0),VLOOKUP(F839,[1]Produkty!$I:$O,7,0),C839,D839)","v":{"$error":"#N/A"}},null,null,null,null,null,null,null,null,null,null,null,null,null,null,null,null,null,null,null,null,null,null,null,null,null,null,null,null,null,null,null,null,null,null,null,null,null,null,null,null,null,null,"'SK_2020-10'!$A:$H","$A:$H","10830SK44105","ABSB 77039/414 W980/500/W954 ST2 23/2","Schachermayer","badzik","2020-10-01","Martin Karaščák",0.16747999999999999,"x","x","x","x"]
[{"$error":"#N/A"},null,{"$f":"IFERROR(VLOOKUP(B840,List1!$A:$B,2,0),\"x\")","v":"x"},null,null,null,null,null,null,{"$f":"CONCATENATE(VLOOKUP(E840,[1]Seznamy!$Q$2:$R$36,2,0),VLOOKUP(F840,[1]Produkty!$I:$O,7,0),C840,D840)","v":{"$error":"#N/A"}},null,null,null,null,null,null,null,null,null,null,null,null,null,null,null,null,null,null,null,null,null,null,null,null,null,null,null,null,null,null,null,null,null,null,null,null,null,null,null,null,null,null,"'SK_2020-10'!$A:$H","$A:$H","10831SK44105","HDF LAK 101 BÍLÁ PE 2800/2070/3","Schachermayer","badzik","2020-10-01","Martin Karaščák",5.5061999999999998,"x","x","x","x"]
[{"$f":"TEXT(J841,1)","v":{"$error":"#N/A"}},null,{"$f":"IFERROR(VLOOKUP(B841,List1!$A:$B,2,0),\"x\")","v":"x"},null,null,null,null,null,null,{"$f":"CONCATENATE(VLOOKUP(E841,[1]Seznamy!$Q$2:$R$36,2,0),VLOOKUP(F841,[1]Produkty!$I:$O,7,0),C841,D841)","v":{"$error":"#N/A"}},null,null,null,null,null,null,null,null,null,null,null,null,null,null,null,null,null,null,null,null,null,null,null,null,null,null,null,null,null,null,null,null,null,null,null,null,null,null,null,null,null,null,"'SK_2020-10'!$A:$H","$A:$H","10832SK44105","Alfa II profile 222788","Schachermayer","badzik","2020-10-01","NULL",4.3739999999999997,"x","x","x","x"]
[{"$error":"#N/A"},null,{"$f":"IFERROR(VLOOKUP(B842,List1!$A:$B,2,0),\"x\")","v":"x"},null,null,null,null,null,null,{"$f":"CONCATENATE(VLOOKUP(E842,[1]Seznamy!$Q$2:$R$36,2,0),VLOOKUP(F842,[1]Produkty!$I:$O,7,0),C842,D842)","v":{"$error":"#N/A"}},null,null,null,null,null,null,null,null,null,null,null,null,null,null,null,null,null,null,null,null,null,null,null,null,null,null,null,null,null,null,null,null,null,null,null,null,null,null,null,null,null,null,"'SK_2020-10'!$A:$H","$A:$H","10833SK44105","SEVROLL Era úchytová lišta 18mm 2,70m stříbrná","Schachermayer","badzik","2020-10-01","NULL",0.01,"x","x","x","x"]
[{"$error":"#N/A"},null,{"$f":"IFERROR(VLOOKUP(B843,List1!$A:$B,2,0),\"x\")","v":"x"},null,null,null,null,null,null,{"$f":"CONCATENATE(VLOOKUP(E843,[1]Seznamy!$Q$2:$R$36,2,0),VLOOKUP(F843,[1]Produkty!$I:$O,7,0),C843,D843)","v":{"$error":"#N/A"}},null,null,null,null,null,null,null,null,null,null,null,null,null,null,null,null,null,null,null,null,null,null,null,null,null,null,null,null,null,null,null,null,null,null,null,null,null,null,null,null,null,null,"'SK_2020-10'!$A:$H","$A:$H","10834SK44105","Strong electric socket, lift","Schachermayer","badzik","2020-10-01","NULL",14.40442,"x","x","x","x"]
[{"$error":"#N/A"},null,{"$f":"IFERROR(VLOOKUP(B844,List1!$A:$B,2,0),\"x\")","v":"x"},null,null,null,null,null,null,{"$f":"CONCATENATE(VLOOKUP(E844,[1]Seznamy!$Q$2:$R$36,2,0),VLOOKUP(F844,[1]Produkty!$I:$O,7,0),C844,D844)","v":{"$error":"#N/A"}},null,null,null,null,null,null,null,null,null,null,null,null,null,null,null,null,null,null,null,null,null,null,null,null,null,null,null,null,null,null,null,null,null,null,null,null,null,null,null,null,null,null,"'SK_2020-10'!$A:$H","$A:$H","10835SK44105","STRONG Elektricky stavitelná podnož černá RAL 9005 mat","Schachermayer","badzik","2020-10-01","NULL",126.18097,"x","x","x","x"]
[{"$error":"#N/A"},null,{"$f":"IFERROR(VLOOKUP(B845,List1!$A:$B,2,0),\"x\")","v":"x"},null,null,null,null,null,null,{"$f":"CONCATENATE(VLOOKUP(E845,[1]Seznamy!$Q$2:$R$36,2,0),VLOOKUP(F845,[1]Produkty!$I:$O,7,0),C845,D845)","v":{"$error":"#N/A"}},null,null,null,null,null,null,null,null,null,null,null,null,null,null,null,null,null,null,null,null,null,null,null,null,null,null,null,null,null,null,null,null,null,null,null,null,null,null,null,null,null,null,"'SK_2020-10'!$A:$H","$A:$H","10836SK44105","TULIP Gola dvířkový J profil 4,1m eloxovaný hliník","Schachermayer","badzik","2020-10-01","NULL",0.01,"x","x","x","x"]
[{"$error":"#N/A"},null,{"$f":"IFERROR(VLOOKUP(B846,List1!$A:$B,2,0),\"x\")","v":"x"},null,null,null,null,null,null,{"$f":"CONCATENATE(VLOOKUP(E846,[1]Seznamy!$Q$2:$R$36,2,0),VLOOKUP(F846,[1]Produkty!$I:$O,7,0),C846,D846)","v":{"$error":"#N/A"}},null,null,null,null,null,null,null,null,null,null,null,null,null,null,null,null,null,null,null,null,null,null,null,null,null,null,null,null,null,null,null,null,null,null,null,null,null,null,null,null,null,null,"'SK_2020-10'!$A:$H","$A:$H","1073SK44105","StrongBox H86/500mm bílý","TWD","badzik","2020-10-01","Martin Zniszczol",7.86,"x","x","x","x"]
[{"$error":"#N/A"},null,{"$f":"IFERROR(VLOOKUP(B847,List1!$A:$B,2,0),\"x\")","v":"x"},null,null,null,null,null,null,{"$f":"CONCATENATE(VLOOKUP(E847,[1]Seznamy!$Q$2:$R$36,2,0),VLOOKUP(F847,[1]Produkty!$I:$O,7,0),C847,D847)","v":{"$error":"#N/A"}},null,null,null,null,null,null,null,null,null,null,null,null,null,null,null,null,null,null,null,null,null,null,null,null,null,null,null,null,null,null,null,null,null,null,null,null,null,null,null,null,null,null,"'SK_2020-10'!$A:$H","$A:$H","1074SK44105","StrongMax 89/500 mm šedý (antracit)","TWD","badzik","2020-10-01","Martin Zniszczol",10.35,"x","x","x","x"]
[{"$error":"#N/A"},null,{"$f":"IFERROR(VLOOKUP(B848,List1!$A:$B,2,0),\"x\")","v":"x"},null,null,null,null,null,null,{"$f":"CONCATENATE(VLOOKUP(E848,[1]Seznamy!$Q$2:$R$36,2,0),VLOOKUP(F848,[1]Produkty!$I:$O,7,0),C848,D848)","v":{"$error":"#N/A"}},null,null,null,null,null,null,null,null,null,null,null,null,null,null,null,null,null,null,null,null,null,null,null,null,null,null,null,null,null,null,null,null,null,null,null,null,null,null,null,null,null,null,"'SK_2020-10'!$A:$H","$A:$H","1075SK44105","StrongRide synchro 3D celovýsuv 500 mm s tlumením","TWD","badzik","2020-10-01","Martin Zniszczol",5.84,"x","x","x","x"]
[{"$error":"#N/A"},null,{"$f":"IFERROR(VLOOKUP(B849,List1!$A:$B,2,0),\"x\")","v":"x"},null,null,null,null,null,null,{"$f":"CONCATENATE(VLOOKUP(E849,[1]Seznamy!$Q$2:$R$36,2,0),VLOOKUP(F849,[1]Produkty!$I:$O,7,0),C849,D849)","v":{"$error":"#N/A"}},null,null,null,null,null,null,null,null,null,null,null,null,null,null,null,null,null,null,null,null,null,null,null,null,null,null,null,null,null,null,null,null,null,null,null,null,null,null,null,null,null,null,"'SK_2020-10'!$A:$H","$A:$H","1077SK44105","STRONG Stolová noha centrální 450x450 černá","TWD","badzik","2020-10-01","Lukáš Sládek",34.751869999999997,"x","x","x","x"]
[{"$error":"#N/A"},null,{"$f":"IFERROR(VLOOKUP(B850,List1!$A:$B,2,0),\"x\")","v":"x"},null,null,null,null,null,null,{"$f":"CONCATENATE(VLOOKUP(E850,[1]Seznamy!$Q$2:$R$36,2,0),VLOOKUP(F850,[1]Produkty!$I:$O,7,0),C850,D850)","v":{"$error":"#N/A"}},null,null,null,null,null,null,null,null,null,null,null,null,null,null,null,null,null,null,null,null,null,null,null,null,null,null,null,null,null,null,null,null,null,null,null,null,null,null,null,null,null,null,"'SK_2020-10'!$A:$H","$A:$H","1078SK44105","STRONG Elektrická zásuvka 3x230V, francouzský typ, 265x130x68 mm stříbrná","TWD","badzik","2020-10-01","Lukáš Sládek",13.449540000000001,"x","x","x","x"]
[{"$error":"#N/A"},null,{"$f":"IFERROR(VLOOKUP(B851,List1!$A:$B,2,0),\"x\")","v":"x"},null,null,null,null,null,null,{"$f":"CONCATENATE(VLOOKUP(E851,[1]Seznamy!$Q$2:$R$36,2,0),VLOOKUP(F851,[1]Produkty!$I:$O,7,0),C851,D851)","v":{"$error":"#N/A"}},null,null,null,null,null,null,null,null,null,null,null,null,null,null,null,null,null,null,null,null,null,null,null,null,null,null,null,null,null,null,null,null,null,null,null,null,null,null,null,null,null,null,"'SK_2020-10'!$A:$H","$A:$H","1079SK44105","BBP OA Zásuvka 515 mm kovová černá","TWD","badzik","2020-10-01","Lukáš Sládek",4.8439500000000004,"x","x","x","x"]
[{"$error":"#N/A"},null,{"$f":"IFERROR(VLOOKUP(B852,List1!$A:$B,2,0),\"x\")","v":"x"},null,null,null,null,null,null,{"$f":"CONCATENATE(VLOOKUP(E852,[1]Seznamy!$Q$2:$R$36,2,0),VLOOKUP(F852,[1]Produkty!$I:$O,7,0),C852,D852)","v":{"$error":"#N/A"}},null,null,null,null,null,null,null,null,null,null,null,null,null,null,null,null,null,null,null,null,null,null,null,null,null,null,null,null,null,null,null,null,null,null,null,null,null,null,null,null,null,null,"'SK_2020-10'!$A:$H","$A:$H","10710SK44105","FRANKE Dřez ETN 614 6/4 obyčejný ventil bez otvoru","TWD","badzik","2020-10-01","Marcela Piechová",26.24,"x","x","x","x"]
[{"$error":"#N/A"},null,{"$f":"IFERROR(VLOOKUP(B853,List1!$A:$B,2,0),\"x\")","v":"x"},null,null,null,null,null,null,{"$f":"CONCATENATE(VLOOKUP(E853,[1]Seznamy!$Q$2:$R$36,2,0),VLOOKUP(F853,[1]Produkty!$I:$O,7,0),C853,D853)","v":{"$error":"#N/A"}},null,null,null,null,null,null,null,null,null,null,null,null,null,null,null,null,null,null,null,null,null,null,null,null,null,null,null,null,null,null,null,null,null,null,null,null,null,null,null,null,null,null,"'SK_2020-10'!$A:$H","$A:$H","10711SK44105","FRANKE Dřez BFG 611-78 780 x 500 onyx","TWD","badzik","2020-10-01","Marcela Piechová",106.13,"x","x","x","x"]
[{"$error":"#N/A"},null,{"$f":"IFERROR(VLOOKUP(B854,List1!$A:$B,2,0),\"x\")","v":"x"},null,null,null,null,null,null,{"$f":"CONCATENATE(VLOOKUP(E854,[1]Seznamy!$Q$2:$R$36,2,0),VLOOKUP(F854,[1]Produkty!$I:$O,7,0),C854,D854)","v":{"$error":"#N/A"}},null,null,null,null,null,null,null,null,null,null,null,null,null,null,null,null,null,null,null,null,null,null,null,null,null,null,null,null,null,null,null,null,null,null,null,null,null,null,null,null,null,null,"'SK_2020-10'!$A:$H","$A:$H","10712SK44105","GOLLINUCCI Sorter Sistema 901/2x16 l, 600 mm","TWD","badzik","2020-10-01","Marcela Piechová",16.93,"x","x","x","x"]
[{"$error":"#N/A"},null,{"$f":"IFERROR(VLOOKUP(B855,List1!$A:$B,2,0),\"x\")","v":"x"},null,null,null,null,null,null,{"$f":"CONCATENATE(VLOOKUP(E855,[1]Seznamy!$Q$2:$R$36,2,0),VLOOKUP(F855,[1]Produkty!$I:$O,7,0),C855,D855)","v":{"$error":"#N/A"}},null,null,null,null,null,null,null,null,null,null,null,null,null,null,null,null,null,null,null,null,null,null,null,null,null,null,null,null,null,null,null,null,null,null,null,null,null,null,null,null,null,null,"'SK_2020-10'!$A:$H","$A:$H","10713SK44105","GOLLINUCCI Sorter 580 Plus Line, 600 mm, výška 505mm, 80 l, šedý","TWD","badzik","2020-10-01","Marcela Piechová",74.02,"x","x","x","x"]
[{"$error":"#N/A"},null,{"$f":"IFERROR(VLOOKUP(B856,List1!$A:$B,2,0),\"x\")","v":"x"},null,null,null,null,null,null,{"$f":"CONCATENATE(VLOOKUP(E856,[1]Seznamy!$Q$2:$R$36,2,0),VLOOKUP(F856,[1]Produkty!$I:$O,7,0),C856,D856)","v":{"$error":"#N/A"}},null,null,null,null,null,null,null,null,null,null,null,null,null,null,null,null,null,null,null,null,null,null,null,null,null,null,null,null,null,null,null,null,null,null,null,null,null,null,null,null,null,null,"'SK_2020-10'!$A:$H","$A:$H","10714SK44105","FRANKE Dřez ETN 610 455 x 435","TWD","badzik","2020-10-01","Marcela Piechová",26.13,"x","x","x","x"]
[{"$error":"#N/A"},null,{"$f":"IFERROR(VLOOKUP(B857,List1!$A:$B,2,0),\"x\")","v":"x"},null,null,null,null,null,null,{"$f":"CONCATENATE(VLOOKUP(E857,[1]Seznamy!$Q$2:$R$36,2,0),VLOOKUP(F857,[1]Produkty!$I:$O,7,0),C857,D857)","v":{"$error":"#N/A"}},null,null,null,null,null,null,null,null,null,null,null,null,null,null,null,null,null,null,null,null,null,null,null,null,null,null,null,null,null,null,null,null,null,null,null,null,null,null,null,null,null,null,"'SK_2020-10'!$A:$H","$A:$H","10715SK44105","GOLLINUCCI Sorter Linea 222, 300 mm","TWD","badzik","2020-10-01","Marcela Piechová",27.33,"x","x","x","x"]
[{"$error":"#N/A"},null,{"$f":"IFERROR(VLOOKUP(B858,List1!$A:$B,2,0),\"x\")","v":"x"},null,null,null,null,null,null,{"$f":"CONCATENATE(VLOOKUP(E858,[1]Seznamy!$Q$2:$R$36,2,0),VLOOKUP(F858,[1]Produkty!$I:$O,7,0),C858,D858)","v":{"$error":"#N/A"}},null,null,null,null,null,null,null,null,null,null,null,null,null,null,null,null,null,null,null,null,null,null,null,null,null,null,null,null,null,null,null,null,null,null,null,null,null,null,null,null,null,null,"'SK_2020-10'!$A:$H","$A:$H","10716SK44105","TULIP úchytka Nakana 128 chrom matný + šroubky","TWD","badzik","2020-10-01","Lenka Kormaník",0.85141,"x","x","x","x"]
[{"$error":"#N/A"},null,{"$f":"IFERROR(VLOOKUP(B859,List1!$A:$B,2,0),\"x\")","v":"x"},null,null,null,null,null,null,{"$f":"CONCATENATE(VLOOKUP(E859,[1]Seznamy!$Q$2:$R$36,2,0),VLOOKUP(F859,[1]Produkty!$I:$O,7,0),C859,D859)","v":{"$error":"#N/A"}},null,null,null,null,null,null,null,null,null,null,null,null,null,null,null,null,null,null,null,null,null,null,null,null,null,null,null,null,null,null,null,null,null,null,null,null,null,null,null,null,null,null,"'SK_2020-10'!$A:$H","$A:$H","10717SK44105","TULIP úchytka Piombina 96 nikl matný + šroubky","TWD","badzik","2020-10-01","Lenka Kormaník",0.46717999999999998,"x","x","x","x"]
[{"$error":"#N/A"},null,{"$f":"IFERROR(VLOOKUP(B860,List1!$A:$B,2,0),\"x\")","v":"x"},null,null,null,null,null,null,{"$f":"CONCATENATE(VLOOKUP(E860,[1]Seznamy!$Q$2:$R$36,2,0),VLOOKUP(F860,[1]Produkty!$I:$O,7,0),C860,D860)","v":{"$error":"#N/A"}},null,null,null,null,null,null,null,null,null,null,null,null,null,null,null,null,null,null,null,null,null,null,null,null,null,null,null,null,null,null,null,null,null,null,null,null,null,null,null,null,null,null,"'SK_2020-10'!$A:$H","$A:$H","10719SK44105","TULIP věšák Lugo XL chrom matný + šroubky","TWD","badzik","2020-10-01","Lenka Kormaník",0.80127000000000004,"x","x","x","x"]
[{"$error":"#N/A"},null,{"$f":"IFERROR(VLOOKUP(B861,List1!$A:$B,2,0),\"x\")","v":"x"},null,null,null,null,null,null,{"$f":"CONCATENATE(VLOOKUP(E861,[1]Seznamy!$Q$2:$R$36,2,0),VLOOKUP(F861,[1]Produkty!$I:$O,7,0),C861,D861)","v":{"$error":"#N/A"}},null,null,null,null,null,null,null,null,null,null,null,null,null,null,null,null,null,null,null,null,null,null,null,null,null,null,null,null,null,null,null,null,null,null,null,null,null,null,null,null,null,null,"'SK_2020-10'!$A:$H","$A:$H","10720SK44105","TULIP Úchytka Ramara 596 imitace nerezi","TWD","badzik","2020-10-01","Lenka Kormaník",3.7006299999999999,"x","x","x","x"]
[{"$error":"#N/A"},null,{"$f":"IFERROR(VLOOKUP(B862,List1!$A:$B,2,0),\"x\")","v":"x"},null,null,null,null,null,null,{"$f":"CONCATENATE(VLOOKUP(E862,[1]Seznamy!$Q$2:$R$36,2,0),VLOOKUP(F862,[1]Produkty!$I:$O,7,0),C862,D862)","v":{"$error":"#N/A"}},null,null,null,null,null,null,null,null,null,null,null,null,null,null,null,null,null,null,null,null,null,null,null,null,null,null,null,null,null,null,null,null,null,null,null,null,null,null,null,null,null,null,"'SK_2020-10'!$A:$H","$A:$H","10721SK44105","TULIP Úchytka Lucata 160 černá matná","TWD","badzik","2020-10-01","Lenka Kormaník",0.84014,"x","x","x","x"]
[{"$error":"#N/A"},null,{"$f":"IFERROR(VLOOKUP(B863,List1!$A:$B,2,0),\"x\")","v":"x"},null,null,null,null,null,null,{"$f":"CONCATENATE(VLOOKUP(E863,[1]Seznamy!$Q$2:$R$36,2,0),VLOOKUP(F863,[1]Produkty!$I:$O,7,0),C863,D863)","v":{"$error":"#N/A"}},null,null,null,null,null,null,null,null,null,null,null,null,null,null,null,null,null,null,null,null,null,null,null,null,null,null,null,null,null,null,null,null,null,null,null,null,null,null,null,null,null,null,"'SK_2020-10'!$A:$H","$A:$H","10722SK44105","STRONG LED pásek 21,6W/m 24V bílá neutrální 210 LED/m","TWD","badzik","2020-10-01","Stančo Denčev",3.3847,"x","x","x","x"]
[{"$error":"#N/A"},null,{"$f":"IFERROR(VLOOKUP(B864,List1!$A:$B,2,0),\"x\")","v":"x"},null,null,null,null,null,null,{"$f":"CONCATENATE(VLOOKUP(E864,[1]Seznamy!$Q$2:$R$36,2,0),VLOOKUP(F864,[1]Produkty!$I:$O,7,0),C864,D864)","v":{"$error":"#N/A"}},null,null,null,null,null,null,null,null,null,null,null,null,null,null,null,null,null,null,null,null,null,null,null,null,null,null,null,null,null,null,null,null,null,null,null,null,null,null,null,null,null,null,"'SK_2020-10'!$A:$H","$A:$H","10723SK44105","STRONG transformátor plochý LED 24V 100W","TWD","badzik","2020-10-01","Stančo Denčev",16.410900000000002,"x","x","x","x"]
[{"$error":"#N/A"},null,{"$f":"IFERROR(VLOOKUP(B865,List1!$A:$B,2,0),\"x\")","v":"x"},null,null,null,null,null,null,{"$f":"CONCATENATE(VLOOKUP(E865,[1]Seznamy!$Q$2:$R$36,2,0),VLOOKUP(F865,[1]Produkty!$I:$O,7,0),C865,D865)","v":{"$error":"#N/A"}},null,null,null,null,null,null,null,null,null,null,null,null,null,null,null,null,null,null,null,null,null,null,null,null,null,null,null,null,null,null,null,null,null,null,null,null,null,null,null,null,null,null,"'SK_2020-10'!$A:$H","$A:$H","10724SK44105","Vrut PZ 4x18 zápustná hlava zinek bílý PZ2","TWD","badzik","2020-10-01","Stančo Denčev",2.1299999999999999E-3,"x","x","x","x"]
[{"$error":"#N/A"},null,{"$f":"IFERROR(VLOOKUP(B866,List1!$A:$B,2,0),\"x\")","v":"x"},null,null,null,null,null,null,{"$f":"CONCATENATE(VLOOKUP(E866,[1]Seznamy!$Q$2:$R$36,2,0),VLOOKUP(F866,[1]Produkty!$I:$O,7,0),C866,D866)","v":{"$error":"#N/A"}},null,null,null,null,null,null,null,null,null,null,null,null,null,null,null,null,null,null,null,null,null,null,null,null,null,null,null,null,null,null,null,null,null,null,null,null,null,null,null,null,null,null,"'SK_2020-10'!$A:$H","$A:$H","10732SK44105","Alfa II profile 222788","TWD","badzik","2020-10-01","NULL",4.3739999999999997,"x","x","x","x"]
[{"$error":"#N/A"},null,{"$f":"IFERROR(VLOOKUP(B867,List1!$A:$B,2,0),\"x\")","v":"x"},null,null,null,null,null,null,{"$f":"CONCATENATE(VLOOKUP(E867,[1]Seznamy!$Q$2:$R$36,2,0),VLOOKUP(F867,[1]Produkty!$I:$O,7,0),C867,D867)","v":{"$error":"#N/A"}},null,null,null,null,null,null,null,null,null,null,null,null,null,null,null,null,null,null,null,null,null,null,null,null,null,null,null,null,null,null,null,null,null,null,null,null,null,null,null,null,null,null,"'SK_2020-10'!$A:$H","$A:$H","10733SK44105","SEVROLL Era úchytová lišta 18mm 2,70m stříbrná","TWD","badzik","2020-10-01","NULL",0.01,"x","x","x","x"]
[{"$error":"#N/A"},null,{"$f":"IFERROR(VLOOKUP(B868,List1!$A:$B,2,0),\"x\")","v":"x"},null,null,null,null,null,null,{"$f":"CONCATENATE(VLOOKUP(E868,[1]Seznamy!$Q$2:$R$36,2,0),VLOOKUP(F868,[1]Produkty!$I:$O,7,0),C868,D868)","v":{"$error":"#N/A"}},null,null,null,null,null,null,null,null,null,null,null,null,null,null,null,null,null,null,null,null,null,null,null,null,null,null,null,null,null,null,null,null,null,null,null,null,null,null,null,null,null,null,"'SK_2020-10'!$A:$H","$A:$H","10734SK44105","Strong electric socket, lift","TWD","badzik","2020-10-01","NULL",14.40442,"x","x","x","x"]
[{"$error":"#N/A"},null,{"$f":"IFERROR(VLOOKUP(B869,List1!$A:$B,2,0),\"x\")","v":"x"},null,null,null,null,null,null,{"$f":"CONCATENATE(VLOOKUP(E869,[1]Seznamy!$Q$2:$R$36,2,0),VLOOKUP(F869,[1]Produkty!$I:$O,7,0),C869,D869)","v":{"$error":"#N/A"}},null,null,null,null,null,null,null,null,null,null,null,null,null,null,null,null,null,null,null,null,null,null,null,null,null,null,null,null,null,null,null,null,null,null,null,null,null,null,null,null,null,null,"'SK_2020-10'!$A:$H","$A:$H","10735SK44105","STRONG Elektricky stavitelná podnož černá RAL 9005 mat","TWD","badzik","2020-10-01","NULL",126.18097,"x","x","x","x"]
[{"$error":"#N/A"},null,{"$f":"IFERROR(VLOOKUP(B870,List1!$A:$B,2,0),\"x\")","v":"x"},null,null,null,null,null,null,{"$f":"CONCATENATE(VLOOKUP(E870,[1]Seznamy!$Q$2:$R$36,2,0),VLOOKUP(F870,[1]Produkty!$I:$O,7,0),C870,D870)","v":{"$error":"#N/A"}},null,null,null,null,null,null,null,null,null,null,null,null,null,null,null,null,null,null,null,null,null,null,null,null,null,null,null,null,null,null,null,null,null,null,null,null,null,null,null,null,null,null,"'SK_2020-10'!$A:$H","$A:$H","10736SK44105","TULIP Gola dvířkový J profil 4,1m eloxovaný hliník","TWD","badzik","2020-10-01","NULL",0.01,"x","x","x","x"]
[{"$error":"#N/A"},null,{"$f":"IFERROR(VLOOKUP(B871,List1!$A:$B,2,0),\"x\")","v":"x"},null,null,null,null,null,null,{"$f":"CONCATENATE(VLOOKUP(E871,[1]Seznamy!$Q$2:$R$36,2,0),VLOOKUP(F871,[1]Produkty!$I:$O,7,0),C871,D871)","v":{"$error":"#N/A"}},null,null,null,null,null,null,null,null,null,null,null,null,null,null,null,null,null,null,null,null,null,null,null,null,null,null,null,null,null,null,null,null,null,null,null,null,null,null,null,null,null,null,"'HU_2020-10'!$A:$H","$A:$H","13532HU44105","Alfa II profile 222788","Bors és Horváth","keves","2020-10-01","NULL",4.4872215449599997,"na","na","x","x"]
[{"$error":"#N/A"},null,{"$f":"IFERROR(VLOOKUP(B872,List1!$A:$B,2,0),\"x\")","v":"x"},null,null,null,null,null,null,{"$f":"CONCATENATE(VLOOKUP(E872,[1]Seznamy!$Q$2:$R$36,2,0),VLOOKUP(F872,[1]Produkty!$I:$O,7,0),C872,D872)","v":{"$error":"#N/A"}},null,null,null,null,null,null,null,null,null,null,null,null,null,null,null,null,null,null,null,null,null,null,null,null,null,null,null,null,null,null,null,null,null,null,null,null,null,null,null,null,null,null,"'HU_2020-10'!$A:$H","$A:$H","13535HU44105","STRONG Elektricky stavitelná podnož černá RAL 9005 mat","Bors és Horváth","keves","2020-10-01","NULL",129.44718006528001,"na","na","x","x"]
[{"$error":"#N/A"},null,{"$f":"IFERROR(VLOOKUP(B873,List1!$A:$B,2,0),\"x\")","v":"x"},null,null,null,null,null,null,{"$f":"CONCATENATE(VLOOKUP(E873,[1]Seznamy!$Q$2:$R$36,2,0),VLOOKUP(F873,[1]Produkty!$I:$O,7,0),C873,D873)","v":{"$error":"#N/A"}},null,null,null,null,null,null,null,null,null,null,null,null,null,null,null,null,null,null,null,null,null,null,null,null,null,null,null,null,null,null,null,null,null,null,null,null,null,null,null,null,null,null,"'HU_2020-10'!$A:$H","$A:$H","13211HU44105","FRANKE Dřez BFG 611-78 780 x 500 onyx","Bútorvonal","keves","2020-10-01","Marcela Piechová",98.622796800000003,"na","na","x","x"]
[{"$error":"#N/A"},null,{"$f":"IFERROR(VLOOKUP(B874,List1!$A:$B,2,0),\"x\")","v":"x"},null,null,null,null,null,null,{"$f":"CONCATENATE(VLOOKUP(E874,[1]Seznamy!$Q$2:$R$36,2,0),VLOOKUP(F874,[1]Produkty!$I:$O,7,0),C874,D874)","v":{"$error":"#N/A"}},null,null,null,null,null,null,null,null,null,null,null,null,null,null,null,null,null,null,null,null,null,null,null,null,null,null,null,null,null,null,null,null,null,null,null,null,null,null,null,null,null,null,"'HU_2020-10'!$A:$H","$A:$H","13232HU44105","Alfa II profile 222788","Bútorvonal","keves","2020-10-01","NULL",4.4872215449599997,"na","na","x","x"]
[{"$error":"#N/A"},null,{"$f":"IFERROR(VLOOKUP(B875,List1!$A:$B,2,0),\"x\")","v":"x"},null,null,null,null,null,null,{"$f":"CONCATENATE(VLOOKUP(E875,[1]Seznamy!$Q$2:$R$36,2,0),VLOOKUP(F875,[1]Produkty!$I:$O,7,0),C875,D875)","v":{"$error":"#N/A"}},null,null,null,null,null,null,null,null,null,null,null,null,null,null,null,null,null,null,null,null,null,null,null,null,null,null,null,null,null,null,null,null,null,null,null,null,null,null,null,null,null,null,"'HU_2020-10'!$A:$H","$A:$H","13233HU44105","SEVROLL Era úchytová lišta 18mm 2,70m stříbrná","Bútorvonal","keves","2020-10-01","NULL",2.8160000000000001E-5,"na","na","x","x"]
[{"$error":"#N/A"},null,{"$f":"IFERROR(VLOOKUP(B876,List1!$A:$B,2,0),\"x\")","v":"x"},null,null,null,null,null,null,{"$f":"CONCATENATE(VLOOKUP(E876,[1]Seznamy!$Q$2:$R$36,2,0),VLOOKUP(F876,[1]Produkty!$I:$O,7,0),C876,D876)","v":{"$error":"#N/A"}},null,null,null,null,null,null,null,null,null,null,null,null,null,null,null,null,null,null,null,null,null,null,null,null,null,null,null,null,null,null,null,null,null,null,null,null,null,null,null,null,null,null,"'HU_2020-10'!$A:$H","$A:$H","13234HU44105","Strong electric socket, lift","Bútorvonal","keves","2020-10-01","NULL",11.736545835519999,"na",6017,"x",16.943871999999999]
[{"$error":"#N/A"},null,{"$f":"IFERROR(VLOOKUP(B877,List1!$A:$B,2,0),\"x\")","v":"x"},null,null,null,null,null,null,{"$f":"CONCATENATE(VLOOKUP(E877,[1]Seznamy!$Q$2:$R$36,2,0),VLOOKUP(F877,[1]Produkty!$I:$O,7,0),C877,D877)","v":{"$error":"#N/A"}},null,null,null,null,null,null,null,null,null,null,null,null,null,null,null,null,null,null,null,null,null,null,null,null,null,null,null,null,null,null,null,null,null,null,null,null,null,null,null,null,null,null,"'HU_2020-10'!$A:$H","$A:$H","13235HU44105","STRONG Elektricky stavitelná podnož černá RAL 9005 mat","Bútorvonal","keves","2020-10-01","NULL",129.44718006528001,"na","na","x","x"]
[{"$error":"#N/A"},null,{"$f":"IFERROR(VLOOKUP(B878,List1!$A:$B,2,0),\"x\")","v":"x"},null,null,null,null,null,null,{"$f":"CONCATENATE(VLOOKUP(E878,[1]Seznamy!$Q$2:$R$36,2,0),VLOOKUP(F878,[1]Produkty!$I:$O,7,0),C878,D878)","v":{"$error":"#N/A"}},null,null,null,null,null,null,null,null,null,null,null,null,null,null,null,null,null,null,null,null,null,null,null,null,null,null,null,null,null,null,null,null,null,null,null,null,null,null,null,null,null,null,"'HU_2020-10'!$A:$H","$A:$H","13236HU44105","TULIP Gola dvířkový J profil 4,1m eloxovaný hliník","Bútorvonal","keves","2020-10-01","NULL",2.8160000000000001E-5,"na","na","x","x"]
[{"$error":"#N/A"},null,{"$f":"IFERROR(VLOOKUP(B879,List1!$A:$B,2,0),\"x\")","v":"x"},null,null,null,null,null,null,{"$f":"CONCATENATE(VLOOKUP(E879,[1]Seznamy!$Q$2:$R$36,2,0),VLOOKUP(F879,[1]Produkty!$I:$O,7,0),C879,D879)","v":{"$error":"#N/A"}},null,null,null,null,null,null,null,null,null,null,null,null,null,null,null,null,null,null,null,null,null,null,null,null,null,null,null,null,null,null,null,null,null,null,null,null,null,null,null,null,null,null,"'HU_2020-10'!$A:$H","$A:$H","1334HU44105","StrongMax 89/500 mm šedý (antracit)","Homoki-Zár","keves","2020-10-01","Martin Zniszczol",9.5790182399999999,"na","na","x","x"]
[{"$error":"#N/A"},null,{"$f":"IFERROR(VLOOKUP(B880,List1!$A:$B,2,0),\"x\")","v":"x"},null,null,null,null,null,null,{"$f":"CONCATENATE(VLOOKUP(E880,[1]Seznamy!$Q$2:$R$36,2,0),VLOOKUP(F880,[1]Produkty!$I:$O,7,0),C880,D880)","v":{"$error":"#N/A"}},null,null,null,null,null,null,null,null,null,null,null,null,null,null,null,null,null,null,null,null,null,null,null,null,null,null,null,null,null,null,null,null,null,null,null,null,null,null,null,null,null,null,"'HU_2020-10'!$A:$H","$A:$H","13335HU44105","STRONG Elektricky stavitelná podnož černá RAL 9005 mat","Homoki-Zár","keves","2020-10-01","NULL",129.44718006528001,"na","na","x","x"]
[{"$error":"#N/A"},null,{"$f":"IFERROR(VLOOKUP(B881,List1!$A:$B,2,0),\"x\")","v":"x"},null,null,null,null,null,null,{"$f":"CONCATENATE(VLOOKUP(E881,[1]Seznamy!$Q$2:$R$36,2,0),VLOOKUP(F881,[1]Produkty!$I:$O,7,0),C881,D881)","v":{"$error":"#N/A"}},null,null,null,null,null,null,null,null,null,null,null,null,null,null,null,null,null,null,null,null,null,null,null,null,null,null,null,null,null,null,null,null,null,null,null,null,null,null,null,null,null,null,"'HU_2020-10'!$A:$H","$A:$H","13134HU44105","Strong electric socket, lift","Kamex-Laguna","keves","2020-10-01","NULL",11.736545835519999,"na","na","x","x"]
[{"$error":"#N/A"},null,{"$f":"IFERROR(VLOOKUP(B882,List1!$A:$B,2,0),\"x\")","v":"x"},null,null,null,null,null,null,{"$f":"CONCATENATE(VLOOKUP(E882,[1]Seznamy!$Q$2:$R$36,2,0),VLOOKUP(F882,[1]Produkty!$I:$O,7,0),C882,D882)","v":{"$error":"#N/A"}},null,null,null,null,null,null,null,null,null,null,null,null,null,null,null,null,null,null,null,null,null,null,null,null,null,null,null,null,null,null,null,null,null,null,null,null,null,null,null,null,null,null,"'HU_2020-10'!$A:$H","$A:$H","13135HU44105","STRONG Elektricky stavitelná podnož černá RAL 9005 mat","Kamex-Laguna","keves","2020-10-01","NULL",129.44718006528001,"na","na","x","x"]
[{"$error":"#N/A"},null,{"$f":"IFERROR(VLOOKUP(B883,List1!$A:$B,2,0),\"x\")","v":"x"},null,null,null,null,null,null,{"$f":"CONCATENATE(VLOOKUP(E883,[1]Seznamy!$Q$2:$R$36,2,0),VLOOKUP(F883,[1]Produkty!$I:$O,7,0),C883,D883)","v":{"$error":"#N/A"}},null,null,null,null,null,null,null,null,null,null,null,null,null,null,null,null,null,null,null,null,null,null,null,null,null,null,null,null,null,null,null,null,null,null,null,null,null,null,null,null,null,null,"'HU_2020-10'!$A:$H","$A:$H","13136HU44105","TULIP Gola dvířkový J profil 4,1m eloxovaný hliník","Kamex-Laguna","keves","2020-10-01","NULL",2.8160000000000001E-5,"na","na","x","x"]
[{"$error":"#N/A"},null,{"$f":"IFERROR(VLOOKUP(B884,List1!$A:$B,2,0),\"x\")","v":"x"},null,null,null,null,null,null,{"$f":"CONCATENATE(VLOOKUP(E884,[1]Seznamy!$Q$2:$R$36,2,0),VLOOKUP(F884,[1]Produkty!$I:$O,7,0),C884,D884)","v":{"$error":"#N/A"}},null,null,null,null,null,null,null,null,null,null,null,null,null,null,null,null,null,null,null,null,null,null,null,null,null,null,null,null,null,null,null,null,null,null,null,null,null,null,null,null,null,null,"'HU_2020-10'!$A:$H","$A:$H","10335HU44105","STRONG Elektricky stavitelná podnož černá RAL 9005 mat","Lunit","keves","2020-10-01","NULL",129.44718006528001,"na","na","x","x"]
[{"$error":"#N/A"},null,{"$f":"IFERROR(VLOOKUP(B885,List1!$A:$B,2,0),\"x\")","v":"x"},null,null,null,null,null,null,{"$f":"CONCATENATE(VLOOKUP(E885,[1]Seznamy!$Q$2:$R$36,2,0),VLOOKUP(F885,[1]Produkty!$I:$O,7,0),C885,D885)","v":{"$error":"#N/A"}},null,null,null,null,null,null,null,null,null,null,null,null,null,null,null,null,null,null,null,null,null,null,null,null,null,null,null,null,null,null,null,null,null,null,null,null,null,null,null,null,null,null,"'HU_2020-10'!$A:$H","$A:$H","10832HU44105","Alfa II profile 222788","Schachermayer","keves","2020-10-01","NULL",4.4872215449599997,"na","na","x","x"]
[{"$error":"#N/A"},null,{"$f":"IFERROR(VLOOKUP(B886,List1!$A:$B,2,0),\"x\")","v":"x"},null,null,null,null,null,null,{"$f":"CONCATENATE(VLOOKUP(E886,[1]Seznamy!$Q$2:$R$36,2,0),VLOOKUP(F886,[1]Produkty!$I:$O,7,0),C886,D886)","v":{"$error":"#N/A"}},null,null,null,null,null,null,null,null,null,null,null,null,null,null,null,null,null,null,null,null,null,null,null,null,null,null,null,null,null,null,null,null,null,null,null,null,null,null,null,null,null,null,"'HU_2020-10'!$A:$H","$A:$H","10835HU44105","STRONG Elektricky stavitelná podnož černá RAL 9005 mat","Schachermayer","keves","2020-10-01","NULL",129.44718006528001]
[{"$error":"#N/A"},null,{"$f":"IFERROR(VLOOKUP(B887,List1!$A:$B,2,0),\"x\")","v":"x"},null,null,null,null,null,null,{"$f":"CONCATENATE(VLOOKUP(E887,[1]Seznamy!$Q$2:$R$36,2,0),VLOOKUP(F887,[1]Produkty!$I:$O,7,0),C887,D887)","v":{"$error":"#N/A"}},null,null,null,null,null,null,null,null,null,null,null,null,null,null,null,null,null,null,null,null,null,null,null,null,null,null,null,null,null,null,null,null,null,null,null,null,null,null,null,null,null,null,"'HU_2020-10'!$A:$H","$A:$H","10822HU44105","STRONG LED pásek 21,6W/m 24V bílá neutrální 210 LED/m","Schachermayer","keves","2020-10-01","Stančo Denčev",3.31660032]
[{"$error":"#N/A"},null,{"$f":"IFERROR(VLOOKUP(B888,List1!$A:$B,2,0),\"x\")","v":"x"},null,null,null,null,null,null,{"$f":"CONCATENATE(VLOOKUP(E888,[1]Seznamy!$Q$2:$R$36,2,0),VLOOKUP(F888,[1]Produkty!$I:$O,7,0),C888,D888)","v":{"$error":"#N/A"}},null,null,null,null,null,null,null,null,null,null,null,null,null,null,null,null,null,null,null,null,null,null,null,null,null,null,null,null,null,null,null,null,null,null,null,null,null,null,null,null,null,null,"'HU_2020-10'!$A:$H","$A:$H","10111HU44105","FRANKE Dřez BFG 611-78 780 x 500 onyx","_Demos","keves","2020-10-01","Marcela Piechová",98.622796800000003]
[{"$error":"#N/A"},null,{"$f":"IFERROR(VLOOKUP(B889,List1!$A:$B,2,0),\"x\")","v":"x"},null,null,null,null,null,null,{"$f":"CONCATENATE(VLOOKUP(E889,[1]Seznamy!$Q$2:$R$36,2,0),VLOOKUP(F889,[1]Produkty!$I:$O,7,0),C889,D889)","v":{"$error":"#N/A"}},null,null,null,null,null,null,null,null,null,null,null,null,null,null,null,null,null,null,null,null,null,null,null,null,null,null,null,null,null,null,null,null,null,null,null,null,null,null,null,null,null,null,"'HU_2020-10'!$A:$H","$A:$H","10813HU44105","GOLLINUCCI Sorter 580 Plus Line, 600 mm, výška 505mm, 80 l, šedý","Schachermayer","keves","2020-10-01","Marcela Piechová",72.310374400000001]
[{"$error":"#N/A"},null,{"$f":"IFERROR(VLOOKUP(B890,List1!$A:$B,2,0),\"x\")","v":"x"},null,null,null,null,null,null,{"$f":"CONCATENATE(VLOOKUP(E890,[1]Seznamy!$Q$2:$R$36,2,0),VLOOKUP(F890,[1]Produkty!$I:$O,7,0),C890,D890)","v":{"$error":"#N/A"}},null,null,null,null,null,null,null,null,null,null,null,null,null,null,null,null,null,null,null,null,null,null,null,null,null,null,null,null,null,null,null,null,null,null,null,null,null,null,null,null,null,null,"'HU_2020-10'!$A:$H","$A:$H","1087HU44105","STRONG Stolová noha centrální 450x450 černá","Schachermayer","keves","2020-10-01","Lukáš Sládek",33.755219013119998]
[{"$error":"#N/A"},null,{"$f":"IFERROR(VLOOKUP(B891,List1!$A:$B,2,0),\"x\")","v":"x"},null,null,null,null,null,null,{"$f":"CONCATENATE(VLOOKUP(E891,[1]Seznamy!$Q$2:$R$36,2,0),VLOOKUP(F891,[1]Produkty!$I:$O,7,0),C891,D891)","v":{"$error":"#N/A"}},null,null,null,null,null,null,null,null,null,null,null,null,null,null,null,null,null,null,null,null,null,null,null,null,null,null,null,null,null,null,null,null,null,null,null,null,null,null,null,null,null,null,"'HU_2020-10'!$A:$H","$A:$H","10113HU44105","GOLLINUCCI Sorter 580 Plus Line, 600 mm, výška 505mm, 80 l, šedý","_Demos","keves","2020-10-01","Marcela Piechová",72.310374400000001]
[{"$error":"#N/A"},null,{"$f":"IFERROR(VLOOKUP(B892,List1!$A:$B,2,0),\"x\")","v":"x"},null,null,null,null,null,null,{"$f":"CONCATENATE(VLOOKUP(E892,[1]Seznamy!$Q$2:$R$36,2,0),VLOOKUP(F892,[1]Produkty!$I:$O,7,0),C892,D892)","v":{"$error":"#N/A"}},null,null,null,null,null,null,null,null,null,null,null,null,null,null,null,null,null,null,null,null,null,null,null,null,null,null,null,null,null,null,null,null,null,null,null,null,null,null,null,null,null,null,"'HU_2020-10'!$A:$H","$A:$H","10311HU44105","FRANKE Dřez BFG 611-78 780 x 500 onyx","Lunit","keves","2020-10-01","Marcela Piechová",98.622796800000003]
[{"$error":"#N/A"},null,{"$f":"IFERROR(VLOOKUP(B893,List1!$A:$B,2,0),\"x\")","v":"x"},null,null,null,null,null,null,{"$f":"CONCATENATE(VLOOKUP(E893,[1]Seznamy!$Q$2:$R$36,2,0),VLOOKUP(F893,[1]Produkty!$I:$O,7,0),C893,D893)","v":{"$error":"#N/A"}},null,null,null,null,null,null,null,null,null,null,null,null,null,null,null,null,null,null,null,null,null,null,null,null,null,null,null,null,null,null,null,null,null,null,null,null,null,null,null,null,null,null,"'HU_2020-10'!$A:$H","$A:$H","13511HU44105","FRANKE Dřez BFG 611-78 780 x 500 onyx","Bors és Horváth","keves","2020-10-01","Marcela Piechová",98.622796800000003]
[{"$error":"#N/A"},null,{"$f":"IFERROR(VLOOKUP(B894,List1!$A:$B,2,0),\"x\")","v":"x"},null,null,null,null,null,null,{"$f":"CONCATENATE(VLOOKUP(E894,[1]Seznamy!$Q$2:$R$36,2,0),VLOOKUP(F894,[1]Produkty!$I:$O,7,0),C894,D894)","v":{"$error":"#N/A"}},null,null,null,null,null,null,null,null,null,null,null,null,null,null,null,null,null,null,null,null,null,null,null,null,null,null,null,null,null,null,null,null,null,null,null,null,null,null,null,null,null,null,"'HU_2020-10'!$A:$H","$A:$H","13213HU44105","GOLLINUCCI Sorter 580 Plus Line, 600 mm, výška 505mm, 80 l, šedý","Bútorvonal","keves","2020-10-01","Marcela Piechová",72.310374400000001]
[{"$error":"#N/A"},null,{"$f":"IFERROR(VLOOKUP(B895,List1!$A:$B,2,0),\"x\")","v":"x"},null,null,null,null,null,null,{"$f":"CONCATENATE(VLOOKUP(E895,[1]Seznamy!$Q$2:$R$36,2,0),VLOOKUP(F895,[1]Produkty!$I:$O,7,0),C895,D895)","v":{"$error":"#N/A"}},null,null,null,null,null,null,null,null,null,null,null,null,null,null,null,null,null,null,null,null,null,null,null,null,null,null,null,null,null,null,null,null,null,null,null,null,null,null,null,null,null,null,"'HU_2020-10'!$A:$H","$A:$H","1328HU44105","STRONG Elektrická zásuvka 3x230V, francouzský typ, 265x130x68 mm stříbrná","Bútorvonal","keves","2020-10-01","Lukáš Sládek",13.197135959039999]
[{"$error":"#N/A"},null,{"$f":"IFERROR(VLOOKUP(B896,List1!$A:$B,2,0),\"x\")","v":"x"},null,null,null,null,null,null,{"$f":"CONCATENATE(VLOOKUP(E896,[1]Seznamy!$Q$2:$R$36,2,0),VLOOKUP(F896,[1]Produkty!$I:$O,7,0),C896,D896)","v":{"$error":"#N/A"}},null,null,null,null,null,null,null,null,null,null,null,null,null,null,null,null,null,null,null,null,null,null,null,null,null,null,null,null,null,null,null,null,null,null,null,null,null,null,null,null,null,null,"'HU_2020-10'!$A:$H","$A:$H","10313HU44105","GOLLINUCCI Sorter 580 Plus Line, 600 mm, výška 505mm, 80 l, šedý","Lunit","keves","2020-10-01","Marcela Piechová",72.310374400000001]
[{"$error":"#N/A"},null,{"$f":"IFERROR(VLOOKUP(B897,List1!$A:$B,2,0),\"x\")","v":"x"},null,null,null,null,null,null,{"$f":"CONCATENATE(VLOOKUP(E897,[1]Seznamy!$Q$2:$R$36,2,0),VLOOKUP(F897,[1]Produkty!$I:$O,7,0),C897,D897)","v":{"$error":"#N/A"}},null,null,null,null,null,null,null,null,null,null,null,null,null,null,null,null,null,null,null,null,null,null,null,null,null,null,null,null,null,null,null,null,null,null,null,null,null,null,null,null,null,null,"'HU_2020-10'!$A:$H","$A:$H","10834HU44105","Strong electric socket, lift","Schachermayer","keves","2020-10-01","NULL",11.736545835519999]
[{"$error":"#N/A"},null,{"$f":"IFERROR(VLOOKUP(B898,List1!$A:$B,2,0),\"x\")","v":"x"},null,null,null,null,null,null,{"$f":"CONCATENATE(VLOOKUP(E898,[1]Seznamy!$Q$2:$R$36,2,0),VLOOKUP(F898,[1]Produkty!$I:$O,7,0),C898,D898)","v":{"$error":"#N/A"}},null,null,null,null,null,null,null,null,null,null,null,null,null,null,null,null,null,null,null,null,null,null,null,null,null,null,null,null,null,null,null,null,null,null,null,null,null,null,null,null,null,null,"'HU_2020-10'!$A:$H","$A:$H","1037HU44105","STRONG Stolová noha centrální 450x450 černá","Lunit","keves","2020-10-01","Lukáš Sládek",33.755219013119998]
[{"$error":"#N/A"},null,{"$f":"IFERROR(VLOOKUP(B899,List1!$A:$B,2,0),\"x\")","v":"x"},null,null,null,null,null,null,{"$f":"CONCATENATE(VLOOKUP(E899,[1]Seznamy!$Q$2:$R$36,2,0),VLOOKUP(F899,[1]Produkty!$I:$O,7,0),C899,D899)","v":{"$error":"#N/A"}},null,null,null,null,null,null,null,null,null,null,null,null,null,null,null,null,null,null,null,null,null,null,null,null,null,null,null,null,null,null,null,null,null,null,null,null,null,null,null,null,null,null,"'HU_2020-10'!$A:$H","$A:$H","13513HU44105","GOLLINUCCI Sorter 580 Plus Line, 600 mm, výška 505mm, 80 l, šedý","Bors és Horváth","keves","2020-10-01","Marcela Piechová",72.310374400000001]
[{"$error":"#N/A"},null,{"$f":"IFERROR(VLOOKUP(B900,List1!$A:$B,2,0),\"x\")","v":"x"},null,null,null,null,null,null,{"$f":"CONCATENATE(VLOOKUP(E900,[1]Seznamy!$Q$2:$R$36,2,0),VLOOKUP(F900,[1]Produkty!$I:$O,7,0),C900,D900)","v":{"$error":"#N/A"}},null,null,null,null,null,null,null,null,null,null,null,null,null,null,null,null,null,null,null,null,null,null,null,null,null,null,null,null,null,null,null,null,null,null,null,null,null,null,null,null,null,null,"'CZ_2020-10'!$A:$H","$A:$H","10435CZ44105","STRONG Elektricky stavitelná podnož černá RAL 9005 mat","Dřevotrust","neuwirth","2020-10-01","NULL",110.69330687999999]
[{"$error":"#N/A"},null,{"$f":"IFERROR(VLOOKUP(B901,List1!$A:$B,2,0),\"x\")","v":"x"},null,null,null,null,null,null,{"$f":"CONCATENATE(VLOOKUP(E901,[1]Seznamy!$Q$2:$R$36,2,0),VLOOKUP(F901,[1]Produkty!$I:$O,7,0),C901,D901)","v":{"$error":"#N/A"}},null,null,null,null,null,null,null,null,null,null,null,null,null,null,null,null,null,null,null,null,null,null,null,null,null,null,null,null,null,null,null,null,null,null,null,null,null,null,null,null,null,null,"'HU_2020-10'!$A:$H","$A:$H","10823HU44105","STRONG transformátor plochý LED 24V 100W","Schachermayer","keves","2020-10-01","Stančo Denčev",16.423951976959998]
[{"$error":"#N/A"},null,{"$f":"IFERROR(VLOOKUP(B902,List1!$A:$B,2,0),\"x\")","v":"x"},null,null,null,null,null,null,{"$f":"CONCATENATE(VLOOKUP(E902,[1]Seznamy!$Q$2:$R$36,2,0),VLOOKUP(F902,[1]Produkty!$I:$O,7,0),C902,D902)","v":{"$error":"#N/A"}},null,null,null,null,null,null,null,null,null,null,null,null,null,null,null,null,null,null,null,null,null,null,null,null,null,null,null,null,null,null,null,null,null,null,null,null,null,null,null,null,null,null,"'HU_2020-10'!$A:$H","$A:$H","1357HU44105","STRONG Stolová noha centrální 450x450 černá","Bors és Horváth","keves","2020-10-01","Lukáš Sládek",33.755219013119998]
[{"$error":"#N/A"},null,{"$f":"IFERROR(VLOOKUP(B903,List1!$A:$B,2,0),\"x\")","v":"x"},null,null,null,null,null,null,{"$f":"CONCATENATE(VLOOKUP(E903,[1]Seznamy!$Q$2:$R$36,2,0),VLOOKUP(F903,[1]Produkty!$I:$O,7,0),C903,D903)","v":{"$error":"#N/A"}},null,null,null,null,null,null,null,null,null,null,null,null,null,null,null,null,null,null,null,null,null,null,null,null,null,null,null,null,null,null,null,null,null,null,null,null,null,null,null,null,null,null,"'HU_2020-10'!$A:$H","$A:$H","10127HU44105","DTDD DUB COMMERCIAL A/B DEC 2800/2070/19","_Demos","keves","2020-10-01","Martin Karaščák",0]
[{"$error":"#N/A"},null,{"$f":"IFERROR(VLOOKUP(B904,List1!$A:$B,2,0),\"x\")","v":"x"},null,null,null,null,null,null,{"$f":"CONCATENATE(VLOOKUP(E904,[1]Seznamy!$Q$2:$R$36,2,0),VLOOKUP(F904,[1]Produkty!$I:$O,7,0),C904,D904)","v":{"$error":"#N/A"}},null,null,null,null,null,null,null,null,null,null,null,null,null,null,null,null,null,null,null,null,null,null,null,null,null,null,null,null,null,null,null,null,null,null,null,null,null,null,null,null,null,null,"'HU_2020-10'!$A:$H","$A:$H","10815HU44105","GOLLINUCCI Sorter Linea 222, 300 mm","Schachermayer","keves","2020-10-01","Marcela Piechová",26.7038464]
[{"$f":"TEXT(J905,1)","v":{"$error":"#N/A"}},null,{"$f":"IFERROR(VLOOKUP(B905,List1!$A:$B,2,0),\"x\")","v":"x"},null,null,null,null,null,null,{"$f":"CONCATENATE(VLOOKUP(E905,[1]Seznamy!$Q$2:$R$36,2,0),VLOOKUP(F905,[1]Produkty!$I:$O,7,0),C905,D905)","v":{"$error":"#N/A"}},null,null,null,null,null,null,null,null,null,null,null,null,null,null,null,null,null,null,null,null,null,null,null,null,null,null,null,null,null,null,null,null,null,null,null,null,null,null,null,null,null,null,"'HU_2020-10'!$A:$H","$A:$H","1017HU44105","STRONG Stolová noha centrální 450x450 černá","_Demos","keves","2020-10-01","Lukáš Sládek",33.755219013119998]
[{"$error":"#N/A"},null,{"$f":"IFERROR(VLOOKUP(B906,List1!$A:$B,2,0),\"x\")","v":"x"},null,null,null,null,null,null,{"$f":"CONCATENATE(VLOOKUP(E906,[1]Seznamy!$Q$2:$R$36,2,0),VLOOKUP(F906,[1]Produkty!$I:$O,7,0),C906,D906)","v":{"$error":"#N/A"}},null,null,null,null,null,null,null,null,null,null,null,null,null,null,null,null,null,null,null,null,null,null,null,null,null,null,null,null,null,null,null,null,null,null,null,null,null,null,null,null,null,null,"'HU_2020-10'!$A:$H","$A:$H","10315HU44105","GOLLINUCCI Sorter Linea 222, 300 mm","Lunit","keves","2020-10-01","Marcela Piechová",26.7038464]
[{"$error":"#N/A"},null,{"$f":"IFERROR(VLOOKUP(B907,List1!$A:$B,2,0),\"x\")","v":"x"},null,null,null,null,null,null,{"$f":"CONCATENATE(VLOOKUP(E907,[1]Seznamy!$Q$2:$R$36,2,0),VLOOKUP(F907,[1]Produkty!$I:$O,7,0),C907,D907)","v":{"$error":"#N/A"}},null,null,null,null,null,null,null,null,null,null,null,null,null,null,null,null,null,null,null,null,null,null,null,null,null,null,null,null,null,null,null,null,null,null,null,null,null,null,null,null,null,null,"'CZ_2020-10'!$A:$H","$A:$H","11135CZ44105","STRONG Elektricky stavitelná podnož černá RAL 9005 mat","Kili","neuwirth","2020-10-01","NULL",110.69330687999999]
[{"$error":"#N/A"},null,{"$f":"IFERROR(VLOOKUP(B908,List1!$A:$B,2,0),\"x\")","v":"x"},null,null,null,null,null,null,{"$f":"CONCATENATE(VLOOKUP(E908,[1]Seznamy!$Q$2:$R$36,2,0),VLOOKUP(F908,[1]Produkty!$I:$O,7,0),C908,D908)","v":{"$error":"#N/A"}},null,null,null,null,null,null,null,null,null,null,null,null,null,null,null,null,null,null,null,null,null,null,null,null,null,null,null,null,null,null,null,null,null,null,null,null,null,null,null,null,null,null,"'HU_2020-10'!$A:$H","$A:$H","10812HU44105","GOLLINUCCI Sorter Sistema 901/2x16 l, 600 mm","Schachermayer","keves","2020-10-01","Marcela Piechová",16.545126399999997]
[{"$error":"#N/A"},null,{"$f":"IFERROR(VLOOKUP(B909,List1!$A:$B,2,0),\"x\")","v":"x"},null,null,null,null,null,null,{"$f":"CONCATENATE(VLOOKUP(E909,[1]Seznamy!$Q$2:$R$36,2,0),VLOOKUP(F909,[1]Produkty!$I:$O,7,0),C909,D909)","v":{"$error":"#N/A"}},null,null,null,null,null,null,null,null,null,null,null,null,null,null,null,null,null,null,null,null,null,null,null,null,null,null,null,null,null,null,null,null,null,null,null,null,null,null,null,null,null,null,"'HU_2020-10'!$A:$H","$A:$H","10312HU44105","GOLLINUCCI Sorter Sistema 901/2x16 l, 600 mm","Lunit","keves","2020-10-01","Marcela Piechová",16.545126399999997]
[{"$error":"#N/A"},null,{"$f":"IFERROR(VLOOKUP(B910,List1!$A:$B,2,0),\"x\")","v":"x"},null,null,null,null,null,null,{"$f":"CONCATENATE(VLOOKUP(E910,[1]Seznamy!$Q$2:$R$36,2,0),VLOOKUP(F910,[1]Produkty!$I:$O,7,0),C910,D910)","v":{"$error":"#N/A"}},null,null,null,null,null,null,null,null,null,null,null,null,null,null,null,null,null,null,null,null,null,null,null,null,null,null,null,null,null,null,null,null,null,null,null,null,null,null,null,null,null,null,"'CZ_2020-10'!$A:$H","$A:$H","10835CZ44105","STRONG Elektricky stavitelná podnož černá RAL 9005 mat","Schachermayer","neuwirth","2020-10-01","NULL",110.69330687999999]
[{"$error":"#N/A"},null,{"$f":"IFERROR(VLOOKUP(B911,List1!$A:$B,2,0),\"x\")","v":"x"},null,null,null,null,null,null,{"$f":"CONCATENATE(VLOOKUP(E911,[1]Seznamy!$Q$2:$R$36,2,0),VLOOKUP(F911,[1]Produkty!$I:$O,7,0),C911,D911)","v":{"$error":"#N/A"}},null,null,null,null,null,null,null,null,null,null,null,null,null,null,null,null,null,null,null,null,null,null,null,null,null,null,null,null,null,null,null,null,null,null,null,null,null,null,null,null,null,null,"'HU_2020-10'!$A:$H","$A:$H","13215HU44105","GOLLINUCCI Sorter Linea 222, 300 mm","Bútorvonal","keves","2020-10-01","Marcela Piechová",26.7038464]
[{"$error":"#N/A"},null,{"$f":"IFERROR(VLOOKUP(B912,List1!$A:$B,2,0),\"x\")","v":"x"},null,null,null,null,null,null,{"$f":"CONCATENATE(VLOOKUP(E912,[1]Seznamy!$Q$2:$R$36,2,0),VLOOKUP(F912,[1]Produkty!$I:$O,7,0),C912,D912)","v":{"$error":"#N/A"}},null,null,null,null,null,null,null,null,null,null,null,null,null,null,null,null,null,null,null,null,null,null,null,null,null,null,null,null,null,null,null,null,null,null,null,null,null,null,null,null,null,null,"'HU_2020-10'!$A:$H","$A:$H","10115HU44105","GOLLINUCCI Sorter Linea 222, 300 mm","_Demos","keves","2020-10-01","Marcela Piechová",26.7038464]
[{"$error":"#N/A"},null,{"$f":"IFERROR(VLOOKUP(B913,List1!$A:$B,2,0),\"x\")","v":"x"},null,null,null,null,null,null,{"$f":"CONCATENATE(VLOOKUP(E913,[1]Seznamy!$Q$2:$R$36,2,0),VLOOKUP(F913,[1]Produkty!$I:$O,7,0),C913,D913)","v":{"$error":"#N/A"}},null,null,null,null,null,null,null,null,null,null,null,null,null,null,null,null,null,null,null,null,null,null,null,null,null,null,null,null,null,null,null,null,null,null,null,null,null,null,null,null,null,null,"'HU_2020-10'!$A:$H","$A:$H","1038HU44105","STRONG Elektrická zásuvka 3x230V, francouzský typ, 265x130x68 mm stříbrná","Lunit","keves","2020-10-01","Lukáš Sládek",13.197135959039999]
[{"$error":"#N/A"},null,{"$f":"IFERROR(VLOOKUP(B914,List1!$A:$B,2,0),\"x\")","v":"x"},null,null,null,null,null,null,{"$f":"CONCATENATE(VLOOKUP(E914,[1]Seznamy!$Q$2:$R$36,2,0),VLOOKUP(F914,[1]Produkty!$I:$O,7,0),C914,D914)","v":{"$error":"#N/A"}},null,null,null,null,null,null,null,null,null,null,null,null,null,null,null,null,null,null,null,null,null,null,null,null,null,null,null,null,null,null,null,null,null,null,null,null,null,null,null,null,null,null,"'HU_2020-10'!$A:$H","$A:$H","13510HU44105","FRANKE Dřez ETN 614 6/4 obyčejný ventil bez otvoru","Bors és Horváth","keves","2020-10-01","Marcela Piechová",20.256896000000001]
[{"$error":"#N/A"},null,{"$f":"IFERROR(VLOOKUP(B915,List1!$A:$B,2,0),\"x\")","v":"x"},null,null,null,null,null,null,{"$f":"CONCATENATE(VLOOKUP(E915,[1]Seznamy!$Q$2:$R$36,2,0),VLOOKUP(F915,[1]Produkty!$I:$O,7,0),C915,D915)","v":{"$error":"#N/A"}},null,null,null,null,null,null,null,null,null,null,null,null,null,null,null,null,null,null,null,null,null,null,null,null,null,null,null,null,null,null,null,null,null,null,null,null,null,null,null,null,null,null,"'HU_2020-10'!$A:$H","$A:$H","10114HU44105","FRANKE Dřez ETN 610 455 x 435","_Demos","keves","2020-10-01","Marcela Piechová",22.363855359999999]
[{"$error":"#N/A"},null,{"$f":"IFERROR(VLOOKUP(B916,List1!$A:$B,2,0),\"x\")","v":"x"},null,null,null,null,null,null,{"$f":"CONCATENATE(VLOOKUP(E916,[1]Seznamy!$Q$2:$R$36,2,0),VLOOKUP(F916,[1]Produkty!$I:$O,7,0),C916,D916)","v":{"$error":"#N/A"}},null,null,null,null,null,null,null,null,null,null,null,null,null,null,null,null,null,null,null,null,null,null,null,null,null,null,null,null,null,null,null,null,null,null,null,null,null,null,null,null,null,null,"'HU_2020-10'!$A:$H","$A:$H","10126HU44105","DTDL W980 ST2 Platinově bílá 2800/2070/18","_Demos","keves","2020-10-01","Martin Karaščák",0]
[{"$error":"#N/A"},null,{"$f":"IFERROR(VLOOKUP(B917,List1!$A:$B,2,0),\"x\")","v":"x"},null,null,null,null,null,null,{"$f":"CONCATENATE(VLOOKUP(E917,[1]Seznamy!$Q$2:$R$36,2,0),VLOOKUP(F917,[1]Produkty!$I:$O,7,0),C917,D917)","v":{"$error":"#N/A"}},null,null,null,null,null,null,null,null,null,null,null,null,null,null,null,null,null,null,null,null,null,null,null,null,null,null,null,null,null,null,null,null,null,null,null,null,null,null,null,null,null,null,"'HU_2020-10'!$A:$H","$A:$H","10110HU44105","FRANKE Dřez ETN 614 6/4 obyčejný ventil bez otvoru","_Demos","keves","2020-10-01","Marcela Piechová",20.256896000000001]
[{"$error":"#N/A"},null,{"$f":"IFERROR(VLOOKUP(B918,List1!$A:$B,2,0),\"x\")","v":"x"},null,null,null,null,null,null,{"$f":"CONCATENATE(VLOOKUP(E918,[1]Seznamy!$Q$2:$R$36,2,0),VLOOKUP(F918,[1]Produkty!$I:$O,7,0),C918,D918)","v":{"$error":"#N/A"}},null,null,null,null,null,null,null,null,null,null,null,null,null,null,null,null,null,null,null,null,null,null,null,null,null,null,null,null,null,null,null,null,null,null,null,null,null,null,null,null,null,null,"'HU_2020-10'!$A:$H","$A:$H","10314HU44105","FRANKE Dřez ETN 610 455 x 435","Lunit","keves","2020-10-01","Marcela Piechová",22.363855359999999]
[{"$error":"#N/A"},null,{"$f":"IFERROR(VLOOKUP(B919,List1!$A:$B,2,0),\"x\")","v":"x"},null,null,null,null,null,null,{"$f":"CONCATENATE(VLOOKUP(E919,[1]Seznamy!$Q$2:$R$36,2,0),VLOOKUP(F919,[1]Produkty!$I:$O,7,0),C919,D919)","v":{"$error":"#N/A"}},null,null,null,null,null,null,null,null,null,null,null,null,null,null,null,null,null,null,null,null,null,null,null,null,null,null,null,null,null,null,null,null,null,null,null,null,null,null,null,null,null,null,"'HU_2020-10'!$A:$H","$A:$H","1358HU44105","STRONG Elektrická zásuvka 3x230V, francouzský typ, 265x130x68 mm stříbrná","Bors és Horváth","keves","2020-10-01","Lukáš Sládek",13.197135959039999]
[{"$error":"#N/A"},null,{"$f":"IFERROR(VLOOKUP(B920,List1!$A:$B,2,0),\"x\")","v":"x"},null,null,null,null,null,null,{"$f":"CONCATENATE(VLOOKUP(E920,[1]Seznamy!$Q$2:$R$36,2,0),VLOOKUP(F920,[1]Produkty!$I:$O,7,0),C920,D920)","v":{"$error":"#N/A"}},null,null,null,null,null,null,null,null,null,null,null,null,null,null,null,null,null,null,null,null,null,null,null,null,null,null,null,null,null,null,null,null,null,null,null,null,null,null,null,null,null,null,"'HU_2020-10'!$A:$H","$A:$H","13515HU44105","GOLLINUCCI Sorter Linea 222, 300 mm","Bors és Horváth","keves","2020-10-01","Marcela Piechová",26.7038464]
[{"$error":"#N/A"},null,{"$f":"IFERROR(VLOOKUP(B921,List1!$A:$B,2,0),\"x\")","v":"x"},null,null,null,null,null,null,{"$f":"CONCATENATE(VLOOKUP(E921,[1]Seznamy!$Q$2:$R$36,2,0),VLOOKUP(F921,[1]Produkty!$I:$O,7,0),C921,D921)","v":{"$error":"#N/A"}},null,null,null,null,null,null,null,null,null,null,null,null,null,null,null,null,null,null,null,null,null,null,null,null,null,null,null,null,null,null,null,null,null,null,null,null,null,null,null,null,null,null,"'HU_2020-10'!$A:$H","$A:$H","13336HU44105","TULIP Gola dvířkový J profil 4,1m eloxovaný hliník","Homoki-Zár","keves","2020-10-01","NULL",2.8160000000000001E-5]
[{"$error":"#N/A"},null,{"$f":"IFERROR(VLOOKUP(B922,List1!$A:$B,2,0),\"x\")","v":"x"},null,null,null,null,null,null,{"$f":"CONCATENATE(VLOOKUP(E922,[1]Seznamy!$Q$2:$R$36,2,0),VLOOKUP(F922,[1]Produkty!$I:$O,7,0),C922,D922)","v":{"$error":"#N/A"}},null,null,null,null,null,null,null,null,null,null,null,null,null,null,null,null,null,null,null,null,null,null,null,null,null,null,null,null,null,null,null,null,null,null,null,null,null,null,null,null,null,null,"'HU_2020-10'!$A:$H","$A:$H","10836HU44105","TULIP Gola dvířkový J profil 4,1m eloxovaný hliník","Schachermayer","keves","2020-10-01","NULL",2.8160000000000001E-5]
[{"$error":"#N/A"},null,{"$f":"IFERROR(VLOOKUP(B923,List1!$A:$B,2,0),\"x\")","v":"x"},null,null,null,null,null,null,{"$f":"CONCATENATE(VLOOKUP(E923,[1]Seznamy!$Q$2:$R$36,2,0),VLOOKUP(F923,[1]Produkty!$I:$O,7,0),C923,D923)","v":{"$error":"#N/A"}},null,null,null,null,null,null,null,null,null,null,null,null,null,null,null,null,null,null,null,null,null,null,null,null,null,null,null,null,null,null,null,null,null,null,null,null,null,null,null,null,null,null,"'CZ_2020-10'!$A:$H","$A:$H","11635CZ44105","STRONG Elektricky stavitelná podnož černá RAL 9005 mat","Exkalibr","neuwirth","2020-10-01","NULL",110.69330687999999]
[{"$error":"#N/A"},null,{"$f":"IFERROR(VLOOKUP(B924,List1!$A:$B,2,0),\"x\")","v":"x"},null,null,null,null,null,null,{"$f":"CONCATENATE(VLOOKUP(E924,[1]Seznamy!$Q$2:$R$36,2,0),VLOOKUP(F924,[1]Produkty!$I:$O,7,0),C924,D924)","v":{"$error":"#N/A"}},null,null,null,null,null,null,null,null,null,null,null,null,null,null,null,null,null,null,null,null,null,null,null,null,null,null,null,null,null,null,null,null,null,null,null,null,null,null,null,null,null,null,"'HU_2020-10'!$A:$H","$A:$H","10334HU44105","Strong electric socket, lift","Lunit","keves","2020-10-01","NULL",11.736545835519999]
[{"$error":"#N/A"},null,{"$f":"IFERROR(VLOOKUP(B925,List1!$A:$B,2,0),\"x\")","v":"x"},null,null,null,null,null,null,{"$f":"CONCATENATE(VLOOKUP(E925,[1]Seznamy!$Q$2:$R$36,2,0),VLOOKUP(F925,[1]Produkty!$I:$O,7,0),C925,D925)","v":{"$error":"#N/A"}},null,null,null,null,null,null,null,null,null,null,null,null,null,null,null,null,null,null,null,null,null,null,null,null,null,null,null,null,null,null,null,null,null,null,null,null,null,null,null,null,null,null,"'HU_2020-10'!$A:$H","$A:$H","10112HU44105","GOLLINUCCI Sorter Sistema 901/2x16 l, 600 mm","_Demos","keves","2020-10-01","Marcela Piechová",16.545126399999997]
[{"$error":"#N/A"},null,{"$f":"IFERROR(VLOOKUP(B926,List1!$A:$B,2,0),\"x\")","v":"x"},null,null,null,null,null,null,{"$f":"CONCATENATE(VLOOKUP(E926,[1]Seznamy!$Q$2:$R$36,2,0),VLOOKUP(F926,[1]Produkty!$I:$O,7,0),C926,D926)","v":{"$error":"#N/A"}},null,null,null,null,null,null,null,null,null,null,null,null,null,null,null,null,null,null,null,null,null,null,null,null,null,null,null,null,null,null,null,null,null,null,null,null,null,null,null,null,null,null,"'HU_2020-10'!$A:$H","$A:$H","13514HU44105","FRANKE Dřez ETN 610 455 x 435","Bors és Horváth","keves","2020-10-01","Marcela Piechová",22.363855359999999]
[{"$error":"#N/A"},null,{"$f":"IFERROR(VLOOKUP(B927,List1!$A:$B,2,0),\"x\")","v":"x"},null,null,null,null,null,null,{"$f":"CONCATENATE(VLOOKUP(E927,[1]Seznamy!$Q$2:$R$36,2,0),VLOOKUP(F927,[1]Produkty!$I:$O,7,0),C927,D927)","v":{"$error":"#N/A"}},null,null,null,null,null,null,null,null,null,null,null,null,null,null,null,null,null,null,null,null,null,null,null,null,null,null,null,null,null,null,null,null,null,null,null,null,null,null,null,null,null,null,"'HU_2020-10'!$A:$H","$A:$H","10310HU44105","FRANKE Dřez ETN 614 6/4 obyčejný ventil bez otvoru","Lunit","keves","2020-10-01","Marcela Piechová",20.256896000000001]
[{"$error":"#N/A"},null,{"$f":"IFERROR(VLOOKUP(B928,List1!$A:$B,2,0),\"x\")","v":"x"},null,null,null,null,null,null,{"$f":"CONCATENATE(VLOOKUP(E928,[1]Seznamy!$Q$2:$R$36,2,0),VLOOKUP(F928,[1]Produkty!$I:$O,7,0),C928,D928)","v":{"$error":"#N/A"}},null,null,null,null,null,null,null,null,null,null,null,null,null,null,null,null,null,null,null,null,null,null,null,null,null,null,null,null,null,null,null,null,null,null,null,null,null,null,null,null,null,null,"'HU_2020-10'!$A:$H","$A:$H","1018HU44105","STRONG Elektrická zásuvka 3x230V, francouzský typ, 265x130x68 mm stříbrná","_Demos","keves","2020-10-01","Lukáš Sládek",13.197135959039999]
[{"$error":"#N/A"},null,{"$f":"IFERROR(VLOOKUP(B929,List1!$A:$B,2,0),\"x\")","v":"x"},null,null,null,null,null,null,{"$f":"CONCATENATE(VLOOKUP(E929,[1]Seznamy!$Q$2:$R$36,2,0),VLOOKUP(F929,[1]Produkty!$I:$O,7,0),C929,D929)","v":{"$error":"#N/A"}},null,null,null,null,null,null,null,null,null,null,null,null,null,null,null,null,null,null,null,null,null,null,null,null,null,null,null,null,null,null,null,null,null,null,null,null,null,null,null,null,null,null,"'HU_2020-10'!$A:$H","$A:$H","1338HU44105","STRONG Elektrická zásuvka 3x230V, francouzský typ, 265x130x68 mm stříbrná","Homoki-Zár","keves","2020-10-01","Lukáš Sládek",13.197135959039999]
[{"$error":"#N/A"},null,{"$f":"IFERROR(VLOOKUP(B930,List1!$A:$B,2,0),\"x\")","v":"x"},null,null,null,null,null,null,{"$f":"CONCATENATE(VLOOKUP(E930,[1]Seznamy!$Q$2:$R$36,2,0),VLOOKUP(F930,[1]Produkty!$I:$O,7,0),C930,D930)","v":{"$error":"#N/A"}},null,null,null,null,null,null,null,null,null,null,null,null,null,null,null,null,null,null,null,null,null,null,null,null,null,null,null,null,null,null,null,null,null,null,null,null,null,null,null,null,null,null,"'HU_2020-10'!$A:$H","$A:$H","1034HU44105","StrongMax 89/500 mm šedý (antracit)","Lunit","keves","2020-10-01","Martin Zniszczol",9.5790182399999999]
[{"$error":"#N/A"},null,{"$f":"IFERROR(VLOOKUP(B931,List1!$A:$B,2,0),\"x\")","v":"x"},null,null,null,null,null,null,{"$f":"CONCATENATE(VLOOKUP(E931,[1]Seznamy!$Q$2:$R$36,2,0),VLOOKUP(F931,[1]Produkty!$I:$O,7,0),C931,D931)","v":{"$error":"#N/A"}},null,null,null,null,null,null,null,null,null,null,null,null,null,null,null,null,null,null,null,null,null,null,null,null,null,null,null,null,null,null,null,null,null,null,null,null,null,null,null,null,null,null,"'HU_2020-10'!$A:$H","$A:$H","13534HU44105","Strong electric socket, lift","Bors és Horváth","keves","2020-10-01","NULL",11.736545835519999]
[{"$error":"#N/A"},null,{"$f":"IFERROR(VLOOKUP(B932,List1!$A:$B,2,0),\"x\")","v":"x"},null,null,null,null,null,null,{"$f":"CONCATENATE(VLOOKUP(E932,[1]Seznamy!$Q$2:$R$36,2,0),VLOOKUP(F932,[1]Produkty!$I:$O,7,0),C932,D932)","v":{"$error":"#N/A"}},null,null,null,null,null,null,null,null,null,null,null,null,null,null,null,null,null,null,null,null,null,null,null,null,null,null,null,null,null,null,null,null,null,null,null,null,null,null,null,null,null,null,"'HU_2020-10'!$A:$H","$A:$H","13523HU44105","STRONG transformátor plochý LED 24V 100W","Bors és Horváth","keves","2020-10-01","Stančo Denčev",16.423951976959998]
[{"$error":"#N/A"},null,{"$f":"IFERROR(VLOOKUP(B933,List1!$A:$B,2,0),\"x\")","v":"x"},null,null,null,null,null,null,{"$f":"CONCATENATE(VLOOKUP(E933,[1]Seznamy!$Q$2:$R$36,2,0),VLOOKUP(F933,[1]Produkty!$I:$O,7,0),C933,D933)","v":{"$error":"#N/A"}},null,null,null,null,null,null,null,null,null,null,null,null,null,null,null,null,null,null,null,null,null,null,null,null,null,null,null,null,null,null,null,null,null,null,null,null,null,null,null,null,null,null,"'CZ_2020-10'!$A:$H","$A:$H","11535CZ44105","STRONG Elektricky stavitelná podnož černá RAL 9005 mat","ARDEA","neuwirth","2020-10-01","NULL",110.69330687999999]
[{"$error":"#N/A"},null,{"$f":"IFERROR(VLOOKUP(B934,List1!$A:$B,2,0),\"x\")","v":"x"},null,null,null,null,null,null,{"$f":"CONCATENATE(VLOOKUP(E934,[1]Seznamy!$Q$2:$R$36,2,0),VLOOKUP(F934,[1]Produkty!$I:$O,7,0),C934,D934)","v":{"$error":"#N/A"}},null,null,null,null,null,null,null,null,null,null,null,null,null,null,null,null,null,null,null,null,null,null,null,null,null,null,null,null,null,null,null,null,null,null,null,null,null,null,null,null,null,null,"'HU_2020-10'!$A:$H","$A:$H","1014HU44105","StrongMax 89/500 mm šedý (antracit)","_Demos","keves","2020-10-01","Martin Zniszczol",9.5790182399999999]
[{"$error":"#N/A"},null,{"$f":"IFERROR(VLOOKUP(B935,List1!$A:$B,2,0),\"x\")","v":"x"},null,null,null,null,null,null,{"$f":"CONCATENATE(VLOOKUP(E935,[1]Seznamy!$Q$2:$R$36,2,0),VLOOKUP(F935,[1]Produkty!$I:$O,7,0),C935,D935)","v":{"$error":"#N/A"}},null,null,null,null,null,null,null,null,null,null,null,null,null,null,null,null,null,null,null,null,null,null,null,null,null,null,null,null,null,null,null,null,null,null,null,null,null,null,null,null,null,null,"'HU_2020-10'!$A:$H","$A:$H","13315HU44105","GOLLINUCCI Sorter Linea 222, 300 mm","Homoki-Zár","keves","2020-10-01","Marcela Piechová",26.7038464]
[{"$error":"#N/A"},null,{"$f":"IFERROR(VLOOKUP(B936,List1!$A:$B,2,0),\"x\")","v":"x"},null,null,null,null,null,null,{"$f":"CONCATENATE(VLOOKUP(E936,[1]Seznamy!$Q$2:$R$36,2,0),VLOOKUP(F936,[1]Produkty!$I:$O,7,0),C936,D936)","v":{"$error":"#N/A"}},null,null,null,null,null,null,null,null,null,null,null,null,null,null,null,null,null,null,null,null,null,null,null,null,null,null,null,null,null,null,null,null,null,null,null,null,null,null,null,null,null,null,"'HU_2020-10'!$A:$H","$A:$H","13536HU44105","TULIP Gola dvířkový J profil 4,1m eloxovaný hliník","Bors és Horváth","keves","2020-10-01","NULL",2.8160000000000001E-5]
[{"$error":"#N/A"},null,{"$f":"IFERROR(VLOOKUP(B937,List1!$A:$B,2,0),\"x\")","v":"x"},null,null,null,null,null,null,{"$f":"CONCATENATE(VLOOKUP(E937,[1]Seznamy!$Q$2:$R$36,2,0),VLOOKUP(F937,[1]Produkty!$I:$O,7,0),C937,D937)","v":{"$error":"#N/A"}},null,null,null,null,null,null,null,null,null,null,null,null,null,null,null,null,null,null,null,null,null,null,null,null,null,null,null,null,null,null,null,null,null,null,null,null,null,null,null,null,null,null,"'CZ_2020-10'!$A:$H","$A:$H","10135CZ44105","STRONG Elektricky stavitelná podnož černá RAL 9005 mat","_Demos","neuwirth","2020-10-01","NULL",110.69330687999999]
[{"$error":"#N/A"},null,{"$f":"IFERROR(VLOOKUP(B938,List1!$A:$B,2,0),\"x\")","v":"x"},null,null,null,null,null,null,{"$f":"CONCATENATE(VLOOKUP(E938,[1]Seznamy!$Q$2:$R$36,2,0),VLOOKUP(F938,[1]Produkty!$I:$O,7,0),C938,D938)","v":{"$error":"#N/A"}},null,null,null,null,null,null,null,null,null,null,null,null,null,null,null,null,null,null,null,null,null,null,null,null,null,null,null,null,null,null,null,null,null,null,null,null,null,null,null,null,null,null,"'HU_2020-10'!$A:$H","$A:$H","13334HU44105","Strong electric socket, lift","Homoki-Zár","keves","2020-10-01","NULL",11.736545835519999]
[{"$error":"#N/A"},null,{"$f":"IFERROR(VLOOKUP(B939,List1!$A:$B,2,0),\"x\")","v":"x"},null,null,null,null,null,null,{"$f":"CONCATENATE(VLOOKUP(E939,[1]Seznamy!$Q$2:$R$36,2,0),VLOOKUP(F939,[1]Produkty!$I:$O,7,0),C939,D939)","v":{"$error":"#N/A"}},null,null,null,null,null,null,null,null,null,null,null,null,null,null,null,null,null,null,null,null,null,null,null,null,null,null,null,null,null,null,null,null,null,null,null,null,null,null,null,null,null,null,"'HU_2020-10'!$A:$H","$A:$H","13312HU44105","GOLLINUCCI Sorter Sistema 901/2x16 l, 600 mm","Homoki-Zár","keves","2020-10-01","Marcela Piechová",16.545126399999997]
[{"$error":"#N/A"},null,{"$f":"IFERROR(VLOOKUP(B940,List1!$A:$B,2,0),\"x\")","v":"x"},null,null,null,null,null,null,{"$f":"CONCATENATE(VLOOKUP(E940,[1]Seznamy!$Q$2:$R$36,2,0),VLOOKUP(F940,[1]Produkty!$I:$O,7,0),C940,D940)","v":{"$error":"#N/A"}},null,null,null,null,null,null,null,null,null,null,null,null,null,null,null,null,null,null,null,null,null,null,null,null,null,null,null,null,null,null,null,null,null,null,null,null,null,null,null,null,null,null,"'HU_2020-10'!$A:$H","$A:$H","10336HU44105","TULIP Gola dvířkový J profil 4,1m eloxovaný hliník","Lunit","keves","2020-10-01","NULL",2.8160000000000001E-5]
[{"$error":"#N/A"},null,{"$f":"IFERROR(VLOOKUP(B941,List1!$A:$B,2,0),\"x\")","v":"x"},null,null,null,null,null,null,{"$f":"CONCATENATE(VLOOKUP(E941,[1]Seznamy!$Q$2:$R$36,2,0),VLOOKUP(F941,[1]Produkty!$I:$O,7,0),C941,D941)","v":{"$error":"#N/A"}},null,null,null,null,null,null,null,null,null,null,null,null,null,null,null,null,null,null,null,null,null,null,null,null,null,null,null,null,null,null,null,null,null,null,null,null,null,null,null,null,null,null,"'HU_2020-10'!$A:$H","$A:$H","1354HU44105","StrongMax 89/500 mm šedý (antracit)","Bors és Horváth","keves","2020-10-01","Martin Zniszczol",9.5790182399999999]
[{"$error":"#N/A"},null,{"$f":"IFERROR(VLOOKUP(B942,List1!$A:$B,2,0),\"x\")","v":"x"},null,null,null,null,null,null,{"$f":"CONCATENATE(VLOOKUP(E942,[1]Seznamy!$Q$2:$R$36,2,0),VLOOKUP(F942,[1]Produkty!$I:$O,7,0),C942,D942)","v":{"$error":"#N/A"}},null,null,null,null,null,null,null,null,null,null,null,null,null,null,null,null,null,null,null,null,null,null,null,null,null,null,null,null,null,null,null,null,null,null,null,null,null,null,null,null,null,null,"'CZ_2020-10'!$A:$H","$A:$H","10635CZ44105","STRONG Elektricky stavitelná podnož černá RAL 9005 mat","Nábytkár","neuwirth","2020-10-01","NULL",110.69330687999999]
[{"$error":"#N/A"},null,{"$f":"IFERROR(VLOOKUP(B943,List1!$A:$B,2,0),\"x\")","v":"x"},null,null,null,null,null,null,{"$f":"CONCATENATE(VLOOKUP(E943,[1]Seznamy!$Q$2:$R$36,2,0),VLOOKUP(F943,[1]Produkty!$I:$O,7,0),C943,D943)","v":{"$error":"#N/A"}},null,null,null,null,null,null,null,null,null,null,null,null,null,null,null,null,null,null,null,null,null,null,null,null,null,null,null,null,null,null,null,null,null,null,null,null,null,null,null,null,null,null,"'HU_2020-10'!$A:$H","$A:$H","1353HU44105","StrongBox H86/500mm bílý","Bors és Horváth","keves","2020-10-01","Martin Zniszczol",7.2608588799999998]
[{"$error":"#N/A"},null,{"$f":"IFERROR(VLOOKUP(B944,List1!$A:$B,2,0),\"x\")","v":"x"},null,null,null,null,null,null,{"$f":"CONCATENATE(VLOOKUP(E944,[1]Seznamy!$Q$2:$R$36,2,0),VLOOKUP(F944,[1]Produkty!$I:$O,7,0),C944,D944)","v":{"$error":"#N/A"}},null,null,null,null,null,null,null,null,null,null,null,null,null,null,null,null,null,null,null,null,null,null,null,null,null,null,null,null,null,null,null,null,null,null,null,null,null,null,null,null,null,null,"'HU_2020-10'!$A:$H","$A:$H","10123HU44105","STRONG transformátor plochý LED 24V 100W","_Demos","keves","2020-10-01","Stančo Denčev",16.423951976959998]
[{"$error":"#N/A"},null,{"$f":"IFERROR(VLOOKUP(B945,List1!$A:$B,2,0),\"x\")","v":"x"},null,null,null,null,null,null,{"$f":"CONCATENATE(VLOOKUP(E945,[1]Seznamy!$Q$2:$R$36,2,0),VLOOKUP(F945,[1]Produkty!$I:$O,7,0),C945,D945)","v":{"$error":"#N/A"}},null,null,null,null,null,null,null,null,null,null,null,null,null,null,null,null,null,null,null,null,null,null,null,null,null,null,null,null,null,null,null,null,null,null,null,null,null,null,null,null,null,null,"'HU_2020-10'!$A:$H","$A:$H","1013HU44105","StrongBox H86/500mm bílý","_Demos","keves","2020-10-01","Martin Zniszczol",7.2608588799999998]
[{"$error":"#N/A"},null,{"$f":"IFERROR(VLOOKUP(B946,List1!$A:$B,2,0),\"x\")","v":"x"},null,null,null,null,null,null,{"$f":"CONCATENATE(VLOOKUP(E946,[1]Seznamy!$Q$2:$R$36,2,0),VLOOKUP(F946,[1]Produkty!$I:$O,7,0),C946,D946)","v":{"$error":"#N/A"}},null,null,null,null,null,null,null,null,null,null,null,null,null,null,null,null,null,null,null,null,null,null,null,null,null,null,null,null,null,null,null,null,null,null,null,null,null,null,null,null,null,null,"'HU_2020-10'!$A:$H","$A:$H","1015HU44105","StrongRide synchro 3D celovýsuv 500 mm s tlumením","_Demos","keves","2020-10-01","Martin Zniszczol",5.45270528]
[{"$error":"#N/A"},null,{"$f":"IFERROR(VLOOKUP(B947,List1!$A:$B,2,0),\"x\")","v":"x"},null,null,null,null,null,null,{"$f":"CONCATENATE(VLOOKUP(E947,[1]Seznamy!$Q$2:$R$36,2,0),VLOOKUP(F947,[1]Produkty!$I:$O,7,0),C947,D947)","v":{"$error":"#N/A"}},null,null,null,null,null,null,null,null,null,null,null,null,null,null,null,null,null,null,null,null,null,null,null,null,null,null,null,null,null,null,null,null,null,null,null,null,null,null,null,null,null,null,"'HU_2020-10'!$A:$H","$A:$H","10131HU44105","HDF LAK 101 BÍLÁ PE 2800/2070/3","_Demos","keves","2020-10-01","Martin Karaščák",0]
[{"$error":"#N/A"},null,{"$f":"IFERROR(VLOOKUP(B948,List1!$A:$B,2,0),\"x\")","v":"x"},null,null,null,null,null,null,{"$f":"CONCATENATE(VLOOKUP(E948,[1]Seznamy!$Q$2:$R$36,2,0),VLOOKUP(F948,[1]Produkty!$I:$O,7,0),C948,D948)","v":{"$error":"#N/A"}},null,null,null,null,null,null,null,null,null,null,null,null,null,null,null,null,null,null,null,null,null,null,null,null,null,null,null,null,null,null,null,null,null,null,null,null,null,null,null,null,null,null,"'HU_2020-10'!$A:$H","$A:$H","1333HU44105","StrongBox H86/500mm bílý","Homoki-Zár","keves","2020-10-01","Martin Zniszczol",7.2608588799999998]
[{"$error":"#N/A"},null,{"$f":"IFERROR(VLOOKUP(B949,List1!$A:$B,2,0),\"x\")","v":"x"},null,null,null,null,null,null,{"$f":"CONCATENATE(VLOOKUP(E949,[1]Seznamy!$Q$2:$R$36,2,0),VLOOKUP(F949,[1]Produkty!$I:$O,7,0),C949,D949)","v":{"$error":"#N/A"}},null,null,null,null,null,null,null,null,null,null,null,null,null,null,null,null,null,null,null,null,null,null,null,null,null,null,null,null,null,null,null,null,null,null,null,null,null,null,null,null,null,null,"'HU_2020-10'!$A:$H","$A:$H","10320HU44105","TULIP Úchytka Ramara 596 imitace nerezi","Lunit","keves","2020-10-01","Lenka Kormaník",3.4736247040000001]
[{"$error":"#N/A"},null,{"$f":"IFERROR(VLOOKUP(B950,List1!$A:$B,2,0),\"x\")","v":"x"},null,null,null,null,null,null,{"$f":"CONCATENATE(VLOOKUP(E950,[1]Seznamy!$Q$2:$R$36,2,0),VLOOKUP(F950,[1]Produkty!$I:$O,7,0),C950,D950)","v":{"$error":"#N/A"}},null,null,null,null,null,null,null,null,null,null,null,null,null,null,null,null,null,null,null,null,null,null,null,null,null,null,null,null,null,null,null,null,null,null,null,null,null,null,null,null,null,null,"'CZ_2020-10'!$A:$H","$A:$H","10411CZ44105","FRANKE Dřez BFG 611-78 780 x 500 onyx","Dřevotrust","neuwirth","2020-10-01","Marcela Piechová",101.832224]
[{"$error":"#N/A"},null,{"$f":"IFERROR(VLOOKUP(B951,List1!$A:$B,2,0),\"x\")","v":"x"},null,null,null,null,null,null,{"$f":"CONCATENATE(VLOOKUP(E951,[1]Seznamy!$Q$2:$R$36,2,0),VLOOKUP(F951,[1]Produkty!$I:$O,7,0),C951,D951)","v":{"$error":"#N/A"}},null,null,null,null,null,null,null,null,null,null,null,null,null,null,null,null,null,null,null,null,null,null,null,null,null,null,null,null,null,null,null,null,null,null,null,null,null,null,null,null,null,null,"'CZ_2020-10'!$A:$H","$A:$H","10811CZ44105","FRANKE Dřez BFG 611-78 780 x 500 onyx","Schachermayer","neuwirth","2020-10-01","Marcela Piechová",101.832224]
[{"$error":"#N/A"},null,{"$f":"IFERROR(VLOOKUP(B952,List1!$A:$B,2,0),\"x\")","v":"x"},null,null,null,null,null,null,{"$f":"CONCATENATE(VLOOKUP(E952,[1]Seznamy!$Q$2:$R$36,2,0),VLOOKUP(F952,[1]Produkty!$I:$O,7,0),C952,D952)","v":{"$error":"#N/A"}},null,null,null,null,null,null,null,null,null,null,null,null,null,null,null,null,null,null,null,null,null,null,null,null,null,null,null,null,null,null,null,null,null,null,null,null,null,null,null,null,null,null,"'CZ_2020-10'!$A:$H","$A:$H","10111CZ44105","FRANKE Dřez BFG 611-78 780 x 500 onyx","_Demos","neuwirth","2020-10-01","Marcela Piechová",101.832224]
[{"$error":"#N/A"},null,{"$f":"IFERROR(VLOOKUP(B953,List1!$A:$B,2,0),\"x\")","v":"x"},null,null,null,null,null,null,{"$f":"CONCATENATE(VLOOKUP(E953,[1]Seznamy!$Q$2:$R$36,2,0),VLOOKUP(F953,[1]Produkty!$I:$O,7,0),C953,D953)","v":{"$error":"#N/A"}},null,null,null,null,null,null,null,null,null,null,null,null,null,null,null,null,null,null,null,null,null,null,null,null,null,null,null,null,null,null,null,null,null,null,null,null,null,null,null,null,null,null,"'HU_2020-10'!$A:$H","$A:$H","13512HU44105","GOLLINUCCI Sorter Sistema 901/2x16 l, 600 mm","Bors és Horváth","keves","2020-10-01","Marcela Piechová",16.545126399999997]
[{"$error":"#N/A"},null,{"$f":"IFERROR(VLOOKUP(B954,List1!$A:$B,2,0),\"x\")","v":"x"},null,null,null,null,null,null,{"$f":"CONCATENATE(VLOOKUP(E954,[1]Seznamy!$Q$2:$R$36,2,0),VLOOKUP(F954,[1]Produkty!$I:$O,7,0),C954,D954)","v":{"$error":"#N/A"}},null,null,null,null,null,null,null,null,null,null,null,null,null,null,null,null,null,null,null,null,null,null,null,null,null,null,null,null,null,null,null,null,null,null,null,null,null,null,null,null,null,null,"'CZ_2020-10'!$A:$H","$A:$H","10511CZ44105","FRANKE Dřez BFG 611-78 780 x 500 onyx","Jaf Holz","neuwirth","2020-10-01","Marcela Piechová",101.832224]
[{"$error":"#N/A"},null,{"$f":"IFERROR(VLOOKUP(B955,List1!$A:$B,2,0),\"x\")","v":"x"},null,null,null,null,null,null,{"$f":"CONCATENATE(VLOOKUP(E955,[1]Seznamy!$Q$2:$R$36,2,0),VLOOKUP(F955,[1]Produkty!$I:$O,7,0),C955,D955)","v":{"$error":"#N/A"}},null,null,null,null,null,null,null,null,null,null,null,null,null,null,null,null,null,null,null,null,null,null,null,null,null,null,null,null,null,null,null,null,null,null,null,null,null,null,null,null,null,null,"'CZ_2020-10'!$A:$H","$A:$H","11511CZ44105","FRANKE Dřez BFG 611-78 780 x 500 onyx","ARDEA","neuwirth","2020-10-01","Marcela Piechová",101.832224]
[{"$error":"#N/A"},null,{"$f":"IFERROR(VLOOKUP(B956,List1!$A:$B,2,0),\"x\")","v":"x"},null,null,null,null,null,null,{"$f":"CONCATENATE(VLOOKUP(E956,[1]Seznamy!$Q$2:$R$36,2,0),VLOOKUP(F956,[1]Produkty!$I:$O,7,0),C956,D956)","v":{"$error":"#N/A"}},null,null,null,null,null,null,null,null,null,null,null,null,null,null,null,null,null,null,null,null,null,null,null,null,null,null,null,null,null,null,null,null,null,null,null,null,null,null,null,null,null,null,"'CZ_2020-10'!$A:$H","$A:$H","10113CZ44105","GOLLINUCCI Sorter 580 Plus Line, 600 mm, výška 505mm, 80 l, šedý","_Demos","neuwirth","2020-10-01","Marcela Piechová",68.555453200000002]
[{"$error":"#N/A"},null,{"$f":"IFERROR(VLOOKUP(B957,List1!$A:$B,2,0),\"x\")","v":"x"},null,null,null,null,null,null,{"$f":"CONCATENATE(VLOOKUP(E957,[1]Seznamy!$Q$2:$R$36,2,0),VLOOKUP(F957,[1]Produkty!$I:$O,7,0),C957,D957)","v":{"$error":"#N/A"}},null,null,null,null,null,null,null,null,null,null,null,null,null,null,null,null,null,null,null,null,null,null,null,null,null,null,null,null,null,null,null,null,null,null,null,null,null,null,null,null,null,null,"'HU_2020-10'!$A:$H","$A:$H","1355HU44105","StrongRide synchro 3D celovýsuv 500 mm s tlumením","Bors és Horváth","keves","2020-10-01","Martin Zniszczol",5.45270528]
[{"$error":"#N/A"},null,{"$f":"IFERROR(VLOOKUP(B958,List1!$A:$B,2,0),\"x\")","v":"x"},null,null,null,null,null,null,{"$f":"CONCATENATE(VLOOKUP(E958,[1]Seznamy!$Q$2:$R$36,2,0),VLOOKUP(F958,[1]Produkty!$I:$O,7,0),C958,D958)","v":{"$error":"#N/A"}},null,null,null,null,null,null,null,null,null,null,null,null,null,null,null,null,null,null,null,null,null,null,null,null,null,null,null,null,null,null,null,null,null,null,null,null,null,null,null,null,null,null,"'CZ_2020-10'!$A:$H","$A:$H","11911CZ44105","FRANKE Dřez BFG 611-78 780 x 500 onyx","KNK","neuwirth","2020-10-01","Marcela Piechová",101.832224]
[{"$error":"#N/A"},null,{"$f":"IFERROR(VLOOKUP(B959,List1!$A:$B,2,0),\"x\")","v":"x"},null,null,null,null,null,null,{"$f":"CONCATENATE(VLOOKUP(E959,[1]Seznamy!$Q$2:$R$36,2,0),VLOOKUP(F959,[1]Produkty!$I:$O,7,0),C959,D959)","v":{"$error":"#N/A"}},null,null,null,null,null,null,null,null,null,null,null,null,null,null,null,null,null,null,null,null,null,null,null,null,null,null,null,null,null,null,null,null,null,null,null,null,null,null,null,null,null,null,"'CZ_2020-10'!$A:$H","$A:$H","11411CZ44105","FRANKE Dřez BFG 611-78 780 x 500 onyx","Kopecký CZ","neuwirth","2020-10-01","Marcela Piechová",101.832224]
[{"$error":"#N/A"},null,{"$f":"IFERROR(VLOOKUP(B960,List1!$A:$B,2,0),\"x\")","v":"x"},null,null,null,null,null,null,{"$f":"CONCATENATE(VLOOKUP(E960,[1]Seznamy!$Q$2:$R$36,2,0),VLOOKUP(F960,[1]Produkty!$I:$O,7,0),C960,D960)","v":{"$error":"#N/A"}},null,null,null,null,null,null,null,null,null,null,null,null,null,null,null,null,null,null,null,null,null,null,null,null,null,null,null,null,null,null,null,null,null,null,null,null,null,null,null,null,null,null,"'HU_2020-10'!$A:$H","$A:$H","10332HU44105","Alfa II profile 222788","Lunit","keves","2020-10-01","NULL",4.4872215449599997]
[{"$error":"#N/A"},null,{"$f":"IFERROR(VLOOKUP(B961,List1!$A:$B,2,0),\"x\")","v":"x"},null,null,null,null,null,null,{"$f":"CONCATENATE(VLOOKUP(E961,[1]Seznamy!$Q$2:$R$36,2,0),VLOOKUP(F961,[1]Produkty!$I:$O,7,0),C961,D961)","v":{"$error":"#N/A"}},null,null,null,null,null,null,null,null,null,null,null,null,null,null,null,null,null,null,null,null,null,null,null,null,null,null,null,null,null,null,null,null,null,null,null,null,null,null,null,null,null,null,"'HU_2020-10'!$A:$H","$A:$H","10333HU44105","SEVROLL Era úchytová lišta 18mm 2,70m stříbrná","Lunit","keves","2020-10-01","NULL",2.8160000000000001E-5]
[{"$error":"#N/A"},null,{"$f":"IFERROR(VLOOKUP(B962,List1!$A:$B,2,0),\"x\")","v":"x"},null,null,null,null,null,null,{"$f":"CONCATENATE(VLOOKUP(E962,[1]Seznamy!$Q$2:$R$36,2,0),VLOOKUP(F962,[1]Produkty!$I:$O,7,0),C962,D962)","v":{"$error":"#N/A"}},null,null,null,null,null,null,null,null,null,null,null,null,null,null,null,null,null,null,null,null,null,null,null,null,null,null,null,null,null,null,null,null,null,null,null,null,null,null,null,null,null,null,"'CZ_2020-10'!$A:$H","$A:$H","1147CZ44105","STRONG Stolová noha centrální 450x450 černá","Kopecký CZ","neuwirth","2020-10-01","Lukáš Sládek",33.67505388]
[{"$error":"#N/A"},null,{"$f":"IFERROR(VLOOKUP(B963,List1!$A:$B,2,0),\"x\")","v":"x"},null,null,null,null,null,null,{"$f":"CONCATENATE(VLOOKUP(E963,[1]Seznamy!$Q$2:$R$36,2,0),VLOOKUP(F963,[1]Produkty!$I:$O,7,0),C963,D963)","v":{"$error":"#N/A"}},null,null,null,null,null,null,null,null,null,null,null,null,null,null,null,null,null,null,null,null,null,null,null,null,null,null,null,null,null,null,null,null,null,null,null,null,null,null,null,null,null,null,"'CZ_2020-10'!$A:$H","$A:$H","11413CZ44105","GOLLINUCCI Sorter 580 Plus Line, 600 mm, výška 505mm, 80 l, šedý","Kopecký CZ","neuwirth","2020-10-01","Marcela Piechová",68.555453200000002]
[{"$error":"#N/A"},null,{"$f":"IFERROR(VLOOKUP(B964,List1!$A:$B,2,0),\"x\")","v":"x"},null,null,null,null,null,null,{"$f":"CONCATENATE(VLOOKUP(E964,[1]Seznamy!$Q$2:$R$36,2,0),VLOOKUP(F964,[1]Produkty!$I:$O,7,0),C964,D964)","v":{"$error":"#N/A"}},null,null,null,null,null,null,null,null,null,null,null,null,null,null,null,null,null,null,null,null,null,null,null,null,null,null,null,null,null,null,null,null,null,null,null,null,null,null,null,null,null,null,"'CZ_2020-10'!$A:$H","$A:$H","10611CZ44105","FRANKE Dřez BFG 611-78 780 x 500 onyx","Nábytkár","neuwirth","2020-10-01","Marcela Piechová",101.832224]
[{"$error":"#N/A"},null,{"$f":"IFERROR(VLOOKUP(B965,List1!$A:$B,2,0),\"x\")","v":"x"},null,null,null,null,null,null,{"$f":"CONCATENATE(VLOOKUP(E965,[1]Seznamy!$Q$2:$R$36,2,0),VLOOKUP(F965,[1]Produkty!$I:$O,7,0),C965,D965)","v":{"$error":"#N/A"}},null,null,null,null,null,null,null,null,null,null,null,null,null,null,null,null,null,null,null,null,null,null,null,null,null,null,null,null,null,null,null,null,null,null,null,null,null,null,null,null,null,null,"'HU_2020-10'!$A:$H","$A:$H","10820HU44105","TULIP Úchytka Ramara 596 imitace nerezi","Schachermayer","keves","2020-10-01","Lenka Kormaník",3.4736247040000001]
[{"$error":"#N/A"},null,{"$f":"IFERROR(VLOOKUP(B966,List1!$A:$B,2,0),\"x\")","v":"x"},null,null,null,null,null,null,{"$f":"CONCATENATE(VLOOKUP(E966,[1]Seznamy!$Q$2:$R$36,2,0),VLOOKUP(F966,[1]Produkty!$I:$O,7,0),C966,D966)","v":{"$error":"#N/A"}},null,null,null,null,null,null,null,null,null,null,null,null,null,null,null,null,null,null,null,null,null,null,null,null,null,null,null,null,null,null,null,null,null,null,null,null,null,null,null,null,null,null,"'HU_2020-10'!$A:$H","$A:$H","1019HU44105","BBP OA Zásuvka 515 mm kovová černá","_Demos","keves","2020-10-01","Lukáš Sládek",4.79256509952]
[{"$error":"#N/A"},null,{"$f":"IFERROR(VLOOKUP(B967,List1!$A:$B,2,0),\"x\")","v":"x"},null,null,null,null,null,null,{"$f":"CONCATENATE(VLOOKUP(E967,[1]Seznamy!$Q$2:$R$36,2,0),VLOOKUP(F967,[1]Produkty!$I:$O,7,0),C967,D967)","v":{"$error":"#N/A"}},null,null,null,null,null,null,null,null,null,null,null,null,null,null,null,null,null,null,null,null,null,null,null,null,null,null,null,null,null,null,null,null,null,null,null,null,null,null,null,null,null,null,"'CZ_2020-10'!$A:$H","$A:$H","11611CZ44105","FRANKE Dřez BFG 611-78 780 x 500 onyx","Exkalibr","neuwirth","2020-10-01","Marcela Piechová",101.832224]
[{"$error":"#N/A"},null,{"$f":"IFERROR(VLOOKUP(B968,List1!$A:$B,2,0),\"x\")","v":"x"},null,null,null,null,null,null,{"$f":"CONCATENATE(VLOOKUP(E968,[1]Seznamy!$Q$2:$R$36,2,0),VLOOKUP(F968,[1]Produkty!$I:$O,7,0),C968,D968)","v":{"$error":"#N/A"}},null,null,null,null,null,null,null,null,null,null,null,null,null,null,null,null,null,null,null,null,null,null,null,null,null,null,null,null,null,null,null,null,null,null,null,null,null,null,null,null,null,null,"'HU_2020-10'!$A:$H","$A:$H","1335HU44105","StrongRide synchro 3D celovýsuv 500 mm s tlumením","Homoki-Zár","keves","2020-10-01","Martin Zniszczol",5.45270528]
[{"$f":"TEXT(J969,1)","v":{"$error":"#N/A"}},null,{"$f":"IFERROR(VLOOKUP(B969,List1!$A:$B,2,0),\"x\")","v":"x"},null,null,null,null,null,null,{"$f":"CONCATENATE(VLOOKUP(E969,[1]Seznamy!$Q$2:$R$36,2,0),VLOOKUP(F969,[1]Produkty!$I:$O,7,0),C969,D969)","v":{"$error":"#N/A"}},null,null,null,null,null,null,null,null,null,null,null,null,null,null,null,null,null,null,null,null,null,null,null,null,null,null,null,null,null,null,null,null,null,null,null,null,null,null,null,null,null,null,"'CZ_2020-10'!$A:$H","$A:$H","10128CZ44105","DTDD Dub evr. radiál st A/B 2800/2070/19","_Demos","neuwirth","2020-10-01","Martin Karaščák",0]
[{"$error":"#N/A"},null,{"$f":"IFERROR(VLOOKUP(B970,List1!$A:$B,2,0),\"x\")","v":"x"},null,null,null,null,null,null,{"$f":"CONCATENATE(VLOOKUP(E970,[1]Seznamy!$Q$2:$R$36,2,0),VLOOKUP(F970,[1]Produkty!$I:$O,7,0),C970,D970)","v":{"$error":"#N/A"}},null,null,null,null,null,null,null,null,null,null,null,null,null,null,null,null,null,null,null,null,null,null,null,null,null,null,null,null,null,null,null,null,null,null,null,null,null,null,null,null,null,null,"'CZ_2020-10'!$A:$H","$A:$H","10127CZ44105","DTDD DUB COMMERCIAL A/B DEC 2800/2070/19","_Demos","neuwirth","2020-10-01","Martin Karaščák",55.226676912160002]
[{"$error":"#N/A"},null,{"$f":"IFERROR(VLOOKUP(B971,List1!$A:$B,2,0),\"x\")","v":"x"},null,null,null,null,null,null,{"$f":"CONCATENATE(VLOOKUP(E971,[1]Seznamy!$Q$2:$R$36,2,0),VLOOKUP(F971,[1]Produkty!$I:$O,7,0),C971,D971)","v":{"$error":"#N/A"}},null,null,null,null,null,null,null,null,null,null,null,null,null,null,null,null,null,null,null,null,null,null,null,null,null,null,null,null,null,null,null,null,null,null,null,null,null,null,null,null,null,null,"'CZ_2020-10'!$A:$H","$A:$H","11311CZ44105","FRANKE Dřez BFG 611-78 780 x 500 onyx","Sinks","neuwirth","2020-10-01","Marcela Piechová",101.832224]
[{"$error":"#N/A"},null,{"$f":"IFERROR(VLOOKUP(B972,List1!$A:$B,2,0),\"x\")","v":"x"},null,null,null,null,null,null,{"$f":"CONCATENATE(VLOOKUP(E972,[1]Seznamy!$Q$2:$R$36,2,0),VLOOKUP(F972,[1]Produkty!$I:$O,7,0),C972,D972)","v":{"$error":"#N/A"}},null,null,null,null,null,null,null,null,null,null,null,null,null,null,null,null,null,null,null,null,null,null,null,null,null,null,null,null,null,null,null,null,null,null,null,null,null,null,null,null,null,null,"'CZ_2020-10'!$A:$H","$A:$H","1037CZ44105","STRONG Stolová noha centrální 450x450 černá","Lunit","neuwirth","2020-10-01","Lukáš Sládek",33.67505388]
[{"$error":"#N/A"},null,{"$f":"IFERROR(VLOOKUP(B973,List1!$A:$B,2,0),\"x\")","v":"x"},null,null,null,null,null,null,{"$f":"CONCATENATE(VLOOKUP(E973,[1]Seznamy!$Q$2:$R$36,2,0),VLOOKUP(F973,[1]Produkty!$I:$O,7,0),C973,D973)","v":{"$error":"#N/A"}},null,null,null,null,null,null,null,null,null,null,null,null,null,null,null,null,null,null,null,null,null,null,null,null,null,null,null,null,null,null,null,null,null,null,null,null,null,null,null,null,null,null,"'CZ_2020-10'!$A:$H","$A:$H","11013CZ44105","GOLLINUCCI Sorter 580 Plus Line, 600 mm, výška 505mm, 80 l, šedý","GTV","neuwirth","2020-10-01","Marcela Piechová",68.555453200000002]
[{"$error":"#N/A"},null,{"$f":"IFERROR(VLOOKUP(B974,List1!$A:$B,2,0),\"x\")","v":"x"},null,null,null,null,null,null,{"$f":"CONCATENATE(VLOOKUP(E974,[1]Seznamy!$Q$2:$R$36,2,0),VLOOKUP(F974,[1]Produkty!$I:$O,7,0),C974,D974)","v":{"$error":"#N/A"}},null,null,null,null,null,null,null,null,null,null,null,null,null,null,null,null,null,null,null,null,null,null,null,null,null,null,null,null,null,null,null,null,null,null,null,null,null,null,null,null,null,null,"'HU_2020-10'!$A:$H","$A:$H","13533HU44105","SEVROLL Era úchytová lišta 18mm 2,70m stříbrná","Bors és Horváth","keves","2020-10-01","NULL",2.8160000000000001E-5]
[{"$error":"#N/A"},null,{"$f":"IFERROR(VLOOKUP(B975,List1!$A:$B,2,0),\"x\")","v":"x"},null,null,null,null,null,null,{"$f":"CONCATENATE(VLOOKUP(E975,[1]Seznamy!$Q$2:$R$36,2,0),VLOOKUP(F975,[1]Produkty!$I:$O,7,0),C975,D975)","v":{"$error":"#N/A"}},null,null,null,null,null,null,null,null,null,null,null,null,null,null,null,null,null,null,null,null,null,null,null,null,null,null,null,null,null,null,null,null,null,null,null,null,null,null,null,null,null,null,"'CZ_2020-10'!$A:$H","$A:$H","11111CZ44105","FRANKE Dřez BFG 611-78 780 x 500 onyx","Kili","neuwirth","2020-10-01","Marcela Piechová",101.832224]
[{"$error":"#N/A"},null,{"$f":"IFERROR(VLOOKUP(B976,List1!$A:$B,2,0),\"x\")","v":"x"},null,null,null,null,null,null,{"$f":"CONCATENATE(VLOOKUP(E976,[1]Seznamy!$Q$2:$R$36,2,0),VLOOKUP(F976,[1]Produkty!$I:$O,7,0),C976,D976)","v":{"$error":"#N/A"}},null,null,null,null,null,null,null,null,null,null,null,null,null,null,null,null,null,null,null,null,null,null,null,null,null,null,null,null,null,null,null,null,null,null,null,null,null,null,null,null,null,null,"'CZ_2020-10'!$A:$H","$A:$H","10534CZ44105","Strong electric socket, lift","Jaf Holz","neuwirth","2020-10-01","NULL",12.923845868960001]
[{"$error":"#N/A"},null,{"$f":"IFERROR(VLOOKUP(B977,List1!$A:$B,2,0),\"x\")","v":"x"},null,null,null,null,null,null,{"$f":"CONCATENATE(VLOOKUP(E977,[1]Seznamy!$Q$2:$R$36,2,0),VLOOKUP(F977,[1]Produkty!$I:$O,7,0),C977,D977)","v":{"$error":"#N/A"}},null,null,null,null,null,null,null,null,null,null,null,null,null,null,null,null,null,null,null,null,null,null,null,null,null,null,null,null,null,null,null,null,null,null,null,null,null,null,null,null,null,null,"'HU_2020-10'!$A:$H","$A:$H","13132HU44105","Alfa II profile 222788","Kamex-Laguna","keves","2020-10-01","NULL",4.4872215449599997]
[{"$error":"#N/A"},null,{"$f":"IFERROR(VLOOKUP(B978,List1!$A:$B,2,0),\"x\")","v":"x"},null,null,null,null,null,null,{"$f":"CONCATENATE(VLOOKUP(E978,[1]Seznamy!$Q$2:$R$36,2,0),VLOOKUP(F978,[1]Produkty!$I:$O,7,0),C978,D978)","v":{"$error":"#N/A"}},null,null,null,null,null,null,null,null,null,null,null,null,null,null,null,null,null,null,null,null,null,null,null,null,null,null,null,null,null,null,null,null,null,null,null,null,null,null,null,null,null,null,"'HU_2020-10'!$A:$H","$A:$H","10833HU44105","SEVROLL Era úchytová lišta 18mm 2,70m stříbrná","Schachermayer","keves","2020-10-01","NULL",2.8160000000000001E-5]
[{"$error":"#N/A"},null,{"$f":"IFERROR(VLOOKUP(B979,List1!$A:$B,2,0),\"x\")","v":"x"},null,null,null,null,null,null,{"$f":"CONCATENATE(VLOOKUP(E979,[1]Seznamy!$Q$2:$R$36,2,0),VLOOKUP(F979,[1]Produkty!$I:$O,7,0),C979,D979)","v":{"$error":"#N/A"}},null,null,null,null,null,null,null,null,null,null,null,null,null,null,null,null,null,null,null,null,null,null,null,null,null,null,null,null,null,null,null,null,null,null,null,null,null,null,null,null,null,null,"'HU_2020-10'!$A:$H","$A:$H","10120HU44105","TULIP Úchytka Ramara 596 imitace nerezi","_Demos","keves","2020-10-01","Lenka Kormaník",3.4736247040000001]
[{"$error":"#N/A"},null,{"$f":"IFERROR(VLOOKUP(B980,List1!$A:$B,2,0),\"x\")","v":"x"},null,null,null,null,null,null,{"$f":"CONCATENATE(VLOOKUP(E980,[1]Seznamy!$Q$2:$R$36,2,0),VLOOKUP(F980,[1]Produkty!$I:$O,7,0),C980,D980)","v":{"$error":"#N/A"}},null,null,null,null,null,null,null,null,null,null,null,null,null,null,null,null,null,null,null,null,null,null,null,null,null,null,null,null,null,null,null,null,null,null,null,null,null,null,null,null,null,null,"'CZ_2020-10'!$A:$H","$A:$H","11127CZ44105","DTDD DUB COMMERCIAL A/B DEC 2800/2070/19","Kili","neuwirth","2020-10-01","Martin Karaščák",55.226676912160002]
[{"$error":"#N/A"},null,{"$f":"IFERROR(VLOOKUP(B981,List1!$A:$B,2,0),\"x\")","v":"x"},null,null,null,null,null,null,{"$f":"CONCATENATE(VLOOKUP(E981,[1]Seznamy!$Q$2:$R$36,2,0),VLOOKUP(F981,[1]Produkty!$I:$O,7,0),C981,D981)","v":{"$error":"#N/A"}},null,null,null,null,null,null,null,null,null,null,null,null,null,null,null,null,null,null,null,null,null,null,null,null,null,null,null,null,null,null,null,null,null,null,null,null,null,null,null,null,null,null,"'HU_2020-10'!$A:$H","$A:$H","13520HU44105","TULIP Úchytka Ramara 596 imitace nerezi","Bors és Horváth","keves","2020-10-01","Lenka Kormaník",3.4736247040000001]
[{"$error":"#N/A"},null,{"$f":"IFERROR(VLOOKUP(B982,List1!$A:$B,2,0),\"x\")","v":"x"},null,null,null,null,null,null,{"$f":"CONCATENATE(VLOOKUP(E982,[1]Seznamy!$Q$2:$R$36,2,0),VLOOKUP(F982,[1]Produkty!$I:$O,7,0),C982,D982)","v":{"$error":"#N/A"}},null,null,null,null,null,null,null,null,null,null,null,null,null,null,null,null,null,null,null,null,null,null,null,null,null,null,null,null,null,null,null,null,null,null,null,null,null,null,null,null,null,null,"'CZ_2020-10'!$A:$H","$A:$H","10327CZ44105","DTDD DUB COMMERCIAL A/B DEC 2800/2070/19","Lunit","neuwirth","2020-10-01","Martin Karaščák",55.226676912160002]
[{"$error":"#N/A"},null,{"$f":"IFERROR(VLOOKUP(B983,List1!$A:$B,2,0),\"x\")","v":"x"},null,null,null,null,null,null,{"$f":"CONCATENATE(VLOOKUP(E983,[1]Seznamy!$Q$2:$R$36,2,0),VLOOKUP(F983,[1]Produkty!$I:$O,7,0),C983,D983)","v":{"$error":"#N/A"}},null,null,null,null,null,null,null,null,null,null,null,null,null,null,null,null,null,null,null,null,null,null,null,null,null,null,null,null,null,null,null,null,null,null,null,null,null,null,null,null,null,null,"'CZ_2020-10'!$A:$H","$A:$H","1098CZ44105","STRONG Elektrická zásuvka 3x230V, francouzský typ, 265x130x68 mm stříbrná","Hafele","neuwirth","2020-10-01","Lukáš Sládek",12.88628016]
[{"$error":"#N/A"},null,{"$f":"IFERROR(VLOOKUP(B984,List1!$A:$B,2,0),\"x\")","v":"x"},null,null,null,null,null,null,{"$f":"CONCATENATE(VLOOKUP(E984,[1]Seznamy!$Q$2:$R$36,2,0),VLOOKUP(F984,[1]Produkty!$I:$O,7,0),C984,D984)","v":{"$error":"#N/A"}},null,null,null,null,null,null,null,null,null,null,null,null,null,null,null,null,null,null,null,null,null,null,null,null,null,null,null,null,null,null,null,null,null,null,null,null,null,null,null,null,null,null,"'HU_2020-10'!$A:$H","$A:$H","13332HU44105","Alfa II profile 222788","Homoki-Zár","keves","2020-10-01","NULL",4.4872215449599997]
[{"$error":"#N/A"},null,{"$f":"IFERROR(VLOOKUP(B985,List1!$A:$B,2,0),\"x\")","v":"x"},null,null,null,null,null,null,{"$f":"CONCATENATE(VLOOKUP(E985,[1]Seznamy!$Q$2:$R$36,2,0),VLOOKUP(F985,[1]Produkty!$I:$O,7,0),C985,D985)","v":{"$error":"#N/A"}},null,null,null,null,null,null,null,null,null,null,null,null,null,null,null,null,null,null,null,null,null,null,null,null,null,null,null,null,null,null,null,null,null,null,null,null,null,null,null,null,null,null,"'CZ_2020-10'!$A:$H","$A:$H","11513CZ44105","GOLLINUCCI Sorter 580 Plus Line, 600 mm, výška 505mm, 80 l, šedý","ARDEA","neuwirth","2020-10-01","Marcela Piechová",68.555453200000002]
[{"$error":"#N/A"},null,{"$f":"IFERROR(VLOOKUP(B986,List1!$A:$B,2,0),\"x\")","v":"x"},null,null,null,null,null,null,{"$f":"CONCATENATE(VLOOKUP(E986,[1]Seznamy!$Q$2:$R$36,2,0),VLOOKUP(F986,[1]Produkty!$I:$O,7,0),C986,D986)","v":{"$error":"#N/A"}},null,null,null,null,null,null,null,null,null,null,null,null,null,null,null,null,null,null,null,null,null,null,null,null,null,null,null,null,null,null,null,null,null,null,null,null,null,null,null,null,null,null,"'CZ_2020-10'!$A:$H","$A:$H","1117CZ44105","STRONG Stolová noha centrální 450x450 černá","Kili","neuwirth","2020-10-01","Lukáš Sládek",33.67505388]
[{"$error":"#N/A"},null,{"$f":"IFERROR(VLOOKUP(B987,List1!$A:$B,2,0),\"x\")","v":"x"},null,null,null,null,null,null,{"$f":"CONCATENATE(VLOOKUP(E987,[1]Seznamy!$Q$2:$R$36,2,0),VLOOKUP(F987,[1]Produkty!$I:$O,7,0),C987,D987)","v":{"$error":"#N/A"}},null,null,null,null,null,null,null,null,null,null,null,null,null,null,null,null,null,null,null,null,null,null,null,null,null,null,null,null,null,null,null,null,null,null,null,null,null,null,null,null,null,null,"'CZ_2020-10'!$A:$H","$A:$H","1017CZ44105","STRONG Stolová noha centrální 450x450 černá","_Demos","neuwirth","2020-10-01","Lukáš Sládek",33.67505388]
[{"$error":"#N/A"},null,{"$f":"IFERROR(VLOOKUP(B988,List1!$A:$B,2,0),\"x\")","v":"x"},null,null,null,null,null,null,{"$f":"CONCATENATE(VLOOKUP(E988,[1]Seznamy!$Q$2:$R$36,2,0),VLOOKUP(F988,[1]Produkty!$I:$O,7,0),C988,D988)","v":{"$error":"#N/A"}},null,null,null,null,null,null,null,null,null,null,null,null,null,null,null,null,null,null,null,null,null,null,null,null,null,null,null,null,null,null,null,null,null,null,null,null,null,null,null,null,null,null,"'CZ_2020-10'!$A:$H","$A:$H","10415CZ44105","GOLLINUCCI Sorter Linea 222, 300 mm","Dřevotrust","neuwirth","2020-10-01","Marcela Piechová",25.28515496]
[{"$error":"#N/A"},null,{"$f":"IFERROR(VLOOKUP(B989,List1!$A:$B,2,0),\"x\")","v":"x"},null,null,null,null,null,null,{"$f":"CONCATENATE(VLOOKUP(E989,[1]Seznamy!$Q$2:$R$36,2,0),VLOOKUP(F989,[1]Produkty!$I:$O,7,0),C989,D989)","v":{"$error":"#N/A"}},null,null,null,null,null,null,null,null,null,null,null,null,null,null,null,null,null,null,null,null,null,null,null,null,null,null,null,null,null,null,null,null,null,null,null,null,null,null,null,null,null,null,"'HU_2020-10'!$A:$H","$A:$H","10816HU44105","TULIP úchytka Nakana 128 chrom matný + šroubky","Schachermayer","keves","2020-10-01","Lenka Kormaník",0.77199727615999991]
[{"$error":"#N/A"},null,{"$f":"IFERROR(VLOOKUP(B990,List1!$A:$B,2,0),\"x\")","v":"x"},null,null,null,null,null,null,{"$f":"CONCATENATE(VLOOKUP(E990,[1]Seznamy!$Q$2:$R$36,2,0),VLOOKUP(F990,[1]Produkty!$I:$O,7,0),C990,D990)","v":{"$error":"#N/A"}},null,null,null,null,null,null,null,null,null,null,null,null,null,null,null,null,null,null,null,null,null,null,null,null,null,null,null,null,null,null,null,null,null,null,null,null,null,null,null,null,null,null,"'CZ_2020-10'!$A:$H","$A:$H","1047CZ44105","STRONG Stolová noha centrální 450x450 černá","Dřevotrust","neuwirth","2020-10-01","Lukáš Sládek",33.67505388]
[{"$error":"#N/A"},null,{"$f":"IFERROR(VLOOKUP(B991,List1!$A:$B,2,0),\"x\")","v":"x"},null,null,null,null,null,null,{"$f":"CONCATENATE(VLOOKUP(E991,[1]Seznamy!$Q$2:$R$36,2,0),VLOOKUP(F991,[1]Produkty!$I:$O,7,0),C991,D991)","v":{"$error":"#N/A"}},null,null,null,null,null,null,null,null,null,null,null,null,null,null,null,null,null,null,null,null,null,null,null,null,null,null,null,null,null,null,null,null,null,null,null,null,null,null,null,null,null,null,"'CZ_2020-10'!$A:$H","$A:$H","11115CZ44105","GOLLINUCCI Sorter Linea 222, 300 mm","Kili","neuwirth","2020-10-01","Marcela Piechová",25.28515496]
[{"$error":"#N/A"},null,{"$f":"IFERROR(VLOOKUP(B992,List1!$A:$B,2,0),\"x\")","v":"x"},null,null,null,null,null,null,{"$f":"CONCATENATE(VLOOKUP(E992,[1]Seznamy!$Q$2:$R$36,2,0),VLOOKUP(F992,[1]Produkty!$I:$O,7,0),C992,D992)","v":{"$error":"#N/A"}},null,null,null,null,null,null,null,null,null,null,null,null,null,null,null,null,null,null,null,null,null,null,null,null,null,null,null,null,null,null,null,null,null,null,null,null,null,null,null,null,null,null,"'CZ_2020-10'!$A:$H","$A:$H","10914CZ44105","FRANKE Dřez ETN 610 455 x 435","Hafele","neuwirth","2020-10-01","Marcela Piechová",23.091640000000002]
[{"$error":"#N/A"},null,{"$f":"IFERROR(VLOOKUP(B993,List1!$A:$B,2,0),\"x\")","v":"x"},null,null,null,null,null,null,{"$f":"CONCATENATE(VLOOKUP(E993,[1]Seznamy!$Q$2:$R$36,2,0),VLOOKUP(F993,[1]Produkty!$I:$O,7,0),C993,D993)","v":{"$error":"#N/A"}},null,null,null,null,null,null,null,null,null,null,null,null,null,null,null,null,null,null,null,null,null,null,null,null,null,null,null,null,null,null,null,null,null,null,null,null,null,null,null,null,null,null,"'HU_2020-10'!$A:$H","$A:$H","13333HU44105","SEVROLL Era úchytová lišta 18mm 2,70m stříbrná","Homoki-Zár","keves","2020-10-01","NULL",2.8160000000000001E-5]
[{"$error":"#N/A"},null,{"$f":"IFERROR(VLOOKUP(B994,List1!$A:$B,2,0),\"x\")","v":"x"},null,null,null,null,null,null,{"$f":"CONCATENATE(VLOOKUP(E994,[1]Seznamy!$Q$2:$R$36,2,0),VLOOKUP(F994,[1]Produkty!$I:$O,7,0),C994,D994)","v":{"$error":"#N/A"}},null,null,null,null,null,null,null,null,null,null,null,null,null,null,null,null,null,null,null,null,null,null,null,null,null,null,null,null,null,null,null,null,null,null,null,null,null,null,null,null,null,null,"'HU_2020-10'!$A:$H","$A:$H","10316HU44105","TULIP úchytka Nakana 128 chrom matný + šroubky","Lunit","keves","2020-10-01","Lenka Kormaník",0.77199727615999991]
[{"$error":"#N/A"},null,{"$f":"IFERROR(VLOOKUP(B995,List1!$A:$B,2,0),\"x\")","v":"x"},null,null,null,null,null,null,{"$f":"CONCATENATE(VLOOKUP(E995,[1]Seznamy!$Q$2:$R$36,2,0),VLOOKUP(F995,[1]Produkty!$I:$O,7,0),C995,D995)","v":{"$error":"#N/A"}},null,null,null,null,null,null,null,null,null,null,null,null,null,null,null,null,null,null,null,null,null,null,null,null,null,null,null,null,null,null,null,null,null,null,null,null,null,null,null,null,null,null,"'CZ_2020-10'!$A:$H","$A:$H","10910CZ44105","FRANKE Dřez ETN 614 6/4 obyčejný ventil bez otvoru","Hafele","neuwirth","2020-10-01","Marcela Piechová",20.916063999999999]
[{"$error":"#N/A"},null,{"$f":"IFERROR(VLOOKUP(B996,List1!$A:$B,2,0),\"x\")","v":"x"},null,null,null,null,null,null,{"$f":"CONCATENATE(VLOOKUP(E996,[1]Seznamy!$Q$2:$R$36,2,0),VLOOKUP(F996,[1]Produkty!$I:$O,7,0),C996,D996)","v":{"$error":"#N/A"}},null,null,null,null,null,null,null,null,null,null,null,null,null,null,null,null,null,null,null,null,null,null,null,null,null,null,null,null,null,null,null,null,null,null,null,null,null,null,null,null,null,null,"'CZ_2020-10'!$A:$H","$A:$H","11415CZ44105","GOLLINUCCI Sorter Linea 222, 300 mm","Kopecký CZ","neuwirth","2020-10-01","Marcela Piechová",25.28515496]
[{"$error":"#N/A"},null,{"$f":"IFERROR(VLOOKUP(B997,List1!$A:$B,2,0),\"x\")","v":"x"},null,null,null,null,null,null,{"$f":"CONCATENATE(VLOOKUP(E997,[1]Seznamy!$Q$2:$R$36,2,0),VLOOKUP(F997,[1]Produkty!$I:$O,7,0),C997,D997)","v":{"$error":"#N/A"}},null,null,null,null,null,null,null,null,null,null,null,null,null,null,null,null,null,null,null,null,null,null,null,null,null,null,null,null,null,null,null,null,null,null,null,null,null,null,null,null,null,null,"'CZ_2020-10'!$A:$H","$A:$H","10114CZ44105","FRANKE Dřez ETN 610 455 x 435","_Demos","neuwirth","2020-10-01","Marcela Piechová",23.091640000000002]
[{"$error":"#N/A"},null,{"$f":"IFERROR(VLOOKUP(B998,List1!$A:$B,2,0),\"x\")","v":"x"},null,null,null,null,null,null,{"$f":"CONCATENATE(VLOOKUP(E998,[1]Seznamy!$Q$2:$R$36,2,0),VLOOKUP(F998,[1]Produkty!$I:$O,7,0),C998,D998)","v":{"$error":"#N/A"}},null,null,null,null,null,null,null,null,null,null,null,null,null,null,null,null,null,null,null,null,null,null,null,null,null,null,null,null,null,null,null,null,null,null,null,null,null,null,null,null,null,null,"'CZ_2020-10'!$A:$H","$A:$H","10414CZ44105","FRANKE Dřez ETN 610 455 x 435","Dřevotrust","neuwirth","2020-10-01","Marcela Piechová",23.091640000000002]
[{"$error":"#N/A"},null,{"$f":"IFERROR(VLOOKUP(B999,List1!$A:$B,2,0),\"x\")","v":"x"},null,null,null,null,null,null,{"$f":"CONCATENATE(VLOOKUP(E999,[1]Seznamy!$Q$2:$R$36,2,0),VLOOKUP(F999,[1]Produkty!$I:$O,7,0),C999,D999)","v":{"$error":"#N/A"}},null,null,null,null,null,null,null,null,null,null,null,null,null,null,null,null,null,null,null,null,null,null,null,null,null,null,null,null,null,null,null,null,null,null,null,null,null,null,null,null,null,null,"'CZ_2020-10'!$A:$H","$A:$H","11410CZ44105","FRANKE Dřez ETN 614 6/4 obyčejný ventil bez otvoru","Kopecký CZ","neuwirth","2020-10-01","Marcela Piechová",20.916063999999999]
[{"$error":"#N/A"},null,{"$f":"IFERROR(VLOOKUP(B1000,List1!$A:$B,2,0),\"x\")","v":"x"},null,null,null,null,null,null,{"$f":"CONCATENATE(VLOOKUP(E1000,[1]Seznamy!$Q$2:$R$36,2,0),VLOOKUP(F1000,[1]Produkty!$I:$O,7,0),C1000,D1000)","v":{"$error":"#N/A"}},null,null,null,null,null,null,null,null,null,null,null,null,null,null,null,null,null,null,null,null,null,null,null,null,null,null,null,null,null,null,null,null,null,null,null,null,null,null,null,null,null,null,"'CZ_2020-10'!$A:$H","$A:$H","10312CZ44105","GOLLINUCCI Sorter Sistema 901/2x16 l, 600 mm","Lunit","neuwirth","2020-10-01","Marcela Piechová",15.70384192]
[{"$error":"#N/A"},null,{"$f":"IFERROR(VLOOKUP(B1001,List1!$A:$B,2,0),\"x\")","v":"x"},null,null,null,null,null,null,{"$f":"CONCATENATE(VLOOKUP(E1001,[1]Seznamy!$Q$2:$R$36,2,0),VLOOKUP(F1001,[1]Produkty!$I:$O,7,0),C1001,D1001)","v":{"$error":"#N/A"}},null,null,null,null,null,null,null,null,null,null,null,null,null,null,null,null,null,null,null,null,null,null,null,null,null,null,null,null,null,null,null,null,null,null,null,null,null,null,null,null,null,null,"'CZ_2020-10'!$A:$H","$A:$H","11310CZ44105","FRANKE Dřez ETN 614 6/4 obyčejný ventil bez otvoru","Sinks","neuwirth","2020-10-01","Marcela Piechová",20.916063999999999]
[{"$error":"#N/A"},null,{"$f":"IFERROR(VLOOKUP(B1006,List1!$A:$B,2,0),\"x\")","v":"x"},null,null,null,null,null,null,{"$f":"CONCATENATE(VLOOKUP(E1006,[1]Seznamy!$Q$2:$R$36,2,0),VLOOKUP(F1006,[1]Produkty!$I:$O,7,0),C1006,D1006)","v":{"$error":"#N/A"}},null,null,null,null,null,null,null,null,null,null,null,null,null,null,null,null,null,null,null,null,null,null,null,null,null,null,null,null,null,null,null,null,null,null,null,null,null,null,null,null,null,null,"'HU_2020-10'!$A:$H","$A:$H","13133HU44105","SEVROLL Era úchytová lišta 18mm 2,70m stříbrná","Kamex-Laguna","keves","2020-10-01","NULL",2.8160000000000001E-5]
[{"$error":"#N/A"},null,{"$f":"IFERROR(VLOOKUP(B1011,List1!$A:$B,2,0),\"x\")","v":"x"},null,null,null,null,null,null,{"$f":"CONCATENATE(VLOOKUP(E1011,[1]Seznamy!$Q$2:$R$36,2,0),VLOOKUP(F1011,[1]Produkty!$I:$O,7,0),C1011,D1011)","v":{"$error":"#N/A"}},null,null,null,null,null,null,null,null,null,null,null,null,null,null,null,null,null,null,null,null,null,null,null,null,null,null,null,null,null,null,null,null,null,null,null,null,null,null,null,null,null,null,"'CZ_2020-10'!$A:$H","$A:$H","1038CZ44105","STRONG Elektrická zásuvka 3x230V, francouzský typ, 265x130x68 mm stříbrná","Lunit","neuwirth","2020-10-01","Lukáš Sládek",12.88628016]
[{"$error":"#N/A"},null,{"$f":"IFERROR(VLOOKUP(B1012,List1!$A:$B,2,0),\"x\")","v":"x"},null,null,null,null,null,null,{"$f":"CONCATENATE(VLOOKUP(E1012,[1]Seznamy!$Q$2:$R$36,2,0),VLOOKUP(F1012,[1]Produkty!$I:$O,7,0),C1012,D1012)","v":{"$error":"#N/A"}},null,null,null,null,null,null,null,null,null,null,null,null,null,null,null,null,null,null,null,null,null,null,null,null,null,null,null,null,null,null,null,null,null,null,null,null,null,null,null,null,null,null,"'HU_2020-10'!$A:$H","$A:$H","10122HU44105","STRONG LED pásek 21,6W/m 24V bílá neutrální 210 LED/m","_Demos","keves","2020-10-01","Stančo Denčev",3.31660032]
[{"$error":"#N/A"},null,{"$f":"IFERROR(VLOOKUP(B1018,List1!$A:$B,2,0),\"x\")","v":"x"},null,null,null,null,null,null,{"$f":"CONCATENATE(VLOOKUP(E1018,[1]Seznamy!$Q$2:$R$36,2,0),VLOOKUP(F1018,[1]Produkty!$I:$O,7,0),C1018,D1018)","v":{"$error":"#N/A"}},null,null,null,null,null,null,null,null,null,null,null,null,null,null,null,null,null,null,null,null,null,null,null,null,null,null,null,null,null,null,null,null,null,null,null,null,null,null,null,null,null,null,"'CZ_2020-10'!$A:$H","$A:$H","11510CZ44105","FRANKE Dřez ETN 614 6/4 obyčejný ventil bez otvoru","ARDEA","neuwirth","2020-10-01","Marcela Piechová",20.916063999999999]
[{"$error":"#N/A"},null,{"$f":"IFERROR(VLOOKUP(B1021,List1!$A:$B,2,0),\"x\")","v":"x"},null,null,null,null,null,null,{"$f":"CONCATENATE(VLOOKUP(E1021,[1]Seznamy!$Q$2:$R$36,2,0),VLOOKUP(F1021,[1]Produkty!$I:$O,7,0),C1021,D1021)","v":{"$error":"#N/A"}},null,null,null,null,null,null,null,null,null,null,null,null,null,null,null,null,null,null,null,null,null,null,null,null,null,null,null,null,null,null,null,null,null,null,null,null,null,null,null,null,null,null,"'CZ_2020-10'!$A:$H","$A:$H","11315CZ44105","GOLLINUCCI Sorter Linea 222, 300 mm","Sinks","neuwirth","2020-10-01","Marcela Piechová",25.28515496]
[{"$error":"#N/A"},null,{"$f":"IFERROR(VLOOKUP(B1026,List1!$A:$B,2,0),\"x\")","v":"x"},null,null,null,null,null,null,{"$f":"CONCATENATE(VLOOKUP(E1026,[1]Seznamy!$Q$2:$R$36,2,0),VLOOKUP(F1026,[1]Produkty!$I:$O,7,0),C1026,D1026)","v":{"$error":"#N/A"}},null,null,null,null,null,null,null,null,null,null,null,null,null,null,null,null,null,null,null,null,null,null,null,null,null,null,null,null,null,null,null,null,null,null,null,null,null,null,null,null,null,null,"'CZ_2020-10'!$A:$H","$A:$H","11015CZ44105","GOLLINUCCI Sorter Linea 222, 300 mm","GTV","neuwirth","2020-10-01","Marcela Piechová",25.28515496]
[{"$error":"#N/A"},null,{"$f":"IFERROR(VLOOKUP(B1027,List1!$A:$B,2,0),\"x\")","v":"x"},null,null,null,null,null,null,{"$f":"CONCATENATE(VLOOKUP(E1027,[1]Seznamy!$Q$2:$R$36,2,0),VLOOKUP(F1027,[1]Produkty!$I:$O,7,0),C1027,D1027)","v":{"$error":"#N/A"}},null,null,null,null,null,null,null,null,null,null,null,null,null,null,null,null,null,null,null,null,null,null,null,null,null,null,null,null,null,null,null,null,null,null,null,null,null,null,null,null,null,null,"'CZ_2020-10'!$A:$H","$A:$H","1018CZ44105","STRONG Elektrická zásuvka 3x230V, francouzský typ, 265x130x68 mm stříbrná","_Demos","neuwirth","2020-10-01","Lukáš Sládek",12.88628016]
[{"$error":"#N/A"},null,{"$f":"IFERROR(VLOOKUP(B1032,List1!$A:$B,2,0),\"x\")","v":"x"},null,null,null,null,null,null,{"$f":"CONCATENATE(VLOOKUP(E1032,[1]Seznamy!$Q$2:$R$36,2,0),VLOOKUP(F1032,[1]Produkty!$I:$O,7,0),C1032,D1032)","v":{"$error":"#N/A"}},null,null,null,null,null,null,null,null,null,null,null,null,null,null,null,null,null,null,null,null,null,null,null,null,null,null,null,null,null,null,null,null,null,null,null,null,null,null,null,null,null,null,"'CZ_2020-10'!$A:$H","$A:$H","11314CZ44105","FRANKE Dřez ETN 610 455 x 435","Sinks","neuwirth","2020-10-01","Marcela Piechová",23.091640000000002]
[{"$error":"#N/A"},null,{"$f":"IFERROR(VLOOKUP(B1036,List1!$A:$B,2,0),\"x\")","v":"x"},null,null,null,null,null,null,{"$f":"CONCATENATE(VLOOKUP(E1036,[1]Seznamy!$Q$2:$R$36,2,0),VLOOKUP(F1036,[1]Produkty!$I:$O,7,0),C1036,D1036)","v":{"$error":"#N/A"}},null,null,null,null,null,null,null,null,null,null,null,null,null,null,null,null,null,null,null,null,null,null,null,null,null,null,null,null,null,null,null,null,null,null,null,null,null,null,null,null,null,null,"'CZ_2020-10'!$A:$H","$A:$H","11614CZ44105","FRANKE Dřez ETN 610 455 x 435","Exkalibr","neuwirth","2020-10-01","Marcela Piechová",23.091640000000002]
[{"$error":"#N/A"},null,{"$f":"IFERROR(VLOOKUP(B1041,List1!$A:$B,2,0),\"x\")","v":"x"},null,null,null,null,null,null,{"$f":"CONCATENATE(VLOOKUP(E1041,[1]Seznamy!$Q$2:$R$36,2,0),VLOOKUP(F1041,[1]Produkty!$I:$O,7,0),C1041,D1041)","v":{"$error":"#N/A"}},null,null,null,null,null,null,null,null,null,null,null,null,null,null,null,null,null,null,null,null,null,null,null,null,null,null,null,null,null,null,null,null,null,null,null,null,null,null,null,null,null,null,"'PL_2020-10'!$A:$H","$A:$H","10111PL44105","FRANKE Dřez BFG 611-78 780 x 500 onyx","_Demos","pastuszak","2020-10-01","Marcela Piechová",111.2674992]
[{"$error":"#N/A"},null,{"$f":"IFERROR(VLOOKUP(B1042,List1!$A:$B,2,0),\"x\")","v":"x"},null,null,null,null,null,null,{"$f":"CONCATENATE(VLOOKUP(E1042,[1]Seznamy!$Q$2:$R$36,2,0),VLOOKUP(F1042,[1]Produkty!$I:$O,7,0),C1042,D1042)","v":{"$error":"#N/A"}},null,null,null,null,null,null,null,null,null,null,null,null,null,null,null,null,null,null,null,null,null,null,null,null,null,null,null,null,null,null,null,null,null,null,null,null,null,null,null,null,null,null,"'CZ_2020-10'!$A:$H","$A:$H","10112CZ44105","GOLLINUCCI Sorter Sistema 901/2x16 l, 600 mm","_Demos","neuwirth","2020-10-01","Marcela Piechová",15.70384192]
[{"$error":"#N/A"},null,{"$f":"IFERROR(VLOOKUP(B1048,List1!$A:$B,2,0),\"x\")","v":"x"},null,null,null,null,null,null,{"$f":"CONCATENATE(VLOOKUP(E1048,[1]Seznamy!$Q$2:$R$36,2,0),VLOOKUP(F1048,[1]Produkty!$I:$O,7,0),C1048,D1048)","v":{"$error":"#N/A"}},null,null,null,null,null,null,null,null,null,null,null,null,null,null,null,null,null,null,null,null,null,null,null,null,null,null,null,null,null,null,null,null,null,null,null,null,null,null,null,null,null,null,"'CZ_2020-10'!$A:$H","$A:$H","1014CZ44105","StrongMax 89/500 mm šedý (antracit)","_Demos","neuwirth","2020-10-01","Martin Zniszczol",9.1003962400000002]
[{"$error":"#N/A"},null,{"$f":"IFERROR(VLOOKUP(B1051,List1!$A:$B,2,0),\"x\")","v":"x"},null,null,null,null,null,null,{"$f":"CONCATENATE(VLOOKUP(E1051,[1]Seznamy!$Q$2:$R$36,2,0),VLOOKUP(F1051,[1]Produkty!$I:$O,7,0),C1051,D1051)","v":{"$error":"#N/A"}},null,null,null,null,null,null,null,null,null,null,null,null,null,null,null,null,null,null,null,null,null,null,null,null,null,null,null,null,null,null,null,null,null,null,null,null,null,null,null,null,null,null,"'CZ_2020-10'!$A:$H","$A:$H","1168CZ44105","STRONG Elektrická zásuvka 3x230V, francouzský typ, 265x130x68 mm stříbrná","Exkalibr","neuwirth","2020-10-01","Lukáš Sládek",12.88628016]
[{"$error":"#N/A"},null,{"$f":"IFERROR(VLOOKUP(B1056,List1!$A:$B,2,0),\"x\")","v":"x"},null,null,null,null,null,null,{"$f":"CONCATENATE(VLOOKUP(E1056,[1]Seznamy!$Q$2:$R$36,2,0),VLOOKUP(F1056,[1]Produkty!$I:$O,7,0),C1056,D1056)","v":{"$error":"#N/A"}},null,null,null,null,null,null,null,null,null,null,null,null,null,null,null,null,null,null,null,null,null,null,null,null,null,null,null,null,null,null,null,null,null,null,null,null,null,null,null,null,null,null,"'CZ_2020-10'!$A:$H","$A:$H","10434CZ44105","Strong electric socket, lift","Dřevotrust","neuwirth","2020-10-01","NULL",12.923845868960001]
[{"$error":"#N/A"},null,{"$f":"IFERROR(VLOOKUP(B1057,List1!$A:$B,2,0),\"x\")","v":"x"},null,null,null,null,null,null,{"$f":"CONCATENATE(VLOOKUP(E1057,[1]Seznamy!$Q$2:$R$36,2,0),VLOOKUP(F1057,[1]Produkty!$I:$O,7,0),C1057,D1057)","v":{"$error":"#N/A"}},null,null,null,null,null,null,null,null,null,null,null,null,null,null,null,null,null,null,null,null,null,null,null,null,null,null,null,null,null,null,null,null,null,null,null,null,null,null,null,null,null,null,"'CZ_2020-10'!$A:$H","$A:$H","1198CZ44105","STRONG Elektrická zásuvka 3x230V, francouzský typ, 265x130x68 mm stříbrná","KNK","neuwirth","2020-10-01","Lukáš Sládek",12.88628016]
[{"$error":"#N/A"},null,{"$f":"IFERROR(VLOOKUP(B1062,List1!$A:$B,2,0),\"x\")","v":"x"},null,null,null,null,null,null,{"$f":"CONCATENATE(VLOOKUP(E1062,[1]Seznamy!$Q$2:$R$36,2,0),VLOOKUP(F1062,[1]Produkty!$I:$O,7,0),C1062,D1062)","v":{"$error":"#N/A"}},null,null,null,null,null,null,null,null,null,null,null,null,null,null,null,null,null,null,null,null,null,null,null,null,null,null,null,null,null,null,null,null,null,null,null,null,null,null,null,null,null,null,"'CZ_2020-10'!$A:$H","$A:$H","1158CZ44105","STRONG Elektrická zásuvka 3x230V, francouzský typ, 265x130x68 mm stříbrná","ARDEA","neuwirth","2020-10-01","Lukáš Sládek",12.88628016]
[{"$error":"#N/A"},null,{"$f":"IFERROR(VLOOKUP(B1066,List1!$A:$B,2,0),\"x\")","v":"x"},null,null,null,null,null,null,{"$f":"CONCATENATE(VLOOKUP(E1066,[1]Seznamy!$Q$2:$R$36,2,0),VLOOKUP(F1066,[1]Produkty!$I:$O,7,0),C1066,D1066)","v":{"$error":"#N/A"}},null,null,null,null,null,null,null,null,null,null,null,null,null,null,null,null,null,null,null,null,null,null,null,null,null,null,null,null,null,null,null,null,null,null,null,null,null,null,null,null,null,null,"'CZ_2020-10'!$A:$H","$A:$H","1144CZ44105","StrongMax 89/500 mm šedý (antracit)","Kopecký CZ","neuwirth","2020-10-01","Martin Zniszczol",9.1003962400000002]
[{"$error":"#N/A"},null,{"$f":"IFERROR(VLOOKUP(B1071,List1!$A:$B,2,0),\"x\")","v":"x"},null,null,null,null,null,null,{"$f":"CONCATENATE(VLOOKUP(E1071,[1]Seznamy!$Q$2:$R$36,2,0),VLOOKUP(F1071,[1]Produkty!$I:$O,7,0),C1071,D1071)","v":{"$error":"#N/A"}},null,null,null,null,null,null,null,null,null,null,null,null,null,null,null,null,null,null,null,null,null,null,null,null,null,null,null,null,null,null,null,null,null,null,null,null,null,null,null,null,null,null,"'CZ_2020-10'!$A:$H","$A:$H","10612CZ44105","GOLLINUCCI Sorter Sistema 901/2x16 l, 600 mm","Nábytkár","neuwirth","2020-10-01","Marcela Piechová",15.70384192]
[{"$error":"#N/A"},null,{"$f":"IFERROR(VLOOKUP(B1072,List1!$A:$B,2,0),\"x\")","v":"x"},null,null,null,null,null,null,{"$f":"CONCATENATE(VLOOKUP(E1072,[1]Seznamy!$Q$2:$R$36,2,0),VLOOKUP(F1072,[1]Produkty!$I:$O,7,0),C1072,D1072)","v":{"$error":"#N/A"}},null,null,null,null,null,null,null,null,null,null,null,null,null,null,null,null,null,null,null,null,null,null,null,null,null,null,null,null,null,null,null,null,null,null,null,null,null,null,null,null,null,null,"'CZ_2020-10'!$A:$H","$A:$H","10634CZ44105","Strong electric socket, lift","Nábytkár","neuwirth","2020-10-01","NULL",12.923845868960001]
[{"$error":"#N/A"},null,{"$f":"IFERROR(VLOOKUP(B1078,List1!$A:$B,2,0),\"x\")","v":"x"},null,null,null,null,null,null,{"$f":"CONCATENATE(VLOOKUP(E1078,[1]Seznamy!$Q$2:$R$36,2,0),VLOOKUP(F1078,[1]Produkty!$I:$O,7,0),C1078,D1078)","v":{"$error":"#N/A"}},null,null,null,null,null,null,null,null,null,null,null,null,null,null,null,null,null,null,null,null,null,null,null,null,null,null,null,null,null,null,null,null,null,null,null,null,null,null,null,null,null,null,"'HU_2020-10'!$A:$H","$A:$H","13316HU44105","TULIP úchytka Nakana 128 chrom matný + šroubky","Homoki-Zár","keves","2020-10-01","Lenka Kormaník",0.77199727615999991]
[{"$error":"#N/A"},null,{"$f":"IFERROR(VLOOKUP(B1081,List1!$A:$B,2,0),\"x\")","v":"x"},null,null,null,null,null,null,{"$f":"CONCATENATE(VLOOKUP(E1081,[1]Seznamy!$Q$2:$R$36,2,0),VLOOKUP(F1081,[1]Produkty!$I:$O,7,0),C1081,D1081)","v":{"$error":"#N/A"}},null,null,null,null,null,null,null,null,null,null,null,null,null,null,null,null,null,null,null,null,null,null,null,null,null,null,null,null,null,null,null,null,null,null,null,null,null,null,null,null,null,null,"'CZ_2020-10'!$A:$H","$A:$H","1015CZ44105","StrongRide synchro 3D celovýsuv 500 mm s tlumením","_Demos","neuwirth","2020-10-01","Martin Zniszczol",5.1412296]
[{"$error":"#N/A"},null,{"$f":"IFERROR(VLOOKUP(B1086,List1!$A:$B,2,0),\"x\")","v":"x"},null,null,null,null,null,null,{"$f":"CONCATENATE(VLOOKUP(E1086,[1]Seznamy!$Q$2:$R$36,2,0),VLOOKUP(F1086,[1]Produkty!$I:$O,7,0),C1086,D1086)","v":{"$error":"#N/A"}},null,null,null,null,null,null,null,null,null,null,null,null,null,null,null,null,null,null,null,null,null,null,null,null,null,null,null,null,null,null,null,null,null,null,null,null,null,null,null,null,null,null,"'CZ_2020-10'!$A:$H","$A:$H","1044CZ44105","StrongMax 89/500 mm šedý (antracit)","Dřevotrust","neuwirth","2020-10-01","Martin Zniszczol",9.1003962400000002]
[{"$error":"#N/A"},null,{"$f":"IFERROR(VLOOKUP(B1087,List1!$A:$B,2,0),\"x\")","v":"x"},null,null,null,null,null,null,{"$f":"CONCATENATE(VLOOKUP(E1087,[1]Seznamy!$Q$2:$R$36,2,0),VLOOKUP(F1087,[1]Produkty!$I:$O,7,0),C1087,D1087)","v":{"$error":"#N/A"}},null,null,null,null,null,null,null,null,null,null,null,null,null,null,null,null,null,null,null,null,null,null,null,null,null,null,null,null,null,null,null,null,null,null,null,null,null,null,null,null,null,null,"'HU_2020-10'!$A:$H","$A:$H","1081HU44105","STRONG plus závěs naložený s tlumením, s excentrem, klipový","Schachermayer","keves","2020-10-01","Martin Zniszczol",0.28351488000000002]
[{"$error":"#N/A"},null,{"$f":"IFERROR(VLOOKUP(B1092,List1!$A:$B,2,0),\"x\")","v":"x"},null,null,null,null,null,null,{"$f":"CONCATENATE(VLOOKUP(E1092,[1]Seznamy!$Q$2:$R$36,2,0),VLOOKUP(F1092,[1]Produkty!$I:$O,7,0),C1092,D1092)","v":{"$error":"#N/A"}},null,null,null,null,null,null,null,null,null,null,null,null,null,null,null,null,null,null,null,null,null,null,null,null,null,null,null,null,null,null,null,null,null,null,null,null,null,null,null,null,null,null,"'HU_2020-10'!$A:$H","$A:$H","13319HU44105","TULIP věšák Lugo XL chrom matný + šroubky","Homoki-Zár","keves","2020-10-01","Lenka Kormaník",0.72694533119999993]
[{"$error":"#N/A"},null,{"$f":"IFERROR(VLOOKUP(B1096,List1!$A:$B,2,0),\"x\")","v":"x"},null,null,null,null,null,null,{"$f":"CONCATENATE(VLOOKUP(E1096,[1]Seznamy!$Q$2:$R$36,2,0),VLOOKUP(F1096,[1]Produkty!$I:$O,7,0),C1096,D1096)","v":{"$error":"#N/A"}},null,null,null,null,null,null,null,null,null,null,null,null,null,null,null,null,null,null,null,null,null,null,null,null,null,null,null,null,null,null,null,null,null,null,null,null,null,null,null,null,null,null,"'HU_2020-10'!$A:$H","$A:$H","10317HU44105","TULIP úchytka Piombina 96 nikl matný + šroubky","Lunit","keves","2020-10-01","Lenka Kormaník",0.42360876799999997]
[{"$error":"#N/A"},null,{"$f":"IFERROR(VLOOKUP(B1101,List1!$A:$B,2,0),\"x\")","v":"x"},null,null,null,null,null,null,{"$f":"CONCATENATE(VLOOKUP(E1101,[1]Seznamy!$Q$2:$R$36,2,0),VLOOKUP(F1101,[1]Produkty!$I:$O,7,0),C1101,D1101)","v":{"$error":"#N/A"}},null,null,null,null,null,null,null,null,null,null,null,null,null,null,null,null,null,null,null,null,null,null,null,null,null,null,null,null,null,null,null,null,null,null,null,null,null,null,null,null,null,null,"'PL_2020-10'!$A:$H","$A:$H","10127PL44105","DTDD DUB COMMERCIAL A/B DEC 2800/2070/19","_Demos","pastuszak","2020-10-01","Martin Karaščák",0]
[{"$error":"#N/A"},null,{"$f":"IFERROR(VLOOKUP(B1102,List1!$A:$B,2,0),\"x\")","v":"x"},null,null,null,null,null,null,{"$f":"CONCATENATE(VLOOKUP(E1102,[1]Seznamy!$Q$2:$R$36,2,0),VLOOKUP(F1102,[1]Produkty!$I:$O,7,0),C1102,D1102)","v":{"$error":"#N/A"}},null,null,null,null,null,null,null,null,null,null,null,null,null,null,null,null,null,null,null,null,null,null,null,null,null,null,null,null,null,null,null,null,null,null,null,null,null,null,null,null,null,null,"'CZ_2020-10'!$A:$H","$A:$H","10731CZ44105","HDF LAK 101 BÍLÁ PE 2800/2070/3","TWD","neuwirth","2020-10-01","Martin Karaščák",5.8424658364800006]
[{"$error":"#N/A"},null,{"$f":"IFERROR(VLOOKUP(B1108,List1!$A:$B,2,0),\"x\")","v":"x"},null,null,null,null,null,null,{"$f":"CONCATENATE(VLOOKUP(E1108,[1]Seznamy!$Q$2:$R$36,2,0),VLOOKUP(F1108,[1]Produkty!$I:$O,7,0),C1108,D1108)","v":{"$error":"#N/A"}},null,null,null,null,null,null,null,null,null,null,null,null,null,null,null,null,null,null,null,null,null,null,null,null,null,null,null,null,null,null,null,null,null,null,null,null,null,null,null,null,null,null,"'HU_2020-10'!$A:$H","$A:$H","10117HU44105","TULIP úchytka Piombina 96 nikl matný + šroubky","_Demos","keves","2020-10-01","Lenka Kormaník",0.42360876799999997]
[{"$error":"#N/A"},null,{"$f":"IFERROR(VLOOKUP(B1111,List1!$A:$B,2,0),\"x\")","v":"x"},null,null,null,null,null,null,{"$f":"CONCATENATE(VLOOKUP(E1111,[1]Seznamy!$Q$2:$R$36,2,0),VLOOKUP(F1111,[1]Produkty!$I:$O,7,0),C1111,D1111)","v":{"$error":"#N/A"}},null,null,null,null,null,null,null,null,null,null,null,null,null,null,null,null,null,null,null,null,null,null,null,null,null,null,null,null,null,null,null,null,null,null,null,null,null,null,null,null,null,null,"'SK_2020-10'!$A:$H","$A:$H","10813SK44105","GOLLINUCCI Sorter 580 Plus Line, 600 mm, výška 505mm, 80 l, šedý","Schachermayer","badzik","2020-10-01","Marcela Piechová",74.02]
[{"$error":"#N/A"},null,{"$f":"IFERROR(VLOOKUP(B1116,List1!$A:$B,2,0),\"x\")","v":"x"},null,null,null,null,null,null,{"$f":"CONCATENATE(VLOOKUP(E1116,[1]Seznamy!$Q$2:$R$36,2,0),VLOOKUP(F1116,[1]Produkty!$I:$O,7,0),C1116,D1116)","v":{"$error":"#N/A"}},null,null,null,null,null,null,null,null,null,null,null,null,null,null,null,null,null,null,null,null,null,null,null,null,null,null,null,null,null,null,null,null,null,null,null,null,null,null,null,null,null,null,"'HU_2020-10'!$A:$H","$A:$H","1331HU44105","STRONG plus závěs naložený s tlumením, s excentrem, klipový","Homoki-Zár","keves","2020-10-01","Martin Zniszczol",0.28351488000000002]
[{"$error":"#N/A"},null,{"$f":"IFERROR(VLOOKUP(B1117,List1!$A:$B,2,0),\"x\")","v":"x"},null,null,null,null,null,null,{"$f":"CONCATENATE(VLOOKUP(E1117,[1]Seznamy!$Q$2:$R$36,2,0),VLOOKUP(F1117,[1]Produkty!$I:$O,7,0),C1117,D1117)","v":{"$error":"#N/A"}},null,null,null,null,null,null,null,null,null,null,null,null,null,null,null,null,null,null,null,null,null,null,null,null,null,null,null,null,null,null,null,null,null,null,null,null,null,null,null,null,null,null,"'CZ_2020-10'!$A:$H","$A:$H","11520CZ44105","TULIP Úchytka Ramara 596 imitace nerezi","ARDEA","neuwirth","2020-10-01","Lenka Kormaník",3.3996810120000003]
[{"$error":"#N/A"},null,{"$f":"IFERROR(VLOOKUP(B1122,List1!$A:$B,2,0),\"x\")","v":"x"},null,null,null,null,null,null,{"$f":"CONCATENATE(VLOOKUP(E1122,[1]Seznamy!$Q$2:$R$36,2,0),VLOOKUP(F1122,[1]Produkty!$I:$O,7,0),C1122,D1122)","v":{"$error":"#N/A"}},null,null,null,null,null,null,null,null,null,null,null,null,null,null,null,null,null,null,null,null,null,null,null,null,null,null,null,null,null,null,null,null,null,null,null,null,null,null,null,null,null,null,"'HU_2020-10'!$A:$H","$A:$H","1011HU44105","STRONG plus závěs naložený s tlumením, s excentrem, klipový","_Demos","keves","2020-10-01","Martin Zniszczol",0.28351488000000002]
[{"$error":"#N/A"},null,{"$f":"IFERROR(VLOOKUP(B1126,List1!$A:$B,2,0),\"x\")","v":"x"},null,null,null,null,null,null,{"$f":"CONCATENATE(VLOOKUP(E1126,[1]Seznamy!$Q$2:$R$36,2,0),VLOOKUP(F1126,[1]Produkty!$I:$O,7,0),C1126,D1126)","v":{"$error":"#N/A"}},null,null,null,null,null,null,null,null,null,null,null,null,null,null,null,null,null,null,null,null,null,null,null,null,null,null,null,null,null,null,null,null,null,null,null,null,null,null,null,null,null,null,"'CZ_2020-10'!$A:$H","$A:$H","10816CZ44105","TULIP úchytka Nakana 128 chrom matný + šroubky","Schachermayer","neuwirth","2020-10-01","Lenka Kormaník",0.75916152000000003]
[{"$error":"#N/A"},null,{"$f":"IFERROR(VLOOKUP(B1131,List1!$A:$B,2,0),\"x\")","v":"x"},null,null,null,null,null,null,{"$f":"CONCATENATE(VLOOKUP(E1131,[1]Seznamy!$Q$2:$R$36,2,0),VLOOKUP(F1131,[1]Produkty!$I:$O,7,0),C1131,D1131)","v":{"$error":"#N/A"}},null,null,null,null,null,null,null,null,null,null,null,null,null,null,null,null,null,null,null,null,null,null,null,null,null,null,null,null,null,null,null,null,null,null,null,null,null,null,null,null,null,null,"'HU_2020-10'!$A:$H","$A:$H","10118HU44105","TULIP úchytka Anita 96 nikl matný + šroubky","_Demos","keves","2020-10-01","Lenka Kormaník",0.26821974784000002]
[{"$error":"#N/A"},null,{"$f":"IFERROR(VLOOKUP(B1132,List1!$A:$B,2,0),\"x\")","v":"x"},null,null,null,null,null,null,{"$f":"CONCATENATE(VLOOKUP(E1132,[1]Seznamy!$Q$2:$R$36,2,0),VLOOKUP(F1132,[1]Produkty!$I:$O,7,0),C1132,D1132)","v":{"$error":"#N/A"}},null,null,null,null,null,null,null,null,null,null,null,null,null,null,null,null,null,null,null,null,null,null,null,null,null,null,null,null,null,null,null,null,null,null,null,null,null,null,null,null,null,null,"'PL_2020-10'!$A:$H","$A:$H","10110PL44105","FRANKE Dřez ETN 614 6/4 obyčejný ventil bez otvoru","_Demos","pastuszak","2020-10-01","Marcela Piechová",22.854453600000003]
[{"$error":"#N/A"},null,{"$f":"IFERROR(VLOOKUP(B1138,List1!$A:$B,2,0),\"x\")","v":"x"},null,null,null,null,null,null,{"$f":"CONCATENATE(VLOOKUP(E1138,[1]Seznamy!$Q$2:$R$36,2,0),VLOOKUP(F1138,[1]Produkty!$I:$O,7,0),C1138,D1138)","v":{"$error":"#N/A"}},null,null,null,null,null,null,null,null,null,null,null,null,null,null,null,null,null,null,null,null,null,null,null,null,null,null,null,null,null,null,null,null,null,null,null,null,null,null,null,null,null,null,"'PL_2020-10'!$A:$H","$A:$H","10112PL44105","GOLLINUCCI Sorter Sistema 901/2x16 l, 600 mm","_Demos","pastuszak","2020-10-01","Marcela Piechová",17.270591580000001]
[{"$error":"#N/A"},null,{"$f":"IFERROR(VLOOKUP(B1141,List1!$A:$B,2,0),\"x\")","v":"x"},null,null,null,null,null,null,{"$f":"CONCATENATE(VLOOKUP(E1141,[1]Seznamy!$Q$2:$R$36,2,0),VLOOKUP(F1141,[1]Produkty!$I:$O,7,0),C1141,D1141)","v":{"$error":"#N/A"}},null,null,null,null,null,null,null,null,null,null,null,null,null,null,null,null,null,null,null,null,null,null,null,null,null,null,null,null,null,null,null,null,null,null,null,null,null,null,null,null,null,null,"'SK_2020-10'!$A:$H","$A:$H","12111SK44105","FRANKE Dřez BFG 611-78 780 x 500 onyx","IW Trend","badzik","2020-10-01","Marcela Piechová",106.13]
[{"$error":"#N/A"},null,{"$f":"IFERROR(VLOOKUP(B1146,List1!$A:$B,2,0),\"x\")","v":"x"},null,null,null,null,null,null,{"$f":"CONCATENATE(VLOOKUP(E1146,[1]Seznamy!$Q$2:$R$36,2,0),VLOOKUP(F1146,[1]Produkty!$I:$O,7,0),C1146,D1146)","v":{"$error":"#N/A"}},null,null,null,null,null,null,null,null,null,null,null,null,null,null,null,null,null,null,null,null,null,null,null,null,null,null,null,null,null,null,null,null,null,null,null,null,null,null,null,null,null,null,"'HU_2020-10'!$A:$H","$A:$H","1036HU44105","STRONG Rektifikační nožka 100 mm","Lunit","keves","2020-10-01","Lukáš Sládek",9.6852940799999995E-2]
[{"$error":"#N/A"},null,{"$f":"IFERROR(VLOOKUP(B1147,List1!$A:$B,2,0),\"x\")","v":"x"},null,null,null,null,null,null,{"$f":"CONCATENATE(VLOOKUP(E1147,[1]Seznamy!$Q$2:$R$36,2,0),VLOOKUP(F1147,[1]Produkty!$I:$O,7,0),C1147,D1147)","v":{"$error":"#N/A"}},null,null,null,null,null,null,null,null,null,null,null,null,null,null,null,null,null,null,null,null,null,null,null,null,null,null,null,null,null,null,null,null,null,null,null,null,null,null,null,null,null,null,"'SK_2020-10'!$A:$H","$A:$H","1087SK44105","STRONG Stolová noha centrální 450x450 černá","Schachermayer","badzik","2020-10-01","Lukáš Sládek",34.751869999999997]
[{"$error":"#N/A"},null,{"$f":"IFERROR(VLOOKUP(B1152,List1!$A:$B,2,0),\"x\")","v":"x"},null,null,null,null,null,null,{"$f":"CONCATENATE(VLOOKUP(E1152,[1]Seznamy!$Q$2:$R$36,2,0),VLOOKUP(F1152,[1]Produkty!$I:$O,7,0),C1152,D1152)","v":{"$error":"#N/A"}},null,null,null,null,null,null,null,null,null,null,null,null,null,null,null,null,null,null,null,null,null,null,null,null,null,null,null,null,null,null,null,null,null,null,null,null,null,null,null,null,null,null,"'SK_2020-10'!$A:$H","$A:$H","12113SK44105","GOLLINUCCI Sorter 580 Plus Line, 600 mm, výška 505mm, 80 l, šedý","IW Trend","badzik","2020-10-01","Marcela Piechová",74.02]
[{"$error":"#N/A"},null,{"$f":"IFERROR(VLOOKUP(B1156,List1!$A:$B,2,0),\"x\")","v":"x"},null,null,null,null,null,null,{"$f":"CONCATENATE(VLOOKUP(E1156,[1]Seznamy!$Q$2:$R$36,2,0),VLOOKUP(F1156,[1]Produkty!$I:$O,7,0),C1156,D1156)","v":{"$error":"#N/A"}},null,null,null,null,null,null,null,null,null,null,null,null,null,null,null,null,null,null,null,null,null,null,null,null,null,null,null,null,null,null,null,null,null,null,null,null,null,null,null,null,null,null,"'HU_2020-10'!$A:$H","$A:$H","1352HU44105","STRONG závěs naložený, slide on","Bors és Horváth","keves","2020-10-01","Martin Zniszczol",0.11635711999999999]
[{"$f":"TEXT(J1161,1)","v":{"$error":"#N/A"}},null,{"$f":"IFERROR(VLOOKUP(B1161,List1!$A:$B,2,0),\"x\")","v":"x"},null,null,null,null,null,null,{"$f":"CONCATENATE(VLOOKUP(E1161,[1]Seznamy!$Q$2:$R$36,2,0),VLOOKUP(F1161,[1]Produkty!$I:$O,7,0),C1161,D1161)","v":{"$error":"#N/A"}},null,null,null,null,null,null,null,null,null,null,null,null,null,null,null,null,null,null,null,null,null,null,null,null,null,null,null,null,null,null,null,null,null,null,null,null,null,null,null,null,null,null,"'CZ_2020-10'!$A:$H","$A:$H","10121CZ44105","TULIP Úchytka Lucata 160 černá matná","_Demos","neuwirth","2020-10-01","Lenka Kormaník",0.771814212]
[{"$error":"#N/A"},null,{"$f":"IFERROR(VLOOKUP(B1162,List1!$A:$B,2,0),\"x\")","v":"x"},null,null,null,null,null,null,{"$f":"CONCATENATE(VLOOKUP(E1162,[1]Seznamy!$Q$2:$R$36,2,0),VLOOKUP(F1162,[1]Produkty!$I:$O,7,0),C1162,D1162)","v":{"$error":"#N/A"}},null,null,null,null,null,null,null,null,null,null,null,null,null,null,null,null,null,null,null,null,null,null,null,null,null,null,null,null,null,null,null,null,null,null,null,null,null,null,null,null,null,null,"'CZ_2020-10'!$A:$H","$A:$H","11521CZ44105","TULIP Úchytka Lucata 160 černá matná","ARDEA","neuwirth","2020-10-01","Lenka Kormaník",0.771814212]
[{"$error":"#N/A"},null,{"$f":"IFERROR(VLOOKUP(B1168,List1!$A:$B,2,0),\"x\")","v":"x"},null,null,null,null,null,null,{"$f":"CONCATENATE(VLOOKUP(E1168,[1]Seznamy!$Q$2:$R$36,2,0),VLOOKUP(F1168,[1]Produkty!$I:$O,7,0),C1168,D1168)","v":{"$error":"#N/A"}},null,null,null,null,null,null,null,null,null,null,null,null,null,null,null,null,null,null,null,null,null,null,null,null,null,null,null,null,null,null,null,null,null,null,null,null,null,null,null,null,null,null,"'SK_2020-10'!$A:$H","$A:$H","10812SK44105","GOLLINUCCI Sorter Sistema 901/2x16 l, 600 mm","Schachermayer","badzik","2020-10-01","Marcela Piechová",16.93]
[{"$error":"#N/A"},null,{"$f":"IFERROR(VLOOKUP(B1171,List1!$A:$B,2,0),\"x\")","v":"x"},null,null,null,null,null,null,{"$f":"CONCATENATE(VLOOKUP(E1171,[1]Seznamy!$Q$2:$R$36,2,0),VLOOKUP(F1171,[1]Produkty!$I:$O,7,0),C1171,D1171)","v":{"$error":"#N/A"}},null,null,null,null,null,null,null,null,null,null,null,null,null,null,null,null,null,null,null,null,null,null,null,null,null,null,null,null,null,null,null,null,null,null,null,null,null,null,null,null,null,null,"'CZ_2020-10'!$A:$H","$A:$H","10431CZ44105","HDF LAK 101 BÍLÁ PE 2800/2070/3","Dřevotrust","neuwirth","2020-10-01","Martin Karaščák",5.8424658364800006]
[{"$error":"#N/A"},null,{"$f":"IFERROR(VLOOKUP(B1176,List1!$A:$B,2,0),\"x\")","v":"x"},null,null,null,null,null,null,{"$f":"CONCATENATE(VLOOKUP(E1176,[1]Seznamy!$Q$2:$R$36,2,0),VLOOKUP(F1176,[1]Produkty!$I:$O,7,0),C1176,D1176)","v":{"$error":"#N/A"}},null,null,null,null,null,null,null,null,null,null,null,null,null,null,null,null,null,null,null,null,null,null,null,null,null,null,null,null,null,null,null,null,null,null,null,null,null,null,null,null,null,null,"'CZ_2020-10'!$A:$H","$A:$H","10531CZ44105","HDF LAK 101 BÍLÁ PE 2800/2070/3","Jaf Holz","neuwirth","2020-10-01","Martin Karaščák",5.8424658364800006]
[{"$error":"#N/A"},null,{"$f":"IFERROR(VLOOKUP(B1177,List1!$A:$B,2,0),\"x\")","v":"x"},null,null,null,null,null,null,{"$f":"CONCATENATE(VLOOKUP(E1177,[1]Seznamy!$Q$2:$R$36,2,0),VLOOKUP(F1177,[1]Produkty!$I:$O,7,0),C1177,D1177)","v":{"$error":"#N/A"}},null,null,null,null,null,null,null,null,null,null,null,null,null,null,null,null,null,null,null,null,null,null,null,null,null,null,null,null,null,null,null,null,null,null,null,null,null,null,null,null,null,null,"'SK_2020-10'!$A:$H","$A:$H","1067SK44105","STRONG Stolová noha centrální 450x450 černá","Nábytkár","badzik","2020-10-01","Lukáš Sládek",34.751869999999997]
[{"$error":"#N/A"},null,{"$f":"IFERROR(VLOOKUP(B1182,List1!$A:$B,2,0),\"x\")","v":"x"},null,null,null,null,null,null,{"$f":"CONCATENATE(VLOOKUP(E1182,[1]Seznamy!$Q$2:$R$36,2,0),VLOOKUP(F1182,[1]Produkty!$I:$O,7,0),C1182,D1182)","v":{"$error":"#N/A"}},null,null,null,null,null,null,null,null,null,null,null,null,null,null,null,null,null,null,null,null,null,null,null,null,null,null,null,null,null,null,null,null,null,null,null,null,null,null,null,null,null,null,"'SK_2020-10'!$A:$H","$A:$H","12128SK44105","DTDD Dub evr. radiál st A/B 2800/2070/19","IW Trend","badzik","2020-10-01","Martin Karaščák",58.655520000000003]
[{"$error":"#N/A"},null,{"$f":"IFERROR(VLOOKUP(B1186,List1!$A:$B,2,0),\"x\")","v":"x"},null,null,null,null,null,null,{"$f":"CONCATENATE(VLOOKUP(E1186,[1]Seznamy!$Q$2:$R$36,2,0),VLOOKUP(F1186,[1]Produkty!$I:$O,7,0),C1186,D1186)","v":{"$error":"#N/A"}},null,null,null,null,null,null,null,null,null,null,null,null,null,null,null,null,null,null,null,null,null,null,null,null,null,null,null,null,null,null,null,null,null,null,null,null,null,null,null,null,null,null,"'CZ_2020-10'!$A:$H","$A:$H","10516CZ44105","TULIP úchytka Nakana 128 chrom matný + šroubky","Jaf Holz","neuwirth","2020-10-01","Lenka Kormaník",0.75916152000000003]
[{"$error":"#N/A"},null,{"$f":"IFERROR(VLOOKUP(B1191,List1!$A:$B,2,0),\"x\")","v":"x"},null,null,null,null,null,null,{"$f":"CONCATENATE(VLOOKUP(E1191,[1]Seznamy!$Q$2:$R$36,2,0),VLOOKUP(F1191,[1]Produkty!$I:$O,7,0),C1191,D1191)","v":{"$error":"#N/A"}},null,null,null,null,null,null,null,null,null,null,null,null,null,null,null,null,null,null,null,null,null,null,null,null,null,null,null,null,null,null,null,null,null,null,null,null,null,null,null,null,null,null,"'CZ_2020-10'!$A:$H","$A:$H","10117CZ44105","TULIP úchytka Piombina 96 nikl matný + šroubky","_Demos","neuwirth","2020-10-01","Lenka Kormaník",0.41656555200000001]
[{"$error":"#N/A"},null,{"$f":"IFERROR(VLOOKUP(B1192,List1!$A:$B,2,0),\"x\")","v":"x"},null,null,null,null,null,null,{"$f":"CONCATENATE(VLOOKUP(E1192,[1]Seznamy!$Q$2:$R$36,2,0),VLOOKUP(F1192,[1]Produkty!$I:$O,7,0),C1192,D1192)","v":{"$error":"#N/A"}},null,null,null,null,null,null,null,null,null,null,null,null,null,null,null,null,null,null,null,null,null,null,null,null,null,null,null,null,null,null,null,null,null,null,null,null,null,null,null,null,null,null,"'SK_2020-10'!$A:$H","$A:$H","10615SK44105","GOLLINUCCI Sorter Linea 222, 300 mm","Nábytkár","badzik","2020-10-01","Marcela Piechová",27.33]
[{"$error":"#N/A"},null,{"$f":"IFERROR(VLOOKUP(B1198,List1!$A:$B,2,0),\"x\")","v":"x"},null,null,null,null,null,null,{"$f":"CONCATENATE(VLOOKUP(E1198,[1]Seznamy!$Q$2:$R$36,2,0),VLOOKUP(F1198,[1]Produkty!$I:$O,7,0),C1198,D1198)","v":{"$error":"#N/A"}},null,null,null,null,null,null,null,null,null,null,null,null,null,null,null,null,null,null,null,null,null,null,null,null,null,null,null,null,null,null,null,null,null,null,null,null,null,null,null,null,null,null,"'CZ_2020-10'!$A:$H","$A:$H","10919CZ44105","TULIP věšák Lugo XL chrom matný + šroubky","Hafele","neuwirth","2020-10-01","Lenka Kormaník",0.71147060399999995]
[{"$error":"#N/A"},null,{"$f":"IFERROR(VLOOKUP(B1201,List1!$A:$B,2,0),\"x\")","v":"x"},null,null,null,null,null,null,{"$f":"CONCATENATE(VLOOKUP(E1201,[1]Seznamy!$Q$2:$R$36,2,0),VLOOKUP(F1201,[1]Produkty!$I:$O,7,0),C1201,D1201)","v":{"$error":"#N/A"}},null,null,null,null,null,null,null,null,null,null,null,null,null,null,null,null,null,null,null,null,null,null,null,null,null,null,null,null,null,null,null,null,null,null,null,null,null,null,null,null,null,null,"'SK_2020-10'!$A:$H","$A:$H","11015SK44105","GOLLINUCCI Sorter Linea 222, 300 mm","GTV","badzik","2020-10-01","Marcela Piechová",27.33]
[{"$error":"#N/A"},null,{"$f":"IFERROR(VLOOKUP(B1206,List1!$A:$B,2,0),\"x\")","v":"x"},null,null,null,null,null,null,{"$f":"CONCATENATE(VLOOKUP(E1206,[1]Seznamy!$Q$2:$R$36,2,0),VLOOKUP(F1206,[1]Produkty!$I:$O,7,0),C1206,D1206)","v":{"$error":"#N/A"}},null,null,null,null,null,null,null,null,null,null,null,null,null,null,null,null,null,null,null,null,null,null,null,null,null,null,null,null,null,null,null,null,null,null,null,null,null,null,null,null,null,null,"'CZ_2020-10'!$A:$H","$A:$H","11119CZ44105","TULIP věšák Lugo XL chrom matný + šroubky","Kili","neuwirth","2020-10-01","Lenka Kormaník",0.71147060399999995]
[{"$error":"#N/A"},null,{"$f":"IFERROR(VLOOKUP(B1207,List1!$A:$B,2,0),\"x\")","v":"x"},null,null,null,null,null,null,{"$f":"CONCATENATE(VLOOKUP(E1207,[1]Seznamy!$Q$2:$R$36,2,0),VLOOKUP(F1207,[1]Produkty!$I:$O,7,0),C1207,D1207)","v":{"$error":"#N/A"}},null,null,null,null,null,null,null,null,null,null,null,null,null,null,null,null,null,null,null,null,null,null,null,null,null,null,null,null,null,null,null,null,null,null,null,null,null,null,null,null,null,null,"'SK_2020-10'!$A:$H","$A:$H","10314SK44105","FRANKE Dřez ETN 610 455 x 435","Lunit","badzik","2020-10-01","Marcela Piechová",26.13]
[{"$error":"#N/A"},null,{"$f":"IFERROR(VLOOKUP(B1212,List1!$A:$B,2,0),\"x\")","v":"x"},null,null,null,null,null,null,{"$f":"CONCATENATE(VLOOKUP(E1212,[1]Seznamy!$Q$2:$R$36,2,0),VLOOKUP(F1212,[1]Produkty!$I:$O,7,0),C1212,D1212)","v":{"$error":"#N/A"}},null,null,null,null,null,null,null,null,null,null,null,null,null,null,null,null,null,null,null,null,null,null,null,null,null,null,null,null,null,null,null,null,null,null,null,null,null,null,null,null,null,null,"'SK_2020-10'!$A:$H","$A:$H","10526SK44105","DTDL W980 ST2 Platinově bílá 2800/2070/18","Jaf Holz","badzik","2020-10-01","Martin Karaščák",23.7636]
[{"$error":"#N/A"},null,{"$f":"IFERROR(VLOOKUP(B1216,List1!$A:$B,2,0),\"x\")","v":"x"},null,null,null,null,null,null,{"$f":"CONCATENATE(VLOOKUP(E1216,[1]Seznamy!$Q$2:$R$36,2,0),VLOOKUP(F1216,[1]Produkty!$I:$O,7,0),C1216,D1216)","v":{"$error":"#N/A"}},null,null,null,null,null,null,null,null,null,null,null,null,null,null,null,null,null,null,null,null,null,null,null,null,null,null,null,null,null,null,null,null,null,null,null,null,null,null,null,null,null,null,"'SK_2020-10'!$A:$H","$A:$H","1108SK44105","STRONG Elektrická zásuvka 3x230V, francouzský typ, 265x130x68 mm stříbrná","GTV","badzik","2020-10-01","Lukáš Sládek",13.449540000000001]
[{"$error":"#N/A"},null,{"$f":"IFERROR(VLOOKUP(B1221,List1!$A:$B,2,0),\"x\")","v":"x"},null,null,null,null,null,null,{"$f":"CONCATENATE(VLOOKUP(E1221,[1]Seznamy!$Q$2:$R$36,2,0),VLOOKUP(F1221,[1]Produkty!$I:$O,7,0),C1221,D1221)","v":{"$error":"#N/A"}},null,null,null,null,null,null,null,null,null,null,null,null,null,null,null,null,null,null,null,null,null,null,null,null,null,null,null,null,null,null,null,null,null,null,null,null,null,null,null,null,null,null,"'SK_2020-10'!$A:$H","$A:$H","10310SK44105","FRANKE Dřez ETN 614 6/4 obyčejný ventil bez otvoru","Lunit","badzik","2020-10-01","Marcela Piechová",26.24]
[{"$error":"#N/A"},null,{"$f":"IFERROR(VLOOKUP(B1222,List1!$A:$B,2,0),\"x\")","v":"x"},null,null,null,null,null,null,{"$f":"CONCATENATE(VLOOKUP(E1222,[1]Seznamy!$Q$2:$R$36,2,0),VLOOKUP(F1222,[1]Produkty!$I:$O,7,0),C1222,D1222)","v":{"$error":"#N/A"}},null,null,null,null,null,null,null,null,null,null,null,null,null,null,null,null,null,null,null,null,null,null,null,null,null,null,null,null,null,null,null,null,null,null,null,null,null,null,null,null,null,null,"'CZ_2020-10'!$A:$H","$A:$H","1111CZ44105","STRONG plus závěs naložený s tlumením, s excentrem, klipový","Kili","neuwirth","2020-10-01","Martin Zniszczol",0.27061111999999998]
[{"$error":"#N/A"},null,{"$f":"IFERROR(VLOOKUP(B1228,List1!$A:$B,2,0),\"x\")","v":"x"},null,null,null,null,null,null,{"$f":"CONCATENATE(VLOOKUP(E1228,[1]Seznamy!$Q$2:$R$36,2,0),VLOOKUP(F1228,[1]Produkty!$I:$O,7,0),C1228,D1228)","v":{"$error":"#N/A"}},null,null,null,null,null,null,null,null,null,null,null,null,null,null,null,null,null,null,null,null,null,null,null,null,null,null,null,null,null,null,null,null,null,null,null,null,null,null,null,null,null,null,"'CZ_2020-10'!$A:$H","$A:$H","1141CZ44105","STRONG plus závěs naložený s tlumením, s excentrem, klipový","Kopecký CZ","neuwirth","2020-10-01","Martin Zniszczol",0.27061111999999998]
[{"$error":"#N/A"},null,{"$f":"IFERROR(VLOOKUP(B1231,List1!$A:$B,2,0),\"x\")","v":"x"},null,null,null,null,null,null,{"$f":"CONCATENATE(VLOOKUP(E1231,[1]Seznamy!$Q$2:$R$36,2,0),VLOOKUP(F1231,[1]Produkty!$I:$O,7,0),C1231,D1231)","v":{"$error":"#N/A"}},null,null,null,null,null,null,null,null,null,null,null,null,null,null,null,null,null,null,null,null,null,null,null,null,null,null,null,null,null,null,null,null,null,null,null,null,null,null,null,null,null,null,"'SK_2020-10'!$A:$H","$A:$H","1094SK44105","StrongMax 89/500 mm šedý (antracit)","Hafele","badzik","2020-10-01","Martin Zniszczol",10.35]
[{"$error":"#N/A"},null,{"$f":"IFERROR(VLOOKUP(B1236,List1!$A:$B,2,0),\"x\")","v":"x"},null,null,null,null,null,null,{"$f":"CONCATENATE(VLOOKUP(E1236,[1]Seznamy!$Q$2:$R$36,2,0),VLOOKUP(F1236,[1]Produkty!$I:$O,7,0),C1236,D1236)","v":{"$error":"#N/A"}},null,null,null,null,null,null,null,null,null,null,null,null,null,null,null,null,null,null,null,null,null,null,null,null,null,null,null,null,null,null,null,null,null,null,null,null,null,null,null,null,null,null,"'SK_2020-10'!$A:$H","$A:$H","10623SK44105","STRONG transformátor plochý LED 24V 100W","Nábytkár","badzik","2020-10-01","Stančo Denčev",16.410900000000002]
[{"$error":"#N/A"},null,{"$f":"IFERROR(VLOOKUP(B1237,List1!$A:$B,2,0),\"x\")","v":"x"},null,null,null,null,null,null,{"$f":"CONCATENATE(VLOOKUP(E1237,[1]Seznamy!$Q$2:$R$36,2,0),VLOOKUP(F1237,[1]Produkty!$I:$O,7,0),C1237,D1237)","v":{"$error":"#N/A"}},null,null,null,null,null,null,null,null,null,null,null,null,null,null,null,null,null,null,null,null,null,null,null,null,null,null,null,null,null,null,null,null,null,null,null,null,null,null,null,null,null,null,"'CZ_2020-10'!$A:$H","$A:$H","10525CZ44105","Konfirmát 7/50 zinek bílý bulk","Jaf Holz","neuwirth","2020-10-01","Stančo Denčev",7.9419974399999992E-3]
[{"$error":"#N/A"},null,{"$f":"IFERROR(VLOOKUP(B1242,List1!$A:$B,2,0),\"x\")","v":"x"},null,null,null,null,null,null,{"$f":"CONCATENATE(VLOOKUP(E1242,[1]Seznamy!$Q$2:$R$36,2,0),VLOOKUP(F1242,[1]Produkty!$I:$O,7,0),C1242,D1242)","v":{"$error":"#N/A"}},null,null,null,null,null,null,null,null,null,null,null,null,null,null,null,null,null,null,null,null,null,null,null,null,null,null,null,null,null,null,null,null,null,null,null,null,null,null,null,null,null,null,"'SK_2020-10'!$A:$H","$A:$H","1215SK44105","StrongRide synchro 3D celovýsuv 500 mm s tlumením","IW Trend","badzik","2020-10-01","Martin Zniszczol",5.84]
[{"$error":"#N/A"},null,{"$f":"IFERROR(VLOOKUP(B1246,List1!$A:$B,2,0),\"x\")","v":"x"},null,null,null,null,null,null,{"$f":"CONCATENATE(VLOOKUP(E1246,[1]Seznamy!$Q$2:$R$36,2,0),VLOOKUP(F1246,[1]Produkty!$I:$O,7,0),C1246,D1246)","v":{"$error":"#N/A"}},null,null,null,null,null,null,null,null,null,null,null,null,null,null,null,null,null,null,null,null,null,null,null,null,null,null,null,null,null,null,null,null,null,null,null,null,null,null,null,null,null,null,"'SK_2020-10'!$A:$H","$A:$H","1104SK44105","StrongMax 89/500 mm šedý (antracit)","GTV","badzik","2020-10-01","Martin Zniszczol",10.35]
[{"$error":"#N/A"},null,{"$f":"IFERROR(VLOOKUP(B1251,List1!$A:$B,2,0),\"x\")","v":"x"},null,null,null,null,null,null,{"$f":"CONCATENATE(VLOOKUP(E1251,[1]Seznamy!$Q$2:$R$36,2,0),VLOOKUP(F1251,[1]Produkty!$I:$O,7,0),C1251,D1251)","v":{"$error":"#N/A"}},null,null,null,null,null,null,null,null,null,null,null,null,null,null,null,null,null,null,null,null,null,null,null,null,null,null,null,null,null,null,null,null,null,null,null,null,null,null,null,null,null,null,"'HU_2020-10'!$A:$H","$A:$H","10325HU44105","Konfirmát 7/50 zinek bílý bulk","Lunit","keves","2020-10-01","Stančo Denčev",8.0809343999999998E-3]
[{"$error":"#N/A"},null,{"$f":"IFERROR(VLOOKUP(B1252,List1!$A:$B,2,0),\"x\")","v":"x"},null,null,null,null,null,null,{"$f":"CONCATENATE(VLOOKUP(E1252,[1]Seznamy!$Q$2:$R$36,2,0),VLOOKUP(F1252,[1]Produkty!$I:$O,7,0),C1252,D1252)","v":{"$error":"#N/A"}},null,null,null,null,null,null,null,null,null,null,null,null,null,null,null,null,null,null,null,null,null,null,null,null,null,null,null,null,null,null,null,null,null,null,null,null,null,null,null,null,null,null,"'SK_2020-10'!$A:$H","$A:$H","1103SK44105","StrongBox H86/500mm bílý","GTV","badzik","2020-10-01","Martin Zniszczol",7.86]
[{"$error":"#N/A"},null,{"$f":"IFERROR(VLOOKUP(B1258,List1!$A:$B,2,0),\"x\")","v":"x"},null,null,null,null,null,null,{"$f":"CONCATENATE(VLOOKUP(E1258,[1]Seznamy!$Q$2:$R$36,2,0),VLOOKUP(F1258,[1]Produkty!$I:$O,7,0),C1258,D1258)","v":{"$error":"#N/A"}},null,null,null,null,null,null,null,null,null,null,null,null,null,null,null,null,null,null,null,null,null,null,null,null,null,null,null,null,null,null,null,null,null,null,null,null,null,null,null,null,null,null,"'CZ_2020-10'!$A:$H","$A:$H","10529CZ44105","ABSB HU10113 Bílá 101/110/113/8100/8685/W954/B3822 PE 22/2","Jaf Holz","neuwirth","2020-10-01","Martin Karaščák",0.20190872000000001]
[{"$error":"#N/A"},null,{"$f":"IFERROR(VLOOKUP(B1261,List1!$A:$B,2,0),\"x\")","v":"x"},null,null,null,null,null,null,{"$f":"CONCATENATE(VLOOKUP(E1261,[1]Seznamy!$Q$2:$R$36,2,0),VLOOKUP(F1261,[1]Produkty!$I:$O,7,0),C1261,D1261)","v":{"$error":"#N/A"}},null,null,null,null,null,null,null,null,null,null,null,null,null,null,null,null,null,null,null,null,null,null,null,null,null,null,null,null,null,null,null,null,null,null,null,null,null,null,null,null,null,null,"'SK_2020-10'!$A:$H","$A:$H","10531SK44105","HDF LAK 101 BÍLÁ PE 2800/2070/3","Jaf Holz","badzik","2020-10-01","Martin Karaščák",5.5061999999999998]
[{"$error":"#N/A"},null,{"$f":"IFERROR(VLOOKUP(B1266,List1!$A:$B,2,0),\"x\")","v":"x"},null,null,null,null,null,null,{"$f":"CONCATENATE(VLOOKUP(E1266,[1]Seznamy!$Q$2:$R$36,2,0),VLOOKUP(F1266,[1]Produkty!$I:$O,7,0),C1266,D1266)","v":{"$error":"#N/A"}},null,null,null,null,null,null,null,null,null,null,null,null,null,null,null,null,null,null,null,null,null,null,null,null,null,null,null,null,null,null,null,null,null,null,null,null,null,null,null,null,null,null,"'SK_2020-10'!$A:$H","$A:$H","1031SK44105","STRONG plus závěs naložený s tlumením, s excentrem, klipový","Lunit","badzik","2020-10-01","Martin Zniszczol",0.30399999999999999]
[{"$error":"#N/A"},null,{"$f":"IFERROR(VLOOKUP(B1267,List1!$A:$B,2,0),\"x\")","v":"x"},null,null,null,null,null,null,{"$f":"CONCATENATE(VLOOKUP(E1267,[1]Seznamy!$Q$2:$R$36,2,0),VLOOKUP(F1267,[1]Produkty!$I:$O,7,0),C1267,D1267)","v":{"$error":"#N/A"}},null,null,null,null,null,null,null,null,null,null,null,null,null,null,null,null,null,null,null,null,null,null,null,null,null,null,null,null,null,null,null,null,null,null,null,null,null,null,null,null,null,null,"'SK_2020-10'!$A:$H","$A:$H","10331SK44105","HDF LAK 101 BÍLÁ PE 2800/2070/3","Lunit","badzik","2020-10-01","Martin Karaščák",5.5061999999999998]
[{"$error":"#N/A"},null,{"$f":"IFERROR(VLOOKUP(B1272,List1!$A:$B,2,0),\"x\")","v":"x"},null,null,null,null,null,null,{"$f":"CONCATENATE(VLOOKUP(E1272,[1]Seznamy!$Q$2:$R$36,2,0),VLOOKUP(F1272,[1]Produkty!$I:$O,7,0),C1272,D1272)","v":{"$error":"#N/A"}},null,null,null,null,null,null,null,null,null,null,null,null,null,null,null,null,null,null,null,null,null,null,null,null,null,null,null,null,null,null,null,null,null,null,null,null,null,null,null,null,null,null,"'PL_2020-10'!$A:$H","$A:$H","10121PL44105","TULIP Úchytka Lucata 160 černá matná","_Demos","pastuszak","2020-10-01","Lenka Kormaník",0.82574688768000004]
[{"$error":"#N/A"},null,{"$f":"IFERROR(VLOOKUP(B1276,List1!$A:$B,2,0),\"x\")","v":"x"},null,null,null,null,null,null,{"$f":"CONCATENATE(VLOOKUP(E1276,[1]Seznamy!$Q$2:$R$36,2,0),VLOOKUP(F1276,[1]Produkty!$I:$O,7,0),C1276,D1276)","v":{"$error":"#N/A"}},null,null,null,null,null,null,null,null,null,null,null,null,null,null,null,null,null,null,null,null,null,null,null,null,null,null,null,null,null,null,null,null,null,null,null,null,null,null,null,null,null,null,"'CZ_2020-10'!$A:$H","$A:$H","1156CZ44105","STRONG Rektifikační nožka 100 mm","ARDEA","neuwirth","2020-10-01","Lukáš Sládek",9.5496335999999987E-2]
[{"$error":"#N/A"},null,{"$f":"IFERROR(VLOOKUP(B1281,List1!$A:$B,2,0),\"x\")","v":"x"},null,null,null,null,null,null,{"$f":"CONCATENATE(VLOOKUP(E1281,[1]Seznamy!$Q$2:$R$36,2,0),VLOOKUP(F1281,[1]Produkty!$I:$O,7,0),C1281,D1281)","v":{"$error":"#N/A"}},null,null,null,null,null,null,null,null,null,null,null,null,null,null,null,null,null,null,null,null,null,null,null,null,null,null,null,null,null,null,null,null,null,null,null,null,null,null,null,null,null,null,"'PL_2020-10'!$A:$H","$A:$H","10116PL44105","TULIP úchytka Nakana 128 chrom matný + šroubky","_Demos","pastuszak","2020-10-01","Lenka Kormaník",0.79492979675999997]
[{"$error":"#N/A"},null,{"$f":"IFERROR(VLOOKUP(B1282,List1!$A:$B,2,0),\"x\")","v":"x"},null,null,null,null,null,null,{"$f":"CONCATENATE(VLOOKUP(E1282,[1]Seznamy!$Q$2:$R$36,2,0),VLOOKUP(F1282,[1]Produkty!$I:$O,7,0),C1282,D1282)","v":{"$error":"#N/A"}},null,null,null,null,null,null,null,null,null,null,null,null,null,null,null,null,null,null,null,null,null,null,null,null,null,null,null,null,null,null,null,null,null,null,null,null,null,null,null,null,null,null,"'PL_2020-10'!$A:$H","$A:$H","10119PL44105","TULIP věšák Lugo XL chrom matný + šroubky","_Demos","pastuszak","2020-10-01","Lenka Kormaník",0.74823068165999995]
[{"$error":"#N/A"},null,{"$f":"IFERROR(VLOOKUP(B1286,List1!$A:$B,2,0),\"x\")","v":"x"},null,null,null,null,null,null,{"$f":"CONCATENATE(VLOOKUP(E1286,[1]Seznamy!$Q$2:$R$36,2,0),VLOOKUP(F1286,[1]Produkty!$I:$O,7,0),C1286,D1286)","v":{"$error":"#N/A"}},null,null,null,null,null,null,null,null,null,null,null,null,null,null,null,null,null,null,null,null,null,null,null,null,null,null,null,null,null,null,null,null,null,null,null,null,null,null,null,null,null,null,"'CZ_2020-10'!$A:$H","$A:$H","1092CZ44105","STRONG závěs naložený, slide on","Hafele","neuwirth","2020-10-01","Martin Zniszczol",0.11145056]
[{"$error":"#N/A"},null,{"$f":"IFERROR(VLOOKUP(B1291,List1!$A:$B,2,0),\"x\")","v":"x"},null,null,null,null,null,null,{"$f":"CONCATENATE(VLOOKUP(E1291,[1]Seznamy!$Q$2:$R$36,2,0),VLOOKUP(F1291,[1]Produkty!$I:$O,7,0),C1291,D1291)","v":{"$error":"#N/A"}},null,null,null,null,null,null,null,null,null,null,null,null,null,null,null,null,null,null,null,null,null,null,null,null,null,null,null,null,null,null,null,null,null,null,null,null,null,null,null,null,null,null,"'CZ_2020-10'!$A:$H","$A:$H","1066CZ44105","STRONG Rektifikační nožka 100 mm","Nábytkár","neuwirth","2020-10-01","Lukáš Sládek",9.5496335999999987E-2]
[{"$error":"#N/A"},null,{"$f":"IFERROR(VLOOKUP(B1296,List1!$A:$B,2,0),\"x\")","v":"x"},null,null,null,null,null,null,{"$f":"CONCATENATE(VLOOKUP(E1296,[1]Seznamy!$Q$2:$R$36,2,0),VLOOKUP(F1296,[1]Produkty!$I:$O,7,0),C1296,D1296)","v":{"$error":"#N/A"}},null,null,null,null,null,null,null,null,null,null,null,null,null,null,null,null,null,null,null,null,null,null,null,null,null,null,null,null,null,null,null,null,null,null,null,null,null,null,null,null,null,null,"'CZ_2020-10'!$A:$H","$A:$H","1196CZ44105","STRONG Rektifikační nožka 100 mm","KNK","neuwirth","2020-10-01","Lukáš Sládek",9.5496335999999987E-2]
[{"$error":"#N/A"},null,{"$f":"IFERROR(VLOOKUP(B1297,List1!$A:$B,2,0),\"x\")","v":"x"},null,null,null,null,null,null,{"$f":"CONCATENATE(VLOOKUP(E1297,[1]Seznamy!$Q$2:$R$36,2,0),VLOOKUP(F1297,[1]Produkty!$I:$O,7,0),C1297,D1297)","v":{"$error":"#N/A"}},null,null,null,null,null,null,null,null,null,null,null,null,null,null,null,null,null,null,null,null,null,null,null,null,null,null,null,null,null,null,null,null,null,null,null,null,null,null,null,null,null,null,"'PL_2020-10'!$A:$H","$A:$H","10117PL44105","TULIP úchytka Piombina 96 nikl matný + šroubky","_Demos","pastuszak","2020-10-01","Lenka Kormaník",0.4361922708]
[{"$error":"#N/A"},null,{"$f":"IFERROR(VLOOKUP(B1302,List1!$A:$B,2,0),\"x\")","v":"x"},null,null,null,null,null,null,{"$f":"CONCATENATE(VLOOKUP(E1302,[1]Seznamy!$Q$2:$R$36,2,0),VLOOKUP(F1302,[1]Produkty!$I:$O,7,0),C1302,D1302)","v":{"$error":"#N/A"}},null,null,null,null,null,null,null,null,null,null,null,null,null,null,null,null,null,null,null,null,null,null,null,null,null,null,null,null,null,null,null,null,null,null,null,null,null,null,null,null,null,null,"'HU_2020-10'!$A:$H","$A:$H","13524HU44105","Vrut PZ 4x18 zápustná hlava zinek bílý PZ2","Bors és Horváth","keves","2020-10-01","Stančo Denčev",2.2612198399999998E-3]
[{"$error":"#N/A"},null,{"$f":"IFERROR(VLOOKUP(B1306,List1!$A:$B,2,0),\"x\")","v":"x"},null,null,null,null,null,null,{"$f":"CONCATENATE(VLOOKUP(E1306,[1]Seznamy!$Q$2:$R$36,2,0),VLOOKUP(F1306,[1]Produkty!$I:$O,7,0),C1306,D1306)","v":{"$error":"#N/A"}},null,null,null,null,null,null,null,null,null,null,null,null,null,null,null,null,null,null,null,null,null,null,null,null,null,null,null,null,null,null,null,null,null,null,null,null,null,null,null,null,null,null,"'CZ_2020-10'!$A:$H","$A:$H","1076CZ44105","STRONG Rektifikační nožka 100 mm","TWD","neuwirth","2020-10-01","Lukáš Sládek",9.5496335999999987E-2]
[{"$error":"#N/A"},null,{"$f":"IFERROR(VLOOKUP(B1311,List1!$A:$B,2,0),\"x\")","v":"x"},null,null,null,null,null,null,{"$f":"CONCATENATE(VLOOKUP(E1311,[1]Seznamy!$Q$2:$R$36,2,0),VLOOKUP(F1311,[1]Produkty!$I:$O,7,0),C1311,D1311)","v":{"$error":"#N/A"}},null,null,null,null,null,null,null,null,null,null,null,null,null,null,null,null,null,null,null,null,null,null,null,null,null,null,null,null,null,null,null,null,null,null,null,null,null,null,null,null,null,null,"'SK_2020-10'!$A:$H","$A:$H","10319SK44105","TULIP věšák Lugo XL chrom matný + šroubky","Lunit","badzik","2020-10-01","Lenka Kormaník",0.80127000000000004]
[{"$error":"#N/A"},null,{"$f":"IFERROR(VLOOKUP(B1312,List1!$A:$B,2,0),\"x\")","v":"x"},null,null,null,null,null,null,{"$f":"CONCATENATE(VLOOKUP(E1312,[1]Seznamy!$Q$2:$R$36,2,0),VLOOKUP(F1312,[1]Produkty!$I:$O,7,0),C1312,D1312)","v":{"$error":"#N/A"}},null,null,null,null,null,null,null,null,null,null,null,null,null,null,null,null,null,null,null,null,null,null,null,null,null,null,null,null,null,null,null,null,null,null,null,null,null,null,null,null,null,null,"'HU_2020-10'!$A:$H","$A:$H","10824HU44105","Vrut PZ 4x18 zápustná hlava zinek bílý PZ2","Schachermayer","keves","2020-10-01","Stančo Denčev",2.2612198399999998E-3]
[{"$error":"#N/A"},null,{"$f":"IFERROR(VLOOKUP(B1316,List1!$A:$B,2,0),\"x\")","v":"x"},null,null,null,null,null,null,{"$f":"CONCATENATE(VLOOKUP(E1316,[1]Seznamy!$Q$2:$R$36,2,0),VLOOKUP(F1316,[1]Produkty!$I:$O,7,0),C1316,D1316)","v":{"$error":"#N/A"}},null,null,null,null,null,null,null,null,null,null,null,null,null,null,null,null,null,null,null,null,null,null,null,null,null,null,null,null,null,null,null,null,null,null,null,null,null,null,null,null,null,null,"'PL_2020-10'!$A:$H","$A:$H","1012PL44105","STRONG závěs naložený, slide on","_Demos","pastuszak","2020-10-01","Martin Zniszczol",0.116548608]
[{"$error":"#N/A"},null,{"$f":"IFERROR(VLOOKUP(B1321,List1!$A:$B,2,0),\"x\")","v":"x"},null,null,null,null,null,null,{"$f":"CONCATENATE(VLOOKUP(E1321,[1]Seznamy!$Q$2:$R$36,2,0),VLOOKUP(F1321,[1]Produkty!$I:$O,7,0),C1321,D1321)","v":{"$error":"#N/A"}},null,null,null,null,null,null,null,null,null,null,null,null,null,null,null,null,null,null,null,null,null,null,null,null,null,null,null,null,null,null,null,null,null,null,null,null,null,null,null,null,null,null,"'CZ_2020-10'!$A:$H","$A:$H","11525CZ44105","Konfirmát 7/50 zinek bílý bulk","ARDEA","neuwirth","2020-10-01","Stančo Denčev",7.9419974399999992E-3]
[{"$error":"#N/A"},null,{"$f":"IFERROR(VLOOKUP(B1326,List1!$A:$B,2,0),\"x\")","v":"x"},null,null,null,null,null,null,{"$f":"CONCATENATE(VLOOKUP(E1326,[1]Seznamy!$Q$2:$R$36,2,0),VLOOKUP(F1326,[1]Produkty!$I:$O,7,0),C1326,D1326)","v":{"$error":"#N/A"}},null,null,null,null,null,null,null,null,null,null,null,null,null,null,null,null,null,null,null,null,null,null,null,null,null,null,null,null,null,null,null,null,null,null,null,null,null,null,null,null,null,null,"'PL_2020-10'!$A:$H","$A:$H","1016PL44105","STRONG Rektifikační nožka 100 mm","_Demos","pastuszak","2020-10-01","Lukáš Sládek",0.10149289523999999]
[{"$error":"#N/A"},null,{"$f":"IFERROR(VLOOKUP(B1327,List1!$A:$B,2,0),\"x\")","v":"x"},null,null,null,null,null,null,{"$f":"CONCATENATE(VLOOKUP(E1327,[1]Seznamy!$Q$2:$R$36,2,0),VLOOKUP(F1327,[1]Produkty!$I:$O,7,0),C1327,D1327)","v":{"$error":"#N/A"}},null,null,null,null,null,null,null,null,null,null,null,null,null,null,null,null,null,null,null,null,null,null,null,null,null,null,null,null,null,null,null,null,null,null,null,null,null,null,null,null,null,null,"'SK_2020-10'!$A:$H","$A:$H","10718SK44105","TULIP úchytka Anita 96 nikl matný + šroubky","TWD","badzik","2020-10-01","Lenka Kormaník",0.29581000000000002]
[{"$error":"#N/A"},null,{"$f":"IFERROR(VLOOKUP(B1332,List1!$A:$B,2,0),\"x\")","v":"x"},null,null,null,null,null,null,{"$f":"CONCATENATE(VLOOKUP(E1332,[1]Seznamy!$Q$2:$R$36,2,0),VLOOKUP(F1332,[1]Produkty!$I:$O,7,0),C1332,D1332)","v":{"$error":"#N/A"}},null,null,null,null,null,null,null,null,null,null,null,null,null,null,null,null,null,null,null,null,null,null,null,null,null,null,null,null,null,null,null,null,null,null,null,null,null,null,null,null,null,null,"'CZ_2020-10'!$A:$H","$A:$H","11125CZ44105","Konfirmát 7/50 zinek bílý bulk","Kili","neuwirth","2020-10-01","Stančo Denčev",7.9419974399999992E-3]
[{"$error":"#N/A"},null,{"$f":"IFERROR(VLOOKUP(B1336,List1!$A:$B,2,0),\"x\")","v":"x"},null,null,null,null,null,null,{"$f":"CONCATENATE(VLOOKUP(E1336,[1]Seznamy!$Q$2:$R$36,2,0),VLOOKUP(F1336,[1]Produkty!$I:$O,7,0),C1336,D1336)","v":{"$error":"#N/A"}},null,null,null,null,null,null,null,null,null,null,null,null,null,null,null,null,null,null,null,null,null,null,null,null,null,null,null,null,null,null,null,null,null,null,null,null,null,null,null,null,null,null,"'SK_2020-10'!$A:$H","$A:$H","10529SK44105","ABSB HU10113 Bílá 101/110/113/8100/8685/W954/B3822 PE 22/2","Jaf Holz","badzik","2020-10-01","Martin Karaščák",0]
[{"$error":"#N/A"},null,{"$f":"IFERROR(VLOOKUP(B1341,List1!$A:$B,2,0),\"x\")","v":"x"},null,null,null,null,null,null,{"$f":"CONCATENATE(VLOOKUP(E1341,[1]Seznamy!$Q$2:$R$36,2,0),VLOOKUP(F1341,[1]Produkty!$I:$O,7,0),C1341,D1341)","v":{"$error":"#N/A"}},null,null,null,null,null,null,null,null,null,null,null,null,null,null,null,null,null,null,null,null,null,null,null,null,null,null,null,null,null,null,null,null,null,null,null,null,null,null,null,null,null,null,"'SK_2020-10'!$A:$H","$A:$H","10329SK44105","ABSB HU10113 Bílá 101/110/113/8100/8685/W954/B3822 PE 22/2","Lunit","badzik","2020-10-01","Martin Karaščák",0]
[{"$error":"#N/A"},null,{"$f":"IFERROR(VLOOKUP(B1342,List1!$A:$B,2,0),\"x\")","v":"x"},null,null,null,null,null,null,{"$f":"CONCATENATE(VLOOKUP(E1342,[1]Seznamy!$Q$2:$R$36,2,0),VLOOKUP(F1342,[1]Produkty!$I:$O,7,0),C1342,D1342)","v":{"$error":"#N/A"}},null,null,null,null,null,null,null,null,null,null,null,null,null,null,null,null,null,null,null,null,null,null,null,null,null,null,null,null,null,null,null,null,null,null,null,null,null,null,null,null,null,null,"'SK_2020-10'!$A:$H","$A:$H","10330SK44105","ABSB 77039/414 W980/500/W954 ST2 23/2","Lunit","badzik","2020-10-01","Martin Karaščák",0.16747999999999999]
[{"$error":"#N/A"},null,{"$f":"IFERROR(VLOOKUP(B1346,List1!$A:$B,2,0),\"x\")","v":"x"},null,null,null,null,null,null,{"$f":"CONCATENATE(VLOOKUP(E1346,[1]Seznamy!$Q$2:$R$36,2,0),VLOOKUP(F1346,[1]Produkty!$I:$O,7,0),C1346,D1346)","v":{"$error":"#N/A"}},null,null,null,null,null,null,null,null,null,null,null,null,null,null,null,null,null,null,null,null,null,null,null,null,null,null,null,null,null,null,null,null,null,null,null,null,null,null,null,null,null,null,"'SK_2020-10'!$A:$H","$A:$H","12130SK44105","ABSB 77039/414 W980/500/W954 ST2 23/2","IW Trend","badzik","2020-10-01","Martin Karaščák",0.16747999999999999]
[{"$error":"#N/A"},null,{"$f":"IFERROR(VLOOKUP(B1351,List1!$A:$B,2,0),\"x\")","v":"x"},null,null,null,null,null,null,{"$f":"CONCATENATE(VLOOKUP(E1351,[1]Seznamy!$Q$2:$R$36,2,0),VLOOKUP(F1351,[1]Produkty!$I:$O,7,0),C1351,D1351)","v":{"$error":"#N/A"}},null,null,null,null,null,null,null,null,null,null,null,null,null,null,null,null,null,null,null,null,null,null,null,null,null,null,null,null,null,null,null,null,null,null,null,null,null,null,null,null,null,null,"'CZ_2020-10'!$A:$H","$A:$H","10125CZ44105","Konfirmát 7/50 zinek bílý bulk","_Demos","neuwirth","2020-10-01","Stančo Denčev",7.9419974399999992E-3]
[{"$error":"#N/A"},null,{"$f":"IFERROR(VLOOKUP(B1356,List1!$A:$B,2,0),\"x\")","v":"x"},null,null,null,null,null,null,{"$f":"CONCATENATE(VLOOKUP(E1356,[1]Seznamy!$Q$2:$R$36,2,0),VLOOKUP(F1356,[1]Produkty!$I:$O,7,0),C1356,D1356)","v":{"$error":"#N/A"}},null,null,null,null,null,null,null,null,null,null,null,null,null,null,null,null,null,null,null,null,null,null,null,null,null,null,null,null,null,null,null,null,null,null,null,null,null,null,null,null,null,null,"'SK_2020-10'!$A:$H","$A:$H","1106SK44105","STRONG Rektifikační nožka 100 mm","GTV","badzik","2020-10-01","Lukáš Sládek",0.10051]
[{"$error":"#N/A"},null,{"$f":"IFERROR(VLOOKUP(B1357,List1!$A:$B,2,0),\"x\")","v":"x"},null,null,null,null,null,null,{"$f":"CONCATENATE(VLOOKUP(E1357,[1]Seznamy!$Q$2:$R$36,2,0),VLOOKUP(F1357,[1]Produkty!$I:$O,7,0),C1357,D1357)","v":{"$error":"#N/A"}},null,null,null,null,null,null,null,null,null,null,null,null,null,null,null,null,null,null,null,null,null,null,null,null,null,null,null,null,null,null,null,null,null,null,null,null,null,null,null,null,null,null,"'SK_2020-10'!$A:$H","$A:$H","1036SK44105","STRONG Rektifikační nožka 100 mm","Lunit","badzik","2020-10-01","Lukáš Sládek",0.10051]
[{"$error":"#N/A"},null,{"$f":"IFERROR(VLOOKUP(B1362,List1!$A:$B,2,0),\"x\")","v":"x"},null,null,null,null,null,null,{"$f":"CONCATENATE(VLOOKUP(E1362,[1]Seznamy!$Q$2:$R$36,2,0),VLOOKUP(F1362,[1]Produkty!$I:$O,7,0),C1362,D1362)","v":{"$error":"#N/A"}},null,null,null,null,null,null,null,null,null,null,null,null,null,null,null,null,null,null,null,null,null,null,null,null,null,null,null,null,null,null,null,null,null,null,null,null,null,null,null,null,null,null,"'SK_2020-10'!$A:$H","$A:$H","10825SK44105","Konfirmát 7/50 zinek bílý bulk","Schachermayer","badzik","2020-10-01","Stančo Denčev",8.6999999999999994E-3]
[{"$error":"#N/A"},null,{"$f":"IFERROR(VLOOKUP(B1366,List1!$A:$B,2,0),\"x\")","v":"x"},null,null,null,null,null,null,{"$f":"CONCATENATE(VLOOKUP(E1366,[1]Seznamy!$Q$2:$R$36,2,0),VLOOKUP(F1366,[1]Produkty!$I:$O,7,0),C1366,D1366)","v":{"$error":"#N/A"}},null,null,null,null,null,null,null,null,null,null,null,null,null,null,null,null,null,null,null,null,null,null,null,null,null,null,null,null,null,null,null,null,null,null,null,null,null,null,null,null,null,null,"'SK_2020-10'!$A:$H","$A:$H","1076SK44105","STRONG Rektifikační nožka 100 mm","TWD","badzik","2020-10-01","Lukáš Sládek",0.10051]
[{"$error":"#N/A"},null,{"$f":"IFERROR(VLOOKUP(B1371,List1!$A:$B,2,0),\"x\")","v":"x"},null,null,null,null,null,null,{"$f":"CONCATENATE(VLOOKUP(E1371,[1]Seznamy!$Q$2:$R$36,2,0),VLOOKUP(F1371,[1]Produkty!$I:$O,7,0),C1371,D1371)","v":{"$error":"#N/A"}},null,null,null,null,null,null,null,null,null,null,null,null,null,null,null,null,null,null,null,null,null,null,null,null,null,null,null,null,null,null,null,null,null,null,null,null,null,null,null,null,null,null,"'SK_2020-10'!$A:$H","$A:$H","10625SK44105","Konfirmát 7/50 zinek bílý bulk","Nábytkár","badzik","2020-10-01","Stančo Denčev",8.6999999999999994E-3]
[{"$error":"#N/A"},null,{"$f":"IFERROR(VLOOKUP(B1372,List1!$A:$B,2,0),\"x\")","v":"x"},null,null,null,null,null,null,{"$f":"CONCATENATE(VLOOKUP(E1372,[1]Seznamy!$Q$2:$R$36,2,0),VLOOKUP(F1372,[1]Produkty!$I:$O,7,0),C1372,D1372)","v":{"$error":"#N/A"}},null,null,null,null,null,null,null,null,null,null,null,null,null,null,null,null,null,null,null,null,null,null,null,null,null,null,null,null,null,null,null,null,null,null,null,null,null,null,null,null,null,null,"'SK_2020-10'!$A:$H","$A:$H","10725SK44105","Konfirmát 7/50 zinek bílý bulk","TWD","badzik","2020-10-01","Stančo Denčev",8.6999999999999994E-3]
[{"$error":"#N/A"},null,{"$f":"IFERROR(VLOOKUP(B1376,List1!$A:$B,2,0),\"x\")","v":"x"},null,null,null,null,null,null,{"$f":"CONCATENATE(VLOOKUP(E1376,[1]Seznamy!$Q$2:$R$36,2,0),VLOOKUP(F1376,[1]Produkty!$I:$O,7,0),C1376,D1376)","v":{"$error":"#N/A"}},null,null,null,null,null,null,null,null,null,null,null,null,null,null,null,null,null,null,null,null,null,null,null,null,null,null,null,null,null,null,null,null,null,null,null,null,null,null,null,null,null,null,"'CZ_2020-10'!$A:$H","$A:$H","11532CZ44105","Alfa II profile 222788","ARDEA","neuwirth","2020-10-01","NULL",4.206132684]
[{"$error":"#N/A"},null,{"$f":"IFERROR(VLOOKUP(B1381,List1!$A:$B,2,0),\"x\")","v":"x"},null,null,null,null,null,null,{"$f":"CONCATENATE(VLOOKUP(E1381,[1]Seznamy!$Q$2:$R$36,2,0),VLOOKUP(F1381,[1]Produkty!$I:$O,7,0),C1381,D1381)","v":{"$error":"#N/A"}},null,null,null,null,null,null,null,null,null,null,null,null,null,null,null,null,null,null,null,null,null,null,null,null,null,null,null,null,null,null,null,null,null,null,null,null,null,null,null,null,null,null,"'CZ_2020-10'!$A:$H","$A:$H","10436CZ44105","TULIP Gola dvířkový J profil 4,1m eloxovaný hliník","Dřevotrust","neuwirth","2020-10-01","NULL",3.8168000000000002E-4]
[{"$error":"#N/A"},null,{"$f":"IFERROR(VLOOKUP(B1386,List1!$A:$B,2,0),\"x\")","v":"x"},null,null,null,null,null,null,{"$f":"CONCATENATE(VLOOKUP(E1386,[1]Seznamy!$Q$2:$R$36,2,0),VLOOKUP(F1386,[1]Produkty!$I:$O,7,0),C1386,D1386)","v":{"$error":"#N/A"}},null,null,null,null,null,null,null,null,null,null,null,null,null,null,null,null,null,null,null,null,null,null,null,null,null,null,null,null,null,null,null,null,null,null,null,null,null,null,null,null,null,null,"'CZ_2020-10'!$A:$H","$A:$H","11636CZ44105","TULIP Gola dvířkový J profil 4,1m eloxovaný hliník","Exkalibr","neuwirth","2020-10-01","NULL",3.8168000000000002E-4]
[{"$error":"#N/A"},null,{"$f":"IFERROR(VLOOKUP(B1387,List1!$A:$B,2,0),\"x\")","v":"x"},null,null,null,null,null,null,{"$f":"CONCATENATE(VLOOKUP(E1387,[1]Seznamy!$Q$2:$R$36,2,0),VLOOKUP(F1387,[1]Produkty!$I:$O,7,0),C1387,D1387)","v":{"$error":"#N/A"}},null,null,null,null,null,null,null,null,null,null,null,null,null,null,null,null,null,null,null,null,null,null,null,null,null,null,null,null,null,null,null,null,null,null,null,null,null,null,null,null,null,null,"'CZ_2020-10'!$A:$H","$A:$H","11022CZ44105","STRONG LED pásek 21,6W/m 24V bílá neutrální 210 LED/m","GTV","neuwirth","2020-10-01","Stančo Denčev",3.2118372000000002]
[{"$error":"#N/A"},null,{"$f":"IFERROR(VLOOKUP(B1392,List1!$A:$B,2,0),\"x\")","v":"x"},null,null,null,null,null,null,{"$f":"CONCATENATE(VLOOKUP(E1392,[1]Seznamy!$Q$2:$R$36,2,0),VLOOKUP(F1392,[1]Produkty!$I:$O,7,0),C1392,D1392)","v":{"$error":"#N/A"}},null,null,null,null,null,null,null,null,null,null,null,null,null,null,null,null,null,null,null,null,null,null,null,null,null,null,null,null,null,null,null,null,null,null,null,null,null,null,null,null,null,null,"'CZ_2020-10'!$A:$H","$A:$H","10922CZ44105","STRONG LED pásek 21,6W/m 24V bílá neutrální 210 LED/m","Hafele","neuwirth","2020-10-01","Stančo Denčev",3.2118372000000002]
[{"$error":"#N/A"},null,{"$f":"IFERROR(VLOOKUP(B1396,List1!$A:$B,2,0),\"x\")","v":"x"},null,null,null,null,null,null,{"$f":"CONCATENATE(VLOOKUP(E1396,[1]Seznamy!$Q$2:$R$36,2,0),VLOOKUP(F1396,[1]Produkty!$I:$O,7,0),C1396,D1396)","v":{"$error":"#N/A"}},null,null,null,null,null,null,null,null,null,null,null,null,null,null,null,null,null,null,null,null,null,null,null,null,null,null,null,null,null,null,null,null,null,null,null,null,null,null,null,null,null,null,"'CZ_2020-10'!$A:$H","$A:$H","10936CZ44105","TULIP Gola dvířkový J profil 4,1m eloxovaný hliník","Hafele","neuwirth","2020-10-01","NULL",3.8168000000000002E-4]
[{"$error":"#N/A"},null,{"$f":"IFERROR(VLOOKUP(B1401,List1!$A:$B,2,0),\"x\")","v":"x"},null,null,null,null,null,null,{"$f":"CONCATENATE(VLOOKUP(E1401,[1]Seznamy!$Q$2:$R$36,2,0),VLOOKUP(F1401,[1]Produkty!$I:$O,7,0),C1401,D1401)","v":{"$error":"#N/A"}},null,null,null,null,null,null,null,null,null,null,null,null,null,null,null,null,null,null,null,null,null,null,null,null,null,null,null,null,null,null,null,null,null,null,null,null,null,null,null,null,null,null,"'CZ_2020-10'!$A:$H","$A:$H","10523CZ44105","STRONG transformátor plochý LED 24V 100W","Jaf Holz","neuwirth","2020-10-01","Stančo Denčev",16.197148434480003]
[{"$error":"#N/A"},null,{"$f":"IFERROR(VLOOKUP(B1402,List1!$A:$B,2,0),\"x\")","v":"x"},null,null,null,null,null,null,{"$f":"CONCATENATE(VLOOKUP(E1402,[1]Seznamy!$Q$2:$R$36,2,0),VLOOKUP(F1402,[1]Produkty!$I:$O,7,0),C1402,D1402)","v":{"$error":"#N/A"}},null,null,null,null,null,null,null,null,null,null,null,null,null,null,null,null,null,null,null,null,null,null,null,null,null,null,null,null,null,null,null,null,null,null,null,null,null,null,null,null,null,null,"'CZ_2020-10'!$A:$H","$A:$H","11122CZ44105","STRONG LED pásek 21,6W/m 24V bílá neutrální 210 LED/m","Kili","neuwirth","2020-10-01","Stančo Denčev",3.2118372000000002]
[{"$error":"#N/A"},null,{"$f":"IFERROR(VLOOKUP(B1406,List1!$A:$B,2,0),\"x\")","v":"x"},null,null,null,null,null,null,{"$f":"CONCATENATE(VLOOKUP(E1406,[1]Seznamy!$Q$2:$R$36,2,0),VLOOKUP(F1406,[1]Produkty!$I:$O,7,0),C1406,D1406)","v":{"$error":"#N/A"}},null,null,null,null,null,null,null,null,null,null,null,null,null,null,null,null,null,null,null,null,null,null,null,null,null,null,null,null,null,null,null,null,null,null,null,null,null,null,null,null,null,null,"'CZ_2020-10'!$A:$H","$A:$H","11136CZ44105","TULIP Gola dvířkový J profil 4,1m eloxovaný hliník","Kili","neuwirth","2020-10-01","NULL",3.8168000000000002E-4]
[{"$error":"#N/A"},null,{"$f":"IFERROR(VLOOKUP(B1411,List1!$A:$B,2,0),\"x\")","v":"x"},null,null,null,null,null,null,{"$f":"CONCATENATE(VLOOKUP(E1411,[1]Seznamy!$Q$2:$R$36,2,0),VLOOKUP(F1411,[1]Produkty!$I:$O,7,0),C1411,D1411)","v":{"$error":"#N/A"}},null,null,null,null,null,null,null,null,null,null,null,null,null,null,null,null,null,null,null,null,null,null,null,null,null,null,null,null,null,null,null,null,null,null,null,null,null,null,null,null,null,null,"'CZ_2020-10'!$A:$H","$A:$H","11423CZ44105","STRONG transformátor plochý LED 24V 100W","Kopecký CZ","neuwirth","2020-10-01","Stančo Denčev",16.197148434480003]
[{"$error":"#N/A"},null,{"$f":"IFERROR(VLOOKUP(B1416,List1!$A:$B,2,0),\"x\")","v":"x"},null,null,null,null,null,null,{"$f":"CONCATENATE(VLOOKUP(E1416,[1]Seznamy!$Q$2:$R$36,2,0),VLOOKUP(F1416,[1]Produkty!$I:$O,7,0),C1416,D1416)","v":{"$error":"#N/A"}},null,null,null,null,null,null,null,null,null,null,null,null,null,null,null,null,null,null,null,null,null,null,null,null,null,null,null,null,null,null,null,null,null,null,null,null,null,null,null,null,null,null,"'CZ_2020-10'!$A:$H","$A:$H","10622CZ44105","STRONG LED pásek 21,6W/m 24V bílá neutrální 210 LED/m","Nábytkár","neuwirth","2020-10-01","Stančo Denčev",3.2118372000000002]
[{"$f":"TEXT(J1417,1)","v":{"$error":"#N/A"}},null,{"$f":"IFERROR(VLOOKUP(B1417,List1!$A:$B,2,0),\"x\")","v":"x"},null,null,null,null,null,null,{"$f":"CONCATENATE(VLOOKUP(E1417,[1]Seznamy!$Q$2:$R$36,2,0),VLOOKUP(F1417,[1]Produkty!$I:$O,7,0),C1417,D1417)","v":{"$error":"#N/A"}},null,null,null,null,null,null,null,null,null,null,null,null,null,null,null,null,null,null,null,null,null,null,null,null,null,null,null,null,null,null,null,null,null,null,null,null,null,null,null,null,null,null,"'CZ_2020-10'!$A:$H","$A:$H","10623CZ44105","STRONG transformátor plochý LED 24V 100W","Nábytkár","neuwirth","2020-10-01","Stančo Denčev",16.197148434480003]
[{"$error":"#N/A"},null,{"$f":"IFERROR(VLOOKUP(B1422,List1!$A:$B,2,0),\"x\")","v":"x"},null,null,null,null,null,null,{"$f":"CONCATENATE(VLOOKUP(E1422,[1]Seznamy!$Q$2:$R$36,2,0),VLOOKUP(F1422,[1]Produkty!$I:$O,7,0),C1422,D1422)","v":{"$error":"#N/A"}},null,null,null,null,null,null,null,null,null,null,null,null,null,null,null,null,null,null,null,null,null,null,null,null,null,null,null,null,null,null,null,null,null,null,null,null,null,null,null,null,null,null,"'CZ_2020-10'!$A:$H","$A:$H","10832CZ44105","Alfa II profile 222788","Schachermayer","neuwirth","2020-10-01","NULL",4.206132684]
[{"$error":"#N/A"},null,{"$f":"IFERROR(VLOOKUP(B1426,List1!$A:$B,2,0),\"x\")","v":"x"},null,null,null,null,null,null,{"$f":"CONCATENATE(VLOOKUP(E1426,[1]Seznamy!$Q$2:$R$36,2,0),VLOOKUP(F1426,[1]Produkty!$I:$O,7,0),C1426,D1426)","v":{"$error":"#N/A"}},null,null,null,null,null,null,null,null,null,null,null,null,null,null,null,null,null,null,null,null,null,null,null,null,null,null,null,null,null,null,null,null,null,null,null,null,null,null,null,null,null,null,"'CZ_2020-10'!$A:$H","$A:$H","10723CZ44105","STRONG transformátor plochý LED 24V 100W","TWD","neuwirth","2020-10-01","Stančo Denčev",16.197148434480003]
[{"$error":"#N/A"},null,{"$f":"IFERROR(VLOOKUP(B1431,List1!$A:$B,2,0),\"x\")","v":"x"},null,null,null,null,null,null,{"$f":"CONCATENATE(VLOOKUP(E1431,[1]Seznamy!$Q$2:$R$36,2,0),VLOOKUP(F1431,[1]Produkty!$I:$O,7,0),C1431,D1431)","v":{"$error":"#N/A"}},null,null,null,null,null,null,null,null,null,null,null,null,null,null,null,null,null,null,null,null,null,null,null,null,null,null,null,null,null,null,null,null,null,null,null,null,null,null,null,null,null,null,"'HU_2020-10'!$A:$H","$A:$H","1301HU44105","STRONG plus závěs naložený s tlumením, s excentrem, klipový","Forest","keves","2020-10-01","Martin Zniszczol",0.28351488000000002]
[{"$error":"#N/A"},null,{"$f":"IFERROR(VLOOKUP(B1432,List1!$A:$B,2,0),\"x\")","v":"x"},null,null,null,null,null,null,{"$f":"CONCATENATE(VLOOKUP(E1432,[1]Seznamy!$Q$2:$R$36,2,0),VLOOKUP(F1432,[1]Produkty!$I:$O,7,0),C1432,D1432)","v":{"$error":"#N/A"}},null,null,null,null,null,null,null,null,null,null,null,null,null,null,null,null,null,null,null,null,null,null,null,null,null,null,null,null,null,null,null,null,null,null,null,null,null,null,null,null,null,null,"'HU_2020-10'!$A:$H","$A:$H","1302HU44105","STRONG závěs naložený, slide on","Forest","keves","2020-10-01","Martin Zniszczol",0.11635711999999999]
[{"$error":"#N/A"},null,{"$f":"IFERROR(VLOOKUP(B1436,List1!$A:$B,2,0),\"x\")","v":"x"},null,null,null,null,null,null,{"$f":"CONCATENATE(VLOOKUP(E1436,[1]Seznamy!$Q$2:$R$36,2,0),VLOOKUP(F1436,[1]Produkty!$I:$O,7,0),C1436,D1436)","v":{"$error":"#N/A"}},null,null,null,null,null,null,null,null,null,null,null,null,null,null,null,null,null,null,null,null,null,null,null,null,null,null,null,null,null,null,null,null,null,null,null,null,null,null,null,null,null,null,"'HU_2020-10'!$A:$H","$A:$H","1306HU44105","STRONG Rektifikační nožka 100 mm","Forest","keves","2020-10-01","Lukáš Sládek",9.6852940799999995E-2]
[{"$error":"#N/A"},null,{"$f":"IFERROR(VLOOKUP(B1441,List1!$A:$B,2,0),\"x\")","v":"x"},null,null,null,null,null,null,{"$f":"CONCATENATE(VLOOKUP(E1441,[1]Seznamy!$Q$2:$R$36,2,0),VLOOKUP(F1441,[1]Produkty!$I:$O,7,0),C1441,D1441)","v":{"$error":"#N/A"}},null,null,null,null,null,null,null,null,null,null,null,null,null,null,null,null,null,null,null,null,null,null,null,null,null,null,null,null,null,null,null,null,null,null,null,null,null,null,null,null,null,null,"'HU_2020-10'!$A:$H","$A:$H","13012HU44105","GOLLINUCCI Sorter Sistema 901/2x16 l, 600 mm","Forest","keves","2020-10-01","Marcela Piechová",16.545126399999997]
[{"$error":"#N/A"},null,{"$f":"IFERROR(VLOOKUP(B1446,List1!$A:$B,2,0),\"x\")","v":"x"},null,null,null,null,null,null,{"$f":"CONCATENATE(VLOOKUP(E1446,[1]Seznamy!$Q$2:$R$36,2,0),VLOOKUP(F1446,[1]Produkty!$I:$O,7,0),C1446,D1446)","v":{"$error":"#N/A"}},null,null,null,null,null,null,null,null,null,null,null,null,null,null,null,null,null,null,null,null,null,null,null,null,null,null,null,null,null,null,null,null,null,null,null,null,null,null,null,null,null,null,"'HU_2020-10'!$A:$H","$A:$H","13017HU44105","TULIP úchytka Piombina 96 nikl matný + šroubky","Forest","keves","2020-10-01","Lenka Kormaník",0.42360876799999997]
[{"$error":"#N/A"},null,{"$f":"IFERROR(VLOOKUP(B1447,List1!$A:$B,2,0),\"x\")","v":"x"},null,null,null,null,null,null,{"$f":"CONCATENATE(VLOOKUP(E1447,[1]Seznamy!$Q$2:$R$36,2,0),VLOOKUP(F1447,[1]Produkty!$I:$O,7,0),C1447,D1447)","v":{"$error":"#N/A"}},null,null,null,null,null,null,null,null,null,null,null,null,null,null,null,null,null,null,null,null,null,null,null,null,null,null,null,null,null,null,null,null,null,null,null,null,null,null,null,null,null,null,"'HU_2020-10'!$A:$H","$A:$H","13018HU44105","TULIP úchytka Anita 96 nikl matný + šroubky","Forest","keves","2020-10-01","Lenka Kormaník",0.26821974784000002]
[{"$error":"#N/A"},null,{"$f":"IFERROR(VLOOKUP(B1452,List1!$A:$B,2,0),\"x\")","v":"x"},null,null,null,null,null,null,{"$f":"CONCATENATE(VLOOKUP(E1452,[1]Seznamy!$Q$2:$R$36,2,0),VLOOKUP(F1452,[1]Produkty!$I:$O,7,0),C1452,D1452)","v":{"$error":"#N/A"}},null,null,null,null,null,null,null,null,null,null,null,null,null,null,null,null,null,null,null,null,null,null,null,null,null,null,null,null,null,null,null,null,null,null,null,null,null,null,null,null,null,null,"'HU_2020-10'!$A:$H","$A:$H","13029HU44105","ABSB HU10113 Bílá 101/110/113/8100/8685/W954/B3822 PE 22/2","Forest","keves","2020-10-01","Martin Karaščák",0]
[{"$error":"#N/A"},null,{"$f":"IFERROR(VLOOKUP(B1456,List1!$A:$B,2,0),\"x\")","v":"x"},null,null,null,null,null,null,{"$f":"CONCATENATE(VLOOKUP(E1456,[1]Seznamy!$Q$2:$R$36,2,0),VLOOKUP(F1456,[1]Produkty!$I:$O,7,0),C1456,D1456)","v":{"$error":"#N/A"}},null,null,null,null,null,null,null,null,null,null,null,null,null,null,null,null,null,null,null,null,null,null,null,null,null,null,null,null,null,null,null,null,null,null,null,null,null,null,null,null,null,null,"'HU_2020-10'!$A:$H","$A:$H","13034HU44105","Strong electric socket, lift","Forest","keves","2020-10-01","NULL",11.736545835519999]
[{"$error":"#N/A"},null,{"$f":"IFERROR(VLOOKUP(B1461,List1!$A:$B,2,0),\"x\")","v":"x"},null,null,null,null,null,null,{"$f":"CONCATENATE(VLOOKUP(E1461,[1]Seznamy!$Q$2:$R$36,2,0),VLOOKUP(F1461,[1]Produkty!$I:$O,7,0),C1461,D1461)","v":{"$error":"#N/A"}},null,null,null,null,null,null,null,null,null,null,null,null,null,null,null,null,null,null,null,null,null,null,null,null,null,null,null,null,null,null,null,null,null,null,null,null,null,null,null,null,null,null,"'PL_2020-10'!$A:$H","$A:$H","1252PL44105","STRONG závěs naložený, slide on","Amix","pastuszak","2020-10-01","Martin Zniszczol",0.116548608]
[{"$error":"#N/A"},null,{"$f":"IFERROR(VLOOKUP(B1462,List1!$A:$B,2,0),\"x\")","v":"x"},null,null,null,null,null,null,{"$f":"CONCATENATE(VLOOKUP(E1462,[1]Seznamy!$Q$2:$R$36,2,0),VLOOKUP(F1462,[1]Produkty!$I:$O,7,0),C1462,D1462)","v":{"$error":"#N/A"}},null,null,null,null,null,null,null,null,null,null,null,null,null,null,null,null,null,null,null,null,null,null,null,null,null,null,null,null,null,null,null,null,null,null,null,null,null,null,null,null,null,null,"'PL_2020-10'!$A:$H","$A:$H","1253PL44105","StrongBox H86/500mm bílý","Amix","pastuszak","2020-10-01","Martin Zniszczol",7.336643819999999]
[{"$error":"#N/A"},null,{"$f":"IFERROR(VLOOKUP(B1466,List1!$A:$B,2,0),\"x\")","v":"x"},null,null,null,null,null,null,{"$f":"CONCATENATE(VLOOKUP(E1466,[1]Seznamy!$Q$2:$R$36,2,0),VLOOKUP(F1466,[1]Produkty!$I:$O,7,0),C1466,D1466)","v":{"$error":"#N/A"}},null,null,null,null,null,null,null,null,null,null,null,null,null,null,null,null,null,null,null,null,null,null,null,null,null,null,null,null,null,null,null,null,null,null,null,null,null,null,null,null,null,null,"'PL_2020-10'!$A:$H","$A:$H","1257PL44105","STRONG Stolová noha centrální 450x450 černá","Amix","pastuszak","2020-10-01","Lukáš Sládek",33.268595282999996]
[{"$error":"#N/A"},null,{"$f":"IFERROR(VLOOKUP(B1471,List1!$A:$B,2,0),\"x\")","v":"x"},null,null,null,null,null,null,{"$f":"CONCATENATE(VLOOKUP(E1471,[1]Seznamy!$Q$2:$R$36,2,0),VLOOKUP(F1471,[1]Produkty!$I:$O,7,0),C1471,D1471)","v":{"$error":"#N/A"}},null,null,null,null,null,null,null,null,null,null,null,null,null,null,null,null,null,null,null,null,null,null,null,null,null,null,null,null,null,null,null,null,null,null,null,null,null,null,null,null,null,null,"'PL_2020-10'!$A:$H","$A:$H","12518PL44105","TULIP úchytka Anita 96 nikl matný + šroubky","Amix","pastuszak","2020-10-01","Lenka Kormaník",0.2761883322]
[{"$error":"#N/A"},null,{"$f":"IFERROR(VLOOKUP(B1476,List1!$A:$B,2,0),\"x\")","v":"x"},null,null,null,null,null,null,{"$f":"CONCATENATE(VLOOKUP(E1476,[1]Seznamy!$Q$2:$R$36,2,0),VLOOKUP(F1476,[1]Produkty!$I:$O,7,0),C1476,D1476)","v":{"$error":"#N/A"}},null,null,null,null,null,null,null,null,null,null,null,null,null,null,null,null,null,null,null,null,null,null,null,null,null,null,null,null,null,null,null,null,null,null,null,null,null,null,null,null,null,null,"'PL_2020-10'!$A:$H","$A:$H","12534PL44105","Strong electric socket, lift","Amix","pastuszak","2020-10-01","NULL",15.801669378]
[{"$error":"#N/A"},null,{"$f":"IFERROR(VLOOKUP(B1477,List1!$A:$B,2,0),\"x\")","v":"x"},null,null,null,null,null,null,{"$f":"CONCATENATE(VLOOKUP(E1477,[1]Seznamy!$Q$2:$R$36,2,0),VLOOKUP(F1477,[1]Produkty!$I:$O,7,0),C1477,D1477)","v":{"$error":"#N/A"}},null,null,null,null,null,null,null,null,null,null,null,null,null,null,null,null,null,null,null,null,null,null,null,null,null,null,null,null,null,null,null,null,null,null,null,null,null,null,null,null,null,null,"'PL_2020-10'!$A:$H","$A:$H","12535PL44105","STRONG Elektricky stavitelná podnož černá RAL 9005 mat","Amix","pastuszak","2020-10-01","NULL",125.09899630800001]
[{"$error":"#N/A"},null,{"$f":"IFERROR(VLOOKUP(B1482,List1!$A:$B,2,0),\"x\")","v":"x"},null,null,null,null,null,null,{"$f":"CONCATENATE(VLOOKUP(E1482,[1]Seznamy!$Q$2:$R$36,2,0),VLOOKUP(F1482,[1]Produkty!$I:$O,7,0),C1482,D1482)","v":{"$error":"#N/A"}},null,null,null,null,null,null,null,null,null,null,null,null,null,null,null,null,null,null,null,null,null,null,null,null,null,null,null,null,null,null,null,null,null,null,null,null,null,null,null,null,null,null,"'PL_2020-10'!$A:$H","$A:$H","1274PL44105","StrongMax 89/500 mm šedý (antracit)","Belmeb","pastuszak","2020-10-01","Martin Zniszczol",9.6698923199999989]
[{"$error":"#N/A"},null,{"$f":"IFERROR(VLOOKUP(B1486,List1!$A:$B,2,0),\"x\")","v":"x"},null,null,null,null,null,null,{"$f":"CONCATENATE(VLOOKUP(E1486,[1]Seznamy!$Q$2:$R$36,2,0),VLOOKUP(F1486,[1]Produkty!$I:$O,7,0),C1486,D1486)","v":{"$error":"#N/A"}},null,null,null,null,null,null,null,null,null,null,null,null,null,null,null,null,null,null,null,null,null,null,null,null,null,null,null,null,null,null,null,null,null,null,null,null,null,null,null,null,null,null,"'PL_2020-10'!$A:$H","$A:$H","1278PL44105","STRONG Elektrická zásuvka 3x230V, francouzský typ, 265x130x68 mm stříbrná","Belmeb","pastuszak","2020-10-01","Lukáš Sládek",14.75416827654]
[{"$error":"#N/A"},null,{"$f":"IFERROR(VLOOKUP(B1491,List1!$A:$B,2,0),\"x\")","v":"x"},null,null,null,null,null,null,{"$f":"CONCATENATE(VLOOKUP(E1491,[1]Seznamy!$Q$2:$R$36,2,0),VLOOKUP(F1491,[1]Produkty!$I:$O,7,0),C1491,D1491)","v":{"$error":"#N/A"}},null,null,null,null,null,null,null,null,null,null,null,null,null,null,null,null,null,null,null,null,null,null,null,null,null,null,null,null,null,null,null,null,null,null,null,null,null,null,null,null,null,null,"'PL_2020-10'!$A:$H","$A:$H","12717PL44105","TULIP úchytka Piombina 96 nikl matný + šroubky","Belmeb","pastuszak","2020-10-01","Lenka Kormaník",0.4361922708]
[{"$error":"#N/A"},null,{"$f":"IFERROR(VLOOKUP(B1492,List1!$A:$B,2,0),\"x\")","v":"x"},null,null,null,null,null,null,{"$f":"CONCATENATE(VLOOKUP(E1492,[1]Seznamy!$Q$2:$R$36,2,0),VLOOKUP(F1492,[1]Produkty!$I:$O,7,0),C1492,D1492)","v":{"$error":"#N/A"}},null,null,null,null,null,null,null,null,null,null,null,null,null,null,null,null,null,null,null,null,null,null,null,null,null,null,null,null,null,null,null,null,null,null,null,null,null,null,null,null,null,null,"'PL_2020-10'!$A:$H","$A:$H","12718PL44105","TULIP úchytka Anita 96 nikl matný + šroubky","Belmeb","pastuszak","2020-10-01","Lenka Kormaník",0.2761883322]
[{"$error":"#N/A"},null,{"$f":"IFERROR(VLOOKUP(B1496,List1!$A:$B,2,0),\"x\")","v":"x"},null,null,null,null,null,null,{"$f":"CONCATENATE(VLOOKUP(E1496,[1]Seznamy!$Q$2:$R$36,2,0),VLOOKUP(F1496,[1]Produkty!$I:$O,7,0),C1496,D1496)","v":{"$error":"#N/A"}},null,null,null,null,null,null,null,null,null,null,null,null,null,null,null,null,null,null,null,null,null,null,null,null,null,null,null,null,null,null,null,null,null,null,null,null,null,null,null,null,null,null,"'PL_2020-10'!$A:$H","$A:$H","12724PL44105","Vrut PZ 4x18 zápustná hlava zinek bílý PZ2","Belmeb","pastuszak","2020-10-01","Stančo Denčev",2.03960064E-3]
[{"$error":"#N/A"},null,{"$f":"IFERROR(VLOOKUP(B1501,List1!$A:$B,2,0),\"x\")","v":"x"},null,null,null,null,null,null,{"$f":"CONCATENATE(VLOOKUP(E1501,[1]Seznamy!$Q$2:$R$36,2,0),VLOOKUP(F1501,[1]Produkty!$I:$O,7,0),C1501,D1501)","v":{"$error":"#N/A"}},null,null,null,null,null,null,null,null,null,null,null,null,null,null,null,null,null,null,null,null,null,null,null,null,null,null,null,null,null,null,null,null,null,null,null,null,null,null,null,null,null,null,"'PL_2020-10'!$A:$H","$A:$H","12735PL44105","STRONG Elektricky stavitelná podnož černá RAL 9005 mat","Belmeb","pastuszak","2020-10-01","NULL",125.09899630800001]
[{"$error":"#N/A"},null,{"$f":"IFERROR(VLOOKUP(B1506,List1!$A:$B,2,0),\"x\")","v":"x"},null,null,null,null,null,null,{"$f":"CONCATENATE(VLOOKUP(E1506,[1]Seznamy!$Q$2:$R$36,2,0),VLOOKUP(F1506,[1]Produkty!$I:$O,7,0),C1506,D1506)","v":{"$error":"#N/A"}},null,null,null,null,null,null,null,null,null,null,null,null,null,null,null,null,null,null,null,null,null,null,null,null,null,null,null,null,null,null,null,null,null,null,null,null,null,null,null,null,null,null,"'PL_2020-10'!$A:$H","$A:$H","12633PL44105","SEVROLL Era úchytová lišta 18mm 2,70m stříbrná","DesignLight","pastuszak","2020-10-01","NULL",2.27634E-3]
[{"$error":"#N/A"},null,{"$f":"IFERROR(VLOOKUP(B1507,List1!$A:$B,2,0),\"x\")","v":"x"},null,null,null,null,null,null,{"$f":"CONCATENATE(VLOOKUP(E1507,[1]Seznamy!$Q$2:$R$36,2,0),VLOOKUP(F1507,[1]Produkty!$I:$O,7,0),C1507,D1507)","v":{"$error":"#N/A"}},null,null,null,null,null,null,null,null,null,null,null,null,null,null,null,null,null,null,null,null,null,null,null,null,null,null,null,null,null,null,null,null,null,null,null,null,null,null,null,null,null,null,"'PL_2020-10'!$A:$H","$A:$H","12634PL44105","Strong electric socket, lift","DesignLight","pastuszak","2020-10-01","NULL",15.801669378]
[{"$error":"#N/A"},null,{"$f":"IFERROR(VLOOKUP(B1512,List1!$A:$B,2,0),\"x\")","v":"x"},null,null,null,null,null,null,{"$f":"CONCATENATE(VLOOKUP(E1512,[1]Seznamy!$Q$2:$R$36,2,0),VLOOKUP(F1512,[1]Produkty!$I:$O,7,0),C1512,D1512)","v":{"$error":"#N/A"}},null,null,null,null,null,null,null,null,null,null,null,null,null,null,null,null,null,null,null,null,null,null,null,null,null,null,null,null,null,null,null,null,null,null,null,null,null,null,null,null,null,null,"'PL_2020-10'!$A:$H","$A:$H","1104PL44105","StrongMax 89/500 mm šedý (antracit)","GTV","pastuszak","2020-10-01","Martin Zniszczol",9.6698923199999989]
[{"$error":"#N/A"},null,{"$f":"IFERROR(VLOOKUP(B1516,List1!$A:$B,2,0),\"x\")","v":"x"},null,null,null,null,null,null,{"$f":"CONCATENATE(VLOOKUP(E1516,[1]Seznamy!$Q$2:$R$36,2,0),VLOOKUP(F1516,[1]Produkty!$I:$O,7,0),C1516,D1516)","v":{"$error":"#N/A"}},null,null,null,null,null,null,null,null,null,null,null,null,null,null,null,null,null,null,null,null,null,null,null,null,null,null,null,null,null,null,null,null,null,null,null,null,null,null,null,null,null,null,"'PL_2020-10'!$A:$H","$A:$H","1108PL44105","STRONG Elektrická zásuvka 3x230V, francouzský typ, 265x130x68 mm stříbrná","GTV","pastuszak","2020-10-01","Lukáš Sládek",14.75416827654]
[{"$error":"#N/A"},null,{"$f":"IFERROR(VLOOKUP(B1521,List1!$A:$B,2,0),\"x\")","v":"x"},null,null,null,null,null,null,{"$f":"CONCATENATE(VLOOKUP(E1521,[1]Seznamy!$Q$2:$R$36,2,0),VLOOKUP(F1521,[1]Produkty!$I:$O,7,0),C1521,D1521)","v":{"$error":"#N/A"}},null,null,null,null,null,null,null,null,null,null,null,null,null,null,null,null,null,null,null,null,null,null,null,null,null,null,null,null,null,null,null,null,null,null,null,null,null,null,null,null,null,null,"'PL_2020-10'!$A:$H","$A:$H","11019PL44105","TULIP věšák Lugo XL chrom matný + šroubky","GTV","pastuszak","2020-10-01","Lenka Kormaník",0.74823068165999995]
[{"$error":"#N/A"},null,{"$f":"IFERROR(VLOOKUP(B1522,List1!$A:$B,2,0),\"x\")","v":"x"},null,null,null,null,null,null,{"$f":"CONCATENATE(VLOOKUP(E1522,[1]Seznamy!$Q$2:$R$36,2,0),VLOOKUP(F1522,[1]Produkty!$I:$O,7,0),C1522,D1522)","v":{"$error":"#N/A"}},null,null,null,null,null,null,null,null,null,null,null,null,null,null,null,null,null,null,null,null,null,null,null,null,null,null,null,null,null,null,null,null,null,null,null,null,null,null,null,null,null,null,"'PL_2020-10'!$A:$H","$A:$H","11021PL44105","TULIP Úchytka Lucata 160 černá matná","GTV","pastuszak","2020-10-01","Lenka Kormaník",0.82574688768000004]
[{"$error":"#N/A"},null,{"$f":"IFERROR(VLOOKUP(B1526,List1!$A:$B,2,0),\"x\")","v":"x"},null,null,null,null,null,null,{"$f":"CONCATENATE(VLOOKUP(E1526,[1]Seznamy!$Q$2:$R$36,2,0),VLOOKUP(F1526,[1]Produkty!$I:$O,7,0),C1526,D1526)","v":{"$error":"#N/A"}},null,null,null,null,null,null,null,null,null,null,null,null,null,null,null,null,null,null,null,null,null,null,null,null,null,null,null,null,null,null,null,null,null,null,null,null,null,null,null,null,null,null,"'PL_2020-10'!$A:$H","$A:$H","11033PL44105","SEVROLL Era úchytová lišta 18mm 2,70m stříbrná","GTV","pastuszak","2020-10-01","NULL",2.27634E-3]
[{"$error":"#N/A"},null,{"$f":"IFERROR(VLOOKUP(B1531,List1!$A:$B,2,0),\"x\")","v":"x"},null,null,null,null,null,null,{"$f":"CONCATENATE(VLOOKUP(E1531,[1]Seznamy!$Q$2:$R$36,2,0),VLOOKUP(F1531,[1]Produkty!$I:$O,7,0),C1531,D1531)","v":{"$error":"#N/A"}},null,null,null,null,null,null,null,null,null,null,null,null,null,null,null,null,null,null,null,null,null,null,null,null,null,null,null,null,null,null,null,null,null,null,null,null,null,null,null,null,null,null,"'PL_2020-10'!$A:$H","$A:$H","1093PL44105","StrongBox H86/500mm bílý","Hafele","pastuszak","2020-10-01","Martin Zniszczol",7.336643819999999]
[{"$error":"#N/A"},null,{"$f":"IFERROR(VLOOKUP(B1536,List1!$A:$B,2,0),\"x\")","v":"x"},null,null,null,null,null,null,{"$f":"CONCATENATE(VLOOKUP(E1536,[1]Seznamy!$Q$2:$R$36,2,0),VLOOKUP(F1536,[1]Produkty!$I:$O,7,0),C1536,D1536)","v":{"$error":"#N/A"}},null,null,null,null,null,null,null,null,null,null,null,null,null,null,null,null,null,null,null,null,null,null,null,null,null,null,null,null,null,null,null,null,null,null,null,null,null,null,null,null,null,null,"'PL_2020-10'!$A:$H","$A:$H","10936PL44105","TULIP Gola dvířkový J profil 4,1m eloxovaný hliník","Hafele","pastuszak","2020-10-01","NULL",2.27634E-3]
[{"$error":"#N/A"},null,{"$f":"IFERROR(VLOOKUP(B1537,List1!$A:$B,2,0),\"x\")","v":"x"},null,null,null,null,null,null,{"$f":"CONCATENATE(VLOOKUP(E1537,[1]Seznamy!$Q$2:$R$36,2,0),VLOOKUP(F1537,[1]Produkty!$I:$O,7,0),C1537,D1537)","v":{"$error":"#N/A"}},null,null,null,null,null,null,null,null,null,null,null,null,null,null,null,null,null,null,null,null,null,null,null,null,null,null,null,null,null,null,null,null,null,null,null,null,null,null,null,null,null,null,"'PL_2020-10'!$A:$H","$A:$H","12816PL44105","TULIP úchytka Nakana 128 chrom matný + šroubky","Nomet","pastuszak","2020-10-01","Lenka Kormaník",0.79492979675999997]
[{"$error":"#N/A"},null,{"$f":"IFERROR(VLOOKUP(B1543,List1!$A:$B,2,0),\"x\")","v":"x"},null,null,null,null,null,null,{"$f":"CONCATENATE(VLOOKUP(E1543,[1]Seznamy!$Q$2:$R$36,2,0),VLOOKUP(F1543,[1]Produkty!$I:$O,7,0),C1543,D1543)","v":{"$error":"#N/A"}},null,null,null,null,null,null,null,null,null,null,null,null,null,null,null,null,null,null,null,null,null,null,null,null,null,null,null,null,null,null,null,null,null,null,null,null,null,null,null,null,null,null,"'PL_2020-10'!$A:$H","$A:$H","12834PL44105","Strong electric socket, lift","Nomet","pastuszak","2020-10-01","NULL",15.801669378]
[{"$error":"#N/A"},null,{"$f":"IFERROR(VLOOKUP(B1546,List1!$A:$B,2,0),\"x\")","v":"x"},null,null,null,null,null,null,{"$f":"CONCATENATE(VLOOKUP(E1546,[1]Seznamy!$Q$2:$R$36,2,0),VLOOKUP(F1546,[1]Produkty!$I:$O,7,0),C1546,D1546)","v":{"$error":"#N/A"}},null,null,null,null,null,null,null,null,null,null,null,null,null,null,null,null,null,null,null,null,null,null,null,null,null,null,null,null,null,null,null,null,null,null,null,null,null,null,null,null,null,null,"'PL_2020-10'!$A:$H","$A:$H","1291PL44105","STRONG plus závěs naložený s tlumením, s excentrem, klipový","Sevroll","pastuszak","2020-10-01","Martin Zniszczol",0.29137151999999999]
[{"$error":"#N/A"},null,{"$f":"IFERROR(VLOOKUP(B1551,List1!$A:$B,2,0),\"x\")","v":"x"},null,null,null,null,null,null,{"$f":"CONCATENATE(VLOOKUP(E1551,[1]Seznamy!$Q$2:$R$36,2,0),VLOOKUP(F1551,[1]Produkty!$I:$O,7,0),C1551,D1551)","v":{"$error":"#N/A"}},null,null,null,null,null,null,null,null,null,null,null,null,null,null,null,null,null,null,null,null,null,null,null,null,null,null,null,null,null,null,null,null,null,null,null,null,null,null,null,null,null,null,"'PL_2020-10'!$A:$H","$A:$H","12935PL44105","STRONG Elektricky stavitelná podnož černá RAL 9005 mat","Sevroll","pastuszak","2020-10-01","NULL",125.09899630800001]
[{"$error":"#N/A"},null,{"$f":"IFERROR(VLOOKUP(B1552,List1!$A:$B,2,0),\"x\")","v":"x"},null,null,null,null,null,null,{"$f":"CONCATENATE(VLOOKUP(E1552,[1]Seznamy!$Q$2:$R$36,2,0),VLOOKUP(F1552,[1]Produkty!$I:$O,7,0),C1552,D1552)","v":{"$error":"#N/A"}},null,null,null,null,null,null,null,null,null,null,null,null,null,null,null,null,null,null,null,null,null,null,null,null,null,null,null,null,null,null,null,null,null,null,null,null,null,null,null,null,null,null,"'PL_2020-10'!$A:$H","$A:$H","12936PL44105","TULIP Gola dvířkový J profil 4,1m eloxovaný hliník","Sevroll","pastuszak","2020-10-01","NULL",2.27634E-3]
[{"$error":"#N/A"},null,{"$f":"IFERROR(VLOOKUP(B1556,List1!$A:$B,2,0),\"x\")","v":"x"},null,null,null,null,null,null,{"$f":"CONCATENATE(VLOOKUP(E1556,[1]Seznamy!$Q$2:$R$36,2,0),VLOOKUP(F1556,[1]Produkty!$I:$O,7,0),C1556,D1556)","v":{"$error":"#N/A"}},null,null,null,null,null,null,null,null,null,null,null,null,null,null,null,null,null,null,null,null,null,null,null,null,null,null,null,null,null,null,null,null,null,null,null,null,null,null,null,null,null,null,"'PL_2020-10'!$A:$H","$A:$H","1084PL44105","StrongMax 89/500 mm šedý (antracit)","Schachermayer","pastuszak","2020-10-01","Martin Zniszczol",9.6698923199999989]
[{"$error":"#N/A"},null,{"$f":"IFERROR(VLOOKUP(B1561,List1!$A:$B,2,0),\"x\")","v":"x"},null,null,null,null,null,null,{"$f":"CONCATENATE(VLOOKUP(E1561,[1]Seznamy!$Q$2:$R$36,2,0),VLOOKUP(F1561,[1]Produkty!$I:$O,7,0),C1561,D1561)","v":{"$error":"#N/A"}},null,null,null,null,null,null,null,null,null,null,null,null,null,null,null,null,null,null,null,null,null,null,null,null,null,null,null,null,null,null,null,null,null,null,null,null,null,null,null,null,null,null,"'PL_2020-10'!$A:$H","$A:$H","10817PL44105","TULIP úchytka Piombina 96 nikl matný + šroubky","Schachermayer","pastuszak","2020-10-01","Lenka Kormaník",0.4361922708]
[{"$error":"#N/A"},null,{"$f":"IFERROR(VLOOKUP(B1566,List1!$A:$B,2,0),\"x\")","v":"x"},null,null,null,null,null,null,{"$f":"CONCATENATE(VLOOKUP(E1566,[1]Seznamy!$Q$2:$R$36,2,0),VLOOKUP(F1566,[1]Produkty!$I:$O,7,0),C1566,D1566)","v":{"$error":"#N/A"}},null,null,null,null,null,null,null,null,null,null,null,null,null,null,null,null,null,null,null,null,null,null,null,null,null,null,null,null,null,null,null,null,null,null,null,null,null,null,null,null,null,null,"'PL_2020-10'!$A:$H","$A:$H","10833PL44105","SEVROLL Era úchytová lišta 18mm 2,70m stříbrná","Schachermayer","pastuszak","2020-10-01","NULL",2.27634E-3]
[{"$error":"#N/A"},null,{"$f":"IFERROR(VLOOKUP(B1567,List1!$A:$B,2,0),\"x\")","v":"x"},null,null,null,null,null,null,{"$f":"CONCATENATE(VLOOKUP(E1567,[1]Seznamy!$Q$2:$R$36,2,0),VLOOKUP(F1567,[1]Produkty!$I:$O,7,0),C1567,D1567)","v":{"$error":"#N/A"}},null,null,null,null,null,null,null,null,null,null,null,null,null,null,null,null,null,null,null,null,null,null,null,null,null,null,null,null,null,null,null,null,null,null,null,null,null,null,null,null,null,null,"'PL_2020-10'!$A:$H","$A:$H","10834PL44105","Strong electric socket, lift","Schachermayer","pastuszak","2020-10-01","NULL",15.801669378]
[{"$error":"#N/A"},null,{"$f":"IFERROR(VLOOKUP(B1573,List1!$A:$B,2,0),\"x\")","v":"x"},null,null,null,null,null,null,{"$f":"CONCATENATE(VLOOKUP(E1573,[1]Seznamy!$Q$2:$R$36,2,0),VLOOKUP(F1573,[1]Produkty!$I:$O,7,0),C1573,D1573)","v":{"$error":"#N/A"}},null,null,null,null,null,null,null,null,null,null,null,null,null,null,null,null,null,null,null,null,null,null,null,null,null,null,null,null,null,null,null,null,null,null,null,null,null,null,null,null,null,null,"'PL_2020-10'!$A:$H","$A:$H","12432PL44105","Alfa II profile 222788","Star","pastuszak","2020-10-01","NULL",4.8045342576000003]
[{"$error":"#N/A"},null,{"$f":"IFERROR(VLOOKUP(B1576,List1!$A:$B,2,0),\"x\")","v":"x"},null,null,null,null,null,null,{"$f":"CONCATENATE(VLOOKUP(E1576,[1]Seznamy!$Q$2:$R$36,2,0),VLOOKUP(F1576,[1]Produkty!$I:$O,7,0),C1576,D1576)","v":{"$error":"#N/A"}},null,null,null,null,null,null,null,null,null,null,null,null,null,null,null,null,null,null,null,null,null,null,null,null,null,null,null,null,null,null,null,null,null,null,null,null,null,null,null,null,null,null,"'PL_2020-10'!$A:$H","$A:$H","12435PL44105","STRONG Elektricky stavitelná podnož černá RAL 9005 mat","Star","pastuszak","2020-10-01","NULL",125.09899630800001]
[{"$error":"#N/A"},null,{"$f":"IFERROR(VLOOKUP(B1581,List1!$A:$B,2,0),\"x\")","v":"x"},null,null,null,null,null,null,{"$f":"CONCATENATE(VLOOKUP(E1581,[1]Seznamy!$Q$2:$R$36,2,0),VLOOKUP(F1581,[1]Produkty!$I:$O,7,0),C1581,D1581)","v":{"$error":"#N/A"}},null,null,null,null,null,null,null,null,null,null,null,null,null,null,null,null,null,null,null,null,null,null,null,null,null,null,null,null,null,null,null,null,null,null,null,null,null,null,null,null,null,null,"'SK_2020-10'!$A:$H","$A:$H","1014SK44105","StrongMax 89/500 mm šedý (antracit)","_Demos","badzik","2020-10-01","Martin Zniszczol",10.35]
[{"$error":"#N/A"},null,{"$f":"IFERROR(VLOOKUP(B1582,List1!$A:$B,2,0),\"x\")","v":"x"},null,null,null,null,null,null,{"$f":"CONCATENATE(VLOOKUP(E1582,[1]Seznamy!$Q$2:$R$36,2,0),VLOOKUP(F1582,[1]Produkty!$I:$O,7,0),C1582,D1582)","v":{"$error":"#N/A"}},null,null,null,null,null,null,null,null,null,null,null,null,null,null,null,null,null,null,null,null,null,null,null,null,null,null,null,null,null,null,null,null,null,null,null,null,null,null,null,null,null,null,"'SK_2020-10'!$A:$H","$A:$H","1015SK44105","StrongRide synchro 3D celovýsuv 500 mm s tlumením","_Demos","badzik","2020-10-01","Martin Zniszczol",5.84]
[{"$error":"#N/A"},null,{"$f":"IFERROR(VLOOKUP(B1586,List1!$A:$B,2,0),\"x\")","v":"x"},null,null,null,null,null,null,{"$f":"CONCATENATE(VLOOKUP(E1586,[1]Seznamy!$Q$2:$R$36,2,0),VLOOKUP(F1586,[1]Produkty!$I:$O,7,0),C1586,D1586)","v":{"$error":"#N/A"}},null,null,null,null,null,null,null,null,null,null,null,null,null,null,null,null,null,null,null,null,null,null,null,null,null,null,null,null,null,null,null,null,null,null,null,null,null,null,null,null,null,null,"'SK_2020-10'!$A:$H","$A:$H","1019SK44105","BBP OA Zásuvka 515 mm kovová černá","_Demos","badzik","2020-10-01","Lukáš Sládek",4.8439500000000004]
[{"$error":"#N/A"},null,{"$f":"IFERROR(VLOOKUP(B1591,List1!$A:$B,2,0),\"x\")","v":"x"},null,null,null,null,null,null,{"$f":"CONCATENATE(VLOOKUP(E1591,[1]Seznamy!$Q$2:$R$36,2,0),VLOOKUP(F1591,[1]Produkty!$I:$O,7,0),C1591,D1591)","v":{"$error":"#N/A"}},null,null,null,null,null,null,null,null,null,null,null,null,null,null,null,null,null,null,null,null,null,null,null,null,null,null,null,null,null,null,null,null,null,null,null,null,null,null,null,null,null,null,"'SK_2020-10'!$A:$H","$A:$H","10114SK44105","FRANKE Dřez ETN 610 455 x 435","_Demos","badzik","2020-10-01","Marcela Piechová",26.13]
[{"$error":"#N/A"},null,{"$f":"IFERROR(VLOOKUP(B1596,List1!$A:$B,2,0),\"x\")","v":"x"},null,null,null,null,null,null,{"$f":"CONCATENATE(VLOOKUP(E1596,[1]Seznamy!$Q$2:$R$36,2,0),VLOOKUP(F1596,[1]Produkty!$I:$O,7,0),C1596,D1596)","v":{"$error":"#N/A"}},null,null,null,null,null,null,null,null,null,null,null,null,null,null,null,null,null,null,null,null,null,null,null,null,null,null,null,null,null,null,null,null,null,null,null,null,null,null,null,null,null,null,"'SK_2020-10'!$A:$H","$A:$H","10119SK44105","TULIP věšák Lugo XL chrom matný + šroubky","_Demos","badzik","2020-10-01","Lenka Kormaník",0.80127000000000004]
[{"$error":"#N/A"},null,{"$f":"IFERROR(VLOOKUP(B1597,List1!$A:$B,2,0),\"x\")","v":"x"},null,null,null,null,null,null,{"$f":"CONCATENATE(VLOOKUP(E1597,[1]Seznamy!$Q$2:$R$36,2,0),VLOOKUP(F1597,[1]Produkty!$I:$O,7,0),C1597,D1597)","v":{"$error":"#N/A"}},null,null,null,null,null,null,null,null,null,null,null,null,null,null,null,null,null,null,null,null,null,null,null,null,null,null,null,null,null,null,null,null,null,null,null,null,null,null,null,null,null,null,"'SK_2020-10'!$A:$H","$A:$H","10120SK44105","TULIP Úchytka Ramara 596 imitace nerezi","_Demos","badzik","2020-10-01","Lenka Kormaník",3.7006299999999999]
["1",null,{"$f":"IFERROR(VLOOKUP(B1603,List1!$A:$B,2,0),\"x\")","v":"x"},null,null,null,null,null,null,null,null,null,null,null,null,null,null,null,null,null,null,null,null,null,null,null,null,null,null,null,null,null,null,null,null,null,null,null,null,null,null,null,null,null,null,null,null,null,null,null,null,null,"'SK_2020-10'!$A:$H","$A:$H","10126SK44105","DTDL W980 ST2 Platinově bílá 2800/2070/18","_Demos","badzik","2020-10-01","Martin Karaščák",23.7636]
["1",null,{"$f":"IFERROR(VLOOKUP(B1606,List1!$A:$B,2,0),\"x\")","v":"x"},null,null,null,null,null,null,null,null,null,null,null,null,null,null,null,null,null,null,null,null,null,null,null,null,null,null,null,null,null,null,null,null,null,null,null,null,null,null,null,null,null,null,null,null,null,null,null,null,null,"'SK_2020-10'!$A:$H","$A:$H","10129SK44105","ABSB HU10113 Bílá 101/110/113/8100/8685/W954/B3822 PE 22/2","_Demos","badzik","2020-10-01","Martin Karaščák",0]
["1",null,{"$f":"IFERROR(VLOOKUP(B1611,List1!$A:$B,2,0),\"x\")","v":"x"},null,null,null,null,null,null,null,null,null,null,null,null,null,null,null,null,null,null,null,null,null,null,null,null,null,null,null,null,null,null,null,null,null,null,null,null,null,null,null,null,null,null,null,null,null,null,null,null,null,"'SK_2020-10'!$A:$H","$A:$H","10134SK44105","Strong electric socket, lift","_Demos","badzik","2020-10-01","NULL",14.40442]
["1",null,{"$f":"IFERROR(VLOOKUP(B1612,List1!$A:$B,2,0),\"x\")","v":"x"},null,null,null,null,null,null,null,null,null,null,null,null,null,null,null,null,null,null,null,null,null,null,null,null,null,null,null,null,null,null,null,null,null,null,null,null,null,null,null,null,null,null,null,null,null,null,null,null,null,"'SK_2020-10'!$A:$H","$A:$H","10135SK44105","STRONG Elektricky stavitelná podnož černá RAL 9005 mat","_Demos","badzik","2020-10-01","NULL",126.18097]
["1",null,{"$f":"IFERROR(VLOOKUP(B1616,List1!$A:$B,2,0),\"x\")","v":"x"},null,null,null,null,null,null,null,null,null,null,null,null,null,null,null,null,null,null,null,null,null,null,null,null,null,null,null,null,null,null,null,null,null,null,null,null,null,null,null,null,null,null,null,null,null,null,null,null,null,"'SK_2020-10'!$A:$H","$A:$H","1233SK44105","StrongBox H86/500mm bílý","Avecan","badzik","2020-10-01","Martin Zniszczol",7.86]
["1",null,{"$f":"IFERROR(VLOOKUP(B1621,List1!$A:$B,2,0),\"x\")","v":"x"},null,null,null,null,null,null,null,null,null,null,null,null,null,null,null,null,null,null,null,null,null,null,null,null,null,null,null,null,null,null,null,null,null,null,null,null,null,null,null,null,null,null,null,null,null,null,null,null,null,"'SK_2020-10'!$A:$H","$A:$H","1238SK44105","STRONG Elektrická zásuvka 3x230V, francouzský typ, 265x130x68 mm stříbrná","Avecan","badzik","2020-10-01","Lukáš Sládek",13.449540000000001]
["1",null,{"$f":"IFERROR(VLOOKUP(B1626,List1!$A:$B,2,0),\"x\")","v":"x"},null,null,null,null,null,null,null,null,null,null,null,null,null,null,null,null,null,null,null,null,null,null,null,null,null,null,null,null,null,null,null,null,null,null,null,null,null,null,null,null,null,null,null,null,null,null,null,null,null,"'SK_2020-10'!$A:$H","$A:$H","12313SK44105","GOLLINUCCI Sorter 580 Plus Line, 600 mm, výška 505mm, 80 l, šedý","Avecan","badzik","2020-10-01","Marcela Piechová",74.02]
["1",null,{"$f":"IFERROR(VLOOKUP(B1627,List1!$A:$B,2,0),\"x\")","v":"x"},null,null,null,null,null,null,null,null,null,null,null,null,null,null,null,null,null,null,null,null,null,null,null,null,null,null,null,null,null,null,null,null,null,null,null,null,null,null,null,null,null,null,null,null,null,null,null,null,null,"'SK_2020-10'!$A:$H","$A:$H","12314SK44105","FRANKE Dřez ETN 610 455 x 435","Avecan","badzik","2020-10-01","Marcela Piechová",26.13]
["1",null,{"$f":"IFERROR(VLOOKUP(B1633,List1!$A:$B,2,0),\"x\")","v":"x"},null,null,null,null,null,null,null,null,null,null,null,null,null,null,null,null,null,null,null,null,null,null,null,null,null,null,null,null,null,null,null,null,null,null,null,null,null,null,null,null,null,null,null,null,null,null,null,null,null,"'SK_2020-10'!$A:$H","$A:$H","12320SK44105","TULIP Úchytka Ramara 596 imitace nerezi","Avecan","badzik","2020-10-01","Lenka Kormaník",3.7006299999999999]
["1",null,{"$f":"IFERROR(VLOOKUP(B1636,List1!$A:$B,2,0),\"x\")","v":"x"},null,null,null,null,null,null,null,null,null,null,null,null,null,null,null,null,null,null,null,null,null,null,null,null,null,null,null,null,null,null,null,null,null,null,null,null,null,null,null,null,null,null,null,null,null,null,null,null,null,"'SK_2020-10'!$A:$H","$A:$H","12323SK44105","STRONG transformátor plochý LED 24V 100W","Avecan","badzik","2020-10-01","Stančo Denčev",16.410900000000002]
["1",null,{"$f":"IFERROR(VLOOKUP(B1641,List1!$A:$B,2,0),\"x\")","v":"x"},null,null,null,null,null,null,null,null,null,null,null,null,null,null,null,null,null,null,null,null,null,null,null,null,null,null,null,null,null,null,null,null,null,null,null,null,null,null,null,null,null,null,null,null,null,null,null,null,null,"'SK_2020-10'!$A:$H","$A:$H","12328SK44105","DTDD Dub evr. radiál st A/B 2800/2070/19","Avecan","badzik","2020-10-01","Martin Karaščák",58.655520000000003]
["1",null,{"$f":"IFERROR(VLOOKUP(B1642,List1!$A:$B,2,0),\"x\")","v":"x"},null,null,null,null,null,null,null,null,null,null,null,null,null,null,null,null,null,null,null,null,null,null,null,null,null,null,null,null,null,null,null,null,null,null,null,null,null,null,null,null,null,null,null,null,null,null,null,null,null,"'SK_2020-10'!$A:$H","$A:$H","12329SK44105","ABSB HU10113 Bílá 101/110/113/8100/8685/W954/B3822 PE 22/2","Avecan","badzik","2020-10-01","Martin Karaščák",0]
["1",null,{"$f":"IFERROR(VLOOKUP(B1646,List1!$A:$B,2,0),\"x\")","v":"x"},null,null,null,null,null,null,null,null,null,null,null,null,null,null,null,null,null,null,null,null,null,null,null,null,null,null,null,null,null,null,null,null,null,null,null,null,null,null,null,null,null,null,null,null,null,null,null,null,null,"'SK_2020-10'!$A:$H","$A:$H","1222SK44105","STRONG závěs naložený, slide on","Drevina","badzik","2020-10-01","Martin Zniszczol",0.125]
["1",null,{"$f":"IFERROR(VLOOKUP(B1651,List1!$A:$B,2,0),\"x\")","v":"x"},null,null,null,null,null,null,null,null,null,null,null,null,null,null,null,null,null,null,null,null,null,null,null,null,null,null,null,null,null,null,null,null,null,null,null,null,null,null,null,null,null,null,null,null,null,null,null,null,null,"'SK_2020-10'!$A:$H","$A:$H","1227SK44105","STRONG Stolová noha centrální 450x450 černá","Drevina","badzik","2020-10-01","Lukáš Sládek",34.751869999999997]
["1",null,{"$f":"IFERROR(VLOOKUP(B1656,List1!$A:$B,2,0),\"x\")","v":"x"},null,null,null,null,null,null,null,null,null,null,null,null,null,null,null,null,null,null,null,null,null,null,null,null,null,null,null,null,null,null,null,null,null,null,null,null,null,null,null,null,null,null,null,null,null,null,null,null,null,"'SK_2020-10'!$A:$H","$A:$H","12212SK44105","GOLLINUCCI Sorter Sistema 901/2x16 l, 600 mm","Drevina","badzik","2020-10-01","Marcela Piechová",16.93]
["1",null,{"$f":"IFERROR(VLOOKUP(B1657,List1!$A:$B,2,0),\"x\")","v":"x"},null,null,null,null,null,null,null,null,null,null,null,null,null,null,null,null,null,null,null,null,null,null,null,null,null,null,null,null,null,null,null,null,null,null,null,null,null,null,null,null,null,null,null,null,null,null,null,null,null,"'SK_2020-10'!$A:$H","$A:$H","12213SK44105","GOLLINUCCI Sorter 580 Plus Line, 600 mm, výška 505mm, 80 l, šedý","Drevina","badzik","2020-10-01","Marcela Piechová",74.02]
["1",null,{"$f":"IFERROR(VLOOKUP(B1663,List1!$A:$B,2,0),\"x\")","v":"x"},null,null,null,null,null,null,null,null,null,null,null,null,null,null,null,null,null,null,null,null,null,null,null,null,null,null,null,null,null,null,null,null,null,null,null,null,null,null,null,null,null,null,null,null,null,null,null,null,null,"'SK_2020-10'!$A:$H","$A:$H","12219SK44105","TULIP věšák Lugo XL chrom matný + šroubky","Drevina","badzik","2020-10-01","Lenka Kormaník",0.80127000000000004]
["1",null,{"$f":"IFERROR(VLOOKUP(B1666,List1!$A:$B,2,0),\"x\")","v":"x"},null,null,null,null,null,null,null,null,null,null,null,null,null,null,null,null,null,null,null,null,null,null,null,null,null,null,null,null,null,null,null,null,null,null,null,null,null,null,null,null,null,null,null,null,null,null,null,null,null,"'SK_2020-10'!$A:$H","$A:$H","12222SK44105","STRONG LED pásek 21,6W/m 24V bílá neutrální 210 LED/m","Drevina","badzik","2020-10-01","Stančo Denčev",3.3847]
["1",null,{"$f":"IFERROR(VLOOKUP(B1671,List1!$A:$B,2,0),\"x\")","v":"x"},null,null,null,null,null,null,null,null,null,null,null,null,null,null,null,null,null,null,null,null,null,null,null,null,null,null,null,null,null,null,null,null,null,null,null,null,null,null,null,null,null,null,null,null,null,null,null,null,null,"'SK_2020-10'!$A:$H","$A:$H","12228SK44105","DTDD Dub evr. radiál st A/B 2800/2070/19","Drevina","badzik","2020-10-01","Martin Karaščák",58.655520000000003]
["1",null,{"$f":"IFERROR(VLOOKUP(B1672,List1!$A:$B,2,0),\"x\")","v":"x"},null,null,null,null,null,null,null,null,null,null,null,null,null,null,null,null,null,null,null,null,null,null,null,null,null,null,null,null,null,null,null,null,null,null,null,null,null,null,null,null,null,null,null,null,null,null,null,null,null,"'SK_2020-10'!$A:$H","$A:$H","12229SK44105","ABSB HU10113 Bílá 101/110/113/8100/8685/W954/B3822 PE 22/2","Drevina","badzik","2020-10-01","Martin Karaščák",0]
["1",null,{"$f":"IFERROR(VLOOKUP(B1676,List1!$A:$B,2,0),\"x\")","v":"x"},null,null,null,null,null,null,null,null,null,null,null,null,null,null,null,null,null,null,null,null,null,null,null,null,null,null,null,null,null,null,null,null,null,null,null,null,null,null,null,null,null,null,null,null,null,null,null,null,null,"'SK_2020-10'!$A:$H","$A:$H","1218SK44105","STRONG Elektrická zásuvka 3x230V, francouzský typ, 265x130x68 mm stříbrná","IW Trend","badzik","2020-10-01","Lukáš Sládek",13.449540000000001]
["1",null,{"$f":"IFERROR(VLOOKUP(B1681,List1!$A:$B,2,0),\"x\")","v":"x"},null,null,null,null,null,null,null,null,null,null,null,null,null,null,null,null,null,null,null,null,null,null,null,null,null,null,null,null,null,null,null,null,null,null,null,null,null,null,null,null,null,null,null,null,null,null,null,null,null,"'SK_2020-10'!$A:$H","$A:$H","12115SK44105","GOLLINUCCI Sorter Linea 222, 300 mm","IW Trend","badzik","2020-10-01","Marcela Piechová",27.33]
["1",null,{"$f":"IFERROR(VLOOKUP(B1686,List1!$A:$B,2,0),\"x\")","v":"x"},null,null,null,null,null,null,null,null,null,null,null,null,null,null,null,null,null,null,null,null,null,null,null,null,null,null,null,null,null,null,null,null,null,null,null,null,null,null,null,null,null,null,null,null,null,null,null,null,null,"'SK_2020-10'!$A:$H","$A:$H","12120SK44105","TULIP Úchytka Ramara 596 imitace nerezi","IW Trend","badzik","2020-10-01","Lenka Kormaník",3.7006299999999999]
["1",null,{"$f":"IFERROR(VLOOKUP(B1687,List1!$A:$B,2,0),\"x\")","v":"x"},null,null,null,null,null,null,null,null,null,null,null,null,null,null,null,null,null,null,null,null,null,null,null,null,null,null,null,null,null,null,null,null,null,null,null,null,null,null,null,null,null,null,null,null,null,null,null,null,null,"'SK_2020-10'!$A:$H","$A:$H","12121SK44105","TULIP Úchytka Lucata 160 černá matná","IW Trend","badzik","2020-10-01","Lenka Kormaník",0.84014]
["1",null,{"$f":"IFERROR(VLOOKUP(B1693,List1!$A:$B,2,0),\"x\")","v":"x"},null,null,null,null,null,null,null,null,null,null,null,null,null,null,null,null,null,null,null,null,null,null,null,null,null,null,null,null,null,null,null,null,null,null,null,null,null,null,null,null,null,null,null,null,null,null,null,null,null,"'SK_2020-10'!$A:$H","$A:$H","1201SK44105","STRONG plus závěs naložený s tlumením, s excentrem, klipový","Sezam","badzik","2020-10-01","Martin Zniszczol",0.30399999999999999]
["1",null,{"$f":"IFERROR(VLOOKUP(B1696,List1!$A:$B,2,0),\"x\")","v":"x"},null,null,null,null,null,null,null,null,null,null,null,null,null,null,null,null,null,null,null,null,null,null,null,null,null,null,null,null,null,null,null,null,null,null,null,null,null,null,null,null,null,null,null,null,null,null,null,null,null,"'SK_2020-10'!$A:$H","$A:$H","1204SK44105","StrongMax 89/500 mm šedý (antracit)","Sezam","badzik","2020-10-01","Martin Zniszczol",10.35]
["1",null,{"$f":"IFERROR(VLOOKUP(B1701,List1!$A:$B,2,0),\"x\")","v":"x"},null,null,null,null,null,null,null,null,null,null,null,null,null,null,null,null,null,null,null,null,null,null,null,null,null,null,null,null,null,null,null,null,null,null,null,null,null,null,null,null,null,null,null,null,null,null,null,null,null,"'SK_2020-10'!$A:$H","$A:$H","1209SK44105","BBP OA Zásuvka 515 mm kovová černá","Sezam","badzik","2020-10-01","Lukáš Sládek",4.8439500000000004]
["1",null,{"$f":"IFERROR(VLOOKUP(B1702,List1!$A:$B,2,0),\"x\")","v":"x"},null,null,null,null,null,null,null,null,null,null,null,null,null,null,null,null,null,null,null,null,null,null,null,null,null,null,null,null,null,null,null,null,null,null,null,null,null,null,null,null,null,null,null,null,null,null,null,null,null,"'SK_2020-10'!$A:$H","$A:$H","12010SK44105","FRANKE Dřez ETN 614 6/4 obyčejný ventil bez otvoru","Sezam","badzik","2020-10-01","Marcela Piechová",26.24]
["1",null,{"$f":"IFERROR(VLOOKUP(B1706,List1!$A:$B,2,0),\"x\")","v":"x"},null,null,null,null,null,null,null,null,null,null,null,null,null,null,null,null,null,null,null,null,null,null,null,null,null,null,null,null,null,null,null,null,null,null,null,null,null,null,null,null,null,null,null,null,null,null,null,null,null,"'SK_2020-10'!$A:$H","$A:$H","12014SK44105","FRANKE Dřez ETN 610 455 x 435","Sezam","badzik","2020-10-01","Marcela Piechová",26.13]
["1",null,{"$f":"IFERROR(VLOOKUP(B1711,List1!$A:$B,2,0),\"x\")","v":"x"},null,null,null,null,null,null,null,null,null,null,null,null,null,null,null,null,null,null,null,null,null,null,null,null,null,null,null,null,null,null,null,null,null,null,null,null,null,null,null,null,null,null,null,null,null,null,null,null,null,"'SK_2020-10'!$A:$H","$A:$H","12019SK44105","TULIP věšák Lugo XL chrom matný + šroubky","Sezam","badzik","2020-10-01","Lenka Kormaník",0.80127000000000004]
["1",null,{"$f":"IFERROR(VLOOKUP(B1716,List1!$A:$B,2,0),\"x\")","v":"x"},null,null,null,null,null,null,null,null,null,null,null,null,null,null,null,null,null,null,null,null,null,null,null,null,null,null,null,null,null,null,null,null,null,null,null,null,null,null,null,null,null,null,null,null,null,null,null,null,null,"'SK_2020-10'!$A:$H","$A:$H","12024SK44105","Vrut PZ 4x18 zápustná hlava zinek bílý PZ2","Sezam","badzik","2020-10-01","Stančo Denčev",2.1299999999999999E-3]
["1",null,{"$f":"IFERROR(VLOOKUP(B1717,List1!$A:$B,2,0),\"x\")","v":"x"},null,null,null,null,null,null,null,null,null,null,null,null,null,null,null,null,null,null,null,null,null,null,null,null,null,null,null,null,null,null,null,null,null,null,null,null,null,null,null,null,null,null,null,null,null,null,null,null,null,"'SK_2020-10'!$A:$H","$A:$H","12025SK44105","Konfirmát 7/50 zinek bílý bulk","Sezam","badzik","2020-10-01","Stančo Denčev",8.6999999999999994E-3]
["1",null,{"$f":"IFERROR(VLOOKUP(B1723,List1!$A:$B,2,0),\"x\")","v":"x"},null,null,null,null,null,null,null,null,null,null,null,null,null,null,null,null,null,null,null,null,null,null,null,null,null,null,null,null,null,null,null,null,null,null,null,null,null,null,null,null,null,null,null,null,null,null,null,null,null,"'SK_2020-10'!$A:$H","$A:$H","12031SK44105","HDF LAK 101 BÍLÁ PE 2800/2070/3","Sezam","badzik","2020-10-01","Martin Karaščák",5.5061999999999998]
["1",null,{"$f":"IFERROR(VLOOKUP(B1726,List1!$A:$B,2,0),\"x\")","v":"x"},null,null,null,null,null,null,null,null,null,null,null,null,null,null,null,null,null,null,null,null,null,null,null,null,null,null,null,null,null,null,null,null,null,null,null,null,null,null,null,null,null,null,null,null,null,null,null,null,null,"'SK_2020-10'!$A:$H","$A:$H","10727SK44105","DTDD DUB COMMERCIAL A/B DEC 2800/2070/19","TWD","badzik","2020-10-01","Martin Karaščák",0]
["1",null,{"$f":"IFERROR(VLOOKUP(B1731,List1!$A:$B,2,0),\"x\")","v":"x"}]
["1",null,{"$f":"IFERROR(VLOOKUP(B1732,List1!$A:$B,2,0),\"x\")","v":"x"}]
["1",null,{"$f":"IFERROR(VLOOKUP(B1736,List1!$A:$B,2,0),\"x\")","v":"x"}]
["1",null,{"$f":"IFERROR(VLOOKUP(B1741,List1!$A:$B,2,0),\"x\")","v":"x"}]
["1",null,{"$f":"IFERROR(VLOOKUP(B1746,List1!$A:$B,2,0),\"x\")","v":"x"}]
["1",null,{"$f":"IFERROR(VLOOKUP(B1747,List1!$A:$B,2,0),\"x\")","v":"x"}]
["1",null,{"$f":"IFERROR(VLOOKUP(B1753,List1!$A:$B,2,0),\"x\")","v":"x"}]
["1",null,{"$f":"IFERROR(VLOOKUP(B1756,List1!$A:$B,2,0),\"x\")","v":"x"}]
["1",null,{"$f":"IFERROR(VLOOKUP(B1761,List1!$A:$B,2,0),\"x\")","v":"x"}]
["1",null,{"$f":"IFERROR(VLOOKUP(B1762,List1!$A:$B,2,0),\"x\")","v":"x"}]
["1",null,{"$f":"IFERROR(VLOOKUP(B1766,List1!$A:$B,2,0),\"x\")","v":"x"}]
["1",null,{"$f":"IFERROR(VLOOKUP(B1771,List1!$A:$B,2,0),\"x\")","v":"x"}]
["1",null,{"$f":"IFERROR(VLOOKUP(B1776,List1!$A:$B,2,0),\"x\")","v":"x"}]
["1",null,{"$f":"IFERROR(VLOOKUP(B1777,List1!$A:$B,2,0),\"x\")","v":"x"}]
["1",null,{"$f":"IFERROR(VLOOKUP(B1783,List1!$A:$B,2,0),\"x\")","v":"x"}]
["1",null,{"$f":"IFERROR(VLOOKUP(B1786,List1!$A:$B,2,0),\"x\")","v":"x"}]
["1",null,{"$f":"IFERROR(VLOOKUP(B1791,List1!$A:$B,2,0),\"x\")","v":"x"}]
["1",null,{"$f":"IFERROR(VLOOKUP(B1792,List1!$A:$B,2,0),\"x\")","v":"x"}]
["1",null,{"$f":"IFERROR(VLOOKUP(B1796,List1!$A:$B,2,0),\"x\")","v":"x"}]
[{"$f":"TEXT(J1801,1)","v":"1"},null,{"$f":"IFERROR(VLOOKUP(B1801,List1!$A:$B,2,0),\"x\")","v":"x"}]
["1",null,{"$f":"IFERROR(VLOOKUP(B1806,List1!$A:$B,2,0),\"x\")","v":"x"}]
["1",null,{"$f":"IFERROR(VLOOKUP(B1807,List1!$A:$B,2,0),\"x\")","v":"x"}]
["1",null,{"$f":"IFERROR(VLOOKUP(B1813,List1!$A:$B,2,0),\"x\")","v":"x"}]
["1",null,{"$f":"IFERROR(VLOOKUP(B1816,List1!$A:$B,2,0),\"x\")","v":"x"}]
["1",null,{"$f":"IFERROR(VLOOKUP(B1821,List1!$A:$B,2,0),\"x\")","v":"x"}]
["1",null,{"$f":"IFERROR(VLOOKUP(B1822,List1!$A:$B,2,0),\"x\")","v":"x"}]
["1",null,{"$f":"IFERROR(VLOOKUP(B1827,List1!$A:$B,2,0),\"x\")","v":"x"}]
["1",null,{"$f":"IFERROR(VLOOKUP(B1831,List1!$A:$B,2,0),\"x\")","v":"x"}]
["1",null,{"$f":"IFERROR(VLOOKUP(B1836,List1!$A:$B,2,0),\"x\")","v":"x"}]
["1",null,{"$f":"IFERROR(VLOOKUP(B1837,List1!$A:$B,2,0),\"x\")","v":"x"}]
["1",null,{"$f":"IFERROR(VLOOKUP(B1843,List1!$A:$B,2,0),\"x\")","v":"x"}]
["1",null,{"$f":"IFERROR(VLOOKUP(B1846,List1!$A:$B,2,0),\"x\")","v":"x"}]
["1",null,{"$f":"IFERROR(VLOOKUP(B1851,List1!$A:$B,2,0),\"x\")","v":"x"}]
["1",null,{"$f":"IFERROR(VLOOKUP(B1852,List1!$A:$B,2,0),\"x\")","v":"x"}]
["1",null,{"$f":"IFERROR(VLOOKUP(B1857,List1!$A:$B,2,0),\"x\")","v":"x"}]
["1",null,{"$f":"IFERROR(VLOOKUP(B1861,List1!$A:$B,2,0),\"x\")","v":"x"}]
["1",null,{"$f":"IFERROR(VLOOKUP(B1866,List1!$A:$B,2,0),\"x\")","v":"x"}]
["1",null,{"$f":"IFERROR(VLOOKUP(B1867,List1!$A:$B,2,0),\"x\")","v":"x"}]
["1",null,{"$f":"IFERROR(VLOOKUP(B1873,List1!$A:$B,2,0),\"x\")","v":"x"}]
["1",null,{"$f":"IFERROR(VLOOKUP(B1876,List1!$A:$B,2,0),\"x\")","v":"x"}]
["1",null,{"$f":"IFERROR(VLOOKUP(B1881,List1!$A:$B,2,0),\"x\")","v":"x"}]
["1",null,{"$f":"IFERROR(VLOOKUP(B1882,List1!$A:$B,2,0),\"x\")","v":"x"}]
["1",null,{"$f":"IFERROR(VLOOKUP(B1887,List1!$A:$B,2,0),\"x\")","v":"x"}]
["1",null,{"$f":"IFERROR(VLOOKUP(B1891,List1!$A:$B,2,0),\"x\")","v":"x"}]
["1",null,{"$f":"IFERROR(VLOOKUP(B1896,List1!$A:$B,2,0),\"x\")","v":"x"}]
["1",null,{"$f":"IFERROR(VLOOKUP(B1897,List1!$A:$B,2,0),\"x\")","v":"x"}]
["1",null,{"$f":"IFERROR(VLOOKUP(B1903,List1!$A:$B,2,0),\"x\")","v":"x"}]
["1",null,{"$f":"IFERROR(VLOOKUP(B1906,List1!$A:$B,2,0),\"x\")","v":"x"}]
["1",null,{"$f":"IFERROR(VLOOKUP(B1911,List1!$A:$B,2,0),\"x\")","v":"x"}]
["1",null,{"$f":"IFERROR(VLOOKUP(B1912,List1!$A:$B,2,0),\"x\")","v":"x"}]
["1",null,{"$f":"IFERROR(VLOOKUP(B1917,List1!$A:$B,2,0),\"x\")","v":"x"}]
["1",null,{"$f":"IFERROR(VLOOKUP(B1921,List1!$A:$B,2,0),\"x\")","v":"x"}]
["1",null,{"$f":"IFERROR(VLOOKUP(B1926,List1!$A:$B,2,0),\"x\")","v":"x"}]
["1",null,{"$f":"IFERROR(VLOOKUP(B1927,List1!$A:$B,2,0),\"x\")","v":"x"}]
["1",null,{"$f":"IFERROR(VLOOKUP(B1933,List1!$A:$B,2,0),\"x\")","v":"x"}]
["1",null,{"$f":"IFERROR(VLOOKUP(B1936,List1!$A:$B,2,0),\"x\")","v":"x"}]
["1",null,{"$f":"IFERROR(VLOOKUP(B1941,List1!$A:$B,2,0),\"x\")","v":"x"}]
["1",null,{"$f":"IFERROR(VLOOKUP(B1942,List1!$A:$B,2,0),\"x\")","v":"x"}]
["1",null,{"$f":"IFERROR(VLOOKUP(B1947,List1!$A:$B,2,0),\"x\")","v":"x"}]
["1",null,{"$f":"IFERROR(VLOOKUP(B1951,List1!$A:$B,2,0),\"x\")","v":"x"}]
["1",null,{"$f":"IFERROR(VLOOKUP(B1956,List1!$A:$B,2,0),\"x\")","v":"x"}]
["1",null,{"$f":"IFERROR(VLOOKUP(B1957,List1!$A:$B,2,0),\"x\")","v":"x"}]
["1",null,{"$f":"IFERROR(VLOOKUP(B1963,List1!$A:$B,2,0),\"x\")","v":"x"}]
["1",null,{"$f":"IFERROR(VLOOKUP(B1966,List1!$A:$B,2,0),\"x\")","v":"x"}]
["1",null,{"$f":"IFERROR(VLOOKUP(B1971,List1!$A:$B,2,0),\"x\")","v":"x"}]
["1",null,{"$f":"IFERROR(VLOOKUP(B1972,List1!$A:$B,2,0),\"x\")","v":"x"}]
["1",null,{"$f":"IFERROR(VLOOKUP(B1977,List1!$A:$B,2,0),\"x\")","v":"x"}]
["1",null,{"$f":"IFERROR(VLOOKUP(B1981,List1!$A:$B,2,0),\"x\")","v":"x"}]
["1",null,{"$f":"IFERROR(VLOOKUP(B1986,List1!$A:$B,2,0),\"x\")","v":"x"}]
["1",null,{"$f":"IFERROR(VLOOKUP(B1987,List1!$A:$B,2,0),\"x\")","v":"x"}]
[{"$f":"TEXT(J1993,1)","v":"1"},null,{"$f":"IFERROR(VLOOKUP(B1993,List1!$A:$B,2,0),\"x\")","v":"x"}]
["1",null,{"$f":"IFERROR(VLOOKUP(B1996,List1!$A:$B,2,0),\"x\")","v":"x"}]
["1",null,{"$f":"IFERROR(VLOOKUP(B2001,List1!$A:$B,2,0),\"x\")","v":"x"}]
["1",null,{"$f":"IFERROR(VLOOKUP(B2002,List1!$A:$B,2,0),\"x\")","v":"x"}]
["1",null,{"$f":"IFERROR(VLOOKUP(B2007,List1!$A:$B,2,0),\"x\")","v":"x"}]
["1",null,{"$f":"IFERROR(VLOOKUP(B2011,List1!$A:$B,2,0),\"x\")","v":"x"}]
["1",null,{"$f":"IFERROR(VLOOKUP(B2016,List1!$A:$B,2,0),\"x\")","v":"x"}]
["1",null,{"$f":"IFERROR(VLOOKUP(B2017,List1!$A:$B,2,0),\"x\")","v":"x"}]
["1",null,{"$f":"IFERROR(VLOOKUP(B2023,List1!$A:$B,2,0),\"x\")","v":"x"}]
["1",null,{"$f":"IFERROR(VLOOKUP(B2026,List1!$A:$B,2,0),\"x\")","v":"x"}]
["1",null,{"$f":"IFERROR(VLOOKUP(B2031,List1!$A:$B,2,0),\"x\")","v":"x"}]
["1",null,{"$f":"IFERROR(VLOOKUP(B2032,List1!$A:$B,2,0),\"x\")","v":"x"}]
["1",null,{"$f":"IFERROR(VLOOKUP(B2037,List1!$A:$B,2,0),\"x\")","v":"x"}]
["1",null,{"$f":"IFERROR(VLOOKUP(B2041,List1!$A:$B,2,0),\"x\")","v":"x"}]
["1",null,{"$f":"IFERROR(VLOOKUP(B2046,List1!$A:$B,2,0),\"x\")","v":"x"}]
["1",null,{"$f":"IFERROR(VLOOKUP(B2047,List1!$A:$B,2,0),\"x\")","v":"x"}]
["1",null,{"$f":"IFERROR(VLOOKUP(B2053,List1!$A:$B,2,0),\"x\")","v":"x"}]
["1",null,{"$f":"IFERROR(VLOOKUP(B2056,List1!$A:$B,2,0),\"x\")","v":"x"}]
["1",null,{"$f":"IFERROR(VLOOKUP(B2061,List1!$A:$B,2,0),\"x\")","v":"x"}]
["1",null,{"$f":"IFERROR(VLOOKUP(B2062,List1!$A:$B,2,0),\"x\")","v":"x"}]
["1",null,{"$f":"IFERROR(VLOOKUP(B2067,List1!$A:$B,2,0),\"x\")","v":"x"}]
["1",null,{"$f":"IFERROR(VLOOKUP(B2071,List1!$A:$B,2,0),\"x\")","v":"x"}]
["1",null,{"$f":"IFERROR(VLOOKUP(B2076,List1!$A:$B,2,0),\"x\")","v":"x"}]
["1",null,{"$f":"IFERROR(VLOOKUP(B2077,List1!$A:$B,2,0),\"x\")","v":"x"}]
["1",null,{"$f":"IFERROR(VLOOKUP(B2081,List1!$A:$B,2,0),\"x\")","v":"x"}]
["1",null,{"$f":"IFERROR(VLOOKUP(B2086,List1!$A:$B,2,0),\"x\")","v":"x"}]
["1",null,{"$f":"IFERROR(VLOOKUP(B2091,List1!$A:$B,2,0),\"x\")","v":"x"}]
["1",null,{"$f":"IFERROR(VLOOKUP(B2092,List1!$A:$B,2,0),\"x\")","v":"x"}]
["1",null,{"$f":"IFERROR(VLOOKUP(B2097,List1!$A:$B,2,0),\"x\")","v":"x"}]
["1",null,{"$f":"IFERROR(VLOOKUP(B2101,List1!$A:$B,2,0),\"x\")","v":"x"}]
["1",null,{"$f":"IFERROR(VLOOKUP(B2106,List1!$A:$B,2,0),\"x\")","v":"x"}]
["1",null,{"$f":"IFERROR(VLOOKUP(B2107,List1!$A:$B,2,0),\"x\")","v":"x"}]
["1",null,{"$f":"IFERROR(VLOOKUP(B2111,List1!$A:$B,2,0),\"x\")","v":"x"}]
["1",null,{"$f":"IFERROR(VLOOKUP(B2116,List1!$A:$B,2,0),\"x\")","v":"x"}]
[{"$f":"TEXT(J2121,1)","v":"1"},null,{"$f":"IFERROR(VLOOKUP(B2121,List1!$A:$B,2,0),\"x\")","v":"x"}]
["1",null,{"$f":"IFERROR(VLOOKUP(B2122,List1!$A:$B,2,0),\"x\")","v":"x"}]
["1",null,{"$f":"IFERROR(VLOOKUP(B2127,List1!$A:$B,2,0),\"x\")","v":"x"}]
["1",null,{"$f":"IFERROR(VLOOKUP(B2131,List1!$A:$B,2,0),\"x\")","v":"x"}]
["1",null,{"$f":"IFERROR(VLOOKUP(B2136,List1!$A:$B,2,0),\"x\")","v":"x"}]
["1",null,{"$f":"IFERROR(VLOOKUP(B2137,List1!$A:$B,2,0),\"x\")","v":"x"}]
["1",null,{"$f":"IFERROR(VLOOKUP(B2141,List1!$A:$B,2,0),\"x\")","v":"x"}]
["1",null,{"$f":"IFERROR(VLOOKUP(B2146,List1!$A:$B,2,0),\"x\")","v":"x"}]
["1",null,{"$f":"IFERROR(VLOOKUP(B2151,List1!$A:$B,2,0),\"x\")","v":"x"}]
["1",null,{"$f":"IFERROR(VLOOKUP(B2152,List1!$A:$B,2,0),\"x\")","v":"x"}]
["1",null,{"$f":"IFERROR(VLOOKUP(B2157,List1!$A:$B,2,0),\"x\")","v":"x"}]
["1",null,{"$f":"IFERROR(VLOOKUP(B2161,List1!$A:$B,2,0),\"x\")","v":"x"}]
["1",null,{"$f":"IFERROR(VLOOKUP(B2166,List1!$A:$B,2,0),\"x\")","v":"x"}]
["1",null,{"$f":"IFERROR(VLOOKUP(B2167,List1!$A:$B,2,0),\"x\")","v":"x"}]
["1",null,{"$f":"IFERROR(VLOOKUP(B2171,List1!$A:$B,2,0),\"x\")","v":"x"}]
["1",null,{"$f":"IFERROR(VLOOKUP(B2176,List1!$A:$B,2,0),\"x\")","v":"x"}]
["1",null,{"$f":"IFERROR(VLOOKUP(B2181,List1!$A:$B,2,0),\"x\")","v":"x"}]
["1",null,{"$f":"IFERROR(VLOOKUP(B2182,List1!$A:$B,2,0),\"x\")","v":"x"}]
["1",null,{"$f":"IFERROR(VLOOKUP(B2187,List1!$A:$B,2,0),\"x\")","v":"x"}]
["1",null,{"$f":"IFERROR(VLOOKUP(B2191,List1!$A:$B,2,0),\"x\")","v":"x"}]
["1",null,{"$f":"IFERROR(VLOOKUP(B2196,List1!$A:$B,2,0),\"x\")","v":"x"}]
["1",null,{"$f":"IFERROR(VLOOKUP(B2197,List1!$A:$B,2,0),\"x\")","v":"x"}]
["1",null,{"$f":"IFERROR(VLOOKUP(B2201,List1!$A:$B,2,0),\"x\")","v":"x"}]
["1",null,{"$f":"IFERROR(VLOOKUP(B2206,List1!$A:$B,2,0),\"x\")","v":"x"}]
["1",null,{"$f":"IFERROR(VLOOKUP(B2211,List1!$A:$B,2,0),\"x\")","v":"x"}]
["1",null,{"$f":"IFERROR(VLOOKUP(B2212,List1!$A:$B,2,0),\"x\")","v":"x"}]
["1",null,{"$f":"IFERROR(VLOOKUP(B2217,List1!$A:$B,2,0),\"x\")","v":"x"}]
["1",null,{"$f":"IFERROR(VLOOKUP(B2221,List1!$A:$B,2,0),\"x\")","v":"x"}]
["1",null,{"$f":"IFERROR(VLOOKUP(B2226,List1!$A:$B,2,0),\"x\")","v":"x"}]
["1",null,{"$f":"IFERROR(VLOOKUP(B2227,List1!$A:$B,2,0),\"x\")","v":"x"}]
["1",null,{"$f":"IFERROR(VLOOKUP(B2231,List1!$A:$B,2,0),\"x\")","v":"x"}]
["1",null,{"$f":"IFERROR(VLOOKUP(B2236,List1!$A:$B,2,0),\"x\")","v":"x"}]
["1",null,{"$f":"IFERROR(VLOOKUP(B2241,List1!$A:$B,2,0),\"x\")","v":"x"}]
["1",null,{"$f":"IFERROR(VLOOKUP(B2242,List1!$A:$B,2,0),\"x\")","v":"x"}]
["1",null,{"$f":"IFERROR(VLOOKUP(B2247,List1!$A:$B,2,0),\"x\")","v":"x"}]
["1",null,{"$f":"IFERROR(VLOOKUP(B2251,List1!$A:$B,2,0),\"x\")","v":"x"}]
["1",null,{"$f":"IFERROR(VLOOKUP(B2256,List1!$A:$B,2,0),\"x\")","v":"x"}]
["1",null,{"$f":"IFERROR(VLOOKUP(B2257,List1!$A:$B,2,0),\"x\")","v":"x"}]
["1",null,{"$f":"IFERROR(VLOOKUP(B2261,List1!$A:$B,2,0),\"x\")","v":"x"}]
["1",null,{"$f":"IFERROR(VLOOKUP(B2266,List1!$A:$B,2,0),\"x\")","v":"x"}]
["1",null,{"$f":"IFERROR(VLOOKUP(B2271,List1!$A:$B,2,0),\"x\")","v":"x"}]
["1",null,{"$f":"IFERROR(VLOOKUP(B2272,List1!$A:$B,2,0),\"x\")","v":"x"}]
["1",null,{"$f":"IFERROR(VLOOKUP(B2277,List1!$A:$B,2,0),\"x\")","v":"x"}]
["1",null,{"$f":"IFERROR(VLOOKUP(B2281,List1!$A:$B,2,0),\"x\")","v":"x"}]
["1",null,{"$f":"IFERROR(VLOOKUP(B2286,List1!$A:$B,2,0),\"x\")","v":"x"}]
["1",null,{"$f":"IFERROR(VLOOKUP(B2287,List1!$A:$B,2,0),\"x\")","v":"x"}]
["1",null,{"$f":"IFERROR(VLOOKUP(B2291,List1!$A:$B,2,0),\"x\")","v":"x"}]
["1",null,{"$f":"IFERROR(VLOOKUP(B2296,List1!$A:$B,2,0),\"x\")","v":"x"}]
["1",null,{"$f":"IFERROR(VLOOKUP(B2301,List1!$A:$B,2,0),\"x\")","v":"x"}]
["1",null,{"$f":"IFERROR(VLOOKUP(B2302,List1!$A:$B,2,0),\"x\")","v":"x"}]
["1",null,{"$f":"IFERROR(VLOOKUP(B2307,List1!$A:$B,2,0),\"x\")","v":"x"}]
["1",null,{"$f":"IFERROR(VLOOKUP(B2311,List1!$A:$B,2,0),\"x\")","v":"x"}]
["1",null,{"$f":"IFERROR(VLOOKUP(B2316,List1!$A:$B,2,0),\"x\")","v":"x"}]
["1",null,{"$f":"IFERROR(VLOOKUP(B2317,List1!$A:$B,2,0),\"x\")","v":"x"}]
["1",null,{"$f":"IFERROR(VLOOKUP(B2321,List1!$A:$B,2,0),\"x\")","v":"x"}]
["1",null,{"$f":"IFERROR(VLOOKUP(B2326,List1!$A:$B,2,0),\"x\")","v":"x"}]
["1",null,{"$f":"IFERROR(VLOOKUP(B2331,List1!$A:$B,2,0),\"x\")","v":"x"}]
["1",null,{"$f":"IFERROR(VLOOKUP(B2332,List1!$A:$B,2,0),\"x\")","v":"x"}]
["1",null,{"$f":"IFERROR(VLOOKUP(B2337,List1!$A:$B,2,0),\"x\")","v":"x"}]
["1",null,{"$f":"IFERROR(VLOOKUP(B2341,List1!$A:$B,2,0),\"x\")","v":"x"}]
["1",null,{"$f":"IFERROR(VLOOKUP(B2346,List1!$A:$B,2,0),\"x\")","v":"x"}]
["1",null,{"$f":"IFERROR(VLOOKUP(B2347,List1!$A:$B,2,0),\"x\")","v":"x"}]
["1",null,{"$f":"IFERROR(VLOOKUP(B2351,List1!$A:$B,2,0),\"x\")","v":"x"}]
["1",null,{"$f":"IFERROR(VLOOKUP(B2356,List1!$A:$B,2,0),\"x\")","v":"x"}]
["1",null,{"$f":"IFERROR(VLOOKUP(B2361,List1!$A:$B,2,0),\"x\")","v":"x"}]
["1",null,{"$f":"IFERROR(VLOOKUP(B2362,List1!$A:$B,2,0),\"x\")","v":"x"}]
["1",null,{"$f":"IFERROR(VLOOKUP(B2368,List1!$A:$B,2,0),\"x\")","v":"x"}]
["1",null,{"$f":"IFERROR(VLOOKUP(B2371,List1!$A:$B,2,0),\"x\")","v":"x"}]
["1",null,{"$f":"IFERROR(VLOOKUP(B2376,List1!$A:$B,2,0),\"x\")","v":"x"}]
[{"$f":"TEXT(J2377,1)","v":"1"},null,{"$f":"IFERROR(VLOOKUP(B2377,List1!$A:$B,2,0),\"x\")","v":"x"}]
["1",null,{"$f":"IFERROR(VLOOKUP(B2381,List1!$A:$B,2,0),\"x\")","v":"x"}]
["1",null,{"$f":"IFERROR(VLOOKUP(B2386,List1!$A:$B,2,0),\"x\")","v":"x"}]
["1",null,{"$f":"IFERROR(VLOOKUP(B2391,List1!$A:$B,2,0),\"x\")","v":"x"}]
["1",null,{"$f":"IFERROR(VLOOKUP(B2392,List1!$A:$B,2,0),\"x\")","v":"x"}]
["1",null,{"$f":"IFERROR(VLOOKUP(B2398,List1!$A:$B,2,0),\"x\")","v":"x"}]
["1",null,{"$f":"IFERROR(VLOOKUP(B2401,List1!$A:$B,2,0),\"x\")","v":"x"}]
["1",null,{"$f":"IFERROR(VLOOKUP(B2406,List1!$A:$B,2,0),\"x\")","v":"x"}]
["1",null,{"$f":"IFERROR(VLOOKUP(B2407,List1!$A:$B,2,0),\"x\")","v":"x"}]
["1",null,{"$f":"IFERROR(VLOOKUP(B2411,List1!$A:$B,2,0),\"x\")","v":"x"}]
["1",null,{"$f":"IFERROR(VLOOKUP(B2416,List1!$A:$B,2,0),\"x\")","v":"x"}]
["1",null,{"$f":"IFERROR(VLOOKUP(B2421,List1!$A:$B,2,0),\"x\")","v":"x"}]
["1",null,{"$f":"IFERROR(VLOOKUP(B2422,List1!$A:$B,2,0),\"x\")","v":"x"}]
["1",null,{"$f":"IFERROR(VLOOKUP(B2428,List1!$A:$B,2,0),\"x\")","v":"x"}]
["1",null,{"$f":"IFERROR(VLOOKUP(B2431,List1!$A:$B,2,0),\"x\")","v":"x"}]
["1",null,{"$f":"IFERROR(VLOOKUP(B2436,List1!$A:$B,2,0),\"x\")","v":"x"}]
["1",null,{"$f":"IFERROR(VLOOKUP(B2437,List1!$A:$B,2,0),\"x\")","v":"x"}]
[{"$f":"TEXT(J2441,1)","v":"1"},null,{"$f":"IFERROR(VLOOKUP(B2441,List1!$A:$B,2,0),\"x\")","v":"x"}]
["1",null,{"$f":"IFERROR(VLOOKUP(B2446,List1!$A:$B,2,0),\"x\")","v":"x"}]
["1",null,{"$f":"IFERROR(VLOOKUP(B2451,List1!$A:$B,2,0),\"x\")","v":"x"}]
["1",null,{"$f":"IFERROR(VLOOKUP(B2452,List1!$A:$B,2,0),\"x\")","v":"x"}]
["1",null,{"$f":"IFERROR(VLOOKUP(B2458,List1!$A:$B,2,0),\"x\")","v":"x"}]
["1",null,{"$f":"IFERROR(VLOOKUP(B2461,List1!$A:$B,2,0),\"x\")","v":"x"}]
["1",null,{"$f":"IFERROR(VLOOKUP(B2466,List1!$A:$B,2,0),\"x\")","v":"x"}]
["1",null,{"$f":"IFERROR(VLOOKUP(B2467,List1!$A:$B,2,0),\"x\")","v":"x"}]
["1",null,{"$f":"IFERROR(VLOOKUP(B2471,List1!$A:$B,2,0),\"x\")","v":"x"}]
["1",null,{"$f":"IFERROR(VLOOKUP(B2476,List1!$A:$B,2,0),\"x\")","v":"x"}]
["1",null,{"$f":"IFERROR(VLOOKUP(B2481,List1!$A:$B,2,0),\"x\")","v":"x"}]
["1",null,{"$f":"IFERROR(VLOOKUP(B2482,List1!$A:$B,2,0),\"x\")","v":"x"}]
["1",null,{"$f":"IFERROR(VLOOKUP(B2488,List1!$A:$B,2,0),\"x\")","v":"x"}]
["1",null,{"$f":"IFERROR(VLOOKUP(B2491,List1!$A:$B,2,0),\"x\")","v":"x"}]
["1",null,{"$f":"IFERROR(VLOOKUP(B2496,List1!$A:$B,2,0),\"x\")","v":"x"}]
["1",null,{"$f":"IFERROR(VLOOKUP(B2497,List1!$A:$B,2,0),\"x\")","v":"x"}]
["1",null,{"$f":"IFERROR(VLOOKUP(B2501,List1!$A:$B,2,0),\"x\")","v":"x"}]
["1",null,{"$f":"IFERROR(VLOOKUP(B2506,List1!$A:$B,2,0),\"x\")","v":"x"}]
["1",null,{"$f":"IFERROR(VLOOKUP(B2511,List1!$A:$B,2,0),\"x\")","v":"x"}]
["1",null,{"$f":"IFERROR(VLOOKUP(B2512,List1!$A:$B,2,0),\"x\")","v":"x"}]
["1",null,{"$f":"IFERROR(VLOOKUP(B2518,List1!$A:$B,2,0),\"x\")","v":"x"}]
["1",null,{"$f":"IFERROR(VLOOKUP(B2521,List1!$A:$B,2,0),\"x\")","v":"x"}]
["1",null,{"$f":"IFERROR(VLOOKUP(B2526,List1!$A:$B,2,0),\"x\")","v":"x"}]
["1",null,{"$f":"IFERROR(VLOOKUP(B2527,List1!$A:$B,2,0),\"x\")","v":"x"}]
["1",null,{"$f":"IFERROR(VLOOKUP(B2531,List1!$A:$B,2,0),\"x\")","v":"x"}]
["1",null,{"$f":"IFERROR(VLOOKUP(B2536,List1!$A:$B,2,0),\"x\")","v":"x"}]
["1",null,{"$f":"IFERROR(VLOOKUP(B2541,List1!$A:$B,2,0),\"x\")","v":"x"}]
["1",null,{"$f":"IFERROR(VLOOKUP(B2542,List1!$A:$B,2,0),\"x\")","v":"x"}]
["1",null,{"$f":"IFERROR(VLOOKUP(B2548,List1!$A:$B,2,0),\"x\")","v":"x"}]
["1",null,{"$f":"IFERROR(VLOOKUP(B2551,List1!$A:$B,2,0),\"x\")","v":"x"}]
["1",null,{"$f":"IFERROR(VLOOKUP(B2556,List1!$A:$B,2,0),\"x\")","v":"x"}]
["1",null,{"$f":"IFERROR(VLOOKUP(B2557,List1!$A:$B,2,0),\"x\")","v":"x"}]
["1",null,{"$f":"IFERROR(VLOOKUP(B2561,List1!$A:$B,2,0),\"x\")","v":"x"}]
["1",null,{"$f":"IFERROR(VLOOKUP(B2566,List1!$A:$B,2,0),\"x\")","v":"x"}]
["1",null,{"$f":"IFERROR(VLOOKUP(B2571,List1!$A:$B,2,0),\"x\")","v":"x"}]
["1",null,{"$f":"IFERROR(VLOOKUP(B2572,List1!$A:$B,2,0),\"x\")","v":"x"}]
["1",null,{"$f":"IFERROR(VLOOKUP(B2578,List1!$A:$B,2,0),\"x\")","v":"x"}]
["1",null,{"$f":"IFERROR(VLOOKUP(B2581,List1!$A:$B,2,0),\"x\")","v":"x"}]
["1",null,{"$f":"IFERROR(VLOOKUP(B2586,List1!$A:$B,2,0),\"x\")","v":"x"}]
["1",null,{"$f":"IFERROR(VLOOKUP(B2587,List1!$A:$B,2,0),\"x\")","v":"x"}]
["1",null,{"$f":"IFERROR(VLOOKUP(B2591,List1!$A:$B,2,0),\"x\")","v":"x"}]
["1",null,{"$f":"IFERROR(VLOOKUP(B2596,List1!$A:$B,2,0),\"x\")","v":"x"}]
["1",null,{"$f":"IFERROR(VLOOKUP(B2601,List1!$A:$B,2,0),\"x\")","v":"x"}]
["1",null,{"$f":"IFERROR(VLOOKUP(B2602,List1!$A:$B,2,0),\"x\")","v":"x"}]
["1",null,{"$f":"IFERROR(VLOOKUP(B2608,List1!$A:$B,2,0),\"x\")","v":"x"}]
["1",null,{"$f":"IFERROR(VLOOKUP(B2611,List1!$A:$B,2,0),\"x\")","v":"x"}]
["1",null,{"$f":"IFERROR(VLOOKUP(B2616,List1!$A:$B,2,0),\"x\")","v":"x"}]
["1",null,{"$f":"IFERROR(VLOOKUP(B2617,List1!$A:$B,2,0),\"x\")","v":"x"}]
["1",null,{"$f":"IFERROR(VLOOKUP(B2622,List1!$A:$B,2,0),\"x\")","v":"x"}]
["1",null,{"$f":"IFERROR(VLOOKUP(B2626,List1!$A:$B,2,0),\"x\")","v":"x"}]
["1",null,{"$f":"IFERROR(VLOOKUP(B2631,List1!$A:$B,2,0),\"x\")","v":"x"}]
["1",null,{"$f":"IFERROR(VLOOKUP(B2632,List1!$A:$B,2,0),\"x\")","v":"x"}]
["1",null,{"$f":"IFERROR(VLOOKUP(B2638,List1!$A:$B,2,0),\"x\")","v":"x"}]
["1",null,{"$f":"IFERROR(VLOOKUP(B2641,List1!$A:$B,2,0),\"x\")","v":"x"}]
["1",null,{"$f":"IFERROR(VLOOKUP(B2646,List1!$A:$B,2,0),\"x\")","v":"x"}]
["1",null,{"$f":"IFERROR(VLOOKUP(B2647,List1!$A:$B,2,0),\"x\")","v":"x"}]
["1",null,{"$f":"IFERROR(VLOOKUP(B2652,List1!$A:$B,2,0),\"x\")","v":"x"}]
["1",null,{"$f":"IFERROR(VLOOKUP(B2656,List1!$A:$B,2,0),\"x\")","v":"x"}]
["1",null,{"$f":"IFERROR(VLOOKUP(B2661,List1!$A:$B,2,0),\"x\")","v":"x"}]
["1",null,{"$f":"IFERROR(VLOOKUP(B2662,List1!$A:$B,2,0),\"x\")","v":"x"}]
["1",null,{"$f":"IFERROR(VLOOKUP(B2668,List1!$A:$B,2,0),\"x\")","v":"x"}]
["1",null,{"$f":"IFERROR(VLOOKUP(B2671,List1!$A:$B,2,0),\"x\")","v":"x"}]
["1",null,{"$f":"IFERROR(VLOOKUP(B2676,List1!$A:$B,2,0),\"x\")","v":"x"}]
["1",null,{"$f":"IFERROR(VLOOKUP(B2677,List1!$A:$B,2,0),\"x\")","v":"x"}]
["1",null,{"$f":"IFERROR(VLOOKUP(B2682,List1!$A:$B,2,0),\"x\")","v":"x"}]
["1",null,{"$f":"IFERROR(VLOOKUP(B2686,List1!$A:$B,2,0),\"x\")","v":"x"}]
["1",null,{"$f":"IFERROR(VLOOKUP(B2691,List1!$A:$B,2,0),\"x\")","v":"x"}]
["1",null,{"$f":"IFERROR(VLOOKUP(B2692,List1!$A:$B,2,0),\"x\")","v":"x"}]
["1",null,{"$f":"IFERROR(VLOOKUP(B2698,List1!$A:$B,2,0),\"x\")","v":"x"}]
["1",null,{"$f":"IFERROR(VLOOKUP(B2701,List1!$A:$B,2,0),\"x\")","v":"x"}]
["1",null,{"$f":"IFERROR(VLOOKUP(B2706,List1!$A:$B,2,0),\"x\")","v":"x"}]
["1",null,{"$f":"IFERROR(VLOOKUP(B2707,List1!$A:$B,2,0),\"x\")","v":"x"}]
["1",null,{"$f":"IFERROR(VLOOKUP(B2712,List1!$A:$B,2,0),\"x\")","v":"x"}]
["1",null,{"$f":"IFERROR(VLOOKUP(B2716,List1!$A:$B,2,0),\"x\")","v":"x"}]
["1",null,{"$f":"IFERROR(VLOOKUP(B2721,List1!$A:$B,2,0),\"x\")","v":"x"}]
["1",null,{"$f":"IFERROR(VLOOKUP(B2722,List1!$A:$B,2,0),\"x\")","v":"x"}]
["1",null,{"$f":"IFERROR(VLOOKUP(B2728,List1!$A:$B,2,0),\"x\")","v":"x"}]
["1",null,{"$f":"IFERROR(VLOOKUP(B2731,List1!$A:$B,2,0),\"x\")","v":"x"}]
["1",null,{"$f":"IFERROR(VLOOKUP(B2736,List1!$A:$B,2,0),\"x\")","v":"x"}]
["1",null,{"$f":"IFERROR(VLOOKUP(B2737,List1!$A:$B,2,0),\"x\")","v":"x"}]
["1",null,{"$f":"IFERROR(VLOOKUP(B2742,List1!$A:$B,2,0),\"x\")","v":"x"}]
["1",null,{"$f":"IFERROR(VLOOKUP(B2746,List1!$A:$B,2,0),\"x\")","v":"x"}]
["1",null,{"$f":"IFERROR(VLOOKUP(B2751,List1!$A:$B,2,0),\"x\")","v":"x"}]
["1",null,{"$f":"IFERROR(VLOOKUP(B2752,List1!$A:$B,2,0),\"x\")","v":"x"}]
["1",null,{"$f":"IFERROR(VLOOKUP(B2758,List1!$A:$B,2,0),\"x\")","v":"x"}]
[{"$f":"TEXT(J2761,1)","v":"1"},null,{"$f":"IFERROR(VLOOKUP(B2761,List1!$A:$B,2,0),\"x\")","v":"x"}]
["1",null,{"$f":"IFERROR(VLOOKUP(B2766,List1!$A:$B,2,0),\"x\")","v":"x"}]
["1",null,{"$f":"IFERROR(VLOOKUP(B2767,List1!$A:$B,2,0),\"x\")","v":"x"}]
["1",null,{"$f":"IFERROR(VLOOKUP(B2772,List1!$A:$B,2,0),\"x\")","v":"x"}]
["1",null,{"$f":"IFERROR(VLOOKUP(B2776,List1!$A:$B,2,0),\"x\")","v":"x"}]
["1",null,{"$f":"IFERROR(VLOOKUP(B2781,List1!$A:$B,2,0),\"x\")","v":"x"}]
["1",null,{"$f":"IFERROR(VLOOKUP(B2782,List1!$A:$B,2,0),\"x\")","v":"x"}]
["1",null,{"$f":"IFERROR(VLOOKUP(B2788,List1!$A:$B,2,0),\"x\")","v":"x"}]
["1",null,{"$f":"IFERROR(VLOOKUP(B2791,List1!$A:$B,2,0),\"x\")","v":"x"}]
["1",null,{"$f":"IFERROR(VLOOKUP(B2796,List1!$A:$B,2,0),\"x\")","v":"x"}]
["1",null,{"$f":"IFERROR(VLOOKUP(B2797,List1!$A:$B,2,0),\"x\")","v":"x"}]
["1",null,{"$f":"IFERROR(VLOOKUP(B2802,List1!$A:$B,2,0),\"x\")","v":"x"}]
["1",null,{"$f":"IFERROR(VLOOKUP(B2806,List1!$A:$B,2,0),\"x\")","v":"x"}]
["1",null,{"$f":"IFERROR(VLOOKUP(B2811,List1!$A:$B,2,0),\"x\")","v":"x"}]
["1",null,{"$f":"IFERROR(VLOOKUP(B2812,List1!$A:$B,2,0),\"x\")","v":"x"}]
["1",null,{"$f":"IFERROR(VLOOKUP(B2818,List1!$A:$B,2,0),\"x\")","v":"x"}]
["1",null,{"$f":"IFERROR(VLOOKUP(B2821,List1!$A:$B,2,0),\"x\")","v":"x"}]
["1",null,{"$f":"IFERROR(VLOOKUP(B2826,List1!$A:$B,2,0),\"x\")","v":"x"}]
["1",null,{"$f":"IFERROR(VLOOKUP(B2827,List1!$A:$B,2,0),\"x\")","v":"x"}]
["1",null,{"$f":"IFERROR(VLOOKUP(B2832,List1!$A:$B,2,0),\"x\")","v":"x"}]
["1",null,{"$f":"IFERROR(VLOOKUP(B2836,List1!$A:$B,2,0),\"x\")","v":"x"}]
["1",null,{"$f":"IFERROR(VLOOKUP(B2841,List1!$A:$B,2,0),\"x\")","v":"x"}]
["1",null,{"$f":"IFERROR(VLOOKUP(B2842,List1!$A:$B,2,0),\"x\")","v":"x"}]
["1",null,{"$f":"IFERROR(VLOOKUP(B2848,List1!$A:$B,2,0),\"x\")","v":"x"}]
["1",null,{"$f":"IFERROR(VLOOKUP(B2851,List1!$A:$B,2,0),\"x\")","v":"x"}]
["1",null,{"$f":"IFERROR(VLOOKUP(B2856,List1!$A:$B,2,0),\"x\")","v":"x"}]
["1",null,{"$f":"IFERROR(VLOOKUP(B2857,List1!$A:$B,2,0),\"x\")","v":"x"}]
["1",null,{"$f":"IFERROR(VLOOKUP(B2862,List1!$A:$B,2,0),\"x\")","v":"x"}]
["1",null,{"$f":"IFERROR(VLOOKUP(B2866,List1!$A:$B,2,0),\"x\")","v":"x"}]
["1",null,{"$f":"IFERROR(VLOOKUP(B2871,List1!$A:$B,2,0),\"x\")","v":"x"}]
["1",null,{"$f":"IFERROR(VLOOKUP(B2872,List1!$A:$B,2,0),\"x\")","v":"x"}]
["1",null,{"$f":"IFERROR(VLOOKUP(B2878,List1!$A:$B,2,0),\"x\")","v":"x"}]
["1",null,{"$f":"IFERROR(VLOOKUP(B2881,List1!$A:$B,2,0),\"x\")","v":"x"}]
["1",null,{"$f":"IFERROR(VLOOKUP(B2886,List1!$A:$B,2,0),\"x\")","v":"x"}]
["1",null,{"$f":"IFERROR(VLOOKUP(B2887,List1!$A:$B,2,0),\"x\")","v":"x"}]
["1",null,{"$f":"IFERROR(VLOOKUP(B2892,List1!$A:$B,2,0),\"x\")","v":"x"}]
["1",null,{"$f":"IFERROR(VLOOKUP(B2896,List1!$A:$B,2,0),\"x\")","v":"x"}]
["1",null,{"$f":"IFERROR(VLOOKUP(B2901,List1!$A:$B,2,0),\"x\")","v":"x"}]
["1",null,{"$f":"IFERROR(VLOOKUP(B2902,List1!$A:$B,2,0),\"x\")","v":"x"}]
["1",null,{"$f":"IFERROR(VLOOKUP(B2906,List1!$A:$B,2,0),\"x\")","v":"x"}]
["1",null,{"$f":"IFERROR(VLOOKUP(B2911,List1!$A:$B,2,0),\"x\")","v":"x"}]
["1",null,{"$f":"IFERROR(VLOOKUP(B2916,List1!$A:$B,2,0),\"x\")","v":"x"}]
["1",null,{"$f":"IFERROR(VLOOKUP(B2917,List1!$A:$B,2,0),\"x\")","v":"x"}]
["1",null,{"$f":"IFERROR(VLOOKUP(B2922,List1!$A:$B,2,0),\"x\")","v":"x"}]
["1",null,{"$f":"IFERROR(VLOOKUP(B2926,List1!$A:$B,2,0),\"x\")","v":"x"}]
["1",null,{"$f":"IFERROR(VLOOKUP(B2931,List1!$A:$B,2,0),\"x\")","v":"x"}]
["1",null,{"$f":"IFERROR(VLOOKUP(B2932,List1!$A:$B,2,0),\"x\")","v":"x"}]
["1",null,{"$f":"IFERROR(VLOOKUP(B2936,List1!$A:$B,2,0),\"x\")","v":"x"}]
["1",null,{"$f":"IFERROR(VLOOKUP(B2941,List1!$A:$B,2,0),\"x\")","v":"x"}]
["1",null,{"$f":"IFERROR(VLOOKUP(B2946,List1!$A:$B,2,0),\"x\")","v":"x"}]
["1",null,{"$f":"IFERROR(VLOOKUP(B2947,List1!$A:$B,2,0),\"x\")","v":"x"}]
["1",null,{"$f":"IFERROR(VLOOKUP(B2952,List1!$A:$B,2,0),\"x\")","v":"x"}]
["1",null,{"$f":"IFERROR(VLOOKUP(B2956,List1!$A:$B,2,0),\"x\")","v":"x"}]
["1",null,{"$f":"IFERROR(VLOOKUP(B2961,List1!$A:$B,2,0),\"x\")","v":"x"}]
["1",null,{"$f":"IFERROR(VLOOKUP(B2962,List1!$A:$B,2,0),\"x\")","v":"x"}]
["1",null,{"$f":"IFERROR(VLOOKUP(B2966,List1!$A:$B,2,0),\"x\")","v":"x"}]
["1",null,{"$f":"IFERROR(VLOOKUP(B2971,List1!$A:$B,2,0),\"x\")","v":"x"}]
["1",null,{"$f":"IFERROR(VLOOKUP(B2976,List1!$A:$B,2,0),\"x\")","v":"x"}]
["1",null,{"$f":"IFERROR(VLOOKUP(B2977,List1!$A:$B,2,0),\"x\")","v":"x"}]
["1",null,{"$f":"IFERROR(VLOOKUP(B2982,List1!$A:$B,2,0),\"x\")","v":"x"}]
["1",null,{"$f":"IFERROR(VLOOKUP(B2986,List1!$A:$B,2,0),\"x\")","v":"x"}]
["1",null,{"$f":"IFERROR(VLOOKUP(B2991,List1!$A:$B,2,0),\"x\")","v":"x"}]
["1",null,{"$f":"IFERROR(VLOOKUP(B2992,List1!$A:$B,2,0),\"x\")","v":"x"}]
["1",null,{"$f":"IFERROR(VLOOKUP(B2996,List1!$A:$B,2,0),\"x\")","v":"x"}]
["1",null,{"$f":"IFERROR(VLOOKUP(B3001,List1!$A:$B,2,0),\"x\")","v":"x"}]
["1",null,{"$f":"IFERROR(VLOOKUP(B3006,List1!$A:$B,2,0),\"x\")","v":"x"}]
["1",null,{"$f":"IFERROR(VLOOKUP(B3007,List1!$A:$B,2,0),\"x\")","v":"x"}]
["1",null,{"$f":"IFERROR(VLOOKUP(B3012,List1!$A:$B,2,0),\"x\")","v":"x"}]
["1",null,{"$f":"IFERROR(VLOOKUP(B3016,List1!$A:$B,2,0),\"x\")","v":"x"}]
["1",null,{"$f":"IFERROR(VLOOKUP(B3021,List1!$A:$B,2,0),\"x\")","v":"x"}]
["1",null,{"$f":"IFERROR(VLOOKUP(B3022,List1!$A:$B,2,0),\"x\")","v":"x"}]
["1",null,{"$f":"IFERROR(VLOOKUP(B3026,List1!$A:$B,2,0),\"x\")","v":"x"}]
["1",null,{"$f":"IFERROR(VLOOKUP(B3031,List1!$A:$B,2,0),\"x\")","v":"x"}]
["1",null,{"$f":"IFERROR(VLOOKUP(B3036,List1!$A:$B,2,0),\"x\")","v":"x"}]
["1",null,{"$f":"IFERROR(VLOOKUP(B3037,List1!$A:$B,2,0),\"x\")","v":"x"}]
["1",null,{"$f":"IFERROR(VLOOKUP(B3042,List1!$A:$B,2,0),\"x\")","v":"x"}]
["1",null,{"$f":"IFERROR(VLOOKUP(B3046,List1!$A:$B,2,0),\"x\")","v":"x"}]
["1",null,{"$f":"IFERROR(VLOOKUP(B3051,List1!$A:$B,2,0),\"x\")","v":"x"}]
["1",null,{"$f":"IFERROR(VLOOKUP(B3052,List1!$A:$B,2,0),\"x\")","v":"x"}]
["1",null,{"$f":"IFERROR(VLOOKUP(B3056,List1!$A:$B,2,0),\"x\")","v":"x"}]
["1",null,{"$f":"IFERROR(VLOOKUP(B3061,List1!$A:$B,2,0),\"x\")","v":"x"}]
["1",null,{"$f":"IFERROR(VLOOKUP(B3066,List1!$A:$B,2,0),\"x\")","v":"x"}]
["1",null,{"$f":"IFERROR(VLOOKUP(B3067,List1!$A:$B,2,0),\"x\")","v":"x"}]
["1",null,{"$f":"IFERROR(VLOOKUP(B3072,List1!$A:$B,2,0),\"x\")","v":"x"}]
["1",null,{"$f":"IFERROR(VLOOKUP(B3076,List1!$A:$B,2,0),\"x\")","v":"x"}]
[{"$f":"TEXT(J3081,1)","v":"1"},null,{"$f":"IFERROR(VLOOKUP(B3081,List1!$A:$B,2,0),\"x\")","v":"x"}]
["1",null,{"$f":"IFERROR(VLOOKUP(B3082,List1!$A:$B,2,0),\"x\")","v":"x"}]
["1",null,{"$f":"IFERROR(VLOOKUP(B3086,List1!$A:$B,2,0),\"x\")","v":"x"}]
["1",null,{"$f":"IFERROR(VLOOKUP(B3091,List1!$A:$B,2,0),\"x\")","v":"x"}]
["1",null,{"$f":"IFERROR(VLOOKUP(B3096,List1!$A:$B,2,0),\"x\")","v":"x"}]
["1",null,{"$f":"IFERROR(VLOOKUP(B3097,List1!$A:$B,2,0),\"x\")","v":"x"}]
["1",null,{"$f":"IFERROR(VLOOKUP(B3102,List1!$A:$B,2,0),\"x\")","v":"x"}]
["1",null,{"$f":"IFERROR(VLOOKUP(B3106,List1!$A:$B,2,0),\"x\")","v":"x"}]
["1",null,{"$f":"IFERROR(VLOOKUP(B3111,List1!$A:$B,2,0),\"x\")","v":"x"}]
["1",null,{"$f":"IFERROR(VLOOKUP(B3112,List1!$A:$B,2,0),\"x\")","v":"x"}]
["1",null,{"$f":"IFERROR(VLOOKUP(B3116,List1!$A:$B,2,0),\"x\")","v":"x"}]
["1",null,{"$f":"IFERROR(VLOOKUP(B3121,List1!$A:$B,2,0),\"x\")","v":"x"}]
["1",null,{"$f":"IFERROR(VLOOKUP(B3126,List1!$A:$B,2,0),\"x\")","v":"x"}]
["1",null,{"$f":"IFERROR(VLOOKUP(B3127,List1!$A:$B,2,0),\"x\")","v":"x"}]
["1",null,{"$f":"IFERROR(VLOOKUP(B3132,List1!$A:$B,2,0),\"x\")","v":"x"}]
["1",null,{"$f":"IFERROR(VLOOKUP(B3136,List1!$A:$B,2,0),\"x\")","v":"x"}]
["1",null,{"$f":"IFERROR(VLOOKUP(B3141,List1!$A:$B,2,0),\"x\")","v":"x"}]
["1",null,{"$f":"IFERROR(VLOOKUP(B3142,List1!$A:$B,2,0),\"x\")","v":"x"}]
["1",null,{"$f":"IFERROR(VLOOKUP(B3146,List1!$A:$B,2,0),\"x\")","v":"x"}]
["1",null,{"$f":"IFERROR(VLOOKUP(B3151,List1!$A:$B,2,0),\"x\")","v":"x"}]
["1",null,{"$f":"IFERROR(VLOOKUP(B3156,List1!$A:$B,2,0),\"x\")","v":"x"}]
["1",null,{"$f":"IFERROR(VLOOKUP(B3157,List1!$A:$B,2,0),\"x\")","v":"x"}]
["1",null,{"$f":"IFERROR(VLOOKUP(B3163,List1!$A:$B,2,0),\"x\")","v":"x"}]
["1",null,{"$f":"IFERROR(VLOOKUP(B3166,List1!$A:$B,2,0),\"x\")","v":"x"}]
["1",null,{"$f":"IFERROR(VLOOKUP(B3171,List1!$A:$B,2,0),\"x\")","v":"x"}]
["1",null,{"$f":"IFERROR(VLOOKUP(B3172,List1!$A:$B,2,0),\"x\")","v":"x"}]
["1",null,{"$f":"IFERROR(VLOOKUP(B3176,List1!$A:$B,2,0),\"x\")","v":"x"}]
["1",null,{"$f":"IFERROR(VLOOKUP(B3181,List1!$A:$B,2,0),\"x\")","v":"x"}]
["1",null,{"$f":"IFERROR(VLOOKUP(B3186,List1!$A:$B,2,0),\"x\")","v":"x"}]
["1",null,{"$f":"IFERROR(VLOOKUP(B3187,List1!$A:$B,2,0),\"x\")","v":"x"}]
["1",null,{"$f":"IFERROR(VLOOKUP(B3193,List1!$A:$B,2,0),\"x\")","v":"x"}]
["1",null,{"$f":"IFERROR(VLOOKUP(B3196,List1!$A:$B,2,0),\"x\")","v":"x"}]
["1",null,{"$f":"IFERROR(VLOOKUP(B3201,List1!$A:$B,2,0),\"x\")","v":"x"}]
["1",null,{"$f":"IFERROR(VLOOKUP(B3202,List1!$A:$B,2,0),\"x\")","v":"x"}]
["1",null,{"$f":"IFERROR(VLOOKUP(B3206,List1!$A:$B,2,0),\"x\")","v":"x"}]
["1",null,{"$f":"IFERROR(VLOOKUP(B3211,List1!$A:$B,2,0),\"x\")","v":"x"}]
["1",null,{"$f":"IFERROR(VLOOKUP(B3216,List1!$A:$B,2,0),\"x\")","v":"x"}]
["1",null,{"$f":"IFERROR(VLOOKUP(B3217,List1!$A:$B,2,0),\"x\")","v":"x"}]
["1",null,{"$f":"IFERROR(VLOOKUP(B3223,List1!$A:$B,2,0),\"x\")","v":"x"}]
["1",null,{"$f":"IFERROR(VLOOKUP(B3226,List1!$A:$B,2,0),\"x\")","v":"x"}]
["1",null,{"$f":"IFERROR(VLOOKUP(B3231,List1!$A:$B,2,0),\"x\")","v":"x"}]
["1",null,{"$f":"IFERROR(VLOOKUP(B3232,List1!$A:$B,2,0),\"x\")","v":"x"}]
["1",null,{"$f":"IFERROR(VLOOKUP(B3236,List1!$A:$B,2,0),\"x\")","v":"x"}]
["1",null,{"$f":"IFERROR(VLOOKUP(B3241,List1!$A:$B,2,0),\"x\")","v":"x"}]
["1",null,{"$f":"IFERROR(VLOOKUP(B3246,List1!$A:$B,2,0),\"x\")","v":"x"}]
["1",null,{"$f":"IFERROR(VLOOKUP(B3247,List1!$A:$B,2,0),\"x\")","v":"x"}]
["1",null,{"$f":"IFERROR(VLOOKUP(B3253,List1!$A:$B,2,0),\"x\")","v":"x"}]
["1",null,{"$f":"IFERROR(VLOOKUP(B3256,List1!$A:$B,2,0),\"x\")","v":"x"}]
["1",null,{"$f":"IFERROR(VLOOKUP(B3261,List1!$A:$B,2,0),\"x\")","v":"x"}]
["1",null,{"$f":"IFERROR(VLOOKUP(B3262,List1!$A:$B,2,0),\"x\")","v":"x"}]
["1",null,{"$f":"IFERROR(VLOOKUP(B3266,List1!$A:$B,2,0),\"x\")","v":"x"}]
["1",null,{"$f":"IFERROR(VLOOKUP(B3271,List1!$A:$B,2,0),\"x\")","v":"x"}]
["1",null,{"$f":"IFERROR(VLOOKUP(B3276,List1!$A:$B,2,0),\"x\")","v":"x"}]
["1",null,{"$f":"IFERROR(VLOOKUP(B3277,List1!$A:$B,2,0),\"x\")","v":"x"}]
["1",null,{"$f":"IFERROR(VLOOKUP(B3283,List1!$A:$B,2,0),\"x\")","v":"x"}]
["1",null,{"$f":"IFERROR(VLOOKUP(B3286,List1!$A:$B,2,0),\"x\")","v":"x"}]
["1",null,{"$f":"IFERROR(VLOOKUP(B3291,List1!$A:$B,2,0),\"x\")","v":"x"}]
["1",null,{"$f":"IFERROR(VLOOKUP(B3292,List1!$A:$B,2,0),\"x\")","v":"x"}]
["1",null,{"$f":"IFERROR(VLOOKUP(B3296,List1!$A:$B,2,0),\"x\")","v":"x"}]
["1",null,{"$f":"IFERROR(VLOOKUP(B3301,List1!$A:$B,2,0),\"x\")","v":"x"}]
["1",null,{"$f":"IFERROR(VLOOKUP(B3306,List1!$A:$B,2,0),\"x\")","v":"x"}]
["1",null,{"$f":"IFERROR(VLOOKUP(B3307,List1!$A:$B,2,0),\"x\")","v":"x"}]
["1",null,{"$f":"IFERROR(VLOOKUP(B3313,List1!$A:$B,2,0),\"x\")","v":"x"}]
["1",null,{"$f":"IFERROR(VLOOKUP(B3316,List1!$A:$B,2,0),\"x\")","v":"x"}]
["1",null,{"$f":"IFERROR(VLOOKUP(B3321,List1!$A:$B,2,0),\"x\")","v":"x"}]
["1",null,{"$f":"IFERROR(VLOOKUP(B3322,List1!$A:$B,2,0),\"x\")","v":"x"}]
["1",null,{"$f":"IFERROR(VLOOKUP(B3326,List1!$A:$B,2,0),\"x\")","v":"x"}]
["1",null,{"$f":"IFERROR(VLOOKUP(B3331,List1!$A:$B,2,0),\"x\")","v":"x"}]
["1",null,{"$f":"IFERROR(VLOOKUP(B3336,List1!$A:$B,2,0),\"x\")","v":"x"}]
[{"$f":"TEXT(J3337,1)","v":"1"},null,{"$f":"IFERROR(VLOOKUP(B3337,List1!$A:$B,2,0),\"x\")","v":"x"}]
["1",null,{"$f":"IFERROR(VLOOKUP(B3343,List1!$A:$B,2,0),\"x\")","v":"x"}]
["1",null,{"$f":"IFERROR(VLOOKUP(B3346,List1!$A:$B,2,0),\"x\")","v":"x"}]
["1",null,{"$f":"IFERROR(VLOOKUP(B3351,List1!$A:$B,2,0),\"x\")","v":"x"}]
["1",null,{"$f":"IFERROR(VLOOKUP(B3352,List1!$A:$B,2,0),\"x\")","v":"x"}]
["1",null,{"$f":"IFERROR(VLOOKUP(B3356,List1!$A:$B,2,0),\"x\")","v":"x"}]
["1",null,{"$f":"IFERROR(VLOOKUP(B3361,List1!$A:$B,2,0),\"x\")","v":"x"}]
["1",null,{"$f":"IFERROR(VLOOKUP(B3366,List1!$A:$B,2,0),\"x\")","v":"x"}]
["1",null,{"$f":"IFERROR(VLOOKUP(B3367,List1!$A:$B,2,0),\"x\")","v":"x"}]
["1",null,{"$f":"IFERROR(VLOOKUP(B3373,List1!$A:$B,2,0),\"x\")","v":"x"}]
["1",null,{"$f":"IFERROR(VLOOKUP(B3376,List1!$A:$B,2,0),\"x\")","v":"x"}]
["1",null,{"$f":"IFERROR(VLOOKUP(B3381,List1!$A:$B,2,0),\"x\")","v":"x"}]
["1",null,{"$f":"IFERROR(VLOOKUP(B3382,List1!$A:$B,2,0),\"x\")","v":"x"}]
["1",null,{"$f":"IFERROR(VLOOKUP(B3386,List1!$A:$B,2,0),\"x\")","v":"x"}]
["1",null,{"$f":"IFERROR(VLOOKUP(B3391,List1!$A:$B,2,0),\"x\")","v":"x"}]
["1",null,{"$f":"IFERROR(VLOOKUP(B3396,List1!$A:$B,2,0),\"x\")","v":"x"}]
["1",null,{"$f":"IFERROR(VLOOKUP(B3397,List1!$A:$B,2,0),\"x\")","v":"x"}]
["1",null,{"$f":"IFERROR(VLOOKUP(B3403,List1!$A:$B,2,0),\"x\")","v":"x"}]
["1",null,{"$f":"IFERROR(VLOOKUP(B3406,List1!$A:$B,2,0),\"x\")","v":"x"}]
["1",null,{"$f":"IFERROR(VLOOKUP(B3411,List1!$A:$B,2,0),\"x\")","v":"x"}]
["1",null,{"$f":"IFERROR(VLOOKUP(B3412,List1!$A:$B,2,0),\"x\")","v":"x"}]
["1",null,{"$f":"IFERROR(VLOOKUP(B3416,List1!$A:$B,2,0),\"x\")","v":"x"}]
["1",null,{"$f":"IFERROR(VLOOKUP(B3421,List1!$A:$B,2,0),\"x\")","v":"x"}]
["1",null,{"$f":"IFERROR(VLOOKUP(B3426,List1!$A:$B,2,0),\"x\")","v":"x"}]
["1",null,{"$f":"IFERROR(VLOOKUP(B3427,List1!$A:$B,2,0),\"x\")","v":"x"}]
["1",null,{"$f":"IFERROR(VLOOKUP(B3433,List1!$A:$B,2,0),\"x\")","v":"x"}]
["1",null,{"$f":"IFERROR(VLOOKUP(B3436,List1!$A:$B,2,0),\"x\")","v":"x"}]
["1",null,{"$f":"IFERROR(VLOOKUP(B3441,List1!$A:$B,2,0),\"x\")","v":"x"}]
["1",null,{"$f":"IFERROR(VLOOKUP(B3442,List1!$A:$B,2,0),\"x\")","v":"x"}]
["1",null,{"$f":"IFERROR(VLOOKUP(B3447,List1!$A:$B,2,0),\"x\")","v":"x"}]
["1",null,{"$f":"IFERROR(VLOOKUP(B3451,List1!$A:$B,2,0),\"x\")","v":"x"}]
["1",null,{"$f":"IFERROR(VLOOKUP(B3456,List1!$A:$B,2,0),\"x\")","v":"x"}]
["1",null,{"$f":"IFERROR(VLOOKUP(B3457,List1!$A:$B,2,0),\"x\")","v":"x"}]
["1",null,{"$f":"IFERROR(VLOOKUP(B3463,List1!$A:$B,2,0),\"x\")","v":"x"}]
["1",null,{"$f":"IFERROR(VLOOKUP(B3466,List1!$A:$B,2,0),\"x\")","v":"x"}]
["1",null,{"$f":"IFERROR(VLOOKUP(B3471,List1!$A:$B,2,0),\"x\")","v":"x"}]
["1",null,{"$f":"IFERROR(VLOOKUP(B3472,List1!$A:$B,2,0),\"x\")","v":"x"}]
["1",null,{"$f":"IFERROR(VLOOKUP(B3477,List1!$A:$B,2,0),\"x\")","v":"x"}]
["1",null,{"$f":"IFERROR(VLOOKUP(B3481,List1!$A:$B,2,0),\"x\")","v":"x"}]
["1",null,{"$f":"IFERROR(VLOOKUP(B3486,List1!$A:$B,2,0),\"x\")","v":"x"}]
["1",null,{"$f":"IFERROR(VLOOKUP(B3487,List1!$A:$B,2,0),\"x\")","v":"x"}]
["1",null,{"$f":"IFERROR(VLOOKUP(B3493,List1!$A:$B,2,0),\"x\")","v":"x"}]
["1",null,{"$f":"IFERROR(VLOOKUP(B3496,List1!$A:$B,2,0),\"x\")","v":"x"}]
["1",null,{"$f":"IFERROR(VLOOKUP(B3501,List1!$A:$B,2,0),\"x\")","v":"x"}]
["1",null,{"$f":"IFERROR(VLOOKUP(B3502,List1!$A:$B,2,0),\"x\")","v":"x"}]
["1",null,{"$f":"IFERROR(VLOOKUP(B3507,List1!$A:$B,2,0),\"x\")","v":"x"}]
["1",null,{"$f":"IFERROR(VLOOKUP(B3511,List1!$A:$B,2,0),\"x\")","v":"x"}]
["1",null,{"$f":"IFERROR(VLOOKUP(B3516,List1!$A:$B,2,0),\"x\")","v":"x"}]
["1",null,{"$f":"IFERROR(VLOOKUP(B3517,List1!$A:$B,2,0),\"x\")","v":"x"}]
["1",null,{"$f":"IFERROR(VLOOKUP(B3523,List1!$A:$B,2,0),\"x\")","v":"x"}]
["1",null,{"$f":"IFERROR(VLOOKUP(B3526,List1!$A:$B,2,0),\"x\")","v":"x"}]
["1",null,{"$f":"IFERROR(VLOOKUP(B3531,List1!$A:$B,2,0),\"x\")","v":"x"}]
["1",null,{"$f":"IFERROR(VLOOKUP(B3532,List1!$A:$B,2,0),\"x\")","v":"x"}]
["1",null,{"$f":"IFERROR(VLOOKUP(B3537,List1!$A:$B,2,0),\"x\")","v":"x"}]
["1",null,{"$f":"IFERROR(VLOOKUP(B3541,List1!$A:$B,2,0),\"x\")","v":"x"}]
["1",null,{"$f":"IFERROR(VLOOKUP(B3546,List1!$A:$B,2,0),\"x\")","v":"x"}]
["1",null,{"$f":"IFERROR(VLOOKUP(B3547,List1!$A:$B,2,0),\"x\")","v":"x"}]
["1",null,{"$f":"IFERROR(VLOOKUP(B3553,List1!$A:$B,2,0),\"x\")","v":"x"}]
["1",null,{"$f":"IFERROR(VLOOKUP(B3556,List1!$A:$B,2,0),\"x\")","v":"x"}]
["1",null,{"$f":"IFERROR(VLOOKUP(B3561,List1!$A:$B,2,0),\"x\")","v":"x"}]
["1",null,{"$f":"IFERROR(VLOOKUP(B3562,List1!$A:$B,2,0),\"x\")","v":"x"}]
["1",null,{"$f":"IFERROR(VLOOKUP(B3567,List1!$A:$B,2,0),\"x\")","v":"x"}]
["1",null,{"$f":"IFERROR(VLOOKUP(B3571,List1!$A:$B,2,0),\"x\")","v":"x"}]
["1",null,{"$f":"IFERROR(VLOOKUP(B3576,List1!$A:$B,2,0),\"x\")","v":"x"}]
["1",null,{"$f":"IFERROR(VLOOKUP(B3577,List1!$A:$B,2,0),\"x\")","v":"x"}]
["1",null,{"$f":"IFERROR(VLOOKUP(B3583,List1!$A:$B,2,0),\"x\")","v":"x"}]
["1",null,{"$f":"IFERROR(VLOOKUP(B3586,List1!$A:$B,2,0),\"x\")","v":"x"}]
["1",null,{"$f":"IFERROR(VLOOKUP(B3591,List1!$A:$B,2,0),\"x\")","v":"x"}]
["1",null,{"$f":"IFERROR(VLOOKUP(B3592,List1!$A:$B,2,0),\"x\")","v":"x"}]
["1",null,{"$f":"IFERROR(VLOOKUP(B3597,List1!$A:$B,2,0),\"x\")","v":"x"}]
["1",null,{"$f":"IFERROR(VLOOKUP(B3601,List1!$A:$B,2,0),\"x\")","v":"x"}]
["1",null,{"$f":"IFERROR(VLOOKUP(B3606,List1!$A:$B,2,0),\"x\")","v":"x"}]
["1",null,{"$f":"IFERROR(VLOOKUP(B3607,List1!$A:$B,2,0),\"x\")","v":"x"}]
["1",null,{"$f":"IFERROR(VLOOKUP(B3613,List1!$A:$B,2,0),\"x\")","v":"x"}]
["1",null,{"$f":"IFERROR(VLOOKUP(B3616,List1!$A:$B,2,0),\"x\")","v":"x"}]
["1",null,{"$f":"IFERROR(VLOOKUP(B3621,List1!$A:$B,2,0),\"x\")","v":"x"}]
["1",null,{"$f":"IFERROR(VLOOKUP(B3622,List1!$A:$B,2,0),\"x\")","v":"x"}]
["1",null,{"$f":"IFERROR(VLOOKUP(B3627,List1!$A:$B,2,0),\"x\")","v":"x"}]
["1",null,{"$f":"IFERROR(VLOOKUP(B3631,List1!$A:$B,2,0),\"x\")","v":"x"}]
["1",null,{"$f":"IFERROR(VLOOKUP(B3636,List1!$A:$B,2,0),\"x\")","v":"x"}]
["1",null,{"$f":"IFERROR(VLOOKUP(B3637,List1!$A:$B,2,0),\"x\")","v":"x"}]
["1",null,{"$f":"IFERROR(VLOOKUP(B3643,List1!$A:$B,2,0),\"x\")","v":"x"}]
["1",null,{"$f":"IFERROR(VLOOKUP(B3646,List1!$A:$B,2,0),\"x\")","v":"x"}]
["1",null,{"$f":"IFERROR(VLOOKUP(B3651,List1!$A:$B,2,0),\"x\")","v":"x"}]
["1",null,{"$f":"IFERROR(VLOOKUP(B3652,List1!$A:$B,2,0),\"x\")","v":"x"}]
[{"$f":"TEXT(J3657,1)","v":"1"},null,{"$f":"IFERROR(VLOOKUP(B3657,List1!$A:$B,2,0),\"x\")","v":"x"}]
["1",null,{"$f":"IFERROR(VLOOKUP(B3661,List1!$A:$B,2,0),\"x\")","v":"x"}]
["1",null,{"$f":"IFERROR(VLOOKUP(B3666,List1!$A:$B,2,0),\"x\")","v":"x"}]
["1",null,{"$f":"IFERROR(VLOOKUP(B3667,List1!$A:$B,2,0),\"x\")","v":"x"}]
["1",null,{"$f":"IFERROR(VLOOKUP(B3673,List1!$A:$B,2,0),\"x\")","v":"x"}]
["1",null,{"$f":"IFERROR(VLOOKUP(B3676,List1!$A:$B,2,0),\"x\")","v":"x"}]
["1",null,{"$f":"IFERROR(VLOOKUP(B3681,List1!$A:$B,2,0),\"x\")","v":"x"}]
["1",null,{"$f":"IFERROR(VLOOKUP(B3682,List1!$A:$B,2,0),\"x\")","v":"x"}]
["1",null,{"$f":"IFERROR(VLOOKUP(B3687,List1!$A:$B,2,0),\"x\")","v":"x"}]
["1",null,{"$f":"IFERROR(VLOOKUP(B3691,List1!$A:$B,2,0),\"x\")","v":"x"}]
["1",null,{"$f":"IFERROR(VLOOKUP(B3696,List1!$A:$B,2,0),\"x\")","v":"x"}]
["1",null,{"$f":"IFERROR(VLOOKUP(B3697,List1!$A:$B,2,0),\"x\")","v":"x"}]
["1",null,{"$f":"IFERROR(VLOOKUP(B3701,List1!$A:$B,2,0),\"x\")","v":"x"}]
["1",null,{"$f":"IFERROR(VLOOKUP(B3706,List1!$A:$B,2,0),\"x\")","v":"x"}]
["1",null,{"$f":"IFERROR(VLOOKUP(B3711,List1!$A:$B,2,0),\"x\")","v":"x"}]
["1",null,{"$f":"IFERROR(VLOOKUP(B3712,List1!$A:$B,2,0),\"x\")","v":"x"}]
["1",null,{"$f":"IFERROR(VLOOKUP(B3717,List1!$A:$B,2,0),\"x\")","v":"x"}]
[{"$f":"TEXT(J3721,1)","v":"1"},null,{"$f":"IFERROR(VLOOKUP(B3721,List1!$A:$B,2,0),\"x\")","v":"x"}]
["1",null,{"$f":"IFERROR(VLOOKUP(B3726,List1!$A:$B,2,0),\"x\")","v":"x"}]
["1",null,{"$f":"IFERROR(VLOOKUP(B3727,List1!$A:$B,2,0),\"x\")","v":"x"}]
["1",null,{"$f":"IFERROR(VLOOKUP(B3731,List1!$A:$B,2,0),\"x\")","v":"x"}]
["1",null,{"$f":"IFERROR(VLOOKUP(B3736,List1!$A:$B,2,0),\"x\")","v":"x"}]
["1",null,{"$f":"IFERROR(VLOOKUP(B3741,List1!$A:$B,2,0),\"x\")","v":"x"}]
["1",null,{"$f":"IFERROR(VLOOKUP(B3742,List1!$A:$B,2,0),\"x\")","v":"x"}]
["1",null,{"$f":"IFERROR(VLOOKUP(B3747,List1!$A:$B,2,0),\"x\")","v":"x"}]
["1",null,{"$f":"IFERROR(VLOOKUP(B3751,List1!$A:$B,2,0),\"x\")","v":"x"}]
["1",null,{"$f":"IFERROR(VLOOKUP(B3756,List1!$A:$B,2,0),\"x\")","v":"x"}]
["1",null,{"$f":"IFERROR(VLOOKUP(B3757,List1!$A:$B,2,0),\"x\")","v":"x"}]
["1",null,{"$f":"IFERROR(VLOOKUP(B3761,List1!$A:$B,2,0),\"x\")","v":"x"}]
["1",null,{"$f":"IFERROR(VLOOKUP(B3766,List1!$A:$B,2,0),\"x\")","v":"x"}]
["1",null,{"$f":"IFERROR(VLOOKUP(B3771,List1!$A:$B,2,0),\"x\")","v":"x"}]
["1",null,{"$f":"IFERROR(VLOOKUP(B3772,List1!$A:$B,2,0),\"x\")","v":"x"}]
["1",null,{"$f":"IFERROR(VLOOKUP(B3777,List1!$A:$B,2,0),\"x\")","v":"x"}]
["1",null,{"$f":"IFERROR(VLOOKUP(B3781,List1!$A:$B,2,0),\"x\")","v":"x"}]
["1",null,{"$f":"IFERROR(VLOOKUP(B3786,List1!$A:$B,2,0),\"x\")","v":"x"}]
["1",null,{"$f":"IFERROR(VLOOKUP(B3787,List1!$A:$B,2,0),\"x\")","v":"x"}]
["1",null,{"$f":"IFERROR(VLOOKUP(B3791,List1!$A:$B,2,0),\"x\")","v":"x"}]
["1",null,{"$f":"IFERROR(VLOOKUP(B3796,List1!$A:$B,2,0),\"x\")","v":"x"}]
["1",null,{"$f":"IFERROR(VLOOKUP(B3801,List1!$A:$B,2,0),\"x\")","v":"x"}]
["1",null,{"$f":"IFERROR(VLOOKUP(B3802,List1!$A:$B,2,0),\"x\")","v":"x"}]
["1",null,{"$f":"IFERROR(VLOOKUP(B3807,List1!$A:$B,2,0),\"x\")","v":"x"}]
["1",null,{"$f":"IFERROR(VLOOKUP(B3811,List1!$A:$B,2,0),\"x\")","v":"x"}]
["1",null,{"$f":"IFERROR(VLOOKUP(B3816,List1!$A:$B,2,0),\"x\")","v":"x"}]
["1",null,{"$f":"IFERROR(VLOOKUP(B3817,List1!$A:$B,2,0),\"x\")","v":"x"}]
["1",null,{"$f":"IFERROR(VLOOKUP(B3821,List1!$A:$B,2,0),\"x\")","v":"x"}]
["1",null,{"$f":"IFERROR(VLOOKUP(B3826,List1!$A:$B,2,0),\"x\")","v":"x"}]
["1",null,{"$f":"IFERROR(VLOOKUP(B3831,List1!$A:$B,2,0),\"x\")","v":"x"}]
["1",null,{"$f":"IFERROR(VLOOKUP(B3832,List1!$A:$B,2,0),\"x\")","v":"x"}]
["1",null,{"$f":"IFERROR(VLOOKUP(B3837,List1!$A:$B,2,0),\"x\")","v":"x"}]
["1",null,{"$f":"IFERROR(VLOOKUP(B3841,List1!$A:$B,2,0),\"x\")","v":"x"}]
["1",null,{"$f":"IFERROR(VLOOKUP(B3846,List1!$A:$B,2,0),\"x\")","v":"x"}]
["1",null,{"$f":"IFERROR(VLOOKUP(B3847,List1!$A:$B,2,0),\"x\")","v":"x"}]
["1",null,{"$f":"IFERROR(VLOOKUP(B3851,List1!$A:$B,2,0),\"x\")","v":"x"}]
["1",null,{"$f":"IFERROR(VLOOKUP(B3856,List1!$A:$B,2,0),\"x\")","v":"x"}]
["1",null,{"$f":"IFERROR(VLOOKUP(B3861,List1!$A:$B,2,0),\"x\")","v":"x"}]
["1",null,{"$f":"IFERROR(VLOOKUP(B3862,List1!$A:$B,2,0),\"x\")","v":"x"}]
["1",null,{"$f":"IFERROR(VLOOKUP(B3867,List1!$A:$B,2,0),\"x\")","v":"x"}]
["1",null,{"$f":"IFERROR(VLOOKUP(B3871,List1!$A:$B,2,0),\"x\")","v":"x"}]
["1",null,{"$f":"IFERROR(VLOOKUP(B3876,List1!$A:$B,2,0),\"x\")","v":"x"}]
["1",null,{"$f":"IFERROR(VLOOKUP(B3877,List1!$A:$B,2,0),\"x\")","v":"x"}]
["1",null,{"$f":"IFERROR(VLOOKUP(B3881,List1!$A:$B,2,0),\"x\")","v":"x"}]
["1",null,{"$f":"IFERROR(VLOOKUP(B3886,List1!$A:$B,2,0),\"x\")","v":"x"}]
["1",null,{"$f":"IFERROR(VLOOKUP(B3891,List1!$A:$B,2,0),\"x\")","v":"x"}]
["1",null,{"$f":"IFERROR(VLOOKUP(B3892,List1!$A:$B,2,0),\"x\")","v":"x"}]
["1",null,{"$f":"IFERROR(VLOOKUP(B3897,List1!$A:$B,2,0),\"x\")","v":"x"}]
["1",null,{"$f":"IFERROR(VLOOKUP(B3901,List1!$A:$B,2,0),\"x\")","v":"x"}]
["1",null,{"$f":"IFERROR(VLOOKUP(B3906,List1!$A:$B,2,0),\"x\")","v":"x"}]
["1",null,{"$f":"IFERROR(VLOOKUP(B3907,List1!$A:$B,2,0),\"x\")","v":"x"}]
["1",null,{"$f":"IFERROR(VLOOKUP(B3911,List1!$A:$B,2,0),\"x\")","v":"x"}]
["1",null,{"$f":"IFERROR(VLOOKUP(B3916,List1!$A:$B,2,0),\"x\")","v":"x"}]
["1",null,{"$f":"IFERROR(VLOOKUP(B3921,List1!$A:$B,2,0),\"x\")","v":"x"}]
["1",null,{"$f":"IFERROR(VLOOKUP(B3922,List1!$A:$B,2,0),\"x\")","v":"x"}]
["1",null,{"$f":"IFERROR(VLOOKUP(B3927,List1!$A:$B,2,0),\"x\")","v":"x"}]
["1",null,{"$f":"IFERROR(VLOOKUP(B3931,List1!$A:$B,2,0),\"x\")","v":"x"}]
["1",null,{"$f":"IFERROR(VLOOKUP(B3936,List1!$A:$B,2,0),\"x\")","v":"x"}]
["1",null,{"$f":"IFERROR(VLOOKUP(B3937,List1!$A:$B,2,0),\"x\")","v":"x"}]
["1",null,{"$f":"IFERROR(VLOOKUP(B3941,List1!$A:$B,2,0),\"x\")","v":"x"}]
["1",null,{"$f":"IFERROR(VLOOKUP(B3946,List1!$A:$B,2,0),\"x\")","v":"x"}]
["1",null,{"$f":"IFERROR(VLOOKUP(B3951,List1!$A:$B,2,0),\"x\")","v":"x"}]
["1",null,{"$f":"IFERROR(VLOOKUP(B3952,List1!$A:$B,2,0),\"x\")","v":"x"}]
["1",null,{"$f":"IFERROR(VLOOKUP(B3957,List1!$A:$B,2,0),\"x\")","v":"x"}]
["1",null,{"$f":"IFERROR(VLOOKUP(B3961,List1!$A:$B,2,0),\"x\")","v":"x"}]
["1",null,{"$f":"IFERROR(VLOOKUP(B3966,List1!$A:$B,2,0),\"x\")","v":"x"}]
["1",null,{"$f":"IFERROR(VLOOKUP(B3967,List1!$A:$B,2,0),\"x\")","v":"x"}]
["1",null,{"$f":"IFERROR(VLOOKUP(B3971,List1!$A:$B,2,0),\"x\")","v":"x"}]
["1",null,{"$f":"IFERROR(VLOOKUP(B3976,List1!$A:$B,2,0),\"x\")","v":"x"}]
["1",null,{"$f":"IFERROR(VLOOKUP(B3981,List1!$A:$B,2,0),\"x\")","v":"x"}]
["1",null,{"$f":"IFERROR(VLOOKUP(B3982,List1!$A:$B,2,0),\"x\")","v":"x"}]
["1",null,{"$f":"IFERROR(VLOOKUP(B3988,List1!$A:$B,2,0),\"x\")","v":"x"}]
["1",null,{"$f":"IFERROR(VLOOKUP(B3991,List1!$A:$B,2,0),\"x\")","v":"x"}]
["1",null,{"$f":"IFERROR(VLOOKUP(B3996,List1!$A:$B,2,0),\"x\")","v":"x"}]
["1",null,{"$f":"IFERROR(VLOOKUP(B3997,List1!$A:$B,2,0),\"x\")","v":"x"}]
["1",null,{"$f":"IFERROR(VLOOKUP(B4001,List1!$A:$B,2,0),\"x\")","v":"x"}]
["1",null,{"$f":"IFERROR(VLOOKUP(B4006,List1!$A:$B,2,0),\"x\")","v":"x"}]
["1",null,{"$f":"IFERROR(VLOOKUP(B4011,List1!$A:$B,2,0),\"x\")","v":"x"}]
["1",null,{"$f":"IFERROR(VLOOKUP(B4012,List1!$A:$B,2,0),\"x\")","v":"x"}]
["1",null,{"$f":"IFERROR(VLOOKUP(B4018,List1!$A:$B,2,0),\"x\")","v":"x"}]
["1",null,{"$f":"IFERROR(VLOOKUP(B4021,List1!$A:$B,2,0),\"x\")","v":"x"}]
["1",null,{"$f":"IFERROR(VLOOKUP(B4026,List1!$A:$B,2,0),\"x\")","v":"x"}]
["1",null,{"$f":"IFERROR(VLOOKUP(B4027,List1!$A:$B,2,0),\"x\")","v":"x"}]
["1",null,{"$f":"IFERROR(VLOOKUP(B4031,List1!$A:$B,2,0),\"x\")","v":"x"}]
["1",null,{"$f":"IFERROR(VLOOKUP(B4036,List1!$A:$B,2,0),\"x\")","v":"x"}]
[{"$f":"TEXT(J4041,1)","v":"1"},null,{"$f":"IFERROR(VLOOKUP(B4041,List1!$A:$B,2,0),\"x\")","v":"x"}]
["1",null,{"$f":"IFERROR(VLOOKUP(B4042,List1!$A:$B,2,0),\"x\")","v":"x"}]
["1",null,{"$f":"IFERROR(VLOOKUP(B4048,List1!$A:$B,2,0),\"x\")","v":"x"}]
["1",null,{"$f":"IFERROR(VLOOKUP(B4051,List1!$A:$B,2,0),\"x\")","v":"x"}]
["1",null,{"$f":"IFERROR(VLOOKUP(B4056,List1!$A:$B,2,0),\"x\")","v":"x"}]
["1",null,{"$f":"IFERROR(VLOOKUP(B4057,List1!$A:$B,2,0),\"x\")","v":"x"}]
["1",null,{"$f":"IFERROR(VLOOKUP(B4061,List1!$A:$B,2,0),\"x\")","v":"x"}]
["1",null,{"$f":"IFERROR(VLOOKUP(B4066,List1!$A:$B,2,0),\"x\")","v":"x"}]
["1",null,{"$f":"IFERROR(VLOOKUP(B4071,List1!$A:$B,2,0),\"x\")","v":"x"}]
["1",null,{"$f":"IFERROR(VLOOKUP(B4072,List1!$A:$B,2,0),\"x\")","v":"x"}]
["1",null,{"$f":"IFERROR(VLOOKUP(B4078,List1!$A:$B,2,0),\"x\")","v":"x"}]
["1",null,{"$f":"IFERROR(VLOOKUP(B4081,List1!$A:$B,2,0),\"x\")","v":"x"}]
["1",null,{"$f":"IFERROR(VLOOKUP(B4086,List1!$A:$B,2,0),\"x\")","v":"x"}]
["1",null,{"$f":"IFERROR(VLOOKUP(B4087,List1!$A:$B,2,0),\"x\")","v":"x"}]
["1",null,{"$f":"IFERROR(VLOOKUP(B4091,List1!$A:$B,2,0),\"x\")","v":"x"}]
["1",null,{"$f":"IFERROR(VLOOKUP(B4096,List1!$A:$B,2,0),\"x\")","v":"x"}]
["1",null,{"$f":"IFERROR(VLOOKUP(B4101,List1!$A:$B,2,0),\"x\")","v":"x"}]
["1",null,{"$f":"IFERROR(VLOOKUP(B4102,List1!$A:$B,2,0),\"x\")","v":"x"}]
["1",null,{"$f":"IFERROR(VLOOKUP(B4108,List1!$A:$B,2,0),\"x\")","v":"x"}]
["1",null,{"$f":"IFERROR(VLOOKUP(B4111,List1!$A:$B,2,0),\"x\")","v":"x"}]
["1",null,{"$f":"IFERROR(VLOOKUP(B4116,List1!$A:$B,2,0),\"x\")","v":"x"}]
["1",null,{"$f":"IFERROR(VLOOKUP(B4117,List1!$A:$B,2,0),\"x\")","v":"x"}]
["1",null,{"$f":"IFERROR(VLOOKUP(B4121,List1!$A:$B,2,0),\"x\")","v":"x"}]
["1",null,{"$f":"IFERROR(VLOOKUP(B4126,List1!$A:$B,2,0),\"x\")","v":"x"}]
["1",null,{"$f":"IFERROR(VLOOKUP(B4131,List1!$A:$B,2,0),\"x\")","v":"x"}]
["1",null,{"$f":"IFERROR(VLOOKUP(B4132,List1!$A:$B,2,0),\"x\")","v":"x"}]
["1",null,{"$f":"IFERROR(VLOOKUP(B4138,List1!$A:$B,2,0),\"x\")","v":"x"}]
["1",null,{"$f":"IFERROR(VLOOKUP(B4141,List1!$A:$B,2,0),\"x\")","v":"x"}]
["1",null,{"$f":"IFERROR(VLOOKUP(B4146,List1!$A:$B,2,0),\"x\")","v":"x"}]
["1",null,{"$f":"IFERROR(VLOOKUP(B4147,List1!$A:$B,2,0),\"x\")","v":"x"}]
["1",null,{"$f":"IFERROR(VLOOKUP(B4151,List1!$A:$B,2,0),\"x\")","v":"x"}]
["1",null,{"$f":"IFERROR(VLOOKUP(B4156,List1!$A:$B,2,0),\"x\")","v":"x"}]
["1",null,{"$f":"IFERROR(VLOOKUP(B4161,List1!$A:$B,2,0),\"x\")","v":"x"}]
["1",null,{"$f":"IFERROR(VLOOKUP(B4162,List1!$A:$B,2,0),\"x\")","v":"x"}]
["1",null,{"$f":"IFERROR(VLOOKUP(B4168,List1!$A:$B,2,0),\"x\")","v":"x"}]
["1",null,{"$f":"IFERROR(VLOOKUP(B4171,List1!$A:$B,2,0),\"x\")","v":"x"}]
["1",null,{"$f":"IFERROR(VLOOKUP(B4176,List1!$A:$B,2,0),\"x\")","v":"x"}]
["1",null,{"$f":"IFERROR(VLOOKUP(B4177,List1!$A:$B,2,0),\"x\")","v":"x"}]
["1",null,{"$f":"IFERROR(VLOOKUP(B4181,List1!$A:$B,2,0),\"x\")","v":"x"}]
["1",null,{"$f":"IFERROR(VLOOKUP(B4186,List1!$A:$B,2,0),\"x\")","v":"x"}]
["1",null,{"$f":"IFERROR(VLOOKUP(B4191,List1!$A:$B,2,0),\"x\")","v":"x"}]
["1",null,{"$f":"IFERROR(VLOOKUP(B4192,List1!$A:$B,2,0),\"x\")","v":"x"}]
["1",null,{"$f":"IFERROR(VLOOKUP(B4198,List1!$A:$B,2,0),\"x\")","v":"x"}]
["1",null,{"$f":"IFERROR(VLOOKUP(B4201,List1!$A:$B,2,0),\"x\")","v":"x"}]
["1",null,{"$f":"IFERROR(VLOOKUP(B4206,List1!$A:$B,2,0),\"x\")","v":"x"}]
["1",null,{"$f":"IFERROR(VLOOKUP(B4207,List1!$A:$B,2,0),\"x\")","v":"x"}]
["1",null,{"$f":"IFERROR(VLOOKUP(B4211,List1!$A:$B,2,0),\"x\")","v":"x"}]
["1",null,{"$f":"IFERROR(VLOOKUP(B4216,List1!$A:$B,2,0),\"x\")","v":"x"}]
["1",null,{"$f":"IFERROR(VLOOKUP(B4221,List1!$A:$B,2,0),\"x\")","v":"x"}]
["1",null,{"$f":"IFERROR(VLOOKUP(B4222,List1!$A:$B,2,0),\"x\")","v":"x"}]
["1",null,{"$f":"IFERROR(VLOOKUP(B4228,List1!$A:$B,2,0),\"x\")","v":"x"}]
["1",null,{"$f":"IFERROR(VLOOKUP(B4231,List1!$A:$B,2,0),\"x\")","v":"x"}]
["1",null,{"$f":"IFERROR(VLOOKUP(B4236,List1!$A:$B,2,0),\"x\")","v":"x"}]
["1",null,{"$f":"IFERROR(VLOOKUP(B4237,List1!$A:$B,2,0),\"x\")","v":"x"}]
["1",null,{"$f":"IFERROR(VLOOKUP(B4242,List1!$A:$B,2,0),\"x\")","v":"x"}]
["1",null,{"$f":"IFERROR(VLOOKUP(B4246,List1!$A:$B,2,0),\"x\")","v":"x"}]
["1",null,{"$f":"IFERROR(VLOOKUP(B4251,List1!$A:$B,2,0),\"x\")","v":"x"}]
["1",null,{"$f":"IFERROR(VLOOKUP(B4252,List1!$A:$B,2,0),\"x\")","v":"x"}]
["1",null,{"$f":"IFERROR(VLOOKUP(B4258,List1!$A:$B,2,0),\"x\")","v":"x"}]
["1",null,{"$f":"IFERROR(VLOOKUP(B4261,List1!$A:$B,2,0),\"x\")","v":"x"}]
["1",null,{"$f":"IFERROR(VLOOKUP(B4266,List1!$A:$B,2,0),\"x\")","v":"x"}]
["1",null,{"$f":"IFERROR(VLOOKUP(B4267,List1!$A:$B,2,0),\"x\")","v":"x"}]
["1",null,{"$f":"IFERROR(VLOOKUP(B4272,List1!$A:$B,2,0),\"x\")","v":"x"}]
["1",null,{"$f":"IFERROR(VLOOKUP(B4276,List1!$A:$B,2,0),\"x\")","v":"x"}]
["1",null,{"$f":"IFERROR(VLOOKUP(B4281,List1!$A:$B,2,0),\"x\")","v":"x"}]
["1",null,{"$f":"IFERROR(VLOOKUP(B4282,List1!$A:$B,2,0),\"x\")","v":"x"}]
["1",null,{"$f":"IFERROR(VLOOKUP(B4288,List1!$A:$B,2,0),\"x\")","v":"x"}]
["1",null,{"$f":"IFERROR(VLOOKUP(B4291,List1!$A:$B,2,0),\"x\")","v":"x"}]
["1",null,{"$f":"IFERROR(VLOOKUP(B4296,List1!$A:$B,2,0),\"x\")","v":"x"}]
[{"$f":"TEXT(J4297,1)","v":"1"},null,{"$f":"IFERROR(VLOOKUP(B4297,List1!$A:$B,2,0),\"x\")","v":"x"}]
["1",null,{"$f":"IFERROR(VLOOKUP(B4302,List1!$A:$B,2,0),\"x\")","v":"x"}]
["1",null,{"$f":"IFERROR(VLOOKUP(B4306,List1!$A:$B,2,0),\"x\")","v":"x"}]
["1",null,{"$f":"IFERROR(VLOOKUP(B4311,List1!$A:$B,2,0),\"x\")","v":"x"}]
["1",null,{"$f":"IFERROR(VLOOKUP(B4312,List1!$A:$B,2,0),\"x\")","v":"x"}]
["1",null,{"$f":"IFERROR(VLOOKUP(B4318,List1!$A:$B,2,0),\"x\")","v":"x"}]
["1",null,{"$f":"IFERROR(VLOOKUP(B4321,List1!$A:$B,2,0),\"x\")","v":"x"}]
["1",null,{"$f":"IFERROR(VLOOKUP(B4326,List1!$A:$B,2,0),\"x\")","v":"x"}]
["1",null,{"$f":"IFERROR(VLOOKUP(B4327,List1!$A:$B,2,0),\"x\")","v":"x"}]
["1",null,{"$f":"IFERROR(VLOOKUP(B4332,List1!$A:$B,2,0),\"x\")","v":"x"}]
["1",null,{"$f":"IFERROR(VLOOKUP(B4336,List1!$A:$B,2,0),\"x\")","v":"x"}]
["1",null,{"$f":"IFERROR(VLOOKUP(B4341,List1!$A:$B,2,0),\"x\")","v":"x"}]
["1",null,{"$f":"IFERROR(VLOOKUP(B4342,List1!$A:$B,2,0),\"x\")","v":"x"}]
["1",null,{"$f":"IFERROR(VLOOKUP(B4348,List1!$A:$B,2,0),\"x\")","v":"x"}]
["1",null,{"$f":"IFERROR(VLOOKUP(B4351,List1!$A:$B,2,0),\"x\")","v":"x"}]
["1",null,{"$f":"IFERROR(VLOOKUP(B4356,List1!$A:$B,2,0),\"x\")","v":"x"}]
["1",null,{"$f":"IFERROR(VLOOKUP(B4357,List1!$A:$B,2,0),\"x\")","v":"x"}]
["1",null,{"$f":"IFERROR(VLOOKUP(B4362,List1!$A:$B,2,0),\"x\")","v":"x"}]
["1",null,{"$f":"IFERROR(VLOOKUP(B4366,List1!$A:$B,2,0),\"x\")","v":"x"}]
["1",null,{"$f":"IFERROR(VLOOKUP(B4371,List1!$A:$B,2,0),\"x\")","v":"x"}]
["1",null,{"$f":"IFERROR(VLOOKUP(B4372,List1!$A:$B,2,0),\"x\")","v":"x"}]
["1",null,{"$f":"IFERROR(VLOOKUP(B4378,List1!$A:$B,2,0),\"x\")","v":"x"}]
["1",null,{"$f":"IFERROR(VLOOKUP(B4381,List1!$A:$B,2,0),\"x\")","v":"x"}]
["1",null,{"$f":"IFERROR(VLOOKUP(B4386,List1!$A:$B,2,0),\"x\")","v":"x"}]
["1",null,{"$f":"IFERROR(VLOOKUP(B4387,List1!$A:$B,2,0),\"x\")","v":"x"}]
["1",null,{"$f":"IFERROR(VLOOKUP(B4392,List1!$A:$B,2,0),\"x\")","v":"x"}]
["1",null,{"$f":"IFERROR(VLOOKUP(B4396,List1!$A:$B,2,0),\"x\")","v":"x"}]
["1",null,{"$f":"IFERROR(VLOOKUP(B4401,List1!$A:$B,2,0),\"x\")","v":"x"}]
["1",null,{"$f":"IFERROR(VLOOKUP(B4402,List1!$A:$B,2,0),\"x\")","v":"x"}]
["1",null,{"$f":"IFERROR(VLOOKUP(B4408,List1!$A:$B,2,0),\"x\")","v":"x"}]
["1",null,{"$f":"IFERROR(VLOOKUP(B4411,List1!$A:$B,2,0),\"x\")","v":"x"}]
["1",null,{"$f":"IFERROR(VLOOKUP(B4416,List1!$A:$B,2,0),\"x\")","v":"x"}]
["1",null,{"$f":"IFERROR(VLOOKUP(B4417,List1!$A:$B,2,0),\"x\")","v":"x"}]
["1",null,{"$f":"IFERROR(VLOOKUP(B4422,List1!$A:$B,2,0),\"x\")","v":"x"}]
["1",null,{"$f":"IFERROR(VLOOKUP(B4426,List1!$A:$B,2,0),\"x\")","v":"x"}]
["1",null,{"$f":"IFERROR(VLOOKUP(B4431,List1!$A:$B,2,0),\"x\")","v":"x"}]
["1",null,{"$f":"IFERROR(VLOOKUP(B4432,List1!$A:$B,2,0),\"x\")","v":"x"}]
["1",null,{"$f":"IFERROR(VLOOKUP(B4438,List1!$A:$B,2,0),\"x\")","v":"x"}]
["1",null,{"$f":"IFERROR(VLOOKUP(B4441,List1!$A:$B,2,0),\"x\")","v":"x"}]
["1",null,{"$f":"IFERROR(VLOOKUP(B4446,List1!$A:$B,2,0),\"x\")","v":"x"}]
["1",null,{"$f":"IFERROR(VLOOKUP(B4447,List1!$A:$B,2,0),\"x\")","v":"x"}]
["1",null,{"$f":"IFERROR(VLOOKUP(B4452,List1!$A:$B,2,0),\"x\")","v":"x"}]
["1",null,{"$f":"IFERROR(VLOOKUP(B4456,List1!$A:$B,2,0),\"x\")","v":"x"}]
["1",null,{"$f":"IFERROR(VLOOKUP(B4461,List1!$A:$B,2,0),\"x\")","v":"x"}]
["1",null,{"$f":"IFERROR(VLOOKUP(B4462,List1!$A:$B,2,0),\"x\")","v":"x"}]
["1",null,{"$f":"IFERROR(VLOOKUP(B4468,List1!$A:$B,2,0),\"x\")","v":"x"}]
["1",null,{"$f":"IFERROR(VLOOKUP(B4471,List1!$A:$B,2,0),\"x\")","v":"x"}]
["1",null,{"$f":"IFERROR(VLOOKUP(B4476,List1!$A:$B,2,0),\"x\")","v":"x"}]
["1",null,{"$f":"IFERROR(VLOOKUP(B4477,List1!$A:$B,2,0),\"x\")","v":"x"}]
["1",null,{"$f":"IFERROR(VLOOKUP(B4482,List1!$A:$B,2,0),\"x\")","v":"x"}]
["1",null,{"$f":"IFERROR(VLOOKUP(B4486,List1!$A:$B,2,0),\"x\")","v":"x"}]
["1",null,{"$f":"IFERROR(VLOOKUP(B4491,List1!$A:$B,2,0),\"x\")","v":"x"}]
["1",null,{"$f":"IFERROR(VLOOKUP(B4492,List1!$A:$B,2,0),\"x\")","v":"x"}]
["1",null,{"$f":"IFERROR(VLOOKUP(B4498,List1!$A:$B,2,0),\"x\")","v":"x"}]
["1",null,{"$f":"IFERROR(VLOOKUP(B4501,List1!$A:$B,2,0),\"x\")","v":"x"}]
["1",null,{"$f":"IFERROR(VLOOKUP(B4506,List1!$A:$B,2,0),\"x\")","v":"x"}]
["1",null,{"$f":"IFERROR(VLOOKUP(B4507,List1!$A:$B,2,0),\"x\")","v":"x"}]
["1",null,{"$f":"IFERROR(VLOOKUP(B4512,List1!$A:$B,2,0),\"x\")","v":"x"}]
["1",null,{"$f":"IFERROR(VLOOKUP(B4516,List1!$A:$B,2,0),\"x\")","v":"x"}]
["1",null,{"$f":"IFERROR(VLOOKUP(B4521,List1!$A:$B,2,0),\"x\")","v":"x"}]
["1",null,{"$f":"IFERROR(VLOOKUP(B4522,List1!$A:$B,2,0),\"x\")","v":"x"}]
["1",null,{"$f":"IFERROR(VLOOKUP(B4526,List1!$A:$B,2,0),\"x\")","v":"x"}]
["1",null,{"$f":"IFERROR(VLOOKUP(B4531,List1!$A:$B,2,0),\"x\")","v":"x"}]
["1",null,{"$f":"IFERROR(VLOOKUP(B4536,List1!$A:$B,2,0),\"x\")","v":"x"}]
["1",null,{"$f":"IFERROR(VLOOKUP(B4537,List1!$A:$B,2,0),\"x\")","v":"x"}]
["1",null,{"$f":"IFERROR(VLOOKUP(B4542,List1!$A:$B,2,0),\"x\")","v":"x"}]
["1",null,{"$f":"IFERROR(VLOOKUP(B4546,List1!$A:$B,2,0),\"x\")","v":"x"}]
["1",null,{"$f":"IFERROR(VLOOKUP(B4551,List1!$A:$B,2,0),\"x\")","v":"x"}]
["1",null,{"$f":"IFERROR(VLOOKUP(B4552,List1!$A:$B,2,0),\"x\")","v":"x"}]
["1",null,{"$f":"IFERROR(VLOOKUP(B4556,List1!$A:$B,2,0),\"x\")","v":"x"}]
["1",null,{"$f":"IFERROR(VLOOKUP(B4561,List1!$A:$B,2,0),\"x\")","v":"x"}]
["1",null,{"$f":"IFERROR(VLOOKUP(B4566,List1!$A:$B,2,0),\"x\")","v":"x"}]
["1",null,{"$f":"IFERROR(VLOOKUP(B4567,List1!$A:$B,2,0),\"x\")","v":"x"}]
["1",null,{"$f":"IFERROR(VLOOKUP(B4572,List1!$A:$B,2,0),\"x\")","v":"x"}]
["1",null,{"$f":"IFERROR(VLOOKUP(B4576,List1!$A:$B,2,0),\"x\")","v":"x"}]
["1",null,{"$f":"IFERROR(VLOOKUP(B4581,List1!$A:$B,2,0),\"x\")","v":"x"}]
["1",null,{"$f":"IFERROR(VLOOKUP(B4582,List1!$A:$B,2,0),\"x\")","v":"x"}]
["1",null,{"$f":"IFERROR(VLOOKUP(B4586,List1!$A:$B,2,0),\"x\")","v":"x"}]
["1",null,{"$f":"IFERROR(VLOOKUP(B4591,List1!$A:$B,2,0),\"x\")","v":"x"}]
["1",null,{"$f":"IFERROR(VLOOKUP(B4596,List1!$A:$B,2,0),\"x\")","v":"x"}]
["1",null,{"$f":"IFERROR(VLOOKUP(B4597,List1!$A:$B,2,0),\"x\")","v":"x"}]
["1",null,{"$f":"IFERROR(VLOOKUP(B4602,List1!$A:$B,2,0),\"x\")","v":"x"}]
["1",null,{"$f":"IFERROR(VLOOKUP(B4606,List1!$A:$B,2,0),\"x\")","v":"x"}]
["1",null,{"$f":"IFERROR(VLOOKUP(B4611,List1!$A:$B,2,0),\"x\")","v":"x"}]
["1",null,{"$f":"IFERROR(VLOOKUP(B4612,List1!$A:$B,2,0),\"x\")","v":"x"}]
["1",null,{"$f":"IFERROR(VLOOKUP(B4616,List1!$A:$B,2,0),\"x\")","v":"x"}]
["1",null,{"$f":"IFERROR(VLOOKUP(B4621,List1!$A:$B,2,0),\"x\")","v":"x"}]
["1",null,{"$f":"IFERROR(VLOOKUP(B4626,List1!$A:$B,2,0),\"x\")","v":"x"}]
["1",null,{"$f":"IFERROR(VLOOKUP(B4627,List1!$A:$B,2,0),\"x\")","v":"x"}]
["1",null,{"$f":"IFERROR(VLOOKUP(B4632,List1!$A:$B,2,0),\"x\")","v":"x"}]
["1",null,{"$f":"IFERROR(VLOOKUP(B4636,List1!$A:$B,2,0),\"x\")","v":"x"}]
["1",null,{"$f":"IFERROR(VLOOKUP(B4641,List1!$A:$B,2,0),\"x\")","v":"x"}]
["1",null,{"$f":"IFERROR(VLOOKUP(B4642,List1!$A:$B,2,0),\"x\")","v":"x"}]
["1",null,{"$f":"IFERROR(VLOOKUP(B4646,List1!$A:$B,2,0),\"x\")","v":"x"}]
["1",null,{"$f":"IFERROR(VLOOKUP(B4651,List1!$A:$B,2,0),\"x\")","v":"x"}]
["1",null,{"$f":"IFERROR(VLOOKUP(B4656,List1!$A:$B,2,0),\"x\")","v":"x"}]
["1",null,{"$f":"IFERROR(VLOOKUP(B4657,List1!$A:$B,2,0),\"x\")","v":"x"}]
["1",null,{"$f":"IFERROR(VLOOKUP(B4662,List1!$A:$B,2,0),\"x\")","v":"x"}]
["1",null,{"$f":"IFERROR(VLOOKUP(B4666,List1!$A:$B,2,0),\"x\")","v":"x"}]
["1",null,{"$f":"IFERROR(VLOOKUP(B4671,List1!$A:$B,2,0),\"x\")","v":"x"}]
["1",null,{"$f":"IFERROR(VLOOKUP(B4672,List1!$A:$B,2,0),\"x\")","v":"x"}]
["1",null,{"$f":"IFERROR(VLOOKUP(B4676,List1!$A:$B,2,0),\"x\")","v":"x"}]
[{"$f":"TEXT(J4681,1)","v":"1"},null,{"$f":"IFERROR(VLOOKUP(B4681,List1!$A:$B,2,0),\"x\")","v":"x"}]
["1",null,{"$f":"IFERROR(VLOOKUP(B4686,List1!$A:$B,2,0),\"x\")","v":"x"}]
["1",null,{"$f":"IFERROR(VLOOKUP(B4687,List1!$A:$B,2,0),\"x\")","v":"x"}]
["1",null,{"$f":"IFERROR(VLOOKUP(B4692,List1!$A:$B,2,0),\"x\")","v":"x"}]
["1",null,{"$f":"IFERROR(VLOOKUP(B4696,List1!$A:$B,2,0),\"x\")","v":"x"}]
["1",null,{"$f":"IFERROR(VLOOKUP(B4701,List1!$A:$B,2,0),\"x\")","v":"x"}]
["1",null,{"$f":"IFERROR(VLOOKUP(B4702,List1!$A:$B,2,0),\"x\")","v":"x"}]
["1",null,{"$f":"IFERROR(VLOOKUP(B4706,List1!$A:$B,2,0),\"x\")","v":"x"}]
["1",null,{"$f":"IFERROR(VLOOKUP(B4711,List1!$A:$B,2,0),\"x\")","v":"x"}]
["1",null,{"$f":"IFERROR(VLOOKUP(B4716,List1!$A:$B,2,0),\"x\")","v":"x"}]
["1",null,{"$f":"IFERROR(VLOOKUP(B4717,List1!$A:$B,2,0),\"x\")","v":"x"}]
["1",null,{"$f":"IFERROR(VLOOKUP(B4722,List1!$A:$B,2,0),\"x\")","v":"x"}]
["1",null,{"$f":"IFERROR(VLOOKUP(B4726,List1!$A:$B,2,0),\"x\")","v":"x"}]
["1",null,{"$f":"IFERROR(VLOOKUP(B4731,List1!$A:$B,2,0),\"x\")","v":"x"}]
["1",null,{"$f":"IFERROR(VLOOKUP(B4732,List1!$A:$B,2,0),\"x\")","v":"x"}]
["1",null,{"$f":"IFERROR(VLOOKUP(B4736,List1!$A:$B,2,0),\"x\")","v":"x"}]
["1",null,{"$f":"IFERROR(VLOOKUP(B4741,List1!$A:$B,2,0),\"x\")","v":"x"}]
["1",null,{"$f":"IFERROR(VLOOKUP(B4746,List1!$A:$B,2,0),\"x\")","v":"x"}]
["1",null,{"$f":"IFERROR(VLOOKUP(B4747,List1!$A:$B,2,0),\"x\")","v":"x"}]
["1",null,{"$f":"IFERROR(VLOOKUP(B4751,List1!$A:$B,2,0),\"x\")","v":"x"}]
["1",null,{"$f":"IFERROR(VLOOKUP(B4752,List1!$A:$B,2,0),\"x\")","v":"x"}]
["1",null,{"$f":"IFERROR(VLOOKUP(B4753,List1!$A:$B,2,0),\"x\")","v":"x"}]
["1",null,{"$f":"IFERROR(VLOOKUP(B4754,List1!$A:$B,2,0),\"x\")","v":"x"}]
["1",null,{"$f":"IFERROR(VLOOKUP(B4755,List1!$A:$B,2,0),\"x\")","v":"x"}]
["1",null,{"$f":"IFERROR(VLOOKUP(B4756,List1!$A:$B,2,0),\"x\")","v":"x"}]
["1",null,{"$f":"IFERROR(VLOOKUP(B4757,List1!$A:$B,2,0),\"x\")","v":"x"}]
["1",null,{"$f":"IFERROR(VLOOKUP(B4758,List1!$A:$B,2,0),\"x\")","v":"x"}]
["1",null,{"$f":"IFERROR(VLOOKUP(B4759,List1!$A:$B,2,0),\"x\")","v":"x"}]
["1",null,{"$f":"IFERROR(VLOOKUP(B4760,List1!$A:$B,2,0),\"x\")","v":"x"}]
["1",null,{"$f":"IFERROR(VLOOKUP(B4761,List1!$A:$B,2,0),\"x\")","v":"x"}]
["1",null,{"$f":"IFERROR(VLOOKUP(B4762,List1!$A:$B,2,0),\"x\")","v":"x"}]
["1",null,{"$f":"IFERROR(VLOOKUP(B4763,List1!$A:$B,2,0),\"x\")","v":"x"}]
["1",null,{"$f":"IFERROR(VLOOKUP(B4764,List1!$A:$B,2,0),\"x\")","v":"x"}]
["1",null,{"$f":"IFERROR(VLOOKUP(B4765,List1!$A:$B,2,0),\"x\")","v":"x"}]
["1",null,{"$f":"IFERROR(VLOOKUP(B4766,List1!$A:$B,2,0),\"x\")","v":"x"}]
["1",null,{"$f":"IFERROR(VLOOKUP(B4767,List1!$A:$B,2,0),\"x\")","v":"x"}]
["1",null,{"$f":"IFERROR(VLOOKUP(B4768,List1!$A:$B,2,0),\"x\")","v":"x"}]
["1",null,{"$f":"IFERROR(VLOOKUP(B4769,List1!$A:$B,2,0),\"x\")","v":"x"}]
["1",null,{"$f":"IFERROR(VLOOKUP(B4770,List1!$A:$B,2,0),\"x\")","v":"x"}]
["1",null,{"$f":"IFERROR(VLOOKUP(B4771,List1!$A:$B,2,0),\"x\")","v":"x"}]
["1",null,{"$f":"IFERROR(VLOOKUP(B4772,List1!$A:$B,2,0),\"x\")","v":"x"}]
["1",null,{"$f":"IFERROR(VLOOKUP(B4773,List1!$A:$B,2,0),\"x\")","v":"x"}]
["1",null,{"$f":"IFERROR(VLOOKUP(B4774,List1!$A:$B,2,0),\"x\")","v":"x"}]
["1",null,{"$f":"IFERROR(VLOOKUP(B4775,List1!$A:$B,2,0),\"x\")","v":"x"}]
["1",null,{"$f":"IFERROR(VLOOKUP(B4776,List1!$A:$B,2,0),\"x\")","v":"x"}]
["1",null,{"$f":"IFERROR(VLOOKUP(B4777,List1!$A:$B,2,0),\"x\")","v":"x"}]
["1",null,{"$f":"IFERROR(VLOOKUP(B4778,List1!$A:$B,2,0),\"x\")","v":"x"}]
["1",null,{"$f":"IFERROR(VLOOKUP(B4779,List1!$A:$B,2,0),\"x\")","v":"x"}]
["1",null,{"$f":"IFERROR(VLOOKUP(B4780,List1!$A:$B,2,0),\"x\")","v":"x"}]
["1",null,{"$f":"IFERROR(VLOOKUP(B4781,List1!$A:$B,2,0),\"x\")","v":"x"}]
["1",null,{"$f":"IFERROR(VLOOKUP(B4782,List1!$A:$B,2,0),\"x\")","v":"x"}]
["1",null,{"$f":"IFERROR(VLOOKUP(B4783,List1!$A:$B,2,0),\"x\")","v":"x"}]
["1",null,{"$f":"IFERROR(VLOOKUP(B4784,List1!$A:$B,2,0),\"x\")","v":"x"}]
["1",null,{"$f":"IFERROR(VLOOKUP(B4785,List1!$A:$B,2,0),\"x\")","v":"x"}]
["1",null,{"$f":"IFERROR(VLOOKUP(B4786,List1!$A:$B,2,0),\"x\")","v":"x"}]
["1",null,{"$f":"IFERROR(VLOOKUP(B4787,List1!$A:$B,2,0),\"x\")","v":"x"}]
["1",null,{"$f":"IFERROR(VLOOKUP(B4788,List1!$A:$B,2,0),\"x\")","v":"x"}]
["1",null,{"$f":"IFERROR(VLOOKUP(B4789,List1!$A:$B,2,0),\"x\")","v":"x"}]
["1",null,{"$f":"IFERROR(VLOOKUP(B4790,List1!$A:$B,2,0),\"x\")","v":"x"}]
["1",null,{"$f":"IFERROR(VLOOKUP(B4791,List1!$A:$B,2,0),\"x\")","v":"x"}]
["1",null,{"$f":"IFERROR(VLOOKUP(B4792,List1!$A:$B,2,0),\"x\")","v":"x"}]
["1",null,{"$f":"IFERROR(VLOOKUP(B4793,List1!$A:$B,2,0),\"x\")","v":"x"}]
["1",null,{"$f":"IFERROR(VLOOKUP(B4794,List1!$A:$B,2,0),\"x\")","v":"x"}]
["1",null,{"$f":"IFERROR(VLOOKUP(B4795,List1!$A:$B,2,0),\"x\")","v":"x"}]
["1",null,{"$f":"IFERROR(VLOOKUP(B4796,List1!$A:$B,2,0),\"x\")","v":"x"}]
["1",null,{"$f":"IFERROR(VLOOKUP(B4797,List1!$A:$B,2,0),\"x\")","v":"x"}]
["1",null,{"$f":"IFERROR(VLOOKUP(B4798,List1!$A:$B,2,0),\"x\")","v":"x"}]
["1",null,{"$f":"IFERROR(VLOOKUP(B4799,List1!$A:$B,2,0),\"x\")","v":"x"}]
["1",null,{"$f":"IFERROR(VLOOKUP(B4800,List1!$A:$B,2,0),\"x\")","v":"x"}]
["1",null,{"$f":"IFERROR(VLOOKUP(B4801,List1!$A:$B,2,0),\"x\")","v":"x"}]
["1",null,{"$f":"IFERROR(VLOOKUP(B4802,List1!$A:$B,2,0),\"x\")","v":"x"}]
["1",null,{"$f":"IFERROR(VLOOKUP(B4803,List1!$A:$B,2,0),\"x\")","v":"x"}]
["1",null,{"$f":"IFERROR(VLOOKUP(B4804,List1!$A:$B,2,0),\"x\")","v":"x"}]
["1",null,{"$f":"IFERROR(VLOOKUP(B4805,List1!$A:$B,2,0),\"x\")","v":"x"}]
["1",null,{"$f":"IFERROR(VLOOKUP(B4806,List1!$A:$B,2,0),\"x\")","v":"x"}]
["1",null,{"$f":"IFERROR(VLOOKUP(B4807,List1!$A:$B,2,0),\"x\")","v":"x"}]
["1",null,{"$f":"IFERROR(VLOOKUP(B4808,List1!$A:$B,2,0),\"x\")","v":"x"}]
[{"$f":"TEXT(J4809,1)","v":"1"},null,{"$f":"IFERROR(VLOOKUP(B4809,List1!$A:$B,2,0),\"x\")","v":"x"}]
["1",null,{"$f":"IFERROR(VLOOKUP(B4810,List1!$A:$B,2,0),\"x\")","v":"x"}]
["1",null,{"$f":"IFERROR(VLOOKUP(B4811,List1!$A:$B,2,0),\"x\")","v":"x"}]
["1",null,{"$f":"IFERROR(VLOOKUP(B4812,List1!$A:$B,2,0),\"x\")","v":"x"}]
["1",null,{"$f":"IFERROR(VLOOKUP(B4813,List1!$A:$B,2,0),\"x\")","v":"x"}]
["1",null,{"$f":"IFERROR(VLOOKUP(B4814,List1!$A:$B,2,0),\"x\")","v":"x"}]
["1",null,{"$f":"IFERROR(VLOOKUP(B4815,List1!$A:$B,2,0),\"x\")","v":"x"}]
["1",null,{"$f":"IFERROR(VLOOKUP(B4816,List1!$A:$B,2,0),\"x\")","v":"x"}]
["1",null,{"$f":"IFERROR(VLOOKUP(B4817,List1!$A:$B,2,0),\"x\")","v":"x"}]
["1",null,{"$f":"IFERROR(VLOOKUP(B4818,List1!$A:$B,2,0),\"x\")","v":"x"}]
["1",null,{"$f":"IFERROR(VLOOKUP(B4819,List1!$A:$B,2,0),\"x\")","v":"x"}]
["1",null,{"$f":"IFERROR(VLOOKUP(B4820,List1!$A:$B,2,0),\"x\")","v":"x"}]
["1",null,{"$f":"IFERROR(VLOOKUP(B4821,List1!$A:$B,2,0),\"x\")","v":"x"}]
["1",null,{"$f":"IFERROR(VLOOKUP(B4822,List1!$A:$B,2,0),\"x\")","v":"x"}]
["1",null,{"$f":"IFERROR(VLOOKUP(B4823,List1!$A:$B,2,0),\"x\")","v":"x"}]
["1",null,{"$f":"IFERROR(VLOOKUP(B4824,List1!$A:$B,2,0),\"x\")","v":"x"}]
["1",null,{"$f":"IFERROR(VLOOKUP(B4825,List1!$A:$B,2,0),\"x\")","v":"x"}]
["1",null,{"$f":"IFERROR(VLOOKUP(B4826,List1!$A:$B,2,0),\"x\")","v":"x"}]
["1",null,{"$f":"IFERROR(VLOOKUP(B4827,List1!$A:$B,2,0),\"x\")","v":"x"}]
["1",null,{"$f":"IFERROR(VLOOKUP(B4828,List1!$A:$B,2,0),\"x\")","v":"x"}]
["1",null,{"$f":"IFERROR(VLOOKUP(B4829,List1!$A:$B,2,0),\"x\")","v":"x"}]
["1",null,{"$f":"IFERROR(VLOOKUP(B4830,List1!$A:$B,2,0),\"x\")","v":"x"}]
["1",null,{"$f":"IFERROR(VLOOKUP(B4831,List1!$A:$B,2,0),\"x\")","v":"x"}]
["1",null,{"$f":"IFERROR(VLOOKUP(B4832,List1!$A:$B,2,0),\"x\")","v":"x"}]
["1",null,{"$f":"IFERROR(VLOOKUP(B4833,List1!$A:$B,2,0),\"x\")","v":"x"}]
["1",null,{"$f":"IFERROR(VLOOKUP(B4834,List1!$A:$B,2,0),\"x\")","v":"x"}]
["1",null,{"$f":"IFERROR(VLOOKUP(B4835,List1!$A:$B,2,0),\"x\")","v":"x"}]
["1",null,{"$f":"IFERROR(VLOOKUP(B4836,List1!$A:$B,2,0),\"x\")","v":"x"}]
["1",null,{"$f":"IFERROR(VLOOKUP(B4837,List1!$A:$B,2,0),\"x\")","v":"x"}]
["1",null,{"$f":"IFERROR(VLOOKUP(B4838,List1!$A:$B,2,0),\"x\")","v":"x"}]
["1",null,{"$f":"IFERROR(VLOOKUP(B4839,List1!$A:$B,2,0),\"x\")","v":"x"}]
["1",null,{"$f":"IFERROR(VLOOKUP(B4840,List1!$A:$B,2,0),\"x\")","v":"x"}]
["1",null,{"$f":"IFERROR(VLOOKUP(B4841,List1!$A:$B,2,0),\"x\")","v":"x"}]
["1",null,{"$f":"IFERROR(VLOOKUP(B4842,List1!$A:$B,2,0),\"x\")","v":"x"}]
["1",null,{"$f":"IFERROR(VLOOKUP(B4843,List1!$A:$B,2,0),\"x\")","v":"x"}]
["1",null,{"$f":"IFERROR(VLOOKUP(B4844,List1!$A:$B,2,0),\"x\")","v":"x"}]
["1",null,{"$f":"IFERROR(VLOOKUP(B4845,List1!$A:$B,2,0),\"x\")","v":"x"}]
["1",null,{"$f":"IFERROR(VLOOKUP(B4846,List1!$A:$B,2,0),\"x\")","v":"x"}]
["1",null,{"$f":"IFERROR(VLOOKUP(B4847,List1!$A:$B,2,0),\"x\")","v":"x"}]
["1",null,{"$f":"IFERROR(VLOOKUP(B4848,List1!$A:$B,2,0),\"x\")","v":"x"}]
["1",null,{"$f":"IFERROR(VLOOKUP(B4849,List1!$A:$B,2,0),\"x\")","v":"x"}]
["1",null,{"$f":"IFERROR(VLOOKUP(B4850,List1!$A:$B,2,0),\"x\")","v":"x"}]
["1",null,{"$f":"IFERROR(VLOOKUP(B4851,List1!$A:$B,2,0),\"x\")","v":"x"}]
["1",null,{"$f":"IFERROR(VLOOKUP(B4852,List1!$A:$B,2,0),\"x\")","v":"x"}]
["1",null,{"$f":"IFERROR(VLOOKUP(B4853,List1!$A:$B,2,0),\"x\")","v":"x"}]
["1",null,{"$f":"IFERROR(VLOOKUP(B4854,List1!$A:$B,2,0),\"x\")","v":"x"}]
["1",null,{"$f":"IFERROR(VLOOKUP(B4855,List1!$A:$B,2,0),\"x\")","v":"x"}]
["1",null,{"$f":"IFERROR(VLOOKUP(B4856,List1!$A:$B,2,0),\"x\")","v":"x"}]
["1",null,{"$f":"IFERROR(VLOOKUP(B4857,List1!$A:$B,2,0),\"x\")","v":"x"}]
["1",null,{"$f":"IFERROR(VLOOKUP(B4858,List1!$A:$B,2,0),\"x\")","v":"x"}]
["1",null,{"$f":"IFERROR(VLOOKUP(B4859,List1!$A:$B,2,0),\"x\")","v":"x"}]
["1",null,{"$f":"IFERROR(VLOOKUP(B4860,List1!$A:$B,2,0),\"x\")","v":"x"}]
["1",null,{"$f":"IFERROR(VLOOKUP(B4861,List1!$A:$B,2,0),\"x\")","v":"x"}]
["1",null,{"$f":"IFERROR(VLOOKUP(B4862,List1!$A:$B,2,0),\"x\")","v":"x"}]
["1",null,{"$f":"IFERROR(VLOOKUP(B4863,List1!$A:$B,2,0),\"x\")","v":"x"}]
["1",null,{"$f":"IFERROR(VLOOKUP(B4864,List1!$A:$B,2,0),\"x\")","v":"x"}]
["1",null,{"$f":"IFERROR(VLOOKUP(B4865,List1!$A:$B,2,0),\"x\")","v":"x"}]
["1",null,{"$f":"IFERROR(VLOOKUP(B4866,List1!$A:$B,2,0),\"x\")","v":"x"}]
["1",null,{"$f":"IFERROR(VLOOKUP(B4867,List1!$A:$B,2,0),\"x\")","v":"x"}]
["1",null,{"$f":"IFERROR(VLOOKUP(B4868,List1!$A:$B,2,0),\"x\")","v":"x"}]
["1",null,{"$f":"IFERROR(VLOOKUP(B4869,List1!$A:$B,2,0),\"x\")","v":"x"}]
["1",null,{"$f":"IFERROR(VLOOKUP(B4870,List1!$A:$B,2,0),\"x\")","v":"x"}]
["1",null,{"$f":"IFERROR(VLOOKUP(B4871,List1!$A:$B,2,0),\"x\")","v":"x"}]
["1",null,{"$f":"IFERROR(VLOOKUP(B4872,List1!$A:$B,2,0),\"x\")","v":"x"}]
[{"$f":"TEXT(J4873,1)","v":"1"},null,{"$f":"IFERROR(VLOOKUP(B4873,List1!$A:$B,2,0),\"x\")","v":"x"}]
["1",null,{"$f":"IFERROR(VLOOKUP(B4874,List1!$A:$B,2,0),\"x\")","v":"x"}]
["1",null,{"$f":"IFERROR(VLOOKUP(B4875,List1!$A:$B,2,0),\"x\")","v":"x"}]
["1",null,{"$f":"IFERROR(VLOOKUP(B4876,List1!$A:$B,2,0),\"x\")","v":"x"}]
["1",null,{"$f":"IFERROR(VLOOKUP(B4877,List1!$A:$B,2,0),\"x\")","v":"x"}]
["1",null,{"$f":"IFERROR(VLOOKUP(B4878,List1!$A:$B,2,0),\"x\")","v":"x"}]
["1",null,{"$f":"IFERROR(VLOOKUP(B4879,List1!$A:$B,2,0),\"x\")","v":"x"}]
["1",null,{"$f":"IFERROR(VLOOKUP(B4880,List1!$A:$B,2,0),\"x\")","v":"x"}]
["1",null,{"$f":"IFERROR(VLOOKUP(B4881,List1!$A:$B,2,0),\"x\")","v":"x"}]
["1",null,{"$f":"IFERROR(VLOOKUP(B4882,List1!$A:$B,2,0),\"x\")","v":"x"}]
["1",null,{"$f":"IFERROR(VLOOKUP(B4883,List1!$A:$B,2,0),\"x\")","v":"x"}]
["1",null,{"$f":"IFERROR(VLOOKUP(B4884,List1!$A:$B,2,0),\"x\")","v":"x"}]
["1",null,{"$f":"IFERROR(VLOOKUP(B4885,List1!$A:$B,2,0),\"x\")","v":"x"}]
["1",null,{"$f":"IFERROR(VLOOKUP(B4886,List1!$A:$B,2,0),\"x\")","v":"x"}]
["1",null,{"$f":"IFERROR(VLOOKUP(B4887,List1!$A:$B,2,0),\"x\")","v":"x"}]
["1",null,{"$f":"IFERROR(VLOOKUP(B4888,List1!$A:$B,2,0),\"x\")","v":"x"}]
["1",null,{"$f":"IFERROR(VLOOKUP(B4889,List1!$A:$B,2,0),\"x\")","v":"x"}]
["1",null,{"$f":"IFERROR(VLOOKUP(B4890,List1!$A:$B,2,0),\"x\")","v":"x"}]
["1",null,{"$f":"IFERROR(VLOOKUP(B4891,List1!$A:$B,2,0),\"x\")","v":"x"}]
["1",null,{"$f":"IFERROR(VLOOKUP(B4892,List1!$A:$B,2,0),\"x\")","v":"x"}]
["1",null,{"$f":"IFERROR(VLOOKUP(B4893,List1!$A:$B,2,0),\"x\")","v":"x"}]
["1",null,{"$f":"IFERROR(VLOOKUP(B4894,List1!$A:$B,2,0),\"x\")","v":"x"}]
["1",null,{"$f":"IFERROR(VLOOKUP(B4895,List1!$A:$B,2,0),\"x\")","v":"x"}]
["1",null,{"$f":"IFERROR(VLOOKUP(B4896,List1!$A:$B,2,0),\"x\")","v":"x"}]
["1",null,{"$f":"IFERROR(VLOOKUP(B4897,List1!$A:$B,2,0),\"x\")","v":"x"}]
["1",null,{"$f":"IFERROR(VLOOKUP(B4898,List1!$A:$B,2,0),\"x\")","v":"x"}]
["1",null,{"$f":"IFERROR(VLOOKUP(B4899,List1!$A:$B,2,0),\"x\")","v":"x"}]
["1",null,{"$f":"IFERROR(VLOOKUP(B4900,List1!$A:$B,2,0),\"x\")","v":"x"}]
["1",null,{"$f":"IFERROR(VLOOKUP(B4901,List1!$A:$B,2,0),\"x\")","v":"x"}]
["1",null,{"$f":"IFERROR(VLOOKUP(B4902,List1!$A:$B,2,0),\"x\")","v":"x"}]
["1",null,{"$f":"IFERROR(VLOOKUP(B4903,List1!$A:$B,2,0),\"x\")","v":"x"}]
["1",null,{"$f":"IFERROR(VLOOKUP(B4904,List1!$A:$B,2,0),\"x\")","v":"x"}]
["1",null,{"$f":"IFERROR(VLOOKUP(B4905,List1!$A:$B,2,0),\"x\")","v":"x"}]
["1",null,{"$f":"IFERROR(VLOOKUP(B4906,List1!$A:$B,2,0),\"x\")","v":"x"}]
["1",null,{"$f":"IFERROR(VLOOKUP(B4907,List1!$A:$B,2,0),\"x\")","v":"x"}]
["1",null,{"$f":"IFERROR(VLOOKUP(B4908,List1!$A:$B,2,0),\"x\")","v":"x"}]
["1",null,{"$f":"IFERROR(VLOOKUP(B4909,List1!$A:$B,2,0),\"x\")","v":"x"}]
["1",null,{"$f":"IFERROR(VLOOKUP(B4910,List1!$A:$B,2,0),\"x\")","v":"x"}]
["1",null,{"$f":"IFERROR(VLOOKUP(B4911,List1!$A:$B,2,0),\"x\")","v":"x"}]
["1",null,{"$f":"IFERROR(VLOOKUP(B4912,List1!$A:$B,2,0),\"x\")","v":"x"}]
["1",null,{"$f":"IFERROR(VLOOKUP(B4913,List1!$A:$B,2,0),\"x\")","v":"x"}]
["1",null,{"$f":"IFERROR(VLOOKUP(B4914,List1!$A:$B,2,0),\"x\")","v":"x"}]
["1",null,{"$f":"IFERROR(VLOOKUP(B4915,List1!$A:$B,2,0),\"x\")","v":"x"}]
["1",null,{"$f":"IFERROR(VLOOKUP(B4916,List1!$A:$B,2,0),\"x\")","v":"x"}]
["1",null,{"$f":"IFERROR(VLOOKUP(B4917,List1!$A:$B,2,0),\"x\")","v":"x"}]
["1",null,{"$f":"IFERROR(VLOOKUP(B4918,List1!$A:$B,2,0),\"x\")","v":"x"}]
["1",null,{"$f":"IFERROR(VLOOKUP(B4919,List1!$A:$B,2,0),\"x\")","v":"x"}]
["1",null,{"$f":"IFERROR(VLOOKUP(B4920,List1!$A:$B,2,0),\"x\")","v":"x"}]
["1",null,{"$f":"IFERROR(VLOOKUP(B4921,List1!$A:$B,2,0),\"x\")","v":"x"}]
["1",null,{"$f":"IFERROR(VLOOKUP(B4922,List1!$A:$B,2,0),\"x\")","v":"x"}]
["1",null,{"$f":"IFERROR(VLOOKUP(B4923,List1!$A:$B,2,0),\"x\")","v":"x"}]
["1",null,{"$f":"IFERROR(VLOOKUP(B4924,List1!$A:$B,2,0),\"x\")","v":"x"}]
["1",null,{"$f":"IFERROR(VLOOKUP(B4925,List1!$A:$B,2,0),\"x\")","v":"x"}]
["1",null,{"$f":"IFERROR(VLOOKUP(B4926,List1!$A:$B,2,0),\"x\")","v":"x"}]
["1",null,{"$f":"IFERROR(VLOOKUP(B4927,List1!$A:$B,2,0),\"x\")","v":"x"}]
["1",null,{"$f":"IFERROR(VLOOKUP(B4928,List1!$A:$B,2,0),\"x\")","v":"x"}]
["1",null,{"$f":"IFERROR(VLOOKUP(B4929,List1!$A:$B,2,0),\"x\")","v":"x"}]
["1",null,{"$f":"IFERROR(VLOOKUP(B4930,List1!$A:$B,2,0),\"x\")","v":"x"}]
["1",null,{"$f":"IFERROR(VLOOKUP(B4931,List1!$A:$B,2,0),\"x\")","v":"x"}]
["1",null,{"$f":"IFERROR(VLOOKUP(B4932,List1!$A:$B,2,0),\"x\")","v":"x"}]
["1",null,{"$f":"IFERROR(VLOOKUP(B4933,List1!$A:$B,2,0),\"x\")","v":"x"}]
["1",null,{"$f":"IFERROR(VLOOKUP(B4934,List1!$A:$B,2,0),\"x\")","v":"x"}]
["1",null,{"$f":"IFERROR(VLOOKUP(B4935,List1!$A:$B,2,0),\"x\")","v":"x"}]
["1",null,{"$f":"IFERROR(VLOOKUP(B4936,List1!$A:$B,2,0),\"x\")","v":"x"}]
[{"$f":"TEXT(J4937,1)","v":"1"},null,{"$f":"IFERROR(VLOOKUP(B4937,List1!$A:$B,2,0),\"x\")","v":"x"}]
["1",null,{"$f":"IFERROR(VLOOKUP(B4938,List1!$A:$B,2,0),\"x\")","v":"x"}]
["1",null,{"$f":"IFERROR(VLOOKUP(B4939,List1!$A:$B,2,0),\"x\")","v":"x"}]
["1",null,{"$f":"IFERROR(VLOOKUP(B4940,List1!$A:$B,2,0),\"x\")","v":"x"}]
["1",null,{"$f":"IFERROR(VLOOKUP(B4941,List1!$A:$B,2,0),\"x\")","v":"x"}]
["1",null,{"$f":"IFERROR(VLOOKUP(B4942,List1!$A:$B,2,0),\"x\")","v":"x"}]
["1",null,{"$f":"IFERROR(VLOOKUP(B4943,List1!$A:$B,2,0),\"x\")","v":"x"}]
["1",null,{"$f":"IFERROR(VLOOKUP(B4944,List1!$A:$B,2,0),\"x\")","v":"x"}]
["1",null,{"$f":"IFERROR(VLOOKUP(B4945,List1!$A:$B,2,0),\"x\")","v":"x"}]
["1",null,{"$f":"IFERROR(VLOOKUP(B4946,List1!$A:$B,2,0),\"x\")","v":"x"}]
["1",null,{"$f":"IFERROR(VLOOKUP(B4947,List1!$A:$B,2,0),\"x\")","v":"x"}]
["1",null,{"$f":"IFERROR(VLOOKUP(B4948,List1!$A:$B,2,0),\"x\")","v":"x"}]
["1",null,{"$f":"IFERROR(VLOOKUP(B4949,List1!$A:$B,2,0),\"x\")","v":"x"}]
["1",null,{"$f":"IFERROR(VLOOKUP(B4950,List1!$A:$B,2,0),\"x\")","v":"x"}]
["1",null,{"$f":"IFERROR(VLOOKUP(B4951,List1!$A:$B,2,0),\"x\")","v":"x"}]
["1",null,{"$f":"IFERROR(VLOOKUP(B4952,List1!$A:$B,2,0),\"x\")","v":"x"}]
["1",null,{"$f":"IFERROR(VLOOKUP(B4953,List1!$A:$B,2,0),\"x\")","v":"x"}]
["1",null,{"$f":"IFERROR(VLOOKUP(B4954,List1!$A:$B,2,0),\"x\")","v":"x"}]
["1",null,{"$f":"IFERROR(VLOOKUP(B4955,List1!$A:$B,2,0),\"x\")","v":"x"}]
["1",null,{"$f":"IFERROR(VLOOKUP(B4956,List1!$A:$B,2,0),\"x\")","v":"x"}]
["1",null,{"$f":"IFERROR(VLOOKUP(B4957,List1!$A:$B,2,0),\"x\")","v":"x"}]
["1",null,{"$f":"IFERROR(VLOOKUP(B4958,List1!$A:$B,2,0),\"x\")","v":"x"}]
["1",null,{"$f":"IFERROR(VLOOKUP(B4959,List1!$A:$B,2,0),\"x\")","v":"x"}]
["1",null,{"$f":"IFERROR(VLOOKUP(B4960,List1!$A:$B,2,0),\"x\")","v":"x"}]
["1",null,{"$f":"IFERROR(VLOOKUP(B4961,List1!$A:$B,2,0),\"x\")","v":"x"}]
["1",null,{"$f":"IFERROR(VLOOKUP(B4962,List1!$A:$B,2,0),\"x\")","v":"x"}]
["1",null,{"$f":"IFERROR(VLOOKUP(B4963,List1!$A:$B,2,0),\"x\")","v":"x"}]
["1",null,{"$f":"IFERROR(VLOOKUP(B4964,List1!$A:$B,2,0),\"x\")","v":"x"}]
["1",null,{"$f":"IFERROR(VLOOKUP(B4965,List1!$A:$B,2,0),\"x\")","v":"x"}]
["1",null,{"$f":"IFERROR(VLOOKUP(B4966,List1!$A:$B,2,0),\"x\")","v":"x"}]
["1",null,{"$f":"IFERROR(VLOOKUP(B4967,List1!$A:$B,2,0),\"x\")","v":"x"}]
["1",null,{"$f":"IFERROR(VLOOKUP(B4968,List1!$A:$B,2,0),\"x\")","v":"x"}]
["1",null,{"$f":"IFERROR(VLOOKUP(B4969,List1!$A:$B,2,0),\"x\")","v":"x"}]
["1",null,{"$f":"IFERROR(VLOOKUP(B4970,List1!$A:$B,2,0),\"x\")","v":"x"}]
["1",null,{"$f":"IFERROR(VLOOKUP(B4971,List1!$A:$B,2,0),\"x\")","v":"x"}]
["1",null,{"$f":"IFERROR(VLOOKUP(B4972,List1!$A:$B,2,0),\"x\")","v":"x"}]
["1",null,{"$f":"IFERROR(VLOOKUP(B4973,List1!$A:$B,2,0),\"x\")","v":"x"}]
["1",null,{"$f":"IFERROR(VLOOKUP(B4974,List1!$A:$B,2,0),\"x\")","v":"x"}]
["1",null,{"$f":"IFERROR(VLOOKUP(B4975,List1!$A:$B,2,0),\"x\")","v":"x"}]
["1",null,{"$f":"IFERROR(VLOOKUP(B4976,List1!$A:$B,2,0),\"x\")","v":"x"}]
["1",null,{"$f":"IFERROR(VLOOKUP(B4977,List1!$A:$B,2,0),\"x\")","v":"x"}]
["1",null,{"$f":"IFERROR(VLOOKUP(B4978,List1!$A:$B,2,0),\"x\")","v":"x"}]
["1",null,{"$f":"IFERROR(VLOOKUP(B4979,List1!$A:$B,2,0),\"x\")","v":"x"}]
["1",null,{"$f":"IFERROR(VLOOKUP(B4980,List1!$A:$B,2,0),\"x\")","v":"x"}]
["1",null,{"$f":"IFERROR(VLOOKUP(B4981,List1!$A:$B,2,0),\"x\")","v":"x"}]
["1",null,{"$f":"IFERROR(VLOOKUP(B4982,List1!$A:$B,2,0),\"x\")","v":"x"}]
["1",null,{"$f":"IFERROR(VLOOKUP(B4983,List1!$A:$B,2,0),\"x\")","v":"x"}]
["1",null,{"$f":"IFERROR(VLOOKUP(B4984,List1!$A:$B,2,0),\"x\")","v":"x"}]
["1",null,{"$f":"IFERROR(VLOOKUP(B4985,List1!$A:$B,2,0),\"x\")","v":"x"}]
["1",null,{"$f":"IFERROR(VLOOKUP(B4986,List1!$A:$B,2,0),\"x\")","v":"x"}]
["1",null,{"$f":"IFERROR(VLOOKUP(B4987,List1!$A:$B,2,0),\"x\")","v":"x"}]
["1",null,{"$f":"IFERROR(VLOOKUP(B4988,List1!$A:$B,2,0),\"x\")","v":"x"}]
["1",null,{"$f":"IFERROR(VLOOKUP(B4989,List1!$A:$B,2,0),\"x\")","v":"x"}]
["1",null,{"$f":"IFERROR(VLOOKUP(B4990,List1!$A:$B,2,0),\"x\")","v":"x"}]
["1",null,{"$f":"IFERROR(VLOOKUP(B4991,List1!$A:$B,2,0),\"x\")","v":"x"}]
["1",null,{"$f":"IFERROR(VLOOKUP(B4992,List1!$A:$B,2,0),\"x\")","v":"x"}]
["1",null,{"$f":"IFERROR(VLOOKUP(B4993,List1!$A:$B,2,0),\"x\")","v":"x"}]
["1",null,{"$f":"IFERROR(VLOOKUP(B4994,List1!$A:$B,2,0),\"x\")","v":"x"}]
["1",null,{"$f":"IFERROR(VLOOKUP(B4995,List1!$A:$B,2,0),\"x\")","v":"x"}]
["1",null,{"$f":"IFERROR(VLOOKUP(B4996,List1!$A:$B,2,0),\"x\")","v":"x"}]
["1",null,{"$f":"IFERROR(VLOOKUP(B4997,List1!$A:$B,2,0),\"x\")","v":"x"}]
["1",null,{"$f":"IFERROR(VLOOKUP(B4998,List1!$A:$B,2,0),\"x\")","v":"x"}]
["1",null,{"$f":"IFERROR(VLOOKUP(B4999,List1!$A:$B,2,0),\"x\")","v":"x"}]
["1",null,{"$f":"IFERROR(VLOOKUP(B5000,List1!$A:$B,2,0),\"x\")","v":"x"}]

{"sheet":"List2","index":2,"n_rows":0,"n_cols":0,"rows_kept":0,"cut":false,"hidden":true,"merged":[]}

{"sheet":"List1","index":3,"n_rows":12,"n_cols":5,"rows_kept":12,"cut":false,"hidden":false,"merged":[]}
["keves","HU",null,1,"2020-01-01"]
["neuwirth","CZ",null,2,"2020-02-01"]
["badzik","SK",null,3,"2020-03-01"]
["gajdos","SK",null,4,"2020-04-01"]
["pastuszak","PL",null,5,"2020-05-01"]
["jost","CZ",null,6,"2020-06-01"]
[null,null,null,7,"2020-07-01"]
[null,null,null,8,"2020-08-01"]
[null,null,null,9,"2020-09-01"]
[null,null,null,10,"2020-10-01"]
[null,null,null,11,"2020-11-01"]
[null,null,null,12,"2020-12-01"]

{"sheet":"List_CZ","index":4,"n_rows":37,"n_cols":5,"rows_kept":37,"cut":false,"hidden":false,"merged":[]}
[null,"Product name",null,null,"Comeptitors"]
[null,"ABSB 77039/414 W980/500/W954 ST2 23/2",null,null,"Hranipex"]
[null,"ABSB HU10113 Bílá 101/110/113/8100/8685/W954/B3822 PE 22/2",null,null,"Lunit"]
[null,"Alfa II profile 222788",null,null,"Dřevotrust"]
[null,"BBP OA Zásuvka 515 mm kovová černá",null,null,"Jaf Holz"]
[null,"DTDD DUB COMMERCIAL A/B DEC 2800/2070/19",null,null,"Nábytkár"]
[null,"DTDD Dub evr. radiál st A/B 2800/2070/19",null,null,"TWD"]
[null,"DTDL W980 ST2 Platinově bílá 2800/2070/18",null,null,"Schachermayer"]
[null,"FRANKE Dřez BFG 611-78 780 x 500 onyx",null,null,"Hafele"]
[null,"FRANKE Dřez ETN 610 455 x 435",null,null,"GTV"]
[null,"FRANKE Dřez ETN 614 6/4 obyčejný ventil bez otvoru",null,null,"Kili"]
[null,"GOLLINUCCI Sorter 580 Plus Line, 600 mm, výška 505mm, 80 l, šedý",null,null,"Sinks"]
[null,"GOLLINUCCI Sorter Linea 222, 300 mm",null,null,"Kopecký CZ"]
[null,"GOLLINUCCI Sorter Sistema 901/2x16 l, 600 mm",null,null,"ARDEA"]
[null,"HDF LAK 101 BÍLÁ PE 2800/2070/3",null,null,"Exkalibr"]
[null,"Konfirmát 7/50 zinek bílý bulk",null,null,"Weyland"]
[null,"SEVROLL Era úchytová lišta 18mm 2,70m stříbrná",null,null,"KNK"]
[null,"Strong electric socket, lift"]
[null,"STRONG Elektrická zásuvka 3x230V, francouzský typ, 265x130x68 mm stříbrná"]
[null,"STRONG Elektricky stavitelná podnož černá RAL 9005 mat"]
[null,"STRONG LED pásek 21,6W/m 24V bílá neutrální 210 LED/m"]
[null,"STRONG plus závěs naložený s tlumením, s excentrem, klipový"]
[null,"STRONG Rektifikační nožka 100 mm"]
[null,"STRONG Stolová noha centrální 450x450 černá"]
[null,"STRONG transformátor plochý LED 24V 100W"]
[null,"STRONG závěs naložený, slide on"]
[null,"StrongBox H86/500mm bílý"]
[null,"StrongMax 89/500 mm šedý (antracit)"]
[null,"StrongRide synchro 3D celovýsuv 500 mm s tlumením"]
[null,"TULIP Gola dvířkový J profil 4,1m eloxovaný hliník"]
[null,"TULIP úchytka Anita 96 nikl matný + šroubky"]
[null,"TULIP Úchytka Lucata 160 černá matná"]
[null,"TULIP úchytka Nakana 128 chrom matný + šroubky"]
[null,"TULIP úchytka Piombina 96 nikl matný + šroubky"]
[null,"TULIP Úchytka Ramara 596 imitace nerezi"]
[null,"TULIP věšák Lugo XL chrom matný + šroubky"]
[null,"Vrut PZ 4x18 zápustná hlava zinek bílý PZ2"]

{"sheet":"Sheet1","index":5,"n_rows":577,"n_cols":6,"rows_kept":577,"cut":false,"hidden":true,"merged":[]}
["Type","Competitor","Product name","Con","Odkaz"]
["Competitor","Hranipex","ABSB 77039/414 W980/500/W954 ST2 23/2",{"$f":"CONCATENATE(B2,\"_\",C2)","v":"Hranipex_ABSB 77039/414 W980/500/W954 ST2 23/2"},{"$f":"VLOOKUP(C2,'[1]Competitor''s products_CZ'!$B:$S,VLOOKUP(B2,[1]Seznamy!$AZ:$BA,2,0),0)","v":"https://www.hranipex.cz/cs/katalog/abs-hrany-advantedge/abs-hrany-advantedge/hu-10980-abs-hrana-bila-perla-101-hot-air/"},{"$f":"VLOOKUP(D2,$D:$E,2,0)","v":"https://www.hranipex.cz/cs/katalog/abs-hrany-advantedge/abs-hrany-advantedge/hu-10980-abs-hrana-bila-perla-101-hot-air/"}]
["Competitor","Hranipex","ABSB HU10113 Bílá 101/110/113/8100/8685/W954/B3822 PE 22/2","Hranipex_ABSB HU10113 Bílá 101/110/113/8100/8685/W954/B3822 PE 22/2",{"$f":"VLOOKUP(C3,'[1]Competitor''s products_CZ'!$B:$S,VLOOKUP(B3,[1]Seznamy!$AZ:$BA,2,0),0)","v":"https://www.hranipex.cz/cs/katalog/abs-hrany/uni-barvy/hu-10113-abs-hrana-bila-perla-101/"}]
["Competitor","Hranipex","Alfa II profile 222788","Hranipex_Alfa II profile 222788",{"$f":"VLOOKUP(C4,'[1]Competitor''s products_CZ'!$B:$S,VLOOKUP(B4,[1]Seznamy!$AZ:$BA,2,0),0)","v":"x"}]
["Competitor","Hranipex","BBP OA Zásuvka 515 mm kovová černá","Hranipex_BBP OA Zásuvka 515 mm kovová černá",{"$f":"VLOOKUP(C5,'[1]Competitor''s products_CZ'!$B:$S,VLOOKUP(B5,[1]Seznamy!$AZ:$BA,2,0),0)","v":"x"}]
["Competitor","Hranipex","DTDD DUB COMMERCIAL A/B DEC 2800/2070/19","Hranipex_DTDD DUB COMMERCIAL A/B DEC 2800/2070/19",{"$f":"VLOOKUP(C6,'[1]Competitor''s products_CZ'!$B:$S,VLOOKUP(B6,[1]Seznamy!$AZ:$BA,2,0),0)","v":"x"}]
["Competitor","Hranipex","DTDD Dub evr. radiál st A/B 2800/2070/19","Hranipex_DTDD Dub evr. radiál st A/B 2800/2070/19",{"$f":"VLOOKUP(C7,'[1]Competitor''s products_CZ'!$B:$S,VLOOKUP(B7,[1]Seznamy!$AZ:$BA,2,0),0)","v":"x"}]
["Competitor","Hranipex","DTDL W980 ST2 Platinově bílá 2800/2070/18","Hranipex_DTDL W980 ST2 Platinově bílá 2800/2070/18",{"$f":"VLOOKUP(C8,'[1]Competitor''s products_CZ'!$B:$S,VLOOKUP(B8,[1]Seznamy!$AZ:$BA,2,0),0)","v":"x"}]
["Competitor","Hranipex","FRANKE Dřez BFG 611-78 780 x 500 onyx","Hranipex_FRANKE Dřez BFG 611-78 780 x 500 onyx",{"$f":"VLOOKUP(C9,'[1]Competitor''s products_CZ'!$B:$S,VLOOKUP(B9,[1]Seznamy!$AZ:$BA,2,0),0)","v":"x"}]
["Competitor","Hranipex","FRANKE Dřez ETN 610 455 x 435","Hranipex_FRANKE Dřez ETN 610 455 x 435",{"$f":"VLOOKUP(C10,'[1]Competitor''s products_CZ'!$B:$S,VLOOKUP(B10,[1]Seznamy!$AZ:$BA,2,0),0)","v":"x"}]
["Competitor","Hranipex","FRANKE Dřez ETN 614 6/4 obyčejný ventil bez otvoru","Hranipex_FRANKE Dřez ETN 614 6/4 obyčejný ventil bez otvoru",{"$f":"VLOOKUP(C11,'[1]Competitor''s products_CZ'!$B:$S,VLOOKUP(B11,[1]Seznamy!$AZ:$BA,2,0),0)","v":"x"}]
["Competitor","Hranipex","GOLLINUCCI Sorter 580 Plus Line, 600 mm, výška 505mm, 80 l, šedý","Hranipex_GOLLINUCCI Sorter 580 Plus Line, 600 mm, výška 505mm, 80 l, šedý",{"$f":"VLOOKUP(C12,'[1]Competitor''s products_CZ'!$B:$S,VLOOKUP(B12,[1]Seznamy!$AZ:$BA,2,0),0)","v":"x"}]
["Competitor","Hranipex","GOLLINUCCI Sorter Linea 222, 300 mm","Hranipex_GOLLINUCCI Sorter Linea 222, 300 mm",{"$f":"VLOOKUP(C13,'[1]Competitor''s products_CZ'!$B:$S,VLOOKUP(B13,[1]Seznamy!$AZ:$BA,2,0),0)","v":"x"}]
["Competitor","Hranipex","GOLLINUCCI Sorter Sistema 901/2x16 l, 600 mm","Hranipex_GOLLINUCCI Sorter Sistema 901/2x16 l, 600 mm",{"$f":"VLOOKUP(C14,'[1]Competitor''s products_CZ'!$B:$S,VLOOKUP(B14,[1]Seznamy!$AZ:$BA,2,0),0)","v":"x"}]
["Competitor","Hranipex","HDF LAK 101 BÍLÁ PE 2800/2070/3","Hranipex_HDF LAK 101 BÍLÁ PE 2800/2070/3",{"$f":"VLOOKUP(C15,'[1]Competitor''s products_CZ'!$B:$S,VLOOKUP(B15,[1]Seznamy!$AZ:$BA,2,0),0)","v":"x"}]
["Competitor","Hranipex","Konfirmát 7/50 zinek bílý bulk","Hranipex_Konfirmát 7/50 zinek bílý bulk",{"$f":"VLOOKUP(C16,'[1]Competitor''s products_CZ'!$B:$S,VLOOKUP(B16,[1]Seznamy!$AZ:$BA,2,0),0)","v":"x"}]
["Competitor","Hranipex","SEVROLL Era úchytová lišta 18mm 2,70m stříbrná","Hranipex_SEVROLL Era úchytová lišta 18mm 2,70m stříbrná",{"$f":"VLOOKUP(C17,'[1]Competitor''s products_CZ'!$B:$S,VLOOKUP(B17,[1]Seznamy!$AZ:$BA,2,0),0)","v":"x"}]
["Competitor","Hranipex","Strong electric socket, lift","Hranipex_Strong electric socket, lift",{"$f":"VLOOKUP(C18,'[1]Competitor''s products_CZ'!$B:$S,VLOOKUP(B18,[1]Seznamy!$AZ:$BA,2,0),0)","v":"x"}]
["Competitor","Hranipex","STRONG Elektrická zásuvka 3x230V, francouzský typ, 265x130x68 mm stříbrná","Hranipex_STRONG Elektrická zásuvka 3x230V, francouzský typ, 265x130x68 mm stříbrná",{"$f":"VLOOKUP(C19,'[1]Competitor''s products_CZ'!$B:$S,VLOOKUP(B19,[1]Seznamy!$AZ:$BA,2,0),0)","v":"x"}]
["Competitor","Hranipex","STRONG Elektricky stavitelná podnož černá RAL 9005 mat","Hranipex_STRONG Elektricky stavitelná podnož černá RAL 9005 mat",{"$f":"VLOOKUP(C20,'[1]Competitor''s products_CZ'!$B:$S,VLOOKUP(B20,[1]Seznamy!$AZ:$BA,2,0),0)","v":"x"}]
["Competitor","Hranipex","STRONG LED pásek 21,6W/m 24V bílá neutrální 210 LED/m","Hranipex_STRONG LED pásek 21,6W/m 24V bílá neutrální 210 LED/m",{"$f":"VLOOKUP(C21,'[1]Competitor''s products_CZ'!$B:$S,VLOOKUP(B21,[1]Seznamy!$AZ:$BA,2,0),0)","v":"x"}]
["Competitor","Hranipex","STRONG plus závěs naložený s tlumením, s excentrem, klipový","Hranipex_STRONG plus závěs naložený s tlumením, s excentrem, klipový",{"$f":"VLOOKUP(C22,'[1]Competitor''s products_CZ'!$B:$S,VLOOKUP(B22,[1]Seznamy!$AZ:$BA,2,0),0)","v":"x"}]
["Competitor","Hranipex","STRONG Rektifikační nožka 100 mm","Hranipex_STRONG Rektifikační nožka 100 mm",{"$f":"VLOOKUP(C23,'[1]Competitor''s products_CZ'!$B:$S,VLOOKUP(B23,[1]Seznamy!$AZ:$BA,2,0),0)","v":"x"}]
["Competitor","Hranipex","STRONG Stolová noha centrální 450x450 černá","Hranipex_STRONG Stolová noha centrální 450x450 černá",{"$f":"VLOOKUP(C24,'[1]Competitor''s products_CZ'!$B:$S,VLOOKUP(B24,[1]Seznamy!$AZ:$BA,2,0),0)","v":"x"}]
["Competitor","Hranipex","STRONG transformátor plochý LED 24V 100W","Hranipex_STRONG transformátor plochý LED 24V 100W",{"$f":"VLOOKUP(C25,'[1]Competitor''s products_CZ'!$B:$S,VLOOKUP(B25,[1]Seznamy!$AZ:$BA,2,0),0)","v":"x"}]
["Competitor","Hranipex","STRONG závěs naložený, slide on","Hranipex_STRONG závěs naložený, slide on",{"$f":"VLOOKUP(C26,'[1]Competitor''s products_CZ'!$B:$S,VLOOKUP(B26,[1]Seznamy!$AZ:$BA,2,0),0)","v":"x"}]
["Competitor","Hranipex","StrongBox H86/500mm bílý","Hranipex_StrongBox H86/500mm bílý",{"$f":"VLOOKUP(C27,'[1]Competitor''s products_CZ'!$B:$S,VLOOKUP(B27,[1]Seznamy!$AZ:$BA,2,0),0)","v":"x"}]
["Competitor","Hranipex","StrongMax 89/500 mm šedý (antracit)","Hranipex_StrongMax 89/500 mm šedý (antracit)",{"$f":"VLOOKUP(C28,'[1]Competitor''s products_CZ'!$B:$S,VLOOKUP(B28,[1]Seznamy!$AZ:$BA,2,0),0)","v":"x"}]
["Competitor","Hranipex","StrongRide synchro 3D celovýsuv 500 mm s tlumením","Hranipex_StrongRide synchro 3D celovýsuv 500 mm s tlumením",{"$f":"VLOOKUP(C29,'[1]Competitor''s products_CZ'!$B:$S,VLOOKUP(B29,[1]Seznamy!$AZ:$BA,2,0),0)","v":"x"}]
["Competitor","Hranipex","TULIP Gola dvířkový J profil 4,1m eloxovaný hliník","Hranipex_TULIP Gola dvířkový J profil 4,1m eloxovaný hliník",{"$f":"VLOOKUP(C30,'[1]Competitor''s products_CZ'!$B:$S,VLOOKUP(B30,[1]Seznamy!$AZ:$BA,2,0),0)","v":"x"}]
["Competitor","Hranipex","TULIP úchytka Anita 96 nikl matný + šroubky","Hranipex_TULIP úchytka Anita 96 nikl matný + šroubky",{"$f":"VLOOKUP(C31,'[1]Competitor''s products_CZ'!$B:$S,VLOOKUP(B31,[1]Seznamy!$AZ:$BA,2,0),0)","v":"x"}]
["Competitor","Hranipex","TULIP Úchytka Lucata 160 černá matná","Hranipex_TULIP Úchytka Lucata 160 černá matná",{"$f":"VLOOKUP(C32,'[1]Competitor''s products_CZ'!$B:$S,VLOOKUP(B32,[1]Seznamy!$AZ:$BA,2,0),0)","v":"x"}]
["Competitor","Hranipex","TULIP úchytka Nakana 128 chrom matný + šroubky","Hranipex_TULIP úchytka Nakana 128 chrom matný + šroubky",{"$f":"VLOOKUP(C33,'[1]Competitor''s products_CZ'!$B:$S,VLOOKUP(B33,[1]Seznamy!$AZ:$BA,2,0),0)","v":"x"}]
["Competitor","Hranipex","TULIP úchytka Piombina 96 nikl matný + šroubky","Hranipex_TULIP úchytka Piombina 96 nikl matný + šroubky",{"$f":"VLOOKUP(C34,'[1]Competitor''s products_CZ'!$B:$S,VLOOKUP(B34,[1]Seznamy!$AZ:$BA,2,0),0)","v":"x"}]
["Competitor","Hranipex","TULIP Úchytka Ramara 596 imitace nerezi","Hranipex_TULIP Úchytka Ramara 596 imitace nerezi",{"$f":"VLOOKUP(C35,'[1]Competitor''s products_CZ'!$B:$S,VLOOKUP(B35,[1]Seznamy!$AZ:$BA,2,0),0)","v":"x"}]
["Competitor","Hranipex","TULIP věšák Lugo XL chrom matný + šroubky","Hranipex_TULIP věšák Lugo XL chrom matný + šroubky",{"$f":"VLOOKUP(C36,'[1]Competitor''s products_CZ'!$B:$S,VLOOKUP(B36,[1]Seznamy!$AZ:$BA,2,0),0)","v":"x"}]
["Competitor","Hranipex","Vrut PZ 4x18 zápustná hlava zinek bílý PZ2","Hranipex_Vrut PZ 4x18 zápustná hlava zinek bílý PZ2",{"$f":"VLOOKUP(C37,'[1]Competitor''s products_CZ'!$B:$S,VLOOKUP(B37,[1]Seznamy!$AZ:$BA,2,0),0)","v":"x"}]
["Competitor","Lunit","ABSB 77039/414 W980/500/W954 ST2 23/2","Lunit_ABSB 77039/414 W980/500/W954 ST2 23/2",{"$f":"VLOOKUP(C38,'[1]Competitor''s products_CZ'!$B:$S,VLOOKUP(B38,[1]Seznamy!$AZ:$BA,2,0),0)","v":"x"}]
["Competitor","Lunit","ABSB HU10113 Bílá 101/110/113/8100/8685/W954/B3822 PE 22/2","Lunit_ABSB HU10113 Bílá 101/110/113/8100/8685/W954/B3822 PE 22/2",{"$f":"VLOOKUP(C39,'[1]Competitor''s products_CZ'!$B:$S,VLOOKUP(B39,[1]Seznamy!$AZ:$BA,2,0),0)","v":"x"}]
["Competitor","Lunit","Alfa II profile 222788","Lunit_Alfa II profile 222788",{"$f":"VLOOKUP(C40,'[1]Competitor''s products_CZ'!$B:$S,VLOOKUP(B40,[1]Seznamy!$AZ:$BA,2,0),0)","v":"x"}]
["Competitor","Lunit","BBP OA Zásuvka 515 mm kovová černá","Lunit_BBP OA Zásuvka 515 mm kovová černá",{"$f":"VLOOKUP(C41,'[1]Competitor''s products_CZ'!$B:$S,VLOOKUP(B41,[1]Seznamy!$AZ:$BA,2,0),0)","v":"x"}]
["Competitor","Lunit","DTDD DUB COMMERCIAL A/B DEC 2800/2070/19","Lunit_DTDD DUB COMMERCIAL A/B DEC 2800/2070/19",{"$f":"VLOOKUP(C42,'[1]Competitor''s products_CZ'!$B:$S,VLOOKUP(B42,[1]Seznamy!$AZ:$BA,2,0),0)","v":"https://www.lunit.sk/detail/mdf-dyhovana-dub-ab-2800x2070x19-mm"}]
["Competitor","Lunit","DTDD Dub evr. radiál st A/B 2800/2070/19","Lunit_DTDD Dub evr. radiál st A/B 2800/2070/19",{"$f":"VLOOKUP(C43,'[1]Competitor''s products_CZ'!$B:$S,VLOOKUP(B43,[1]Seznamy!$AZ:$BA,2,0),0)","v":"x"}]
["Competitor","Lunit","DTDL W980 ST2 Platinově bílá 2800/2070/18","Lunit_DTDL W980 ST2 Platinově bílá 2800/2070/18",{"$f":"VLOOKUP(C44,'[1]Competitor''s products_CZ'!$B:$S,VLOOKUP(B44,[1]Seznamy!$AZ:$BA,2,0),0)","v":"x"}]
["Competitor","Lunit","FRANKE Dřez BFG 611-78 780 x 500 onyx","Lunit_FRANKE Dřez BFG 611-78 780 x 500 onyx",{"$f":"VLOOKUP(C45,'[1]Competitor''s products_CZ'!$B:$S,VLOOKUP(B45,[1]Seznamy!$AZ:$BA,2,0),0)","v":"x"}]
["Competitor","Lunit","FRANKE Dřez ETN 610 455 x 435","Lunit_FRANKE Dřez ETN 610 455 x 435",{"$f":"VLOOKUP(C46,'[1]Competitor''s products_CZ'!$B:$S,VLOOKUP(B46,[1]Seznamy!$AZ:$BA,2,0),0)","v":"x"}]
["Competitor","Lunit","FRANKE Dřez ETN 614 6/4 obyčejný ventil bez otvoru","Lunit_FRANKE Dřez ETN 614 6/4 obyčejný ventil bez otvoru",{"$f":"VLOOKUP(C47,'[1]Competitor''s products_CZ'!$B:$S,VLOOKUP(B47,[1]Seznamy!$AZ:$BA,2,0),0)","v":"https://www.lunit.sk/detail/drez-basic-150-435x780-mm-64-ventil-nerez"}]
["Competitor","Lunit","GOLLINUCCI Sorter 580 Plus Line, 600 mm, výška 505mm, 80 l, šedý","Lunit_GOLLINUCCI Sorter 580 Plus Line, 600 mm, výška 505mm, 80 l, šedý",{"$f":"VLOOKUP(C48,'[1]Competitor''s products_CZ'!$B:$S,VLOOKUP(B48,[1]Seznamy!$AZ:$BA,2,0),0)","v":"x"}]
["Competitor","Lunit","GOLLINUCCI Sorter Linea 222, 300 mm","Lunit_GOLLINUCCI Sorter Linea 222, 300 mm",{"$f":"VLOOKUP(C49,'[1]Competitor''s products_CZ'!$B:$S,VLOOKUP(B49,[1]Seznamy!$AZ:$BA,2,0),0)","v":"x"}]
["Competitor","Lunit","GOLLINUCCI Sorter Sistema 901/2x16 l, 600 mm","Lunit_GOLLINUCCI Sorter Sistema 901/2x16 l, 600 mm",{"$f":"VLOOKUP(C50,'[1]Competitor''s products_CZ'!$B:$S,VLOOKUP(B50,[1]Seznamy!$AZ:$BA,2,0),0)","v":"https://www.lunit.sk/detail/odpadkovy-kos-pre-zasuvku-do-600mm-skrinky"}]
["Competitor","Lunit","HDF LAK 101 BÍLÁ PE 2800/2070/3","Lunit_HDF LAK 101 BÍLÁ PE 2800/2070/3",{"$f":"VLOOKUP(C51,'[1]Competitor''s products_CZ'!$B:$S,VLOOKUP(B51,[1]Seznamy!$AZ:$BA,2,0),0)","v":"https://www.lunit.sk/detail/lhdf-0101pe-or-biela-3x2070x2800-mm"}]
["Competitor","Lunit","Konfirmát 7/50 zinek bílý bulk","Lunit_Konfirmát 7/50 zinek bílý bulk",{"$f":"VLOOKUP(C52,'[1]Competitor''s products_CZ'!$B:$S,VLOOKUP(B52,[1]Seznamy!$AZ:$BA,2,0),0)","v":"https://www.lunit.sk/detail/konfirmaty-5x50"}]
["Competitor","Lunit","SEVROLL Era úchytová lišta 18mm 2,70m stříbrná","Lunit_SEVROLL Era úchytová lišta 18mm 2,70m stříbrná",{"$f":"VLOOKUP(C53,'[1]Competitor''s products_CZ'!$B:$S,VLOOKUP(B53,[1]Seznamy!$AZ:$BA,2,0),0)","v":"https://www.lunit.sk/detail/madlo-trend-line-27m-strieborna"}]
["Competitor","Lunit","Strong electric socket, lift","Lunit_Strong electric socket, lift",{"$f":"VLOOKUP(C54,'[1]Competitor''s products_CZ'!$B:$S,VLOOKUP(B54,[1]Seznamy!$AZ:$BA,2,0),0)","v":"https://www.lunit.sk/detail/el-rozvod-vysuvny-lift-60-mm-3-zasuvky-sk-2xusb-s-nap-kablom-3600w-chrom-matny"}]
["Competitor","Lunit","STRONG Elektrická zásuvka 3x230V, francouzský typ, 265x130x68 mm stříbrná","Lunit_STRONG Elektrická zásuvka 3x230V, francouzský typ, 265x130x68 mm stříbrná",{"$f":"VLOOKUP(C55,'[1]Competitor''s products_CZ'!$B:$S,VLOOKUP(B55,[1]Seznamy!$AZ:$BA,2,0),0)","v":"https://www.lunit.sk/detail/el-rozvod-vyklopny-kombi-3-zasuvky-sk-s-napkablom-chm"}]
["Competitor","Lunit","STRONG Elektricky stavitelná podnož černá RAL 9005 mat","Lunit_STRONG Elektricky stavitelná podnož černá RAL 9005 mat",{"$f":"VLOOKUP(C56,'[1]Competitor''s products_CZ'!$B:$S,VLOOKUP(B56,[1]Seznamy!$AZ:$BA,2,0),0)","v":"x"}]
["Competitor","Lunit","STRONG LED pásek 21,6W/m 24V bílá neutrální 210 LED/m","Lunit_STRONG LED pásek 21,6W/m 24V bílá neutrální 210 LED/m",{"$f":"VLOOKUP(C57,'[1]Competitor''s products_CZ'!$B:$S,VLOOKUP(B57,[1]Seznamy!$AZ:$BA,2,0),0)","v":"x"}]
["Competitor","Lunit","STRONG plus závěs naložený s tlumením, s excentrem, klipový","Lunit_STRONG plus závěs naložený s tlumením, s excentrem, klipový",{"$f":"VLOOKUP(C58,'[1]Competitor''s products_CZ'!$B:$S,VLOOKUP(B58,[1]Seznamy!$AZ:$BA,2,0),0)","v":"https://www.lunit.sk/detail/zaves-glt-nalozeny-clip-s-dotlmenim"}]
["Competitor","Lunit","STRONG Rektifikační nožka 100 mm","Lunit_STRONG Rektifikační nožka 100 mm",{"$f":"VLOOKUP(C59,'[1]Competitor''s products_CZ'!$B:$S,VLOOKUP(B59,[1]Seznamy!$AZ:$BA,2,0),0)","v":"https://www.lunit.sk/detail/soklova-noha-volpato-vo2-h100-mm"}]
["Competitor","Lunit","STRONG Stolová noha centrální 450x450 černá","Lunit_STRONG Stolová noha centrální 450x450 černá",{"$f":"VLOOKUP(C60,'[1]Competitor''s products_CZ'!$B:$S,VLOOKUP(B60,[1]Seznamy!$AZ:$BA,2,0),0)","v":"https://www.lunit.sk/detail/podnoz-720-inox"}]
["Competitor","Lunit","STRONG transformátor plochý LED 24V 100W","Lunit_STRONG transformátor plochý LED 24V 100W",{"$f":"VLOOKUP(C61,'[1]Competitor''s products_CZ'!$B:$S,VLOOKUP(B61,[1]Seznamy!$AZ:$BA,2,0),0)","v":"x"}]
["Competitor","Lunit","STRONG závěs naložený, slide on","Lunit_STRONG závěs naložený, slide on",{"$f":"VLOOKUP(C62,'[1]Competitor''s products_CZ'!$B:$S,VLOOKUP(B62,[1]Seznamy!$AZ:$BA,2,0),0)","v":"https://www.lunit.sk/detail/zaves-glt-nalozeny-eko"}]
["Competitor","Lunit","StrongBox H86/500mm bílý","Lunit_StrongBox H86/500mm bílý",{"$f":"VLOOKUP(C63,'[1]Competitor''s products_CZ'!$B:$S,VLOOKUP(B63,[1]Seznamy!$AZ:$BA,2,0),0)","v":"x"}]
["Competitor","Lunit","StrongMax 89/500 mm šedý (antracit)","Lunit_StrongMax 89/500 mm šedý (antracit)",{"$f":"VLOOKUP(C64,'[1]Competitor''s products_CZ'!$B:$S,VLOOKUP(B64,[1]Seznamy!$AZ:$BA,2,0),0)","v":"https://www.lunit.sk/detail/smartbox-sedy-nizky-l500"}]
["Competitor","Lunit","StrongRide synchro 3D celovýsuv 500 mm s tlumením","Lunit_StrongRide synchro 3D celovýsuv 500 mm s tlumením",{"$f":"VLOOKUP(C65,'[1]Competitor''s products_CZ'!$B:$S,VLOOKUP(B65,[1]Seznamy!$AZ:$BA,2,0),0)","v":"x"}]
["Competitor","Lunit","TULIP Gola dvířkový J profil 4,1m eloxovaný hliník",{"$f":"CONCATENATE(B66,\"_\",C66)","v":"Lunit_TULIP Gola dvířkový J profil 4,1m eloxovaný hliník"},{"$f":"VLOOKUP(C66,'[1]Competitor''s products_CZ'!$B:$S,VLOOKUP(B66,[1]Seznamy!$AZ:$BA,2,0),0)","v":"https://www.lunit.sk/detail/profil-l-90101461-pre-bezuchytkove-dvere-5m-hlinik"}]
["Competitor","Lunit","TULIP úchytka Anita 96 nikl matný + šroubky","Lunit_TULIP úchytka Anita 96 nikl matný + šroubky",{"$f":"VLOOKUP(C67,'[1]Competitor''s products_CZ'!$B:$S,VLOOKUP(B67,[1]Seznamy!$AZ:$BA,2,0),0)","v":"x"}]
["Competitor","Lunit","TULIP Úchytka Lucata 160 černá matná","Lunit_TULIP Úchytka Lucata 160 černá matná",{"$f":"VLOOKUP(C68,'[1]Competitor''s products_CZ'!$B:$S,VLOOKUP(B68,[1]Seznamy!$AZ:$BA,2,0),0)","v":"x"}]
["Competitor","Lunit","TULIP úchytka Nakana 128 chrom matný + šroubky","Lunit_TULIP úchytka Nakana 128 chrom matný + šroubky",{"$f":"VLOOKUP(C69,'[1]Competitor''s products_CZ'!$B:$S,VLOOKUP(B69,[1]Seznamy!$AZ:$BA,2,0),0)","v":"https://www.lunit.sk/detail/uz-819-128-05-chrom-matny"}]
["Competitor","Lunit","TULIP úchytka Piombina 96 nikl matný + šroubky","Lunit_TULIP úchytka Piombina 96 nikl matný + šroubky",{"$f":"VLOOKUP(C70,'[1]Competitor''s products_CZ'!$B:$S,VLOOKUP(B70,[1]Seznamy!$AZ:$BA,2,0),0)","v":"x"}]
["Competitor","Lunit","TULIP Úchytka Ramara 596 imitace nerezi","Lunit_TULIP Úchytka Ramara 596 imitace nerezi",{"$f":"VLOOKUP(C71,'[1]Competitor''s products_CZ'!$B:$S,VLOOKUP(B71,[1]Seznamy!$AZ:$BA,2,0),0)","v":"x"}]
["Competitor","Lunit","TULIP věšák Lugo XL chrom matný + šroubky","Lunit_TULIP věšák Lugo XL chrom matný + šroubky",{"$f":"VLOOKUP(C72,'[1]Competitor''s products_CZ'!$B:$S,VLOOKUP(B72,[1]Seznamy!$AZ:$BA,2,0),0)","v":"https://www.lunit.sk/detail/vesiak-k2405a-dvojity-velky-chrom-g2"}]
["Competitor","Lunit","Vrut PZ 4x18 zápustná hlava zinek bílý PZ2","Lunit_Vrut PZ 4x18 zápustná hlava zinek bílý PZ2",{"$f":"VLOOKUP(C73,'[1]Competitor''s products_CZ'!$B:$S,VLOOKUP(B73,[1]Seznamy!$AZ:$BA,2,0),0)","v":"x"}]
["Competitor","Dřevotrust","ABSB 77039/414 W980/500/W954 ST2 23/2","Dřevotrust_ABSB 77039/414 W980/500/W954 ST2 23/2",{"$f":"VLOOKUP(C74,'[1]Competitor''s products_CZ'!$B:$S,VLOOKUP(B74,[1]Seznamy!$AZ:$BA,2,0),0)","v":"x"}]
["Competitor","Dřevotrust","ABSB HU10113 Bílá 101/110/113/8100/8685/W954/B3822 PE 22/2","Dřevotrust_ABSB HU10113 Bílá 101/110/113/8100/8685/W954/B3822 PE 22/2",{"$f":"VLOOKUP(C75,'[1]Competitor''s products_CZ'!$B:$S,VLOOKUP(B75,[1]Seznamy!$AZ:$BA,2,0),0)","v":"https://b2b.drevotrust.cz/ - Article/12929"}]
["Competitor","Dřevotrust","Alfa II profile 222788","Dřevotrust_Alfa II profile 222788",{"$f":"VLOOKUP(C76,'[1]Competitor''s products_CZ'!$B:$S,VLOOKUP(B76,[1]Seznamy!$AZ:$BA,2,0),0)","v":0}]
["Competitor","Dřevotrust","BBP OA Zásuvka 515 mm kovová černá","Dřevotrust_BBP OA Zásuvka 515 mm kovová černá",{"$f":"VLOOKUP(C77,'[1]Competitor''s products_CZ'!$B:$S,VLOOKUP(B77,[1]Seznamy!$AZ:$BA,2,0),0)","v":"https://b2b.drevotrust.cz/ - Article/181020"}]
["Competitor","Dřevotrust","DTDD DUB COMMERCIAL A/B DEC 2800/2070/19","Dřevotrust_DTDD DUB COMMERCIAL A/B DEC 2800/2070/19",{"$f":"VLOOKUP(C78,'[1]Competitor''s products_CZ'!$B:$S,VLOOKUP(B78,[1]Seznamy!$AZ:$BA,2,0),0)","v":"https://b2b.drevotrust.cz/ - Article/352340"}]
["Competitor","Dřevotrust","DTDD Dub evr. radiál st A/B 2800/2070/19","Dřevotrust_DTDD Dub evr. radiál st A/B 2800/2070/19",{"$f":"VLOOKUP(C79,'[1]Competitor''s products_CZ'!$B:$S,VLOOKUP(B79,[1]Seznamy!$AZ:$BA,2,0),0)","v":"https://b2b.drevotrust.cz/ - Article/719298"}]
["Competitor","Dřevotrust","DTDL W980 ST2 Platinově bílá 2800/2070/18","Dřevotrust_DTDL W980 ST2 Platinově bílá 2800/2070/18",{"$f":"VLOOKUP(C80,'[1]Competitor''s products_CZ'!$B:$S,VLOOKUP(B80,[1]Seznamy!$AZ:$BA,2,0),0)","v":"https://b2b.drevotrust.cz/ - Article/776854"}]
["Competitor","Dřevotrust","FRANKE Dřez BFG 611-78 780 x 500 onyx","Dřevotrust_FRANKE Dřez BFG 611-78 780 x 500 onyx",{"$f":"VLOOKUP(C81,'[1]Competitor''s products_CZ'!$B:$S,VLOOKUP(B81,[1]Seznamy!$AZ:$BA,2,0),0)","v":"https://b2b.drevotrust.cz/ - Article/472557"}]
["Competitor","Dřevotrust","FRANKE Dřez ETN 610 455 x 435","Dřevotrust_FRANKE Dřez ETN 610 455 x 435",{"$f":"VLOOKUP(C82,'[1]Competitor''s products_CZ'!$B:$S,VLOOKUP(B82,[1]Seznamy!$AZ:$BA,2,0),0)","v":"https://b2b.drevotrust.cz/ - Article/10509"}]
["Competitor","Dřevotrust","FRANKE Dřez ETN 614 6/4 obyčejný ventil bez otvoru","Dřevotrust_FRANKE Dřez ETN 614 6/4 obyčejný ventil bez otvoru",{"$f":"VLOOKUP(C83,'[1]Competitor''s products_CZ'!$B:$S,VLOOKUP(B83,[1]Seznamy!$AZ:$BA,2,0),0)","v":"https://b2b.drevotrust.cz/ - Article/555027"}]
["Competitor","Dřevotrust","GOLLINUCCI Sorter 580 Plus Line, 600 mm, výška 505mm, 80 l, šedý","Dřevotrust_GOLLINUCCI Sorter 580 Plus Line, 600 mm, výška 505mm, 80 l, šedý",{"$f":"VLOOKUP(C84,'[1]Competitor''s products_CZ'!$B:$S,VLOOKUP(B84,[1]Seznamy!$AZ:$BA,2,0),0)","v":"x"}]
["Competitor","Dřevotrust","GOLLINUCCI Sorter Linea 222, 300 mm","Dřevotrust_GOLLINUCCI Sorter Linea 222, 300 mm",{"$f":"VLOOKUP(C85,'[1]Competitor''s products_CZ'!$B:$S,VLOOKUP(B85,[1]Seznamy!$AZ:$BA,2,0),0)","v":"https://b2b.drevotrust.cz/ - Article/175478"}]
["Competitor","Dřevotrust","GOLLINUCCI Sorter Sistema 901/2x16 l, 600 mm","Dřevotrust_GOLLINUCCI Sorter Sistema 901/2x16 l, 600 mm",{"$f":"VLOOKUP(C86,'[1]Competitor''s products_CZ'!$B:$S,VLOOKUP(B86,[1]Seznamy!$AZ:$BA,2,0),0)","v":"https://b2b.drevotrust.cz/ - Article/384566"}]
["Competitor","Dřevotrust","HDF LAK 101 BÍLÁ PE 2800/2070/3","Dřevotrust_HDF LAK 101 BÍLÁ PE 2800/2070/3",{"$f":"VLOOKUP(C87,'[1]Competitor''s products_CZ'!$B:$S,VLOOKUP(B87,[1]Seznamy!$AZ:$BA,2,0),0)","v":"https://b2b.drevotrust.cz/ - Article/100104"}]
["Competitor","Dřevotrust","Konfirmát 7/50 zinek bílý bulk","Dřevotrust_Konfirmát 7/50 zinek bílý bulk",{"$f":"VLOOKUP(C88,'[1]Competitor''s products_CZ'!$B:$S,VLOOKUP(B88,[1]Seznamy!$AZ:$BA,2,0),0)","v":"https://b2b.drevotrust.cz/ - Article/10163"}]
["Competitor","Dřevotrust","SEVROLL Era úchytová lišta 18mm 2,70m stříbrná","Dřevotrust_SEVROLL Era úchytová lišta 18mm 2,70m stříbrná",{"$f":"VLOOKUP(C89,'[1]Competitor''s products_CZ'!$B:$S,VLOOKUP(B89,[1]Seznamy!$AZ:$BA,2,0),0)","v":0}]
["Competitor","Dřevotrust","Strong electric socket, lift","Dřevotrust_Strong electric socket, lift",{"$f":"VLOOKUP(C90,'[1]Competitor''s products_CZ'!$B:$S,VLOOKUP(B90,[1]Seznamy!$AZ:$BA,2,0),0)","v":"https://b2b.drevotrust.cz/#Article/765538"}]
["Competitor","Dřevotrust","STRONG Elektrická zásuvka 3x230V, francouzský typ, 265x130x68 mm stříbrná","Dřevotrust_STRONG Elektrická zásuvka 3x230V, francouzský typ, 265x130x68 mm stříbrná",{"$f":"VLOOKUP(C91,'[1]Competitor''s products_CZ'!$B:$S,VLOOKUP(B91,[1]Seznamy!$AZ:$BA,2,0),0)","v":"https://b2b.drevotrust.cz/ - Article/669087"}]
["Competitor","Dřevotrust","STRONG Elektricky stavitelná podnož černá RAL 9005 mat","Dřevotrust_STRONG Elektricky stavitelná podnož černá RAL 9005 mat",{"$f":"VLOOKUP(C92,'[1]Competitor''s products_CZ'!$B:$S,VLOOKUP(B92,[1]Seznamy!$AZ:$BA,2,0),0)","v":"https://b2b.drevotrust.cz/#Article/665880"}]
["Competitor","Dřevotrust","STRONG LED pásek 21,6W/m 24V bílá neutrální 210 LED/m","Dřevotrust_STRONG LED pásek 21,6W/m 24V bílá neutrální 210 LED/m",{"$f":"VLOOKUP(C93,'[1]Competitor''s products_CZ'!$B:$S,VLOOKUP(B93,[1]Seznamy!$AZ:$BA,2,0),0)","v":"x"}]
["Competitor","Dřevotrust","STRONG plus závěs naložený s tlumením, s excentrem, klipový","Dřevotrust_STRONG plus závěs naložený s tlumením, s excentrem, klipový",{"$f":"VLOOKUP(C94,'[1]Competitor''s products_CZ'!$B:$S,VLOOKUP(B94,[1]Seznamy!$AZ:$BA,2,0),0)","v":"https://b2b.drevotrust.cz/ - Article/766700"}]
["Competitor","Dřevotrust","STRONG Rektifikační nožka 100 mm","Dřevotrust_STRONG Rektifikační nožka 100 mm",{"$f":"VLOOKUP(C95,'[1]Competitor''s products_CZ'!$B:$S,VLOOKUP(B95,[1]Seznamy!$AZ:$BA,2,0),0)","v":"https://b2b.drevotrust.cz/ - Article/15143"}]
["Competitor","Dřevotrust","STRONG Stolová noha centrální 450x450 černá","Dřevotrust_STRONG Stolová noha centrální 450x450 černá",{"$f":"VLOOKUP(C96,'[1]Competitor''s products_CZ'!$B:$S,VLOOKUP(B96,[1]Seznamy!$AZ:$BA,2,0),0)","v":"https://b2b.drevotrust.cz/ - Article/765185"}]
["Competitor","Dřevotrust","STRONG transformátor plochý LED 24V 100W","Dřevotrust_STRONG transformátor plochý LED 24V 100W",{"$f":"VLOOKUP(C97,'[1]Competitor''s products_CZ'!$B:$S,VLOOKUP(B97,[1]Seznamy!$AZ:$BA,2,0),0)","v":"x"}]
["Competitor","Dřevotrust","STRONG závěs naložený, slide on","Dřevotrust_STRONG závěs naložený, slide on",{"$f":"VLOOKUP(C98,'[1]Competitor''s products_CZ'!$B:$S,VLOOKUP(B98,[1]Seznamy!$AZ:$BA,2,0),0)","v":"https://b2b.drevotrust.cz/ - Article/497778"}]
["Competitor","Dřevotrust","StrongBox H86/500mm bílý","Dřevotrust_StrongBox H86/500mm bílý",{"$f":"VLOOKUP(C99,'[1]Competitor''s products_CZ'!$B:$S,VLOOKUP(B99,[1]Seznamy!$AZ:$BA,2,0),0)","v":"x"}]
["Competitor","Dřevotrust","StrongMax 89/500 mm šedý (antracit)","Dřevotrust_StrongMax 89/500 mm šedý (antracit)",{"$f":"VLOOKUP(C100,'[1]Competitor''s products_CZ'!$B:$S,VLOOKUP(B100,[1]Seznamy!$AZ:$BA,2,0),0)","v":"https://b2b.drevotrust.cz/ - Article/766615"}]
["Competitor","Dřevotrust","StrongRide synchro 3D celovýsuv 500 mm s tlumením","Dřevotrust_StrongRide synchro 3D celovýsuv 500 mm s tlumením",{"$f":"VLOOKUP(C101,'[1]Competitor''s products_CZ'!$B:$S,VLOOKUP(B101,[1]Seznamy!$AZ:$BA,2,0),0)","v":"x"}]
["Competitor","Dřevotrust","TULIP Gola dvířkový J profil 4,1m eloxovaný hliník","Dřevotrust_TULIP Gola dvířkový J profil 4,1m eloxovaný hliník",{"$f":"VLOOKUP(C102,'[1]Competitor''s products_CZ'!$B:$S,VLOOKUP(B102,[1]Seznamy!$AZ:$BA,2,0),0)","v":"https://b2b.drevotrust.cz/#Article/559080"}]
["Competitor","Dřevotrust","TULIP úchytka Anita 96 nikl matný + šroubky","Dřevotrust_TULIP úchytka Anita 96 nikl matný + šroubky",{"$f":"VLOOKUP(C103,'[1]Competitor''s products_CZ'!$B:$S,VLOOKUP(B103,[1]Seznamy!$AZ:$BA,2,0),0)","v":"x"}]
["Competitor","Dřevotrust","TULIP Úchytka Lucata 160 černá matná","Dřevotrust_TULIP Úchytka Lucata 160 černá matná",{"$f":"VLOOKUP(C104,'[1]Competitor''s products_CZ'!$B:$S,VLOOKUP(B104,[1]Seznamy!$AZ:$BA,2,0),0)","v":"x"}]
["Competitor","Dřevotrust","TULIP úchytka Nakana 128 chrom matný + šroubky","Dřevotrust_TULIP úchytka Nakana 128 chrom matný + šroubky",{"$f":"VLOOKUP(C105,'[1]Competitor''s products_CZ'!$B:$S,VLOOKUP(B105,[1]Seznamy!$AZ:$BA,2,0),0)","v":"x"}]
["Competitor","Dřevotrust","TULIP úchytka Piombina 96 nikl matný + šroubky","Dřevotrust_TULIP úchytka Piombina 96 nikl matný + šroubky",{"$f":"VLOOKUP(C106,'[1]Competitor''s products_CZ'!$B:$S,VLOOKUP(B106,[1]Seznamy!$AZ:$BA,2,0),0)","v":"x"}]
["Competitor","Dřevotrust","TULIP Úchytka Ramara 596 imitace nerezi","Dřevotrust_TULIP Úchytka Ramara 596 imitace nerezi",{"$f":"VLOOKUP(C107,'[1]Competitor''s products_CZ'!$B:$S,VLOOKUP(B107,[1]Seznamy!$AZ:$BA,2,0),0)","v":"x"}]
["Competitor","Dřevotrust","TULIP věšák Lugo XL chrom matný + šroubky","Dřevotrust_TULIP věšák Lugo XL chrom matný + šroubky",{"$f":"VLOOKUP(C108,'[1]Competitor''s products_CZ'!$B:$S,VLOOKUP(B108,[1]Seznamy!$AZ:$BA,2,0),0)","v":"https://b2b.drevotrust.cz/ - Article/63674"}]
["Competitor","Dřevotrust","Vrut PZ 4x18 zápustná hlava zinek bílý PZ2","Dřevotrust_Vrut PZ 4x18 zápustná hlava zinek bílý PZ2",{"$f":"VLOOKUP(C109,'[1]Competitor''s products_CZ'!$B:$S,VLOOKUP(B109,[1]Seznamy!$AZ:$BA,2,0),0)","v":"https://b2b.drevotrust.cz/ - Article/115784"}]
["Competitor","Jaf Holz","ABSB 77039/414 W980/500/W954 ST2 23/2","Jaf Holz_ABSB 77039/414 W980/500/W954 ST2 23/2",{"$f":"VLOOKUP(C110,'[1]Competitor''s products_CZ'!$B:$S,VLOOKUP(B110,[1]Seznamy!$AZ:$BA,2,0),0)","v":"https://www.jafholz.cz/shop/Materialy-s-dekorativnim-povrchem/Hrany/abs-hrana-egger-w980-st2-platinove-bila~p53981?decorSurfaceStructureSupplier%5B0%5D=ST2+Smoothtouch+Pear&thickness_from=&technologies%5B0%5D=%24%24EMPTY%24%24&thickness_to=&width_from=&brandName%5B0%5D=%24%24EMPTY%24%24&thickness=2&category=829430&width_to=&width=23"}]
["Competitor","Jaf Holz","ABSB HU10113 Bílá 101/110/113/8100/8685/W954/B3822 PE 22/2","Jaf Holz_ABSB HU10113 Bílá 101/110/113/8100/8685/W954/B3822 PE 22/2",{"$f":"VLOOKUP(C111,'[1]Competitor''s products_CZ'!$B:$S,VLOOKUP(B111,[1]Seznamy!$AZ:$BA,2,0),0)","v":"https://www.jafholz.cz/shop/Materialy-s-dekorativnim-povrchem/Hrany/abs-hrana-0101-0113-w954-1570-8100-pe-bila-perlicka~p2371642?decorSurfaceStructureSupplier%5B0%5D=%24%24EMPTY%24%24&profileProfileType=abs&thickness_from=2&technologies%5B0%5D=%24%24EMPTY%24%24&thickness_to=2&width_from=&brandName%5B0%5D=%24%24EMPTY%24%24&category=829430&width_to=&width=22"}]
["Competitor","Jaf Holz","Alfa II profile 222788","Jaf Holz_Alfa II profile 222788",{"$f":"VLOOKUP(C112,'[1]Competitor''s products_CZ'!$B:$S,VLOOKUP(B112,[1]Seznamy!$AZ:$BA,2,0),0)","v":"x"}]
["Competitor","Jaf Holz","BBP OA Zásuvka 515 mm kovová černá","Jaf Holz_BBP OA Zásuvka 515 mm kovová černá",{"$f":"VLOOKUP(C113,'[1]Competitor''s products_CZ'!$B:$S,VLOOKUP(B113,[1]Seznamy!$AZ:$BA,2,0),0)","v":"x"}]
["Competitor","Jaf Holz","DTDD DUB COMMERCIAL A/B DEC 2800/2070/19","Jaf Holz_DTDD DUB COMMERCIAL A/B DEC 2800/2070/19",{"$f":"VLOOKUP(C114,'[1]Competitor''s products_CZ'!$B:$S,VLOOKUP(B114,[1]Seznamy!$AZ:$BA,2,0),0)","v":"https://www.jafholz.cz/shop/Materialy-s-dekorativnim-povrchem/Dyhovane-desky/Dyhovane-desky/dtd-dyhovana-kaindl-charismo-dub-evropsky-e-friese-fries~p1309855?thickness_from=&boardSpecies%5B0%5D=1646&thickness_to=&length_from=&brandName%5B0%5D=%24%24EMPTY%24%24&length_to=&thickness=19&category=829385&length=2800"}]
["Competitor","Jaf Holz","DTDD Dub evr. radiál st A/B 2800/2070/19","Jaf Holz_DTDD Dub evr. radiál st A/B 2800/2070/19",{"$f":"VLOOKUP(C115,'[1]Competitor''s products_CZ'!$B:$S,VLOOKUP(B115,[1]Seznamy!$AZ:$BA,2,0),0)","v":"https://www.jafholz.cz/shop/Materialy-s-dekorativnim-povrchem/Dyhovane-desky/Dyhovane-desky/dtd-dyhovana-kaindl-charismo-dub-evropsky-e-friese-fries~p1309855?thickness_from=&boardSpecies%5B0%5D=1646&thickness_to=&length_from=&brandName%5B0%5D=%24%24EMPTY%24%24&length_to=&thickness=19&category=829385&length=2800"}]
["Competitor","Jaf Holz","DTDL W980 ST2 Platinově bílá 2800/2070/18","Jaf Holz_DTDL W980 ST2 Platinově bílá 2800/2070/18",{"$f":"VLOOKUP(C116,'[1]Competitor''s products_CZ'!$B:$S,VLOOKUP(B116,[1]Seznamy!$AZ:$BA,2,0),0)","v":"https://www.jafholz.cz/shop/Materialy-s-dekorativnim-povrchem/Lamino-desky-DTDL/lamino-dtdl-egger-w980-st2-platinove-bila~p2204418?decorSurfaceStructureSupplier%5B0%5D=ST2+Smoothtouch+Pear&boardBaseMaterial%5B0%5D=%24%24EMPTY%24%24&thickness_from=&thickness_to=18&technologies%5B0%5D=%24%24EMPTY%24%24&technologies%5B1%5D=%24%24EMPTY%24%24&length_from=&width_from=&thickness=18&brandName%5B0%5D=Egger&length_to=&width_to=&category=829328&length=2800"}]
["Competitor","Jaf Holz","FRANKE Dřez BFG 611-78 780 x 500 onyx","Jaf Holz_FRANKE Dřez BFG 611-78 780 x 500 onyx",{"$f":"VLOOKUP(C117,'[1]Competitor''s products_CZ'!$B:$S,VLOOKUP(B117,[1]Seznamy!$AZ:$BA,2,0),0)","v":"https://www.jafholz.cz/produkty/kovani"}]
["Competitor","Jaf Holz","FRANKE Dřez ETN 610 455 x 435","Jaf Holz_FRANKE Dřez ETN 610 455 x 435",{"$f":"VLOOKUP(C118,'[1]Competitor''s products_CZ'!$B:$S,VLOOKUP(B118,[1]Seznamy!$AZ:$BA,2,0),0)","v":"https://www.jafholz.cz/produkty/kovani"}]
["Competitor","Jaf Holz","FRANKE Dřez ETN 614 6/4 obyčejný ventil bez otvoru","Jaf Holz_FRANKE Dřez ETN 614 6/4 obyčejný ventil bez otvoru",{"$f":"VLOOKUP(C119,'[1]Competitor''s products_CZ'!$B:$S,VLOOKUP(B119,[1]Seznamy!$AZ:$BA,2,0),0)","v":"https://www.jafholz.cz/produkty/kovani"}]
["Competitor","Jaf Holz","GOLLINUCCI Sorter 580 Plus Line, 600 mm, výška 505mm, 80 l, šedý","Jaf Holz_GOLLINUCCI Sorter 580 Plus Line, 600 mm, výška 505mm, 80 l, šedý",{"$f":"VLOOKUP(C120,'[1]Competitor''s products_CZ'!$B:$S,VLOOKUP(B120,[1]Seznamy!$AZ:$BA,2,0),0)","v":"x"}]
["Competitor","Jaf Holz","GOLLINUCCI Sorter Linea 222, 300 mm","Jaf Holz_GOLLINUCCI Sorter Linea 222, 300 mm",{"$f":"VLOOKUP(C121,'[1]Competitor''s products_CZ'!$B:$S,VLOOKUP(B121,[1]Seznamy!$AZ:$BA,2,0),0)","v":"x"}]
["Competitor","Jaf Holz","GOLLINUCCI Sorter Sistema 901/2x16 l, 600 mm","Jaf Holz_GOLLINUCCI Sorter Sistema 901/2x16 l, 600 mm",{"$f":"VLOOKUP(C122,'[1]Competitor''s products_CZ'!$B:$S,VLOOKUP(B122,[1]Seznamy!$AZ:$BA,2,0),0)","v":"x"}]
["Competitor","Jaf Holz","HDF LAK 101 BÍLÁ PE 2800/2070/3","Jaf Holz_HDF LAK 101 BÍLÁ PE 2800/2070/3",{"$f":"VLOOKUP(C123,'[1]Competitor''s products_CZ'!$B:$S,VLOOKUP(B123,[1]Seznamy!$AZ:$BA,2,0),0)","v":"https://www.jafholz.cz/shop/Materialy-s-dekorativnim-povrchem/DVD-a-HDF-lakovane-desky/hdf-jednostranne-lakovana-kronospan-0101-pe-bila~p6767648?decorSurfaceStructureSupplier%5B0%5D=%24%24EMPTY%24%24&thickness_from=&decorDecortype=uni&thickness_to=&width_from=&brandName%5B0%5D=Kronospan&thickness=%24%24EMPTY%24%24&category=829358&width_to="}]
["Competitor","Jaf Holz","Konfirmát 7/50 zinek bílý bulk","Jaf Holz_Konfirmát 7/50 zinek bílý bulk",{"$f":"VLOOKUP(C124,'[1]Competitor''s products_CZ'!$B:$S,VLOOKUP(B124,[1]Seznamy!$AZ:$BA,2,0),0)","v":"https://www.jafholz.cz/shop/Kovani/Spojovaci-kovani--podpery-polic/Spojovaci-kovani-pro-korpusy-a-police/hafele-26443600--konfirmat-sw4-pro-otvor-o-5-mm--zapustna-hlava--sestihran-7x50-mm---pozinkovano--artikl-obsahuje-20-ks~p969804?category=2707179&page=2"}]
["Competitor","Jaf Holz","SEVROLL Era úchytová lišta 18mm 2,70m stříbrná","Jaf Holz_SEVROLL Era úchytová lišta 18mm 2,70m stříbrná",{"$f":"VLOOKUP(C125,'[1]Competitor''s products_CZ'!$B:$S,VLOOKUP(B125,[1]Seznamy!$AZ:$BA,2,0),0)","v":"x"}]
["Competitor","Jaf Holz","Strong electric socket, lift","Jaf Holz_Strong electric socket, lift",{"$f":"VLOOKUP(C126,'[1]Competitor''s products_CZ'!$B:$S,VLOOKUP(B126,[1]Seznamy!$AZ:$BA,2,0),0)","v":"https://www.jafholz.cz/shop/Kovani/Osvetleni/Vypinace-a-zasuvky/hafele-83353300--zasuvkovy-prvek-zapustny-se-3-zasuvkami-schuko-a-2-pripojkami-usb--se-samostatnym-hlavnim-vypinacem-napajeni--230v--stribrnacerna~p970289?category=2706863"}]
["Competitor","Jaf Holz","STRONG Elektrická zásuvka 3x230V, francouzský typ, 265x130x68 mm stříbrná","Jaf Holz_STRONG Elektrická zásuvka 3x230V, francouzský typ, 265x130x68 mm stříbrná",{"$f":"VLOOKUP(C127,'[1]Competitor''s products_CZ'!$B:$S,VLOOKUP(B127,[1]Seznamy!$AZ:$BA,2,0),0)","v":"x"}]
["Competitor","Jaf Holz","STRONG Elektricky stavitelná podnož černá RAL 9005 mat","Jaf Holz_STRONG Elektricky stavitelná podnož černá RAL 9005 mat",{"$f":"VLOOKUP(C128,'[1]Competitor''s products_CZ'!$B:$S,VLOOKUP(B128,[1]Seznamy!$AZ:$BA,2,0),0)","v":"x"}]
["Competitor","Jaf Holz","STRONG LED pásek 21,6W/m 24V bílá neutrální 210 LED/m","Jaf Holz_STRONG LED pásek 21,6W/m 24V bílá neutrální 210 LED/m",{"$f":"VLOOKUP(C129,'[1]Competitor''s products_CZ'!$B:$S,VLOOKUP(B129,[1]Seznamy!$AZ:$BA,2,0),0)","v":"Varianta1"}]
["Competitor","Jaf Holz","STRONG plus závěs naložený s tlumením, s excentrem, klipový",{"$f":"CONCATENATE(B130,\"_\",C130)","v":"Jaf Holz_STRONG plus závěs naložený s tlumením, s excentrem, klipový"},{"$f":"VLOOKUP(C130,'[1]Competitor''s products_CZ'!$B:$S,VLOOKUP(B130,[1]Seznamy!$AZ:$BA,2,0),0)","v":"https://www.jafholz.cz/shop/Kovani/Zavesy-nabytkove--specialni/Miskove-zavesy/hafele-31160525--nabytkovy-zaves-pro-drevene-dvere---metalla-sm-kombi-110deg-nalozeny--na-klip--s-tlumenim--486-mm~p1141898?fittingHingeConcealedHinge=fittingHingeConcealedHinge1&fittingCupAssembly=%24%24EMPTY%24%24&fittingPosition=fittingPosition2&fittingAssembly=fittingAssembly14&brandName=H%C3%A4fele&category=2707242"}]
["Competitor","Jaf Holz","STRONG Rektifikační nožka 100 mm","Jaf Holz_STRONG Rektifikační nožka 100 mm",{"$f":"VLOOKUP(C131,'[1]Competitor''s products_CZ'!$B:$S,VLOOKUP(B131,[1]Seznamy!$AZ:$BA,2,0),0)","v":"https://www.jafholz.cz/shop/Kovani/Stolove-kovani--stolove-podnozi--nabytkove-nohy--kolecka/Serizeni-soklu/hafele-63717303--soklove-nohy-plastove--vyska-100-mm--cerna~p969550?category=2707140"}]
["Competitor","Jaf Holz","STRONG Stolová noha centrální 450x450 černá","Jaf Holz_STRONG Stolová noha centrální 450x450 černá",{"$f":"VLOOKUP(C132,'[1]Competitor''s products_CZ'!$B:$S,VLOOKUP(B132,[1]Seznamy!$AZ:$BA,2,0),0)","v":"x"}]
["Competitor","Jaf Holz","STRONG transformátor plochý LED 24V 100W","Jaf Holz_STRONG transformátor plochý LED 24V 100W",{"$f":"VLOOKUP(C133,'[1]Competitor''s products_CZ'!$B:$S,VLOOKUP(B133,[1]Seznamy!$AZ:$BA,2,0),0)","v":"Varianta1"}]
["Competitor","Jaf Holz","STRONG závěs naložený, slide on","Jaf Holz_STRONG závěs naložený, slide on",{"$f":"VLOOKUP(C134,'[1]Competitor''s products_CZ'!$B:$S,VLOOKUP(B134,[1]Seznamy!$AZ:$BA,2,0),0)","v":"https://www.jafholz.cz/shop/Kovani/Zavesy-nabytkove--specialni/Miskove-zavesy/hafele-31190500--nabytkovy-zaves-pro-drevene-dvere---metalla-a-110deg-nalozeny--k-nasunuti--bez-tlumeni--486-mm~p970548?fittingHingeConcealedHinge=fittingHingeConcealedHinge1&fittingCupAssembly=%24%24EMPTY%24%24&fittingPosition=fittingPosition2&fittingAssembly=fittingAssembly2&brandName=H%C3%A4fele&category=2707242"}]
["Competitor","Jaf Holz","StrongBox H86/500mm bílý","Jaf Holz_StrongBox H86/500mm bílý",{"$f":"VLOOKUP(C135,'[1]Competitor''s products_CZ'!$B:$S,VLOOKUP(B135,[1]Seznamy!$AZ:$BA,2,0),0)","v":"https://www.jafholz.cz/shop/Kovani/Zasuvkove-systemy--vysuvy-pro-skrine/Box-systemy/hafele-55256795--vysuv-matrix-box-s35--84x500-mm--bila--set~p5480110?brandName=H%C3%A4fele&category=3199536"}]
["Competitor","Jaf Holz","StrongMax 89/500 mm šedý (antracit)","Jaf Holz_StrongMax 89/500 mm šedý (antracit)",{"$f":"VLOOKUP(C136,'[1]Competitor''s products_CZ'!$B:$S,VLOOKUP(B136,[1]Seznamy!$AZ:$BA,2,0),0)","v":"x"}]
["Competitor","Jaf Holz","StrongRide synchro 3D celovýsuv 500 mm s tlumením","Jaf Holz_StrongRide synchro 3D celovýsuv 500 mm s tlumením",{"$f":"VLOOKUP(C137,'[1]Competitor''s products_CZ'!$B:$S,VLOOKUP(B137,[1]Seznamy!$AZ:$BA,2,0),0)","v":"x"}]
["Competitor","Jaf Holz","TULIP Gola dvířkový J profil 4,1m eloxovaný hliník","Jaf Holz_TULIP Gola dvířkový J profil 4,1m eloxovaný hliník",{"$f":"VLOOKUP(C138,'[1]Competitor''s products_CZ'!$B:$S,VLOOKUP(B138,[1]Seznamy!$AZ:$BA,2,0),0)","v":"x"}]
["Competitor","Jaf Holz","TULIP úchytka Anita 96 nikl matný + šroubky","Jaf Holz_TULIP úchytka Anita 96 nikl matný + šroubky",{"$f":"VLOOKUP(C139,'[1]Competitor''s products_CZ'!$B:$S,VLOOKUP(B139,[1]Seznamy!$AZ:$BA,2,0),0)","v":"x"}]
["Competitor","Jaf Holz","TULIP Úchytka Lucata 160 černá matná","Jaf Holz_TULIP Úchytka Lucata 160 černá matná",{"$f":"VLOOKUP(C140,'[1]Competitor''s products_CZ'!$B:$S,VLOOKUP(B140,[1]Seznamy!$AZ:$BA,2,0),0)","v":"x"}]
["Competitor","Jaf Holz","TULIP úchytka Nakana 128 chrom matný + šroubky","Jaf Holz_TULIP úchytka Nakana 128 chrom matný + šroubky",{"$f":"VLOOKUP(C141,'[1]Competitor''s products_CZ'!$B:$S,VLOOKUP(B141,[1]Seznamy!$AZ:$BA,2,0),0)","v":"https://www.jafholz.cz/shop/Kovani/Nabytkove-uchytky--vesaky/Nabytkove-uchytky/hafele-10979261--nabytkova-uchytka-157x26-mm--odlitek-ze-zinku--chrom-lesk~p1535564?fittingHoleDistance=fittingHoleDistance3&fittingSurface=%24%24EMPTY%24%24&category=2706933&page=1"}]
["Competitor","Jaf Holz","TULIP úchytka Piombina 96 nikl matný + šroubky","Jaf Holz_TULIP úchytka Piombina 96 nikl matný + šroubky",{"$f":"VLOOKUP(C142,'[1]Competitor''s products_CZ'!$B:$S,VLOOKUP(B142,[1]Seznamy!$AZ:$BA,2,0),0)","v":"x"}]
["Competitor","Jaf Holz","TULIP Úchytka Ramara 596 imitace nerezi","Jaf Holz_TULIP Úchytka Ramara 596 imitace nerezi",{"$f":"VLOOKUP(C143,'[1]Competitor''s products_CZ'!$B:$S,VLOOKUP(B143,[1]Seznamy!$AZ:$BA,2,0),0)","v":"x"}]
["Competitor","Jaf Holz","TULIP věšák Lugo XL chrom matný + šroubky","Jaf Holz_TULIP věšák Lugo XL chrom matný + šroubky",{"$f":"VLOOKUP(C144,'[1]Competitor''s products_CZ'!$B:$S,VLOOKUP(B144,[1]Seznamy!$AZ:$BA,2,0),0)","v":"https://www.jafholz.cz/shop/Kovani/Nabytkove-uchytky--vesaky/Satni-vesaky/hafele-88505401--satni-vesak-77x77x123-mm--odlitek-ze-zinku--matny-chrom~p1118649?category=2706960"}]
["Competitor","Jaf Holz","Vrut PZ 4x18 zápustná hlava zinek bílý PZ2","Jaf Holz_Vrut PZ 4x18 zápustná hlava zinek bílý PZ2",{"$f":"VLOOKUP(C145,'[1]Competitor''s products_CZ'!$B:$S,VLOOKUP(B145,[1]Seznamy!$AZ:$BA,2,0),0)","v":"https://www.jafholz.cz/shop/Kovani/Montazni-pomucky--upevnovaci-material/Upevnovaci-srouby/hafele-01800115--vrut-do-drevotrisky-spax-pz2--plny-zavit--4x17-mm--pozink--artikl-obsahuje-50-ks~p6385068?fittingThreadDiameter=4&fittingThreadType=fittingThreadType2&fittingHeadShape=fittingHeadShape5&fittingLength=17.00&category=2706825"}]
["Competitor","Nábytkár","ABSB 77039/414 W980/500/W954 ST2 23/2","Nábytkár_ABSB 77039/414 W980/500/W954 ST2 23/2",{"$f":"VLOOKUP(C146,'[1]Competitor''s products_CZ'!$B:$S,VLOOKUP(B146,[1]Seznamy!$AZ:$BA,2,0),0)","v":"x"}]
["Competitor","Nábytkár","ABSB HU10113 Bílá 101/110/113/8100/8685/W954/B3822 PE 22/2","Nábytkár_ABSB HU10113 Bílá 101/110/113/8100/8685/W954/B3822 PE 22/2",{"$f":"VLOOKUP(C147,'[1]Competitor''s products_CZ'!$B:$S,VLOOKUP(B147,[1]Seznamy!$AZ:$BA,2,0),0)","v":"x"}]
["Competitor","Nábytkár","Alfa II profile 222788","Nábytkár_Alfa II profile 222788",{"$f":"VLOOKUP(C148,'[1]Competitor''s products_CZ'!$B:$S,VLOOKUP(B148,[1]Seznamy!$AZ:$BA,2,0),0)","v":0}]
["Competitor","Nábytkár","BBP OA Zásuvka 515 mm kovová černá","Nábytkár_BBP OA Zásuvka 515 mm kovová černá",{"$f":"VLOOKUP(C149,'[1]Competitor''s products_CZ'!$B:$S,VLOOKUP(B149,[1]Seznamy!$AZ:$BA,2,0),0)","v":"x"}]
["Competitor","Nábytkár","DTDD DUB COMMERCIAL A/B DEC 2800/2070/19","Nábytkár_DTDD DUB COMMERCIAL A/B DEC 2800/2070/19",{"$f":"VLOOKUP(C150,'[1]Competitor''s products_CZ'!$B:$S,VLOOKUP(B150,[1]Seznamy!$AZ:$BA,2,0),0)","v":"x"}]
["Competitor","Nábytkár","DTDD Dub evr. radiál st A/B 2800/2070/19","Nábytkár_DTDD Dub evr. radiál st A/B 2800/2070/19",{"$f":"VLOOKUP(C151,'[1]Competitor''s products_CZ'!$B:$S,VLOOKUP(B151,[1]Seznamy!$AZ:$BA,2,0),0)","v":"x"}]
["Competitor","Nábytkár","DTDL W980 ST2 Platinově bílá 2800/2070/18","Nábytkár_DTDL W980 ST2 Platinově bílá 2800/2070/18",{"$f":"VLOOKUP(C152,'[1]Competitor''s products_CZ'!$B:$S,VLOOKUP(B152,[1]Seznamy!$AZ:$BA,2,0),0)","v":"x"}]
["Competitor","Nábytkár","FRANKE Dřez BFG 611-78 780 x 500 onyx","Nábytkár_FRANKE Dřez BFG 611-78 780 x 500 onyx",{"$f":"VLOOKUP(C153,'[1]Competitor''s products_CZ'!$B:$S,VLOOKUP(B153,[1]Seznamy!$AZ:$BA,2,0),0)","v":"https://eshop.nabytkar.sk/zbozi/780590"}]
["Competitor","Nábytkár","FRANKE Dřez ETN 610 455 x 435","Nábytkár_FRANKE Dřez ETN 610 455 x 435",{"$f":"VLOOKUP(C154,'[1]Competitor''s products_CZ'!$B:$S,VLOOKUP(B154,[1]Seznamy!$AZ:$BA,2,0),0)","v":"x"}]
["Competitor","Nábytkár","FRANKE Dřez ETN 614 6/4 obyčejný ventil bez otvoru","Nábytkár_FRANKE Dřez ETN 614 6/4 obyčejný ventil bez otvoru",{"$f":"VLOOKUP(C155,'[1]Competitor''s products_CZ'!$B:$S,VLOOKUP(B155,[1]Seznamy!$AZ:$BA,2,0),0)","v":"https://eshop.nabytkar.com/zbozi/vybavenie-kuchyn/c05-drezy-a-baterie/nerezove-drezy/880291"}]
["Competitor","Nábytkár","GOLLINUCCI Sorter 580 Plus Line, 600 mm, výška 505mm, 80 l, šedý","Nábytkár_GOLLINUCCI Sorter 580 Plus Line, 600 mm, výška 505mm, 80 l, šedý",{"$f":"VLOOKUP(C156,'[1]Competitor''s products_CZ'!$B:$S,VLOOKUP(B156,[1]Seznamy!$AZ:$BA,2,0),0)","v":"x"}]
["Competitor","Nábytkár","GOLLINUCCI Sorter Linea 222, 300 mm","Nábytkár_GOLLINUCCI Sorter Linea 222, 300 mm",{"$f":"VLOOKUP(C157,'[1]Competitor''s products_CZ'!$B:$S,VLOOKUP(B157,[1]Seznamy!$AZ:$BA,2,0),0)","v":"https://eshop.nabytkar.sk/zbozi/775649"}]
["Competitor","Nábytkár","GOLLINUCCI Sorter Sistema 901/2x16 l, 600 mm","Nábytkár_GOLLINUCCI Sorter Sistema 901/2x16 l, 600 mm",{"$f":"VLOOKUP(C158,'[1]Competitor''s products_CZ'!$B:$S,VLOOKUP(B158,[1]Seznamy!$AZ:$BA,2,0),0)","v":"https://eshop.nabytkar.sk/zbozi/789025"}]
["Competitor","Nábytkár","HDF LAK 101 BÍLÁ PE 2800/2070/3","Nábytkár_HDF LAK 101 BÍLÁ PE 2800/2070/3",{"$f":"VLOOKUP(C159,'[1]Competitor''s products_CZ'!$B:$S,VLOOKUP(B159,[1]Seznamy!$AZ:$BA,2,0),0)","v":"x"}]
["Competitor","Nábytkár","Konfirmát 7/50 zinek bílý bulk","Nábytkár_Konfirmát 7/50 zinek bílý bulk",{"$f":"VLOOKUP(C160,'[1]Competitor''s products_CZ'!$B:$S,VLOOKUP(B160,[1]Seznamy!$AZ:$BA,2,0),0)","v":"https://eshop.nabytkar.sk/zbozi/776156"}]
["Competitor","Nábytkár","SEVROLL Era úchytová lišta 18mm 2,70m stříbrná","Nábytkár_SEVROLL Era úchytová lišta 18mm 2,70m stříbrná",{"$f":"VLOOKUP(C161,'[1]Competitor''s products_CZ'!$B:$S,VLOOKUP(B161,[1]Seznamy!$AZ:$BA,2,0),0)","v":0}]
["Competitor","Nábytkár","Strong electric socket, lift","Nábytkár_Strong electric socket, lift",{"$f":"VLOOKUP(C162,'[1]Competitor''s products_CZ'!$B:$S,VLOOKUP(B162,[1]Seznamy!$AZ:$BA,2,0),0)","v":"https://eshop.nabytkar.sk/zbozi/788166"}]
["Competitor","Nábytkár","STRONG Elektrická zásuvka 3x230V, francouzský typ, 265x130x68 mm stříbrná","Nábytkár_STRONG Elektrická zásuvka 3x230V, francouzský typ, 265x130x68 mm stříbrná",{"$f":"VLOOKUP(C163,'[1]Competitor''s products_CZ'!$B:$S,VLOOKUP(B163,[1]Seznamy!$AZ:$BA,2,0),0)","v":"https://eshop.nabytkar.sk/zbozi/784571"}]
["Competitor","Nábytkár","STRONG Elektricky stavitelná podnož černá RAL 9005 mat","Nábytkár_STRONG Elektricky stavitelná podnož černá RAL 9005 mat",{"$f":"VLOOKUP(C164,'[1]Competitor''s products_CZ'!$B:$S,VLOOKUP(B164,[1]Seznamy!$AZ:$BA,2,0),0)","v":"https://eshop.nabytkar.sk/zbozi/789840"}]
["Competitor","Nábytkár","STRONG LED pásek 21,6W/m 24V bílá neutrální 210 LED/m","Nábytkár_STRONG LED pásek 21,6W/m 24V bílá neutrální 210 LED/m",{"$f":"VLOOKUP(C165,'[1]Competitor''s products_CZ'!$B:$S,VLOOKUP(B165,[1]Seznamy!$AZ:$BA,2,0),0)","v":"Výběr"}]
["Competitor","Nábytkár","STRONG plus závěs naložený s tlumením, s excentrem, klipový","Nábytkár_STRONG plus závěs naložený s tlumením, s excentrem, klipový",{"$f":"VLOOKUP(C166,'[1]Competitor''s products_CZ'!$B:$S,VLOOKUP(B166,[1]Seznamy!$AZ:$BA,2,0),0)","v":"https://eshop.nabytkar.com/zbozi/dynamicke-kovani/a01-zavesy/781968"}]
["Competitor","Nábytkár","STRONG Rektifikační nožka 100 mm","Nábytkár_STRONG Rektifikační nožka 100 mm",{"$f":"VLOOKUP(C167,'[1]Competitor''s products_CZ'!$B:$S,VLOOKUP(B167,[1]Seznamy!$AZ:$BA,2,0),0)","v":"https://eshop.nabytkar.sk/zbozi/776105"}]
["Competitor","Nábytkár","STRONG Stolová noha centrální 450x450 černá","Nábytkár_STRONG Stolová noha centrální 450x450 černá",{"$f":"VLOOKUP(C168,'[1]Competitor''s products_CZ'!$B:$S,VLOOKUP(B168,[1]Seznamy!$AZ:$BA,2,0),0)","v":"https://eshop.nabytkar.sk/zbozi/786167"}]
["Competitor","Nábytkár","STRONG transformátor plochý LED 24V 100W","Nábytkár_STRONG transformátor plochý LED 24V 100W",{"$f":"VLOOKUP(C169,'[1]Competitor''s products_CZ'!$B:$S,VLOOKUP(B169,[1]Seznamy!$AZ:$BA,2,0),0)","v":"výběr"}]
["Competitor","Nábytkár","STRONG závěs naložený, slide on","Nábytkár_STRONG závěs naložený, slide on",{"$f":"VLOOKUP(C170,'[1]Competitor''s products_CZ'!$B:$S,VLOOKUP(B170,[1]Seznamy!$AZ:$BA,2,0),0)","v":"https://eshop.nabytkar.sk/zbozi/776409"}]
["Competitor","Nábytkár","StrongBox H86/500mm bílý","Nábytkár_StrongBox H86/500mm bílý",{"$f":"VLOOKUP(C171,'[1]Competitor''s products_CZ'!$B:$S,VLOOKUP(B171,[1]Seznamy!$AZ:$BA,2,0),0)","v":"https://eshop.nabytkar.com/zbozi/dynamicke-kovanie/a03-vysuvy/788289"}]
["Competitor","Nábytkár","StrongMax 89/500 mm šedý (antracit)","Nábytkár_StrongMax 89/500 mm šedý (antracit)",{"$f":"VLOOKUP(C172,'[1]Competitor''s products_CZ'!$B:$S,VLOOKUP(B172,[1]Seznamy!$AZ:$BA,2,0),0)","v":"https://eshop.nabytkar.com/zbozi/780232"}]
["Competitor","Nábytkár","StrongRide synchro 3D celovýsuv 500 mm s tlumením","Nábytkár_StrongRide synchro 3D celovýsuv 500 mm s tlumením",{"$f":"VLOOKUP(C173,'[1]Competitor''s products_CZ'!$B:$S,VLOOKUP(B173,[1]Seznamy!$AZ:$BA,2,0),0)","v":"https://eshop.nabytkar.com/zbozi/dynamicke-kovanie/a03-vysuvy/skryte-plnovysuvy/775771"}]
["Competitor","Nábytkár","TULIP Gola dvířkový J profil 4,1m eloxovaný hliník","Nábytkár_TULIP Gola dvířkový J profil 4,1m eloxovaný hliník",{"$f":"VLOOKUP(C174,'[1]Competitor''s products_CZ'!$B:$S,VLOOKUP(B174,[1]Seznamy!$AZ:$BA,2,0),0)","v":"x"}]
["Competitor","Nábytkár","TULIP úchytka Anita 96 nikl matný + šroubky","Nábytkár_TULIP úchytka Anita 96 nikl matný + šroubky",{"$f":"VLOOKUP(C175,'[1]Competitor''s products_CZ'!$B:$S,VLOOKUP(B175,[1]Seznamy!$AZ:$BA,2,0),0)","v":"x"}]
["Competitor","Nábytkár","TULIP Úchytka Lucata 160 černá matná","Nábytkár_TULIP Úchytka Lucata 160 černá matná",{"$f":"VLOOKUP(C176,'[1]Competitor''s products_CZ'!$B:$S,VLOOKUP(B176,[1]Seznamy!$AZ:$BA,2,0),0)","v":"https://eshop.nabytkar.sk/zbozi/779661"}]
["Competitor","Nábytkár","TULIP úchytka Nakana 128 chrom matný + šroubky","Nábytkár_TULIP úchytka Nakana 128 chrom matný + šroubky",{"$f":"VLOOKUP(C177,'[1]Competitor''s products_CZ'!$B:$S,VLOOKUP(B177,[1]Seznamy!$AZ:$BA,2,0),0)","v":"x"}]
["Competitor","Nábytkár","TULIP úchytka Piombina 96 nikl matný + šroubky","Nábytkár_TULIP úchytka Piombina 96 nikl matný + šroubky",{"$f":"VLOOKUP(C178,'[1]Competitor''s products_CZ'!$B:$S,VLOOKUP(B178,[1]Seznamy!$AZ:$BA,2,0),0)","v":"x"}]
["Competitor","Nábytkár","TULIP Úchytka Ramara 596 imitace nerezi","Nábytkár_TULIP Úchytka Ramara 596 imitace nerezi",{"$f":"VLOOKUP(C179,'[1]Competitor''s products_CZ'!$B:$S,VLOOKUP(B179,[1]Seznamy!$AZ:$BA,2,0),0)","v":"https://eshop.nabytkar.sk/zbozi/776030"}]
["Competitor","Nábytkár","TULIP věšák Lugo XL chrom matný + šroubky","Nábytkár_TULIP věšák Lugo XL chrom matný + šroubky",{"$f":"VLOOKUP(C180,'[1]Competitor''s products_CZ'!$B:$S,VLOOKUP(B180,[1]Seznamy!$AZ:$BA,2,0),0)","v":"https://eshop.nabytkar.sk/zbozi/776051"}]
["Competitor","Nábytkár","Vrut PZ 4x18 zápustná hlava zinek bílý PZ2","Nábytkár_Vrut PZ 4x18 zápustná hlava zinek bílý PZ2",{"$f":"VLOOKUP(C181,'[1]Competitor''s products_CZ'!$B:$S,VLOOKUP(B181,[1]Seznamy!$AZ:$BA,2,0),0)","v":"x"}]
["Competitor","TWD","ABSB 77039/414 W980/500/W954 ST2 23/2","TWD_ABSB 77039/414 W980/500/W954 ST2 23/2",{"$f":"VLOOKUP(C182,'[1]Competitor''s products_CZ'!$B:$S,VLOOKUP(B182,[1]Seznamy!$AZ:$BA,2,0),0)","v":"x"}]
["Competitor","TWD","ABSB HU10113 Bílá 101/110/113/8100/8685/W954/B3822 PE 22/2","TWD_ABSB HU10113 Bílá 101/110/113/8100/8685/W954/B3822 PE 22/2",{"$f":"VLOOKUP(C183,'[1]Competitor''s products_CZ'!$B:$S,VLOOKUP(B183,[1]Seznamy!$AZ:$BA,2,0),0)","v":"x"}]
["Competitor","TWD","Alfa II profile 222788","TWD_Alfa II profile 222788",{"$f":"VLOOKUP(C184,'[1]Competitor''s products_CZ'!$B:$S,VLOOKUP(B184,[1]Seznamy!$AZ:$BA,2,0),0)","v":0}]
["Competitor","TWD","BBP OA Zásuvka 515 mm kovová černá","TWD_BBP OA Zásuvka 515 mm kovová černá",{"$f":"VLOOKUP(C185,'[1]Competitor''s products_CZ'!$B:$S,VLOOKUP(B185,[1]Seznamy!$AZ:$BA,2,0),0)","v":"x"}]
["Competitor","TWD","DTDD DUB COMMERCIAL A/B DEC 2800/2070/19","TWD_DTDD DUB COMMERCIAL A/B DEC 2800/2070/19",{"$f":"VLOOKUP(C186,'[1]Competitor''s products_CZ'!$B:$S,VLOOKUP(B186,[1]Seznamy!$AZ:$BA,2,0),0)","v":"x"}]
["Competitor","TWD","DTDD Dub evr. radiál st A/B 2800/2070/19","TWD_DTDD Dub evr. radiál st A/B 2800/2070/19",{"$f":"VLOOKUP(C187,'[1]Competitor''s products_CZ'!$B:$S,VLOOKUP(B187,[1]Seznamy!$AZ:$BA,2,0),0)","v":"x"}]
["Competitor","TWD","DTDL W980 ST2 Platinově bílá 2800/2070/18","TWD_DTDL W980 ST2 Platinově bílá 2800/2070/18",{"$f":"VLOOKUP(C188,'[1]Competitor''s products_CZ'!$B:$S,VLOOKUP(B188,[1]Seznamy!$AZ:$BA,2,0),0)","v":"x"}]
["Competitor","TWD","FRANKE Dřez BFG 611-78 780 x 500 onyx","TWD_FRANKE Dřez BFG 611-78 780 x 500 onyx",{"$f":"VLOOKUP(C189,'[1]Competitor''s products_CZ'!$B:$S,VLOOKUP(B189,[1]Seznamy!$AZ:$BA,2,0),0)","v":"x"}]
["Competitor","TWD","FRANKE Dřez ETN 610 455 x 435","TWD_FRANKE Dřez ETN 610 455 x 435",{"$f":"VLOOKUP(C190,'[1]Competitor''s products_CZ'!$B:$S,VLOOKUP(B190,[1]Seznamy!$AZ:$BA,2,0),0)","v":"x"}]
["Competitor","TWD","FRANKE Dřez ETN 614 6/4 obyčejný ventil bez otvoru","TWD_FRANKE Dřez ETN 614 6/4 obyčejný ventil bez otvoru",{"$f":"VLOOKUP(C191,'[1]Competitor''s products_CZ'!$B:$S,VLOOKUP(B191,[1]Seznamy!$AZ:$BA,2,0),0)","v":"x"}]
["Competitor","TWD","GOLLINUCCI Sorter 580 Plus Line, 600 mm, výška 505mm, 80 l, šedý","TWD_GOLLINUCCI Sorter 580 Plus Line, 600 mm, výška 505mm, 80 l, šedý",{"$f":"VLOOKUP(C192,'[1]Competitor''s products_CZ'!$B:$S,VLOOKUP(B192,[1]Seznamy!$AZ:$BA,2,0),0)","v":"x"}]
["Competitor","TWD","GOLLINUCCI Sorter Linea 222, 300 mm","TWD_GOLLINUCCI Sorter Linea 222, 300 mm",{"$f":"VLOOKUP(C193,'[1]Competitor''s products_CZ'!$B:$S,VLOOKUP(B193,[1]Seznamy!$AZ:$BA,2,0),0)","v":"https://eshop.twd.sk/produkt/kose-odpadkove/kose-s-vysuvom/smetny-k-s-291-tmavosivy/64723"}]
["Competitor","TWD","GOLLINUCCI Sorter Sistema 901/2x16 l, 600 mm",{"$f":"CONCATENATE(B194,\"_\",C194)","v":"TWD_GOLLINUCCI Sorter Sistema 901/2x16 l, 600 mm"},{"$f":"VLOOKUP(C194,'[1]Competitor''s products_CZ'!$B:$S,VLOOKUP(B194,[1]Seznamy!$AZ:$BA,2,0),0)","v":"x"}]
["Competitor","TWD","HDF LAK 101 BÍLÁ PE 2800/2070/3","TWD_HDF LAK 101 BÍLÁ PE 2800/2070/3",{"$f":"VLOOKUP(C195,'[1]Competitor''s products_CZ'!$B:$S,VLOOKUP(B195,[1]Seznamy!$AZ:$BA,2,0),0)","v":"https://eshop.twd.sk/produkt/velkoplosny-material/hdf/hdf-biela/21147"}]
["Competitor","TWD","Konfirmát 7/50 zinek bílý bulk","TWD_Konfirmát 7/50 zinek bílý bulk",{"$f":"VLOOKUP(C196,'[1]Competitor''s products_CZ'!$B:$S,VLOOKUP(B196,[1]Seznamy!$AZ:$BA,2,0),0)","v":"https://eshop.twd.sk/produkt/spojovacie-kovanie/konfirmaty/konfirmat-7-0-50-sw4-zcr/2502"}]
["Competitor","TWD","SEVROLL Era úchytová lišta 18mm 2,70m stříbrná","TWD_SEVROLL Era úchytová lišta 18mm 2,70m stříbrná",{"$f":"VLOOKUP(C197,'[1]Competitor''s products_CZ'!$B:$S,VLOOKUP(B197,[1]Seznamy!$AZ:$BA,2,0),0)","v":0}]
["Competitor","TWD","Strong electric socket, lift","TWD_Strong electric socket, lift",{"$f":"VLOOKUP(C198,'[1]Competitor''s products_CZ'!$B:$S,VLOOKUP(B198,[1]Seznamy!$AZ:$BA,2,0),0)","v":"x"}]
["Competitor","TWD","STRONG Elektrická zásuvka 3x230V, francouzský typ, 265x130x68 mm stříbrná","TWD_STRONG Elektrická zásuvka 3x230V, francouzský typ, 265x130x68 mm stříbrná",{"$f":"VLOOKUP(C199,'[1]Competitor''s products_CZ'!$B:$S,VLOOKUP(B199,[1]Seznamy!$AZ:$BA,2,0),0)","v":"x"}]
["Competitor","TWD","STRONG Elektricky stavitelná podnož černá RAL 9005 mat","TWD_STRONG Elektricky stavitelná podnož černá RAL 9005 mat",{"$f":"VLOOKUP(C200,'[1]Competitor''s products_CZ'!$B:$S,VLOOKUP(B200,[1]Seznamy!$AZ:$BA,2,0),0)","v":"x"}]
["Competitor","TWD","STRONG LED pásek 21,6W/m 24V bílá neutrální 210 LED/m","TWD_STRONG LED pásek 21,6W/m 24V bílá neutrální 210 LED/m",{"$f":"VLOOKUP(C201,'[1]Competitor''s products_CZ'!$B:$S,VLOOKUP(B201,[1]Seznamy!$AZ:$BA,2,0),0)","v":"výběr"}]
["Competitor","TWD","STRONG plus závěs naložený s tlumením, s excentrem, klipový","TWD_STRONG plus závěs naložený s tlumením, s excentrem, klipový",{"$f":"VLOOKUP(C202,'[1]Competitor''s products_CZ'!$B:$S,VLOOKUP(B202,[1]Seznamy!$AZ:$BA,2,0),0)","v":"https://eshop.twd.sk/produkt/zavesy-nabytkove/nalozene/blum-71t3550-zaves-clip-top-nalozeny-s-perom-110/44163"}]
["Competitor","TWD","STRONG Rektifikační nožka 100 mm","TWD_STRONG Rektifikační nožka 100 mm",{"$f":"VLOOKUP(C203,'[1]Competitor''s products_CZ'!$B:$S,VLOOKUP(B203,[1]Seznamy!$AZ:$BA,2,0),0)","v":"https://eshop.twd.sk/produkt/nohy-podnoze-kolieska/nabytkove-nozicky/noha-nab-100mm-plast-cierna/41763"}]
["Competitor","TWD","STRONG Stolová noha centrální 450x450 černá","TWD_STRONG Stolová noha centrální 450x450 černá",{"$f":"VLOOKUP(C204,'[1]Competitor''s products_CZ'!$B:$S,VLOOKUP(B204,[1]Seznamy!$AZ:$BA,2,0),0)","v":"x"}]
["Competitor","TWD","STRONG transformátor plochý LED 24V 100W","TWD_STRONG transformátor plochý LED 24V 100W",{"$f":"VLOOKUP(C205,'[1]Competitor''s products_CZ'!$B:$S,VLOOKUP(B205,[1]Seznamy!$AZ:$BA,2,0),0)","v":"výběr"}]
["Competitor","TWD","STRONG závěs naložený, slide on","TWD_STRONG závěs naložený, slide on",{"$f":"VLOOKUP(C206,'[1]Competitor''s products_CZ'!$B:$S,VLOOKUP(B206,[1]Seznamy!$AZ:$BA,2,0),0)","v":"https://eshop.twd.sk/produkt/zavesy-nabytkove/nalozene/zaves-nk-metalamat-110st-nikel-nalozeny-311-90-500/29977"}]
["Competitor","TWD","StrongBox H86/500mm bílý","TWD_StrongBox H86/500mm bílý",{"$f":"VLOOKUP(C207,'[1]Competitor''s products_CZ'!$B:$S,VLOOKUP(B207,[1]Seznamy!$AZ:$BA,2,0),0)","v":"x"}]
["Competitor","TWD","StrongMax 89/500 mm šedý (antracit)","TWD_StrongMax 89/500 mm šedý (antracit)",{"$f":"VLOOKUP(C208,'[1]Competitor''s products_CZ'!$B:$S,VLOOKUP(B208,[1]Seznamy!$AZ:$BA,2,0),0)","v":"x"}]
["Competitor","TWD","StrongRide synchro 3D celovýsuv 500 mm s tlumením","TWD_StrongRide synchro 3D celovýsuv 500 mm s tlumením",{"$f":"VLOOKUP(C209,'[1]Competitor''s products_CZ'!$B:$S,VLOOKUP(B209,[1]Seznamy!$AZ:$BA,2,0),0)","v":"x"}]
["Competitor","TWD","TULIP Gola dvířkový J profil 4,1m eloxovaný hliník","TWD_TULIP Gola dvířkový J profil 4,1m eloxovaný hliník",{"$f":"VLOOKUP(C210,'[1]Competitor''s products_CZ'!$B:$S,VLOOKUP(B210,[1]Seznamy!$AZ:$BA,2,0),0)","v":0}]
["Competitor","TWD","TULIP úchytka Anita 96 nikl matný + šroubky","TWD_TULIP úchytka Anita 96 nikl matný + šroubky",{"$f":"VLOOKUP(C211,'[1]Competitor''s products_CZ'!$B:$S,VLOOKUP(B211,[1]Seznamy!$AZ:$BA,2,0),0)","v":"x"}]
["Competitor","TWD","TULIP Úchytka Lucata 160 černá matná","TWD_TULIP Úchytka Lucata 160 černá matná",{"$f":"VLOOKUP(C212,'[1]Competitor''s products_CZ'!$B:$S,VLOOKUP(B212,[1]Seznamy!$AZ:$BA,2,0),0)","v":"x"}]
["Competitor","TWD","TULIP úchytka Nakana 128 chrom matný + šroubky","TWD_TULIP úchytka Nakana 128 chrom matný + šroubky",{"$f":"VLOOKUP(C213,'[1]Competitor''s products_CZ'!$B:$S,VLOOKUP(B213,[1]Seznamy!$AZ:$BA,2,0),0)","v":"x"}]
["Competitor","TWD","TULIP úchytka Piombina 96 nikl matný + šroubky","TWD_TULIP úchytka Piombina 96 nikl matný + šroubky",{"$f":"VLOOKUP(C214,'[1]Competitor''s products_CZ'!$B:$S,VLOOKUP(B214,[1]Seznamy!$AZ:$BA,2,0),0)","v":"x"}]
["Competitor","TWD","TULIP Úchytka Ramara 596 imitace nerezi","TWD_TULIP Úchytka Ramara 596 imitace nerezi",{"$f":"VLOOKUP(C215,'[1]Competitor''s products_CZ'!$B:$S,VLOOKUP(B215,[1]Seznamy!$AZ:$BA,2,0),0)","v":"x"}]
["Competitor","TWD","TULIP věšák Lugo XL chrom matný + šroubky","TWD_TULIP věšák Lugo XL chrom matný + šroubky",{"$f":"VLOOKUP(C216,'[1]Competitor''s products_CZ'!$B:$S,VLOOKUP(B216,[1]Seznamy!$AZ:$BA,2,0),0)","v":"x"}]
["Competitor","TWD","Vrut PZ 4x18 zápustná hlava zinek bílý PZ2","TWD_Vrut PZ 4x18 zápustná hlava zinek bílý PZ2",{"$f":"VLOOKUP(C217,'[1]Competitor''s products_CZ'!$B:$S,VLOOKUP(B217,[1]Seznamy!$AZ:$BA,2,0),0)","v":"x"}]
["Competitor","Schachermayer","ABSB 77039/414 W980/500/W954 ST2 23/2","Schachermayer_ABSB 77039/414 W980/500/W954 ST2 23/2",{"$f":"VLOOKUP(C218,'[1]Competitor''s products_CZ'!$B:$S,VLOOKUP(B218,[1]Seznamy!$AZ:$BA,2,0),0)","v":"x"}]
["Competitor","Schachermayer","ABSB HU10113 Bílá 101/110/113/8100/8685/W954/B3822 PE 22/2","Schachermayer_ABSB HU10113 Bílá 101/110/113/8100/8685/W954/B3822 PE 22/2",{"$f":"VLOOKUP(C219,'[1]Competitor''s products_CZ'!$B:$S,VLOOKUP(B219,[1]Seznamy!$AZ:$BA,2,0),0)","v":"x"}]
["Competitor","Schachermayer","Alfa II profile 222788","Schachermayer_Alfa II profile 222788",{"$f":"VLOOKUP(C220,'[1]Competitor''s products_CZ'!$B:$S,VLOOKUP(B220,[1]Seznamy!$AZ:$BA,2,0),0)","v":0}]
["Competitor","Schachermayer","BBP OA Zásuvka 515 mm kovová černá","Schachermayer_BBP OA Zásuvka 515 mm kovová černá",{"$f":"VLOOKUP(C221,'[1]Competitor''s products_CZ'!$B:$S,VLOOKUP(B221,[1]Seznamy!$AZ:$BA,2,0),0)","v":"x"}]
["Competitor","Schachermayer","DTDD DUB COMMERCIAL A/B DEC 2800/2070/19","Schachermayer_DTDD DUB COMMERCIAL A/B DEC 2800/2070/19",{"$f":"VLOOKUP(C222,'[1]Competitor''s products_CZ'!$B:$S,VLOOKUP(B222,[1]Seznamy!$AZ:$BA,2,0),0)","v":"x"}]
["Competitor","Schachermayer","DTDD Dub evr. radiál st A/B 2800/2070/19","Schachermayer_DTDD Dub evr. radiál st A/B 2800/2070/19",{"$f":"VLOOKUP(C223,'[1]Competitor''s products_CZ'!$B:$S,VLOOKUP(B223,[1]Seznamy!$AZ:$BA,2,0),0)","v":"x"}]
["Competitor","Schachermayer","DTDL W980 ST2 Platinově bílá 2800/2070/18","Schachermayer_DTDL W980 ST2 Platinově bílá 2800/2070/18",{"$f":"VLOOKUP(C224,'[1]Competitor''s products_CZ'!$B:$S,VLOOKUP(B224,[1]Seznamy!$AZ:$BA,2,0),0)","v":"x"}]
["Competitor","Schachermayer","FRANKE Dřez BFG 611-78 780 x 500 onyx","Schachermayer_FRANKE Dřez BFG 611-78 780 x 500 onyx",{"$f":"VLOOKUP(C225,'[1]Competitor''s products_CZ'!$B:$S,VLOOKUP(B225,[1]Seznamy!$AZ:$BA,2,0),0)","v":"https://webshop.schachermayer.com/cat/cs-CZ/product/franke-vestavny-drez-bfg-611-78-78-x-50-cm-fragranit-grafit-cerny/113548059?query=bfg+611"}]
["Competitor","Schachermayer","FRANKE Dřez ETN 610 455 x 435","Schachermayer_FRANKE Dřez ETN 610 455 x 435",{"$f":"VLOOKUP(C226,'[1]Competitor''s products_CZ'!$B:$S,VLOOKUP(B226,[1]Seznamy!$AZ:$BA,2,0),0)","v":"https://webshop.schachermayer.com/cat/cs-CZ/product/franke-vestavny-drez-etn-610-45-5-x-43-5-cm-nerez-18-10/113548066?query=etn+610"}]
["Competitor","Schachermayer","FRANKE Dřez ETN 614 6/4 obyčejný ventil bez otvoru","Schachermayer_FRANKE Dřez ETN 614 6/4 obyčejný ventil bez otvoru",{"$f":"VLOOKUP(C227,'[1]Competitor''s products_CZ'!$B:$S,VLOOKUP(B227,[1]Seznamy!$AZ:$BA,2,0),0)","v":"https://webshop.schachermayer.com/cat/cs-CZ/product/franke-vestavny-drez-etn-614-3-1-2-78-x-43-5-cm-nerez-18-10/113500803?query=etn+614"}]
["Competitor","Schachermayer","GOLLINUCCI Sorter 580 Plus Line, 600 mm, výška 505mm, 80 l, šedý","Schachermayer_GOLLINUCCI Sorter 580 Plus Line, 600 mm, výška 505mm, 80 l, šedý",{"$f":"VLOOKUP(C228,'[1]Competitor''s products_CZ'!$B:$S,VLOOKUP(B228,[1]Seznamy!$AZ:$BA,2,0),0)","v":"x"}]
["Competitor","Schachermayer","GOLLINUCCI Sorter Linea 222, 300 mm","Schachermayer_GOLLINUCCI Sorter Linea 222, 300 mm",{"$f":"VLOOKUP(C229,'[1]Competitor''s products_CZ'!$B:$S,VLOOKUP(B229,[1]Seznamy!$AZ:$BA,2,0),0)","v":"x"}]
["Competitor","Schachermayer","GOLLINUCCI Sorter Sistema 901/2x16 l, 600 mm","Schachermayer_GOLLINUCCI Sorter Sistema 901/2x16 l, 600 mm",{"$f":"VLOOKUP(C230,'[1]Competitor''s products_CZ'!$B:$S,VLOOKUP(B230,[1]Seznamy!$AZ:$BA,2,0),0)","v":"x"}]
["Competitor","Schachermayer","HDF LAK 101 BÍLÁ PE 2800/2070/3","Schachermayer_HDF LAK 101 BÍLÁ PE 2800/2070/3",{"$f":"VLOOKUP(C231,'[1]Competitor''s products_CZ'!$B:$S,VLOOKUP(B231,[1]Seznamy!$AZ:$BA,2,0),0)","v":"x"}]
["Competitor","Schachermayer","Konfirmát 7/50 zinek bílý bulk","Schachermayer_Konfirmát 7/50 zinek bílý bulk",{"$f":"VLOOKUP(C232,'[1]Competitor''s products_CZ'!$B:$S,VLOOKUP(B232,[1]Seznamy!$AZ:$BA,2,0),0)","v":"https://webshop.schachermayer.com/cat/cs-CZ/product/spojovaci-sroub-konfirmat-delka-50mm-oe-7mm-inbus-4-ocel-pozink-cerny/103337082?query=konfirm%C3%A1t"}]
["Competitor","Schachermayer","SEVROLL Era úchytová lišta 18mm 2,70m stříbrná","Schachermayer_SEVROLL Era úchytová lišta 18mm 2,70m stříbrná",{"$f":"VLOOKUP(C233,'[1]Competitor''s products_CZ'!$B:$S,VLOOKUP(B233,[1]Seznamy!$AZ:$BA,2,0),0)","v":0}]
["Competitor","Schachermayer","Strong electric socket, lift","Schachermayer_Strong electric socket, lift",{"$f":"VLOOKUP(C234,'[1]Competitor''s products_CZ'!$B:$S,VLOOKUP(B234,[1]Seznamy!$AZ:$BA,2,0),0)","v":"x"}]
["Competitor","Schachermayer","STRONG Elektrická zásuvka 3x230V, francouzský typ, 265x130x68 mm stříbrná","Schachermayer_STRONG Elektrická zásuvka 3x230V, francouzský typ, 265x130x68 mm stříbrná",{"$f":"VLOOKUP(C235,'[1]Competitor''s products_CZ'!$B:$S,VLOOKUP(B235,[1]Seznamy!$AZ:$BA,2,0),0)","v":"x"}]
["Competitor","Schachermayer","STRONG Elektricky stavitelná podnož černá RAL 9005 mat","Schachermayer_STRONG Elektricky stavitelná podnož černá RAL 9005 mat",{"$f":"VLOOKUP(C236,'[1]Competitor''s products_CZ'!$B:$S,VLOOKUP(B236,[1]Seznamy!$AZ:$BA,2,0),0)","v":"https://webshop.schachermayer.com/cat/cs-CZ/product/podnoz-expander-elektricky-stavitelna-vyska-680-1180mm-cerna-ral-9005/103327043"}]
["Competitor","Schachermayer","STRONG LED pásek 21,6W/m 24V bílá neutrální 210 LED/m","Schachermayer_STRONG LED pásek 21,6W/m 24V bílá neutrální 210 LED/m",{"$f":"VLOOKUP(C237,'[1]Competitor''s products_CZ'!$B:$S,VLOOKUP(B237,[1]Seznamy!$AZ:$BA,2,0),0)","v":"Varianta1"}]
["Competitor","Schachermayer","STRONG plus závěs naložený s tlumením, s excentrem, klipový","Schachermayer_STRONG plus závěs naložený s tlumením, s excentrem, klipový",{"$f":"VLOOKUP(C238,'[1]Competitor''s products_CZ'!$B:$S,VLOOKUP(B238,[1]Seznamy!$AZ:$BA,2,0),0)","v":"https://webshop.schachermayer.com/cat/cs-CZ/product/miskovy-zaves-s-tlumenim-nalozeny-110-klipova-montaz-podlozka-excentr-vrut/103332951"}]
["Competitor","Schachermayer","STRONG Rektifikační nožka 100 mm","Schachermayer_STRONG Rektifikační nožka 100 mm",{"$f":"VLOOKUP(C239,'[1]Competitor''s products_CZ'!$B:$S,VLOOKUP(B239,[1]Seznamy!$AZ:$BA,2,0),0)","v":"x"}]
["Competitor","Schachermayer","STRONG Stolová noha centrální 450x450 černá","Schachermayer_STRONG Stolová noha centrální 450x450 černá",{"$f":"VLOOKUP(C240,'[1]Competitor''s products_CZ'!$B:$S,VLOOKUP(B240,[1]Seznamy!$AZ:$BA,2,0),0)","v":"x"}]
["Competitor","Schachermayer","STRONG transformátor plochý LED 24V 100W","Schachermayer_STRONG transformátor plochý LED 24V 100W",{"$f":"VLOOKUP(C241,'[1]Competitor''s products_CZ'!$B:$S,VLOOKUP(B241,[1]Seznamy!$AZ:$BA,2,0),0)","v":"Varianta1"}]
["Competitor","Schachermayer","STRONG závěs naložený, slide on","Schachermayer_STRONG závěs naložený, slide on",{"$f":"VLOOKUP(C242,'[1]Competitor''s products_CZ'!$B:$S,VLOOKUP(B242,[1]Seznamy!$AZ:$BA,2,0),0)","v":"https://webshop.schachermayer.com/cat/cs-CZ/product/miskovy-zaves-nalozeny-105-vc-montazni-podlozky-na-vrut-100-ks/103337436"}]
["Competitor","Schachermayer","StrongBox H86/500mm bílý","Schachermayer_StrongBox H86/500mm bílý",{"$f":"VLOOKUP(C243,'[1]Competitor''s products_CZ'!$B:$S,VLOOKUP(B243,[1]Seznamy!$AZ:$BA,2,0),0)","v":"x"}]
["Competitor","Schachermayer","StrongMax 89/500 mm šedý (antracit)","Schachermayer_StrongMax 89/500 mm šedý (antracit)",{"$f":"VLOOKUP(C244,'[1]Competitor''s products_CZ'!$B:$S,VLOOKUP(B244,[1]Seznamy!$AZ:$BA,2,0),0)","v":"x"}]
["Competitor","Schachermayer","StrongRide synchro 3D celovýsuv 500 mm s tlumením","Schachermayer_StrongRide synchro 3D celovýsuv 500 mm s tlumením",{"$f":"VLOOKUP(C245,'[1]Competitor''s products_CZ'!$B:$S,VLOOKUP(B245,[1]Seznamy!$AZ:$BA,2,0),0)","v":"x"}]
["Competitor","Schachermayer","TULIP Gola dvířkový J profil 4,1m eloxovaný hliník","Schachermayer_TULIP Gola dvířkový J profil 4,1m eloxovaný hliník",{"$f":"VLOOKUP(C246,'[1]Competitor''s products_CZ'!$B:$S,VLOOKUP(B246,[1]Seznamy!$AZ:$BA,2,0),0)","v":0}]
["Competitor","Schachermayer","TULIP úchytka Anita 96 nikl matný + šroubky","Schachermayer_TULIP úchytka Anita 96 nikl matný + šroubky",{"$f":"VLOOKUP(C247,'[1]Competitor''s products_CZ'!$B:$S,VLOOKUP(B247,[1]Seznamy!$AZ:$BA,2,0),0)","v":"x"}]
["Competitor","Schachermayer","TULIP Úchytka Lucata 160 černá matná","Schachermayer_TULIP Úchytka Lucata 160 černá matná",{"$f":"VLOOKUP(C248,'[1]Competitor''s products_CZ'!$B:$S,VLOOKUP(B248,[1]Seznamy!$AZ:$BA,2,0),0)","v":"x"}]
["Competitor","Schachermayer","TULIP úchytka Nakana 128 chrom matný + šroubky","Schachermayer_TULIP úchytka Nakana 128 chrom matný + šroubky",{"$f":"VLOOKUP(C249,'[1]Competitor''s products_CZ'!$B:$S,VLOOKUP(B249,[1]Seznamy!$AZ:$BA,2,0),0)","v":"https://webshop.schachermayer.com/cat/cs-CZ/product/uchytka-eudore-roztec-128-mm-s-152-mm-kartac-nerez/103301317?query=%C3%BAchytka"}]
["Competitor","Schachermayer","TULIP úchytka Piombina 96 nikl matný + šroubky","Schachermayer_TULIP úchytka Piombina 96 nikl matný + šroubky",{"$f":"VLOOKUP(C250,'[1]Competitor''s products_CZ'!$B:$S,VLOOKUP(B250,[1]Seznamy!$AZ:$BA,2,0),0)","v":"x"}]
["Competitor","Schachermayer","TULIP Úchytka Ramara 596 imitace nerezi","Schachermayer_TULIP Úchytka Ramara 596 imitace nerezi",{"$f":"VLOOKUP(C251,'[1]Competitor''s products_CZ'!$B:$S,VLOOKUP(B251,[1]Seznamy!$AZ:$BA,2,0),0)","v":"https://webshop.schachermayer.com/cat/cs-CZ/product/uchytkova-lista-trim-sirka-595-mm-hlinik-nerez-efekt/103300719?query=%C3%BAchytka"}]
["Competitor","Schachermayer","TULIP věšák Lugo XL chrom matný + šroubky","Schachermayer_TULIP věšák Lugo XL chrom matný + šroubky",{"$f":"VLOOKUP(C252,'[1]Competitor''s products_CZ'!$B:$S,VLOOKUP(B252,[1]Seznamy!$AZ:$BA,2,0),0)","v":"x"}]
["Competitor","Schachermayer","Vrut PZ 4x18 zápustná hlava zinek bílý PZ2","Schachermayer_Vrut PZ 4x18 zápustná hlava zinek bílý PZ2",{"$f":"VLOOKUP(C253,'[1]Competitor''s products_CZ'!$B:$S,VLOOKUP(B253,[1]Seznamy!$AZ:$BA,2,0),0)","v":"https://webshop.schachermayer.com/cat/cs-CZ/product/spax-zap-hlava-3-5x-18-plny-zavit-pozidriv-2-wirox-stribrna-s-certifikatem/104404790?query=vrut"}]
["Competitor","Hafele","ABSB 77039/414 W980/500/W954 ST2 23/2","Hafele_ABSB 77039/414 W980/500/W954 ST2 23/2",{"$f":"VLOOKUP(C254,'[1]Competitor''s products_CZ'!$B:$S,VLOOKUP(B254,[1]Seznamy!$AZ:$BA,2,0),0)","v":"x"}]
["Competitor","Hafele","ABSB HU10113 Bílá 101/110/113/8100/8685/W954/B3822 PE 22/2","Hafele_ABSB HU10113 Bílá 101/110/113/8100/8685/W954/B3822 PE 22/2",{"$f":"VLOOKUP(C255,'[1]Competitor''s products_CZ'!$B:$S,VLOOKUP(B255,[1]Seznamy!$AZ:$BA,2,0),0)","v":"x"}]
["Competitor","Hafele","Alfa II profile 222788","Hafele_Alfa II profile 222788",{"$f":"VLOOKUP(C256,'[1]Competitor''s products_CZ'!$B:$S,VLOOKUP(B256,[1]Seznamy!$AZ:$BA,2,0),0)","v":0}]
["Competitor","Hafele","BBP OA Zásuvka 515 mm kovová černá","Hafele_BBP OA Zásuvka 515 mm kovová černá",{"$f":"VLOOKUP(C257,'[1]Competitor''s products_CZ'!$B:$S,VLOOKUP(B257,[1]Seznamy!$AZ:$BA,2,0),0)","v":"https://www.hafele.cz/cs/product/syst-mov-z-suvka-pro-mont-n-ku-392-mm/0000002f0003b91900020023/ - SearchParameter=&@QueryTerm=Syst%C3%A9mov%C3%A1+z%C3%A1suvka%2C+pro+mont%C3%A1%C5%BEn%C3%AD+%C5%A1%C3%AD%C5%99ku+392%2C+hl.+530.+429.34.228&@P.FF.followSearch=9296&PageNumber=1&OriginalPageSize=12&PageSize=12&Position=1&OrigPos=1&ProductListSize=194&PDP=true"}]
["Competitor","Hafele","DTDD DUB COMMERCIAL A/B DEC 2800/2070/19",{"$f":"CONCATENATE(B258,\"_\",C258)","v":"Hafele_DTDD DUB COMMERCIAL A/B DEC 2800/2070/19"},{"$f":"VLOOKUP(C258,'[1]Competitor''s products_CZ'!$B:$S,VLOOKUP(B258,[1]Seznamy!$AZ:$BA,2,0),0)","v":"x"}]
["Competitor","Hafele","DTDD Dub evr. radiál st A/B 2800/2070/19","Hafele_DTDD Dub evr. radiál st A/B 2800/2070/19",{"$f":"VLOOKUP(C259,'[1]Competitor''s products_CZ'!$B:$S,VLOOKUP(B259,[1]Seznamy!$AZ:$BA,2,0),0)","v":"x"}]
["Competitor","Hafele","DTDL W980 ST2 Platinově bílá 2800/2070/18","Hafele_DTDL W980 ST2 Platinově bílá 2800/2070/18",{"$f":"VLOOKUP(C260,'[1]Competitor''s products_CZ'!$B:$S,VLOOKUP(B260,[1]Seznamy!$AZ:$BA,2,0),0)","v":"x"}]
["Competitor","Hafele","FRANKE Dřez BFG 611-78 780 x 500 onyx","Hafele_FRANKE Dřez BFG 611-78 780 x 500 onyx",{"$f":"VLOOKUP(C261,'[1]Competitor''s products_CZ'!$B:$S,VLOOKUP(B261,[1]Seznamy!$AZ:$BA,2,0),0)","v":"x"}]
["Competitor","Hafele","FRANKE Dřez ETN 610 455 x 435","Hafele_FRANKE Dřez ETN 610 455 x 435",{"$f":"VLOOKUP(C262,'[1]Competitor''s products_CZ'!$B:$S,VLOOKUP(B262,[1]Seznamy!$AZ:$BA,2,0),0)","v":"https://www.hafele.cz/cs/product/d-ez-nerez-franke-eurostar-etn-610/0000001b0000bc4200020023/ - SearchParameter=&@QueryTerm=etn+610&ContentType=V%C3%BDrobky&@P.FF.followSearch=9875&PageNumber=1&OriginalPageSize=12&PageSize=12&OrigPos=1&ProductListSize=5"}]
["Competitor","Hafele","FRANKE Dřez ETN 614 6/4 obyčejný ventil bez otvoru","Hafele_FRANKE Dřez ETN 614 6/4 obyčejný ventil bez otvoru",{"$f":"VLOOKUP(C263,'[1]Competitor''s products_CZ'!$B:$S,VLOOKUP(B263,[1]Seznamy!$AZ:$BA,2,0),0)","v":"https://www.hafele.cz/cs/product/d-ez-nerez-franke-eurostar-etn-614/000000010001525400010023/ - SearchParameter=&@QueryTerm=Franke+Eurostar+ETN+614.+565.04.030&@P.FF.followSearch=9250&PageNumber=1&OriginalPageSize=12&PageSize=12&Position=1&OrigPos=1&ProductListSize=3&PDP=true"}]
["Competitor","Hafele","GOLLINUCCI Sorter 580 Plus Line, 600 mm, výška 505mm, 80 l, šedý","Hafele_GOLLINUCCI Sorter 580 Plus Line, 600 mm, výška 505mm, 80 l, šedý",{"$f":"VLOOKUP(C264,'[1]Competitor''s products_CZ'!$B:$S,VLOOKUP(B264,[1]Seznamy!$AZ:$BA,2,0),0)","v":"x"}]
["Competitor","Hafele","GOLLINUCCI Sorter Linea 222, 300 mm","Hafele_GOLLINUCCI Sorter Linea 222, 300 mm",{"$f":"VLOOKUP(C265,'[1]Competitor''s products_CZ'!$B:$S,VLOOKUP(B265,[1]Seznamy!$AZ:$BA,2,0),0)","v":"x"}]
["Competitor","Hafele","GOLLINUCCI Sorter Sistema 901/2x16 l, 600 mm","Hafele_GOLLINUCCI Sorter Sistema 901/2x16 l, 600 mm",{"$f":"VLOOKUP(C266,'[1]Competitor''s products_CZ'!$B:$S,VLOOKUP(B266,[1]Seznamy!$AZ:$BA,2,0),0)","v":"x"}]
["Competitor","Hafele","HDF LAK 101 BÍLÁ PE 2800/2070/3","Hafele_HDF LAK 101 BÍLÁ PE 2800/2070/3",{"$f":"VLOOKUP(C267,'[1]Competitor''s products_CZ'!$B:$S,VLOOKUP(B267,[1]Seznamy!$AZ:$BA,2,0),0)","v":"x"}]
["Competitor","Hafele","Konfirmát 7/50 zinek bílý bulk","Hafele_Konfirmát 7/50 zinek bílý bulk",{"$f":"VLOOKUP(C268,'[1]Competitor''s products_CZ'!$B:$S,VLOOKUP(B268,[1]Seznamy!$AZ:$BA,2,0),0)","v":"https://www.hafele.cz/cs/product/jednod-ln-spoj-konfirm-t-haefele-z-pustn-hlava-pro-vrtan-otvor-5-mm-sw4/26443600/?MasterSKU=000000000000ff4e00010023"}]
["Competitor","Hafele","SEVROLL Era úchytová lišta 18mm 2,70m stříbrná","Hafele_SEVROLL Era úchytová lišta 18mm 2,70m stříbrná",{"$f":"VLOOKUP(C269,'[1]Competitor''s products_CZ'!$B:$S,VLOOKUP(B269,[1]Seznamy!$AZ:$BA,2,0),0)","v":0}]
["Competitor","Hafele","Strong electric socket, lift","Hafele_Strong electric socket, lift",{"$f":"VLOOKUP(C270,'[1]Competitor''s products_CZ'!$B:$S,VLOOKUP(B270,[1]Seznamy!$AZ:$BA,2,0),0)","v":"x"}]
["Competitor","Hafele","STRONG Elektrická zásuvka 3x230V, francouzský typ, 265x130x68 mm stříbrná","Hafele_STRONG Elektrická zásuvka 3x230V, francouzský typ, 265x130x68 mm stříbrná",{"$f":"VLOOKUP(C271,'[1]Competitor''s products_CZ'!$B:$S,VLOOKUP(B271,[1]Seznamy!$AZ:$BA,2,0),0)","v":"https://www.hafele.cz/cs/product/v-suvn-z-suvkov-modul-se-syst-mem-z-suvek-sv16-skl-dac-230-v/82666003/?MasterSKU=0000001b0001ddc600050023&PageSize=48 - &SearchParameter=%26%40QueryTerm%3D*%26Category%3DWQoKAOsFmvkAAAFsSNP0_hGx%26%40P.FF.followSearch%3D10000&PageNumber=1&ProductListSize=73&PageSize=48"}]
["Competitor","Hafele","STRONG Elektricky stavitelná podnož černá RAL 9005 mat","Hafele_STRONG Elektricky stavitelná podnož černá RAL 9005 mat",{"$f":"VLOOKUP(C272,'[1]Competitor''s products_CZ'!$B:$S,VLOOKUP(B272,[1]Seznamy!$AZ:$BA,2,0),0)","v":"x"}]
["Competitor","Hafele","STRONG LED pásek 21,6W/m 24V bílá neutrální 210 LED/m","Hafele_STRONG LED pásek 21,6W/m 24V bílá neutrální 210 LED/m",{"$f":"VLOOKUP(C273,'[1]Competitor''s products_CZ'!$B:$S,VLOOKUP(B273,[1]Seznamy!$AZ:$BA,2,0),0)","v":"Varianta1"}]
["Competitor","Hafele","STRONG plus závěs naložený s tlumením, s excentrem, klipový","Hafele_STRONG plus závěs naložený s tlumením, s excentrem, klipový",{"$f":"VLOOKUP(C274,'[1]Competitor''s products_CZ'!$B:$S,VLOOKUP(B274,[1]Seznamy!$AZ:$BA,2,0),0)","v":"https://www.hafele.cz/cs/product/n-bytkov-z-v-s-haefele-duomatic-110-pln-nalo-en-mont-/32917507/?MasterSKU=0000009f00018de700050023 - &SearchParameter=%26Category%3DHxwKAOsFloUAAAFsycn0_hGx%26checkbox_fs_hinges_haefele_duomatic%3DPro%2Bd__0159ev__011Bn%25C3%25A9%2Bdve__0159e%26%40P.FF.followSearch%3D10000&PageNumber=1&ProductListSize=62&PageSize=12"}]
["Competitor","Hafele","STRONG Rektifikační nožka 100 mm","Hafele_STRONG Rektifikační nožka 100 mm",{"$f":"VLOOKUP(C275,'[1]Competitor''s products_CZ'!$B:$S,VLOOKUP(B275,[1]Seznamy!$AZ:$BA,2,0),0)","v":"https://www.hafele.cz/cs/product/rektifika-n-soklov-noha-k-p-i-roubov-n-/63745326/?MasterSKU=0000000100013c1500010023 - &SearchParameter=%26%40QueryTerm%3DRektifika%25C4%258Dn%25C3%25AD%2Bsoklov%25C3%25A1%2Bnoha%2Bk%2Bp%25C5%2599i%25C5%25A1roubov%25C3%25A1n%25C3%25AD.%2B637.45.326%26%40P.FF.followSearch%3D9590&PageNumber=1&ProductListSize=13&PageSize=12"}]
["Competitor","Hafele","STRONG Stolová noha centrální 450x450 černá","Hafele_STRONG Stolová noha centrální 450x450 černá",{"$f":"VLOOKUP(C276,'[1]Competitor''s products_CZ'!$B:$S,VLOOKUP(B276,[1]Seznamy!$AZ:$BA,2,0),0)","v":"x"}]
["Competitor","Hafele","STRONG transformátor plochý LED 24V 100W","Hafele_STRONG transformátor plochý LED 24V 100W",{"$f":"VLOOKUP(C277,'[1]Competitor''s products_CZ'!$B:$S,VLOOKUP(B277,[1]Seznamy!$AZ:$BA,2,0),0)","v":"Varianta1"}]
["Competitor","Hafele","STRONG závěs naložený, slide on","Hafele_STRONG závěs naložený, slide on",{"$f":"VLOOKUP(C278,'[1]Competitor''s products_CZ'!$B:$S,VLOOKUP(B278,[1]Seznamy!$AZ:$BA,2,0),0)","v":"https://www.hafele.cz/cs/product/n-bytkov-z-v-s-haefele-metallamat-a-sm-110-pln-nalo-en-mont-/31630500/?MasterSKU=0000002d0002d17400010023 - &SearchParameter=%26Category%3DHxwKAOsFloUAAAFsycn0_hGx%26checkbox_fs_hinges_overlay%3DPln__011B%2Bnalo__017Een%25C3%25A9%26slider_fs_hinges_opening_angle%3D60.0%253B100%2B-%2B110%253B270.0%26%40P.FF.followSearch%3D10000&PageNumber=1&ProductListSize=29&PageSize=12"}]
["Competitor","Hafele","StrongBox H86/500mm bílý","Hafele_StrongBox H86/500mm bílý",{"$f":"VLOOKUP(C279,'[1]Competitor''s products_CZ'!$B:$S,VLOOKUP(B279,[1]Seznamy!$AZ:$BA,2,0),0)","v":"https://www.hafele.cz/cs/product/sada-z-suvky-haefele-matrix-box-s35-v-ka-bo-nice-84-mm-nosnost-35-kg-s-mechanismem-tlumen-ho-dotahu/55256790/?MasterSKU=000001550003d2b400030023 - &SearchParameter=%26%40QueryTerm%3D*%26Category%3DoDkKAOsF9J4AAAFs0Mb0_hGx%26%40P.FF.followSearch%3D10000&PageNumber=1&ProductListSize=469&PageSize=12"}]
["Competitor","Hafele","StrongMax 89/500 mm šedý (antracit)","Hafele_StrongMax 89/500 mm šedý (antracit)",{"$f":"VLOOKUP(C280,'[1]Competitor''s products_CZ'!$B:$S,VLOOKUP(B280,[1]Seznamy!$AZ:$BA,2,0),0)","v":"https://www.hafele.cz/cs/product/sada-z-suvky-haefele-matrix-box-slim-a30-v-ka-bo-nice-89-mm-nosnost-30-kg-s-mechanismem-tlumen-ho-dotahu/55221750/?MasterSKU=0000015500037b9d00020023"}]
["Competitor","Hafele","StrongRide synchro 3D celovýsuv 500 mm s tlumením","Hafele_StrongRide synchro 3D celovýsuv 500 mm s tlumením",{"$f":"VLOOKUP(C281,'[1]Competitor''s products_CZ'!$B:$S,VLOOKUP(B281,[1]Seznamy!$AZ:$BA,2,0),0)","v":"https://www.hafele.cz/cs/product/skryt-v-suvy-haefele-matrix-runner-um-a30-plnov-suv-nosnost-do-30-kg-ocel-mont-pomoc-spojky/0000015600036d6d00010023/ - SearchParameter=&@QueryTerm=Matrix+Runner+UM+A30%2C+spojka&@P.FF.followSearch=9378&PageNumber=1&OriginalPageSize=12&PageSize=12&Position=1&OrigPos=1&ProductListSize=4&PDP=true"}]
["Competitor","Hafele","TULIP Gola dvířkový J profil 4,1m eloxovaný hliník","Hafele_TULIP Gola dvířkový J profil 4,1m eloxovaný hliník",{"$f":"VLOOKUP(C282,'[1]Competitor''s products_CZ'!$B:$S,VLOOKUP(B282,[1]Seznamy!$AZ:$BA,2,0),0)","v":0}]
["Competitor","Hafele","TULIP úchytka Anita 96 nikl matný + šroubky","Hafele_TULIP úchytka Anita 96 nikl matný + šroubky",{"$f":"VLOOKUP(C283,'[1]Competitor''s products_CZ'!$B:$S,VLOOKUP(B283,[1]Seznamy!$AZ:$BA,2,0),0)","v":"x"}]
["Competitor","Hafele","TULIP Úchytka Lucata 160 černá matná","Hafele_TULIP Úchytka Lucata 160 černá matná",{"$f":"VLOOKUP(C284,'[1]Competitor''s products_CZ'!$B:$S,VLOOKUP(B284,[1]Seznamy!$AZ:$BA,2,0),0)","v":"https://www.hafele.cz/cs/product/-chytkov-profil-hlin-k-mont-n-st-edy-32-416-mm/0000010f0001991b00030023/ - SearchParameter=&Category=FN0KAOsFc8sAAAFsXNX0_hGx&checkbox_fs_colour=__010Dern%C3%A1&checkbox_fs_material=Hlin%C3%ADk&@P.FF.followSearch=10000&PageNumber=3&OriginalPageSize=12&PageSize=12&Position=25&OrigPos=6714&ProductListSize=55"}]
["Competitor","Hafele","TULIP úchytka Nakana 128 chrom matný + šroubky","Hafele_TULIP úchytka Nakana 128 chrom matný + šroubky",{"$f":"VLOOKUP(C285,'[1]Competitor''s products_CZ'!$B:$S,VLOOKUP(B285,[1]Seznamy!$AZ:$BA,2,0),0)","v":"https://www.hafele.cz/cs/product/n-bytkov-chytka-madlo-zinkov-slitina/0000007e00001b6500010023/ - SearchParameter=&@QueryTerm=N%C3%A1bytkov%C3%A1+%C3%BAchytka%2Cmadlo&@P.FF.followSearch=9895&PageNumber=4&OriginalPageSize=12&PageSize=12&Position=44&OrigPos=22&ProductListSize=310&PDP=true"}]
["Competitor","Hafele","TULIP úchytka Piombina 96 nikl matný + šroubky","Hafele_TULIP úchytka Piombina 96 nikl matný + šroubky",{"$f":"VLOOKUP(C286,'[1]Competitor''s products_CZ'!$B:$S,VLOOKUP(B286,[1]Seznamy!$AZ:$BA,2,0),0)","v":"x"}]
["Competitor","Hafele","TULIP Úchytka Ramara 596 imitace nerezi","Hafele_TULIP Úchytka Ramara 596 imitace nerezi",{"$f":"VLOOKUP(C287,'[1]Competitor''s products_CZ'!$B:$S,VLOOKUP(B287,[1]Seznamy!$AZ:$BA,2,0),0)","v":"https://www.hafele.cz/cs/product/profilov-li-ty-aluminium/0000016a0000fdc600040023/ - SearchParameter=&Category=FN0KAOsFc8sAAAFsXNX0_hGx&checkbox_fs_handles_knobs_product_type=%C3%9Achytkov%C3%A9+profily&@P.FF.followSearch=10000&PageNumber=2&OriginalPageSize=12&PageSize=12&Position=13&OrigPos=358&ProductListSize=43"}]
["Competitor","Hafele","TULIP věšák Lugo XL chrom matný + šroubky","Hafele_TULIP věšák Lugo XL chrom matný + šroubky",{"$f":"VLOOKUP(C288,'[1]Competitor''s products_CZ'!$B:$S,VLOOKUP(B288,[1]Seznamy!$AZ:$BA,2,0),0)","v":"https://www.hafele.cz/cs/product/h-ek-na-aty-zinc-alloy-with-3-hooks/85500022/?MasterSKU=000000f90002b1b300080023&Quantity=1 - &SearchParameter=%26Category%3D3dIKAOsFHucAAAFsb9j0_hGx%26checkbox_fs_finish%3DChrom%26%40P.FF.followSearch%3D10000&PageNumber=1&ProductListSize=32&PageSize=12"}]
["Competitor","Hafele","Vrut PZ 4x18 zápustná hlava zinek bílý PZ2","Hafele_Vrut PZ 4x18 zápustná hlava zinek bílý PZ2",{"$f":"VLOOKUP(C289,'[1]Competitor''s products_CZ'!$B:$S,VLOOKUP(B289,[1]Seznamy!$AZ:$BA,2,0),0)","v":"https://www.hafele.cz/cs/product/vrut-do-d-evot-sky-hospa-z-pustn-hlava-pz-pln-z-vit-pro-kov-n-n-bytkov-z-v-sy-orga-box/01535833/?MasterSKU=00000001000020a300010023&Quantity=1000 - &SearchParameter=%26Category%3DpAsKAOsFynMAAAFsOdX0_hGx%26checkbox_fs_fixing_screws_type_of_drive%3DK__0159%25C3%25AD__017Eov%25C3%25A1%2Bdr%25C3%25A1__017Eka%2B%252F%2BPozi%2B%252F%2BPZ%26checkbox_fs_fixing_screws_type_of_head%3DZ%25C3%25A1pustn%25C3%25A1%2Bhlava%26checkbox_fs_fixing_screws_type_of_screw%3DVruty%2BHospa_or_Vruty%2Bdo%2Bd__0159eva_or_Vruty%2Bdo%2Bd__0159evot__0159%25C3%25ADsky%26ContentType%3DV%25C3%25BDrobky%26slider_fs_fixing_screws_length%3D10.0%253B16%2B-%2B28%253B180.0%26%40P.FF.followSearch%3D10000&PageNumber=1&ProductListSize=2&PageSize=12"}]
["Competitor","GTV","ABSB 77039/414 W980/500/W954 ST2 23/2","GTV_ABSB 77039/414 W980/500/W954 ST2 23/2",{"$f":"VLOOKUP(C290,'[1]Competitor''s products_CZ'!$B:$S,VLOOKUP(B290,[1]Seznamy!$AZ:$BA,2,0),0)","v":"x"}]
["Competitor","GTV","ABSB HU10113 Bílá 101/110/113/8100/8685/W954/B3822 PE 22/2","GTV_ABSB HU10113 Bílá 101/110/113/8100/8685/W954/B3822 PE 22/2",{"$f":"VLOOKUP(C291,'[1]Competitor''s products_CZ'!$B:$S,VLOOKUP(B291,[1]Seznamy!$AZ:$BA,2,0),0)","v":"x"}]
["Competitor","GTV","Alfa II profile 222788","GTV_Alfa II profile 222788",{"$f":"VLOOKUP(C292,'[1]Competitor''s products_CZ'!$B:$S,VLOOKUP(B292,[1]Seznamy!$AZ:$BA,2,0),0)","v":0}]
["Competitor","GTV","BBP OA Zásuvka 515 mm kovová černá","GTV_BBP OA Zásuvka 515 mm kovová černá",{"$f":"VLOOKUP(C293,'[1]Competitor''s products_CZ'!$B:$S,VLOOKUP(B293,[1]Seznamy!$AZ:$BA,2,0),0)","v":"x"}]
["Competitor","GTV","DTDD DUB COMMERCIAL A/B DEC 2800/2070/19","GTV_DTDD DUB COMMERCIAL A/B DEC 2800/2070/19",{"$f":"VLOOKUP(C294,'[1]Competitor''s products_CZ'!$B:$S,VLOOKUP(B294,[1]Seznamy!$AZ:$BA,2,0),0)","v":"x"}]
["Competitor","GTV","DTDD Dub evr. radiál st A/B 2800/2070/19","GTV_DTDD Dub evr. radiál st A/B 2800/2070/19",{"$f":"VLOOKUP(C295,'[1]Competitor''s products_CZ'!$B:$S,VLOOKUP(B295,[1]Seznamy!$AZ:$BA,2,0),0)","v":"x"}]
["Competitor","GTV","DTDL W980 ST2 Platinově bílá 2800/2070/18","GTV_DTDL W980 ST2 Platinově bílá 2800/2070/18",{"$f":"VLOOKUP(C296,'[1]Competitor''s products_CZ'!$B:$S,VLOOKUP(B296,[1]Seznamy!$AZ:$BA,2,0),0)","v":"x"}]
["Competitor","GTV","FRANKE Dřez BFG 611-78 780 x 500 onyx","GTV_FRANKE Dřez BFG 611-78 780 x 500 onyx",{"$f":"VLOOKUP(C297,'[1]Competitor''s products_CZ'!$B:$S,VLOOKUP(B297,[1]Seznamy!$AZ:$BA,2,0),0)","v":"x"}]
["Competitor","GTV","FRANKE Dřez ETN 610 455 x 435","GTV_FRANKE Dřez ETN 610 455 x 435",{"$f":"VLOOKUP(C298,'[1]Competitor''s products_CZ'!$B:$S,VLOOKUP(B298,[1]Seznamy!$AZ:$BA,2,0),0)","v":"x"}]
["Competitor","GTV","FRANKE Dřez ETN 614 6/4 obyčejný ventil bez otvoru","GTV_FRANKE Dřez ETN 614 6/4 obyčejný ventil bez otvoru",{"$f":"VLOOKUP(C299,'[1]Competitor''s products_CZ'!$B:$S,VLOOKUP(B299,[1]Seznamy!$AZ:$BA,2,0),0)","v":"x"}]
["Competitor","GTV","GOLLINUCCI Sorter 580 Plus Line, 600 mm, výška 505mm, 80 l, šedý","GTV_GOLLINUCCI Sorter 580 Plus Line, 600 mm, výška 505mm, 80 l, šedý",{"$f":"VLOOKUP(C300,'[1]Competitor''s products_CZ'!$B:$S,VLOOKUP(B300,[1]Seznamy!$AZ:$BA,2,0),0)","v":"http://www.gtv.cz/odpadkovy-kos-unito-s-uchytem-cilka--2-x-15l/"}]
["Competitor","GTV","GOLLINUCCI Sorter Linea 222, 300 mm","GTV_GOLLINUCCI Sorter Linea 222, 300 mm",{"$f":"VLOOKUP(C301,'[1]Competitor''s products_CZ'!$B:$S,VLOOKUP(B301,[1]Seznamy!$AZ:$BA,2,0),0)","v":"http://www.gtv.cz/odpadkovy-kos-na-vysuvu-s-tlumenim-do-skrinky-300-mm--1-x-10-1-x-20l/"}]
["Competitor","GTV","GOLLINUCCI Sorter Sistema 901/2x16 l, 600 mm","GTV_GOLLINUCCI Sorter Sistema 901/2x16 l, 600 mm",{"$f":"VLOOKUP(C302,'[1]Competitor''s products_CZ'!$B:$S,VLOOKUP(B302,[1]Seznamy!$AZ:$BA,2,0),0)","v":"http://www.gtv.cz/multino-odpadkovy-kos-do-skrinky-600mm--2-x-15l-2-miska/"}]
["Competitor","GTV","HDF LAK 101 BÍLÁ PE 2800/2070/3","GTV_HDF LAK 101 BÍLÁ PE 2800/2070/3",{"$f":"VLOOKUP(C303,'[1]Competitor''s products_CZ'!$B:$S,VLOOKUP(B303,[1]Seznamy!$AZ:$BA,2,0),0)","v":"x"}]
["Competitor","GTV","Konfirmát 7/50 zinek bílý bulk","GTV_Konfirmát 7/50 zinek bílý bulk",{"$f":"VLOOKUP(C304,'[1]Competitor''s products_CZ'!$B:$S,VLOOKUP(B304,[1]Seznamy!$AZ:$BA,2,0),0)","v":"x"}]
["Competitor","GTV","SEVROLL Era úchytová lišta 18mm 2,70m stříbrná","GTV_SEVROLL Era úchytová lišta 18mm 2,70m stříbrná",{"$f":"VLOOKUP(C305,'[1]Competitor''s products_CZ'!$B:$S,VLOOKUP(B305,[1]Seznamy!$AZ:$BA,2,0),0)","v":0}]
["Competitor","GTV","Strong electric socket, lift","GTV_Strong electric socket, lift",{"$f":"VLOOKUP(C306,'[1]Competitor''s products_CZ'!$B:$S,VLOOKUP(B306,[1]Seznamy!$AZ:$BA,2,0),0)","v":"http://www.gtv.cz/vysuvna-el--zasuvka-3-x-220-v--kabel-1-5m-stribrna-2-usb/"}]
["Competitor","GTV","STRONG Elektrická zásuvka 3x230V, francouzský typ, 265x130x68 mm stříbrná","GTV_STRONG Elektrická zásuvka 3x230V, francouzský typ, 265x130x68 mm stříbrná",{"$f":"VLOOKUP(C307,'[1]Competitor''s products_CZ'!$B:$S,VLOOKUP(B307,[1]Seznamy!$AZ:$BA,2,0),0)","v":"http://www.gtv.cz/zapustna-zasuvka-soft-3-x-220-v--kabel-1-5m--hlinik/"}]
["Competitor","GTV","STRONG Elektricky stavitelná podnož černá RAL 9005 mat","GTV_STRONG Elektricky stavitelná podnož černá RAL 9005 mat",{"$f":"VLOOKUP(C308,'[1]Competitor''s products_CZ'!$B:$S,VLOOKUP(B308,[1]Seznamy!$AZ:$BA,2,0),0)","v":"x"}]
["Competitor","GTV","STRONG LED pásek 21,6W/m 24V bílá neutrální 210 LED/m","GTV_STRONG LED pásek 21,6W/m 24V bílá neutrální 210 LED/m",{"$f":"VLOOKUP(C309,'[1]Competitor''s products_CZ'!$B:$S,VLOOKUP(B309,[1]Seznamy!$AZ:$BA,2,0),0)","v":"výběr"}]
["Competitor","GTV","STRONG plus závěs naložený s tlumením, s excentrem, klipový","GTV_STRONG plus závěs naložený s tlumením, s excentrem, klipový",{"$f":"VLOOKUP(C310,'[1]Competitor''s products_CZ'!$B:$S,VLOOKUP(B310,[1]Seznamy!$AZ:$BA,2,0),0)","v":"http://www.gtv.cz/zaves-hydraulicky-gtv-econom-clip-on/"}]
["Competitor","GTV","STRONG Rektifikační nožka 100 mm","GTV_STRONG Rektifikační nožka 100 mm",{"$f":"VLOOKUP(C311,'[1]Competitor''s products_CZ'!$B:$S,VLOOKUP(B311,[1]Seznamy!$AZ:$BA,2,0),0)","v":"x"}]
["Competitor","GTV","STRONG Stolová noha centrální 450x450 černá","GTV_STRONG Stolová noha centrální 450x450 černá",{"$f":"VLOOKUP(C312,'[1]Competitor''s products_CZ'!$B:$S,VLOOKUP(B312,[1]Seznamy!$AZ:$BA,2,0),0)","v":"x"}]
["Competitor","GTV","STRONG transformátor plochý LED 24V 100W","GTV_STRONG transformátor plochý LED 24V 100W",{"$f":"VLOOKUP(C313,'[1]Competitor''s products_CZ'!$B:$S,VLOOKUP(B313,[1]Seznamy!$AZ:$BA,2,0),0)","v":"výběr"}]
["Competitor","GTV","STRONG závěs naložený, slide on","GTV_STRONG závěs naložený, slide on",{"$f":"VLOOKUP(C314,'[1]Competitor''s products_CZ'!$B:$S,VLOOKUP(B314,[1]Seznamy!$AZ:$BA,2,0),0)","v":"x"}]
["Competitor","GTV","StrongBox H86/500mm bílý","GTV_StrongBox H86/500mm bílý",{"$f":"VLOOKUP(C315,'[1]Competitor''s products_CZ'!$B:$S,VLOOKUP(B315,[1]Seznamy!$AZ:$BA,2,0),0)","v":"http://www.gtv.cz/modern-box-nizky-bily-pb-d-kpl400a1/"}]
["Competitor","GTV","StrongMax 89/500 mm šedý (antracit)","GTV_StrongMax 89/500 mm šedý (antracit)",{"$f":"VLOOKUP(C316,'[1]Competitor''s products_CZ'!$B:$S,VLOOKUP(B316,[1]Seznamy!$AZ:$BA,2,0),0)","v":"http://www.gtv.cz/axis-pro-450-mm-nizky-h-86-barva-antracit/"}]
["Competitor","GTV","StrongRide synchro 3D celovýsuv 500 mm s tlumením","GTV_StrongRide synchro 3D celovýsuv 500 mm s tlumením",{"$f":"VLOOKUP(C317,'[1]Competitor''s products_CZ'!$B:$S,VLOOKUP(B317,[1]Seznamy!$AZ:$BA,2,0),0)","v":"http://www.gtv.cz/skryty-plnovysuv-modern-slide-500-mm-s-dotahem-a-tlumenim/"}]
["Competitor","GTV","TULIP Gola dvířkový J profil 4,1m eloxovaný hliník","GTV_TULIP Gola dvířkový J profil 4,1m eloxovaný hliník",{"$f":"VLOOKUP(C318,'[1]Competitor''s products_CZ'!$B:$S,VLOOKUP(B318,[1]Seznamy!$AZ:$BA,2,0),0)","v":0}]
["Competitor","GTV","TULIP úchytka Anita 96 nikl matný + šroubky","GTV_TULIP úchytka Anita 96 nikl matný + šroubky",{"$f":"VLOOKUP(C319,'[1]Competitor''s products_CZ'!$B:$S,VLOOKUP(B319,[1]Seznamy!$AZ:$BA,2,0),0)","v":"x"}]
["Competitor","GTV","TULIP Úchytka Lucata 160 černá matná","GTV_TULIP Úchytka Lucata 160 černá matná",{"$f":"VLOOKUP(C320,'[1]Competitor''s products_CZ'!$B:$S,VLOOKUP(B320,[1]Seznamy!$AZ:$BA,2,0),0)","v":"x"}]
["Competitor","GTV","TULIP úchytka Nakana 128 chrom matný + šroubky","GTV_TULIP úchytka Nakana 128 chrom matný + šroubky",{"$f":"VLOOKUP(C321,'[1]Competitor''s products_CZ'!$B:$S,VLOOKUP(B321,[1]Seznamy!$AZ:$BA,2,0),0)","v":"x"}]
["Competitor","GTV","TULIP úchytka Piombina 96 nikl matný + šroubky",{"$f":"CONCATENATE(B322,\"_\",C322)","v":"GTV_TULIP úchytka Piombina 96 nikl matný + šroubky"},{"$f":"VLOOKUP(C322,'[1]Competitor''s products_CZ'!$B:$S,VLOOKUP(B322,[1]Seznamy!$AZ:$BA,2,0),0)","v":"x"}]
["Competitor","GTV","TULIP Úchytka Ramara 596 imitace nerezi","GTV_TULIP Úchytka Ramara 596 imitace nerezi",{"$f":"VLOOKUP(C323,'[1]Competitor''s products_CZ'!$B:$S,VLOOKUP(B323,[1]Seznamy!$AZ:$BA,2,0),0)","v":"x"}]
["Competitor","GTV","TULIP věšák Lugo XL chrom matný + šroubky","GTV_TULIP věšák Lugo XL chrom matný + šroubky",{"$f":"VLOOKUP(C324,'[1]Competitor''s products_CZ'!$B:$S,VLOOKUP(B324,[1]Seznamy!$AZ:$BA,2,0),0)","v":"x"}]
["Competitor","GTV","Vrut PZ 4x18 zápustná hlava zinek bílý PZ2","GTV_Vrut PZ 4x18 zápustná hlava zinek bílý PZ2",{"$f":"VLOOKUP(C325,'[1]Competitor''s products_CZ'!$B:$S,VLOOKUP(B325,[1]Seznamy!$AZ:$BA,2,0),0)","v":"x"}]
["Competitor","Kili","ABSB 77039/414 W980/500/W954 ST2 23/2","Kili_ABSB 77039/414 W980/500/W954 ST2 23/2",{"$f":"VLOOKUP(C326,'[1]Competitor''s products_CZ'!$B:$S,VLOOKUP(B326,[1]Seznamy!$AZ:$BA,2,0),0)","v":"x"}]
["Competitor","Kili","ABSB HU10113 Bílá 101/110/113/8100/8685/W954/B3822 PE 22/2","Kili_ABSB HU10113 Bílá 101/110/113/8100/8685/W954/B3822 PE 22/2",{"$f":"VLOOKUP(C327,'[1]Competitor''s products_CZ'!$B:$S,VLOOKUP(B327,[1]Seznamy!$AZ:$BA,2,0),0)","v":"x"}]
["Competitor","Kili","Alfa II profile 222788","Kili_Alfa II profile 222788",{"$f":"VLOOKUP(C328,'[1]Competitor''s products_CZ'!$B:$S,VLOOKUP(B328,[1]Seznamy!$AZ:$BA,2,0),0)","v":0}]
["Competitor","Kili","BBP OA Zásuvka 515 mm kovová černá","Kili_BBP OA Zásuvka 515 mm kovová černá",{"$f":"VLOOKUP(C329,'[1]Competitor''s products_CZ'!$B:$S,VLOOKUP(B329,[1]Seznamy!$AZ:$BA,2,0),0)","v":"x"}]
["Competitor","Kili","DTDD DUB COMMERCIAL A/B DEC 2800/2070/19","Kili_DTDD DUB COMMERCIAL A/B DEC 2800/2070/19",{"$f":"VLOOKUP(C330,'[1]Competitor''s products_CZ'!$B:$S,VLOOKUP(B330,[1]Seznamy!$AZ:$BA,2,0),0)","v":"https://shop.kili.cz/desky-a-hrany/dyhovane-desky/dtd-dyhovane-desky/dtd-dyhovana-dub-commercial-a-b-s466732664"}]
["Competitor","Kili","DTDD Dub evr. radiál st A/B 2800/2070/19","Kili_DTDD Dub evr. radiál st A/B 2800/2070/19",{"$f":"VLOOKUP(C331,'[1]Competitor''s products_CZ'!$B:$S,VLOOKUP(B331,[1]Seznamy!$AZ:$BA,2,0),0)","v":"x"}]
["Competitor","Kili","DTDL W980 ST2 Platinově bílá 2800/2070/18","Kili_DTDL W980 ST2 Platinově bílá 2800/2070/18",{"$f":"VLOOKUP(C332,'[1]Competitor''s products_CZ'!$B:$S,VLOOKUP(B332,[1]Seznamy!$AZ:$BA,2,0),0)","v":"https://shop.kili.cz/desky-a-hrany/laminovane-desky-ltd/ltd-platinove-bila-w-980-st2-s466764962"}]
["Competitor","Kili","FRANKE Dřez BFG 611-78 780 x 500 onyx","Kili_FRANKE Dřez BFG 611-78 780 x 500 onyx",{"$f":"VLOOKUP(C333,'[1]Competitor''s products_CZ'!$B:$S,VLOOKUP(B333,[1]Seznamy!$AZ:$BA,2,0),0)","v":"https://shop.kili.cz/nabytkove-prislusenstvi/drezy-a-baterie/drezy/granitove/drez-linea-780-n-3-1-2-metalblack-horni-otocny-s628858237"}]
["Competitor","Kili","FRANKE Dřez ETN 610 455 x 435","Kili_FRANKE Dřez ETN 610 455 x 435",{"$f":"VLOOKUP(C334,'[1]Competitor''s products_CZ'!$B:$S,VLOOKUP(B334,[1]Seznamy!$AZ:$BA,2,0),0)","v":"https://shop.kili.cz/nabytkove-prislusenstvi/drezy-a-baterie/drezy/nerezove/drez-etn-610-455x435mm-6-4-s466765100"}]
["Competitor","Kili","FRANKE Dřez ETN 614 6/4 obyčejný ventil bez otvoru","Kili_FRANKE Dřez ETN 614 6/4 obyčejný ventil bez otvoru",{"$f":"VLOOKUP(C335,'[1]Competitor''s products_CZ'!$B:$S,VLOOKUP(B335,[1]Seznamy!$AZ:$BA,2,0),0)","v":"https://shop.kili.cz/nabytkove-prislusenstvi/drezy-a-baterie/drezy/nerezove/drez-etn-614-nova-6-4-780x435mm-s543036629"}]
["Competitor","Kili","GOLLINUCCI Sorter 580 Plus Line, 600 mm, výška 505mm, 80 l, šedý","Kili_GOLLINUCCI Sorter 580 Plus Line, 600 mm, výška 505mm, 80 l, šedý",{"$f":"VLOOKUP(C336,'[1]Competitor''s products_CZ'!$B:$S,VLOOKUP(B336,[1]Seznamy!$AZ:$BA,2,0),0)","v":"x"}]
["Competitor","Kili","GOLLINUCCI Sorter Linea 222, 300 mm","Kili_GOLLINUCCI Sorter Linea 222, 300 mm",{"$f":"VLOOKUP(C337,'[1]Competitor''s products_CZ'!$B:$S,VLOOKUP(B337,[1]Seznamy!$AZ:$BA,2,0),0)","v":"https://shop.kili.cz/nabytkove-prislusenstvi/odpadkove-kose/vestavne/odpadkovy-kos-albio-20-2x14l-s598872691"}]
["Competitor","Kili","GOLLINUCCI Sorter Sistema 901/2x16 l, 600 mm","Kili_GOLLINUCCI Sorter Sistema 901/2x16 l, 600 mm",{"$f":"VLOOKUP(C338,'[1]Competitor''s products_CZ'!$B:$S,VLOOKUP(B338,[1]Seznamy!$AZ:$BA,2,0),0)","v":"https://shop.kili.cz/nabytkove-prislusenstvi/odpadkove-kose/do-zasuvky/odpadkovy-kos-practiko-600-2x15l-s466744720"}]
["Competitor","Kili","HDF LAK 101 BÍLÁ PE 2800/2070/3","Kili_HDF LAK 101 BÍLÁ PE 2800/2070/3",{"$f":"VLOOKUP(C339,'[1]Competitor''s products_CZ'!$B:$S,VLOOKUP(B339,[1]Seznamy!$AZ:$BA,2,0),0)","v":"https://shop.kili.cz/desky-a-hrany/drevovlaknite-desky/hdf-lakovane/hdf-lak-jed-front-white-bila-101-pe-s466766182"}]
["Competitor","Kili","Konfirmát 7/50 zinek bílý bulk","Kili_Konfirmát 7/50 zinek bílý bulk",{"$f":"VLOOKUP(C340,'[1]Competitor''s products_CZ'!$B:$S,VLOOKUP(B340,[1]Seznamy!$AZ:$BA,2,0),0)","v":"https://shop.kili.cz/nabytkove-kovani/spojovaci-kovani/vruty-konfirmaty/zapustna-hlava/konfirmat-bily-7x50-baleno-po-250ks-s611124879"}]
["Competitor","Kili","SEVROLL Era úchytová lišta 18mm 2,70m stříbrná","Kili_SEVROLL Era úchytová lišta 18mm 2,70m stříbrná",{"$f":"VLOOKUP(C341,'[1]Competitor''s products_CZ'!$B:$S,VLOOKUP(B341,[1]Seznamy!$AZ:$BA,2,0),0)","v":0}]
["Competitor","Kili","Strong electric socket, lift","Kili_Strong electric socket, lift",{"$f":"VLOOKUP(C342,'[1]Competitor''s products_CZ'!$B:$S,VLOOKUP(B342,[1]Seznamy!$AZ:$BA,2,0),0)","v":"https://shop.kili.cz/spotrebice-led-osvetleni-a-naradi/svetla-elektrodoplnky/elektrodoplnky/elektro-sloupek-vysuvny-alu-3zasuvky-2xusb-na-s522117232"}]
["Competitor","Kili","STRONG Elektrická zásuvka 3x230V, francouzský typ, 265x130x68 mm stříbrná","Kili_STRONG Elektrická zásuvka 3x230V, francouzský typ, 265x130x68 mm stříbrná",{"$f":"VLOOKUP(C343,'[1]Competitor''s products_CZ'!$B:$S,VLOOKUP(B343,[1]Seznamy!$AZ:$BA,2,0),0)","v":"https://shop.kili.cz/spotrebice-led-osvetleni-a-naradi/zasuvka-stolova-vyklapeci-3-x-desksocket-flexi-bil-s559795420"}]
["Competitor","Kili","STRONG Elektricky stavitelná podnož černá RAL 9005 mat","Kili_STRONG Elektricky stavitelná podnož černá RAL 9005 mat",{"$f":"VLOOKUP(C344,'[1]Competitor''s products_CZ'!$B:$S,VLOOKUP(B344,[1]Seznamy!$AZ:$BA,2,0),0)","v":"https://shop.kili.cz/nabytkove-prislusenstvi/nohy-kolecka-a-kluzaky/stolove-konstrukce/elektricky-stavitelne/legadrive-sada-basic-antracitalu-elox-s560466519"}]
["Competitor","Kili","STRONG LED pásek 21,6W/m 24V bílá neutrální 210 LED/m","Kili_STRONG LED pásek 21,6W/m 24V bílá neutrální 210 LED/m",{"$f":"VLOOKUP(C345,'[1]Competitor''s products_CZ'!$B:$S,VLOOKUP(B345,[1]Seznamy!$AZ:$BA,2,0),0)","v":"Výběr"}]
["Competitor","Kili","STRONG plus závěs naložený s tlumením, s excentrem, klipový","Kili_STRONG plus závěs naložený s tlumením, s excentrem, klipový",{"$f":"VLOOKUP(C346,'[1]Competitor''s products_CZ'!$B:$S,VLOOKUP(B346,[1]Seznamy!$AZ:$BA,2,0),0)","v":"https://shop.kili.cz/nabytkove-kovani/zavesy/standardni-miskove-zavesy/klipovy-s-integrovanym-tlumenim/zaves-clip-nalozeny-s-tlumenim-na-vrut-podlozka-s604153292"}]
["Competitor","Kili","STRONG Rektifikační nožka 100 mm","Kili_STRONG Rektifikační nožka 100 mm",{"$f":"VLOOKUP(C347,'[1]Competitor''s products_CZ'!$B:$S,VLOOKUP(B347,[1]Seznamy!$AZ:$BA,2,0),0)","v":"https://shop.kili.cz/nabytkove-prislusenstvi/nohy-kolecka-a-kluzaky/rektifikacni-nozky/soklova-nozka-volpato-100-mm-s466731388"}]
["Competitor","Kili","STRONG Stolová noha centrální 450x450 černá","Kili_STRONG Stolová noha centrální 450x450 černá",{"$f":"VLOOKUP(C348,'[1]Competitor''s products_CZ'!$B:$S,VLOOKUP(B348,[1]Seznamy!$AZ:$BA,2,0),0)","v":"https://shop.kili.cz/nabytkove-prislusenstvi/nohy-kolecka-a-kluzaky/centralni-nohy/jednoduche/centralni-noha-bci-1711-43x43-cerna-s466740872"}]
["Competitor","Kili","STRONG transformátor plochý LED 24V 100W","Kili_STRONG transformátor plochý LED 24V 100W",{"$f":"VLOOKUP(C349,'[1]Competitor''s products_CZ'!$B:$S,VLOOKUP(B349,[1]Seznamy!$AZ:$BA,2,0),0)","v":"Varianta1"}]
["Competitor","Kili","STRONG závěs naložený, slide on","Kili_STRONG závěs naložený, slide on",{"$f":"VLOOKUP(C350,'[1]Competitor''s products_CZ'!$B:$S,VLOOKUP(B350,[1]Seznamy!$AZ:$BA,2,0),0)","v":"https://shop.kili.cz/nabytkove-kovani/zavesy/standardni-miskove-zavesy/bez-klipu-slide-on/ti-zaves-b-type-nalozeny-110-na-vrut-roztec-45-mm-s557437848"}]
["Competitor","Kili","StrongBox H86/500mm bílý","Kili_StrongBox H86/500mm bílý",{"$f":"VLOOKUP(C351,'[1]Competitor''s products_CZ'!$B:$S,VLOOKUP(B351,[1]Seznamy!$AZ:$BA,2,0),0)","v":"https://shop.kili.cz/nabytkove-kovani/zasuvky/systemy-dvojitych-bocnic/sety-s-vysuvy/plnovysuv-gamet-box-2-sedy-500mm-40kg-s496072570"}]
["Competitor","Kili","StrongMax 89/500 mm šedý (antracit)","Kili_StrongMax 89/500 mm šedý (antracit)",{"$f":"VLOOKUP(C352,'[1]Competitor''s products_CZ'!$B:$S,VLOOKUP(B352,[1]Seznamy!$AZ:$BA,2,0),0)","v":"https://shop.kili.cz/nabytkove-kovani/zasuvky/systemy-dvojitych-bocnic/sety-s-vysuvy/kompletni-zasuvka-concept-bila-105-mm-500-mm-30-k-s601727584"}]
["Competitor","Kili","StrongRide synchro 3D celovýsuv 500 mm s tlumením","Kili_StrongRide synchro 3D celovýsuv 500 mm s tlumením",{"$f":"VLOOKUP(C353,'[1]Competitor''s products_CZ'!$B:$S,VLOOKUP(B353,[1]Seznamy!$AZ:$BA,2,0),0)","v":"https://shop.kili.cz/nabytkove-kovani/zasuvky/skryte-vysuvy/s-tlumenim/plnovysuv-smart-slide-pro-drevene-z-500mm-30kg-ne-s490473710"}]
["Competitor","Kili","TULIP Gola dvířkový J profil 4,1m eloxovaný hliník","Kili_TULIP Gola dvířkový J profil 4,1m eloxovaný hliník",{"$f":"VLOOKUP(C354,'[1]Competitor''s products_CZ'!$B:$S,VLOOKUP(B354,[1]Seznamy!$AZ:$BA,2,0),0)","v":0}]
["Competitor","Kili","TULIP úchytka Anita 96 nikl matný + šroubky","Kili_TULIP úchytka Anita 96 nikl matný + šroubky",{"$f":"VLOOKUP(C355,'[1]Competitor''s products_CZ'!$B:$S,VLOOKUP(B355,[1]Seznamy!$AZ:$BA,2,0),0)","v":"x"}]
["Competitor","Kili","TULIP Úchytka Lucata 160 černá matná","Kili_TULIP Úchytka Lucata 160 černá matná",{"$f":"VLOOKUP(C356,'[1]Competitor''s products_CZ'!$B:$S,VLOOKUP(B356,[1]Seznamy!$AZ:$BA,2,0),0)","v":"x"}]
["Competitor","Kili","TULIP úchytka Nakana 128 chrom matný + šroubky","Kili_TULIP úchytka Nakana 128 chrom matný + šroubky",{"$f":"VLOOKUP(C357,'[1]Competitor''s products_CZ'!$B:$S,VLOOKUP(B357,[1]Seznamy!$AZ:$BA,2,0),0)","v":"https://shop.kili.cz/nabytkove-prislusenstvi/uchytky-a-vesaky/uchytky/kovove/uchytka-1956-185-zn1-chrom-s563445012"}]
["Competitor","Kili","TULIP úchytka Piombina 96 nikl matný + šroubky","Kili_TULIP úchytka Piombina 96 nikl matný + šroubky",{"$f":"VLOOKUP(C358,'[1]Competitor''s products_CZ'!$B:$S,VLOOKUP(B358,[1]Seznamy!$AZ:$BA,2,0),0)","v":"x"}]
["Competitor","Kili","TULIP Úchytka Ramara 596 imitace nerezi","Kili_TULIP Úchytka Ramara 596 imitace nerezi",{"$f":"VLOOKUP(C359,'[1]Competitor''s products_CZ'!$B:$S,VLOOKUP(B359,[1]Seznamy!$AZ:$BA,2,0),0)","v":"x"}]
["Competitor","Kili","TULIP věšák Lugo XL chrom matný + šroubky","Kili_TULIP věšák Lugo XL chrom matný + šroubky",{"$f":"VLOOKUP(C360,'[1]Competitor''s products_CZ'!$B:$S,VLOOKUP(B360,[1]Seznamy!$AZ:$BA,2,0),0)","v":"https://shop.kili.cz/nabytkove-prislusenstvi/uchytky-a-vesaky/vesaky/trojhacky/vesak-pavel-nikl-mat-s466767606"}]
["Competitor","Kili","Vrut PZ 4x18 zápustná hlava zinek bílý PZ2","Kili_Vrut PZ 4x18 zápustná hlava zinek bílý PZ2",{"$f":"VLOOKUP(C361,'[1]Competitor''s products_CZ'!$B:$S,VLOOKUP(B361,[1]Seznamy!$AZ:$BA,2,0),0)","v":"https://shop.kili.cz/nabytkove-kovani/spojovaci-kovani/vruty-konfirmaty/zapustna-hlava/vrut-zluty-zap-hlava-pz-celozavit-s526489604"}]
["Competitor","Sinks","ABSB 77039/414 W980/500/W954 ST2 23/2","Sinks_ABSB 77039/414 W980/500/W954 ST2 23/2",{"$f":"VLOOKUP(C362,'[1]Competitor''s products_CZ'!$B:$S,VLOOKUP(B362,[1]Seznamy!$AZ:$BA,2,0),0)","v":"x"}]
["Competitor","Sinks","ABSB HU10113 Bílá 101/110/113/8100/8685/W954/B3822 PE 22/2","Sinks_ABSB HU10113 Bílá 101/110/113/8100/8685/W954/B3822 PE 22/2",{"$f":"VLOOKUP(C363,'[1]Competitor''s products_CZ'!$B:$S,VLOOKUP(B363,[1]Seznamy!$AZ:$BA,2,0),0)","v":"x"}]
["Competitor","Sinks","Alfa II profile 222788","Sinks_Alfa II profile 222788",{"$f":"VLOOKUP(C364,'[1]Competitor''s products_CZ'!$B:$S,VLOOKUP(B364,[1]Seznamy!$AZ:$BA,2,0),0)","v":"x"}]
["Competitor","Sinks","BBP OA Zásuvka 515 mm kovová černá","Sinks_BBP OA Zásuvka 515 mm kovová černá",{"$f":"VLOOKUP(C365,'[1]Competitor''s products_CZ'!$B:$S,VLOOKUP(B365,[1]Seznamy!$AZ:$BA,2,0),0)","v":"x"}]
["Competitor","Sinks","DTDD DUB COMMERCIAL A/B DEC 2800/2070/19","Sinks_DTDD DUB COMMERCIAL A/B DEC 2800/2070/19",{"$f":"VLOOKUP(C366,'[1]Competitor''s products_CZ'!$B:$S,VLOOKUP(B366,[1]Seznamy!$AZ:$BA,2,0),0)","v":"x"}]
["Competitor","Sinks","DTDD Dub evr. radiál st A/B 2800/2070/19","Sinks_DTDD Dub evr. radiál st A/B 2800/2070/19",{"$f":"VLOOKUP(C367,'[1]Competitor''s products_CZ'!$B:$S,VLOOKUP(B367,[1]Seznamy!$AZ:$BA,2,0),0)","v":"x"}]
["Competitor","Sinks","DTDL W980 ST2 Platinově bílá 2800/2070/18","Sinks_DTDL W980 ST2 Platinově bílá 2800/2070/18",{"$f":"VLOOKUP(C368,'[1]Competitor''s products_CZ'!$B:$S,VLOOKUP(B368,[1]Seznamy!$AZ:$BA,2,0),0)","v":"x"}]
["Competitor","Sinks","FRANKE Dřez BFG 611-78 780 x 500 onyx","Sinks_FRANKE Dřez BFG 611-78 780 x 500 onyx",{"$f":"VLOOKUP(C369,'[1]Competitor''s products_CZ'!$B:$S,VLOOKUP(B369,[1]Seznamy!$AZ:$BA,2,0),0)","v":"https://www.sinks.cz/sinks-rapid-780-granblack"}]
["Competitor","Sinks","FRANKE Dřez ETN 610 455 x 435","Sinks_FRANKE Dřez ETN 610 455 x 435",{"$f":"VLOOKUP(C370,'[1]Competitor''s products_CZ'!$B:$S,VLOOKUP(B370,[1]Seznamy!$AZ:$BA,2,0),0)","v":"https://www.sinks.cz/sinks-compact-435-m-05mm-matny"}]
["Competitor","Sinks","FRANKE Dřez ETN 614 6/4 obyčejný ventil bez otvoru","Sinks_FRANKE Dřez ETN 614 6/4 obyčejný ventil bez otvoru",{"$f":"VLOOKUP(C371,'[1]Competitor''s products_CZ'!$B:$S,VLOOKUP(B371,[1]Seznamy!$AZ:$BA,2,0),0)","v":"https://www.sinks.cz/sinks-okio-780-v-05mm-lesteny"}]
["Competitor","Sinks","GOLLINUCCI Sorter 580 Plus Line, 600 mm, výška 505mm, 80 l, šedý","Sinks_GOLLINUCCI Sorter 580 Plus Line, 600 mm, výška 505mm, 80 l, šedý",{"$f":"VLOOKUP(C372,'[1]Competitor''s products_CZ'!$B:$S,VLOOKUP(B372,[1]Seznamy!$AZ:$BA,2,0),0)","v":"x"}]
["Competitor","Sinks","GOLLINUCCI Sorter Linea 222, 300 mm","Sinks_GOLLINUCCI Sorter Linea 222, 300 mm",{"$f":"VLOOKUP(C373,'[1]Competitor''s products_CZ'!$B:$S,VLOOKUP(B373,[1]Seznamy!$AZ:$BA,2,0),0)","v":"https://www.sinks.cz/sinks-patty-30-1x8l-1x16l"}]
["Competitor","Sinks","GOLLINUCCI Sorter Sistema 901/2x16 l, 600 mm","Sinks_GOLLINUCCI Sorter Sistema 901/2x16 l, 600 mm",{"$f":"VLOOKUP(C374,'[1]Competitor''s products_CZ'!$B:$S,VLOOKUP(B374,[1]Seznamy!$AZ:$BA,2,0),0)","v":"https://www.sinks.cz/sinks-practiko-600-2x15l"}]
["Competitor","Sinks","HDF LAK 101 BÍLÁ PE 2800/2070/3","Sinks_HDF LAK 101 BÍLÁ PE 2800/2070/3",{"$f":"VLOOKUP(C375,'[1]Competitor''s products_CZ'!$B:$S,VLOOKUP(B375,[1]Seznamy!$AZ:$BA,2,0),0)","v":"x"}]
["Competitor","Sinks","Konfirmát 7/50 zinek bílý bulk","Sinks_Konfirmát 7/50 zinek bílý bulk",{"$f":"VLOOKUP(C376,'[1]Competitor''s products_CZ'!$B:$S,VLOOKUP(B376,[1]Seznamy!$AZ:$BA,2,0),0)","v":"x"}]
["Competitor","Sinks","SEVROLL Era úchytová lišta 18mm 2,70m stříbrná","Sinks_SEVROLL Era úchytová lišta 18mm 2,70m stříbrná",{"$f":"VLOOKUP(C377,'[1]Competitor''s products_CZ'!$B:$S,VLOOKUP(B377,[1]Seznamy!$AZ:$BA,2,0),0)","v":"x"}]
["Competitor","Sinks","Strong electric socket, lift","Sinks_Strong electric socket, lift",{"$f":"VLOOKUP(C378,'[1]Competitor''s products_CZ'!$B:$S,VLOOKUP(B378,[1]Seznamy!$AZ:$BA,2,0),0)","v":"x"}]
["Competitor","Sinks","STRONG Elektrická zásuvka 3x230V, francouzský typ, 265x130x68 mm stříbrná","Sinks_STRONG Elektrická zásuvka 3x230V, francouzský typ, 265x130x68 mm stříbrná",{"$f":"VLOOKUP(C379,'[1]Competitor''s products_CZ'!$B:$S,VLOOKUP(B379,[1]Seznamy!$AZ:$BA,2,0),0)","v":"x"}]
["Competitor","Sinks","STRONG Elektricky stavitelná podnož černá RAL 9005 mat","Sinks_STRONG Elektricky stavitelná podnož černá RAL 9005 mat",{"$f":"VLOOKUP(C380,'[1]Competitor''s products_CZ'!$B:$S,VLOOKUP(B380,[1]Seznamy!$AZ:$BA,2,0),0)","v":"x"}]
["Competitor","Sinks","STRONG LED pásek 21,6W/m 24V bílá neutrální 210 LED/m","Sinks_STRONG LED pásek 21,6W/m 24V bílá neutrální 210 LED/m",{"$f":"VLOOKUP(C381,'[1]Competitor''s products_CZ'!$B:$S,VLOOKUP(B381,[1]Seznamy!$AZ:$BA,2,0),0)","v":"x"}]
["Competitor","Sinks","STRONG plus závěs naložený s tlumením, s excentrem, klipový","Sinks_STRONG plus závěs naložený s tlumením, s excentrem, klipový",{"$f":"VLOOKUP(C382,'[1]Competitor''s products_CZ'!$B:$S,VLOOKUP(B382,[1]Seznamy!$AZ:$BA,2,0),0)","v":"x"}]
["Competitor","Sinks","STRONG Rektifikační nožka 100 mm","Sinks_STRONG Rektifikační nožka 100 mm",{"$f":"VLOOKUP(C383,'[1]Competitor''s products_CZ'!$B:$S,VLOOKUP(B383,[1]Seznamy!$AZ:$BA,2,0),0)","v":"x"}]
["Competitor","Sinks","STRONG Stolová noha centrální 450x450 černá","Sinks_STRONG Stolová noha centrální 450x450 černá",{"$f":"VLOOKUP(C384,'[1]Competitor''s products_CZ'!$B:$S,VLOOKUP(B384,[1]Seznamy!$AZ:$BA,2,0),0)","v":"x"}]
["Competitor","Sinks","STRONG transformátor plochý LED 24V 100W","Sinks_STRONG transformátor plochý LED 24V 100W",{"$f":"VLOOKUP(C385,'[1]Competitor''s products_CZ'!$B:$S,VLOOKUP(B385,[1]Seznamy!$AZ:$BA,2,0),0)","v":"x"}]
["Competitor","Sinks","STRONG závěs naložený, slide on",{"$f":"CONCATENATE(B386,\"_\",C386)","v":"Sinks_STRONG závěs naložený, slide on"},{"$f":"VLOOKUP(C386,'[1]Competitor''s products_CZ'!$B:$S,VLOOKUP(B386,[1]Seznamy!$AZ:$BA,2,0),0)","v":"x"}]
["Competitor","Sinks","StrongBox H86/500mm bílý","Sinks_StrongBox H86/500mm bílý",{"$f":"VLOOKUP(C387,'[1]Competitor''s products_CZ'!$B:$S,VLOOKUP(B387,[1]Seznamy!$AZ:$BA,2,0),0)","v":"x"}]
["Competitor","Sinks","StrongMax 89/500 mm šedý (antracit)","Sinks_StrongMax 89/500 mm šedý (antracit)",{"$f":"VLOOKUP(C388,'[1]Competitor''s products_CZ'!$B:$S,VLOOKUP(B388,[1]Seznamy!$AZ:$BA,2,0),0)","v":"x"}]
["Competitor","Sinks","StrongRide synchro 3D celovýsuv 500 mm s tlumením","Sinks_StrongRide synchro 3D celovýsuv 500 mm s tlumením",{"$f":"VLOOKUP(C389,'[1]Competitor''s products_CZ'!$B:$S,VLOOKUP(B389,[1]Seznamy!$AZ:$BA,2,0),0)","v":"x"}]
["Competitor","Sinks","TULIP Gola dvířkový J profil 4,1m eloxovaný hliník","Sinks_TULIP Gola dvířkový J profil 4,1m eloxovaný hliník",{"$f":"VLOOKUP(C390,'[1]Competitor''s products_CZ'!$B:$S,VLOOKUP(B390,[1]Seznamy!$AZ:$BA,2,0),0)","v":"x"}]
["Competitor","Sinks","TULIP úchytka Anita 96 nikl matný + šroubky","Sinks_TULIP úchytka Anita 96 nikl matný + šroubky",{"$f":"VLOOKUP(C391,'[1]Competitor''s products_CZ'!$B:$S,VLOOKUP(B391,[1]Seznamy!$AZ:$BA,2,0),0)","v":"x"}]
["Competitor","Sinks","TULIP Úchytka Lucata 160 černá matná","Sinks_TULIP Úchytka Lucata 160 černá matná",{"$f":"VLOOKUP(C392,'[1]Competitor''s products_CZ'!$B:$S,VLOOKUP(B392,[1]Seznamy!$AZ:$BA,2,0),0)","v":"x"}]
["Competitor","Sinks","TULIP úchytka Nakana 128 chrom matný + šroubky","Sinks_TULIP úchytka Nakana 128 chrom matný + šroubky",{"$f":"VLOOKUP(C393,'[1]Competitor''s products_CZ'!$B:$S,VLOOKUP(B393,[1]Seznamy!$AZ:$BA,2,0),0)","v":"x"}]
["Competitor","Sinks","TULIP úchytka Piombina 96 nikl matný + šroubky","Sinks_TULIP úchytka Piombina 96 nikl matný + šroubky",{"$f":"VLOOKUP(C394,'[1]Competitor''s products_CZ'!$B:$S,VLOOKUP(B394,[1]Seznamy!$AZ:$BA,2,0),0)","v":"x"}]
["Competitor","Sinks","TULIP Úchytka Ramara 596 imitace nerezi","Sinks_TULIP Úchytka Ramara 596 imitace nerezi",{"$f":"VLOOKUP(C395,'[1]Competitor''s products_CZ'!$B:$S,VLOOKUP(B395,[1]Seznamy!$AZ:$BA,2,0),0)","v":"x"}]
["Competitor","Sinks","TULIP věšák Lugo XL chrom matný + šroubky","Sinks_TULIP věšák Lugo XL chrom matný + šroubky",{"$f":"VLOOKUP(C396,'[1]Competitor''s products_CZ'!$B:$S,VLOOKUP(B396,[1]Seznamy!$AZ:$BA,2,0),0)","v":"x"}]
["Competitor","Sinks","Vrut PZ 4x18 zápustná hlava zinek bílý PZ2","Sinks_Vrut PZ 4x18 zápustná hlava zinek bílý PZ2",{"$f":"VLOOKUP(C397,'[1]Competitor''s products_CZ'!$B:$S,VLOOKUP(B397,[1]Seznamy!$AZ:$BA,2,0),0)","v":"x"}]
["Competitor","Kopecký CZ","ABSB 77039/414 W980/500/W954 ST2 23/2","Kopecký CZ_ABSB 77039/414 W980/500/W954 ST2 23/2",{"$f":"VLOOKUP(C398,'[1]Competitor''s products_CZ'!$B:$S,VLOOKUP(B398,[1]Seznamy!$AZ:$BA,2,0),0)","v":"x"}]
["Competitor","Kopecký CZ","ABSB HU10113 Bílá 101/110/113/8100/8685/W954/B3822 PE 22/2","Kopecký CZ_ABSB HU10113 Bílá 101/110/113/8100/8685/W954/B3822 PE 22/2",{"$f":"VLOOKUP(C399,'[1]Competitor''s products_CZ'!$B:$S,VLOOKUP(B399,[1]Seznamy!$AZ:$BA,2,0),0)","v":"x"}]
["Competitor","Kopecký CZ","Alfa II profile 222788","Kopecký CZ_Alfa II profile 222788",{"$f":"VLOOKUP(C400,'[1]Competitor''s products_CZ'!$B:$S,VLOOKUP(B400,[1]Seznamy!$AZ:$BA,2,0),0)","v":0}]
["Competitor","Kopecký CZ","BBP OA Zásuvka 515 mm kovová černá","Kopecký CZ_BBP OA Zásuvka 515 mm kovová černá",{"$f":"VLOOKUP(C401,'[1]Competitor''s products_CZ'!$B:$S,VLOOKUP(B401,[1]Seznamy!$AZ:$BA,2,0),0)","v":"x"}]
["Competitor","Kopecký CZ","DTDD DUB COMMERCIAL A/B DEC 2800/2070/19","Kopecký CZ_DTDD DUB COMMERCIAL A/B DEC 2800/2070/19",{"$f":"VLOOKUP(C402,'[1]Competitor''s products_CZ'!$B:$S,VLOOKUP(B402,[1]Seznamy!$AZ:$BA,2,0),0)","v":"x"}]
["Competitor","Kopecký CZ","DTDD Dub evr. radiál st A/B 2800/2070/19","Kopecký CZ_DTDD Dub evr. radiál st A/B 2800/2070/19",{"$f":"VLOOKUP(C403,'[1]Competitor''s products_CZ'!$B:$S,VLOOKUP(B403,[1]Seznamy!$AZ:$BA,2,0),0)","v":"x"}]
["Competitor","Kopecký CZ","DTDL W980 ST2 Platinově bílá 2800/2070/18","Kopecký CZ_DTDL W980 ST2 Platinově bílá 2800/2070/18",{"$f":"VLOOKUP(C404,'[1]Competitor''s products_CZ'!$B:$S,VLOOKUP(B404,[1]Seznamy!$AZ:$BA,2,0),0)","v":"x"}]
["Competitor","Kopecký CZ","FRANKE Dřez BFG 611-78 780 x 500 onyx","Kopecký CZ_FRANKE Dřez BFG 611-78 780 x 500 onyx",{"$f":"VLOOKUP(C405,'[1]Competitor''s products_CZ'!$B:$S,VLOOKUP(B405,[1]Seznamy!$AZ:$BA,2,0),0)","v":"https://www.kovani-nabytek.cz/cs/jednodrezy-s-odkapni-plochou-jbl/drez-rock-130-1-drez-odk-sif-780x480-180-granit-cerny.html"}]
["Competitor","Kopecký CZ","FRANKE Dřez ETN 610 455 x 435","Kopecký CZ_FRANKE Dřez ETN 610 455 x 435",{"$f":"VLOOKUP(C406,'[1]Competitor''s products_CZ'!$B:$S,VLOOKUP(B406,[1]Seznamy!$AZ:$BA,2,0),0)","v":"https://www.kovani-nabytek.cz/cs/jednodrezy/drez-etn-610-1-drez-455-x-435mm.html"}]
["Competitor","Kopecký CZ","FRANKE Dřez ETN 614 6/4 obyčejný ventil bez otvoru","Kopecký CZ_FRANKE Dřez ETN 614 6/4 obyčejný ventil bez otvoru",{"$f":"VLOOKUP(C407,'[1]Competitor''s products_CZ'!$B:$S,VLOOKUP(B407,[1]Seznamy!$AZ:$BA,2,0),0)","v":"https://www.kovani-nabytek.cz/cs/jednodrezy-s-odkapni-plochou/drez-etn-614-1-drez-odkap-780-x-435mm.html"}]
["Competitor","Kopecký CZ","GOLLINUCCI Sorter 580 Plus Line, 600 mm, výška 505mm, 80 l, šedý","Kopecký CZ_GOLLINUCCI Sorter 580 Plus Line, 600 mm, výška 505mm, 80 l, šedý",{"$f":"VLOOKUP(C408,'[1]Competitor''s products_CZ'!$B:$S,VLOOKUP(B408,[1]Seznamy!$AZ:$BA,2,0),0)","v":"https://www.kovani-nabytek.cz/cs/vysuvne-s-tlumenim/kos-odpadkovy-rejs-jc609-60-plnovysuv-soft-v450mm-2x20l-2x9l-sedy.html"}]
["Competitor","Kopecký CZ","GOLLINUCCI Sorter Linea 222, 300 mm","Kopecký CZ_GOLLINUCCI Sorter Linea 222, 300 mm",{"$f":"VLOOKUP(C409,'[1]Competitor''s products_CZ'!$B:$S,VLOOKUP(B409,[1]Seznamy!$AZ:$BA,2,0),0)","v":"https://www.kovani-nabytek.cz/cs/vysuvne-s-tlumenim/kos-odp-jc60330-1x20l-x10lse.html"}]
["Competitor","Kopecký CZ","GOLLINUCCI Sorter Sistema 901/2x16 l, 600 mm","Kopecký CZ_GOLLINUCCI Sorter Sistema 901/2x16 l, 600 mm",{"$f":"VLOOKUP(C410,'[1]Competitor''s products_CZ'!$B:$S,VLOOKUP(B410,[1]Seznamy!$AZ:$BA,2,0),0)","v":"https://www.kovani-nabytek.cz/cs/do-zasuvky/kos-odp-multino-do-zasuvky-600-2-kos-2x15ll-sedy.html"}]
["Competitor","Kopecký CZ","HDF LAK 101 BÍLÁ PE 2800/2070/3","Kopecký CZ_HDF LAK 101 BÍLÁ PE 2800/2070/3",{"$f":"VLOOKUP(C411,'[1]Competitor''s products_CZ'!$B:$S,VLOOKUP(B411,[1]Seznamy!$AZ:$BA,2,0),0)","v":"x"}]
["Competitor","Kopecký CZ","Konfirmát 7/50 zinek bílý bulk","Kopecký CZ_Konfirmát 7/50 zinek bílý bulk",{"$f":"VLOOKUP(C412,'[1]Competitor''s products_CZ'!$B:$S,VLOOKUP(B412,[1]Seznamy!$AZ:$BA,2,0),0)","v":"https://www.kovani-nabytek.cz/cs/konfirmaty-eurovruty-ostatni/konfirmat-7-50-zinek.html"}]
["Competitor","Kopecký CZ","SEVROLL Era úchytová lišta 18mm 2,70m stříbrná","Kopecký CZ_SEVROLL Era úchytová lišta 18mm 2,70m stříbrná",{"$f":"VLOOKUP(C413,'[1]Competitor''s products_CZ'!$B:$S,VLOOKUP(B413,[1]Seznamy!$AZ:$BA,2,0),0)","v":0}]
["Competitor","Kopecký CZ","Strong electric socket, lift","Kopecký CZ_Strong electric socket, lift",{"$f":"VLOOKUP(C414,'[1]Competitor''s products_CZ'!$B:$S,VLOOKUP(B414,[1]Seznamy!$AZ:$BA,2,0),0)","v":"https://www.kovani-nabytek.cz/cs/elektroveze-zasuvky/zasuvka-elektro-stolova-vysuvna-vez-60mm-3x-zasuvka-xusb-kabel-stribrna-plast.html?search_query=zasuvka&results=153"}]
["Competitor","Kopecký CZ","STRONG Elektrická zásuvka 3x230V, francouzský typ, 265x130x68 mm stříbrná","Kopecký CZ_STRONG Elektrická zásuvka 3x230V, francouzský typ, 265x130x68 mm stříbrná",{"$f":"VLOOKUP(C415,'[1]Competitor''s products_CZ'!$B:$S,VLOOKUP(B415,[1]Seznamy!$AZ:$BA,2,0),0)","v":"https://www.kovani-nabytek.cz/cs/elektroveze-zasuvky/zasuvka-elektro-stolova-vyklopna-zapustna-3x-zasuvka-kabel-stribrna.html"}]
["Competitor","Kopecký CZ","STRONG Elektricky stavitelná podnož černá RAL 9005 mat","Kopecký CZ_STRONG Elektricky stavitelná podnož černá RAL 9005 mat",{"$f":"VLOOKUP(C416,'[1]Competitor''s products_CZ'!$B:$S,VLOOKUP(B416,[1]Seznamy!$AZ:$BA,2,0),0)","v":"x"}]
["Competitor","Kopecký CZ","STRONG LED pásek 21,6W/m 24V bílá neutrální 210 LED/m","Kopecký CZ_STRONG LED pásek 21,6W/m 24V bílá neutrální 210 LED/m",{"$f":"VLOOKUP(C417,'[1]Competitor''s products_CZ'!$B:$S,VLOOKUP(B417,[1]Seznamy!$AZ:$BA,2,0),0)","v":"výběr"}]
["Competitor","Kopecký CZ","STRONG plus závěs naložený s tlumením, s excentrem, klipový","Kopecký CZ_STRONG plus závěs naložený s tlumením, s excentrem, klipový",{"$f":"VLOOKUP(C418,'[1]Competitor''s products_CZ'!$B:$S,VLOOKUP(B418,[1]Seznamy!$AZ:$BA,2,0),0)","v":"https://www.kovani-nabytek.cz/cs/zavesy-s-tlumenim/zaves-nalozeny-gtv-innovo-clip-tlumeni-podlozka-eur.html"}]
["Competitor","Kopecký CZ","STRONG Rektifikační nožka 100 mm","Kopecký CZ_STRONG Rektifikační nožka 100 mm",{"$f":"VLOOKUP(C419,'[1]Competitor''s products_CZ'!$B:$S,VLOOKUP(B419,[1]Seznamy!$AZ:$BA,2,0),0)","v":"https://www.kovani-nabytek.cz/cs/kuchynske-nozky/nozka-kuchynska-100mm-3-dilna.html"}]
["Competitor","Kopecký CZ","STRONG Stolová noha centrální 450x450 černá","Kopecký CZ_STRONG Stolová noha centrální 450x450 černá",{"$f":"VLOOKUP(C420,'[1]Competitor''s products_CZ'!$B:$S,VLOOKUP(B420,[1]Seznamy!$AZ:$BA,2,0),0)","v":"https://www.kovani-nabytek.cz/cs/centralni-nohy/noha-centralni-hranata-435x435x700mm-cerna-komplet.html"}]
["Competitor","Kopecký CZ","STRONG transformátor plochý LED 24V 100W","Kopecký CZ_STRONG transformátor plochý LED 24V 100W",{"$f":"VLOOKUP(C421,'[1]Competitor''s products_CZ'!$B:$S,VLOOKUP(B421,[1]Seznamy!$AZ:$BA,2,0),0)","v":"Výběr"}]
["Competitor","Kopecký CZ","STRONG závěs naložený, slide on","Kopecký CZ_STRONG závěs naložený, slide on",{"$f":"VLOOKUP(C422,'[1]Competitor''s products_CZ'!$B:$S,VLOOKUP(B422,[1]Seznamy!$AZ:$BA,2,0),0)","v":"https://www.kovani-nabytek.cz/cs/zavesy-klasicke-slide-on/zaves-nalozeny-gtv-cn-09-100-podlozka.html"}]
["Competitor","Kopecký CZ","StrongBox H86/500mm bílý","Kopecký CZ_StrongBox H86/500mm bílý",{"$f":"VLOOKUP(C423,'[1]Competitor''s products_CZ'!$B:$S,VLOOKUP(B423,[1]Seznamy!$AZ:$BA,2,0),0)","v":"https://www.kovani-nabytek.cz/cs/modern-box-gtv/modern-box-plno-otah-tlumeni-500-96mm-40kg-bily.html"}]
["Competitor","Kopecký CZ","StrongMax 89/500 mm šedý (antracit)","Kopecký CZ_StrongMax 89/500 mm šedý (antracit)",{"$f":"VLOOKUP(C424,'[1]Competitor''s products_CZ'!$B:$S,VLOOKUP(B424,[1]Seznamy!$AZ:$BA,2,0),0)","v":"https://www.kovani-nabytek.cz/cs/designo-box-komplet/designo-box-slim-s-tlumenim-nizky-500-111-18mm-40kg-regulace-4d-antracit-bal-10.html"}]
["Competitor","Kopecký CZ","StrongRide synchro 3D celovýsuv 500 mm s tlumením","Kopecký CZ_StrongRide synchro 3D celovýsuv 500 mm s tlumením",{"$f":"VLOOKUP(C425,'[1]Competitor''s products_CZ'!$B:$S,VLOOKUP(B425,[1]Seznamy!$AZ:$BA,2,0),0)","v":"https://www.kovani-nabytek.cz/cs/plnovysuvy-s-tlumenim/plnovysuv-skryty-star-synchro-500-18mm-tlumeni-3d-regulace-40kg.html"}]
["Competitor","Kopecký CZ","TULIP Gola dvířkový J profil 4,1m eloxovaný hliník","Kopecký CZ_TULIP Gola dvířkový J profil 4,1m eloxovaný hliník",{"$f":"VLOOKUP(C426,'[1]Competitor''s products_CZ'!$B:$S,VLOOKUP(B426,[1]Seznamy!$AZ:$BA,2,0),0)","v":0}]
["Competitor","Kopecký CZ","TULIP úchytka Anita 96 nikl matný + šroubky","Kopecký CZ_TULIP úchytka Anita 96 nikl matný + šroubky",{"$f":"VLOOKUP(C427,'[1]Competitor''s products_CZ'!$B:$S,VLOOKUP(B427,[1]Seznamy!$AZ:$BA,2,0),0)","v":"x"}]
["Competitor","Kopecký CZ","TULIP Úchytka Lucata 160 černá matná","Kopecký CZ_TULIP Úchytka Lucata 160 černá matná",{"$f":"VLOOKUP(C428,'[1]Competitor''s products_CZ'!$B:$S,VLOOKUP(B428,[1]Seznamy!$AZ:$BA,2,0),0)","v":"x"}]
["Competitor","Kopecký CZ","TULIP úchytka Nakana 128 chrom matný + šroubky","Kopecký CZ_TULIP úchytka Nakana 128 chrom matný + šroubky",{"$f":"VLOOKUP(C429,'[1]Competitor''s products_CZ'!$B:$S,VLOOKUP(B429,[1]Seznamy!$AZ:$BA,2,0),0)","v":"https://www.kovani-nabytek.cz/cs/uchytky-kovove/uchytka-d705-128mm-cr-mat.html?search_query=D705+128&results=9"}]
["Competitor","Kopecký CZ","TULIP úchytka Piombina 96 nikl matný + šroubky","Kopecký CZ_TULIP úchytka Piombina 96 nikl matný + šroubky",{"$f":"VLOOKUP(C430,'[1]Competitor''s products_CZ'!$B:$S,VLOOKUP(B430,[1]Seznamy!$AZ:$BA,2,0),0)","v":"x"}]
["Competitor","Kopecký CZ","TULIP Úchytka Ramara 596 imitace nerezi","Kopecký CZ_TULIP Úchytka Ramara 596 imitace nerezi",{"$f":"VLOOKUP(C431,'[1]Competitor''s products_CZ'!$B:$S,VLOOKUP(B431,[1]Seznamy!$AZ:$BA,2,0),0)","v":"x"}]
["Competitor","Kopecký CZ","TULIP věšák Lugo XL chrom matný + šroubky","Kopecký CZ_TULIP věšák Lugo XL chrom matný + šroubky",{"$f":"VLOOKUP(C432,'[1]Competitor''s products_CZ'!$B:$S,VLOOKUP(B432,[1]Seznamy!$AZ:$BA,2,0),0)","v":"https://www.kovani-nabytek.cz/cs/hacky-na-saty/vesak-k24-velky-wp59-romana-i-cr-sat.html"}]
["Competitor","Kopecký CZ","Vrut PZ 4x18 zápustná hlava zinek bílý PZ2","Kopecký CZ_Vrut PZ 4x18 zápustná hlava zinek bílý PZ2",{"$f":"VLOOKUP(C433,'[1]Competitor''s products_CZ'!$B:$S,VLOOKUP(B433,[1]Seznamy!$AZ:$BA,2,0),0)","v":"https://www.kovani-nabytek.cz/cs/vruty-do-drevotrisky/vrut-4-16-pozidriv-zn-zluty.html"}]
["Competitor","ARDEA","ABSB 77039/414 W980/500/W954 ST2 23/2","ARDEA_ABSB 77039/414 W980/500/W954 ST2 23/2",{"$f":"VLOOKUP(C434,'[1]Competitor''s products_CZ'!$B:$S,VLOOKUP(B434,[1]Seznamy!$AZ:$BA,2,0),0)","v":"x"}]
["Competitor","ARDEA","ABSB HU10113 Bílá 101/110/113/8100/8685/W954/B3822 PE 22/2","ARDEA_ABSB HU10113 Bílá 101/110/113/8100/8685/W954/B3822 PE 22/2",{"$f":"VLOOKUP(C435,'[1]Competitor''s products_CZ'!$B:$S,VLOOKUP(B435,[1]Seznamy!$AZ:$BA,2,0),0)","v":"x"}]
["Competitor","ARDEA","Alfa II profile 222788","ARDEA_Alfa II profile 222788",{"$f":"VLOOKUP(C436,'[1]Competitor''s products_CZ'!$B:$S,VLOOKUP(B436,[1]Seznamy!$AZ:$BA,2,0),0)","v":0}]
["Competitor","ARDEA","BBP OA Zásuvka 515 mm kovová černá","ARDEA_BBP OA Zásuvka 515 mm kovová černá",{"$f":"VLOOKUP(C437,'[1]Competitor''s products_CZ'!$B:$S,VLOOKUP(B437,[1]Seznamy!$AZ:$BA,2,0),0)","v":"x"}]
["Competitor","ARDEA","DTDD DUB COMMERCIAL A/B DEC 2800/2070/19","ARDEA_DTDD DUB COMMERCIAL A/B DEC 2800/2070/19",{"$f":"VLOOKUP(C438,'[1]Competitor''s products_CZ'!$B:$S,VLOOKUP(B438,[1]Seznamy!$AZ:$BA,2,0),0)","v":"x"}]
["Competitor","ARDEA","DTDD Dub evr. radiál st A/B 2800/2070/19","ARDEA_DTDD Dub evr. radiál st A/B 2800/2070/19",{"$f":"VLOOKUP(C439,'[1]Competitor''s products_CZ'!$B:$S,VLOOKUP(B439,[1]Seznamy!$AZ:$BA,2,0),0)","v":"x"}]
["Competitor","ARDEA","DTDL W980 ST2 Platinově bílá 2800/2070/18","ARDEA_DTDL W980 ST2 Platinově bílá 2800/2070/18",{"$f":"VLOOKUP(C440,'[1]Competitor''s products_CZ'!$B:$S,VLOOKUP(B440,[1]Seznamy!$AZ:$BA,2,0),0)","v":"x"}]
["Competitor","ARDEA","FRANKE Dřez BFG 611-78 780 x 500 onyx","ARDEA_FRANKE Dřez BFG 611-78 780 x 500 onyx",{"$f":"VLOOKUP(C441,'[1]Competitor''s products_CZ'!$B:$S,VLOOKUP(B441,[1]Seznamy!$AZ:$BA,2,0),0)","v":"https://www.ardea-cz.cz/franke-drez-bfg-611-78"}]
["Competitor","ARDEA","FRANKE Dřez ETN 610 455 x 435","ARDEA_FRANKE Dřez ETN 610 455 x 435",{"$f":"VLOOKUP(C442,'[1]Competitor''s products_CZ'!$B:$S,VLOOKUP(B442,[1]Seznamy!$AZ:$BA,2,0),0)","v":"https://www.ardea-cz.cz/drez-franke-etn-610"}]
["Competitor","ARDEA","FRANKE Dřez ETN 614 6/4 obyčejný ventil bez otvoru","ARDEA_FRANKE Dřez ETN 614 6/4 obyčejný ventil bez otvoru",{"$f":"VLOOKUP(C443,'[1]Competitor''s products_CZ'!$B:$S,VLOOKUP(B443,[1]Seznamy!$AZ:$BA,2,0),0)","v":"https://www.ardea-cz.cz/drez-franke-etn-614-nova"}]
["Competitor","ARDEA","GOLLINUCCI Sorter 580 Plus Line, 600 mm, výška 505mm, 80 l, šedý","ARDEA_GOLLINUCCI Sorter 580 Plus Line, 600 mm, výška 505mm, 80 l, šedý",{"$f":"VLOOKUP(C444,'[1]Competitor''s products_CZ'!$B:$S,VLOOKUP(B444,[1]Seznamy!$AZ:$BA,2,0),0)","v":"https://www.ardea-cz.cz/rejs-odpadkovy-kos-jc609-600-mm-na-dvirka-2-x-9l-2-x-20l-sedy"}]
["Competitor","ARDEA","GOLLINUCCI Sorter Linea 222, 300 mm","ARDEA_GOLLINUCCI Sorter Linea 222, 300 mm",{"$f":"VLOOKUP(C445,'[1]Competitor''s products_CZ'!$B:$S,VLOOKUP(B445,[1]Seznamy!$AZ:$BA,2,0),0)","v":"https://www.ardea-cz.cz/rejs-odpadkovy-kos-jc603-300-mm-za-dvirka-1-x-9-l-1-x-20l-sedy"}]
["Competitor","ARDEA","GOLLINUCCI Sorter Sistema 901/2x16 l, 600 mm","ARDEA_GOLLINUCCI Sorter Sistema 901/2x16 l, 600 mm",{"$f":"VLOOKUP(C446,'[1]Competitor''s products_CZ'!$B:$S,VLOOKUP(B446,[1]Seznamy!$AZ:$BA,2,0),0)","v":"https://www.ardea-cz.cz/gollinucci-sorter-sistema-901-2x16-l-600-mm"}]
["Competitor","ARDEA","HDF LAK 101 BÍLÁ PE 2800/2070/3","ARDEA_HDF LAK 101 BÍLÁ PE 2800/2070/3",{"$f":"VLOOKUP(C447,'[1]Competitor''s products_CZ'!$B:$S,VLOOKUP(B447,[1]Seznamy!$AZ:$BA,2,0),0)","v":"x"}]
["Competitor","ARDEA","Konfirmát 7/50 zinek bílý bulk","ARDEA_Konfirmát 7/50 zinek bílý bulk",{"$f":"VLOOKUP(C448,'[1]Competitor''s products_CZ'!$B:$S,VLOOKUP(B448,[1]Seznamy!$AZ:$BA,2,0),0)","v":"https://www.ardea-cz.cz/konfirmat-zinek-bily"}]
["Competitor","ARDEA","SEVROLL Era úchytová lišta 18mm 2,70m stříbrná","ARDEA_SEVROLL Era úchytová lišta 18mm 2,70m stříbrná",{"$f":"VLOOKUP(C449,'[1]Competitor''s products_CZ'!$B:$S,VLOOKUP(B449,[1]Seznamy!$AZ:$BA,2,0),0)","v":0}]
["Competitor","ARDEA","Strong electric socket, lift",{"$f":"CONCATENATE(B450,\"_\",C450)","v":"ARDEA_Strong electric socket, lift"},{"$f":"VLOOKUP(C450,'[1]Competitor''s products_CZ'!$B:$S,VLOOKUP(B450,[1]Seznamy!$AZ:$BA,2,0),0)","v":"https://www.ardea-cz.cz/orno-zasuvka-elektro-stolova-vysuvna-vez-60-mm-3x-zasuvka-2x-usb-kabel-stribrna-plast"}]
["Competitor","ARDEA","STRONG Elektrická zásuvka 3x230V, francouzský typ, 265x130x68 mm stříbrná","ARDEA_STRONG Elektrická zásuvka 3x230V, francouzský typ, 265x130x68 mm stříbrná",{"$f":"VLOOKUP(C451,'[1]Competitor''s products_CZ'!$B:$S,VLOOKUP(B451,[1]Seznamy!$AZ:$BA,2,0),0)","v":"https://www.ardea-cz.cz/orno-zasuvka-elektro-stolova-vyklopna-zapustna-3x-zasuvka-kabel"}]
["Competitor","ARDEA","STRONG Elektricky stavitelná podnož černá RAL 9005 mat","ARDEA_STRONG Elektricky stavitelná podnož černá RAL 9005 mat",{"$f":"VLOOKUP(C452,'[1]Competitor''s products_CZ'!$B:$S,VLOOKUP(B452,[1]Seznamy!$AZ:$BA,2,0),0)","v":"https://www.ardea-cz.cz/stolova-podnoz-s-elektropohonem-680-1180-mm-stribrna"}]
["Competitor","ARDEA","STRONG LED pásek 21,6W/m 24V bílá neutrální 210 LED/m","ARDEA_STRONG LED pásek 21,6W/m 24V bílá neutrální 210 LED/m",{"$f":"VLOOKUP(C453,'[1]Competitor''s products_CZ'!$B:$S,VLOOKUP(B453,[1]Seznamy!$AZ:$BA,2,0),0)","v":"Varianta1"}]
["Competitor","ARDEA","STRONG plus závěs naložený s tlumením, s excentrem, klipový","ARDEA_STRONG plus závěs naložený s tlumením, s excentrem, klipový",{"$f":"VLOOKUP(C454,'[1]Competitor''s products_CZ'!$B:$S,VLOOKUP(B454,[1]Seznamy!$AZ:$BA,2,0),0)","v":"x"}]
["Competitor","ARDEA","STRONG Rektifikační nožka 100 mm","ARDEA_STRONG Rektifikační nožka 100 mm",{"$f":"VLOOKUP(C455,'[1]Competitor''s products_CZ'!$B:$S,VLOOKUP(B455,[1]Seznamy!$AZ:$BA,2,0),0)","v":"https://www.ardea-cz.cz/soklova-nozka-scilm-plast-100mm"}]
["Competitor","ARDEA","STRONG Stolová noha centrální 450x450 černá","ARDEA_STRONG Stolová noha centrální 450x450 černá",{"$f":"VLOOKUP(C456,'[1]Competitor''s products_CZ'!$B:$S,VLOOKUP(B456,[1]Seznamy!$AZ:$BA,2,0),0)","v":"https://www.ardea-cz.cz/miladesign-centralni-noha-st-855nt-sde-v720mm-cerna-ral-9005"}]
["Competitor","ARDEA","STRONG transformátor plochý LED 24V 100W","ARDEA_STRONG transformátor plochý LED 24V 100W",{"$f":"VLOOKUP(C457,'[1]Competitor''s products_CZ'!$B:$S,VLOOKUP(B457,[1]Seznamy!$AZ:$BA,2,0),0)","v":"výběr"}]
["Competitor","ARDEA","STRONG závěs naložený, slide on","ARDEA_STRONG závěs naložený, slide on",{"$f":"VLOOKUP(C458,'[1]Competitor''s products_CZ'!$B:$S,VLOOKUP(B458,[1]Seznamy!$AZ:$BA,2,0),0)","v":"x"}]
["Competitor","ARDEA","StrongBox H86/500mm bílý","ARDEA_StrongBox H86/500mm bílý",{"$f":"VLOOKUP(C459,'[1]Competitor''s products_CZ'!$B:$S,VLOOKUP(B459,[1]Seznamy!$AZ:$BA,2,0),0)","v":"x"}]
["Competitor","ARDEA","StrongMax 89/500 mm šedý (antracit)","ARDEA_StrongMax 89/500 mm šedý (antracit)",{"$f":"VLOOKUP(C460,'[1]Competitor''s products_CZ'!$B:$S,VLOOKUP(B460,[1]Seznamy!$AZ:$BA,2,0),0)","v":"x"}]
["Competitor","ARDEA","StrongRide synchro 3D celovýsuv 500 mm s tlumením","ARDEA_StrongRide synchro 3D celovýsuv 500 mm s tlumením",{"$f":"VLOOKUP(C461,'[1]Competitor''s products_CZ'!$B:$S,VLOOKUP(B461,[1]Seznamy!$AZ:$BA,2,0),0)","v":"x"}]
["Competitor","ARDEA","TULIP Gola dvířkový J profil 4,1m eloxovaný hliník","ARDEA_TULIP Gola dvířkový J profil 4,1m eloxovaný hliník",{"$f":"VLOOKUP(C462,'[1]Competitor''s products_CZ'!$B:$S,VLOOKUP(B462,[1]Seznamy!$AZ:$BA,2,0),0)","v":0}]
["Competitor","ARDEA","TULIP úchytka Anita 96 nikl matný + šroubky","ARDEA_TULIP úchytka Anita 96 nikl matný + šroubky",{"$f":"VLOOKUP(C463,'[1]Competitor''s products_CZ'!$B:$S,VLOOKUP(B463,[1]Seznamy!$AZ:$BA,2,0),0)","v":"x"}]
["Competitor","ARDEA","TULIP Úchytka Lucata 160 černá matná","ARDEA_TULIP Úchytka Lucata 160 černá matná",{"$f":"VLOOKUP(C464,'[1]Competitor''s products_CZ'!$B:$S,VLOOKUP(B464,[1]Seznamy!$AZ:$BA,2,0),0)","v":"https://www.ardea-cz.cz/uchytka-narazeci-lucata-cerna-roztec-160-mm"}]
["Competitor","ARDEA","TULIP úchytka Nakana 128 chrom matný + šroubky","ARDEA_TULIP úchytka Nakana 128 chrom matný + šroubky",{"$f":"VLOOKUP(C465,'[1]Competitor''s products_CZ'!$B:$S,VLOOKUP(B465,[1]Seznamy!$AZ:$BA,2,0),0)","v":"https://www.ardea-cz.cz/uchytka-kovova-nakana-satin-chrom-brouseny-nikl"}]
["Competitor","ARDEA","TULIP úchytka Piombina 96 nikl matný + šroubky","ARDEA_TULIP úchytka Piombina 96 nikl matný + šroubky",{"$f":"VLOOKUP(C466,'[1]Competitor''s products_CZ'!$B:$S,VLOOKUP(B466,[1]Seznamy!$AZ:$BA,2,0),0)","v":"x"}]
["Competitor","ARDEA","TULIP Úchytka Ramara 596 imitace nerezi","ARDEA_TULIP Úchytka Ramara 596 imitace nerezi",{"$f":"VLOOKUP(C467,'[1]Competitor''s products_CZ'!$B:$S,VLOOKUP(B467,[1]Seznamy!$AZ:$BA,2,0),0)","v":"https://www.ardea-cz.cz/uchytka-narazeci-ramara-imitace-nerezi-roztec-596-mm"}]
["Competitor","ARDEA","TULIP věšák Lugo XL chrom matný + šroubky","ARDEA_TULIP věšák Lugo XL chrom matný + šroubky",{"$f":"VLOOKUP(C468,'[1]Competitor''s products_CZ'!$B:$S,VLOOKUP(B468,[1]Seznamy!$AZ:$BA,2,0),0)","v":"https://www.ardea-cz.cz/vesak-lugo-chrom-satin"}]
["Competitor","ARDEA","Vrut PZ 4x18 zápustná hlava zinek bílý PZ2","ARDEA_Vrut PZ 4x18 zápustná hlava zinek bílý PZ2",{"$f":"VLOOKUP(C469,'[1]Competitor''s products_CZ'!$B:$S,VLOOKUP(B469,[1]Seznamy!$AZ:$BA,2,0),0)","v":"https://www.ardea-cz.cz/vrut-4-x-16-mm-zluty-zinek-1-bal-1000-ks"}]
["Competitor","Exkalibr","ABSB 77039/414 W980/500/W954 ST2 23/2","Exkalibr_ABSB 77039/414 W980/500/W954 ST2 23/2",{"$f":"VLOOKUP(C470,'[1]Competitor''s products_CZ'!$B:$S,VLOOKUP(B470,[1]Seznamy!$AZ:$BA,2,0),0)","v":"x"}]
["Competitor","Exkalibr","ABSB HU10113 Bílá 101/110/113/8100/8685/W954/B3822 PE 22/2","Exkalibr_ABSB HU10113 Bílá 101/110/113/8100/8685/W954/B3822 PE 22/2",{"$f":"VLOOKUP(C471,'[1]Competitor''s products_CZ'!$B:$S,VLOOKUP(B471,[1]Seznamy!$AZ:$BA,2,0),0)","v":"x"}]
["Competitor","Exkalibr","Alfa II profile 222788","Exkalibr_Alfa II profile 222788",{"$f":"VLOOKUP(C472,'[1]Competitor''s products_CZ'!$B:$S,VLOOKUP(B472,[1]Seznamy!$AZ:$BA,2,0),0)","v":0}]
["Competitor","Exkalibr","BBP OA Zásuvka 515 mm kovová černá","Exkalibr_BBP OA Zásuvka 515 mm kovová černá",{"$f":"VLOOKUP(C473,'[1]Competitor''s products_CZ'!$B:$S,VLOOKUP(B473,[1]Seznamy!$AZ:$BA,2,0),0)","v":"x"}]
["Competitor","Exkalibr","DTDD DUB COMMERCIAL A/B DEC 2800/2070/19","Exkalibr_DTDD DUB COMMERCIAL A/B DEC 2800/2070/19",{"$f":"VLOOKUP(C474,'[1]Competitor''s products_CZ'!$B:$S,VLOOKUP(B474,[1]Seznamy!$AZ:$BA,2,0),0)","v":"x"}]
["Competitor","Exkalibr","DTDD Dub evr. radiál st A/B 2800/2070/19","Exkalibr_DTDD Dub evr. radiál st A/B 2800/2070/19",{"$f":"VLOOKUP(C475,'[1]Competitor''s products_CZ'!$B:$S,VLOOKUP(B475,[1]Seznamy!$AZ:$BA,2,0),0)","v":"x"}]
["Competitor","Exkalibr","DTDL W980 ST2 Platinově bílá 2800/2070/18","Exkalibr_DTDL W980 ST2 Platinově bílá 2800/2070/18",{"$f":"VLOOKUP(C476,'[1]Competitor''s products_CZ'!$B:$S,VLOOKUP(B476,[1]Seznamy!$AZ:$BA,2,0),0)","v":"x"}]
["Competitor","Exkalibr","FRANKE Dřez BFG 611-78 780 x 500 onyx","Exkalibr_FRANKE Dřez BFG 611-78 780 x 500 onyx",{"$f":"VLOOKUP(C477,'[1]Competitor''s products_CZ'!$B:$S,VLOOKUP(B477,[1]Seznamy!$AZ:$BA,2,0),0)","v":"https://www.exkalibr.cz/solido-drez-rock-130-cerny-78-x-48-cm-pravolevy_d58733.html"}]
["Competitor","Exkalibr","FRANKE Dřez ETN 610 455 x 435","Exkalibr_FRANKE Dřez ETN 610 455 x 435",{"$f":"VLOOKUP(C478,'[1]Competitor''s products_CZ'!$B:$S,VLOOKUP(B478,[1]Seznamy!$AZ:$BA,2,0),0)","v":"https://www.exkalibr.cz/sinks-compact-435-v-0-5mm-matny_d34102.html"}]
["Competitor","Exkalibr","FRANKE Dřez ETN 614 6/4 obyčejný ventil bez otvoru","Exkalibr_FRANKE Dřez ETN 614 6/4 obyčejný ventil bez otvoru",{"$f":"VLOOKUP(C479,'[1]Competitor''s products_CZ'!$B:$S,VLOOKUP(B479,[1]Seznamy!$AZ:$BA,2,0),0)","v":"https://www.exkalibr.cz/sinks-okio-780-v-0-5mm-lesteny_d34258.html"}]
["Competitor","Exkalibr","GOLLINUCCI Sorter 580 Plus Line, 600 mm, výška 505mm, 80 l, šedý","Exkalibr_GOLLINUCCI Sorter 580 Plus Line, 600 mm, výška 505mm, 80 l, šedý",{"$f":"VLOOKUP(C480,'[1]Competitor''s products_CZ'!$B:$S,VLOOKUP(B480,[1]Seznamy!$AZ:$BA,2,0),0)","v":"x"}]
["Competitor","Exkalibr","GOLLINUCCI Sorter Linea 222, 300 mm","Exkalibr_GOLLINUCCI Sorter Linea 222, 300 mm",{"$f":"VLOOKUP(C481,'[1]Competitor''s products_CZ'!$B:$S,VLOOKUP(B481,[1]Seznamy!$AZ:$BA,2,0),0)","v":"https://www.exkalibr.cz/sinks-patty-30-1x8l-1x16l_d8876.html"}]
["Competitor","Exkalibr","GOLLINUCCI Sorter Sistema 901/2x16 l, 600 mm","Exkalibr_GOLLINUCCI Sorter Sistema 901/2x16 l, 600 mm",{"$f":"VLOOKUP(C482,'[1]Competitor''s products_CZ'!$B:$S,VLOOKUP(B482,[1]Seznamy!$AZ:$BA,2,0),0)","v":"https://www.exkalibr.cz/sinks-practiko-600-2x15l_d8842.html"}]
["Competitor","Exkalibr","HDF LAK 101 BÍLÁ PE 2800/2070/3","Exkalibr_HDF LAK 101 BÍLÁ PE 2800/2070/3",{"$f":"VLOOKUP(C483,'[1]Competitor''s products_CZ'!$B:$S,VLOOKUP(B483,[1]Seznamy!$AZ:$BA,2,0),0)","v":"x"}]
["Competitor","Exkalibr","Konfirmát 7/50 zinek bílý bulk","Exkalibr_Konfirmát 7/50 zinek bílý bulk",{"$f":"VLOOKUP(C484,'[1]Competitor''s products_CZ'!$B:$S,VLOOKUP(B484,[1]Seznamy!$AZ:$BA,2,0),0)","v":"x"}]
["Competitor","Exkalibr","SEVROLL Era úchytová lišta 18mm 2,70m stříbrná","Exkalibr_SEVROLL Era úchytová lišta 18mm 2,70m stříbrná",{"$f":"VLOOKUP(C485,'[1]Competitor''s products_CZ'!$B:$S,VLOOKUP(B485,[1]Seznamy!$AZ:$BA,2,0),0)","v":0}]
["Competitor","Exkalibr","Strong electric socket, lift","Exkalibr_Strong electric socket, lift",{"$f":"VLOOKUP(C486,'[1]Competitor''s products_CZ'!$B:$S,VLOOKUP(B486,[1]Seznamy!$AZ:$BA,2,0),0)","v":"x"}]
["Competitor","Exkalibr","STRONG Elektrická zásuvka 3x230V, francouzský typ, 265x130x68 mm stříbrná","Exkalibr_STRONG Elektrická zásuvka 3x230V, francouzský typ, 265x130x68 mm stříbrná",{"$f":"VLOOKUP(C487,'[1]Competitor''s products_CZ'!$B:$S,VLOOKUP(B487,[1]Seznamy!$AZ:$BA,2,0),0)","v":"https://www.exkalibr.cz/gtv-vyklopna-zasuvkova-lista-3x-zasuvka-stribrna_d62875.html"}]
["Competitor","Exkalibr","STRONG Elektricky stavitelná podnož černá RAL 9005 mat","Exkalibr_STRONG Elektricky stavitelná podnož černá RAL 9005 mat",{"$f":"VLOOKUP(C488,'[1]Competitor''s products_CZ'!$B:$S,VLOOKUP(B488,[1]Seznamy!$AZ:$BA,2,0),0)","v":"https://www.exkalibr.cz/podnoz-expander-elektricky-stavitelna-vyska-680-1180mm-cerna-ral-9005_d58870.html?fulltextword=podno%C5%BE"}]
["Competitor","Exkalibr","STRONG LED pásek 21,6W/m 24V bílá neutrální 210 LED/m","Exkalibr_STRONG LED pásek 21,6W/m 24V bílá neutrální 210 LED/m",{"$f":"VLOOKUP(C489,'[1]Competitor''s products_CZ'!$B:$S,VLOOKUP(B489,[1]Seznamy!$AZ:$BA,2,0),0)","v":"výběr"}]
["Competitor","Exkalibr","STRONG plus závěs naložený s tlumením, s excentrem, klipový","Exkalibr_STRONG plus závěs naložený s tlumením, s excentrem, klipový",{"$f":"VLOOKUP(C490,'[1]Competitor''s products_CZ'!$B:$S,VLOOKUP(B490,[1]Seznamy!$AZ:$BA,2,0),0)","v":"x"}]
["Competitor","Exkalibr","STRONG Rektifikační nožka 100 mm","Exkalibr_STRONG Rektifikační nožka 100 mm",{"$f":"VLOOKUP(C491,'[1]Competitor''s products_CZ'!$B:$S,VLOOKUP(B491,[1]Seznamy!$AZ:$BA,2,0),0)","v":"x"}]
["Competitor","Exkalibr","STRONG Stolová noha centrální 450x450 černá","Exkalibr_STRONG Stolová noha centrální 450x450 černá",{"$f":"VLOOKUP(C492,'[1]Competitor''s products_CZ'!$B:$S,VLOOKUP(B492,[1]Seznamy!$AZ:$BA,2,0),0)","v":"x"}]
["Competitor","Exkalibr","STRONG transformátor plochý LED 24V 100W","Exkalibr_STRONG transformátor plochý LED 24V 100W",{"$f":"VLOOKUP(C493,'[1]Competitor''s products_CZ'!$B:$S,VLOOKUP(B493,[1]Seznamy!$AZ:$BA,2,0),0)","v":"výběr"}]
["Competitor","Exkalibr","STRONG závěs naložený, slide on","Exkalibr_STRONG závěs naložený, slide on",{"$f":"VLOOKUP(C494,'[1]Competitor''s products_CZ'!$B:$S,VLOOKUP(B494,[1]Seznamy!$AZ:$BA,2,0),0)","v":"x"}]
["Competitor","Exkalibr","StrongBox H86/500mm bílý","Exkalibr_StrongBox H86/500mm bílý",{"$f":"VLOOKUP(C495,'[1]Competitor''s products_CZ'!$B:$S,VLOOKUP(B495,[1]Seznamy!$AZ:$BA,2,0),0)","v":"x"}]
["Competitor","Exkalibr","StrongMax 89/500 mm šedý (antracit)","Exkalibr_StrongMax 89/500 mm šedý (antracit)",{"$f":"VLOOKUP(C496,'[1]Competitor''s products_CZ'!$B:$S,VLOOKUP(B496,[1]Seznamy!$AZ:$BA,2,0),0)","v":"x"}]
["Competitor","Exkalibr","StrongRide synchro 3D celovýsuv 500 mm s tlumením","Exkalibr_StrongRide synchro 3D celovýsuv 500 mm s tlumením",{"$f":"VLOOKUP(C497,'[1]Competitor''s products_CZ'!$B:$S,VLOOKUP(B497,[1]Seznamy!$AZ:$BA,2,0),0)","v":"x"}]
["Competitor","Exkalibr","TULIP Gola dvířkový J profil 4,1m eloxovaný hliník","Exkalibr_TULIP Gola dvířkový J profil 4,1m eloxovaný hliník",{"$f":"VLOOKUP(C498,'[1]Competitor''s products_CZ'!$B:$S,VLOOKUP(B498,[1]Seznamy!$AZ:$BA,2,0),0)","v":0}]
["Competitor","Exkalibr","TULIP úchytka Anita 96 nikl matný + šroubky","Exkalibr_TULIP úchytka Anita 96 nikl matný + šroubky",{"$f":"VLOOKUP(C499,'[1]Competitor''s products_CZ'!$B:$S,VLOOKUP(B499,[1]Seznamy!$AZ:$BA,2,0),0)","v":"x"}]
["Competitor","Exkalibr","TULIP Úchytka Lucata 160 černá matná","Exkalibr_TULIP Úchytka Lucata 160 černá matná",{"$f":"VLOOKUP(C500,'[1]Competitor''s products_CZ'!$B:$S,VLOOKUP(B500,[1]Seznamy!$AZ:$BA,2,0),0)","v":"x"}]
["Competitor","Exkalibr","TULIP úchytka Nakana 128 chrom matný + šroubky","Exkalibr_TULIP úchytka Nakana 128 chrom matný + šroubky",{"$f":"VLOOKUP(C501,'[1]Competitor''s products_CZ'!$B:$S,VLOOKUP(B501,[1]Seznamy!$AZ:$BA,2,0),0)","v":"x"}]
["Competitor","Exkalibr","TULIP úchytka Piombina 96 nikl matný + šroubky","Exkalibr_TULIP úchytka Piombina 96 nikl matný + šroubky",{"$f":"VLOOKUP(C502,'[1]Competitor''s products_CZ'!$B:$S,VLOOKUP(B502,[1]Seznamy!$AZ:$BA,2,0),0)","v":"x"}]
["Competitor","Exkalibr","TULIP Úchytka Ramara 596 imitace nerezi","Exkalibr_TULIP Úchytka Ramara 596 imitace nerezi",{"$f":"VLOOKUP(C503,'[1]Competitor''s products_CZ'!$B:$S,VLOOKUP(B503,[1]Seznamy!$AZ:$BA,2,0),0)","v":"x"}]
["Competitor","Exkalibr","TULIP věšák Lugo XL chrom matný + šroubky","Exkalibr_TULIP věšák Lugo XL chrom matný + šroubky",{"$f":"VLOOKUP(C504,'[1]Competitor''s products_CZ'!$B:$S,VLOOKUP(B504,[1]Seznamy!$AZ:$BA,2,0),0)","v":"x"}]
["Competitor","Exkalibr","Vrut PZ 4x18 zápustná hlava zinek bílý PZ2","Exkalibr_Vrut PZ 4x18 zápustná hlava zinek bílý PZ2",{"$f":"VLOOKUP(C505,'[1]Competitor''s products_CZ'!$B:$S,VLOOKUP(B505,[1]Seznamy!$AZ:$BA,2,0),0)","v":"https://www.exkalibr.cz/spax-vrut-cockova-hl-zap-pz2-4-0x16-1000-ks-_d39053.html"}]
["Competitor","Weyland","ABSB 77039/414 W980/500/W954 ST2 23/2","Weyland_ABSB 77039/414 W980/500/W954 ST2 23/2",{"$f":"VLOOKUP(C506,'[1]Competitor''s products_CZ'!$B:$S,VLOOKUP(B506,[1]Seznamy!$AZ:$BA,2,0),0)","v":"x"}]
["Competitor","Weyland","ABSB HU10113 Bílá 101/110/113/8100/8685/W954/B3822 PE 22/2","Weyland_ABSB HU10113 Bílá 101/110/113/8100/8685/W954/B3822 PE 22/2",{"$f":"VLOOKUP(C507,'[1]Competitor''s products_CZ'!$B:$S,VLOOKUP(B507,[1]Seznamy!$AZ:$BA,2,0),0)","v":"x"}]
["Competitor","Weyland","Alfa II profile 222788","Weyland_Alfa II profile 222788",{"$f":"VLOOKUP(C508,'[1]Competitor''s products_CZ'!$B:$S,VLOOKUP(B508,[1]Seznamy!$AZ:$BA,2,0),0)","v":"x"}]
["Competitor","Weyland","BBP OA Zásuvka 515 mm kovová černá","Weyland_BBP OA Zásuvka 515 mm kovová černá",{"$f":"VLOOKUP(C509,'[1]Competitor''s products_CZ'!$B:$S,VLOOKUP(B509,[1]Seznamy!$AZ:$BA,2,0),0)","v":"x"}]
["Competitor","Weyland","DTDD DUB COMMERCIAL A/B DEC 2800/2070/19","Weyland_DTDD DUB COMMERCIAL A/B DEC 2800/2070/19",{"$f":"VLOOKUP(C510,'[1]Competitor''s products_CZ'!$B:$S,VLOOKUP(B510,[1]Seznamy!$AZ:$BA,2,0),0)","v":"x"}]
["Competitor","Weyland","DTDD Dub evr. radiál st A/B 2800/2070/19","Weyland_DTDD Dub evr. radiál st A/B 2800/2070/19",{"$f":"VLOOKUP(C511,'[1]Competitor''s products_CZ'!$B:$S,VLOOKUP(B511,[1]Seznamy!$AZ:$BA,2,0),0)","v":"x"}]
["Competitor","Weyland","DTDL W980 ST2 Platinově bílá 2800/2070/18","Weyland_DTDL W980 ST2 Platinově bílá 2800/2070/18",{"$f":"VLOOKUP(C512,'[1]Competitor''s products_CZ'!$B:$S,VLOOKUP(B512,[1]Seznamy!$AZ:$BA,2,0),0)","v":"x"}]
["Competitor","Weyland","FRANKE Dřez BFG 611-78 780 x 500 onyx","Weyland_FRANKE Dřez BFG 611-78 780 x 500 onyx",{"$f":"VLOOKUP(C513,'[1]Competitor''s products_CZ'!$B:$S,VLOOKUP(B513,[1]Seznamy!$AZ:$BA,2,0),0)","v":"x"}]
["Competitor","Weyland","FRANKE Dřez ETN 610 455 x 435",{"$f":"CONCATENATE(B514,\"_\",C514)","v":"Weyland_FRANKE Dřez ETN 610 455 x 435"},{"$f":"VLOOKUP(C514,'[1]Competitor''s products_CZ'!$B:$S,VLOOKUP(B514,[1]Seznamy!$AZ:$BA,2,0),0)","v":"x"}]
["Competitor","Weyland","FRANKE Dřez ETN 614 6/4 obyčejný ventil bez otvoru","Weyland_FRANKE Dřez ETN 614 6/4 obyčejný ventil bez otvoru",{"$f":"VLOOKUP(C515,'[1]Competitor''s products_CZ'!$B:$S,VLOOKUP(B515,[1]Seznamy!$AZ:$BA,2,0),0)","v":"x"}]
["Competitor","Weyland","GOLLINUCCI Sorter 580 Plus Line, 600 mm, výška 505mm, 80 l, šedý","Weyland_GOLLINUCCI Sorter 580 Plus Line, 600 mm, výška 505mm, 80 l, šedý",{"$f":"VLOOKUP(C516,'[1]Competitor''s products_CZ'!$B:$S,VLOOKUP(B516,[1]Seznamy!$AZ:$BA,2,0),0)","v":"x"}]
["Competitor","Weyland","GOLLINUCCI Sorter Linea 222, 300 mm","Weyland_GOLLINUCCI Sorter Linea 222, 300 mm",{"$f":"VLOOKUP(C517,'[1]Competitor''s products_CZ'!$B:$S,VLOOKUP(B517,[1]Seznamy!$AZ:$BA,2,0),0)","v":"x"}]
["Competitor","Weyland","GOLLINUCCI Sorter Sistema 901/2x16 l, 600 mm","Weyland_GOLLINUCCI Sorter Sistema 901/2x16 l, 600 mm",{"$f":"VLOOKUP(C518,'[1]Competitor''s products_CZ'!$B:$S,VLOOKUP(B518,[1]Seznamy!$AZ:$BA,2,0),0)","v":"x"}]
["Competitor","Weyland","HDF LAK 101 BÍLÁ PE 2800/2070/3","Weyland_HDF LAK 101 BÍLÁ PE 2800/2070/3",{"$f":"VLOOKUP(C519,'[1]Competitor''s products_CZ'!$B:$S,VLOOKUP(B519,[1]Seznamy!$AZ:$BA,2,0),0)","v":"x"}]
["Competitor","Weyland","Konfirmát 7/50 zinek bílý bulk","Weyland_Konfirmát 7/50 zinek bílý bulk",{"$f":"VLOOKUP(C520,'[1]Competitor''s products_CZ'!$B:$S,VLOOKUP(B520,[1]Seznamy!$AZ:$BA,2,0),0)","v":"x"}]
["Competitor","Weyland","SEVROLL Era úchytová lišta 18mm 2,70m stříbrná","Weyland_SEVROLL Era úchytová lišta 18mm 2,70m stříbrná",{"$f":"VLOOKUP(C521,'[1]Competitor''s products_CZ'!$B:$S,VLOOKUP(B521,[1]Seznamy!$AZ:$BA,2,0),0)","v":"x"}]
["Competitor","Weyland","Strong electric socket, lift","Weyland_Strong electric socket, lift",{"$f":"VLOOKUP(C522,'[1]Competitor''s products_CZ'!$B:$S,VLOOKUP(B522,[1]Seznamy!$AZ:$BA,2,0),0)","v":"x"}]
["Competitor","Weyland","STRONG Elektrická zásuvka 3x230V, francouzský typ, 265x130x68 mm stříbrná","Weyland_STRONG Elektrická zásuvka 3x230V, francouzský typ, 265x130x68 mm stříbrná",{"$f":"VLOOKUP(C523,'[1]Competitor''s products_CZ'!$B:$S,VLOOKUP(B523,[1]Seznamy!$AZ:$BA,2,0),0)","v":"x"}]
["Competitor","Weyland","STRONG Elektricky stavitelná podnož černá RAL 9005 mat","Weyland_STRONG Elektricky stavitelná podnož černá RAL 9005 mat",{"$f":"VLOOKUP(C524,'[1]Competitor''s products_CZ'!$B:$S,VLOOKUP(B524,[1]Seznamy!$AZ:$BA,2,0),0)","v":"x"}]
["Competitor","Weyland","STRONG LED pásek 21,6W/m 24V bílá neutrální 210 LED/m","Weyland_STRONG LED pásek 21,6W/m 24V bílá neutrální 210 LED/m",{"$f":"VLOOKUP(C525,'[1]Competitor''s products_CZ'!$B:$S,VLOOKUP(B525,[1]Seznamy!$AZ:$BA,2,0),0)","v":"x"}]
["Competitor","Weyland","STRONG plus závěs naložený s tlumením, s excentrem, klipový","Weyland_STRONG plus závěs naložený s tlumením, s excentrem, klipový",{"$f":"VLOOKUP(C526,'[1]Competitor''s products_CZ'!$B:$S,VLOOKUP(B526,[1]Seznamy!$AZ:$BA,2,0),0)","v":"x"}]
["Competitor","Weyland","STRONG Rektifikační nožka 100 mm","Weyland_STRONG Rektifikační nožka 100 mm",{"$f":"VLOOKUP(C527,'[1]Competitor''s products_CZ'!$B:$S,VLOOKUP(B527,[1]Seznamy!$AZ:$BA,2,0),0)","v":"x"}]
["Competitor","Weyland","STRONG Stolová noha centrální 450x450 černá","Weyland_STRONG Stolová noha centrální 450x450 černá",{"$f":"VLOOKUP(C528,'[1]Competitor''s products_CZ'!$B:$S,VLOOKUP(B528,[1]Seznamy!$AZ:$BA,2,0),0)","v":"x"}]
["Competitor","Weyland","STRONG transformátor plochý LED 24V 100W","Weyland_STRONG transformátor plochý LED 24V 100W",{"$f":"VLOOKUP(C529,'[1]Competitor''s products_CZ'!$B:$S,VLOOKUP(B529,[1]Seznamy!$AZ:$BA,2,0),0)","v":"x"}]
["Competitor","Weyland","STRONG závěs naložený, slide on","Weyland_STRONG závěs naložený, slide on",{"$f":"VLOOKUP(C530,'[1]Competitor''s products_CZ'!$B:$S,VLOOKUP(B530,[1]Seznamy!$AZ:$BA,2,0),0)","v":"x"}]
["Competitor","Weyland","StrongBox H86/500mm bílý","Weyland_StrongBox H86/500mm bílý",{"$f":"VLOOKUP(C531,'[1]Competitor''s products_CZ'!$B:$S,VLOOKUP(B531,[1]Seznamy!$AZ:$BA,2,0),0)","v":"x"}]
["Competitor","Weyland","StrongMax 89/500 mm šedý (antracit)","Weyland_StrongMax 89/500 mm šedý (antracit)",{"$f":"VLOOKUP(C532,'[1]Competitor''s products_CZ'!$B:$S,VLOOKUP(B532,[1]Seznamy!$AZ:$BA,2,0),0)","v":"x"}]
["Competitor","Weyland","StrongRide synchro 3D celovýsuv 500 mm s tlumením","Weyland_StrongRide synchro 3D celovýsuv 500 mm s tlumením",{"$f":"VLOOKUP(C533,'[1]Competitor''s products_CZ'!$B:$S,VLOOKUP(B533,[1]Seznamy!$AZ:$BA,2,0),0)","v":"x"}]
["Competitor","Weyland","TULIP Gola dvířkový J profil 4,1m eloxovaný hliník","Weyland_TULIP Gola dvířkový J profil 4,1m eloxovaný hliník",{"$f":"VLOOKUP(C534,'[1]Competitor''s products_CZ'!$B:$S,VLOOKUP(B534,[1]Seznamy!$AZ:$BA,2,0),0)","v":"x"}]
["Competitor","Weyland","TULIP úchytka Anita 96 nikl matný + šroubky","Weyland_TULIP úchytka Anita 96 nikl matný + šroubky",{"$f":"VLOOKUP(C535,'[1]Competitor''s products_CZ'!$B:$S,VLOOKUP(B535,[1]Seznamy!$AZ:$BA,2,0),0)","v":"x"}]
["Competitor","Weyland","TULIP Úchytka Lucata 160 černá matná","Weyland_TULIP Úchytka Lucata 160 černá matná",{"$f":"VLOOKUP(C536,'[1]Competitor''s products_CZ'!$B:$S,VLOOKUP(B536,[1]Seznamy!$AZ:$BA,2,0),0)","v":"x"}]
["Competitor","Weyland","TULIP úchytka Nakana 128 chrom matný + šroubky","Weyland_TULIP úchytka Nakana 128 chrom matný + šroubky",{"$f":"VLOOKUP(C537,'[1]Competitor''s products_CZ'!$B:$S,VLOOKUP(B537,[1]Seznamy!$AZ:$BA,2,0),0)","v":"x"}]
["Competitor","Weyland","TULIP úchytka Piombina 96 nikl matný + šroubky","Weyland_TULIP úchytka Piombina 96 nikl matný + šroubky",{"$f":"VLOOKUP(C538,'[1]Competitor''s products_CZ'!$B:$S,VLOOKUP(B538,[1]Seznamy!$AZ:$BA,2,0),0)","v":"x"}]
["Competitor","Weyland","TULIP Úchytka Ramara 596 imitace nerezi","Weyland_TULIP Úchytka Ramara 596 imitace nerezi",{"$f":"VLOOKUP(C539,'[1]Competitor''s products_CZ'!$B:$S,VLOOKUP(B539,[1]Seznamy!$AZ:$BA,2,0),0)","v":"x"}]
["Competitor","Weyland","TULIP věšák Lugo XL chrom matný + šroubky","Weyland_TULIP věšák Lugo XL chrom matný + šroubky",{"$f":"VLOOKUP(C540,'[1]Competitor''s products_CZ'!$B:$S,VLOOKUP(B540,[1]Seznamy!$AZ:$BA,2,0),0)","v":"x"}]
["Competitor","Weyland","Vrut PZ 4x18 zápustná hlava zinek bílý PZ2","Weyland_Vrut PZ 4x18 zápustná hlava zinek bílý PZ2",{"$f":"VLOOKUP(C541,'[1]Competitor''s products_CZ'!$B:$S,VLOOKUP(B541,[1]Seznamy!$AZ:$BA,2,0),0)","v":"https://www.hpmtec.cz/vruty-uni-tec-pz-s-plnym-zavitem-zinek?varietyid=6080"}]
["Competitor","KNK","ABSB 77039/414 W980/500/W954 ST2 23/2","KNK_ABSB 77039/414 W980/500/W954 ST2 23/2",{"$f":"VLOOKUP(C542,'[1]Competitor''s products_CZ'!$B:$S,VLOOKUP(B542,[1]Seznamy!$AZ:$BA,2,0),0)","v":"x"}]
["Competitor","KNK","ABSB HU10113 Bílá 101/110/113/8100/8685/W954/B3822 PE 22/2","KNK_ABSB HU10113 Bílá 101/110/113/8100/8685/W954/B3822 PE 22/2",{"$f":"VLOOKUP(C543,'[1]Competitor''s products_CZ'!$B:$S,VLOOKUP(B543,[1]Seznamy!$AZ:$BA,2,0),0)","v":"https://www.knk.cz/eshop/produkt/bila-hladka-22-2-777247"}]
["Competitor","KNK","Alfa II profile 222788","KNK_Alfa II profile 222788",{"$f":"VLOOKUP(C544,'[1]Competitor''s products_CZ'!$B:$S,VLOOKUP(B544,[1]Seznamy!$AZ:$BA,2,0),0)","v":"x"}]
["Competitor","KNK","BBP OA Zásuvka 515 mm kovová černá","KNK_BBP OA Zásuvka 515 mm kovová černá",{"$f":"VLOOKUP(C545,'[1]Competitor''s products_CZ'!$B:$S,VLOOKUP(B545,[1]Seznamy!$AZ:$BA,2,0),0)","v":"x"}]
["Competitor","KNK","DTDD DUB COMMERCIAL A/B DEC 2800/2070/19","KNK_DTDD DUB COMMERCIAL A/B DEC 2800/2070/19",{"$f":"VLOOKUP(C546,'[1]Competitor''s products_CZ'!$B:$S,VLOOKUP(B546,[1]Seznamy!$AZ:$BA,2,0),0)","v":"x"}]
["Competitor","KNK","DTDD Dub evr. radiál st A/B 2800/2070/19","KNK_DTDD Dub evr. radiál st A/B 2800/2070/19",{"$f":"VLOOKUP(C547,'[1]Competitor''s products_CZ'!$B:$S,VLOOKUP(B547,[1]Seznamy!$AZ:$BA,2,0),0)","v":"x"}]
["Competitor","KNK","DTDL W980 ST2 Platinově bílá 2800/2070/18","KNK_DTDL W980 ST2 Platinově bílá 2800/2070/18",{"$f":"VLOOKUP(C548,'[1]Competitor''s products_CZ'!$B:$S,VLOOKUP(B548,[1]Seznamy!$AZ:$BA,2,0),0)","v":"x"}]
["Competitor","KNK","FRANKE Dřez BFG 611-78 780 x 500 onyx","KNK_FRANKE Dřez BFG 611-78 780 x 500 onyx",{"$f":"VLOOKUP(C549,'[1]Competitor''s products_CZ'!$B:$S,VLOOKUP(B549,[1]Seznamy!$AZ:$BA,2,0),0)","v":"https://www.knk.cz/eshop/produkt/best-780-500-granit-cerny-777349"}]
["Competitor","KNK","FRANKE Dřez ETN 610 455 x 435","KNK_FRANKE Dřez ETN 610 455 x 435",{"$f":"VLOOKUP(C550,'[1]Competitor''s products_CZ'!$B:$S,VLOOKUP(B550,[1]Seznamy!$AZ:$BA,2,0),0)","v":"https://www.knk.cz/eshop/produkt/classic-480x480m-bez-odkapu-777343"}]
["Competitor","KNK","FRANKE Dřez ETN 614 6/4 obyčejný ventil bez otvoru","KNK_FRANKE Dřez ETN 614 6/4 obyčejný ventil bez otvoru",{"$f":"VLOOKUP(C551,'[1]Competitor''s products_CZ'!$B:$S,VLOOKUP(B551,[1]Seznamy!$AZ:$BA,2,0),0)","v":"https://www.knk.cz/eshop/produkt/okio-780x435v-s-odkapem-777345"}]
["Competitor","KNK","GOLLINUCCI Sorter 580 Plus Line, 600 mm, výška 505mm, 80 l, šedý","KNK_GOLLINUCCI Sorter 580 Plus Line, 600 mm, výška 505mm, 80 l, šedý",{"$f":"VLOOKUP(C552,'[1]Competitor''s products_CZ'!$B:$S,VLOOKUP(B552,[1]Seznamy!$AZ:$BA,2,0),0)","v":"x"}]
["Competitor","KNK","GOLLINUCCI Sorter Linea 222, 300 mm","KNK_GOLLINUCCI Sorter Linea 222, 300 mm",{"$f":"VLOOKUP(C553,'[1]Competitor''s products_CZ'!$B:$S,VLOOKUP(B553,[1]Seznamy!$AZ:$BA,2,0),0)","v":"x"}]
["Competitor","KNK","GOLLINUCCI Sorter Sistema 901/2x16 l, 600 mm","KNK_GOLLINUCCI Sorter Sistema 901/2x16 l, 600 mm",{"$f":"VLOOKUP(C554,'[1]Competitor''s products_CZ'!$B:$S,VLOOKUP(B554,[1]Seznamy!$AZ:$BA,2,0),0)","v":"x"}]
["Competitor","KNK","HDF LAK 101 BÍLÁ PE 2800/2070/3","KNK_HDF LAK 101 BÍLÁ PE 2800/2070/3",{"$f":"VLOOKUP(C555,'[1]Competitor''s products_CZ'!$B:$S,VLOOKUP(B555,[1]Seznamy!$AZ:$BA,2,0),0)","v":"x"}]
["Competitor","KNK","Konfirmát 7/50 zinek bílý bulk","KNK_Konfirmát 7/50 zinek bílý bulk",{"$f":"VLOOKUP(C556,'[1]Competitor''s products_CZ'!$B:$S,VLOOKUP(B556,[1]Seznamy!$AZ:$BA,2,0),0)","v":"https://www.knk.cz/eshop/produkt/konfirmat-7x50-zn-776888"}]
["Competitor","KNK","SEVROLL Era úchytová lišta 18mm 2,70m stříbrná","KNK_SEVROLL Era úchytová lišta 18mm 2,70m stříbrná",{"$f":"VLOOKUP(C557,'[1]Competitor''s products_CZ'!$B:$S,VLOOKUP(B557,[1]Seznamy!$AZ:$BA,2,0),0)","v":"https://www.knk.cz/eshop/produkt/omegamulti-madlo-wide-al-2-7m-776597"}]
["Competitor","KNK","Strong electric socket, lift","KNK_Strong electric socket, lift",{"$f":"VLOOKUP(C558,'[1]Competitor''s products_CZ'!$B:$S,VLOOKUP(B558,[1]Seznamy!$AZ:$BA,2,0),0)","v":"x"}]
["Competitor","KNK","STRONG Elektrická zásuvka 3x230V, francouzský typ, 265x130x68 mm stříbrná","KNK_STRONG Elektrická zásuvka 3x230V, francouzský typ, 265x130x68 mm stříbrná",{"$f":"VLOOKUP(C559,'[1]Competitor''s products_CZ'!$B:$S,VLOOKUP(B559,[1]Seznamy!$AZ:$BA,2,0),0)","v":"https://www.knk.cz/eshop/produkt/vyklopna-3zasuvka-g6-266x130mm-s-kabelem-777358"}]
["Competitor","KNK","STRONG Elektricky stavitelná podnož černá RAL 9005 mat","KNK_STRONG Elektricky stavitelná podnož černá RAL 9005 mat",{"$f":"VLOOKUP(C560,'[1]Competitor''s products_CZ'!$B:$S,VLOOKUP(B560,[1]Seznamy!$AZ:$BA,2,0),0)","v":"x"}]
["Competitor","KNK","STRONG LED pásek 21,6W/m 24V bílá neutrální 210 LED/m","KNK_STRONG LED pásek 21,6W/m 24V bílá neutrální 210 LED/m",{"$f":"VLOOKUP(C561,'[1]Competitor''s products_CZ'!$B:$S,VLOOKUP(B561,[1]Seznamy!$AZ:$BA,2,0),0)","v":"výběr"}]
["Competitor","KNK","STRONG plus závěs naložený s tlumením, s excentrem, klipový","KNK_STRONG plus závěs naložený s tlumením, s excentrem, klipový",{"$f":"VLOOKUP(C562,'[1]Competitor''s products_CZ'!$B:$S,VLOOKUP(B562,[1]Seznamy!$AZ:$BA,2,0),0)","v":"https://www.knk.cz/eshop/produkt/nalozeny-tlumklip-3d-gt"}]
["Competitor","KNK","STRONG Rektifikační nožka 100 mm","KNK_STRONG Rektifikační nožka 100 mm",{"$f":"VLOOKUP(C563,'[1]Competitor''s products_CZ'!$B:$S,VLOOKUP(B563,[1]Seznamy!$AZ:$BA,2,0),0)","v":"https://www.knk.cz/eshop/produkt/regul-nozka-ph-100-95-165-776458"}]
["Competitor","KNK","STRONG Stolová noha centrální 450x450 černá","KNK_STRONG Stolová noha centrální 450x450 černá",{"$f":"VLOOKUP(C564,'[1]Competitor''s products_CZ'!$B:$S,VLOOKUP(B564,[1]Seznamy!$AZ:$BA,2,0),0)","v":"x"}]
["Competitor","KNK","STRONG transformátor plochý LED 24V 100W","KNK_STRONG transformátor plochý LED 24V 100W",{"$f":"VLOOKUP(C565,'[1]Competitor''s products_CZ'!$B:$S,VLOOKUP(B565,[1]Seznamy!$AZ:$BA,2,0),0)","v":"výběr"}]
["Competitor","KNK","STRONG závěs naložený, slide on","KNK_STRONG závěs naložený, slide on",{"$f":"VLOOKUP(C566,'[1]Competitor''s products_CZ'!$B:$S,VLOOKUP(B566,[1]Seznamy!$AZ:$BA,2,0),0)","v":"https://www.knk.cz/eshop/produkt/nalozeny-ip-podl-776082"}]
["Competitor","KNK","StrongBox H86/500mm bílý","KNK_StrongBox H86/500mm bílý",{"$f":"VLOOKUP(C567,'[1]Competitor''s products_CZ'!$B:$S,VLOOKUP(B567,[1]Seznamy!$AZ:$BA,2,0),0)","v":"https://www.knk.cz/eshop/produkt/gamet-box-500100"}]
["Competitor","KNK","StrongMax 89/500 mm šedý (antracit)","KNK_StrongMax 89/500 mm šedý (antracit)",{"$f":"VLOOKUP(C568,'[1]Competitor''s products_CZ'!$B:$S,VLOOKUP(B568,[1]Seznamy!$AZ:$BA,2,0),0)","v":"https://www.knk.cz/eshop/produkt/smart-box-500-68-sedy-40kg-16mm-776707"}]
["Competitor","KNK","StrongRide synchro 3D celovýsuv 500 mm s tlumením","KNK_StrongRide synchro 3D celovýsuv 500 mm s tlumením",{"$f":"VLOOKUP(C569,'[1]Competitor''s products_CZ'!$B:$S,VLOOKUP(B569,[1]Seznamy!$AZ:$BA,2,0),0)","v":"https://www.knk.cz/eshop/produkt/smart-plnovysuv-500mm-komplet-776764"}]
["Competitor","KNK","TULIP Gola dvířkový J profil 4,1m eloxovaný hliník","KNK_TULIP Gola dvířkový J profil 4,1m eloxovaný hliník",{"$f":"VLOOKUP(C570,'[1]Competitor''s products_CZ'!$B:$S,VLOOKUP(B570,[1]Seznamy!$AZ:$BA,2,0),0)","v":"x"}]
["Competitor","KNK","TULIP úchytka Anita 96 nikl matný + šroubky","KNK_TULIP úchytka Anita 96 nikl matný + šroubky",{"$f":"VLOOKUP(C571,'[1]Competitor''s products_CZ'!$B:$S,VLOOKUP(B571,[1]Seznamy!$AZ:$BA,2,0),0)","v":"x"}]
["Competitor","KNK","TULIP Úchytka Lucata 160 černá matná","KNK_TULIP Úchytka Lucata 160 černá matná",{"$f":"VLOOKUP(C572,'[1]Competitor''s products_CZ'!$B:$S,VLOOKUP(B572,[1]Seznamy!$AZ:$BA,2,0),0)","v":"x"}]
["Competitor","KNK","TULIP úchytka Nakana 128 chrom matný + šroubky","KNK_TULIP úchytka Nakana 128 chrom matný + šroubky",{"$f":"VLOOKUP(C573,'[1]Competitor''s products_CZ'!$B:$S,VLOOKUP(B573,[1]Seznamy!$AZ:$BA,2,0),0)","v":"x"}]
["Competitor","KNK","TULIP úchytka Piombina 96 nikl matný + šroubky","KNK_TULIP úchytka Piombina 96 nikl matný + šroubky",{"$f":"VLOOKUP(C574,'[1]Competitor''s products_CZ'!$B:$S,VLOOKUP(B574,[1]Seznamy!$AZ:$BA,2,0),0)","v":"x"}]
["Competitor","KNK","TULIP Úchytka Ramara 596 imitace nerezi","KNK_TULIP Úchytka Ramara 596 imitace nerezi",{"$f":"VLOOKUP(C575,'[1]Competitor''s products_CZ'!$B:$S,VLOOKUP(B575,[1]Seznamy!$AZ:$BA,2,0),0)","v":"x"}]
["Competitor","KNK","TULIP věšák Lugo XL chrom matný + šroubky","KNK_TULIP věšák Lugo XL chrom matný + šroubky",{"$f":"VLOOKUP(C576,'[1]Competitor''s products_CZ'!$B:$S,VLOOKUP(B576,[1]Seznamy!$AZ:$BA,2,0),0)","v":"https://www.knk.cz/eshop?id=834864&filter=its%255B8787%255D%255B0%255D%3Dmatn%25C3%25BD%2Bchrom&action=itemDetail&oid=5670677&nid=16146"}]
["Competitor","KNK","Vrut PZ 4x18 zápustná hlava zinek bílý PZ2","KNK_Vrut PZ 4x18 zápustná hlava zinek bílý PZ2",{"$f":"VLOOKUP(C577,'[1]Competitor''s products_CZ'!$B:$S,VLOOKUP(B577,[1]Seznamy!$AZ:$BA,2,0),0)","v":"x"}]