{"text_format":"1","workbook":"xlsx","n_sheets":3,"sheets":["Data","Zoznam","Zoznam (2)"],"not_rendered":{"charts":0,"images":0,"macros":1,"external_links":0,"defined_names":44,"comments":0,"pivot_tables":0},"unopened":[],"bounds":{"document_bytes":16777216,"sheet_cells":100000,"rows_first":2000,"rows_last":500,"rows_between":2000,"halvings":0,"cell_chars":16384,"cell_head_chars":4096},"cells_cut":0,"cells_raw":0,"read":"whole","date_system":"1900"}

{"sheet":"Data","index":0,"n_rows":8,"n_cols":8,"rows_kept":8,"cut":false,"hidden":false,"merged":[]}
["uid=JANO01","last_name=Janová","first_name=Maria","telephone=2589/5598","street=Hrubá 3","city=Brezno","orgunit=01","Funkcia=Technický zamestnanec"]
["uid=FERO02","last_name=Ferová","first_name=Jana","street=Hlavná 12","city=Košice","orgunit=01","Funkcia=Mzdárka"]
["uid=IVAN01","last_name=Ivanov","first_name=Miroslav","telephone=2589/5023","street=SNP 9","city=Zvolen","orgunit=04","Funkcia=Technický zamestnanec"]
["uid=PETER01","last_name=Peterka","first_name=Mario","telephone=2589/4325","city=Žilina","orgunit=01","Funkcia=Manager"]
["uid=KATKA02","last_name=Katkač","first_name=Jozef","telephone=2589/1528","street=Mamateyová 5","city=Vrútky","orgunit=03","Funkcia=Asistent"]
["uid=JULKA01","last_name=Julkavý","first_name=Igor","telephone=2589/9825","street=Železničná 49","city=Martin","orgunit=01"]
["uid=MARTI01","last_name=Martiová","first_name=Jolana","street=Prvá 64","city=Banská Bystrica","orgunit=02","Funkcia=Technický zamestnanec"]
["uid=IVAN02","last_name=Ivanová","first_name=Adriana","telephone=2589/1973","street=Krivá 87","city=Bytča","orgunit=05","Funkcia=Technický zamestnanec"]

{"sheet":"Zoznam","index":1,"n_rows":601,"n_cols":10,"rows_kept":601,"cut":false,"hidden":false,"merged":[]}
["uid","last_name","first_name","language","telephone","street","city","orgunit","department","Funkcia"]
[{"$f":"IFERROR(SUBSTITUTE(INDEX(Data!$A1:$H1,,MATCH(FALSE,ISERROR(SEARCH(A$1&\"=\",Data!$A1:$H1)),0)),A$1&\"=\",\"\"),\"\")","v":"JANO01"},{"$f":"IFERROR(SUBSTITUTE(INDEX(Data!$A1:$H1,,MATCH(FALSE,ISERROR(SEARCH(B$1&\"=\",Data!$A1:$H1)),0)),B$1&\"=\",\"\"),\"\")","v":"Janová"},{"$f":"IFERROR(SUBSTITUTE(INDEX(Data!$A1:$H1,,MATCH(FALSE,ISERROR(SEARCH(C$1&\"=\",Data!$A1:$H1)),0)),C$1&\"=\",\"\"),\"\")","v":"Maria"},{"$f":"IFERROR(SUBSTITUTE(INDEX(Data!$A1:$H1,,MATCH(FALSE,ISERROR(SEARCH(D$1&\"=\",Data!$A1:$H1)),0)),D$1&\"=\",\"\"),\"\")","v":""},{"$f":"IFERROR(SUBSTITUTE(INDEX(Data!$A1:$H1,,MATCH(FALSE,ISERROR(SEARCH(E$1&\"=\",Data!$A1:$H1)),0)),E$1&\"=\",\"\"),\"\")","v":"2589/5598"},{"$f":"IFERROR(SUBSTITUTE(INDEX(Data!$A1:$H1,,MATCH(FALSE,ISERROR(SEARCH(F$1&\"=\",Data!$A1:$H1)),0)),F$1&\"=\",\"\"),\"\")","v":"Hrubá 3"},{"$f":"IFERROR(SUBSTITUTE(INDEX(Data!$A1:$H1,,MATCH(FALSE,ISERROR(SEARCH(G$1&\"=\",Data!$A1:$H1)),0)),G$1&\"=\",\"\"),\"\")","v":"Brezno"},{"$f":"IFERROR(SUBSTITUTE(INDEX(Data!$A1:$H1,,MATCH(FALSE,ISERROR(SEARCH(H$1&\"=\",Data!$A1:$H1)),0)),H$1&\"=\",\"\"),\"\")","v":"01"},{"$f":"IFERROR(SUBSTITUTE(INDEX(Data!$A1:$H1,,MATCH(FALSE,ISERROR(SEARCH(I$1&\"=\",Data!$A1:$H1)),0)),I$1&\"=\",\"\"),\"\")","v":""},{"$f":"IFERROR(SUBSTITUTE(INDEX(Data!$A1:$H1,,MATCH(FALSE,ISERROR(SEARCH(J$1&\"=\",Data!$A1:$H1)),0)),J$1&\"=\",\"\"),\"\")","v":"Technický zamestnanec"}]
[{"$f":"IFERROR(SUBSTITUTE(INDEX(Data!$A2:$H2,,MATCH(FALSE,ISERROR(SEARCH(A$1&\"=\",Data!$A2:$H2)),0)),A$1&\"=\",\"\"),\"\")","v":"FERO02"},{"$f":"IFERROR(SUBSTITUTE(INDEX(Data!$A2:$H2,,MATCH(FALSE,ISERROR(SEARCH(B$1&\"=\",Data!$A2:$H2)),0)),B$1&\"=\",\"\"),\"\")","v":"Ferová"},{"$f":"IFERROR(SUBSTITUTE(INDEX(Data!$A2:$H2,,MATCH(FALSE,ISERROR(SEARCH(C$1&\"=\",Data!$A2:$H2)),0)),C$1&\"=\",\"\"),\"\")","v":"Jana"},{"$f":"IFERROR(SUBSTITUTE(INDEX(Data!$A2:$H2,,MATCH(FALSE,ISERROR(SEARCH(D$1&\"=\",Data!$A2:$H2)),0)),D$1&\"=\",\"\"),\"\")","v":""},{"$f":"IFERROR(SUBSTITUTE(INDEX(Data!$A2:$H2,,MATCH(FALSE,ISERROR(SEARCH(E$1&\"=\",Data!$A2:$H2)),0)),E$1&\"=\",\"\"),\"\")","v":""},{"$f":"IFERROR(SUBSTITUTE(INDEX(Data!$A2:$H2,,MATCH(FALSE,ISERROR(SEARCH(F$1&\"=\",Data!$A2:$H2)),0)),F$1&\"=\",\"\"),\"\")","v":"Hlavná 12"},{"$f":"IFERROR(SUBSTITUTE(INDEX(Data!$A2:$H2,,MATCH(FALSE,ISERROR(SEARCH(G$1&\"=\",Data!$A2:$H2)),0)),G$1&\"=\",\"\"),\"\")","v":"Košice"},{"$f":"IFERROR(SUBSTITUTE(INDEX(Data!$A2:$H2,,MATCH(FALSE,ISERROR(SEARCH(H$1&\"=\",Data!$A2:$H2)),0)),H$1&\"=\",\"\"),\"\")","v":"01"},{"$f":"IFERROR(SUBSTITUTE(INDEX(Data!$A2:$H2,,MATCH(FALSE,ISERROR(SEARCH(I$1&\"=\",Data!$A2:$H2)),0)),I$1&\"=\",\"\"),\"\")","v":""},{"$f":"IFERROR(SUBSTITUTE(INDEX(Data!$A2:$H2,,MATCH(FALSE,ISERROR(SEARCH(J$1&\"=\",Data!$A2:$H2)),0)),J$1&\"=\",\"\"),\"\")","v":"Mzdárka"}]
[{"$f":"IFERROR(SUBSTITUTE(INDEX(Data!$A3:$H3,,MATCH(FALSE,ISERROR(SEARCH(A$1&\"=\",Data!$A3:$H3)),0)),A$1&\"=\",\"\"),\"\")","v":"IVAN01"},{"$f":"IFERROR(SUBSTITUTE(INDEX(Data!$A3:$H3,,MATCH(FALSE,ISERROR(SEARCH(B$1&\"=\",Data!$A3:$H3)),0)),B$1&\"=\",\"\"),\"\")","v":"Ivanov"},{"$f":"IFERROR(SUBSTITUTE(INDEX(Data!$A3:$H3,,MATCH(FALSE,ISERROR(SEARCH(C$1&\"=\",Data!$A3:$H3)),0)),C$1&\"=\",\"\"),\"\")","v":"Miroslav"},{"$f":"IFERROR(SUBSTITUTE(INDEX(Data!$A3:$H3,,MATCH(FALSE,ISERROR(SEARCH(D$1&\"=\",Data!$A3:$H3)),0)),D$1&\"=\",\"\"),\"\")","v":""},{"$f":"IFERROR(SUBSTITUTE(INDEX(Data!$A3:$H3,,MATCH(FALSE,ISERROR(SEARCH(E$1&\"=\",Data!$A3:$H3)),0)),E$1&\"=\",\"\"),\"\")","v":"2589/5023"},{"$f":"IFERROR(SUBSTITUTE(INDEX(Data!$A3:$H3,,MATCH(FALSE,ISERROR(SEARCH(F$1&\"=\",Data!$A3:$H3)),0)),F$1&\"=\",\"\"),\"\")","v":"SNP 9"},{"$f":"IFERROR(SUBSTITUTE(INDEX(Data!$A3:$H3,,MATCH(FALSE,ISERROR(SEARCH(G$1&\"=\",Data!$A3:$H3)),0)),G$1&\"=\",\"\"),\"\")","v":"Zvolen"},{"$f":"IFERROR(SUBSTITUTE(INDEX(Data!$A3:$H3,,MATCH(FALSE,ISERROR(SEARCH(H$1&\"=\",Data!$A3:$H3)),0)),H$1&\"=\",\"\"),\"\")","v":"04"},{"$f":"IFERROR(SUBSTITUTE(INDEX(Data!$A3:$H3,,MATCH(FALSE,ISERROR(SEARCH(I$1&\"=\",Data!$A3:$H3)),0)),I$1&\"=\",\"\"),\"\")","v":""},{"$f":"IFERROR(SUBSTITUTE(INDEX(Data!$A3:$H3,,MATCH(FALSE,ISERROR(SEARCH(J$1&\"=\",Data!$A3:$H3)),0)),J$1&\"=\",\"\"),\"\")","v":"Technický zamestnanec"}]
[{"$f":"IFERROR(SUBSTITUTE(INDEX(Data!$A4:$H4,,MATCH(FALSE,ISERROR(SEARCH(A$1&\"=\",Data!$A4:$H4)),0)),A$1&\"=\",\"\"),\"\")","v":"PETER01"},{"$f":"IFERROR(SUBSTITUTE(INDEX(Data!$A4:$H4,,MATCH(FALSE,ISERROR(SEARCH(B$1&\"=\",Data!$A4:$H4)),0)),B$1&\"=\",\"\"),\"\")","v":"Peterka"},{"$f":"IFERROR(SUBSTITUTE(INDEX(Data!$A4:$H4,,MATCH(FALSE,ISERROR(SEARCH(C$1&\"=\",Data!$A4:$H4)),0)),C$1&\"=\",\"\"),\"\")","v":"Mario"},{"$f":"IFERROR(SUBSTITUTE(INDEX(Data!$A4:$H4,,MATCH(FALSE,ISERROR(SEARCH(D$1&\"=\",Data!$A4:$H4)),0)),D$1&\"=\",\"\"),\"\")","v":""},{"$f":"IFERROR(SUBSTITUTE(INDEX(Data!$A4:$H4,,MATCH(FALSE,ISERROR(SEARCH(E$1&\"=\",Data!$A4:$H4)),0)),E$1&\"=\",\"\"),\"\")","v":"2589/4325"},{"$f":"IFERROR(SUBSTITUTE(INDEX(Data!$A4:$H4,,MATCH(FALSE,ISERROR(SEARCH(F$1&\"=\",Data!$A4:$H4)),0)),F$1&\"=\",\"\"),\"\")","v":""},{"$f":"IFERROR(SUBSTITUTE(INDEX(Data!$A4:$H4,,MATCH(FALSE,ISERROR(SEARCH(G$1&\"=\",Data!$A4:$H4)),0)),G$1&\"=\",\"\"),\"\")","v":"Žilina"},{"$f":"IFERROR(SUBSTITUTE(INDEX(Data!$A4:$H4,,MATCH(FALSE,ISERROR(SEARCH(H$1&\"=\",Data!$A4:$H4)),0)),H$1&\"=\",\"\"),\"\")","v":"01"},{"$f":"IFERROR(SUBSTITUTE(INDEX(Data!$A4:$H4,,MATCH(FALSE,ISERROR(SEARCH(I$1&\"=\",Data!$A4:$H4)),0)),I$1&\"=\",\"\"),\"\")","v":""},{"$f":"IFERROR(SUBSTITUTE(INDEX(Data!$A4:$H4,,MATCH(FALSE,ISERROR(SEARCH(J$1&\"=\",Data!$A4:$H4)),0)),J$1&\"=\",\"\"),\"\")","v":"Manager"}]
[{"$f":"IFERROR(SUBSTITUTE(INDEX(Data!$A5:$H5,,MATCH(FALSE,ISERROR(SEARCH(A$1&\"=\",Data!$A5:$H5)),0)),A$1&\"=\",\"\"),\"\")","v":"KATKA02"},{"$f":"IFERROR(SUBSTITUTE(INDEX(Data!$A5:$H5,,MATCH(FALSE,ISERROR(SEARCH(B$1&\"=\",Data!$A5:$H5)),0)),B$1&\"=\",\"\"),\"\")","v":"Katkač"},{"$f":"IFERROR(SUBSTITUTE(INDEX(Data!$A5:$H5,,MATCH(FALSE,ISERROR(SEARCH(C$1&\"=\",Data!$A5:$H5)),0)),C$1&\"=\",\"\"),\"\")","v":"Jozef"},{"$f":"IFERROR(SUBSTITUTE(INDEX(Data!$A5:$H5,,MATCH(FALSE,ISERROR(SEARCH(D$1&\"=\",Data!$A5:$H5)),0)),D$1&\"=\",\"\"),\"\")","v":""},{"$f":"IFERROR(SUBSTITUTE(INDEX(Data!$A5:$H5,,MATCH(FALSE,ISERROR(SEARCH(E$1&\"=\",Data!$A5:$H5)),0)),E$1&\"=\",\"\"),\"\")","v":"2589/1528"},{"$f":"IFERROR(SUBSTITUTE(INDEX(Data!$A5:$H5,,MATCH(FALSE,ISERROR(SEARCH(F$1&\"=\",Data!$A5:$H5)),0)),F$1&\"=\",\"\"),\"\")","v":"Mamateyová 5"},{"$f":"IFERROR(SUBSTITUTE(INDEX(Data!$A5:$H5,,MATCH(FALSE,ISERROR(SEARCH(G$1&\"=\",Data!$A5:$H5)),0)),G$1&\"=\",\"\"),\"\")","v":"Vrútky"},{"$f":"IFERROR(SUBSTITUTE(INDEX(Data!$A5:$H5,,MATCH(FALSE,ISERROR(SEARCH(H$1&\"=\",Data!$A5:$H5)),0)),H$1&\"=\",\"\"),\"\")","v":"03"},{"$f":"IFERROR(SUBSTITUTE(INDEX(Data!$A5:$H5,,MATCH(FALSE,ISERROR(SEARCH(I$1&\"=\",Data!$A5:$H5)),0)),I$1&\"=\",\"\"),\"\")","v":""},{"$f":"IFERROR(SUBSTITUTE(INDEX(Data!$A5:$H5,,MATCH(FALSE,ISERROR(SEARCH(J$1&\"=\",Data!$A5:$H5)),0)),J$1&\"=\",\"\"),\"\")","v":"Asistent"}]
[{"$f":"IFERROR(SUBSTITUTE(INDEX(Data!$A6:$H6,,MATCH(FALSE,ISERROR(SEARCH(A$1&\"=\",Data!$A6:$H6)),0)),A$1&\"=\",\"\"),\"\")","v":"JULKA01"},{"$f":"IFERROR(SUBSTITUTE(INDEX(Data!$A6:$H6,,MATCH(FALSE,ISERROR(SEARCH(B$1&\"=\",Data!$A6:$H6)),0)),B$1&\"=\",\"\"),\"\")","v":"Julkavý"},{"$f":"IFERROR(SUBSTITUTE(INDEX(Data!$A6:$H6,,MATCH(FALSE,ISERROR(SEARCH(C$1&\"=\",Data!$A6:$H6)),0)),C$1&\"=\",\"\"),\"\")","v":"Igor"},{"$f":"IFERROR(SUBSTITUTE(INDEX(Data!$A6:$H6,,MATCH(FALSE,ISERROR(SEARCH(D$1&\"=\",Data!$A6:$H6)),0)),D$1&\"=\",\"\"),\"\")","v":""},{"$f":"IFERROR(SUBSTITUTE(INDEX(Data!$A6:$H6,,MATCH(FALSE,ISERROR(SEARCH(E$1&\"=\",Data!$A6:$H6)),0)),E$1&\"=\",\"\"),\"\")","v":"2589/9825"},{"$f":"IFERROR(SUBSTITUTE(INDEX(Data!$A6:$H6,,MATCH(FALSE,ISERROR(SEARCH(F$1&\"=\",Data!$A6:$H6)),0)),F$1&\"=\",\"\"),\"\")","v":"Železničná 49"},{"$f":"IFERROR(SUBSTITUTE(INDEX(Data!$A6:$H6,,MATCH(FALSE,ISERROR(SEARCH(G$1&\"=\",Data!$A6:$H6)),0)),G$1&\"=\",\"\"),\"\")","v":"Martin"},{"$f":"IFERROR(SUBSTITUTE(INDEX(Data!$A6:$H6,,MATCH(FALSE,ISERROR(SEARCH(H$1&\"=\",Data!$A6:$H6)),0)),H$1&\"=\",\"\"),\"\")","v":"01"},{"$f":"IFERROR(SUBSTITUTE(INDEX(Data!$A6:$H6,,MATCH(FALSE,ISERROR(SEARCH(I$1&\"=\",Data!$A6:$H6)),0)),I$1&\"=\",\"\"),\"\")","v":""},{"$f":"IFERROR(SUBSTITUTE(INDEX(Data!$A6:$H6,,MATCH(FALSE,ISERROR(SEARCH(J$1&\"=\",Data!$A6:$H6)),0)),J$1&\"=\",\"\"),\"\")","v":""}]
[{"$f":"IFERROR(SUBSTITUTE(INDEX(Data!$A7:$H7,,MATCH(FALSE,ISERROR(SEARCH(A$1&\"=\",Data!$A7:$H7)),0)),A$1&\"=\",\"\"),\"\")","v":"MARTI01"},{"$f":"IFERROR(SUBSTITUTE(INDEX(Data!$A7:$H7,,MATCH(FALSE,ISERROR(SEARCH(B$1&\"=\",Data!$A7:$H7)),0)),B$1&\"=\",\"\"),\"\")","v":"Martiová"},{"$f":"IFERROR(SUBSTITUTE(INDEX(Data!$A7:$H7,,MATCH(FALSE,ISERROR(SEARCH(C$1&\"=\",Data!$A7:$H7)),0)),C$1&\"=\",\"\"),\"\")","v":"Jolana"},{"$f":"IFERROR(SUBSTITUTE(INDEX(Data!$A7:$H7,,MATCH(FALSE,ISERROR(SEARCH(D$1&\"=\",Data!$A7:$H7)),0)),D$1&\"=\",\"\"),\"\")","v":""},{"$f":"IFERROR(SUBSTITUTE(INDEX(Data!$A7:$H7,,MATCH(FALSE,ISERROR(SEARCH(E$1&\"=\",Data!$A7:$H7)),0)),E$1&\"=\",\"\"),\"\")","v":""},{"$f":"IFERROR(SUBSTITUTE(INDEX(Data!$A7:$H7,,MATCH(FALSE,ISERROR(SEARCH(F$1&\"=\",Data!$A7:$H7)),0)),F$1&\"=\",\"\"),\"\")","v":"Prvá 64"},{"$f":"IFERROR(SUBSTITUTE(INDEX(Data!$A7:$H7,,MATCH(FALSE,ISERROR(SEARCH(G$1&\"=\",Data!$A7:$H7)),0)),G$1&\"=\",\"\"),\"\")","v":"Banská Bystrica"},{"$f":"IFERROR(SUBSTITUTE(INDEX(Data!$A7:$H7,,MATCH(FALSE,ISERROR(SEARCH(H$1&\"=\",Data!$A7:$H7)),0)),H$1&\"=\",\"\"),\"\")","v":"02"},{"$f":"IFERROR(SUBSTITUTE(INDEX(Data!$A7:$H7,,MATCH(FALSE,ISERROR(SEARCH(I$1&\"=\",Data!$A7:$H7)),0)),I$1&\"=\",\"\"),\"\")","v":""},{"$f":"IFERROR(SUBSTITUTE(INDEX(Data!$A7:$H7,,MATCH(FALSE,ISERROR(SEARCH(J$1&\"=\",Data!$A7:$H7)),0)),J$1&\"=\",\"\"),\"\")","v":"Technický zamestnanec"}]
[{"$f":"IFERROR(SUBSTITUTE(INDEX(Data!$A8:$H8,,MATCH(FALSE,ISERROR(SEARCH(A$1&\"=\",Data!$A8:$H8)),0)),A$1&\"=\",\"\"),\"\")","v":"IVAN02"},{"$f":"IFERROR(SUBSTITUTE(INDEX(Data!$A8:$H8,,MATCH(FALSE,ISERROR(SEARCH(B$1&\"=\",Data!$A8:$H8)),0)),B$1&\"=\",\"\"),\"\")","v":"Ivanová"},{"$f":"IFERROR(SUBSTITUTE(INDEX(Data!$A8:$H8,,MATCH(FALSE,ISERROR(SEARCH(C$1&\"=\",Data!$A8:$H8)),0)),C$1&\"=\",\"\"),\"\")","v":"Adriana"},{"$f":"IFERROR(SUBSTITUTE(INDEX(Data!$A8:$H8,,MATCH(FALSE,ISERROR(SEARCH(D$1&\"=\",Data!$A8:$H8)),0)),D$1&\"=\",\"\"),\"\")","v":""},{"$f":"IFERROR(SUBSTITUTE(INDEX(Data!$A8:$H8,,MATCH(FALSE,ISERROR(SEARCH(E$1&\"=\",Data!$A8:$H8)),0)),E$1&\"=\",\"\"),\"\")","v":"2589/1973"},{"$f":"IFERROR(SUBSTITUTE(INDEX(Data!$A8:$H8,,MATCH(FALSE,ISERROR(SEARCH(F$1&\"=\",Data!$A8:$H8)),0)),F$1&\"=\",\"\"),\"\")","v":"Krivá 87"},{"$f":"IFERROR(SUBSTITUTE(INDEX(Data!$A8:$H8,,MATCH(FALSE,ISERROR(SEARCH(G$1&\"=\",Data!$A8:$H8)),0)),G$1&\"=\",\"\"),\"\")","v":"Bytča"},{"$f":"IFERROR(SUBSTITUTE(INDEX(Data!$A8:$H8,,MATCH(FALSE,ISERROR(SEARCH(H$1&\"=\",Data!$A8:$H8)),0)),H$1&\"=\",\"\"),\"\")","v":"05"},{"$f":"IFERROR(SUBSTITUTE(INDEX(Data!$A8:$H8,,MATCH(FALSE,ISERROR(SEARCH(I$1&\"=\",Data!$A8:$H8)),0)),I$1&\"=\",\"\"),\"\")","v":""},{"$f":"IFERROR(SUBSTITUTE(INDEX(Data!$A8:$H8,,MATCH(FALSE,ISERROR(SEARCH(J$1&\"=\",Data!$A8:$H8)),0)),J$1&\"=\",\"\"),\"\")","v":"Technický zamestnanec"}]
[{"$f":"IFERROR(SUBSTITUTE(INDEX(Data!$A9:$H9,,MATCH(FALSE,ISERROR(SEARCH(A$1&\"=\",Data!$A9:$H9)),0)),A$1&\"=\",\"\"),\"\")","v":""},{"$f":"IFERROR(SUBSTITUTE(INDEX(Data!$A9:$H9,,MATCH(FALSE,ISERROR(SEARCH(B$1&\"=\",Data!$A9:$H9)),0)),B$1&\"=\",\"\"),\"\")","v":""},{"$f":"IFERROR(SUBSTITUTE(INDEX(Data!$A9:$H9,,MATCH(FALSE,ISERROR(SEARCH(C$1&\"=\",Data!$A9:$H9)),0)),C$1&\"=\",\"\"),\"\")","v":""},{"$f":"IFERROR(SUBSTITUTE(INDEX(Data!$A9:$H9,,MATCH(FALSE,ISERROR(SEARCH(D$1&\"=\",Data!$A9:$H9)),0)),D$1&\"=\",\"\"),\"\")","v":""},{"$f":"IFERROR(SUBSTITUTE(INDEX(Data!$A9:$H9,,MATCH(FALSE,ISERROR(SEARCH(E$1&\"=\",Data!$A9:$H9)),0)),E$1&\"=\",\"\"),\"\")","v":""},{"$f":"IFERROR(SUBSTITUTE(INDEX(Data!$A9:$H9,,MATCH(FALSE,ISERROR(SEARCH(F$1&\"=\",Data!$A9:$H9)),0)),F$1&\"=\",\"\"),\"\")","v":""},{"$f":"IFERROR(SUBSTITUTE(INDEX(Data!$A9:$H9,,MATCH(FALSE,ISERROR(SEARCH(G$1&\"=\",Data!$A9:$H9)),0)),G$1&\"=\",\"\"),\"\")","v":""},{"$f":"IFERROR(SUBSTITUTE(INDEX(Data!$A9:$H9,,MATCH(FALSE,ISERROR(SEARCH(H$1&\"=\",Data!$A9:$H9)),0)),H$1&\"=\",\"\"),\"\")","v":""},{"$f":"IFERROR(SUBSTITUTE(INDEX(Data!$A9:$H9,,MATCH(FALSE,ISERROR(SEARCH(I$1&\"=\",Data!$A9:$H9)),0)),I$1&\"=\",\"\"),\"\")","v":""},{"$f":"IFERROR(SUBSTITUTE(INDEX(Data!$A9:$H9,,MATCH(FALSE,ISERROR(SEARCH(J$1&\"=\",Data!$A9:$H9)),0)),J$1&\"=\",\"\"),\"\")","v":""}]
[{"$f":"IFERROR(SUBSTITUTE(INDEX(Data!$A10:$H10,,MATCH(FALSE,ISERROR(SEARCH(A$1&\"=\",Data!$A10:$H10)),0)),A$1&\"=\",\"\"),\"\")","v":""},{"$f":"IFERROR(SUBSTITUTE(INDEX(Data!$A10:$H10,,MATCH(FALSE,ISERROR(SEARCH(B$1&\"=\",Data!$A10:$H10)),0)),B$1&\"=\",\"\"),\"\")","v":""},{"$f":"IFERROR(SUBSTITUTE(INDEX(Data!$A10:$H10,,MATCH(FALSE,ISERROR(SEARCH(C$1&\"=\",Data!$A10:$H10)),0)),C$1&\"=\",\"\"),\"\")","v":""},{"$f":"IFERROR(SUBSTITUTE(INDEX(Data!$A10:$H10,,MATCH(FALSE,ISERROR(SEARCH(D$1&\"=\",Data!$A10:$H10)),0)),D$1&\"=\",\"\"),\"\")","v":""},{"$f":"IFERROR(SUBSTITUTE(INDEX(Data!$A10:$H10,,MATCH(FALSE,ISERROR(SEARCH(E$1&\"=\",Data!$A10:$H10)),0)),E$1&\"=\",\"\"),\"\")","v":""},{"$f":"IFERROR(SUBSTITUTE(INDEX(Data!$A10:$H10,,MATCH(FALSE,ISERROR(SEARCH(F$1&\"=\",Data!$A10:$H10)),0)),F$1&\"=\",\"\"),\"\")","v":""},{"$f":"IFERROR(SUBSTITUTE(INDEX(Data!$A10:$H10,,MATCH(FALSE,ISERROR(SEARCH(G$1&\"=\",Data!$A10:$H10)),0)),G$1&\"=\",\"\"),\"\")","v":""},{"$f":"IFERROR(SUBSTITUTE(INDEX(Data!$A10:$H10,,MATCH(FALSE,ISERROR(SEARCH(H$1&\"=\",Data!$A10:$H10)),0)),H$1&\"=\",\"\"),\"\")","v":""},{"$f":"IFERROR(SUBSTITUTE(INDEX(Data!$A10:$H10,,MATCH(FALSE,ISERROR(SEARCH(I$1&\"=\",Data!$A10:$H10)),0)),I$1&\"=\",\"\"),\"\")","v":""},{"$f":"IFERROR(SUBSTITUTE(INDEX(Data!$A10:$H10,,MATCH(FALSE,ISERROR(SEARCH(J$1&\"=\",Data!$A10:$H10)),0)),J$1&\"=\",\"\"),\"\")","v":""}]
[{"$f":"IFERROR(SUBSTITUTE(INDEX(Data!$A11:$H11,,MATCH(FALSE,ISERROR(SEARCH(A$1&\"=\",Data!$A11:$H11)),0)),A$1&\"=\",\"\"),\"\")","v":""},{"$f":"IFERROR(SUBSTITUTE(INDEX(Data!$A11:$H11,,MATCH(FALSE,ISERROR(SEARCH(B$1&\"=\",Data!$A11:$H11)),0)),B$1&\"=\",\"\"),\"\")","v":""},{"$f":"IFERROR(SUBSTITUTE(INDEX(Data!$A11:$H11,,MATCH(FALSE,ISERROR(SEARCH(C$1&\"=\",Data!$A11:$H11)),0)),C$1&\"=\",\"\"),\"\")","v":""},{"$f":"IFERROR(SUBSTITUTE(INDEX(Data!$A11:$H11,,MATCH(FALSE,ISERROR(SEARCH(D$1&\"=\",Data!$A11:$H11)),0)),D$1&\"=\",\"\"),\"\")","v":""},{"$f":"IFERROR(SUBSTITUTE(INDEX(Data!$A11:$H11,,MATCH(FALSE,ISERROR(SEARCH(E$1&\"=\",Data!$A11:$H11)),0)),E$1&\"=\",\"\"),\"\")","v":""},{"$f":"IFERROR(SUBSTITUTE(INDEX(Data!$A11:$H11,,MATCH(FALSE,ISERROR(SEARCH(F$1&\"=\",Data!$A11:$H11)),0)),F$1&\"=\",\"\"),\"\")","v":""},{"$f":"IFERROR(SUBSTITUTE(INDEX(Data!$A11:$H11,,MATCH(FALSE,ISERROR(SEARCH(G$1&\"=\",Data!$A11:$H11)),0)),G$1&\"=\",\"\"),\"\")","v":""},{"$f":"IFERROR(SUBSTITUTE(INDEX(Data!$A11:$H11,,MATCH(FALSE,ISERROR(SEARCH(H$1&\"=\",Data!$A11:$H11)),0)),H$1&\"=\",\"\"),\"\")","v":""},{"$f":"IFERROR(SUBSTITUTE(INDEX(Data!$A11:$H11,,MATCH(FALSE,ISERROR(SEARCH(I$1&\"=\",Data!$A11:$H11)),0)),I$1&\"=\",\"\"),\"\")","v":""},{"$f":"IFERROR(SUBSTITUTE(INDEX(Data!$A11:$H11,,MATCH(FALSE,ISERROR(SEARCH(J$1&\"=\",Data!$A11:$H11)),0)),J$1&\"=\",\"\"),\"\")","v":""}]
[{"$f":"IFERROR(SUBSTITUTE(INDEX(Data!$A12:$H12,,MATCH(FALSE,ISERROR(SEARCH(A$1&\"=\",Data!$A12:$H12)),0)),A$1&\"=\",\"\"),\"\")","v":""},{"$f":"IFERROR(SUBSTITUTE(INDEX(Data!$A12:$H12,,MATCH(FALSE,ISERROR(SEARCH(B$1&\"=\",Data!$A12:$H12)),0)),B$1&\"=\",\"\"),\"\")","v":""},{"$f":"IFERROR(SUBSTITUTE(INDEX(Data!$A12:$H12,,MATCH(FALSE,ISERROR(SEARCH(C$1&\"=\",Data!$A12:$H12)),0)),C$1&\"=\",\"\"),\"\")","v":""},{"$f":"IFERROR(SUBSTITUTE(INDEX(Data!$A12:$H12,,MATCH(FALSE,ISERROR(SEARCH(D$1&\"=\",Data!$A12:$H12)),0)),D$1&\"=\",\"\"),\"\")","v":""},{"$f":"IFERROR(SUBSTITUTE(INDEX(Data!$A12:$H12,,MATCH(FALSE,ISERROR(SEARCH(E$1&\"=\",Data!$A12:$H12)),0)),E$1&\"=\",\"\"),\"\")","v":""},{"$f":"IFERROR(SUBSTITUTE(INDEX(Data!$A12:$H12,,MATCH(FALSE,ISERROR(SEARCH(F$1&\"=\",Data!$A12:$H12)),0)),F$1&\"=\",\"\"),\"\")","v":""},{"$f":"IFERROR(SUBSTITUTE(INDEX(Data!$A12:$H12,,MATCH(FALSE,ISERROR(SEARCH(G$1&\"=\",Data!$A12:$H12)),0)),G$1&\"=\",\"\"),\"\")","v":""},{"$f":"IFERROR(SUBSTITUTE(INDEX(Data!$A12:$H12,,MATCH(FALSE,ISERROR(SEARCH(H$1&\"=\",Data!$A12:$H12)),0)),H$1&\"=\",\"\"),\"\")","v":""},{"$f":"IFERROR(SUBSTITUTE(INDEX(Data!$A12:$H12,,MATCH(FALSE,ISERROR(SEARCH(I$1&\"=\",Data!$A12:$H12)),0)),I$1&\"=\",\"\"),\"\")","v":""},{"$f":"IFERROR(SUBSTITUTE(INDEX(Data!$A12:$H12,,MATCH(FALSE,ISERROR(SEARCH(J$1&\"=\",Data!$A12:$H12)),0)),J$1&\"=\",\"\"),\"\")","v":""}]
[{"$f":"IFERROR(SUBSTITUTE(INDEX(Data!$A13:$H13,,MATCH(FALSE,ISERROR(SEARCH(A$1&\"=\",Data!$A13:$H13)),0)),A$1&\"=\",\"\"),\"\")","v":""},{"$f":"IFERROR(SUBSTITUTE(INDEX(Data!$A13:$H13,,MATCH(FALSE,ISERROR(SEARCH(B$1&\"=\",Data!$A13:$H13)),0)),B$1&\"=\",\"\"),\"\")","v":""},{"$f":"IFERROR(SUBSTITUTE(INDEX(Data!$A13:$H13,,MATCH(FALSE,ISERROR(SEARCH(C$1&\"=\",Data!$A13:$H13)),0)),C$1&\"=\",\"\"),\"\")","v":""},{"$f":"IFERROR(SUBSTITUTE(INDEX(Data!$A13:$H13,,MATCH(FALSE,ISERROR(SEARCH(D$1&\"=\",Data!$A13:$H13)),0)),D$1&\"=\",\"\"),\"\")","v":""},{"$f":"IFERROR(SUBSTITUTE(INDEX(Data!$A13:$H13,,MATCH(FALSE,ISERROR(SEARCH(E$1&\"=\",Data!$A13:$H13)),0)),E$1&\"=\",\"\"),\"\")","v":""},{"$f":"IFERROR(SUBSTITUTE(INDEX(Data!$A13:$H13,,MATCH(FALSE,ISERROR(SEARCH(F$1&\"=\",Data!$A13:$H13)),0)),F$1&\"=\",\"\"),\"\")","v":""},{"$f":"IFERROR(SUBSTITUTE(INDEX(Data!$A13:$H13,,MATCH(FALSE,ISERROR(SEARCH(G$1&\"=\",Data!$A13:$H13)),0)),G$1&\"=\",\"\"),\"\")","v":""},{"$f":"IFERROR(SUBSTITUTE(INDEX(Data!$A13:$H13,,MATCH(FALSE,ISERROR(SEARCH(H$1&\"=\",Data!$A13:$H13)),0)),H$1&\"=\",\"\"),\"\")","v":""},{"$f":"IFERROR(SUBSTITUTE(INDEX(Data!$A13:$H13,,MATCH(FALSE,ISERROR(SEARCH(I$1&\"=\",Data!$A13:$H13)),0)),I$1&\"=\",\"\"),\"\")","v":""},{"$f":"IFERROR(SUBSTITUTE(INDEX(Data!$A13:$H13,,MATCH(FALSE,ISERROR(SEARCH(J$1&\"=\",Data!$A13:$H13)),0)),J$1&\"=\",\"\"),\"\")","v":""}]
[{"$f":"IFERROR(SUBSTITUTE(INDEX(Data!$A14:$H14,,MATCH(FALSE,ISERROR(SEARCH(A$1&\"=\",Data!$A14:$H14)),0)),A$1&\"=\",\"\"),\"\")","v":""},{"$f":"IFERROR(SUBSTITUTE(INDEX(Data!$A14:$H14,,MATCH(FALSE,ISERROR(SEARCH(B$1&\"=\",Data!$A14:$H14)),0)),B$1&\"=\",\"\"),\"\")","v":""},{"$f":"IFERROR(SUBSTITUTE(INDEX(Data!$A14:$H14,,MATCH(FALSE,ISERROR(SEARCH(C$1&\"=\",Data!$A14:$H14)),0)),C$1&\"=\",\"\"),\"\")","v":""},{"$f":"IFERROR(SUBSTITUTE(INDEX(Data!$A14:$H14,,MATCH(FALSE,ISERROR(SEARCH(D$1&\"=\",Data!$A14:$H14)),0)),D$1&\"=\",\"\"),\"\")","v":""},{"$f":"IFERROR(SUBSTITUTE(INDEX(Data!$A14:$H14,,MATCH(FALSE,ISERROR(SEARCH(E$1&\"=\",Data!$A14:$H14)),0)),E$1&\"=\",\"\"),\"\")","v":""},{"$f":"IFERROR(SUBSTITUTE(INDEX(Data!$A14:$H14,,MATCH(FALSE,ISERROR(SEARCH(F$1&\"=\",Data!$A14:$H14)),0)),F$1&\"=\",\"\"),\"\")","v":""},{"$f":"IFERROR(SUBSTITUTE(INDEX(Data!$A14:$H14,,MATCH(FALSE,ISERROR(SEARCH(G$1&\"=\",Data!$A14:$H14)),0)),G$1&\"=\",\"\"),\"\")","v":""},{"$f":"IFERROR(SUBSTITUTE(INDEX(Data!$A14:$H14,,MATCH(FALSE,ISERROR(SEARCH(H$1&\"=\",Data!$A14:$H14)),0)),H$1&\"=\",\"\"),\"\")","v":""},{"$f":"IFERROR(SUBSTITUTE(INDEX(Data!$A14:$H14,,MATCH(FALSE,ISERROR(SEARCH(I$1&\"=\",Data!$A14:$H14)),0)),I$1&\"=\",\"\"),\"\")","v":""},{"$f":"IFERROR(SUBSTITUTE(INDEX(Data!$A14:$H14,,MATCH(FALSE,ISERROR(SEARCH(J$1&\"=\",Data!$A14:$H14)),0)),J$1&\"=\",\"\"),\"\")","v":""}]
[{"$f":"IFERROR(SUBSTITUTE(INDEX(Data!$A15:$H15,,MATCH(FALSE,ISERROR(SEARCH(A$1&\"=\",Data!$A15:$H15)),0)),A$1&\"=\",\"\"),\"\")","v":""},{"$f":"IFERROR(SUBSTITUTE(INDEX(Data!$A15:$H15,,MATCH(FALSE,ISERROR(SEARCH(B$1&\"=\",Data!$A15:$H15)),0)),B$1&\"=\",\"\"),\"\")","v":""},{"$f":"IFERROR(SUBSTITUTE(INDEX(Data!$A15:$H15,,MATCH(FALSE,ISERROR(SEARCH(C$1&\"=\",Data!$A15:$H15)),0)),C$1&\"=\",\"\"),\"\")","v":""},{"$f":"IFERROR(SUBSTITUTE(INDEX(Data!$A15:$H15,,MATCH(FALSE,ISERROR(SEARCH(D$1&\"=\",Data!$A15:$H15)),0)),D$1&\"=\",\"\"),\"\")","v":""},{"$f":"IFERROR(SUBSTITUTE(INDEX(Data!$A15:$H15,,MATCH(FALSE,ISERROR(SEARCH(E$1&\"=\",Data!$A15:$H15)),0)),E$1&\"=\",\"\"),\"\")","v":""},{"$f":"IFERROR(SUBSTITUTE(INDEX(Data!$A15:$H15,,MATCH(FALSE,ISERROR(SEARCH(F$1&\"=\",Data!$A15:$H15)),0)),F$1&\"=\",\"\"),\"\")","v":""},{"$f":"IFERROR(SUBSTITUTE(INDEX(Data!$A15:$H15,,MATCH(FALSE,ISERROR(SEARCH(G$1&\"=\",Data!$A15:$H15)),0)),G$1&\"=\",\"\"),\"\")","v":""},{"$f":"IFERROR(SUBSTITUTE(INDEX(Data!$A15:$H15,,MATCH(FALSE,ISERROR(SEARCH(H$1&\"=\",Data!$A15:$H15)),0)),H$1&\"=\",\"\"),\"\")","v":""},{"$f":"IFERROR(SUBSTITUTE(INDEX(Data!$A15:$H15,,MATCH(FALSE,ISERROR(SEARCH(I$1&\"=\",Data!$A15:$H15)),0)),I$1&\"=\",\"\"),\"\")","v":""},{"$f":"IFERROR(SUBSTITUTE(INDEX(Data!$A15:$H15,,MATCH(FALSE,ISERROR(SEARCH(J$1&\"=\",Data!$A15:$H15)),0)),J$1&\"=\",\"\"),\"\")","v":""}]
[{"$f":"IFERROR(SUBSTITUTE(INDEX(Data!$A16:$H16,,MATCH(FALSE,ISERROR(SEARCH(A$1&\"=\",Data!$A16:$H16)),0)),A$1&\"=\",\"\"),\"\")","v":""},{"$f":"IFERROR(SUBSTITUTE(INDEX(Data!$A16:$H16,,MATCH(FALSE,ISERROR(SEARCH(B$1&\"=\",Data!$A16:$H16)),0)),B$1&\"=\",\"\"),\"\")","v":""},{"$f":"IFERROR(SUBSTITUTE(INDEX(Data!$A16:$H16,,MATCH(FALSE,ISERROR(SEARCH(C$1&\"=\",Data!$A16:$H16)),0)),C$1&\"=\",\"\"),\"\")","v":""},{"$f":"IFERROR(SUBSTITUTE(INDEX(Data!$A16:$H16,,MATCH(FALSE,ISERROR(SEARCH(D$1&\"=\",Data!$A16:$H16)),0)),D$1&\"=\",\"\"),\"\")","v":""},{"$f":"IFERROR(SUBSTITUTE(INDEX(Data!$A16:$H16,,MATCH(FALSE,ISERROR(SEARCH(E$1&\"=\",Data!$A16:$H16)),0)),E$1&\"=\",\"\"),\"\")","v":""},{"$f":"IFERROR(SUBSTITUTE(INDEX(Data!$A16:$H16,,MATCH(FALSE,ISERROR(SEARCH(F$1&\"=\",Data!$A16:$H16)),0)),F$1&\"=\",\"\"),\"\")","v":""},{"$f":"IFERROR(SUBSTITUTE(INDEX(Data!$A16:$H16,,MATCH(FALSE,ISERROR(SEARCH(G$1&\"=\",Data!$A16:$H16)),0)),G$1&\"=\",\"\"),\"\")","v":""},{"$f":"IFERROR(SUBSTITUTE(INDEX(Data!$A16:$H16,,MATCH(FALSE,ISERROR(SEARCH(H$1&\"=\",Data!$A16:$H16)),0)),H$1&\"=\",\"\"),\"\")","v":""},{"$f":"IFERROR(SUBSTITUTE(INDEX(Data!$A16:$H16,,MATCH(FALSE,ISERROR(SEARCH(I$1&\"=\",Data!$A16:$H16)),0)),I$1&\"=\",\"\"),\"\")","v":""},{"$f":"IFERROR(SUBSTITUTE(INDEX(Data!$A16:$H16,,MATCH(FALSE,ISERROR(SEARCH(J$1&\"=\",Data!$A16:$H16)),0)),J$1&\"=\",\"\"),\"\")","v":""}]
[{"$f":"IFERROR(SUBSTITUTE(INDEX(Data!$A17:$H17,,MATCH(FALSE,ISERROR(SEARCH(A$1&\"=\",Data!$A17:$H17)),0)),A$1&\"=\",\"\"),\"\")","v":""},{"$f":"IFERROR(SUBSTITUTE(INDEX(Data!$A17:$H17,,MATCH(FALSE,ISERROR(SEARCH(B$1&\"=\",Data!$A17:$H17)),0)),B$1&\"=\",\"\"),\"\")","v":""},{"$f":"IFERROR(SUBSTITUTE(INDEX(Data!$A17:$H17,,MATCH(FALSE,ISERROR(SEARCH(C$1&\"=\",Data!$A17:$H17)),0)),C$1&\"=\",\"\"),\"\")","v":""},{"$f":"IFERROR(SUBSTITUTE(INDEX(Data!$A17:$H17,,MATCH(FALSE,ISERROR(SEARCH(D$1&\"=\",Data!$A17:$H17)),0)),D$1&\"=\",\"\"),\"\")","v":""},{"$f":"IFERROR(SUBSTITUTE(INDEX(Data!$A17:$H17,,MATCH(FALSE,ISERROR(SEARCH(E$1&\"=\",Data!$A17:$H17)),0)),E$1&\"=\",\"\"),\"\")","v":""},{"$f":"IFERROR(SUBSTITUTE(INDEX(Data!$A17:$H17,,MATCH(FALSE,ISERROR(SEARCH(F$1&\"=\",Data!$A17:$H17)),0)),F$1&\"=\",\"\"),\"\")","v":""},{"$f":"IFERROR(SUBSTITUTE(INDEX(Data!$A17:$H17,,MATCH(FALSE,ISERROR(SEARCH(G$1&\"=\",Data!$A17:$H17)),0)),G$1&\"=\",\"\"),\"\")","v":""},{"$f":"IFERROR(SUBSTITUTE(INDEX(Data!$A17:$H17,,MATCH(FALSE,ISERROR(SEARCH(H$1&\"=\",Data!$A17:$H17)),0)),H$1&\"=\",\"\"),\"\")","v":""},{"$f":"IFERROR(SUBSTITUTE(INDEX(Data!$A17:$H17,,MATCH(FALSE,ISERROR(SEARCH(I$1&\"=\",Data!$A17:$H17)),0)),I$1&\"=\",\"\"),\"\")","v":""},{"$f":"IFERROR(SUBSTITUTE(INDEX(Data!$A17:$H17,,MATCH(FALSE,ISERROR(SEARCH(J$1&\"=\",Data!$A17:$H17)),0)),J$1&\"=\",\"\"),\"\")","v":""}]
[{"$f":"IFERROR(SUBSTITUTE(INDEX(Data!$A18:$H18,,MATCH(FALSE,ISERROR(SEARCH(A$1&\"=\",Data!$A18:$H18)),0)),A$1&\"=\",\"\"),\"\")","v":""},{"$f":"IFERROR(SUBSTITUTE(INDEX(Data!$A18:$H18,,MATCH(FALSE,ISERROR(SEARCH(B$1&\"=\",Data!$A18:$H18)),0)),B$1&\"=\",\"\"),\"\")","v":""},{"$f":"IFERROR(SUBSTITUTE(INDEX(Data!$A18:$H18,,MATCH(FALSE,ISERROR(SEARCH(C$1&\"=\",Data!$A18:$H18)),0)),C$1&\"=\",\"\"),\"\")","v":""},{"$f":"IFERROR(SUBSTITUTE(INDEX(Data!$A18:$H18,,MATCH(FALSE,ISERROR(SEARCH(D$1&\"=\",Data!$A18:$H18)),0)),D$1&\"=\",\"\"),\"\")","v":""},{"$f":"IFERROR(SUBSTITUTE(INDEX(Data!$A18:$H18,,MATCH(FALSE,ISERROR(SEARCH(E$1&\"=\",Data!$A18:$H18)),0)),E$1&\"=\",\"\"),\"\")","v":""},{"$f":"IFERROR(SUBSTITUTE(INDEX(Data!$A18:$H18,,MATCH(FALSE,ISERROR(SEARCH(F$1&\"=\",Data!$A18:$H18)),0)),F$1&\"=\",\"\"),\"\")","v":""},{"$f":"IFERROR(SUBSTITUTE(INDEX(Data!$A18:$H18,,MATCH(FALSE,ISERROR(SEARCH(G$1&\"=\",Data!$A18:$H18)),0)),G$1&\"=\",\"\"),\"\")","v":""},{"$f":"IFERROR(SUBSTITUTE(INDEX(Data!$A18:$H18,,MATCH(FALSE,ISERROR(SEARCH(H$1&\"=\",Data!$A18:$H18)),0)),H$1&\"=\",\"\"),\"\")","v":""},{"$f":"IFERROR(SUBSTITUTE(INDEX(Data!$A18:$H18,,MATCH(FALSE,ISERROR(SEARCH(I$1&\"=\",Data!$A18:$H18)),0)),I$1&\"=\",\"\"),\"\")","v":""},{"$f":"IFERROR(SUBSTITUTE(INDEX(Data!$A18:$H18,,MATCH(FALSE,ISERROR(SEARCH(J$1&\"=\",Data!$A18:$H18)),0)),J$1&\"=\",\"\"),\"\")","v":""}]
[{"$f":"IFERROR(SUBSTITUTE(INDEX(Data!$A19:$H19,,MATCH(FALSE,ISERROR(SEARCH(A$1&\"=\",Data!$A19:$H19)),0)),A$1&\"=\",\"\"),\"\")","v":""},{"$f":"IFERROR(SUBSTITUTE(INDEX(Data!$A19:$H19,,MATCH(FALSE,ISERROR(SEARCH(B$1&\"=\",Data!$A19:$H19)),0)),B$1&\"=\",\"\"),\"\")","v":""},{"$f":"IFERROR(SUBSTITUTE(INDEX(Data!$A19:$H19,,MATCH(FALSE,ISERROR(SEARCH(C$1&\"=\",Data!$A19:$H19)),0)),C$1&\"=\",\"\"),\"\")","v":""},{"$f":"IFERROR(SUBSTITUTE(INDEX(Data!$A19:$H19,,MATCH(FALSE,ISERROR(SEARCH(D$1&\"=\",Data!$A19:$H19)),0)),D$1&\"=\",\"\"),\"\")","v":""},{"$f":"IFERROR(SUBSTITUTE(INDEX(Data!$A19:$H19,,MATCH(FALSE,ISERROR(SEARCH(E$1&\"=\",Data!$A19:$H19)),0)),E$1&\"=\",\"\"),\"\")","v":""},{"$f":"IFERROR(SUBSTITUTE(INDEX(Data!$A19:$H19,,MATCH(FALSE,ISERROR(SEARCH(F$1&\"=\",Data!$A19:$H19)),0)),F$1&\"=\",\"\"),\"\")","v":""},{"$f":"IFERROR(SUBSTITUTE(INDEX(Data!$A19:$H19,,MATCH(FALSE,ISERROR(SEARCH(G$1&\"=\",Data!$A19:$H19)),0)),G$1&\"=\",\"\"),\"\")","v":""},{"$f":"IFERROR(SUBSTITUTE(INDEX(Data!$A19:$H19,,MATCH(FALSE,ISERROR(SEARCH(H$1&\"=\",Data!$A19:$H19)),0)),H$1&\"=\",\"\"),\"\")","v":""},{"$f":"IFERROR(SUBSTITUTE(INDEX(Data!$A19:$H19,,MATCH(FALSE,ISERROR(SEARCH(I$1&\"=\",Data!$A19:$H19)),0)),I$1&\"=\",\"\"),\"\")","v":""},{"$f":"IFERROR(SUBSTITUTE(INDEX(Data!$A19:$H19,,MATCH(FALSE,ISERROR(SEARCH(J$1&\"=\",Data!$A19:$H19)),0)),J$1&\"=\",\"\"),\"\")","v":""}]
[{"$f":"IFERROR(SUBSTITUTE(INDEX(Data!$A20:$H20,,MATCH(FALSE,ISERROR(SEARCH(A$1&\"=\",Data!$A20:$H20)),0)),A$1&\"=\",\"\"),\"\")","v":""},{"$f":"IFERROR(SUBSTITUTE(INDEX(Data!$A20:$H20,,MATCH(FALSE,ISERROR(SEARCH(B$1&\"=\",Data!$A20:$H20)),0)),B$1&\"=\",\"\"),\"\")","v":""},{"$f":"IFERROR(SUBSTITUTE(INDEX(Data!$A20:$H20,,MATCH(FALSE,ISERROR(SEARCH(C$1&\"=\",Data!$A20:$H20)),0)),C$1&\"=\",\"\"),\"\")","v":""},{"$f":"IFERROR(SUBSTITUTE(INDEX(Data!$A20:$H20,,MATCH(FALSE,ISERROR(SEARCH(D$1&\"=\",Data!$A20:$H20)),0)),D$1&\"=\",\"\"),\"\")","v":""},{"$f":"IFERROR(SUBSTITUTE(INDEX(Data!$A20:$H20,,MATCH(FALSE,ISERROR(SEARCH(E$1&\"=\",Data!$A20:$H20)),0)),E$1&\"=\",\"\"),\"\")","v":""},{"$f":"IFERROR(SUBSTITUTE(INDEX(Data!$A20:$H20,,MATCH(FALSE,ISERROR(SEARCH(F$1&\"=\",Data!$A20:$H20)),0)),F$1&\"=\",\"\"),\"\")","v":""},{"$f":"IFERROR(SUBSTITUTE(INDEX(Data!$A20:$H20,,MATCH(FALSE,ISERROR(SEARCH(G$1&\"=\",Data!$A20:$H20)),0)),G$1&\"=\",\"\"),\"\")","v":""},{"$f":"IFERROR(SUBSTITUTE(INDEX(Data!$A20:$H20,,MATCH(FALSE,ISERROR(SEARCH(H$1&\"=\",Data!$A20:$H20)),0)),H$1&\"=\",\"\"),\"\")","v":""},{"$f":"IFERROR(SUBSTITUTE(INDEX(Data!$A20:$H20,,MATCH(FALSE,ISERROR(SEARCH(I$1&\"=\",Data!$A20:$H20)),0)),I$1&\"=\",\"\"),\"\")","v":""},{"$f":"IFERROR(SUBSTITUTE(INDEX(Data!$A20:$H20,,MATCH(FALSE,ISERROR(SEARCH(J$1&\"=\",Data!$A20:$H20)),0)),J$1&\"=\",\"\"),\"\")","v":""}]
[{"$f":"IFERROR(SUBSTITUTE(INDEX(Data!$A21:$H21,,MATCH(FALSE,ISERROR(SEARCH(A$1&\"=\",Data!$A21:$H21)),0)),A$1&\"=\",\"\"),\"\")","v":""},{"$f":"IFERROR(SUBSTITUTE(INDEX(Data!$A21:$H21,,MATCH(FALSE,ISERROR(SEARCH(B$1&\"=\",Data!$A21:$H21)),0)),B$1&\"=\",\"\"),\"\")","v":""},{"$f":"IFERROR(SUBSTITUTE(INDEX(Data!$A21:$H21,,MATCH(FALSE,ISERROR(SEARCH(C$1&\"=\",Data!$A21:$H21)),0)),C$1&\"=\",\"\"),\"\")","v":""},{"$f":"IFERROR(SUBSTITUTE(INDEX(Data!$A21:$H21,,MATCH(FALSE,ISERROR(SEARCH(D$1&\"=\",Data!$A21:$H21)),0)),D$1&\"=\",\"\"),\"\")","v":""},{"$f":"IFERROR(SUBSTITUTE(INDEX(Data!$A21:$H21,,MATCH(FALSE,ISERROR(SEARCH(E$1&\"=\",Data!$A21:$H21)),0)),E$1&\"=\",\"\"),\"\")","v":""},{"$f":"IFERROR(SUBSTITUTE(INDEX(Data!$A21:$H21,,MATCH(FALSE,ISERROR(SEARCH(F$1&\"=\",Data!$A21:$H21)),0)),F$1&\"=\",\"\"),\"\")","v":""},{"$f":"IFERROR(SUBSTITUTE(INDEX(Data!$A21:$H21,,MATCH(FALSE,ISERROR(SEARCH(G$1&\"=\",Data!$A21:$H21)),0)),G$1&\"=\",\"\"),\"\")","v":""},{"$f":"IFERROR(SUBSTITUTE(INDEX(Data!$A21:$H21,,MATCH(FALSE,ISERROR(SEARCH(H$1&\"=\",Data!$A21:$H21)),0)),H$1&\"=\",\"\"),\"\")","v":""},{"$f":"IFERROR(SUBSTITUTE(INDEX(Data!$A21:$H21,,MATCH(FALSE,ISERROR(SEARCH(I$1&\"=\",Data!$A21:$H21)),0)),I$1&\"=\",\"\"),\"\")","v":""},{"$f":"IFERROR(SUBSTITUTE(INDEX(Data!$A21:$H21,,MATCH(FALSE,ISERROR(SEARCH(J$1&\"=\",Data!$A21:$H21)),0)),J$1&\"=\",\"\"),\"\")","v":""}]
[{"$f":"IFERROR(SUBSTITUTE(INDEX(Data!$A22:$H22,,MATCH(FALSE,ISERROR(SEARCH(A$1&\"=\",Data!$A22:$H22)),0)),A$1&\"=\",\"\"),\"\")","v":""},{"$f":"IFERROR(SUBSTITUTE(INDEX(Data!$A22:$H22,,MATCH(FALSE,ISERROR(SEARCH(B$1&\"=\",Data!$A22:$H22)),0)),B$1&\"=\",\"\"),\"\")","v":""},{"$f":"IFERROR(SUBSTITUTE(INDEX(Data!$A22:$H22,,MATCH(FALSE,ISERROR(SEARCH(C$1&\"=\",Data!$A22:$H22)),0)),C$1&\"=\",\"\"),\"\")","v":""},{"$f":"IFERROR(SUBSTITUTE(INDEX(Data!$A22:$H22,,MATCH(FALSE,ISERROR(SEARCH(D$1&\"=\",Data!$A22:$H22)),0)),D$1&\"=\",\"\"),\"\")","v":""},{"$f":"IFERROR(SUBSTITUTE(INDEX(Data!$A22:$H22,,MATCH(FALSE,ISERROR(SEARCH(E$1&\"=\",Data!$A22:$H22)),0)),E$1&\"=\",\"\"),\"\")","v":""},{"$f":"IFERROR(SUBSTITUTE(INDEX(Data!$A22:$H22,,MATCH(FALSE,ISERROR(SEARCH(F$1&\"=\",Data!$A22:$H22)),0)),F$1&\"=\",\"\"),\"\")","v":""},{"$f":"IFERROR(SUBSTITUTE(INDEX(Data!$A22:$H22,,MATCH(FALSE,ISERROR(SEARCH(G$1&\"=\",Data!$A22:$H22)),0)),G$1&\"=\",\"\"),\"\")","v":""},{"$f":"IFERROR(SUBSTITUTE(INDEX(Data!$A22:$H22,,MATCH(FALSE,ISERROR(SEARCH(H$1&\"=\",Data!$A22:$H22)),0)),H$1&\"=\",\"\"),\"\")","v":""},{"$f":"IFERROR(SUBSTITUTE(INDEX(Data!$A22:$H22,,MATCH(FALSE,ISERROR(SEARCH(I$1&\"=\",Data!$A22:$H22)),0)),I$1&\"=\",\"\"),\"\")","v":""},{"$f":"IFERROR(SUBSTITUTE(INDEX(Data!$A22:$H22,,MATCH(FALSE,ISERROR(SEARCH(J$1&\"=\",Data!$A22:$H22)),0)),J$1&\"=\",\"\"),\"\")","v":""}]
[{"$f":"IFERROR(SUBSTITUTE(INDEX(Data!$A23:$H23,,MATCH(FALSE,ISERROR(SEARCH(A$1&\"=\",Data!$A23:$H23)),0)),A$1&\"=\",\"\"),\"\")","v":""},{"$f":"IFERROR(SUBSTITUTE(INDEX(Data!$A23:$H23,,MATCH(FALSE,ISERROR(SEARCH(B$1&\"=\",Data!$A23:$H23)),0)),B$1&\"=\",\"\"),\"\")","v":""},{"$f":"IFERROR(SUBSTITUTE(INDEX(Data!$A23:$H23,,MATCH(FALSE,ISERROR(SEARCH(C$1&\"=\",Data!$A23:$H23)),0)),C$1&\"=\",\"\"),\"\")","v":""},{"$f":"IFERROR(SUBSTITUTE(INDEX(Data!$A23:$H23,,MATCH(FALSE,ISERROR(SEARCH(D$1&\"=\",Data!$A23:$H23)),0)),D$1&\"=\",\"\"),\"\")","v":""},{"$f":"IFERROR(SUBSTITUTE(INDEX(Data!$A23:$H23,,MATCH(FALSE,ISERROR(SEARCH(E$1&\"=\",Data!$A23:$H23)),0)),E$1&\"=\",\"\"),\"\")","v":""},{"$f":"IFERROR(SUBSTITUTE(INDEX(Data!$A23:$H23,,MATCH(FALSE,ISERROR(SEARCH(F$1&\"=\",Data!$A23:$H23)),0)),F$1&\"=\",\"\"),\"\")","v":""},{"$f":"IFERROR(SUBSTITUTE(INDEX(Data!$A23:$H23,,MATCH(FALSE,ISERROR(SEARCH(G$1&\"=\",Data!$A23:$H23)),0)),G$1&\"=\",\"\"),\"\")","v":""},{"$f":"IFERROR(SUBSTITUTE(INDEX(Data!$A23:$H23,,MATCH(FALSE,ISERROR(SEARCH(H$1&\"=\",Data!$A23:$H23)),0)),H$1&\"=\",\"\"),\"\")","v":""},{"$f":"IFERROR(SUBSTITUTE(INDEX(Data!$A23:$H23,,MATCH(FALSE,ISERROR(SEARCH(I$1&\"=\",Data!$A23:$H23)),0)),I$1&\"=\",\"\"),\"\")","v":""},{"$f":"IFERROR(SUBSTITUTE(INDEX(Data!$A23:$H23,,MATCH(FALSE,ISERROR(SEARCH(J$1&\"=\",Data!$A23:$H23)),0)),J$1&\"=\",\"\"),\"\")","v":""}]
[{"$f":"IFERROR(SUBSTITUTE(INDEX(Data!$A24:$H24,,MATCH(FALSE,ISERROR(SEARCH(A$1&\"=\",Data!$A24:$H24)),0)),A$1&\"=\",\"\"),\"\")","v":""},{"$f":"IFERROR(SUBSTITUTE(INDEX(Data!$A24:$H24,,MATCH(FALSE,ISERROR(SEARCH(B$1&\"=\",Data!$A24:$H24)),0)),B$1&\"=\",\"\"),\"\")","v":""},{"$f":"IFERROR(SUBSTITUTE(INDEX(Data!$A24:$H24,,MATCH(FALSE,ISERROR(SEARCH(C$1&\"=\",Data!$A24:$H24)),0)),C$1&\"=\",\"\"),\"\")","v":""},{"$f":"IFERROR(SUBSTITUTE(INDEX(Data!$A24:$H24,,MATCH(FALSE,ISERROR(SEARCH(D$1&\"=\",Data!$A24:$H24)),0)),D$1&\"=\",\"\"),\"\")","v":""},{"$f":"IFERROR(SUBSTITUTE(INDEX(Data!$A24:$H24,,MATCH(FALSE,ISERROR(SEARCH(E$1&\"=\",Data!$A24:$H24)),0)),E$1&\"=\",\"\"),\"\")","v":""},{"$f":"IFERROR(SUBSTITUTE(INDEX(Data!$A24:$H24,,MATCH(FALSE,ISERROR(SEARCH(F$1&\"=\",Data!$A24:$H24)),0)),F$1&\"=\",\"\"),\"\")","v":""},{"$f":"IFERROR(SUBSTITUTE(INDEX(Data!$A24:$H24,,MATCH(FALSE,ISERROR(SEARCH(G$1&\"=\",Data!$A24:$H24)),0)),G$1&\"=\",\"\"),\"\")","v":""},{"$f":"IFERROR(SUBSTITUTE(INDEX(Data!$A24:$H24,,MATCH(FALSE,ISERROR(SEARCH(H$1&\"=\",Data!$A24:$H24)),0)),H$1&\"=\",\"\"),\"\")","v":""},{"$f":"IFERROR(SUBSTITUTE(INDEX(Data!$A24:$H24,,MATCH(FALSE,ISERROR(SEARCH(I$1&\"=\",Data!$A24:$H24)),0)),I$1&\"=\",\"\"),\"\")","v":""},{"$f":"IFERROR(SUBSTITUTE(INDEX(Data!$A24:$H24,,MATCH(FALSE,ISERROR(SEARCH(J$1&\"=\",Data!$A24:$H24)),0)),J$1&\"=\",\"\"),\"\")","v":""}]
[{"$f":"IFERROR(SUBSTITUTE(INDEX(Data!$A25:$H25,,MATCH(FALSE,ISERROR(SEARCH(A$1&\"=\",Data!$A25:$H25)),0)),A$1&\"=\",\"\"),\"\")","v":""},{"$f":"IFERROR(SUBSTITUTE(INDEX(Data!$A25:$H25,,MATCH(FALSE,ISERROR(SEARCH(B$1&\"=\",Data!$A25:$H25)),0)),B$1&\"=\",\"\"),\"\")","v":""},{"$f":"IFERROR(SUBSTITUTE(INDEX(Data!$A25:$H25,,MATCH(FALSE,ISERROR(SEARCH(C$1&\"=\",Data!$A25:$H25)),0)),C$1&\"=\",\"\"),\"\")","v":""},{"$f":"IFERROR(SUBSTITUTE(INDEX(Data!$A25:$H25,,MATCH(FALSE,ISERROR(SEARCH(D$1&\"=\",Data!$A25:$H25)),0)),D$1&\"=\",\"\"),\"\")","v":""},{"$f":"IFERROR(SUBSTITUTE(INDEX(Data!$A25:$H25,,MATCH(FALSE,ISERROR(SEARCH(E$1&\"=\",Data!$A25:$H25)),0)),E$1&\"=\",\"\"),\"\")","v":""},{"$f":"IFERROR(SUBSTITUTE(INDEX(Data!$A25:$H25,,MATCH(FALSE,ISERROR(SEARCH(F$1&\"=\",Data!$A25:$H25)),0)),F$1&\"=\",\"\"),\"\")","v":""},{"$f":"IFERROR(SUBSTITUTE(INDEX(Data!$A25:$H25,,MATCH(FALSE,ISERROR(SEARCH(G$1&\"=\",Data!$A25:$H25)),0)),G$1&\"=\",\"\"),\"\")","v":""},{"$f":"IFERROR(SUBSTITUTE(INDEX(Data!$A25:$H25,,MATCH(FALSE,ISERROR(SEARCH(H$1&\"=\",Data!$A25:$H25)),0)),H$1&\"=\",\"\"),\"\")","v":""},{"$f":"IFERROR(SUBSTITUTE(INDEX(Data!$A25:$H25,,MATCH(FALSE,ISERROR(SEARCH(I$1&\"=\",Data!$A25:$H25)),0)),I$1&\"=\",\"\"),\"\")","v":""},{"$f":"IFERROR(SUBSTITUTE(INDEX(Data!$A25:$H25,,MATCH(FALSE,ISERROR(SEARCH(J$1&\"=\",Data!$A25:$H25)),0)),J$1&\"=\",\"\"),\"\")","v":""}]
[{"$f":"IFERROR(SUBSTITUTE(INDEX(Data!$A26:$H26,,MATCH(FALSE,ISERROR(SEARCH(A$1&\"=\",Data!$A26:$H26)),0)),A$1&\"=\",\"\"),\"\")","v":""},{"$f":"IFERROR(SUBSTITUTE(INDEX(Data!$A26:$H26,,MATCH(FALSE,ISERROR(SEARCH(B$1&\"=\",Data!$A26:$H26)),0)),B$1&\"=\",\"\"),\"\")","v":""},{"$f":"IFERROR(SUBSTITUTE(INDEX(Data!$A26:$H26,,MATCH(FALSE,ISERROR(SEARCH(C$1&\"=\",Data!$A26:$H26)),0)),C$1&\"=\",\"\"),\"\")","v":""},{"$f":"IFERROR(SUBSTITUTE(INDEX(Data!$A26:$H26,,MATCH(FALSE,ISERROR(SEARCH(D$1&\"=\",Data!$A26:$H26)),0)),D$1&\"=\",\"\"),\"\")","v":""},{"$f":"IFERROR(SUBSTITUTE(INDEX(Data!$A26:$H26,,MATCH(FALSE,ISERROR(SEARCH(E$1&\"=\",Data!$A26:$H26)),0)),E$1&\"=\",\"\"),\"\")","v":""},{"$f":"IFERROR(SUBSTITUTE(INDEX(Data!$A26:$H26,,MATCH(FALSE,ISERROR(SEARCH(F$1&\"=\",Data!$A26:$H26)),0)),F$1&\"=\",\"\"),\"\")","v":""},{"$f":"IFERROR(SUBSTITUTE(INDEX(Data!$A26:$H26,,MATCH(FALSE,ISERROR(SEARCH(G$1&\"=\",Data!$A26:$H26)),0)),G$1&\"=\",\"\"),\"\")","v":""},{"$f":"IFERROR(SUBSTITUTE(INDEX(Data!$A26:$H26,,MATCH(FALSE,ISERROR(SEARCH(H$1&\"=\",Data!$A26:$H26)),0)),H$1&\"=\",\"\"),\"\")","v":""},{"$f":"IFERROR(SUBSTITUTE(INDEX(Data!$A26:$H26,,MATCH(FALSE,ISERROR(SEARCH(I$1&\"=\",Data!$A26:$H26)),0)),I$1&\"=\",\"\"),\"\")","v":""},{"$f":"IFERROR(SUBSTITUTE(INDEX(Data!$A26:$H26,,MATCH(FALSE,ISERROR(SEARCH(J$1&\"=\",Data!$A26:$H26)),0)),J$1&\"=\",\"\"),\"\")","v":""}]
[{"$f":"IFERROR(SUBSTITUTE(INDEX(Data!$A27:$H27,,MATCH(FALSE,ISERROR(SEARCH(A$1&\"=\",Data!$A27:$H27)),0)),A$1&\"=\",\"\"),\"\")","v":""},{"$f":"IFERROR(SUBSTITUTE(INDEX(Data!$A27:$H27,,MATCH(FALSE,ISERROR(SEARCH(B$1&\"=\",Data!$A27:$H27)),0)),B$1&\"=\",\"\"),\"\")","v":""},{"$f":"IFERROR(SUBSTITUTE(INDEX(Data!$A27:$H27,,MATCH(FALSE,ISERROR(SEARCH(C$1&\"=\",Data!$A27:$H27)),0)),C$1&\"=\",\"\"),\"\")","v":""},{"$f":"IFERROR(SUBSTITUTE(INDEX(Data!$A27:$H27,,MATCH(FALSE,ISERROR(SEARCH(D$1&\"=\",Data!$A27:$H27)),0)),D$1&\"=\",\"\"),\"\")","v":""},{"$f":"IFERROR(SUBSTITUTE(INDEX(Data!$A27:$H27,,MATCH(FALSE,ISERROR(SEARCH(E$1&\"=\",Data!$A27:$H27)),0)),E$1&\"=\",\"\"),\"\")","v":""},{"$f":"IFERROR(SUBSTITUTE(INDEX(Data!$A27:$H27,,MATCH(FALSE,ISERROR(SEARCH(F$1&\"=\",Data!$A27:$H27)),0)),F$1&\"=\",\"\"),\"\")","v":""},{"$f":"IFERROR(SUBSTITUTE(INDEX(Data!$A27:$H27,,MATCH(FALSE,ISERROR(SEARCH(G$1&\"=\",Data!$A27:$H27)),0)),G$1&\"=\",\"\"),\"\")","v":""},{"$f":"IFERROR(SUBSTITUTE(INDEX(Data!$A27:$H27,,MATCH(FALSE,ISERROR(SEARCH(H$1&\"=\",Data!$A27:$H27)),0)),H$1&\"=\",\"\"),\"\")","v":""},{"$f":"IFERROR(SUBSTITUTE(INDEX(Data!$A27:$H27,,MATCH(FALSE,ISERROR(SEARCH(I$1&\"=\",Data!$A27:$H27)),0)),I$1&\"=\",\"\"),\"\")","v":""},{"$f":"IFERROR(SUBSTITUTE(INDEX(Data!$A27:$H27,,MATCH(FALSE,ISERROR(SEARCH(J$1&\"=\",Data!$A27:$H27)),0)),J$1&\"=\",\"\"),\"\")","v":""}]
[{"$f":"IFERROR(SUBSTITUTE(INDEX(Data!$A28:$H28,,MATCH(FALSE,ISERROR(SEARCH(A$1&\"=\",Data!$A28:$H28)),0)),A$1&\"=\",\"\"),\"\")","v":""},{"$f":"IFERROR(SUBSTITUTE(INDEX(Data!$A28:$H28,,MATCH(FALSE,ISERROR(SEARCH(B$1&\"=\",Data!$A28:$H28)),0)),B$1&\"=\",\"\"),\"\")","v":""},{"$f":"IFERROR(SUBSTITUTE(INDEX(Data!$A28:$H28,,MATCH(FALSE,ISERROR(SEARCH(C$1&\"=\",Data!$A28:$H28)),0)),C$1&\"=\",\"\"),\"\")","v":""},{"$f":"IFERROR(SUBSTITUTE(INDEX(Data!$A28:$H28,,MATCH(FALSE,ISERROR(SEARCH(D$1&\"=\",Data!$A28:$H28)),0)),D$1&\"=\",\"\"),\"\")","v":""},{"$f":"IFERROR(SUBSTITUTE(INDEX(Data!$A28:$H28,,MATCH(FALSE,ISERROR(SEARCH(E$1&\"=\",Data!$A28:$H28)),0)),E$1&\"=\",\"\"),\"\")","v":""},{"$f":"IFERROR(SUBSTITUTE(INDEX(Data!$A28:$H28,,MATCH(FALSE,ISERROR(SEARCH(F$1&\"=\",Data!$A28:$H28)),0)),F$1&\"=\",\"\"),\"\")","v":""},{"$f":"IFERROR(SUBSTITUTE(INDEX(Data!$A28:$H28,,MATCH(FALSE,ISERROR(SEARCH(G$1&\"=\",Data!$A28:$H28)),0)),G$1&\"=\",\"\"),\"\")","v":""},{"$f":"IFERROR(SUBSTITUTE(INDEX(Data!$A28:$H28,,MATCH(FALSE,ISERROR(SEARCH(H$1&\"=\",Data!$A28:$H28)),0)),H$1&\"=\",\"\"),\"\")","v":""},{"$f":"IFERROR(SUBSTITUTE(INDEX(Data!$A28:$H28,,MATCH(FALSE,ISERROR(SEARCH(I$1&\"=\",Data!$A28:$H28)),0)),I$1&\"=\",\"\"),\"\")","v":""},{"$f":"IFERROR(SUBSTITUTE(INDEX(Data!$A28:$H28,,MATCH(FALSE,ISERROR(SEARCH(J$1&\"=\",Data!$A28:$H28)),0)),J$1&\"=\",\"\"),\"\")","v":""}]
[{"$f":"IFERROR(SUBSTITUTE(INDEX(Data!$A29:$H29,,MATCH(FALSE,ISERROR(SEARCH(A$1&\"=\",Data!$A29:$H29)),0)),A$1&\"=\",\"\"),\"\")","v":""},{"$f":"IFERROR(SUBSTITUTE(INDEX(Data!$A29:$H29,,MATCH(FALSE,ISERROR(SEARCH(B$1&\"=\",Data!$A29:$H29)),0)),B$1&\"=\",\"\"),\"\")","v":""},{"$f":"IFERROR(SUBSTITUTE(INDEX(Data!$A29:$H29,,MATCH(FALSE,ISERROR(SEARCH(C$1&\"=\",Data!$A29:$H29)),0)),C$1&\"=\",\"\"),\"\")","v":""},{"$f":"IFERROR(SUBSTITUTE(INDEX(Data!$A29:$H29,,MATCH(FALSE,ISERROR(SEARCH(D$1&\"=\",Data!$A29:$H29)),0)),D$1&\"=\",\"\"),\"\")","v":""},{"$f":"IFERROR(SUBSTITUTE(INDEX(Data!$A29:$H29,,MATCH(FALSE,ISERROR(SEARCH(E$1&\"=\",Data!$A29:$H29)),0)),E$1&\"=\",\"\"),\"\")","v":""},{"$f":"IFERROR(SUBSTITUTE(INDEX(Data!$A29:$H29,,MATCH(FALSE,ISERROR(SEARCH(F$1&\"=\",Data!$A29:$H29)),0)),F$1&\"=\",\"\"),\"\")","v":""},{"$f":"IFERROR(SUBSTITUTE(INDEX(Data!$A29:$H29,,MATCH(FALSE,ISERROR(SEARCH(G$1&\"=\",Data!$A29:$H29)),0)),G$1&\"=\",\"\"),\"\")","v":""},{"$f":"IFERROR(SUBSTITUTE(INDEX(Data!$A29:$H29,,MATCH(FALSE,ISERROR(SEARCH(H$1&\"=\",Data!$A29:$H29)),0)),H$1&\"=\",\"\"),\"\")","v":""},{"$f":"IFERROR(SUBSTITUTE(INDEX(Data!$A29:$H29,,MATCH(FALSE,ISERROR(SEARCH(I$1&\"=\",Data!$A29:$H29)),0)),I$1&\"=\",\"\"),\"\")","v":""},{"$f":"IFERROR(SUBSTITUTE(INDEX(Data!$A29:$H29,,MATCH(FALSE,ISERROR(SEARCH(J$1&\"=\",Data!$A29:$H29)),0)),J$1&\"=\",\"\"),\"\")","v":""}]
[{"$f":"IFERROR(SUBSTITUTE(INDEX(Data!$A30:$H30,,MATCH(FALSE,ISERROR(SEARCH(A$1&\"=\",Data!$A30:$H30)),0)),A$1&\"=\",\"\"),\"\")","v":""},{"$f":"IFERROR(SUBSTITUTE(INDEX(Data!$A30:$H30,,MATCH(FALSE,ISERROR(SEARCH(B$1&\"=\",Data!$A30:$H30)),0)),B$1&\"=\",\"\"),\"\")","v":""},{"$f":"IFERROR(SUBSTITUTE(INDEX(Data!$A30:$H30,,MATCH(FALSE,ISERROR(SEARCH(C$1&\"=\",Data!$A30:$H30)),0)),C$1&\"=\",\"\"),\"\")","v":""},{"$f":"IFERROR(SUBSTITUTE(INDEX(Data!$A30:$H30,,MATCH(FALSE,ISERROR(SEARCH(D$1&\"=\",Data!$A30:$H30)),0)),D$1&\"=\",\"\"),\"\")","v":""},{"$f":"IFERROR(SUBSTITUTE(INDEX(Data!$A30:$H30,,MATCH(FALSE,ISERROR(SEARCH(E$1&\"=\",Data!$A30:$H30)),0)),E$1&\"=\",\"\"),\"\")","v":""},{"$f":"IFERROR(SUBSTITUTE(INDEX(Data!$A30:$H30,,MATCH(FALSE,ISERROR(SEARCH(F$1&\"=\",Data!$A30:$H30)),0)),F$1&\"=\",\"\"),\"\")","v":""},{"$f":"IFERROR(SUBSTITUTE(INDEX(Data!$A30:$H30,,MATCH(FALSE,ISERROR(SEARCH(G$1&\"=\",Data!$A30:$H30)),0)),G$1&\"=\",\"\"),\"\")","v":""},{"$f":"IFERROR(SUBSTITUTE(INDEX(Data!$A30:$H30,,MATCH(FALSE,ISERROR(SEARCH(H$1&\"=\",Data!$A30:$H30)),0)),H$1&\"=\",\"\"),\"\")","v":""},{"$f":"IFERROR(SUBSTITUTE(INDEX(Data!$A30:$H30,,MATCH(FALSE,ISERROR(SEARCH(I$1&\"=\",Data!$A30:$H30)),0)),I$1&\"=\",\"\"),\"\")","v":""},{"$f":"IFERROR(SUBSTITUTE(INDEX(Data!$A30:$H30,,MATCH(FALSE,ISERROR(SEARCH(J$1&\"=\",Data!$A30:$H30)),0)),J$1&\"=\",\"\"),\"\")","v":""}]
[{"$f":"IFERROR(SUBSTITUTE(INDEX(Data!$A31:$H31,,MATCH(FALSE,ISERROR(SEARCH(A$1&\"=\",Data!$A31:$H31)),0)),A$1&\"=\",\"\"),\"\")","v":""},{"$f":"IFERROR(SUBSTITUTE(INDEX(Data!$A31:$H31,,MATCH(FALSE,ISERROR(SEARCH(B$1&\"=\",Data!$A31:$H31)),0)),B$1&\"=\",\"\"),\"\")","v":""},{"$f":"IFERROR(SUBSTITUTE(INDEX(Data!$A31:$H31,,MATCH(FALSE,ISERROR(SEARCH(C$1&\"=\",Data!$A31:$H31)),0)),C$1&\"=\",\"\"),\"\")","v":""},{"$f":"IFERROR(SUBSTITUTE(INDEX(Data!$A31:$H31,,MATCH(FALSE,ISERROR(SEARCH(D$1&\"=\",Data!$A31:$H31)),0)),D$1&\"=\",\"\"),\"\")","v":""},{"$f":"IFERROR(SUBSTITUTE(INDEX(Data!$A31:$H31,,MATCH(FALSE,ISERROR(SEARCH(E$1&\"=\",Data!$A31:$H31)),0)),E$1&\"=\",\"\"),\"\")","v":""},{"$f":"IFERROR(SUBSTITUTE(INDEX(Data!$A31:$H31,,MATCH(FALSE,ISERROR(SEARCH(F$1&\"=\",Data!$A31:$H31)),0)),F$1&\"=\",\"\"),\"\")","v":""},{"$f":"IFERROR(SUBSTITUTE(INDEX(Data!$A31:$H31,,MATCH(FALSE,ISERROR(SEARCH(G$1&\"=\",Data!$A31:$H31)),0)),G$1&\"=\",\"\"),\"\")","v":""},{"$f":"IFERROR(SUBSTITUTE(INDEX(Data!$A31:$H31,,MATCH(FALSE,ISERROR(SEARCH(H$1&\"=\",Data!$A31:$H31)),0)),H$1&\"=\",\"\"),\"\")","v":""},{"$f":"IFERROR(SUBSTITUTE(INDEX(Data!$A31:$H31,,MATCH(FALSE,ISERROR(SEARCH(I$1&\"=\",Data!$A31:$H31)),0)),I$1&\"=\",\"\"),\"\")","v":""},{"$f":"IFERROR(SUBSTITUTE(INDEX(Data!$A31:$H31,,MATCH(FALSE,ISERROR(SEARCH(J$1&\"=\",Data!$A31:$H31)),0)),J$1&\"=\",\"\"),\"\")","v":""}]
[{"$f":"IFERROR(SUBSTITUTE(INDEX(Data!$A32:$H32,,MATCH(FALSE,ISERROR(SEARCH(A$1&\"=\",Data!$A32:$H32)),0)),A$1&\"=\",\"\"),\"\")","v":""},{"$f":"IFERROR(SUBSTITUTE(INDEX(Data!$A32:$H32,,MATCH(FALSE,ISERROR(SEARCH(B$1&\"=\",Data!$A32:$H32)),0)),B$1&\"=\",\"\"),\"\")","v":""},{"$f":"IFERROR(SUBSTITUTE(INDEX(Data!$A32:$H32,,MATCH(FALSE,ISERROR(SEARCH(C$1&\"=\",Data!$A32:$H32)),0)),C$1&\"=\",\"\"),\"\")","v":""},{"$f":"IFERROR(SUBSTITUTE(INDEX(Data!$A32:$H32,,MATCH(FALSE,ISERROR(SEARCH(D$1&\"=\",Data!$A32:$H32)),0)),D$1&\"=\",\"\"),\"\")","v":""},{"$f":"IFERROR(SUBSTITUTE(INDEX(Data!$A32:$H32,,MATCH(FALSE,ISERROR(SEARCH(E$1&\"=\",Data!$A32:$H32)),0)),E$1&\"=\",\"\"),\"\")","v":""},{"$f":"IFERROR(SUBSTITUTE(INDEX(Data!$A32:$H32,,MATCH(FALSE,ISERROR(SEARCH(F$1&\"=\",Data!$A32:$H32)),0)),F$1&\"=\",\"\"),\"\")","v":""},{"$f":"IFERROR(SUBSTITUTE(INDEX(Data!$A32:$H32,,MATCH(FALSE,ISERROR(SEARCH(G$1&\"=\",Data!$A32:$H32)),0)),G$1&\"=\",\"\"),\"\")","v":""},{"$f":"IFERROR(SUBSTITUTE(INDEX(Data!$A32:$H32,,MATCH(FALSE,ISERROR(SEARCH(H$1&\"=\",Data!$A32:$H32)),0)),H$1&\"=\",\"\"),\"\")","v":""},{"$f":"IFERROR(SUBSTITUTE(INDEX(Data!$A32:$H32,,MATCH(FALSE,ISERROR(SEARCH(I$1&\"=\",Data!$A32:$H32)),0)),I$1&\"=\",\"\"),\"\")","v":""},{"$f":"IFERROR(SUBSTITUTE(INDEX(Data!$A32:$H32,,MATCH(FALSE,ISERROR(SEARCH(J$1&\"=\",Data!$A32:$H32)),0)),J$1&\"=\",\"\"),\"\")","v":""}]
[{"$f":"IFERROR(SUBSTITUTE(INDEX(Data!$A33:$H33,,MATCH(FALSE,ISERROR(SEARCH(A$1&\"=\",Data!$A33:$H33)),0)),A$1&\"=\",\"\"),\"\")","v":""},{"$f":"IFERROR(SUBSTITUTE(INDEX(Data!$A33:$H33,,MATCH(FALSE,ISERROR(SEARCH(B$1&\"=\",Data!$A33:$H33)),0)),B$1&\"=\",\"\"),\"\")","v":""},{"$f":"IFERROR(SUBSTITUTE(INDEX(Data!$A33:$H33,,MATCH(FALSE,ISERROR(SEARCH(C$1&\"=\",Data!$A33:$H33)),0)),C$1&\"=\",\"\"),\"\")","v":""},{"$f":"IFERROR(SUBSTITUTE(INDEX(Data!$A33:$H33,,MATCH(FALSE,ISERROR(SEARCH(D$1&\"=\",Data!$A33:$H33)),0)),D$1&\"=\",\"\"),\"\")","v":""},{"$f":"IFERROR(SUBSTITUTE(INDEX(Data!$A33:$H33,,MATCH(FALSE,ISERROR(SEARCH(E$1&\"=\",Data!$A33:$H33)),0)),E$1&\"=\",\"\"),\"\")","v":""},{"$f":"IFERROR(SUBSTITUTE(INDEX(Data!$A33:$H33,,MATCH(FALSE,ISERROR(SEARCH(F$1&\"=\",Data!$A33:$H33)),0)),F$1&\"=\",\"\"),\"\")","v":""},{"$f":"IFERROR(SUBSTITUTE(INDEX(Data!$A33:$H33,,MATCH(FALSE,ISERROR(SEARCH(G$1&\"=\",Data!$A33:$H33)),0)),G$1&\"=\",\"\"),\"\")","v":""},{"$f":"IFERROR(SUBSTITUTE(INDEX(Data!$A33:$H33,,MATCH(FALSE,ISERROR(SEARCH(H$1&\"=\",Data!$A33:$H33)),0)),H$1&\"=\",\"\"),\"\")","v":""},{"$f":"IFERROR(SUBSTITUTE(INDEX(Data!$A33:$H33,,MATCH(FALSE,ISERROR(SEARCH(I$1&\"=\",Data!$A33:$H33)),0)),I$1&\"=\",\"\"),\"\")","v":""},{"$f":"IFERROR(SUBSTITUTE(INDEX(Data!$A33:$H33,,MATCH(FALSE,ISERROR(SEARCH(J$1&\"=\",Data!$A33:$H33)),0)),J$1&\"=\",\"\"),\"\")","v":""}]
[{"$f":"IFERROR(SUBSTITUTE(INDEX(Data!$A34:$H34,,MATCH(FALSE,ISERROR(SEARCH(A$1&\"=\",Data!$A34:$H34)),0)),A$1&\"=\",\"\"),\"\")","v":""},{"$f":"IFERROR(SUBSTITUTE(INDEX(Data!$A34:$H34,,MATCH(FALSE,ISERROR(SEARCH(B$1&\"=\",Data!$A34:$H34)),0)),B$1&\"=\",\"\"),\"\")","v":""},{"$f":"IFERROR(SUBSTITUTE(INDEX(Data!$A34:$H34,,MATCH(FALSE,ISERROR(SEARCH(C$1&\"=\",Data!$A34:$H34)),0)),C$1&\"=\",\"\"),\"\")","v":""},{"$f":"IFERROR(SUBSTITUTE(INDEX(Data!$A34:$H34,,MATCH(FALSE,ISERROR(SEARCH(D$1&\"=\",Data!$A34:$H34)),0)),D$1&\"=\",\"\"),\"\")","v":""},{"$f":"IFERROR(SUBSTITUTE(INDEX(Data!$A34:$H34,,MATCH(FALSE,ISERROR(SEARCH(E$1&\"=\",Data!$A34:$H34)),0)),E$1&\"=\",\"\"),\"\")","v":""},{"$f":"IFERROR(SUBSTITUTE(INDEX(Data!$A34:$H34,,MATCH(FALSE,ISERROR(SEARCH(F$1&\"=\",Data!$A34:$H34)),0)),F$1&\"=\",\"\"),\"\")","v":""},{"$f":"IFERROR(SUBSTITUTE(INDEX(Data!$A34:$H34,,MATCH(FALSE,ISERROR(SEARCH(G$1&\"=\",Data!$A34:$H34)),0)),G$1&\"=\",\"\"),\"\")","v":""},{"$f":"IFERROR(SUBSTITUTE(INDEX(Data!$A34:$H34,,MATCH(FALSE,ISERROR(SEARCH(H$1&\"=\",Data!$A34:$H34)),0)),H$1&\"=\",\"\"),\"\")","v":""},{"$f":"IFERROR(SUBSTITUTE(INDEX(Data!$A34:$H34,,MATCH(FALSE,ISERROR(SEARCH(I$1&\"=\",Data!$A34:$H34)),0)),I$1&\"=\",\"\"),\"\")","v":""},{"$f":"IFERROR(SUBSTITUTE(INDEX(Data!$A34:$H34,,MATCH(FALSE,ISERROR(SEARCH(J$1&\"=\",Data!$A34:$H34)),0)),J$1&\"=\",\"\"),\"\")","v":""}]
[{"$f":"IFERROR(SUBSTITUTE(INDEX(Data!$A35:$H35,,MATCH(FALSE,ISERROR(SEARCH(A$1&\"=\",Data!$A35:$H35)),0)),A$1&\"=\",\"\"),\"\")","v":""},{"$f":"IFERROR(SUBSTITUTE(INDEX(Data!$A35:$H35,,MATCH(FALSE,ISERROR(SEARCH(B$1&\"=\",Data!$A35:$H35)),0)),B$1&\"=\",\"\"),\"\")","v":""},{"$f":"IFERROR(SUBSTITUTE(INDEX(Data!$A35:$H35,,MATCH(FALSE,ISERROR(SEARCH(C$1&\"=\",Data!$A35:$H35)),0)),C$1&\"=\",\"\"),\"\")","v":""},{"$f":"IFERROR(SUBSTITUTE(INDEX(Data!$A35:$H35,,MATCH(FALSE,ISERROR(SEARCH(D$1&\"=\",Data!$A35:$H35)),0)),D$1&\"=\",\"\"),\"\")","v":""},{"$f":"IFERROR(SUBSTITUTE(INDEX(Data!$A35:$H35,,MATCH(FALSE,ISERROR(SEARCH(E$1&\"=\",Data!$A35:$H35)),0)),E$1&\"=\",\"\"),\"\")","v":""},{"$f":"IFERROR(SUBSTITUTE(INDEX(Data!$A35:$H35,,MATCH(FALSE,ISERROR(SEARCH(F$1&\"=\",Data!$A35:$H35)),0)),F$1&\"=\",\"\"),\"\")","v":""},{"$f":"IFERROR(SUBSTITUTE(INDEX(Data!$A35:$H35,,MATCH(FALSE,ISERROR(SEARCH(G$1&\"=\",Data!$A35:$H35)),0)),G$1&\"=\",\"\"),\"\")","v":""},{"$f":"IFERROR(SUBSTITUTE(INDEX(Data!$A35:$H35,,MATCH(FALSE,ISERROR(SEARCH(H$1&\"=\",Data!$A35:$H35)),0)),H$1&\"=\",\"\"),\"\")","v":""},{"$f":"IFERROR(SUBSTITUTE(INDEX(Data!$A35:$H35,,MATCH(FALSE,ISERROR(SEARCH(I$1&\"=\",Data!$A35:$H35)),0)),I$1&\"=\",\"\"),\"\")","v":""},{"$f":"IFERROR(SUBSTITUTE(INDEX(Data!$A35:$H35,,MATCH(FALSE,ISERROR(SEARCH(J$1&\"=\",Data!$A35:$H35)),0)),J$1&\"=\",\"\"),\"\")","v":""}]
[{"$f":"IFERROR(SUBSTITUTE(INDEX(Data!$A36:$H36,,MATCH(FALSE,ISERROR(SEARCH(A$1&\"=\",Data!$A36:$H36)),0)),A$1&\"=\",\"\"),\"\")","v":""},{"$f":"IFERROR(SUBSTITUTE(INDEX(Data!$A36:$H36,,MATCH(FALSE,ISERROR(SEARCH(B$1&\"=\",Data!$A36:$H36)),0)),B$1&\"=\",\"\"),\"\")","v":""},{"$f":"IFERROR(SUBSTITUTE(INDEX(Data!$A36:$H36,,MATCH(FALSE,ISERROR(SEARCH(C$1&\"=\",Data!$A36:$H36)),0)),C$1&\"=\",\"\"),\"\")","v":""},{"$f":"IFERROR(SUBSTITUTE(INDEX(Data!$A36:$H36,,MATCH(FALSE,ISERROR(SEARCH(D$1&\"=\",Data!$A36:$H36)),0)),D$1&\"=\",\"\"),\"\")","v":""},{"$f":"IFERROR(SUBSTITUTE(INDEX(Data!$A36:$H36,,MATCH(FALSE,ISERROR(SEARCH(E$1&\"=\",Data!$A36:$H36)),0)),E$1&\"=\",\"\"),\"\")","v":""},{"$f":"IFERROR(SUBSTITUTE(INDEX(Data!$A36:$H36,,MATCH(FALSE,ISERROR(SEARCH(F$1&\"=\",Data!$A36:$H36)),0)),F$1&\"=\",\"\"),\"\")","v":""},{"$f":"IFERROR(SUBSTITUTE(INDEX(Data!$A36:$H36,,MATCH(FALSE,ISERROR(SEARCH(G$1&\"=\",Data!$A36:$H36)),0)),G$1&\"=\",\"\"),\"\")","v":""},{"$f":"IFERROR(SUBSTITUTE(INDEX(Data!$A36:$H36,,MATCH(FALSE,ISERROR(SEARCH(H$1&\"=\",Data!$A36:$H36)),0)),H$1&\"=\",\"\"),\"\")","v":""},{"$f":"IFERROR(SUBSTITUTE(INDEX(Data!$A36:$H36,,MATCH(FALSE,ISERROR(SEARCH(I$1&\"=\",Data!$A36:$H36)),0)),I$1&\"=\",\"\"),\"\")","v":""},{"$f":"IFERROR(SUBSTITUTE(INDEX(Data!$A36:$H36,,MATCH(FALSE,ISERROR(SEARCH(J$1&\"=\",Data!$A36:$H36)),0)),J$1&\"=\",\"\"),\"\")","v":""}]
[{"$f":"IFERROR(SUBSTITUTE(INDEX(Data!$A37:$H37,,MATCH(FALSE,ISERROR(SEARCH(A$1&\"=\",Data!$A37:$H37)),0)),A$1&\"=\",\"\"),\"\")","v":""},{"$f":"IFERROR(SUBSTITUTE(INDEX(Data!$A37:$H37,,MATCH(FALSE,ISERROR(SEARCH(B$1&\"=\",Data!$A37:$H37)),0)),B$1&\"=\",\"\"),\"\")","v":""},{"$f":"IFERROR(SUBSTITUTE(INDEX(Data!$A37:$H37,,MATCH(FALSE,ISERROR(SEARCH(C$1&\"=\",Data!$A37:$H37)),0)),C$1&\"=\",\"\"),\"\")","v":""},{"$f":"IFERROR(SUBSTITUTE(INDEX(Data!$A37:$H37,,MATCH(FALSE,ISERROR(SEARCH(D$1&\"=\",Data!$A37:$H37)),0)),D$1&\"=\",\"\"),\"\")","v":""},{"$f":"IFERROR(SUBSTITUTE(INDEX(Data!$A37:$H37,,MATCH(FALSE,ISERROR(SEARCH(E$1&\"=\",Data!$A37:$H37)),0)),E$1&\"=\",\"\"),\"\")","v":""},{"$f":"IFERROR(SUBSTITUTE(INDEX(Data!$A37:$H37,,MATCH(FALSE,ISERROR(SEARCH(F$1&\"=\",Data!$A37:$H37)),0)),F$1&\"=\",\"\"),\"\")","v":""},{"$f":"IFERROR(SUBSTITUTE(INDEX(Data!$A37:$H37,,MATCH(FALSE,ISERROR(SEARCH(G$1&\"=\",Data!$A37:$H37)),0)),G$1&\"=\",\"\"),\"\")","v":""},{"$f":"IFERROR(SUBSTITUTE(INDEX(Data!$A37:$H37,,MATCH(FALSE,ISERROR(SEARCH(H$1&\"=\",Data!$A37:$H37)),0)),H$1&\"=\",\"\"),\"\")","v":""},{"$f":"IFERROR(SUBSTITUTE(INDEX(Data!$A37:$H37,,MATCH(FALSE,ISERROR(SEARCH(I$1&\"=\",Data!$A37:$H37)),0)),I$1&\"=\",\"\"),\"\")","v":""},{"$f":"IFERROR(SUBSTITUTE(INDEX(Data!$A37:$H37,,MATCH(FALSE,ISERROR(SEARCH(J$1&\"=\",Data!$A37:$H37)),0)),J$1&\"=\",\"\"),\"\")","v":""}]
[{"$f":"IFERROR(SUBSTITUTE(INDEX(Data!$A38:$H38,,MATCH(FALSE,ISERROR(SEARCH(A$1&\"=\",Data!$A38:$H38)),0)),A$1&\"=\",\"\"),\"\")","v":""},{"$f":"IFERROR(SUBSTITUTE(INDEX(Data!$A38:$H38,,MATCH(FALSE,ISERROR(SEARCH(B$1&\"=\",Data!$A38:$H38)),0)),B$1&\"=\",\"\"),\"\")","v":""},{"$f":"IFERROR(SUBSTITUTE(INDEX(Data!$A38:$H38,,MATCH(FALSE,ISERROR(SEARCH(C$1&\"=\",Data!$A38:$H38)),0)),C$1&\"=\",\"\"),\"\")","v":""},{"$f":"IFERROR(SUBSTITUTE(INDEX(Data!$A38:$H38,,MATCH(FALSE,ISERROR(SEARCH(D$1&\"=\",Data!$A38:$H38)),0)),D$1&\"=\",\"\"),\"\")","v":""},{"$f":"IFERROR(SUBSTITUTE(INDEX(Data!$A38:$H38,,MATCH(FALSE,ISERROR(SEARCH(E$1&\"=\",Data!$A38:$H38)),0)),E$1&\"=\",\"\"),\"\")","v":""},{"$f":"IFERROR(SUBSTITUTE(INDEX(Data!$A38:$H38,,MATCH(FALSE,ISERROR(SEARCH(F$1&\"=\",Data!$A38:$H38)),0)),F$1&\"=\",\"\"),\"\")","v":""},{"$f":"IFERROR(SUBSTITUTE(INDEX(Data!$A38:$H38,,MATCH(FALSE,ISERROR(SEARCH(G$1&\"=\",Data!$A38:$H38)),0)),G$1&\"=\",\"\"),\"\")","v":""},{"$f":"IFERROR(SUBSTITUTE(INDEX(Data!$A38:$H38,,MATCH(FALSE,ISERROR(SEARCH(H$1&\"=\",Data!$A38:$H38)),0)),H$1&\"=\",\"\"),\"\")","v":""},{"$f":"IFERROR(SUBSTITUTE(INDEX(Data!$A38:$H38,,MATCH(FALSE,ISERROR(SEARCH(I$1&\"=\",Data!$A38:$H38)),0)),I$1&\"=\",\"\"),\"\")","v":""},{"$f":"IFERROR(SUBSTITUTE(INDEX(Data!$A38:$H38,,MATCH(FALSE,ISERROR(SEARCH(J$1&\"=\",Data!$A38:$H38)),0)),J$1&\"=\",\"\"),\"\")","v":""}]
[{"$f":"IFERROR(SUBSTITUTE(INDEX(Data!$A39:$H39,,MATCH(FALSE,ISERROR(SEARCH(A$1&\"=\",Data!$A39:$H39)),0)),A$1&\"=\",\"\"),\"\")","v":""},{"$f":"IFERROR(SUBSTITUTE(INDEX(Data!$A39:$H39,,MATCH(FALSE,ISERROR(SEARCH(B$1&\"=\",Data!$A39:$H39)),0)),B$1&\"=\",\"\"),\"\")","v":""},{"$f":"IFERROR(SUBSTITUTE(INDEX(Data!$A39:$H39,,MATCH(FALSE,ISERROR(SEARCH(C$1&\"=\",Data!$A39:$H39)),0)),C$1&\"=\",\"\"),\"\")","v":""},{"$f":"IFERROR(SUBSTITUTE(INDEX(Data!$A39:$H39,,MATCH(FALSE,ISERROR(SEARCH(D$1&\"=\",Data!$A39:$H39)),0)),D$1&\"=\",\"\"),\"\")","v":""},{"$f":"IFERROR(SUBSTITUTE(INDEX(Data!$A39:$H39,,MATCH(FALSE,ISERROR(SEARCH(E$1&\"=\",Data!$A39:$H39)),0)),E$1&\"=\",\"\"),\"\")","v":""},{"$f":"IFERROR(SUBSTITUTE(INDEX(Data!$A39:$H39,,MATCH(FALSE,ISERROR(SEARCH(F$1&\"=\",Data!$A39:$H39)),0)),F$1&\"=\",\"\"),\"\")","v":""},{"$f":"IFERROR(SUBSTITUTE(INDEX(Data!$A39:$H39,,MATCH(FALSE,ISERROR(SEARCH(G$1&\"=\",Data!$A39:$H39)),0)),G$1&\"=\",\"\"),\"\")","v":""},{"$f":"IFERROR(SUBSTITUTE(INDEX(Data!$A39:$H39,,MATCH(FALSE,ISERROR(SEARCH(H$1&\"=\",Data!$A39:$H39)),0)),H$1&\"=\",\"\"),\"\")","v":""},{"$f":"IFERROR(SUBSTITUTE(INDEX(Data!$A39:$H39,,MATCH(FALSE,ISERROR(SEARCH(I$1&\"=\",Data!$A39:$H39)),0)),I$1&\"=\",\"\"),\"\")","v":""},{"$f":"IFERROR(SUBSTITUTE(INDEX(Data!$A39:$H39,,MATCH(FALSE,ISERROR(SEARCH(J$1&\"=\",Data!$A39:$H39)),0)),J$1&\"=\",\"\"),\"\")","v":""}]
[{"$f":"IFERROR(SUBSTITUTE(INDEX(Data!$A40:$H40,,MATCH(FALSE,ISERROR(SEARCH(A$1&\"=\",Data!$A40:$H40)),0)),A$1&\"=\",\"\"),\"\")","v":""},{"$f":"IFERROR(SUBSTITUTE(INDEX(Data!$A40:$H40,,MATCH(FALSE,ISERROR(SEARCH(B$1&\"=\",Data!$A40:$H40)),0)),B$1&\"=\",\"\"),\"\")","v":""},{"$f":"IFERROR(SUBSTITUTE(INDEX(Data!$A40:$H40,,MATCH(FALSE,ISERROR(SEARCH(C$1&\"=\",Data!$A40:$H40)),0)),C$1&\"=\",\"\"),\"\")","v":""},{"$f":"IFERROR(SUBSTITUTE(INDEX(Data!$A40:$H40,,MATCH(FALSE,ISERROR(SEARCH(D$1&\"=\",Data!$A40:$H40)),0)),D$1&\"=\",\"\"),\"\")","v":""},{"$f":"IFERROR(SUBSTITUTE(INDEX(Data!$A40:$H40,,MATCH(FALSE,ISERROR(SEARCH(E$1&\"=\",Data!$A40:$H40)),0)),E$1&\"=\",\"\"),\"\")","v":""},{"$f":"IFERROR(SUBSTITUTE(INDEX(Data!$A40:$H40,,MATCH(FALSE,ISERROR(SEARCH(F$1&\"=\",Data!$A40:$H40)),0)),F$1&\"=\",\"\"),\"\")","v":""},{"$f":"IFERROR(SUBSTITUTE(INDEX(Data!$A40:$H40,,MATCH(FALSE,ISERROR(SEARCH(G$1&\"=\",Data!$A40:$H40)),0)),G$1&\"=\",\"\"),\"\")","v":""},{"$f":"IFERROR(SUBSTITUTE(INDEX(Data!$A40:$H40,,MATCH(FALSE,ISERROR(SEARCH(H$1&\"=\",Data!$A40:$H40)),0)),H$1&\"=\",\"\"),\"\")","v":""},{"$f":"IFERROR(SUBSTITUTE(INDEX(Data!$A40:$H40,,MATCH(FALSE,ISERROR(SEARCH(I$1&\"=\",Data!$A40:$H40)),0)),I$1&\"=\",\"\"),\"\")","v":""},{"$f":"IFERROR(SUBSTITUTE(INDEX(Data!$A40:$H40,,MATCH(FALSE,ISERROR(SEARCH(J$1&\"=\",Data!$A40:$H40)),0)),J$1&\"=\",\"\"),\"\")","v":""}]
[{"$f":"IFERROR(SUBSTITUTE(INDEX(Data!$A41:$H41,,MATCH(FALSE,ISERROR(SEARCH(A$1&\"=\",Data!$A41:$H41)),0)),A$1&\"=\",\"\"),\"\")","v":""},{"$f":"IFERROR(SUBSTITUTE(INDEX(Data!$A41:$H41,,MATCH(FALSE,ISERROR(SEARCH(B$1&\"=\",Data!$A41:$H41)),0)),B$1&\"=\",\"\"),\"\")","v":""},{"$f":"IFERROR(SUBSTITUTE(INDEX(Data!$A41:$H41,,MATCH(FALSE,ISERROR(SEARCH(C$1&\"=\",Data!$A41:$H41)),0)),C$1&\"=\",\"\"),\"\")","v":""},{"$f":"IFERROR(SUBSTITUTE(INDEX(Data!$A41:$H41,,MATCH(FALSE,ISERROR(SEARCH(D$1&\"=\",Data!$A41:$H41)),0)),D$1&\"=\",\"\"),\"\")","v":""},{"$f":"IFERROR(SUBSTITUTE(INDEX(Data!$A41:$H41,,MATCH(FALSE,ISERROR(SEARCH(E$1&\"=\",Data!$A41:$H41)),0)),E$1&\"=\",\"\"),\"\")","v":""},{"$f":"IFERROR(SUBSTITUTE(INDEX(Data!$A41:$H41,,MATCH(FALSE,ISERROR(SEARCH(F$1&\"=\",Data!$A41:$H41)),0)),F$1&\"=\",\"\"),\"\")","v":""},{"$f":"IFERROR(SUBSTITUTE(INDEX(Data!$A41:$H41,,MATCH(FALSE,ISERROR(SEARCH(G$1&\"=\",Data!$A41:$H41)),0)),G$1&\"=\",\"\"),\"\")","v":""},{"$f":"IFERROR(SUBSTITUTE(INDEX(Data!$A41:$H41,,MATCH(FALSE,ISERROR(SEARCH(H$1&\"=\",Data!$A41:$H41)),0)),H$1&\"=\",\"\"),\"\")","v":""},{"$f":"IFERROR(SUBSTITUTE(INDEX(Data!$A41:$H41,,MATCH(FALSE,ISERROR(SEARCH(I$1&\"=\",Data!$A41:$H41)),0)),I$1&\"=\",\"\"),\"\")","v":""},{"$f":"IFERROR(SUBSTITUTE(INDEX(Data!$A41:$H41,,MATCH(FALSE,ISERROR(SEARCH(J$1&\"=\",Data!$A41:$H41)),0)),J$1&\"=\",\"\"),\"\")","v":""}]
[{"$f":"IFERROR(SUBSTITUTE(INDEX(Data!$A42:$H42,,MATCH(FALSE,ISERROR(SEARCH(A$1&\"=\",Data!$A42:$H42)),0)),A$1&\"=\",\"\"),\"\")","v":""},{"$f":"IFERROR(SUBSTITUTE(INDEX(Data!$A42:$H42,,MATCH(FALSE,ISERROR(SEARCH(B$1&\"=\",Data!$A42:$H42)),0)),B$1&\"=\",\"\"),\"\")","v":""},{"$f":"IFERROR(SUBSTITUTE(INDEX(Data!$A42:$H42,,MATCH(FALSE,ISERROR(SEARCH(C$1&\"=\",Data!$A42:$H42)),0)),C$1&\"=\",\"\"),\"\")","v":""},{"$f":"IFERROR(SUBSTITUTE(INDEX(Data!$A42:$H42,,MATCH(FALSE,ISERROR(SEARCH(D$1&\"=\",Data!$A42:$H42)),0)),D$1&\"=\",\"\"),\"\")","v":""},{"$f":"IFERROR(SUBSTITUTE(INDEX(Data!$A42:$H42,,MATCH(FALSE,ISERROR(SEARCH(E$1&\"=\",Data!$A42:$H42)),0)),E$1&\"=\",\"\"),\"\")","v":""},{"$f":"IFERROR(SUBSTITUTE(INDEX(Data!$A42:$H42,,MATCH(FALSE,ISERROR(SEARCH(F$1&\"=\",Data!$A42:$H42)),0)),F$1&\"=\",\"\"),\"\")","v":""},{"$f":"IFERROR(SUBSTITUTE(INDEX(Data!$A42:$H42,,MATCH(FALSE,ISERROR(SEARCH(G$1&\"=\",Data!$A42:$H42)),0)),G$1&\"=\",\"\"),\"\")","v":""},{"$f":"IFERROR(SUBSTITUTE(INDEX(Data!$A42:$H42,,MATCH(FALSE,ISERROR(SEARCH(H$1&\"=\",Data!$A42:$H42)),0)),H$1&\"=\",\"\"),\"\")","v":""},{"$f":"IFERROR(SUBSTITUTE(INDEX(Data!$A42:$H42,,MATCH(FALSE,ISERROR(SEARCH(I$1&\"=\",Data!$A42:$H42)),0)),I$1&\"=\",\"\"),\"\")","v":""},{"$f":"IFERROR(SUBSTITUTE(INDEX(Data!$A42:$H42,,MATCH(FALSE,ISERROR(SEARCH(J$1&\"=\",Data!$A42:$H42)),0)),J$1&\"=\",\"\"),\"\")","v":""}]
[{"$f":"IFERROR(SUBSTITUTE(INDEX(Data!$A43:$H43,,MATCH(FALSE,ISERROR(SEARCH(A$1&\"=\",Data!$A43:$H43)),0)),A$1&\"=\",\"\"),\"\")","v":""},{"$f":"IFERROR(SUBSTITUTE(INDEX(Data!$A43:$H43,,MATCH(FALSE,ISERROR(SEARCH(B$1&\"=\",Data!$A43:$H43)),0)),B$1&\"=\",\"\"),\"\")","v":""},{"$f":"IFERROR(SUBSTITUTE(INDEX(Data!$A43:$H43,,MATCH(FALSE,ISERROR(SEARCH(C$1&\"=\",Data!$A43:$H43)),0)),C$1&\"=\",\"\"),\"\")","v":""},{"$f":"IFERROR(SUBSTITUTE(INDEX(Data!$A43:$H43,,MATCH(FALSE,ISERROR(SEARCH(D$1&\"=\",Data!$A43:$H43)),0)),D$1&\"=\",\"\"),\"\")","v":""},{"$f":"IFERROR(SUBSTITUTE(INDEX(Data!$A43:$H43,,MATCH(FALSE,ISERROR(SEARCH(E$1&\"=\",Data!$A43:$H43)),0)),E$1&\"=\",\"\"),\"\")","v":""},{"$f":"IFERROR(SUBSTITUTE(INDEX(Data!$A43:$H43,,MATCH(FALSE,ISERROR(SEARCH(F$1&\"=\",Data!$A43:$H43)),0)),F$1&\"=\",\"\"),\"\")","v":""},{"$f":"IFERROR(SUBSTITUTE(INDEX(Data!$A43:$H43,,MATCH(FALSE,ISERROR(SEARCH(G$1&\"=\",Data!$A43:$H43)),0)),G$1&\"=\",\"\"),\"\")","v":""},{"$f":"IFERROR(SUBSTITUTE(INDEX(Data!$A43:$H43,,MATCH(FALSE,ISERROR(SEARCH(H$1&\"=\",Data!$A43:$H43)),0)),H$1&\"=\",\"\"),\"\")","v":""},{"$f":"IFERROR(SUBSTITUTE(INDEX(Data!$A43:$H43,,MATCH(FALSE,ISERROR(SEARCH(I$1&\"=\",Data!$A43:$H43)),0)),I$1&\"=\",\"\"),\"\")","v":""},{"$f":"IFERROR(SUBSTITUTE(INDEX(Data!$A43:$H43,,MATCH(FALSE,ISERROR(SEARCH(J$1&\"=\",Data!$A43:$H43)),0)),J$1&\"=\",\"\"),\"\")","v":""}]
[{"$f":"IFERROR(SUBSTITUTE(INDEX(Data!$A44:$H44,,MATCH(FALSE,ISERROR(SEARCH(A$1&\"=\",Data!$A44:$H44)),0)),A$1&\"=\",\"\"),\"\")","v":""},{"$f":"IFERROR(SUBSTITUTE(INDEX(Data!$A44:$H44,,MATCH(FALSE,ISERROR(SEARCH(B$1&\"=\",Data!$A44:$H44)),0)),B$1&\"=\",\"\"),\"\")","v":""},{"$f":"IFERROR(SUBSTITUTE(INDEX(Data!$A44:$H44,,MATCH(FALSE,ISERROR(SEARCH(C$1&\"=\",Data!$A44:$H44)),0)),C$1&\"=\",\"\"),\"\")","v":""},{"$f":"IFERROR(SUBSTITUTE(INDEX(Data!$A44:$H44,,MATCH(FALSE,ISERROR(SEARCH(D$1&\"=\",Data!$A44:$H44)),0)),D$1&\"=\",\"\"),\"\")","v":""},{"$f":"IFERROR(SUBSTITUTE(INDEX(Data!$A44:$H44,,MATCH(FALSE,ISERROR(SEARCH(E$1&\"=\",Data!$A44:$H44)),0)),E$1&\"=\",\"\"),\"\")","v":""},{"$f":"IFERROR(SUBSTITUTE(INDEX(Data!$A44:$H44,,MATCH(FALSE,ISERROR(SEARCH(F$1&\"=\",Data!$A44:$H44)),0)),F$1&\"=\",\"\"),\"\")","v":""},{"$f":"IFERROR(SUBSTITUTE(INDEX(Data!$A44:$H44,,MATCH(FALSE,ISERROR(SEARCH(G$1&\"=\",Data!$A44:$H44)),0)),G$1&\"=\",\"\"),\"\")","v":""},{"$f":"IFERROR(SUBSTITUTE(INDEX(Data!$A44:$H44,,MATCH(FALSE,ISERROR(SEARCH(H$1&\"=\",Data!$A44:$H44)),0)),H$1&\"=\",\"\"),\"\")","v":""},{"$f":"IFERROR(SUBSTITUTE(INDEX(Data!$A44:$H44,,MATCH(FALSE,ISERROR(SEARCH(I$1&\"=\",Data!$A44:$H44)),0)),I$1&\"=\",\"\"),\"\")","v":""},{"$f":"IFERROR(SUBSTITUTE(INDEX(Data!$A44:$H44,,MATCH(FALSE,ISERROR(SEARCH(J$1&\"=\",Data!$A44:$H44)),0)),J$1&\"=\",\"\"),\"\")","v":""}]
[{"$f":"IFERROR(SUBSTITUTE(INDEX(Data!$A45:$H45,,MATCH(FALSE,ISERROR(SEARCH(A$1&\"=\",Data!$A45:$H45)),0)),A$1&\"=\",\"\"),\"\")","v":""},{"$f":"IFERROR(SUBSTITUTE(INDEX(Data!$A45:$H45,,MATCH(FALSE,ISERROR(SEARCH(B$1&\"=\",Data!$A45:$H45)),0)),B$1&\"=\",\"\"),\"\")","v":""},{"$f":"IFERROR(SUBSTITUTE(INDEX(Data!$A45:$H45,,MATCH(FALSE,ISERROR(SEARCH(C$1&\"=\",Data!$A45:$H45)),0)),C$1&\"=\",\"\"),\"\")","v":""},{"$f":"IFERROR(SUBSTITUTE(INDEX(Data!$A45:$H45,,MATCH(FALSE,ISERROR(SEARCH(D$1&\"=\",Data!$A45:$H45)),0)),D$1&\"=\",\"\"),\"\")","v":""},{"$f":"IFERROR(SUBSTITUTE(INDEX(Data!$A45:$H45,,MATCH(FALSE,ISERROR(SEARCH(E$1&\"=\",Data!$A45:$H45)),0)),E$1&\"=\",\"\"),\"\")","v":""},{"$f":"IFERROR(SUBSTITUTE(INDEX(Data!$A45:$H45,,MATCH(FALSE,ISERROR(SEARCH(F$1&\"=\",Data!$A45:$H45)),0)),F$1&\"=\",\"\"),\"\")","v":""},{"$f":"IFERROR(SUBSTITUTE(INDEX(Data!$A45:$H45,,MATCH(FALSE,ISERROR(SEARCH(G$1&\"=\",Data!$A45:$H45)),0)),G$1&\"=\",\"\"),\"\")","v":""},{"$f":"IFERROR(SUBSTITUTE(INDEX(Data!$A45:$H45,,MATCH(FALSE,ISERROR(SEARCH(H$1&\"=\",Data!$A45:$H45)),0)),H$1&\"=\",\"\"),\"\")","v":""},{"$f":"IFERROR(SUBSTITUTE(INDEX(Data!$A45:$H45,,MATCH(FALSE,ISERROR(SEARCH(I$1&\"=\",Data!$A45:$H45)),0)),I$1&\"=\",\"\"),\"\")","v":""},{"$f":"IFERROR(SUBSTITUTE(INDEX(Data!$A45:$H45,,MATCH(FALSE,ISERROR(SEARCH(J$1&\"=\",Data!$A45:$H45)),0)),J$1&\"=\",\"\"),\"\")","v":""}]
[{"$f":"IFERROR(SUBSTITUTE(INDEX(Data!$A46:$H46,,MATCH(FALSE,ISERROR(SEARCH(A$1&\"=\",Data!$A46:$H46)),0)),A$1&\"=\",\"\"),\"\")","v":""},{"$f":"IFERROR(SUBSTITUTE(INDEX(Data!$A46:$H46,,MATCH(FALSE,ISERROR(SEARCH(B$1&\"=\",Data!$A46:$H46)),0)),B$1&\"=\",\"\"),\"\")","v":""},{"$f":"IFERROR(SUBSTITUTE(INDEX(Data!$A46:$H46,,MATCH(FALSE,ISERROR(SEARCH(C$1&\"=\",Data!$A46:$H46)),0)),C$1&\"=\",\"\"),\"\")","v":""},{"$f":"IFERROR(SUBSTITUTE(INDEX(Data!$A46:$H46,,MATCH(FALSE,ISERROR(SEARCH(D$1&\"=\",Data!$A46:$H46)),0)),D$1&\"=\",\"\"),\"\")","v":""},{"$f":"IFERROR(SUBSTITUTE(INDEX(Data!$A46:$H46,,MATCH(FALSE,ISERROR(SEARCH(E$1&\"=\",Data!$A46:$H46)),0)),E$1&\"=\",\"\"),\"\")","v":""},{"$f":"IFERROR(SUBSTITUTE(INDEX(Data!$A46:$H46,,MATCH(FALSE,ISERROR(SEARCH(F$1&\"=\",Data!$A46:$H46)),0)),F$1&\"=\",\"\"),\"\")","v":""},{"$f":"IFERROR(SUBSTITUTE(INDEX(Data!$A46:$H46,,MATCH(FALSE,ISERROR(SEARCH(G$1&\"=\",Data!$A46:$H46)),0)),G$1&\"=\",\"\"),\"\")","v":""},{"$f":"IFERROR(SUBSTITUTE(INDEX(Data!$A46:$H46,,MATCH(FALSE,ISERROR(SEARCH(H$1&\"=\",Data!$A46:$H46)),0)),H$1&\"=\",\"\"),\"\")","v":""},{"$f":"IFERROR(SUBSTITUTE(INDEX(Data!$A46:$H46,,MATCH(FALSE,ISERROR(SEARCH(I$1&\"=\",Data!$A46:$H46)),0)),I$1&\"=\",\"\"),\"\")","v":""},{"$f":"IFERROR(SUBSTITUTE(INDEX(Data!$A46:$H46,,MATCH(FALSE,ISERROR(SEARCH(J$1&\"=\",Data!$A46:$H46)),0)),J$1&\"=\",\"\"),\"\")","v":""}]
[{"$f":"IFERROR(SUBSTITUTE(INDEX(Data!$A47:$H47,,MATCH(FALSE,ISERROR(SEARCH(A$1&\"=\",Data!$A47:$H47)),0)),A$1&\"=\",\"\"),\"\")","v":""},{"$f":"IFERROR(SUBSTITUTE(INDEX(Data!$A47:$H47,,MATCH(FALSE,ISERROR(SEARCH(B$1&\"=\",Data!$A47:$H47)),0)),B$1&\"=\",\"\"),\"\")","v":""},{"$f":"IFERROR(SUBSTITUTE(INDEX(Data!$A47:$H47,,MATCH(FALSE,ISERROR(SEARCH(C$1&\"=\",Data!$A47:$H47)),0)),C$1&\"=\",\"\"),\"\")","v":""},{"$f":"IFERROR(SUBSTITUTE(INDEX(Data!$A47:$H47,,MATCH(FALSE,ISERROR(SEARCH(D$1&\"=\",Data!$A47:$H47)),0)),D$1&\"=\",\"\"),\"\")","v":""},{"$f":"IFERROR(SUBSTITUTE(INDEX(Data!$A47:$H47,,MATCH(FALSE,ISERROR(SEARCH(E$1&\"=\",Data!$A47:$H47)),0)),E$1&\"=\",\"\"),\"\")","v":""},{"$f":"IFERROR(SUBSTITUTE(INDEX(Data!$A47:$H47,,MATCH(FALSE,ISERROR(SEARCH(F$1&\"=\",Data!$A47:$H47)),0)),F$1&\"=\",\"\"),\"\")","v":""},{"$f":"IFERROR(SUBSTITUTE(INDEX(Data!$A47:$H47,,MATCH(FALSE,ISERROR(SEARCH(G$1&\"=\",Data!$A47:$H47)),0)),G$1&\"=\",\"\"),\"\")","v":""},{"$f":"IFERROR(SUBSTITUTE(INDEX(Data!$A47:$H47,,MATCH(FALSE,ISERROR(SEARCH(H$1&\"=\",Data!$A47:$H47)),0)),H$1&\"=\",\"\"),\"\")","v":""},{"$f":"IFERROR(SUBSTITUTE(INDEX(Data!$A47:$H47,,MATCH(FALSE,ISERROR(SEARCH(I$1&\"=\",Data!$A47:$H47)),0)),I$1&\"=\",\"\"),\"\")","v":""},{"$f":"IFERROR(SUBSTITUTE(INDEX(Data!$A47:$H47,,MATCH(FALSE,ISERROR(SEARCH(J$1&\"=\",Data!$A47:$H47)),0)),J$1&\"=\",\"\"),\"\")","v":""}]
[{"$f":"IFERROR(SUBSTITUTE(INDEX(Data!$A48:$H48,,MATCH(FALSE,ISERROR(SEARCH(A$1&\"=\",Data!$A48:$H48)),0)),A$1&\"=\",\"\"),\"\")","v":""},{"$f":"IFERROR(SUBSTITUTE(INDEX(Data!$A48:$H48,,MATCH(FALSE,ISERROR(SEARCH(B$1&\"=\",Data!$A48:$H48)),0)),B$1&\"=\",\"\"),\"\")","v":""},{"$f":"IFERROR(SUBSTITUTE(INDEX(Data!$A48:$H48,,MATCH(FALSE,ISERROR(SEARCH(C$1&\"=\",Data!$A48:$H48)),0)),C$1&\"=\",\"\"),\"\")","v":""},{"$f":"IFERROR(SUBSTITUTE(INDEX(Data!$A48:$H48,,MATCH(FALSE,ISERROR(SEARCH(D$1&\"=\",Data!$A48:$H48)),0)),D$1&\"=\",\"\"),\"\")","v":""},{"$f":"IFERROR(SUBSTITUTE(INDEX(Data!$A48:$H48,,MATCH(FALSE,ISERROR(SEARCH(E$1&\"=\",Data!$A48:$H48)),0)),E$1&\"=\",\"\"),\"\")","v":""},{"$f":"IFERROR(SUBSTITUTE(INDEX(Data!$A48:$H48,,MATCH(FALSE,ISERROR(SEARCH(F$1&\"=\",Data!$A48:$H48)),0)),F$1&\"=\",\"\"),\"\")","v":""},{"$f":"IFERROR(SUBSTITUTE(INDEX(Data!$A48:$H48,,MATCH(FALSE,ISERROR(SEARCH(G$1&\"=\",Data!$A48:$H48)),0)),G$1&\"=\",\"\"),\"\")","v":""},{"$f":"IFERROR(SUBSTITUTE(INDEX(Data!$A48:$H48,,MATCH(FALSE,ISERROR(SEARCH(H$1&\"=\",Data!$A48:$H48)),0)),H$1&\"=\",\"\"),\"\")","v":""},{"$f":"IFERROR(SUBSTITUTE(INDEX(Data!$A48:$H48,,MATCH(FALSE,ISERROR(SEARCH(I$1&\"=\",Data!$A48:$H48)),0)),I$1&\"=\",\"\"),\"\")","v":""},{"$f":"IFERROR(SUBSTITUTE(INDEX(Data!$A48:$H48,,MATCH(FALSE,ISERROR(SEARCH(J$1&\"=\",Data!$A48:$H48)),0)),J$1&\"=\",\"\"),\"\")","v":""}]
[{"$f":"IFERROR(SUBSTITUTE(INDEX(Data!$A49:$H49,,MATCH(FALSE,ISERROR(SEARCH(A$1&\"=\",Data!$A49:$H49)),0)),A$1&\"=\",\"\"),\"\")","v":""},{"$f":"IFERROR(SUBSTITUTE(INDEX(Data!$A49:$H49,,MATCH(FALSE,ISERROR(SEARCH(B$1&\"=\",Data!$A49:$H49)),0)),B$1&\"=\",\"\"),\"\")","v":""},{"$f":"IFERROR(SUBSTITUTE(INDEX(Data!$A49:$H49,,MATCH(FALSE,ISERROR(SEARCH(C$1&\"=\",Data!$A49:$H49)),0)),C$1&\"=\",\"\"),\"\")","v":""},{"$f":"IFERROR(SUBSTITUTE(INDEX(Data!$A49:$H49,,MATCH(FALSE,ISERROR(SEARCH(D$1&\"=\",Data!$A49:$H49)),0)),D$1&\"=\",\"\"),\"\")","v":""},{"$f":"IFERROR(SUBSTITUTE(INDEX(Data!$A49:$H49,,MATCH(FALSE,ISERROR(SEARCH(E$1&\"=\",Data!$A49:$H49)),0)),E$1&\"=\",\"\"),\"\")","v":""},{"$f":"IFERROR(SUBSTITUTE(INDEX(Data!$A49:$H49,,MATCH(FALSE,ISERROR(SEARCH(F$1&\"=\",Data!$A49:$H49)),0)),F$1&\"=\",\"\"),\"\")","v":""},{"$f":"IFERROR(SUBSTITUTE(INDEX(Data!$A49:$H49,,MATCH(FALSE,ISERROR(SEARCH(G$1&\"=\",Data!$A49:$H49)),0)),G$1&\"=\",\"\"),\"\")","v":""},{"$f":"IFERROR(SUBSTITUTE(INDEX(Data!$A49:$H49,,MATCH(FALSE,ISERROR(SEARCH(H$1&\"=\",Data!$A49:$H49)),0)),H$1&\"=\",\"\"),\"\")","v":""},{"$f":"IFERROR(SUBSTITUTE(INDEX(Data!$A49:$H49,,MATCH(FALSE,ISERROR(SEARCH(I$1&\"=\",Data!$A49:$H49)),0)),I$1&\"=\",\"\"),\"\")","v":""},{"$f":"IFERROR(SUBSTITUTE(INDEX(Data!$A49:$H49,,MATCH(FALSE,ISERROR(SEARCH(J$1&\"=\",Data!$A49:$H49)),0)),J$1&\"=\",\"\"),\"\")","v":""}]
[{"$f":"IFERROR(SUBSTITUTE(INDEX(Data!$A50:$H50,,MATCH(FALSE,ISERROR(SEARCH(A$1&\"=\",Data!$A50:$H50)),0)),A$1&\"=\",\"\"),\"\")","v":""},{"$f":"IFERROR(SUBSTITUTE(INDEX(Data!$A50:$H50,,MATCH(FALSE,ISERROR(SEARCH(B$1&\"=\",Data!$A50:$H50)),0)),B$1&\"=\",\"\"),\"\")","v":""},{"$f":"IFERROR(SUBSTITUTE(INDEX(Data!$A50:$H50,,MATCH(FALSE,ISERROR(SEARCH(C$1&\"=\",Data!$A50:$H50)),0)),C$1&\"=\",\"\"),\"\")","v":""},{"$f":"IFERROR(SUBSTITUTE(INDEX(Data!$A50:$H50,,MATCH(FALSE,ISERROR(SEARCH(D$1&\"=\",Data!$A50:$H50)),0)),D$1&\"=\",\"\"),\"\")","v":""},{"$f":"IFERROR(SUBSTITUTE(INDEX(Data!$A50:$H50,,MATCH(FALSE,ISERROR(SEARCH(E$1&\"=\",Data!$A50:$H50)),0)),E$1&\"=\",\"\"),\"\")","v":""},{"$f":"IFERROR(SUBSTITUTE(INDEX(Data!$A50:$H50,,MATCH(FALSE,ISERROR(SEARCH(F$1&\"=\",Data!$A50:$H50)),0)),F$1&\"=\",\"\"),\"\")","v":""},{"$f":"IFERROR(SUBSTITUTE(INDEX(Data!$A50:$H50,,MATCH(FALSE,ISERROR(SEARCH(G$1&\"=\",Data!$A50:$H50)),0)),G$1&\"=\",\"\"),\"\")","v":""},{"$f":"IFERROR(SUBSTITUTE(INDEX(Data!$A50:$H50,,MATCH(FALSE,ISERROR(SEARCH(H$1&\"=\",Data!$A50:$H50)),0)),H$1&\"=\",\"\"),\"\")","v":""},{"$f":"IFERROR(SUBSTITUTE(INDEX(Data!$A50:$H50,,MATCH(FALSE,ISERROR(SEARCH(I$1&\"=\",Data!$A50:$H50)),0)),I$1&\"=\",\"\"),\"\")","v":""},{"$f":"IFERROR(SUBSTITUTE(INDEX(Data!$A50:$H50,,MATCH(FALSE,ISERROR(SEARCH(J$1&\"=\",Data!$A50:$H50)),0)),J$1&\"=\",\"\"),\"\")","v":""}]
[{"$f":"IFERROR(SUBSTITUTE(INDEX(Data!$A51:$H51,,MATCH(FALSE,ISERROR(SEARCH(A$1&\"=\",Data!$A51:$H51)),0)),A$1&\"=\",\"\"),\"\")","v":""},{"$f":"IFERROR(SUBSTITUTE(INDEX(Data!$A51:$H51,,MATCH(FALSE,ISERROR(SEARCH(B$1&\"=\",Data!$A51:$H51)),0)),B$1&\"=\",\"\"),\"\")","v":""},{"$f":"IFERROR(SUBSTITUTE(INDEX(Data!$A51:$H51,,MATCH(FALSE,ISERROR(SEARCH(C$1&\"=\",Data!$A51:$H51)),0)),C$1&\"=\",\"\"),\"\")","v":""},{"$f":"IFERROR(SUBSTITUTE(INDEX(Data!$A51:$H51,,MATCH(FALSE,ISERROR(SEARCH(D$1&\"=\",Data!$A51:$H51)),0)),D$1&\"=\",\"\"),\"\")","v":""},{"$f":"IFERROR(SUBSTITUTE(INDEX(Data!$A51:$H51,,MATCH(FALSE,ISERROR(SEARCH(E$1&\"=\",Data!$A51:$H51)),0)),E$1&\"=\",\"\"),\"\")","v":""},{"$f":"IFERROR(SUBSTITUTE(INDEX(Data!$A51:$H51,,MATCH(FALSE,ISERROR(SEARCH(F$1&\"=\",Data!$A51:$H51)),0)),F$1&\"=\",\"\"),\"\")","v":""},{"$f":"IFERROR(SUBSTITUTE(INDEX(Data!$A51:$H51,,MATCH(FALSE,ISERROR(SEARCH(G$1&\"=\",Data!$A51:$H51)),0)),G$1&\"=\",\"\"),\"\")","v":""},{"$f":"IFERROR(SUBSTITUTE(INDEX(Data!$A51:$H51,,MATCH(FALSE,ISERROR(SEARCH(H$1&\"=\",Data!$A51:$H51)),0)),H$1&\"=\",\"\"),\"\")","v":""},{"$f":"IFERROR(SUBSTITUTE(INDEX(Data!$A51:$H51,,MATCH(FALSE,ISERROR(SEARCH(I$1&\"=\",Data!$A51:$H51)),0)),I$1&\"=\",\"\"),\"\")","v":""},{"$f":"IFERROR(SUBSTITUTE(INDEX(Data!$A51:$H51,,MATCH(FALSE,ISERROR(SEARCH(J$1&\"=\",Data!$A51:$H51)),0)),J$1&\"=\",\"\"),\"\")","v":""}]
[{"$f":"IFERROR(SUBSTITUTE(INDEX(Data!$A52:$H52,,MATCH(FALSE,ISERROR(SEARCH(A$1&\"=\",Data!$A52:$H52)),0)),A$1&\"=\",\"\"),\"\")","v":""},{"$f":"IFERROR(SUBSTITUTE(INDEX(Data!$A52:$H52,,MATCH(FALSE,ISERROR(SEARCH(B$1&\"=\",Data!$A52:$H52)),0)),B$1&\"=\",\"\"),\"\")","v":""},{"$f":"IFERROR(SUBSTITUTE(INDEX(Data!$A52:$H52,,MATCH(FALSE,ISERROR(SEARCH(C$1&\"=\",Data!$A52:$H52)),0)),C$1&\"=\",\"\"),\"\")","v":""},{"$f":"IFERROR(SUBSTITUTE(INDEX(Data!$A52:$H52,,MATCH(FALSE,ISERROR(SEARCH(D$1&\"=\",Data!$A52:$H52)),0)),D$1&\"=\",\"\"),\"\")","v":""},{"$f":"IFERROR(SUBSTITUTE(INDEX(Data!$A52:$H52,,MATCH(FALSE,ISERROR(SEARCH(E$1&\"=\",Data!$A52:$H52)),0)),E$1&\"=\",\"\"),\"\")","v":""},{"$f":"IFERROR(SUBSTITUTE(INDEX(Data!$A52:$H52,,MATCH(FALSE,ISERROR(SEARCH(F$1&\"=\",Data!$A52:$H52)),0)),F$1&\"=\",\"\"),\"\")","v":""},{"$f":"IFERROR(SUBSTITUTE(INDEX(Data!$A52:$H52,,MATCH(FALSE,ISERROR(SEARCH(G$1&\"=\",Data!$A52:$H52)),0)),G$1&\"=\",\"\"),\"\")","v":""},{"$f":"IFERROR(SUBSTITUTE(INDEX(Data!$A52:$H52,,MATCH(FALSE,ISERROR(SEARCH(H$1&\"=\",Data!$A52:$H52)),0)),H$1&\"=\",\"\"),\"\")","v":""},{"$f":"IFERROR(SUBSTITUTE(INDEX(Data!$A52:$H52,,MATCH(FALSE,ISERROR(SEARCH(I$1&\"=\",Data!$A52:$H52)),0)),I$1&\"=\",\"\"),\"\")","v":""},{"$f":"IFERROR(SUBSTITUTE(INDEX(Data!$A52:$H52,,MATCH(FALSE,ISERROR(SEARCH(J$1&\"=\",Data!$A52:$H52)),0)),J$1&\"=\",\"\"),\"\")","v":""}]
[{"$f":"IFERROR(SUBSTITUTE(INDEX(Data!$A53:$H53,,MATCH(FALSE,ISERROR(SEARCH(A$1&\"=\",Data!$A53:$H53)),0)),A$1&\"=\",\"\"),\"\")","v":""},{"$f":"IFERROR(SUBSTITUTE(INDEX(Data!$A53:$H53,,MATCH(FALSE,ISERROR(SEARCH(B$1&\"=\",Data!$A53:$H53)),0)),B$1&\"=\",\"\"),\"\")","v":""},{"$f":"IFERROR(SUBSTITUTE(INDEX(Data!$A53:$H53,,MATCH(FALSE,ISERROR(SEARCH(C$1&\"=\",Data!$A53:$H53)),0)),C$1&\"=\",\"\"),\"\")","v":""},{"$f":"IFERROR(SUBSTITUTE(INDEX(Data!$A53:$H53,,MATCH(FALSE,ISERROR(SEARCH(D$1&\"=\",Data!$A53:$H53)),0)),D$1&\"=\",\"\"),\"\")","v":""},{"$f":"IFERROR(SUBSTITUTE(INDEX(Data!$A53:$H53,,MATCH(FALSE,ISERROR(SEARCH(E$1&\"=\",Data!$A53:$H53)),0)),E$1&\"=\",\"\"),\"\")","v":""},{"$f":"IFERROR(SUBSTITUTE(INDEX(Data!$A53:$H53,,MATCH(FALSE,ISERROR(SEARCH(F$1&\"=\",Data!$A53:$H53)),0)),F$1&\"=\",\"\"),\"\")","v":""},{"$f":"IFERROR(SUBSTITUTE(INDEX(Data!$A53:$H53,,MATCH(FALSE,ISERROR(SEARCH(G$1&\"=\",Data!$A53:$H53)),0)),G$1&\"=\",\"\"),\"\")","v":""},{"$f":"IFERROR(SUBSTITUTE(INDEX(Data!$A53:$H53,,MATCH(FALSE,ISERROR(SEARCH(H$1&\"=\",Data!$A53:$H53)),0)),H$1&\"=\",\"\"),\"\")","v":""},{"$f":"IFERROR(SUBSTITUTE(INDEX(Data!$A53:$H53,,MATCH(FALSE,ISERROR(SEARCH(I$1&\"=\",Data!$A53:$H53)),0)),I$1&\"=\",\"\"),\"\")","v":""},{"$f":"IFERROR(SUBSTITUTE(INDEX(Data!$A53:$H53,,MATCH(FALSE,ISERROR(SEARCH(J$1&\"=\",Data!$A53:$H53)),0)),J$1&\"=\",\"\"),\"\")","v":""}]
[{"$f":"IFERROR(SUBSTITUTE(INDEX(Data!$A54:$H54,,MATCH(FALSE,ISERROR(SEARCH(A$1&\"=\",Data!$A54:$H54)),0)),A$1&\"=\",\"\"),\"\")","v":""},{"$f":"IFERROR(SUBSTITUTE(INDEX(Data!$A54:$H54,,MATCH(FALSE,ISERROR(SEARCH(B$1&\"=\",Data!$A54:$H54)),0)),B$1&\"=\",\"\"),\"\")","v":""},{"$f":"IFERROR(SUBSTITUTE(INDEX(Data!$A54:$H54,,MATCH(FALSE,ISERROR(SEARCH(C$1&\"=\",Data!$A54:$H54)),0)),C$1&\"=\",\"\"),\"\")","v":""},{"$f":"IFERROR(SUBSTITUTE(INDEX(Data!$A54:$H54,,MATCH(FALSE,ISERROR(SEARCH(D$1&\"=\",Data!$A54:$H54)),0)),D$1&\"=\",\"\"),\"\")","v":""},{"$f":"IFERROR(SUBSTITUTE(INDEX(Data!$A54:$H54,,MATCH(FALSE,ISERROR(SEARCH(E$1&\"=\",Data!$A54:$H54)),0)),E$1&\"=\",\"\"),\"\")","v":""},{"$f":"IFERROR(SUBSTITUTE(INDEX(Data!$A54:$H54,,MATCH(FALSE,ISERROR(SEARCH(F$1&\"=\",Data!$A54:$H54)),0)),F$1&\"=\",\"\"),\"\")","v":""},{"$f":"IFERROR(SUBSTITUTE(INDEX(Data!$A54:$H54,,MATCH(FALSE,ISERROR(SEARCH(G$1&\"=\",Data!$A54:$H54)),0)),G$1&\"=\",\"\"),\"\")","v":""},{"$f":"IFERROR(SUBSTITUTE(INDEX(Data!$A54:$H54,,MATCH(FALSE,ISERROR(SEARCH(H$1&\"=\",Data!$A54:$H54)),0)),H$1&\"=\",\"\"),\"\")","v":""},{"$f":"IFERROR(SUBSTITUTE(INDEX(Data!$A54:$H54,,MATCH(FALSE,ISERROR(SEARCH(I$1&\"=\",Data!$A54:$H54)),0)),I$1&\"=\",\"\"),\"\")","v":""},{"$f":"IFERROR(SUBSTITUTE(INDEX(Data!$A54:$H54,,MATCH(FALSE,ISERROR(SEARCH(J$1&\"=\",Data!$A54:$H54)),0)),J$1&\"=\",\"\"),\"\")","v":""}]
[{"$f":"IFERROR(SUBSTITUTE(INDEX(Data!$A55:$H55,,MATCH(FALSE,ISERROR(SEARCH(A$1&\"=\",Data!$A55:$H55)),0)),A$1&\"=\",\"\"),\"\")","v":""},{"$f":"IFERROR(SUBSTITUTE(INDEX(Data!$A55:$H55,,MATCH(FALSE,ISERROR(SEARCH(B$1&\"=\",Data!$A55:$H55)),0)),B$1&\"=\",\"\"),\"\")","v":""},{"$f":"IFERROR(SUBSTITUTE(INDEX(Data!$A55:$H55,,MATCH(FALSE,ISERROR(SEARCH(C$1&\"=\",Data!$A55:$H55)),0)),C$1&\"=\",\"\"),\"\")","v":""},{"$f":"IFERROR(SUBSTITUTE(INDEX(Data!$A55:$H55,,MATCH(FALSE,ISERROR(SEARCH(D$1&\"=\",Data!$A55:$H55)),0)),D$1&\"=\",\"\"),\"\")","v":""},{"$f":"IFERROR(SUBSTITUTE(INDEX(Data!$A55:$H55,,MATCH(FALSE,ISERROR(SEARCH(E$1&\"=\",Data!$A55:$H55)),0)),E$1&\"=\",\"\"),\"\")","v":""},{"$f":"IFERROR(SUBSTITUTE(INDEX(Data!$A55:$H55,,MATCH(FALSE,ISERROR(SEARCH(F$1&\"=\",Data!$A55:$H55)),0)),F$1&\"=\",\"\"),\"\")","v":""},{"$f":"IFERROR(SUBSTITUTE(INDEX(Data!$A55:$H55,,MATCH(FALSE,ISERROR(SEARCH(G$1&\"=\",Data!$A55:$H55)),0)),G$1&\"=\",\"\"),\"\")","v":""},{"$f":"IFERROR(SUBSTITUTE(INDEX(Data!$A55:$H55,,MATCH(FALSE,ISERROR(SEARCH(H$1&\"=\",Data!$A55:$H55)),0)),H$1&\"=\",\"\"),\"\")","v":""},{"$f":"IFERROR(SUBSTITUTE(INDEX(Data!$A55:$H55,,MATCH(FALSE,ISERROR(SEARCH(I$1&\"=\",Data!$A55:$H55)),0)),I$1&\"=\",\"\"),\"\")","v":""},{"$f":"IFERROR(SUBSTITUTE(INDEX(Data!$A55:$H55,,MATCH(FALSE,ISERROR(SEARCH(J$1&\"=\",Data!$A55:$H55)),0)),J$1&\"=\",\"\"),\"\")","v":""}]
[{"$f":"IFERROR(SUBSTITUTE(INDEX(Data!$A56:$H56,,MATCH(FALSE,ISERROR(SEARCH(A$1&\"=\",Data!$A56:$H56)),0)),A$1&\"=\",\"\"),\"\")","v":""},{"$f":"IFERROR(SUBSTITUTE(INDEX(Data!$A56:$H56,,MATCH(FALSE,ISERROR(SEARCH(B$1&\"=\",Data!$A56:$H56)),0)),B$1&\"=\",\"\"),\"\")","v":""},{"$f":"IFERROR(SUBSTITUTE(INDEX(Data!$A56:$H56,,MATCH(FALSE,ISERROR(SEARCH(C$1&\"=\",Data!$A56:$H56)),0)),C$1&\"=\",\"\"),\"\")","v":""},{"$f":"IFERROR(SUBSTITUTE(INDEX(Data!$A56:$H56,,MATCH(FALSE,ISERROR(SEARCH(D$1&\"=\",Data!$A56:$H56)),0)),D$1&\"=\",\"\"),\"\")","v":""},{"$f":"IFERROR(SUBSTITUTE(INDEX(Data!$A56:$H56,,MATCH(FALSE,ISERROR(SEARCH(E$1&\"=\",Data!$A56:$H56)),0)),E$1&\"=\",\"\"),\"\")","v":""},{"$f":"IFERROR(SUBSTITUTE(INDEX(Data!$A56:$H56,,MATCH(FALSE,ISERROR(SEARCH(F$1&\"=\",Data!$A56:$H56)),0)),F$1&\"=\",\"\"),\"\")","v":""},{"$f":"IFERROR(SUBSTITUTE(INDEX(Data!$A56:$H56,,MATCH(FALSE,ISERROR(SEARCH(G$1&\"=\",Data!$A56:$H56)),0)),G$1&\"=\",\"\"),\"\")","v":""},{"$f":"IFERROR(SUBSTITUTE(INDEX(Data!$A56:$H56,,MATCH(FALSE,ISERROR(SEARCH(H$1&\"=\",Data!$A56:$H56)),0)),H$1&\"=\",\"\"),\"\")","v":""},{"$f":"IFERROR(SUBSTITUTE(INDEX(Data!$A56:$H56,,MATCH(FALSE,ISERROR(SEARCH(I$1&\"=\",Data!$A56:$H56)),0)),I$1&\"=\",\"\"),\"\")","v":""},{"$f":"IFERROR(SUBSTITUTE(INDEX(Data!$A56:$H56,,MATCH(FALSE,ISERROR(SEARCH(J$1&\"=\",Data!$A56:$H56)),0)),J$1&\"=\",\"\"),\"\")","v":""}]
[{"$f":"IFERROR(SUBSTITUTE(INDEX(Data!$A57:$H57,,MATCH(FALSE,ISERROR(SEARCH(A$1&\"=\",Data!$A57:$H57)),0)),A$1&\"=\",\"\"),\"\")","v":""},{"$f":"IFERROR(SUBSTITUTE(INDEX(Data!$A57:$H57,,MATCH(FALSE,ISERROR(SEARCH(B$1&\"=\",Data!$A57:$H57)),0)),B$1&\"=\",\"\"),\"\")","v":""},{"$f":"IFERROR(SUBSTITUTE(INDEX(Data!$A57:$H57,,MATCH(FALSE,ISERROR(SEARCH(C$1&\"=\",Data!$A57:$H57)),0)),C$1&\"=\",\"\"),\"\")","v":""},{"$f":"IFERROR(SUBSTITUTE(INDEX(Data!$A57:$H57,,MATCH(FALSE,ISERROR(SEARCH(D$1&\"=\",Data!$A57:$H57)),0)),D$1&\"=\",\"\"),\"\")","v":""},{"$f":"IFERROR(SUBSTITUTE(INDEX(Data!$A57:$H57,,MATCH(FALSE,ISERROR(SEARCH(E$1&\"=\",Data!$A57:$H57)),0)),E$1&\"=\",\"\"),\"\")","v":""},{"$f":"IFERROR(SUBSTITUTE(INDEX(Data!$A57:$H57,,MATCH(FALSE,ISERROR(SEARCH(F$1&\"=\",Data!$A57:$H57)),0)),F$1&\"=\",\"\"),\"\")","v":""},{"$f":"IFERROR(SUBSTITUTE(INDEX(Data!$A57:$H57,,MATCH(FALSE,ISERROR(SEARCH(G$1&\"=\",Data!$A57:$H57)),0)),G$1&\"=\",\"\"),\"\")","v":""},{"$f":"IFERROR(SUBSTITUTE(INDEX(Data!$A57:$H57,,MATCH(FALSE,ISERROR(SEARCH(H$1&\"=\",Data!$A57:$H57)),0)),H$1&\"=\",\"\"),\"\")","v":""},{"$f":"IFERROR(SUBSTITUTE(INDEX(Data!$A57:$H57,,MATCH(FALSE,ISERROR(SEARCH(I$1&\"=\",Data!$A57:$H57)),0)),I$1&\"=\",\"\"),\"\")","v":""},{"$f":"IFERROR(SUBSTITUTE(INDEX(Data!$A57:$H57,,MATCH(FALSE,ISERROR(SEARCH(J$1&\"=\",Data!$A57:$H57)),0)),J$1&\"=\",\"\"),\"\")","v":""}]
[{"$f":"IFERROR(SUBSTITUTE(INDEX(Data!$A58:$H58,,MATCH(FALSE,ISERROR(SEARCH(A$1&\"=\",Data!$A58:$H58)),0)),A$1&\"=\",\"\"),\"\")","v":""},{"$f":"IFERROR(SUBSTITUTE(INDEX(Data!$A58:$H58,,MATCH(FALSE,ISERROR(SEARCH(B$1&\"=\",Data!$A58:$H58)),0)),B$1&\"=\",\"\"),\"\")","v":""},{"$f":"IFERROR(SUBSTITUTE(INDEX(Data!$A58:$H58,,MATCH(FALSE,ISERROR(SEARCH(C$1&\"=\",Data!$A58:$H58)),0)),C$1&\"=\",\"\"),\"\")","v":""},{"$f":"IFERROR(SUBSTITUTE(INDEX(Data!$A58:$H58,,MATCH(FALSE,ISERROR(SEARCH(D$1&\"=\",Data!$A58:$H58)),0)),D$1&\"=\",\"\"),\"\")","v":""},{"$f":"IFERROR(SUBSTITUTE(INDEX(Data!$A58:$H58,,MATCH(FALSE,ISERROR(SEARCH(E$1&\"=\",Data!$A58:$H58)),0)),E$1&\"=\",\"\"),\"\")","v":""},{"$f":"IFERROR(SUBSTITUTE(INDEX(Data!$A58:$H58,,MATCH(FALSE,ISERROR(SEARCH(F$1&\"=\",Data!$A58:$H58)),0)),F$1&\"=\",\"\"),\"\")","v":""},{"$f":"IFERROR(SUBSTITUTE(INDEX(Data!$A58:$H58,,MATCH(FALSE,ISERROR(SEARCH(G$1&\"=\",Data!$A58:$H58)),0)),G$1&\"=\",\"\"),\"\")","v":""},{"$f":"IFERROR(SUBSTITUTE(INDEX(Data!$A58:$H58,,MATCH(FALSE,ISERROR(SEARCH(H$1&\"=\",Data!$A58:$H58)),0)),H$1&\"=\",\"\"),\"\")","v":""},{"$f":"IFERROR(SUBSTITUTE(INDEX(Data!$A58:$H58,,MATCH(FALSE,ISERROR(SEARCH(I$1&\"=\",Data!$A58:$H58)),0)),I$1&\"=\",\"\"),\"\")","v":""},{"$f":"IFERROR(SUBSTITUTE(INDEX(Data!$A58:$H58,,MATCH(FALSE,ISERROR(SEARCH(J$1&\"=\",Data!$A58:$H58)),0)),J$1&\"=\",\"\"),\"\")","v":""}]
[{"$f":"IFERROR(SUBSTITUTE(INDEX(Data!$A59:$H59,,MATCH(FALSE,ISERROR(SEARCH(A$1&\"=\",Data!$A59:$H59)),0)),A$1&\"=\",\"\"),\"\")","v":""},{"$f":"IFERROR(SUBSTITUTE(INDEX(Data!$A59:$H59,,MATCH(FALSE,ISERROR(SEARCH(B$1&\"=\",Data!$A59:$H59)),0)),B$1&\"=\",\"\"),\"\")","v":""},{"$f":"IFERROR(SUBSTITUTE(INDEX(Data!$A59:$H59,,MATCH(FALSE,ISERROR(SEARCH(C$1&\"=\",Data!$A59:$H59)),0)),C$1&\"=\",\"\"),\"\")","v":""},{"$f":"IFERROR(SUBSTITUTE(INDEX(Data!$A59:$H59,,MATCH(FALSE,ISERROR(SEARCH(D$1&\"=\",Data!$A59:$H59)),0)),D$1&\"=\",\"\"),\"\")","v":""},{"$f":"IFERROR(SUBSTITUTE(INDEX(Data!$A59:$H59,,MATCH(FALSE,ISERROR(SEARCH(E$1&\"=\",Data!$A59:$H59)),0)),E$1&\"=\",\"\"),\"\")","v":""},{"$f":"IFERROR(SUBSTITUTE(INDEX(Data!$A59:$H59,,MATCH(FALSE,ISERROR(SEARCH(F$1&\"=\",Data!$A59:$H59)),0)),F$1&\"=\",\"\"),\"\")","v":""},{"$f":"IFERROR(SUBSTITUTE(INDEX(Data!$A59:$H59,,MATCH(FALSE,ISERROR(SEARCH(G$1&\"=\",Data!$A59:$H59)),0)),G$1&\"=\",\"\"),\"\")","v":""},{"$f":"IFERROR(SUBSTITUTE(INDEX(Data!$A59:$H59,,MATCH(FALSE,ISERROR(SEARCH(H$1&\"=\",Data!$A59:$H59)),0)),H$1&\"=\",\"\"),\"\")","v":""},{"$f":"IFERROR(SUBSTITUTE(INDEX(Data!$A59:$H59,,MATCH(FALSE,ISERROR(SEARCH(I$1&\"=\",Data!$A59:$H59)),0)),I$1&\"=\",\"\"),\"\")","v":""},{"$f":"IFERROR(SUBSTITUTE(INDEX(Data!$A59:$H59,,MATCH(FALSE,ISERROR(SEARCH(J$1&\"=\",Data!$A59:$H59)),0)),J$1&\"=\",\"\"),\"\")","v":""}]
[{"$f":"IFERROR(SUBSTITUTE(INDEX(Data!$A60:$H60,,MATCH(FALSE,ISERROR(SEARCH(A$1&\"=\",Data!$A60:$H60)),0)),A$1&\"=\",\"\"),\"\")","v":""},{"$f":"IFERROR(SUBSTITUTE(INDEX(Data!$A60:$H60,,MATCH(FALSE,ISERROR(SEARCH(B$1&\"=\",Data!$A60:$H60)),0)),B$1&\"=\",\"\"),\"\")","v":""},{"$f":"IFERROR(SUBSTITUTE(INDEX(Data!$A60:$H60,,MATCH(FALSE,ISERROR(SEARCH(C$1&\"=\",Data!$A60:$H60)),0)),C$1&\"=\",\"\"),\"\")","v":""},{"$f":"IFERROR(SUBSTITUTE(INDEX(Data!$A60:$H60,,MATCH(FALSE,ISERROR(SEARCH(D$1&\"=\",Data!$A60:$H60)),0)),D$1&\"=\",\"\"),\"\")","v":""},{"$f":"IFERROR(SUBSTITUTE(INDEX(Data!$A60:$H60,,MATCH(FALSE,ISERROR(SEARCH(E$1&\"=\",Data!$A60:$H60)),0)),E$1&\"=\",\"\"),\"\")","v":""},{"$f":"IFERROR(SUBSTITUTE(INDEX(Data!$A60:$H60,,MATCH(FALSE,ISERROR(SEARCH(F$1&\"=\",Data!$A60:$H60)),0)),F$1&\"=\",\"\"),\"\")","v":""},{"$f":"IFERROR(SUBSTITUTE(INDEX(Data!$A60:$H60,,MATCH(FALSE,ISERROR(SEARCH(G$1&\"=\",Data!$A60:$H60)),0)),G$1&\"=\",\"\"),\"\")","v":""},{"$f":"IFERROR(SUBSTITUTE(INDEX(Data!$A60:$H60,,MATCH(FALSE,ISERROR(SEARCH(H$1&\"=\",Data!$A60:$H60)),0)),H$1&\"=\",\"\"),\"\")","v":""},{"$f":"IFERROR(SUBSTITUTE(INDEX(Data!$A60:$H60,,MATCH(FALSE,ISERROR(SEARCH(I$1&\"=\",Data!$A60:$H60)),0)),I$1&\"=\",\"\"),\"\")","v":""},{"$f":"IFERROR(SUBSTITUTE(INDEX(Data!$A60:$H60,,MATCH(FALSE,ISERROR(SEARCH(J$1&\"=\",Data!$A60:$H60)),0)),J$1&\"=\",\"\"),\"\")","v":""}]
[{"$f":"IFERROR(SUBSTITUTE(INDEX(Data!$A61:$H61,,MATCH(FALSE,ISERROR(SEARCH(A$1&\"=\",Data!$A61:$H61)),0)),A$1&\"=\",\"\"),\"\")","v":""},{"$f":"IFERROR(SUBSTITUTE(INDEX(Data!$A61:$H61,,MATCH(FALSE,ISERROR(SEARCH(B$1&\"=\",Data!$A61:$H61)),0)),B$1&\"=\",\"\"),\"\")","v":""},{"$f":"IFERROR(SUBSTITUTE(INDEX(Data!$A61:$H61,,MATCH(FALSE,ISERROR(SEARCH(C$1&\"=\",Data!$A61:$H61)),0)),C$1&\"=\",\"\"),\"\")","v":""},{"$f":"IFERROR(SUBSTITUTE(INDEX(Data!$A61:$H61,,MATCH(FALSE,ISERROR(SEARCH(D$1&\"=\",Data!$A61:$H61)),0)),D$1&\"=\",\"\"),\"\")","v":""},{"$f":"IFERROR(SUBSTITUTE(INDEX(Data!$A61:$H61,,MATCH(FALSE,ISERROR(SEARCH(E$1&\"=\",Data!$A61:$H61)),0)),E$1&\"=\",\"\"),\"\")","v":""},{"$f":"IFERROR(SUBSTITUTE(INDEX(Data!$A61:$H61,,MATCH(FALSE,ISERROR(SEARCH(F$1&\"=\",Data!$A61:$H61)),0)),F$1&\"=\",\"\"),\"\")","v":""},{"$f":"IFERROR(SUBSTITUTE(INDEX(Data!$A61:$H61,,MATCH(FALSE,ISERROR(SEARCH(G$1&\"=\",Data!$A61:$H61)),0)),G$1&\"=\",\"\"),\"\")","v":""},{"$f":"IFERROR(SUBSTITUTE(INDEX(Data!$A61:$H61,,MATCH(FALSE,ISERROR(SEARCH(H$1&\"=\",Data!$A61:$H61)),0)),H$1&\"=\",\"\"),\"\")","v":""},{"$f":"IFERROR(SUBSTITUTE(INDEX(Data!$A61:$H61,,MATCH(FALSE,ISERROR(SEARCH(I$1&\"=\",Data!$A61:$H61)),0)),I$1&\"=\",\"\"),\"\")","v":""},{"$f":"IFERROR(SUBSTITUTE(INDEX(Data!$A61:$H61,,MATCH(FALSE,ISERROR(SEARCH(J$1&\"=\",Data!$A61:$H61)),0)),J$1&\"=\",\"\"),\"\")","v":""}]
[{"$f":"IFERROR(SUBSTITUTE(INDEX(Data!$A62:$H62,,MATCH(FALSE,ISERROR(SEARCH(A$1&\"=\",Data!$A62:$H62)),0)),A$1&\"=\",\"\"),\"\")","v":""},{"$f":"IFERROR(SUBSTITUTE(INDEX(Data!$A62:$H62,,MATCH(FALSE,ISERROR(SEARCH(B$1&\"=\",Data!$A62:$H62)),0)),B$1&\"=\",\"\"),\"\")","v":""},{"$f":"IFERROR(SUBSTITUTE(INDEX(Data!$A62:$H62,,MATCH(FALSE,ISERROR(SEARCH(C$1&\"=\",Data!$A62:$H62)),0)),C$1&\"=\",\"\"),\"\")","v":""},{"$f":"IFERROR(SUBSTITUTE(INDEX(Data!$A62:$H62,,MATCH(FALSE,ISERROR(SEARCH(D$1&\"=\",Data!$A62:$H62)),0)),D$1&\"=\",\"\"),\"\")","v":""},{"$f":"IFERROR(SUBSTITUTE(INDEX(Data!$A62:$H62,,MATCH(FALSE,ISERROR(SEARCH(E$1&\"=\",Data!$A62:$H62)),0)),E$1&\"=\",\"\"),\"\")","v":""},{"$f":"IFERROR(SUBSTITUTE(INDEX(Data!$A62:$H62,,MATCH(FALSE,ISERROR(SEARCH(F$1&\"=\",Data!$A62:$H62)),0)),F$1&\"=\",\"\"),\"\")","v":""},{"$f":"IFERROR(SUBSTITUTE(INDEX(Data!$A62:$H62,,MATCH(FALSE,ISERROR(SEARCH(G$1&\"=\",Data!$A62:$H62)),0)),G$1&\"=\",\"\"),\"\")","v":""},{"$f":"IFERROR(SUBSTITUTE(INDEX(Data!$A62:$H62,,MATCH(FALSE,ISERROR(SEARCH(H$1&\"=\",Data!$A62:$H62)),0)),H$1&\"=\",\"\"),\"\")","v":""},{"$f":"IFERROR(SUBSTITUTE(INDEX(Data!$A62:$H62,,MATCH(FALSE,ISERROR(SEARCH(I$1&\"=\",Data!$A62:$H62)),0)),I$1&\"=\",\"\"),\"\")","v":""},{"$f":"IFERROR(SUBSTITUTE(INDEX(Data!$A62:$H62,,MATCH(FALSE,ISERROR(SEARCH(J$1&\"=\",Data!$A62:$H62)),0)),J$1&\"=\",\"\"),\"\")","v":""}]
[{"$f":"IFERROR(SUBSTITUTE(INDEX(Data!$A63:$H63,,MATCH(FALSE,ISERROR(SEARCH(A$1&\"=\",Data!$A63:$H63)),0)),A$1&\"=\",\"\"),\"\")","v":""},{"$f":"IFERROR(SUBSTITUTE(INDEX(Data!$A63:$H63,,MATCH(FALSE,ISERROR(SEARCH(B$1&\"=\",Data!$A63:$H63)),0)),B$1&\"=\",\"\"),\"\")","v":""},{"$f":"IFERROR(SUBSTITUTE(INDEX(Data!$A63:$H63,,MATCH(FALSE,ISERROR(SEARCH(C$1&\"=\",Data!$A63:$H63)),0)),C$1&\"=\",\"\"),\"\")","v":""},{"$f":"IFERROR(SUBSTITUTE(INDEX(Data!$A63:$H63,,MATCH(FALSE,ISERROR(SEARCH(D$1&\"=\",Data!$A63:$H63)),0)),D$1&\"=\",\"\"),\"\")","v":""},{"$f":"IFERROR(SUBSTITUTE(INDEX(Data!$A63:$H63,,MATCH(FALSE,ISERROR(SEARCH(E$1&\"=\",Data!$A63:$H63)),0)),E$1&\"=\",\"\"),\"\")","v":""},{"$f":"IFERROR(SUBSTITUTE(INDEX(Data!$A63:$H63,,MATCH(FALSE,ISERROR(SEARCH(F$1&\"=\",Data!$A63:$H63)),0)),F$1&\"=\",\"\"),\"\")","v":""},{"$f":"IFERROR(SUBSTITUTE(INDEX(Data!$A63:$H63,,MATCH(FALSE,ISERROR(SEARCH(G$1&\"=\",Data!$A63:$H63)),0)),G$1&\"=\",\"\"),\"\")","v":""},{"$f":"IFERROR(SUBSTITUTE(INDEX(Data!$A63:$H63,,MATCH(FALSE,ISERROR(SEARCH(H$1&\"=\",Data!$A63:$H63)),0)),H$1&\"=\",\"\"),\"\")","v":""},{"$f":"IFERROR(SUBSTITUTE(INDEX(Data!$A63:$H63,,MATCH(FALSE,ISERROR(SEARCH(I$1&\"=\",Data!$A63:$H63)),0)),I$1&\"=\",\"\"),\"\")","v":""},{"$f":"IFERROR(SUBSTITUTE(INDEX(Data!$A63:$H63,,MATCH(FALSE,ISERROR(SEARCH(J$1&\"=\",Data!$A63:$H63)),0)),J$1&\"=\",\"\"),\"\")","v":""}]
[{"$f":"IFERROR(SUBSTITUTE(INDEX(Data!$A64:$H64,,MATCH(FALSE,ISERROR(SEARCH(A$1&\"=\",Data!$A64:$H64)),0)),A$1&\"=\",\"\"),\"\")","v":""},{"$f":"IFERROR(SUBSTITUTE(INDEX(Data!$A64:$H64,,MATCH(FALSE,ISERROR(SEARCH(B$1&\"=\",Data!$A64:$H64)),0)),B$1&\"=\",\"\"),\"\")","v":""},{"$f":"IFERROR(SUBSTITUTE(INDEX(Data!$A64:$H64,,MATCH(FALSE,ISERROR(SEARCH(C$1&\"=\",Data!$A64:$H64)),0)),C$1&\"=\",\"\"),\"\")","v":""},{"$f":"IFERROR(SUBSTITUTE(INDEX(Data!$A64:$H64,,MATCH(FALSE,ISERROR(SEARCH(D$1&\"=\",Data!$A64:$H64)),0)),D$1&\"=\",\"\"),\"\")","v":""},{"$f":"IFERROR(SUBSTITUTE(INDEX(Data!$A64:$H64,,MATCH(FALSE,ISERROR(SEARCH(E$1&\"=\",Data!$A64:$H64)),0)),E$1&\"=\",\"\"),\"\")","v":""},{"$f":"IFERROR(SUBSTITUTE(INDEX(Data!$A64:$H64,,MATCH(FALSE,ISERROR(SEARCH(F$1&\"=\",Data!$A64:$H64)),0)),F$1&\"=\",\"\"),\"\")","v":""},{"$f":"IFERROR(SUBSTITUTE(INDEX(Data!$A64:$H64,,MATCH(FALSE,ISERROR(SEARCH(G$1&\"=\",Data!$A64:$H64)),0)),G$1&\"=\",\"\"),\"\")","v":""},{"$f":"IFERROR(SUBSTITUTE(INDEX(Data!$A64:$H64,,MATCH(FALSE,ISERROR(SEARCH(H$1&\"=\",Data!$A64:$H64)),0)),H$1&\"=\",\"\"),\"\")","v":""},{"$f":"IFERROR(SUBSTITUTE(INDEX(Data!$A64:$H64,,MATCH(FALSE,ISERROR(SEARCH(I$1&\"=\",Data!$A64:$H64)),0)),I$1&\"=\",\"\"),\"\")","v":""},{"$f":"IFERROR(SUBSTITUTE(INDEX(Data!$A64:$H64,,MATCH(FALSE,ISERROR(SEARCH(J$1&\"=\",Data!$A64:$H64)),0)),J$1&\"=\",\"\"),\"\")","v":""}]
[{"$f":"IFERROR(SUBSTITUTE(INDEX(Data!$A65:$H65,,MATCH(FALSE,ISERROR(SEARCH(A$1&\"=\",Data!$A65:$H65)),0)),A$1&\"=\",\"\"),\"\")","v":""},{"$f":"IFERROR(SUBSTITUTE(INDEX(Data!$A65:$H65,,MATCH(FALSE,ISERROR(SEARCH(B$1&\"=\",Data!$A65:$H65)),0)),B$1&\"=\",\"\"),\"\")","v":""},{"$f":"IFERROR(SUBSTITUTE(INDEX(Data!$A65:$H65,,MATCH(FALSE,ISERROR(SEARCH(C$1&\"=\",Data!$A65:$H65)),0)),C$1&\"=\",\"\"),\"\")","v":""},{"$f":"IFERROR(SUBSTITUTE(INDEX(Data!$A65:$H65,,MATCH(FALSE,ISERROR(SEARCH(D$1&\"=\",Data!$A65:$H65)),0)),D$1&\"=\",\"\"),\"\")","v":""},{"$f":"IFERROR(SUBSTITUTE(INDEX(Data!$A65:$H65,,MATCH(FALSE,ISERROR(SEARCH(E$1&\"=\",Data!$A65:$H65)),0)),E$1&\"=\",\"\"),\"\")","v":""},{"$f":"IFERROR(SUBSTITUTE(INDEX(Data!$A65:$H65,,MATCH(FALSE,ISERROR(SEARCH(F$1&\"=\",Data!$A65:$H65)),0)),F$1&\"=\",\"\"),\"\")","v":""},{"$f":"IFERROR(SUBSTITUTE(INDEX(Data!$A65:$H65,,MATCH(FALSE,ISERROR(SEARCH(G$1&\"=\",Data!$A65:$H65)),0)),G$1&\"=\",\"\"),\"\")","v":""},{"$f":"IFERROR(SUBSTITUTE(INDEX(Data!$A65:$H65,,MATCH(FALSE,ISERROR(SEARCH(H$1&\"=\",Data!$A65:$H65)),0)),H$1&\"=\",\"\"),\"\")","v":""},{"$f":"IFERROR(SUBSTITUTE(INDEX(Data!$A65:$H65,,MATCH(FALSE,ISERROR(SEARCH(I$1&\"=\",Data!$A65:$H65)),0)),I$1&\"=\",\"\"),\"\")","v":""},{"$f":"IFERROR(SUBSTITUTE(INDEX(Data!$A65:$H65,,MATCH(FALSE,ISERROR(SEARCH(J$1&\"=\",Data!$A65:$H65)),0)),J$1&\"=\",\"\"),\"\")","v":""}]
[{"$f":"IFERROR(SUBSTITUTE(INDEX(Data!$A66:$H66,,MATCH(FALSE,ISERROR(SEARCH(A$1&\"=\",Data!$A66:$H66)),0)),A$1&\"=\",\"\"),\"\")","v":""},{"$f":"IFERROR(SUBSTITUTE(INDEX(Data!$A66:$H66,,MATCH(FALSE,ISERROR(SEARCH(B$1&\"=\",Data!$A66:$H66)),0)),B$1&\"=\",\"\"),\"\")","v":""},{"$f":"IFERROR(SUBSTITUTE(INDEX(Data!$A66:$H66,,MATCH(FALSE,ISERROR(SEARCH(C$1&\"=\",Data!$A66:$H66)),0)),C$1&\"=\",\"\"),\"\")","v":""},{"$f":"IFERROR(SUBSTITUTE(INDEX(Data!$A66:$H66,,MATCH(FALSE,ISERROR(SEARCH(D$1&\"=\",Data!$A66:$H66)),0)),D$1&\"=\",\"\"),\"\")","v":""},{"$f":"IFERROR(SUBSTITUTE(INDEX(Data!$A66:$H66,,MATCH(FALSE,ISERROR(SEARCH(E$1&\"=\",Data!$A66:$H66)),0)),E$1&\"=\",\"\"),\"\")","v":""},{"$f":"IFERROR(SUBSTITUTE(INDEX(Data!$A66:$H66,,MATCH(FALSE,ISERROR(SEARCH(F$1&\"=\",Data!$A66:$H66)),0)),F$1&\"=\",\"\"),\"\")","v":""},{"$f":"IFERROR(SUBSTITUTE(INDEX(Data!$A66:$H66,,MATCH(FALSE,ISERROR(SEARCH(G$1&\"=\",Data!$A66:$H66)),0)),G$1&\"=\",\"\"),\"\")","v":""},{"$f":"IFERROR(SUBSTITUTE(INDEX(Data!$A66:$H66,,MATCH(FALSE,ISERROR(SEARCH(H$1&\"=\",Data!$A66:$H66)),0)),H$1&\"=\",\"\"),\"\")","v":""},{"$f":"IFERROR(SUBSTITUTE(INDEX(Data!$A66:$H66,,MATCH(FALSE,ISERROR(SEARCH(I$1&\"=\",Data!$A66:$H66)),0)),I$1&\"=\",\"\"),\"\")","v":""},{"$f":"IFERROR(SUBSTITUTE(INDEX(Data!$A66:$H66,,MATCH(FALSE,ISERROR(SEARCH(J$1&\"=\",Data!$A66:$H66)),0)),J$1&\"=\",\"\"),\"\")","v":""}]
[{"$f":"IFERROR(SUBSTITUTE(INDEX(Data!$A67:$H67,,MATCH(FALSE,ISERROR(SEARCH(A$1&\"=\",Data!$A67:$H67)),0)),A$1&\"=\",\"\"),\"\")","v":""},{"$f":"IFERROR(SUBSTITUTE(INDEX(Data!$A67:$H67,,MATCH(FALSE,ISERROR(SEARCH(B$1&\"=\",Data!$A67:$H67)),0)),B$1&\"=\",\"\"),\"\")","v":""},{"$f":"IFERROR(SUBSTITUTE(INDEX(Data!$A67:$H67,,MATCH(FALSE,ISERROR(SEARCH(C$1&\"=\",Data!$A67:$H67)),0)),C$1&\"=\",\"\"),\"\")","v":""},{"$f":"IFERROR(SUBSTITUTE(INDEX(Data!$A67:$H67,,MATCH(FALSE,ISERROR(SEARCH(D$1&\"=\",Data!$A67:$H67)),0)),D$1&\"=\",\"\"),\"\")","v":""},{"$f":"IFERROR(SUBSTITUTE(INDEX(Data!$A67:$H67,,MATCH(FALSE,ISERROR(SEARCH(E$1&\"=\",Data!$A67:$H67)),0)),E$1&\"=\",\"\"),\"\")","v":""},{"$f":"IFERROR(SUBSTITUTE(INDEX(Data!$A67:$H67,,MATCH(FALSE,ISERROR(SEARCH(F$1&\"=\",Data!$A67:$H67)),0)),F$1&\"=\",\"\"),\"\")","v":""},{"$f":"IFERROR(SUBSTITUTE(INDEX(Data!$A67:$H67,,MATCH(FALSE,ISERROR(SEARCH(G$1&\"=\",Data!$A67:$H67)),0)),G$1&\"=\",\"\"),\"\")","v":""},{"$f":"IFERROR(SUBSTITUTE(INDEX(Data!$A67:$H67,,MATCH(FALSE,ISERROR(SEARCH(H$1&\"=\",Data!$A67:$H67)),0)),H$1&\"=\",\"\"),\"\")","v":""},{"$f":"IFERROR(SUBSTITUTE(INDEX(Data!$A67:$H67,,MATCH(FALSE,ISERROR(SEARCH(I$1&\"=\",Data!$A67:$H67)),0)),I$1&\"=\",\"\"),\"\")","v":""},{"$f":"IFERROR(SUBSTITUTE(INDEX(Data!$A67:$H67,,MATCH(FALSE,ISERROR(SEARCH(J$1&\"=\",Data!$A67:$H67)),0)),J$1&\"=\",\"\"),\"\")","v":""}]
[{"$f":"IFERROR(SUBSTITUTE(INDEX(Data!$A68:$H68,,MATCH(FALSE,ISERROR(SEARCH(A$1&\"=\",Data!$A68:$H68)),0)),A$1&\"=\",\"\"),\"\")","v":""},{"$f":"IFERROR(SUBSTITUTE(INDEX(Data!$A68:$H68,,MATCH(FALSE,ISERROR(SEARCH(B$1&\"=\",Data!$A68:$H68)),0)),B$1&\"=\",\"\"),\"\")","v":""},{"$f":"IFERROR(SUBSTITUTE(INDEX(Data!$A68:$H68,,MATCH(FALSE,ISERROR(SEARCH(C$1&\"=\",Data!$A68:$H68)),0)),C$1&\"=\",\"\"),\"\")","v":""},{"$f":"IFERROR(SUBSTITUTE(INDEX(Data!$A68:$H68,,MATCH(FALSE,ISERROR(SEARCH(D$1&\"=\",Data!$A68:$H68)),0)),D$1&\"=\",\"\"),\"\")","v":""},{"$f":"IFERROR(SUBSTITUTE(INDEX(Data!$A68:$H68,,MATCH(FALSE,ISERROR(SEARCH(E$1&\"=\",Data!$A68:$H68)),0)),E$1&\"=\",\"\"),\"\")","v":""},{"$f":"IFERROR(SUBSTITUTE(INDEX(Data!$A68:$H68,,MATCH(FALSE,ISERROR(SEARCH(F$1&\"=\",Data!$A68:$H68)),0)),F$1&\"=\",\"\"),\"\")","v":""},{"$f":"IFERROR(SUBSTITUTE(INDEX(Data!$A68:$H68,,MATCH(FALSE,ISERROR(SEARCH(G$1&\"=\",Data!$A68:$H68)),0)),G$1&\"=\",\"\"),\"\")","v":""},{"$f":"IFERROR(SUBSTITUTE(INDEX(Data!$A68:$H68,,MATCH(FALSE,ISERROR(SEARCH(H$1&\"=\",Data!$A68:$H68)),0)),H$1&\"=\",\"\"),\"\")","v":""},{"$f":"IFERROR(SUBSTITUTE(INDEX(Data!$A68:$H68,,MATCH(FALSE,ISERROR(SEARCH(I$1&\"=\",Data!$A68:$H68)),0)),I$1&\"=\",\"\"),\"\")","v":""},{"$f":"IFERROR(SUBSTITUTE(INDEX(Data!$A68:$H68,,MATCH(FALSE,ISERROR(SEARCH(J$1&\"=\",Data!$A68:$H68)),0)),J$1&\"=\",\"\"),\"\")","v":""}]
[{"$f":"IFERROR(SUBSTITUTE(INDEX(Data!$A69:$H69,,MATCH(FALSE,ISERROR(SEARCH(A$1&\"=\",Data!$A69:$H69)),0)),A$1&\"=\",\"\"),\"\")","v":""},{"$f":"IFERROR(SUBSTITUTE(INDEX(Data!$A69:$H69,,MATCH(FALSE,ISERROR(SEARCH(B$1&\"=\",Data!$A69:$H69)),0)),B$1&\"=\",\"\"),\"\")","v":""},{"$f":"IFERROR(SUBSTITUTE(INDEX(Data!$A69:$H69,,MATCH(FALSE,ISERROR(SEARCH(C$1&\"=\",Data!$A69:$H69)),0)),C$1&\"=\",\"\"),\"\")","v":""},{"$f":"IFERROR(SUBSTITUTE(INDEX(Data!$A69:$H69,,MATCH(FALSE,ISERROR(SEARCH(D$1&\"=\",Data!$A69:$H69)),0)),D$1&\"=\",\"\"),\"\")","v":""},{"$f":"IFERROR(SUBSTITUTE(INDEX(Data!$A69:$H69,,MATCH(FALSE,ISERROR(SEARCH(E$1&\"=\",Data!$A69:$H69)),0)),E$1&\"=\",\"\"),\"\")","v":""},{"$f":"IFERROR(SUBSTITUTE(INDEX(Data!$A69:$H69,,MATCH(FALSE,ISERROR(SEARCH(F$1&\"=\",Data!$A69:$H69)),0)),F$1&\"=\",\"\"),\"\")","v":""},{"$f":"IFERROR(SUBSTITUTE(INDEX(Data!$A69:$H69,,MATCH(FALSE,ISERROR(SEARCH(G$1&\"=\",Data!$A69:$H69)),0)),G$1&\"=\",\"\"),\"\")","v":""},{"$f":"IFERROR(SUBSTITUTE(INDEX(Data!$A69:$H69,,MATCH(FALSE,ISERROR(SEARCH(H$1&\"=\",Data!$A69:$H69)),0)),H$1&\"=\",\"\"),\"\")","v":""},{"$f":"IFERROR(SUBSTITUTE(INDEX(Data!$A69:$H69,,MATCH(FALSE,ISERROR(SEARCH(I$1&\"=\",Data!$A69:$H69)),0)),I$1&\"=\",\"\"),\"\")","v":""},{"$f":"IFERROR(SUBSTITUTE(INDEX(Data!$A69:$H69,,MATCH(FALSE,ISERROR(SEARCH(J$1&\"=\",Data!$A69:$H69)),0)),J$1&\"=\",\"\"),\"\")","v":""}]
[{"$f":"IFERROR(SUBSTITUTE(INDEX(Data!$A70:$H70,,MATCH(FALSE,ISERROR(SEARCH(A$1&\"=\",Data!$A70:$H70)),0)),A$1&\"=\",\"\"),\"\")","v":""},{"$f":"IFERROR(SUBSTITUTE(INDEX(Data!$A70:$H70,,MATCH(FALSE,ISERROR(SEARCH(B$1&\"=\",Data!$A70:$H70)),0)),B$1&\"=\",\"\"),\"\")","v":""},{"$f":"IFERROR(SUBSTITUTE(INDEX(Data!$A70:$H70,,MATCH(FALSE,ISERROR(SEARCH(C$1&\"=\",Data!$A70:$H70)),0)),C$1&\"=\",\"\"),\"\")","v":""},{"$f":"IFERROR(SUBSTITUTE(INDEX(Data!$A70:$H70,,MATCH(FALSE,ISERROR(SEARCH(D$1&\"=\",Data!$A70:$H70)),0)),D$1&\"=\",\"\"),\"\")","v":""},{"$f":"IFERROR(SUBSTITUTE(INDEX(Data!$A70:$H70,,MATCH(FALSE,ISERROR(SEARCH(E$1&\"=\",Data!$A70:$H70)),0)),E$1&\"=\",\"\"),\"\")","v":""},{"$f":"IFERROR(SUBSTITUTE(INDEX(Data!$A70:$H70,,MATCH(FALSE,ISERROR(SEARCH(F$1&\"=\",Data!$A70:$H70)),0)),F$1&\"=\",\"\"),\"\")","v":""},{"$f":"IFERROR(SUBSTITUTE(INDEX(Data!$A70:$H70,,MATCH(FALSE,ISERROR(SEARCH(G$1&\"=\",Data!$A70:$H70)),0)),G$1&\"=\",\"\"),\"\")","v":""},{"$f":"IFERROR(SUBSTITUTE(INDEX(Data!$A70:$H70,,MATCH(FALSE,ISERROR(SEARCH(H$1&\"=\",Data!$A70:$H70)),0)),H$1&\"=\",\"\"),\"\")","v":""},{"$f":"IFERROR(SUBSTITUTE(INDEX(Data!$A70:$H70,,MATCH(FALSE,ISERROR(SEARCH(I$1&\"=\",Data!$A70:$H70)),0)),I$1&\"=\",\"\"),\"\")","v":""},{"$f":"IFERROR(SUBSTITUTE(INDEX(Data!$A70:$H70,,MATCH(FALSE,ISERROR(SEARCH(J$1&\"=\",Data!$A70:$H70)),0)),J$1&\"=\",\"\"),\"\")","v":""}]
[{"$f":"IFERROR(SUBSTITUTE(INDEX(Data!$A71:$H71,,MATCH(FALSE,ISERROR(SEARCH(A$1&\"=\",Data!$A71:$H71)),0)),A$1&\"=\",\"\"),\"\")","v":""},{"$f":"IFERROR(SUBSTITUTE(INDEX(Data!$A71:$H71,,MATCH(FALSE,ISERROR(SEARCH(B$1&\"=\",Data!$A71:$H71)),0)),B$1&\"=\",\"\"),\"\")","v":""},{"$f":"IFERROR(SUBSTITUTE(INDEX(Data!$A71:$H71,,MATCH(FALSE,ISERROR(SEARCH(C$1&\"=\",Data!$A71:$H71)),0)),C$1&\"=\",\"\"),\"\")","v":""},{"$f":"IFERROR(SUBSTITUTE(INDEX(Data!$A71:$H71,,MATCH(FALSE,ISERROR(SEARCH(D$1&\"=\",Data!$A71:$H71)),0)),D$1&\"=\",\"\"),\"\")","v":""},{"$f":"IFERROR(SUBSTITUTE(INDEX(Data!$A71:$H71,,MATCH(FALSE,ISERROR(SEARCH(E$1&\"=\",Data!$A71:$H71)),0)),E$1&\"=\",\"\"),\"\")","v":""},{"$f":"IFERROR(SUBSTITUTE(INDEX(Data!$A71:$H71,,MATCH(FALSE,ISERROR(SEARCH(F$1&\"=\",Data!$A71:$H71)),0)),F$1&\"=\",\"\"),\"\")","v":""},{"$f":"IFERROR(SUBSTITUTE(INDEX(Data!$A71:$H71,,MATCH(FALSE,ISERROR(SEARCH(G$1&\"=\",Data!$A71:$H71)),0)),G$1&\"=\",\"\"),\"\")","v":""},{"$f":"IFERROR(SUBSTITUTE(INDEX(Data!$A71:$H71,,MATCH(FALSE,ISERROR(SEARCH(H$1&\"=\",Data!$A71:$H71)),0)),H$1&\"=\",\"\"),\"\")","v":""},{"$f":"IFERROR(SUBSTITUTE(INDEX(Data!$A71:$H71,,MATCH(FALSE,ISERROR(SEARCH(I$1&\"=\",Data!$A71:$H71)),0)),I$1&\"=\",\"\"),\"\")","v":""},{"$f":"IFERROR(SUBSTITUTE(INDEX(Data!$A71:$H71,,MATCH(FALSE,ISERROR(SEARCH(J$1&\"=\",Data!$A71:$H71)),0)),J$1&\"=\",\"\"),\"\")","v":""}]
[{"$f":"IFERROR(SUBSTITUTE(INDEX(Data!$A72:$H72,,MATCH(FALSE,ISERROR(SEARCH(A$1&\"=\",Data!$A72:$H72)),0)),A$1&\"=\",\"\"),\"\")","v":""},{"$f":"IFERROR(SUBSTITUTE(INDEX(Data!$A72:$H72,,MATCH(FALSE,ISERROR(SEARCH(B$1&\"=\",Data!$A72:$H72)),0)),B$1&\"=\",\"\"),\"\")","v":""},{"$f":"IFERROR(SUBSTITUTE(INDEX(Data!$A72:$H72,,MATCH(FALSE,ISERROR(SEARCH(C$1&\"=\",Data!$A72:$H72)),0)),C$1&\"=\",\"\"),\"\")","v":""},{"$f":"IFERROR(SUBSTITUTE(INDEX(Data!$A72:$H72,,MATCH(FALSE,ISERROR(SEARCH(D$1&\"=\",Data!$A72:$H72)),0)),D$1&\"=\",\"\"),\"\")","v":""},{"$f":"IFERROR(SUBSTITUTE(INDEX(Data!$A72:$H72,,MATCH(FALSE,ISERROR(SEARCH(E$1&\"=\",Data!$A72:$H72)),0)),E$1&\"=\",\"\"),\"\")","v":""},{"$f":"IFERROR(SUBSTITUTE(INDEX(Data!$A72:$H72,,MATCH(FALSE,ISERROR(SEARCH(F$1&\"=\",Data!$A72:$H72)),0)),F$1&\"=\",\"\"),\"\")","v":""},{"$f":"IFERROR(SUBSTITUTE(INDEX(Data!$A72:$H72,,MATCH(FALSE,ISERROR(SEARCH(G$1&\"=\",Data!$A72:$H72)),0)),G$1&\"=\",\"\"),\"\")","v":""},{"$f":"IFERROR(SUBSTITUTE(INDEX(Data!$A72:$H72,,MATCH(FALSE,ISERROR(SEARCH(H$1&\"=\",Data!$A72:$H72)),0)),H$1&\"=\",\"\"),\"\")","v":""},{"$f":"IFERROR(SUBSTITUTE(INDEX(Data!$A72:$H72,,MATCH(FALSE,ISERROR(SEARCH(I$1&\"=\",Data!$A72:$H72)),0)),I$1&\"=\",\"\"),\"\")","v":""},{"$f":"IFERROR(SUBSTITUTE(INDEX(Data!$A72:$H72,,MATCH(FALSE,ISERROR(SEARCH(J$1&\"=\",Data!$A72:$H72)),0)),J$1&\"=\",\"\"),\"\")","v":""}]
[{"$f":"IFERROR(SUBSTITUTE(INDEX(Data!$A73:$H73,,MATCH(FALSE,ISERROR(SEARCH(A$1&\"=\",Data!$A73:$H73)),0)),A$1&\"=\",\"\"),\"\")","v":""},{"$f":"IFERROR(SUBSTITUTE(INDEX(Data!$A73:$H73,,MATCH(FALSE,ISERROR(SEARCH(B$1&\"=\",Data!$A73:$H73)),0)),B$1&\"=\",\"\"),\"\")","v":""},{"$f":"IFERROR(SUBSTITUTE(INDEX(Data!$A73:$H73,,MATCH(FALSE,ISERROR(SEARCH(C$1&\"=\",Data!$A73:$H73)),0)),C$1&\"=\",\"\"),\"\")","v":""},{"$f":"IFERROR(SUBSTITUTE(INDEX(Data!$A73:$H73,,MATCH(FALSE,ISERROR(SEARCH(D$1&\"=\",Data!$A73:$H73)),0)),D$1&\"=\",\"\"),\"\")","v":""},{"$f":"IFERROR(SUBSTITUTE(INDEX(Data!$A73:$H73,,MATCH(FALSE,ISERROR(SEARCH(E$1&\"=\",Data!$A73:$H73)),0)),E$1&\"=\",\"\"),\"\")","v":""},{"$f":"IFERROR(SUBSTITUTE(INDEX(Data!$A73:$H73,,MATCH(FALSE,ISERROR(SEARCH(F$1&\"=\",Data!$A73:$H73)),0)),F$1&\"=\",\"\"),\"\")","v":""},{"$f":"IFERROR(SUBSTITUTE(INDEX(Data!$A73:$H73,,MATCH(FALSE,ISERROR(SEARCH(G$1&\"=\",Data!$A73:$H73)),0)),G$1&\"=\",\"\"),\"\")","v":""},{"$f":"IFERROR(SUBSTITUTE(INDEX(Data!$A73:$H73,,MATCH(FALSE,ISERROR(SEARCH(H$1&\"=\",Data!$A73:$H73)),0)),H$1&\"=\",\"\"),\"\")","v":""},{"$f":"IFERROR(SUBSTITUTE(INDEX(Data!$A73:$H73,,MATCH(FALSE,ISERROR(SEARCH(I$1&\"=\",Data!$A73:$H73)),0)),I$1&\"=\",\"\"),\"\")","v":""},{"$f":"IFERROR(SUBSTITUTE(INDEX(Data!$A73:$H73,,MATCH(FALSE,ISERROR(SEARCH(J$1&\"=\",Data!$A73:$H73)),0)),J$1&\"=\",\"\"),\"\")","v":""}]
[{"$f":"IFERROR(SUBSTITUTE(INDEX(Data!$A74:$H74,,MATCH(FALSE,ISERROR(SEARCH(A$1&\"=\",Data!$A74:$H74)),0)),A$1&\"=\",\"\"),\"\")","v":""},{"$f":"IFERROR(SUBSTITUTE(INDEX(Data!$A74:$H74,,MATCH(FALSE,ISERROR(SEARCH(B$1&\"=\",Data!$A74:$H74)),0)),B$1&\"=\",\"\"),\"\")","v":""},{"$f":"IFERROR(SUBSTITUTE(INDEX(Data!$A74:$H74,,MATCH(FALSE,ISERROR(SEARCH(C$1&\"=\",Data!$A74:$H74)),0)),C$1&\"=\",\"\"),\"\")","v":""},{"$f":"IFERROR(SUBSTITUTE(INDEX(Data!$A74:$H74,,MATCH(FALSE,ISERROR(SEARCH(D$1&\"=\",Data!$A74:$H74)),0)),D$1&\"=\",\"\"),\"\")","v":""},{"$f":"IFERROR(SUBSTITUTE(INDEX(Data!$A74:$H74,,MATCH(FALSE,ISERROR(SEARCH(E$1&\"=\",Data!$A74:$H74)),0)),E$1&\"=\",\"\"),\"\")","v":""},{"$f":"IFERROR(SUBSTITUTE(INDEX(Data!$A74:$H74,,MATCH(FALSE,ISERROR(SEARCH(F$1&\"=\",Data!$A74:$H74)),0)),F$1&\"=\",\"\"),\"\")","v":""},{"$f":"IFERROR(SUBSTITUTE(INDEX(Data!$A74:$H74,,MATCH(FALSE,ISERROR(SEARCH(G$1&\"=\",Data!$A74:$H74)),0)),G$1&\"=\",\"\"),\"\")","v":""},{"$f":"IFERROR(SUBSTITUTE(INDEX(Data!$A74:$H74,,MATCH(FALSE,ISERROR(SEARCH(H$1&\"=\",Data!$A74:$H74)),0)),H$1&\"=\",\"\"),\"\")","v":""},{"$f":"IFERROR(SUBSTITUTE(INDEX(Data!$A74:$H74,,MATCH(FALSE,ISERROR(SEARCH(I$1&\"=\",Data!$A74:$H74)),0)),I$1&\"=\",\"\"),\"\")","v":""},{"$f":"IFERROR(SUBSTITUTE(INDEX(Data!$A74:$H74,,MATCH(FALSE,ISERROR(SEARCH(J$1&\"=\",Data!$A74:$H74)),0)),J$1&\"=\",\"\"),\"\")","v":""}]
[{"$f":"IFERROR(SUBSTITUTE(INDEX(Data!$A75:$H75,,MATCH(FALSE,ISERROR(SEARCH(A$1&\"=\",Data!$A75:$H75)),0)),A$1&\"=\",\"\"),\"\")","v":""},{"$f":"IFERROR(SUBSTITUTE(INDEX(Data!$A75:$H75,,MATCH(FALSE,ISERROR(SEARCH(B$1&\"=\",Data!$A75:$H75)),0)),B$1&\"=\",\"\"),\"\")","v":""},{"$f":"IFERROR(SUBSTITUTE(INDEX(Data!$A75:$H75,,MATCH(FALSE,ISERROR(SEARCH(C$1&\"=\",Data!$A75:$H75)),0)),C$1&\"=\",\"\"),\"\")","v":""},{"$f":"IFERROR(SUBSTITUTE(INDEX(Data!$A75:$H75,,MATCH(FALSE,ISERROR(SEARCH(D$1&\"=\",Data!$A75:$H75)),0)),D$1&\"=\",\"\"),\"\")","v":""},{"$f":"IFERROR(SUBSTITUTE(INDEX(Data!$A75:$H75,,MATCH(FALSE,ISERROR(SEARCH(E$1&\"=\",Data!$A75:$H75)),0)),E$1&\"=\",\"\"),\"\")","v":""},{"$f":"IFERROR(SUBSTITUTE(INDEX(Data!$A75:$H75,,MATCH(FALSE,ISERROR(SEARCH(F$1&\"=\",Data!$A75:$H75)),0)),F$1&\"=\",\"\"),\"\")","v":""},{"$f":"IFERROR(SUBSTITUTE(INDEX(Data!$A75:$H75,,MATCH(FALSE,ISERROR(SEARCH(G$1&\"=\",Data!$A75:$H75)),0)),G$1&\"=\",\"\"),\"\")","v":""},{"$f":"IFERROR(SUBSTITUTE(INDEX(Data!$A75:$H75,,MATCH(FALSE,ISERROR(SEARCH(H$1&\"=\",Data!$A75:$H75)),0)),H$1&\"=\",\"\"),\"\")","v":""},{"$f":"IFERROR(SUBSTITUTE(INDEX(Data!$A75:$H75,,MATCH(FALSE,ISERROR(SEARCH(I$1&\"=\",Data!$A75:$H75)),0)),I$1&\"=\",\"\"),\"\")","v":""},{"$f":"IFERROR(SUBSTITUTE(INDEX(Data!$A75:$H75,,MATCH(FALSE,ISERROR(SEARCH(J$1&\"=\",Data!$A75:$H75)),0)),J$1&\"=\",\"\"),\"\")","v":""}]
[{"$f":"IFERROR(SUBSTITUTE(INDEX(Data!$A76:$H76,,MATCH(FALSE,ISERROR(SEARCH(A$1&\"=\",Data!$A76:$H76)),0)),A$1&\"=\",\"\"),\"\")","v":""},{"$f":"IFERROR(SUBSTITUTE(INDEX(Data!$A76:$H76,,MATCH(FALSE,ISERROR(SEARCH(B$1&\"=\",Data!$A76:$H76)),0)),B$1&\"=\",\"\"),\"\")","v":""},{"$f":"IFERROR(SUBSTITUTE(INDEX(Data!$A76:$H76,,MATCH(FALSE,ISERROR(SEARCH(C$1&\"=\",Data!$A76:$H76)),0)),C$1&\"=\",\"\"),\"\")","v":""},{"$f":"IFERROR(SUBSTITUTE(INDEX(Data!$A76:$H76,,MATCH(FALSE,ISERROR(SEARCH(D$1&\"=\",Data!$A76:$H76)),0)),D$1&\"=\",\"\"),\"\")","v":""},{"$f":"IFERROR(SUBSTITUTE(INDEX(Data!$A76:$H76,,MATCH(FALSE,ISERROR(SEARCH(E$1&\"=\",Data!$A76:$H76)),0)),E$1&\"=\",\"\"),\"\")","v":""},{"$f":"IFERROR(SUBSTITUTE(INDEX(Data!$A76:$H76,,MATCH(FALSE,ISERROR(SEARCH(F$1&\"=\",Data!$A76:$H76)),0)),F$1&\"=\",\"\"),\"\")","v":""},{"$f":"IFERROR(SUBSTITUTE(INDEX(Data!$A76:$H76,,MATCH(FALSE,ISERROR(SEARCH(G$1&\"=\",Data!$A76:$H76)),0)),G$1&\"=\",\"\"),\"\")","v":""},{"$f":"IFERROR(SUBSTITUTE(INDEX(Data!$A76:$H76,,MATCH(FALSE,ISERROR(SEARCH(H$1&\"=\",Data!$A76:$H76)),0)),H$1&\"=\",\"\"),\"\")","v":""},{"$f":"IFERROR(SUBSTITUTE(INDEX(Data!$A76:$H76,,MATCH(FALSE,ISERROR(SEARCH(I$1&\"=\",Data!$A76:$H76)),0)),I$1&\"=\",\"\"),\"\")","v":""},{"$f":"IFERROR(SUBSTITUTE(INDEX(Data!$A76:$H76,,MATCH(FALSE,ISERROR(SEARCH(J$1&\"=\",Data!$A76:$H76)),0)),J$1&\"=\",\"\"),\"\")","v":""}]
[{"$f":"IFERROR(SUBSTITUTE(INDEX(Data!$A77:$H77,,MATCH(FALSE,ISERROR(SEARCH(A$1&\"=\",Data!$A77:$H77)),0)),A$1&\"=\",\"\"),\"\")","v":""},{"$f":"IFERROR(SUBSTITUTE(INDEX(Data!$A77:$H77,,MATCH(FALSE,ISERROR(SEARCH(B$1&\"=\",Data!$A77:$H77)),0)),B$1&\"=\",\"\"),\"\")","v":""},{"$f":"IFERROR(SUBSTITUTE(INDEX(Data!$A77:$H77,,MATCH(FALSE,ISERROR(SEARCH(C$1&\"=\",Data!$A77:$H77)),0)),C$1&\"=\",\"\"),\"\")","v":""},{"$f":"IFERROR(SUBSTITUTE(INDEX(Data!$A77:$H77,,MATCH(FALSE,ISERROR(SEARCH(D$1&\"=\",Data!$A77:$H77)),0)),D$1&\"=\",\"\"),\"\")","v":""},{"$f":"IFERROR(SUBSTITUTE(INDEX(Data!$A77:$H77,,MATCH(FALSE,ISERROR(SEARCH(E$1&\"=\",Data!$A77:$H77)),0)),E$1&\"=\",\"\"),\"\")","v":""},{"$f":"IFERROR(SUBSTITUTE(INDEX(Data!$A77:$H77,,MATCH(FALSE,ISERROR(SEARCH(F$1&\"=\",Data!$A77:$H77)),0)),F$1&\"=\",\"\"),\"\")","v":""},{"$f":"IFERROR(SUBSTITUTE(INDEX(Data!$A77:$H77,,MATCH(FALSE,ISERROR(SEARCH(G$1&\"=\",Data!$A77:$H77)),0)),G$1&\"=\",\"\"),\"\")","v":""},{"$f":"IFERROR(SUBSTITUTE(INDEX(Data!$A77:$H77,,MATCH(FALSE,ISERROR(SEARCH(H$1&\"=\",Data!$A77:$H77)),0)),H$1&\"=\",\"\"),\"\")","v":""},{"$f":"IFERROR(SUBSTITUTE(INDEX(Data!$A77:$H77,,MATCH(FALSE,ISERROR(SEARCH(I$1&\"=\",Data!$A77:$H77)),0)),I$1&\"=\",\"\"),\"\")","v":""},{"$f":"IFERROR(SUBSTITUTE(INDEX(Data!$A77:$H77,,MATCH(FALSE,ISERROR(SEARCH(J$1&\"=\",Data!$A77:$H77)),0)),J$1&\"=\",\"\"),\"\")","v":""}]
[{"$f":"IFERROR(SUBSTITUTE(INDEX(Data!$A78:$H78,,MATCH(FALSE,ISERROR(SEARCH(A$1&\"=\",Data!$A78:$H78)),0)),A$1&\"=\",\"\"),\"\")","v":""},{"$f":"IFERROR(SUBSTITUTE(INDEX(Data!$A78:$H78,,MATCH(FALSE,ISERROR(SEARCH(B$1&\"=\",Data!$A78:$H78)),0)),B$1&\"=\",\"\"),\"\")","v":""},{"$f":"IFERROR(SUBSTITUTE(INDEX(Data!$A78:$H78,,MATCH(FALSE,ISERROR(SEARCH(C$1&\"=\",Data!$A78:$H78)),0)),C$1&\"=\",\"\"),\"\")","v":""},{"$f":"IFERROR(SUBSTITUTE(INDEX(Data!$A78:$H78,,MATCH(FALSE,ISERROR(SEARCH(D$1&\"=\",Data!$A78:$H78)),0)),D$1&\"=\",\"\"),\"\")","v":""},{"$f":"IFERROR(SUBSTITUTE(INDEX(Data!$A78:$H78,,MATCH(FALSE,ISERROR(SEARCH(E$1&\"=\",Data!$A78:$H78)),0)),E$1&\"=\",\"\"),\"\")","v":""},{"$f":"IFERROR(SUBSTITUTE(INDEX(Data!$A78:$H78,,MATCH(FALSE,ISERROR(SEARCH(F$1&\"=\",Data!$A78:$H78)),0)),F$1&\"=\",\"\"),\"\")","v":""},{"$f":"IFERROR(SUBSTITUTE(INDEX(Data!$A78:$H78,,MATCH(FALSE,ISERROR(SEARCH(G$1&\"=\",Data!$A78:$H78)),0)),G$1&\"=\",\"\"),\"\")","v":""},{"$f":"IFERROR(SUBSTITUTE(INDEX(Data!$A78:$H78,,MATCH(FALSE,ISERROR(SEARCH(H$1&\"=\",Data!$A78:$H78)),0)),H$1&\"=\",\"\"),\"\")","v":""},{"$f":"IFERROR(SUBSTITUTE(INDEX(Data!$A78:$H78,,MATCH(FALSE,ISERROR(SEARCH(I$1&\"=\",Data!$A78:$H78)),0)),I$1&\"=\",\"\"),\"\")","v":""},{"$f":"IFERROR(SUBSTITUTE(INDEX(Data!$A78:$H78,,MATCH(FALSE,ISERROR(SEARCH(J$1&\"=\",Data!$A78:$H78)),0)),J$1&\"=\",\"\"),\"\")","v":""}]
[{"$f":"IFERROR(SUBSTITUTE(INDEX(Data!$A79:$H79,,MATCH(FALSE,ISERROR(SEARCH(A$1&\"=\",Data!$A79:$H79)),0)),A$1&\"=\",\"\"),\"\")","v":""},{"$f":"IFERROR(SUBSTITUTE(INDEX(Data!$A79:$H79,,MATCH(FALSE,ISERROR(SEARCH(B$1&\"=\",Data!$A79:$H79)),0)),B$1&\"=\",\"\"),\"\")","v":""},{"$f":"IFERROR(SUBSTITUTE(INDEX(Data!$A79:$H79,,MATCH(FALSE,ISERROR(SEARCH(C$1&\"=\",Data!$A79:$H79)),0)),C$1&\"=\",\"\"),\"\")","v":""},{"$f":"IFERROR(SUBSTITUTE(INDEX(Data!$A79:$H79,,MATCH(FALSE,ISERROR(SEARCH(D$1&\"=\",Data!$A79:$H79)),0)),D$1&\"=\",\"\"),\"\")","v":""},{"$f":"IFERROR(SUBSTITUTE(INDEX(Data!$A79:$H79,,MATCH(FALSE,ISERROR(SEARCH(E$1&\"=\",Data!$A79:$H79)),0)),E$1&\"=\",\"\"),\"\")","v":""},{"$f":"IFERROR(SUBSTITUTE(INDEX(Data!$A79:$H79,,MATCH(FALSE,ISERROR(SEARCH(F$1&\"=\",Data!$A79:$H79)),0)),F$1&\"=\",\"\"),\"\")","v":""},{"$f":"IFERROR(SUBSTITUTE(INDEX(Data!$A79:$H79,,MATCH(FALSE,ISERROR(SEARCH(G$1&\"=\",Data!$A79:$H79)),0)),G$1&\"=\",\"\"),\"\")","v":""},{"$f":"IFERROR(SUBSTITUTE(INDEX(Data!$A79:$H79,,MATCH(FALSE,ISERROR(SEARCH(H$1&\"=\",Data!$A79:$H79)),0)),H$1&\"=\",\"\"),\"\")","v":""},{"$f":"IFERROR(SUBSTITUTE(INDEX(Data!$A79:$H79,,MATCH(FALSE,ISERROR(SEARCH(I$1&\"=\",Data!$A79:$H79)),0)),I$1&\"=\",\"\"),\"\")","v":""},{"$f":"IFERROR(SUBSTITUTE(INDEX(Data!$A79:$H79,,MATCH(FALSE,ISERROR(SEARCH(J$1&\"=\",Data!$A79:$H79)),0)),J$1&\"=\",\"\"),\"\")","v":""}]
[{"$f":"IFERROR(SUBSTITUTE(INDEX(Data!$A80:$H80,,MATCH(FALSE,ISERROR(SEARCH(A$1&\"=\",Data!$A80:$H80)),0)),A$1&\"=\",\"\"),\"\")","v":""},{"$f":"IFERROR(SUBSTITUTE(INDEX(Data!$A80:$H80,,MATCH(FALSE,ISERROR(SEARCH(B$1&\"=\",Data!$A80:$H80)),0)),B$1&\"=\",\"\"),\"\")","v":""},{"$f":"IFERROR(SUBSTITUTE(INDEX(Data!$A80:$H80,,MATCH(FALSE,ISERROR(SEARCH(C$1&\"=\",Data!$A80:$H80)),0)),C$1&\"=\",\"\"),\"\")","v":""},{"$f":"IFERROR(SUBSTITUTE(INDEX(Data!$A80:$H80,,MATCH(FALSE,ISERROR(SEARCH(D$1&\"=\",Data!$A80:$H80)),0)),D$1&\"=\",\"\"),\"\")","v":""},{"$f":"IFERROR(SUBSTITUTE(INDEX(Data!$A80:$H80,,MATCH(FALSE,ISERROR(SEARCH(E$1&\"=\",Data!$A80:$H80)),0)),E$1&\"=\",\"\"),\"\")","v":""},{"$f":"IFERROR(SUBSTITUTE(INDEX(Data!$A80:$H80,,MATCH(FALSE,ISERROR(SEARCH(F$1&\"=\",Data!$A80:$H80)),0)),F$1&\"=\",\"\"),\"\")","v":""},{"$f":"IFERROR(SUBSTITUTE(INDEX(Data!$A80:$H80,,MATCH(FALSE,ISERROR(SEARCH(G$1&\"=\",Data!$A80:$H80)),0)),G$1&\"=\",\"\"),\"\")","v":""},{"$f":"IFERROR(SUBSTITUTE(INDEX(Data!$A80:$H80,,MATCH(FALSE,ISERROR(SEARCH(H$1&\"=\",Data!$A80:$H80)),0)),H$1&\"=\",\"\"),\"\")","v":""},{"$f":"IFERROR(SUBSTITUTE(INDEX(Data!$A80:$H80,,MATCH(FALSE,ISERROR(SEARCH(I$1&\"=\",Data!$A80:$H80)),0)),I$1&\"=\",\"\"),\"\")","v":""},{"$f":"IFERROR(SUBSTITUTE(INDEX(Data!$A80:$H80,,MATCH(FALSE,ISERROR(SEARCH(J$1&\"=\",Data!$A80:$H80)),0)),J$1&\"=\",\"\"),\"\")","v":""}]
[{"$f":"IFERROR(SUBSTITUTE(INDEX(Data!$A81:$H81,,MATCH(FALSE,ISERROR(SEARCH(A$1&\"=\",Data!$A81:$H81)),0)),A$1&\"=\",\"\"),\"\")","v":""},{"$f":"IFERROR(SUBSTITUTE(INDEX(Data!$A81:$H81,,MATCH(FALSE,ISERROR(SEARCH(B$1&\"=\",Data!$A81:$H81)),0)),B$1&\"=\",\"\"),\"\")","v":""},{"$f":"IFERROR(SUBSTITUTE(INDEX(Data!$A81:$H81,,MATCH(FALSE,ISERROR(SEARCH(C$1&\"=\",Data!$A81:$H81)),0)),C$1&\"=\",\"\"),\"\")","v":""},{"$f":"IFERROR(SUBSTITUTE(INDEX(Data!$A81:$H81,,MATCH(FALSE,ISERROR(SEARCH(D$1&\"=\",Data!$A81:$H81)),0)),D$1&\"=\",\"\"),\"\")","v":""},{"$f":"IFERROR(SUBSTITUTE(INDEX(Data!$A81:$H81,,MATCH(FALSE,ISERROR(SEARCH(E$1&\"=\",Data!$A81:$H81)),0)),E$1&\"=\",\"\"),\"\")","v":""},{"$f":"IFERROR(SUBSTITUTE(INDEX(Data!$A81:$H81,,MATCH(FALSE,ISERROR(SEARCH(F$1&\"=\",Data!$A81:$H81)),0)),F$1&\"=\",\"\"),\"\")","v":""},{"$f":"IFERROR(SUBSTITUTE(INDEX(Data!$A81:$H81,,MATCH(FALSE,ISERROR(SEARCH(G$1&\"=\",Data!$A81:$H81)),0)),G$1&\"=\",\"\"),\"\")","v":""},{"$f":"IFERROR(SUBSTITUTE(INDEX(Data!$A81:$H81,,MATCH(FALSE,ISERROR(SEARCH(H$1&\"=\",Data!$A81:$H81)),0)),H$1&\"=\",\"\"),\"\")","v":""},{"$f":"IFERROR(SUBSTITUTE(INDEX(Data!$A81:$H81,,MATCH(FALSE,ISERROR(SEARCH(I$1&\"=\",Data!$A81:$H81)),0)),I$1&\"=\",\"\"),\"\")","v":""},{"$f":"IFERROR(SUBSTITUTE(INDEX(Data!$A81:$H81,,MATCH(FALSE,ISERROR(SEARCH(J$1&\"=\",Data!$A81:$H81)),0)),J$1&\"=\",\"\"),\"\")","v":""}]
[{"$f":"IFERROR(SUBSTITUTE(INDEX(Data!$A82:$H82,,MATCH(FALSE,ISERROR(SEARCH(A$1&\"=\",Data!$A82:$H82)),0)),A$1&\"=\",\"\"),\"\")","v":""},{"$f":"IFERROR(SUBSTITUTE(INDEX(Data!$A82:$H82,,MATCH(FALSE,ISERROR(SEARCH(B$1&\"=\",Data!$A82:$H82)),0)),B$1&\"=\",\"\"),\"\")","v":""},{"$f":"IFERROR(SUBSTITUTE(INDEX(Data!$A82:$H82,,MATCH(FALSE,ISERROR(SEARCH(C$1&\"=\",Data!$A82:$H82)),0)),C$1&\"=\",\"\"),\"\")","v":""},{"$f":"IFERROR(SUBSTITUTE(INDEX(Data!$A82:$H82,,MATCH(FALSE,ISERROR(SEARCH(D$1&\"=\",Data!$A82:$H82)),0)),D$1&\"=\",\"\"),\"\")","v":""},{"$f":"IFERROR(SUBSTITUTE(INDEX(Data!$A82:$H82,,MATCH(FALSE,ISERROR(SEARCH(E$1&\"=\",Data!$A82:$H82)),0)),E$1&\"=\",\"\"),\"\")","v":""},{"$f":"IFERROR(SUBSTITUTE(INDEX(Data!$A82:$H82,,MATCH(FALSE,ISERROR(SEARCH(F$1&\"=\",Data!$A82:$H82)),0)),F$1&\"=\",\"\"),\"\")","v":""},{"$f":"IFERROR(SUBSTITUTE(INDEX(Data!$A82:$H82,,MATCH(FALSE,ISERROR(SEARCH(G$1&\"=\",Data!$A82:$H82)),0)),G$1&\"=\",\"\"),\"\")","v":""},{"$f":"IFERROR(SUBSTITUTE(INDEX(Data!$A82:$H82,,MATCH(FALSE,ISERROR(SEARCH(H$1&\"=\",Data!$A82:$H82)),0)),H$1&\"=\",\"\"),\"\")","v":""},{"$f":"IFERROR(SUBSTITUTE(INDEX(Data!$A82:$H82,,MATCH(FALSE,ISERROR(SEARCH(I$1&\"=\",Data!$A82:$H82)),0)),I$1&\"=\",\"\"),\"\")","v":""},{"$f":"IFERROR(SUBSTITUTE(INDEX(Data!$A82:$H82,,MATCH(FALSE,ISERROR(SEARCH(J$1&\"=\",Data!$A82:$H82)),0)),J$1&\"=\",\"\"),\"\")","v":""}]
[{"$f":"IFERROR(SUBSTITUTE(INDEX(Data!$A83:$H83,,MATCH(FALSE,ISERROR(SEARCH(A$1&\"=\",Data!$A83:$H83)),0)),A$1&\"=\",\"\"),\"\")","v":""},{"$f":"IFERROR(SUBSTITUTE(INDEX(Data!$A83:$H83,,MATCH(FALSE,ISERROR(SEARCH(B$1&\"=\",Data!$A83:$H83)),0)),B$1&\"=\",\"\"),\"\")","v":""},{"$f":"IFERROR(SUBSTITUTE(INDEX(Data!$A83:$H83,,MATCH(FALSE,ISERROR(SEARCH(C$1&\"=\",Data!$A83:$H83)),0)),C$1&\"=\",\"\"),\"\")","v":""},{"$f":"IFERROR(SUBSTITUTE(INDEX(Data!$A83:$H83,,MATCH(FALSE,ISERROR(SEARCH(D$1&\"=\",Data!$A83:$H83)),0)),D$1&\"=\",\"\"),\"\")","v":""},{"$f":"IFERROR(SUBSTITUTE(INDEX(Data!$A83:$H83,,MATCH(FALSE,ISERROR(SEARCH(E$1&\"=\",Data!$A83:$H83)),0)),E$1&\"=\",\"\"),\"\")","v":""},{"$f":"IFERROR(SUBSTITUTE(INDEX(Data!$A83:$H83,,MATCH(FALSE,ISERROR(SEARCH(F$1&\"=\",Data!$A83:$H83)),0)),F$1&\"=\",\"\"),\"\")","v":""},{"$f":"IFERROR(SUBSTITUTE(INDEX(Data!$A83:$H83,,MATCH(FALSE,ISERROR(SEARCH(G$1&\"=\",Data!$A83:$H83)),0)),G$1&\"=\",\"\"),\"\")","v":""},{"$f":"IFERROR(SUBSTITUTE(INDEX(Data!$A83:$H83,,MATCH(FALSE,ISERROR(SEARCH(H$1&\"=\",Data!$A83:$H83)),0)),H$1&\"=\",\"\"),\"\")","v":""},{"$f":"IFERROR(SUBSTITUTE(INDEX(Data!$A83:$H83,,MATCH(FALSE,ISERROR(SEARCH(I$1&\"=\",Data!$A83:$H83)),0)),I$1&\"=\",\"\"),\"\")","v":""},{"$f":"IFERROR(SUBSTITUTE(INDEX(Data!$A83:$H83,,MATCH(FALSE,ISERROR(SEARCH(J$1&\"=\",Data!$A83:$H83)),0)),J$1&\"=\",\"\"),\"\")","v":""}]
[{"$f":"IFERROR(SUBSTITUTE(INDEX(Data!$A84:$H84,,MATCH(FALSE,ISERROR(SEARCH(A$1&\"=\",Data!$A84:$H84)),0)),A$1&\"=\",\"\"),\"\")","v":""},{"$f":"IFERROR(SUBSTITUTE(INDEX(Data!$A84:$H84,,MATCH(FALSE,ISERROR(SEARCH(B$1&\"=\",Data!$A84:$H84)),0)),B$1&\"=\",\"\"),\"\")","v":""},{"$f":"IFERROR(SUBSTITUTE(INDEX(Data!$A84:$H84,,MATCH(FALSE,ISERROR(SEARCH(C$1&\"=\",Data!$A84:$H84)),0)),C$1&\"=\",\"\"),\"\")","v":""},{"$f":"IFERROR(SUBSTITUTE(INDEX(Data!$A84:$H84,,MATCH(FALSE,ISERROR(SEARCH(D$1&\"=\",Data!$A84:$H84)),0)),D$1&\"=\",\"\"),\"\")","v":""},{"$f":"IFERROR(SUBSTITUTE(INDEX(Data!$A84:$H84,,MATCH(FALSE,ISERROR(SEARCH(E$1&\"=\",Data!$A84:$H84)),0)),E$1&\"=\",\"\"),\"\")","v":""},{"$f":"IFERROR(SUBSTITUTE(INDEX(Data!$A84:$H84,,MATCH(FALSE,ISERROR(SEARCH(F$1&\"=\",Data!$A84:$H84)),0)),F$1&\"=\",\"\"),\"\")","v":""},{"$f":"IFERROR(SUBSTITUTE(INDEX(Data!$A84:$H84,,MATCH(FALSE,ISERROR(SEARCH(G$1&\"=\",Data!$A84:$H84)),0)),G$1&\"=\",\"\"),\"\")","v":""},{"$f":"IFERROR(SUBSTITUTE(INDEX(Data!$A84:$H84,,MATCH(FALSE,ISERROR(SEARCH(H$1&\"=\",Data!$A84:$H84)),0)),H$1&\"=\",\"\"),\"\")","v":""},{"$f":"IFERROR(SUBSTITUTE(INDEX(Data!$A84:$H84,,MATCH(FALSE,ISERROR(SEARCH(I$1&\"=\",Data!$A84:$H84)),0)),I$1&\"=\",\"\"),\"\")","v":""},{"$f":"IFERROR(SUBSTITUTE(INDEX(Data!$A84:$H84,,MATCH(FALSE,ISERROR(SEARCH(J$1&\"=\",Data!$A84:$H84)),0)),J$1&\"=\",\"\"),\"\")","v":""}]
[{"$f":"IFERROR(SUBSTITUTE(INDEX(Data!$A85:$H85,,MATCH(FALSE,ISERROR(SEARCH(A$1&\"=\",Data!$A85:$H85)),0)),A$1&\"=\",\"\"),\"\")","v":""},{"$f":"IFERROR(SUBSTITUTE(INDEX(Data!$A85:$H85,,MATCH(FALSE,ISERROR(SEARCH(B$1&\"=\",Data!$A85:$H85)),0)),B$1&\"=\",\"\"),\"\")","v":""},{"$f":"IFERROR(SUBSTITUTE(INDEX(Data!$A85:$H85,,MATCH(FALSE,ISERROR(SEARCH(C$1&\"=\",Data!$A85:$H85)),0)),C$1&\"=\",\"\"),\"\")","v":""},{"$f":"IFERROR(SUBSTITUTE(INDEX(Data!$A85:$H85,,MATCH(FALSE,ISERROR(SEARCH(D$1&\"=\",Data!$A85:$H85)),0)),D$1&\"=\",\"\"),\"\")","v":""},{"$f":"IFERROR(SUBSTITUTE(INDEX(Data!$A85:$H85,,MATCH(FALSE,ISERROR(SEARCH(E$1&\"=\",Data!$A85:$H85)),0)),E$1&\"=\",\"\"),\"\")","v":""},{"$f":"IFERROR(SUBSTITUTE(INDEX(Data!$A85:$H85,,MATCH(FALSE,ISERROR(SEARCH(F$1&\"=\",Data!$A85:$H85)),0)),F$1&\"=\",\"\"),\"\")","v":""},{"$f":"IFERROR(SUBSTITUTE(INDEX(Data!$A85:$H85,,MATCH(FALSE,ISERROR(SEARCH(G$1&\"=\",Data!$A85:$H85)),0)),G$1&\"=\",\"\"),\"\")","v":""},{"$f":"IFERROR(SUBSTITUTE(INDEX(Data!$A85:$H85,,MATCH(FALSE,ISERROR(SEARCH(H$1&\"=\",Data!$A85:$H85)),0)),H$1&\"=\",\"\"),\"\")","v":""},{"$f":"IFERROR(SUBSTITUTE(INDEX(Data!$A85:$H85,,MATCH(FALSE,ISERROR(SEARCH(I$1&\"=\",Data!$A85:$H85)),0)),I$1&\"=\",\"\"),\"\")","v":""},{"$f":"IFERROR(SUBSTITUTE(INDEX(Data!$A85:$H85,,MATCH(FALSE,ISERROR(SEARCH(J$1&\"=\",Data!$A85:$H85)),0)),J$1&\"=\",\"\"),\"\")","v":""}]
[{"$f":"IFERROR(SUBSTITUTE(INDEX(Data!$A86:$H86,,MATCH(FALSE,ISERROR(SEARCH(A$1&\"=\",Data!$A86:$H86)),0)),A$1&\"=\",\"\"),\"\")","v":""},{"$f":"IFERROR(SUBSTITUTE(INDEX(Data!$A86:$H86,,MATCH(FALSE,ISERROR(SEARCH(B$1&\"=\",Data!$A86:$H86)),0)),B$1&\"=\",\"\"),\"\")","v":""},{"$f":"IFERROR(SUBSTITUTE(INDEX(Data!$A86:$H86,,MATCH(FALSE,ISERROR(SEARCH(C$1&\"=\",Data!$A86:$H86)),0)),C$1&\"=\",\"\"),\"\")","v":""},{"$f":"IFERROR(SUBSTITUTE(INDEX(Data!$A86:$H86,,MATCH(FALSE,ISERROR(SEARCH(D$1&\"=\",Data!$A86:$H86)),0)),D$1&\"=\",\"\"),\"\")","v":""},{"$f":"IFERROR(SUBSTITUTE(INDEX(Data!$A86:$H86,,MATCH(FALSE,ISERROR(SEARCH(E$1&\"=\",Data!$A86:$H86)),0)),E$1&\"=\",\"\"),\"\")","v":""},{"$f":"IFERROR(SUBSTITUTE(INDEX(Data!$A86:$H86,,MATCH(FALSE,ISERROR(SEARCH(F$1&\"=\",Data!$A86:$H86)),0)),F$1&\"=\",\"\"),\"\")","v":""},{"$f":"IFERROR(SUBSTITUTE(INDEX(Data!$A86:$H86,,MATCH(FALSE,ISERROR(SEARCH(G$1&\"=\",Data!$A86:$H86)),0)),G$1&\"=\",\"\"),\"\")","v":""},{"$f":"IFERROR(SUBSTITUTE(INDEX(Data!$A86:$H86,,MATCH(FALSE,ISERROR(SEARCH(H$1&\"=\",Data!$A86:$H86)),0)),H$1&\"=\",\"\"),\"\")","v":""},{"$f":"IFERROR(SUBSTITUTE(INDEX(Data!$A86:$H86,,MATCH(FALSE,ISERROR(SEARCH(I$1&\"=\",Data!$A86:$H86)),0)),I$1&\"=\",\"\"),\"\")","v":""},{"$f":"IFERROR(SUBSTITUTE(INDEX(Data!$A86:$H86,,MATCH(FALSE,ISERROR(SEARCH(J$1&\"=\",Data!$A86:$H86)),0)),J$1&\"=\",\"\"),\"\")","v":""}]
[{"$f":"IFERROR(SUBSTITUTE(INDEX(Data!$A87:$H87,,MATCH(FALSE,ISERROR(SEARCH(A$1&\"=\",Data!$A87:$H87)),0)),A$1&\"=\",\"\"),\"\")","v":""},{"$f":"IFERROR(SUBSTITUTE(INDEX(Data!$A87:$H87,,MATCH(FALSE,ISERROR(SEARCH(B$1&\"=\",Data!$A87:$H87)),0)),B$1&\"=\",\"\"),\"\")","v":""},{"$f":"IFERROR(SUBSTITUTE(INDEX(Data!$A87:$H87,,MATCH(FALSE,ISERROR(SEARCH(C$1&\"=\",Data!$A87:$H87)),0)),C$1&\"=\",\"\"),\"\")","v":""},{"$f":"IFERROR(SUBSTITUTE(INDEX(Data!$A87:$H87,,MATCH(FALSE,ISERROR(SEARCH(D$1&\"=\",Data!$A87:$H87)),0)),D$1&\"=\",\"\"),\"\")","v":""},{"$f":"IFERROR(SUBSTITUTE(INDEX(Data!$A87:$H87,,MATCH(FALSE,ISERROR(SEARCH(E$1&\"=\",Data!$A87:$H87)),0)),E$1&\"=\",\"\"),\"\")","v":""},{"$f":"IFERROR(SUBSTITUTE(INDEX(Data!$A87:$H87,,MATCH(FALSE,ISERROR(SEARCH(F$1&\"=\",Data!$A87:$H87)),0)),F$1&\"=\",\"\"),\"\")","v":""},{"$f":"IFERROR(SUBSTITUTE(INDEX(Data!$A87:$H87,,MATCH(FALSE,ISERROR(SEARCH(G$1&\"=\",Data!$A87:$H87)),0)),G$1&\"=\",\"\"),\"\")","v":""},{"$f":"IFERROR(SUBSTITUTE(INDEX(Data!$A87:$H87,,MATCH(FALSE,ISERROR(SEARCH(H$1&\"=\",Data!$A87:$H87)),0)),H$1&\"=\",\"\"),\"\")","v":""},{"$f":"IFERROR(SUBSTITUTE(INDEX(Data!$A87:$H87,,MATCH(FALSE,ISERROR(SEARCH(I$1&\"=\",Data!$A87:$H87)),0)),I$1&\"=\",\"\"),\"\")","v":""},{"$f":"IFERROR(SUBSTITUTE(INDEX(Data!$A87:$H87,,MATCH(FALSE,ISERROR(SEARCH(J$1&\"=\",Data!$A87:$H87)),0)),J$1&\"=\",\"\"),\"\")","v":""}]
[{"$f":"IFERROR(SUBSTITUTE(INDEX(Data!$A88:$H88,,MATCH(FALSE,ISERROR(SEARCH(A$1&\"=\",Data!$A88:$H88)),0)),A$1&\"=\",\"\"),\"\")","v":""},{"$f":"IFERROR(SUBSTITUTE(INDEX(Data!$A88:$H88,,MATCH(FALSE,ISERROR(SEARCH(B$1&\"=\",Data!$A88:$H88)),0)),B$1&\"=\",\"\"),\"\")","v":""},{"$f":"IFERROR(SUBSTITUTE(INDEX(Data!$A88:$H88,,MATCH(FALSE,ISERROR(SEARCH(C$1&\"=\",Data!$A88:$H88)),0)),C$1&\"=\",\"\"),\"\")","v":""},{"$f":"IFERROR(SUBSTITUTE(INDEX(Data!$A88:$H88,,MATCH(FALSE,ISERROR(SEARCH(D$1&\"=\",Data!$A88:$H88)),0)),D$1&\"=\",\"\"),\"\")","v":""},{"$f":"IFERROR(SUBSTITUTE(INDEX(Data!$A88:$H88,,MATCH(FALSE,ISERROR(SEARCH(E$1&\"=\",Data!$A88:$H88)),0)),E$1&\"=\",\"\"),\"\")","v":""},{"$f":"IFERROR(SUBSTITUTE(INDEX(Data!$A88:$H88,,MATCH(FALSE,ISERROR(SEARCH(F$1&\"=\",Data!$A88:$H88)),0)),F$1&\"=\",\"\"),\"\")","v":""},{"$f":"IFERROR(SUBSTITUTE(INDEX(Data!$A88:$H88,,MATCH(FALSE,ISERROR(SEARCH(G$1&\"=\",Data!$A88:$H88)),0)),G$1&\"=\",\"\"),\"\")","v":""},{"$f":"IFERROR(SUBSTITUTE(INDEX(Data!$A88:$H88,,MATCH(FALSE,ISERROR(SEARCH(H$1&\"=\",Data!$A88:$H88)),0)),H$1&\"=\",\"\"),\"\")","v":""},{"$f":"IFERROR(SUBSTITUTE(INDEX(Data!$A88:$H88,,MATCH(FALSE,ISERROR(SEARCH(I$1&\"=\",Data!$A88:$H88)),0)),I$1&\"=\",\"\"),\"\")","v":""},{"$f":"IFERROR(SUBSTITUTE(INDEX(Data!$A88:$H88,,MATCH(FALSE,ISERROR(SEARCH(J$1&\"=\",Data!$A88:$H88)),0)),J$1&\"=\",\"\"),\"\")","v":""}]
[{"$f":"IFERROR(SUBSTITUTE(INDEX(Data!$A89:$H89,,MATCH(FALSE,ISERROR(SEARCH(A$1&\"=\",Data!$A89:$H89)),0)),A$1&\"=\",\"\"),\"\")","v":""},{"$f":"IFERROR(SUBSTITUTE(INDEX(Data!$A89:$H89,,MATCH(FALSE,ISERROR(SEARCH(B$1&\"=\",Data!$A89:$H89)),0)),B$1&\"=\",\"\"),\"\")","v":""},{"$f":"IFERROR(SUBSTITUTE(INDEX(Data!$A89:$H89,,MATCH(FALSE,ISERROR(SEARCH(C$1&\"=\",Data!$A89:$H89)),0)),C$1&\"=\",\"\"),\"\")","v":""},{"$f":"IFERROR(SUBSTITUTE(INDEX(Data!$A89:$H89,,MATCH(FALSE,ISERROR(SEARCH(D$1&\"=\",Data!$A89:$H89)),0)),D$1&\"=\",\"\"),\"\")","v":""},{"$f":"IFERROR(SUBSTITUTE(INDEX(Data!$A89:$H89,,MATCH(FALSE,ISERROR(SEARCH(E$1&\"=\",Data!$A89:$H89)),0)),E$1&\"=\",\"\"),\"\")","v":""},{"$f":"IFERROR(SUBSTITUTE(INDEX(Data!$A89:$H89,,MATCH(FALSE,ISERROR(SEARCH(F$1&\"=\",Data!$A89:$H89)),0)),F$1&\"=\",\"\"),\"\")","v":""},{"$f":"IFERROR(SUBSTITUTE(INDEX(Data!$A89:$H89,,MATCH(FALSE,ISERROR(SEARCH(G$1&\"=\",Data!$A89:$H89)),0)),G$1&\"=\",\"\"),\"\")","v":""},{"$f":"IFERROR(SUBSTITUTE(INDEX(Data!$A89:$H89,,MATCH(FALSE,ISERROR(SEARCH(H$1&\"=\",Data!$A89:$H89)),0)),H$1&\"=\",\"\"),\"\")","v":""},{"$f":"IFERROR(SUBSTITUTE(INDEX(Data!$A89:$H89,,MATCH(FALSE,ISERROR(SEARCH(I$1&\"=\",Data!$A89:$H89)),0)),I$1&\"=\",\"\"),\"\")","v":""},{"$f":"IFERROR(SUBSTITUTE(INDEX(Data!$A89:$H89,,MATCH(FALSE,ISERROR(SEARCH(J$1&\"=\",Data!$A89:$H89)),0)),J$1&\"=\",\"\"),\"\")","v":""}]
[{"$f":"IFERROR(SUBSTITUTE(INDEX(Data!$A90:$H90,,MATCH(FALSE,ISERROR(SEARCH(A$1&\"=\",Data!$A90:$H90)),0)),A$1&\"=\",\"\"),\"\")","v":""},{"$f":"IFERROR(SUBSTITUTE(INDEX(Data!$A90:$H90,,MATCH(FALSE,ISERROR(SEARCH(B$1&\"=\",Data!$A90:$H90)),0)),B$1&\"=\",\"\"),\"\")","v":""},{"$f":"IFERROR(SUBSTITUTE(INDEX(Data!$A90:$H90,,MATCH(FALSE,ISERROR(SEARCH(C$1&\"=\",Data!$A90:$H90)),0)),C$1&\"=\",\"\"),\"\")","v":""},{"$f":"IFERROR(SUBSTITUTE(INDEX(Data!$A90:$H90,,MATCH(FALSE,ISERROR(SEARCH(D$1&\"=\",Data!$A90:$H90)),0)),D$1&\"=\",\"\"),\"\")","v":""},{"$f":"IFERROR(SUBSTITUTE(INDEX(Data!$A90:$H90,,MATCH(FALSE,ISERROR(SEARCH(E$1&\"=\",Data!$A90:$H90)),0)),E$1&\"=\",\"\"),\"\")","v":""},{"$f":"IFERROR(SUBSTITUTE(INDEX(Data!$A90:$H90,,MATCH(FALSE,ISERROR(SEARCH(F$1&\"=\",Data!$A90:$H90)),0)),F$1&\"=\",\"\"),\"\")","v":""},{"$f":"IFERROR(SUBSTITUTE(INDEX(Data!$A90:$H90,,MATCH(FALSE,ISERROR(SEARCH(G$1&\"=\",Data!$A90:$H90)),0)),G$1&\"=\",\"\"),\"\")","v":""},{"$f":"IFERROR(SUBSTITUTE(INDEX(Data!$A90:$H90,,MATCH(FALSE,ISERROR(SEARCH(H$1&\"=\",Data!$A90:$H90)),0)),H$1&\"=\",\"\"),\"\")","v":""},{"$f":"IFERROR(SUBSTITUTE(INDEX(Data!$A90:$H90,,MATCH(FALSE,ISERROR(SEARCH(I$1&\"=\",Data!$A90:$H90)),0)),I$1&\"=\",\"\"),\"\")","v":""},{"$f":"IFERROR(SUBSTITUTE(INDEX(Data!$A90:$H90,,MATCH(FALSE,ISERROR(SEARCH(J$1&\"=\",Data!$A90:$H90)),0)),J$1&\"=\",\"\"),\"\")","v":""}]
[{"$f":"IFERROR(SUBSTITUTE(INDEX(Data!$A91:$H91,,MATCH(FALSE,ISERROR(SEARCH(A$1&\"=\",Data!$A91:$H91)),0)),A$1&\"=\",\"\"),\"\")","v":""},{"$f":"IFERROR(SUBSTITUTE(INDEX(Data!$A91:$H91,,MATCH(FALSE,ISERROR(SEARCH(B$1&\"=\",Data!$A91:$H91)),0)),B$1&\"=\",\"\"),\"\")","v":""},{"$f":"IFERROR(SUBSTITUTE(INDEX(Data!$A91:$H91,,MATCH(FALSE,ISERROR(SEARCH(C$1&\"=\",Data!$A91:$H91)),0)),C$1&\"=\",\"\"),\"\")","v":""},{"$f":"IFERROR(SUBSTITUTE(INDEX(Data!$A91:$H91,,MATCH(FALSE,ISERROR(SEARCH(D$1&\"=\",Data!$A91:$H91)),0)),D$1&\"=\",\"\"),\"\")","v":""},{"$f":"IFERROR(SUBSTITUTE(INDEX(Data!$A91:$H91,,MATCH(FALSE,ISERROR(SEARCH(E$1&\"=\",Data!$A91:$H91)),0)),E$1&\"=\",\"\"),\"\")","v":""},{"$f":"IFERROR(SUBSTITUTE(INDEX(Data!$A91:$H91,,MATCH(FALSE,ISERROR(SEARCH(F$1&\"=\",Data!$A91:$H91)),0)),F$1&\"=\",\"\"),\"\")","v":""},{"$f":"IFERROR(SUBSTITUTE(INDEX(Data!$A91:$H91,,MATCH(FALSE,ISERROR(SEARCH(G$1&\"=\",Data!$A91:$H91)),0)),G$1&\"=\",\"\"),\"\")","v":""},{"$f":"IFERROR(SUBSTITUTE(INDEX(Data!$A91:$H91,,MATCH(FALSE,ISERROR(SEARCH(H$1&\"=\",Data!$A91:$H91)),0)),H$1&\"=\",\"\"),\"\")","v":""},{"$f":"IFERROR(SUBSTITUTE(INDEX(Data!$A91:$H91,,MATCH(FALSE,ISERROR(SEARCH(I$1&\"=\",Data!$A91:$H91)),0)),I$1&\"=\",\"\"),\"\")","v":""},{"$f":"IFERROR(SUBSTITUTE(INDEX(Data!$A91:$H91,,MATCH(FALSE,ISERROR(SEARCH(J$1&\"=\",Data!$A91:$H91)),0)),J$1&\"=\",\"\"),\"\")","v":""}]
[{"$f":"IFERROR(SUBSTITUTE(INDEX(Data!$A92:$H92,,MATCH(FALSE,ISERROR(SEARCH(A$1&\"=\",Data!$A92:$H92)),0)),A$1&\"=\",\"\"),\"\")","v":""},{"$f":"IFERROR(SUBSTITUTE(INDEX(Data!$A92:$H92,,MATCH(FALSE,ISERROR(SEARCH(B$1&\"=\",Data!$A92:$H92)),0)),B$1&\"=\",\"\"),\"\")","v":""},{"$f":"IFERROR(SUBSTITUTE(INDEX(Data!$A92:$H92,,MATCH(FALSE,ISERROR(SEARCH(C$1&\"=\",Data!$A92:$H92)),0)),C$1&\"=\",\"\"),\"\")","v":""},{"$f":"IFERROR(SUBSTITUTE(INDEX(Data!$A92:$H92,,MATCH(FALSE,ISERROR(SEARCH(D$1&\"=\",Data!$A92:$H92)),0)),D$1&\"=\",\"\"),\"\")","v":""},{"$f":"IFERROR(SUBSTITUTE(INDEX(Data!$A92:$H92,,MATCH(FALSE,ISERROR(SEARCH(E$1&\"=\",Data!$A92:$H92)),0)),E$1&\"=\",\"\"),\"\")","v":""},{"$f":"IFERROR(SUBSTITUTE(INDEX(Data!$A92:$H92,,MATCH(FALSE,ISERROR(SEARCH(F$1&\"=\",Data!$A92:$H92)),0)),F$1&\"=\",\"\"),\"\")","v":""},{"$f":"IFERROR(SUBSTITUTE(INDEX(Data!$A92:$H92,,MATCH(FALSE,ISERROR(SEARCH(G$1&\"=\",Data!$A92:$H92)),0)),G$1&\"=\",\"\"),\"\")","v":""},{"$f":"IFERROR(SUBSTITUTE(INDEX(Data!$A92:$H92,,MATCH(FALSE,ISERROR(SEARCH(H$1&\"=\",Data!$A92:$H92)),0)),H$1&\"=\",\"\"),\"\")","v":""},{"$f":"IFERROR(SUBSTITUTE(INDEX(Data!$A92:$H92,,MATCH(FALSE,ISERROR(SEARCH(I$1&\"=\",Data!$A92:$H92)),0)),I$1&\"=\",\"\"),\"\")","v":""},{"$f":"IFERROR(SUBSTITUTE(INDEX(Data!$A92:$H92,,MATCH(FALSE,ISERROR(SEARCH(J$1&\"=\",Data!$A92:$H92)),0)),J$1&\"=\",\"\"),\"\")","v":""}]
[{"$f":"IFERROR(SUBSTITUTE(INDEX(Data!$A93:$H93,,MATCH(FALSE,ISERROR(SEARCH(A$1&\"=\",Data!$A93:$H93)),0)),A$1&\"=\",\"\"),\"\")","v":""},{"$f":"IFERROR(SUBSTITUTE(INDEX(Data!$A93:$H93,,MATCH(FALSE,ISERROR(SEARCH(B$1&\"=\",Data!$A93:$H93)),0)),B$1&\"=\",\"\"),\"\")","v":""},{"$f":"IFERROR(SUBSTITUTE(INDEX(Data!$A93:$H93,,MATCH(FALSE,ISERROR(SEARCH(C$1&\"=\",Data!$A93:$H93)),0)),C$1&\"=\",\"\"),\"\")","v":""},{"$f":"IFERROR(SUBSTITUTE(INDEX(Data!$A93:$H93,,MATCH(FALSE,ISERROR(SEARCH(D$1&\"=\",Data!$A93:$H93)),0)),D$1&\"=\",\"\"),\"\")","v":""},{"$f":"IFERROR(SUBSTITUTE(INDEX(Data!$A93:$H93,,MATCH(FALSE,ISERROR(SEARCH(E$1&\"=\",Data!$A93:$H93)),0)),E$1&\"=\",\"\"),\"\")","v":""},{"$f":"IFERROR(SUBSTITUTE(INDEX(Data!$A93:$H93,,MATCH(FALSE,ISERROR(SEARCH(F$1&\"=\",Data!$A93:$H93)),0)),F$1&\"=\",\"\"),\"\")","v":""},{"$f":"IFERROR(SUBSTITUTE(INDEX(Data!$A93:$H93,,MATCH(FALSE,ISERROR(SEARCH(G$1&\"=\",Data!$A93:$H93)),0)),G$1&\"=\",\"\"),\"\")","v":""},{"$f":"IFERROR(SUBSTITUTE(INDEX(Data!$A93:$H93,,MATCH(FALSE,ISERROR(SEARCH(H$1&\"=\",Data!$A93:$H93)),0)),H$1&\"=\",\"\"),\"\")","v":""},{"$f":"IFERROR(SUBSTITUTE(INDEX(Data!$A93:$H93,,MATCH(FALSE,ISERROR(SEARCH(I$1&\"=\",Data!$A93:$H93)),0)),I$1&\"=\",\"\"),\"\")","v":""},{"$f":"IFERROR(SUBSTITUTE(INDEX(Data!$A93:$H93,,MATCH(FALSE,ISERROR(SEARCH(J$1&\"=\",Data!$A93:$H93)),0)),J$1&\"=\",\"\"),\"\")","v":""}]
[{"$f":"IFERROR(SUBSTITUTE(INDEX(Data!$A94:$H94,,MATCH(FALSE,ISERROR(SEARCH(A$1&\"=\",Data!$A94:$H94)),0)),A$1&\"=\",\"\"),\"\")","v":""},{"$f":"IFERROR(SUBSTITUTE(INDEX(Data!$A94:$H94,,MATCH(FALSE,ISERROR(SEARCH(B$1&\"=\",Data!$A94:$H94)),0)),B$1&\"=\",\"\"),\"\")","v":""},{"$f":"IFERROR(SUBSTITUTE(INDEX(Data!$A94:$H94,,MATCH(FALSE,ISERROR(SEARCH(C$1&\"=\",Data!$A94:$H94)),0)),C$1&\"=\",\"\"),\"\")","v":""},{"$f":"IFERROR(SUBSTITUTE(INDEX(Data!$A94:$H94,,MATCH(FALSE,ISERROR(SEARCH(D$1&\"=\",Data!$A94:$H94)),0)),D$1&\"=\",\"\"),\"\")","v":""},{"$f":"IFERROR(SUBSTITUTE(INDEX(Data!$A94:$H94,,MATCH(FALSE,ISERROR(SEARCH(E$1&\"=\",Data!$A94:$H94)),0)),E$1&\"=\",\"\"),\"\")","v":""},{"$f":"IFERROR(SUBSTITUTE(INDEX(Data!$A94:$H94,,MATCH(FALSE,ISERROR(SEARCH(F$1&\"=\",Data!$A94:$H94)),0)),F$1&\"=\",\"\"),\"\")","v":""},{"$f":"IFERROR(SUBSTITUTE(INDEX(Data!$A94:$H94,,MATCH(FALSE,ISERROR(SEARCH(G$1&\"=\",Data!$A94:$H94)),0)),G$1&\"=\",\"\"),\"\")","v":""},{"$f":"IFERROR(SUBSTITUTE(INDEX(Data!$A94:$H94,,MATCH(FALSE,ISERROR(SEARCH(H$1&\"=\",Data!$A94:$H94)),0)),H$1&\"=\",\"\"),\"\")","v":""},{"$f":"IFERROR(SUBSTITUTE(INDEX(Data!$A94:$H94,,MATCH(FALSE,ISERROR(SEARCH(I$1&\"=\",Data!$A94:$H94)),0)),I$1&\"=\",\"\"),\"\")","v":""},{"$f":"IFERROR(SUBSTITUTE(INDEX(Data!$A94:$H94,,MATCH(FALSE,ISERROR(SEARCH(J$1&\"=\",Data!$A94:$H94)),0)),J$1&\"=\",\"\"),\"\")","v":""}]
[{"$f":"IFERROR(SUBSTITUTE(INDEX(Data!$A95:$H95,,MATCH(FALSE,ISERROR(SEARCH(A$1&\"=\",Data!$A95:$H95)),0)),A$1&\"=\",\"\"),\"\")","v":""},{"$f":"IFERROR(SUBSTITUTE(INDEX(Data!$A95:$H95,,MATCH(FALSE,ISERROR(SEARCH(B$1&\"=\",Data!$A95:$H95)),0)),B$1&\"=\",\"\"),\"\")","v":""},{"$f":"IFERROR(SUBSTITUTE(INDEX(Data!$A95:$H95,,MATCH(FALSE,ISERROR(SEARCH(C$1&\"=\",Data!$A95:$H95)),0)),C$1&\"=\",\"\"),\"\")","v":""},{"$f":"IFERROR(SUBSTITUTE(INDEX(Data!$A95:$H95,,MATCH(FALSE,ISERROR(SEARCH(D$1&\"=\",Data!$A95:$H95)),0)),D$1&\"=\",\"\"),\"\")","v":""},{"$f":"IFERROR(SUBSTITUTE(INDEX(Data!$A95:$H95,,MATCH(FALSE,ISERROR(SEARCH(E$1&\"=\",Data!$A95:$H95)),0)),E$1&\"=\",\"\"),\"\")","v":""},{"$f":"IFERROR(SUBSTITUTE(INDEX(Data!$A95:$H95,,MATCH(FALSE,ISERROR(SEARCH(F$1&\"=\",Data!$A95:$H95)),0)),F$1&\"=\",\"\"),\"\")","v":""},{"$f":"IFERROR(SUBSTITUTE(INDEX(Data!$A95:$H95,,MATCH(FALSE,ISERROR(SEARCH(G$1&\"=\",Data!$A95:$H95)),0)),G$1&\"=\",\"\"),\"\")","v":""},{"$f":"IFERROR(SUBSTITUTE(INDEX(Data!$A95:$H95,,MATCH(FALSE,ISERROR(SEARCH(H$1&\"=\",Data!$A95:$H95)),0)),H$1&\"=\",\"\"),\"\")","v":""},{"$f":"IFERROR(SUBSTITUTE(INDEX(Data!$A95:$H95,,MATCH(FALSE,ISERROR(SEARCH(I$1&\"=\",Data!$A95:$H95)),0)),I$1&\"=\",\"\"),\"\")","v":""},{"$f":"IFERROR(SUBSTITUTE(INDEX(Data!$A95:$H95,,MATCH(FALSE,ISERROR(SEARCH(J$1&\"=\",Data!$A95:$H95)),0)),J$1&\"=\",\"\"),\"\")","v":""}]
[{"$f":"IFERROR(SUBSTITUTE(INDEX(Data!$A96:$H96,,MATCH(FALSE,ISERROR(SEARCH(A$1&\"=\",Data!$A96:$H96)),0)),A$1&\"=\",\"\"),\"\")","v":""},{"$f":"IFERROR(SUBSTITUTE(INDEX(Data!$A96:$H96,,MATCH(FALSE,ISERROR(SEARCH(B$1&\"=\",Data!$A96:$H96)),0)),B$1&\"=\",\"\"),\"\")","v":""},{"$f":"IFERROR(SUBSTITUTE(INDEX(Data!$A96:$H96,,MATCH(FALSE,ISERROR(SEARCH(C$1&\"=\",Data!$A96:$H96)),0)),C$1&\"=\",\"\"),\"\")","v":""},{"$f":"IFERROR(SUBSTITUTE(INDEX(Data!$A96:$H96,,MATCH(FALSE,ISERROR(SEARCH(D$1&\"=\",Data!$A96:$H96)),0)),D$1&\"=\",\"\"),\"\")","v":""},{"$f":"IFERROR(SUBSTITUTE(INDEX(Data!$A96:$H96,,MATCH(FALSE,ISERROR(SEARCH(E$1&\"=\",Data!$A96:$H96)),0)),E$1&\"=\",\"\"),\"\")","v":""},{"$f":"IFERROR(SUBSTITUTE(INDEX(Data!$A96:$H96,,MATCH(FALSE,ISERROR(SEARCH(F$1&\"=\",Data!$A96:$H96)),0)),F$1&\"=\",\"\"),\"\")","v":""},{"$f":"IFERROR(SUBSTITUTE(INDEX(Data!$A96:$H96,,MATCH(FALSE,ISERROR(SEARCH(G$1&\"=\",Data!$A96:$H96)),0)),G$1&\"=\",\"\"),\"\")","v":""},{"$f":"IFERROR(SUBSTITUTE(INDEX(Data!$A96:$H96,,MATCH(FALSE,ISERROR(SEARCH(H$1&\"=\",Data!$A96:$H96)),0)),H$1&\"=\",\"\"),\"\")","v":""},{"$f":"IFERROR(SUBSTITUTE(INDEX(Data!$A96:$H96,,MATCH(FALSE,ISERROR(SEARCH(I$1&\"=\",Data!$A96:$H96)),0)),I$1&\"=\",\"\"),\"\")","v":""},{"$f":"IFERROR(SUBSTITUTE(INDEX(Data!$A96:$H96,,MATCH(FALSE,ISERROR(SEARCH(J$1&\"=\",Data!$A96:$H96)),0)),J$1&\"=\",\"\"),\"\")","v":""}]
[{"$f":"IFERROR(SUBSTITUTE(INDEX(Data!$A97:$H97,,MATCH(FALSE,ISERROR(SEARCH(A$1&\"=\",Data!$A97:$H97)),0)),A$1&\"=\",\"\"),\"\")","v":""},{"$f":"IFERROR(SUBSTITUTE(INDEX(Data!$A97:$H97,,MATCH(FALSE,ISERROR(SEARCH(B$1&\"=\",Data!$A97:$H97)),0)),B$1&\"=\",\"\"),\"\")","v":""},{"$f":"IFERROR(SUBSTITUTE(INDEX(Data!$A97:$H97,,MATCH(FALSE,ISERROR(SEARCH(C$1&\"=\",Data!$A97:$H97)),0)),C$1&\"=\",\"\"),\"\")","v":""},{"$f":"IFERROR(SUBSTITUTE(INDEX(Data!$A97:$H97,,MATCH(FALSE,ISERROR(SEARCH(D$1&\"=\",Data!$A97:$H97)),0)),D$1&\"=\",\"\"),\"\")","v":""},{"$f":"IFERROR(SUBSTITUTE(INDEX(Data!$A97:$H97,,MATCH(FALSE,ISERROR(SEARCH(E$1&\"=\",Data!$A97:$H97)),0)),E$1&\"=\",\"\"),\"\")","v":""},{"$f":"IFERROR(SUBSTITUTE(INDEX(Data!$A97:$H97,,MATCH(FALSE,ISERROR(SEARCH(F$1&\"=\",Data!$A97:$H97)),0)),F$1&\"=\",\"\"),\"\")","v":""},{"$f":"IFERROR(SUBSTITUTE(INDEX(Data!$A97:$H97,,MATCH(FALSE,ISERROR(SEARCH(G$1&\"=\",Data!$A97:$H97)),0)),G$1&\"=\",\"\"),\"\")","v":""},{"$f":"IFERROR(SUBSTITUTE(INDEX(Data!$A97:$H97,,MATCH(FALSE,ISERROR(SEARCH(H$1&\"=\",Data!$A97:$H97)),0)),H$1&\"=\",\"\"),\"\")","v":""},{"$f":"IFERROR(SUBSTITUTE(INDEX(Data!$A97:$H97,,MATCH(FALSE,ISERROR(SEARCH(I$1&\"=\",Data!$A97:$H97)),0)),I$1&\"=\",\"\"),\"\")","v":""},{"$f":"IFERROR(SUBSTITUTE(INDEX(Data!$A97:$H97,,MATCH(FALSE,ISERROR(SEARCH(J$1&\"=\",Data!$A97:$H97)),0)),J$1&\"=\",\"\"),\"\")","v":""}]
[{"$f":"IFERROR(SUBSTITUTE(INDEX(Data!$A98:$H98,,MATCH(FALSE,ISERROR(SEARCH(A$1&\"=\",Data!$A98:$H98)),0)),A$1&\"=\",\"\"),\"\")","v":""},{"$f":"IFERROR(SUBSTITUTE(INDEX(Data!$A98:$H98,,MATCH(FALSE,ISERROR(SEARCH(B$1&\"=\",Data!$A98:$H98)),0)),B$1&\"=\",\"\"),\"\")","v":""},{"$f":"IFERROR(SUBSTITUTE(INDEX(Data!$A98:$H98,,MATCH(FALSE,ISERROR(SEARCH(C$1&\"=\",Data!$A98:$H98)),0)),C$1&\"=\",\"\"),\"\")","v":""},{"$f":"IFERROR(SUBSTITUTE(INDEX(Data!$A98:$H98,,MATCH(FALSE,ISERROR(SEARCH(D$1&\"=\",Data!$A98:$H98)),0)),D$1&\"=\",\"\"),\"\")","v":""},{"$f":"IFERROR(SUBSTITUTE(INDEX(Data!$A98:$H98,,MATCH(FALSE,ISERROR(SEARCH(E$1&\"=\",Data!$A98:$H98)),0)),E$1&\"=\",\"\"),\"\")","v":""},{"$f":"IFERROR(SUBSTITUTE(INDEX(Data!$A98:$H98,,MATCH(FALSE,ISERROR(SEARCH(F$1&\"=\",Data!$A98:$H98)),0)),F$1&\"=\",\"\"),\"\")","v":""},{"$f":"IFERROR(SUBSTITUTE(INDEX(Data!$A98:$H98,,MATCH(FALSE,ISERROR(SEARCH(G$1&\"=\",Data!$A98:$H98)),0)),G$1&\"=\",\"\"),\"\")","v":""},{"$f":"IFERROR(SUBSTITUTE(INDEX(Data!$A98:$H98,,MATCH(FALSE,ISERROR(SEARCH(H$1&\"=\",Data!$A98:$H98)),0)),H$1&\"=\",\"\"),\"\")","v":""},{"$f":"IFERROR(SUBSTITUTE(INDEX(Data!$A98:$H98,,MATCH(FALSE,ISERROR(SEARCH(I$1&\"=\",Data!$A98:$H98)),0)),I$1&\"=\",\"\"),\"\")","v":""},{"$f":"IFERROR(SUBSTITUTE(INDEX(Data!$A98:$H98,,MATCH(FALSE,ISERROR(SEARCH(J$1&\"=\",Data!$A98:$H98)),0)),J$1&\"=\",\"\"),\"\")","v":""}]
[{"$f":"IFERROR(SUBSTITUTE(INDEX(Data!$A99:$H99,,MATCH(FALSE,ISERROR(SEARCH(A$1&\"=\",Data!$A99:$H99)),0)),A$1&\"=\",\"\"),\"\")","v":""},{"$f":"IFERROR(SUBSTITUTE(INDEX(Data!$A99:$H99,,MATCH(FALSE,ISERROR(SEARCH(B$1&\"=\",Data!$A99:$H99)),0)),B$1&\"=\",\"\"),\"\")","v":""},{"$f":"IFERROR(SUBSTITUTE(INDEX(Data!$A99:$H99,,MATCH(FALSE,ISERROR(SEARCH(C$1&\"=\",Data!$A99:$H99)),0)),C$1&\"=\",\"\"),\"\")","v":""},{"$f":"IFERROR(SUBSTITUTE(INDEX(Data!$A99:$H99,,MATCH(FALSE,ISERROR(SEARCH(D$1&\"=\",Data!$A99:$H99)),0)),D$1&\"=\",\"\"),\"\")","v":""},{"$f":"IFERROR(SUBSTITUTE(INDEX(Data!$A99:$H99,,MATCH(FALSE,ISERROR(SEARCH(E$1&\"=\",Data!$A99:$H99)),0)),E$1&\"=\",\"\"),\"\")","v":""},{"$f":"IFERROR(SUBSTITUTE(INDEX(Data!$A99:$H99,,MATCH(FALSE,ISERROR(SEARCH(F$1&\"=\",Data!$A99:$H99)),0)),F$1&\"=\",\"\"),\"\")","v":""},{"$f":"IFERROR(SUBSTITUTE(INDEX(Data!$A99:$H99,,MATCH(FALSE,ISERROR(SEARCH(G$1&\"=\",Data!$A99:$H99)),0)),G$1&\"=\",\"\"),\"\")","v":""},{"$f":"IFERROR(SUBSTITUTE(INDEX(Data!$A99:$H99,,MATCH(FALSE,ISERROR(SEARCH(H$1&\"=\",Data!$A99:$H99)),0)),H$1&\"=\",\"\"),\"\")","v":""},{"$f":"IFERROR(SUBSTITUTE(INDEX(Data!$A99:$H99,,MATCH(FALSE,ISERROR(SEARCH(I$1&\"=\",Data!$A99:$H99)),0)),I$1&\"=\",\"\"),\"\")","v":""},{"$f":"IFERROR(SUBSTITUTE(INDEX(Data!$A99:$H99,,MATCH(FALSE,ISERROR(SEARCH(J$1&\"=\",Data!$A99:$H99)),0)),J$1&\"=\",\"\"),\"\")","v":""}]
[{"$f":"IFERROR(SUBSTITUTE(INDEX(Data!$A100:$H100,,MATCH(FALSE,ISERROR(SEARCH(A$1&\"=\",Data!$A100:$H100)),0)),A$1&\"=\",\"\"),\"\")","v":""},{"$f":"IFERROR(SUBSTITUTE(INDEX(Data!$A100:$H100,,MATCH(FALSE,ISERROR(SEARCH(B$1&\"=\",Data!$A100:$H100)),0)),B$1&\"=\",\"\"),\"\")","v":""},{"$f":"IFERROR(SUBSTITUTE(INDEX(Data!$A100:$H100,,MATCH(FALSE,ISERROR(SEARCH(C$1&\"=\",Data!$A100:$H100)),0)),C$1&\"=\",\"\"),\"\")","v":""},{"$f":"IFERROR(SUBSTITUTE(INDEX(Data!$A100:$H100,,MATCH(FALSE,ISERROR(SEARCH(D$1&\"=\",Data!$A100:$H100)),0)),D$1&\"=\",\"\"),\"\")","v":""},{"$f":"IFERROR(SUBSTITUTE(INDEX(Data!$A100:$H100,,MATCH(FALSE,ISERROR(SEARCH(E$1&\"=\",Data!$A100:$H100)),0)),E$1&\"=\",\"\"),\"\")","v":""},{"$f":"IFERROR(SUBSTITUTE(INDEX(Data!$A100:$H100,,MATCH(FALSE,ISERROR(SEARCH(F$1&\"=\",Data!$A100:$H100)),0)),F$1&\"=\",\"\"),\"\")","v":""},{"$f":"IFERROR(SUBSTITUTE(INDEX(Data!$A100:$H100,,MATCH(FALSE,ISERROR(SEARCH(G$1&\"=\",Data!$A100:$H100)),0)),G$1&\"=\",\"\"),\"\")","v":""},{"$f":"IFERROR(SUBSTITUTE(INDEX(Data!$A100:$H100,,MATCH(FALSE,ISERROR(SEARCH(H$1&\"=\",Data!$A100:$H100)),0)),H$1&\"=\",\"\"),\"\")","v":""},{"$f":"IFERROR(SUBSTITUTE(INDEX(Data!$A100:$H100,,MATCH(FALSE,ISERROR(SEARCH(I$1&\"=\",Data!$A100:$H100)),0)),I$1&\"=\",\"\"),\"\")","v":""},{"$f":"IFERROR(SUBSTITUTE(INDEX(Data!$A100:$H100,,MATCH(FALSE,ISERROR(SEARCH(J$1&\"=\",Data!$A100:$H100)),0)),J$1&\"=\",\"\"),\"\")","v":""}]
[{"$f":"IFERROR(SUBSTITUTE(INDEX(Data!$A101:$H101,,MATCH(FALSE,ISERROR(SEARCH(A$1&\"=\",Data!$A101:$H101)),0)),A$1&\"=\",\"\"),\"\")","v":""},{"$f":"IFERROR(SUBSTITUTE(INDEX(Data!$A101:$H101,,MATCH(FALSE,ISERROR(SEARCH(B$1&\"=\",Data!$A101:$H101)),0)),B$1&\"=\",\"\"),\"\")","v":""},{"$f":"IFERROR(SUBSTITUTE(INDEX(Data!$A101:$H101,,MATCH(FALSE,ISERROR(SEARCH(C$1&\"=\",Data!$A101:$H101)),0)),C$1&\"=\",\"\"),\"\")","v":""},{"$f":"IFERROR(SUBSTITUTE(INDEX(Data!$A101:$H101,,MATCH(FALSE,ISERROR(SEARCH(D$1&\"=\",Data!$A101:$H101)),0)),D$1&\"=\",\"\"),\"\")","v":""},{"$f":"IFERROR(SUBSTITUTE(INDEX(Data!$A101:$H101,,MATCH(FALSE,ISERROR(SEARCH(E$1&\"=\",Data!$A101:$H101)),0)),E$1&\"=\",\"\"),\"\")","v":""},{"$f":"IFERROR(SUBSTITUTE(INDEX(Data!$A101:$H101,,MATCH(FALSE,ISERROR(SEARCH(F$1&\"=\",Data!$A101:$H101)),0)),F$1&\"=\",\"\"),\"\")","v":""},{"$f":"IFERROR(SUBSTITUTE(INDEX(Data!$A101:$H101,,MATCH(FALSE,ISERROR(SEARCH(G$1&\"=\",Data!$A101:$H101)),0)),G$1&\"=\",\"\"),\"\")","v":""},{"$f":"IFERROR(SUBSTITUTE(INDEX(Data!$A101:$H101,,MATCH(FALSE,ISERROR(SEARCH(H$1&\"=\",Data!$A101:$H101)),0)),H$1&\"=\",\"\"),\"\")","v":""},{"$f":"IFERROR(SUBSTITUTE(INDEX(Data!$A101:$H101,,MATCH(FALSE,ISERROR(SEARCH(I$1&\"=\",Data!$A101:$H101)),0)),I$1&\"=\",\"\"),\"\")","v":""},{"$f":"IFERROR(SUBSTITUTE(INDEX(Data!$A101:$H101,,MATCH(FALSE,ISERROR(SEARCH(J$1&\"=\",Data!$A101:$H101)),0)),J$1&\"=\",\"\"),\"\")","v":""}]
[{"$f":"IFERROR(SUBSTITUTE(INDEX(Data!$A102:$H102,,MATCH(FALSE,ISERROR(SEARCH(A$1&\"=\",Data!$A102:$H102)),0)),A$1&\"=\",\"\"),\"\")","v":""},{"$f":"IFERROR(SUBSTITUTE(INDEX(Data!$A102:$H102,,MATCH(FALSE,ISERROR(SEARCH(B$1&\"=\",Data!$A102:$H102)),0)),B$1&\"=\",\"\"),\"\")","v":""},{"$f":"IFERROR(SUBSTITUTE(INDEX(Data!$A102:$H102,,MATCH(FALSE,ISERROR(SEARCH(C$1&\"=\",Data!$A102:$H102)),0)),C$1&\"=\",\"\"),\"\")","v":""},{"$f":"IFERROR(SUBSTITUTE(INDEX(Data!$A102:$H102,,MATCH(FALSE,ISERROR(SEARCH(D$1&\"=\",Data!$A102:$H102)),0)),D$1&\"=\",\"\"),\"\")","v":""},{"$f":"IFERROR(SUBSTITUTE(INDEX(Data!$A102:$H102,,MATCH(FALSE,ISERROR(SEARCH(E$1&\"=\",Data!$A102:$H102)),0)),E$1&\"=\",\"\"),\"\")","v":""},{"$f":"IFERROR(SUBSTITUTE(INDEX(Data!$A102:$H102,,MATCH(FALSE,ISERROR(SEARCH(F$1&\"=\",Data!$A102:$H102)),0)),F$1&\"=\",\"\"),\"\")","v":""},{"$f":"IFERROR(SUBSTITUTE(INDEX(Data!$A102:$H102,,MATCH(FALSE,ISERROR(SEARCH(G$1&\"=\",Data!$A102:$H102)),0)),G$1&\"=\",\"\"),\"\")","v":""},{"$f":"IFERROR(SUBSTITUTE(INDEX(Data!$A102:$H102,,MATCH(FALSE,ISERROR(SEARCH(H$1&\"=\",Data!$A102:$H102)),0)),H$1&\"=\",\"\"),\"\")","v":""},{"$f":"IFERROR(SUBSTITUTE(INDEX(Data!$A102:$H102,,MATCH(FALSE,ISERROR(SEARCH(I$1&\"=\",Data!$A102:$H102)),0)),I$1&\"=\",\"\"),\"\")","v":""},{"$f":"IFERROR(SUBSTITUTE(INDEX(Data!$A102:$H102,,MATCH(FALSE,ISERROR(SEARCH(J$1&\"=\",Data!$A102:$H102)),0)),J$1&\"=\",\"\"),\"\")","v":""}]
[{"$f":"IFERROR(SUBSTITUTE(INDEX(Data!$A103:$H103,,MATCH(FALSE,ISERROR(SEARCH(A$1&\"=\",Data!$A103:$H103)),0)),A$1&\"=\",\"\"),\"\")","v":""},{"$f":"IFERROR(SUBSTITUTE(INDEX(Data!$A103:$H103,,MATCH(FALSE,ISERROR(SEARCH(B$1&\"=\",Data!$A103:$H103)),0)),B$1&\"=\",\"\"),\"\")","v":""},{"$f":"IFERROR(SUBSTITUTE(INDEX(Data!$A103:$H103,,MATCH(FALSE,ISERROR(SEARCH(C$1&\"=\",Data!$A103:$H103)),0)),C$1&\"=\",\"\"),\"\")","v":""},{"$f":"IFERROR(SUBSTITUTE(INDEX(Data!$A103:$H103,,MATCH(FALSE,ISERROR(SEARCH(D$1&\"=\",Data!$A103:$H103)),0)),D$1&\"=\",\"\"),\"\")","v":""},{"$f":"IFERROR(SUBSTITUTE(INDEX(Data!$A103:$H103,,MATCH(FALSE,ISERROR(SEARCH(E$1&\"=\",Data!$A103:$H103)),0)),E$1&\"=\",\"\"),\"\")","v":""},{"$f":"IFERROR(SUBSTITUTE(INDEX(Data!$A103:$H103,,MATCH(FALSE,ISERROR(SEARCH(F$1&\"=\",Data!$A103:$H103)),0)),F$1&\"=\",\"\"),\"\")","v":""},{"$f":"IFERROR(SUBSTITUTE(INDEX(Data!$A103:$H103,,MATCH(FALSE,ISERROR(SEARCH(G$1&\"=\",Data!$A103:$H103)),0)),G$1&\"=\",\"\"),\"\")","v":""},{"$f":"IFERROR(SUBSTITUTE(INDEX(Data!$A103:$H103,,MATCH(FALSE,ISERROR(SEARCH(H$1&\"=\",Data!$A103:$H103)),0)),H$1&\"=\",\"\"),\"\")","v":""},{"$f":"IFERROR(SUBSTITUTE(INDEX(Data!$A103:$H103,,MATCH(FALSE,ISERROR(SEARCH(I$1&\"=\",Data!$A103:$H103)),0)),I$1&\"=\",\"\"),\"\")","v":""},{"$f":"IFERROR(SUBSTITUTE(INDEX(Data!$A103:$H103,,MATCH(FALSE,ISERROR(SEARCH(J$1&\"=\",Data!$A103:$H103)),0)),J$1&\"=\",\"\"),\"\")","v":""}]
[{"$f":"IFERROR(SUBSTITUTE(INDEX(Data!$A104:$H104,,MATCH(FALSE,ISERROR(SEARCH(A$1&\"=\",Data!$A104:$H104)),0)),A$1&\"=\",\"\"),\"\")","v":""},{"$f":"IFERROR(SUBSTITUTE(INDEX(Data!$A104:$H104,,MATCH(FALSE,ISERROR(SEARCH(B$1&\"=\",Data!$A104:$H104)),0)),B$1&\"=\",\"\"),\"\")","v":""},{"$f":"IFERROR(SUBSTITUTE(INDEX(Data!$A104:$H104,,MATCH(FALSE,ISERROR(SEARCH(C$1&\"=\",Data!$A104:$H104)),0)),C$1&\"=\",\"\"),\"\")","v":""},{"$f":"IFERROR(SUBSTITUTE(INDEX(Data!$A104:$H104,,MATCH(FALSE,ISERROR(SEARCH(D$1&\"=\",Data!$A104:$H104)),0)),D$1&\"=\",\"\"),\"\")","v":""},{"$f":"IFERROR(SUBSTITUTE(INDEX(Data!$A104:$H104,,MATCH(FALSE,ISERROR(SEARCH(E$1&\"=\",Data!$A104:$H104)),0)),E$1&\"=\",\"\"),\"\")","v":""},{"$f":"IFERROR(SUBSTITUTE(INDEX(Data!$A104:$H104,,MATCH(FALSE,ISERROR(SEARCH(F$1&\"=\",Data!$A104:$H104)),0)),F$1&\"=\",\"\"),\"\")","v":""},{"$f":"IFERROR(SUBSTITUTE(INDEX(Data!$A104:$H104,,MATCH(FALSE,ISERROR(SEARCH(G$1&\"=\",Data!$A104:$H104)),0)),G$1&\"=\",\"\"),\"\")","v":""},{"$f":"IFERROR(SUBSTITUTE(INDEX(Data!$A104:$H104,,MATCH(FALSE,ISERROR(SEARCH(H$1&\"=\",Data!$A104:$H104)),0)),H$1&\"=\",\"\"),\"\")","v":""},{"$f":"IFERROR(SUBSTITUTE(INDEX(Data!$A104:$H104,,MATCH(FALSE,ISERROR(SEARCH(I$1&\"=\",Data!$A104:$H104)),0)),I$1&\"=\",\"\"),\"\")","v":""},{"$f":"IFERROR(SUBSTITUTE(INDEX(Data!$A104:$H104,,MATCH(FALSE,ISERROR(SEARCH(J$1&\"=\",Data!$A104:$H104)),0)),J$1&\"=\",\"\"),\"\")","v":""}]
[{"$f":"IFERROR(SUBSTITUTE(INDEX(Data!$A105:$H105,,MATCH(FALSE,ISERROR(SEARCH(A$1&\"=\",Data!$A105:$H105)),0)),A$1&\"=\",\"\"),\"\")","v":""},{"$f":"IFERROR(SUBSTITUTE(INDEX(Data!$A105:$H105,,MATCH(FALSE,ISERROR(SEARCH(B$1&\"=\",Data!$A105:$H105)),0)),B$1&\"=\",\"\"),\"\")","v":""},{"$f":"IFERROR(SUBSTITUTE(INDEX(Data!$A105:$H105,,MATCH(FALSE,ISERROR(SEARCH(C$1&\"=\",Data!$A105:$H105)),0)),C$1&\"=\",\"\"),\"\")","v":""},{"$f":"IFERROR(SUBSTITUTE(INDEX(Data!$A105:$H105,,MATCH(FALSE,ISERROR(SEARCH(D$1&\"=\",Data!$A105:$H105)),0)),D$1&\"=\",\"\"),\"\")","v":""},{"$f":"IFERROR(SUBSTITUTE(INDEX(Data!$A105:$H105,,MATCH(FALSE,ISERROR(SEARCH(E$1&\"=\",Data!$A105:$H105)),0)),E$1&\"=\",\"\"),\"\")","v":""},{"$f":"IFERROR(SUBSTITUTE(INDEX(Data!$A105:$H105,,MATCH(FALSE,ISERROR(SEARCH(F$1&\"=\",Data!$A105:$H105)),0)),F$1&\"=\",\"\"),\"\")","v":""},{"$f":"IFERROR(SUBSTITUTE(INDEX(Data!$A105:$H105,,MATCH(FALSE,ISERROR(SEARCH(G$1&\"=\",Data!$A105:$H105)),0)),G$1&\"=\",\"\"),\"\")","v":""},{"$f":"IFERROR(SUBSTITUTE(INDEX(Data!$A105:$H105,,MATCH(FALSE,ISERROR(SEARCH(H$1&\"=\",Data!$A105:$H105)),0)),H$1&\"=\",\"\"),\"\")","v":""},{"$f":"IFERROR(SUBSTITUTE(INDEX(Data!$A105:$H105,,MATCH(FALSE,ISERROR(SEARCH(I$1&\"=\",Data!$A105:$H105)),0)),I$1&\"=\",\"\"),\"\")","v":""},{"$f":"IFERROR(SUBSTITUTE(INDEX(Data!$A105:$H105,,MATCH(FALSE,ISERROR(SEARCH(J$1&\"=\",Data!$A105:$H105)),0)),J$1&\"=\",\"\"),\"\")","v":""}]
[{"$f":"IFERROR(SUBSTITUTE(INDEX(Data!$A106:$H106,,MATCH(FALSE,ISERROR(SEARCH(A$1&\"=\",Data!$A106:$H106)),0)),A$1&\"=\",\"\"),\"\")","v":""},{"$f":"IFERROR(SUBSTITUTE(INDEX(Data!$A106:$H106,,MATCH(FALSE,ISERROR(SEARCH(B$1&\"=\",Data!$A106:$H106)),0)),B$1&\"=\",\"\"),\"\")","v":""},{"$f":"IFERROR(SUBSTITUTE(INDEX(Data!$A106:$H106,,MATCH(FALSE,ISERROR(SEARCH(C$1&\"=\",Data!$A106:$H106)),0)),C$1&\"=\",\"\"),\"\")","v":""},{"$f":"IFERROR(SUBSTITUTE(INDEX(Data!$A106:$H106,,MATCH(FALSE,ISERROR(SEARCH(D$1&\"=\",Data!$A106:$H106)),0)),D$1&\"=\",\"\"),\"\")","v":""},{"$f":"IFERROR(SUBSTITUTE(INDEX(Data!$A106:$H106,,MATCH(FALSE,ISERROR(SEARCH(E$1&\"=\",Data!$A106:$H106)),0)),E$1&\"=\",\"\"),\"\")","v":""},{"$f":"IFERROR(SUBSTITUTE(INDEX(Data!$A106:$H106,,MATCH(FALSE,ISERROR(SEARCH(F$1&\"=\",Data!$A106:$H106)),0)),F$1&\"=\",\"\"),\"\")","v":""},{"$f":"IFERROR(SUBSTITUTE(INDEX(Data!$A106:$H106,,MATCH(FALSE,ISERROR(SEARCH(G$1&\"=\",Data!$A106:$H106)),0)),G$1&\"=\",\"\"),\"\")","v":""},{"$f":"IFERROR(SUBSTITUTE(INDEX(Data!$A106:$H106,,MATCH(FALSE,ISERROR(SEARCH(H$1&\"=\",Data!$A106:$H106)),0)),H$1&\"=\",\"\"),\"\")","v":""},{"$f":"IFERROR(SUBSTITUTE(INDEX(Data!$A106:$H106,,MATCH(FALSE,ISERROR(SEARCH(I$1&\"=\",Data!$A106:$H106)),0)),I$1&\"=\",\"\"),\"\")","v":""},{"$f":"IFERROR(SUBSTITUTE(INDEX(Data!$A106:$H106,,MATCH(FALSE,ISERROR(SEARCH(J$1&\"=\",Data!$A106:$H106)),0)),J$1&\"=\",\"\"),\"\")","v":""}]
[{"$f":"IFERROR(SUBSTITUTE(INDEX(Data!$A107:$H107,,MATCH(FALSE,ISERROR(SEARCH(A$1&\"=\",Data!$A107:$H107)),0)),A$1&\"=\",\"\"),\"\")","v":""},{"$f":"IFERROR(SUBSTITUTE(INDEX(Data!$A107:$H107,,MATCH(FALSE,ISERROR(SEARCH(B$1&\"=\",Data!$A107:$H107)),0)),B$1&\"=\",\"\"),\"\")","v":""},{"$f":"IFERROR(SUBSTITUTE(INDEX(Data!$A107:$H107,,MATCH(FALSE,ISERROR(SEARCH(C$1&\"=\",Data!$A107:$H107)),0)),C$1&\"=\",\"\"),\"\")","v":""},{"$f":"IFERROR(SUBSTITUTE(INDEX(Data!$A107:$H107,,MATCH(FALSE,ISERROR(SEARCH(D$1&\"=\",Data!$A107:$H107)),0)),D$1&\"=\",\"\"),\"\")","v":""},{"$f":"IFERROR(SUBSTITUTE(INDEX(Data!$A107:$H107,,MATCH(FALSE,ISERROR(SEARCH(E$1&\"=\",Data!$A107:$H107)),0)),E$1&\"=\",\"\"),\"\")","v":""},{"$f":"IFERROR(SUBSTITUTE(INDEX(Data!$A107:$H107,,MATCH(FALSE,ISERROR(SEARCH(F$1&\"=\",Data!$A107:$H107)),0)),F$1&\"=\",\"\"),\"\")","v":""},{"$f":"IFERROR(SUBSTITUTE(INDEX(Data!$A107:$H107,,MATCH(FALSE,ISERROR(SEARCH(G$1&\"=\",Data!$A107:$H107)),0)),G$1&\"=\",\"\"),\"\")","v":""},{"$f":"IFERROR(SUBSTITUTE(INDEX(Data!$A107:$H107,,MATCH(FALSE,ISERROR(SEARCH(H$1&\"=\",Data!$A107:$H107)),0)),H$1&\"=\",\"\"),\"\")","v":""},{"$f":"IFERROR(SUBSTITUTE(INDEX(Data!$A107:$H107,,MATCH(FALSE,ISERROR(SEARCH(I$1&\"=\",Data!$A107:$H107)),0)),I$1&\"=\",\"\"),\"\")","v":""},{"$f":"IFERROR(SUBSTITUTE(INDEX(Data!$A107:$H107,,MATCH(FALSE,ISERROR(SEARCH(J$1&\"=\",Data!$A107:$H107)),0)),J$1&\"=\",\"\"),\"\")","v":""}]
[{"$f":"IFERROR(SUBSTITUTE(INDEX(Data!$A108:$H108,,MATCH(FALSE,ISERROR(SEARCH(A$1&\"=\",Data!$A108:$H108)),0)),A$1&\"=\",\"\"),\"\")","v":""},{"$f":"IFERROR(SUBSTITUTE(INDEX(Data!$A108:$H108,,MATCH(FALSE,ISERROR(SEARCH(B$1&\"=\",Data!$A108:$H108)),0)),B$1&\"=\",\"\"),\"\")","v":""},{"$f":"IFERROR(SUBSTITUTE(INDEX(Data!$A108:$H108,,MATCH(FALSE,ISERROR(SEARCH(C$1&\"=\",Data!$A108:$H108)),0)),C$1&\"=\",\"\"),\"\")","v":""},{"$f":"IFERROR(SUBSTITUTE(INDEX(Data!$A108:$H108,,MATCH(FALSE,ISERROR(SEARCH(D$1&\"=\",Data!$A108:$H108)),0)),D$1&\"=\",\"\"),\"\")","v":""},{"$f":"IFERROR(SUBSTITUTE(INDEX(Data!$A108:$H108,,MATCH(FALSE,ISERROR(SEARCH(E$1&\"=\",Data!$A108:$H108)),0)),E$1&\"=\",\"\"),\"\")","v":""},{"$f":"IFERROR(SUBSTITUTE(INDEX(Data!$A108:$H108,,MATCH(FALSE,ISERROR(SEARCH(F$1&\"=\",Data!$A108:$H108)),0)),F$1&\"=\",\"\"),\"\")","v":""},{"$f":"IFERROR(SUBSTITUTE(INDEX(Data!$A108:$H108,,MATCH(FALSE,ISERROR(SEARCH(G$1&\"=\",Data!$A108:$H108)),0)),G$1&\"=\",\"\"),\"\")","v":""},{"$f":"IFERROR(SUBSTITUTE(INDEX(Data!$A108:$H108,,MATCH(FALSE,ISERROR(SEARCH(H$1&\"=\",Data!$A108:$H108)),0)),H$1&\"=\",\"\"),\"\")","v":""},{"$f":"IFERROR(SUBSTITUTE(INDEX(Data!$A108:$H108,,MATCH(FALSE,ISERROR(SEARCH(I$1&\"=\",Data!$A108:$H108)),0)),I$1&\"=\",\"\"),\"\")","v":""},{"$f":"IFERROR(SUBSTITUTE(INDEX(Data!$A108:$H108,,MATCH(FALSE,ISERROR(SEARCH(J$1&\"=\",Data!$A108:$H108)),0)),J$1&\"=\",\"\"),\"\")","v":""}]
[{"$f":"IFERROR(SUBSTITUTE(INDEX(Data!$A109:$H109,,MATCH(FALSE,ISERROR(SEARCH(A$1&\"=\",Data!$A109:$H109)),0)),A$1&\"=\",\"\"),\"\")","v":""},{"$f":"IFERROR(SUBSTITUTE(INDEX(Data!$A109:$H109,,MATCH(FALSE,ISERROR(SEARCH(B$1&\"=\",Data!$A109:$H109)),0)),B$1&\"=\",\"\"),\"\")","v":""},{"$f":"IFERROR(SUBSTITUTE(INDEX(Data!$A109:$H109,,MATCH(FALSE,ISERROR(SEARCH(C$1&\"=\",Data!$A109:$H109)),0)),C$1&\"=\",\"\"),\"\")","v":""},{"$f":"IFERROR(SUBSTITUTE(INDEX(Data!$A109:$H109,,MATCH(FALSE,ISERROR(SEARCH(D$1&\"=\",Data!$A109:$H109)),0)),D$1&\"=\",\"\"),\"\")","v":""},{"$f":"IFERROR(SUBSTITUTE(INDEX(Data!$A109:$H109,,MATCH(FALSE,ISERROR(SEARCH(E$1&\"=\",Data!$A109:$H109)),0)),E$1&\"=\",\"\"),\"\")","v":""},{"$f":"IFERROR(SUBSTITUTE(INDEX(Data!$A109:$H109,,MATCH(FALSE,ISERROR(SEARCH(F$1&\"=\",Data!$A109:$H109)),0)),F$1&\"=\",\"\"),\"\")","v":""},{"$f":"IFERROR(SUBSTITUTE(INDEX(Data!$A109:$H109,,MATCH(FALSE,ISERROR(SEARCH(G$1&\"=\",Data!$A109:$H109)),0)),G$1&\"=\",\"\"),\"\")","v":""},{"$f":"IFERROR(SUBSTITUTE(INDEX(Data!$A109:$H109,,MATCH(FALSE,ISERROR(SEARCH(H$1&\"=\",Data!$A109:$H109)),0)),H$1&\"=\",\"\"),\"\")","v":""},{"$f":"IFERROR(SUBSTITUTE(INDEX(Data!$A109:$H109,,MATCH(FALSE,ISERROR(SEARCH(I$1&\"=\",Data!$A109:$H109)),0)),I$1&\"=\",\"\"),\"\")","v":""},{"$f":"IFERROR(SUBSTITUTE(INDEX(Data!$A109:$H109,,MATCH(FALSE,ISERROR(SEARCH(J$1&\"=\",Data!$A109:$H109)),0)),J$1&\"=\",\"\"),\"\")","v":""}]
[{"$f":"IFERROR(SUBSTITUTE(INDEX(Data!$A110:$H110,,MATCH(FALSE,ISERROR(SEARCH(A$1&\"=\",Data!$A110:$H110)),0)),A$1&\"=\",\"\"),\"\")","v":""},{"$f":"IFERROR(SUBSTITUTE(INDEX(Data!$A110:$H110,,MATCH(FALSE,ISERROR(SEARCH(B$1&\"=\",Data!$A110:$H110)),0)),B$1&\"=\",\"\"),\"\")","v":""},{"$f":"IFERROR(SUBSTITUTE(INDEX(Data!$A110:$H110,,MATCH(FALSE,ISERROR(SEARCH(C$1&\"=\",Data!$A110:$H110)),0)),C$1&\"=\",\"\"),\"\")","v":""},{"$f":"IFERROR(SUBSTITUTE(INDEX(Data!$A110:$H110,,MATCH(FALSE,ISERROR(SEARCH(D$1&\"=\",Data!$A110:$H110)),0)),D$1&\"=\",\"\"),\"\")","v":""},{"$f":"IFERROR(SUBSTITUTE(INDEX(Data!$A110:$H110,,MATCH(FALSE,ISERROR(SEARCH(E$1&\"=\",Data!$A110:$H110)),0)),E$1&\"=\",\"\"),\"\")","v":""},{"$f":"IFERROR(SUBSTITUTE(INDEX(Data!$A110:$H110,,MATCH(FALSE,ISERROR(SEARCH(F$1&\"=\",Data!$A110:$H110)),0)),F$1&\"=\",\"\"),\"\")","v":""},{"$f":"IFERROR(SUBSTITUTE(INDEX(Data!$A110:$H110,,MATCH(FALSE,ISERROR(SEARCH(G$1&\"=\",Data!$A110:$H110)),0)),G$1&\"=\",\"\"),\"\")","v":""},{"$f":"IFERROR(SUBSTITUTE(INDEX(Data!$A110:$H110,,MATCH(FALSE,ISERROR(SEARCH(H$1&\"=\",Data!$A110:$H110)),0)),H$1&\"=\",\"\"),\"\")","v":""},{"$f":"IFERROR(SUBSTITUTE(INDEX(Data!$A110:$H110,,MATCH(FALSE,ISERROR(SEARCH(I$1&\"=\",Data!$A110:$H110)),0)),I$1&\"=\",\"\"),\"\")","v":""},{"$f":"IFERROR(SUBSTITUTE(INDEX(Data!$A110:$H110,,MATCH(FALSE,ISERROR(SEARCH(J$1&\"=\",Data!$A110:$H110)),0)),J$1&\"=\",\"\"),\"\")","v":""}]
[{"$f":"IFERROR(SUBSTITUTE(INDEX(Data!$A111:$H111,,MATCH(FALSE,ISERROR(SEARCH(A$1&\"=\",Data!$A111:$H111)),0)),A$1&\"=\",\"\"),\"\")","v":""},{"$f":"IFERROR(SUBSTITUTE(INDEX(Data!$A111:$H111,,MATCH(FALSE,ISERROR(SEARCH(B$1&\"=\",Data!$A111:$H111)),0)),B$1&\"=\",\"\"),\"\")","v":""},{"$f":"IFERROR(SUBSTITUTE(INDEX(Data!$A111:$H111,,MATCH(FALSE,ISERROR(SEARCH(C$1&\"=\",Data!$A111:$H111)),0)),C$1&\"=\",\"\"),\"\")","v":""},{"$f":"IFERROR(SUBSTITUTE(INDEX(Data!$A111:$H111,,MATCH(FALSE,ISERROR(SEARCH(D$1&\"=\",Data!$A111:$H111)),0)),D$1&\"=\",\"\"),\"\")","v":""},{"$f":"IFERROR(SUBSTITUTE(INDEX(Data!$A111:$H111,,MATCH(FALSE,ISERROR(SEARCH(E$1&\"=\",Data!$A111:$H111)),0)),E$1&\"=\",\"\"),\"\")","v":""},{"$f":"IFERROR(SUBSTITUTE(INDEX(Data!$A111:$H111,,MATCH(FALSE,ISERROR(SEARCH(F$1&\"=\",Data!$A111:$H111)),0)),F$1&\"=\",\"\"),\"\")","v":""},{"$f":"IFERROR(SUBSTITUTE(INDEX(Data!$A111:$H111,,MATCH(FALSE,ISERROR(SEARCH(G$1&\"=\",Data!$A111:$H111)),0)),G$1&\"=\",\"\"),\"\")","v":""},{"$f":"IFERROR(SUBSTITUTE(INDEX(Data!$A111:$H111,,MATCH(FALSE,ISERROR(SEARCH(H$1&\"=\",Data!$A111:$H111)),0)),H$1&\"=\",\"\"),\"\")","v":""},{"$f":"IFERROR(SUBSTITUTE(INDEX(Data!$A111:$H111,,MATCH(FALSE,ISERROR(SEARCH(I$1&\"=\",Data!$A111:$H111)),0)),I$1&\"=\",\"\"),\"\")","v":""},{"$f":"IFERROR(SUBSTITUTE(INDEX(Data!$A111:$H111,,MATCH(FALSE,ISERROR(SEARCH(J$1&\"=\",Data!$A111:$H111)),0)),J$1&\"=\",\"\"),\"\")","v":""}]
[{"$f":"IFERROR(SUBSTITUTE(INDEX(Data!$A112:$H112,,MATCH(FALSE,ISERROR(SEARCH(A$1&\"=\",Data!$A112:$H112)),0)),A$1&\"=\",\"\"),\"\")","v":""},{"$f":"IFERROR(SUBSTITUTE(INDEX(Data!$A112:$H112,,MATCH(FALSE,ISERROR(SEARCH(B$1&\"=\",Data!$A112:$H112)),0)),B$1&\"=\",\"\"),\"\")","v":""},{"$f":"IFERROR(SUBSTITUTE(INDEX(Data!$A112:$H112,,MATCH(FALSE,ISERROR(SEARCH(C$1&\"=\",Data!$A112:$H112)),0)),C$1&\"=\",\"\"),\"\")","v":""},{"$f":"IFERROR(SUBSTITUTE(INDEX(Data!$A112:$H112,,MATCH(FALSE,ISERROR(SEARCH(D$1&\"=\",Data!$A112:$H112)),0)),D$1&\"=\",\"\"),\"\")","v":""},{"$f":"IFERROR(SUBSTITUTE(INDEX(Data!$A112:$H112,,MATCH(FALSE,ISERROR(SEARCH(E$1&\"=\",Data!$A112:$H112)),0)),E$1&\"=\",\"\"),\"\")","v":""},{"$f":"IFERROR(SUBSTITUTE(INDEX(Data!$A112:$H112,,MATCH(FALSE,ISERROR(SEARCH(F$1&\"=\",Data!$A112:$H112)),0)),F$1&\"=\",\"\"),\"\")","v":""},{"$f":"IFERROR(SUBSTITUTE(INDEX(Data!$A112:$H112,,MATCH(FALSE,ISERROR(SEARCH(G$1&\"=\",Data!$A112:$H112)),0)),G$1&\"=\",\"\"),\"\")","v":""},{"$f":"IFERROR(SUBSTITUTE(INDEX(Data!$A112:$H112,,MATCH(FALSE,ISERROR(SEARCH(H$1&\"=\",Data!$A112:$H112)),0)),H$1&\"=\",\"\"),\"\")","v":""},{"$f":"IFERROR(SUBSTITUTE(INDEX(Data!$A112:$H112,,MATCH(FALSE,ISERROR(SEARCH(I$1&\"=\",Data!$A112:$H112)),0)),I$1&\"=\",\"\"),\"\")","v":""},{"$f":"IFERROR(SUBSTITUTE(INDEX(Data!$A112:$H112,,MATCH(FALSE,ISERROR(SEARCH(J$1&\"=\",Data!$A112:$H112)),0)),J$1&\"=\",\"\"),\"\")","v":""}]
[{"$f":"IFERROR(SUBSTITUTE(INDEX(Data!$A113:$H113,,MATCH(FALSE,ISERROR(SEARCH(A$1&\"=\",Data!$A113:$H113)),0)),A$1&\"=\",\"\"),\"\")","v":""},{"$f":"IFERROR(SUBSTITUTE(INDEX(Data!$A113:$H113,,MATCH(FALSE,ISERROR(SEARCH(B$1&\"=\",Data!$A113:$H113)),0)),B$1&\"=\",\"\"),\"\")","v":""},{"$f":"IFERROR(SUBSTITUTE(INDEX(Data!$A113:$H113,,MATCH(FALSE,ISERROR(SEARCH(C$1&\"=\",Data!$A113:$H113)),0)),C$1&\"=\",\"\"),\"\")","v":""},{"$f":"IFERROR(SUBSTITUTE(INDEX(Data!$A113:$H113,,MATCH(FALSE,ISERROR(SEARCH(D$1&\"=\",Data!$A113:$H113)),0)),D$1&\"=\",\"\"),\"\")","v":""},{"$f":"IFERROR(SUBSTITUTE(INDEX(Data!$A113:$H113,,MATCH(FALSE,ISERROR(SEARCH(E$1&\"=\",Data!$A113:$H113)),0)),E$1&\"=\",\"\"),\"\")","v":""},{"$f":"IFERROR(SUBSTITUTE(INDEX(Data!$A113:$H113,,MATCH(FALSE,ISERROR(SEARCH(F$1&\"=\",Data!$A113:$H113)),0)),F$1&\"=\",\"\"),\"\")","v":""},{"$f":"IFERROR(SUBSTITUTE(INDEX(Data!$A113:$H113,,MATCH(FALSE,ISERROR(SEARCH(G$1&\"=\",Data!$A113:$H113)),0)),G$1&\"=\",\"\"),\"\")","v":""},{"$f":"IFERROR(SUBSTITUTE(INDEX(Data!$A113:$H113,,MATCH(FALSE,ISERROR(SEARCH(H$1&\"=\",Data!$A113:$H113)),0)),H$1&\"=\",\"\"),\"\")","v":""},{"$f":"IFERROR(SUBSTITUTE(INDEX(Data!$A113:$H113,,MATCH(FALSE,ISERROR(SEARCH(I$1&\"=\",Data!$A113:$H113)),0)),I$1&\"=\",\"\"),\"\")","v":""},{"$f":"IFERROR(SUBSTITUTE(INDEX(Data!$A113:$H113,,MATCH(FALSE,ISERROR(SEARCH(J$1&\"=\",Data!$A113:$H113)),0)),J$1&\"=\",\"\"),\"\")","v":""}]
[{"$f":"IFERROR(SUBSTITUTE(INDEX(Data!$A114:$H114,,MATCH(FALSE,ISERROR(SEARCH(A$1&\"=\",Data!$A114:$H114)),0)),A$1&\"=\",\"\"),\"\")","v":""},{"$f":"IFERROR(SUBSTITUTE(INDEX(Data!$A114:$H114,,MATCH(FALSE,ISERROR(SEARCH(B$1&\"=\",Data!$A114:$H114)),0)),B$1&\"=\",\"\"),\"\")","v":""},{"$f":"IFERROR(SUBSTITUTE(INDEX(Data!$A114:$H114,,MATCH(FALSE,ISERROR(SEARCH(C$1&\"=\",Data!$A114:$H114)),0)),C$1&\"=\",\"\"),\"\")","v":""},{"$f":"IFERROR(SUBSTITUTE(INDEX(Data!$A114:$H114,,MATCH(FALSE,ISERROR(SEARCH(D$1&\"=\",Data!$A114:$H114)),0)),D$1&\"=\",\"\"),\"\")","v":""},{"$f":"IFERROR(SUBSTITUTE(INDEX(Data!$A114:$H114,,MATCH(FALSE,ISERROR(SEARCH(E$1&\"=\",Data!$A114:$H114)),0)),E$1&\"=\",\"\"),\"\")","v":""},{"$f":"IFERROR(SUBSTITUTE(INDEX(Data!$A114:$H114,,MATCH(FALSE,ISERROR(SEARCH(F$1&\"=\",Data!$A114:$H114)),0)),F$1&\"=\",\"\"),\"\")","v":""},{"$f":"IFERROR(SUBSTITUTE(INDEX(Data!$A114:$H114,,MATCH(FALSE,ISERROR(SEARCH(G$1&\"=\",Data!$A114:$H114)),0)),G$1&\"=\",\"\"),\"\")","v":""},{"$f":"IFERROR(SUBSTITUTE(INDEX(Data!$A114:$H114,,MATCH(FALSE,ISERROR(SEARCH(H$1&\"=\",Data!$A114:$H114)),0)),H$1&\"=\",\"\"),\"\")","v":""},{"$f":"IFERROR(SUBSTITUTE(INDEX(Data!$A114:$H114,,MATCH(FALSE,ISERROR(SEARCH(I$1&\"=\",Data!$A114:$H114)),0)),I$1&\"=\",\"\"),\"\")","v":""},{"$f":"IFERROR(SUBSTITUTE(INDEX(Data!$A114:$H114,,MATCH(FALSE,ISERROR(SEARCH(J$1&\"=\",Data!$A114:$H114)),0)),J$1&\"=\",\"\"),\"\")","v":""}]
[{"$f":"IFERROR(SUBSTITUTE(INDEX(Data!$A115:$H115,,MATCH(FALSE,ISERROR(SEARCH(A$1&\"=\",Data!$A115:$H115)),0)),A$1&\"=\",\"\"),\"\")","v":""},{"$f":"IFERROR(SUBSTITUTE(INDEX(Data!$A115:$H115,,MATCH(FALSE,ISERROR(SEARCH(B$1&\"=\",Data!$A115:$H115)),0)),B$1&\"=\",\"\"),\"\")","v":""},{"$f":"IFERROR(SUBSTITUTE(INDEX(Data!$A115:$H115,,MATCH(FALSE,ISERROR(SEARCH(C$1&\"=\",Data!$A115:$H115)),0)),C$1&\"=\",\"\"),\"\")","v":""},{"$f":"IFERROR(SUBSTITUTE(INDEX(Data!$A115:$H115,,MATCH(FALSE,ISERROR(SEARCH(D$1&\"=\",Data!$A115:$H115)),0)),D$1&\"=\",\"\"),\"\")","v":""},{"$f":"IFERROR(SUBSTITUTE(INDEX(Data!$A115:$H115,,MATCH(FALSE,ISERROR(SEARCH(E$1&\"=\",Data!$A115:$H115)),0)),E$1&\"=\",\"\"),\"\")","v":""},{"$f":"IFERROR(SUBSTITUTE(INDEX(Data!$A115:$H115,,MATCH(FALSE,ISERROR(SEARCH(F$1&\"=\",Data!$A115:$H115)),0)),F$1&\"=\",\"\"),\"\")","v":""},{"$f":"IFERROR(SUBSTITUTE(INDEX(Data!$A115:$H115,,MATCH(FALSE,ISERROR(SEARCH(G$1&\"=\",Data!$A115:$H115)),0)),G$1&\"=\",\"\"),\"\")","v":""},{"$f":"IFERROR(SUBSTITUTE(INDEX(Data!$A115:$H115,,MATCH(FALSE,ISERROR(SEARCH(H$1&\"=\",Data!$A115:$H115)),0)),H$1&\"=\",\"\"),\"\")","v":""},{"$f":"IFERROR(SUBSTITUTE(INDEX(Data!$A115:$H115,,MATCH(FALSE,ISERROR(SEARCH(I$1&\"=\",Data!$A115:$H115)),0)),I$1&\"=\",\"\"),\"\")","v":""},{"$f":"IFERROR(SUBSTITUTE(INDEX(Data!$A115:$H115,,MATCH(FALSE,ISERROR(SEARCH(J$1&\"=\",Data!$A115:$H115)),0)),J$1&\"=\",\"\"),\"\")","v":""}]
[{"$f":"IFERROR(SUBSTITUTE(INDEX(Data!$A116:$H116,,MATCH(FALSE,ISERROR(SEARCH(A$1&\"=\",Data!$A116:$H116)),0)),A$1&\"=\",\"\"),\"\")","v":""},{"$f":"IFERROR(SUBSTITUTE(INDEX(Data!$A116:$H116,,MATCH(FALSE,ISERROR(SEARCH(B$1&\"=\",Data!$A116:$H116)),0)),B$1&\"=\",\"\"),\"\")","v":""},{"$f":"IFERROR(SUBSTITUTE(INDEX(Data!$A116:$H116,,MATCH(FALSE,ISERROR(SEARCH(C$1&\"=\",Data!$A116:$H116)),0)),C$1&\"=\",\"\"),\"\")","v":""},{"$f":"IFERROR(SUBSTITUTE(INDEX(Data!$A116:$H116,,MATCH(FALSE,ISERROR(SEARCH(D$1&\"=\",Data!$A116:$H116)),0)),D$1&\"=\",\"\"),\"\")","v":""},{"$f":"IFERROR(SUBSTITUTE(INDEX(Data!$A116:$H116,,MATCH(FALSE,ISERROR(SEARCH(E$1&\"=\",Data!$A116:$H116)),0)),E$1&\"=\",\"\"),\"\")","v":""},{"$f":"IFERROR(SUBSTITUTE(INDEX(Data!$A116:$H116,,MATCH(FALSE,ISERROR(SEARCH(F$1&\"=\",Data!$A116:$H116)),0)),F$1&\"=\",\"\"),\"\")","v":""},{"$f":"IFERROR(SUBSTITUTE(INDEX(Data!$A116:$H116,,MATCH(FALSE,ISERROR(SEARCH(G$1&\"=\",Data!$A116:$H116)),0)),G$1&\"=\",\"\"),\"\")","v":""},{"$f":"IFERROR(SUBSTITUTE(INDEX(Data!$A116:$H116,,MATCH(FALSE,ISERROR(SEARCH(H$1&\"=\",Data!$A116:$H116)),0)),H$1&\"=\",\"\"),\"\")","v":""},{"$f":"IFERROR(SUBSTITUTE(INDEX(Data!$A116:$H116,,MATCH(FALSE,ISERROR(SEARCH(I$1&\"=\",Data!$A116:$H116)),0)),I$1&\"=\",\"\"),\"\")","v":""},{"$f":"IFERROR(SUBSTITUTE(INDEX(Data!$A116:$H116,,MATCH(FALSE,ISERROR(SEARCH(J$1&\"=\",Data!$A116:$H116)),0)),J$1&\"=\",\"\"),\"\")","v":""}]
[{"$f":"IFERROR(SUBSTITUTE(INDEX(Data!$A117:$H117,,MATCH(FALSE,ISERROR(SEARCH(A$1&\"=\",Data!$A117:$H117)),0)),A$1&\"=\",\"\"),\"\")","v":""},{"$f":"IFERROR(SUBSTITUTE(INDEX(Data!$A117:$H117,,MATCH(FALSE,ISERROR(SEARCH(B$1&\"=\",Data!$A117:$H117)),0)),B$1&\"=\",\"\"),\"\")","v":""},{"$f":"IFERROR(SUBSTITUTE(INDEX(Data!$A117:$H117,,MATCH(FALSE,ISERROR(SEARCH(C$1&\"=\",Data!$A117:$H117)),0)),C$1&\"=\",\"\"),\"\")","v":""},{"$f":"IFERROR(SUBSTITUTE(INDEX(Data!$A117:$H117,,MATCH(FALSE,ISERROR(SEARCH(D$1&\"=\",Data!$A117:$H117)),0)),D$1&\"=\",\"\"),\"\")","v":""},{"$f":"IFERROR(SUBSTITUTE(INDEX(Data!$A117:$H117,,MATCH(FALSE,ISERROR(SEARCH(E$1&\"=\",Data!$A117:$H117)),0)),E$1&\"=\",\"\"),\"\")","v":""},{"$f":"IFERROR(SUBSTITUTE(INDEX(Data!$A117:$H117,,MATCH(FALSE,ISERROR(SEARCH(F$1&\"=\",Data!$A117:$H117)),0)),F$1&\"=\",\"\"),\"\")","v":""},{"$f":"IFERROR(SUBSTITUTE(INDEX(Data!$A117:$H117,,MATCH(FALSE,ISERROR(SEARCH(G$1&\"=\",Data!$A117:$H117)),0)),G$1&\"=\",\"\"),\"\")","v":""},{"$f":"IFERROR(SUBSTITUTE(INDEX(Data!$A117:$H117,,MATCH(FALSE,ISERROR(SEARCH(H$1&\"=\",Data!$A117:$H117)),0)),H$1&\"=\",\"\"),\"\")","v":""},{"$f":"IFERROR(SUBSTITUTE(INDEX(Data!$A117:$H117,,MATCH(FALSE,ISERROR(SEARCH(I$1&\"=\",Data!$A117:$H117)),0)),I$1&\"=\",\"\"),\"\")","v":""},{"$f":"IFERROR(SUBSTITUTE(INDEX(Data!$A117:$H117,,MATCH(FALSE,ISERROR(SEARCH(J$1&\"=\",Data!$A117:$H117)),0)),J$1&\"=\",\"\"),\"\")","v":""}]
[{"$f":"IFERROR(SUBSTITUTE(INDEX(Data!$A118:$H118,,MATCH(FALSE,ISERROR(SEARCH(A$1&\"=\",Data!$A118:$H118)),0)),A$1&\"=\",\"\"),\"\")","v":""},{"$f":"IFERROR(SUBSTITUTE(INDEX(Data!$A118:$H118,,MATCH(FALSE,ISERROR(SEARCH(B$1&\"=\",Data!$A118:$H118)),0)),B$1&\"=\",\"\"),\"\")","v":""},{"$f":"IFERROR(SUBSTITUTE(INDEX(Data!$A118:$H118,,MATCH(FALSE,ISERROR(SEARCH(C$1&\"=\",Data!$A118:$H118)),0)),C$1&\"=\",\"\"),\"\")","v":""},{"$f":"IFERROR(SUBSTITUTE(INDEX(Data!$A118:$H118,,MATCH(FALSE,ISERROR(SEARCH(D$1&\"=\",Data!$A118:$H118)),0)),D$1&\"=\",\"\"),\"\")","v":""},{"$f":"IFERROR(SUBSTITUTE(INDEX(Data!$A118:$H118,,MATCH(FALSE,ISERROR(SEARCH(E$1&\"=\",Data!$A118:$H118)),0)),E$1&\"=\",\"\"),\"\")","v":""},{"$f":"IFERROR(SUBSTITUTE(INDEX(Data!$A118:$H118,,MATCH(FALSE,ISERROR(SEARCH(F$1&\"=\",Data!$A118:$H118)),0)),F$1&\"=\",\"\"),\"\")","v":""},{"$f":"IFERROR(SUBSTITUTE(INDEX(Data!$A118:$H118,,MATCH(FALSE,ISERROR(SEARCH(G$1&\"=\",Data!$A118:$H118)),0)),G$1&\"=\",\"\"),\"\")","v":""},{"$f":"IFERROR(SUBSTITUTE(INDEX(Data!$A118:$H118,,MATCH(FALSE,ISERROR(SEARCH(H$1&\"=\",Data!$A118:$H118)),0)),H$1&\"=\",\"\"),\"\")","v":""},{"$f":"IFERROR(SUBSTITUTE(INDEX(Data!$A118:$H118,,MATCH(FALSE,ISERROR(SEARCH(I$1&\"=\",Data!$A118:$H118)),0)),I$1&\"=\",\"\"),\"\")","v":""},{"$f":"IFERROR(SUBSTITUTE(INDEX(Data!$A118:$H118,,MATCH(FALSE,ISERROR(SEARCH(J$1&\"=\",Data!$A118:$H118)),0)),J$1&\"=\",\"\"),\"\")","v":""}]
[{"$f":"IFERROR(SUBSTITUTE(INDEX(Data!$A119:$H119,,MATCH(FALSE,ISERROR(SEARCH(A$1&\"=\",Data!$A119:$H119)),0)),A$1&\"=\",\"\"),\"\")","v":""},{"$f":"IFERROR(SUBSTITUTE(INDEX(Data!$A119:$H119,,MATCH(FALSE,ISERROR(SEARCH(B$1&\"=\",Data!$A119:$H119)),0)),B$1&\"=\",\"\"),\"\")","v":""},{"$f":"IFERROR(SUBSTITUTE(INDEX(Data!$A119:$H119,,MATCH(FALSE,ISERROR(SEARCH(C$1&\"=\",Data!$A119:$H119)),0)),C$1&\"=\",\"\"),\"\")","v":""},{"$f":"IFERROR(SUBSTITUTE(INDEX(Data!$A119:$H119,,MATCH(FALSE,ISERROR(SEARCH(D$1&\"=\",Data!$A119:$H119)),0)),D$1&\"=\",\"\"),\"\")","v":""},{"$f":"IFERROR(SUBSTITUTE(INDEX(Data!$A119:$H119,,MATCH(FALSE,ISERROR(SEARCH(E$1&\"=\",Data!$A119:$H119)),0)),E$1&\"=\",\"\"),\"\")","v":""},{"$f":"IFERROR(SUBSTITUTE(INDEX(Data!$A119:$H119,,MATCH(FALSE,ISERROR(SEARCH(F$1&\"=\",Data!$A119:$H119)),0)),F$1&\"=\",\"\"),\"\")","v":""},{"$f":"IFERROR(SUBSTITUTE(INDEX(Data!$A119:$H119,,MATCH(FALSE,ISERROR(SEARCH(G$1&\"=\",Data!$A119:$H119)),0)),G$1&\"=\",\"\"),\"\")","v":""},{"$f":"IFERROR(SUBSTITUTE(INDEX(Data!$A119:$H119,,MATCH(FALSE,ISERROR(SEARCH(H$1&\"=\",Data!$A119:$H119)),0)),H$1&\"=\",\"\"),\"\")","v":""},{"$f":"IFERROR(SUBSTITUTE(INDEX(Data!$A119:$H119,,MATCH(FALSE,ISERROR(SEARCH(I$1&\"=\",Data!$A119:$H119)),0)),I$1&\"=\",\"\"),\"\")","v":""},{"$f":"IFERROR(SUBSTITUTE(INDEX(Data!$A119:$H119,,MATCH(FALSE,ISERROR(SEARCH(J$1&\"=\",Data!$A119:$H119)),0)),J$1&\"=\",\"\"),\"\")","v":""}]
[{"$f":"IFERROR(SUBSTITUTE(INDEX(Data!$A120:$H120,,MATCH(FALSE,ISERROR(SEARCH(A$1&\"=\",Data!$A120:$H120)),0)),A$1&\"=\",\"\"),\"\")","v":""},{"$f":"IFERROR(SUBSTITUTE(INDEX(Data!$A120:$H120,,MATCH(FALSE,ISERROR(SEARCH(B$1&\"=\",Data!$A120:$H120)),0)),B$1&\"=\",\"\"),\"\")","v":""},{"$f":"IFERROR(SUBSTITUTE(INDEX(Data!$A120:$H120,,MATCH(FALSE,ISERROR(SEARCH(C$1&\"=\",Data!$A120:$H120)),0)),C$1&\"=\",\"\"),\"\")","v":""},{"$f":"IFERROR(SUBSTITUTE(INDEX(Data!$A120:$H120,,MATCH(FALSE,ISERROR(SEARCH(D$1&\"=\",Data!$A120:$H120)),0)),D$1&\"=\",\"\"),\"\")","v":""},{"$f":"IFERROR(SUBSTITUTE(INDEX(Data!$A120:$H120,,MATCH(FALSE,ISERROR(SEARCH(E$1&\"=\",Data!$A120:$H120)),0)),E$1&\"=\",\"\"),\"\")","v":""},{"$f":"IFERROR(SUBSTITUTE(INDEX(Data!$A120:$H120,,MATCH(FALSE,ISERROR(SEARCH(F$1&\"=\",Data!$A120:$H120)),0)),F$1&\"=\",\"\"),\"\")","v":""},{"$f":"IFERROR(SUBSTITUTE(INDEX(Data!$A120:$H120,,MATCH(FALSE,ISERROR(SEARCH(G$1&\"=\",Data!$A120:$H120)),0)),G$1&\"=\",\"\"),\"\")","v":""},{"$f":"IFERROR(SUBSTITUTE(INDEX(Data!$A120:$H120,,MATCH(FALSE,ISERROR(SEARCH(H$1&\"=\",Data!$A120:$H120)),0)),H$1&\"=\",\"\"),\"\")","v":""},{"$f":"IFERROR(SUBSTITUTE(INDEX(Data!$A120:$H120,,MATCH(FALSE,ISERROR(SEARCH(I$1&\"=\",Data!$A120:$H120)),0)),I$1&\"=\",\"\"),\"\")","v":""},{"$f":"IFERROR(SUBSTITUTE(INDEX(Data!$A120:$H120,,MATCH(FALSE,ISERROR(SEARCH(J$1&\"=\",Data!$A120:$H120)),0)),J$1&\"=\",\"\"),\"\")","v":""}]
[{"$f":"IFERROR(SUBSTITUTE(INDEX(Data!$A121:$H121,,MATCH(FALSE,ISERROR(SEARCH(A$1&\"=\",Data!$A121:$H121)),0)),A$1&\"=\",\"\"),\"\")","v":""},{"$f":"IFERROR(SUBSTITUTE(INDEX(Data!$A121:$H121,,MATCH(FALSE,ISERROR(SEARCH(B$1&\"=\",Data!$A121:$H121)),0)),B$1&\"=\",\"\"),\"\")","v":""},{"$f":"IFERROR(SUBSTITUTE(INDEX(Data!$A121:$H121,,MATCH(FALSE,ISERROR(SEARCH(C$1&\"=\",Data!$A121:$H121)),0)),C$1&\"=\",\"\"),\"\")","v":""},{"$f":"IFERROR(SUBSTITUTE(INDEX(Data!$A121:$H121,,MATCH(FALSE,ISERROR(SEARCH(D$1&\"=\",Data!$A121:$H121)),0)),D$1&\"=\",\"\"),\"\")","v":""},{"$f":"IFERROR(SUBSTITUTE(INDEX(Data!$A121:$H121,,MATCH(FALSE,ISERROR(SEARCH(E$1&\"=\",Data!$A121:$H121)),0)),E$1&\"=\",\"\"),\"\")","v":""},{"$f":"IFERROR(SUBSTITUTE(INDEX(Data!$A121:$H121,,MATCH(FALSE,ISERROR(SEARCH(F$1&\"=\",Data!$A121:$H121)),0)),F$1&\"=\",\"\"),\"\")","v":""},{"$f":"IFERROR(SUBSTITUTE(INDEX(Data!$A121:$H121,,MATCH(FALSE,ISERROR(SEARCH(G$1&\"=\",Data!$A121:$H121)),0)),G$1&\"=\",\"\"),\"\")","v":""},{"$f":"IFERROR(SUBSTITUTE(INDEX(Data!$A121:$H121,,MATCH(FALSE,ISERROR(SEARCH(H$1&\"=\",Data!$A121:$H121)),0)),H$1&\"=\",\"\"),\"\")","v":""},{"$f":"IFERROR(SUBSTITUTE(INDEX(Data!$A121:$H121,,MATCH(FALSE,ISERROR(SEARCH(I$1&\"=\",Data!$A121:$H121)),0)),I$1&\"=\",\"\"),\"\")","v":""},{"$f":"IFERROR(SUBSTITUTE(INDEX(Data!$A121:$H121,,MATCH(FALSE,ISERROR(SEARCH(J$1&\"=\",Data!$A121:$H121)),0)),J$1&\"=\",\"\"),\"\")","v":""}]
[{"$f":"IFERROR(SUBSTITUTE(INDEX(Data!$A122:$H122,,MATCH(FALSE,ISERROR(SEARCH(A$1&\"=\",Data!$A122:$H122)),0)),A$1&\"=\",\"\"),\"\")","v":""},{"$f":"IFERROR(SUBSTITUTE(INDEX(Data!$A122:$H122,,MATCH(FALSE,ISERROR(SEARCH(B$1&\"=\",Data!$A122:$H122)),0)),B$1&\"=\",\"\"),\"\")","v":""},{"$f":"IFERROR(SUBSTITUTE(INDEX(Data!$A122:$H122,,MATCH(FALSE,ISERROR(SEARCH(C$1&\"=\",Data!$A122:$H122)),0)),C$1&\"=\",\"\"),\"\")","v":""},{"$f":"IFERROR(SUBSTITUTE(INDEX(Data!$A122:$H122,,MATCH(FALSE,ISERROR(SEARCH(D$1&\"=\",Data!$A122:$H122)),0)),D$1&\"=\",\"\"),\"\")","v":""},{"$f":"IFERROR(SUBSTITUTE(INDEX(Data!$A122:$H122,,MATCH(FALSE,ISERROR(SEARCH(E$1&\"=\",Data!$A122:$H122)),0)),E$1&\"=\",\"\"),\"\")","v":""},{"$f":"IFERROR(SUBSTITUTE(INDEX(Data!$A122:$H122,,MATCH(FALSE,ISERROR(SEARCH(F$1&\"=\",Data!$A122:$H122)),0)),F$1&\"=\",\"\"),\"\")","v":""},{"$f":"IFERROR(SUBSTITUTE(INDEX(Data!$A122:$H122,,MATCH(FALSE,ISERROR(SEARCH(G$1&\"=\",Data!$A122:$H122)),0)),G$1&\"=\",\"\"),\"\")","v":""},{"$f":"IFERROR(SUBSTITUTE(INDEX(Data!$A122:$H122,,MATCH(FALSE,ISERROR(SEARCH(H$1&\"=\",Data!$A122:$H122)),0)),H$1&\"=\",\"\"),\"\")","v":""},{"$f":"IFERROR(SUBSTITUTE(INDEX(Data!$A122:$H122,,MATCH(FALSE,ISERROR(SEARCH(I$1&\"=\",Data!$A122:$H122)),0)),I$1&\"=\",\"\"),\"\")","v":""},{"$f":"IFERROR(SUBSTITUTE(INDEX(Data!$A122:$H122,,MATCH(FALSE,ISERROR(SEARCH(J$1&\"=\",Data!$A122:$H122)),0)),J$1&\"=\",\"\"),\"\")","v":""}]
[{"$f":"IFERROR(SUBSTITUTE(INDEX(Data!$A123:$H123,,MATCH(FALSE,ISERROR(SEARCH(A$1&\"=\",Data!$A123:$H123)),0)),A$1&\"=\",\"\"),\"\")","v":""},{"$f":"IFERROR(SUBSTITUTE(INDEX(Data!$A123:$H123,,MATCH(FALSE,ISERROR(SEARCH(B$1&\"=\",Data!$A123:$H123)),0)),B$1&\"=\",\"\"),\"\")","v":""},{"$f":"IFERROR(SUBSTITUTE(INDEX(Data!$A123:$H123,,MATCH(FALSE,ISERROR(SEARCH(C$1&\"=\",Data!$A123:$H123)),0)),C$1&\"=\",\"\"),\"\")","v":""},{"$f":"IFERROR(SUBSTITUTE(INDEX(Data!$A123:$H123,,MATCH(FALSE,ISERROR(SEARCH(D$1&\"=\",Data!$A123:$H123)),0)),D$1&\"=\",\"\"),\"\")","v":""},{"$f":"IFERROR(SUBSTITUTE(INDEX(Data!$A123:$H123,,MATCH(FALSE,ISERROR(SEARCH(E$1&\"=\",Data!$A123:$H123)),0)),E$1&\"=\",\"\"),\"\")","v":""},{"$f":"IFERROR(SUBSTITUTE(INDEX(Data!$A123:$H123,,MATCH(FALSE,ISERROR(SEARCH(F$1&\"=\",Data!$A123:$H123)),0)),F$1&\"=\",\"\"),\"\")","v":""},{"$f":"IFERROR(SUBSTITUTE(INDEX(Data!$A123:$H123,,MATCH(FALSE,ISERROR(SEARCH(G$1&\"=\",Data!$A123:$H123)),0)),G$1&\"=\",\"\"),\"\")","v":""},{"$f":"IFERROR(SUBSTITUTE(INDEX(Data!$A123:$H123,,MATCH(FALSE,ISERROR(SEARCH(H$1&\"=\",Data!$A123:$H123)),0)),H$1&\"=\",\"\"),\"\")","v":""},{"$f":"IFERROR(SUBSTITUTE(INDEX(Data!$A123:$H123,,MATCH(FALSE,ISERROR(SEARCH(I$1&\"=\",Data!$A123:$H123)),0)),I$1&\"=\",\"\"),\"\")","v":""},{"$f":"IFERROR(SUBSTITUTE(INDEX(Data!$A123:$H123,,MATCH(FALSE,ISERROR(SEARCH(J$1&\"=\",Data!$A123:$H123)),0)),J$1&\"=\",\"\"),\"\")","v":""}]
[{"$f":"IFERROR(SUBSTITUTE(INDEX(Data!$A124:$H124,,MATCH(FALSE,ISERROR(SEARCH(A$1&\"=\",Data!$A124:$H124)),0)),A$1&\"=\",\"\"),\"\")","v":""},{"$f":"IFERROR(SUBSTITUTE(INDEX(Data!$A124:$H124,,MATCH(FALSE,ISERROR(SEARCH(B$1&\"=\",Data!$A124:$H124)),0)),B$1&\"=\",\"\"),\"\")","v":""},{"$f":"IFERROR(SUBSTITUTE(INDEX(Data!$A124:$H124,,MATCH(FALSE,ISERROR(SEARCH(C$1&\"=\",Data!$A124:$H124)),0)),C$1&\"=\",\"\"),\"\")","v":""},{"$f":"IFERROR(SUBSTITUTE(INDEX(Data!$A124:$H124,,MATCH(FALSE,ISERROR(SEARCH(D$1&\"=\",Data!$A124:$H124)),0)),D$1&\"=\",\"\"),\"\")","v":""},{"$f":"IFERROR(SUBSTITUTE(INDEX(Data!$A124:$H124,,MATCH(FALSE,ISERROR(SEARCH(E$1&\"=\",Data!$A124:$H124)),0)),E$1&\"=\",\"\"),\"\")","v":""},{"$f":"IFERROR(SUBSTITUTE(INDEX(Data!$A124:$H124,,MATCH(FALSE,ISERROR(SEARCH(F$1&\"=\",Data!$A124:$H124)),0)),F$1&\"=\",\"\"),\"\")","v":""},{"$f":"IFERROR(SUBSTITUTE(INDEX(Data!$A124:$H124,,MATCH(FALSE,ISERROR(SEARCH(G$1&\"=\",Data!$A124:$H124)),0)),G$1&\"=\",\"\"),\"\")","v":""},{"$f":"IFERROR(SUBSTITUTE(INDEX(Data!$A124:$H124,,MATCH(FALSE,ISERROR(SEARCH(H$1&\"=\",Data!$A124:$H124)),0)),H$1&\"=\",\"\"),\"\")","v":""},{"$f":"IFERROR(SUBSTITUTE(INDEX(Data!$A124:$H124,,MATCH(FALSE,ISERROR(SEARCH(I$1&\"=\",Data!$A124:$H124)),0)),I$1&\"=\",\"\"),\"\")","v":""},{"$f":"IFERROR(SUBSTITUTE(INDEX(Data!$A124:$H124,,MATCH(FALSE,ISERROR(SEARCH(J$1&\"=\",Data!$A124:$H124)),0)),J$1&\"=\",\"\"),\"\")","v":""}]
[{"$f":"IFERROR(SUBSTITUTE(INDEX(Data!$A125:$H125,,MATCH(FALSE,ISERROR(SEARCH(A$1&\"=\",Data!$A125:$H125)),0)),A$1&\"=\",\"\"),\"\")","v":""},{"$f":"IFERROR(SUBSTITUTE(INDEX(Data!$A125:$H125,,MATCH(FALSE,ISERROR(SEARCH(B$1&\"=\",Data!$A125:$H125)),0)),B$1&\"=\",\"\"),\"\")","v":""},{"$f":"IFERROR(SUBSTITUTE(INDEX(Data!$A125:$H125,,MATCH(FALSE,ISERROR(SEARCH(C$1&\"=\",Data!$A125:$H125)),0)),C$1&\"=\",\"\"),\"\")","v":""},{"$f":"IFERROR(SUBSTITUTE(INDEX(Data!$A125:$H125,,MATCH(FALSE,ISERROR(SEARCH(D$1&\"=\",Data!$A125:$H125)),0)),D$1&\"=\",\"\"),\"\")","v":""},{"$f":"IFERROR(SUBSTITUTE(INDEX(Data!$A125:$H125,,MATCH(FALSE,ISERROR(SEARCH(E$1&\"=\",Data!$A125:$H125)),0)),E$1&\"=\",\"\"),\"\")","v":""},{"$f":"IFERROR(SUBSTITUTE(INDEX(Data!$A125:$H125,,MATCH(FALSE,ISERROR(SEARCH(F$1&\"=\",Data!$A125:$H125)),0)),F$1&\"=\",\"\"),\"\")","v":""},{"$f":"IFERROR(SUBSTITUTE(INDEX(Data!$A125:$H125,,MATCH(FALSE,ISERROR(SEARCH(G$1&\"=\",Data!$A125:$H125)),0)),G$1&\"=\",\"\"),\"\")","v":""},{"$f":"IFERROR(SUBSTITUTE(INDEX(Data!$A125:$H125,,MATCH(FALSE,ISERROR(SEARCH(H$1&\"=\",Data!$A125:$H125)),0)),H$1&\"=\",\"\"),\"\")","v":""},{"$f":"IFERROR(SUBSTITUTE(INDEX(Data!$A125:$H125,,MATCH(FALSE,ISERROR(SEARCH(I$1&\"=\",Data!$A125:$H125)),0)),I$1&\"=\",\"\"),\"\")","v":""},{"$f":"IFERROR(SUBSTITUTE(INDEX(Data!$A125:$H125,,MATCH(FALSE,ISERROR(SEARCH(J$1&\"=\",Data!$A125:$H125)),0)),J$1&\"=\",\"\"),\"\")","v":""}]
[{"$f":"IFERROR(SUBSTITUTE(INDEX(Data!$A126:$H126,,MATCH(FALSE,ISERROR(SEARCH(A$1&\"=\",Data!$A126:$H126)),0)),A$1&\"=\",\"\"),\"\")","v":""},{"$f":"IFERROR(SUBSTITUTE(INDEX(Data!$A126:$H126,,MATCH(FALSE,ISERROR(SEARCH(B$1&\"=\",Data!$A126:$H126)),0)),B$1&\"=\",\"\"),\"\")","v":""},{"$f":"IFERROR(SUBSTITUTE(INDEX(Data!$A126:$H126,,MATCH(FALSE,ISERROR(SEARCH(C$1&\"=\",Data!$A126:$H126)),0)),C$1&\"=\",\"\"),\"\")","v":""},{"$f":"IFERROR(SUBSTITUTE(INDEX(Data!$A126:$H126,,MATCH(FALSE,ISERROR(SEARCH(D$1&\"=\",Data!$A126:$H126)),0)),D$1&\"=\",\"\"),\"\")","v":""},{"$f":"IFERROR(SUBSTITUTE(INDEX(Data!$A126:$H126,,MATCH(FALSE,ISERROR(SEARCH(E$1&\"=\",Data!$A126:$H126)),0)),E$1&\"=\",\"\"),\"\")","v":""},{"$f":"IFERROR(SUBSTITUTE(INDEX(Data!$A126:$H126,,MATCH(FALSE,ISERROR(SEARCH(F$1&\"=\",Data!$A126:$H126)),0)),F$1&\"=\",\"\"),\"\")","v":""},{"$f":"IFERROR(SUBSTITUTE(INDEX(Data!$A126:$H126,,MATCH(FALSE,ISERROR(SEARCH(G$1&\"=\",Data!$A126:$H126)),0)),G$1&\"=\",\"\"),\"\")","v":""},{"$f":"IFERROR(SUBSTITUTE(INDEX(Data!$A126:$H126,,MATCH(FALSE,ISERROR(SEARCH(H$1&\"=\",Data!$A126:$H126)),0)),H$1&\"=\",\"\"),\"\")","v":""},{"$f":"IFERROR(SUBSTITUTE(INDEX(Data!$A126:$H126,,MATCH(FALSE,ISERROR(SEARCH(I$1&\"=\",Data!$A126:$H126)),0)),I$1&\"=\",\"\"),\"\")","v":""},{"$f":"IFERROR(SUBSTITUTE(INDEX(Data!$A126:$H126,,MATCH(FALSE,ISERROR(SEARCH(J$1&\"=\",Data!$A126:$H126)),0)),J$1&\"=\",\"\"),\"\")","v":""}]
[{"$f":"IFERROR(SUBSTITUTE(INDEX(Data!$A127:$H127,,MATCH(FALSE,ISERROR(SEARCH(A$1&\"=\",Data!$A127:$H127)),0)),A$1&\"=\",\"\"),\"\")","v":""},{"$f":"IFERROR(SUBSTITUTE(INDEX(Data!$A127:$H127,,MATCH(FALSE,ISERROR(SEARCH(B$1&\"=\",Data!$A127:$H127)),0)),B$1&\"=\",\"\"),\"\")","v":""},{"$f":"IFERROR(SUBSTITUTE(INDEX(Data!$A127:$H127,,MATCH(FALSE,ISERROR(SEARCH(C$1&\"=\",Data!$A127:$H127)),0)),C$1&\"=\",\"\"),\"\")","v":""},{"$f":"IFERROR(SUBSTITUTE(INDEX(Data!$A127:$H127,,MATCH(FALSE,ISERROR(SEARCH(D$1&\"=\",Data!$A127:$H127)),0)),D$1&\"=\",\"\"),\"\")","v":""},{"$f":"IFERROR(SUBSTITUTE(INDEX(Data!$A127:$H127,,MATCH(FALSE,ISERROR(SEARCH(E$1&\"=\",Data!$A127:$H127)),0)),E$1&\"=\",\"\"),\"\")","v":""},{"$f":"IFERROR(SUBSTITUTE(INDEX(Data!$A127:$H127,,MATCH(FALSE,ISERROR(SEARCH(F$1&\"=\",Data!$A127:$H127)),0)),F$1&\"=\",\"\"),\"\")","v":""},{"$f":"IFERROR(SUBSTITUTE(INDEX(Data!$A127:$H127,,MATCH(FALSE,ISERROR(SEARCH(G$1&\"=\",Data!$A127:$H127)),0)),G$1&\"=\",\"\"),\"\")","v":""},{"$f":"IFERROR(SUBSTITUTE(INDEX(Data!$A127:$H127,,MATCH(FALSE,ISERROR(SEARCH(H$1&\"=\",Data!$A127:$H127)),0)),H$1&\"=\",\"\"),\"\")","v":""},{"$f":"IFERROR(SUBSTITUTE(INDEX(Data!$A127:$H127,,MATCH(FALSE,ISERROR(SEARCH(I$1&\"=\",Data!$A127:$H127)),0)),I$1&\"=\",\"\"),\"\")","v":""},{"$f":"IFERROR(SUBSTITUTE(INDEX(Data!$A127:$H127,,MATCH(FALSE,ISERROR(SEARCH(J$1&\"=\",Data!$A127:$H127)),0)),J$1&\"=\",\"\"),\"\")","v":""}]
[{"$f":"IFERROR(SUBSTITUTE(INDEX(Data!$A128:$H128,,MATCH(FALSE,ISERROR(SEARCH(A$1&\"=\",Data!$A128:$H128)),0)),A$1&\"=\",\"\"),\"\")","v":""},{"$f":"IFERROR(SUBSTITUTE(INDEX(Data!$A128:$H128,,MATCH(FALSE,ISERROR(SEARCH(B$1&\"=\",Data!$A128:$H128)),0)),B$1&\"=\",\"\"),\"\")","v":""},{"$f":"IFERROR(SUBSTITUTE(INDEX(Data!$A128:$H128,,MATCH(FALSE,ISERROR(SEARCH(C$1&\"=\",Data!$A128:$H128)),0)),C$1&\"=\",\"\"),\"\")","v":""},{"$f":"IFERROR(SUBSTITUTE(INDEX(Data!$A128:$H128,,MATCH(FALSE,ISERROR(SEARCH(D$1&\"=\",Data!$A128:$H128)),0)),D$1&\"=\",\"\"),\"\")","v":""},{"$f":"IFERROR(SUBSTITUTE(INDEX(Data!$A128:$H128,,MATCH(FALSE,ISERROR(SEARCH(E$1&\"=\",Data!$A128:$H128)),0)),E$1&\"=\",\"\"),\"\")","v":""},{"$f":"IFERROR(SUBSTITUTE(INDEX(Data!$A128:$H128,,MATCH(FALSE,ISERROR(SEARCH(F$1&\"=\",Data!$A128:$H128)),0)),F$1&\"=\",\"\"),\"\")","v":""},{"$f":"IFERROR(SUBSTITUTE(INDEX(Data!$A128:$H128,,MATCH(FALSE,ISERROR(SEARCH(G$1&\"=\",Data!$A128:$H128)),0)),G$1&\"=\",\"\"),\"\")","v":""},{"$f":"IFERROR(SUBSTITUTE(INDEX(Data!$A128:$H128,,MATCH(FALSE,ISERROR(SEARCH(H$1&\"=\",Data!$A128:$H128)),0)),H$1&\"=\",\"\"),\"\")","v":""},{"$f":"IFERROR(SUBSTITUTE(INDEX(Data!$A128:$H128,,MATCH(FALSE,ISERROR(SEARCH(I$1&\"=\",Data!$A128:$H128)),0)),I$1&\"=\",\"\"),\"\")","v":""},{"$f":"IFERROR(SUBSTITUTE(INDEX(Data!$A128:$H128,,MATCH(FALSE,ISERROR(SEARCH(J$1&\"=\",Data!$A128:$H128)),0)),J$1&\"=\",\"\"),\"\")","v":""}]
[{"$f":"IFERROR(SUBSTITUTE(INDEX(Data!$A129:$H129,,MATCH(FALSE,ISERROR(SEARCH(A$1&\"=\",Data!$A129:$H129)),0)),A$1&\"=\",\"\"),\"\")","v":""},{"$f":"IFERROR(SUBSTITUTE(INDEX(Data!$A129:$H129,,MATCH(FALSE,ISERROR(SEARCH(B$1&\"=\",Data!$A129:$H129)),0)),B$1&\"=\",\"\"),\"\")","v":""},{"$f":"IFERROR(SUBSTITUTE(INDEX(Data!$A129:$H129,,MATCH(FALSE,ISERROR(SEARCH(C$1&\"=\",Data!$A129:$H129)),0)),C$1&\"=\",\"\"),\"\")","v":""},{"$f":"IFERROR(SUBSTITUTE(INDEX(Data!$A129:$H129,,MATCH(FALSE,ISERROR(SEARCH(D$1&\"=\",Data!$A129:$H129)),0)),D$1&\"=\",\"\"),\"\")","v":""},{"$f":"IFERROR(SUBSTITUTE(INDEX(Data!$A129:$H129,,MATCH(FALSE,ISERROR(SEARCH(E$1&\"=\",Data!$A129:$H129)),0)),E$1&\"=\",\"\"),\"\")","v":""},{"$f":"IFERROR(SUBSTITUTE(INDEX(Data!$A129:$H129,,MATCH(FALSE,ISERROR(SEARCH(F$1&\"=\",Data!$A129:$H129)),0)),F$1&\"=\",\"\"),\"\")","v":""},{"$f":"IFERROR(SUBSTITUTE(INDEX(Data!$A129:$H129,,MATCH(FALSE,ISERROR(SEARCH(G$1&\"=\",Data!$A129:$H129)),0)),G$1&\"=\",\"\"),\"\")","v":""},{"$f":"IFERROR(SUBSTITUTE(INDEX(Data!$A129:$H129,,MATCH(FALSE,ISERROR(SEARCH(H$1&\"=\",Data!$A129:$H129)),0)),H$1&\"=\",\"\"),\"\")","v":""},{"$f":"IFERROR(SUBSTITUTE(INDEX(Data!$A129:$H129,,MATCH(FALSE,ISERROR(SEARCH(I$1&\"=\",Data!$A129:$H129)),0)),I$1&\"=\",\"\"),\"\")","v":""},{"$f":"IFERROR(SUBSTITUTE(INDEX(Data!$A129:$H129,,MATCH(FALSE,ISERROR(SEARCH(J$1&\"=\",Data!$A129:$H129)),0)),J$1&\"=\",\"\"),\"\")","v":""}]
[{"$f":"IFERROR(SUBSTITUTE(INDEX(Data!$A130:$H130,,MATCH(FALSE,ISERROR(SEARCH(A$1&\"=\",Data!$A130:$H130)),0)),A$1&\"=\",\"\"),\"\")","v":""},{"$f":"IFERROR(SUBSTITUTE(INDEX(Data!$A130:$H130,,MATCH(FALSE,ISERROR(SEARCH(B$1&\"=\",Data!$A130:$H130)),0)),B$1&\"=\",\"\"),\"\")","v":""},{"$f":"IFERROR(SUBSTITUTE(INDEX(Data!$A130:$H130,,MATCH(FALSE,ISERROR(SEARCH(C$1&\"=\",Data!$A130:$H130)),0)),C$1&\"=\",\"\"),\"\")","v":""},{"$f":"IFERROR(SUBSTITUTE(INDEX(Data!$A130:$H130,,MATCH(FALSE,ISERROR(SEARCH(D$1&\"=\",Data!$A130:$H130)),0)),D$1&\"=\",\"\"),\"\")","v":""},{"$f":"IFERROR(SUBSTITUTE(INDEX(Data!$A130:$H130,,MATCH(FALSE,ISERROR(SEARCH(E$1&\"=\",Data!$A130:$H130)),0)),E$1&\"=\",\"\"),\"\")","v":""},{"$f":"IFERROR(SUBSTITUTE(INDEX(Data!$A130:$H130,,MATCH(FALSE,ISERROR(SEARCH(F$1&\"=\",Data!$A130:$H130)),0)),F$1&\"=\",\"\"),\"\")","v":""},{"$f":"IFERROR(SUBSTITUTE(INDEX(Data!$A130:$H130,,MATCH(FALSE,ISERROR(SEARCH(G$1&\"=\",Data!$A130:$H130)),0)),G$1&\"=\",\"\"),\"\")","v":""},{"$f":"IFERROR(SUBSTITUTE(INDEX(Data!$A130:$H130,,MATCH(FALSE,ISERROR(SEARCH(H$1&\"=\",Data!$A130:$H130)),0)),H$1&\"=\",\"\"),\"\")","v":""},{"$f":"IFERROR(SUBSTITUTE(INDEX(Data!$A130:$H130,,MATCH(FALSE,ISERROR(SEARCH(I$1&\"=\",Data!$A130:$H130)),0)),I$1&\"=\",\"\"),\"\")","v":""},{"$f":"IFERROR(SUBSTITUTE(INDEX(Data!$A130:$H130,,MATCH(FALSE,ISERROR(SEARCH(J$1&\"=\",Data!$A130:$H130)),0)),J$1&\"=\",\"\"),\"\")","v":""}]
[{"$f":"IFERROR(SUBSTITUTE(INDEX(Data!$A131:$H131,,MATCH(FALSE,ISERROR(SEARCH(A$1&\"=\",Data!$A131:$H131)),0)),A$1&\"=\",\"\"),\"\")","v":""},{"$f":"IFERROR(SUBSTITUTE(INDEX(Data!$A131:$H131,,MATCH(FALSE,ISERROR(SEARCH(B$1&\"=\",Data!$A131:$H131)),0)),B$1&\"=\",\"\"),\"\")","v":""},{"$f":"IFERROR(SUBSTITUTE(INDEX(Data!$A131:$H131,,MATCH(FALSE,ISERROR(SEARCH(C$1&\"=\",Data!$A131:$H131)),0)),C$1&\"=\",\"\"),\"\")","v":""},{"$f":"IFERROR(SUBSTITUTE(INDEX(Data!$A131:$H131,,MATCH(FALSE,ISERROR(SEARCH(D$1&\"=\",Data!$A131:$H131)),0)),D$1&\"=\",\"\"),\"\")","v":""},{"$f":"IFERROR(SUBSTITUTE(INDEX(Data!$A131:$H131,,MATCH(FALSE,ISERROR(SEARCH(E$1&\"=\",Data!$A131:$H131)),0)),E$1&\"=\",\"\"),\"\")","v":""},{"$f":"IFERROR(SUBSTITUTE(INDEX(Data!$A131:$H131,,MATCH(FALSE,ISERROR(SEARCH(F$1&\"=\",Data!$A131:$H131)),0)),F$1&\"=\",\"\"),\"\")","v":""},{"$f":"IFERROR(SUBSTITUTE(INDEX(Data!$A131:$H131,,MATCH(FALSE,ISERROR(SEARCH(G$1&\"=\",Data!$A131:$H131)),0)),G$1&\"=\",\"\"),\"\")","v":""},{"$f":"IFERROR(SUBSTITUTE(INDEX(Data!$A131:$H131,,MATCH(FALSE,ISERROR(SEARCH(H$1&\"=\",Data!$A131:$H131)),0)),H$1&\"=\",\"\"),\"\")","v":""},{"$f":"IFERROR(SUBSTITUTE(INDEX(Data!$A131:$H131,,MATCH(FALSE,ISERROR(SEARCH(I$1&\"=\",Data!$A131:$H131)),0)),I$1&\"=\",\"\"),\"\")","v":""},{"$f":"IFERROR(SUBSTITUTE(INDEX(Data!$A131:$H131,,MATCH(FALSE,ISERROR(SEARCH(J$1&\"=\",Data!$A131:$H131)),0)),J$1&\"=\",\"\"),\"\")","v":""}]
[{"$f":"IFERROR(SUBSTITUTE(INDEX(Data!$A132:$H132,,MATCH(FALSE,ISERROR(SEARCH(A$1&\"=\",Data!$A132:$H132)),0)),A$1&\"=\",\"\"),\"\")","v":""},{"$f":"IFERROR(SUBSTITUTE(INDEX(Data!$A132:$H132,,MATCH(FALSE,ISERROR(SEARCH(B$1&\"=\",Data!$A132:$H132)),0)),B$1&\"=\",\"\"),\"\")","v":""},{"$f":"IFERROR(SUBSTITUTE(INDEX(Data!$A132:$H132,,MATCH(FALSE,ISERROR(SEARCH(C$1&\"=\",Data!$A132:$H132)),0)),C$1&\"=\",\"\"),\"\")","v":""},{"$f":"IFERROR(SUBSTITUTE(INDEX(Data!$A132:$H132,,MATCH(FALSE,ISERROR(SEARCH(D$1&\"=\",Data!$A132:$H132)),0)),D$1&\"=\",\"\"),\"\")","v":""},{"$f":"IFERROR(SUBSTITUTE(INDEX(Data!$A132:$H132,,MATCH(FALSE,ISERROR(SEARCH(E$1&\"=\",Data!$A132:$H132)),0)),E$1&\"=\",\"\"),\"\")","v":""},{"$f":"IFERROR(SUBSTITUTE(INDEX(Data!$A132:$H132,,MATCH(FALSE,ISERROR(SEARCH(F$1&\"=\",Data!$A132:$H132)),0)),F$1&\"=\",\"\"),\"\")","v":""},{"$f":"IFERROR(SUBSTITUTE(INDEX(Data!$A132:$H132,,MATCH(FALSE,ISERROR(SEARCH(G$1&\"=\",Data!$A132:$H132)),0)),G$1&\"=\",\"\"),\"\")","v":""},{"$f":"IFERROR(SUBSTITUTE(INDEX(Data!$A132:$H132,,MATCH(FALSE,ISERROR(SEARCH(H$1&\"=\",Data!$A132:$H132)),0)),H$1&\"=\",\"\"),\"\")","v":""},{"$f":"IFERROR(SUBSTITUTE(INDEX(Data!$A132:$H132,,MATCH(FALSE,ISERROR(SEARCH(I$1&\"=\",Data!$A132:$H132)),0)),I$1&\"=\",\"\"),\"\")","v":""},{"$f":"IFERROR(SUBSTITUTE(INDEX(Data!$A132:$H132,,MATCH(FALSE,ISERROR(SEARCH(J$1&\"=\",Data!$A132:$H132)),0)),J$1&\"=\",\"\"),\"\")","v":""}]
[{"$f":"IFERROR(SUBSTITUTE(INDEX(Data!$A133:$H133,,MATCH(FALSE,ISERROR(SEARCH(A$1&\"=\",Data!$A133:$H133)),0)),A$1&\"=\",\"\"),\"\")","v":""},{"$f":"IFERROR(SUBSTITUTE(INDEX(Data!$A133:$H133,,MATCH(FALSE,ISERROR(SEARCH(B$1&\"=\",Data!$A133:$H133)),0)),B$1&\"=\",\"\"),\"\")","v":""},{"$f":"IFERROR(SUBSTITUTE(INDEX(Data!$A133:$H133,,MATCH(FALSE,ISERROR(SEARCH(C$1&\"=\",Data!$A133:$H133)),0)),C$1&\"=\",\"\"),\"\")","v":""},{"$f":"IFERROR(SUBSTITUTE(INDEX(Data!$A133:$H133,,MATCH(FALSE,ISERROR(SEARCH(D$1&\"=\",Data!$A133:$H133)),0)),D$1&\"=\",\"\"),\"\")","v":""},{"$f":"IFERROR(SUBSTITUTE(INDEX(Data!$A133:$H133,,MATCH(FALSE,ISERROR(SEARCH(E$1&\"=\",Data!$A133:$H133)),0)),E$1&\"=\",\"\"),\"\")","v":""},{"$f":"IFERROR(SUBSTITUTE(INDEX(Data!$A133:$H133,,MATCH(FALSE,ISERROR(SEARCH(F$1&\"=\",Data!$A133:$H133)),0)),F$1&\"=\",\"\"),\"\")","v":""},{"$f":"IFERROR(SUBSTITUTE(INDEX(Data!$A133:$H133,,MATCH(FALSE,ISERROR(SEARCH(G$1&\"=\",Data!$A133:$H133)),0)),G$1&\"=\",\"\"),\"\")","v":""},{"$f":"IFERROR(SUBSTITUTE(INDEX(Data!$A133:$H133,,MATCH(FALSE,ISERROR(SEARCH(H$1&\"=\",Data!$A133:$H133)),0)),H$1&\"=\",\"\"),\"\")","v":""},{"$f":"IFERROR(SUBSTITUTE(INDEX(Data!$A133:$H133,,MATCH(FALSE,ISERROR(SEARCH(I$1&\"=\",Data!$A133:$H133)),0)),I$1&\"=\",\"\"),\"\")","v":""},{"$f":"IFERROR(SUBSTITUTE(INDEX(Data!$A133:$H133,,MATCH(FALSE,ISERROR(SEARCH(J$1&\"=\",Data!$A133:$H133)),0)),J$1&\"=\",\"\"),\"\")","v":""}]
[{"$f":"IFERROR(SUBSTITUTE(INDEX(Data!$A134:$H134,,MATCH(FALSE,ISERROR(SEARCH(A$1&\"=\",Data!$A134:$H134)),0)),A$1&\"=\",\"\"),\"\")","v":""},{"$f":"IFERROR(SUBSTITUTE(INDEX(Data!$A134:$H134,,MATCH(FALSE,ISERROR(SEARCH(B$1&\"=\",Data!$A134:$H134)),0)),B$1&\"=\",\"\"),\"\")","v":""},{"$f":"IFERROR(SUBSTITUTE(INDEX(Data!$A134:$H134,,MATCH(FALSE,ISERROR(SEARCH(C$1&\"=\",Data!$A134:$H134)),0)),C$1&\"=\",\"\"),\"\")","v":""},{"$f":"IFERROR(SUBSTITUTE(INDEX(Data!$A134:$H134,,MATCH(FALSE,ISERROR(SEARCH(D$1&\"=\",Data!$A134:$H134)),0)),D$1&\"=\",\"\"),\"\")","v":""},{"$f":"IFERROR(SUBSTITUTE(INDEX(Data!$A134:$H134,,MATCH(FALSE,ISERROR(SEARCH(E$1&\"=\",Data!$A134:$H134)),0)),E$1&\"=\",\"\"),\"\")","v":""},{"$f":"IFERROR(SUBSTITUTE(INDEX(Data!$A134:$H134,,MATCH(FALSE,ISERROR(SEARCH(F$1&\"=\",Data!$A134:$H134)),0)),F$1&\"=\",\"\"),\"\")","v":""},{"$f":"IFERROR(SUBSTITUTE(INDEX(Data!$A134:$H134,,MATCH(FALSE,ISERROR(SEARCH(G$1&\"=\",Data!$A134:$H134)),0)),G$1&\"=\",\"\"),\"\")","v":""},{"$f":"IFERROR(SUBSTITUTE(INDEX(Data!$A134:$H134,,MATCH(FALSE,ISERROR(SEARCH(H$1&\"=\",Data!$A134:$H134)),0)),H$1&\"=\",\"\"),\"\")","v":""},{"$f":"IFERROR(SUBSTITUTE(INDEX(Data!$A134:$H134,,MATCH(FALSE,ISERROR(SEARCH(I$1&\"=\",Data!$A134:$H134)),0)),I$1&\"=\",\"\"),\"\")","v":""},{"$f":"IFERROR(SUBSTITUTE(INDEX(Data!$A134:$H134,,MATCH(FALSE,ISERROR(SEARCH(J$1&\"=\",Data!$A134:$H134)),0)),J$1&\"=\",\"\"),\"\")","v":""}]
[{"$f":"IFERROR(SUBSTITUTE(INDEX(Data!$A135:$H135,,MATCH(FALSE,ISERROR(SEARCH(A$1&\"=\",Data!$A135:$H135)),0)),A$1&\"=\",\"\"),\"\")","v":""},{"$f":"IFERROR(SUBSTITUTE(INDEX(Data!$A135:$H135,,MATCH(FALSE,ISERROR(SEARCH(B$1&\"=\",Data!$A135:$H135)),0)),B$1&\"=\",\"\"),\"\")","v":""},{"$f":"IFERROR(SUBSTITUTE(INDEX(Data!$A135:$H135,,MATCH(FALSE,ISERROR(SEARCH(C$1&\"=\",Data!$A135:$H135)),0)),C$1&\"=\",\"\"),\"\")","v":""},{"$f":"IFERROR(SUBSTITUTE(INDEX(Data!$A135:$H135,,MATCH(FALSE,ISERROR(SEARCH(D$1&\"=\",Data!$A135:$H135)),0)),D$1&\"=\",\"\"),\"\")","v":""},{"$f":"IFERROR(SUBSTITUTE(INDEX(Data!$A135:$H135,,MATCH(FALSE,ISERROR(SEARCH(E$1&\"=\",Data!$A135:$H135)),0)),E$1&\"=\",\"\"),\"\")","v":""},{"$f":"IFERROR(SUBSTITUTE(INDEX(Data!$A135:$H135,,MATCH(FALSE,ISERROR(SEARCH(F$1&\"=\",Data!$A135:$H135)),0)),F$1&\"=\",\"\"),\"\")","v":""},{"$f":"IFERROR(SUBSTITUTE(INDEX(Data!$A135:$H135,,MATCH(FALSE,ISERROR(SEARCH(G$1&\"=\",Data!$A135:$H135)),0)),G$1&\"=\",\"\"),\"\")","v":""},{"$f":"IFERROR(SUBSTITUTE(INDEX(Data!$A135:$H135,,MATCH(FALSE,ISERROR(SEARCH(H$1&\"=\",Data!$A135:$H135)),0)),H$1&\"=\",\"\"),\"\")","v":""},{"$f":"IFERROR(SUBSTITUTE(INDEX(Data!$A135:$H135,,MATCH(FALSE,ISERROR(SEARCH(I$1&\"=\",Data!$A135:$H135)),0)),I$1&\"=\",\"\"),\"\")","v":""},{"$f":"IFERROR(SUBSTITUTE(INDEX(Data!$A135:$H135,,MATCH(FALSE,ISERROR(SEARCH(J$1&\"=\",Data!$A135:$H135)),0)),J$1&\"=\",\"\"),\"\")","v":""}]
[{"$f":"IFERROR(SUBSTITUTE(INDEX(Data!$A136:$H136,,MATCH(FALSE,ISERROR(SEARCH(A$1&\"=\",Data!$A136:$H136)),0)),A$1&\"=\",\"\"),\"\")","v":""},{"$f":"IFERROR(SUBSTITUTE(INDEX(Data!$A136:$H136,,MATCH(FALSE,ISERROR(SEARCH(B$1&\"=\",Data!$A136:$H136)),0)),B$1&\"=\",\"\"),\"\")","v":""},{"$f":"IFERROR(SUBSTITUTE(INDEX(Data!$A136:$H136,,MATCH(FALSE,ISERROR(SEARCH(C$1&\"=\",Data!$A136:$H136)),0)),C$1&\"=\",\"\"),\"\")","v":""},{"$f":"IFERROR(SUBSTITUTE(INDEX(Data!$A136:$H136,,MATCH(FALSE,ISERROR(SEARCH(D$1&\"=\",Data!$A136:$H136)),0)),D$1&\"=\",\"\"),\"\")","v":""},{"$f":"IFERROR(SUBSTITUTE(INDEX(Data!$A136:$H136,,MATCH(FALSE,ISERROR(SEARCH(E$1&\"=\",Data!$A136:$H136)),0)),E$1&\"=\",\"\"),\"\")","v":""},{"$f":"IFERROR(SUBSTITUTE(INDEX(Data!$A136:$H136,,MATCH(FALSE,ISERROR(SEARCH(F$1&\"=\",Data!$A136:$H136)),0)),F$1&\"=\",\"\"),\"\")","v":""},{"$f":"IFERROR(SUBSTITUTE(INDEX(Data!$A136:$H136,,MATCH(FALSE,ISERROR(SEARCH(G$1&\"=\",Data!$A136:$H136)),0)),G$1&\"=\",\"\"),\"\")","v":""},{"$f":"IFERROR(SUBSTITUTE(INDEX(Data!$A136:$H136,,MATCH(FALSE,ISERROR(SEARCH(H$1&\"=\",Data!$A136:$H136)),0)),H$1&\"=\",\"\"),\"\")","v":""},{"$f":"IFERROR(SUBSTITUTE(INDEX(Data!$A136:$H136,,MATCH(FALSE,ISERROR(SEARCH(I$1&\"=\",Data!$A136:$H136)),0)),I$1&\"=\",\"\"),\"\")","v":""},{"$f":"IFERROR(SUBSTITUTE(INDEX(Data!$A136:$H136,,MATCH(FALSE,ISERROR(SEARCH(J$1&\"=\",Data!$A136:$H136)),0)),J$1&\"=\",\"\"),\"\")","v":""}]
[{"$f":"IFERROR(SUBSTITUTE(INDEX(Data!$A137:$H137,,MATCH(FALSE,ISERROR(SEARCH(A$1&\"=\",Data!$A137:$H137)),0)),A$1&\"=\",\"\"),\"\")","v":""},{"$f":"IFERROR(SUBSTITUTE(INDEX(Data!$A137:$H137,,MATCH(FALSE,ISERROR(SEARCH(B$1&\"=\",Data!$A137:$H137)),0)),B$1&\"=\",\"\"),\"\")","v":""},{"$f":"IFERROR(SUBSTITUTE(INDEX(Data!$A137:$H137,,MATCH(FALSE,ISERROR(SEARCH(C$1&\"=\",Data!$A137:$H137)),0)),C$1&\"=\",\"\"),\"\")","v":""},{"$f":"IFERROR(SUBSTITUTE(INDEX(Data!$A137:$H137,,MATCH(FALSE,ISERROR(SEARCH(D$1&\"=\",Data!$A137:$H137)),0)),D$1&\"=\",\"\"),\"\")","v":""},{"$f":"IFERROR(SUBSTITUTE(INDEX(Data!$A137:$H137,,MATCH(FALSE,ISERROR(SEARCH(E$1&\"=\",Data!$A137:$H137)),0)),E$1&\"=\",\"\"),\"\")","v":""},{"$f":"IFERROR(SUBSTITUTE(INDEX(Data!$A137:$H137,,MATCH(FALSE,ISERROR(SEARCH(F$1&\"=\",Data!$A137:$H137)),0)),F$1&\"=\",\"\"),\"\")","v":""},{"$f":"IFERROR(SUBSTITUTE(INDEX(Data!$A137:$H137,,MATCH(FALSE,ISERROR(SEARCH(G$1&\"=\",Data!$A137:$H137)),0)),G$1&\"=\",\"\"),\"\")","v":""},{"$f":"IFERROR(SUBSTITUTE(INDEX(Data!$A137:$H137,,MATCH(FALSE,ISERROR(SEARCH(H$1&\"=\",Data!$A137:$H137)),0)),H$1&\"=\",\"\"),\"\")","v":""},{"$f":"IFERROR(SUBSTITUTE(INDEX(Data!$A137:$H137,,MATCH(FALSE,ISERROR(SEARCH(I$1&\"=\",Data!$A137:$H137)),0)),I$1&\"=\",\"\"),\"\")","v":""},{"$f":"IFERROR(SUBSTITUTE(INDEX(Data!$A137:$H137,,MATCH(FALSE,ISERROR(SEARCH(J$1&\"=\",Data!$A137:$H137)),0)),J$1&\"=\",\"\"),\"\")","v":""}]
[{"$f":"IFERROR(SUBSTITUTE(INDEX(Data!$A138:$H138,,MATCH(FALSE,ISERROR(SEARCH(A$1&\"=\",Data!$A138:$H138)),0)),A$1&\"=\",\"\"),\"\")","v":""},{"$f":"IFERROR(SUBSTITUTE(INDEX(Data!$A138:$H138,,MATCH(FALSE,ISERROR(SEARCH(B$1&\"=\",Data!$A138:$H138)),0)),B$1&\"=\",\"\"),\"\")","v":""},{"$f":"IFERROR(SUBSTITUTE(INDEX(Data!$A138:$H138,,MATCH(FALSE,ISERROR(SEARCH(C$1&\"=\",Data!$A138:$H138)),0)),C$1&\"=\",\"\"),\"\")","v":""},{"$f":"IFERROR(SUBSTITUTE(INDEX(Data!$A138:$H138,,MATCH(FALSE,ISERROR(SEARCH(D$1&\"=\",Data!$A138:$H138)),0)),D$1&\"=\",\"\"),\"\")","v":""},{"$f":"IFERROR(SUBSTITUTE(INDEX(Data!$A138:$H138,,MATCH(FALSE,ISERROR(SEARCH(E$1&\"=\",Data!$A138:$H138)),0)),E$1&\"=\",\"\"),\"\")","v":""},{"$f":"IFERROR(SUBSTITUTE(INDEX(Data!$A138:$H138,,MATCH(FALSE,ISERROR(SEARCH(F$1&\"=\",Data!$A138:$H138)),0)),F$1&\"=\",\"\"),\"\")","v":""},{"$f":"IFERROR(SUBSTITUTE(INDEX(Data!$A138:$H138,,MATCH(FALSE,ISERROR(SEARCH(G$1&\"=\",Data!$A138:$H138)),0)),G$1&\"=\",\"\"),\"\")","v":""},{"$f":"IFERROR(SUBSTITUTE(INDEX(Data!$A138:$H138,,MATCH(FALSE,ISERROR(SEARCH(H$1&\"=\",Data!$A138:$H138)),0)),H$1&\"=\",\"\"),\"\")","v":""},{"$f":"IFERROR(SUBSTITUTE(INDEX(Data!$A138:$H138,,MATCH(FALSE,ISERROR(SEARCH(I$1&\"=\",Data!$A138:$H138)),0)),I$1&\"=\",\"\"),\"\")","v":""},{"$f":"IFERROR(SUBSTITUTE(INDEX(Data!$A138:$H138,,MATCH(FALSE,ISERROR(SEARCH(J$1&\"=\",Data!$A138:$H138)),0)),J$1&\"=\",\"\"),\"\")","v":""}]
[{"$f":"IFERROR(SUBSTITUTE(INDEX(Data!$A139:$H139,,MATCH(FALSE,ISERROR(SEARCH(A$1&\"=\",Data!$A139:$H139)),0)),A$1&\"=\",\"\"),\"\")","v":""},{"$f":"IFERROR(SUBSTITUTE(INDEX(Data!$A139:$H139,,MATCH(FALSE,ISERROR(SEARCH(B$1&\"=\",Data!$A139:$H139)),0)),B$1&\"=\",\"\"),\"\")","v":""},{"$f":"IFERROR(SUBSTITUTE(INDEX(Data!$A139:$H139,,MATCH(FALSE,ISERROR(SEARCH(C$1&\"=\",Data!$A139:$H139)),0)),C$1&\"=\",\"\"),\"\")","v":""},{"$f":"IFERROR(SUBSTITUTE(INDEX(Data!$A139:$H139,,MATCH(FALSE,ISERROR(SEARCH(D$1&\"=\",Data!$A139:$H139)),0)),D$1&\"=\",\"\"),\"\")","v":""},{"$f":"IFERROR(SUBSTITUTE(INDEX(Data!$A139:$H139,,MATCH(FALSE,ISERROR(SEARCH(E$1&\"=\",Data!$A139:$H139)),0)),E$1&\"=\",\"\"),\"\")","v":""},{"$f":"IFERROR(SUBSTITUTE(INDEX(Data!$A139:$H139,,MATCH(FALSE,ISERROR(SEARCH(F$1&\"=\",Data!$A139:$H139)),0)),F$1&\"=\",\"\"),\"\")","v":""},{"$f":"IFERROR(SUBSTITUTE(INDEX(Data!$A139:$H139,,MATCH(FALSE,ISERROR(SEARCH(G$1&\"=\",Data!$A139:$H139)),0)),G$1&\"=\",\"\"),\"\")","v":""},{"$f":"IFERROR(SUBSTITUTE(INDEX(Data!$A139:$H139,,MATCH(FALSE,ISERROR(SEARCH(H$1&\"=\",Data!$A139:$H139)),0)),H$1&\"=\",\"\"),\"\")","v":""},{"$f":"IFERROR(SUBSTITUTE(INDEX(Data!$A139:$H139,,MATCH(FALSE,ISERROR(SEARCH(I$1&\"=\",Data!$A139:$H139)),0)),I$1&\"=\",\"\"),\"\")","v":""},{"$f":"IFERROR(SUBSTITUTE(INDEX(Data!$A139:$H139,,MATCH(FALSE,ISERROR(SEARCH(J$1&\"=\",Data!$A139:$H139)),0)),J$1&\"=\",\"\"),\"\")","v":""}]
[{"$f":"IFERROR(SUBSTITUTE(INDEX(Data!$A140:$H140,,MATCH(FALSE,ISERROR(SEARCH(A$1&\"=\",Data!$A140:$H140)),0)),A$1&\"=\",\"\"),\"\")","v":""},{"$f":"IFERROR(SUBSTITUTE(INDEX(Data!$A140:$H140,,MATCH(FALSE,ISERROR(SEARCH(B$1&\"=\",Data!$A140:$H140)),0)),B$1&\"=\",\"\"),\"\")","v":""},{"$f":"IFERROR(SUBSTITUTE(INDEX(Data!$A140:$H140,,MATCH(FALSE,ISERROR(SEARCH(C$1&\"=\",Data!$A140:$H140)),0)),C$1&\"=\",\"\"),\"\")","v":""},{"$f":"IFERROR(SUBSTITUTE(INDEX(Data!$A140:$H140,,MATCH(FALSE,ISERROR(SEARCH(D$1&\"=\",Data!$A140:$H140)),0)),D$1&\"=\",\"\"),\"\")","v":""},{"$f":"IFERROR(SUBSTITUTE(INDEX(Data!$A140:$H140,,MATCH(FALSE,ISERROR(SEARCH(E$1&\"=\",Data!$A140:$H140)),0)),E$1&\"=\",\"\"),\"\")","v":""},{"$f":"IFERROR(SUBSTITUTE(INDEX(Data!$A140:$H140,,MATCH(FALSE,ISERROR(SEARCH(F$1&\"=\",Data!$A140:$H140)),0)),F$1&\"=\",\"\"),\"\")","v":""},{"$f":"IFERROR(SUBSTITUTE(INDEX(Data!$A140:$H140,,MATCH(FALSE,ISERROR(SEARCH(G$1&\"=\",Data!$A140:$H140)),0)),G$1&\"=\",\"\"),\"\")","v":""},{"$f":"IFERROR(SUBSTITUTE(INDEX(Data!$A140:$H140,,MATCH(FALSE,ISERROR(SEARCH(H$1&\"=\",Data!$A140:$H140)),0)),H$1&\"=\",\"\"),\"\")","v":""},{"$f":"IFERROR(SUBSTITUTE(INDEX(Data!$A140:$H140,,MATCH(FALSE,ISERROR(SEARCH(I$1&\"=\",Data!$A140:$H140)),0)),I$1&\"=\",\"\"),\"\")","v":""},{"$f":"IFERROR(SUBSTITUTE(INDEX(Data!$A140:$H140,,MATCH(FALSE,ISERROR(SEARCH(J$1&\"=\",Data!$A140:$H140)),0)),J$1&\"=\",\"\"),\"\")","v":""}]
[{"$f":"IFERROR(SUBSTITUTE(INDEX(Data!$A141:$H141,,MATCH(FALSE,ISERROR(SEARCH(A$1&\"=\",Data!$A141:$H141)),0)),A$1&\"=\",\"\"),\"\")","v":""},{"$f":"IFERROR(SUBSTITUTE(INDEX(Data!$A141:$H141,,MATCH(FALSE,ISERROR(SEARCH(B$1&\"=\",Data!$A141:$H141)),0)),B$1&\"=\",\"\"),\"\")","v":""},{"$f":"IFERROR(SUBSTITUTE(INDEX(Data!$A141:$H141,,MATCH(FALSE,ISERROR(SEARCH(C$1&\"=\",Data!$A141:$H141)),0)),C$1&\"=\",\"\"),\"\")","v":""},{"$f":"IFERROR(SUBSTITUTE(INDEX(Data!$A141:$H141,,MATCH(FALSE,ISERROR(SEARCH(D$1&\"=\",Data!$A141:$H141)),0)),D$1&\"=\",\"\"),\"\")","v":""},{"$f":"IFERROR(SUBSTITUTE(INDEX(Data!$A141:$H141,,MATCH(FALSE,ISERROR(SEARCH(E$1&\"=\",Data!$A141:$H141)),0)),E$1&\"=\",\"\"),\"\")","v":""},{"$f":"IFERROR(SUBSTITUTE(INDEX(Data!$A141:$H141,,MATCH(FALSE,ISERROR(SEARCH(F$1&\"=\",Data!$A141:$H141)),0)),F$1&\"=\",\"\"),\"\")","v":""},{"$f":"IFERROR(SUBSTITUTE(INDEX(Data!$A141:$H141,,MATCH(FALSE,ISERROR(SEARCH(G$1&\"=\",Data!$A141:$H141)),0)),G$1&\"=\",\"\"),\"\")","v":""},{"$f":"IFERROR(SUBSTITUTE(INDEX(Data!$A141:$H141,,MATCH(FALSE,ISERROR(SEARCH(H$1&\"=\",Data!$A141:$H141)),0)),H$1&\"=\",\"\"),\"\")","v":""},{"$f":"IFERROR(SUBSTITUTE(INDEX(Data!$A141:$H141,,MATCH(FALSE,ISERROR(SEARCH(I$1&\"=\",Data!$A141:$H141)),0)),I$1&\"=\",\"\"),\"\")","v":""},{"$f":"IFERROR(SUBSTITUTE(INDEX(Data!$A141:$H141,,MATCH(FALSE,ISERROR(SEARCH(J$1&\"=\",Data!$A141:$H141)),0)),J$1&\"=\",\"\"),\"\")","v":""}]
[{"$f":"IFERROR(SUBSTITUTE(INDEX(Data!$A142:$H142,,MATCH(FALSE,ISERROR(SEARCH(A$1&\"=\",Data!$A142:$H142)),0)),A$1&\"=\",\"\"),\"\")","v":""},{"$f":"IFERROR(SUBSTITUTE(INDEX(Data!$A142:$H142,,MATCH(FALSE,ISERROR(SEARCH(B$1&\"=\",Data!$A142:$H142)),0)),B$1&\"=\",\"\"),\"\")","v":""},{"$f":"IFERROR(SUBSTITUTE(INDEX(Data!$A142:$H142,,MATCH(FALSE,ISERROR(SEARCH(C$1&\"=\",Data!$A142:$H142)),0)),C$1&\"=\",\"\"),\"\")","v":""},{"$f":"IFERROR(SUBSTITUTE(INDEX(Data!$A142:$H142,,MATCH(FALSE,ISERROR(SEARCH(D$1&\"=\",Data!$A142:$H142)),0)),D$1&\"=\",\"\"),\"\")","v":""},{"$f":"IFERROR(SUBSTITUTE(INDEX(Data!$A142:$H142,,MATCH(FALSE,ISERROR(SEARCH(E$1&\"=\",Data!$A142:$H142)),0)),E$1&\"=\",\"\"),\"\")","v":""},{"$f":"IFERROR(SUBSTITUTE(INDEX(Data!$A142:$H142,,MATCH(FALSE,ISERROR(SEARCH(F$1&\"=\",Data!$A142:$H142)),0)),F$1&\"=\",\"\"),\"\")","v":""},{"$f":"IFERROR(SUBSTITUTE(INDEX(Data!$A142:$H142,,MATCH(FALSE,ISERROR(SEARCH(G$1&\"=\",Data!$A142:$H142)),0)),G$1&\"=\",\"\"),\"\")","v":""},{"$f":"IFERROR(SUBSTITUTE(INDEX(Data!$A142:$H142,,MATCH(FALSE,ISERROR(SEARCH(H$1&\"=\",Data!$A142:$H142)),0)),H$1&\"=\",\"\"),\"\")","v":""},{"$f":"IFERROR(SUBSTITUTE(INDEX(Data!$A142:$H142,,MATCH(FALSE,ISERROR(SEARCH(I$1&\"=\",Data!$A142:$H142)),0)),I$1&\"=\",\"\"),\"\")","v":""},{"$f":"IFERROR(SUBSTITUTE(INDEX(Data!$A142:$H142,,MATCH(FALSE,ISERROR(SEARCH(J$1&\"=\",Data!$A142:$H142)),0)),J$1&\"=\",\"\"),\"\")","v":""}]
[{"$f":"IFERROR(SUBSTITUTE(INDEX(Data!$A143:$H143,,MATCH(FALSE,ISERROR(SEARCH(A$1&\"=\",Data!$A143:$H143)),0)),A$1&\"=\",\"\"),\"\")","v":""},{"$f":"IFERROR(SUBSTITUTE(INDEX(Data!$A143:$H143,,MATCH(FALSE,ISERROR(SEARCH(B$1&\"=\",Data!$A143:$H143)),0)),B$1&\"=\",\"\"),\"\")","v":""},{"$f":"IFERROR(SUBSTITUTE(INDEX(Data!$A143:$H143,,MATCH(FALSE,ISERROR(SEARCH(C$1&\"=\",Data!$A143:$H143)),0)),C$1&\"=\",\"\"),\"\")","v":""},{"$f":"IFERROR(SUBSTITUTE(INDEX(Data!$A143:$H143,,MATCH(FALSE,ISERROR(SEARCH(D$1&\"=\",Data!$A143:$H143)),0)),D$1&\"=\",\"\"),\"\")","v":""},{"$f":"IFERROR(SUBSTITUTE(INDEX(Data!$A143:$H143,,MATCH(FALSE,ISERROR(SEARCH(E$1&\"=\",Data!$A143:$H143)),0)),E$1&\"=\",\"\"),\"\")","v":""},{"$f":"IFERROR(SUBSTITUTE(INDEX(Data!$A143:$H143,,MATCH(FALSE,ISERROR(SEARCH(F$1&\"=\",Data!$A143:$H143)),0)),F$1&\"=\",\"\"),\"\")","v":""},{"$f":"IFERROR(SUBSTITUTE(INDEX(Data!$A143:$H143,,MATCH(FALSE,ISERROR(SEARCH(G$1&\"=\",Data!$A143:$H143)),0)),G$1&\"=\",\"\"),\"\")","v":""},{"$f":"IFERROR(SUBSTITUTE(INDEX(Data!$A143:$H143,,MATCH(FALSE,ISERROR(SEARCH(H$1&\"=\",Data!$A143:$H143)),0)),H$1&\"=\",\"\"),\"\")","v":""},{"$f":"IFERROR(SUBSTITUTE(INDEX(Data!$A143:$H143,,MATCH(FALSE,ISERROR(SEARCH(I$1&\"=\",Data!$A143:$H143)),0)),I$1&\"=\",\"\"),\"\")","v":""},{"$f":"IFERROR(SUBSTITUTE(INDEX(Data!$A143:$H143,,MATCH(FALSE,ISERROR(SEARCH(J$1&\"=\",Data!$A143:$H143)),0)),J$1&\"=\",\"\"),\"\")","v":""}]
[{"$f":"IFERROR(SUBSTITUTE(INDEX(Data!$A144:$H144,,MATCH(FALSE,ISERROR(SEARCH(A$1&\"=\",Data!$A144:$H144)),0)),A$1&\"=\",\"\"),\"\")","v":""},{"$f":"IFERROR(SUBSTITUTE(INDEX(Data!$A144:$H144,,MATCH(FALSE,ISERROR(SEARCH(B$1&\"=\",Data!$A144:$H144)),0)),B$1&\"=\",\"\"),\"\")","v":""},{"$f":"IFERROR(SUBSTITUTE(INDEX(Data!$A144:$H144,,MATCH(FALSE,ISERROR(SEARCH(C$1&\"=\",Data!$A144:$H144)),0)),C$1&\"=\",\"\"),\"\")","v":""},{"$f":"IFERROR(SUBSTITUTE(INDEX(Data!$A144:$H144,,MATCH(FALSE,ISERROR(SEARCH(D$1&\"=\",Data!$A144:$H144)),0)),D$1&\"=\",\"\"),\"\")","v":""},{"$f":"IFERROR(SUBSTITUTE(INDEX(Data!$A144:$H144,,MATCH(FALSE,ISERROR(SEARCH(E$1&\"=\",Data!$A144:$H144)),0)),E$1&\"=\",\"\"),\"\")","v":""},{"$f":"IFERROR(SUBSTITUTE(INDEX(Data!$A144:$H144,,MATCH(FALSE,ISERROR(SEARCH(F$1&\"=\",Data!$A144:$H144)),0)),F$1&\"=\",\"\"),\"\")","v":""},{"$f":"IFERROR(SUBSTITUTE(INDEX(Data!$A144:$H144,,MATCH(FALSE,ISERROR(SEARCH(G$1&\"=\",Data!$A144:$H144)),0)),G$1&\"=\",\"\"),\"\")","v":""},{"$f":"IFERROR(SUBSTITUTE(INDEX(Data!$A144:$H144,,MATCH(FALSE,ISERROR(SEARCH(H$1&\"=\",Data!$A144:$H144)),0)),H$1&\"=\",\"\"),\"\")","v":""},{"$f":"IFERROR(SUBSTITUTE(INDEX(Data!$A144:$H144,,MATCH(FALSE,ISERROR(SEARCH(I$1&\"=\",Data!$A144:$H144)),0)),I$1&\"=\",\"\"),\"\")","v":""},{"$f":"IFERROR(SUBSTITUTE(INDEX(Data!$A144:$H144,,MATCH(FALSE,ISERROR(SEARCH(J$1&\"=\",Data!$A144:$H144)),0)),J$1&\"=\",\"\"),\"\")","v":""}]
[{"$f":"IFERROR(SUBSTITUTE(INDEX(Data!$A145:$H145,,MATCH(FALSE,ISERROR(SEARCH(A$1&\"=\",Data!$A145:$H145)),0)),A$1&\"=\",\"\"),\"\")","v":""},{"$f":"IFERROR(SUBSTITUTE(INDEX(Data!$A145:$H145,,MATCH(FALSE,ISERROR(SEARCH(B$1&\"=\",Data!$A145:$H145)),0)),B$1&\"=\",\"\"),\"\")","v":""},{"$f":"IFERROR(SUBSTITUTE(INDEX(Data!$A145:$H145,,MATCH(FALSE,ISERROR(SEARCH(C$1&\"=\",Data!$A145:$H145)),0)),C$1&\"=\",\"\"),\"\")","v":""},{"$f":"IFERROR(SUBSTITUTE(INDEX(Data!$A145:$H145,,MATCH(FALSE,ISERROR(SEARCH(D$1&\"=\",Data!$A145:$H145)),0)),D$1&\"=\",\"\"),\"\")","v":""},{"$f":"IFERROR(SUBSTITUTE(INDEX(Data!$A145:$H145,,MATCH(FALSE,ISERROR(SEARCH(E$1&\"=\",Data!$A145:$H145)),0)),E$1&\"=\",\"\"),\"\")","v":""},{"$f":"IFERROR(SUBSTITUTE(INDEX(Data!$A145:$H145,,MATCH(FALSE,ISERROR(SEARCH(F$1&\"=\",Data!$A145:$H145)),0)),F$1&\"=\",\"\"),\"\")","v":""},{"$f":"IFERROR(SUBSTITUTE(INDEX(Data!$A145:$H145,,MATCH(FALSE,ISERROR(SEARCH(G$1&\"=\",Data!$A145:$H145)),0)),G$1&\"=\",\"\"),\"\")","v":""},{"$f":"IFERROR(SUBSTITUTE(INDEX(Data!$A145:$H145,,MATCH(FALSE,ISERROR(SEARCH(H$1&\"=\",Data!$A145:$H145)),0)),H$1&\"=\",\"\"),\"\")","v":""},{"$f":"IFERROR(SUBSTITUTE(INDEX(Data!$A145:$H145,,MATCH(FALSE,ISERROR(SEARCH(I$1&\"=\",Data!$A145:$H145)),0)),I$1&\"=\",\"\"),\"\")","v":""},{"$f":"IFERROR(SUBSTITUTE(INDEX(Data!$A145:$H145,,MATCH(FALSE,ISERROR(SEARCH(J$1&\"=\",Data!$A145:$H145)),0)),J$1&\"=\",\"\"),\"\")","v":""}]
[{"$f":"IFERROR(SUBSTITUTE(INDEX(Data!$A146:$H146,,MATCH(FALSE,ISERROR(SEARCH(A$1&\"=\",Data!$A146:$H146)),0)),A$1&\"=\",\"\"),\"\")","v":""},{"$f":"IFERROR(SUBSTITUTE(INDEX(Data!$A146:$H146,,MATCH(FALSE,ISERROR(SEARCH(B$1&\"=\",Data!$A146:$H146)),0)),B$1&\"=\",\"\"),\"\")","v":""},{"$f":"IFERROR(SUBSTITUTE(INDEX(Data!$A146:$H146,,MATCH(FALSE,ISERROR(SEARCH(C$1&\"=\",Data!$A146:$H146)),0)),C$1&\"=\",\"\"),\"\")","v":""},{"$f":"IFERROR(SUBSTITUTE(INDEX(Data!$A146:$H146,,MATCH(FALSE,ISERROR(SEARCH(D$1&\"=\",Data!$A146:$H146)),0)),D$1&\"=\",\"\"),\"\")","v":""},{"$f":"IFERROR(SUBSTITUTE(INDEX(Data!$A146:$H146,,MATCH(FALSE,ISERROR(SEARCH(E$1&\"=\",Data!$A146:$H146)),0)),E$1&\"=\",\"\"),\"\")","v":""},{"$f":"IFERROR(SUBSTITUTE(INDEX(Data!$A146:$H146,,MATCH(FALSE,ISERROR(SEARCH(F$1&\"=\",Data!$A146:$H146)),0)),F$1&\"=\",\"\"),\"\")","v":""},{"$f":"IFERROR(SUBSTITUTE(INDEX(Data!$A146:$H146,,MATCH(FALSE,ISERROR(SEARCH(G$1&\"=\",Data!$A146:$H146)),0)),G$1&\"=\",\"\"),\"\")","v":""},{"$f":"IFERROR(SUBSTITUTE(INDEX(Data!$A146:$H146,,MATCH(FALSE,ISERROR(SEARCH(H$1&\"=\",Data!$A146:$H146)),0)),H$1&\"=\",\"\"),\"\")","v":""},{"$f":"IFERROR(SUBSTITUTE(INDEX(Data!$A146:$H146,,MATCH(FALSE,ISERROR(SEARCH(I$1&\"=\",Data!$A146:$H146)),0)),I$1&\"=\",\"\"),\"\")","v":""},{"$f":"IFERROR(SUBSTITUTE(INDEX(Data!$A146:$H146,,MATCH(FALSE,ISERROR(SEARCH(J$1&\"=\",Data!$A146:$H146)),0)),J$1&\"=\",\"\"),\"\")","v":""}]
[{"$f":"IFERROR(SUBSTITUTE(INDEX(Data!$A147:$H147,,MATCH(FALSE,ISERROR(SEARCH(A$1&\"=\",Data!$A147:$H147)),0)),A$1&\"=\",\"\"),\"\")","v":""},{"$f":"IFERROR(SUBSTITUTE(INDEX(Data!$A147:$H147,,MATCH(FALSE,ISERROR(SEARCH(B$1&\"=\",Data!$A147:$H147)),0)),B$1&\"=\",\"\"),\"\")","v":""},{"$f":"IFERROR(SUBSTITUTE(INDEX(Data!$A147:$H147,,MATCH(FALSE,ISERROR(SEARCH(C$1&\"=\",Data!$A147:$H147)),0)),C$1&\"=\",\"\"),\"\")","v":""},{"$f":"IFERROR(SUBSTITUTE(INDEX(Data!$A147:$H147,,MATCH(FALSE,ISERROR(SEARCH(D$1&\"=\",Data!$A147:$H147)),0)),D$1&\"=\",\"\"),\"\")","v":""},{"$f":"IFERROR(SUBSTITUTE(INDEX(Data!$A147:$H147,,MATCH(FALSE,ISERROR(SEARCH(E$1&\"=\",Data!$A147:$H147)),0)),E$1&\"=\",\"\"),\"\")","v":""},{"$f":"IFERROR(SUBSTITUTE(INDEX(Data!$A147:$H147,,MATCH(FALSE,ISERROR(SEARCH(F$1&\"=\",Data!$A147:$H147)),0)),F$1&\"=\",\"\"),\"\")","v":""},{"$f":"IFERROR(SUBSTITUTE(INDEX(Data!$A147:$H147,,MATCH(FALSE,ISERROR(SEARCH(G$1&\"=\",Data!$A147:$H147)),0)),G$1&\"=\",\"\"),\"\")","v":""},{"$f":"IFERROR(SUBSTITUTE(INDEX(Data!$A147:$H147,,MATCH(FALSE,ISERROR(SEARCH(H$1&\"=\",Data!$A147:$H147)),0)),H$1&\"=\",\"\"),\"\")","v":""},{"$f":"IFERROR(SUBSTITUTE(INDEX(Data!$A147:$H147,,MATCH(FALSE,ISERROR(SEARCH(I$1&\"=\",Data!$A147:$H147)),0)),I$1&\"=\",\"\"),\"\")","v":""},{"$f":"IFERROR(SUBSTITUTE(INDEX(Data!$A147:$H147,,MATCH(FALSE,ISERROR(SEARCH(J$1&\"=\",Data!$A147:$H147)),0)),J$1&\"=\",\"\"),\"\")","v":""}]
[{"$f":"IFERROR(SUBSTITUTE(INDEX(Data!$A148:$H148,,MATCH(FALSE,ISERROR(SEARCH(A$1&\"=\",Data!$A148:$H148)),0)),A$1&\"=\",\"\"),\"\")","v":""},{"$f":"IFERROR(SUBSTITUTE(INDEX(Data!$A148:$H148,,MATCH(FALSE,ISERROR(SEARCH(B$1&\"=\",Data!$A148:$H148)),0)),B$1&\"=\",\"\"),\"\")","v":""},{"$f":"IFERROR(SUBSTITUTE(INDEX(Data!$A148:$H148,,MATCH(FALSE,ISERROR(SEARCH(C$1&\"=\",Data!$A148:$H148)),0)),C$1&\"=\",\"\"),\"\")","v":""},{"$f":"IFERROR(SUBSTITUTE(INDEX(Data!$A148:$H148,,MATCH(FALSE,ISERROR(SEARCH(D$1&\"=\",Data!$A148:$H148)),0)),D$1&\"=\",\"\"),\"\")","v":""},{"$f":"IFERROR(SUBSTITUTE(INDEX(Data!$A148:$H148,,MATCH(FALSE,ISERROR(SEARCH(E$1&\"=\",Data!$A148:$H148)),0)),E$1&\"=\",\"\"),\"\")","v":""},{"$f":"IFERROR(SUBSTITUTE(INDEX(Data!$A148:$H148,,MATCH(FALSE,ISERROR(SEARCH(F$1&\"=\",Data!$A148:$H148)),0)),F$1&\"=\",\"\"),\"\")","v":""},{"$f":"IFERROR(SUBSTITUTE(INDEX(Data!$A148:$H148,,MATCH(FALSE,ISERROR(SEARCH(G$1&\"=\",Data!$A148:$H148)),0)),G$1&\"=\",\"\"),\"\")","v":""},{"$f":"IFERROR(SUBSTITUTE(INDEX(Data!$A148:$H148,,MATCH(FALSE,ISERROR(SEARCH(H$1&\"=\",Data!$A148:$H148)),0)),H$1&\"=\",\"\"),\"\")","v":""},{"$f":"IFERROR(SUBSTITUTE(INDEX(Data!$A148:$H148,,MATCH(FALSE,ISERROR(SEARCH(I$1&\"=\",Data!$A148:$H148)),0)),I$1&\"=\",\"\"),\"\")","v":""},{"$f":"IFERROR(SUBSTITUTE(INDEX(Data!$A148:$H148,,MATCH(FALSE,ISERROR(SEARCH(J$1&\"=\",Data!$A148:$H148)),0)),J$1&\"=\",\"\"),\"\")","v":""}]
[{"$f":"IFERROR(SUBSTITUTE(INDEX(Data!$A149:$H149,,MATCH(FALSE,ISERROR(SEARCH(A$1&\"=\",Data!$A149:$H149)),0)),A$1&\"=\",\"\"),\"\")","v":""},{"$f":"IFERROR(SUBSTITUTE(INDEX(Data!$A149:$H149,,MATCH(FALSE,ISERROR(SEARCH(B$1&\"=\",Data!$A149:$H149)),0)),B$1&\"=\",\"\"),\"\")","v":""},{"$f":"IFERROR(SUBSTITUTE(INDEX(Data!$A149:$H149,,MATCH(FALSE,ISERROR(SEARCH(C$1&\"=\",Data!$A149:$H149)),0)),C$1&\"=\",\"\"),\"\")","v":""},{"$f":"IFERROR(SUBSTITUTE(INDEX(Data!$A149:$H149,,MATCH(FALSE,ISERROR(SEARCH(D$1&\"=\",Data!$A149:$H149)),0)),D$1&\"=\",\"\"),\"\")","v":""},{"$f":"IFERROR(SUBSTITUTE(INDEX(Data!$A149:$H149,,MATCH(FALSE,ISERROR(SEARCH(E$1&\"=\",Data!$A149:$H149)),0)),E$1&\"=\",\"\"),\"\")","v":""},{"$f":"IFERROR(SUBSTITUTE(INDEX(Data!$A149:$H149,,MATCH(FALSE,ISERROR(SEARCH(F$1&\"=\",Data!$A149:$H149)),0)),F$1&\"=\",\"\"),\"\")","v":""},{"$f":"IFERROR(SUBSTITUTE(INDEX(Data!$A149:$H149,,MATCH(FALSE,ISERROR(SEARCH(G$1&\"=\",Data!$A149:$H149)),0)),G$1&\"=\",\"\"),\"\")","v":""},{"$f":"IFERROR(SUBSTITUTE(INDEX(Data!$A149:$H149,,MATCH(FALSE,ISERROR(SEARCH(H$1&\"=\",Data!$A149:$H149)),0)),H$1&\"=\",\"\"),\"\")","v":""},{"$f":"IFERROR(SUBSTITUTE(INDEX(Data!$A149:$H149,,MATCH(FALSE,ISERROR(SEARCH(I$1&\"=\",Data!$A149:$H149)),0)),I$1&\"=\",\"\"),\"\")","v":""},{"$f":"IFERROR(SUBSTITUTE(INDEX(Data!$A149:$H149,,MATCH(FALSE,ISERROR(SEARCH(J$1&\"=\",Data!$A149:$H149)),0)),J$1&\"=\",\"\"),\"\")","v":""}]
[{"$f":"IFERROR(SUBSTITUTE(INDEX(Data!$A150:$H150,,MATCH(FALSE,ISERROR(SEARCH(A$1&\"=\",Data!$A150:$H150)),0)),A$1&\"=\",\"\"),\"\")","v":""},{"$f":"IFERROR(SUBSTITUTE(INDEX(Data!$A150:$H150,,MATCH(FALSE,ISERROR(SEARCH(B$1&\"=\",Data!$A150:$H150)),0)),B$1&\"=\",\"\"),\"\")","v":""},{"$f":"IFERROR(SUBSTITUTE(INDEX(Data!$A150:$H150,,MATCH(FALSE,ISERROR(SEARCH(C$1&\"=\",Data!$A150:$H150)),0)),C$1&\"=\",\"\"),\"\")","v":""},{"$f":"IFERROR(SUBSTITUTE(INDEX(Data!$A150:$H150,,MATCH(FALSE,ISERROR(SEARCH(D$1&\"=\",Data!$A150:$H150)),0)),D$1&\"=\",\"\"),\"\")","v":""},{"$f":"IFERROR(SUBSTITUTE(INDEX(Data!$A150:$H150,,MATCH(FALSE,ISERROR(SEARCH(E$1&\"=\",Data!$A150:$H150)),0)),E$1&\"=\",\"\"),\"\")","v":""},{"$f":"IFERROR(SUBSTITUTE(INDEX(Data!$A150:$H150,,MATCH(FALSE,ISERROR(SEARCH(F$1&\"=\",Data!$A150:$H150)),0)),F$1&\"=\",\"\"),\"\")","v":""},{"$f":"IFERROR(SUBSTITUTE(INDEX(Data!$A150:$H150,,MATCH(FALSE,ISERROR(SEARCH(G$1&\"=\",Data!$A150:$H150)),0)),G$1&\"=\",\"\"),\"\")","v":""},{"$f":"IFERROR(SUBSTITUTE(INDEX(Data!$A150:$H150,,MATCH(FALSE,ISERROR(SEARCH(H$1&\"=\",Data!$A150:$H150)),0)),H$1&\"=\",\"\"),\"\")","v":""},{"$f":"IFERROR(SUBSTITUTE(INDEX(Data!$A150:$H150,,MATCH(FALSE,ISERROR(SEARCH(I$1&\"=\",Data!$A150:$H150)),0)),I$1&\"=\",\"\"),\"\")","v":""},{"$f":"IFERROR(SUBSTITUTE(INDEX(Data!$A150:$H150,,MATCH(FALSE,ISERROR(SEARCH(J$1&\"=\",Data!$A150:$H150)),0)),J$1&\"=\",\"\"),\"\")","v":""}]
[{"$f":"IFERROR(SUBSTITUTE(INDEX(Data!$A151:$H151,,MATCH(FALSE,ISERROR(SEARCH(A$1&\"=\",Data!$A151:$H151)),0)),A$1&\"=\",\"\"),\"\")","v":""},{"$f":"IFERROR(SUBSTITUTE(INDEX(Data!$A151:$H151,,MATCH(FALSE,ISERROR(SEARCH(B$1&\"=\",Data!$A151:$H151)),0)),B$1&\"=\",\"\"),\"\")","v":""},{"$f":"IFERROR(SUBSTITUTE(INDEX(Data!$A151:$H151,,MATCH(FALSE,ISERROR(SEARCH(C$1&\"=\",Data!$A151:$H151)),0)),C$1&\"=\",\"\"),\"\")","v":""},{"$f":"IFERROR(SUBSTITUTE(INDEX(Data!$A151:$H151,,MATCH(FALSE,ISERROR(SEARCH(D$1&\"=\",Data!$A151:$H151)),0)),D$1&\"=\",\"\"),\"\")","v":""},{"$f":"IFERROR(SUBSTITUTE(INDEX(Data!$A151:$H151,,MATCH(FALSE,ISERROR(SEARCH(E$1&\"=\",Data!$A151:$H151)),0)),E$1&\"=\",\"\"),\"\")","v":""},{"$f":"IFERROR(SUBSTITUTE(INDEX(Data!$A151:$H151,,MATCH(FALSE,ISERROR(SEARCH(F$1&\"=\",Data!$A151:$H151)),0)),F$1&\"=\",\"\"),\"\")","v":""},{"$f":"IFERROR(SUBSTITUTE(INDEX(Data!$A151:$H151,,MATCH(FALSE,ISERROR(SEARCH(G$1&\"=\",Data!$A151:$H151)),0)),G$1&\"=\",\"\"),\"\")","v":""},{"$f":"IFERROR(SUBSTITUTE(INDEX(Data!$A151:$H151,,MATCH(FALSE,ISERROR(SEARCH(H$1&\"=\",Data!$A151:$H151)),0)),H$1&\"=\",\"\"),\"\")","v":""},{"$f":"IFERROR(SUBSTITUTE(INDEX(Data!$A151:$H151,,MATCH(FALSE,ISERROR(SEARCH(I$1&\"=\",Data!$A151:$H151)),0)),I$1&\"=\",\"\"),\"\")","v":""},{"$f":"IFERROR(SUBSTITUTE(INDEX(Data!$A151:$H151,,MATCH(FALSE,ISERROR(SEARCH(J$1&\"=\",Data!$A151:$H151)),0)),J$1&\"=\",\"\"),\"\")","v":""}]
[{"$f":"IFERROR(SUBSTITUTE(INDEX(Data!$A152:$H152,,MATCH(FALSE,ISERROR(SEARCH(A$1&\"=\",Data!$A152:$H152)),0)),A$1&\"=\",\"\"),\"\")","v":""},{"$f":"IFERROR(SUBSTITUTE(INDEX(Data!$A152:$H152,,MATCH(FALSE,ISERROR(SEARCH(B$1&\"=\",Data!$A152:$H152)),0)),B$1&\"=\",\"\"),\"\")","v":""},{"$f":"IFERROR(SUBSTITUTE(INDEX(Data!$A152:$H152,,MATCH(FALSE,ISERROR(SEARCH(C$1&\"=\",Data!$A152:$H152)),0)),C$1&\"=\",\"\"),\"\")","v":""},{"$f":"IFERROR(SUBSTITUTE(INDEX(Data!$A152:$H152,,MATCH(FALSE,ISERROR(SEARCH(D$1&\"=\",Data!$A152:$H152)),0)),D$1&\"=\",\"\"),\"\")","v":""},{"$f":"IFERROR(SUBSTITUTE(INDEX(Data!$A152:$H152,,MATCH(FALSE,ISERROR(SEARCH(E$1&\"=\",Data!$A152:$H152)),0)),E$1&\"=\",\"\"),\"\")","v":""},{"$f":"IFERROR(SUBSTITUTE(INDEX(Data!$A152:$H152,,MATCH(FALSE,ISERROR(SEARCH(F$1&\"=\",Data!$A152:$H152)),0)),F$1&\"=\",\"\"),\"\")","v":""},{"$f":"IFERROR(SUBSTITUTE(INDEX(Data!$A152:$H152,,MATCH(FALSE,ISERROR(SEARCH(G$1&\"=\",Data!$A152:$H152)),0)),G$1&\"=\",\"\"),\"\")","v":""},{"$f":"IFERROR(SUBSTITUTE(INDEX(Data!$A152:$H152,,MATCH(FALSE,ISERROR(SEARCH(H$1&\"=\",Data!$A152:$H152)),0)),H$1&\"=\",\"\"),\"\")","v":""},{"$f":"IFERROR(SUBSTITUTE(INDEX(Data!$A152:$H152,,MATCH(FALSE,ISERROR(SEARCH(I$1&\"=\",Data!$A152:$H152)),0)),I$1&\"=\",\"\"),\"\")","v":""},{"$f":"IFERROR(SUBSTITUTE(INDEX(Data!$A152:$H152,,MATCH(FALSE,ISERROR(SEARCH(J$1&\"=\",Data!$A152:$H152)),0)),J$1&\"=\",\"\"),\"\")","v":""}]
[{"$f":"IFERROR(SUBSTITUTE(INDEX(Data!$A153:$H153,,MATCH(FALSE,ISERROR(SEARCH(A$1&\"=\",Data!$A153:$H153)),0)),A$1&\"=\",\"\"),\"\")","v":""},{"$f":"IFERROR(SUBSTITUTE(INDEX(Data!$A153:$H153,,MATCH(FALSE,ISERROR(SEARCH(B$1&\"=\",Data!$A153:$H153)),0)),B$1&\"=\",\"\"),\"\")","v":""},{"$f":"IFERROR(SUBSTITUTE(INDEX(Data!$A153:$H153,,MATCH(FALSE,ISERROR(SEARCH(C$1&\"=\",Data!$A153:$H153)),0)),C$1&\"=\",\"\"),\"\")","v":""},{"$f":"IFERROR(SUBSTITUTE(INDEX(Data!$A153:$H153,,MATCH(FALSE,ISERROR(SEARCH(D$1&\"=\",Data!$A153:$H153)),0)),D$1&\"=\",\"\"),\"\")","v":""},{"$f":"IFERROR(SUBSTITUTE(INDEX(Data!$A153:$H153,,MATCH(FALSE,ISERROR(SEARCH(E$1&\"=\",Data!$A153:$H153)),0)),E$1&\"=\",\"\"),\"\")","v":""},{"$f":"IFERROR(SUBSTITUTE(INDEX(Data!$A153:$H153,,MATCH(FALSE,ISERROR(SEARCH(F$1&\"=\",Data!$A153:$H153)),0)),F$1&\"=\",\"\"),\"\")","v":""},{"$f":"IFERROR(SUBSTITUTE(INDEX(Data!$A153:$H153,,MATCH(FALSE,ISERROR(SEARCH(G$1&\"=\",Data!$A153:$H153)),0)),G$1&\"=\",\"\"),\"\")","v":""},{"$f":"IFERROR(SUBSTITUTE(INDEX(Data!$A153:$H153,,MATCH(FALSE,ISERROR(SEARCH(H$1&\"=\",Data!$A153:$H153)),0)),H$1&\"=\",\"\"),\"\")","v":""},{"$f":"IFERROR(SUBSTITUTE(INDEX(Data!$A153:$H153,,MATCH(FALSE,ISERROR(SEARCH(I$1&\"=\",Data!$A153:$H153)),0)),I$1&\"=\",\"\"),\"\")","v":""},{"$f":"IFERROR(SUBSTITUTE(INDEX(Data!$A153:$H153,,MATCH(FALSE,ISERROR(SEARCH(J$1&\"=\",Data!$A153:$H153)),0)),J$1&\"=\",\"\"),\"\")","v":""}]
[{"$f":"IFERROR(SUBSTITUTE(INDEX(Data!$A154:$H154,,MATCH(FALSE,ISERROR(SEARCH(A$1&\"=\",Data!$A154:$H154)),0)),A$1&\"=\",\"\"),\"\")","v":""},{"$f":"IFERROR(SUBSTITUTE(INDEX(Data!$A154:$H154,,MATCH(FALSE,ISERROR(SEARCH(B$1&\"=\",Data!$A154:$H154)),0)),B$1&\"=\",\"\"),\"\")","v":""},{"$f":"IFERROR(SUBSTITUTE(INDEX(Data!$A154:$H154,,MATCH(FALSE,ISERROR(SEARCH(C$1&\"=\",Data!$A154:$H154)),0)),C$1&\"=\",\"\"),\"\")","v":""},{"$f":"IFERROR(SUBSTITUTE(INDEX(Data!$A154:$H154,,MATCH(FALSE,ISERROR(SEARCH(D$1&\"=\",Data!$A154:$H154)),0)),D$1&\"=\",\"\"),\"\")","v":""},{"$f":"IFERROR(SUBSTITUTE(INDEX(Data!$A154:$H154,,MATCH(FALSE,ISERROR(SEARCH(E$1&\"=\",Data!$A154:$H154)),0)),E$1&\"=\",\"\"),\"\")","v":""},{"$f":"IFERROR(SUBSTITUTE(INDEX(Data!$A154:$H154,,MATCH(FALSE,ISERROR(SEARCH(F$1&\"=\",Data!$A154:$H154)),0)),F$1&\"=\",\"\"),\"\")","v":""},{"$f":"IFERROR(SUBSTITUTE(INDEX(Data!$A154:$H154,,MATCH(FALSE,ISERROR(SEARCH(G$1&\"=\",Data!$A154:$H154)),0)),G$1&\"=\",\"\"),\"\")","v":""},{"$f":"IFERROR(SUBSTITUTE(INDEX(Data!$A154:$H154,,MATCH(FALSE,ISERROR(SEARCH(H$1&\"=\",Data!$A154:$H154)),0)),H$1&\"=\",\"\"),\"\")","v":""},{"$f":"IFERROR(SUBSTITUTE(INDEX(Data!$A154:$H154,,MATCH(FALSE,ISERROR(SEARCH(I$1&\"=\",Data!$A154:$H154)),0)),I$1&\"=\",\"\"),\"\")","v":""},{"$f":"IFERROR(SUBSTITUTE(INDEX(Data!$A154:$H154,,MATCH(FALSE,ISERROR(SEARCH(J$1&\"=\",Data!$A154:$H154)),0)),J$1&\"=\",\"\"),\"\")","v":""}]
[{"$f":"IFERROR(SUBSTITUTE(INDEX(Data!$A155:$H155,,MATCH(FALSE,ISERROR(SEARCH(A$1&\"=\",Data!$A155:$H155)),0)),A$1&\"=\",\"\"),\"\")","v":""},{"$f":"IFERROR(SUBSTITUTE(INDEX(Data!$A155:$H155,,MATCH(FALSE,ISERROR(SEARCH(B$1&\"=\",Data!$A155:$H155)),0)),B$1&\"=\",\"\"),\"\")","v":""},{"$f":"IFERROR(SUBSTITUTE(INDEX(Data!$A155:$H155,,MATCH(FALSE,ISERROR(SEARCH(C$1&\"=\",Data!$A155:$H155)),0)),C$1&\"=\",\"\"),\"\")","v":""},{"$f":"IFERROR(SUBSTITUTE(INDEX(Data!$A155:$H155,,MATCH(FALSE,ISERROR(SEARCH(D$1&\"=\",Data!$A155:$H155)),0)),D$1&\"=\",\"\"),\"\")","v":""},{"$f":"IFERROR(SUBSTITUTE(INDEX(Data!$A155:$H155,,MATCH(FALSE,ISERROR(SEARCH(E$1&\"=\",Data!$A155:$H155)),0)),E$1&\"=\",\"\"),\"\")","v":""},{"$f":"IFERROR(SUBSTITUTE(INDEX(Data!$A155:$H155,,MATCH(FALSE,ISERROR(SEARCH(F$1&\"=\",Data!$A155:$H155)),0)),F$1&\"=\",\"\"),\"\")","v":""},{"$f":"IFERROR(SUBSTITUTE(INDEX(Data!$A155:$H155,,MATCH(FALSE,ISERROR(SEARCH(G$1&\"=\",Data!$A155:$H155)),0)),G$1&\"=\",\"\"),\"\")","v":""},{"$f":"IFERROR(SUBSTITUTE(INDEX(Data!$A155:$H155,,MATCH(FALSE,ISERROR(SEARCH(H$1&\"=\",Data!$A155:$H155)),0)),H$1&\"=\",\"\"),\"\")","v":""},{"$f":"IFERROR(SUBSTITUTE(INDEX(Data!$A155:$H155,,MATCH(FALSE,ISERROR(SEARCH(I$1&\"=\",Data!$A155:$H155)),0)),I$1&\"=\",\"\"),\"\")","v":""},{"$f":"IFERROR(SUBSTITUTE(INDEX(Data!$A155:$H155,,MATCH(FALSE,ISERROR(SEARCH(J$1&\"=\",Data!$A155:$H155)),0)),J$1&\"=\",\"\"),\"\")","v":""}]
[{"$f":"IFERROR(SUBSTITUTE(INDEX(Data!$A156:$H156,,MATCH(FALSE,ISERROR(SEARCH(A$1&\"=\",Data!$A156:$H156)),0)),A$1&\"=\",\"\"),\"\")","v":""},{"$f":"IFERROR(SUBSTITUTE(INDEX(Data!$A156:$H156,,MATCH(FALSE,ISERROR(SEARCH(B$1&\"=\",Data!$A156:$H156)),0)),B$1&\"=\",\"\"),\"\")","v":""},{"$f":"IFERROR(SUBSTITUTE(INDEX(Data!$A156:$H156,,MATCH(FALSE,ISERROR(SEARCH(C$1&\"=\",Data!$A156:$H156)),0)),C$1&\"=\",\"\"),\"\")","v":""},{"$f":"IFERROR(SUBSTITUTE(INDEX(Data!$A156:$H156,,MATCH(FALSE,ISERROR(SEARCH(D$1&\"=\",Data!$A156:$H156)),0)),D$1&\"=\",\"\"),\"\")","v":""},{"$f":"IFERROR(SUBSTITUTE(INDEX(Data!$A156:$H156,,MATCH(FALSE,ISERROR(SEARCH(E$1&\"=\",Data!$A156:$H156)),0)),E$1&\"=\",\"\"),\"\")","v":""},{"$f":"IFERROR(SUBSTITUTE(INDEX(Data!$A156:$H156,,MATCH(FALSE,ISERROR(SEARCH(F$1&\"=\",Data!$A156:$H156)),0)),F$1&\"=\",\"\"),\"\")","v":""},{"$f":"IFERROR(SUBSTITUTE(INDEX(Data!$A156:$H156,,MATCH(FALSE,ISERROR(SEARCH(G$1&\"=\",Data!$A156:$H156)),0)),G$1&\"=\",\"\"),\"\")","v":""},{"$f":"IFERROR(SUBSTITUTE(INDEX(Data!$A156:$H156,,MATCH(FALSE,ISERROR(SEARCH(H$1&\"=\",Data!$A156:$H156)),0)),H$1&\"=\",\"\"),\"\")","v":""},{"$f":"IFERROR(SUBSTITUTE(INDEX(Data!$A156:$H156,,MATCH(FALSE,ISERROR(SEARCH(I$1&\"=\",Data!$A156:$H156)),0)),I$1&\"=\",\"\"),\"\")","v":""},{"$f":"IFERROR(SUBSTITUTE(INDEX(Data!$A156:$H156,,MATCH(FALSE,ISERROR(SEARCH(J$1&\"=\",Data!$A156:$H156)),0)),J$1&\"=\",\"\"),\"\")","v":""}]
[{"$f":"IFERROR(SUBSTITUTE(INDEX(Data!$A157:$H157,,MATCH(FALSE,ISERROR(SEARCH(A$1&\"=\",Data!$A157:$H157)),0)),A$1&\"=\",\"\"),\"\")","v":""},{"$f":"IFERROR(SUBSTITUTE(INDEX(Data!$A157:$H157,,MATCH(FALSE,ISERROR(SEARCH(B$1&\"=\",Data!$A157:$H157)),0)),B$1&\"=\",\"\"),\"\")","v":""},{"$f":"IFERROR(SUBSTITUTE(INDEX(Data!$A157:$H157,,MATCH(FALSE,ISERROR(SEARCH(C$1&\"=\",Data!$A157:$H157)),0)),C$1&\"=\",\"\"),\"\")","v":""},{"$f":"IFERROR(SUBSTITUTE(INDEX(Data!$A157:$H157,,MATCH(FALSE,ISERROR(SEARCH(D$1&\"=\",Data!$A157:$H157)),0)),D$1&\"=\",\"\"),\"\")","v":""},{"$f":"IFERROR(SUBSTITUTE(INDEX(Data!$A157:$H157,,MATCH(FALSE,ISERROR(SEARCH(E$1&\"=\",Data!$A157:$H157)),0)),E$1&\"=\",\"\"),\"\")","v":""},{"$f":"IFERROR(SUBSTITUTE(INDEX(Data!$A157:$H157,,MATCH(FALSE,ISERROR(SEARCH(F$1&\"=\",Data!$A157:$H157)),0)),F$1&\"=\",\"\"),\"\")","v":""},{"$f":"IFERROR(SUBSTITUTE(INDEX(Data!$A157:$H157,,MATCH(FALSE,ISERROR(SEARCH(G$1&\"=\",Data!$A157:$H157)),0)),G$1&\"=\",\"\"),\"\")","v":""},{"$f":"IFERROR(SUBSTITUTE(INDEX(Data!$A157:$H157,,MATCH(FALSE,ISERROR(SEARCH(H$1&\"=\",Data!$A157:$H157)),0)),H$1&\"=\",\"\"),\"\")","v":""},{"$f":"IFERROR(SUBSTITUTE(INDEX(Data!$A157:$H157,,MATCH(FALSE,ISERROR(SEARCH(I$1&\"=\",Data!$A157:$H157)),0)),I$1&\"=\",\"\"),\"\")","v":""},{"$f":"IFERROR(SUBSTITUTE(INDEX(Data!$A157:$H157,,MATCH(FALSE,ISERROR(SEARCH(J$1&\"=\",Data!$A157:$H157)),0)),J$1&\"=\",\"\"),\"\")","v":""}]
[{"$f":"IFERROR(SUBSTITUTE(INDEX(Data!$A158:$H158,,MATCH(FALSE,ISERROR(SEARCH(A$1&\"=\",Data!$A158:$H158)),0)),A$1&\"=\",\"\"),\"\")","v":""},{"$f":"IFERROR(SUBSTITUTE(INDEX(Data!$A158:$H158,,MATCH(FALSE,ISERROR(SEARCH(B$1&\"=\",Data!$A158:$H158)),0)),B$1&\"=\",\"\"),\"\")","v":""},{"$f":"IFERROR(SUBSTITUTE(INDEX(Data!$A158:$H158,,MATCH(FALSE,ISERROR(SEARCH(C$1&\"=\",Data!$A158:$H158)),0)),C$1&\"=\",\"\"),\"\")","v":""},{"$f":"IFERROR(SUBSTITUTE(INDEX(Data!$A158:$H158,,MATCH(FALSE,ISERROR(SEARCH(D$1&\"=\",Data!$A158:$H158)),0)),D$1&\"=\",\"\"),\"\")","v":""},{"$f":"IFERROR(SUBSTITUTE(INDEX(Data!$A158:$H158,,MATCH(FALSE,ISERROR(SEARCH(E$1&\"=\",Data!$A158:$H158)),0)),E$1&\"=\",\"\"),\"\")","v":""},{"$f":"IFERROR(SUBSTITUTE(INDEX(Data!$A158:$H158,,MATCH(FALSE,ISERROR(SEARCH(F$1&\"=\",Data!$A158:$H158)),0)),F$1&\"=\",\"\"),\"\")","v":""},{"$f":"IFERROR(SUBSTITUTE(INDEX(Data!$A158:$H158,,MATCH(FALSE,ISERROR(SEARCH(G$1&\"=\",Data!$A158:$H158)),0)),G$1&\"=\",\"\"),\"\")","v":""},{"$f":"IFERROR(SUBSTITUTE(INDEX(Data!$A158:$H158,,MATCH(FALSE,ISERROR(SEARCH(H$1&\"=\",Data!$A158:$H158)),0)),H$1&\"=\",\"\"),\"\")","v":""},{"$f":"IFERROR(SUBSTITUTE(INDEX(Data!$A158:$H158,,MATCH(FALSE,ISERROR(SEARCH(I$1&\"=\",Data!$A158:$H158)),0)),I$1&\"=\",\"\"),\"\")","v":""},{"$f":"IFERROR(SUBSTITUTE(INDEX(Data!$A158:$H158,,MATCH(FALSE,ISERROR(SEARCH(J$1&\"=\",Data!$A158:$H158)),0)),J$1&\"=\",\"\"),\"\")","v":""}]
[{"$f":"IFERROR(SUBSTITUTE(INDEX(Data!$A159:$H159,,MATCH(FALSE,ISERROR(SEARCH(A$1&\"=\",Data!$A159:$H159)),0)),A$1&\"=\",\"\"),\"\")","v":""},{"$f":"IFERROR(SUBSTITUTE(INDEX(Data!$A159:$H159,,MATCH(FALSE,ISERROR(SEARCH(B$1&\"=\",Data!$A159:$H159)),0)),B$1&\"=\",\"\"),\"\")","v":""},{"$f":"IFERROR(SUBSTITUTE(INDEX(Data!$A159:$H159,,MATCH(FALSE,ISERROR(SEARCH(C$1&\"=\",Data!$A159:$H159)),0)),C$1&\"=\",\"\"),\"\")","v":""},{"$f":"IFERROR(SUBSTITUTE(INDEX(Data!$A159:$H159,,MATCH(FALSE,ISERROR(SEARCH(D$1&\"=\",Data!$A159:$H159)),0)),D$1&\"=\",\"\"),\"\")","v":""},{"$f":"IFERROR(SUBSTITUTE(INDEX(Data!$A159:$H159,,MATCH(FALSE,ISERROR(SEARCH(E$1&\"=\",Data!$A159:$H159)),0)),E$1&\"=\",\"\"),\"\")","v":""},{"$f":"IFERROR(SUBSTITUTE(INDEX(Data!$A159:$H159,,MATCH(FALSE,ISERROR(SEARCH(F$1&\"=\",Data!$A159:$H159)),0)),F$1&\"=\",\"\"),\"\")","v":""},{"$f":"IFERROR(SUBSTITUTE(INDEX(Data!$A159:$H159,,MATCH(FALSE,ISERROR(SEARCH(G$1&\"=\",Data!$A159:$H159)),0)),G$1&\"=\",\"\"),\"\")","v":""},{"$f":"IFERROR(SUBSTITUTE(INDEX(Data!$A159:$H159,,MATCH(FALSE,ISERROR(SEARCH(H$1&\"=\",Data!$A159:$H159)),0)),H$1&\"=\",\"\"),\"\")","v":""},{"$f":"IFERROR(SUBSTITUTE(INDEX(Data!$A159:$H159,,MATCH(FALSE,ISERROR(SEARCH(I$1&\"=\",Data!$A159:$H159)),0)),I$1&\"=\",\"\"),\"\")","v":""},{"$f":"IFERROR(SUBSTITUTE(INDEX(Data!$A159:$H159,,MATCH(FALSE,ISERROR(SEARCH(J$1&\"=\",Data!$A159:$H159)),0)),J$1&\"=\",\"\"),\"\")","v":""}]
[{"$f":"IFERROR(SUBSTITUTE(INDEX(Data!$A160:$H160,,MATCH(FALSE,ISERROR(SEARCH(A$1&\"=\",Data!$A160:$H160)),0)),A$1&\"=\",\"\"),\"\")","v":""},{"$f":"IFERROR(SUBSTITUTE(INDEX(Data!$A160:$H160,,MATCH(FALSE,ISERROR(SEARCH(B$1&\"=\",Data!$A160:$H160)),0)),B$1&\"=\",\"\"),\"\")","v":""},{"$f":"IFERROR(SUBSTITUTE(INDEX(Data!$A160:$H160,,MATCH(FALSE,ISERROR(SEARCH(C$1&\"=\",Data!$A160:$H160)),0)),C$1&\"=\",\"\"),\"\")","v":""},{"$f":"IFERROR(SUBSTITUTE(INDEX(Data!$A160:$H160,,MATCH(FALSE,ISERROR(SEARCH(D$1&\"=\",Data!$A160:$H160)),0)),D$1&\"=\",\"\"),\"\")","v":""},{"$f":"IFERROR(SUBSTITUTE(INDEX(Data!$A160:$H160,,MATCH(FALSE,ISERROR(SEARCH(E$1&\"=\",Data!$A160:$H160)),0)),E$1&\"=\",\"\"),\"\")","v":""},{"$f":"IFERROR(SUBSTITUTE(INDEX(Data!$A160:$H160,,MATCH(FALSE,ISERROR(SEARCH(F$1&\"=\",Data!$A160:$H160)),0)),F$1&\"=\",\"\"),\"\")","v":""},{"$f":"IFERROR(SUBSTITUTE(INDEX(Data!$A160:$H160,,MATCH(FALSE,ISERROR(SEARCH(G$1&\"=\",Data!$A160:$H160)),0)),G$1&\"=\",\"\"),\"\")","v":""},{"$f":"IFERROR(SUBSTITUTE(INDEX(Data!$A160:$H160,,MATCH(FALSE,ISERROR(SEARCH(H$1&\"=\",Data!$A160:$H160)),0)),H$1&\"=\",\"\"),\"\")","v":""},{"$f":"IFERROR(SUBSTITUTE(INDEX(Data!$A160:$H160,,MATCH(FALSE,ISERROR(SEARCH(I$1&\"=\",Data!$A160:$H160)),0)),I$1&\"=\",\"\"),\"\")","v":""},{"$f":"IFERROR(SUBSTITUTE(INDEX(Data!$A160:$H160,,MATCH(FALSE,ISERROR(SEARCH(J$1&\"=\",Data!$A160:$H160)),0)),J$1&\"=\",\"\"),\"\")","v":""}]
[{"$f":"IFERROR(SUBSTITUTE(INDEX(Data!$A161:$H161,,MATCH(FALSE,ISERROR(SEARCH(A$1&\"=\",Data!$A161:$H161)),0)),A$1&\"=\",\"\"),\"\")","v":""},{"$f":"IFERROR(SUBSTITUTE(INDEX(Data!$A161:$H161,,MATCH(FALSE,ISERROR(SEARCH(B$1&\"=\",Data!$A161:$H161)),0)),B$1&\"=\",\"\"),\"\")","v":""},{"$f":"IFERROR(SUBSTITUTE(INDEX(Data!$A161:$H161,,MATCH(FALSE,ISERROR(SEARCH(C$1&\"=\",Data!$A161:$H161)),0)),C$1&\"=\",\"\"),\"\")","v":""},{"$f":"IFERROR(SUBSTITUTE(INDEX(Data!$A161:$H161,,MATCH(FALSE,ISERROR(SEARCH(D$1&\"=\",Data!$A161:$H161)),0)),D$1&\"=\",\"\"),\"\")","v":""},{"$f":"IFERROR(SUBSTITUTE(INDEX(Data!$A161:$H161,,MATCH(FALSE,ISERROR(SEARCH(E$1&\"=\",Data!$A161:$H161)),0)),E$1&\"=\",\"\"),\"\")","v":""},{"$f":"IFERROR(SUBSTITUTE(INDEX(Data!$A161:$H161,,MATCH(FALSE,ISERROR(SEARCH(F$1&\"=\",Data!$A161:$H161)),0)),F$1&\"=\",\"\"),\"\")","v":""},{"$f":"IFERROR(SUBSTITUTE(INDEX(Data!$A161:$H161,,MATCH(FALSE,ISERROR(SEARCH(G$1&\"=\",Data!$A161:$H161)),0)),G$1&\"=\",\"\"),\"\")","v":""},{"$f":"IFERROR(SUBSTITUTE(INDEX(Data!$A161:$H161,,MATCH(FALSE,ISERROR(SEARCH(H$1&\"=\",Data!$A161:$H161)),0)),H$1&\"=\",\"\"),\"\")","v":""},{"$f":"IFERROR(SUBSTITUTE(INDEX(Data!$A161:$H161,,MATCH(FALSE,ISERROR(SEARCH(I$1&\"=\",Data!$A161:$H161)),0)),I$1&\"=\",\"\"),\"\")","v":""},{"$f":"IFERROR(SUBSTITUTE(INDEX(Data!$A161:$H161,,MATCH(FALSE,ISERROR(SEARCH(J$1&\"=\",Data!$A161:$H161)),0)),J$1&\"=\",\"\"),\"\")","v":""}]
[{"$f":"IFERROR(SUBSTITUTE(INDEX(Data!$A162:$H162,,MATCH(FALSE,ISERROR(SEARCH(A$1&\"=\",Data!$A162:$H162)),0)),A$1&\"=\",\"\"),\"\")","v":""},{"$f":"IFERROR(SUBSTITUTE(INDEX(Data!$A162:$H162,,MATCH(FALSE,ISERROR(SEARCH(B$1&\"=\",Data!$A162:$H162)),0)),B$1&\"=\",\"\"),\"\")","v":""},{"$f":"IFERROR(SUBSTITUTE(INDEX(Data!$A162:$H162,,MATCH(FALSE,ISERROR(SEARCH(C$1&\"=\",Data!$A162:$H162)),0)),C$1&\"=\",\"\"),\"\")","v":""},{"$f":"IFERROR(SUBSTITUTE(INDEX(Data!$A162:$H162,,MATCH(FALSE,ISERROR(SEARCH(D$1&\"=\",Data!$A162:$H162)),0)),D$1&\"=\",\"\"),\"\")","v":""},{"$f":"IFERROR(SUBSTITUTE(INDEX(Data!$A162:$H162,,MATCH(FALSE,ISERROR(SEARCH(E$1&\"=\",Data!$A162:$H162)),0)),E$1&\"=\",\"\"),\"\")","v":""},{"$f":"IFERROR(SUBSTITUTE(INDEX(Data!$A162:$H162,,MATCH(FALSE,ISERROR(SEARCH(F$1&\"=\",Data!$A162:$H162)),0)),F$1&\"=\",\"\"),\"\")","v":""},{"$f":"IFERROR(SUBSTITUTE(INDEX(Data!$A162:$H162,,MATCH(FALSE,ISERROR(SEARCH(G$1&\"=\",Data!$A162:$H162)),0)),G$1&\"=\",\"\"),\"\")","v":""},{"$f":"IFERROR(SUBSTITUTE(INDEX(Data!$A162:$H162,,MATCH(FALSE,ISERROR(SEARCH(H$1&\"=\",Data!$A162:$H162)),0)),H$1&\"=\",\"\"),\"\")","v":""},{"$f":"IFERROR(SUBSTITUTE(INDEX(Data!$A162:$H162,,MATCH(FALSE,ISERROR(SEARCH(I$1&\"=\",Data!$A162:$H162)),0)),I$1&\"=\",\"\"),\"\")","v":""},{"$f":"IFERROR(SUBSTITUTE(INDEX(Data!$A162:$H162,,MATCH(FALSE,ISERROR(SEARCH(J$1&\"=\",Data!$A162:$H162)),0)),J$1&\"=\",\"\"),\"\")","v":""}]
[{"$f":"IFERROR(SUBSTITUTE(INDEX(Data!$A163:$H163,,MATCH(FALSE,ISERROR(SEARCH(A$1&\"=\",Data!$A163:$H163)),0)),A$1&\"=\",\"\"),\"\")","v":""},{"$f":"IFERROR(SUBSTITUTE(INDEX(Data!$A163:$H163,,MATCH(FALSE,ISERROR(SEARCH(B$1&\"=\",Data!$A163:$H163)),0)),B$1&\"=\",\"\"),\"\")","v":""},{"$f":"IFERROR(SUBSTITUTE(INDEX(Data!$A163:$H163,,MATCH(FALSE,ISERROR(SEARCH(C$1&\"=\",Data!$A163:$H163)),0)),C$1&\"=\",\"\"),\"\")","v":""},{"$f":"IFERROR(SUBSTITUTE(INDEX(Data!$A163:$H163,,MATCH(FALSE,ISERROR(SEARCH(D$1&\"=\",Data!$A163:$H163)),0)),D$1&\"=\",\"\"),\"\")","v":""},{"$f":"IFERROR(SUBSTITUTE(INDEX(Data!$A163:$H163,,MATCH(FALSE,ISERROR(SEARCH(E$1&\"=\",Data!$A163:$H163)),0)),E$1&\"=\",\"\"),\"\")","v":""},{"$f":"IFERROR(SUBSTITUTE(INDEX(Data!$A163:$H163,,MATCH(FALSE,ISERROR(SEARCH(F$1&\"=\",Data!$A163:$H163)),0)),F$1&\"=\",\"\"),\"\")","v":""},{"$f":"IFERROR(SUBSTITUTE(INDEX(Data!$A163:$H163,,MATCH(FALSE,ISERROR(SEARCH(G$1&\"=\",Data!$A163:$H163)),0)),G$1&\"=\",\"\"),\"\")","v":""},{"$f":"IFERROR(SUBSTITUTE(INDEX(Data!$A163:$H163,,MATCH(FALSE,ISERROR(SEARCH(H$1&\"=\",Data!$A163:$H163)),0)),H$1&\"=\",\"\"),\"\")","v":""},{"$f":"IFERROR(SUBSTITUTE(INDEX(Data!$A163:$H163,,MATCH(FALSE,ISERROR(SEARCH(I$1&\"=\",Data!$A163:$H163)),0)),I$1&\"=\",\"\"),\"\")","v":""},{"$f":"IFERROR(SUBSTITUTE(INDEX(Data!$A163:$H163,,MATCH(FALSE,ISERROR(SEARCH(J$1&\"=\",Data!$A163:$H163)),0)),J$1&\"=\",\"\"),\"\")","v":""}]
[{"$f":"IFERROR(SUBSTITUTE(INDEX(Data!$A164:$H164,,MATCH(FALSE,ISERROR(SEARCH(A$1&\"=\",Data!$A164:$H164)),0)),A$1&\"=\",\"\"),\"\")","v":""},{"$f":"IFERROR(SUBSTITUTE(INDEX(Data!$A164:$H164,,MATCH(FALSE,ISERROR(SEARCH(B$1&\"=\",Data!$A164:$H164)),0)),B$1&\"=\",\"\"),\"\")","v":""},{"$f":"IFERROR(SUBSTITUTE(INDEX(Data!$A164:$H164,,MATCH(FALSE,ISERROR(SEARCH(C$1&\"=\",Data!$A164:$H164)),0)),C$1&\"=\",\"\"),\"\")","v":""},{"$f":"IFERROR(SUBSTITUTE(INDEX(Data!$A164:$H164,,MATCH(FALSE,ISERROR(SEARCH(D$1&\"=\",Data!$A164:$H164)),0)),D$1&\"=\",\"\"),\"\")","v":""},{"$f":"IFERROR(SUBSTITUTE(INDEX(Data!$A164:$H164,,MATCH(FALSE,ISERROR(SEARCH(E$1&\"=\",Data!$A164:$H164)),0)),E$1&\"=\",\"\"),\"\")","v":""},{"$f":"IFERROR(SUBSTITUTE(INDEX(Data!$A164:$H164,,MATCH(FALSE,ISERROR(SEARCH(F$1&\"=\",Data!$A164:$H164)),0)),F$1&\"=\",\"\"),\"\")","v":""},{"$f":"IFERROR(SUBSTITUTE(INDEX(Data!$A164:$H164,,MATCH(FALSE,ISERROR(SEARCH(G$1&\"=\",Data!$A164:$H164)),0)),G$1&\"=\",\"\"),\"\")","v":""},{"$f":"IFERROR(SUBSTITUTE(INDEX(Data!$A164:$H164,,MATCH(FALSE,ISERROR(SEARCH(H$1&\"=\",Data!$A164:$H164)),0)),H$1&\"=\",\"\"),\"\")","v":""},{"$f":"IFERROR(SUBSTITUTE(INDEX(Data!$A164:$H164,,MATCH(FALSE,ISERROR(SEARCH(I$1&\"=\",Data!$A164:$H164)),0)),I$1&\"=\",\"\"),\"\")","v":""},{"$f":"IFERROR(SUBSTITUTE(INDEX(Data!$A164:$H164,,MATCH(FALSE,ISERROR(SEARCH(J$1&\"=\",Data!$A164:$H164)),0)),J$1&\"=\",\"\"),\"\")","v":""}]
[{"$f":"IFERROR(SUBSTITUTE(INDEX(Data!$A165:$H165,,MATCH(FALSE,ISERROR(SEARCH(A$1&\"=\",Data!$A165:$H165)),0)),A$1&\"=\",\"\"),\"\")","v":""},{"$f":"IFERROR(SUBSTITUTE(INDEX(Data!$A165:$H165,,MATCH(FALSE,ISERROR(SEARCH(B$1&\"=\",Data!$A165:$H165)),0)),B$1&\"=\",\"\"),\"\")","v":""},{"$f":"IFERROR(SUBSTITUTE(INDEX(Data!$A165:$H165,,MATCH(FALSE,ISERROR(SEARCH(C$1&\"=\",Data!$A165:$H165)),0)),C$1&\"=\",\"\"),\"\")","v":""},{"$f":"IFERROR(SUBSTITUTE(INDEX(Data!$A165:$H165,,MATCH(FALSE,ISERROR(SEARCH(D$1&\"=\",Data!$A165:$H165)),0)),D$1&\"=\",\"\"),\"\")","v":""},{"$f":"IFERROR(SUBSTITUTE(INDEX(Data!$A165:$H165,,MATCH(FALSE,ISERROR(SEARCH(E$1&\"=\",Data!$A165:$H165)),0)),E$1&\"=\",\"\"),\"\")","v":""},{"$f":"IFERROR(SUBSTITUTE(INDEX(Data!$A165:$H165,,MATCH(FALSE,ISERROR(SEARCH(F$1&\"=\",Data!$A165:$H165)),0)),F$1&\"=\",\"\"),\"\")","v":""},{"$f":"IFERROR(SUBSTITUTE(INDEX(Data!$A165:$H165,,MATCH(FALSE,ISERROR(SEARCH(G$1&\"=\",Data!$A165:$H165)),0)),G$1&\"=\",\"\"),\"\")","v":""},{"$f":"IFERROR(SUBSTITUTE(INDEX(Data!$A165:$H165,,MATCH(FALSE,ISERROR(SEARCH(H$1&\"=\",Data!$A165:$H165)),0)),H$1&\"=\",\"\"),\"\")","v":""},{"$f":"IFERROR(SUBSTITUTE(INDEX(Data!$A165:$H165,,MATCH(FALSE,ISERROR(SEARCH(I$1&\"=\",Data!$A165:$H165)),0)),I$1&\"=\",\"\"),\"\")","v":""},{"$f":"IFERROR(SUBSTITUTE(INDEX(Data!$A165:$H165,,MATCH(FALSE,ISERROR(SEARCH(J$1&\"=\",Data!$A165:$H165)),0)),J$1&\"=\",\"\"),\"\")","v":""}]
[{"$f":"IFERROR(SUBSTITUTE(INDEX(Data!$A166:$H166,,MATCH(FALSE,ISERROR(SEARCH(A$1&\"=\",Data!$A166:$H166)),0)),A$1&\"=\",\"\"),\"\")","v":""},{"$f":"IFERROR(SUBSTITUTE(INDEX(Data!$A166:$H166,,MATCH(FALSE,ISERROR(SEARCH(B$1&\"=\",Data!$A166:$H166)),0)),B$1&\"=\",\"\"),\"\")","v":""},{"$f":"IFERROR(SUBSTITUTE(INDEX(Data!$A166:$H166,,MATCH(FALSE,ISERROR(SEARCH(C$1&\"=\",Data!$A166:$H166)),0)),C$1&\"=\",\"\"),\"\")","v":""},{"$f":"IFERROR(SUBSTITUTE(INDEX(Data!$A166:$H166,,MATCH(FALSE,ISERROR(SEARCH(D$1&\"=\",Data!$A166:$H166)),0)),D$1&\"=\",\"\"),\"\")","v":""},{"$f":"IFERROR(SUBSTITUTE(INDEX(Data!$A166:$H166,,MATCH(FALSE,ISERROR(SEARCH(E$1&\"=\",Data!$A166:$H166)),0)),E$1&\"=\",\"\"),\"\")","v":""},{"$f":"IFERROR(SUBSTITUTE(INDEX(Data!$A166:$H166,,MATCH(FALSE,ISERROR(SEARCH(F$1&\"=\",Data!$A166:$H166)),0)),F$1&\"=\",\"\"),\"\")","v":""},{"$f":"IFERROR(SUBSTITUTE(INDEX(Data!$A166:$H166,,MATCH(FALSE,ISERROR(SEARCH(G$1&\"=\",Data!$A166:$H166)),0)),G$1&\"=\",\"\"),\"\")","v":""},{"$f":"IFERROR(SUBSTITUTE(INDEX(Data!$A166:$H166,,MATCH(FALSE,ISERROR(SEARCH(H$1&\"=\",Data!$A166:$H166)),0)),H$1&\"=\",\"\"),\"\")","v":""},{"$f":"IFERROR(SUBSTITUTE(INDEX(Data!$A166:$H166,,MATCH(FALSE,ISERROR(SEARCH(I$1&\"=\",Data!$A166:$H166)),0)),I$1&\"=\",\"\"),\"\")","v":""},{"$f":"IFERROR(SUBSTITUTE(INDEX(Data!$A166:$H166,,MATCH(FALSE,ISERROR(SEARCH(J$1&\"=\",Data!$A166:$H166)),0)),J$1&\"=\",\"\"),\"\")","v":""}]
[{"$f":"IFERROR(SUBSTITUTE(INDEX(Data!$A167:$H167,,MATCH(FALSE,ISERROR(SEARCH(A$1&\"=\",Data!$A167:$H167)),0)),A$1&\"=\",\"\"),\"\")","v":""},{"$f":"IFERROR(SUBSTITUTE(INDEX(Data!$A167:$H167,,MATCH(FALSE,ISERROR(SEARCH(B$1&\"=\",Data!$A167:$H167)),0)),B$1&\"=\",\"\"),\"\")","v":""},{"$f":"IFERROR(SUBSTITUTE(INDEX(Data!$A167:$H167,,MATCH(FALSE,ISERROR(SEARCH(C$1&\"=\",Data!$A167:$H167)),0)),C$1&\"=\",\"\"),\"\")","v":""},{"$f":"IFERROR(SUBSTITUTE(INDEX(Data!$A167:$H167,,MATCH(FALSE,ISERROR(SEARCH(D$1&\"=\",Data!$A167:$H167)),0)),D$1&\"=\",\"\"),\"\")","v":""},{"$f":"IFERROR(SUBSTITUTE(INDEX(Data!$A167:$H167,,MATCH(FALSE,ISERROR(SEARCH(E$1&\"=\",Data!$A167:$H167)),0)),E$1&\"=\",\"\"),\"\")","v":""},{"$f":"IFERROR(SUBSTITUTE(INDEX(Data!$A167:$H167,,MATCH(FALSE,ISERROR(SEARCH(F$1&\"=\",Data!$A167:$H167)),0)),F$1&\"=\",\"\"),\"\")","v":""},{"$f":"IFERROR(SUBSTITUTE(INDEX(Data!$A167:$H167,,MATCH(FALSE,ISERROR(SEARCH(G$1&\"=\",Data!$A167:$H167)),0)),G$1&\"=\",\"\"),\"\")","v":""},{"$f":"IFERROR(SUBSTITUTE(INDEX(Data!$A167:$H167,,MATCH(FALSE,ISERROR(SEARCH(H$1&\"=\",Data!$A167:$H167)),0)),H$1&\"=\",\"\"),\"\")","v":""},{"$f":"IFERROR(SUBSTITUTE(INDEX(Data!$A167:$H167,,MATCH(FALSE,ISERROR(SEARCH(I$1&\"=\",Data!$A167:$H167)),0)),I$1&\"=\",\"\"),\"\")","v":""},{"$f":"IFERROR(SUBSTITUTE(INDEX(Data!$A167:$H167,,MATCH(FALSE,ISERROR(SEARCH(J$1&\"=\",Data!$A167:$H167)),0)),J$1&\"=\",\"\"),\"\")","v":""}]
[{"$f":"IFERROR(SUBSTITUTE(INDEX(Data!$A168:$H168,,MATCH(FALSE,ISERROR(SEARCH(A$1&\"=\",Data!$A168:$H168)),0)),A$1&\"=\",\"\"),\"\")","v":""},{"$f":"IFERROR(SUBSTITUTE(INDEX(Data!$A168:$H168,,MATCH(FALSE,ISERROR(SEARCH(B$1&\"=\",Data!$A168:$H168)),0)),B$1&\"=\",\"\"),\"\")","v":""},{"$f":"IFERROR(SUBSTITUTE(INDEX(Data!$A168:$H168,,MATCH(FALSE,ISERROR(SEARCH(C$1&\"=\",Data!$A168:$H168)),0)),C$1&\"=\",\"\"),\"\")","v":""},{"$f":"IFERROR(SUBSTITUTE(INDEX(Data!$A168:$H168,,MATCH(FALSE,ISERROR(SEARCH(D$1&\"=\",Data!$A168:$H168)),0)),D$1&\"=\",\"\"),\"\")","v":""},{"$f":"IFERROR(SUBSTITUTE(INDEX(Data!$A168:$H168,,MATCH(FALSE,ISERROR(SEARCH(E$1&\"=\",Data!$A168:$H168)),0)),E$1&\"=\",\"\"),\"\")","v":""},{"$f":"IFERROR(SUBSTITUTE(INDEX(Data!$A168:$H168,,MATCH(FALSE,ISERROR(SEARCH(F$1&\"=\",Data!$A168:$H168)),0)),F$1&\"=\",\"\"),\"\")","v":""},{"$f":"IFERROR(SUBSTITUTE(INDEX(Data!$A168:$H168,,MATCH(FALSE,ISERROR(SEARCH(G$1&\"=\",Data!$A168:$H168)),0)),G$1&\"=\",\"\"),\"\")","v":""},{"$f":"IFERROR(SUBSTITUTE(INDEX(Data!$A168:$H168,,MATCH(FALSE,ISERROR(SEARCH(H$1&\"=\",Data!$A168:$H168)),0)),H$1&\"=\",\"\"),\"\")","v":""},{"$f":"IFERROR(SUBSTITUTE(INDEX(Data!$A168:$H168,,MATCH(FALSE,ISERROR(SEARCH(I$1&\"=\",Data!$A168:$H168)),0)),I$1&\"=\",\"\"),\"\")","v":""},{"$f":"IFERROR(SUBSTITUTE(INDEX(Data!$A168:$H168,,MATCH(FALSE,ISERROR(SEARCH(J$1&\"=\",Data!$A168:$H168)),0)),J$1&\"=\",\"\"),\"\")","v":""}]
[{"$f":"IFERROR(SUBSTITUTE(INDEX(Data!$A169:$H169,,MATCH(FALSE,ISERROR(SEARCH(A$1&\"=\",Data!$A169:$H169)),0)),A$1&\"=\",\"\"),\"\")","v":""},{"$f":"IFERROR(SUBSTITUTE(INDEX(Data!$A169:$H169,,MATCH(FALSE,ISERROR(SEARCH(B$1&\"=\",Data!$A169:$H169)),0)),B$1&\"=\",\"\"),\"\")","v":""},{"$f":"IFERROR(SUBSTITUTE(INDEX(Data!$A169:$H169,,MATCH(FALSE,ISERROR(SEARCH(C$1&\"=\",Data!$A169:$H169)),0)),C$1&\"=\",\"\"),\"\")","v":""},{"$f":"IFERROR(SUBSTITUTE(INDEX(Data!$A169:$H169,,MATCH(FALSE,ISERROR(SEARCH(D$1&\"=\",Data!$A169:$H169)),0)),D$1&\"=\",\"\"),\"\")","v":""},{"$f":"IFERROR(SUBSTITUTE(INDEX(Data!$A169:$H169,,MATCH(FALSE,ISERROR(SEARCH(E$1&\"=\",Data!$A169:$H169)),0)),E$1&\"=\",\"\"),\"\")","v":""},{"$f":"IFERROR(SUBSTITUTE(INDEX(Data!$A169:$H169,,MATCH(FALSE,ISERROR(SEARCH(F$1&\"=\",Data!$A169:$H169)),0)),F$1&\"=\",\"\"),\"\")","v":""},{"$f":"IFERROR(SUBSTITUTE(INDEX(Data!$A169:$H169,,MATCH(FALSE,ISERROR(SEARCH(G$1&\"=\",Data!$A169:$H169)),0)),G$1&\"=\",\"\"),\"\")","v":""},{"$f":"IFERROR(SUBSTITUTE(INDEX(Data!$A169:$H169,,MATCH(FALSE,ISERROR(SEARCH(H$1&\"=\",Data!$A169:$H169)),0)),H$1&\"=\",\"\"),\"\")","v":""},{"$f":"IFERROR(SUBSTITUTE(INDEX(Data!$A169:$H169,,MATCH(FALSE,ISERROR(SEARCH(I$1&\"=\",Data!$A169:$H169)),0)),I$1&\"=\",\"\"),\"\")","v":""},{"$f":"IFERROR(SUBSTITUTE(INDEX(Data!$A169:$H169,,MATCH(FALSE,ISERROR(SEARCH(J$1&\"=\",Data!$A169:$H169)),0)),J$1&\"=\",\"\"),\"\")","v":""}]
[{"$f":"IFERROR(SUBSTITUTE(INDEX(Data!$A170:$H170,,MATCH(FALSE,ISERROR(SEARCH(A$1&\"=\",Data!$A170:$H170)),0)),A$1&\"=\",\"\"),\"\")","v":""},{"$f":"IFERROR(SUBSTITUTE(INDEX(Data!$A170:$H170,,MATCH(FALSE,ISERROR(SEARCH(B$1&\"=\",Data!$A170:$H170)),0)),B$1&\"=\",\"\"),\"\")","v":""},{"$f":"IFERROR(SUBSTITUTE(INDEX(Data!$A170:$H170,,MATCH(FALSE,ISERROR(SEARCH(C$1&\"=\",Data!$A170:$H170)),0)),C$1&\"=\",\"\"),\"\")","v":""},{"$f":"IFERROR(SUBSTITUTE(INDEX(Data!$A170:$H170,,MATCH(FALSE,ISERROR(SEARCH(D$1&\"=\",Data!$A170:$H170)),0)),D$1&\"=\",\"\"),\"\")","v":""},{"$f":"IFERROR(SUBSTITUTE(INDEX(Data!$A170:$H170,,MATCH(FALSE,ISERROR(SEARCH(E$1&\"=\",Data!$A170:$H170)),0)),E$1&\"=\",\"\"),\"\")","v":""},{"$f":"IFERROR(SUBSTITUTE(INDEX(Data!$A170:$H170,,MATCH(FALSE,ISERROR(SEARCH(F$1&\"=\",Data!$A170:$H170)),0)),F$1&\"=\",\"\"),\"\")","v":""},{"$f":"IFERROR(SUBSTITUTE(INDEX(Data!$A170:$H170,,MATCH(FALSE,ISERROR(SEARCH(G$1&\"=\",Data!$A170:$H170)),0)),G$1&\"=\",\"\"),\"\")","v":""},{"$f":"IFERROR(SUBSTITUTE(INDEX(Data!$A170:$H170,,MATCH(FALSE,ISERROR(SEARCH(H$1&\"=\",Data!$A170:$H170)),0)),H$1&\"=\",\"\"),\"\")","v":""},{"$f":"IFERROR(SUBSTITUTE(INDEX(Data!$A170:$H170,,MATCH(FALSE,ISERROR(SEARCH(I$1&\"=\",Data!$A170:$H170)),0)),I$1&\"=\",\"\"),\"\")","v":""},{"$f":"IFERROR(SUBSTITUTE(INDEX(Data!$A170:$H170,,MATCH(FALSE,ISERROR(SEARCH(J$1&\"=\",Data!$A170:$H170)),0)),J$1&\"=\",\"\"),\"\")","v":""}]
[{"$f":"IFERROR(SUBSTITUTE(INDEX(Data!$A171:$H171,,MATCH(FALSE,ISERROR(SEARCH(A$1&\"=\",Data!$A171:$H171)),0)),A$1&\"=\",\"\"),\"\")","v":""},{"$f":"IFERROR(SUBSTITUTE(INDEX(Data!$A171:$H171,,MATCH(FALSE,ISERROR(SEARCH(B$1&\"=\",Data!$A171:$H171)),0)),B$1&\"=\",\"\"),\"\")","v":""},{"$f":"IFERROR(SUBSTITUTE(INDEX(Data!$A171:$H171,,MATCH(FALSE,ISERROR(SEARCH(C$1&\"=\",Data!$A171:$H171)),0)),C$1&\"=\",\"\"),\"\")","v":""},{"$f":"IFERROR(SUBSTITUTE(INDEX(Data!$A171:$H171,,MATCH(FALSE,ISERROR(SEARCH(D$1&\"=\",Data!$A171:$H171)),0)),D$1&\"=\",\"\"),\"\")","v":""},{"$f":"IFERROR(SUBSTITUTE(INDEX(Data!$A171:$H171,,MATCH(FALSE,ISERROR(SEARCH(E$1&\"=\",Data!$A171:$H171)),0)),E$1&\"=\",\"\"),\"\")","v":""},{"$f":"IFERROR(SUBSTITUTE(INDEX(Data!$A171:$H171,,MATCH(FALSE,ISERROR(SEARCH(F$1&\"=\",Data!$A171:$H171)),0)),F$1&\"=\",\"\"),\"\")","v":""},{"$f":"IFERROR(SUBSTITUTE(INDEX(Data!$A171:$H171,,MATCH(FALSE,ISERROR(SEARCH(G$1&\"=\",Data!$A171:$H171)),0)),G$1&\"=\",\"\"),\"\")","v":""},{"$f":"IFERROR(SUBSTITUTE(INDEX(Data!$A171:$H171,,MATCH(FALSE,ISERROR(SEARCH(H$1&\"=\",Data!$A171:$H171)),0)),H$1&\"=\",\"\"),\"\")","v":""},{"$f":"IFERROR(SUBSTITUTE(INDEX(Data!$A171:$H171,,MATCH(FALSE,ISERROR(SEARCH(I$1&\"=\",Data!$A171:$H171)),0)),I$1&\"=\",\"\"),\"\")","v":""},{"$f":"IFERROR(SUBSTITUTE(INDEX(Data!$A171:$H171,,MATCH(FALSE,ISERROR(SEARCH(J$1&\"=\",Data!$A171:$H171)),0)),J$1&\"=\",\"\"),\"\")","v":""}]
[{"$f":"IFERROR(SUBSTITUTE(INDEX(Data!$A172:$H172,,MATCH(FALSE,ISERROR(SEARCH(A$1&\"=\",Data!$A172:$H172)),0)),A$1&\"=\",\"\"),\"\")","v":""},{"$f":"IFERROR(SUBSTITUTE(INDEX(Data!$A172:$H172,,MATCH(FALSE,ISERROR(SEARCH(B$1&\"=\",Data!$A172:$H172)),0)),B$1&\"=\",\"\"),\"\")","v":""},{"$f":"IFERROR(SUBSTITUTE(INDEX(Data!$A172:$H172,,MATCH(FALSE,ISERROR(SEARCH(C$1&\"=\",Data!$A172:$H172)),0)),C$1&\"=\",\"\"),\"\")","v":""},{"$f":"IFERROR(SUBSTITUTE(INDEX(Data!$A172:$H172,,MATCH(FALSE,ISERROR(SEARCH(D$1&\"=\",Data!$A172:$H172)),0)),D$1&\"=\",\"\"),\"\")","v":""},{"$f":"IFERROR(SUBSTITUTE(INDEX(Data!$A172:$H172,,MATCH(FALSE,ISERROR(SEARCH(E$1&\"=\",Data!$A172:$H172)),0)),E$1&\"=\",\"\"),\"\")","v":""},{"$f":"IFERROR(SUBSTITUTE(INDEX(Data!$A172:$H172,,MATCH(FALSE,ISERROR(SEARCH(F$1&\"=\",Data!$A172:$H172)),0)),F$1&\"=\",\"\"),\"\")","v":""},{"$f":"IFERROR(SUBSTITUTE(INDEX(Data!$A172:$H172,,MATCH(FALSE,ISERROR(SEARCH(G$1&\"=\",Data!$A172:$H172)),0)),G$1&\"=\",\"\"),\"\")","v":""},{"$f":"IFERROR(SUBSTITUTE(INDEX(Data!$A172:$H172,,MATCH(FALSE,ISERROR(SEARCH(H$1&\"=\",Data!$A172:$H172)),0)),H$1&\"=\",\"\"),\"\")","v":""},{"$f":"IFERROR(SUBSTITUTE(INDEX(Data!$A172:$H172,,MATCH(FALSE,ISERROR(SEARCH(I$1&\"=\",Data!$A172:$H172)),0)),I$1&\"=\",\"\"),\"\")","v":""},{"$f":"IFERROR(SUBSTITUTE(INDEX(Data!$A172:$H172,,MATCH(FALSE,ISERROR(SEARCH(J$1&\"=\",Data!$A172:$H172)),0)),J$1&\"=\",\"\"),\"\")","v":""}]
[{"$f":"IFERROR(SUBSTITUTE(INDEX(Data!$A173:$H173,,MATCH(FALSE,ISERROR(SEARCH(A$1&\"=\",Data!$A173:$H173)),0)),A$1&\"=\",\"\"),\"\")","v":""},{"$f":"IFERROR(SUBSTITUTE(INDEX(Data!$A173:$H173,,MATCH(FALSE,ISERROR(SEARCH(B$1&\"=\",Data!$A173:$H173)),0)),B$1&\"=\",\"\"),\"\")","v":""},{"$f":"IFERROR(SUBSTITUTE(INDEX(Data!$A173:$H173,,MATCH(FALSE,ISERROR(SEARCH(C$1&\"=\",Data!$A173:$H173)),0)),C$1&\"=\",\"\"),\"\")","v":""},{"$f":"IFERROR(SUBSTITUTE(INDEX(Data!$A173:$H173,,MATCH(FALSE,ISERROR(SEARCH(D$1&\"=\",Data!$A173:$H173)),0)),D$1&\"=\",\"\"),\"\")","v":""},{"$f":"IFERROR(SUBSTITUTE(INDEX(Data!$A173:$H173,,MATCH(FALSE,ISERROR(SEARCH(E$1&\"=\",Data!$A173:$H173)),0)),E$1&\"=\",\"\"),\"\")","v":""},{"$f":"IFERROR(SUBSTITUTE(INDEX(Data!$A173:$H173,,MATCH(FALSE,ISERROR(SEARCH(F$1&\"=\",Data!$A173:$H173)),0)),F$1&\"=\",\"\"),\"\")","v":""},{"$f":"IFERROR(SUBSTITUTE(INDEX(Data!$A173:$H173,,MATCH(FALSE,ISERROR(SEARCH(G$1&\"=\",Data!$A173:$H173)),0)),G$1&\"=\",\"\"),\"\")","v":""},{"$f":"IFERROR(SUBSTITUTE(INDEX(Data!$A173:$H173,,MATCH(FALSE,ISERROR(SEARCH(H$1&\"=\",Data!$A173:$H173)),0)),H$1&\"=\",\"\"),\"\")","v":""},{"$f":"IFERROR(SUBSTITUTE(INDEX(Data!$A173:$H173,,MATCH(FALSE,ISERROR(SEARCH(I$1&\"=\",Data!$A173:$H173)),0)),I$1&\"=\",\"\"),\"\")","v":""},{"$f":"IFERROR(SUBSTITUTE(INDEX(Data!$A173:$H173,,MATCH(FALSE,ISERROR(SEARCH(J$1&\"=\",Data!$A173:$H173)),0)),J$1&\"=\",\"\"),\"\")","v":""}]
[{"$f":"IFERROR(SUBSTITUTE(INDEX(Data!$A174:$H174,,MATCH(FALSE,ISERROR(SEARCH(A$1&\"=\",Data!$A174:$H174)),0)),A$1&\"=\",\"\"),\"\")","v":""},{"$f":"IFERROR(SUBSTITUTE(INDEX(Data!$A174:$H174,,MATCH(FALSE,ISERROR(SEARCH(B$1&\"=\",Data!$A174:$H174)),0)),B$1&\"=\",\"\"),\"\")","v":""},{"$f":"IFERROR(SUBSTITUTE(INDEX(Data!$A174:$H174,,MATCH(FALSE,ISERROR(SEARCH(C$1&\"=\",Data!$A174:$H174)),0)),C$1&\"=\",\"\"),\"\")","v":""},{"$f":"IFERROR(SUBSTITUTE(INDEX(Data!$A174:$H174,,MATCH(FALSE,ISERROR(SEARCH(D$1&\"=\",Data!$A174:$H174)),0)),D$1&\"=\",\"\"),\"\")","v":""},{"$f":"IFERROR(SUBSTITUTE(INDEX(Data!$A174:$H174,,MATCH(FALSE,ISERROR(SEARCH(E$1&\"=\",Data!$A174:$H174)),0)),E$1&\"=\",\"\"),\"\")","v":""},{"$f":"IFERROR(SUBSTITUTE(INDEX(Data!$A174:$H174,,MATCH(FALSE,ISERROR(SEARCH(F$1&\"=\",Data!$A174:$H174)),0)),F$1&\"=\",\"\"),\"\")","v":""},{"$f":"IFERROR(SUBSTITUTE(INDEX(Data!$A174:$H174,,MATCH(FALSE,ISERROR(SEARCH(G$1&\"=\",Data!$A174:$H174)),0)),G$1&\"=\",\"\"),\"\")","v":""},{"$f":"IFERROR(SUBSTITUTE(INDEX(Data!$A174:$H174,,MATCH(FALSE,ISERROR(SEARCH(H$1&\"=\",Data!$A174:$H174)),0)),H$1&\"=\",\"\"),\"\")","v":""},{"$f":"IFERROR(SUBSTITUTE(INDEX(Data!$A174:$H174,,MATCH(FALSE,ISERROR(SEARCH(I$1&\"=\",Data!$A174:$H174)),0)),I$1&\"=\",\"\"),\"\")","v":""},{"$f":"IFERROR(SUBSTITUTE(INDEX(Data!$A174:$H174,,MATCH(FALSE,ISERROR(SEARCH(J$1&\"=\",Data!$A174:$H174)),0)),J$1&\"=\",\"\"),\"\")","v":""}]
[{"$f":"IFERROR(SUBSTITUTE(INDEX(Data!$A175:$H175,,MATCH(FALSE,ISERROR(SEARCH(A$1&\"=\",Data!$A175:$H175)),0)),A$1&\"=\",\"\"),\"\")","v":""},{"$f":"IFERROR(SUBSTITUTE(INDEX(Data!$A175:$H175,,MATCH(FALSE,ISERROR(SEARCH(B$1&\"=\",Data!$A175:$H175)),0)),B$1&\"=\",\"\"),\"\")","v":""},{"$f":"IFERROR(SUBSTITUTE(INDEX(Data!$A175:$H175,,MATCH(FALSE,ISERROR(SEARCH(C$1&\"=\",Data!$A175:$H175)),0)),C$1&\"=\",\"\"),\"\")","v":""},{"$f":"IFERROR(SUBSTITUTE(INDEX(Data!$A175:$H175,,MATCH(FALSE,ISERROR(SEARCH(D$1&\"=\",Data!$A175:$H175)),0)),D$1&\"=\",\"\"),\"\")","v":""},{"$f":"IFERROR(SUBSTITUTE(INDEX(Data!$A175:$H175,,MATCH(FALSE,ISERROR(SEARCH(E$1&\"=\",Data!$A175:$H175)),0)),E$1&\"=\",\"\"),\"\")","v":""},{"$f":"IFERROR(SUBSTITUTE(INDEX(Data!$A175:$H175,,MATCH(FALSE,ISERROR(SEARCH(F$1&\"=\",Data!$A175:$H175)),0)),F$1&\"=\",\"\"),\"\")","v":""},{"$f":"IFERROR(SUBSTITUTE(INDEX(Data!$A175:$H175,,MATCH(FALSE,ISERROR(SEARCH(G$1&\"=\",Data!$A175:$H175)),0)),G$1&\"=\",\"\"),\"\")","v":""},{"$f":"IFERROR(SUBSTITUTE(INDEX(Data!$A175:$H175,,MATCH(FALSE,ISERROR(SEARCH(H$1&\"=\",Data!$A175:$H175)),0)),H$1&\"=\",\"\"),\"\")","v":""},{"$f":"IFERROR(SUBSTITUTE(INDEX(Data!$A175:$H175,,MATCH(FALSE,ISERROR(SEARCH(I$1&\"=\",Data!$A175:$H175)),0)),I$1&\"=\",\"\"),\"\")","v":""},{"$f":"IFERROR(SUBSTITUTE(INDEX(Data!$A175:$H175,,MATCH(FALSE,ISERROR(SEARCH(J$1&\"=\",Data!$A175:$H175)),0)),J$1&\"=\",\"\"),\"\")","v":""}]
[{"$f":"IFERROR(SUBSTITUTE(INDEX(Data!$A176:$H176,,MATCH(FALSE,ISERROR(SEARCH(A$1&\"=\",Data!$A176:$H176)),0)),A$1&\"=\",\"\"),\"\")","v":""},{"$f":"IFERROR(SUBSTITUTE(INDEX(Data!$A176:$H176,,MATCH(FALSE,ISERROR(SEARCH(B$1&\"=\",Data!$A176:$H176)),0)),B$1&\"=\",\"\"),\"\")","v":""},{"$f":"IFERROR(SUBSTITUTE(INDEX(Data!$A176:$H176,,MATCH(FALSE,ISERROR(SEARCH(C$1&\"=\",Data!$A176:$H176)),0)),C$1&\"=\",\"\"),\"\")","v":""},{"$f":"IFERROR(SUBSTITUTE(INDEX(Data!$A176:$H176,,MATCH(FALSE,ISERROR(SEARCH(D$1&\"=\",Data!$A176:$H176)),0)),D$1&\"=\",\"\"),\"\")","v":""},{"$f":"IFERROR(SUBSTITUTE(INDEX(Data!$A176:$H176,,MATCH(FALSE,ISERROR(SEARCH(E$1&\"=\",Data!$A176:$H176)),0)),E$1&\"=\",\"\"),\"\")","v":""},{"$f":"IFERROR(SUBSTITUTE(INDEX(Data!$A176:$H176,,MATCH(FALSE,ISERROR(SEARCH(F$1&\"=\",Data!$A176:$H176)),0)),F$1&\"=\",\"\"),\"\")","v":""},{"$f":"IFERROR(SUBSTITUTE(INDEX(Data!$A176:$H176,,MATCH(FALSE,ISERROR(SEARCH(G$1&\"=\",Data!$A176:$H176)),0)),G$1&\"=\",\"\"),\"\")","v":""},{"$f":"IFERROR(SUBSTITUTE(INDEX(Data!$A176:$H176,,MATCH(FALSE,ISERROR(SEARCH(H$1&\"=\",Data!$A176:$H176)),0)),H$1&\"=\",\"\"),\"\")","v":""},{"$f":"IFERROR(SUBSTITUTE(INDEX(Data!$A176:$H176,,MATCH(FALSE,ISERROR(SEARCH(I$1&\"=\",Data!$A176:$H176)),0)),I$1&\"=\",\"\"),\"\")","v":""},{"$f":"IFERROR(SUBSTITUTE(INDEX(Data!$A176:$H176,,MATCH(FALSE,ISERROR(SEARCH(J$1&\"=\",Data!$A176:$H176)),0)),J$1&\"=\",\"\"),\"\")","v":""}]
[{"$f":"IFERROR(SUBSTITUTE(INDEX(Data!$A177:$H177,,MATCH(FALSE,ISERROR(SEARCH(A$1&\"=\",Data!$A177:$H177)),0)),A$1&\"=\",\"\"),\"\")","v":""},{"$f":"IFERROR(SUBSTITUTE(INDEX(Data!$A177:$H177,,MATCH(FALSE,ISERROR(SEARCH(B$1&\"=\",Data!$A177:$H177)),0)),B$1&\"=\",\"\"),\"\")","v":""},{"$f":"IFERROR(SUBSTITUTE(INDEX(Data!$A177:$H177,,MATCH(FALSE,ISERROR(SEARCH(C$1&\"=\",Data!$A177:$H177)),0)),C$1&\"=\",\"\"),\"\")","v":""},{"$f":"IFERROR(SUBSTITUTE(INDEX(Data!$A177:$H177,,MATCH(FALSE,ISERROR(SEARCH(D$1&\"=\",Data!$A177:$H177)),0)),D$1&\"=\",\"\"),\"\")","v":""},{"$f":"IFERROR(SUBSTITUTE(INDEX(Data!$A177:$H177,,MATCH(FALSE,ISERROR(SEARCH(E$1&\"=\",Data!$A177:$H177)),0)),E$1&\"=\",\"\"),\"\")","v":""},{"$f":"IFERROR(SUBSTITUTE(INDEX(Data!$A177:$H177,,MATCH(FALSE,ISERROR(SEARCH(F$1&\"=\",Data!$A177:$H177)),0)),F$1&\"=\",\"\"),\"\")","v":""},{"$f":"IFERROR(SUBSTITUTE(INDEX(Data!$A177:$H177,,MATCH(FALSE,ISERROR(SEARCH(G$1&\"=\",Data!$A177:$H177)),0)),G$1&\"=\",\"\"),\"\")","v":""},{"$f":"IFERROR(SUBSTITUTE(INDEX(Data!$A177:$H177,,MATCH(FALSE,ISERROR(SEARCH(H$1&\"=\",Data!$A177:$H177)),0)),H$1&\"=\",\"\"),\"\")","v":""},{"$f":"IFERROR(SUBSTITUTE(INDEX(Data!$A177:$H177,,MATCH(FALSE,ISERROR(SEARCH(I$1&\"=\",Data!$A177:$H177)),0)),I$1&\"=\",\"\"),\"\")","v":""},{"$f":"IFERROR(SUBSTITUTE(INDEX(Data!$A177:$H177,,MATCH(FALSE,ISERROR(SEARCH(J$1&\"=\",Data!$A177:$H177)),0)),J$1&\"=\",\"\"),\"\")","v":""}]
[{"$f":"IFERROR(SUBSTITUTE(INDEX(Data!$A178:$H178,,MATCH(FALSE,ISERROR(SEARCH(A$1&\"=\",Data!$A178:$H178)),0)),A$1&\"=\",\"\"),\"\")","v":""},{"$f":"IFERROR(SUBSTITUTE(INDEX(Data!$A178:$H178,,MATCH(FALSE,ISERROR(SEARCH(B$1&\"=\",Data!$A178:$H178)),0)),B$1&\"=\",\"\"),\"\")","v":""},{"$f":"IFERROR(SUBSTITUTE(INDEX(Data!$A178:$H178,,MATCH(FALSE,ISERROR(SEARCH(C$1&\"=\",Data!$A178:$H178)),0)),C$1&\"=\",\"\"),\"\")","v":""},{"$f":"IFERROR(SUBSTITUTE(INDEX(Data!$A178:$H178,,MATCH(FALSE,ISERROR(SEARCH(D$1&\"=\",Data!$A178:$H178)),0)),D$1&\"=\",\"\"),\"\")","v":""},{"$f":"IFERROR(SUBSTITUTE(INDEX(Data!$A178:$H178,,MATCH(FALSE,ISERROR(SEARCH(E$1&\"=\",Data!$A178:$H178)),0)),E$1&\"=\",\"\"),\"\")","v":""},{"$f":"IFERROR(SUBSTITUTE(INDEX(Data!$A178:$H178,,MATCH(FALSE,ISERROR(SEARCH(F$1&\"=\",Data!$A178:$H178)),0)),F$1&\"=\",\"\"),\"\")","v":""},{"$f":"IFERROR(SUBSTITUTE(INDEX(Data!$A178:$H178,,MATCH(FALSE,ISERROR(SEARCH(G$1&\"=\",Data!$A178:$H178)),0)),G$1&\"=\",\"\"),\"\")","v":""},{"$f":"IFERROR(SUBSTITUTE(INDEX(Data!$A178:$H178,,MATCH(FALSE,ISERROR(SEARCH(H$1&\"=\",Data!$A178:$H178)),0)),H$1&\"=\",\"\"),\"\")","v":""},{"$f":"IFERROR(SUBSTITUTE(INDEX(Data!$A178:$H178,,MATCH(FALSE,ISERROR(SEARCH(I$1&\"=\",Data!$A178:$H178)),0)),I$1&\"=\",\"\"),\"\")","v":""},{"$f":"IFERROR(SUBSTITUTE(INDEX(Data!$A178:$H178,,MATCH(FALSE,ISERROR(SEARCH(J$1&\"=\",Data!$A178:$H178)),0)),J$1&\"=\",\"\"),\"\")","v":""}]
[{"$f":"IFERROR(SUBSTITUTE(INDEX(Data!$A179:$H179,,MATCH(FALSE,ISERROR(SEARCH(A$1&\"=\",Data!$A179:$H179)),0)),A$1&\"=\",\"\"),\"\")","v":""},{"$f":"IFERROR(SUBSTITUTE(INDEX(Data!$A179:$H179,,MATCH(FALSE,ISERROR(SEARCH(B$1&\"=\",Data!$A179:$H179)),0)),B$1&\"=\",\"\"),\"\")","v":""},{"$f":"IFERROR(SUBSTITUTE(INDEX(Data!$A179:$H179,,MATCH(FALSE,ISERROR(SEARCH(C$1&\"=\",Data!$A179:$H179)),0)),C$1&\"=\",\"\"),\"\")","v":""},{"$f":"IFERROR(SUBSTITUTE(INDEX(Data!$A179:$H179,,MATCH(FALSE,ISERROR(SEARCH(D$1&\"=\",Data!$A179:$H179)),0)),D$1&\"=\",\"\"),\"\")","v":""},{"$f":"IFERROR(SUBSTITUTE(INDEX(Data!$A179:$H179,,MATCH(FALSE,ISERROR(SEARCH(E$1&\"=\",Data!$A179:$H179)),0)),E$1&\"=\",\"\"),\"\")","v":""},{"$f":"IFERROR(SUBSTITUTE(INDEX(Data!$A179:$H179,,MATCH(FALSE,ISERROR(SEARCH(F$1&\"=\",Data!$A179:$H179)),0)),F$1&\"=\",\"\"),\"\")","v":""},{"$f":"IFERROR(SUBSTITUTE(INDEX(Data!$A179:$H179,,MATCH(FALSE,ISERROR(SEARCH(G$1&\"=\",Data!$A179:$H179)),0)),G$1&\"=\",\"\"),\"\")","v":""},{"$f":"IFERROR(SUBSTITUTE(INDEX(Data!$A179:$H179,,MATCH(FALSE,ISERROR(SEARCH(H$1&\"=\",Data!$A179:$H179)),0)),H$1&\"=\",\"\"),\"\")","v":""},{"$f":"IFERROR(SUBSTITUTE(INDEX(Data!$A179:$H179,,MATCH(FALSE,ISERROR(SEARCH(I$1&\"=\",Data!$A179:$H179)),0)),I$1&\"=\",\"\"),\"\")","v":""},{"$f":"IFERROR(SUBSTITUTE(INDEX(Data!$A179:$H179,,MATCH(FALSE,ISERROR(SEARCH(J$1&\"=\",Data!$A179:$H179)),0)),J$1&\"=\",\"\"),\"\")","v":""}]
[{"$f":"IFERROR(SUBSTITUTE(INDEX(Data!$A180:$H180,,MATCH(FALSE,ISERROR(SEARCH(A$1&\"=\",Data!$A180:$H180)),0)),A$1&\"=\",\"\"),\"\")","v":""},{"$f":"IFERROR(SUBSTITUTE(INDEX(Data!$A180:$H180,,MATCH(FALSE,ISERROR(SEARCH(B$1&\"=\",Data!$A180:$H180)),0)),B$1&\"=\",\"\"),\"\")","v":""},{"$f":"IFERROR(SUBSTITUTE(INDEX(Data!$A180:$H180,,MATCH(FALSE,ISERROR(SEARCH(C$1&\"=\",Data!$A180:$H180)),0)),C$1&\"=\",\"\"),\"\")","v":""},{"$f":"IFERROR(SUBSTITUTE(INDEX(Data!$A180:$H180,,MATCH(FALSE,ISERROR(SEARCH(D$1&\"=\",Data!$A180:$H180)),0)),D$1&\"=\",\"\"),\"\")","v":""},{"$f":"IFERROR(SUBSTITUTE(INDEX(Data!$A180:$H180,,MATCH(FALSE,ISERROR(SEARCH(E$1&\"=\",Data!$A180:$H180)),0)),E$1&\"=\",\"\"),\"\")","v":""},{"$f":"IFERROR(SUBSTITUTE(INDEX(Data!$A180:$H180,,MATCH(FALSE,ISERROR(SEARCH(F$1&\"=\",Data!$A180:$H180)),0)),F$1&\"=\",\"\"),\"\")","v":""},{"$f":"IFERROR(SUBSTITUTE(INDEX(Data!$A180:$H180,,MATCH(FALSE,ISERROR(SEARCH(G$1&\"=\",Data!$A180:$H180)),0)),G$1&\"=\",\"\"),\"\")","v":""},{"$f":"IFERROR(SUBSTITUTE(INDEX(Data!$A180:$H180,,MATCH(FALSE,ISERROR(SEARCH(H$1&\"=\",Data!$A180:$H180)),0)),H$1&\"=\",\"\"),\"\")","v":""},{"$f":"IFERROR(SUBSTITUTE(INDEX(Data!$A180:$H180,,MATCH(FALSE,ISERROR(SEARCH(I$1&\"=\",Data!$A180:$H180)),0)),I$1&\"=\",\"\"),\"\")","v":""},{"$f":"IFERROR(SUBSTITUTE(INDEX(Data!$A180:$H180,,MATCH(FALSE,ISERROR(SEARCH(J$1&\"=\",Data!$A180:$H180)),0)),J$1&\"=\",\"\"),\"\")","v":""}]
[{"$f":"IFERROR(SUBSTITUTE(INDEX(Data!$A181:$H181,,MATCH(FALSE,ISERROR(SEARCH(A$1&\"=\",Data!$A181:$H181)),0)),A$1&\"=\",\"\"),\"\")","v":""},{"$f":"IFERROR(SUBSTITUTE(INDEX(Data!$A181:$H181,,MATCH(FALSE,ISERROR(SEARCH(B$1&\"=\",Data!$A181:$H181)),0)),B$1&\"=\",\"\"),\"\")","v":""},{"$f":"IFERROR(SUBSTITUTE(INDEX(Data!$A181:$H181,,MATCH(FALSE,ISERROR(SEARCH(C$1&\"=\",Data!$A181:$H181)),0)),C$1&\"=\",\"\"),\"\")","v":""},{"$f":"IFERROR(SUBSTITUTE(INDEX(Data!$A181:$H181,,MATCH(FALSE,ISERROR(SEARCH(D$1&\"=\",Data!$A181:$H181)),0)),D$1&\"=\",\"\"),\"\")","v":""},{"$f":"IFERROR(SUBSTITUTE(INDEX(Data!$A181:$H181,,MATCH(FALSE,ISERROR(SEARCH(E$1&\"=\",Data!$A181:$H181)),0)),E$1&\"=\",\"\"),\"\")","v":""},{"$f":"IFERROR(SUBSTITUTE(INDEX(Data!$A181:$H181,,MATCH(FALSE,ISERROR(SEARCH(F$1&\"=\",Data!$A181:$H181)),0)),F$1&\"=\",\"\"),\"\")","v":""},{"$f":"IFERROR(SUBSTITUTE(INDEX(Data!$A181:$H181,,MATCH(FALSE,ISERROR(SEARCH(G$1&\"=\",Data!$A181:$H181)),0)),G$1&\"=\",\"\"),\"\")","v":""},{"$f":"IFERROR(SUBSTITUTE(INDEX(Data!$A181:$H181,,MATCH(FALSE,ISERROR(SEARCH(H$1&\"=\",Data!$A181:$H181)),0)),H$1&\"=\",\"\"),\"\")","v":""},{"$f":"IFERROR(SUBSTITUTE(INDEX(Data!$A181:$H181,,MATCH(FALSE,ISERROR(SEARCH(I$1&\"=\",Data!$A181:$H181)),0)),I$1&\"=\",\"\"),\"\")","v":""},{"$f":"IFERROR(SUBSTITUTE(INDEX(Data!$A181:$H181,,MATCH(FALSE,ISERROR(SEARCH(J$1&\"=\",Data!$A181:$H181)),0)),J$1&\"=\",\"\"),\"\")","v":""}]
[{"$f":"IFERROR(SUBSTITUTE(INDEX(Data!$A182:$H182,,MATCH(FALSE,ISERROR(SEARCH(A$1&\"=\",Data!$A182:$H182)),0)),A$1&\"=\",\"\"),\"\")","v":""},{"$f":"IFERROR(SUBSTITUTE(INDEX(Data!$A182:$H182,,MATCH(FALSE,ISERROR(SEARCH(B$1&\"=\",Data!$A182:$H182)),0)),B$1&\"=\",\"\"),\"\")","v":""},{"$f":"IFERROR(SUBSTITUTE(INDEX(Data!$A182:$H182,,MATCH(FALSE,ISERROR(SEARCH(C$1&\"=\",Data!$A182:$H182)),0)),C$1&\"=\",\"\"),\"\")","v":""},{"$f":"IFERROR(SUBSTITUTE(INDEX(Data!$A182:$H182,,MATCH(FALSE,ISERROR(SEARCH(D$1&\"=\",Data!$A182:$H182)),0)),D$1&\"=\",\"\"),\"\")","v":""},{"$f":"IFERROR(SUBSTITUTE(INDEX(Data!$A182:$H182,,MATCH(FALSE,ISERROR(SEARCH(E$1&\"=\",Data!$A182:$H182)),0)),E$1&\"=\",\"\"),\"\")","v":""},{"$f":"IFERROR(SUBSTITUTE(INDEX(Data!$A182:$H182,,MATCH(FALSE,ISERROR(SEARCH(F$1&\"=\",Data!$A182:$H182)),0)),F$1&\"=\",\"\"),\"\")","v":""},{"$f":"IFERROR(SUBSTITUTE(INDEX(Data!$A182:$H182,,MATCH(FALSE,ISERROR(SEARCH(G$1&\"=\",Data!$A182:$H182)),0)),G$1&\"=\",\"\"),\"\")","v":""},{"$f":"IFERROR(SUBSTITUTE(INDEX(Data!$A182:$H182,,MATCH(FALSE,ISERROR(SEARCH(H$1&\"=\",Data!$A182:$H182)),0)),H$1&\"=\",\"\"),\"\")","v":""},{"$f":"IFERROR(SUBSTITUTE(INDEX(Data!$A182:$H182,,MATCH(FALSE,ISERROR(SEARCH(I$1&\"=\",Data!$A182:$H182)),0)),I$1&\"=\",\"\"),\"\")","v":""},{"$f":"IFERROR(SUBSTITUTE(INDEX(Data!$A182:$H182,,MATCH(FALSE,ISERROR(SEARCH(J$1&\"=\",Data!$A182:$H182)),0)),J$1&\"=\",\"\"),\"\")","v":""}]
[{"$f":"IFERROR(SUBSTITUTE(INDEX(Data!$A183:$H183,,MATCH(FALSE,ISERROR(SEARCH(A$1&\"=\",Data!$A183:$H183)),0)),A$1&\"=\",\"\"),\"\")","v":""},{"$f":"IFERROR(SUBSTITUTE(INDEX(Data!$A183:$H183,,MATCH(FALSE,ISERROR(SEARCH(B$1&\"=\",Data!$A183:$H183)),0)),B$1&\"=\",\"\"),\"\")","v":""},{"$f":"IFERROR(SUBSTITUTE(INDEX(Data!$A183:$H183,,MATCH(FALSE,ISERROR(SEARCH(C$1&\"=\",Data!$A183:$H183)),0)),C$1&\"=\",\"\"),\"\")","v":""},{"$f":"IFERROR(SUBSTITUTE(INDEX(Data!$A183:$H183,,MATCH(FALSE,ISERROR(SEARCH(D$1&\"=\",Data!$A183:$H183)),0)),D$1&\"=\",\"\"),\"\")","v":""},{"$f":"IFERROR(SUBSTITUTE(INDEX(Data!$A183:$H183,,MATCH(FALSE,ISERROR(SEARCH(E$1&\"=\",Data!$A183:$H183)),0)),E$1&\"=\",\"\"),\"\")","v":""},{"$f":"IFERROR(SUBSTITUTE(INDEX(Data!$A183:$H183,,MATCH(FALSE,ISERROR(SEARCH(F$1&\"=\",Data!$A183:$H183)),0)),F$1&\"=\",\"\"),\"\")","v":""},{"$f":"IFERROR(SUBSTITUTE(INDEX(Data!$A183:$H183,,MATCH(FALSE,ISERROR(SEARCH(G$1&\"=\",Data!$A183:$H183)),0)),G$1&\"=\",\"\"),\"\")","v":""},{"$f":"IFERROR(SUBSTITUTE(INDEX(Data!$A183:$H183,,MATCH(FALSE,ISERROR(SEARCH(H$1&\"=\",Data!$A183:$H183)),0)),H$1&\"=\",\"\"),\"\")","v":""},{"$f":"IFERROR(SUBSTITUTE(INDEX(Data!$A183:$H183,,MATCH(FALSE,ISERROR(SEARCH(I$1&\"=\",Data!$A183:$H183)),0)),I$1&\"=\",\"\"),\"\")","v":""},{"$f":"IFERROR(SUBSTITUTE(INDEX(Data!$A183:$H183,,MATCH(FALSE,ISERROR(SEARCH(J$1&\"=\",Data!$A183:$H183)),0)),J$1&\"=\",\"\"),\"\")","v":""}]
[{"$f":"IFERROR(SUBSTITUTE(INDEX(Data!$A184:$H184,,MATCH(FALSE,ISERROR(SEARCH(A$1&\"=\",Data!$A184:$H184)),0)),A$1&\"=\",\"\"),\"\")","v":""},{"$f":"IFERROR(SUBSTITUTE(INDEX(Data!$A184:$H184,,MATCH(FALSE,ISERROR(SEARCH(B$1&\"=\",Data!$A184:$H184)),0)),B$1&\"=\",\"\"),\"\")","v":""},{"$f":"IFERROR(SUBSTITUTE(INDEX(Data!$A184:$H184,,MATCH(FALSE,ISERROR(SEARCH(C$1&\"=\",Data!$A184:$H184)),0)),C$1&\"=\",\"\"),\"\")","v":""},{"$f":"IFERROR(SUBSTITUTE(INDEX(Data!$A184:$H184,,MATCH(FALSE,ISERROR(SEARCH(D$1&\"=\",Data!$A184:$H184)),0)),D$1&\"=\",\"\"),\"\")","v":""},{"$f":"IFERROR(SUBSTITUTE(INDEX(Data!$A184:$H184,,MATCH(FALSE,ISERROR(SEARCH(E$1&\"=\",Data!$A184:$H184)),0)),E$1&\"=\",\"\"),\"\")","v":""},{"$f":"IFERROR(SUBSTITUTE(INDEX(Data!$A184:$H184,,MATCH(FALSE,ISERROR(SEARCH(F$1&\"=\",Data!$A184:$H184)),0)),F$1&\"=\",\"\"),\"\")","v":""},{"$f":"IFERROR(SUBSTITUTE(INDEX(Data!$A184:$H184,,MATCH(FALSE,ISERROR(SEARCH(G$1&\"=\",Data!$A184:$H184)),0)),G$1&\"=\",\"\"),\"\")","v":""},{"$f":"IFERROR(SUBSTITUTE(INDEX(Data!$A184:$H184,,MATCH(FALSE,ISERROR(SEARCH(H$1&\"=\",Data!$A184:$H184)),0)),H$1&\"=\",\"\"),\"\")","v":""},{"$f":"IFERROR(SUBSTITUTE(INDEX(Data!$A184:$H184,,MATCH(FALSE,ISERROR(SEARCH(I$1&\"=\",Data!$A184:$H184)),0)),I$1&\"=\",\"\"),\"\")","v":""},{"$f":"IFERROR(SUBSTITUTE(INDEX(Data!$A184:$H184,,MATCH(FALSE,ISERROR(SEARCH(J$1&\"=\",Data!$A184:$H184)),0)),J$1&\"=\",\"\"),\"\")","v":""}]
[{"$f":"IFERROR(SUBSTITUTE(INDEX(Data!$A185:$H185,,MATCH(FALSE,ISERROR(SEARCH(A$1&\"=\",Data!$A185:$H185)),0)),A$1&\"=\",\"\"),\"\")","v":""},{"$f":"IFERROR(SUBSTITUTE(INDEX(Data!$A185:$H185,,MATCH(FALSE,ISERROR(SEARCH(B$1&\"=\",Data!$A185:$H185)),0)),B$1&\"=\",\"\"),\"\")","v":""},{"$f":"IFERROR(SUBSTITUTE(INDEX(Data!$A185:$H185,,MATCH(FALSE,ISERROR(SEARCH(C$1&\"=\",Data!$A185:$H185)),0)),C$1&\"=\",\"\"),\"\")","v":""},{"$f":"IFERROR(SUBSTITUTE(INDEX(Data!$A185:$H185,,MATCH(FALSE,ISERROR(SEARCH(D$1&\"=\",Data!$A185:$H185)),0)),D$1&\"=\",\"\"),\"\")","v":""},{"$f":"IFERROR(SUBSTITUTE(INDEX(Data!$A185:$H185,,MATCH(FALSE,ISERROR(SEARCH(E$1&\"=\",Data!$A185:$H185)),0)),E$1&\"=\",\"\"),\"\")","v":""},{"$f":"IFERROR(SUBSTITUTE(INDEX(Data!$A185:$H185,,MATCH(FALSE,ISERROR(SEARCH(F$1&\"=\",Data!$A185:$H185)),0)),F$1&\"=\",\"\"),\"\")","v":""},{"$f":"IFERROR(SUBSTITUTE(INDEX(Data!$A185:$H185,,MATCH(FALSE,ISERROR(SEARCH(G$1&\"=\",Data!$A185:$H185)),0)),G$1&\"=\",\"\"),\"\")","v":""},{"$f":"IFERROR(SUBSTITUTE(INDEX(Data!$A185:$H185,,MATCH(FALSE,ISERROR(SEARCH(H$1&\"=\",Data!$A185:$H185)),0)),H$1&\"=\",\"\"),\"\")","v":""},{"$f":"IFERROR(SUBSTITUTE(INDEX(Data!$A185:$H185,,MATCH(FALSE,ISERROR(SEARCH(I$1&\"=\",Data!$A185:$H185)),0)),I$1&\"=\",\"\"),\"\")","v":""},{"$f":"IFERROR(SUBSTITUTE(INDEX(Data!$A185:$H185,,MATCH(FALSE,ISERROR(SEARCH(J$1&\"=\",Data!$A185:$H185)),0)),J$1&\"=\",\"\"),\"\")","v":""}]
[{"$f":"IFERROR(SUBSTITUTE(INDEX(Data!$A186:$H186,,MATCH(FALSE,ISERROR(SEARCH(A$1&\"=\",Data!$A186:$H186)),0)),A$1&\"=\",\"\"),\"\")","v":""},{"$f":"IFERROR(SUBSTITUTE(INDEX(Data!$A186:$H186,,MATCH(FALSE,ISERROR(SEARCH(B$1&\"=\",Data!$A186:$H186)),0)),B$1&\"=\",\"\"),\"\")","v":""},{"$f":"IFERROR(SUBSTITUTE(INDEX(Data!$A186:$H186,,MATCH(FALSE,ISERROR(SEARCH(C$1&\"=\",Data!$A186:$H186)),0)),C$1&\"=\",\"\"),\"\")","v":""},{"$f":"IFERROR(SUBSTITUTE(INDEX(Data!$A186:$H186,,MATCH(FALSE,ISERROR(SEARCH(D$1&\"=\",Data!$A186:$H186)),0)),D$1&\"=\",\"\"),\"\")","v":""},{"$f":"IFERROR(SUBSTITUTE(INDEX(Data!$A186:$H186,,MATCH(FALSE,ISERROR(SEARCH(E$1&\"=\",Data!$A186:$H186)),0)),E$1&\"=\",\"\"),\"\")","v":""},{"$f":"IFERROR(SUBSTITUTE(INDEX(Data!$A186:$H186,,MATCH(FALSE,ISERROR(SEARCH(F$1&\"=\",Data!$A186:$H186)),0)),F$1&\"=\",\"\"),\"\")","v":""},{"$f":"IFERROR(SUBSTITUTE(INDEX(Data!$A186:$H186,,MATCH(FALSE,ISERROR(SEARCH(G$1&\"=\",Data!$A186:$H186)),0)),G$1&\"=\",\"\"),\"\")","v":""},{"$f":"IFERROR(SUBSTITUTE(INDEX(Data!$A186:$H186,,MATCH(FALSE,ISERROR(SEARCH(H$1&\"=\",Data!$A186:$H186)),0)),H$1&\"=\",\"\"),\"\")","v":""},{"$f":"IFERROR(SUBSTITUTE(INDEX(Data!$A186:$H186,,MATCH(FALSE,ISERROR(SEARCH(I$1&\"=\",Data!$A186:$H186)),0)),I$1&\"=\",\"\"),\"\")","v":""},{"$f":"IFERROR(SUBSTITUTE(INDEX(Data!$A186:$H186,,MATCH(FALSE,ISERROR(SEARCH(J$1&\"=\",Data!$A186:$H186)),0)),J$1&\"=\",\"\"),\"\")","v":""}]
[{"$f":"IFERROR(SUBSTITUTE(INDEX(Data!$A187:$H187,,MATCH(FALSE,ISERROR(SEARCH(A$1&\"=\",Data!$A187:$H187)),0)),A$1&\"=\",\"\"),\"\")","v":""},{"$f":"IFERROR(SUBSTITUTE(INDEX(Data!$A187:$H187,,MATCH(FALSE,ISERROR(SEARCH(B$1&\"=\",Data!$A187:$H187)),0)),B$1&\"=\",\"\"),\"\")","v":""},{"$f":"IFERROR(SUBSTITUTE(INDEX(Data!$A187:$H187,,MATCH(FALSE,ISERROR(SEARCH(C$1&\"=\",Data!$A187:$H187)),0)),C$1&\"=\",\"\"),\"\")","v":""},{"$f":"IFERROR(SUBSTITUTE(INDEX(Data!$A187:$H187,,MATCH(FALSE,ISERROR(SEARCH(D$1&\"=\",Data!$A187:$H187)),0)),D$1&\"=\",\"\"),\"\")","v":""},{"$f":"IFERROR(SUBSTITUTE(INDEX(Data!$A187:$H187,,MATCH(FALSE,ISERROR(SEARCH(E$1&\"=\",Data!$A187:$H187)),0)),E$1&\"=\",\"\"),\"\")","v":""},{"$f":"IFERROR(SUBSTITUTE(INDEX(Data!$A187:$H187,,MATCH(FALSE,ISERROR(SEARCH(F$1&\"=\",Data!$A187:$H187)),0)),F$1&\"=\",\"\"),\"\")","v":""},{"$f":"IFERROR(SUBSTITUTE(INDEX(Data!$A187:$H187,,MATCH(FALSE,ISERROR(SEARCH(G$1&\"=\",Data!$A187:$H187)),0)),G$1&\"=\",\"\"),\"\")","v":""},{"$f":"IFERROR(SUBSTITUTE(INDEX(Data!$A187:$H187,,MATCH(FALSE,ISERROR(SEARCH(H$1&\"=\",Data!$A187:$H187)),0)),H$1&\"=\",\"\"),\"\")","v":""},{"$f":"IFERROR(SUBSTITUTE(INDEX(Data!$A187:$H187,,MATCH(FALSE,ISERROR(SEARCH(I$1&\"=\",Data!$A187:$H187)),0)),I$1&\"=\",\"\"),\"\")","v":""},{"$f":"IFERROR(SUBSTITUTE(INDEX(Data!$A187:$H187,,MATCH(FALSE,ISERROR(SEARCH(J$1&\"=\",Data!$A187:$H187)),0)),J$1&\"=\",\"\"),\"\")","v":""}]
[{"$f":"IFERROR(SUBSTITUTE(INDEX(Data!$A188:$H188,,MATCH(FALSE,ISERROR(SEARCH(A$1&\"=\",Data!$A188:$H188)),0)),A$1&\"=\",\"\"),\"\")","v":""},{"$f":"IFERROR(SUBSTITUTE(INDEX(Data!$A188:$H188,,MATCH(FALSE,ISERROR(SEARCH(B$1&\"=\",Data!$A188:$H188)),0)),B$1&\"=\",\"\"),\"\")","v":""},{"$f":"IFERROR(SUBSTITUTE(INDEX(Data!$A188:$H188,,MATCH(FALSE,ISERROR(SEARCH(C$1&\"=\",Data!$A188:$H188)),0)),C$1&\"=\",\"\"),\"\")","v":""},{"$f":"IFERROR(SUBSTITUTE(INDEX(Data!$A188:$H188,,MATCH(FALSE,ISERROR(SEARCH(D$1&\"=\",Data!$A188:$H188)),0)),D$1&\"=\",\"\"),\"\")","v":""},{"$f":"IFERROR(SUBSTITUTE(INDEX(Data!$A188:$H188,,MATCH(FALSE,ISERROR(SEARCH(E$1&\"=\",Data!$A188:$H188)),0)),E$1&\"=\",\"\"),\"\")","v":""},{"$f":"IFERROR(SUBSTITUTE(INDEX(Data!$A188:$H188,,MATCH(FALSE,ISERROR(SEARCH(F$1&\"=\",Data!$A188:$H188)),0)),F$1&\"=\",\"\"),\"\")","v":""},{"$f":"IFERROR(SUBSTITUTE(INDEX(Data!$A188:$H188,,MATCH(FALSE,ISERROR(SEARCH(G$1&\"=\",Data!$A188:$H188)),0)),G$1&\"=\",\"\"),\"\")","v":""},{"$f":"IFERROR(SUBSTITUTE(INDEX(Data!$A188:$H188,,MATCH(FALSE,ISERROR(SEARCH(H$1&\"=\",Data!$A188:$H188)),0)),H$1&\"=\",\"\"),\"\")","v":""},{"$f":"IFERROR(SUBSTITUTE(INDEX(Data!$A188:$H188,,MATCH(FALSE,ISERROR(SEARCH(I$1&\"=\",Data!$A188:$H188)),0)),I$1&\"=\",\"\"),\"\")","v":""},{"$f":"IFERROR(SUBSTITUTE(INDEX(Data!$A188:$H188,,MATCH(FALSE,ISERROR(SEARCH(J$1&\"=\",Data!$A188:$H188)),0)),J$1&\"=\",\"\"),\"\")","v":""}]
[{"$f":"IFERROR(SUBSTITUTE(INDEX(Data!$A189:$H189,,MATCH(FALSE,ISERROR(SEARCH(A$1&\"=\",Data!$A189:$H189)),0)),A$1&\"=\",\"\"),\"\")","v":""},{"$f":"IFERROR(SUBSTITUTE(INDEX(Data!$A189:$H189,,MATCH(FALSE,ISERROR(SEARCH(B$1&\"=\",Data!$A189:$H189)),0)),B$1&\"=\",\"\"),\"\")","v":""},{"$f":"IFERROR(SUBSTITUTE(INDEX(Data!$A189:$H189,,MATCH(FALSE,ISERROR(SEARCH(C$1&\"=\",Data!$A189:$H189)),0)),C$1&\"=\",\"\"),\"\")","v":""},{"$f":"IFERROR(SUBSTITUTE(INDEX(Data!$A189:$H189,,MATCH(FALSE,ISERROR(SEARCH(D$1&\"=\",Data!$A189:$H189)),0)),D$1&\"=\",\"\"),\"\")","v":""},{"$f":"IFERROR(SUBSTITUTE(INDEX(Data!$A189:$H189,,MATCH(FALSE,ISERROR(SEARCH(E$1&\"=\",Data!$A189:$H189)),0)),E$1&\"=\",\"\"),\"\")","v":""},{"$f":"IFERROR(SUBSTITUTE(INDEX(Data!$A189:$H189,,MATCH(FALSE,ISERROR(SEARCH(F$1&\"=\",Data!$A189:$H189)),0)),F$1&\"=\",\"\"),\"\")","v":""},{"$f":"IFERROR(SUBSTITUTE(INDEX(Data!$A189:$H189,,MATCH(FALSE,ISERROR(SEARCH(G$1&\"=\",Data!$A189:$H189)),0)),G$1&\"=\",\"\"),\"\")","v":""},{"$f":"IFERROR(SUBSTITUTE(INDEX(Data!$A189:$H189,,MATCH(FALSE,ISERROR(SEARCH(H$1&\"=\",Data!$A189:$H189)),0)),H$1&\"=\",\"\"),\"\")","v":""},{"$f":"IFERROR(SUBSTITUTE(INDEX(Data!$A189:$H189,,MATCH(FALSE,ISERROR(SEARCH(I$1&\"=\",Data!$A189:$H189)),0)),I$1&\"=\",\"\"),\"\")","v":""},{"$f":"IFERROR(SUBSTITUTE(INDEX(Data!$A189:$H189,,MATCH(FALSE,ISERROR(SEARCH(J$1&\"=\",Data!$A189:$H189)),0)),J$1&\"=\",\"\"),\"\")","v":""}]
[{"$f":"IFERROR(SUBSTITUTE(INDEX(Data!$A190:$H190,,MATCH(FALSE,ISERROR(SEARCH(A$1&\"=\",Data!$A190:$H190)),0)),A$1&\"=\",\"\"),\"\")","v":""},{"$f":"IFERROR(SUBSTITUTE(INDEX(Data!$A190:$H190,,MATCH(FALSE,ISERROR(SEARCH(B$1&\"=\",Data!$A190:$H190)),0)),B$1&\"=\",\"\"),\"\")","v":""},{"$f":"IFERROR(SUBSTITUTE(INDEX(Data!$A190:$H190,,MATCH(FALSE,ISERROR(SEARCH(C$1&\"=\",Data!$A190:$H190)),0)),C$1&\"=\",\"\"),\"\")","v":""},{"$f":"IFERROR(SUBSTITUTE(INDEX(Data!$A190:$H190,,MATCH(FALSE,ISERROR(SEARCH(D$1&\"=\",Data!$A190:$H190)),0)),D$1&\"=\",\"\"),\"\")","v":""},{"$f":"IFERROR(SUBSTITUTE(INDEX(Data!$A190:$H190,,MATCH(FALSE,ISERROR(SEARCH(E$1&\"=\",Data!$A190:$H190)),0)),E$1&\"=\",\"\"),\"\")","v":""},{"$f":"IFERROR(SUBSTITUTE(INDEX(Data!$A190:$H190,,MATCH(FALSE,ISERROR(SEARCH(F$1&\"=\",Data!$A190:$H190)),0)),F$1&\"=\",\"\"),\"\")","v":""},{"$f":"IFERROR(SUBSTITUTE(INDEX(Data!$A190:$H190,,MATCH(FALSE,ISERROR(SEARCH(G$1&\"=\",Data!$A190:$H190)),0)),G$1&\"=\",\"\"),\"\")","v":""},{"$f":"IFERROR(SUBSTITUTE(INDEX(Data!$A190:$H190,,MATCH(FALSE,ISERROR(SEARCH(H$1&\"=\",Data!$A190:$H190)),0)),H$1&\"=\",\"\"),\"\")","v":""},{"$f":"IFERROR(SUBSTITUTE(INDEX(Data!$A190:$H190,,MATCH(FALSE,ISERROR(SEARCH(I$1&\"=\",Data!$A190:$H190)),0)),I$1&\"=\",\"\"),\"\")","v":""},{"$f":"IFERROR(SUBSTITUTE(INDEX(Data!$A190:$H190,,MATCH(FALSE,ISERROR(SEARCH(J$1&\"=\",Data!$A190:$H190)),0)),J$1&\"=\",\"\"),\"\")","v":""}]
[{"$f":"IFERROR(SUBSTITUTE(INDEX(Data!$A191:$H191,,MATCH(FALSE,ISERROR(SEARCH(A$1&\"=\",Data!$A191:$H191)),0)),A$1&\"=\",\"\"),\"\")","v":""},{"$f":"IFERROR(SUBSTITUTE(INDEX(Data!$A191:$H191,,MATCH(FALSE,ISERROR(SEARCH(B$1&\"=\",Data!$A191:$H191)),0)),B$1&\"=\",\"\"),\"\")","v":""},{"$f":"IFERROR(SUBSTITUTE(INDEX(Data!$A191:$H191,,MATCH(FALSE,ISERROR(SEARCH(C$1&\"=\",Data!$A191:$H191)),0)),C$1&\"=\",\"\"),\"\")","v":""},{"$f":"IFERROR(SUBSTITUTE(INDEX(Data!$A191:$H191,,MATCH(FALSE,ISERROR(SEARCH(D$1&\"=\",Data!$A191:$H191)),0)),D$1&\"=\",\"\"),\"\")","v":""},{"$f":"IFERROR(SUBSTITUTE(INDEX(Data!$A191:$H191,,MATCH(FALSE,ISERROR(SEARCH(E$1&\"=\",Data!$A191:$H191)),0)),E$1&\"=\",\"\"),\"\")","v":""},{"$f":"IFERROR(SUBSTITUTE(INDEX(Data!$A191:$H191,,MATCH(FALSE,ISERROR(SEARCH(F$1&\"=\",Data!$A191:$H191)),0)),F$1&\"=\",\"\"),\"\")","v":""},{"$f":"IFERROR(SUBSTITUTE(INDEX(Data!$A191:$H191,,MATCH(FALSE,ISERROR(SEARCH(G$1&\"=\",Data!$A191:$H191)),0)),G$1&\"=\",\"\"),\"\")","v":""},{"$f":"IFERROR(SUBSTITUTE(INDEX(Data!$A191:$H191,,MATCH(FALSE,ISERROR(SEARCH(H$1&\"=\",Data!$A191:$H191)),0)),H$1&\"=\",\"\"),\"\")","v":""},{"$f":"IFERROR(SUBSTITUTE(INDEX(Data!$A191:$H191,,MATCH(FALSE,ISERROR(SEARCH(I$1&\"=\",Data!$A191:$H191)),0)),I$1&\"=\",\"\"),\"\")","v":""},{"$f":"IFERROR(SUBSTITUTE(INDEX(Data!$A191:$H191,,MATCH(FALSE,ISERROR(SEARCH(J$1&\"=\",Data!$A191:$H191)),0)),J$1&\"=\",\"\"),\"\")","v":""}]
[{"$f":"IFERROR(SUBSTITUTE(INDEX(Data!$A192:$H192,,MATCH(FALSE,ISERROR(SEARCH(A$1&\"=\",Data!$A192:$H192)),0)),A$1&\"=\",\"\"),\"\")","v":""},{"$f":"IFERROR(SUBSTITUTE(INDEX(Data!$A192:$H192,,MATCH(FALSE,ISERROR(SEARCH(B$1&\"=\",Data!$A192:$H192)),0)),B$1&\"=\",\"\"),\"\")","v":""},{"$f":"IFERROR(SUBSTITUTE(INDEX(Data!$A192:$H192,,MATCH(FALSE,ISERROR(SEARCH(C$1&\"=\",Data!$A192:$H192)),0)),C$1&\"=\",\"\"),\"\")","v":""},{"$f":"IFERROR(SUBSTITUTE(INDEX(Data!$A192:$H192,,MATCH(FALSE,ISERROR(SEARCH(D$1&\"=\",Data!$A192:$H192)),0)),D$1&\"=\",\"\"),\"\")","v":""},{"$f":"IFERROR(SUBSTITUTE(INDEX(Data!$A192:$H192,,MATCH(FALSE,ISERROR(SEARCH(E$1&\"=\",Data!$A192:$H192)),0)),E$1&\"=\",\"\"),\"\")","v":""},{"$f":"IFERROR(SUBSTITUTE(INDEX(Data!$A192:$H192,,MATCH(FALSE,ISERROR(SEARCH(F$1&\"=\",Data!$A192:$H192)),0)),F$1&\"=\",\"\"),\"\")","v":""},{"$f":"IFERROR(SUBSTITUTE(INDEX(Data!$A192:$H192,,MATCH(FALSE,ISERROR(SEARCH(G$1&\"=\",Data!$A192:$H192)),0)),G$1&\"=\",\"\"),\"\")","v":""},{"$f":"IFERROR(SUBSTITUTE(INDEX(Data!$A192:$H192,,MATCH(FALSE,ISERROR(SEARCH(H$1&\"=\",Data!$A192:$H192)),0)),H$1&\"=\",\"\"),\"\")","v":""},{"$f":"IFERROR(SUBSTITUTE(INDEX(Data!$A192:$H192,,MATCH(FALSE,ISERROR(SEARCH(I$1&\"=\",Data!$A192:$H192)),0)),I$1&\"=\",\"\"),\"\")","v":""},{"$f":"IFERROR(SUBSTITUTE(INDEX(Data!$A192:$H192,,MATCH(FALSE,ISERROR(SEARCH(J$1&\"=\",Data!$A192:$H192)),0)),J$1&\"=\",\"\"),\"\")","v":""}]
[{"$f":"IFERROR(SUBSTITUTE(INDEX(Data!$A193:$H193,,MATCH(FALSE,ISERROR(SEARCH(A$1&\"=\",Data!$A193:$H193)),0)),A$1&\"=\",\"\"),\"\")","v":""},{"$f":"IFERROR(SUBSTITUTE(INDEX(Data!$A193:$H193,,MATCH(FALSE,ISERROR(SEARCH(B$1&\"=\",Data!$A193:$H193)),0)),B$1&\"=\",\"\"),\"\")","v":""},{"$f":"IFERROR(SUBSTITUTE(INDEX(Data!$A193:$H193,,MATCH(FALSE,ISERROR(SEARCH(C$1&\"=\",Data!$A193:$H193)),0)),C$1&\"=\",\"\"),\"\")","v":""},{"$f":"IFERROR(SUBSTITUTE(INDEX(Data!$A193:$H193,,MATCH(FALSE,ISERROR(SEARCH(D$1&\"=\",Data!$A193:$H193)),0)),D$1&\"=\",\"\"),\"\")","v":""},{"$f":"IFERROR(SUBSTITUTE(INDEX(Data!$A193:$H193,,MATCH(FALSE,ISERROR(SEARCH(E$1&\"=\",Data!$A193:$H193)),0)),E$1&\"=\",\"\"),\"\")","v":""},{"$f":"IFERROR(SUBSTITUTE(INDEX(Data!$A193:$H193,,MATCH(FALSE,ISERROR(SEARCH(F$1&\"=\",Data!$A193:$H193)),0)),F$1&\"=\",\"\"),\"\")","v":""},{"$f":"IFERROR(SUBSTITUTE(INDEX(Data!$A193:$H193,,MATCH(FALSE,ISERROR(SEARCH(G$1&\"=\",Data!$A193:$H193)),0)),G$1&\"=\",\"\"),\"\")","v":""},{"$f":"IFERROR(SUBSTITUTE(INDEX(Data!$A193:$H193,,MATCH(FALSE,ISERROR(SEARCH(H$1&\"=\",Data!$A193:$H193)),0)),H$1&\"=\",\"\"),\"\")","v":""},{"$f":"IFERROR(SUBSTITUTE(INDEX(Data!$A193:$H193,,MATCH(FALSE,ISERROR(SEARCH(I$1&\"=\",Data!$A193:$H193)),0)),I$1&\"=\",\"\"),\"\")","v":""},{"$f":"IFERROR(SUBSTITUTE(INDEX(Data!$A193:$H193,,MATCH(FALSE,ISERROR(SEARCH(J$1&\"=\",Data!$A193:$H193)),0)),J$1&\"=\",\"\"),\"\")","v":""}]
[{"$f":"IFERROR(SUBSTITUTE(INDEX(Data!$A194:$H194,,MATCH(FALSE,ISERROR(SEARCH(A$1&\"=\",Data!$A194:$H194)),0)),A$1&\"=\",\"\"),\"\")","v":""},{"$f":"IFERROR(SUBSTITUTE(INDEX(Data!$A194:$H194,,MATCH(FALSE,ISERROR(SEARCH(B$1&\"=\",Data!$A194:$H194)),0)),B$1&\"=\",\"\"),\"\")","v":""},{"$f":"IFERROR(SUBSTITUTE(INDEX(Data!$A194:$H194,,MATCH(FALSE,ISERROR(SEARCH(C$1&\"=\",Data!$A194:$H194)),0)),C$1&\"=\",\"\"),\"\")","v":""},{"$f":"IFERROR(SUBSTITUTE(INDEX(Data!$A194:$H194,,MATCH(FALSE,ISERROR(SEARCH(D$1&\"=\",Data!$A194:$H194)),0)),D$1&\"=\",\"\"),\"\")","v":""},{"$f":"IFERROR(SUBSTITUTE(INDEX(Data!$A194:$H194,,MATCH(FALSE,ISERROR(SEARCH(E$1&\"=\",Data!$A194:$H194)),0)),E$1&\"=\",\"\"),\"\")","v":""},{"$f":"IFERROR(SUBSTITUTE(INDEX(Data!$A194:$H194,,MATCH(FALSE,ISERROR(SEARCH(F$1&\"=\",Data!$A194:$H194)),0)),F$1&\"=\",\"\"),\"\")","v":""},{"$f":"IFERROR(SUBSTITUTE(INDEX(Data!$A194:$H194,,MATCH(FALSE,ISERROR(SEARCH(G$1&\"=\",Data!$A194:$H194)),0)),G$1&\"=\",\"\"),\"\")","v":""},{"$f":"IFERROR(SUBSTITUTE(INDEX(Data!$A194:$H194,,MATCH(FALSE,ISERROR(SEARCH(H$1&\"=\",Data!$A194:$H194)),0)),H$1&\"=\",\"\"),\"\")","v":""},{"$f":"IFERROR(SUBSTITUTE(INDEX(Data!$A194:$H194,,MATCH(FALSE,ISERROR(SEARCH(I$1&\"=\",Data!$A194:$H194)),0)),I$1&\"=\",\"\"),\"\")","v":""},{"$f":"IFERROR(SUBSTITUTE(INDEX(Data!$A194:$H194,,MATCH(FALSE,ISERROR(SEARCH(J$1&\"=\",Data!$A194:$H194)),0)),J$1&\"=\",\"\"),\"\")","v":""}]
[{"$f":"IFERROR(SUBSTITUTE(INDEX(Data!$A195:$H195,,MATCH(FALSE,ISERROR(SEARCH(A$1&\"=\",Data!$A195:$H195)),0)),A$1&\"=\",\"\"),\"\")","v":""},{"$f":"IFERROR(SUBSTITUTE(INDEX(Data!$A195:$H195,,MATCH(FALSE,ISERROR(SEARCH(B$1&\"=\",Data!$A195:$H195)),0)),B$1&\"=\",\"\"),\"\")","v":""},{"$f":"IFERROR(SUBSTITUTE(INDEX(Data!$A195:$H195,,MATCH(FALSE,ISERROR(SEARCH(C$1&\"=\",Data!$A195:$H195)),0)),C$1&\"=\",\"\"),\"\")","v":""},{"$f":"IFERROR(SUBSTITUTE(INDEX(Data!$A195:$H195,,MATCH(FALSE,ISERROR(SEARCH(D$1&\"=\",Data!$A195:$H195)),0)),D$1&\"=\",\"\"),\"\")","v":""},{"$f":"IFERROR(SUBSTITUTE(INDEX(Data!$A195:$H195,,MATCH(FALSE,ISERROR(SEARCH(E$1&\"=\",Data!$A195:$H195)),0)),E$1&\"=\",\"\"),\"\")","v":""},{"$f":"IFERROR(SUBSTITUTE(INDEX(Data!$A195:$H195,,MATCH(FALSE,ISERROR(SEARCH(F$1&\"=\",Data!$A195:$H195)),0)),F$1&\"=\",\"\"),\"\")","v":""},{"$f":"IFERROR(SUBSTITUTE(INDEX(Data!$A195:$H195,,MATCH(FALSE,ISERROR(SEARCH(G$1&\"=\",Data!$A195:$H195)),0)),G$1&\"=\",\"\"),\"\")","v":""},{"$f":"IFERROR(SUBSTITUTE(INDEX(Data!$A195:$H195,,MATCH(FALSE,ISERROR(SEARCH(H$1&\"=\",Data!$A195:$H195)),0)),H$1&\"=\",\"\"),\"\")","v":""},{"$f":"IFERROR(SUBSTITUTE(INDEX(Data!$A195:$H195,,MATCH(FALSE,ISERROR(SEARCH(I$1&\"=\",Data!$A195:$H195)),0)),I$1&\"=\",\"\"),\"\")","v":""},{"$f":"IFERROR(SUBSTITUTE(INDEX(Data!$A195:$H195,,MATCH(FALSE,ISERROR(SEARCH(J$1&\"=\",Data!$A195:$H195)),0)),J$1&\"=\",\"\"),\"\")","v":""}]
[{"$f":"IFERROR(SUBSTITUTE(INDEX(Data!$A196:$H196,,MATCH(FALSE,ISERROR(SEARCH(A$1&\"=\",Data!$A196:$H196)),0)),A$1&\"=\",\"\"),\"\")","v":""},{"$f":"IFERROR(SUBSTITUTE(INDEX(Data!$A196:$H196,,MATCH(FALSE,ISERROR(SEARCH(B$1&\"=\",Data!$A196:$H196)),0)),B$1&\"=\",\"\"),\"\")","v":""},{"$f":"IFERROR(SUBSTITUTE(INDEX(Data!$A196:$H196,,MATCH(FALSE,ISERROR(SEARCH(C$1&\"=\",Data!$A196:$H196)),0)),C$1&\"=\",\"\"),\"\")","v":""},{"$f":"IFERROR(SUBSTITUTE(INDEX(Data!$A196:$H196,,MATCH(FALSE,ISERROR(SEARCH(D$1&\"=\",Data!$A196:$H196)),0)),D$1&\"=\",\"\"),\"\")","v":""},{"$f":"IFERROR(SUBSTITUTE(INDEX(Data!$A196:$H196,,MATCH(FALSE,ISERROR(SEARCH(E$1&\"=\",Data!$A196:$H196)),0)),E$1&\"=\",\"\"),\"\")","v":""},{"$f":"IFERROR(SUBSTITUTE(INDEX(Data!$A196:$H196,,MATCH(FALSE,ISERROR(SEARCH(F$1&\"=\",Data!$A196:$H196)),0)),F$1&\"=\",\"\"),\"\")","v":""},{"$f":"IFERROR(SUBSTITUTE(INDEX(Data!$A196:$H196,,MATCH(FALSE,ISERROR(SEARCH(G$1&\"=\",Data!$A196:$H196)),0)),G$1&\"=\",\"\"),\"\")","v":""},{"$f":"IFERROR(SUBSTITUTE(INDEX(Data!$A196:$H196,,MATCH(FALSE,ISERROR(SEARCH(H$1&\"=\",Data!$A196:$H196)),0)),H$1&\"=\",\"\"),\"\")","v":""},{"$f":"IFERROR(SUBSTITUTE(INDEX(Data!$A196:$H196,,MATCH(FALSE,ISERROR(SEARCH(I$1&\"=\",Data!$A196:$H196)),0)),I$1&\"=\",\"\"),\"\")","v":""},{"$f":"IFERROR(SUBSTITUTE(INDEX(Data!$A196:$H196,,MATCH(FALSE,ISERROR(SEARCH(J$1&\"=\",Data!$A196:$H196)),0)),J$1&\"=\",\"\"),\"\")","v":""}]
[{"$f":"IFERROR(SUBSTITUTE(INDEX(Data!$A197:$H197,,MATCH(FALSE,ISERROR(SEARCH(A$1&\"=\",Data!$A197:$H197)),0)),A$1&\"=\",\"\"),\"\")","v":""},{"$f":"IFERROR(SUBSTITUTE(INDEX(Data!$A197:$H197,,MATCH(FALSE,ISERROR(SEARCH(B$1&\"=\",Data!$A197:$H197)),0)),B$1&\"=\",\"\"),\"\")","v":""},{"$f":"IFERROR(SUBSTITUTE(INDEX(Data!$A197:$H197,,MATCH(FALSE,ISERROR(SEARCH(C$1&\"=\",Data!$A197:$H197)),0)),C$1&\"=\",\"\"),\"\")","v":""},{"$f":"IFERROR(SUBSTITUTE(INDEX(Data!$A197:$H197,,MATCH(FALSE,ISERROR(SEARCH(D$1&\"=\",Data!$A197:$H197)),0)),D$1&\"=\",\"\"),\"\")","v":""},{"$f":"IFERROR(SUBSTITUTE(INDEX(Data!$A197:$H197,,MATCH(FALSE,ISERROR(SEARCH(E$1&\"=\",Data!$A197:$H197)),0)),E$1&\"=\",\"\"),\"\")","v":""},{"$f":"IFERROR(SUBSTITUTE(INDEX(Data!$A197:$H197,,MATCH(FALSE,ISERROR(SEARCH(F$1&\"=\",Data!$A197:$H197)),0)),F$1&\"=\",\"\"),\"\")","v":""},{"$f":"IFERROR(SUBSTITUTE(INDEX(Data!$A197:$H197,,MATCH(FALSE,ISERROR(SEARCH(G$1&\"=\",Data!$A197:$H197)),0)),G$1&\"=\",\"\"),\"\")","v":""},{"$f":"IFERROR(SUBSTITUTE(INDEX(Data!$A197:$H197,,MATCH(FALSE,ISERROR(SEARCH(H$1&\"=\",Data!$A197:$H197)),0)),H$1&\"=\",\"\"),\"\")","v":""},{"$f":"IFERROR(SUBSTITUTE(INDEX(Data!$A197:$H197,,MATCH(FALSE,ISERROR(SEARCH(I$1&\"=\",Data!$A197:$H197)),0)),I$1&\"=\",\"\"),\"\")","v":""},{"$f":"IFERROR(SUBSTITUTE(INDEX(Data!$A197:$H197,,MATCH(FALSE,ISERROR(SEARCH(J$1&\"=\",Data!$A197:$H197)),0)),J$1&\"=\",\"\"),\"\")","v":""}]
[{"$f":"IFERROR(SUBSTITUTE(INDEX(Data!$A198:$H198,,MATCH(FALSE,ISERROR(SEARCH(A$1&\"=\",Data!$A198:$H198)),0)),A$1&\"=\",\"\"),\"\")","v":""},{"$f":"IFERROR(SUBSTITUTE(INDEX(Data!$A198:$H198,,MATCH(FALSE,ISERROR(SEARCH(B$1&\"=\",Data!$A198:$H198)),0)),B$1&\"=\",\"\"),\"\")","v":""},{"$f":"IFERROR(SUBSTITUTE(INDEX(Data!$A198:$H198,,MATCH(FALSE,ISERROR(SEARCH(C$1&\"=\",Data!$A198:$H198)),0)),C$1&\"=\",\"\"),\"\")","v":""},{"$f":"IFERROR(SUBSTITUTE(INDEX(Data!$A198:$H198,,MATCH(FALSE,ISERROR(SEARCH(D$1&\"=\",Data!$A198:$H198)),0)),D$1&\"=\",\"\"),\"\")","v":""},{"$f":"IFERROR(SUBSTITUTE(INDEX(Data!$A198:$H198,,MATCH(FALSE,ISERROR(SEARCH(E$1&\"=\",Data!$A198:$H198)),0)),E$1&\"=\",\"\"),\"\")","v":""},{"$f":"IFERROR(SUBSTITUTE(INDEX(Data!$A198:$H198,,MATCH(FALSE,ISERROR(SEARCH(F$1&\"=\",Data!$A198:$H198)),0)),F$1&\"=\",\"\"),\"\")","v":""},{"$f":"IFERROR(SUBSTITUTE(INDEX(Data!$A198:$H198,,MATCH(FALSE,ISERROR(SEARCH(G$1&\"=\",Data!$A198:$H198)),0)),G$1&\"=\",\"\"),\"\")","v":""},{"$f":"IFERROR(SUBSTITUTE(INDEX(Data!$A198:$H198,,MATCH(FALSE,ISERROR(SEARCH(H$1&\"=\",Data!$A198:$H198)),0)),H$1&\"=\",\"\"),\"\")","v":""},{"$f":"IFERROR(SUBSTITUTE(INDEX(Data!$A198:$H198,,MATCH(FALSE,ISERROR(SEARCH(I$1&\"=\",Data!$A198:$H198)),0)),I$1&\"=\",\"\"),\"\")","v":""},{"$f":"IFERROR(SUBSTITUTE(INDEX(Data!$A198:$H198,,MATCH(FALSE,ISERROR(SEARCH(J$1&\"=\",Data!$A198:$H198)),0)),J$1&\"=\",\"\"),\"\")","v":""}]
[{"$f":"IFERROR(SUBSTITUTE(INDEX(Data!$A199:$H199,,MATCH(FALSE,ISERROR(SEARCH(A$1&\"=\",Data!$A199:$H199)),0)),A$1&\"=\",\"\"),\"\")","v":""},{"$f":"IFERROR(SUBSTITUTE(INDEX(Data!$A199:$H199,,MATCH(FALSE,ISERROR(SEARCH(B$1&\"=\",Data!$A199:$H199)),0)),B$1&\"=\",\"\"),\"\")","v":""},{"$f":"IFERROR(SUBSTITUTE(INDEX(Data!$A199:$H199,,MATCH(FALSE,ISERROR(SEARCH(C$1&\"=\",Data!$A199:$H199)),0)),C$1&\"=\",\"\"),\"\")","v":""},{"$f":"IFERROR(SUBSTITUTE(INDEX(Data!$A199:$H199,,MATCH(FALSE,ISERROR(SEARCH(D$1&\"=\",Data!$A199:$H199)),0)),D$1&\"=\",\"\"),\"\")","v":""},{"$f":"IFERROR(SUBSTITUTE(INDEX(Data!$A199:$H199,,MATCH(FALSE,ISERROR(SEARCH(E$1&\"=\",Data!$A199:$H199)),0)),E$1&\"=\",\"\"),\"\")","v":""},{"$f":"IFERROR(SUBSTITUTE(INDEX(Data!$A199:$H199,,MATCH(FALSE,ISERROR(SEARCH(F$1&\"=\",Data!$A199:$H199)),0)),F$1&\"=\",\"\"),\"\")","v":""},{"$f":"IFERROR(SUBSTITUTE(INDEX(Data!$A199:$H199,,MATCH(FALSE,ISERROR(SEARCH(G$1&\"=\",Data!$A199:$H199)),0)),G$1&\"=\",\"\"),\"\")","v":""},{"$f":"IFERROR(SUBSTITUTE(INDEX(Data!$A199:$H199,,MATCH(FALSE,ISERROR(SEARCH(H$1&\"=\",Data!$A199:$H199)),0)),H$1&\"=\",\"\"),\"\")","v":""},{"$f":"IFERROR(SUBSTITUTE(INDEX(Data!$A199:$H199,,MATCH(FALSE,ISERROR(SEARCH(I$1&\"=\",Data!$A199:$H199)),0)),I$1&\"=\",\"\"),\"\")","v":""},{"$f":"IFERROR(SUBSTITUTE(INDEX(Data!$A199:$H199,,MATCH(FALSE,ISERROR(SEARCH(J$1&\"=\",Data!$A199:$H199)),0)),J$1&\"=\",\"\"),\"\")","v":""}]
[{"$f":"IFERROR(SUBSTITUTE(INDEX(Data!$A200:$H200,,MATCH(FALSE,ISERROR(SEARCH(A$1&\"=\",Data!$A200:$H200)),0)),A$1&\"=\",\"\"),\"\")","v":""},{"$f":"IFERROR(SUBSTITUTE(INDEX(Data!$A200:$H200,,MATCH(FALSE,ISERROR(SEARCH(B$1&\"=\",Data!$A200:$H200)),0)),B$1&\"=\",\"\"),\"\")","v":""},{"$f":"IFERROR(SUBSTITUTE(INDEX(Data!$A200:$H200,,MATCH(FALSE,ISERROR(SEARCH(C$1&\"=\",Data!$A200:$H200)),0)),C$1&\"=\",\"\"),\"\")","v":""},{"$f":"IFERROR(SUBSTITUTE(INDEX(Data!$A200:$H200,,MATCH(FALSE,ISERROR(SEARCH(D$1&\"=\",Data!$A200:$H200)),0)),D$1&\"=\",\"\"),\"\")","v":""},{"$f":"IFERROR(SUBSTITUTE(INDEX(Data!$A200:$H200,,MATCH(FALSE,ISERROR(SEARCH(E$1&\"=\",Data!$A200:$H200)),0)),E$1&\"=\",\"\"),\"\")","v":""},{"$f":"IFERROR(SUBSTITUTE(INDEX(Data!$A200:$H200,,MATCH(FALSE,ISERROR(SEARCH(F$1&\"=\",Data!$A200:$H200)),0)),F$1&\"=\",\"\"),\"\")","v":""},{"$f":"IFERROR(SUBSTITUTE(INDEX(Data!$A200:$H200,,MATCH(FALSE,ISERROR(SEARCH(G$1&\"=\",Data!$A200:$H200)),0)),G$1&\"=\",\"\"),\"\")","v":""},{"$f":"IFERROR(SUBSTITUTE(INDEX(Data!$A200:$H200,,MATCH(FALSE,ISERROR(SEARCH(H$1&\"=\",Data!$A200:$H200)),0)),H$1&\"=\",\"\"),\"\")","v":""},{"$f":"IFERROR(SUBSTITUTE(INDEX(Data!$A200:$H200,,MATCH(FALSE,ISERROR(SEARCH(I$1&\"=\",Data!$A200:$H200)),0)),I$1&\"=\",\"\"),\"\")","v":""},{"$f":"IFERROR(SUBSTITUTE(INDEX(Data!$A200:$H200,,MATCH(FALSE,ISERROR(SEARCH(J$1&\"=\",Data!$A200:$H200)),0)),J$1&\"=\",\"\"),\"\")","v":""}]
[{"$f":"IFERROR(SUBSTITUTE(INDEX(Data!$A201:$H201,,MATCH(FALSE,ISERROR(SEARCH(A$1&\"=\",Data!$A201:$H201)),0)),A$1&\"=\",\"\"),\"\")","v":""},{"$f":"IFERROR(SUBSTITUTE(INDEX(Data!$A201:$H201,,MATCH(FALSE,ISERROR(SEARCH(B$1&\"=\",Data!$A201:$H201)),0)),B$1&\"=\",\"\"),\"\")","v":""},{"$f":"IFERROR(SUBSTITUTE(INDEX(Data!$A201:$H201,,MATCH(FALSE,ISERROR(SEARCH(C$1&\"=\",Data!$A201:$H201)),0)),C$1&\"=\",\"\"),\"\")","v":""},{"$f":"IFERROR(SUBSTITUTE(INDEX(Data!$A201:$H201,,MATCH(FALSE,ISERROR(SEARCH(D$1&\"=\",Data!$A201:$H201)),0)),D$1&\"=\",\"\"),\"\")","v":""},{"$f":"IFERROR(SUBSTITUTE(INDEX(Data!$A201:$H201,,MATCH(FALSE,ISERROR(SEARCH(E$1&\"=\",Data!$A201:$H201)),0)),E$1&\"=\",\"\"),\"\")","v":""},{"$f":"IFERROR(SUBSTITUTE(INDEX(Data!$A201:$H201,,MATCH(FALSE,ISERROR(SEARCH(F$1&\"=\",Data!$A201:$H201)),0)),F$1&\"=\",\"\"),\"\")","v":""},{"$f":"IFERROR(SUBSTITUTE(INDEX(Data!$A201:$H201,,MATCH(FALSE,ISERROR(SEARCH(G$1&\"=\",Data!$A201:$H201)),0)),G$1&\"=\",\"\"),\"\")","v":""},{"$f":"IFERROR(SUBSTITUTE(INDEX(Data!$A201:$H201,,MATCH(FALSE,ISERROR(SEARCH(H$1&\"=\",Data!$A201:$H201)),0)),H$1&\"=\",\"\"),\"\")","v":""},{"$f":"IFERROR(SUBSTITUTE(INDEX(Data!$A201:$H201,,MATCH(FALSE,ISERROR(SEARCH(I$1&\"=\",Data!$A201:$H201)),0)),I$1&\"=\",\"\"),\"\")","v":""},{"$f":"IFERROR(SUBSTITUTE(INDEX(Data!$A201:$H201,,MATCH(FALSE,ISERROR(SEARCH(J$1&\"=\",Data!$A201:$H201)),0)),J$1&\"=\",\"\"),\"\")","v":""}]
[{"$f":"IFERROR(SUBSTITUTE(INDEX(Data!$A202:$H202,,MATCH(FALSE,ISERROR(SEARCH(A$1&\"=\",Data!$A202:$H202)),0)),A$1&\"=\",\"\"),\"\")","v":""},{"$f":"IFERROR(SUBSTITUTE(INDEX(Data!$A202:$H202,,MATCH(FALSE,ISERROR(SEARCH(B$1&\"=\",Data!$A202:$H202)),0)),B$1&\"=\",\"\"),\"\")","v":""},{"$f":"IFERROR(SUBSTITUTE(INDEX(Data!$A202:$H202,,MATCH(FALSE,ISERROR(SEARCH(C$1&\"=\",Data!$A202:$H202)),0)),C$1&\"=\",\"\"),\"\")","v":""},{"$f":"IFERROR(SUBSTITUTE(INDEX(Data!$A202:$H202,,MATCH(FALSE,ISERROR(SEARCH(D$1&\"=\",Data!$A202:$H202)),0)),D$1&\"=\",\"\"),\"\")","v":""},{"$f":"IFERROR(SUBSTITUTE(INDEX(Data!$A202:$H202,,MATCH(FALSE,ISERROR(SEARCH(E$1&\"=\",Data!$A202:$H202)),0)),E$1&\"=\",\"\"),\"\")","v":""},{"$f":"IFERROR(SUBSTITUTE(INDEX(Data!$A202:$H202,,MATCH(FALSE,ISERROR(SEARCH(F$1&\"=\",Data!$A202:$H202)),0)),F$1&\"=\",\"\"),\"\")","v":""},{"$f":"IFERROR(SUBSTITUTE(INDEX(Data!$A202:$H202,,MATCH(FALSE,ISERROR(SEARCH(G$1&\"=\",Data!$A202:$H202)),0)),G$1&\"=\",\"\"),\"\")","v":""},{"$f":"IFERROR(SUBSTITUTE(INDEX(Data!$A202:$H202,,MATCH(FALSE,ISERROR(SEARCH(H$1&\"=\",Data!$A202:$H202)),0)),H$1&\"=\",\"\"),\"\")","v":""},{"$f":"IFERROR(SUBSTITUTE(INDEX(Data!$A202:$H202,,MATCH(FALSE,ISERROR(SEARCH(I$1&\"=\",Data!$A202:$H202)),0)),I$1&\"=\",\"\"),\"\")","v":""},{"$f":"IFERROR(SUBSTITUTE(INDEX(Data!$A202:$H202,,MATCH(FALSE,ISERROR(SEARCH(J$1&\"=\",Data!$A202:$H202)),0)),J$1&\"=\",\"\"),\"\")","v":""}]
[{"$f":"IFERROR(SUBSTITUTE(INDEX(Data!$A203:$H203,,MATCH(FALSE,ISERROR(SEARCH(A$1&\"=\",Data!$A203:$H203)),0)),A$1&\"=\",\"\"),\"\")","v":""},{"$f":"IFERROR(SUBSTITUTE(INDEX(Data!$A203:$H203,,MATCH(FALSE,ISERROR(SEARCH(B$1&\"=\",Data!$A203:$H203)),0)),B$1&\"=\",\"\"),\"\")","v":""},{"$f":"IFERROR(SUBSTITUTE(INDEX(Data!$A203:$H203,,MATCH(FALSE,ISERROR(SEARCH(C$1&\"=\",Data!$A203:$H203)),0)),C$1&\"=\",\"\"),\"\")","v":""},{"$f":"IFERROR(SUBSTITUTE(INDEX(Data!$A203:$H203,,MATCH(FALSE,ISERROR(SEARCH(D$1&\"=\",Data!$A203:$H203)),0)),D$1&\"=\",\"\"),\"\")","v":""},{"$f":"IFERROR(SUBSTITUTE(INDEX(Data!$A203:$H203,,MATCH(FALSE,ISERROR(SEARCH(E$1&\"=\",Data!$A203:$H203)),0)),E$1&\"=\",\"\"),\"\")","v":""},{"$f":"IFERROR(SUBSTITUTE(INDEX(Data!$A203:$H203,,MATCH(FALSE,ISERROR(SEARCH(F$1&\"=\",Data!$A203:$H203)),0)),F$1&\"=\",\"\"),\"\")","v":""},{"$f":"IFERROR(SUBSTITUTE(INDEX(Data!$A203:$H203,,MATCH(FALSE,ISERROR(SEARCH(G$1&\"=\",Data!$A203:$H203)),0)),G$1&\"=\",\"\"),\"\")","v":""},{"$f":"IFERROR(SUBSTITUTE(INDEX(Data!$A203:$H203,,MATCH(FALSE,ISERROR(SEARCH(H$1&\"=\",Data!$A203:$H203)),0)),H$1&\"=\",\"\"),\"\")","v":""},{"$f":"IFERROR(SUBSTITUTE(INDEX(Data!$A203:$H203,,MATCH(FALSE,ISERROR(SEARCH(I$1&\"=\",Data!$A203:$H203)),0)),I$1&\"=\",\"\"),\"\")","v":""},{"$f":"IFERROR(SUBSTITUTE(INDEX(Data!$A203:$H203,,MATCH(FALSE,ISERROR(SEARCH(J$1&\"=\",Data!$A203:$H203)),0)),J$1&\"=\",\"\"),\"\")","v":""}]
[{"$f":"IFERROR(SUBSTITUTE(INDEX(Data!$A204:$H204,,MATCH(FALSE,ISERROR(SEARCH(A$1&\"=\",Data!$A204:$H204)),0)),A$1&\"=\",\"\"),\"\")","v":""},{"$f":"IFERROR(SUBSTITUTE(INDEX(Data!$A204:$H204,,MATCH(FALSE,ISERROR(SEARCH(B$1&\"=\",Data!$A204:$H204)),0)),B$1&\"=\",\"\"),\"\")","v":""},{"$f":"IFERROR(SUBSTITUTE(INDEX(Data!$A204:$H204,,MATCH(FALSE,ISERROR(SEARCH(C$1&\"=\",Data!$A204:$H204)),0)),C$1&\"=\",\"\"),\"\")","v":""},{"$f":"IFERROR(SUBSTITUTE(INDEX(Data!$A204:$H204,,MATCH(FALSE,ISERROR(SEARCH(D$1&\"=\",Data!$A204:$H204)),0)),D$1&\"=\",\"\"),\"\")","v":""},{"$f":"IFERROR(SUBSTITUTE(INDEX(Data!$A204:$H204,,MATCH(FALSE,ISERROR(SEARCH(E$1&\"=\",Data!$A204:$H204)),0)),E$1&\"=\",\"\"),\"\")","v":""},{"$f":"IFERROR(SUBSTITUTE(INDEX(Data!$A204:$H204,,MATCH(FALSE,ISERROR(SEARCH(F$1&\"=\",Data!$A204:$H204)),0)),F$1&\"=\",\"\"),\"\")","v":""},{"$f":"IFERROR(SUBSTITUTE(INDEX(Data!$A204:$H204,,MATCH(FALSE,ISERROR(SEARCH(G$1&\"=\",Data!$A204:$H204)),0)),G$1&\"=\",\"\"),\"\")","v":""},{"$f":"IFERROR(SUBSTITUTE(INDEX(Data!$A204:$H204,,MATCH(FALSE,ISERROR(SEARCH(H$1&\"=\",Data!$A204:$H204)),0)),H$1&\"=\",\"\"),\"\")","v":""},{"$f":"IFERROR(SUBSTITUTE(INDEX(Data!$A204:$H204,,MATCH(FALSE,ISERROR(SEARCH(I$1&\"=\",Data!$A204:$H204)),0)),I$1&\"=\",\"\"),\"\")","v":""},{"$f":"IFERROR(SUBSTITUTE(INDEX(Data!$A204:$H204,,MATCH(FALSE,ISERROR(SEARCH(J$1&\"=\",Data!$A204:$H204)),0)),J$1&\"=\",\"\"),\"\")","v":""}]
[{"$f":"IFERROR(SUBSTITUTE(INDEX(Data!$A205:$H205,,MATCH(FALSE,ISERROR(SEARCH(A$1&\"=\",Data!$A205:$H205)),0)),A$1&\"=\",\"\"),\"\")","v":""},{"$f":"IFERROR(SUBSTITUTE(INDEX(Data!$A205:$H205,,MATCH(FALSE,ISERROR(SEARCH(B$1&\"=\",Data!$A205:$H205)),0)),B$1&\"=\",\"\"),\"\")","v":""},{"$f":"IFERROR(SUBSTITUTE(INDEX(Data!$A205:$H205,,MATCH(FALSE,ISERROR(SEARCH(C$1&\"=\",Data!$A205:$H205)),0)),C$1&\"=\",\"\"),\"\")","v":""},{"$f":"IFERROR(SUBSTITUTE(INDEX(Data!$A205:$H205,,MATCH(FALSE,ISERROR(SEARCH(D$1&\"=\",Data!$A205:$H205)),0)),D$1&\"=\",\"\"),\"\")","v":""},{"$f":"IFERROR(SUBSTITUTE(INDEX(Data!$A205:$H205,,MATCH(FALSE,ISERROR(SEARCH(E$1&\"=\",Data!$A205:$H205)),0)),E$1&\"=\",\"\"),\"\")","v":""},{"$f":"IFERROR(SUBSTITUTE(INDEX(Data!$A205:$H205,,MATCH(FALSE,ISERROR(SEARCH(F$1&\"=\",Data!$A205:$H205)),0)),F$1&\"=\",\"\"),\"\")","v":""},{"$f":"IFERROR(SUBSTITUTE(INDEX(Data!$A205:$H205,,MATCH(FALSE,ISERROR(SEARCH(G$1&\"=\",Data!$A205:$H205)),0)),G$1&\"=\",\"\"),\"\")","v":""},{"$f":"IFERROR(SUBSTITUTE(INDEX(Data!$A205:$H205,,MATCH(FALSE,ISERROR(SEARCH(H$1&\"=\",Data!$A205:$H205)),0)),H$1&\"=\",\"\"),\"\")","v":""},{"$f":"IFERROR(SUBSTITUTE(INDEX(Data!$A205:$H205,,MATCH(FALSE,ISERROR(SEARCH(I$1&\"=\",Data!$A205:$H205)),0)),I$1&\"=\",\"\"),\"\")","v":""},{"$f":"IFERROR(SUBSTITUTE(INDEX(Data!$A205:$H205,,MATCH(FALSE,ISERROR(SEARCH(J$1&\"=\",Data!$A205:$H205)),0)),J$1&\"=\",\"\"),\"\")","v":""}]
[{"$f":"IFERROR(SUBSTITUTE(INDEX(Data!$A206:$H206,,MATCH(FALSE,ISERROR(SEARCH(A$1&\"=\",Data!$A206:$H206)),0)),A$1&\"=\",\"\"),\"\")","v":""},{"$f":"IFERROR(SUBSTITUTE(INDEX(Data!$A206:$H206,,MATCH(FALSE,ISERROR(SEARCH(B$1&\"=\",Data!$A206:$H206)),0)),B$1&\"=\",\"\"),\"\")","v":""},{"$f":"IFERROR(SUBSTITUTE(INDEX(Data!$A206:$H206,,MATCH(FALSE,ISERROR(SEARCH(C$1&\"=\",Data!$A206:$H206)),0)),C$1&\"=\",\"\"),\"\")","v":""},{"$f":"IFERROR(SUBSTITUTE(INDEX(Data!$A206:$H206,,MATCH(FALSE,ISERROR(SEARCH(D$1&\"=\",Data!$A206:$H206)),0)),D$1&\"=\",\"\"),\"\")","v":""},{"$f":"IFERROR(SUBSTITUTE(INDEX(Data!$A206:$H206,,MATCH(FALSE,ISERROR(SEARCH(E$1&\"=\",Data!$A206:$H206)),0)),E$1&\"=\",\"\"),\"\")","v":""},{"$f":"IFERROR(SUBSTITUTE(INDEX(Data!$A206:$H206,,MATCH(FALSE,ISERROR(SEARCH(F$1&\"=\",Data!$A206:$H206)),0)),F$1&\"=\",\"\"),\"\")","v":""},{"$f":"IFERROR(SUBSTITUTE(INDEX(Data!$A206:$H206,,MATCH(FALSE,ISERROR(SEARCH(G$1&\"=\",Data!$A206:$H206)),0)),G$1&\"=\",\"\"),\"\")","v":""},{"$f":"IFERROR(SUBSTITUTE(INDEX(Data!$A206:$H206,,MATCH(FALSE,ISERROR(SEARCH(H$1&\"=\",Data!$A206:$H206)),0)),H$1&\"=\",\"\"),\"\")","v":""},{"$f":"IFERROR(SUBSTITUTE(INDEX(Data!$A206:$H206,,MATCH(FALSE,ISERROR(SEARCH(I$1&\"=\",Data!$A206:$H206)),0)),I$1&\"=\",\"\"),\"\")","v":""},{"$f":"IFERROR(SUBSTITUTE(INDEX(Data!$A206:$H206,,MATCH(FALSE,ISERROR(SEARCH(J$1&\"=\",Data!$A206:$H206)),0)),J$1&\"=\",\"\"),\"\")","v":""}]
[{"$f":"IFERROR(SUBSTITUTE(INDEX(Data!$A207:$H207,,MATCH(FALSE,ISERROR(SEARCH(A$1&\"=\",Data!$A207:$H207)),0)),A$1&\"=\",\"\"),\"\")","v":""},{"$f":"IFERROR(SUBSTITUTE(INDEX(Data!$A207:$H207,,MATCH(FALSE,ISERROR(SEARCH(B$1&\"=\",Data!$A207:$H207)),0)),B$1&\"=\",\"\"),\"\")","v":""},{"$f":"IFERROR(SUBSTITUTE(INDEX(Data!$A207:$H207,,MATCH(FALSE,ISERROR(SEARCH(C$1&\"=\",Data!$A207:$H207)),0)),C$1&\"=\",\"\"),\"\")","v":""},{"$f":"IFERROR(SUBSTITUTE(INDEX(Data!$A207:$H207,,MATCH(FALSE,ISERROR(SEARCH(D$1&\"=\",Data!$A207:$H207)),0)),D$1&\"=\",\"\"),\"\")","v":""},{"$f":"IFERROR(SUBSTITUTE(INDEX(Data!$A207:$H207,,MATCH(FALSE,ISERROR(SEARCH(E$1&\"=\",Data!$A207:$H207)),0)),E$1&\"=\",\"\"),\"\")","v":""},{"$f":"IFERROR(SUBSTITUTE(INDEX(Data!$A207:$H207,,MATCH(FALSE,ISERROR(SEARCH(F$1&\"=\",Data!$A207:$H207)),0)),F$1&\"=\",\"\"),\"\")","v":""},{"$f":"IFERROR(SUBSTITUTE(INDEX(Data!$A207:$H207,,MATCH(FALSE,ISERROR(SEARCH(G$1&\"=\",Data!$A207:$H207)),0)),G$1&\"=\",\"\"),\"\")","v":""},{"$f":"IFERROR(SUBSTITUTE(INDEX(Data!$A207:$H207,,MATCH(FALSE,ISERROR(SEARCH(H$1&\"=\",Data!$A207:$H207)),0)),H$1&\"=\",\"\"),\"\")","v":""},{"$f":"IFERROR(SUBSTITUTE(INDEX(Data!$A207:$H207,,MATCH(FALSE,ISERROR(SEARCH(I$1&\"=\",Data!$A207:$H207)),0)),I$1&\"=\",\"\"),\"\")","v":""},{"$f":"IFERROR(SUBSTITUTE(INDEX(Data!$A207:$H207,,MATCH(FALSE,ISERROR(SEARCH(J$1&\"=\",Data!$A207:$H207)),0)),J$1&\"=\",\"\"),\"\")","v":""}]
[{"$f":"IFERROR(SUBSTITUTE(INDEX(Data!$A208:$H208,,MATCH(FALSE,ISERROR(SEARCH(A$1&\"=\",Data!$A208:$H208)),0)),A$1&\"=\",\"\"),\"\")","v":""},{"$f":"IFERROR(SUBSTITUTE(INDEX(Data!$A208:$H208,,MATCH(FALSE,ISERROR(SEARCH(B$1&\"=\",Data!$A208:$H208)),0)),B$1&\"=\",\"\"),\"\")","v":""},{"$f":"IFERROR(SUBSTITUTE(INDEX(Data!$A208:$H208,,MATCH(FALSE,ISERROR(SEARCH(C$1&\"=\",Data!$A208:$H208)),0)),C$1&\"=\",\"\"),\"\")","v":""},{"$f":"IFERROR(SUBSTITUTE(INDEX(Data!$A208:$H208,,MATCH(FALSE,ISERROR(SEARCH(D$1&\"=\",Data!$A208:$H208)),0)),D$1&\"=\",\"\"),\"\")","v":""},{"$f":"IFERROR(SUBSTITUTE(INDEX(Data!$A208:$H208,,MATCH(FALSE,ISERROR(SEARCH(E$1&\"=\",Data!$A208:$H208)),0)),E$1&\"=\",\"\"),\"\")","v":""},{"$f":"IFERROR(SUBSTITUTE(INDEX(Data!$A208:$H208,,MATCH(FALSE,ISERROR(SEARCH(F$1&\"=\",Data!$A208:$H208)),0)),F$1&\"=\",\"\"),\"\")","v":""},{"$f":"IFERROR(SUBSTITUTE(INDEX(Data!$A208:$H208,,MATCH(FALSE,ISERROR(SEARCH(G$1&\"=\",Data!$A208:$H208)),0)),G$1&\"=\",\"\"),\"\")","v":""},{"$f":"IFERROR(SUBSTITUTE(INDEX(Data!$A208:$H208,,MATCH(FALSE,ISERROR(SEARCH(H$1&\"=\",Data!$A208:$H208)),0)),H$1&\"=\",\"\"),\"\")","v":""},{"$f":"IFERROR(SUBSTITUTE(INDEX(Data!$A208:$H208,,MATCH(FALSE,ISERROR(SEARCH(I$1&\"=\",Data!$A208:$H208)),0)),I$1&\"=\",\"\"),\"\")","v":""},{"$f":"IFERROR(SUBSTITUTE(INDEX(Data!$A208:$H208,,MATCH(FALSE,ISERROR(SEARCH(J$1&\"=\",Data!$A208:$H208)),0)),J$1&\"=\",\"\"),\"\")","v":""}]
[{"$f":"IFERROR(SUBSTITUTE(INDEX(Data!$A209:$H209,,MATCH(FALSE,ISERROR(SEARCH(A$1&\"=\",Data!$A209:$H209)),0)),A$1&\"=\",\"\"),\"\")","v":""},{"$f":"IFERROR(SUBSTITUTE(INDEX(Data!$A209:$H209,,MATCH(FALSE,ISERROR(SEARCH(B$1&\"=\",Data!$A209:$H209)),0)),B$1&\"=\",\"\"),\"\")","v":""},{"$f":"IFERROR(SUBSTITUTE(INDEX(Data!$A209:$H209,,MATCH(FALSE,ISERROR(SEARCH(C$1&\"=\",Data!$A209:$H209)),0)),C$1&\"=\",\"\"),\"\")","v":""},{"$f":"IFERROR(SUBSTITUTE(INDEX(Data!$A209:$H209,,MATCH(FALSE,ISERROR(SEARCH(D$1&\"=\",Data!$A209:$H209)),0)),D$1&\"=\",\"\"),\"\")","v":""},{"$f":"IFERROR(SUBSTITUTE(INDEX(Data!$A209:$H209,,MATCH(FALSE,ISERROR(SEARCH(E$1&\"=\",Data!$A209:$H209)),0)),E$1&\"=\",\"\"),\"\")","v":""},{"$f":"IFERROR(SUBSTITUTE(INDEX(Data!$A209:$H209,,MATCH(FALSE,ISERROR(SEARCH(F$1&\"=\",Data!$A209:$H209)),0)),F$1&\"=\",\"\"),\"\")","v":""},{"$f":"IFERROR(SUBSTITUTE(INDEX(Data!$A209:$H209,,MATCH(FALSE,ISERROR(SEARCH(G$1&\"=\",Data!$A209:$H209)),0)),G$1&\"=\",\"\"),\"\")","v":""},{"$f":"IFERROR(SUBSTITUTE(INDEX(Data!$A209:$H209,,MATCH(FALSE,ISERROR(SEARCH(H$1&\"=\",Data!$A209:$H209)),0)),H$1&\"=\",\"\"),\"\")","v":""},{"$f":"IFERROR(SUBSTITUTE(INDEX(Data!$A209:$H209,,MATCH(FALSE,ISERROR(SEARCH(I$1&\"=\",Data!$A209:$H209)),0)),I$1&\"=\",\"\"),\"\")","v":""},{"$f":"IFERROR(SUBSTITUTE(INDEX(Data!$A209:$H209,,MATCH(FALSE,ISERROR(SEARCH(J$1&\"=\",Data!$A209:$H209)),0)),J$1&\"=\",\"\"),\"\")","v":""}]
[{"$f":"IFERROR(SUBSTITUTE(INDEX(Data!$A210:$H210,,MATCH(FALSE,ISERROR(SEARCH(A$1&\"=\",Data!$A210:$H210)),0)),A$1&\"=\",\"\"),\"\")","v":""},{"$f":"IFERROR(SUBSTITUTE(INDEX(Data!$A210:$H210,,MATCH(FALSE,ISERROR(SEARCH(B$1&\"=\",Data!$A210:$H210)),0)),B$1&\"=\",\"\"),\"\")","v":""},{"$f":"IFERROR(SUBSTITUTE(INDEX(Data!$A210:$H210,,MATCH(FALSE,ISERROR(SEARCH(C$1&\"=\",Data!$A210:$H210)),0)),C$1&\"=\",\"\"),\"\")","v":""},{"$f":"IFERROR(SUBSTITUTE(INDEX(Data!$A210:$H210,,MATCH(FALSE,ISERROR(SEARCH(D$1&\"=\",Data!$A210:$H210)),0)),D$1&\"=\",\"\"),\"\")","v":""},{"$f":"IFERROR(SUBSTITUTE(INDEX(Data!$A210:$H210,,MATCH(FALSE,ISERROR(SEARCH(E$1&\"=\",Data!$A210:$H210)),0)),E$1&\"=\",\"\"),\"\")","v":""},{"$f":"IFERROR(SUBSTITUTE(INDEX(Data!$A210:$H210,,MATCH(FALSE,ISERROR(SEARCH(F$1&\"=\",Data!$A210:$H210)),0)),F$1&\"=\",\"\"),\"\")","v":""},{"$f":"IFERROR(SUBSTITUTE(INDEX(Data!$A210:$H210,,MATCH(FALSE,ISERROR(SEARCH(G$1&\"=\",Data!$A210:$H210)),0)),G$1&\"=\",\"\"),\"\")","v":""},{"$f":"IFERROR(SUBSTITUTE(INDEX(Data!$A210:$H210,,MATCH(FALSE,ISERROR(SEARCH(H$1&\"=\",Data!$A210:$H210)),0)),H$1&\"=\",\"\"),\"\")","v":""},{"$f":"IFERROR(SUBSTITUTE(INDEX(Data!$A210:$H210,,MATCH(FALSE,ISERROR(SEARCH(I$1&\"=\",Data!$A210:$H210)),0)),I$1&\"=\",\"\"),\"\")","v":""},{"$f":"IFERROR(SUBSTITUTE(INDEX(Data!$A210:$H210,,MATCH(FALSE,ISERROR(SEARCH(J$1&\"=\",Data!$A210:$H210)),0)),J$1&\"=\",\"\"),\"\")","v":""}]
[{"$f":"IFERROR(SUBSTITUTE(INDEX(Data!$A211:$H211,,MATCH(FALSE,ISERROR(SEARCH(A$1&\"=\",Data!$A211:$H211)),0)),A$1&\"=\",\"\"),\"\")","v":""},{"$f":"IFERROR(SUBSTITUTE(INDEX(Data!$A211:$H211,,MATCH(FALSE,ISERROR(SEARCH(B$1&\"=\",Data!$A211:$H211)),0)),B$1&\"=\",\"\"),\"\")","v":""},{"$f":"IFERROR(SUBSTITUTE(INDEX(Data!$A211:$H211,,MATCH(FALSE,ISERROR(SEARCH(C$1&\"=\",Data!$A211:$H211)),0)),C$1&\"=\",\"\"),\"\")","v":""},{"$f":"IFERROR(SUBSTITUTE(INDEX(Data!$A211:$H211,,MATCH(FALSE,ISERROR(SEARCH(D$1&\"=\",Data!$A211:$H211)),0)),D$1&\"=\",\"\"),\"\")","v":""},{"$f":"IFERROR(SUBSTITUTE(INDEX(Data!$A211:$H211,,MATCH(FALSE,ISERROR(SEARCH(E$1&\"=\",Data!$A211:$H211)),0)),E$1&\"=\",\"\"),\"\")","v":""},{"$f":"IFERROR(SUBSTITUTE(INDEX(Data!$A211:$H211,,MATCH(FALSE,ISERROR(SEARCH(F$1&\"=\",Data!$A211:$H211)),0)),F$1&\"=\",\"\"),\"\")","v":""},{"$f":"IFERROR(SUBSTITUTE(INDEX(Data!$A211:$H211,,MATCH(FALSE,ISERROR(SEARCH(G$1&\"=\",Data!$A211:$H211)),0)),G$1&\"=\",\"\"),\"\")","v":""},{"$f":"IFERROR(SUBSTITUTE(INDEX(Data!$A211:$H211,,MATCH(FALSE,ISERROR(SEARCH(H$1&\"=\",Data!$A211:$H211)),0)),H$1&\"=\",\"\"),\"\")","v":""},{"$f":"IFERROR(SUBSTITUTE(INDEX(Data!$A211:$H211,,MATCH(FALSE,ISERROR(SEARCH(I$1&\"=\",Data!$A211:$H211)),0)),I$1&\"=\",\"\"),\"\")","v":""},{"$f":"IFERROR(SUBSTITUTE(INDEX(Data!$A211:$H211,,MATCH(FALSE,ISERROR(SEARCH(J$1&\"=\",Data!$A211:$H211)),0)),J$1&\"=\",\"\"),\"\")","v":""}]
[{"$f":"IFERROR(SUBSTITUTE(INDEX(Data!$A212:$H212,,MATCH(FALSE,ISERROR(SEARCH(A$1&\"=\",Data!$A212:$H212)),0)),A$1&\"=\",\"\"),\"\")","v":""},{"$f":"IFERROR(SUBSTITUTE(INDEX(Data!$A212:$H212,,MATCH(FALSE,ISERROR(SEARCH(B$1&\"=\",Data!$A212:$H212)),0)),B$1&\"=\",\"\"),\"\")","v":""},{"$f":"IFERROR(SUBSTITUTE(INDEX(Data!$A212:$H212,,MATCH(FALSE,ISERROR(SEARCH(C$1&\"=\",Data!$A212:$H212)),0)),C$1&\"=\",\"\"),\"\")","v":""},{"$f":"IFERROR(SUBSTITUTE(INDEX(Data!$A212:$H212,,MATCH(FALSE,ISERROR(SEARCH(D$1&\"=\",Data!$A212:$H212)),0)),D$1&\"=\",\"\"),\"\")","v":""},{"$f":"IFERROR(SUBSTITUTE(INDEX(Data!$A212:$H212,,MATCH(FALSE,ISERROR(SEARCH(E$1&\"=\",Data!$A212:$H212)),0)),E$1&\"=\",\"\"),\"\")","v":""},{"$f":"IFERROR(SUBSTITUTE(INDEX(Data!$A212:$H212,,MATCH(FALSE,ISERROR(SEARCH(F$1&\"=\",Data!$A212:$H212)),0)),F$1&\"=\",\"\"),\"\")","v":""},{"$f":"IFERROR(SUBSTITUTE(INDEX(Data!$A212:$H212,,MATCH(FALSE,ISERROR(SEARCH(G$1&\"=\",Data!$A212:$H212)),0)),G$1&\"=\",\"\"),\"\")","v":""},{"$f":"IFERROR(SUBSTITUTE(INDEX(Data!$A212:$H212,,MATCH(FALSE,ISERROR(SEARCH(H$1&\"=\",Data!$A212:$H212)),0)),H$1&\"=\",\"\"),\"\")","v":""},{"$f":"IFERROR(SUBSTITUTE(INDEX(Data!$A212:$H212,,MATCH(FALSE,ISERROR(SEARCH(I$1&\"=\",Data!$A212:$H212)),0)),I$1&\"=\",\"\"),\"\")","v":""},{"$f":"IFERROR(SUBSTITUTE(INDEX(Data!$A212:$H212,,MATCH(FALSE,ISERROR(SEARCH(J$1&\"=\",Data!$A212:$H212)),0)),J$1&\"=\",\"\"),\"\")","v":""}]
[{"$f":"IFERROR(SUBSTITUTE(INDEX(Data!$A213:$H213,,MATCH(FALSE,ISERROR(SEARCH(A$1&\"=\",Data!$A213:$H213)),0)),A$1&\"=\",\"\"),\"\")","v":""},{"$f":"IFERROR(SUBSTITUTE(INDEX(Data!$A213:$H213,,MATCH(FALSE,ISERROR(SEARCH(B$1&\"=\",Data!$A213:$H213)),0)),B$1&\"=\",\"\"),\"\")","v":""},{"$f":"IFERROR(SUBSTITUTE(INDEX(Data!$A213:$H213,,MATCH(FALSE,ISERROR(SEARCH(C$1&\"=\",Data!$A213:$H213)),0)),C$1&\"=\",\"\"),\"\")","v":""},{"$f":"IFERROR(SUBSTITUTE(INDEX(Data!$A213:$H213,,MATCH(FALSE,ISERROR(SEARCH(D$1&\"=\",Data!$A213:$H213)),0)),D$1&\"=\",\"\"),\"\")","v":""},{"$f":"IFERROR(SUBSTITUTE(INDEX(Data!$A213:$H213,,MATCH(FALSE,ISERROR(SEARCH(E$1&\"=\",Data!$A213:$H213)),0)),E$1&\"=\",\"\"),\"\")","v":""},{"$f":"IFERROR(SUBSTITUTE(INDEX(Data!$A213:$H213,,MATCH(FALSE,ISERROR(SEARCH(F$1&\"=\",Data!$A213:$H213)),0)),F$1&\"=\",\"\"),\"\")","v":""},{"$f":"IFERROR(SUBSTITUTE(INDEX(Data!$A213:$H213,,MATCH(FALSE,ISERROR(SEARCH(G$1&\"=\",Data!$A213:$H213)),0)),G$1&\"=\",\"\"),\"\")","v":""},{"$f":"IFERROR(SUBSTITUTE(INDEX(Data!$A213:$H213,,MATCH(FALSE,ISERROR(SEARCH(H$1&\"=\",Data!$A213:$H213)),0)),H$1&\"=\",\"\"),\"\")","v":""},{"$f":"IFERROR(SUBSTITUTE(INDEX(Data!$A213:$H213,,MATCH(FALSE,ISERROR(SEARCH(I$1&\"=\",Data!$A213:$H213)),0)),I$1&\"=\",\"\"),\"\")","v":""},{"$f":"IFERROR(SUBSTITUTE(INDEX(Data!$A213:$H213,,MATCH(FALSE,ISERROR(SEARCH(J$1&\"=\",Data!$A213:$H213)),0)),J$1&\"=\",\"\"),\"\")","v":""}]
[{"$f":"IFERROR(SUBSTITUTE(INDEX(Data!$A214:$H214,,MATCH(FALSE,ISERROR(SEARCH(A$1&\"=\",Data!$A214:$H214)),0)),A$1&\"=\",\"\"),\"\")","v":""},{"$f":"IFERROR(SUBSTITUTE(INDEX(Data!$A214:$H214,,MATCH(FALSE,ISERROR(SEARCH(B$1&\"=\",Data!$A214:$H214)),0)),B$1&\"=\",\"\"),\"\")","v":""},{"$f":"IFERROR(SUBSTITUTE(INDEX(Data!$A214:$H214,,MATCH(FALSE,ISERROR(SEARCH(C$1&\"=\",Data!$A214:$H214)),0)),C$1&\"=\",\"\"),\"\")","v":""},{"$f":"IFERROR(SUBSTITUTE(INDEX(Data!$A214:$H214,,MATCH(FALSE,ISERROR(SEARCH(D$1&\"=\",Data!$A214:$H214)),0)),D$1&\"=\",\"\"),\"\")","v":""},{"$f":"IFERROR(SUBSTITUTE(INDEX(Data!$A214:$H214,,MATCH(FALSE,ISERROR(SEARCH(E$1&\"=\",Data!$A214:$H214)),0)),E$1&\"=\",\"\"),\"\")","v":""},{"$f":"IFERROR(SUBSTITUTE(INDEX(Data!$A214:$H214,,MATCH(FALSE,ISERROR(SEARCH(F$1&\"=\",Data!$A214:$H214)),0)),F$1&\"=\",\"\"),\"\")","v":""},{"$f":"IFERROR(SUBSTITUTE(INDEX(Data!$A214:$H214,,MATCH(FALSE,ISERROR(SEARCH(G$1&\"=\",Data!$A214:$H214)),0)),G$1&\"=\",\"\"),\"\")","v":""},{"$f":"IFERROR(SUBSTITUTE(INDEX(Data!$A214:$H214,,MATCH(FALSE,ISERROR(SEARCH(H$1&\"=\",Data!$A214:$H214)),0)),H$1&\"=\",\"\"),\"\")","v":""},{"$f":"IFERROR(SUBSTITUTE(INDEX(Data!$A214:$H214,,MATCH(FALSE,ISERROR(SEARCH(I$1&\"=\",Data!$A214:$H214)),0)),I$1&\"=\",\"\"),\"\")","v":""},{"$f":"IFERROR(SUBSTITUTE(INDEX(Data!$A214:$H214,,MATCH(FALSE,ISERROR(SEARCH(J$1&\"=\",Data!$A214:$H214)),0)),J$1&\"=\",\"\"),\"\")","v":""}]
[{"$f":"IFERROR(SUBSTITUTE(INDEX(Data!$A215:$H215,,MATCH(FALSE,ISERROR(SEARCH(A$1&\"=\",Data!$A215:$H215)),0)),A$1&\"=\",\"\"),\"\")","v":""},{"$f":"IFERROR(SUBSTITUTE(INDEX(Data!$A215:$H215,,MATCH(FALSE,ISERROR(SEARCH(B$1&\"=\",Data!$A215:$H215)),0)),B$1&\"=\",\"\"),\"\")","v":""},{"$f":"IFERROR(SUBSTITUTE(INDEX(Data!$A215:$H215,,MATCH(FALSE,ISERROR(SEARCH(C$1&\"=\",Data!$A215:$H215)),0)),C$1&\"=\",\"\"),\"\")","v":""},{"$f":"IFERROR(SUBSTITUTE(INDEX(Data!$A215:$H215,,MATCH(FALSE,ISERROR(SEARCH(D$1&\"=\",Data!$A215:$H215)),0)),D$1&\"=\",\"\"),\"\")","v":""},{"$f":"IFERROR(SUBSTITUTE(INDEX(Data!$A215:$H215,,MATCH(FALSE,ISERROR(SEARCH(E$1&\"=\",Data!$A215:$H215)),0)),E$1&\"=\",\"\"),\"\")","v":""},{"$f":"IFERROR(SUBSTITUTE(INDEX(Data!$A215:$H215,,MATCH(FALSE,ISERROR(SEARCH(F$1&\"=\",Data!$A215:$H215)),0)),F$1&\"=\",\"\"),\"\")","v":""},{"$f":"IFERROR(SUBSTITUTE(INDEX(Data!$A215:$H215,,MATCH(FALSE,ISERROR(SEARCH(G$1&\"=\",Data!$A215:$H215)),0)),G$1&\"=\",\"\"),\"\")","v":""},{"$f":"IFERROR(SUBSTITUTE(INDEX(Data!$A215:$H215,,MATCH(FALSE,ISERROR(SEARCH(H$1&\"=\",Data!$A215:$H215)),0)),H$1&\"=\",\"\"),\"\")","v":""},{"$f":"IFERROR(SUBSTITUTE(INDEX(Data!$A215:$H215,,MATCH(FALSE,ISERROR(SEARCH(I$1&\"=\",Data!$A215:$H215)),0)),I$1&\"=\",\"\"),\"\")","v":""},{"$f":"IFERROR(SUBSTITUTE(INDEX(Data!$A215:$H215,,MATCH(FALSE,ISERROR(SEARCH(J$1&\"=\",Data!$A215:$H215)),0)),J$1&\"=\",\"\"),\"\")","v":""}]
[{"$f":"IFERROR(SUBSTITUTE(INDEX(Data!$A216:$H216,,MATCH(FALSE,ISERROR(SEARCH(A$1&\"=\",Data!$A216:$H216)),0)),A$1&\"=\",\"\"),\"\")","v":""},{"$f":"IFERROR(SUBSTITUTE(INDEX(Data!$A216:$H216,,MATCH(FALSE,ISERROR(SEARCH(B$1&\"=\",Data!$A216:$H216)),0)),B$1&\"=\",\"\"),\"\")","v":""},{"$f":"IFERROR(SUBSTITUTE(INDEX(Data!$A216:$H216,,MATCH(FALSE,ISERROR(SEARCH(C$1&\"=\",Data!$A216:$H216)),0)),C$1&\"=\",\"\"),\"\")","v":""},{"$f":"IFERROR(SUBSTITUTE(INDEX(Data!$A216:$H216,,MATCH(FALSE,ISERROR(SEARCH(D$1&\"=\",Data!$A216:$H216)),0)),D$1&\"=\",\"\"),\"\")","v":""},{"$f":"IFERROR(SUBSTITUTE(INDEX(Data!$A216:$H216,,MATCH(FALSE,ISERROR(SEARCH(E$1&\"=\",Data!$A216:$H216)),0)),E$1&\"=\",\"\"),\"\")","v":""},{"$f":"IFERROR(SUBSTITUTE(INDEX(Data!$A216:$H216,,MATCH(FALSE,ISERROR(SEARCH(F$1&\"=\",Data!$A216:$H216)),0)),F$1&\"=\",\"\"),\"\")","v":""},{"$f":"IFERROR(SUBSTITUTE(INDEX(Data!$A216:$H216,,MATCH(FALSE,ISERROR(SEARCH(G$1&\"=\",Data!$A216:$H216)),0)),G$1&\"=\",\"\"),\"\")","v":""},{"$f":"IFERROR(SUBSTITUTE(INDEX(Data!$A216:$H216,,MATCH(FALSE,ISERROR(SEARCH(H$1&\"=\",Data!$A216:$H216)),0)),H$1&\"=\",\"\"),\"\")","v":""},{"$f":"IFERROR(SUBSTITUTE(INDEX(Data!$A216:$H216,,MATCH(FALSE,ISERROR(SEARCH(I$1&\"=\",Data!$A216:$H216)),0)),I$1&\"=\",\"\"),\"\")","v":""},{"$f":"IFERROR(SUBSTITUTE(INDEX(Data!$A216:$H216,,MATCH(FALSE,ISERROR(SEARCH(J$1&\"=\",Data!$A216:$H216)),0)),J$1&\"=\",\"\"),\"\")","v":""}]
[{"$f":"IFERROR(SUBSTITUTE(INDEX(Data!$A217:$H217,,MATCH(FALSE,ISERROR(SEARCH(A$1&\"=\",Data!$A217:$H217)),0)),A$1&\"=\",\"\"),\"\")","v":""},{"$f":"IFERROR(SUBSTITUTE(INDEX(Data!$A217:$H217,,MATCH(FALSE,ISERROR(SEARCH(B$1&\"=\",Data!$A217:$H217)),0)),B$1&\"=\",\"\"),\"\")","v":""},{"$f":"IFERROR(SUBSTITUTE(INDEX(Data!$A217:$H217,,MATCH(FALSE,ISERROR(SEARCH(C$1&\"=\",Data!$A217:$H217)),0)),C$1&\"=\",\"\"),\"\")","v":""},{"$f":"IFERROR(SUBSTITUTE(INDEX(Data!$A217:$H217,,MATCH(FALSE,ISERROR(SEARCH(D$1&\"=\",Data!$A217:$H217)),0)),D$1&\"=\",\"\"),\"\")","v":""},{"$f":"IFERROR(SUBSTITUTE(INDEX(Data!$A217:$H217,,MATCH(FALSE,ISERROR(SEARCH(E$1&\"=\",Data!$A217:$H217)),0)),E$1&\"=\",\"\"),\"\")","v":""},{"$f":"IFERROR(SUBSTITUTE(INDEX(Data!$A217:$H217,,MATCH(FALSE,ISERROR(SEARCH(F$1&\"=\",Data!$A217:$H217)),0)),F$1&\"=\",\"\"),\"\")","v":""},{"$f":"IFERROR(SUBSTITUTE(INDEX(Data!$A217:$H217,,MATCH(FALSE,ISERROR(SEARCH(G$1&\"=\",Data!$A217:$H217)),0)),G$1&\"=\",\"\"),\"\")","v":""},{"$f":"IFERROR(SUBSTITUTE(INDEX(Data!$A217:$H217,,MATCH(FALSE,ISERROR(SEARCH(H$1&\"=\",Data!$A217:$H217)),0)),H$1&\"=\",\"\"),\"\")","v":""},{"$f":"IFERROR(SUBSTITUTE(INDEX(Data!$A217:$H217,,MATCH(FALSE,ISERROR(SEARCH(I$1&\"=\",Data!$A217:$H217)),0)),I$1&\"=\",\"\"),\"\")","v":""},{"$f":"IFERROR(SUBSTITUTE(INDEX(Data!$A217:$H217,,MATCH(FALSE,ISERROR(SEARCH(J$1&\"=\",Data!$A217:$H217)),0)),J$1&\"=\",\"\"),\"\")","v":""}]
[{"$f":"IFERROR(SUBSTITUTE(INDEX(Data!$A218:$H218,,MATCH(FALSE,ISERROR(SEARCH(A$1&\"=\",Data!$A218:$H218)),0)),A$1&\"=\",\"\"),\"\")","v":""},{"$f":"IFERROR(SUBSTITUTE(INDEX(Data!$A218:$H218,,MATCH(FALSE,ISERROR(SEARCH(B$1&\"=\",Data!$A218:$H218)),0)),B$1&\"=\",\"\"),\"\")","v":""},{"$f":"IFERROR(SUBSTITUTE(INDEX(Data!$A218:$H218,,MATCH(FALSE,ISERROR(SEARCH(C$1&\"=\",Data!$A218:$H218)),0)),C$1&\"=\",\"\"),\"\")","v":""},{"$f":"IFERROR(SUBSTITUTE(INDEX(Data!$A218:$H218,,MATCH(FALSE,ISERROR(SEARCH(D$1&\"=\",Data!$A218:$H218)),0)),D$1&\"=\",\"\"),\"\")","v":""},{"$f":"IFERROR(SUBSTITUTE(INDEX(Data!$A218:$H218,,MATCH(FALSE,ISERROR(SEARCH(E$1&\"=\",Data!$A218:$H218)),0)),E$1&\"=\",\"\"),\"\")","v":""},{"$f":"IFERROR(SUBSTITUTE(INDEX(Data!$A218:$H218,,MATCH(FALSE,ISERROR(SEARCH(F$1&\"=\",Data!$A218:$H218)),0)),F$1&\"=\",\"\"),\"\")","v":""},{"$f":"IFERROR(SUBSTITUTE(INDEX(Data!$A218:$H218,,MATCH(FALSE,ISERROR(SEARCH(G$1&\"=\",Data!$A218:$H218)),0)),G$1&\"=\",\"\"),\"\")","v":""},{"$f":"IFERROR(SUBSTITUTE(INDEX(Data!$A218:$H218,,MATCH(FALSE,ISERROR(SEARCH(H$1&\"=\",Data!$A218:$H218)),0)),H$1&\"=\",\"\"),\"\")","v":""},{"$f":"IFERROR(SUBSTITUTE(INDEX(Data!$A218:$H218,,MATCH(FALSE,ISERROR(SEARCH(I$1&\"=\",Data!$A218:$H218)),0)),I$1&\"=\",\"\"),\"\")","v":""},{"$f":"IFERROR(SUBSTITUTE(INDEX(Data!$A218:$H218,,MATCH(FALSE,ISERROR(SEARCH(J$1&\"=\",Data!$A218:$H218)),0)),J$1&\"=\",\"\"),\"\")","v":""}]
[{"$f":"IFERROR(SUBSTITUTE(INDEX(Data!$A219:$H219,,MATCH(FALSE,ISERROR(SEARCH(A$1&\"=\",Data!$A219:$H219)),0)),A$1&\"=\",\"\"),\"\")","v":""},{"$f":"IFERROR(SUBSTITUTE(INDEX(Data!$A219:$H219,,MATCH(FALSE,ISERROR(SEARCH(B$1&\"=\",Data!$A219:$H219)),0)),B$1&\"=\",\"\"),\"\")","v":""},{"$f":"IFERROR(SUBSTITUTE(INDEX(Data!$A219:$H219,,MATCH(FALSE,ISERROR(SEARCH(C$1&\"=\",Data!$A219:$H219)),0)),C$1&\"=\",\"\"),\"\")","v":""},{"$f":"IFERROR(SUBSTITUTE(INDEX(Data!$A219:$H219,,MATCH(FALSE,ISERROR(SEARCH(D$1&\"=\",Data!$A219:$H219)),0)),D$1&\"=\",\"\"),\"\")","v":""},{"$f":"IFERROR(SUBSTITUTE(INDEX(Data!$A219:$H219,,MATCH(FALSE,ISERROR(SEARCH(E$1&\"=\",Data!$A219:$H219)),0)),E$1&\"=\",\"\"),\"\")","v":""},{"$f":"IFERROR(SUBSTITUTE(INDEX(Data!$A219:$H219,,MATCH(FALSE,ISERROR(SEARCH(F$1&\"=\",Data!$A219:$H219)),0)),F$1&\"=\",\"\"),\"\")","v":""},{"$f":"IFERROR(SUBSTITUTE(INDEX(Data!$A219:$H219,,MATCH(FALSE,ISERROR(SEARCH(G$1&\"=\",Data!$A219:$H219)),0)),G$1&\"=\",\"\"),\"\")","v":""},{"$f":"IFERROR(SUBSTITUTE(INDEX(Data!$A219:$H219,,MATCH(FALSE,ISERROR(SEARCH(H$1&\"=\",Data!$A219:$H219)),0)),H$1&\"=\",\"\"),\"\")","v":""},{"$f":"IFERROR(SUBSTITUTE(INDEX(Data!$A219:$H219,,MATCH(FALSE,ISERROR(SEARCH(I$1&\"=\",Data!$A219:$H219)),0)),I$1&\"=\",\"\"),\"\")","v":""},{"$f":"IFERROR(SUBSTITUTE(INDEX(Data!$A219:$H219,,MATCH(FALSE,ISERROR(SEARCH(J$1&\"=\",Data!$A219:$H219)),0)),J$1&\"=\",\"\"),\"\")","v":""}]
[{"$f":"IFERROR(SUBSTITUTE(INDEX(Data!$A220:$H220,,MATCH(FALSE,ISERROR(SEARCH(A$1&\"=\",Data!$A220:$H220)),0)),A$1&\"=\",\"\"),\"\")","v":""},{"$f":"IFERROR(SUBSTITUTE(INDEX(Data!$A220:$H220,,MATCH(FALSE,ISERROR(SEARCH(B$1&\"=\",Data!$A220:$H220)),0)),B$1&\"=\",\"\"),\"\")","v":""},{"$f":"IFERROR(SUBSTITUTE(INDEX(Data!$A220:$H220,,MATCH(FALSE,ISERROR(SEARCH(C$1&\"=\",Data!$A220:$H220)),0)),C$1&\"=\",\"\"),\"\")","v":""},{"$f":"IFERROR(SUBSTITUTE(INDEX(Data!$A220:$H220,,MATCH(FALSE,ISERROR(SEARCH(D$1&\"=\",Data!$A220:$H220)),0)),D$1&\"=\",\"\"),\"\")","v":""},{"$f":"IFERROR(SUBSTITUTE(INDEX(Data!$A220:$H220,,MATCH(FALSE,ISERROR(SEARCH(E$1&\"=\",Data!$A220:$H220)),0)),E$1&\"=\",\"\"),\"\")","v":""},{"$f":"IFERROR(SUBSTITUTE(INDEX(Data!$A220:$H220,,MATCH(FALSE,ISERROR(SEARCH(F$1&\"=\",Data!$A220:$H220)),0)),F$1&\"=\",\"\"),\"\")","v":""},{"$f":"IFERROR(SUBSTITUTE(INDEX(Data!$A220:$H220,,MATCH(FALSE,ISERROR(SEARCH(G$1&\"=\",Data!$A220:$H220)),0)),G$1&\"=\",\"\"),\"\")","v":""},{"$f":"IFERROR(SUBSTITUTE(INDEX(Data!$A220:$H220,,MATCH(FALSE,ISERROR(SEARCH(H$1&\"=\",Data!$A220:$H220)),0)),H$1&\"=\",\"\"),\"\")","v":""},{"$f":"IFERROR(SUBSTITUTE(INDEX(Data!$A220:$H220,,MATCH(FALSE,ISERROR(SEARCH(I$1&\"=\",Data!$A220:$H220)),0)),I$1&\"=\",\"\"),\"\")","v":""},{"$f":"IFERROR(SUBSTITUTE(INDEX(Data!$A220:$H220,,MATCH(FALSE,ISERROR(SEARCH(J$1&\"=\",Data!$A220:$H220)),0)),J$1&\"=\",\"\"),\"\")","v":""}]
[{"$f":"IFERROR(SUBSTITUTE(INDEX(Data!$A221:$H221,,MATCH(FALSE,ISERROR(SEARCH(A$1&\"=\",Data!$A221:$H221)),0)),A$1&\"=\",\"\"),\"\")","v":""},{"$f":"IFERROR(SUBSTITUTE(INDEX(Data!$A221:$H221,,MATCH(FALSE,ISERROR(SEARCH(B$1&\"=\",Data!$A221:$H221)),0)),B$1&\"=\",\"\"),\"\")","v":""},{"$f":"IFERROR(SUBSTITUTE(INDEX(Data!$A221:$H221,,MATCH(FALSE,ISERROR(SEARCH(C$1&\"=\",Data!$A221:$H221)),0)),C$1&\"=\",\"\"),\"\")","v":""},{"$f":"IFERROR(SUBSTITUTE(INDEX(Data!$A221:$H221,,MATCH(FALSE,ISERROR(SEARCH(D$1&\"=\",Data!$A221:$H221)),0)),D$1&\"=\",\"\"),\"\")","v":""},{"$f":"IFERROR(SUBSTITUTE(INDEX(Data!$A221:$H221,,MATCH(FALSE,ISERROR(SEARCH(E$1&\"=\",Data!$A221:$H221)),0)),E$1&\"=\",\"\"),\"\")","v":""},{"$f":"IFERROR(SUBSTITUTE(INDEX(Data!$A221:$H221,,MATCH(FALSE,ISERROR(SEARCH(F$1&\"=\",Data!$A221:$H221)),0)),F$1&\"=\",\"\"),\"\")","v":""},{"$f":"IFERROR(SUBSTITUTE(INDEX(Data!$A221:$H221,,MATCH(FALSE,ISERROR(SEARCH(G$1&\"=\",Data!$A221:$H221)),0)),G$1&\"=\",\"\"),\"\")","v":""},{"$f":"IFERROR(SUBSTITUTE(INDEX(Data!$A221:$H221,,MATCH(FALSE,ISERROR(SEARCH(H$1&\"=\",Data!$A221:$H221)),0)),H$1&\"=\",\"\"),\"\")","v":""},{"$f":"IFERROR(SUBSTITUTE(INDEX(Data!$A221:$H221,,MATCH(FALSE,ISERROR(SEARCH(I$1&\"=\",Data!$A221:$H221)),0)),I$1&\"=\",\"\"),\"\")","v":""},{"$f":"IFERROR(SUBSTITUTE(INDEX(Data!$A221:$H221,,MATCH(FALSE,ISERROR(SEARCH(J$1&\"=\",Data!$A221:$H221)),0)),J$1&\"=\",\"\"),\"\")","v":""}]
[{"$f":"IFERROR(SUBSTITUTE(INDEX(Data!$A222:$H222,,MATCH(FALSE,ISERROR(SEARCH(A$1&\"=\",Data!$A222:$H222)),0)),A$1&\"=\",\"\"),\"\")","v":""},{"$f":"IFERROR(SUBSTITUTE(INDEX(Data!$A222:$H222,,MATCH(FALSE,ISERROR(SEARCH(B$1&\"=\",Data!$A222:$H222)),0)),B$1&\"=\",\"\"),\"\")","v":""},{"$f":"IFERROR(SUBSTITUTE(INDEX(Data!$A222:$H222,,MATCH(FALSE,ISERROR(SEARCH(C$1&\"=\",Data!$A222:$H222)),0)),C$1&\"=\",\"\"),\"\")","v":""},{"$f":"IFERROR(SUBSTITUTE(INDEX(Data!$A222:$H222,,MATCH(FALSE,ISERROR(SEARCH(D$1&\"=\",Data!$A222:$H222)),0)),D$1&\"=\",\"\"),\"\")","v":""},{"$f":"IFERROR(SUBSTITUTE(INDEX(Data!$A222:$H222,,MATCH(FALSE,ISERROR(SEARCH(E$1&\"=\",Data!$A222:$H222)),0)),E$1&\"=\",\"\"),\"\")","v":""},{"$f":"IFERROR(SUBSTITUTE(INDEX(Data!$A222:$H222,,MATCH(FALSE,ISERROR(SEARCH(F$1&\"=\",Data!$A222:$H222)),0)),F$1&\"=\",\"\"),\"\")","v":""},{"$f":"IFERROR(SUBSTITUTE(INDEX(Data!$A222:$H222,,MATCH(FALSE,ISERROR(SEARCH(G$1&\"=\",Data!$A222:$H222)),0)),G$1&\"=\",\"\"),\"\")","v":""},{"$f":"IFERROR(SUBSTITUTE(INDEX(Data!$A222:$H222,,MATCH(FALSE,ISERROR(SEARCH(H$1&\"=\",Data!$A222:$H222)),0)),H$1&\"=\",\"\"),\"\")","v":""},{"$f":"IFERROR(SUBSTITUTE(INDEX(Data!$A222:$H222,,MATCH(FALSE,ISERROR(SEARCH(I$1&\"=\",Data!$A222:$H222)),0)),I$1&\"=\",\"\"),\"\")","v":""},{"$f":"IFERROR(SUBSTITUTE(INDEX(Data!$A222:$H222,,MATCH(FALSE,ISERROR(SEARCH(J$1&\"=\",Data!$A222:$H222)),0)),J$1&\"=\",\"\"),\"\")","v":""}]
[{"$f":"IFERROR(SUBSTITUTE(INDEX(Data!$A223:$H223,,MATCH(FALSE,ISERROR(SEARCH(A$1&\"=\",Data!$A223:$H223)),0)),A$1&\"=\",\"\"),\"\")","v":""},{"$f":"IFERROR(SUBSTITUTE(INDEX(Data!$A223:$H223,,MATCH(FALSE,ISERROR(SEARCH(B$1&\"=\",Data!$A223:$H223)),0)),B$1&\"=\",\"\"),\"\")","v":""},{"$f":"IFERROR(SUBSTITUTE(INDEX(Data!$A223:$H223,,MATCH(FALSE,ISERROR(SEARCH(C$1&\"=\",Data!$A223:$H223)),0)),C$1&\"=\",\"\"),\"\")","v":""},{"$f":"IFERROR(SUBSTITUTE(INDEX(Data!$A223:$H223,,MATCH(FALSE,ISERROR(SEARCH(D$1&\"=\",Data!$A223:$H223)),0)),D$1&\"=\",\"\"),\"\")","v":""},{"$f":"IFERROR(SUBSTITUTE(INDEX(Data!$A223:$H223,,MATCH(FALSE,ISERROR(SEARCH(E$1&\"=\",Data!$A223:$H223)),0)),E$1&\"=\",\"\"),\"\")","v":""},{"$f":"IFERROR(SUBSTITUTE(INDEX(Data!$A223:$H223,,MATCH(FALSE,ISERROR(SEARCH(F$1&\"=\",Data!$A223:$H223)),0)),F$1&\"=\",\"\"),\"\")","v":""},{"$f":"IFERROR(SUBSTITUTE(INDEX(Data!$A223:$H223,,MATCH(FALSE,ISERROR(SEARCH(G$1&\"=\",Data!$A223:$H223)),0)),G$1&\"=\",\"\"),\"\")","v":""},{"$f":"IFERROR(SUBSTITUTE(INDEX(Data!$A223:$H223,,MATCH(FALSE,ISERROR(SEARCH(H$1&\"=\",Data!$A223:$H223)),0)),H$1&\"=\",\"\"),\"\")","v":""},{"$f":"IFERROR(SUBSTITUTE(INDEX(Data!$A223:$H223,,MATCH(FALSE,ISERROR(SEARCH(I$1&\"=\",Data!$A223:$H223)),0)),I$1&\"=\",\"\"),\"\")","v":""},{"$f":"IFERROR(SUBSTITUTE(INDEX(Data!$A223:$H223,,MATCH(FALSE,ISERROR(SEARCH(J$1&\"=\",Data!$A223:$H223)),0)),J$1&\"=\",\"\"),\"\")","v":""}]
[{"$f":"IFERROR(SUBSTITUTE(INDEX(Data!$A224:$H224,,MATCH(FALSE,ISERROR(SEARCH(A$1&\"=\",Data!$A224:$H224)),0)),A$1&\"=\",\"\"),\"\")","v":""},{"$f":"IFERROR(SUBSTITUTE(INDEX(Data!$A224:$H224,,MATCH(FALSE,ISERROR(SEARCH(B$1&\"=\",Data!$A224:$H224)),0)),B$1&\"=\",\"\"),\"\")","v":""},{"$f":"IFERROR(SUBSTITUTE(INDEX(Data!$A224:$H224,,MATCH(FALSE,ISERROR(SEARCH(C$1&\"=\",Data!$A224:$H224)),0)),C$1&\"=\",\"\"),\"\")","v":""},{"$f":"IFERROR(SUBSTITUTE(INDEX(Data!$A224:$H224,,MATCH(FALSE,ISERROR(SEARCH(D$1&\"=\",Data!$A224:$H224)),0)),D$1&\"=\",\"\"),\"\")","v":""},{"$f":"IFERROR(SUBSTITUTE(INDEX(Data!$A224:$H224,,MATCH(FALSE,ISERROR(SEARCH(E$1&\"=\",Data!$A224:$H224)),0)),E$1&\"=\",\"\"),\"\")","v":""},{"$f":"IFERROR(SUBSTITUTE(INDEX(Data!$A224:$H224,,MATCH(FALSE,ISERROR(SEARCH(F$1&\"=\",Data!$A224:$H224)),0)),F$1&\"=\",\"\"),\"\")","v":""},{"$f":"IFERROR(SUBSTITUTE(INDEX(Data!$A224:$H224,,MATCH(FALSE,ISERROR(SEARCH(G$1&\"=\",Data!$A224:$H224)),0)),G$1&\"=\",\"\"),\"\")","v":""},{"$f":"IFERROR(SUBSTITUTE(INDEX(Data!$A224:$H224,,MATCH(FALSE,ISERROR(SEARCH(H$1&\"=\",Data!$A224:$H224)),0)),H$1&\"=\",\"\"),\"\")","v":""},{"$f":"IFERROR(SUBSTITUTE(INDEX(Data!$A224:$H224,,MATCH(FALSE,ISERROR(SEARCH(I$1&\"=\",Data!$A224:$H224)),0)),I$1&\"=\",\"\"),\"\")","v":""},{"$f":"IFERROR(SUBSTITUTE(INDEX(Data!$A224:$H224,,MATCH(FALSE,ISERROR(SEARCH(J$1&\"=\",Data!$A224:$H224)),0)),J$1&\"=\",\"\"),\"\")","v":""}]
[{"$f":"IFERROR(SUBSTITUTE(INDEX(Data!$A225:$H225,,MATCH(FALSE,ISERROR(SEARCH(A$1&\"=\",Data!$A225:$H225)),0)),A$1&\"=\",\"\"),\"\")","v":""},{"$f":"IFERROR(SUBSTITUTE(INDEX(Data!$A225:$H225,,MATCH(FALSE,ISERROR(SEARCH(B$1&\"=\",Data!$A225:$H225)),0)),B$1&\"=\",\"\"),\"\")","v":""},{"$f":"IFERROR(SUBSTITUTE(INDEX(Data!$A225:$H225,,MATCH(FALSE,ISERROR(SEARCH(C$1&\"=\",Data!$A225:$H225)),0)),C$1&\"=\",\"\"),\"\")","v":""},{"$f":"IFERROR(SUBSTITUTE(INDEX(Data!$A225:$H225,,MATCH(FALSE,ISERROR(SEARCH(D$1&\"=\",Data!$A225:$H225)),0)),D$1&\"=\",\"\"),\"\")","v":""},{"$f":"IFERROR(SUBSTITUTE(INDEX(Data!$A225:$H225,,MATCH(FALSE,ISERROR(SEARCH(E$1&\"=\",Data!$A225:$H225)),0)),E$1&\"=\",\"\"),\"\")","v":""},{"$f":"IFERROR(SUBSTITUTE(INDEX(Data!$A225:$H225,,MATCH(FALSE,ISERROR(SEARCH(F$1&\"=\",Data!$A225:$H225)),0)),F$1&\"=\",\"\"),\"\")","v":""},{"$f":"IFERROR(SUBSTITUTE(INDEX(Data!$A225:$H225,,MATCH(FALSE,ISERROR(SEARCH(G$1&\"=\",Data!$A225:$H225)),0)),G$1&\"=\",\"\"),\"\")","v":""},{"$f":"IFERROR(SUBSTITUTE(INDEX(Data!$A225:$H225,,MATCH(FALSE,ISERROR(SEARCH(H$1&\"=\",Data!$A225:$H225)),0)),H$1&\"=\",\"\"),\"\")","v":""},{"$f":"IFERROR(SUBSTITUTE(INDEX(Data!$A225:$H225,,MATCH(FALSE,ISERROR(SEARCH(I$1&\"=\",Data!$A225:$H225)),0)),I$1&\"=\",\"\"),\"\")","v":""},{"$f":"IFERROR(SUBSTITUTE(INDEX(Data!$A225:$H225,,MATCH(FALSE,ISERROR(SEARCH(J$1&\"=\",Data!$A225:$H225)),0)),J$1&\"=\",\"\"),\"\")","v":""}]
[{"$f":"IFERROR(SUBSTITUTE(INDEX(Data!$A226:$H226,,MATCH(FALSE,ISERROR(SEARCH(A$1&\"=\",Data!$A226:$H226)),0)),A$1&\"=\",\"\"),\"\")","v":""},{"$f":"IFERROR(SUBSTITUTE(INDEX(Data!$A226:$H226,,MATCH(FALSE,ISERROR(SEARCH(B$1&\"=\",Data!$A226:$H226)),0)),B$1&\"=\",\"\"),\"\")","v":""},{"$f":"IFERROR(SUBSTITUTE(INDEX(Data!$A226:$H226,,MATCH(FALSE,ISERROR(SEARCH(C$1&\"=\",Data!$A226:$H226)),0)),C$1&\"=\",\"\"),\"\")","v":""},{"$f":"IFERROR(SUBSTITUTE(INDEX(Data!$A226:$H226,,MATCH(FALSE,ISERROR(SEARCH(D$1&\"=\",Data!$A226:$H226)),0)),D$1&\"=\",\"\"),\"\")","v":""},{"$f":"IFERROR(SUBSTITUTE(INDEX(Data!$A226:$H226,,MATCH(FALSE,ISERROR(SEARCH(E$1&\"=\",Data!$A226:$H226)),0)),E$1&\"=\",\"\"),\"\")","v":""},{"$f":"IFERROR(SUBSTITUTE(INDEX(Data!$A226:$H226,,MATCH(FALSE,ISERROR(SEARCH(F$1&\"=\",Data!$A226:$H226)),0)),F$1&\"=\",\"\"),\"\")","v":""},{"$f":"IFERROR(SUBSTITUTE(INDEX(Data!$A226:$H226,,MATCH(FALSE,ISERROR(SEARCH(G$1&\"=\",Data!$A226:$H226)),0)),G$1&\"=\",\"\"),\"\")","v":""},{"$f":"IFERROR(SUBSTITUTE(INDEX(Data!$A226:$H226,,MATCH(FALSE,ISERROR(SEARCH(H$1&\"=\",Data!$A226:$H226)),0)),H$1&\"=\",\"\"),\"\")","v":""},{"$f":"IFERROR(SUBSTITUTE(INDEX(Data!$A226:$H226,,MATCH(FALSE,ISERROR(SEARCH(I$1&\"=\",Data!$A226:$H226)),0)),I$1&\"=\",\"\"),\"\")","v":""},{"$f":"IFERROR(SUBSTITUTE(INDEX(Data!$A226:$H226,,MATCH(FALSE,ISERROR(SEARCH(J$1&\"=\",Data!$A226:$H226)),0)),J$1&\"=\",\"\"),\"\")","v":""}]
[{"$f":"IFERROR(SUBSTITUTE(INDEX(Data!$A227:$H227,,MATCH(FALSE,ISERROR(SEARCH(A$1&\"=\",Data!$A227:$H227)),0)),A$1&\"=\",\"\"),\"\")","v":""},{"$f":"IFERROR(SUBSTITUTE(INDEX(Data!$A227:$H227,,MATCH(FALSE,ISERROR(SEARCH(B$1&\"=\",Data!$A227:$H227)),0)),B$1&\"=\",\"\"),\"\")","v":""},{"$f":"IFERROR(SUBSTITUTE(INDEX(Data!$A227:$H227,,MATCH(FALSE,ISERROR(SEARCH(C$1&\"=\",Data!$A227:$H227)),0)),C$1&\"=\",\"\"),\"\")","v":""},{"$f":"IFERROR(SUBSTITUTE(INDEX(Data!$A227:$H227,,MATCH(FALSE,ISERROR(SEARCH(D$1&\"=\",Data!$A227:$H227)),0)),D$1&\"=\",\"\"),\"\")","v":""},{"$f":"IFERROR(SUBSTITUTE(INDEX(Data!$A227:$H227,,MATCH(FALSE,ISERROR(SEARCH(E$1&\"=\",Data!$A227:$H227)),0)),E$1&\"=\",\"\"),\"\")","v":""},{"$f":"IFERROR(SUBSTITUTE(INDEX(Data!$A227:$H227,,MATCH(FALSE,ISERROR(SEARCH(F$1&\"=\",Data!$A227:$H227)),0)),F$1&\"=\",\"\"),\"\")","v":""},{"$f":"IFERROR(SUBSTITUTE(INDEX(Data!$A227:$H227,,MATCH(FALSE,ISERROR(SEARCH(G$1&\"=\",Data!$A227:$H227)),0)),G$1&\"=\",\"\"),\"\")","v":""},{"$f":"IFERROR(SUBSTITUTE(INDEX(Data!$A227:$H227,,MATCH(FALSE,ISERROR(SEARCH(H$1&\"=\",Data!$A227:$H227)),0)),H$1&\"=\",\"\"),\"\")","v":""},{"$f":"IFERROR(SUBSTITUTE(INDEX(Data!$A227:$H227,,MATCH(FALSE,ISERROR(SEARCH(I$1&\"=\",Data!$A227:$H227)),0)),I$1&\"=\",\"\"),\"\")","v":""},{"$f":"IFERROR(SUBSTITUTE(INDEX(Data!$A227:$H227,,MATCH(FALSE,ISERROR(SEARCH(J$1&\"=\",Data!$A227:$H227)),0)),J$1&\"=\",\"\"),\"\")","v":""}]
[{"$f":"IFERROR(SUBSTITUTE(INDEX(Data!$A228:$H228,,MATCH(FALSE,ISERROR(SEARCH(A$1&\"=\",Data!$A228:$H228)),0)),A$1&\"=\",\"\"),\"\")","v":""},{"$f":"IFERROR(SUBSTITUTE(INDEX(Data!$A228:$H228,,MATCH(FALSE,ISERROR(SEARCH(B$1&\"=\",Data!$A228:$H228)),0)),B$1&\"=\",\"\"),\"\")","v":""},{"$f":"IFERROR(SUBSTITUTE(INDEX(Data!$A228:$H228,,MATCH(FALSE,ISERROR(SEARCH(C$1&\"=\",Data!$A228:$H228)),0)),C$1&\"=\",\"\"),\"\")","v":""},{"$f":"IFERROR(SUBSTITUTE(INDEX(Data!$A228:$H228,,MATCH(FALSE,ISERROR(SEARCH(D$1&\"=\",Data!$A228:$H228)),0)),D$1&\"=\",\"\"),\"\")","v":""},{"$f":"IFERROR(SUBSTITUTE(INDEX(Data!$A228:$H228,,MATCH(FALSE,ISERROR(SEARCH(E$1&\"=\",Data!$A228:$H228)),0)),E$1&\"=\",\"\"),\"\")","v":""},{"$f":"IFERROR(SUBSTITUTE(INDEX(Data!$A228:$H228,,MATCH(FALSE,ISERROR(SEARCH(F$1&\"=\",Data!$A228:$H228)),0)),F$1&\"=\",\"\"),\"\")","v":""},{"$f":"IFERROR(SUBSTITUTE(INDEX(Data!$A228:$H228,,MATCH(FALSE,ISERROR(SEARCH(G$1&\"=\",Data!$A228:$H228)),0)),G$1&\"=\",\"\"),\"\")","v":""},{"$f":"IFERROR(SUBSTITUTE(INDEX(Data!$A228:$H228,,MATCH(FALSE,ISERROR(SEARCH(H$1&\"=\",Data!$A228:$H228)),0)),H$1&\"=\",\"\"),\"\")","v":""},{"$f":"IFERROR(SUBSTITUTE(INDEX(Data!$A228:$H228,,MATCH(FALSE,ISERROR(SEARCH(I$1&\"=\",Data!$A228:$H228)),0)),I$1&\"=\",\"\"),\"\")","v":""},{"$f":"IFERROR(SUBSTITUTE(INDEX(Data!$A228:$H228,,MATCH(FALSE,ISERROR(SEARCH(J$1&\"=\",Data!$A228:$H228)),0)),J$1&\"=\",\"\"),\"\")","v":""}]
[{"$f":"IFERROR(SUBSTITUTE(INDEX(Data!$A229:$H229,,MATCH(FALSE,ISERROR(SEARCH(A$1&\"=\",Data!$A229:$H229)),0)),A$1&\"=\",\"\"),\"\")","v":""},{"$f":"IFERROR(SUBSTITUTE(INDEX(Data!$A229:$H229,,MATCH(FALSE,ISERROR(SEARCH(B$1&\"=\",Data!$A229:$H229)),0)),B$1&\"=\",\"\"),\"\")","v":""},{"$f":"IFERROR(SUBSTITUTE(INDEX(Data!$A229:$H229,,MATCH(FALSE,ISERROR(SEARCH(C$1&\"=\",Data!$A229:$H229)),0)),C$1&\"=\",\"\"),\"\")","v":""},{"$f":"IFERROR(SUBSTITUTE(INDEX(Data!$A229:$H229,,MATCH(FALSE,ISERROR(SEARCH(D$1&\"=\",Data!$A229:$H229)),0)),D$1&\"=\",\"\"),\"\")","v":""},{"$f":"IFERROR(SUBSTITUTE(INDEX(Data!$A229:$H229,,MATCH(FALSE,ISERROR(SEARCH(E$1&\"=\",Data!$A229:$H229)),0)),E$1&\"=\",\"\"),\"\")","v":""},{"$f":"IFERROR(SUBSTITUTE(INDEX(Data!$A229:$H229,,MATCH(FALSE,ISERROR(SEARCH(F$1&\"=\",Data!$A229:$H229)),0)),F$1&\"=\",\"\"),\"\")","v":""},{"$f":"IFERROR(SUBSTITUTE(INDEX(Data!$A229:$H229,,MATCH(FALSE,ISERROR(SEARCH(G$1&\"=\",Data!$A229:$H229)),0)),G$1&\"=\",\"\"),\"\")","v":""},{"$f":"IFERROR(SUBSTITUTE(INDEX(Data!$A229:$H229,,MATCH(FALSE,ISERROR(SEARCH(H$1&\"=\",Data!$A229:$H229)),0)),H$1&\"=\",\"\"),\"\")","v":""},{"$f":"IFERROR(SUBSTITUTE(INDEX(Data!$A229:$H229,,MATCH(FALSE,ISERROR(SEARCH(I$1&\"=\",Data!$A229:$H229)),0)),I$1&\"=\",\"\"),\"\")","v":""},{"$f":"IFERROR(SUBSTITUTE(INDEX(Data!$A229:$H229,,MATCH(FALSE,ISERROR(SEARCH(J$1&\"=\",Data!$A229:$H229)),0)),J$1&\"=\",\"\"),\"\")","v":""}]
[{"$f":"IFERROR(SUBSTITUTE(INDEX(Data!$A230:$H230,,MATCH(FALSE,ISERROR(SEARCH(A$1&\"=\",Data!$A230:$H230)),0)),A$1&\"=\",\"\"),\"\")","v":""},{"$f":"IFERROR(SUBSTITUTE(INDEX(Data!$A230:$H230,,MATCH(FALSE,ISERROR(SEARCH(B$1&\"=\",Data!$A230:$H230)),0)),B$1&\"=\",\"\"),\"\")","v":""},{"$f":"IFERROR(SUBSTITUTE(INDEX(Data!$A230:$H230,,MATCH(FALSE,ISERROR(SEARCH(C$1&\"=\",Data!$A230:$H230)),0)),C$1&\"=\",\"\"),\"\")","v":""},{"$f":"IFERROR(SUBSTITUTE(INDEX(Data!$A230:$H230,,MATCH(FALSE,ISERROR(SEARCH(D$1&\"=\",Data!$A230:$H230)),0)),D$1&\"=\",\"\"),\"\")","v":""},{"$f":"IFERROR(SUBSTITUTE(INDEX(Data!$A230:$H230,,MATCH(FALSE,ISERROR(SEARCH(E$1&\"=\",Data!$A230:$H230)),0)),E$1&\"=\",\"\"),\"\")","v":""},{"$f":"IFERROR(SUBSTITUTE(INDEX(Data!$A230:$H230,,MATCH(FALSE,ISERROR(SEARCH(F$1&\"=\",Data!$A230:$H230)),0)),F$1&\"=\",\"\"),\"\")","v":""},{"$f":"IFERROR(SUBSTITUTE(INDEX(Data!$A230:$H230,,MATCH(FALSE,ISERROR(SEARCH(G$1&\"=\",Data!$A230:$H230)),0)),G$1&\"=\",\"\"),\"\")","v":""},{"$f":"IFERROR(SUBSTITUTE(INDEX(Data!$A230:$H230,,MATCH(FALSE,ISERROR(SEARCH(H$1&\"=\",Data!$A230:$H230)),0)),H$1&\"=\",\"\"),\"\")","v":""},{"$f":"IFERROR(SUBSTITUTE(INDEX(Data!$A230:$H230,,MATCH(FALSE,ISERROR(SEARCH(I$1&\"=\",Data!$A230:$H230)),0)),I$1&\"=\",\"\"),\"\")","v":""},{"$f":"IFERROR(SUBSTITUTE(INDEX(Data!$A230:$H230,,MATCH(FALSE,ISERROR(SEARCH(J$1&\"=\",Data!$A230:$H230)),0)),J$1&\"=\",\"\"),\"\")","v":""}]
[{"$f":"IFERROR(SUBSTITUTE(INDEX(Data!$A231:$H231,,MATCH(FALSE,ISERROR(SEARCH(A$1&\"=\",Data!$A231:$H231)),0)),A$1&\"=\",\"\"),\"\")","v":""},{"$f":"IFERROR(SUBSTITUTE(INDEX(Data!$A231:$H231,,MATCH(FALSE,ISERROR(SEARCH(B$1&\"=\",Data!$A231:$H231)),0)),B$1&\"=\",\"\"),\"\")","v":""},{"$f":"IFERROR(SUBSTITUTE(INDEX(Data!$A231:$H231,,MATCH(FALSE,ISERROR(SEARCH(C$1&\"=\",Data!$A231:$H231)),0)),C$1&\"=\",\"\"),\"\")","v":""},{"$f":"IFERROR(SUBSTITUTE(INDEX(Data!$A231:$H231,,MATCH(FALSE,ISERROR(SEARCH(D$1&\"=\",Data!$A231:$H231)),0)),D$1&\"=\",\"\"),\"\")","v":""},{"$f":"IFERROR(SUBSTITUTE(INDEX(Data!$A231:$H231,,MATCH(FALSE,ISERROR(SEARCH(E$1&\"=\",Data!$A231:$H231)),0)),E$1&\"=\",\"\"),\"\")","v":""},{"$f":"IFERROR(SUBSTITUTE(INDEX(Data!$A231:$H231,,MATCH(FALSE,ISERROR(SEARCH(F$1&\"=\",Data!$A231:$H231)),0)),F$1&\"=\",\"\"),\"\")","v":""},{"$f":"IFERROR(SUBSTITUTE(INDEX(Data!$A231:$H231,,MATCH(FALSE,ISERROR(SEARCH(G$1&\"=\",Data!$A231:$H231)),0)),G$1&\"=\",\"\"),\"\")","v":""},{"$f":"IFERROR(SUBSTITUTE(INDEX(Data!$A231:$H231,,MATCH(FALSE,ISERROR(SEARCH(H$1&\"=\",Data!$A231:$H231)),0)),H$1&\"=\",\"\"),\"\")","v":""},{"$f":"IFERROR(SUBSTITUTE(INDEX(Data!$A231:$H231,,MATCH(FALSE,ISERROR(SEARCH(I$1&\"=\",Data!$A231:$H231)),0)),I$1&\"=\",\"\"),\"\")","v":""},{"$f":"IFERROR(SUBSTITUTE(INDEX(Data!$A231:$H231,,MATCH(FALSE,ISERROR(SEARCH(J$1&\"=\",Data!$A231:$H231)),0)),J$1&\"=\",\"\"),\"\")","v":""}]
[{"$f":"IFERROR(SUBSTITUTE(INDEX(Data!$A232:$H232,,MATCH(FALSE,ISERROR(SEARCH(A$1&\"=\",Data!$A232:$H232)),0)),A$1&\"=\",\"\"),\"\")","v":""},{"$f":"IFERROR(SUBSTITUTE(INDEX(Data!$A232:$H232,,MATCH(FALSE,ISERROR(SEARCH(B$1&\"=\",Data!$A232:$H232)),0)),B$1&\"=\",\"\"),\"\")","v":""},{"$f":"IFERROR(SUBSTITUTE(INDEX(Data!$A232:$H232,,MATCH(FALSE,ISERROR(SEARCH(C$1&\"=\",Data!$A232:$H232)),0)),C$1&\"=\",\"\"),\"\")","v":""},{"$f":"IFERROR(SUBSTITUTE(INDEX(Data!$A232:$H232,,MATCH(FALSE,ISERROR(SEARCH(D$1&\"=\",Data!$A232:$H232)),0)),D$1&\"=\",\"\"),\"\")","v":""},{"$f":"IFERROR(SUBSTITUTE(INDEX(Data!$A232:$H232,,MATCH(FALSE,ISERROR(SEARCH(E$1&\"=\",Data!$A232:$H232)),0)),E$1&\"=\",\"\"),\"\")","v":""},{"$f":"IFERROR(SUBSTITUTE(INDEX(Data!$A232:$H232,,MATCH(FALSE,ISERROR(SEARCH(F$1&\"=\",Data!$A232:$H232)),0)),F$1&\"=\",\"\"),\"\")","v":""},{"$f":"IFERROR(SUBSTITUTE(INDEX(Data!$A232:$H232,,MATCH(FALSE,ISERROR(SEARCH(G$1&\"=\",Data!$A232:$H232)),0)),G$1&\"=\",\"\"),\"\")","v":""},{"$f":"IFERROR(SUBSTITUTE(INDEX(Data!$A232:$H232,,MATCH(FALSE,ISERROR(SEARCH(H$1&\"=\",Data!$A232:$H232)),0)),H$1&\"=\",\"\"),\"\")","v":""},{"$f":"IFERROR(SUBSTITUTE(INDEX(Data!$A232:$H232,,MATCH(FALSE,ISERROR(SEARCH(I$1&\"=\",Data!$A232:$H232)),0)),I$1&\"=\",\"\"),\"\")","v":""},{"$f":"IFERROR(SUBSTITUTE(INDEX(Data!$A232:$H232,,MATCH(FALSE,ISERROR(SEARCH(J$1&\"=\",Data!$A232:$H232)),0)),J$1&\"=\",\"\"),\"\")","v":""}]
[{"$f":"IFERROR(SUBSTITUTE(INDEX(Data!$A233:$H233,,MATCH(FALSE,ISERROR(SEARCH(A$1&\"=\",Data!$A233:$H233)),0)),A$1&\"=\",\"\"),\"\")","v":""},{"$f":"IFERROR(SUBSTITUTE(INDEX(Data!$A233:$H233,,MATCH(FALSE,ISERROR(SEARCH(B$1&\"=\",Data!$A233:$H233)),0)),B$1&\"=\",\"\"),\"\")","v":""},{"$f":"IFERROR(SUBSTITUTE(INDEX(Data!$A233:$H233,,MATCH(FALSE,ISERROR(SEARCH(C$1&\"=\",Data!$A233:$H233)),0)),C$1&\"=\",\"\"),\"\")","v":""},{"$f":"IFERROR(SUBSTITUTE(INDEX(Data!$A233:$H233,,MATCH(FALSE,ISERROR(SEARCH(D$1&\"=\",Data!$A233:$H233)),0)),D$1&\"=\",\"\"),\"\")","v":""},{"$f":"IFERROR(SUBSTITUTE(INDEX(Data!$A233:$H233,,MATCH(FALSE,ISERROR(SEARCH(E$1&\"=\",Data!$A233:$H233)),0)),E$1&\"=\",\"\"),\"\")","v":""},{"$f":"IFERROR(SUBSTITUTE(INDEX(Data!$A233:$H233,,MATCH(FALSE,ISERROR(SEARCH(F$1&\"=\",Data!$A233:$H233)),0)),F$1&\"=\",\"\"),\"\")","v":""},{"$f":"IFERROR(SUBSTITUTE(INDEX(Data!$A233:$H233,,MATCH(FALSE,ISERROR(SEARCH(G$1&\"=\",Data!$A233:$H233)),0)),G$1&\"=\",\"\"),\"\")","v":""},{"$f":"IFERROR(SUBSTITUTE(INDEX(Data!$A233:$H233,,MATCH(FALSE,ISERROR(SEARCH(H$1&\"=\",Data!$A233:$H233)),0)),H$1&\"=\",\"\"),\"\")","v":""},{"$f":"IFERROR(SUBSTITUTE(INDEX(Data!$A233:$H233,,MATCH(FALSE,ISERROR(SEARCH(I$1&\"=\",Data!$A233:$H233)),0)),I$1&\"=\",\"\"),\"\")","v":""},{"$f":"IFERROR(SUBSTITUTE(INDEX(Data!$A233:$H233,,MATCH(FALSE,ISERROR(SEARCH(J$1&\"=\",Data!$A233:$H233)),0)),J$1&\"=\",\"\"),\"\")","v":""}]
[{"$f":"IFERROR(SUBSTITUTE(INDEX(Data!$A234:$H234,,MATCH(FALSE,ISERROR(SEARCH(A$1&\"=\",Data!$A234:$H234)),0)),A$1&\"=\",\"\"),\"\")","v":""},{"$f":"IFERROR(SUBSTITUTE(INDEX(Data!$A234:$H234,,MATCH(FALSE,ISERROR(SEARCH(B$1&\"=\",Data!$A234:$H234)),0)),B$1&\"=\",\"\"),\"\")","v":""},{"$f":"IFERROR(SUBSTITUTE(INDEX(Data!$A234:$H234,,MATCH(FALSE,ISERROR(SEARCH(C$1&\"=\",Data!$A234:$H234)),0)),C$1&\"=\",\"\"),\"\")","v":""},{"$f":"IFERROR(SUBSTITUTE(INDEX(Data!$A234:$H234,,MATCH(FALSE,ISERROR(SEARCH(D$1&\"=\",Data!$A234:$H234)),0)),D$1&\"=\",\"\"),\"\")","v":""},{"$f":"IFERROR(SUBSTITUTE(INDEX(Data!$A234:$H234,,MATCH(FALSE,ISERROR(SEARCH(E$1&\"=\",Data!$A234:$H234)),0)),E$1&\"=\",\"\"),\"\")","v":""},{"$f":"IFERROR(SUBSTITUTE(INDEX(Data!$A234:$H234,,MATCH(FALSE,ISERROR(SEARCH(F$1&\"=\",Data!$A234:$H234)),0)),F$1&\"=\",\"\"),\"\")","v":""},{"$f":"IFERROR(SUBSTITUTE(INDEX(Data!$A234:$H234,,MATCH(FALSE,ISERROR(SEARCH(G$1&\"=\",Data!$A234:$H234)),0)),G$1&\"=\",\"\"),\"\")","v":""},{"$f":"IFERROR(SUBSTITUTE(INDEX(Data!$A234:$H234,,MATCH(FALSE,ISERROR(SEARCH(H$1&\"=\",Data!$A234:$H234)),0)),H$1&\"=\",\"\"),\"\")","v":""},{"$f":"IFERROR(SUBSTITUTE(INDEX(Data!$A234:$H234,,MATCH(FALSE,ISERROR(SEARCH(I$1&\"=\",Data!$A234:$H234)),0)),I$1&\"=\",\"\"),\"\")","v":""},{"$f":"IFERROR(SUBSTITUTE(INDEX(Data!$A234:$H234,,MATCH(FALSE,ISERROR(SEARCH(J$1&\"=\",Data!$A234:$H234)),0)),J$1&\"=\",\"\"),\"\")","v":""}]
[{"$f":"IFERROR(SUBSTITUTE(INDEX(Data!$A235:$H235,,MATCH(FALSE,ISERROR(SEARCH(A$1&\"=\",Data!$A235:$H235)),0)),A$1&\"=\",\"\"),\"\")","v":""},{"$f":"IFERROR(SUBSTITUTE(INDEX(Data!$A235:$H235,,MATCH(FALSE,ISERROR(SEARCH(B$1&\"=\",Data!$A235:$H235)),0)),B$1&\"=\",\"\"),\"\")","v":""},{"$f":"IFERROR(SUBSTITUTE(INDEX(Data!$A235:$H235,,MATCH(FALSE,ISERROR(SEARCH(C$1&\"=\",Data!$A235:$H235)),0)),C$1&\"=\",\"\"),\"\")","v":""},{"$f":"IFERROR(SUBSTITUTE(INDEX(Data!$A235:$H235,,MATCH(FALSE,ISERROR(SEARCH(D$1&\"=\",Data!$A235:$H235)),0)),D$1&\"=\",\"\"),\"\")","v":""},{"$f":"IFERROR(SUBSTITUTE(INDEX(Data!$A235:$H235,,MATCH(FALSE,ISERROR(SEARCH(E$1&\"=\",Data!$A235:$H235)),0)),E$1&\"=\",\"\"),\"\")","v":""},{"$f":"IFERROR(SUBSTITUTE(INDEX(Data!$A235:$H235,,MATCH(FALSE,ISERROR(SEARCH(F$1&\"=\",Data!$A235:$H235)),0)),F$1&\"=\",\"\"),\"\")","v":""},{"$f":"IFERROR(SUBSTITUTE(INDEX(Data!$A235:$H235,,MATCH(FALSE,ISERROR(SEARCH(G$1&\"=\",Data!$A235:$H235)),0)),G$1&\"=\",\"\"),\"\")","v":""},{"$f":"IFERROR(SUBSTITUTE(INDEX(Data!$A235:$H235,,MATCH(FALSE,ISERROR(SEARCH(H$1&\"=\",Data!$A235:$H235)),0)),H$1&\"=\",\"\"),\"\")","v":""},{"$f":"IFERROR(SUBSTITUTE(INDEX(Data!$A235:$H235,,MATCH(FALSE,ISERROR(SEARCH(I$1&\"=\",Data!$A235:$H235)),0)),I$1&\"=\",\"\"),\"\")","v":""},{"$f":"IFERROR(SUBSTITUTE(INDEX(Data!$A235:$H235,,MATCH(FALSE,ISERROR(SEARCH(J$1&\"=\",Data!$A235:$H235)),0)),J$1&\"=\",\"\"),\"\")","v":""}]
[{"$f":"IFERROR(SUBSTITUTE(INDEX(Data!$A236:$H236,,MATCH(FALSE,ISERROR(SEARCH(A$1&\"=\",Data!$A236:$H236)),0)),A$1&\"=\",\"\"),\"\")","v":""},{"$f":"IFERROR(SUBSTITUTE(INDEX(Data!$A236:$H236,,MATCH(FALSE,ISERROR(SEARCH(B$1&\"=\",Data!$A236:$H236)),0)),B$1&\"=\",\"\"),\"\")","v":""},{"$f":"IFERROR(SUBSTITUTE(INDEX(Data!$A236:$H236,,MATCH(FALSE,ISERROR(SEARCH(C$1&\"=\",Data!$A236:$H236)),0)),C$1&\"=\",\"\"),\"\")","v":""},{"$f":"IFERROR(SUBSTITUTE(INDEX(Data!$A236:$H236,,MATCH(FALSE,ISERROR(SEARCH(D$1&\"=\",Data!$A236:$H236)),0)),D$1&\"=\",\"\"),\"\")","v":""},{"$f":"IFERROR(SUBSTITUTE(INDEX(Data!$A236:$H236,,MATCH(FALSE,ISERROR(SEARCH(E$1&\"=\",Data!$A236:$H236)),0)),E$1&\"=\",\"\"),\"\")","v":""},{"$f":"IFERROR(SUBSTITUTE(INDEX(Data!$A236:$H236,,MATCH(FALSE,ISERROR(SEARCH(F$1&\"=\",Data!$A236:$H236)),0)),F$1&\"=\",\"\"),\"\")","v":""},{"$f":"IFERROR(SUBSTITUTE(INDEX(Data!$A236:$H236,,MATCH(FALSE,ISERROR(SEARCH(G$1&\"=\",Data!$A236:$H236)),0)),G$1&\"=\",\"\"),\"\")","v":""},{"$f":"IFERROR(SUBSTITUTE(INDEX(Data!$A236:$H236,,MATCH(FALSE,ISERROR(SEARCH(H$1&\"=\",Data!$A236:$H236)),0)),H$1&\"=\",\"\"),\"\")","v":""},{"$f":"IFERROR(SUBSTITUTE(INDEX(Data!$A236:$H236,,MATCH(FALSE,ISERROR(SEARCH(I$1&\"=\",Data!$A236:$H236)),0)),I$1&\"=\",\"\"),\"\")","v":""},{"$f":"IFERROR(SUBSTITUTE(INDEX(Data!$A236:$H236,,MATCH(FALSE,ISERROR(SEARCH(J$1&\"=\",Data!$A236:$H236)),0)),J$1&\"=\",\"\"),\"\")","v":""}]
[{"$f":"IFERROR(SUBSTITUTE(INDEX(Data!$A237:$H237,,MATCH(FALSE,ISERROR(SEARCH(A$1&\"=\",Data!$A237:$H237)),0)),A$1&\"=\",\"\"),\"\")","v":""},{"$f":"IFERROR(SUBSTITUTE(INDEX(Data!$A237:$H237,,MATCH(FALSE,ISERROR(SEARCH(B$1&\"=\",Data!$A237:$H237)),0)),B$1&\"=\",\"\"),\"\")","v":""},{"$f":"IFERROR(SUBSTITUTE(INDEX(Data!$A237:$H237,,MATCH(FALSE,ISERROR(SEARCH(C$1&\"=\",Data!$A237:$H237)),0)),C$1&\"=\",\"\"),\"\")","v":""},{"$f":"IFERROR(SUBSTITUTE(INDEX(Data!$A237:$H237,,MATCH(FALSE,ISERROR(SEARCH(D$1&\"=\",Data!$A237:$H237)),0)),D$1&\"=\",\"\"),\"\")","v":""},{"$f":"IFERROR(SUBSTITUTE(INDEX(Data!$A237:$H237,,MATCH(FALSE,ISERROR(SEARCH(E$1&\"=\",Data!$A237:$H237)),0)),E$1&\"=\",\"\"),\"\")","v":""},{"$f":"IFERROR(SUBSTITUTE(INDEX(Data!$A237:$H237,,MATCH(FALSE,ISERROR(SEARCH(F$1&\"=\",Data!$A237:$H237)),0)),F$1&\"=\",\"\"),\"\")","v":""},{"$f":"IFERROR(SUBSTITUTE(INDEX(Data!$A237:$H237,,MATCH(FALSE,ISERROR(SEARCH(G$1&\"=\",Data!$A237:$H237)),0)),G$1&\"=\",\"\"),\"\")","v":""},{"$f":"IFERROR(SUBSTITUTE(INDEX(Data!$A237:$H237,,MATCH(FALSE,ISERROR(SEARCH(H$1&\"=\",Data!$A237:$H237)),0)),H$1&\"=\",\"\"),\"\")","v":""},{"$f":"IFERROR(SUBSTITUTE(INDEX(Data!$A237:$H237,,MATCH(FALSE,ISERROR(SEARCH(I$1&\"=\",Data!$A237:$H237)),0)),I$1&\"=\",\"\"),\"\")","v":""},{"$f":"IFERROR(SUBSTITUTE(INDEX(Data!$A237:$H237,,MATCH(FALSE,ISERROR(SEARCH(J$1&\"=\",Data!$A237:$H237)),0)),J$1&\"=\",\"\"),\"\")","v":""}]
[{"$f":"IFERROR(SUBSTITUTE(INDEX(Data!$A238:$H238,,MATCH(FALSE,ISERROR(SEARCH(A$1&\"=\",Data!$A238:$H238)),0)),A$1&\"=\",\"\"),\"\")","v":""},{"$f":"IFERROR(SUBSTITUTE(INDEX(Data!$A238:$H238,,MATCH(FALSE,ISERROR(SEARCH(B$1&\"=\",Data!$A238:$H238)),0)),B$1&\"=\",\"\"),\"\")","v":""},{"$f":"IFERROR(SUBSTITUTE(INDEX(Data!$A238:$H238,,MATCH(FALSE,ISERROR(SEARCH(C$1&\"=\",Data!$A238:$H238)),0)),C$1&\"=\",\"\"),\"\")","v":""},{"$f":"IFERROR(SUBSTITUTE(INDEX(Data!$A238:$H238,,MATCH(FALSE,ISERROR(SEARCH(D$1&\"=\",Data!$A238:$H238)),0)),D$1&\"=\",\"\"),\"\")","v":""},{"$f":"IFERROR(SUBSTITUTE(INDEX(Data!$A238:$H238,,MATCH(FALSE,ISERROR(SEARCH(E$1&\"=\",Data!$A238:$H238)),0)),E$1&\"=\",\"\"),\"\")","v":""},{"$f":"IFERROR(SUBSTITUTE(INDEX(Data!$A238:$H238,,MATCH(FALSE,ISERROR(SEARCH(F$1&\"=\",Data!$A238:$H238)),0)),F$1&\"=\",\"\"),\"\")","v":""},{"$f":"IFERROR(SUBSTITUTE(INDEX(Data!$A238:$H238,,MATCH(FALSE,ISERROR(SEARCH(G$1&\"=\",Data!$A238:$H238)),0)),G$1&\"=\",\"\"),\"\")","v":""},{"$f":"IFERROR(SUBSTITUTE(INDEX(Data!$A238:$H238,,MATCH(FALSE,ISERROR(SEARCH(H$1&\"=\",Data!$A238:$H238)),0)),H$1&\"=\",\"\"),\"\")","v":""},{"$f":"IFERROR(SUBSTITUTE(INDEX(Data!$A238:$H238,,MATCH(FALSE,ISERROR(SEARCH(I$1&\"=\",Data!$A238:$H238)),0)),I$1&\"=\",\"\"),\"\")","v":""},{"$f":"IFERROR(SUBSTITUTE(INDEX(Data!$A238:$H238,,MATCH(FALSE,ISERROR(SEARCH(J$1&\"=\",Data!$A238:$H238)),0)),J$1&\"=\",\"\"),\"\")","v":""}]
[{"$f":"IFERROR(SUBSTITUTE(INDEX(Data!$A239:$H239,,MATCH(FALSE,ISERROR(SEARCH(A$1&\"=\",Data!$A239:$H239)),0)),A$1&\"=\",\"\"),\"\")","v":""},{"$f":"IFERROR(SUBSTITUTE(INDEX(Data!$A239:$H239,,MATCH(FALSE,ISERROR(SEARCH(B$1&\"=\",Data!$A239:$H239)),0)),B$1&\"=\",\"\"),\"\")","v":""},{"$f":"IFERROR(SUBSTITUTE(INDEX(Data!$A239:$H239,,MATCH(FALSE,ISERROR(SEARCH(C$1&\"=\",Data!$A239:$H239)),0)),C$1&\"=\",\"\"),\"\")","v":""},{"$f":"IFERROR(SUBSTITUTE(INDEX(Data!$A239:$H239,,MATCH(FALSE,ISERROR(SEARCH(D$1&\"=\",Data!$A239:$H239)),0)),D$1&\"=\",\"\"),\"\")","v":""},{"$f":"IFERROR(SUBSTITUTE(INDEX(Data!$A239:$H239,,MATCH(FALSE,ISERROR(SEARCH(E$1&\"=\",Data!$A239:$H239)),0)),E$1&\"=\",\"\"),\"\")","v":""},{"$f":"IFERROR(SUBSTITUTE(INDEX(Data!$A239:$H239,,MATCH(FALSE,ISERROR(SEARCH(F$1&\"=\",Data!$A239:$H239)),0)),F$1&\"=\",\"\"),\"\")","v":""},{"$f":"IFERROR(SUBSTITUTE(INDEX(Data!$A239:$H239,,MATCH(FALSE,ISERROR(SEARCH(G$1&\"=\",Data!$A239:$H239)),0)),G$1&\"=\",\"\"),\"\")","v":""},{"$f":"IFERROR(SUBSTITUTE(INDEX(Data!$A239:$H239,,MATCH(FALSE,ISERROR(SEARCH(H$1&\"=\",Data!$A239:$H239)),0)),H$1&\"=\",\"\"),\"\")","v":""},{"$f":"IFERROR(SUBSTITUTE(INDEX(Data!$A239:$H239,,MATCH(FALSE,ISERROR(SEARCH(I$1&\"=\",Data!$A239:$H239)),0)),I$1&\"=\",\"\"),\"\")","v":""},{"$f":"IFERROR(SUBSTITUTE(INDEX(Data!$A239:$H239,,MATCH(FALSE,ISERROR(SEARCH(J$1&\"=\",Data!$A239:$H239)),0)),J$1&\"=\",\"\"),\"\")","v":""}]
[{"$f":"IFERROR(SUBSTITUTE(INDEX(Data!$A240:$H240,,MATCH(FALSE,ISERROR(SEARCH(A$1&\"=\",Data!$A240:$H240)),0)),A$1&\"=\",\"\"),\"\")","v":""},{"$f":"IFERROR(SUBSTITUTE(INDEX(Data!$A240:$H240,,MATCH(FALSE,ISERROR(SEARCH(B$1&\"=\",Data!$A240:$H240)),0)),B$1&\"=\",\"\"),\"\")","v":""},{"$f":"IFERROR(SUBSTITUTE(INDEX(Data!$A240:$H240,,MATCH(FALSE,ISERROR(SEARCH(C$1&\"=\",Data!$A240:$H240)),0)),C$1&\"=\",\"\"),\"\")","v":""},{"$f":"IFERROR(SUBSTITUTE(INDEX(Data!$A240:$H240,,MATCH(FALSE,ISERROR(SEARCH(D$1&\"=\",Data!$A240:$H240)),0)),D$1&\"=\",\"\"),\"\")","v":""},{"$f":"IFERROR(SUBSTITUTE(INDEX(Data!$A240:$H240,,MATCH(FALSE,ISERROR(SEARCH(E$1&\"=\",Data!$A240:$H240)),0)),E$1&\"=\",\"\"),\"\")","v":""},{"$f":"IFERROR(SUBSTITUTE(INDEX(Data!$A240:$H240,,MATCH(FALSE,ISERROR(SEARCH(F$1&\"=\",Data!$A240:$H240)),0)),F$1&\"=\",\"\"),\"\")","v":""},{"$f":"IFERROR(SUBSTITUTE(INDEX(Data!$A240:$H240,,MATCH(FALSE,ISERROR(SEARCH(G$1&\"=\",Data!$A240:$H240)),0)),G$1&\"=\",\"\"),\"\")","v":""},{"$f":"IFERROR(SUBSTITUTE(INDEX(Data!$A240:$H240,,MATCH(FALSE,ISERROR(SEARCH(H$1&\"=\",Data!$A240:$H240)),0)),H$1&\"=\",\"\"),\"\")","v":""},{"$f":"IFERROR(SUBSTITUTE(INDEX(Data!$A240:$H240,,MATCH(FALSE,ISERROR(SEARCH(I$1&\"=\",Data!$A240:$H240)),0)),I$1&\"=\",\"\"),\"\")","v":""},{"$f":"IFERROR(SUBSTITUTE(INDEX(Data!$A240:$H240,,MATCH(FALSE,ISERROR(SEARCH(J$1&\"=\",Data!$A240:$H240)),0)),J$1&\"=\",\"\"),\"\")","v":""}]
[{"$f":"IFERROR(SUBSTITUTE(INDEX(Data!$A241:$H241,,MATCH(FALSE,ISERROR(SEARCH(A$1&\"=\",Data!$A241:$H241)),0)),A$1&\"=\",\"\"),\"\")","v":""},{"$f":"IFERROR(SUBSTITUTE(INDEX(Data!$A241:$H241,,MATCH(FALSE,ISERROR(SEARCH(B$1&\"=\",Data!$A241:$H241)),0)),B$1&\"=\",\"\"),\"\")","v":""},{"$f":"IFERROR(SUBSTITUTE(INDEX(Data!$A241:$H241,,MATCH(FALSE,ISERROR(SEARCH(C$1&\"=\",Data!$A241:$H241)),0)),C$1&\"=\",\"\"),\"\")","v":""},{"$f":"IFERROR(SUBSTITUTE(INDEX(Data!$A241:$H241,,MATCH(FALSE,ISERROR(SEARCH(D$1&\"=\",Data!$A241:$H241)),0)),D$1&\"=\",\"\"),\"\")","v":""},{"$f":"IFERROR(SUBSTITUTE(INDEX(Data!$A241:$H241,,MATCH(FALSE,ISERROR(SEARCH(E$1&\"=\",Data!$A241:$H241)),0)),E$1&\"=\",\"\"),\"\")","v":""},{"$f":"IFERROR(SUBSTITUTE(INDEX(Data!$A241:$H241,,MATCH(FALSE,ISERROR(SEARCH(F$1&\"=\",Data!$A241:$H241)),0)),F$1&\"=\",\"\"),\"\")","v":""},{"$f":"IFERROR(SUBSTITUTE(INDEX(Data!$A241:$H241,,MATCH(FALSE,ISERROR(SEARCH(G$1&\"=\",Data!$A241:$H241)),0)),G$1&\"=\",\"\"),\"\")","v":""},{"$f":"IFERROR(SUBSTITUTE(INDEX(Data!$A241:$H241,,MATCH(FALSE,ISERROR(SEARCH(H$1&\"=\",Data!$A241:$H241)),0)),H$1&\"=\",\"\"),\"\")","v":""},{"$f":"IFERROR(SUBSTITUTE(INDEX(Data!$A241:$H241,,MATCH(FALSE,ISERROR(SEARCH(I$1&\"=\",Data!$A241:$H241)),0)),I$1&\"=\",\"\"),\"\")","v":""},{"$f":"IFERROR(SUBSTITUTE(INDEX(Data!$A241:$H241,,MATCH(FALSE,ISERROR(SEARCH(J$1&\"=\",Data!$A241:$H241)),0)),J$1&\"=\",\"\"),\"\")","v":""}]
[{"$f":"IFERROR(SUBSTITUTE(INDEX(Data!$A242:$H242,,MATCH(FALSE,ISERROR(SEARCH(A$1&\"=\",Data!$A242:$H242)),0)),A$1&\"=\",\"\"),\"\")","v":""},{"$f":"IFERROR(SUBSTITUTE(INDEX(Data!$A242:$H242,,MATCH(FALSE,ISERROR(SEARCH(B$1&\"=\",Data!$A242:$H242)),0)),B$1&\"=\",\"\"),\"\")","v":""},{"$f":"IFERROR(SUBSTITUTE(INDEX(Data!$A242:$H242,,MATCH(FALSE,ISERROR(SEARCH(C$1&\"=\",Data!$A242:$H242)),0)),C$1&\"=\",\"\"),\"\")","v":""},{"$f":"IFERROR(SUBSTITUTE(INDEX(Data!$A242:$H242,,MATCH(FALSE,ISERROR(SEARCH(D$1&\"=\",Data!$A242:$H242)),0)),D$1&\"=\",\"\"),\"\")","v":""},{"$f":"IFERROR(SUBSTITUTE(INDEX(Data!$A242:$H242,,MATCH(FALSE,ISERROR(SEARCH(E$1&\"=\",Data!$A242:$H242)),0)),E$1&\"=\",\"\"),\"\")","v":""},{"$f":"IFERROR(SUBSTITUTE(INDEX(Data!$A242:$H242,,MATCH(FALSE,ISERROR(SEARCH(F$1&\"=\",Data!$A242:$H242)),0)),F$1&\"=\",\"\"),\"\")","v":""},{"$f":"IFERROR(SUBSTITUTE(INDEX(Data!$A242:$H242,,MATCH(FALSE,ISERROR(SEARCH(G$1&\"=\",Data!$A242:$H242)),0)),G$1&\"=\",\"\"),\"\")","v":""},{"$f":"IFERROR(SUBSTITUTE(INDEX(Data!$A242:$H242,,MATCH(FALSE,ISERROR(SEARCH(H$1&\"=\",Data!$A242:$H242)),0)),H$1&\"=\",\"\"),\"\")","v":""},{"$f":"IFERROR(SUBSTITUTE(INDEX(Data!$A242:$H242,,MATCH(FALSE,ISERROR(SEARCH(I$1&\"=\",Data!$A242:$H242)),0)),I$1&\"=\",\"\"),\"\")","v":""},{"$f":"IFERROR(SUBSTITUTE(INDEX(Data!$A242:$H242,,MATCH(FALSE,ISERROR(SEARCH(J$1&\"=\",Data!$A242:$H242)),0)),J$1&\"=\",\"\"),\"\")","v":""}]
[{"$f":"IFERROR(SUBSTITUTE(INDEX(Data!$A243:$H243,,MATCH(FALSE,ISERROR(SEARCH(A$1&\"=\",Data!$A243:$H243)),0)),A$1&\"=\",\"\"),\"\")","v":""},{"$f":"IFERROR(SUBSTITUTE(INDEX(Data!$A243:$H243,,MATCH(FALSE,ISERROR(SEARCH(B$1&\"=\",Data!$A243:$H243)),0)),B$1&\"=\",\"\"),\"\")","v":""},{"$f":"IFERROR(SUBSTITUTE(INDEX(Data!$A243:$H243,,MATCH(FALSE,ISERROR(SEARCH(C$1&\"=\",Data!$A243:$H243)),0)),C$1&\"=\",\"\"),\"\")","v":""},{"$f":"IFERROR(SUBSTITUTE(INDEX(Data!$A243:$H243,,MATCH(FALSE,ISERROR(SEARCH(D$1&\"=\",Data!$A243:$H243)),0)),D$1&\"=\",\"\"),\"\")","v":""},{"$f":"IFERROR(SUBSTITUTE(INDEX(Data!$A243:$H243,,MATCH(FALSE,ISERROR(SEARCH(E$1&\"=\",Data!$A243:$H243)),0)),E$1&\"=\",\"\"),\"\")","v":""},{"$f":"IFERROR(SUBSTITUTE(INDEX(Data!$A243:$H243,,MATCH(FALSE,ISERROR(SEARCH(F$1&\"=\",Data!$A243:$H243)),0)),F$1&\"=\",\"\"),\"\")","v":""},{"$f":"IFERROR(SUBSTITUTE(INDEX(Data!$A243:$H243,,MATCH(FALSE,ISERROR(SEARCH(G$1&\"=\",Data!$A243:$H243)),0)),G$1&\"=\",\"\"),\"\")","v":""},{"$f":"IFERROR(SUBSTITUTE(INDEX(Data!$A243:$H243,,MATCH(FALSE,ISERROR(SEARCH(H$1&\"=\",Data!$A243:$H243)),0)),H$1&\"=\",\"\"),\"\")","v":""},{"$f":"IFERROR(SUBSTITUTE(INDEX(Data!$A243:$H243,,MATCH(FALSE,ISERROR(SEARCH(I$1&\"=\",Data!$A243:$H243)),0)),I$1&\"=\",\"\"),\"\")","v":""},{"$f":"IFERROR(SUBSTITUTE(INDEX(Data!$A243:$H243,,MATCH(FALSE,ISERROR(SEARCH(J$1&\"=\",Data!$A243:$H243)),0)),J$1&\"=\",\"\"),\"\")","v":""}]
[{"$f":"IFERROR(SUBSTITUTE(INDEX(Data!$A244:$H244,,MATCH(FALSE,ISERROR(SEARCH(A$1&\"=\",Data!$A244:$H244)),0)),A$1&\"=\",\"\"),\"\")","v":""},{"$f":"IFERROR(SUBSTITUTE(INDEX(Data!$A244:$H244,,MATCH(FALSE,ISERROR(SEARCH(B$1&\"=\",Data!$A244:$H244)),0)),B$1&\"=\",\"\"),\"\")","v":""},{"$f":"IFERROR(SUBSTITUTE(INDEX(Data!$A244:$H244,,MATCH(FALSE,ISERROR(SEARCH(C$1&\"=\",Data!$A244:$H244)),0)),C$1&\"=\",\"\"),\"\")","v":""},{"$f":"IFERROR(SUBSTITUTE(INDEX(Data!$A244:$H244,,MATCH(FALSE,ISERROR(SEARCH(D$1&\"=\",Data!$A244:$H244)),0)),D$1&\"=\",\"\"),\"\")","v":""},{"$f":"IFERROR(SUBSTITUTE(INDEX(Data!$A244:$H244,,MATCH(FALSE,ISERROR(SEARCH(E$1&\"=\",Data!$A244:$H244)),0)),E$1&\"=\",\"\"),\"\")","v":""},{"$f":"IFERROR(SUBSTITUTE(INDEX(Data!$A244:$H244,,MATCH(FALSE,ISERROR(SEARCH(F$1&\"=\",Data!$A244:$H244)),0)),F$1&\"=\",\"\"),\"\")","v":""},{"$f":"IFERROR(SUBSTITUTE(INDEX(Data!$A244:$H244,,MATCH(FALSE,ISERROR(SEARCH(G$1&\"=\",Data!$A244:$H244)),0)),G$1&\"=\",\"\"),\"\")","v":""},{"$f":"IFERROR(SUBSTITUTE(INDEX(Data!$A244:$H244,,MATCH(FALSE,ISERROR(SEARCH(H$1&\"=\",Data!$A244:$H244)),0)),H$1&\"=\",\"\"),\"\")","v":""},{"$f":"IFERROR(SUBSTITUTE(INDEX(Data!$A244:$H244,,MATCH(FALSE,ISERROR(SEARCH(I$1&\"=\",Data!$A244:$H244)),0)),I$1&\"=\",\"\"),\"\")","v":""},{"$f":"IFERROR(SUBSTITUTE(INDEX(Data!$A244:$H244,,MATCH(FALSE,ISERROR(SEARCH(J$1&\"=\",Data!$A244:$H244)),0)),J$1&\"=\",\"\"),\"\")","v":""}]
[{"$f":"IFERROR(SUBSTITUTE(INDEX(Data!$A245:$H245,,MATCH(FALSE,ISERROR(SEARCH(A$1&\"=\",Data!$A245:$H245)),0)),A$1&\"=\",\"\"),\"\")","v":""},{"$f":"IFERROR(SUBSTITUTE(INDEX(Data!$A245:$H245,,MATCH(FALSE,ISERROR(SEARCH(B$1&\"=\",Data!$A245:$H245)),0)),B$1&\"=\",\"\"),\"\")","v":""},{"$f":"IFERROR(SUBSTITUTE(INDEX(Data!$A245:$H245,,MATCH(FALSE,ISERROR(SEARCH(C$1&\"=\",Data!$A245:$H245)),0)),C$1&\"=\",\"\"),\"\")","v":""},{"$f":"IFERROR(SUBSTITUTE(INDEX(Data!$A245:$H245,,MATCH(FALSE,ISERROR(SEARCH(D$1&\"=\",Data!$A245:$H245)),0)),D$1&\"=\",\"\"),\"\")","v":""},{"$f":"IFERROR(SUBSTITUTE(INDEX(Data!$A245:$H245,,MATCH(FALSE,ISERROR(SEARCH(E$1&\"=\",Data!$A245:$H245)),0)),E$1&\"=\",\"\"),\"\")","v":""},{"$f":"IFERROR(SUBSTITUTE(INDEX(Data!$A245:$H245,,MATCH(FALSE,ISERROR(SEARCH(F$1&\"=\",Data!$A245:$H245)),0)),F$1&\"=\",\"\"),\"\")","v":""},{"$f":"IFERROR(SUBSTITUTE(INDEX(Data!$A245:$H245,,MATCH(FALSE,ISERROR(SEARCH(G$1&\"=\",Data!$A245:$H245)),0)),G$1&\"=\",\"\"),\"\")","v":""},{"$f":"IFERROR(SUBSTITUTE(INDEX(Data!$A245:$H245,,MATCH(FALSE,ISERROR(SEARCH(H$1&\"=\",Data!$A245:$H245)),0)),H$1&\"=\",\"\"),\"\")","v":""},{"$f":"IFERROR(SUBSTITUTE(INDEX(Data!$A245:$H245,,MATCH(FALSE,ISERROR(SEARCH(I$1&\"=\",Data!$A245:$H245)),0)),I$1&\"=\",\"\"),\"\")","v":""},{"$f":"IFERROR(SUBSTITUTE(INDEX(Data!$A245:$H245,,MATCH(FALSE,ISERROR(SEARCH(J$1&\"=\",Data!$A245:$H245)),0)),J$1&\"=\",\"\"),\"\")","v":""}]
[{"$f":"IFERROR(SUBSTITUTE(INDEX(Data!$A246:$H246,,MATCH(FALSE,ISERROR(SEARCH(A$1&\"=\",Data!$A246:$H246)),0)),A$1&\"=\",\"\"),\"\")","v":""},{"$f":"IFERROR(SUBSTITUTE(INDEX(Data!$A246:$H246,,MATCH(FALSE,ISERROR(SEARCH(B$1&\"=\",Data!$A246:$H246)),0)),B$1&\"=\",\"\"),\"\")","v":""},{"$f":"IFERROR(SUBSTITUTE(INDEX(Data!$A246:$H246,,MATCH(FALSE,ISERROR(SEARCH(C$1&\"=\",Data!$A246:$H246)),0)),C$1&\"=\",\"\"),\"\")","v":""},{"$f":"IFERROR(SUBSTITUTE(INDEX(Data!$A246:$H246,,MATCH(FALSE,ISERROR(SEARCH(D$1&\"=\",Data!$A246:$H246)),0)),D$1&\"=\",\"\"),\"\")","v":""},{"$f":"IFERROR(SUBSTITUTE(INDEX(Data!$A246:$H246,,MATCH(FALSE,ISERROR(SEARCH(E$1&\"=\",Data!$A246:$H246)),0)),E$1&\"=\",\"\"),\"\")","v":""},{"$f":"IFERROR(SUBSTITUTE(INDEX(Data!$A246:$H246,,MATCH(FALSE,ISERROR(SEARCH(F$1&\"=\",Data!$A246:$H246)),0)),F$1&\"=\",\"\"),\"\")","v":""},{"$f":"IFERROR(SUBSTITUTE(INDEX(Data!$A246:$H246,,MATCH(FALSE,ISERROR(SEARCH(G$1&\"=\",Data!$A246:$H246)),0)),G$1&\"=\",\"\"),\"\")","v":""},{"$f":"IFERROR(SUBSTITUTE(INDEX(Data!$A246:$H246,,MATCH(FALSE,ISERROR(SEARCH(H$1&\"=\",Data!$A246:$H246)),0)),H$1&\"=\",\"\"),\"\")","v":""},{"$f":"IFERROR(SUBSTITUTE(INDEX(Data!$A246:$H246,,MATCH(FALSE,ISERROR(SEARCH(I$1&\"=\",Data!$A246:$H246)),0)),I$1&\"=\",\"\"),\"\")","v":""},{"$f":"IFERROR(SUBSTITUTE(INDEX(Data!$A246:$H246,,MATCH(FALSE,ISERROR(SEARCH(J$1&\"=\",Data!$A246:$H246)),0)),J$1&\"=\",\"\"),\"\")","v":""}]
[{"$f":"IFERROR(SUBSTITUTE(INDEX(Data!$A247:$H247,,MATCH(FALSE,ISERROR(SEARCH(A$1&\"=\",Data!$A247:$H247)),0)),A$1&\"=\",\"\"),\"\")","v":""},{"$f":"IFERROR(SUBSTITUTE(INDEX(Data!$A247:$H247,,MATCH(FALSE,ISERROR(SEARCH(B$1&\"=\",Data!$A247:$H247)),0)),B$1&\"=\",\"\"),\"\")","v":""},{"$f":"IFERROR(SUBSTITUTE(INDEX(Data!$A247:$H247,,MATCH(FALSE,ISERROR(SEARCH(C$1&\"=\",Data!$A247:$H247)),0)),C$1&\"=\",\"\"),\"\")","v":""},{"$f":"IFERROR(SUBSTITUTE(INDEX(Data!$A247:$H247,,MATCH(FALSE,ISERROR(SEARCH(D$1&\"=\",Data!$A247:$H247)),0)),D$1&\"=\",\"\"),\"\")","v":""},{"$f":"IFERROR(SUBSTITUTE(INDEX(Data!$A247:$H247,,MATCH(FALSE,ISERROR(SEARCH(E$1&\"=\",Data!$A247:$H247)),0)),E$1&\"=\",\"\"),\"\")","v":""},{"$f":"IFERROR(SUBSTITUTE(INDEX(Data!$A247:$H247,,MATCH(FALSE,ISERROR(SEARCH(F$1&\"=\",Data!$A247:$H247)),0)),F$1&\"=\",\"\"),\"\")","v":""},{"$f":"IFERROR(SUBSTITUTE(INDEX(Data!$A247:$H247,,MATCH(FALSE,ISERROR(SEARCH(G$1&\"=\",Data!$A247:$H247)),0)),G$1&\"=\",\"\"),\"\")","v":""},{"$f":"IFERROR(SUBSTITUTE(INDEX(Data!$A247:$H247,,MATCH(FALSE,ISERROR(SEARCH(H$1&\"=\",Data!$A247:$H247)),0)),H$1&\"=\",\"\"),\"\")","v":""},{"$f":"IFERROR(SUBSTITUTE(INDEX(Data!$A247:$H247,,MATCH(FALSE,ISERROR(SEARCH(I$1&\"=\",Data!$A247:$H247)),0)),I$1&\"=\",\"\"),\"\")","v":""},{"$f":"IFERROR(SUBSTITUTE(INDEX(Data!$A247:$H247,,MATCH(FALSE,ISERROR(SEARCH(J$1&\"=\",Data!$A247:$H247)),0)),J$1&\"=\",\"\"),\"\")","v":""}]
[{"$f":"IFERROR(SUBSTITUTE(INDEX(Data!$A248:$H248,,MATCH(FALSE,ISERROR(SEARCH(A$1&\"=\",Data!$A248:$H248)),0)),A$1&\"=\",\"\"),\"\")","v":""},{"$f":"IFERROR(SUBSTITUTE(INDEX(Data!$A248:$H248,,MATCH(FALSE,ISERROR(SEARCH(B$1&\"=\",Data!$A248:$H248)),0)),B$1&\"=\",\"\"),\"\")","v":""},{"$f":"IFERROR(SUBSTITUTE(INDEX(Data!$A248:$H248,,MATCH(FALSE,ISERROR(SEARCH(C$1&\"=\",Data!$A248:$H248)),0)),C$1&\"=\",\"\"),\"\")","v":""},{"$f":"IFERROR(SUBSTITUTE(INDEX(Data!$A248:$H248,,MATCH(FALSE,ISERROR(SEARCH(D$1&\"=\",Data!$A248:$H248)),0)),D$1&\"=\",\"\"),\"\")","v":""},{"$f":"IFERROR(SUBSTITUTE(INDEX(Data!$A248:$H248,,MATCH(FALSE,ISERROR(SEARCH(E$1&\"=\",Data!$A248:$H248)),0)),E$1&\"=\",\"\"),\"\")","v":""},{"$f":"IFERROR(SUBSTITUTE(INDEX(Data!$A248:$H248,,MATCH(FALSE,ISERROR(SEARCH(F$1&\"=\",Data!$A248:$H248)),0)),F$1&\"=\",\"\"),\"\")","v":""},{"$f":"IFERROR(SUBSTITUTE(INDEX(Data!$A248:$H248,,MATCH(FALSE,ISERROR(SEARCH(G$1&\"=\",Data!$A248:$H248)),0)),G$1&\"=\",\"\"),\"\")","v":""},{"$f":"IFERROR(SUBSTITUTE(INDEX(Data!$A248:$H248,,MATCH(FALSE,ISERROR(SEARCH(H$1&\"=\",Data!$A248:$H248)),0)),H$1&\"=\",\"\"),\"\")","v":""},{"$f":"IFERROR(SUBSTITUTE(INDEX(Data!$A248:$H248,,MATCH(FALSE,ISERROR(SEARCH(I$1&\"=\",Data!$A248:$H248)),0)),I$1&\"=\",\"\"),\"\")","v":""},{"$f":"IFERROR(SUBSTITUTE(INDEX(Data!$A248:$H248,,MATCH(FALSE,ISERROR(SEARCH(J$1&\"=\",Data!$A248:$H248)),0)),J$1&\"=\",\"\"),\"\")","v":""}]
[{"$f":"IFERROR(SUBSTITUTE(INDEX(Data!$A249:$H249,,MATCH(FALSE,ISERROR(SEARCH(A$1&\"=\",Data!$A249:$H249)),0)),A$1&\"=\",\"\"),\"\")","v":""},{"$f":"IFERROR(SUBSTITUTE(INDEX(Data!$A249:$H249,,MATCH(FALSE,ISERROR(SEARCH(B$1&\"=\",Data!$A249:$H249)),0)),B$1&\"=\",\"\"),\"\")","v":""},{"$f":"IFERROR(SUBSTITUTE(INDEX(Data!$A249:$H249,,MATCH(FALSE,ISERROR(SEARCH(C$1&\"=\",Data!$A249:$H249)),0)),C$1&\"=\",\"\"),\"\")","v":""},{"$f":"IFERROR(SUBSTITUTE(INDEX(Data!$A249:$H249,,MATCH(FALSE,ISERROR(SEARCH(D$1&\"=\",Data!$A249:$H249)),0)),D$1&\"=\",\"\"),\"\")","v":""},{"$f":"IFERROR(SUBSTITUTE(INDEX(Data!$A249:$H249,,MATCH(FALSE,ISERROR(SEARCH(E$1&\"=\",Data!$A249:$H249)),0)),E$1&\"=\",\"\"),\"\")","v":""},{"$f":"IFERROR(SUBSTITUTE(INDEX(Data!$A249:$H249,,MATCH(FALSE,ISERROR(SEARCH(F$1&\"=\",Data!$A249:$H249)),0)),F$1&\"=\",\"\"),\"\")","v":""},{"$f":"IFERROR(SUBSTITUTE(INDEX(Data!$A249:$H249,,MATCH(FALSE,ISERROR(SEARCH(G$1&\"=\",Data!$A249:$H249)),0)),G$1&\"=\",\"\"),\"\")","v":""},{"$f":"IFERROR(SUBSTITUTE(INDEX(Data!$A249:$H249,,MATCH(FALSE,ISERROR(SEARCH(H$1&\"=\",Data!$A249:$H249)),0)),H$1&\"=\",\"\"),\"\")","v":""},{"$f":"IFERROR(SUBSTITUTE(INDEX(Data!$A249:$H249,,MATCH(FALSE,ISERROR(SEARCH(I$1&\"=\",Data!$A249:$H249)),0)),I$1&\"=\",\"\"),\"\")","v":""},{"$f":"IFERROR(SUBSTITUTE(INDEX(Data!$A249:$H249,,MATCH(FALSE,ISERROR(SEARCH(J$1&\"=\",Data!$A249:$H249)),0)),J$1&\"=\",\"\"),\"\")","v":""}]
[{"$f":"IFERROR(SUBSTITUTE(INDEX(Data!$A250:$H250,,MATCH(FALSE,ISERROR(SEARCH(A$1&\"=\",Data!$A250:$H250)),0)),A$1&\"=\",\"\"),\"\")","v":""},{"$f":"IFERROR(SUBSTITUTE(INDEX(Data!$A250:$H250,,MATCH(FALSE,ISERROR(SEARCH(B$1&\"=\",Data!$A250:$H250)),0)),B$1&\"=\",\"\"),\"\")","v":""},{"$f":"IFERROR(SUBSTITUTE(INDEX(Data!$A250:$H250,,MATCH(FALSE,ISERROR(SEARCH(C$1&\"=\",Data!$A250:$H250)),0)),C$1&\"=\",\"\"),\"\")","v":""},{"$f":"IFERROR(SUBSTITUTE(INDEX(Data!$A250:$H250,,MATCH(FALSE,ISERROR(SEARCH(D$1&\"=\",Data!$A250:$H250)),0)),D$1&\"=\",\"\"),\"\")","v":""},{"$f":"IFERROR(SUBSTITUTE(INDEX(Data!$A250:$H250,,MATCH(FALSE,ISERROR(SEARCH(E$1&\"=\",Data!$A250:$H250)),0)),E$1&\"=\",\"\"),\"\")","v":""},{"$f":"IFERROR(SUBSTITUTE(INDEX(Data!$A250:$H250,,MATCH(FALSE,ISERROR(SEARCH(F$1&\"=\",Data!$A250:$H250)),0)),F$1&\"=\",\"\"),\"\")","v":""},{"$f":"IFERROR(SUBSTITUTE(INDEX(Data!$A250:$H250,,MATCH(FALSE,ISERROR(SEARCH(G$1&\"=\",Data!$A250:$H250)),0)),G$1&\"=\",\"\"),\"\")","v":""},{"$f":"IFERROR(SUBSTITUTE(INDEX(Data!$A250:$H250,,MATCH(FALSE,ISERROR(SEARCH(H$1&\"=\",Data!$A250:$H250)),0)),H$1&\"=\",\"\"),\"\")","v":""},{"$f":"IFERROR(SUBSTITUTE(INDEX(Data!$A250:$H250,,MATCH(FALSE,ISERROR(SEARCH(I$1&\"=\",Data!$A250:$H250)),0)),I$1&\"=\",\"\"),\"\")","v":""},{"$f":"IFERROR(SUBSTITUTE(INDEX(Data!$A250:$H250,,MATCH(FALSE,ISERROR(SEARCH(J$1&\"=\",Data!$A250:$H250)),0)),J$1&\"=\",\"\"),\"\")","v":""}]
[{"$f":"IFERROR(SUBSTITUTE(INDEX(Data!$A251:$H251,,MATCH(FALSE,ISERROR(SEARCH(A$1&\"=\",Data!$A251:$H251)),0)),A$1&\"=\",\"\"),\"\")","v":""},{"$f":"IFERROR(SUBSTITUTE(INDEX(Data!$A251:$H251,,MATCH(FALSE,ISERROR(SEARCH(B$1&\"=\",Data!$A251:$H251)),0)),B$1&\"=\",\"\"),\"\")","v":""},{"$f":"IFERROR(SUBSTITUTE(INDEX(Data!$A251:$H251,,MATCH(FALSE,ISERROR(SEARCH(C$1&\"=\",Data!$A251:$H251)),0)),C$1&\"=\",\"\"),\"\")","v":""},{"$f":"IFERROR(SUBSTITUTE(INDEX(Data!$A251:$H251,,MATCH(FALSE,ISERROR(SEARCH(D$1&\"=\",Data!$A251:$H251)),0)),D$1&\"=\",\"\"),\"\")","v":""},{"$f":"IFERROR(SUBSTITUTE(INDEX(Data!$A251:$H251,,MATCH(FALSE,ISERROR(SEARCH(E$1&\"=\",Data!$A251:$H251)),0)),E$1&\"=\",\"\"),\"\")","v":""},{"$f":"IFERROR(SUBSTITUTE(INDEX(Data!$A251:$H251,,MATCH(FALSE,ISERROR(SEARCH(F$1&\"=\",Data!$A251:$H251)),0)),F$1&\"=\",\"\"),\"\")","v":""},{"$f":"IFERROR(SUBSTITUTE(INDEX(Data!$A251:$H251,,MATCH(FALSE,ISERROR(SEARCH(G$1&\"=\",Data!$A251:$H251)),0)),G$1&\"=\",\"\"),\"\")","v":""},{"$f":"IFERROR(SUBSTITUTE(INDEX(Data!$A251:$H251,,MATCH(FALSE,ISERROR(SEARCH(H$1&\"=\",Data!$A251:$H251)),0)),H$1&\"=\",\"\"),\"\")","v":""},{"$f":"IFERROR(SUBSTITUTE(INDEX(Data!$A251:$H251,,MATCH(FALSE,ISERROR(SEARCH(I$1&\"=\",Data!$A251:$H251)),0)),I$1&\"=\",\"\"),\"\")","v":""},{"$f":"IFERROR(SUBSTITUTE(INDEX(Data!$A251:$H251,,MATCH(FALSE,ISERROR(SEARCH(J$1&\"=\",Data!$A251:$H251)),0)),J$1&\"=\",\"\"),\"\")","v":""}]
[{"$f":"IFERROR(SUBSTITUTE(INDEX(Data!$A252:$H252,,MATCH(FALSE,ISERROR(SEARCH(A$1&\"=\",Data!$A252:$H252)),0)),A$1&\"=\",\"\"),\"\")","v":""},{"$f":"IFERROR(SUBSTITUTE(INDEX(Data!$A252:$H252,,MATCH(FALSE,ISERROR(SEARCH(B$1&\"=\",Data!$A252:$H252)),0)),B$1&\"=\",\"\"),\"\")","v":""},{"$f":"IFERROR(SUBSTITUTE(INDEX(Data!$A252:$H252,,MATCH(FALSE,ISERROR(SEARCH(C$1&\"=\",Data!$A252:$H252)),0)),C$1&\"=\",\"\"),\"\")","v":""},{"$f":"IFERROR(SUBSTITUTE(INDEX(Data!$A252:$H252,,MATCH(FALSE,ISERROR(SEARCH(D$1&\"=\",Data!$A252:$H252)),0)),D$1&\"=\",\"\"),\"\")","v":""},{"$f":"IFERROR(SUBSTITUTE(INDEX(Data!$A252:$H252,,MATCH(FALSE,ISERROR(SEARCH(E$1&\"=\",Data!$A252:$H252)),0)),E$1&\"=\",\"\"),\"\")","v":""},{"$f":"IFERROR(SUBSTITUTE(INDEX(Data!$A252:$H252,,MATCH(FALSE,ISERROR(SEARCH(F$1&\"=\",Data!$A252:$H252)),0)),F$1&\"=\",\"\"),\"\")","v":""},{"$f":"IFERROR(SUBSTITUTE(INDEX(Data!$A252:$H252,,MATCH(FALSE,ISERROR(SEARCH(G$1&\"=\",Data!$A252:$H252)),0)),G$1&\"=\",\"\"),\"\")","v":""},{"$f":"IFERROR(SUBSTITUTE(INDEX(Data!$A252:$H252,,MATCH(FALSE,ISERROR(SEARCH(H$1&\"=\",Data!$A252:$H252)),0)),H$1&\"=\",\"\"),\"\")","v":""},{"$f":"IFERROR(SUBSTITUTE(INDEX(Data!$A252:$H252,,MATCH(FALSE,ISERROR(SEARCH(I$1&\"=\",Data!$A252:$H252)),0)),I$1&\"=\",\"\"),\"\")","v":""},{"$f":"IFERROR(SUBSTITUTE(INDEX(Data!$A252:$H252,,MATCH(FALSE,ISERROR(SEARCH(J$1&\"=\",Data!$A252:$H252)),0)),J$1&\"=\",\"\"),\"\")","v":""}]
[{"$f":"IFERROR(SUBSTITUTE(INDEX(Data!$A253:$H253,,MATCH(FALSE,ISERROR(SEARCH(A$1&\"=\",Data!$A253:$H253)),0)),A$1&\"=\",\"\"),\"\")","v":""},{"$f":"IFERROR(SUBSTITUTE(INDEX(Data!$A253:$H253,,MATCH(FALSE,ISERROR(SEARCH(B$1&\"=\",Data!$A253:$H253)),0)),B$1&\"=\",\"\"),\"\")","v":""},{"$f":"IFERROR(SUBSTITUTE(INDEX(Data!$A253:$H253,,MATCH(FALSE,ISERROR(SEARCH(C$1&\"=\",Data!$A253:$H253)),0)),C$1&\"=\",\"\"),\"\")","v":""},{"$f":"IFERROR(SUBSTITUTE(INDEX(Data!$A253:$H253,,MATCH(FALSE,ISERROR(SEARCH(D$1&\"=\",Data!$A253:$H253)),0)),D$1&\"=\",\"\"),\"\")","v":""},{"$f":"IFERROR(SUBSTITUTE(INDEX(Data!$A253:$H253,,MATCH(FALSE,ISERROR(SEARCH(E$1&\"=\",Data!$A253:$H253)),0)),E$1&\"=\",\"\"),\"\")","v":""},{"$f":"IFERROR(SUBSTITUTE(INDEX(Data!$A253:$H253,,MATCH(FALSE,ISERROR(SEARCH(F$1&\"=\",Data!$A253:$H253)),0)),F$1&\"=\",\"\"),\"\")","v":""},{"$f":"IFERROR(SUBSTITUTE(INDEX(Data!$A253:$H253,,MATCH(FALSE,ISERROR(SEARCH(G$1&\"=\",Data!$A253:$H253)),0)),G$1&\"=\",\"\"),\"\")","v":""},{"$f":"IFERROR(SUBSTITUTE(INDEX(Data!$A253:$H253,,MATCH(FALSE,ISERROR(SEARCH(H$1&\"=\",Data!$A253:$H253)),0)),H$1&\"=\",\"\"),\"\")","v":""},{"$f":"IFERROR(SUBSTITUTE(INDEX(Data!$A253:$H253,,MATCH(FALSE,ISERROR(SEARCH(I$1&\"=\",Data!$A253:$H253)),0)),I$1&\"=\",\"\"),\"\")","v":""},{"$f":"IFERROR(SUBSTITUTE(INDEX(Data!$A253:$H253,,MATCH(FALSE,ISERROR(SEARCH(J$1&\"=\",Data!$A253:$H253)),0)),J$1&\"=\",\"\"),\"\")","v":""}]
[{"$f":"IFERROR(SUBSTITUTE(INDEX(Data!$A254:$H254,,MATCH(FALSE,ISERROR(SEARCH(A$1&\"=\",Data!$A254:$H254)),0)),A$1&\"=\",\"\"),\"\")","v":""},{"$f":"IFERROR(SUBSTITUTE(INDEX(Data!$A254:$H254,,MATCH(FALSE,ISERROR(SEARCH(B$1&\"=\",Data!$A254:$H254)),0)),B$1&\"=\",\"\"),\"\")","v":""},{"$f":"IFERROR(SUBSTITUTE(INDEX(Data!$A254:$H254,,MATCH(FALSE,ISERROR(SEARCH(C$1&\"=\",Data!$A254:$H254)),0)),C$1&\"=\",\"\"),\"\")","v":""},{"$f":"IFERROR(SUBSTITUTE(INDEX(Data!$A254:$H254,,MATCH(FALSE,ISERROR(SEARCH(D$1&\"=\",Data!$A254:$H254)),0)),D$1&\"=\",\"\"),\"\")","v":""},{"$f":"IFERROR(SUBSTITUTE(INDEX(Data!$A254:$H254,,MATCH(FALSE,ISERROR(SEARCH(E$1&\"=\",Data!$A254:$H254)),0)),E$1&\"=\",\"\"),\"\")","v":""},{"$f":"IFERROR(SUBSTITUTE(INDEX(Data!$A254:$H254,,MATCH(FALSE,ISERROR(SEARCH(F$1&\"=\",Data!$A254:$H254)),0)),F$1&\"=\",\"\"),\"\")","v":""},{"$f":"IFERROR(SUBSTITUTE(INDEX(Data!$A254:$H254,,MATCH(FALSE,ISERROR(SEARCH(G$1&\"=\",Data!$A254:$H254)),0)),G$1&\"=\",\"\"),\"\")","v":""},{"$f":"IFERROR(SUBSTITUTE(INDEX(Data!$A254:$H254,,MATCH(FALSE,ISERROR(SEARCH(H$1&\"=\",Data!$A254:$H254)),0)),H$1&\"=\",\"\"),\"\")","v":""},{"$f":"IFERROR(SUBSTITUTE(INDEX(Data!$A254:$H254,,MATCH(FALSE,ISERROR(SEARCH(I$1&\"=\",Data!$A254:$H254)),0)),I$1&\"=\",\"\"),\"\")","v":""},{"$f":"IFERROR(SUBSTITUTE(INDEX(Data!$A254:$H254,,MATCH(FALSE,ISERROR(SEARCH(J$1&\"=\",Data!$A254:$H254)),0)),J$1&\"=\",\"\"),\"\")","v":""}]
[{"$f":"IFERROR(SUBSTITUTE(INDEX(Data!$A255:$H255,,MATCH(FALSE,ISERROR(SEARCH(A$1&\"=\",Data!$A255:$H255)),0)),A$1&\"=\",\"\"),\"\")","v":""},{"$f":"IFERROR(SUBSTITUTE(INDEX(Data!$A255:$H255,,MATCH(FALSE,ISERROR(SEARCH(B$1&\"=\",Data!$A255:$H255)),0)),B$1&\"=\",\"\"),\"\")","v":""},{"$f":"IFERROR(SUBSTITUTE(INDEX(Data!$A255:$H255,,MATCH(FALSE,ISERROR(SEARCH(C$1&\"=\",Data!$A255:$H255)),0)),C$1&\"=\",\"\"),\"\")","v":""},{"$f":"IFERROR(SUBSTITUTE(INDEX(Data!$A255:$H255,,MATCH(FALSE,ISERROR(SEARCH(D$1&\"=\",Data!$A255:$H255)),0)),D$1&\"=\",\"\"),\"\")","v":""},{"$f":"IFERROR(SUBSTITUTE(INDEX(Data!$A255:$H255,,MATCH(FALSE,ISERROR(SEARCH(E$1&\"=\",Data!$A255:$H255)),0)),E$1&\"=\",\"\"),\"\")","v":""},{"$f":"IFERROR(SUBSTITUTE(INDEX(Data!$A255:$H255,,MATCH(FALSE,ISERROR(SEARCH(F$1&\"=\",Data!$A255:$H255)),0)),F$1&\"=\",\"\"),\"\")","v":""},{"$f":"IFERROR(SUBSTITUTE(INDEX(Data!$A255:$H255,,MATCH(FALSE,ISERROR(SEARCH(G$1&\"=\",Data!$A255:$H255)),0)),G$1&\"=\",\"\"),\"\")","v":""},{"$f":"IFERROR(SUBSTITUTE(INDEX(Data!$A255:$H255,,MATCH(FALSE,ISERROR(SEARCH(H$1&\"=\",Data!$A255:$H255)),0)),H$1&\"=\",\"\"),\"\")","v":""},{"$f":"IFERROR(SUBSTITUTE(INDEX(Data!$A255:$H255,,MATCH(FALSE,ISERROR(SEARCH(I$1&\"=\",Data!$A255:$H255)),0)),I$1&\"=\",\"\"),\"\")","v":""},{"$f":"IFERROR(SUBSTITUTE(INDEX(Data!$A255:$H255,,MATCH(FALSE,ISERROR(SEARCH(J$1&\"=\",Data!$A255:$H255)),0)),J$1&\"=\",\"\"),\"\")","v":""}]
[{"$f":"IFERROR(SUBSTITUTE(INDEX(Data!$A256:$H256,,MATCH(FALSE,ISERROR(SEARCH(A$1&\"=\",Data!$A256:$H256)),0)),A$1&\"=\",\"\"),\"\")","v":""},{"$f":"IFERROR(SUBSTITUTE(INDEX(Data!$A256:$H256,,MATCH(FALSE,ISERROR(SEARCH(B$1&\"=\",Data!$A256:$H256)),0)),B$1&\"=\",\"\"),\"\")","v":""},{"$f":"IFERROR(SUBSTITUTE(INDEX(Data!$A256:$H256,,MATCH(FALSE,ISERROR(SEARCH(C$1&\"=\",Data!$A256:$H256)),0)),C$1&\"=\",\"\"),\"\")","v":""},{"$f":"IFERROR(SUBSTITUTE(INDEX(Data!$A256:$H256,,MATCH(FALSE,ISERROR(SEARCH(D$1&\"=\",Data!$A256:$H256)),0)),D$1&\"=\",\"\"),\"\")","v":""},{"$f":"IFERROR(SUBSTITUTE(INDEX(Data!$A256:$H256,,MATCH(FALSE,ISERROR(SEARCH(E$1&\"=\",Data!$A256:$H256)),0)),E$1&\"=\",\"\"),\"\")","v":""},{"$f":"IFERROR(SUBSTITUTE(INDEX(Data!$A256:$H256,,MATCH(FALSE,ISERROR(SEARCH(F$1&\"=\",Data!$A256:$H256)),0)),F$1&\"=\",\"\"),\"\")","v":""},{"$f":"IFERROR(SUBSTITUTE(INDEX(Data!$A256:$H256,,MATCH(FALSE,ISERROR(SEARCH(G$1&\"=\",Data!$A256:$H256)),0)),G$1&\"=\",\"\"),\"\")","v":""},{"$f":"IFERROR(SUBSTITUTE(INDEX(Data!$A256:$H256,,MATCH(FALSE,ISERROR(SEARCH(H$1&\"=\",Data!$A256:$H256)),0)),H$1&\"=\",\"\"),\"\")","v":""},{"$f":"IFERROR(SUBSTITUTE(INDEX(Data!$A256:$H256,,MATCH(FALSE,ISERROR(SEARCH(I$1&\"=\",Data!$A256:$H256)),0)),I$1&\"=\",\"\"),\"\")","v":""},{"$f":"IFERROR(SUBSTITUTE(INDEX(Data!$A256:$H256,,MATCH(FALSE,ISERROR(SEARCH(J$1&\"=\",Data!$A256:$H256)),0)),J$1&\"=\",\"\"),\"\")","v":""}]
[{"$f":"IFERROR(SUBSTITUTE(INDEX(Data!$A257:$H257,,MATCH(FALSE,ISERROR(SEARCH(A$1&\"=\",Data!$A257:$H257)),0)),A$1&\"=\",\"\"),\"\")","v":""},{"$f":"IFERROR(SUBSTITUTE(INDEX(Data!$A257:$H257,,MATCH(FALSE,ISERROR(SEARCH(B$1&\"=\",Data!$A257:$H257)),0)),B$1&\"=\",\"\"),\"\")","v":""},{"$f":"IFERROR(SUBSTITUTE(INDEX(Data!$A257:$H257,,MATCH(FALSE,ISERROR(SEARCH(C$1&\"=\",Data!$A257:$H257)),0)),C$1&\"=\",\"\"),\"\")","v":""},{"$f":"IFERROR(SUBSTITUTE(INDEX(Data!$A257:$H257,,MATCH(FALSE,ISERROR(SEARCH(D$1&\"=\",Data!$A257:$H257)),0)),D$1&\"=\",\"\"),\"\")","v":""},{"$f":"IFERROR(SUBSTITUTE(INDEX(Data!$A257:$H257,,MATCH(FALSE,ISERROR(SEARCH(E$1&\"=\",Data!$A257:$H257)),0)),E$1&\"=\",\"\"),\"\")","v":""},{"$f":"IFERROR(SUBSTITUTE(INDEX(Data!$A257:$H257,,MATCH(FALSE,ISERROR(SEARCH(F$1&\"=\",Data!$A257:$H257)),0)),F$1&\"=\",\"\"),\"\")","v":""},{"$f":"IFERROR(SUBSTITUTE(INDEX(Data!$A257:$H257,,MATCH(FALSE,ISERROR(SEARCH(G$1&\"=\",Data!$A257:$H257)),0)),G$1&\"=\",\"\"),\"\")","v":""},{"$f":"IFERROR(SUBSTITUTE(INDEX(Data!$A257:$H257,,MATCH(FALSE,ISERROR(SEARCH(H$1&\"=\",Data!$A257:$H257)),0)),H$1&\"=\",\"\"),\"\")","v":""},{"$f":"IFERROR(SUBSTITUTE(INDEX(Data!$A257:$H257,,MATCH(FALSE,ISERROR(SEARCH(I$1&\"=\",Data!$A257:$H257)),0)),I$1&\"=\",\"\"),\"\")","v":""},{"$f":"IFERROR(SUBSTITUTE(INDEX(Data!$A257:$H257,,MATCH(FALSE,ISERROR(SEARCH(J$1&\"=\",Data!$A257:$H257)),0)),J$1&\"=\",\"\"),\"\")","v":""}]
[{"$f":"IFERROR(SUBSTITUTE(INDEX(Data!$A258:$H258,,MATCH(FALSE,ISERROR(SEARCH(A$1&\"=\",Data!$A258:$H258)),0)),A$1&\"=\",\"\"),\"\")","v":""},{"$f":"IFERROR(SUBSTITUTE(INDEX(Data!$A258:$H258,,MATCH(FALSE,ISERROR(SEARCH(B$1&\"=\",Data!$A258:$H258)),0)),B$1&\"=\",\"\"),\"\")","v":""},{"$f":"IFERROR(SUBSTITUTE(INDEX(Data!$A258:$H258,,MATCH(FALSE,ISERROR(SEARCH(C$1&\"=\",Data!$A258:$H258)),0)),C$1&\"=\",\"\"),\"\")","v":""},{"$f":"IFERROR(SUBSTITUTE(INDEX(Data!$A258:$H258,,MATCH(FALSE,ISERROR(SEARCH(D$1&\"=\",Data!$A258:$H258)),0)),D$1&\"=\",\"\"),\"\")","v":""},{"$f":"IFERROR(SUBSTITUTE(INDEX(Data!$A258:$H258,,MATCH(FALSE,ISERROR(SEARCH(E$1&\"=\",Data!$A258:$H258)),0)),E$1&\"=\",\"\"),\"\")","v":""},{"$f":"IFERROR(SUBSTITUTE(INDEX(Data!$A258:$H258,,MATCH(FALSE,ISERROR(SEARCH(F$1&\"=\",Data!$A258:$H258)),0)),F$1&\"=\",\"\"),\"\")","v":""},{"$f":"IFERROR(SUBSTITUTE(INDEX(Data!$A258:$H258,,MATCH(FALSE,ISERROR(SEARCH(G$1&\"=\",Data!$A258:$H258)),0)),G$1&\"=\",\"\"),\"\")","v":""},{"$f":"IFERROR(SUBSTITUTE(INDEX(Data!$A258:$H258,,MATCH(FALSE,ISERROR(SEARCH(H$1&\"=\",Data!$A258:$H258)),0)),H$1&\"=\",\"\"),\"\")","v":""},{"$f":"IFERROR(SUBSTITUTE(INDEX(Data!$A258:$H258,,MATCH(FALSE,ISERROR(SEARCH(I$1&\"=\",Data!$A258:$H258)),0)),I$1&\"=\",\"\"),\"\")","v":""},{"$f":"IFERROR(SUBSTITUTE(INDEX(Data!$A258:$H258,,MATCH(FALSE,ISERROR(SEARCH(J$1&\"=\",Data!$A258:$H258)),0)),J$1&\"=\",\"\"),\"\")","v":""}]
[{"$f":"IFERROR(SUBSTITUTE(INDEX(Data!$A259:$H259,,MATCH(FALSE,ISERROR(SEARCH(A$1&\"=\",Data!$A259:$H259)),0)),A$1&\"=\",\"\"),\"\")","v":""},{"$f":"IFERROR(SUBSTITUTE(INDEX(Data!$A259:$H259,,MATCH(FALSE,ISERROR(SEARCH(B$1&\"=\",Data!$A259:$H259)),0)),B$1&\"=\",\"\"),\"\")","v":""},{"$f":"IFERROR(SUBSTITUTE(INDEX(Data!$A259:$H259,,MATCH(FALSE,ISERROR(SEARCH(C$1&\"=\",Data!$A259:$H259)),0)),C$1&\"=\",\"\"),\"\")","v":""},{"$f":"IFERROR(SUBSTITUTE(INDEX(Data!$A259:$H259,,MATCH(FALSE,ISERROR(SEARCH(D$1&\"=\",Data!$A259:$H259)),0)),D$1&\"=\",\"\"),\"\")","v":""},{"$f":"IFERROR(SUBSTITUTE(INDEX(Data!$A259:$H259,,MATCH(FALSE,ISERROR(SEARCH(E$1&\"=\",Data!$A259:$H259)),0)),E$1&\"=\",\"\"),\"\")","v":""},{"$f":"IFERROR(SUBSTITUTE(INDEX(Data!$A259:$H259,,MATCH(FALSE,ISERROR(SEARCH(F$1&\"=\",Data!$A259:$H259)),0)),F$1&\"=\",\"\"),\"\")","v":""},{"$f":"IFERROR(SUBSTITUTE(INDEX(Data!$A259:$H259,,MATCH(FALSE,ISERROR(SEARCH(G$1&\"=\",Data!$A259:$H259)),0)),G$1&\"=\",\"\"),\"\")","v":""},{"$f":"IFERROR(SUBSTITUTE(INDEX(Data!$A259:$H259,,MATCH(FALSE,ISERROR(SEARCH(H$1&\"=\",Data!$A259:$H259)),0)),H$1&\"=\",\"\"),\"\")","v":""},{"$f":"IFERROR(SUBSTITUTE(INDEX(Data!$A259:$H259,,MATCH(FALSE,ISERROR(SEARCH(I$1&\"=\",Data!$A259:$H259)),0)),I$1&\"=\",\"\"),\"\")","v":""},{"$f":"IFERROR(SUBSTITUTE(INDEX(Data!$A259:$H259,,MATCH(FALSE,ISERROR(SEARCH(J$1&\"=\",Data!$A259:$H259)),0)),J$1&\"=\",\"\"),\"\")","v":""}]
[{"$f":"IFERROR(SUBSTITUTE(INDEX(Data!$A260:$H260,,MATCH(FALSE,ISERROR(SEARCH(A$1&\"=\",Data!$A260:$H260)),0)),A$1&\"=\",\"\"),\"\")","v":""},{"$f":"IFERROR(SUBSTITUTE(INDEX(Data!$A260:$H260,,MATCH(FALSE,ISERROR(SEARCH(B$1&\"=\",Data!$A260:$H260)),0)),B$1&\"=\",\"\"),\"\")","v":""},{"$f":"IFERROR(SUBSTITUTE(INDEX(Data!$A260:$H260,,MATCH(FALSE,ISERROR(SEARCH(C$1&\"=\",Data!$A260:$H260)),0)),C$1&\"=\",\"\"),\"\")","v":""},{"$f":"IFERROR(SUBSTITUTE(INDEX(Data!$A260:$H260,,MATCH(FALSE,ISERROR(SEARCH(D$1&\"=\",Data!$A260:$H260)),0)),D$1&\"=\",\"\"),\"\")","v":""},{"$f":"IFERROR(SUBSTITUTE(INDEX(Data!$A260:$H260,,MATCH(FALSE,ISERROR(SEARCH(E$1&\"=\",Data!$A260:$H260)),0)),E$1&\"=\",\"\"),\"\")","v":""},{"$f":"IFERROR(SUBSTITUTE(INDEX(Data!$A260:$H260,,MATCH(FALSE,ISERROR(SEARCH(F$1&\"=\",Data!$A260:$H260)),0)),F$1&\"=\",\"\"),\"\")","v":""},{"$f":"IFERROR(SUBSTITUTE(INDEX(Data!$A260:$H260,,MATCH(FALSE,ISERROR(SEARCH(G$1&\"=\",Data!$A260:$H260)),0)),G$1&\"=\",\"\"),\"\")","v":""},{"$f":"IFERROR(SUBSTITUTE(INDEX(Data!$A260:$H260,,MATCH(FALSE,ISERROR(SEARCH(H$1&\"=\",Data!$A260:$H260)),0)),H$1&\"=\",\"\"),\"\")","v":""},{"$f":"IFERROR(SUBSTITUTE(INDEX(Data!$A260:$H260,,MATCH(FALSE,ISERROR(SEARCH(I$1&\"=\",Data!$A260:$H260)),0)),I$1&\"=\",\"\"),\"\")","v":""},{"$f":"IFERROR(SUBSTITUTE(INDEX(Data!$A260:$H260,,MATCH(FALSE,ISERROR(SEARCH(J$1&\"=\",Data!$A260:$H260)),0)),J$1&\"=\",\"\"),\"\")","v":""}]
[{"$f":"IFERROR(SUBSTITUTE(INDEX(Data!$A261:$H261,,MATCH(FALSE,ISERROR(SEARCH(A$1&\"=\",Data!$A261:$H261)),0)),A$1&\"=\",\"\"),\"\")","v":""},{"$f":"IFERROR(SUBSTITUTE(INDEX(Data!$A261:$H261,,MATCH(FALSE,ISERROR(SEARCH(B$1&\"=\",Data!$A261:$H261)),0)),B$1&\"=\",\"\"),\"\")","v":""},{"$f":"IFERROR(SUBSTITUTE(INDEX(Data!$A261:$H261,,MATCH(FALSE,ISERROR(SEARCH(C$1&\"=\",Data!$A261:$H261)),0)),C$1&\"=\",\"\"),\"\")","v":""},{"$f":"IFERROR(SUBSTITUTE(INDEX(Data!$A261:$H261,,MATCH(FALSE,ISERROR(SEARCH(D$1&\"=\",Data!$A261:$H261)),0)),D$1&\"=\",\"\"),\"\")","v":""},{"$f":"IFERROR(SUBSTITUTE(INDEX(Data!$A261:$H261,,MATCH(FALSE,ISERROR(SEARCH(E$1&\"=\",Data!$A261:$H261)),0)),E$1&\"=\",\"\"),\"\")","v":""},{"$f":"IFERROR(SUBSTITUTE(INDEX(Data!$A261:$H261,,MATCH(FALSE,ISERROR(SEARCH(F$1&\"=\",Data!$A261:$H261)),0)),F$1&\"=\",\"\"),\"\")","v":""},{"$f":"IFERROR(SUBSTITUTE(INDEX(Data!$A261:$H261,,MATCH(FALSE,ISERROR(SEARCH(G$1&\"=\",Data!$A261:$H261)),0)),G$1&\"=\",\"\"),\"\")","v":""},{"$f":"IFERROR(SUBSTITUTE(INDEX(Data!$A261:$H261,,MATCH(FALSE,ISERROR(SEARCH(H$1&\"=\",Data!$A261:$H261)),0)),H$1&\"=\",\"\"),\"\")","v":""},{"$f":"IFERROR(SUBSTITUTE(INDEX(Data!$A261:$H261,,MATCH(FALSE,ISERROR(SEARCH(I$1&\"=\",Data!$A261:$H261)),0)),I$1&\"=\",\"\"),\"\")","v":""},{"$f":"IFERROR(SUBSTITUTE(INDEX(Data!$A261:$H261,,MATCH(FALSE,ISERROR(SEARCH(J$1&\"=\",Data!$A261:$H261)),0)),J$1&\"=\",\"\"),\"\")","v":""}]
[{"$f":"IFERROR(SUBSTITUTE(INDEX(Data!$A262:$H262,,MATCH(FALSE,ISERROR(SEARCH(A$1&\"=\",Data!$A262:$H262)),0)),A$1&\"=\",\"\"),\"\")","v":""},{"$f":"IFERROR(SUBSTITUTE(INDEX(Data!$A262:$H262,,MATCH(FALSE,ISERROR(SEARCH(B$1&\"=\",Data!$A262:$H262)),0)),B$1&\"=\",\"\"),\"\")","v":""},{"$f":"IFERROR(SUBSTITUTE(INDEX(Data!$A262:$H262,,MATCH(FALSE,ISERROR(SEARCH(C$1&\"=\",Data!$A262:$H262)),0)),C$1&\"=\",\"\"),\"\")","v":""},{"$f":"IFERROR(SUBSTITUTE(INDEX(Data!$A262:$H262,,MATCH(FALSE,ISERROR(SEARCH(D$1&\"=\",Data!$A262:$H262)),0)),D$1&\"=\",\"\"),\"\")","v":""},{"$f":"IFERROR(SUBSTITUTE(INDEX(Data!$A262:$H262,,MATCH(FALSE,ISERROR(SEARCH(E$1&\"=\",Data!$A262:$H262)),0)),E$1&\"=\",\"\"),\"\")","v":""},{"$f":"IFERROR(SUBSTITUTE(INDEX(Data!$A262:$H262,,MATCH(FALSE,ISERROR(SEARCH(F$1&\"=\",Data!$A262:$H262)),0)),F$1&\"=\",\"\"),\"\")","v":""},{"$f":"IFERROR(SUBSTITUTE(INDEX(Data!$A262:$H262,,MATCH(FALSE,ISERROR(SEARCH(G$1&\"=\",Data!$A262:$H262)),0)),G$1&\"=\",\"\"),\"\")","v":""},{"$f":"IFERROR(SUBSTITUTE(INDEX(Data!$A262:$H262,,MATCH(FALSE,ISERROR(SEARCH(H$1&\"=\",Data!$A262:$H262)),0)),H$1&\"=\",\"\"),\"\")","v":""},{"$f":"IFERROR(SUBSTITUTE(INDEX(Data!$A262:$H262,,MATCH(FALSE,ISERROR(SEARCH(I$1&\"=\",Data!$A262:$H262)),0)),I$1&\"=\",\"\"),\"\")","v":""},{"$f":"IFERROR(SUBSTITUTE(INDEX(Data!$A262:$H262,,MATCH(FALSE,ISERROR(SEARCH(J$1&\"=\",Data!$A262:$H262)),0)),J$1&\"=\",\"\"),\"\")","v":""}]
[{"$f":"IFERROR(SUBSTITUTE(INDEX(Data!$A263:$H263,,MATCH(FALSE,ISERROR(SEARCH(A$1&\"=\",Data!$A263:$H263)),0)),A$1&\"=\",\"\"),\"\")","v":""},{"$f":"IFERROR(SUBSTITUTE(INDEX(Data!$A263:$H263,,MATCH(FALSE,ISERROR(SEARCH(B$1&\"=\",Data!$A263:$H263)),0)),B$1&\"=\",\"\"),\"\")","v":""},{"$f":"IFERROR(SUBSTITUTE(INDEX(Data!$A263:$H263,,MATCH(FALSE,ISERROR(SEARCH(C$1&\"=\",Data!$A263:$H263)),0)),C$1&\"=\",\"\"),\"\")","v":""},{"$f":"IFERROR(SUBSTITUTE(INDEX(Data!$A263:$H263,,MATCH(FALSE,ISERROR(SEARCH(D$1&\"=\",Data!$A263:$H263)),0)),D$1&\"=\",\"\"),\"\")","v":""},{"$f":"IFERROR(SUBSTITUTE(INDEX(Data!$A263:$H263,,MATCH(FALSE,ISERROR(SEARCH(E$1&\"=\",Data!$A263:$H263)),0)),E$1&\"=\",\"\"),\"\")","v":""},{"$f":"IFERROR(SUBSTITUTE(INDEX(Data!$A263:$H263,,MATCH(FALSE,ISERROR(SEARCH(F$1&\"=\",Data!$A263:$H263)),0)),F$1&\"=\",\"\"),\"\")","v":""},{"$f":"IFERROR(SUBSTITUTE(INDEX(Data!$A263:$H263,,MATCH(FALSE,ISERROR(SEARCH(G$1&\"=\",Data!$A263:$H263)),0)),G$1&\"=\",\"\"),\"\")","v":""},{"$f":"IFERROR(SUBSTITUTE(INDEX(Data!$A263:$H263,,MATCH(FALSE,ISERROR(SEARCH(H$1&\"=\",Data!$A263:$H263)),0)),H$1&\"=\",\"\"),\"\")","v":""},{"$f":"IFERROR(SUBSTITUTE(INDEX(Data!$A263:$H263,,MATCH(FALSE,ISERROR(SEARCH(I$1&\"=\",Data!$A263:$H263)),0)),I$1&\"=\",\"\"),\"\")","v":""},{"$f":"IFERROR(SUBSTITUTE(INDEX(Data!$A263:$H263,,MATCH(FALSE,ISERROR(SEARCH(J$1&\"=\",Data!$A263:$H263)),0)),J$1&\"=\",\"\"),\"\")","v":""}]
[{"$f":"IFERROR(SUBSTITUTE(INDEX(Data!$A264:$H264,,MATCH(FALSE,ISERROR(SEARCH(A$1&\"=\",Data!$A264:$H264)),0)),A$1&\"=\",\"\"),\"\")","v":""},{"$f":"IFERROR(SUBSTITUTE(INDEX(Data!$A264:$H264,,MATCH(FALSE,ISERROR(SEARCH(B$1&\"=\",Data!$A264:$H264)),0)),B$1&\"=\",\"\"),\"\")","v":""},{"$f":"IFERROR(SUBSTITUTE(INDEX(Data!$A264:$H264,,MATCH(FALSE,ISERROR(SEARCH(C$1&\"=\",Data!$A264:$H264)),0)),C$1&\"=\",\"\"),\"\")","v":""},{"$f":"IFERROR(SUBSTITUTE(INDEX(Data!$A264:$H264,,MATCH(FALSE,ISERROR(SEARCH(D$1&\"=\",Data!$A264:$H264)),0)),D$1&\"=\",\"\"),\"\")","v":""},{"$f":"IFERROR(SUBSTITUTE(INDEX(Data!$A264:$H264,,MATCH(FALSE,ISERROR(SEARCH(E$1&\"=\",Data!$A264:$H264)),0)),E$1&\"=\",\"\"),\"\")","v":""},{"$f":"IFERROR(SUBSTITUTE(INDEX(Data!$A264:$H264,,MATCH(FALSE,ISERROR(SEARCH(F$1&\"=\",Data!$A264:$H264)),0)),F$1&\"=\",\"\"),\"\")","v":""},{"$f":"IFERROR(SUBSTITUTE(INDEX(Data!$A264:$H264,,MATCH(FALSE,ISERROR(SEARCH(G$1&\"=\",Data!$A264:$H264)),0)),G$1&\"=\",\"\"),\"\")","v":""},{"$f":"IFERROR(SUBSTITUTE(INDEX(Data!$A264:$H264,,MATCH(FALSE,ISERROR(SEARCH(H$1&\"=\",Data!$A264:$H264)),0)),H$1&\"=\",\"\"),\"\")","v":""},{"$f":"IFERROR(SUBSTITUTE(INDEX(Data!$A264:$H264,,MATCH(FALSE,ISERROR(SEARCH(I$1&\"=\",Data!$A264:$H264)),0)),I$1&\"=\",\"\"),\"\")","v":""},{"$f":"IFERROR(SUBSTITUTE(INDEX(Data!$A264:$H264,,MATCH(FALSE,ISERROR(SEARCH(J$1&\"=\",Data!$A264:$H264)),0)),J$1&\"=\",\"\"),\"\")","v":""}]
[{"$f":"IFERROR(SUBSTITUTE(INDEX(Data!$A265:$H265,,MATCH(FALSE,ISERROR(SEARCH(A$1&\"=\",Data!$A265:$H265)),0)),A$1&\"=\",\"\"),\"\")","v":""},{"$f":"IFERROR(SUBSTITUTE(INDEX(Data!$A265:$H265,,MATCH(FALSE,ISERROR(SEARCH(B$1&\"=\",Data!$A265:$H265)),0)),B$1&\"=\",\"\"),\"\")","v":""},{"$f":"IFERROR(SUBSTITUTE(INDEX(Data!$A265:$H265,,MATCH(FALSE,ISERROR(SEARCH(C$1&\"=\",Data!$A265:$H265)),0)),C$1&\"=\",\"\"),\"\")","v":""},{"$f":"IFERROR(SUBSTITUTE(INDEX(Data!$A265:$H265,,MATCH(FALSE,ISERROR(SEARCH(D$1&\"=\",Data!$A265:$H265)),0)),D$1&\"=\",\"\"),\"\")","v":""},{"$f":"IFERROR(SUBSTITUTE(INDEX(Data!$A265:$H265,,MATCH(FALSE,ISERROR(SEARCH(E$1&\"=\",Data!$A265:$H265)),0)),E$1&\"=\",\"\"),\"\")","v":""},{"$f":"IFERROR(SUBSTITUTE(INDEX(Data!$A265:$H265,,MATCH(FALSE,ISERROR(SEARCH(F$1&\"=\",Data!$A265:$H265)),0)),F$1&\"=\",\"\"),\"\")","v":""},{"$f":"IFERROR(SUBSTITUTE(INDEX(Data!$A265:$H265,,MATCH(FALSE,ISERROR(SEARCH(G$1&\"=\",Data!$A265:$H265)),0)),G$1&\"=\",\"\"),\"\")","v":""},{"$f":"IFERROR(SUBSTITUTE(INDEX(Data!$A265:$H265,,MATCH(FALSE,ISERROR(SEARCH(H$1&\"=\",Data!$A265:$H265)),0)),H$1&\"=\",\"\"),\"\")","v":""},{"$f":"IFERROR(SUBSTITUTE(INDEX(Data!$A265:$H265,,MATCH(FALSE,ISERROR(SEARCH(I$1&\"=\",Data!$A265:$H265)),0)),I$1&\"=\",\"\"),\"\")","v":""},{"$f":"IFERROR(SUBSTITUTE(INDEX(Data!$A265:$H265,,MATCH(FALSE,ISERROR(SEARCH(J$1&\"=\",Data!$A265:$H265)),0)),J$1&\"=\",\"\"),\"\")","v":""}]
[{"$f":"IFERROR(SUBSTITUTE(INDEX(Data!$A266:$H266,,MATCH(FALSE,ISERROR(SEARCH(A$1&\"=\",Data!$A266:$H266)),0)),A$1&\"=\",\"\"),\"\")","v":""},{"$f":"IFERROR(SUBSTITUTE(INDEX(Data!$A266:$H266,,MATCH(FALSE,ISERROR(SEARCH(B$1&\"=\",Data!$A266:$H266)),0)),B$1&\"=\",\"\"),\"\")","v":""},{"$f":"IFERROR(SUBSTITUTE(INDEX(Data!$A266:$H266,,MATCH(FALSE,ISERROR(SEARCH(C$1&\"=\",Data!$A266:$H266)),0)),C$1&\"=\",\"\"),\"\")","v":""},{"$f":"IFERROR(SUBSTITUTE(INDEX(Data!$A266:$H266,,MATCH(FALSE,ISERROR(SEARCH(D$1&\"=\",Data!$A266:$H266)),0)),D$1&\"=\",\"\"),\"\")","v":""},{"$f":"IFERROR(SUBSTITUTE(INDEX(Data!$A266:$H266,,MATCH(FALSE,ISERROR(SEARCH(E$1&\"=\",Data!$A266:$H266)),0)),E$1&\"=\",\"\"),\"\")","v":""},{"$f":"IFERROR(SUBSTITUTE(INDEX(Data!$A266:$H266,,MATCH(FALSE,ISERROR(SEARCH(F$1&\"=\",Data!$A266:$H266)),0)),F$1&\"=\",\"\"),\"\")","v":""},{"$f":"IFERROR(SUBSTITUTE(INDEX(Data!$A266:$H266,,MATCH(FALSE,ISERROR(SEARCH(G$1&\"=\",Data!$A266:$H266)),0)),G$1&\"=\",\"\"),\"\")","v":""},{"$f":"IFERROR(SUBSTITUTE(INDEX(Data!$A266:$H266,,MATCH(FALSE,ISERROR(SEARCH(H$1&\"=\",Data!$A266:$H266)),0)),H$1&\"=\",\"\"),\"\")","v":""},{"$f":"IFERROR(SUBSTITUTE(INDEX(Data!$A266:$H266,,MATCH(FALSE,ISERROR(SEARCH(I$1&\"=\",Data!$A266:$H266)),0)),I$1&\"=\",\"\"),\"\")","v":""},{"$f":"IFERROR(SUBSTITUTE(INDEX(Data!$A266:$H266,,MATCH(FALSE,ISERROR(SEARCH(J$1&\"=\",Data!$A266:$H266)),0)),J$1&\"=\",\"\"),\"\")","v":""}]
[{"$f":"IFERROR(SUBSTITUTE(INDEX(Data!$A267:$H267,,MATCH(FALSE,ISERROR(SEARCH(A$1&\"=\",Data!$A267:$H267)),0)),A$1&\"=\",\"\"),\"\")","v":""},{"$f":"IFERROR(SUBSTITUTE(INDEX(Data!$A267:$H267,,MATCH(FALSE,ISERROR(SEARCH(B$1&\"=\",Data!$A267:$H267)),0)),B$1&\"=\",\"\"),\"\")","v":""},{"$f":"IFERROR(SUBSTITUTE(INDEX(Data!$A267:$H267,,MATCH(FALSE,ISERROR(SEARCH(C$1&\"=\",Data!$A267:$H267)),0)),C$1&\"=\",\"\"),\"\")","v":""},{"$f":"IFERROR(SUBSTITUTE(INDEX(Data!$A267:$H267,,MATCH(FALSE,ISERROR(SEARCH(D$1&\"=\",Data!$A267:$H267)),0)),D$1&\"=\",\"\"),\"\")","v":""},{"$f":"IFERROR(SUBSTITUTE(INDEX(Data!$A267:$H267,,MATCH(FALSE,ISERROR(SEARCH(E$1&\"=\",Data!$A267:$H267)),0)),E$1&\"=\",\"\"),\"\")","v":""},{"$f":"IFERROR(SUBSTITUTE(INDEX(Data!$A267:$H267,,MATCH(FALSE,ISERROR(SEARCH(F$1&\"=\",Data!$A267:$H267)),0)),F$1&\"=\",\"\"),\"\")","v":""},{"$f":"IFERROR(SUBSTITUTE(INDEX(Data!$A267:$H267,,MATCH(FALSE,ISERROR(SEARCH(G$1&\"=\",Data!$A267:$H267)),0)),G$1&\"=\",\"\"),\"\")","v":""},{"$f":"IFERROR(SUBSTITUTE(INDEX(Data!$A267:$H267,,MATCH(FALSE,ISERROR(SEARCH(H$1&\"=\",Data!$A267:$H267)),0)),H$1&\"=\",\"\"),\"\")","v":""},{"$f":"IFERROR(SUBSTITUTE(INDEX(Data!$A267:$H267,,MATCH(FALSE,ISERROR(SEARCH(I$1&\"=\",Data!$A267:$H267)),0)),I$1&\"=\",\"\"),\"\")","v":""},{"$f":"IFERROR(SUBSTITUTE(INDEX(Data!$A267:$H267,,MATCH(FALSE,ISERROR(SEARCH(J$1&\"=\",Data!$A267:$H267)),0)),J$1&\"=\",\"\"),\"\")","v":""}]
[{"$f":"IFERROR(SUBSTITUTE(INDEX(Data!$A268:$H268,,MATCH(FALSE,ISERROR(SEARCH(A$1&\"=\",Data!$A268:$H268)),0)),A$1&\"=\",\"\"),\"\")","v":""},{"$f":"IFERROR(SUBSTITUTE(INDEX(Data!$A268:$H268,,MATCH(FALSE,ISERROR(SEARCH(B$1&\"=\",Data!$A268:$H268)),0)),B$1&\"=\",\"\"),\"\")","v":""},{"$f":"IFERROR(SUBSTITUTE(INDEX(Data!$A268:$H268,,MATCH(FALSE,ISERROR(SEARCH(C$1&\"=\",Data!$A268:$H268)),0)),C$1&\"=\",\"\"),\"\")","v":""},{"$f":"IFERROR(SUBSTITUTE(INDEX(Data!$A268:$H268,,MATCH(FALSE,ISERROR(SEARCH(D$1&\"=\",Data!$A268:$H268)),0)),D$1&\"=\",\"\"),\"\")","v":""},{"$f":"IFERROR(SUBSTITUTE(INDEX(Data!$A268:$H268,,MATCH(FALSE,ISERROR(SEARCH(E$1&\"=\",Data!$A268:$H268)),0)),E$1&\"=\",\"\"),\"\")","v":""},{"$f":"IFERROR(SUBSTITUTE(INDEX(Data!$A268:$H268,,MATCH(FALSE,ISERROR(SEARCH(F$1&\"=\",Data!$A268:$H268)),0)),F$1&\"=\",\"\"),\"\")","v":""},{"$f":"IFERROR(SUBSTITUTE(INDEX(Data!$A268:$H268,,MATCH(FALSE,ISERROR(SEARCH(G$1&\"=\",Data!$A268:$H268)),0)),G$1&\"=\",\"\"),\"\")","v":""},{"$f":"IFERROR(SUBSTITUTE(INDEX(Data!$A268:$H268,,MATCH(FALSE,ISERROR(SEARCH(H$1&\"=\",Data!$A268:$H268)),0)),H$1&\"=\",\"\"),\"\")","v":""},{"$f":"IFERROR(SUBSTITUTE(INDEX(Data!$A268:$H268,,MATCH(FALSE,ISERROR(SEARCH(I$1&\"=\",Data!$A268:$H268)),0)),I$1&\"=\",\"\"),\"\")","v":""},{"$f":"IFERROR(SUBSTITUTE(INDEX(Data!$A268:$H268,,MATCH(FALSE,ISERROR(SEARCH(J$1&\"=\",Data!$A268:$H268)),0)),J$1&\"=\",\"\"),\"\")","v":""}]
[{"$f":"IFERROR(SUBSTITUTE(INDEX(Data!$A269:$H269,,MATCH(FALSE,ISERROR(SEARCH(A$1&\"=\",Data!$A269:$H269)),0)),A$1&\"=\",\"\"),\"\")","v":""},{"$f":"IFERROR(SUBSTITUTE(INDEX(Data!$A269:$H269,,MATCH(FALSE,ISERROR(SEARCH(B$1&\"=\",Data!$A269:$H269)),0)),B$1&\"=\",\"\"),\"\")","v":""},{"$f":"IFERROR(SUBSTITUTE(INDEX(Data!$A269:$H269,,MATCH(FALSE,ISERROR(SEARCH(C$1&\"=\",Data!$A269:$H269)),0)),C$1&\"=\",\"\"),\"\")","v":""},{"$f":"IFERROR(SUBSTITUTE(INDEX(Data!$A269:$H269,,MATCH(FALSE,ISERROR(SEARCH(D$1&\"=\",Data!$A269:$H269)),0)),D$1&\"=\",\"\"),\"\")","v":""},{"$f":"IFERROR(SUBSTITUTE(INDEX(Data!$A269:$H269,,MATCH(FALSE,ISERROR(SEARCH(E$1&\"=\",Data!$A269:$H269)),0)),E$1&\"=\",\"\"),\"\")","v":""},{"$f":"IFERROR(SUBSTITUTE(INDEX(Data!$A269:$H269,,MATCH(FALSE,ISERROR(SEARCH(F$1&\"=\",Data!$A269:$H269)),0)),F$1&\"=\",\"\"),\"\")","v":""},{"$f":"IFERROR(SUBSTITUTE(INDEX(Data!$A269:$H269,,MATCH(FALSE,ISERROR(SEARCH(G$1&\"=\",Data!$A269:$H269)),0)),G$1&\"=\",\"\"),\"\")","v":""},{"$f":"IFERROR(SUBSTITUTE(INDEX(Data!$A269:$H269,,MATCH(FALSE,ISERROR(SEARCH(H$1&\"=\",Data!$A269:$H269)),0)),H$1&\"=\",\"\"),\"\")","v":""},{"$f":"IFERROR(SUBSTITUTE(INDEX(Data!$A269:$H269,,MATCH(FALSE,ISERROR(SEARCH(I$1&\"=\",Data!$A269:$H269)),0)),I$1&\"=\",\"\"),\"\")","v":""},{"$f":"IFERROR(SUBSTITUTE(INDEX(Data!$A269:$H269,,MATCH(FALSE,ISERROR(SEARCH(J$1&\"=\",Data!$A269:$H269)),0)),J$1&\"=\",\"\"),\"\")","v":""}]
[{"$f":"IFERROR(SUBSTITUTE(INDEX(Data!$A270:$H270,,MATCH(FALSE,ISERROR(SEARCH(A$1&\"=\",Data!$A270:$H270)),0)),A$1&\"=\",\"\"),\"\")","v":""},{"$f":"IFERROR(SUBSTITUTE(INDEX(Data!$A270:$H270,,MATCH(FALSE,ISERROR(SEARCH(B$1&\"=\",Data!$A270:$H270)),0)),B$1&\"=\",\"\"),\"\")","v":""},{"$f":"IFERROR(SUBSTITUTE(INDEX(Data!$A270:$H270,,MATCH(FALSE,ISERROR(SEARCH(C$1&\"=\",Data!$A270:$H270)),0)),C$1&\"=\",\"\"),\"\")","v":""},{"$f":"IFERROR(SUBSTITUTE(INDEX(Data!$A270:$H270,,MATCH(FALSE,ISERROR(SEARCH(D$1&\"=\",Data!$A270:$H270)),0)),D$1&\"=\",\"\"),\"\")","v":""},{"$f":"IFERROR(SUBSTITUTE(INDEX(Data!$A270:$H270,,MATCH(FALSE,ISERROR(SEARCH(E$1&\"=\",Data!$A270:$H270)),0)),E$1&\"=\",\"\"),\"\")","v":""},{"$f":"IFERROR(SUBSTITUTE(INDEX(Data!$A270:$H270,,MATCH(FALSE,ISERROR(SEARCH(F$1&\"=\",Data!$A270:$H270)),0)),F$1&\"=\",\"\"),\"\")","v":""},{"$f":"IFERROR(SUBSTITUTE(INDEX(Data!$A270:$H270,,MATCH(FALSE,ISERROR(SEARCH(G$1&\"=\",Data!$A270:$H270)),0)),G$1&\"=\",\"\"),\"\")","v":""},{"$f":"IFERROR(SUBSTITUTE(INDEX(Data!$A270:$H270,,MATCH(FALSE,ISERROR(SEARCH(H$1&\"=\",Data!$A270:$H270)),0)),H$1&\"=\",\"\"),\"\")","v":""},{"$f":"IFERROR(SUBSTITUTE(INDEX(Data!$A270:$H270,,MATCH(FALSE,ISERROR(SEARCH(I$1&\"=\",Data!$A270:$H270)),0)),I$1&\"=\",\"\"),\"\")","v":""},{"$f":"IFERROR(SUBSTITUTE(INDEX(Data!$A270:$H270,,MATCH(FALSE,ISERROR(SEARCH(J$1&\"=\",Data!$A270:$H270)),0)),J$1&\"=\",\"\"),\"\")","v":""}]
[{"$f":"IFERROR(SUBSTITUTE(INDEX(Data!$A271:$H271,,MATCH(FALSE,ISERROR(SEARCH(A$1&\"=\",Data!$A271:$H271)),0)),A$1&\"=\",\"\"),\"\")","v":""},{"$f":"IFERROR(SUBSTITUTE(INDEX(Data!$A271:$H271,,MATCH(FALSE,ISERROR(SEARCH(B$1&\"=\",Data!$A271:$H271)),0)),B$1&\"=\",\"\"),\"\")","v":""},{"$f":"IFERROR(SUBSTITUTE(INDEX(Data!$A271:$H271,,MATCH(FALSE,ISERROR(SEARCH(C$1&\"=\",Data!$A271:$H271)),0)),C$1&\"=\",\"\"),\"\")","v":""},{"$f":"IFERROR(SUBSTITUTE(INDEX(Data!$A271:$H271,,MATCH(FALSE,ISERROR(SEARCH(D$1&\"=\",Data!$A271:$H271)),0)),D$1&\"=\",\"\"),\"\")","v":""},{"$f":"IFERROR(SUBSTITUTE(INDEX(Data!$A271:$H271,,MATCH(FALSE,ISERROR(SEARCH(E$1&\"=\",Data!$A271:$H271)),0)),E$1&\"=\",\"\"),\"\")","v":""},{"$f":"IFERROR(SUBSTITUTE(INDEX(Data!$A271:$H271,,MATCH(FALSE,ISERROR(SEARCH(F$1&\"=\",Data!$A271:$H271)),0)),F$1&\"=\",\"\"),\"\")","v":""},{"$f":"IFERROR(SUBSTITUTE(INDEX(Data!$A271:$H271,,MATCH(FALSE,ISERROR(SEARCH(G$1&\"=\",Data!$A271:$H271)),0)),G$1&\"=\",\"\"),\"\")","v":""},{"$f":"IFERROR(SUBSTITUTE(INDEX(Data!$A271:$H271,,MATCH(FALSE,ISERROR(SEARCH(H$1&\"=\",Data!$A271:$H271)),0)),H$1&\"=\",\"\"),\"\")","v":""},{"$f":"IFERROR(SUBSTITUTE(INDEX(Data!$A271:$H271,,MATCH(FALSE,ISERROR(SEARCH(I$1&\"=\",Data!$A271:$H271)),0)),I$1&\"=\",\"\"),\"\")","v":""},{"$f":"IFERROR(SUBSTITUTE(INDEX(Data!$A271:$H271,,MATCH(FALSE,ISERROR(SEARCH(J$1&\"=\",Data!$A271:$H271)),0)),J$1&\"=\",\"\"),\"\")","v":""}]
[{"$f":"IFERROR(SUBSTITUTE(INDEX(Data!$A272:$H272,,MATCH(FALSE,ISERROR(SEARCH(A$1&\"=\",Data!$A272:$H272)),0)),A$1&\"=\",\"\"),\"\")","v":""},{"$f":"IFERROR(SUBSTITUTE(INDEX(Data!$A272:$H272,,MATCH(FALSE,ISERROR(SEARCH(B$1&\"=\",Data!$A272:$H272)),0)),B$1&\"=\",\"\"),\"\")","v":""},{"$f":"IFERROR(SUBSTITUTE(INDEX(Data!$A272:$H272,,MATCH(FALSE,ISERROR(SEARCH(C$1&\"=\",Data!$A272:$H272)),0)),C$1&\"=\",\"\"),\"\")","v":""},{"$f":"IFERROR(SUBSTITUTE(INDEX(Data!$A272:$H272,,MATCH(FALSE,ISERROR(SEARCH(D$1&\"=\",Data!$A272:$H272)),0)),D$1&\"=\",\"\"),\"\")","v":""},{"$f":"IFERROR(SUBSTITUTE(INDEX(Data!$A272:$H272,,MATCH(FALSE,ISERROR(SEARCH(E$1&\"=\",Data!$A272:$H272)),0)),E$1&\"=\",\"\"),\"\")","v":""},{"$f":"IFERROR(SUBSTITUTE(INDEX(Data!$A272:$H272,,MATCH(FALSE,ISERROR(SEARCH(F$1&\"=\",Data!$A272:$H272)),0)),F$1&\"=\",\"\"),\"\")","v":""},{"$f":"IFERROR(SUBSTITUTE(INDEX(Data!$A272:$H272,,MATCH(FALSE,ISERROR(SEARCH(G$1&\"=\",Data!$A272:$H272)),0)),G$1&\"=\",\"\"),\"\")","v":""},{"$f":"IFERROR(SUBSTITUTE(INDEX(Data!$A272:$H272,,MATCH(FALSE,ISERROR(SEARCH(H$1&\"=\",Data!$A272:$H272)),0)),H$1&\"=\",\"\"),\"\")","v":""},{"$f":"IFERROR(SUBSTITUTE(INDEX(Data!$A272:$H272,,MATCH(FALSE,ISERROR(SEARCH(I$1&\"=\",Data!$A272:$H272)),0)),I$1&\"=\",\"\"),\"\")","v":""},{"$f":"IFERROR(SUBSTITUTE(INDEX(Data!$A272:$H272,,MATCH(FALSE,ISERROR(SEARCH(J$1&\"=\",Data!$A272:$H272)),0)),J$1&\"=\",\"\"),\"\")","v":""}]
[{"$f":"IFERROR(SUBSTITUTE(INDEX(Data!$A273:$H273,,MATCH(FALSE,ISERROR(SEARCH(A$1&\"=\",Data!$A273:$H273)),0)),A$1&\"=\",\"\"),\"\")","v":""},{"$f":"IFERROR(SUBSTITUTE(INDEX(Data!$A273:$H273,,MATCH(FALSE,ISERROR(SEARCH(B$1&\"=\",Data!$A273:$H273)),0)),B$1&\"=\",\"\"),\"\")","v":""},{"$f":"IFERROR(SUBSTITUTE(INDEX(Data!$A273:$H273,,MATCH(FALSE,ISERROR(SEARCH(C$1&\"=\",Data!$A273:$H273)),0)),C$1&\"=\",\"\"),\"\")","v":""},{"$f":"IFERROR(SUBSTITUTE(INDEX(Data!$A273:$H273,,MATCH(FALSE,ISERROR(SEARCH(D$1&\"=\",Data!$A273:$H273)),0)),D$1&\"=\",\"\"),\"\")","v":""},{"$f":"IFERROR(SUBSTITUTE(INDEX(Data!$A273:$H273,,MATCH(FALSE,ISERROR(SEARCH(E$1&\"=\",Data!$A273:$H273)),0)),E$1&\"=\",\"\"),\"\")","v":""},{"$f":"IFERROR(SUBSTITUTE(INDEX(Data!$A273:$H273,,MATCH(FALSE,ISERROR(SEARCH(F$1&\"=\",Data!$A273:$H273)),0)),F$1&\"=\",\"\"),\"\")","v":""},{"$f":"IFERROR(SUBSTITUTE(INDEX(Data!$A273:$H273,,MATCH(FALSE,ISERROR(SEARCH(G$1&\"=\",Data!$A273:$H273)),0)),G$1&\"=\",\"\"),\"\")","v":""},{"$f":"IFERROR(SUBSTITUTE(INDEX(Data!$A273:$H273,,MATCH(FALSE,ISERROR(SEARCH(H$1&\"=\",Data!$A273:$H273)),0)),H$1&\"=\",\"\"),\"\")","v":""},{"$f":"IFERROR(SUBSTITUTE(INDEX(Data!$A273:$H273,,MATCH(FALSE,ISERROR(SEARCH(I$1&\"=\",Data!$A273:$H273)),0)),I$1&\"=\",\"\"),\"\")","v":""},{"$f":"IFERROR(SUBSTITUTE(INDEX(Data!$A273:$H273,,MATCH(FALSE,ISERROR(SEARCH(J$1&\"=\",Data!$A273:$H273)),0)),J$1&\"=\",\"\"),\"\")","v":""}]
[{"$f":"IFERROR(SUBSTITUTE(INDEX(Data!$A274:$H274,,MATCH(FALSE,ISERROR(SEARCH(A$1&\"=\",Data!$A274:$H274)),0)),A$1&\"=\",\"\"),\"\")","v":""},{"$f":"IFERROR(SUBSTITUTE(INDEX(Data!$A274:$H274,,MATCH(FALSE,ISERROR(SEARCH(B$1&\"=\",Data!$A274:$H274)),0)),B$1&\"=\",\"\"),\"\")","v":""},{"$f":"IFERROR(SUBSTITUTE(INDEX(Data!$A274:$H274,,MATCH(FALSE,ISERROR(SEARCH(C$1&\"=\",Data!$A274:$H274)),0)),C$1&\"=\",\"\"),\"\")","v":""},{"$f":"IFERROR(SUBSTITUTE(INDEX(Data!$A274:$H274,,MATCH(FALSE,ISERROR(SEARCH(D$1&\"=\",Data!$A274:$H274)),0)),D$1&\"=\",\"\"),\"\")","v":""},{"$f":"IFERROR(SUBSTITUTE(INDEX(Data!$A274:$H274,,MATCH(FALSE,ISERROR(SEARCH(E$1&\"=\",Data!$A274:$H274)),0)),E$1&\"=\",\"\"),\"\")","v":""},{"$f":"IFERROR(SUBSTITUTE(INDEX(Data!$A274:$H274,,MATCH(FALSE,ISERROR(SEARCH(F$1&\"=\",Data!$A274:$H274)),0)),F$1&\"=\",\"\"),\"\")","v":""},{"$f":"IFERROR(SUBSTITUTE(INDEX(Data!$A274:$H274,,MATCH(FALSE,ISERROR(SEARCH(G$1&\"=\",Data!$A274:$H274)),0)),G$1&\"=\",\"\"),\"\")","v":""},{"$f":"IFERROR(SUBSTITUTE(INDEX(Data!$A274:$H274,,MATCH(FALSE,ISERROR(SEARCH(H$1&\"=\",Data!$A274:$H274)),0)),H$1&\"=\",\"\"),\"\")","v":""},{"$f":"IFERROR(SUBSTITUTE(INDEX(Data!$A274:$H274,,MATCH(FALSE,ISERROR(SEARCH(I$1&\"=\",Data!$A274:$H274)),0)),I$1&\"=\",\"\"),\"\")","v":""},{"$f":"IFERROR(SUBSTITUTE(INDEX(Data!$A274:$H274,,MATCH(FALSE,ISERROR(SEARCH(J$1&\"=\",Data!$A274:$H274)),0)),J$1&\"=\",\"\"),\"\")","v":""}]
[{"$f":"IFERROR(SUBSTITUTE(INDEX(Data!$A275:$H275,,MATCH(FALSE,ISERROR(SEARCH(A$1&\"=\",Data!$A275:$H275)),0)),A$1&\"=\",\"\"),\"\")","v":""},{"$f":"IFERROR(SUBSTITUTE(INDEX(Data!$A275:$H275,,MATCH(FALSE,ISERROR(SEARCH(B$1&\"=\",Data!$A275:$H275)),0)),B$1&\"=\",\"\"),\"\")","v":""},{"$f":"IFERROR(SUBSTITUTE(INDEX(Data!$A275:$H275,,MATCH(FALSE,ISERROR(SEARCH(C$1&\"=\",Data!$A275:$H275)),0)),C$1&\"=\",\"\"),\"\")","v":""},{"$f":"IFERROR(SUBSTITUTE(INDEX(Data!$A275:$H275,,MATCH(FALSE,ISERROR(SEARCH(D$1&\"=\",Data!$A275:$H275)),0)),D$1&\"=\",\"\"),\"\")","v":""},{"$f":"IFERROR(SUBSTITUTE(INDEX(Data!$A275:$H275,,MATCH(FALSE,ISERROR(SEARCH(E$1&\"=\",Data!$A275:$H275)),0)),E$1&\"=\",\"\"),\"\")","v":""},{"$f":"IFERROR(SUBSTITUTE(INDEX(Data!$A275:$H275,,MATCH(FALSE,ISERROR(SEARCH(F$1&\"=\",Data!$A275:$H275)),0)),F$1&\"=\",\"\"),\"\")","v":""},{"$f":"IFERROR(SUBSTITUTE(INDEX(Data!$A275:$H275,,MATCH(FALSE,ISERROR(SEARCH(G$1&\"=\",Data!$A275:$H275)),0)),G$1&\"=\",\"\"),\"\")","v":""},{"$f":"IFERROR(SUBSTITUTE(INDEX(Data!$A275:$H275,,MATCH(FALSE,ISERROR(SEARCH(H$1&\"=\",Data!$A275:$H275)),0)),H$1&\"=\",\"\"),\"\")","v":""},{"$f":"IFERROR(SUBSTITUTE(INDEX(Data!$A275:$H275,,MATCH(FALSE,ISERROR(SEARCH(I$1&\"=\",Data!$A275:$H275)),0)),I$1&\"=\",\"\"),\"\")","v":""},{"$f":"IFERROR(SUBSTITUTE(INDEX(Data!$A275:$H275,,MATCH(FALSE,ISERROR(SEARCH(J$1&\"=\",Data!$A275:$H275)),0)),J$1&\"=\",\"\"),\"\")","v":""}]
[{"$f":"IFERROR(SUBSTITUTE(INDEX(Data!$A276:$H276,,MATCH(FALSE,ISERROR(SEARCH(A$1&\"=\",Data!$A276:$H276)),0)),A$1&\"=\",\"\"),\"\")","v":""},{"$f":"IFERROR(SUBSTITUTE(INDEX(Data!$A276:$H276,,MATCH(FALSE,ISERROR(SEARCH(B$1&\"=\",Data!$A276:$H276)),0)),B$1&\"=\",\"\"),\"\")","v":""},{"$f":"IFERROR(SUBSTITUTE(INDEX(Data!$A276:$H276,,MATCH(FALSE,ISERROR(SEARCH(C$1&\"=\",Data!$A276:$H276)),0)),C$1&\"=\",\"\"),\"\")","v":""},{"$f":"IFERROR(SUBSTITUTE(INDEX(Data!$A276:$H276,,MATCH(FALSE,ISERROR(SEARCH(D$1&\"=\",Data!$A276:$H276)),0)),D$1&\"=\",\"\"),\"\")","v":""},{"$f":"IFERROR(SUBSTITUTE(INDEX(Data!$A276:$H276,,MATCH(FALSE,ISERROR(SEARCH(E$1&\"=\",Data!$A276:$H276)),0)),E$1&\"=\",\"\"),\"\")","v":""},{"$f":"IFERROR(SUBSTITUTE(INDEX(Data!$A276:$H276,,MATCH(FALSE,ISERROR(SEARCH(F$1&\"=\",Data!$A276:$H276)),0)),F$1&\"=\",\"\"),\"\")","v":""},{"$f":"IFERROR(SUBSTITUTE(INDEX(Data!$A276:$H276,,MATCH(FALSE,ISERROR(SEARCH(G$1&\"=\",Data!$A276:$H276)),0)),G$1&\"=\",\"\"),\"\")","v":""},{"$f":"IFERROR(SUBSTITUTE(INDEX(Data!$A276:$H276,,MATCH(FALSE,ISERROR(SEARCH(H$1&\"=\",Data!$A276:$H276)),0)),H$1&\"=\",\"\"),\"\")","v":""},{"$f":"IFERROR(SUBSTITUTE(INDEX(Data!$A276:$H276,,MATCH(FALSE,ISERROR(SEARCH(I$1&\"=\",Data!$A276:$H276)),0)),I$1&\"=\",\"\"),\"\")","v":""},{"$f":"IFERROR(SUBSTITUTE(INDEX(Data!$A276:$H276,,MATCH(FALSE,ISERROR(SEARCH(J$1&\"=\",Data!$A276:$H276)),0)),J$1&\"=\",\"\"),\"\")","v":""}]
[{"$f":"IFERROR(SUBSTITUTE(INDEX(Data!$A277:$H277,,MATCH(FALSE,ISERROR(SEARCH(A$1&\"=\",Data!$A277:$H277)),0)),A$1&\"=\",\"\"),\"\")","v":""},{"$f":"IFERROR(SUBSTITUTE(INDEX(Data!$A277:$H277,,MATCH(FALSE,ISERROR(SEARCH(B$1&\"=\",Data!$A277:$H277)),0)),B$1&\"=\",\"\"),\"\")","v":""},{"$f":"IFERROR(SUBSTITUTE(INDEX(Data!$A277:$H277,,MATCH(FALSE,ISERROR(SEARCH(C$1&\"=\",Data!$A277:$H277)),0)),C$1&\"=\",\"\"),\"\")","v":""},{"$f":"IFERROR(SUBSTITUTE(INDEX(Data!$A277:$H277,,MATCH(FALSE,ISERROR(SEARCH(D$1&\"=\",Data!$A277:$H277)),0)),D$1&\"=\",\"\"),\"\")","v":""},{"$f":"IFERROR(SUBSTITUTE(INDEX(Data!$A277:$H277,,MATCH(FALSE,ISERROR(SEARCH(E$1&\"=\",Data!$A277:$H277)),0)),E$1&\"=\",\"\"),\"\")","v":""},{"$f":"IFERROR(SUBSTITUTE(INDEX(Data!$A277:$H277,,MATCH(FALSE,ISERROR(SEARCH(F$1&\"=\",Data!$A277:$H277)),0)),F$1&\"=\",\"\"),\"\")","v":""},{"$f":"IFERROR(SUBSTITUTE(INDEX(Data!$A277:$H277,,MATCH(FALSE,ISERROR(SEARCH(G$1&\"=\",Data!$A277:$H277)),0)),G$1&\"=\",\"\"),\"\")","v":""},{"$f":"IFERROR(SUBSTITUTE(INDEX(Data!$A277:$H277,,MATCH(FALSE,ISERROR(SEARCH(H$1&\"=\",Data!$A277:$H277)),0)),H$1&\"=\",\"\"),\"\")","v":""},{"$f":"IFERROR(SUBSTITUTE(INDEX(Data!$A277:$H277,,MATCH(FALSE,ISERROR(SEARCH(I$1&\"=\",Data!$A277:$H277)),0)),I$1&\"=\",\"\"),\"\")","v":""},{"$f":"IFERROR(SUBSTITUTE(INDEX(Data!$A277:$H277,,MATCH(FALSE,ISERROR(SEARCH(J$1&\"=\",Data!$A277:$H277)),0)),J$1&\"=\",\"\"),\"\")","v":""}]
[{"$f":"IFERROR(SUBSTITUTE(INDEX(Data!$A278:$H278,,MATCH(FALSE,ISERROR(SEARCH(A$1&\"=\",Data!$A278:$H278)),0)),A$1&\"=\",\"\"),\"\")","v":""},{"$f":"IFERROR(SUBSTITUTE(INDEX(Data!$A278:$H278,,MATCH(FALSE,ISERROR(SEARCH(B$1&\"=\",Data!$A278:$H278)),0)),B$1&\"=\",\"\"),\"\")","v":""},{"$f":"IFERROR(SUBSTITUTE(INDEX(Data!$A278:$H278,,MATCH(FALSE,ISERROR(SEARCH(C$1&\"=\",Data!$A278:$H278)),0)),C$1&\"=\",\"\"),\"\")","v":""},{"$f":"IFERROR(SUBSTITUTE(INDEX(Data!$A278:$H278,,MATCH(FALSE,ISERROR(SEARCH(D$1&\"=\",Data!$A278:$H278)),0)),D$1&\"=\",\"\"),\"\")","v":""},{"$f":"IFERROR(SUBSTITUTE(INDEX(Data!$A278:$H278,,MATCH(FALSE,ISERROR(SEARCH(E$1&\"=\",Data!$A278:$H278)),0)),E$1&\"=\",\"\"),\"\")","v":""},{"$f":"IFERROR(SUBSTITUTE(INDEX(Data!$A278:$H278,,MATCH(FALSE,ISERROR(SEARCH(F$1&\"=\",Data!$A278:$H278)),0)),F$1&\"=\",\"\"),\"\")","v":""},{"$f":"IFERROR(SUBSTITUTE(INDEX(Data!$A278:$H278,,MATCH(FALSE,ISERROR(SEARCH(G$1&\"=\",Data!$A278:$H278)),0)),G$1&\"=\",\"\"),\"\")","v":""},{"$f":"IFERROR(SUBSTITUTE(INDEX(Data!$A278:$H278,,MATCH(FALSE,ISERROR(SEARCH(H$1&\"=\",Data!$A278:$H278)),0)),H$1&\"=\",\"\"),\"\")","v":""},{"$f":"IFERROR(SUBSTITUTE(INDEX(Data!$A278:$H278,,MATCH(FALSE,ISERROR(SEARCH(I$1&\"=\",Data!$A278:$H278)),0)),I$1&\"=\",\"\"),\"\")","v":""},{"$f":"IFERROR(SUBSTITUTE(INDEX(Data!$A278:$H278,,MATCH(FALSE,ISERROR(SEARCH(J$1&\"=\",Data!$A278:$H278)),0)),J$1&\"=\",\"\"),\"\")","v":""}]
[{"$f":"IFERROR(SUBSTITUTE(INDEX(Data!$A279:$H279,,MATCH(FALSE,ISERROR(SEARCH(A$1&\"=\",Data!$A279:$H279)),0)),A$1&\"=\",\"\"),\"\")","v":""},{"$f":"IFERROR(SUBSTITUTE(INDEX(Data!$A279:$H279,,MATCH(FALSE,ISERROR(SEARCH(B$1&\"=\",Data!$A279:$H279)),0)),B$1&\"=\",\"\"),\"\")","v":""},{"$f":"IFERROR(SUBSTITUTE(INDEX(Data!$A279:$H279,,MATCH(FALSE,ISERROR(SEARCH(C$1&\"=\",Data!$A279:$H279)),0)),C$1&\"=\",\"\"),\"\")","v":""},{"$f":"IFERROR(SUBSTITUTE(INDEX(Data!$A279:$H279,,MATCH(FALSE,ISERROR(SEARCH(D$1&\"=\",Data!$A279:$H279)),0)),D$1&\"=\",\"\"),\"\")","v":""},{"$f":"IFERROR(SUBSTITUTE(INDEX(Data!$A279:$H279,,MATCH(FALSE,ISERROR(SEARCH(E$1&\"=\",Data!$A279:$H279)),0)),E$1&\"=\",\"\"),\"\")","v":""},{"$f":"IFERROR(SUBSTITUTE(INDEX(Data!$A279:$H279,,MATCH(FALSE,ISERROR(SEARCH(F$1&\"=\",Data!$A279:$H279)),0)),F$1&\"=\",\"\"),\"\")","v":""},{"$f":"IFERROR(SUBSTITUTE(INDEX(Data!$A279:$H279,,MATCH(FALSE,ISERROR(SEARCH(G$1&\"=\",Data!$A279:$H279)),0)),G$1&\"=\",\"\"),\"\")","v":""},{"$f":"IFERROR(SUBSTITUTE(INDEX(Data!$A279:$H279,,MATCH(FALSE,ISERROR(SEARCH(H$1&\"=\",Data!$A279:$H279)),0)),H$1&\"=\",\"\"),\"\")","v":""},{"$f":"IFERROR(SUBSTITUTE(INDEX(Data!$A279:$H279,,MATCH(FALSE,ISERROR(SEARCH(I$1&\"=\",Data!$A279:$H279)),0)),I$1&\"=\",\"\"),\"\")","v":""},{"$f":"IFERROR(SUBSTITUTE(INDEX(Data!$A279:$H279,,MATCH(FALSE,ISERROR(SEARCH(J$1&\"=\",Data!$A279:$H279)),0)),J$1&\"=\",\"\"),\"\")","v":""}]
[{"$f":"IFERROR(SUBSTITUTE(INDEX(Data!$A280:$H280,,MATCH(FALSE,ISERROR(SEARCH(A$1&\"=\",Data!$A280:$H280)),0)),A$1&\"=\",\"\"),\"\")","v":""},{"$f":"IFERROR(SUBSTITUTE(INDEX(Data!$A280:$H280,,MATCH(FALSE,ISERROR(SEARCH(B$1&\"=\",Data!$A280:$H280)),0)),B$1&\"=\",\"\"),\"\")","v":""},{"$f":"IFERROR(SUBSTITUTE(INDEX(Data!$A280:$H280,,MATCH(FALSE,ISERROR(SEARCH(C$1&\"=\",Data!$A280:$H280)),0)),C$1&\"=\",\"\"),\"\")","v":""},{"$f":"IFERROR(SUBSTITUTE(INDEX(Data!$A280:$H280,,MATCH(FALSE,ISERROR(SEARCH(D$1&\"=\",Data!$A280:$H280)),0)),D$1&\"=\",\"\"),\"\")","v":""},{"$f":"IFERROR(SUBSTITUTE(INDEX(Data!$A280:$H280,,MATCH(FALSE,ISERROR(SEARCH(E$1&\"=\",Data!$A280:$H280)),0)),E$1&\"=\",\"\"),\"\")","v":""},{"$f":"IFERROR(SUBSTITUTE(INDEX(Data!$A280:$H280,,MATCH(FALSE,ISERROR(SEARCH(F$1&\"=\",Data!$A280:$H280)),0)),F$1&\"=\",\"\"),\"\")","v":""},{"$f":"IFERROR(SUBSTITUTE(INDEX(Data!$A280:$H280,,MATCH(FALSE,ISERROR(SEARCH(G$1&\"=\",Data!$A280:$H280)),0)),G$1&\"=\",\"\"),\"\")","v":""},{"$f":"IFERROR(SUBSTITUTE(INDEX(Data!$A280:$H280,,MATCH(FALSE,ISERROR(SEARCH(H$1&\"=\",Data!$A280:$H280)),0)),H$1&\"=\",\"\"),\"\")","v":""},{"$f":"IFERROR(SUBSTITUTE(INDEX(Data!$A280:$H280,,MATCH(FALSE,ISERROR(SEARCH(I$1&\"=\",Data!$A280:$H280)),0)),I$1&\"=\",\"\"),\"\")","v":""},{"$f":"IFERROR(SUBSTITUTE(INDEX(Data!$A280:$H280,,MATCH(FALSE,ISERROR(SEARCH(J$1&\"=\",Data!$A280:$H280)),0)),J$1&\"=\",\"\"),\"\")","v":""}]
[{"$f":"IFERROR(SUBSTITUTE(INDEX(Data!$A281:$H281,,MATCH(FALSE,ISERROR(SEARCH(A$1&\"=\",Data!$A281:$H281)),0)),A$1&\"=\",\"\"),\"\")","v":""},{"$f":"IFERROR(SUBSTITUTE(INDEX(Data!$A281:$H281,,MATCH(FALSE,ISERROR(SEARCH(B$1&\"=\",Data!$A281:$H281)),0)),B$1&\"=\",\"\"),\"\")","v":""},{"$f":"IFERROR(SUBSTITUTE(INDEX(Data!$A281:$H281,,MATCH(FALSE,ISERROR(SEARCH(C$1&\"=\",Data!$A281:$H281)),0)),C$1&\"=\",\"\"),\"\")","v":""},{"$f":"IFERROR(SUBSTITUTE(INDEX(Data!$A281:$H281,,MATCH(FALSE,ISERROR(SEARCH(D$1&\"=\",Data!$A281:$H281)),0)),D$1&\"=\",\"\"),\"\")","v":""},{"$f":"IFERROR(SUBSTITUTE(INDEX(Data!$A281:$H281,,MATCH(FALSE,ISERROR(SEARCH(E$1&\"=\",Data!$A281:$H281)),0)),E$1&\"=\",\"\"),\"\")","v":""},{"$f":"IFERROR(SUBSTITUTE(INDEX(Data!$A281:$H281,,MATCH(FALSE,ISERROR(SEARCH(F$1&\"=\",Data!$A281:$H281)),0)),F$1&\"=\",\"\"),\"\")","v":""},{"$f":"IFERROR(SUBSTITUTE(INDEX(Data!$A281:$H281,,MATCH(FALSE,ISERROR(SEARCH(G$1&\"=\",Data!$A281:$H281)),0)),G$1&\"=\",\"\"),\"\")","v":""},{"$f":"IFERROR(SUBSTITUTE(INDEX(Data!$A281:$H281,,MATCH(FALSE,ISERROR(SEARCH(H$1&\"=\",Data!$A281:$H281)),0)),H$1&\"=\",\"\"),\"\")","v":""},{"$f":"IFERROR(SUBSTITUTE(INDEX(Data!$A281:$H281,,MATCH(FALSE,ISERROR(SEARCH(I$1&\"=\",Data!$A281:$H281)),0)),I$1&\"=\",\"\"),\"\")","v":""},{"$f":"IFERROR(SUBSTITUTE(INDEX(Data!$A281:$H281,,MATCH(FALSE,ISERROR(SEARCH(J$1&\"=\",Data!$A281:$H281)),0)),J$1&\"=\",\"\"),\"\")","v":""}]
[{"$f":"IFERROR(SUBSTITUTE(INDEX(Data!$A282:$H282,,MATCH(FALSE,ISERROR(SEARCH(A$1&\"=\",Data!$A282:$H282)),0)),A$1&\"=\",\"\"),\"\")","v":""},{"$f":"IFERROR(SUBSTITUTE(INDEX(Data!$A282:$H282,,MATCH(FALSE,ISERROR(SEARCH(B$1&\"=\",Data!$A282:$H282)),0)),B$1&\"=\",\"\"),\"\")","v":""},{"$f":"IFERROR(SUBSTITUTE(INDEX(Data!$A282:$H282,,MATCH(FALSE,ISERROR(SEARCH(C$1&\"=\",Data!$A282:$H282)),0)),C$1&\"=\",\"\"),\"\")","v":""},{"$f":"IFERROR(SUBSTITUTE(INDEX(Data!$A282:$H282,,MATCH(FALSE,ISERROR(SEARCH(D$1&\"=\",Data!$A282:$H282)),0)),D$1&\"=\",\"\"),\"\")","v":""},{"$f":"IFERROR(SUBSTITUTE(INDEX(Data!$A282:$H282,,MATCH(FALSE,ISERROR(SEARCH(E$1&\"=\",Data!$A282:$H282)),0)),E$1&\"=\",\"\"),\"\")","v":""},{"$f":"IFERROR(SUBSTITUTE(INDEX(Data!$A282:$H282,,MATCH(FALSE,ISERROR(SEARCH(F$1&\"=\",Data!$A282:$H282)),0)),F$1&\"=\",\"\"),\"\")","v":""},{"$f":"IFERROR(SUBSTITUTE(INDEX(Data!$A282:$H282,,MATCH(FALSE,ISERROR(SEARCH(G$1&\"=\",Data!$A282:$H282)),0)),G$1&\"=\",\"\"),\"\")","v":""},{"$f":"IFERROR(SUBSTITUTE(INDEX(Data!$A282:$H282,,MATCH(FALSE,ISERROR(SEARCH(H$1&\"=\",Data!$A282:$H282)),0)),H$1&\"=\",\"\"),\"\")","v":""},{"$f":"IFERROR(SUBSTITUTE(INDEX(Data!$A282:$H282,,MATCH(FALSE,ISERROR(SEARCH(I$1&\"=\",Data!$A282:$H282)),0)),I$1&\"=\",\"\"),\"\")","v":""},{"$f":"IFERROR(SUBSTITUTE(INDEX(Data!$A282:$H282,,MATCH(FALSE,ISERROR(SEARCH(J$1&\"=\",Data!$A282:$H282)),0)),J$1&\"=\",\"\"),\"\")","v":""}]
[{"$f":"IFERROR(SUBSTITUTE(INDEX(Data!$A283:$H283,,MATCH(FALSE,ISERROR(SEARCH(A$1&\"=\",Data!$A283:$H283)),0)),A$1&\"=\",\"\"),\"\")","v":""},{"$f":"IFERROR(SUBSTITUTE(INDEX(Data!$A283:$H283,,MATCH(FALSE,ISERROR(SEARCH(B$1&\"=\",Data!$A283:$H283)),0)),B$1&\"=\",\"\"),\"\")","v":""},{"$f":"IFERROR(SUBSTITUTE(INDEX(Data!$A283:$H283,,MATCH(FALSE,ISERROR(SEARCH(C$1&\"=\",Data!$A283:$H283)),0)),C$1&\"=\",\"\"),\"\")","v":""},{"$f":"IFERROR(SUBSTITUTE(INDEX(Data!$A283:$H283,,MATCH(FALSE,ISERROR(SEARCH(D$1&\"=\",Data!$A283:$H283)),0)),D$1&\"=\",\"\"),\"\")","v":""},{"$f":"IFERROR(SUBSTITUTE(INDEX(Data!$A283:$H283,,MATCH(FALSE,ISERROR(SEARCH(E$1&\"=\",Data!$A283:$H283)),0)),E$1&\"=\",\"\"),\"\")","v":""},{"$f":"IFERROR(SUBSTITUTE(INDEX(Data!$A283:$H283,,MATCH(FALSE,ISERROR(SEARCH(F$1&\"=\",Data!$A283:$H283)),0)),F$1&\"=\",\"\"),\"\")","v":""},{"$f":"IFERROR(SUBSTITUTE(INDEX(Data!$A283:$H283,,MATCH(FALSE,ISERROR(SEARCH(G$1&\"=\",Data!$A283:$H283)),0)),G$1&\"=\",\"\"),\"\")","v":""},{"$f":"IFERROR(SUBSTITUTE(INDEX(Data!$A283:$H283,,MATCH(FALSE,ISERROR(SEARCH(H$1&\"=\",Data!$A283:$H283)),0)),H$1&\"=\",\"\"),\"\")","v":""},{"$f":"IFERROR(SUBSTITUTE(INDEX(Data!$A283:$H283,,MATCH(FALSE,ISERROR(SEARCH(I$1&\"=\",Data!$A283:$H283)),0)),I$1&\"=\",\"\"),\"\")","v":""},{"$f":"IFERROR(SUBSTITUTE(INDEX(Data!$A283:$H283,,MATCH(FALSE,ISERROR(SEARCH(J$1&\"=\",Data!$A283:$H283)),0)),J$1&\"=\",\"\"),\"\")","v":""}]
[{"$f":"IFERROR(SUBSTITUTE(INDEX(Data!$A284:$H284,,MATCH(FALSE,ISERROR(SEARCH(A$1&\"=\",Data!$A284:$H284)),0)),A$1&\"=\",\"\"),\"\")","v":""},{"$f":"IFERROR(SUBSTITUTE(INDEX(Data!$A284:$H284,,MATCH(FALSE,ISERROR(SEARCH(B$1&\"=\",Data!$A284:$H284)),0)),B$1&\"=\",\"\"),\"\")","v":""},{"$f":"IFERROR(SUBSTITUTE(INDEX(Data!$A284:$H284,,MATCH(FALSE,ISERROR(SEARCH(C$1&\"=\",Data!$A284:$H284)),0)),C$1&\"=\",\"\"),\"\")","v":""},{"$f":"IFERROR(SUBSTITUTE(INDEX(Data!$A284:$H284,,MATCH(FALSE,ISERROR(SEARCH(D$1&\"=\",Data!$A284:$H284)),0)),D$1&\"=\",\"\"),\"\")","v":""},{"$f":"IFERROR(SUBSTITUTE(INDEX(Data!$A284:$H284,,MATCH(FALSE,ISERROR(SEARCH(E$1&\"=\",Data!$A284:$H284)),0)),E$1&\"=\",\"\"),\"\")","v":""},{"$f":"IFERROR(SUBSTITUTE(INDEX(Data!$A284:$H284,,MATCH(FALSE,ISERROR(SEARCH(F$1&\"=\",Data!$A284:$H284)),0)),F$1&\"=\",\"\"),\"\")","v":""},{"$f":"IFERROR(SUBSTITUTE(INDEX(Data!$A284:$H284,,MATCH(FALSE,ISERROR(SEARCH(G$1&\"=\",Data!$A284:$H284)),0)),G$1&\"=\",\"\"),\"\")","v":""},{"$f":"IFERROR(SUBSTITUTE(INDEX(Data!$A284:$H284,,MATCH(FALSE,ISERROR(SEARCH(H$1&\"=\",Data!$A284:$H284)),0)),H$1&\"=\",\"\"),\"\")","v":""},{"$f":"IFERROR(SUBSTITUTE(INDEX(Data!$A284:$H284,,MATCH(FALSE,ISERROR(SEARCH(I$1&\"=\",Data!$A284:$H284)),0)),I$1&\"=\",\"\"),\"\")","v":""},{"$f":"IFERROR(SUBSTITUTE(INDEX(Data!$A284:$H284,,MATCH(FALSE,ISERROR(SEARCH(J$1&\"=\",Data!$A284:$H284)),0)),J$1&\"=\",\"\"),\"\")","v":""}]
[{"$f":"IFERROR(SUBSTITUTE(INDEX(Data!$A285:$H285,,MATCH(FALSE,ISERROR(SEARCH(A$1&\"=\",Data!$A285:$H285)),0)),A$1&\"=\",\"\"),\"\")","v":""},{"$f":"IFERROR(SUBSTITUTE(INDEX(Data!$A285:$H285,,MATCH(FALSE,ISERROR(SEARCH(B$1&\"=\",Data!$A285:$H285)),0)),B$1&\"=\",\"\"),\"\")","v":""},{"$f":"IFERROR(SUBSTITUTE(INDEX(Data!$A285:$H285,,MATCH(FALSE,ISERROR(SEARCH(C$1&\"=\",Data!$A285:$H285)),0)),C$1&\"=\",\"\"),\"\")","v":""},{"$f":"IFERROR(SUBSTITUTE(INDEX(Data!$A285:$H285,,MATCH(FALSE,ISERROR(SEARCH(D$1&\"=\",Data!$A285:$H285)),0)),D$1&\"=\",\"\"),\"\")","v":""},{"$f":"IFERROR(SUBSTITUTE(INDEX(Data!$A285:$H285,,MATCH(FALSE,ISERROR(SEARCH(E$1&\"=\",Data!$A285:$H285)),0)),E$1&\"=\",\"\"),\"\")","v":""},{"$f":"IFERROR(SUBSTITUTE(INDEX(Data!$A285:$H285,,MATCH(FALSE,ISERROR(SEARCH(F$1&\"=\",Data!$A285:$H285)),0)),F$1&\"=\",\"\"),\"\")","v":""},{"$f":"IFERROR(SUBSTITUTE(INDEX(Data!$A285:$H285,,MATCH(FALSE,ISERROR(SEARCH(G$1&\"=\",Data!$A285:$H285)),0)),G$1&\"=\",\"\"),\"\")","v":""},{"$f":"IFERROR(SUBSTITUTE(INDEX(Data!$A285:$H285,,MATCH(FALSE,ISERROR(SEARCH(H$1&\"=\",Data!$A285:$H285)),0)),H$1&\"=\",\"\"),\"\")","v":""},{"$f":"IFERROR(SUBSTITUTE(INDEX(Data!$A285:$H285,,MATCH(FALSE,ISERROR(SEARCH(I$1&\"=\",Data!$A285:$H285)),0)),I$1&\"=\",\"\"),\"\")","v":""},{"$f":"IFERROR(SUBSTITUTE(INDEX(Data!$A285:$H285,,MATCH(FALSE,ISERROR(SEARCH(J$1&\"=\",Data!$A285:$H285)),0)),J$1&\"=\",\"\"),\"\")","v":""}]
[{"$f":"IFERROR(SUBSTITUTE(INDEX(Data!$A286:$H286,,MATCH(FALSE,ISERROR(SEARCH(A$1&\"=\",Data!$A286:$H286)),0)),A$1&\"=\",\"\"),\"\")","v":""},{"$f":"IFERROR(SUBSTITUTE(INDEX(Data!$A286:$H286,,MATCH(FALSE,ISERROR(SEARCH(B$1&\"=\",Data!$A286:$H286)),0)),B$1&\"=\",\"\"),\"\")","v":""},{"$f":"IFERROR(SUBSTITUTE(INDEX(Data!$A286:$H286,,MATCH(FALSE,ISERROR(SEARCH(C$1&\"=\",Data!$A286:$H286)),0)),C$1&\"=\",\"\"),\"\")","v":""},{"$f":"IFERROR(SUBSTITUTE(INDEX(Data!$A286:$H286,,MATCH(FALSE,ISERROR(SEARCH(D$1&\"=\",Data!$A286:$H286)),0)),D$1&\"=\",\"\"),\"\")","v":""},{"$f":"IFERROR(SUBSTITUTE(INDEX(Data!$A286:$H286,,MATCH(FALSE,ISERROR(SEARCH(E$1&\"=\",Data!$A286:$H286)),0)),E$1&\"=\",\"\"),\"\")","v":""},{"$f":"IFERROR(SUBSTITUTE(INDEX(Data!$A286:$H286,,MATCH(FALSE,ISERROR(SEARCH(F$1&\"=\",Data!$A286:$H286)),0)),F$1&\"=\",\"\"),\"\")","v":""},{"$f":"IFERROR(SUBSTITUTE(INDEX(Data!$A286:$H286,,MATCH(FALSE,ISERROR(SEARCH(G$1&\"=\",Data!$A286:$H286)),0)),G$1&\"=\",\"\"),\"\")","v":""},{"$f":"IFERROR(SUBSTITUTE(INDEX(Data!$A286:$H286,,MATCH(FALSE,ISERROR(SEARCH(H$1&\"=\",Data!$A286:$H286)),0)),H$1&\"=\",\"\"),\"\")","v":""},{"$f":"IFERROR(SUBSTITUTE(INDEX(Data!$A286:$H286,,MATCH(FALSE,ISERROR(SEARCH(I$1&\"=\",Data!$A286:$H286)),0)),I$1&\"=\",\"\"),\"\")","v":""},{"$f":"IFERROR(SUBSTITUTE(INDEX(Data!$A286:$H286,,MATCH(FALSE,ISERROR(SEARCH(J$1&\"=\",Data!$A286:$H286)),0)),J$1&\"=\",\"\"),\"\")","v":""}]
[{"$f":"IFERROR(SUBSTITUTE(INDEX(Data!$A287:$H287,,MATCH(FALSE,ISERROR(SEARCH(A$1&\"=\",Data!$A287:$H287)),0)),A$1&\"=\",\"\"),\"\")","v":""},{"$f":"IFERROR(SUBSTITUTE(INDEX(Data!$A287:$H287,,MATCH(FALSE,ISERROR(SEARCH(B$1&\"=\",Data!$A287:$H287)),0)),B$1&\"=\",\"\"),\"\")","v":""},{"$f":"IFERROR(SUBSTITUTE(INDEX(Data!$A287:$H287,,MATCH(FALSE,ISERROR(SEARCH(C$1&\"=\",Data!$A287:$H287)),0)),C$1&\"=\",\"\"),\"\")","v":""},{"$f":"IFERROR(SUBSTITUTE(INDEX(Data!$A287:$H287,,MATCH(FALSE,ISERROR(SEARCH(D$1&\"=\",Data!$A287:$H287)),0)),D$1&\"=\",\"\"),\"\")","v":""},{"$f":"IFERROR(SUBSTITUTE(INDEX(Data!$A287:$H287,,MATCH(FALSE,ISERROR(SEARCH(E$1&\"=\",Data!$A287:$H287)),0)),E$1&\"=\",\"\"),\"\")","v":""},{"$f":"IFERROR(SUBSTITUTE(INDEX(Data!$A287:$H287,,MATCH(FALSE,ISERROR(SEARCH(F$1&\"=\",Data!$A287:$H287)),0)),F$1&\"=\",\"\"),\"\")","v":""},{"$f":"IFERROR(SUBSTITUTE(INDEX(Data!$A287:$H287,,MATCH(FALSE,ISERROR(SEARCH(G$1&\"=\",Data!$A287:$H287)),0)),G$1&\"=\",\"\"),\"\")","v":""},{"$f":"IFERROR(SUBSTITUTE(INDEX(Data!$A287:$H287,,MATCH(FALSE,ISERROR(SEARCH(H$1&\"=\",Data!$A287:$H287)),0)),H$1&\"=\",\"\"),\"\")","v":""},{"$f":"IFERROR(SUBSTITUTE(INDEX(Data!$A287:$H287,,MATCH(FALSE,ISERROR(SEARCH(I$1&\"=\",Data!$A287:$H287)),0)),I$1&\"=\",\"\"),\"\")","v":""},{"$f":"IFERROR(SUBSTITUTE(INDEX(Data!$A287:$H287,,MATCH(FALSE,ISERROR(SEARCH(J$1&\"=\",Data!$A287:$H287)),0)),J$1&\"=\",\"\"),\"\")","v":""}]
[{"$f":"IFERROR(SUBSTITUTE(INDEX(Data!$A288:$H288,,MATCH(FALSE,ISERROR(SEARCH(A$1&\"=\",Data!$A288:$H288)),0)),A$1&\"=\",\"\"),\"\")","v":""},{"$f":"IFERROR(SUBSTITUTE(INDEX(Data!$A288:$H288,,MATCH(FALSE,ISERROR(SEARCH(B$1&\"=\",Data!$A288:$H288)),0)),B$1&\"=\",\"\"),\"\")","v":""},{"$f":"IFERROR(SUBSTITUTE(INDEX(Data!$A288:$H288,,MATCH(FALSE,ISERROR(SEARCH(C$1&\"=\",Data!$A288:$H288)),0)),C$1&\"=\",\"\"),\"\")","v":""},{"$f":"IFERROR(SUBSTITUTE(INDEX(Data!$A288:$H288,,MATCH(FALSE,ISERROR(SEARCH(D$1&\"=\",Data!$A288:$H288)),0)),D$1&\"=\",\"\"),\"\")","v":""},{"$f":"IFERROR(SUBSTITUTE(INDEX(Data!$A288:$H288,,MATCH(FALSE,ISERROR(SEARCH(E$1&\"=\",Data!$A288:$H288)),0)),E$1&\"=\",\"\"),\"\")","v":""},{"$f":"IFERROR(SUBSTITUTE(INDEX(Data!$A288:$H288,,MATCH(FALSE,ISERROR(SEARCH(F$1&\"=\",Data!$A288:$H288)),0)),F$1&\"=\",\"\"),\"\")","v":""},{"$f":"IFERROR(SUBSTITUTE(INDEX(Data!$A288:$H288,,MATCH(FALSE,ISERROR(SEARCH(G$1&\"=\",Data!$A288:$H288)),0)),G$1&\"=\",\"\"),\"\")","v":""},{"$f":"IFERROR(SUBSTITUTE(INDEX(Data!$A288:$H288,,MATCH(FALSE,ISERROR(SEARCH(H$1&\"=\",Data!$A288:$H288)),0)),H$1&\"=\",\"\"),\"\")","v":""},{"$f":"IFERROR(SUBSTITUTE(INDEX(Data!$A288:$H288,,MATCH(FALSE,ISERROR(SEARCH(I$1&\"=\",Data!$A288:$H288)),0)),I$1&\"=\",\"\"),\"\")","v":""},{"$f":"IFERROR(SUBSTITUTE(INDEX(Data!$A288:$H288,,MATCH(FALSE,ISERROR(SEARCH(J$1&\"=\",Data!$A288:$H288)),0)),J$1&\"=\",\"\"),\"\")","v":""}]
[{"$f":"IFERROR(SUBSTITUTE(INDEX(Data!$A289:$H289,,MATCH(FALSE,ISERROR(SEARCH(A$1&\"=\",Data!$A289:$H289)),0)),A$1&\"=\",\"\"),\"\")","v":""},{"$f":"IFERROR(SUBSTITUTE(INDEX(Data!$A289:$H289,,MATCH(FALSE,ISERROR(SEARCH(B$1&\"=\",Data!$A289:$H289)),0)),B$1&\"=\",\"\"),\"\")","v":""},{"$f":"IFERROR(SUBSTITUTE(INDEX(Data!$A289:$H289,,MATCH(FALSE,ISERROR(SEARCH(C$1&\"=\",Data!$A289:$H289)),0)),C$1&\"=\",\"\"),\"\")","v":""},{"$f":"IFERROR(SUBSTITUTE(INDEX(Data!$A289:$H289,,MATCH(FALSE,ISERROR(SEARCH(D$1&\"=\",Data!$A289:$H289)),0)),D$1&\"=\",\"\"),\"\")","v":""},{"$f":"IFERROR(SUBSTITUTE(INDEX(Data!$A289:$H289,,MATCH(FALSE,ISERROR(SEARCH(E$1&\"=\",Data!$A289:$H289)),0)),E$1&\"=\",\"\"),\"\")","v":""},{"$f":"IFERROR(SUBSTITUTE(INDEX(Data!$A289:$H289,,MATCH(FALSE,ISERROR(SEARCH(F$1&\"=\",Data!$A289:$H289)),0)),F$1&\"=\",\"\"),\"\")","v":""},{"$f":"IFERROR(SUBSTITUTE(INDEX(Data!$A289:$H289,,MATCH(FALSE,ISERROR(SEARCH(G$1&\"=\",Data!$A289:$H289)),0)),G$1&\"=\",\"\"),\"\")","v":""},{"$f":"IFERROR(SUBSTITUTE(INDEX(Data!$A289:$H289,,MATCH(FALSE,ISERROR(SEARCH(H$1&\"=\",Data!$A289:$H289)),0)),H$1&\"=\",\"\"),\"\")","v":""},{"$f":"IFERROR(SUBSTITUTE(INDEX(Data!$A289:$H289,,MATCH(FALSE,ISERROR(SEARCH(I$1&\"=\",Data!$A289:$H289)),0)),I$1&\"=\",\"\"),\"\")","v":""},{"$f":"IFERROR(SUBSTITUTE(INDEX(Data!$A289:$H289,,MATCH(FALSE,ISERROR(SEARCH(J$1&\"=\",Data!$A289:$H289)),0)),J$1&\"=\",\"\"),\"\")","v":""}]
[{"$f":"IFERROR(SUBSTITUTE(INDEX(Data!$A290:$H290,,MATCH(FALSE,ISERROR(SEARCH(A$1&\"=\",Data!$A290:$H290)),0)),A$1&\"=\",\"\"),\"\")","v":""},{"$f":"IFERROR(SUBSTITUTE(INDEX(Data!$A290:$H290,,MATCH(FALSE,ISERROR(SEARCH(B$1&\"=\",Data!$A290:$H290)),0)),B$1&\"=\",\"\"),\"\")","v":""},{"$f":"IFERROR(SUBSTITUTE(INDEX(Data!$A290:$H290,,MATCH(FALSE,ISERROR(SEARCH(C$1&\"=\",Data!$A290:$H290)),0)),C$1&\"=\",\"\"),\"\")","v":""},{"$f":"IFERROR(SUBSTITUTE(INDEX(Data!$A290:$H290,,MATCH(FALSE,ISERROR(SEARCH(D$1&\"=\",Data!$A290:$H290)),0)),D$1&\"=\",\"\"),\"\")","v":""},{"$f":"IFERROR(SUBSTITUTE(INDEX(Data!$A290:$H290,,MATCH(FALSE,ISERROR(SEARCH(E$1&\"=\",Data!$A290:$H290)),0)),E$1&\"=\",\"\"),\"\")","v":""},{"$f":"IFERROR(SUBSTITUTE(INDEX(Data!$A290:$H290,,MATCH(FALSE,ISERROR(SEARCH(F$1&\"=\",Data!$A290:$H290)),0)),F$1&\"=\",\"\"),\"\")","v":""},{"$f":"IFERROR(SUBSTITUTE(INDEX(Data!$A290:$H290,,MATCH(FALSE,ISERROR(SEARCH(G$1&\"=\",Data!$A290:$H290)),0)),G$1&\"=\",\"\"),\"\")","v":""},{"$f":"IFERROR(SUBSTITUTE(INDEX(Data!$A290:$H290,,MATCH(FALSE,ISERROR(SEARCH(H$1&\"=\",Data!$A290:$H290)),0)),H$1&\"=\",\"\"),\"\")","v":""},{"$f":"IFERROR(SUBSTITUTE(INDEX(Data!$A290:$H290,,MATCH(FALSE,ISERROR(SEARCH(I$1&\"=\",Data!$A290:$H290)),0)),I$1&\"=\",\"\"),\"\")","v":""},{"$f":"IFERROR(SUBSTITUTE(INDEX(Data!$A290:$H290,,MATCH(FALSE,ISERROR(SEARCH(J$1&\"=\",Data!$A290:$H290)),0)),J$1&\"=\",\"\"),\"\")","v":""}]
[{"$f":"IFERROR(SUBSTITUTE(INDEX(Data!$A291:$H291,,MATCH(FALSE,ISERROR(SEARCH(A$1&\"=\",Data!$A291:$H291)),0)),A$1&\"=\",\"\"),\"\")","v":""},{"$f":"IFERROR(SUBSTITUTE(INDEX(Data!$A291:$H291,,MATCH(FALSE,ISERROR(SEARCH(B$1&\"=\",Data!$A291:$H291)),0)),B$1&\"=\",\"\"),\"\")","v":""},{"$f":"IFERROR(SUBSTITUTE(INDEX(Data!$A291:$H291,,MATCH(FALSE,ISERROR(SEARCH(C$1&\"=\",Data!$A291:$H291)),0)),C$1&\"=\",\"\"),\"\")","v":""},{"$f":"IFERROR(SUBSTITUTE(INDEX(Data!$A291:$H291,,MATCH(FALSE,ISERROR(SEARCH(D$1&\"=\",Data!$A291:$H291)),0)),D$1&\"=\",\"\"),\"\")","v":""},{"$f":"IFERROR(SUBSTITUTE(INDEX(Data!$A291:$H291,,MATCH(FALSE,ISERROR(SEARCH(E$1&\"=\",Data!$A291:$H291)),0)),E$1&\"=\",\"\"),\"\")","v":""},{"$f":"IFERROR(SUBSTITUTE(INDEX(Data!$A291:$H291,,MATCH(FALSE,ISERROR(SEARCH(F$1&\"=\",Data!$A291:$H291)),0)),F$1&\"=\",\"\"),\"\")","v":""},{"$f":"IFERROR(SUBSTITUTE(INDEX(Data!$A291:$H291,,MATCH(FALSE,ISERROR(SEARCH(G$1&\"=\",Data!$A291:$H291)),0)),G$1&\"=\",\"\"),\"\")","v":""},{"$f":"IFERROR(SUBSTITUTE(INDEX(Data!$A291:$H291,,MATCH(FALSE,ISERROR(SEARCH(H$1&\"=\",Data!$A291:$H291)),0)),H$1&\"=\",\"\"),\"\")","v":""},{"$f":"IFERROR(SUBSTITUTE(INDEX(Data!$A291:$H291,,MATCH(FALSE,ISERROR(SEARCH(I$1&\"=\",Data!$A291:$H291)),0)),I$1&\"=\",\"\"),\"\")","v":""},{"$f":"IFERROR(SUBSTITUTE(INDEX(Data!$A291:$H291,,MATCH(FALSE,ISERROR(SEARCH(J$1&\"=\",Data!$A291:$H291)),0)),J$1&\"=\",\"\"),\"\")","v":""}]
[{"$f":"IFERROR(SUBSTITUTE(INDEX(Data!$A292:$H292,,MATCH(FALSE,ISERROR(SEARCH(A$1&\"=\",Data!$A292:$H292)),0)),A$1&\"=\",\"\"),\"\")","v":""},{"$f":"IFERROR(SUBSTITUTE(INDEX(Data!$A292:$H292,,MATCH(FALSE,ISERROR(SEARCH(B$1&\"=\",Data!$A292:$H292)),0)),B$1&\"=\",\"\"),\"\")","v":""},{"$f":"IFERROR(SUBSTITUTE(INDEX(Data!$A292:$H292,,MATCH(FALSE,ISERROR(SEARCH(C$1&\"=\",Data!$A292:$H292)),0)),C$1&\"=\",\"\"),\"\")","v":""},{"$f":"IFERROR(SUBSTITUTE(INDEX(Data!$A292:$H292,,MATCH(FALSE,ISERROR(SEARCH(D$1&\"=\",Data!$A292:$H292)),0)),D$1&\"=\",\"\"),\"\")","v":""},{"$f":"IFERROR(SUBSTITUTE(INDEX(Data!$A292:$H292,,MATCH(FALSE,ISERROR(SEARCH(E$1&\"=\",Data!$A292:$H292)),0)),E$1&\"=\",\"\"),\"\")","v":""},{"$f":"IFERROR(SUBSTITUTE(INDEX(Data!$A292:$H292,,MATCH(FALSE,ISERROR(SEARCH(F$1&\"=\",Data!$A292:$H292)),0)),F$1&\"=\",\"\"),\"\")","v":""},{"$f":"IFERROR(SUBSTITUTE(INDEX(Data!$A292:$H292,,MATCH(FALSE,ISERROR(SEARCH(G$1&\"=\",Data!$A292:$H292)),0)),G$1&\"=\",\"\"),\"\")","v":""},{"$f":"IFERROR(SUBSTITUTE(INDEX(Data!$A292:$H292,,MATCH(FALSE,ISERROR(SEARCH(H$1&\"=\",Data!$A292:$H292)),0)),H$1&\"=\",\"\"),\"\")","v":""},{"$f":"IFERROR(SUBSTITUTE(INDEX(Data!$A292:$H292,,MATCH(FALSE,ISERROR(SEARCH(I$1&\"=\",Data!$A292:$H292)),0)),I$1&\"=\",\"\"),\"\")","v":""},{"$f":"IFERROR(SUBSTITUTE(INDEX(Data!$A292:$H292,,MATCH(FALSE,ISERROR(SEARCH(J$1&\"=\",Data!$A292:$H292)),0)),J$1&\"=\",\"\"),\"\")","v":""}]
[{"$f":"IFERROR(SUBSTITUTE(INDEX(Data!$A293:$H293,,MATCH(FALSE,ISERROR(SEARCH(A$1&\"=\",Data!$A293:$H293)),0)),A$1&\"=\",\"\"),\"\")","v":""},{"$f":"IFERROR(SUBSTITUTE(INDEX(Data!$A293:$H293,,MATCH(FALSE,ISERROR(SEARCH(B$1&\"=\",Data!$A293:$H293)),0)),B$1&\"=\",\"\"),\"\")","v":""},{"$f":"IFERROR(SUBSTITUTE(INDEX(Data!$A293:$H293,,MATCH(FALSE,ISERROR(SEARCH(C$1&\"=\",Data!$A293:$H293)),0)),C$1&\"=\",\"\"),\"\")","v":""},{"$f":"IFERROR(SUBSTITUTE(INDEX(Data!$A293:$H293,,MATCH(FALSE,ISERROR(SEARCH(D$1&\"=\",Data!$A293:$H293)),0)),D$1&\"=\",\"\"),\"\")","v":""},{"$f":"IFERROR(SUBSTITUTE(INDEX(Data!$A293:$H293,,MATCH(FALSE,ISERROR(SEARCH(E$1&\"=\",Data!$A293:$H293)),0)),E$1&\"=\",\"\"),\"\")","v":""},{"$f":"IFERROR(SUBSTITUTE(INDEX(Data!$A293:$H293,,MATCH(FALSE,ISERROR(SEARCH(F$1&\"=\",Data!$A293:$H293)),0)),F$1&\"=\",\"\"),\"\")","v":""},{"$f":"IFERROR(SUBSTITUTE(INDEX(Data!$A293:$H293,,MATCH(FALSE,ISERROR(SEARCH(G$1&\"=\",Data!$A293:$H293)),0)),G$1&\"=\",\"\"),\"\")","v":""},{"$f":"IFERROR(SUBSTITUTE(INDEX(Data!$A293:$H293,,MATCH(FALSE,ISERROR(SEARCH(H$1&\"=\",Data!$A293:$H293)),0)),H$1&\"=\",\"\"),\"\")","v":""},{"$f":"IFERROR(SUBSTITUTE(INDEX(Data!$A293:$H293,,MATCH(FALSE,ISERROR(SEARCH(I$1&\"=\",Data!$A293:$H293)),0)),I$1&\"=\",\"\"),\"\")","v":""},{"$f":"IFERROR(SUBSTITUTE(INDEX(Data!$A293:$H293,,MATCH(FALSE,ISERROR(SEARCH(J$1&\"=\",Data!$A293:$H293)),0)),J$1&\"=\",\"\"),\"\")","v":""}]
[{"$f":"IFERROR(SUBSTITUTE(INDEX(Data!$A294:$H294,,MATCH(FALSE,ISERROR(SEARCH(A$1&\"=\",Data!$A294:$H294)),0)),A$1&\"=\",\"\"),\"\")","v":""},{"$f":"IFERROR(SUBSTITUTE(INDEX(Data!$A294:$H294,,MATCH(FALSE,ISERROR(SEARCH(B$1&\"=\",Data!$A294:$H294)),0)),B$1&\"=\",\"\"),\"\")","v":""},{"$f":"IFERROR(SUBSTITUTE(INDEX(Data!$A294:$H294,,MATCH(FALSE,ISERROR(SEARCH(C$1&\"=\",Data!$A294:$H294)),0)),C$1&\"=\",\"\"),\"\")","v":""},{"$f":"IFERROR(SUBSTITUTE(INDEX(Data!$A294:$H294,,MATCH(FALSE,ISERROR(SEARCH(D$1&\"=\",Data!$A294:$H294)),0)),D$1&\"=\",\"\"),\"\")","v":""},{"$f":"IFERROR(SUBSTITUTE(INDEX(Data!$A294:$H294,,MATCH(FALSE,ISERROR(SEARCH(E$1&\"=\",Data!$A294:$H294)),0)),E$1&\"=\",\"\"),\"\")","v":""},{"$f":"IFERROR(SUBSTITUTE(INDEX(Data!$A294:$H294,,MATCH(FALSE,ISERROR(SEARCH(F$1&\"=\",Data!$A294:$H294)),0)),F$1&\"=\",\"\"),\"\")","v":""},{"$f":"IFERROR(SUBSTITUTE(INDEX(Data!$A294:$H294,,MATCH(FALSE,ISERROR(SEARCH(G$1&\"=\",Data!$A294:$H294)),0)),G$1&\"=\",\"\"),\"\")","v":""},{"$f":"IFERROR(SUBSTITUTE(INDEX(Data!$A294:$H294,,MATCH(FALSE,ISERROR(SEARCH(H$1&\"=\",Data!$A294:$H294)),0)),H$1&\"=\",\"\"),\"\")","v":""},{"$f":"IFERROR(SUBSTITUTE(INDEX(Data!$A294:$H294,,MATCH(FALSE,ISERROR(SEARCH(I$1&\"=\",Data!$A294:$H294)),0)),I$1&\"=\",\"\"),\"\")","v":""},{"$f":"IFERROR(SUBSTITUTE(INDEX(Data!$A294:$H294,,MATCH(FALSE,ISERROR(SEARCH(J$1&\"=\",Data!$A294:$H294)),0)),J$1&\"=\",\"\"),\"\")","v":""}]
[{"$f":"IFERROR(SUBSTITUTE(INDEX(Data!$A295:$H295,,MATCH(FALSE,ISERROR(SEARCH(A$1&\"=\",Data!$A295:$H295)),0)),A$1&\"=\",\"\"),\"\")","v":""},{"$f":"IFERROR(SUBSTITUTE(INDEX(Data!$A295:$H295,,MATCH(FALSE,ISERROR(SEARCH(B$1&\"=\",Data!$A295:$H295)),0)),B$1&\"=\",\"\"),\"\")","v":""},{"$f":"IFERROR(SUBSTITUTE(INDEX(Data!$A295:$H295,,MATCH(FALSE,ISERROR(SEARCH(C$1&\"=\",Data!$A295:$H295)),0)),C$1&\"=\",\"\"),\"\")","v":""},{"$f":"IFERROR(SUBSTITUTE(INDEX(Data!$A295:$H295,,MATCH(FALSE,ISERROR(SEARCH(D$1&\"=\",Data!$A295:$H295)),0)),D$1&\"=\",\"\"),\"\")","v":""},{"$f":"IFERROR(SUBSTITUTE(INDEX(Data!$A295:$H295,,MATCH(FALSE,ISERROR(SEARCH(E$1&\"=\",Data!$A295:$H295)),0)),E$1&\"=\",\"\"),\"\")","v":""},{"$f":"IFERROR(SUBSTITUTE(INDEX(Data!$A295:$H295,,MATCH(FALSE,ISERROR(SEARCH(F$1&\"=\",Data!$A295:$H295)),0)),F$1&\"=\",\"\"),\"\")","v":""},{"$f":"IFERROR(SUBSTITUTE(INDEX(Data!$A295:$H295,,MATCH(FALSE,ISERROR(SEARCH(G$1&\"=\",Data!$A295:$H295)),0)),G$1&\"=\",\"\"),\"\")","v":""},{"$f":"IFERROR(SUBSTITUTE(INDEX(Data!$A295:$H295,,MATCH(FALSE,ISERROR(SEARCH(H$1&\"=\",Data!$A295:$H295)),0)),H$1&\"=\",\"\"),\"\")","v":""},{"$f":"IFERROR(SUBSTITUTE(INDEX(Data!$A295:$H295,,MATCH(FALSE,ISERROR(SEARCH(I$1&\"=\",Data!$A295:$H295)),0)),I$1&\"=\",\"\"),\"\")","v":""},{"$f":"IFERROR(SUBSTITUTE(INDEX(Data!$A295:$H295,,MATCH(FALSE,ISERROR(SEARCH(J$1&\"=\",Data!$A295:$H295)),0)),J$1&\"=\",\"\"),\"\")","v":""}]
[{"$f":"IFERROR(SUBSTITUTE(INDEX(Data!$A296:$H296,,MATCH(FALSE,ISERROR(SEARCH(A$1&\"=\",Data!$A296:$H296)),0)),A$1&\"=\",\"\"),\"\")","v":""},{"$f":"IFERROR(SUBSTITUTE(INDEX(Data!$A296:$H296,,MATCH(FALSE,ISERROR(SEARCH(B$1&\"=\",Data!$A296:$H296)),0)),B$1&\"=\",\"\"),\"\")","v":""},{"$f":"IFERROR(SUBSTITUTE(INDEX(Data!$A296:$H296,,MATCH(FALSE,ISERROR(SEARCH(C$1&\"=\",Data!$A296:$H296)),0)),C$1&\"=\",\"\"),\"\")","v":""},{"$f":"IFERROR(SUBSTITUTE(INDEX(Data!$A296:$H296,,MATCH(FALSE,ISERROR(SEARCH(D$1&\"=\",Data!$A296:$H296)),0)),D$1&\"=\",\"\"),\"\")","v":""},{"$f":"IFERROR(SUBSTITUTE(INDEX(Data!$A296:$H296,,MATCH(FALSE,ISERROR(SEARCH(E$1&\"=\",Data!$A296:$H296)),0)),E$1&\"=\",\"\"),\"\")","v":""},{"$f":"IFERROR(SUBSTITUTE(INDEX(Data!$A296:$H296,,MATCH(FALSE,ISERROR(SEARCH(F$1&\"=\",Data!$A296:$H296)),0)),F$1&\"=\",\"\"),\"\")","v":""},{"$f":"IFERROR(SUBSTITUTE(INDEX(Data!$A296:$H296,,MATCH(FALSE,ISERROR(SEARCH(G$1&\"=\",Data!$A296:$H296)),0)),G$1&\"=\",\"\"),\"\")","v":""},{"$f":"IFERROR(SUBSTITUTE(INDEX(Data!$A296:$H296,,MATCH(FALSE,ISERROR(SEARCH(H$1&\"=\",Data!$A296:$H296)),0)),H$1&\"=\",\"\"),\"\")","v":""},{"$f":"IFERROR(SUBSTITUTE(INDEX(Data!$A296:$H296,,MATCH(FALSE,ISERROR(SEARCH(I$1&\"=\",Data!$A296:$H296)),0)),I$1&\"=\",\"\"),\"\")","v":""},{"$f":"IFERROR(SUBSTITUTE(INDEX(Data!$A296:$H296,,MATCH(FALSE,ISERROR(SEARCH(J$1&\"=\",Data!$A296:$H296)),0)),J$1&\"=\",\"\"),\"\")","v":""}]
[{"$f":"IFERROR(SUBSTITUTE(INDEX(Data!$A297:$H297,,MATCH(FALSE,ISERROR(SEARCH(A$1&\"=\",Data!$A297:$H297)),0)),A$1&\"=\",\"\"),\"\")","v":""},{"$f":"IFERROR(SUBSTITUTE(INDEX(Data!$A297:$H297,,MATCH(FALSE,ISERROR(SEARCH(B$1&\"=\",Data!$A297:$H297)),0)),B$1&\"=\",\"\"),\"\")","v":""},{"$f":"IFERROR(SUBSTITUTE(INDEX(Data!$A297:$H297,,MATCH(FALSE,ISERROR(SEARCH(C$1&\"=\",Data!$A297:$H297)),0)),C$1&\"=\",\"\"),\"\")","v":""},{"$f":"IFERROR(SUBSTITUTE(INDEX(Data!$A297:$H297,,MATCH(FALSE,ISERROR(SEARCH(D$1&\"=\",Data!$A297:$H297)),0)),D$1&\"=\",\"\"),\"\")","v":""},{"$f":"IFERROR(SUBSTITUTE(INDEX(Data!$A297:$H297,,MATCH(FALSE,ISERROR(SEARCH(E$1&\"=\",Data!$A297:$H297)),0)),E$1&\"=\",\"\"),\"\")","v":""},{"$f":"IFERROR(SUBSTITUTE(INDEX(Data!$A297:$H297,,MATCH(FALSE,ISERROR(SEARCH(F$1&\"=\",Data!$A297:$H297)),0)),F$1&\"=\",\"\"),\"\")","v":""},{"$f":"IFERROR(SUBSTITUTE(INDEX(Data!$A297:$H297,,MATCH(FALSE,ISERROR(SEARCH(G$1&\"=\",Data!$A297:$H297)),0)),G$1&\"=\",\"\"),\"\")","v":""},{"$f":"IFERROR(SUBSTITUTE(INDEX(Data!$A297:$H297,,MATCH(FALSE,ISERROR(SEARCH(H$1&\"=\",Data!$A297:$H297)),0)),H$1&\"=\",\"\"),\"\")","v":""},{"$f":"IFERROR(SUBSTITUTE(INDEX(Data!$A297:$H297,,MATCH(FALSE,ISERROR(SEARCH(I$1&\"=\",Data!$A297:$H297)),0)),I$1&\"=\",\"\"),\"\")","v":""},{"$f":"IFERROR(SUBSTITUTE(INDEX(Data!$A297:$H297,,MATCH(FALSE,ISERROR(SEARCH(J$1&\"=\",Data!$A297:$H297)),0)),J$1&\"=\",\"\"),\"\")","v":""}]
[{"$f":"IFERROR(SUBSTITUTE(INDEX(Data!$A298:$H298,,MATCH(FALSE,ISERROR(SEARCH(A$1&\"=\",Data!$A298:$H298)),0)),A$1&\"=\",\"\"),\"\")","v":""},{"$f":"IFERROR(SUBSTITUTE(INDEX(Data!$A298:$H298,,MATCH(FALSE,ISERROR(SEARCH(B$1&\"=\",Data!$A298:$H298)),0)),B$1&\"=\",\"\"),\"\")","v":""},{"$f":"IFERROR(SUBSTITUTE(INDEX(Data!$A298:$H298,,MATCH(FALSE,ISERROR(SEARCH(C$1&\"=\",Data!$A298:$H298)),0)),C$1&\"=\",\"\"),\"\")","v":""},{"$f":"IFERROR(SUBSTITUTE(INDEX(Data!$A298:$H298,,MATCH(FALSE,ISERROR(SEARCH(D$1&\"=\",Data!$A298:$H298)),0)),D$1&\"=\",\"\"),\"\")","v":""},{"$f":"IFERROR(SUBSTITUTE(INDEX(Data!$A298:$H298,,MATCH(FALSE,ISERROR(SEARCH(E$1&\"=\",Data!$A298:$H298)),0)),E$1&\"=\",\"\"),\"\")","v":""},{"$f":"IFERROR(SUBSTITUTE(INDEX(Data!$A298:$H298,,MATCH(FALSE,ISERROR(SEARCH(F$1&\"=\",Data!$A298:$H298)),0)),F$1&\"=\",\"\"),\"\")","v":""},{"$f":"IFERROR(SUBSTITUTE(INDEX(Data!$A298:$H298,,MATCH(FALSE,ISERROR(SEARCH(G$1&\"=\",Data!$A298:$H298)),0)),G$1&\"=\",\"\"),\"\")","v":""},{"$f":"IFERROR(SUBSTITUTE(INDEX(Data!$A298:$H298,,MATCH(FALSE,ISERROR(SEARCH(H$1&\"=\",Data!$A298:$H298)),0)),H$1&\"=\",\"\"),\"\")","v":""},{"$f":"IFERROR(SUBSTITUTE(INDEX(Data!$A298:$H298,,MATCH(FALSE,ISERROR(SEARCH(I$1&\"=\",Data!$A298:$H298)),0)),I$1&\"=\",\"\"),\"\")","v":""},{"$f":"IFERROR(SUBSTITUTE(INDEX(Data!$A298:$H298,,MATCH(FALSE,ISERROR(SEARCH(J$1&\"=\",Data!$A298:$H298)),0)),J$1&\"=\",\"\"),\"\")","v":""}]
[{"$f":"IFERROR(SUBSTITUTE(INDEX(Data!$A299:$H299,,MATCH(FALSE,ISERROR(SEARCH(A$1&\"=\",Data!$A299:$H299)),0)),A$1&\"=\",\"\"),\"\")","v":""},{"$f":"IFERROR(SUBSTITUTE(INDEX(Data!$A299:$H299,,MATCH(FALSE,ISERROR(SEARCH(B$1&\"=\",Data!$A299:$H299)),0)),B$1&\"=\",\"\"),\"\")","v":""},{"$f":"IFERROR(SUBSTITUTE(INDEX(Data!$A299:$H299,,MATCH(FALSE,ISERROR(SEARCH(C$1&\"=\",Data!$A299:$H299)),0)),C$1&\"=\",\"\"),\"\")","v":""},{"$f":"IFERROR(SUBSTITUTE(INDEX(Data!$A299:$H299,,MATCH(FALSE,ISERROR(SEARCH(D$1&\"=\",Data!$A299:$H299)),0)),D$1&\"=\",\"\"),\"\")","v":""},{"$f":"IFERROR(SUBSTITUTE(INDEX(Data!$A299:$H299,,MATCH(FALSE,ISERROR(SEARCH(E$1&\"=\",Data!$A299:$H299)),0)),E$1&\"=\",\"\"),\"\")","v":""},{"$f":"IFERROR(SUBSTITUTE(INDEX(Data!$A299:$H299,,MATCH(FALSE,ISERROR(SEARCH(F$1&\"=\",Data!$A299:$H299)),0)),F$1&\"=\",\"\"),\"\")","v":""},{"$f":"IFERROR(SUBSTITUTE(INDEX(Data!$A299:$H299,,MATCH(FALSE,ISERROR(SEARCH(G$1&\"=\",Data!$A299:$H299)),0)),G$1&\"=\",\"\"),\"\")","v":""},{"$f":"IFERROR(SUBSTITUTE(INDEX(Data!$A299:$H299,,MATCH(FALSE,ISERROR(SEARCH(H$1&\"=\",Data!$A299:$H299)),0)),H$1&\"=\",\"\"),\"\")","v":""},{"$f":"IFERROR(SUBSTITUTE(INDEX(Data!$A299:$H299,,MATCH(FALSE,ISERROR(SEARCH(I$1&\"=\",Data!$A299:$H299)),0)),I$1&\"=\",\"\"),\"\")","v":""},{"$f":"IFERROR(SUBSTITUTE(INDEX(Data!$A299:$H299,,MATCH(FALSE,ISERROR(SEARCH(J$1&\"=\",Data!$A299:$H299)),0)),J$1&\"=\",\"\"),\"\")","v":""}]
[{"$f":"IFERROR(SUBSTITUTE(INDEX(Data!$A300:$H300,,MATCH(FALSE,ISERROR(SEARCH(A$1&\"=\",Data!$A300:$H300)),0)),A$1&\"=\",\"\"),\"\")","v":""},{"$f":"IFERROR(SUBSTITUTE(INDEX(Data!$A300:$H300,,MATCH(FALSE,ISERROR(SEARCH(B$1&\"=\",Data!$A300:$H300)),0)),B$1&\"=\",\"\"),\"\")","v":""},{"$f":"IFERROR(SUBSTITUTE(INDEX(Data!$A300:$H300,,MATCH(FALSE,ISERROR(SEARCH(C$1&\"=\",Data!$A300:$H300)),0)),C$1&\"=\",\"\"),\"\")","v":""},{"$f":"IFERROR(SUBSTITUTE(INDEX(Data!$A300:$H300,,MATCH(FALSE,ISERROR(SEARCH(D$1&\"=\",Data!$A300:$H300)),0)),D$1&\"=\",\"\"),\"\")","v":""},{"$f":"IFERROR(SUBSTITUTE(INDEX(Data!$A300:$H300,,MATCH(FALSE,ISERROR(SEARCH(E$1&\"=\",Data!$A300:$H300)),0)),E$1&\"=\",\"\"),\"\")","v":""},{"$f":"IFERROR(SUBSTITUTE(INDEX(Data!$A300:$H300,,MATCH(FALSE,ISERROR(SEARCH(F$1&\"=\",Data!$A300:$H300)),0)),F$1&\"=\",\"\"),\"\")","v":""},{"$f":"IFERROR(SUBSTITUTE(INDEX(Data!$A300:$H300,,MATCH(FALSE,ISERROR(SEARCH(G$1&\"=\",Data!$A300:$H300)),0)),G$1&\"=\",\"\"),\"\")","v":""},{"$f":"IFERROR(SUBSTITUTE(INDEX(Data!$A300:$H300,,MATCH(FALSE,ISERROR(SEARCH(H$1&\"=\",Data!$A300:$H300)),0)),H$1&\"=\",\"\"),\"\")","v":""},{"$f":"IFERROR(SUBSTITUTE(INDEX(Data!$A300:$H300,,MATCH(FALSE,ISERROR(SEARCH(I$1&\"=\",Data!$A300:$H300)),0)),I$1&\"=\",\"\"),\"\")","v":""},{"$f":"IFERROR(SUBSTITUTE(INDEX(Data!$A300:$H300,,MATCH(FALSE,ISERROR(SEARCH(J$1&\"=\",Data!$A300:$H300)),0)),J$1&\"=\",\"\"),\"\")","v":""}]
[{"$f":"IFERROR(SUBSTITUTE(INDEX(Data!$A301:$H301,,MATCH(FALSE,ISERROR(SEARCH(A$1&\"=\",Data!$A301:$H301)),0)),A$1&\"=\",\"\"),\"\")","v":""},{"$f":"IFERROR(SUBSTITUTE(INDEX(Data!$A301:$H301,,MATCH(FALSE,ISERROR(SEARCH(B$1&\"=\",Data!$A301:$H301)),0)),B$1&\"=\",\"\"),\"\")","v":""},{"$f":"IFERROR(SUBSTITUTE(INDEX(Data!$A301:$H301,,MATCH(FALSE,ISERROR(SEARCH(C$1&\"=\",Data!$A301:$H301)),0)),C$1&\"=\",\"\"),\"\")","v":""},{"$f":"IFERROR(SUBSTITUTE(INDEX(Data!$A301:$H301,,MATCH(FALSE,ISERROR(SEARCH(D$1&\"=\",Data!$A301:$H301)),0)),D$1&\"=\",\"\"),\"\")","v":""},{"$f":"IFERROR(SUBSTITUTE(INDEX(Data!$A301:$H301,,MATCH(FALSE,ISERROR(SEARCH(E$1&\"=\",Data!$A301:$H301)),0)),E$1&\"=\",\"\"),\"\")","v":""},{"$f":"IFERROR(SUBSTITUTE(INDEX(Data!$A301:$H301,,MATCH(FALSE,ISERROR(SEARCH(F$1&\"=\",Data!$A301:$H301)),0)),F$1&\"=\",\"\"),\"\")","v":""},{"$f":"IFERROR(SUBSTITUTE(INDEX(Data!$A301:$H301,,MATCH(FALSE,ISERROR(SEARCH(G$1&\"=\",Data!$A301:$H301)),0)),G$1&\"=\",\"\"),\"\")","v":""},{"$f":"IFERROR(SUBSTITUTE(INDEX(Data!$A301:$H301,,MATCH(FALSE,ISERROR(SEARCH(H$1&\"=\",Data!$A301:$H301)),0)),H$1&\"=\",\"\"),\"\")","v":""},{"$f":"IFERROR(SUBSTITUTE(INDEX(Data!$A301:$H301,,MATCH(FALSE,ISERROR(SEARCH(I$1&\"=\",Data!$A301:$H301)),0)),I$1&\"=\",\"\"),\"\")","v":""},{"$f":"IFERROR(SUBSTITUTE(INDEX(Data!$A301:$H301,,MATCH(FALSE,ISERROR(SEARCH(J$1&\"=\",Data!$A301:$H301)),0)),J$1&\"=\",\"\"),\"\")","v":""}]
[{"$f":"IFERROR(SUBSTITUTE(INDEX(Data!$A302:$H302,,MATCH(FALSE,ISERROR(SEARCH(A$1&\"=\",Data!$A302:$H302)),0)),A$1&\"=\",\"\"),\"\")","v":""},{"$f":"IFERROR(SUBSTITUTE(INDEX(Data!$A302:$H302,,MATCH(FALSE,ISERROR(SEARCH(B$1&\"=\",Data!$A302:$H302)),0)),B$1&\"=\",\"\"),\"\")","v":""},{"$f":"IFERROR(SUBSTITUTE(INDEX(Data!$A302:$H302,,MATCH(FALSE,ISERROR(SEARCH(C$1&\"=\",Data!$A302:$H302)),0)),C$1&\"=\",\"\"),\"\")","v":""},{"$f":"IFERROR(SUBSTITUTE(INDEX(Data!$A302:$H302,,MATCH(FALSE,ISERROR(SEARCH(D$1&\"=\",Data!$A302:$H302)),0)),D$1&\"=\",\"\"),\"\")","v":""},{"$f":"IFERROR(SUBSTITUTE(INDEX(Data!$A302:$H302,,MATCH(FALSE,ISERROR(SEARCH(E$1&\"=\",Data!$A302:$H302)),0)),E$1&\"=\",\"\"),\"\")","v":""},{"$f":"IFERROR(SUBSTITUTE(INDEX(Data!$A302:$H302,,MATCH(FALSE,ISERROR(SEARCH(F$1&\"=\",Data!$A302:$H302)),0)),F$1&\"=\",\"\"),\"\")","v":""},{"$f":"IFERROR(SUBSTITUTE(INDEX(Data!$A302:$H302,,MATCH(FALSE,ISERROR(SEARCH(G$1&\"=\",Data!$A302:$H302)),0)),G$1&\"=\",\"\"),\"\")","v":""},{"$f":"IFERROR(SUBSTITUTE(INDEX(Data!$A302:$H302,,MATCH(FALSE,ISERROR(SEARCH(H$1&\"=\",Data!$A302:$H302)),0)),H$1&\"=\",\"\"),\"\")","v":""},{"$f":"IFERROR(SUBSTITUTE(INDEX(Data!$A302:$H302,,MATCH(FALSE,ISERROR(SEARCH(I$1&\"=\",Data!$A302:$H302)),0)),I$1&\"=\",\"\"),\"\")","v":""},{"$f":"IFERROR(SUBSTITUTE(INDEX(Data!$A302:$H302,,MATCH(FALSE,ISERROR(SEARCH(J$1&\"=\",Data!$A302:$H302)),0)),J$1&\"=\",\"\"),\"\")","v":""}]
[{"$f":"IFERROR(SUBSTITUTE(INDEX(Data!$A303:$H303,,MATCH(FALSE,ISERROR(SEARCH(A$1&\"=\",Data!$A303:$H303)),0)),A$1&\"=\",\"\"),\"\")","v":""},{"$f":"IFERROR(SUBSTITUTE(INDEX(Data!$A303:$H303,,MATCH(FALSE,ISERROR(SEARCH(B$1&\"=\",Data!$A303:$H303)),0)),B$1&\"=\",\"\"),\"\")","v":""},{"$f":"IFERROR(SUBSTITUTE(INDEX(Data!$A303:$H303,,MATCH(FALSE,ISERROR(SEARCH(C$1&\"=\",Data!$A303:$H303)),0)),C$1&\"=\",\"\"),\"\")","v":""},{"$f":"IFERROR(SUBSTITUTE(INDEX(Data!$A303:$H303,,MATCH(FALSE,ISERROR(SEARCH(D$1&\"=\",Data!$A303:$H303)),0)),D$1&\"=\",\"\"),\"\")","v":""},{"$f":"IFERROR(SUBSTITUTE(INDEX(Data!$A303:$H303,,MATCH(FALSE,ISERROR(SEARCH(E$1&\"=\",Data!$A303:$H303)),0)),E$1&\"=\",\"\"),\"\")","v":""},{"$f":"IFERROR(SUBSTITUTE(INDEX(Data!$A303:$H303,,MATCH(FALSE,ISERROR(SEARCH(F$1&\"=\",Data!$A303:$H303)),0)),F$1&\"=\",\"\"),\"\")","v":""},{"$f":"IFERROR(SUBSTITUTE(INDEX(Data!$A303:$H303,,MATCH(FALSE,ISERROR(SEARCH(G$1&\"=\",Data!$A303:$H303)),0)),G$1&\"=\",\"\"),\"\")","v":""},{"$f":"IFERROR(SUBSTITUTE(INDEX(Data!$A303:$H303,,MATCH(FALSE,ISERROR(SEARCH(H$1&\"=\",Data!$A303:$H303)),0)),H$1&\"=\",\"\"),\"\")","v":""},{"$f":"IFERROR(SUBSTITUTE(INDEX(Data!$A303:$H303,,MATCH(FALSE,ISERROR(SEARCH(I$1&\"=\",Data!$A303:$H303)),0)),I$1&\"=\",\"\"),\"\")","v":""},{"$f":"IFERROR(SUBSTITUTE(INDEX(Data!$A303:$H303,,MATCH(FALSE,ISERROR(SEARCH(J$1&\"=\",Data!$A303:$H303)),0)),J$1&\"=\",\"\"),\"\")","v":""}]
[{"$f":"IFERROR(SUBSTITUTE(INDEX(Data!$A304:$H304,,MATCH(FALSE,ISERROR(SEARCH(A$1&\"=\",Data!$A304:$H304)),0)),A$1&\"=\",\"\"),\"\")","v":""},{"$f":"IFERROR(SUBSTITUTE(INDEX(Data!$A304:$H304,,MATCH(FALSE,ISERROR(SEARCH(B$1&\"=\",Data!$A304:$H304)),0)),B$1&\"=\",\"\"),\"\")","v":""},{"$f":"IFERROR(SUBSTITUTE(INDEX(Data!$A304:$H304,,MATCH(FALSE,ISERROR(SEARCH(C$1&\"=\",Data!$A304:$H304)),0)),C$1&\"=\",\"\"),\"\")","v":""},{"$f":"IFERROR(SUBSTITUTE(INDEX(Data!$A304:$H304,,MATCH(FALSE,ISERROR(SEARCH(D$1&\"=\",Data!$A304:$H304)),0)),D$1&\"=\",\"\"),\"\")","v":""},{"$f":"IFERROR(SUBSTITUTE(INDEX(Data!$A304:$H304,,MATCH(FALSE,ISERROR(SEARCH(E$1&\"=\",Data!$A304:$H304)),0)),E$1&\"=\",\"\"),\"\")","v":""},{"$f":"IFERROR(SUBSTITUTE(INDEX(Data!$A304:$H304,,MATCH(FALSE,ISERROR(SEARCH(F$1&\"=\",Data!$A304:$H304)),0)),F$1&\"=\",\"\"),\"\")","v":""},{"$f":"IFERROR(SUBSTITUTE(INDEX(Data!$A304:$H304,,MATCH(FALSE,ISERROR(SEARCH(G$1&\"=\",Data!$A304:$H304)),0)),G$1&\"=\",\"\"),\"\")","v":""},{"$f":"IFERROR(SUBSTITUTE(INDEX(Data!$A304:$H304,,MATCH(FALSE,ISERROR(SEARCH(H$1&\"=\",Data!$A304:$H304)),0)),H$1&\"=\",\"\"),\"\")","v":""},{"$f":"IFERROR(SUBSTITUTE(INDEX(Data!$A304:$H304,,MATCH(FALSE,ISERROR(SEARCH(I$1&\"=\",Data!$A304:$H304)),0)),I$1&\"=\",\"\"),\"\")","v":""},{"$f":"IFERROR(SUBSTITUTE(INDEX(Data!$A304:$H304,,MATCH(FALSE,ISERROR(SEARCH(J$1&\"=\",Data!$A304:$H304)),0)),J$1&\"=\",\"\"),\"\")","v":""}]
[{"$f":"IFERROR(SUBSTITUTE(INDEX(Data!$A305:$H305,,MATCH(FALSE,ISERROR(SEARCH(A$1&\"=\",Data!$A305:$H305)),0)),A$1&\"=\",\"\"),\"\")","v":""},{"$f":"IFERROR(SUBSTITUTE(INDEX(Data!$A305:$H305,,MATCH(FALSE,ISERROR(SEARCH(B$1&\"=\",Data!$A305:$H305)),0)),B$1&\"=\",\"\"),\"\")","v":""},{"$f":"IFERROR(SUBSTITUTE(INDEX(Data!$A305:$H305,,MATCH(FALSE,ISERROR(SEARCH(C$1&\"=\",Data!$A305:$H305)),0)),C$1&\"=\",\"\"),\"\")","v":""},{"$f":"IFERROR(SUBSTITUTE(INDEX(Data!$A305:$H305,,MATCH(FALSE,ISERROR(SEARCH(D$1&\"=\",Data!$A305:$H305)),0)),D$1&\"=\",\"\"),\"\")","v":""},{"$f":"IFERROR(SUBSTITUTE(INDEX(Data!$A305:$H305,,MATCH(FALSE,ISERROR(SEARCH(E$1&\"=\",Data!$A305:$H305)),0)),E$1&\"=\",\"\"),\"\")","v":""},{"$f":"IFERROR(SUBSTITUTE(INDEX(Data!$A305:$H305,,MATCH(FALSE,ISERROR(SEARCH(F$1&\"=\",Data!$A305:$H305)),0)),F$1&\"=\",\"\"),\"\")","v":""},{"$f":"IFERROR(SUBSTITUTE(INDEX(Data!$A305:$H305,,MATCH(FALSE,ISERROR(SEARCH(G$1&\"=\",Data!$A305:$H305)),0)),G$1&\"=\",\"\"),\"\")","v":""},{"$f":"IFERROR(SUBSTITUTE(INDEX(Data!$A305:$H305,,MATCH(FALSE,ISERROR(SEARCH(H$1&\"=\",Data!$A305:$H305)),0)),H$1&\"=\",\"\"),\"\")","v":""},{"$f":"IFERROR(SUBSTITUTE(INDEX(Data!$A305:$H305,,MATCH(FALSE,ISERROR(SEARCH(I$1&\"=\",Data!$A305:$H305)),0)),I$1&\"=\",\"\"),\"\")","v":""},{"$f":"IFERROR(SUBSTITUTE(INDEX(Data!$A305:$H305,,MATCH(FALSE,ISERROR(SEARCH(J$1&\"=\",Data!$A305:$H305)),0)),J$1&\"=\",\"\"),\"\")","v":""}]
[{"$f":"IFERROR(SUBSTITUTE(INDEX(Data!$A306:$H306,,MATCH(FALSE,ISERROR(SEARCH(A$1&\"=\",Data!$A306:$H306)),0)),A$1&\"=\",\"\"),\"\")","v":""},{"$f":"IFERROR(SUBSTITUTE(INDEX(Data!$A306:$H306,,MATCH(FALSE,ISERROR(SEARCH(B$1&\"=\",Data!$A306:$H306)),0)),B$1&\"=\",\"\"),\"\")","v":""},{"$f":"IFERROR(SUBSTITUTE(INDEX(Data!$A306:$H306,,MATCH(FALSE,ISERROR(SEARCH(C$1&\"=\",Data!$A306:$H306)),0)),C$1&\"=\",\"\"),\"\")","v":""},{"$f":"IFERROR(SUBSTITUTE(INDEX(Data!$A306:$H306,,MATCH(FALSE,ISERROR(SEARCH(D$1&\"=\",Data!$A306:$H306)),0)),D$1&\"=\",\"\"),\"\")","v":""},{"$f":"IFERROR(SUBSTITUTE(INDEX(Data!$A306:$H306,,MATCH(FALSE,ISERROR(SEARCH(E$1&\"=\",Data!$A306:$H306)),0)),E$1&\"=\",\"\"),\"\")","v":""},{"$f":"IFERROR(SUBSTITUTE(INDEX(Data!$A306:$H306,,MATCH(FALSE,ISERROR(SEARCH(F$1&\"=\",Data!$A306:$H306)),0)),F$1&\"=\",\"\"),\"\")","v":""},{"$f":"IFERROR(SUBSTITUTE(INDEX(Data!$A306:$H306,,MATCH(FALSE,ISERROR(SEARCH(G$1&\"=\",Data!$A306:$H306)),0)),G$1&\"=\",\"\"),\"\")","v":""},{"$f":"IFERROR(SUBSTITUTE(INDEX(Data!$A306:$H306,,MATCH(FALSE,ISERROR(SEARCH(H$1&\"=\",Data!$A306:$H306)),0)),H$1&\"=\",\"\"),\"\")","v":""},{"$f":"IFERROR(SUBSTITUTE(INDEX(Data!$A306:$H306,,MATCH(FALSE,ISERROR(SEARCH(I$1&\"=\",Data!$A306:$H306)),0)),I$1&\"=\",\"\"),\"\")","v":""},{"$f":"IFERROR(SUBSTITUTE(INDEX(Data!$A306:$H306,,MATCH(FALSE,ISERROR(SEARCH(J$1&\"=\",Data!$A306:$H306)),0)),J$1&\"=\",\"\"),\"\")","v":""}]
[{"$f":"IFERROR(SUBSTITUTE(INDEX(Data!$A307:$H307,,MATCH(FALSE,ISERROR(SEARCH(A$1&\"=\",Data!$A307:$H307)),0)),A$1&\"=\",\"\"),\"\")","v":""},{"$f":"IFERROR(SUBSTITUTE(INDEX(Data!$A307:$H307,,MATCH(FALSE,ISERROR(SEARCH(B$1&\"=\",Data!$A307:$H307)),0)),B$1&\"=\",\"\"),\"\")","v":""},{"$f":"IFERROR(SUBSTITUTE(INDEX(Data!$A307:$H307,,MATCH(FALSE,ISERROR(SEARCH(C$1&\"=\",Data!$A307:$H307)),0)),C$1&\"=\",\"\"),\"\")","v":""},{"$f":"IFERROR(SUBSTITUTE(INDEX(Data!$A307:$H307,,MATCH(FALSE,ISERROR(SEARCH(D$1&\"=\",Data!$A307:$H307)),0)),D$1&\"=\",\"\"),\"\")","v":""},{"$f":"IFERROR(SUBSTITUTE(INDEX(Data!$A307:$H307,,MATCH(FALSE,ISERROR(SEARCH(E$1&\"=\",Data!$A307:$H307)),0)),E$1&\"=\",\"\"),\"\")","v":""},{"$f":"IFERROR(SUBSTITUTE(INDEX(Data!$A307:$H307,,MATCH(FALSE,ISERROR(SEARCH(F$1&\"=\",Data!$A307:$H307)),0)),F$1&\"=\",\"\"),\"\")","v":""},{"$f":"IFERROR(SUBSTITUTE(INDEX(Data!$A307:$H307,,MATCH(FALSE,ISERROR(SEARCH(G$1&\"=\",Data!$A307:$H307)),0)),G$1&\"=\",\"\"),\"\")","v":""},{"$f":"IFERROR(SUBSTITUTE(INDEX(Data!$A307:$H307,,MATCH(FALSE,ISERROR(SEARCH(H$1&\"=\",Data!$A307:$H307)),0)),H$1&\"=\",\"\"),\"\")","v":""},{"$f":"IFERROR(SUBSTITUTE(INDEX(Data!$A307:$H307,,MATCH(FALSE,ISERROR(SEARCH(I$1&\"=\",Data!$A307:$H307)),0)),I$1&\"=\",\"\"),\"\")","v":""},{"$f":"IFERROR(SUBSTITUTE(INDEX(Data!$A307:$H307,,MATCH(FALSE,ISERROR(SEARCH(J$1&\"=\",Data!$A307:$H307)),0)),J$1&\"=\",\"\"),\"\")","v":""}]
[{"$f":"IFERROR(SUBSTITUTE(INDEX(Data!$A308:$H308,,MATCH(FALSE,ISERROR(SEARCH(A$1&\"=\",Data!$A308:$H308)),0)),A$1&\"=\",\"\"),\"\")","v":""},{"$f":"IFERROR(SUBSTITUTE(INDEX(Data!$A308:$H308,,MATCH(FALSE,ISERROR(SEARCH(B$1&\"=\",Data!$A308:$H308)),0)),B$1&\"=\",\"\"),\"\")","v":""},{"$f":"IFERROR(SUBSTITUTE(INDEX(Data!$A308:$H308,,MATCH(FALSE,ISERROR(SEARCH(C$1&\"=\",Data!$A308:$H308)),0)),C$1&\"=\",\"\"),\"\")","v":""},{"$f":"IFERROR(SUBSTITUTE(INDEX(Data!$A308:$H308,,MATCH(FALSE,ISERROR(SEARCH(D$1&\"=\",Data!$A308:$H308)),0)),D$1&\"=\",\"\"),\"\")","v":""},{"$f":"IFERROR(SUBSTITUTE(INDEX(Data!$A308:$H308,,MATCH(FALSE,ISERROR(SEARCH(E$1&\"=\",Data!$A308:$H308)),0)),E$1&\"=\",\"\"),\"\")","v":""},{"$f":"IFERROR(SUBSTITUTE(INDEX(Data!$A308:$H308,,MATCH(FALSE,ISERROR(SEARCH(F$1&\"=\",Data!$A308:$H308)),0)),F$1&\"=\",\"\"),\"\")","v":""},{"$f":"IFERROR(SUBSTITUTE(INDEX(Data!$A308:$H308,,MATCH(FALSE,ISERROR(SEARCH(G$1&\"=\",Data!$A308:$H308)),0)),G$1&\"=\",\"\"),\"\")","v":""},{"$f":"IFERROR(SUBSTITUTE(INDEX(Data!$A308:$H308,,MATCH(FALSE,ISERROR(SEARCH(H$1&\"=\",Data!$A308:$H308)),0)),H$1&\"=\",\"\"),\"\")","v":""},{"$f":"IFERROR(SUBSTITUTE(INDEX(Data!$A308:$H308,,MATCH(FALSE,ISERROR(SEARCH(I$1&\"=\",Data!$A308:$H308)),0)),I$1&\"=\",\"\"),\"\")","v":""},{"$f":"IFERROR(SUBSTITUTE(INDEX(Data!$A308:$H308,,MATCH(FALSE,ISERROR(SEARCH(J$1&\"=\",Data!$A308:$H308)),0)),J$1&\"=\",\"\"),\"\")","v":""}]
[{"$f":"IFERROR(SUBSTITUTE(INDEX(Data!$A309:$H309,,MATCH(FALSE,ISERROR(SEARCH(A$1&\"=\",Data!$A309:$H309)),0)),A$1&\"=\",\"\"),\"\")","v":""},{"$f":"IFERROR(SUBSTITUTE(INDEX(Data!$A309:$H309,,MATCH(FALSE,ISERROR(SEARCH(B$1&\"=\",Data!$A309:$H309)),0)),B$1&\"=\",\"\"),\"\")","v":""},{"$f":"IFERROR(SUBSTITUTE(INDEX(Data!$A309:$H309,,MATCH(FALSE,ISERROR(SEARCH(C$1&\"=\",Data!$A309:$H309)),0)),C$1&\"=\",\"\"),\"\")","v":""},{"$f":"IFERROR(SUBSTITUTE(INDEX(Data!$A309:$H309,,MATCH(FALSE,ISERROR(SEARCH(D$1&\"=\",Data!$A309:$H309)),0)),D$1&\"=\",\"\"),\"\")","v":""},{"$f":"IFERROR(SUBSTITUTE(INDEX(Data!$A309:$H309,,MATCH(FALSE,ISERROR(SEARCH(E$1&\"=\",Data!$A309:$H309)),0)),E$1&\"=\",\"\"),\"\")","v":""},{"$f":"IFERROR(SUBSTITUTE(INDEX(Data!$A309:$H309,,MATCH(FALSE,ISERROR(SEARCH(F$1&\"=\",Data!$A309:$H309)),0)),F$1&\"=\",\"\"),\"\")","v":""},{"$f":"IFERROR(SUBSTITUTE(INDEX(Data!$A309:$H309,,MATCH(FALSE,ISERROR(SEARCH(G$1&\"=\",Data!$A309:$H309)),0)),G$1&\"=\",\"\"),\"\")","v":""},{"$f":"IFERROR(SUBSTITUTE(INDEX(Data!$A309:$H309,,MATCH(FALSE,ISERROR(SEARCH(H$1&\"=\",Data!$A309:$H309)),0)),H$1&\"=\",\"\"),\"\")","v":""},{"$f":"IFERROR(SUBSTITUTE(INDEX(Data!$A309:$H309,,MATCH(FALSE,ISERROR(SEARCH(I$1&\"=\",Data!$A309:$H309)),0)),I$1&\"=\",\"\"),\"\")","v":""},{"$f":"IFERROR(SUBSTITUTE(INDEX(Data!$A309:$H309,,MATCH(FALSE,ISERROR(SEARCH(J$1&\"=\",Data!$A309:$H309)),0)),J$1&\"=\",\"\"),\"\")","v":""}]
[{"$f":"IFERROR(SUBSTITUTE(INDEX(Data!$A310:$H310,,MATCH(FALSE,ISERROR(SEARCH(A$1&\"=\",Data!$A310:$H310)),0)),A$1&\"=\",\"\"),\"\")","v":""},{"$f":"IFERROR(SUBSTITUTE(INDEX(Data!$A310:$H310,,MATCH(FALSE,ISERROR(SEARCH(B$1&\"=\",Data!$A310:$H310)),0)),B$1&\"=\",\"\"),\"\")","v":""},{"$f":"IFERROR(SUBSTITUTE(INDEX(Data!$A310:$H310,,MATCH(FALSE,ISERROR(SEARCH(C$1&\"=\",Data!$A310:$H310)),0)),C$1&\"=\",\"\"),\"\")","v":""},{"$f":"IFERROR(SUBSTITUTE(INDEX(Data!$A310:$H310,,MATCH(FALSE,ISERROR(SEARCH(D$1&\"=\",Data!$A310:$H310)),0)),D$1&\"=\",\"\"),\"\")","v":""},{"$f":"IFERROR(SUBSTITUTE(INDEX(Data!$A310:$H310,,MATCH(FALSE,ISERROR(SEARCH(E$1&\"=\",Data!$A310:$H310)),0)),E$1&\"=\",\"\"),\"\")","v":""},{"$f":"IFERROR(SUBSTITUTE(INDEX(Data!$A310:$H310,,MATCH(FALSE,ISERROR(SEARCH(F$1&\"=\",Data!$A310:$H310)),0)),F$1&\"=\",\"\"),\"\")","v":""},{"$f":"IFERROR(SUBSTITUTE(INDEX(Data!$A310:$H310,,MATCH(FALSE,ISERROR(SEARCH(G$1&\"=\",Data!$A310:$H310)),0)),G$1&\"=\",\"\"),\"\")","v":""},{"$f":"IFERROR(SUBSTITUTE(INDEX(Data!$A310:$H310,,MATCH(FALSE,ISERROR(SEARCH(H$1&\"=\",Data!$A310:$H310)),0)),H$1&\"=\",\"\"),\"\")","v":""},{"$f":"IFERROR(SUBSTITUTE(INDEX(Data!$A310:$H310,,MATCH(FALSE,ISERROR(SEARCH(I$1&\"=\",Data!$A310:$H310)),0)),I$1&\"=\",\"\"),\"\")","v":""},{"$f":"IFERROR(SUBSTITUTE(INDEX(Data!$A310:$H310,,MATCH(FALSE,ISERROR(SEARCH(J$1&\"=\",Data!$A310:$H310)),0)),J$1&\"=\",\"\"),\"\")","v":""}]
[{"$f":"IFERROR(SUBSTITUTE(INDEX(Data!$A311:$H311,,MATCH(FALSE,ISERROR(SEARCH(A$1&\"=\",Data!$A311:$H311)),0)),A$1&\"=\",\"\"),\"\")","v":""},{"$f":"IFERROR(SUBSTITUTE(INDEX(Data!$A311:$H311,,MATCH(FALSE,ISERROR(SEARCH(B$1&\"=\",Data!$A311:$H311)),0)),B$1&\"=\",\"\"),\"\")","v":""},{"$f":"IFERROR(SUBSTITUTE(INDEX(Data!$A311:$H311,,MATCH(FALSE,ISERROR(SEARCH(C$1&\"=\",Data!$A311:$H311)),0)),C$1&\"=\",\"\"),\"\")","v":""},{"$f":"IFERROR(SUBSTITUTE(INDEX(Data!$A311:$H311,,MATCH(FALSE,ISERROR(SEARCH(D$1&\"=\",Data!$A311:$H311)),0)),D$1&\"=\",\"\"),\"\")","v":""},{"$f":"IFERROR(SUBSTITUTE(INDEX(Data!$A311:$H311,,MATCH(FALSE,ISERROR(SEARCH(E$1&\"=\",Data!$A311:$H311)),0)),E$1&\"=\",\"\"),\"\")","v":""},{"$f":"IFERROR(SUBSTITUTE(INDEX(Data!$A311:$H311,,MATCH(FALSE,ISERROR(SEARCH(F$1&\"=\",Data!$A311:$H311)),0)),F$1&\"=\",\"\"),\"\")","v":""},{"$f":"IFERROR(SUBSTITUTE(INDEX(Data!$A311:$H311,,MATCH(FALSE,ISERROR(SEARCH(G$1&\"=\",Data!$A311:$H311)),0)),G$1&\"=\",\"\"),\"\")","v":""},{"$f":"IFERROR(SUBSTITUTE(INDEX(Data!$A311:$H311,,MATCH(FALSE,ISERROR(SEARCH(H$1&\"=\",Data!$A311:$H311)),0)),H$1&\"=\",\"\"),\"\")","v":""},{"$f":"IFERROR(SUBSTITUTE(INDEX(Data!$A311:$H311,,MATCH(FALSE,ISERROR(SEARCH(I$1&\"=\",Data!$A311:$H311)),0)),I$1&\"=\",\"\"),\"\")","v":""},{"$f":"IFERROR(SUBSTITUTE(INDEX(Data!$A311:$H311,,MATCH(FALSE,ISERROR(SEARCH(J$1&\"=\",Data!$A311:$H311)),0)),J$1&\"=\",\"\"),\"\")","v":""}]
[{"$f":"IFERROR(SUBSTITUTE(INDEX(Data!$A312:$H312,,MATCH(FALSE,ISERROR(SEARCH(A$1&\"=\",Data!$A312:$H312)),0)),A$1&\"=\",\"\"),\"\")","v":""},{"$f":"IFERROR(SUBSTITUTE(INDEX(Data!$A312:$H312,,MATCH(FALSE,ISERROR(SEARCH(B$1&\"=\",Data!$A312:$H312)),0)),B$1&\"=\",\"\"),\"\")","v":""},{"$f":"IFERROR(SUBSTITUTE(INDEX(Data!$A312:$H312,,MATCH(FALSE,ISERROR(SEARCH(C$1&\"=\",Data!$A312:$H312)),0)),C$1&\"=\",\"\"),\"\")","v":""},{"$f":"IFERROR(SUBSTITUTE(INDEX(Data!$A312:$H312,,MATCH(FALSE,ISERROR(SEARCH(D$1&\"=\",Data!$A312:$H312)),0)),D$1&\"=\",\"\"),\"\")","v":""},{"$f":"IFERROR(SUBSTITUTE(INDEX(Data!$A312:$H312,,MATCH(FALSE,ISERROR(SEARCH(E$1&\"=\",Data!$A312:$H312)),0)),E$1&\"=\",\"\"),\"\")","v":""},{"$f":"IFERROR(SUBSTITUTE(INDEX(Data!$A312:$H312,,MATCH(FALSE,ISERROR(SEARCH(F$1&\"=\",Data!$A312:$H312)),0)),F$1&\"=\",\"\"),\"\")","v":""},{"$f":"IFERROR(SUBSTITUTE(INDEX(Data!$A312:$H312,,MATCH(FALSE,ISERROR(SEARCH(G$1&\"=\",Data!$A312:$H312)),0)),G$1&\"=\",\"\"),\"\")","v":""},{"$f":"IFERROR(SUBSTITUTE(INDEX(Data!$A312:$H312,,MATCH(FALSE,ISERROR(SEARCH(H$1&\"=\",Data!$A312:$H312)),0)),H$1&\"=\",\"\"),\"\")","v":""},{"$f":"IFERROR(SUBSTITUTE(INDEX(Data!$A312:$H312,,MATCH(FALSE,ISERROR(SEARCH(I$1&\"=\",Data!$A312:$H312)),0)),I$1&\"=\",\"\"),\"\")","v":""},{"$f":"IFERROR(SUBSTITUTE(INDEX(Data!$A312:$H312,,MATCH(FALSE,ISERROR(SEARCH(J$1&\"=\",Data!$A312:$H312)),0)),J$1&\"=\",\"\"),\"\")","v":""}]
[{"$f":"IFERROR(SUBSTITUTE(INDEX(Data!$A313:$H313,,MATCH(FALSE,ISERROR(SEARCH(A$1&\"=\",Data!$A313:$H313)),0)),A$1&\"=\",\"\"),\"\")","v":""},{"$f":"IFERROR(SUBSTITUTE(INDEX(Data!$A313:$H313,,MATCH(FALSE,ISERROR(SEARCH(B$1&\"=\",Data!$A313:$H313)),0)),B$1&\"=\",\"\"),\"\")","v":""},{"$f":"IFERROR(SUBSTITUTE(INDEX(Data!$A313:$H313,,MATCH(FALSE,ISERROR(SEARCH(C$1&\"=\",Data!$A313:$H313)),0)),C$1&\"=\",\"\"),\"\")","v":""},{"$f":"IFERROR(SUBSTITUTE(INDEX(Data!$A313:$H313,,MATCH(FALSE,ISERROR(SEARCH(D$1&\"=\",Data!$A313:$H313)),0)),D$1&\"=\",\"\"),\"\")","v":""},{"$f":"IFERROR(SUBSTITUTE(INDEX(Data!$A313:$H313,,MATCH(FALSE,ISERROR(SEARCH(E$1&\"=\",Data!$A313:$H313)),0)),E$1&\"=\",\"\"),\"\")","v":""},{"$f":"IFERROR(SUBSTITUTE(INDEX(Data!$A313:$H313,,MATCH(FALSE,ISERROR(SEARCH(F$1&\"=\",Data!$A313:$H313)),0)),F$1&\"=\",\"\"),\"\")","v":""},{"$f":"IFERROR(SUBSTITUTE(INDEX(Data!$A313:$H313,,MATCH(FALSE,ISERROR(SEARCH(G$1&\"=\",Data!$A313:$H313)),0)),G$1&\"=\",\"\"),\"\")","v":""},{"$f":"IFERROR(SUBSTITUTE(INDEX(Data!$A313:$H313,,MATCH(FALSE,ISERROR(SEARCH(H$1&\"=\",Data!$A313:$H313)),0)),H$1&\"=\",\"\"),\"\")","v":""},{"$f":"IFERROR(SUBSTITUTE(INDEX(Data!$A313:$H313,,MATCH(FALSE,ISERROR(SEARCH(I$1&\"=\",Data!$A313:$H313)),0)),I$1&\"=\",\"\"),\"\")","v":""},{"$f":"IFERROR(SUBSTITUTE(INDEX(Data!$A313:$H313,,MATCH(FALSE,ISERROR(SEARCH(J$1&\"=\",Data!$A313:$H313)),0)),J$1&\"=\",\"\"),\"\")","v":""}]
[{"$f":"IFERROR(SUBSTITUTE(INDEX(Data!$A314:$H314,,MATCH(FALSE,ISERROR(SEARCH(A$1&\"=\",Data!$A314:$H314)),0)),A$1&\"=\",\"\"),\"\")","v":""},{"$f":"IFERROR(SUBSTITUTE(INDEX(Data!$A314:$H314,,MATCH(FALSE,ISERROR(SEARCH(B$1&\"=\",Data!$A314:$H314)),0)),B$1&\"=\",\"\"),\"\")","v":""},{"$f":"IFERROR(SUBSTITUTE(INDEX(Data!$A314:$H314,,MATCH(FALSE,ISERROR(SEARCH(C$1&\"=\",Data!$A314:$H314)),0)),C$1&\"=\",\"\"),\"\")","v":""},{"$f":"IFERROR(SUBSTITUTE(INDEX(Data!$A314:$H314,,MATCH(FALSE,ISERROR(SEARCH(D$1&\"=\",Data!$A314:$H314)),0)),D$1&\"=\",\"\"),\"\")","v":""},{"$f":"IFERROR(SUBSTITUTE(INDEX(Data!$A314:$H314,,MATCH(FALSE,ISERROR(SEARCH(E$1&\"=\",Data!$A314:$H314)),0)),E$1&\"=\",\"\"),\"\")","v":""},{"$f":"IFERROR(SUBSTITUTE(INDEX(Data!$A314:$H314,,MATCH(FALSE,ISERROR(SEARCH(F$1&\"=\",Data!$A314:$H314)),0)),F$1&\"=\",\"\"),\"\")","v":""},{"$f":"IFERROR(SUBSTITUTE(INDEX(Data!$A314:$H314,,MATCH(FALSE,ISERROR(SEARCH(G$1&\"=\",Data!$A314:$H314)),0)),G$1&\"=\",\"\"),\"\")","v":""},{"$f":"IFERROR(SUBSTITUTE(INDEX(Data!$A314:$H314,,MATCH(FALSE,ISERROR(SEARCH(H$1&\"=\",Data!$A314:$H314)),0)),H$1&\"=\",\"\"),\"\")","v":""},{"$f":"IFERROR(SUBSTITUTE(INDEX(Data!$A314:$H314,,MATCH(FALSE,ISERROR(SEARCH(I$1&\"=\",Data!$A314:$H314)),0)),I$1&\"=\",\"\"),\"\")","v":""},{"$f":"IFERROR(SUBSTITUTE(INDEX(Data!$A314:$H314,,MATCH(FALSE,ISERROR(SEARCH(J$1&\"=\",Data!$A314:$H314)),0)),J$1&\"=\",\"\"),\"\")","v":""}]
[{"$f":"IFERROR(SUBSTITUTE(INDEX(Data!$A315:$H315,,MATCH(FALSE,ISERROR(SEARCH(A$1&\"=\",Data!$A315:$H315)),0)),A$1&\"=\",\"\"),\"\")","v":""},{"$f":"IFERROR(SUBSTITUTE(INDEX(Data!$A315:$H315,,MATCH(FALSE,ISERROR(SEARCH(B$1&\"=\",Data!$A315:$H315)),0)),B$1&\"=\",\"\"),\"\")","v":""},{"$f":"IFERROR(SUBSTITUTE(INDEX(Data!$A315:$H315,,MATCH(FALSE,ISERROR(SEARCH(C$1&\"=\",Data!$A315:$H315)),0)),C$1&\"=\",\"\"),\"\")","v":""},{"$f":"IFERROR(SUBSTITUTE(INDEX(Data!$A315:$H315,,MATCH(FALSE,ISERROR(SEARCH(D$1&\"=\",Data!$A315:$H315)),0)),D$1&\"=\",\"\"),\"\")","v":""},{"$f":"IFERROR(SUBSTITUTE(INDEX(Data!$A315:$H315,,MATCH(FALSE,ISERROR(SEARCH(E$1&\"=\",Data!$A315:$H315)),0)),E$1&\"=\",\"\"),\"\")","v":""},{"$f":"IFERROR(SUBSTITUTE(INDEX(Data!$A315:$H315,,MATCH(FALSE,ISERROR(SEARCH(F$1&\"=\",Data!$A315:$H315)),0)),F$1&\"=\",\"\"),\"\")","v":""},{"$f":"IFERROR(SUBSTITUTE(INDEX(Data!$A315:$H315,,MATCH(FALSE,ISERROR(SEARCH(G$1&\"=\",Data!$A315:$H315)),0)),G$1&\"=\",\"\"),\"\")","v":""},{"$f":"IFERROR(SUBSTITUTE(INDEX(Data!$A315:$H315,,MATCH(FALSE,ISERROR(SEARCH(H$1&\"=\",Data!$A315:$H315)),0)),H$1&\"=\",\"\"),\"\")","v":""},{"$f":"IFERROR(SUBSTITUTE(INDEX(Data!$A315:$H315,,MATCH(FALSE,ISERROR(SEARCH(I$1&\"=\",Data!$A315:$H315)),0)),I$1&\"=\",\"\"),\"\")","v":""},{"$f":"IFERROR(SUBSTITUTE(INDEX(Data!$A315:$H315,,MATCH(FALSE,ISERROR(SEARCH(J$1&\"=\",Data!$A315:$H315)),0)),J$1&\"=\",\"\"),\"\")","v":""}]
[{"$f":"IFERROR(SUBSTITUTE(INDEX(Data!$A316:$H316,,MATCH(FALSE,ISERROR(SEARCH(A$1&\"=\",Data!$A316:$H316)),0)),A$1&\"=\",\"\"),\"\")","v":""},{"$f":"IFERROR(SUBSTITUTE(INDEX(Data!$A316:$H316,,MATCH(FALSE,ISERROR(SEARCH(B$1&\"=\",Data!$A316:$H316)),0)),B$1&\"=\",\"\"),\"\")","v":""},{"$f":"IFERROR(SUBSTITUTE(INDEX(Data!$A316:$H316,,MATCH(FALSE,ISERROR(SEARCH(C$1&\"=\",Data!$A316:$H316)),0)),C$1&\"=\",\"\"),\"\")","v":""},{"$f":"IFERROR(SUBSTITUTE(INDEX(Data!$A316:$H316,,MATCH(FALSE,ISERROR(SEARCH(D$1&\"=\",Data!$A316:$H316)),0)),D$1&\"=\",\"\"),\"\")","v":""},{"$f":"IFERROR(SUBSTITUTE(INDEX(Data!$A316:$H316,,MATCH(FALSE,ISERROR(SEARCH(E$1&\"=\",Data!$A316:$H316)),0)),E$1&\"=\",\"\"),\"\")","v":""},{"$f":"IFERROR(SUBSTITUTE(INDEX(Data!$A316:$H316,,MATCH(FALSE,ISERROR(SEARCH(F$1&\"=\",Data!$A316:$H316)),0)),F$1&\"=\",\"\"),\"\")","v":""},{"$f":"IFERROR(SUBSTITUTE(INDEX(Data!$A316:$H316,,MATCH(FALSE,ISERROR(SEARCH(G$1&\"=\",Data!$A316:$H316)),0)),G$1&\"=\",\"\"),\"\")","v":""},{"$f":"IFERROR(SUBSTITUTE(INDEX(Data!$A316:$H316,,MATCH(FALSE,ISERROR(SEARCH(H$1&\"=\",Data!$A316:$H316)),0)),H$1&\"=\",\"\"),\"\")","v":""},{"$f":"IFERROR(SUBSTITUTE(INDEX(Data!$A316:$H316,,MATCH(FALSE,ISERROR(SEARCH(I$1&\"=\",Data!$A316:$H316)),0)),I$1&\"=\",\"\"),\"\")","v":""},{"$f":"IFERROR(SUBSTITUTE(INDEX(Data!$A316:$H316,,MATCH(FALSE,ISERROR(SEARCH(J$1&\"=\",Data!$A316:$H316)),0)),J$1&\"=\",\"\"),\"\")","v":""}]
[{"$f":"IFERROR(SUBSTITUTE(INDEX(Data!$A317:$H317,,MATCH(FALSE,ISERROR(SEARCH(A$1&\"=\",Data!$A317:$H317)),0)),A$1&\"=\",\"\"),\"\")","v":""},{"$f":"IFERROR(SUBSTITUTE(INDEX(Data!$A317:$H317,,MATCH(FALSE,ISERROR(SEARCH(B$1&\"=\",Data!$A317:$H317)),0)),B$1&\"=\",\"\"),\"\")","v":""},{"$f":"IFERROR(SUBSTITUTE(INDEX(Data!$A317:$H317,,MATCH(FALSE,ISERROR(SEARCH(C$1&\"=\",Data!$A317:$H317)),0)),C$1&\"=\",\"\"),\"\")","v":""},{"$f":"IFERROR(SUBSTITUTE(INDEX(Data!$A317:$H317,,MATCH(FALSE,ISERROR(SEARCH(D$1&\"=\",Data!$A317:$H317)),0)),D$1&\"=\",\"\"),\"\")","v":""},{"$f":"IFERROR(SUBSTITUTE(INDEX(Data!$A317:$H317,,MATCH(FALSE,ISERROR(SEARCH(E$1&\"=\",Data!$A317:$H317)),0)),E$1&\"=\",\"\"),\"\")","v":""},{"$f":"IFERROR(SUBSTITUTE(INDEX(Data!$A317:$H317,,MATCH(FALSE,ISERROR(SEARCH(F$1&\"=\",Data!$A317:$H317)),0)),F$1&\"=\",\"\"),\"\")","v":""},{"$f":"IFERROR(SUBSTITUTE(INDEX(Data!$A317:$H317,,MATCH(FALSE,ISERROR(SEARCH(G$1&\"=\",Data!$A317:$H317)),0)),G$1&\"=\",\"\"),\"\")","v":""},{"$f":"IFERROR(SUBSTITUTE(INDEX(Data!$A317:$H317,,MATCH(FALSE,ISERROR(SEARCH(H$1&\"=\",Data!$A317:$H317)),0)),H$1&\"=\",\"\"),\"\")","v":""},{"$f":"IFERROR(SUBSTITUTE(INDEX(Data!$A317:$H317,,MATCH(FALSE,ISERROR(SEARCH(I$1&\"=\",Data!$A317:$H317)),0)),I$1&\"=\",\"\"),\"\")","v":""},{"$f":"IFERROR(SUBSTITUTE(INDEX(Data!$A317:$H317,,MATCH(FALSE,ISERROR(SEARCH(J$1&\"=\",Data!$A317:$H317)),0)),J$1&\"=\",\"\"),\"\")","v":""}]
[{"$f":"IFERROR(SUBSTITUTE(INDEX(Data!$A318:$H318,,MATCH(FALSE,ISERROR(SEARCH(A$1&\"=\",Data!$A318:$H318)),0)),A$1&\"=\",\"\"),\"\")","v":""},{"$f":"IFERROR(SUBSTITUTE(INDEX(Data!$A318:$H318,,MATCH(FALSE,ISERROR(SEARCH(B$1&\"=\",Data!$A318:$H318)),0)),B$1&\"=\",\"\"),\"\")","v":""},{"$f":"IFERROR(SUBSTITUTE(INDEX(Data!$A318:$H318,,MATCH(FALSE,ISERROR(SEARCH(C$1&\"=\",Data!$A318:$H318)),0)),C$1&\"=\",\"\"),\"\")","v":""},{"$f":"IFERROR(SUBSTITUTE(INDEX(Data!$A318:$H318,,MATCH(FALSE,ISERROR(SEARCH(D$1&\"=\",Data!$A318:$H318)),0)),D$1&\"=\",\"\"),\"\")","v":""},{"$f":"IFERROR(SUBSTITUTE(INDEX(Data!$A318:$H318,,MATCH(FALSE,ISERROR(SEARCH(E$1&\"=\",Data!$A318:$H318)),0)),E$1&\"=\",\"\"),\"\")","v":""},{"$f":"IFERROR(SUBSTITUTE(INDEX(Data!$A318:$H318,,MATCH(FALSE,ISERROR(SEARCH(F$1&\"=\",Data!$A318:$H318)),0)),F$1&\"=\",\"\"),\"\")","v":""},{"$f":"IFERROR(SUBSTITUTE(INDEX(Data!$A318:$H318,,MATCH(FALSE,ISERROR(SEARCH(G$1&\"=\",Data!$A318:$H318)),0)),G$1&\"=\",\"\"),\"\")","v":""},{"$f":"IFERROR(SUBSTITUTE(INDEX(Data!$A318:$H318,,MATCH(FALSE,ISERROR(SEARCH(H$1&\"=\",Data!$A318:$H318)),0)),H$1&\"=\",\"\"),\"\")","v":""},{"$f":"IFERROR(SUBSTITUTE(INDEX(Data!$A318:$H318,,MATCH(FALSE,ISERROR(SEARCH(I$1&\"=\",Data!$A318:$H318)),0)),I$1&\"=\",\"\"),\"\")","v":""},{"$f":"IFERROR(SUBSTITUTE(INDEX(Data!$A318:$H318,,MATCH(FALSE,ISERROR(SEARCH(J$1&\"=\",Data!$A318:$H318)),0)),J$1&\"=\",\"\"),\"\")","v":""}]
[{"$f":"IFERROR(SUBSTITUTE(INDEX(Data!$A319:$H319,,MATCH(FALSE,ISERROR(SEARCH(A$1&\"=\",Data!$A319:$H319)),0)),A$1&\"=\",\"\"),\"\")","v":""},{"$f":"IFERROR(SUBSTITUTE(INDEX(Data!$A319:$H319,,MATCH(FALSE,ISERROR(SEARCH(B$1&\"=\",Data!$A319:$H319)),0)),B$1&\"=\",\"\"),\"\")","v":""},{"$f":"IFERROR(SUBSTITUTE(INDEX(Data!$A319:$H319,,MATCH(FALSE,ISERROR(SEARCH(C$1&\"=\",Data!$A319:$H319)),0)),C$1&\"=\",\"\"),\"\")","v":""},{"$f":"IFERROR(SUBSTITUTE(INDEX(Data!$A319:$H319,,MATCH(FALSE,ISERROR(SEARCH(D$1&\"=\",Data!$A319:$H319)),0)),D$1&\"=\",\"\"),\"\")","v":""},{"$f":"IFERROR(SUBSTITUTE(INDEX(Data!$A319:$H319,,MATCH(FALSE,ISERROR(SEARCH(E$1&\"=\",Data!$A319:$H319)),0)),E$1&\"=\",\"\"),\"\")","v":""},{"$f":"IFERROR(SUBSTITUTE(INDEX(Data!$A319:$H319,,MATCH(FALSE,ISERROR(SEARCH(F$1&\"=\",Data!$A319:$H319)),0)),F$1&\"=\",\"\"),\"\")","v":""},{"$f":"IFERROR(SUBSTITUTE(INDEX(Data!$A319:$H319,,MATCH(FALSE,ISERROR(SEARCH(G$1&\"=\",Data!$A319:$H319)),0)),G$1&\"=\",\"\"),\"\")","v":""},{"$f":"IFERROR(SUBSTITUTE(INDEX(Data!$A319:$H319,,MATCH(FALSE,ISERROR(SEARCH(H$1&\"=\",Data!$A319:$H319)),0)),H$1&\"=\",\"\"),\"\")","v":""},{"$f":"IFERROR(SUBSTITUTE(INDEX(Data!$A319:$H319,,MATCH(FALSE,ISERROR(SEARCH(I$1&\"=\",Data!$A319:$H319)),0)),I$1&\"=\",\"\"),\"\")","v":""},{"$f":"IFERROR(SUBSTITUTE(INDEX(Data!$A319:$H319,,MATCH(FALSE,ISERROR(SEARCH(J$1&\"=\",Data!$A319:$H319)),0)),J$1&\"=\",\"\"),\"\")","v":""}]
[{"$f":"IFERROR(SUBSTITUTE(INDEX(Data!$A320:$H320,,MATCH(FALSE,ISERROR(SEARCH(A$1&\"=\",Data!$A320:$H320)),0)),A$1&\"=\",\"\"),\"\")","v":""},{"$f":"IFERROR(SUBSTITUTE(INDEX(Data!$A320:$H320,,MATCH(FALSE,ISERROR(SEARCH(B$1&\"=\",Data!$A320:$H320)),0)),B$1&\"=\",\"\"),\"\")","v":""},{"$f":"IFERROR(SUBSTITUTE(INDEX(Data!$A320:$H320,,MATCH(FALSE,ISERROR(SEARCH(C$1&\"=\",Data!$A320:$H320)),0)),C$1&\"=\",\"\"),\"\")","v":""},{"$f":"IFERROR(SUBSTITUTE(INDEX(Data!$A320:$H320,,MATCH(FALSE,ISERROR(SEARCH(D$1&\"=\",Data!$A320:$H320)),0)),D$1&\"=\",\"\"),\"\")","v":""},{"$f":"IFERROR(SUBSTITUTE(INDEX(Data!$A320:$H320,,MATCH(FALSE,ISERROR(SEARCH(E$1&\"=\",Data!$A320:$H320)),0)),E$1&\"=\",\"\"),\"\")","v":""},{"$f":"IFERROR(SUBSTITUTE(INDEX(Data!$A320:$H320,,MATCH(FALSE,ISERROR(SEARCH(F$1&\"=\",Data!$A320:$H320)),0)),F$1&\"=\",\"\"),\"\")","v":""},{"$f":"IFERROR(SUBSTITUTE(INDEX(Data!$A320:$H320,,MATCH(FALSE,ISERROR(SEARCH(G$1&\"=\",Data!$A320:$H320)),0)),G$1&\"=\",\"\"),\"\")","v":""},{"$f":"IFERROR(SUBSTITUTE(INDEX(Data!$A320:$H320,,MATCH(FALSE,ISERROR(SEARCH(H$1&\"=\",Data!$A320:$H320)),0)),H$1&\"=\",\"\"),\"\")","v":""},{"$f":"IFERROR(SUBSTITUTE(INDEX(Data!$A320:$H320,,MATCH(FALSE,ISERROR(SEARCH(I$1&\"=\",Data!$A320:$H320)),0)),I$1&\"=\",\"\"),\"\")","v":""},{"$f":"IFERROR(SUBSTITUTE(INDEX(Data!$A320:$H320,,MATCH(FALSE,ISERROR(SEARCH(J$1&\"=\",Data!$A320:$H320)),0)),J$1&\"=\",\"\"),\"\")","v":""}]
[{"$f":"IFERROR(SUBSTITUTE(INDEX(Data!$A321:$H321,,MATCH(FALSE,ISERROR(SEARCH(A$1&\"=\",Data!$A321:$H321)),0)),A$1&\"=\",\"\"),\"\")","v":""},{"$f":"IFERROR(SUBSTITUTE(INDEX(Data!$A321:$H321,,MATCH(FALSE,ISERROR(SEARCH(B$1&\"=\",Data!$A321:$H321)),0)),B$1&\"=\",\"\"),\"\")","v":""},{"$f":"IFERROR(SUBSTITUTE(INDEX(Data!$A321:$H321,,MATCH(FALSE,ISERROR(SEARCH(C$1&\"=\",Data!$A321:$H321)),0)),C$1&\"=\",\"\"),\"\")","v":""},{"$f":"IFERROR(SUBSTITUTE(INDEX(Data!$A321:$H321,,MATCH(FALSE,ISERROR(SEARCH(D$1&\"=\",Data!$A321:$H321)),0)),D$1&\"=\",\"\"),\"\")","v":""},{"$f":"IFERROR(SUBSTITUTE(INDEX(Data!$A321:$H321,,MATCH(FALSE,ISERROR(SEARCH(E$1&\"=\",Data!$A321:$H321)),0)),E$1&\"=\",\"\"),\"\")","v":""},{"$f":"IFERROR(SUBSTITUTE(INDEX(Data!$A321:$H321,,MATCH(FALSE,ISERROR(SEARCH(F$1&\"=\",Data!$A321:$H321)),0)),F$1&\"=\",\"\"),\"\")","v":""},{"$f":"IFERROR(SUBSTITUTE(INDEX(Data!$A321:$H321,,MATCH(FALSE,ISERROR(SEARCH(G$1&\"=\",Data!$A321:$H321)),0)),G$1&\"=\",\"\"),\"\")","v":""},{"$f":"IFERROR(SUBSTITUTE(INDEX(Data!$A321:$H321,,MATCH(FALSE,ISERROR(SEARCH(H$1&\"=\",Data!$A321:$H321)),0)),H$1&\"=\",\"\"),\"\")","v":""},{"$f":"IFERROR(SUBSTITUTE(INDEX(Data!$A321:$H321,,MATCH(FALSE,ISERROR(SEARCH(I$1&\"=\",Data!$A321:$H321)),0)),I$1&\"=\",\"\"),\"\")","v":""},{"$f":"IFERROR(SUBSTITUTE(INDEX(Data!$A321:$H321,,MATCH(FALSE,ISERROR(SEARCH(J$1&\"=\",Data!$A321:$H321)),0)),J$1&\"=\",\"\"),\"\")","v":""}]
[{"$f":"IFERROR(SUBSTITUTE(INDEX(Data!$A322:$H322,,MATCH(FALSE,ISERROR(SEARCH(A$1&\"=\",Data!$A322:$H322)),0)),A$1&\"=\",\"\"),\"\")","v":""},{"$f":"IFERROR(SUBSTITUTE(INDEX(Data!$A322:$H322,,MATCH(FALSE,ISERROR(SEARCH(B$1&\"=\",Data!$A322:$H322)),0)),B$1&\"=\",\"\"),\"\")","v":""},{"$f":"IFERROR(SUBSTITUTE(INDEX(Data!$A322:$H322,,MATCH(FALSE,ISERROR(SEARCH(C$1&\"=\",Data!$A322:$H322)),0)),C$1&\"=\",\"\"),\"\")","v":""},{"$f":"IFERROR(SUBSTITUTE(INDEX(Data!$A322:$H322,,MATCH(FALSE,ISERROR(SEARCH(D$1&\"=\",Data!$A322:$H322)),0)),D$1&\"=\",\"\"),\"\")","v":""},{"$f":"IFERROR(SUBSTITUTE(INDEX(Data!$A322:$H322,,MATCH(FALSE,ISERROR(SEARCH(E$1&\"=\",Data!$A322:$H322)),0)),E$1&\"=\",\"\"),\"\")","v":""},{"$f":"IFERROR(SUBSTITUTE(INDEX(Data!$A322:$H322,,MATCH(FALSE,ISERROR(SEARCH(F$1&\"=\",Data!$A322:$H322)),0)),F$1&\"=\",\"\"),\"\")","v":""},{"$f":"IFERROR(SUBSTITUTE(INDEX(Data!$A322:$H322,,MATCH(FALSE,ISERROR(SEARCH(G$1&\"=\",Data!$A322:$H322)),0)),G$1&\"=\",\"\"),\"\")","v":""},{"$f":"IFERROR(SUBSTITUTE(INDEX(Data!$A322:$H322,,MATCH(FALSE,ISERROR(SEARCH(H$1&\"=\",Data!$A322:$H322)),0)),H$1&\"=\",\"\"),\"\")","v":""},{"$f":"IFERROR(SUBSTITUTE(INDEX(Data!$A322:$H322,,MATCH(FALSE,ISERROR(SEARCH(I$1&\"=\",Data!$A322:$H322)),0)),I$1&\"=\",\"\"),\"\")","v":""},{"$f":"IFERROR(SUBSTITUTE(INDEX(Data!$A322:$H322,,MATCH(FALSE,ISERROR(SEARCH(J$1&\"=\",Data!$A322:$H322)),0)),J$1&\"=\",\"\"),\"\")","v":""}]
[{"$f":"IFERROR(SUBSTITUTE(INDEX(Data!$A323:$H323,,MATCH(FALSE,ISERROR(SEARCH(A$1&\"=\",Data!$A323:$H323)),0)),A$1&\"=\",\"\"),\"\")","v":""},{"$f":"IFERROR(SUBSTITUTE(INDEX(Data!$A323:$H323,,MATCH(FALSE,ISERROR(SEARCH(B$1&\"=\",Data!$A323:$H323)),0)),B$1&\"=\",\"\"),\"\")","v":""},{"$f":"IFERROR(SUBSTITUTE(INDEX(Data!$A323:$H323,,MATCH(FALSE,ISERROR(SEARCH(C$1&\"=\",Data!$A323:$H323)),0)),C$1&\"=\",\"\"),\"\")","v":""},{"$f":"IFERROR(SUBSTITUTE(INDEX(Data!$A323:$H323,,MATCH(FALSE,ISERROR(SEARCH(D$1&\"=\",Data!$A323:$H323)),0)),D$1&\"=\",\"\"),\"\")","v":""},{"$f":"IFERROR(SUBSTITUTE(INDEX(Data!$A323:$H323,,MATCH(FALSE,ISERROR(SEARCH(E$1&\"=\",Data!$A323:$H323)),0)),E$1&\"=\",\"\"),\"\")","v":""},{"$f":"IFERROR(SUBSTITUTE(INDEX(Data!$A323:$H323,,MATCH(FALSE,ISERROR(SEARCH(F$1&\"=\",Data!$A323:$H323)),0)),F$1&\"=\",\"\"),\"\")","v":""},{"$f":"IFERROR(SUBSTITUTE(INDEX(Data!$A323:$H323,,MATCH(FALSE,ISERROR(SEARCH(G$1&\"=\",Data!$A323:$H323)),0)),G$1&\"=\",\"\"),\"\")","v":""},{"$f":"IFERROR(SUBSTITUTE(INDEX(Data!$A323:$H323,,MATCH(FALSE,ISERROR(SEARCH(H$1&\"=\",Data!$A323:$H323)),0)),H$1&\"=\",\"\"),\"\")","v":""},{"$f":"IFERROR(SUBSTITUTE(INDEX(Data!$A323:$H323,,MATCH(FALSE,ISERROR(SEARCH(I$1&\"=\",Data!$A323:$H323)),0)),I$1&\"=\",\"\"),\"\")","v":""},{"$f":"IFERROR(SUBSTITUTE(INDEX(Data!$A323:$H323,,MATCH(FALSE,ISERROR(SEARCH(J$1&\"=\",Data!$A323:$H323)),0)),J$1&\"=\",\"\"),\"\")","v":""}]
[{"$f":"IFERROR(SUBSTITUTE(INDEX(Data!$A324:$H324,,MATCH(FALSE,ISERROR(SEARCH(A$1&\"=\",Data!$A324:$H324)),0)),A$1&\"=\",\"\"),\"\")","v":""},{"$f":"IFERROR(SUBSTITUTE(INDEX(Data!$A324:$H324,,MATCH(FALSE,ISERROR(SEARCH(B$1&\"=\",Data!$A324:$H324)),0)),B$1&\"=\",\"\"),\"\")","v":""},{"$f":"IFERROR(SUBSTITUTE(INDEX(Data!$A324:$H324,,MATCH(FALSE,ISERROR(SEARCH(C$1&\"=\",Data!$A324:$H324)),0)),C$1&\"=\",\"\"),\"\")","v":""},{"$f":"IFERROR(SUBSTITUTE(INDEX(Data!$A324:$H324,,MATCH(FALSE,ISERROR(SEARCH(D$1&\"=\",Data!$A324:$H324)),0)),D$1&\"=\",\"\"),\"\")","v":""},{"$f":"IFERROR(SUBSTITUTE(INDEX(Data!$A324:$H324,,MATCH(FALSE,ISERROR(SEARCH(E$1&\"=\",Data!$A324:$H324)),0)),E$1&\"=\",\"\"),\"\")","v":""},{"$f":"IFERROR(SUBSTITUTE(INDEX(Data!$A324:$H324,,MATCH(FALSE,ISERROR(SEARCH(F$1&\"=\",Data!$A324:$H324)),0)),F$1&\"=\",\"\"),\"\")","v":""},{"$f":"IFERROR(SUBSTITUTE(INDEX(Data!$A324:$H324,,MATCH(FALSE,ISERROR(SEARCH(G$1&\"=\",Data!$A324:$H324)),0)),G$1&\"=\",\"\"),\"\")","v":""},{"$f":"IFERROR(SUBSTITUTE(INDEX(Data!$A324:$H324,,MATCH(FALSE,ISERROR(SEARCH(H$1&\"=\",Data!$A324:$H324)),0)),H$1&\"=\",\"\"),\"\")","v":""},{"$f":"IFERROR(SUBSTITUTE(INDEX(Data!$A324:$H324,,MATCH(FALSE,ISERROR(SEARCH(I$1&\"=\",Data!$A324:$H324)),0)),I$1&\"=\",\"\"),\"\")","v":""},{"$f":"IFERROR(SUBSTITUTE(INDEX(Data!$A324:$H324,,MATCH(FALSE,ISERROR(SEARCH(J$1&\"=\",Data!$A324:$H324)),0)),J$1&\"=\",\"\"),\"\")","v":""}]
[{"$f":"IFERROR(SUBSTITUTE(INDEX(Data!$A325:$H325,,MATCH(FALSE,ISERROR(SEARCH(A$1&\"=\",Data!$A325:$H325)),0)),A$1&\"=\",\"\"),\"\")","v":""},{"$f":"IFERROR(SUBSTITUTE(INDEX(Data!$A325:$H325,,MATCH(FALSE,ISERROR(SEARCH(B$1&\"=\",Data!$A325:$H325)),0)),B$1&\"=\",\"\"),\"\")","v":""},{"$f":"IFERROR(SUBSTITUTE(INDEX(Data!$A325:$H325,,MATCH(FALSE,ISERROR(SEARCH(C$1&\"=\",Data!$A325:$H325)),0)),C$1&\"=\",\"\"),\"\")","v":""},{"$f":"IFERROR(SUBSTITUTE(INDEX(Data!$A325:$H325,,MATCH(FALSE,ISERROR(SEARCH(D$1&\"=\",Data!$A325:$H325)),0)),D$1&\"=\",\"\"),\"\")","v":""},{"$f":"IFERROR(SUBSTITUTE(INDEX(Data!$A325:$H325,,MATCH(FALSE,ISERROR(SEARCH(E$1&\"=\",Data!$A325:$H325)),0)),E$1&\"=\",\"\"),\"\")","v":""},{"$f":"IFERROR(SUBSTITUTE(INDEX(Data!$A325:$H325,,MATCH(FALSE,ISERROR(SEARCH(F$1&\"=\",Data!$A325:$H325)),0)),F$1&\"=\",\"\"),\"\")","v":""},{"$f":"IFERROR(SUBSTITUTE(INDEX(Data!$A325:$H325,,MATCH(FALSE,ISERROR(SEARCH(G$1&\"=\",Data!$A325:$H325)),0)),G$1&\"=\",\"\"),\"\")","v":""},{"$f":"IFERROR(SUBSTITUTE(INDEX(Data!$A325:$H325,,MATCH(FALSE,ISERROR(SEARCH(H$1&\"=\",Data!$A325:$H325)),0)),H$1&\"=\",\"\"),\"\")","v":""},{"$f":"IFERROR(SUBSTITUTE(INDEX(Data!$A325:$H325,,MATCH(FALSE,ISERROR(SEARCH(I$1&\"=\",Data!$A325:$H325)),0)),I$1&\"=\",\"\"),\"\")","v":""},{"$f":"IFERROR(SUBSTITUTE(INDEX(Data!$A325:$H325,,MATCH(FALSE,ISERROR(SEARCH(J$1&\"=\",Data!$A325:$H325)),0)),J$1&\"=\",\"\"),\"\")","v":""}]
[{"$f":"IFERROR(SUBSTITUTE(INDEX(Data!$A326:$H326,,MATCH(FALSE,ISERROR(SEARCH(A$1&\"=\",Data!$A326:$H326)),0)),A$1&\"=\",\"\"),\"\")","v":""},{"$f":"IFERROR(SUBSTITUTE(INDEX(Data!$A326:$H326,,MATCH(FALSE,ISERROR(SEARCH(B$1&\"=\",Data!$A326:$H326)),0)),B$1&\"=\",\"\"),\"\")","v":""},{"$f":"IFERROR(SUBSTITUTE(INDEX(Data!$A326:$H326,,MATCH(FALSE,ISERROR(SEARCH(C$1&\"=\",Data!$A326:$H326)),0)),C$1&\"=\",\"\"),\"\")","v":""},{"$f":"IFERROR(SUBSTITUTE(INDEX(Data!$A326:$H326,,MATCH(FALSE,ISERROR(SEARCH(D$1&\"=\",Data!$A326:$H326)),0)),D$1&\"=\",\"\"),\"\")","v":""},{"$f":"IFERROR(SUBSTITUTE(INDEX(Data!$A326:$H326,,MATCH(FALSE,ISERROR(SEARCH(E$1&\"=\",Data!$A326:$H326)),0)),E$1&\"=\",\"\"),\"\")","v":""},{"$f":"IFERROR(SUBSTITUTE(INDEX(Data!$A326:$H326,,MATCH(FALSE,ISERROR(SEARCH(F$1&\"=\",Data!$A326:$H326)),0)),F$1&\"=\",\"\"),\"\")","v":""},{"$f":"IFERROR(SUBSTITUTE(INDEX(Data!$A326:$H326,,MATCH(FALSE,ISERROR(SEARCH(G$1&\"=\",Data!$A326:$H326)),0)),G$1&\"=\",\"\"),\"\")","v":""},{"$f":"IFERROR(SUBSTITUTE(INDEX(Data!$A326:$H326,,MATCH(FALSE,ISERROR(SEARCH(H$1&\"=\",Data!$A326:$H326)),0)),H$1&\"=\",\"\"),\"\")","v":""},{"$f":"IFERROR(SUBSTITUTE(INDEX(Data!$A326:$H326,,MATCH(FALSE,ISERROR(SEARCH(I$1&\"=\",Data!$A326:$H326)),0)),I$1&\"=\",\"\"),\"\")","v":""},{"$f":"IFERROR(SUBSTITUTE(INDEX(Data!$A326:$H326,,MATCH(FALSE,ISERROR(SEARCH(J$1&\"=\",Data!$A326:$H326)),0)),J$1&\"=\",\"\"),\"\")","v":""}]
[{"$f":"IFERROR(SUBSTITUTE(INDEX(Data!$A327:$H327,,MATCH(FALSE,ISERROR(SEARCH(A$1&\"=\",Data!$A327:$H327)),0)),A$1&\"=\",\"\"),\"\")","v":""},{"$f":"IFERROR(SUBSTITUTE(INDEX(Data!$A327:$H327,,MATCH(FALSE,ISERROR(SEARCH(B$1&\"=\",Data!$A327:$H327)),0)),B$1&\"=\",\"\"),\"\")","v":""},{"$f":"IFERROR(SUBSTITUTE(INDEX(Data!$A327:$H327,,MATCH(FALSE,ISERROR(SEARCH(C$1&\"=\",Data!$A327:$H327)),0)),C$1&\"=\",\"\"),\"\")","v":""},{"$f":"IFERROR(SUBSTITUTE(INDEX(Data!$A327:$H327,,MATCH(FALSE,ISERROR(SEARCH(D$1&\"=\",Data!$A327:$H327)),0)),D$1&\"=\",\"\"),\"\")","v":""},{"$f":"IFERROR(SUBSTITUTE(INDEX(Data!$A327:$H327,,MATCH(FALSE,ISERROR(SEARCH(E$1&\"=\",Data!$A327:$H327)),0)),E$1&\"=\",\"\"),\"\")","v":""},{"$f":"IFERROR(SUBSTITUTE(INDEX(Data!$A327:$H327,,MATCH(FALSE,ISERROR(SEARCH(F$1&\"=\",Data!$A327:$H327)),0)),F$1&\"=\",\"\"),\"\")","v":""},{"$f":"IFERROR(SUBSTITUTE(INDEX(Data!$A327:$H327,,MATCH(FALSE,ISERROR(SEARCH(G$1&\"=\",Data!$A327:$H327)),0)),G$1&\"=\",\"\"),\"\")","v":""},{"$f":"IFERROR(SUBSTITUTE(INDEX(Data!$A327:$H327,,MATCH(FALSE,ISERROR(SEARCH(H$1&\"=\",Data!$A327:$H327)),0)),H$1&\"=\",\"\"),\"\")","v":""},{"$f":"IFERROR(SUBSTITUTE(INDEX(Data!$A327:$H327,,MATCH(FALSE,ISERROR(SEARCH(I$1&\"=\",Data!$A327:$H327)),0)),I$1&\"=\",\"\"),\"\")","v":""},{"$f":"IFERROR(SUBSTITUTE(INDEX(Data!$A327:$H327,,MATCH(FALSE,ISERROR(SEARCH(J$1&\"=\",Data!$A327:$H327)),0)),J$1&\"=\",\"\"),\"\")","v":""}]
[{"$f":"IFERROR(SUBSTITUTE(INDEX(Data!$A328:$H328,,MATCH(FALSE,ISERROR(SEARCH(A$1&\"=\",Data!$A328:$H328)),0)),A$1&\"=\",\"\"),\"\")","v":""},{"$f":"IFERROR(SUBSTITUTE(INDEX(Data!$A328:$H328,,MATCH(FALSE,ISERROR(SEARCH(B$1&\"=\",Data!$A328:$H328)),0)),B$1&\"=\",\"\"),\"\")","v":""},{"$f":"IFERROR(SUBSTITUTE(INDEX(Data!$A328:$H328,,MATCH(FALSE,ISERROR(SEARCH(C$1&\"=\",Data!$A328:$H328)),0)),C$1&\"=\",\"\"),\"\")","v":""},{"$f":"IFERROR(SUBSTITUTE(INDEX(Data!$A328:$H328,,MATCH(FALSE,ISERROR(SEARCH(D$1&\"=\",Data!$A328:$H328)),0)),D$1&\"=\",\"\"),\"\")","v":""},{"$f":"IFERROR(SUBSTITUTE(INDEX(Data!$A328:$H328,,MATCH(FALSE,ISERROR(SEARCH(E$1&\"=\",Data!$A328:$H328)),0)),E$1&\"=\",\"\"),\"\")","v":""},{"$f":"IFERROR(SUBSTITUTE(INDEX(Data!$A328:$H328,,MATCH(FALSE,ISERROR(SEARCH(F$1&\"=\",Data!$A328:$H328)),0)),F$1&\"=\",\"\"),\"\")","v":""},{"$f":"IFERROR(SUBSTITUTE(INDEX(Data!$A328:$H328,,MATCH(FALSE,ISERROR(SEARCH(G$1&\"=\",Data!$A328:$H328)),0)),G$1&\"=\",\"\"),\"\")","v":""},{"$f":"IFERROR(SUBSTITUTE(INDEX(Data!$A328:$H328,,MATCH(FALSE,ISERROR(SEARCH(H$1&\"=\",Data!$A328:$H328)),0)),H$1&\"=\",\"\"),\"\")","v":""},{"$f":"IFERROR(SUBSTITUTE(INDEX(Data!$A328:$H328,,MATCH(FALSE,ISERROR(SEARCH(I$1&\"=\",Data!$A328:$H328)),0)),I$1&\"=\",\"\"),\"\")","v":""},{"$f":"IFERROR(SUBSTITUTE(INDEX(Data!$A328:$H328,,MATCH(FALSE,ISERROR(SEARCH(J$1&\"=\",Data!$A328:$H328)),0)),J$1&\"=\",\"\"),\"\")","v":""}]
[{"$f":"IFERROR(SUBSTITUTE(INDEX(Data!$A329:$H329,,MATCH(FALSE,ISERROR(SEARCH(A$1&\"=\",Data!$A329:$H329)),0)),A$1&\"=\",\"\"),\"\")","v":""},{"$f":"IFERROR(SUBSTITUTE(INDEX(Data!$A329:$H329,,MATCH(FALSE,ISERROR(SEARCH(B$1&\"=\",Data!$A329:$H329)),0)),B$1&\"=\",\"\"),\"\")","v":""},{"$f":"IFERROR(SUBSTITUTE(INDEX(Data!$A329:$H329,,MATCH(FALSE,ISERROR(SEARCH(C$1&\"=\",Data!$A329:$H329)),0)),C$1&\"=\",\"\"),\"\")","v":""},{"$f":"IFERROR(SUBSTITUTE(INDEX(Data!$A329:$H329,,MATCH(FALSE,ISERROR(SEARCH(D$1&\"=\",Data!$A329:$H329)),0)),D$1&\"=\",\"\"),\"\")","v":""},{"$f":"IFERROR(SUBSTITUTE(INDEX(Data!$A329:$H329,,MATCH(FALSE,ISERROR(SEARCH(E$1&\"=\",Data!$A329:$H329)),0)),E$1&\"=\",\"\"),\"\")","v":""},{"$f":"IFERROR(SUBSTITUTE(INDEX(Data!$A329:$H329,,MATCH(FALSE,ISERROR(SEARCH(F$1&\"=\",Data!$A329:$H329)),0)),F$1&\"=\",\"\"),\"\")","v":""},{"$f":"IFERROR(SUBSTITUTE(INDEX(Data!$A329:$H329,,MATCH(FALSE,ISERROR(SEARCH(G$1&\"=\",Data!$A329:$H329)),0)),G$1&\"=\",\"\"),\"\")","v":""},{"$f":"IFERROR(SUBSTITUTE(INDEX(Data!$A329:$H329,,MATCH(FALSE,ISERROR(SEARCH(H$1&\"=\",Data!$A329:$H329)),0)),H$1&\"=\",\"\"),\"\")","v":""},{"$f":"IFERROR(SUBSTITUTE(INDEX(Data!$A329:$H329,,MATCH(FALSE,ISERROR(SEARCH(I$1&\"=\",Data!$A329:$H329)),0)),I$1&\"=\",\"\"),\"\")","v":""},{"$f":"IFERROR(SUBSTITUTE(INDEX(Data!$A329:$H329,,MATCH(FALSE,ISERROR(SEARCH(J$1&\"=\",Data!$A329:$H329)),0)),J$1&\"=\",\"\"),\"\")","v":""}]
[{"$f":"IFERROR(SUBSTITUTE(INDEX(Data!$A330:$H330,,MATCH(FALSE,ISERROR(SEARCH(A$1&\"=\",Data!$A330:$H330)),0)),A$1&\"=\",\"\"),\"\")","v":""},{"$f":"IFERROR(SUBSTITUTE(INDEX(Data!$A330:$H330,,MATCH(FALSE,ISERROR(SEARCH(B$1&\"=\",Data!$A330:$H330)),0)),B$1&\"=\",\"\"),\"\")","v":""},{"$f":"IFERROR(SUBSTITUTE(INDEX(Data!$A330:$H330,,MATCH(FALSE,ISERROR(SEARCH(C$1&\"=\",Data!$A330:$H330)),0)),C$1&\"=\",\"\"),\"\")","v":""},{"$f":"IFERROR(SUBSTITUTE(INDEX(Data!$A330:$H330,,MATCH(FALSE,ISERROR(SEARCH(D$1&\"=\",Data!$A330:$H330)),0)),D$1&\"=\",\"\"),\"\")","v":""},{"$f":"IFERROR(SUBSTITUTE(INDEX(Data!$A330:$H330,,MATCH(FALSE,ISERROR(SEARCH(E$1&\"=\",Data!$A330:$H330)),0)),E$1&\"=\",\"\"),\"\")","v":""},{"$f":"IFERROR(SUBSTITUTE(INDEX(Data!$A330:$H330,,MATCH(FALSE,ISERROR(SEARCH(F$1&\"=\",Data!$A330:$H330)),0)),F$1&\"=\",\"\"),\"\")","v":""},{"$f":"IFERROR(SUBSTITUTE(INDEX(Data!$A330:$H330,,MATCH(FALSE,ISERROR(SEARCH(G$1&\"=\",Data!$A330:$H330)),0)),G$1&\"=\",\"\"),\"\")","v":""},{"$f":"IFERROR(SUBSTITUTE(INDEX(Data!$A330:$H330,,MATCH(FALSE,ISERROR(SEARCH(H$1&\"=\",Data!$A330:$H330)),0)),H$1&\"=\",\"\"),\"\")","v":""},{"$f":"IFERROR(SUBSTITUTE(INDEX(Data!$A330:$H330,,MATCH(FALSE,ISERROR(SEARCH(I$1&\"=\",Data!$A330:$H330)),0)),I$1&\"=\",\"\"),\"\")","v":""},{"$f":"IFERROR(SUBSTITUTE(INDEX(Data!$A330:$H330,,MATCH(FALSE,ISERROR(SEARCH(J$1&\"=\",Data!$A330:$H330)),0)),J$1&\"=\",\"\"),\"\")","v":""}]
[{"$f":"IFERROR(SUBSTITUTE(INDEX(Data!$A331:$H331,,MATCH(FALSE,ISERROR(SEARCH(A$1&\"=\",Data!$A331:$H331)),0)),A$1&\"=\",\"\"),\"\")","v":""},{"$f":"IFERROR(SUBSTITUTE(INDEX(Data!$A331:$H331,,MATCH(FALSE,ISERROR(SEARCH(B$1&\"=\",Data!$A331:$H331)),0)),B$1&\"=\",\"\"),\"\")","v":""},{"$f":"IFERROR(SUBSTITUTE(INDEX(Data!$A331:$H331,,MATCH(FALSE,ISERROR(SEARCH(C$1&\"=\",Data!$A331:$H331)),0)),C$1&\"=\",\"\"),\"\")","v":""},{"$f":"IFERROR(SUBSTITUTE(INDEX(Data!$A331:$H331,,MATCH(FALSE,ISERROR(SEARCH(D$1&\"=\",Data!$A331:$H331)),0)),D$1&\"=\",\"\"),\"\")","v":""},{"$f":"IFERROR(SUBSTITUTE(INDEX(Data!$A331:$H331,,MATCH(FALSE,ISERROR(SEARCH(E$1&\"=\",Data!$A331:$H331)),0)),E$1&\"=\",\"\"),\"\")","v":""},{"$f":"IFERROR(SUBSTITUTE(INDEX(Data!$A331:$H331,,MATCH(FALSE,ISERROR(SEARCH(F$1&\"=\",Data!$A331:$H331)),0)),F$1&\"=\",\"\"),\"\")","v":""},{"$f":"IFERROR(SUBSTITUTE(INDEX(Data!$A331:$H331,,MATCH(FALSE,ISERROR(SEARCH(G$1&\"=\",Data!$A331:$H331)),0)),G$1&\"=\",\"\"),\"\")","v":""},{"$f":"IFERROR(SUBSTITUTE(INDEX(Data!$A331:$H331,,MATCH(FALSE,ISERROR(SEARCH(H$1&\"=\",Data!$A331:$H331)),0)),H$1&\"=\",\"\"),\"\")","v":""},{"$f":"IFERROR(SUBSTITUTE(INDEX(Data!$A331:$H331,,MATCH(FALSE,ISERROR(SEARCH(I$1&\"=\",Data!$A331:$H331)),0)),I$1&\"=\",\"\"),\"\")","v":""},{"$f":"IFERROR(SUBSTITUTE(INDEX(Data!$A331:$H331,,MATCH(FALSE,ISERROR(SEARCH(J$1&\"=\",Data!$A331:$H331)),0)),J$1&\"=\",\"\"),\"\")","v":""}]
[{"$f":"IFERROR(SUBSTITUTE(INDEX(Data!$A332:$H332,,MATCH(FALSE,ISERROR(SEARCH(A$1&\"=\",Data!$A332:$H332)),0)),A$1&\"=\",\"\"),\"\")","v":""},{"$f":"IFERROR(SUBSTITUTE(INDEX(Data!$A332:$H332,,MATCH(FALSE,ISERROR(SEARCH(B$1&\"=\",Data!$A332:$H332)),0)),B$1&\"=\",\"\"),\"\")","v":""},{"$f":"IFERROR(SUBSTITUTE(INDEX(Data!$A332:$H332,,MATCH(FALSE,ISERROR(SEARCH(C$1&\"=\",Data!$A332:$H332)),0)),C$1&\"=\",\"\"),\"\")","v":""},{"$f":"IFERROR(SUBSTITUTE(INDEX(Data!$A332:$H332,,MATCH(FALSE,ISERROR(SEARCH(D$1&\"=\",Data!$A332:$H332)),0)),D$1&\"=\",\"\"),\"\")","v":""},{"$f":"IFERROR(SUBSTITUTE(INDEX(Data!$A332:$H332,,MATCH(FALSE,ISERROR(SEARCH(E$1&\"=\",Data!$A332:$H332)),0)),E$1&\"=\",\"\"),\"\")","v":""},{"$f":"IFERROR(SUBSTITUTE(INDEX(Data!$A332:$H332,,MATCH(FALSE,ISERROR(SEARCH(F$1&\"=\",Data!$A332:$H332)),0)),F$1&\"=\",\"\"),\"\")","v":""},{"$f":"IFERROR(SUBSTITUTE(INDEX(Data!$A332:$H332,,MATCH(FALSE,ISERROR(SEARCH(G$1&\"=\",Data!$A332:$H332)),0)),G$1&\"=\",\"\"),\"\")","v":""},{"$f":"IFERROR(SUBSTITUTE(INDEX(Data!$A332:$H332,,MATCH(FALSE,ISERROR(SEARCH(H$1&\"=\",Data!$A332:$H332)),0)),H$1&\"=\",\"\"),\"\")","v":""},{"$f":"IFERROR(SUBSTITUTE(INDEX(Data!$A332:$H332,,MATCH(FALSE,ISERROR(SEARCH(I$1&\"=\",Data!$A332:$H332)),0)),I$1&\"=\",\"\"),\"\")","v":""},{"$f":"IFERROR(SUBSTITUTE(INDEX(Data!$A332:$H332,,MATCH(FALSE,ISERROR(SEARCH(J$1&\"=\",Data!$A332:$H332)),0)),J$1&\"=\",\"\"),\"\")","v":""}]
[{"$f":"IFERROR(SUBSTITUTE(INDEX(Data!$A333:$H333,,MATCH(FALSE,ISERROR(SEARCH(A$1&\"=\",Data!$A333:$H333)),0)),A$1&\"=\",\"\"),\"\")","v":""},{"$f":"IFERROR(SUBSTITUTE(INDEX(Data!$A333:$H333,,MATCH(FALSE,ISERROR(SEARCH(B$1&\"=\",Data!$A333:$H333)),0)),B$1&\"=\",\"\"),\"\")","v":""},{"$f":"IFERROR(SUBSTITUTE(INDEX(Data!$A333:$H333,,MATCH(FALSE,ISERROR(SEARCH(C$1&\"=\",Data!$A333:$H333)),0)),C$1&\"=\",\"\"),\"\")","v":""},{"$f":"IFERROR(SUBSTITUTE(INDEX(Data!$A333:$H333,,MATCH(FALSE,ISERROR(SEARCH(D$1&\"=\",Data!$A333:$H333)),0)),D$1&\"=\",\"\"),\"\")","v":""},{"$f":"IFERROR(SUBSTITUTE(INDEX(Data!$A333:$H333,,MATCH(FALSE,ISERROR(SEARCH(E$1&\"=\",Data!$A333:$H333)),0)),E$1&\"=\",\"\"),\"\")","v":""},{"$f":"IFERROR(SUBSTITUTE(INDEX(Data!$A333:$H333,,MATCH(FALSE,ISERROR(SEARCH(F$1&\"=\",Data!$A333:$H333)),0)),F$1&\"=\",\"\"),\"\")","v":""},{"$f":"IFERROR(SUBSTITUTE(INDEX(Data!$A333:$H333,,MATCH(FALSE,ISERROR(SEARCH(G$1&\"=\",Data!$A333:$H333)),0)),G$1&\"=\",\"\"),\"\")","v":""},{"$f":"IFERROR(SUBSTITUTE(INDEX(Data!$A333:$H333,,MATCH(FALSE,ISERROR(SEARCH(H$1&\"=\",Data!$A333:$H333)),0)),H$1&\"=\",\"\"),\"\")","v":""},{"$f":"IFERROR(SUBSTITUTE(INDEX(Data!$A333:$H333,,MATCH(FALSE,ISERROR(SEARCH(I$1&\"=\",Data!$A333:$H333)),0)),I$1&\"=\",\"\"),\"\")","v":""},{"$f":"IFERROR(SUBSTITUTE(INDEX(Data!$A333:$H333,,MATCH(FALSE,ISERROR(SEARCH(J$1&\"=\",Data!$A333:$H333)),0)),J$1&\"=\",\"\"),\"\")","v":""}]
[{"$f":"IFERROR(SUBSTITUTE(INDEX(Data!$A334:$H334,,MATCH(FALSE,ISERROR(SEARCH(A$1&\"=\",Data!$A334:$H334)),0)),A$1&\"=\",\"\"),\"\")","v":""},{"$f":"IFERROR(SUBSTITUTE(INDEX(Data!$A334:$H334,,MATCH(FALSE,ISERROR(SEARCH(B$1&\"=\",Data!$A334:$H334)),0)),B$1&\"=\",\"\"),\"\")","v":""},{"$f":"IFERROR(SUBSTITUTE(INDEX(Data!$A334:$H334,,MATCH(FALSE,ISERROR(SEARCH(C$1&\"=\",Data!$A334:$H334)),0)),C$1&\"=\",\"\"),\"\")","v":""},{"$f":"IFERROR(SUBSTITUTE(INDEX(Data!$A334:$H334,,MATCH(FALSE,ISERROR(SEARCH(D$1&\"=\",Data!$A334:$H334)),0)),D$1&\"=\",\"\"),\"\")","v":""},{"$f":"IFERROR(SUBSTITUTE(INDEX(Data!$A334:$H334,,MATCH(FALSE,ISERROR(SEARCH(E$1&\"=\",Data!$A334:$H334)),0)),E$1&\"=\",\"\"),\"\")","v":""},{"$f":"IFERROR(SUBSTITUTE(INDEX(Data!$A334:$H334,,MATCH(FALSE,ISERROR(SEARCH(F$1&\"=\",Data!$A334:$H334)),0)),F$1&\"=\",\"\"),\"\")","v":""},{"$f":"IFERROR(SUBSTITUTE(INDEX(Data!$A334:$H334,,MATCH(FALSE,ISERROR(SEARCH(G$1&\"=\",Data!$A334:$H334)),0)),G$1&\"=\",\"\"),\"\")","v":""},{"$f":"IFERROR(SUBSTITUTE(INDEX(Data!$A334:$H334,,MATCH(FALSE,ISERROR(SEARCH(H$1&\"=\",Data!$A334:$H334)),0)),H$1&\"=\",\"\"),\"\")","v":""},{"$f":"IFERROR(SUBSTITUTE(INDEX(Data!$A334:$H334,,MATCH(FALSE,ISERROR(SEARCH(I$1&\"=\",Data!$A334:$H334)),0)),I$1&\"=\",\"\"),\"\")","v":""},{"$f":"IFERROR(SUBSTITUTE(INDEX(Data!$A334:$H334,,MATCH(FALSE,ISERROR(SEARCH(J$1&\"=\",Data!$A334:$H334)),0)),J$1&\"=\",\"\"),\"\")","v":""}]
[{"$f":"IFERROR(SUBSTITUTE(INDEX(Data!$A335:$H335,,MATCH(FALSE,ISERROR(SEARCH(A$1&\"=\",Data!$A335:$H335)),0)),A$1&\"=\",\"\"),\"\")","v":""},{"$f":"IFERROR(SUBSTITUTE(INDEX(Data!$A335:$H335,,MATCH(FALSE,ISERROR(SEARCH(B$1&\"=\",Data!$A335:$H335)),0)),B$1&\"=\",\"\"),\"\")","v":""},{"$f":"IFERROR(SUBSTITUTE(INDEX(Data!$A335:$H335,,MATCH(FALSE,ISERROR(SEARCH(C$1&\"=\",Data!$A335:$H335)),0)),C$1&\"=\",\"\"),\"\")","v":""},{"$f":"IFERROR(SUBSTITUTE(INDEX(Data!$A335:$H335,,MATCH(FALSE,ISERROR(SEARCH(D$1&\"=\",Data!$A335:$H335)),0)),D$1&\"=\",\"\"),\"\")","v":""},{"$f":"IFERROR(SUBSTITUTE(INDEX(Data!$A335:$H335,,MATCH(FALSE,ISERROR(SEARCH(E$1&\"=\",Data!$A335:$H335)),0)),E$1&\"=\",\"\"),\"\")","v":""},{"$f":"IFERROR(SUBSTITUTE(INDEX(Data!$A335:$H335,,MATCH(FALSE,ISERROR(SEARCH(F$1&\"=\",Data!$A335:$H335)),0)),F$1&\"=\",\"\"),\"\")","v":""},{"$f":"IFERROR(SUBSTITUTE(INDEX(Data!$A335:$H335,,MATCH(FALSE,ISERROR(SEARCH(G$1&\"=\",Data!$A335:$H335)),0)),G$1&\"=\",\"\"),\"\")","v":""},{"$f":"IFERROR(SUBSTITUTE(INDEX(Data!$A335:$H335,,MATCH(FALSE,ISERROR(SEARCH(H$1&\"=\",Data!$A335:$H335)),0)),H$1&\"=\",\"\"),\"\")","v":""},{"$f":"IFERROR(SUBSTITUTE(INDEX(Data!$A335:$H335,,MATCH(FALSE,ISERROR(SEARCH(I$1&\"=\",Data!$A335:$H335)),0)),I$1&\"=\",\"\"),\"\")","v":""},{"$f":"IFERROR(SUBSTITUTE(INDEX(Data!$A335:$H335,,MATCH(FALSE,ISERROR(SEARCH(J$1&\"=\",Data!$A335:$H335)),0)),J$1&\"=\",\"\"),\"\")","v":""}]
[{"$f":"IFERROR(SUBSTITUTE(INDEX(Data!$A336:$H336,,MATCH(FALSE,ISERROR(SEARCH(A$1&\"=\",Data!$A336:$H336)),0)),A$1&\"=\",\"\"),\"\")","v":""},{"$f":"IFERROR(SUBSTITUTE(INDEX(Data!$A336:$H336,,MATCH(FALSE,ISERROR(SEARCH(B$1&\"=\",Data!$A336:$H336)),0)),B$1&\"=\",\"\"),\"\")","v":""},{"$f":"IFERROR(SUBSTITUTE(INDEX(Data!$A336:$H336,,MATCH(FALSE,ISERROR(SEARCH(C$1&\"=\",Data!$A336:$H336)),0)),C$1&\"=\",\"\"),\"\")","v":""},{"$f":"IFERROR(SUBSTITUTE(INDEX(Data!$A336:$H336,,MATCH(FALSE,ISERROR(SEARCH(D$1&\"=\",Data!$A336:$H336)),0)),D$1&\"=\",\"\"),\"\")","v":""},{"$f":"IFERROR(SUBSTITUTE(INDEX(Data!$A336:$H336,,MATCH(FALSE,ISERROR(SEARCH(E$1&\"=\",Data!$A336:$H336)),0)),E$1&\"=\",\"\"),\"\")","v":""},{"$f":"IFERROR(SUBSTITUTE(INDEX(Data!$A336:$H336,,MATCH(FALSE,ISERROR(SEARCH(F$1&\"=\",Data!$A336:$H336)),0)),F$1&\"=\",\"\"),\"\")","v":""},{"$f":"IFERROR(SUBSTITUTE(INDEX(Data!$A336:$H336,,MATCH(FALSE,ISERROR(SEARCH(G$1&\"=\",Data!$A336:$H336)),0)),G$1&\"=\",\"\"),\"\")","v":""},{"$f":"IFERROR(SUBSTITUTE(INDEX(Data!$A336:$H336,,MATCH(FALSE,ISERROR(SEARCH(H$1&\"=\",Data!$A336:$H336)),0)),H$1&\"=\",\"\"),\"\")","v":""},{"$f":"IFERROR(SUBSTITUTE(INDEX(Data!$A336:$H336,,MATCH(FALSE,ISERROR(SEARCH(I$1&\"=\",Data!$A336:$H336)),0)),I$1&\"=\",\"\"),\"\")","v":""},{"$f":"IFERROR(SUBSTITUTE(INDEX(Data!$A336:$H336,,MATCH(FALSE,ISERROR(SEARCH(J$1&\"=\",Data!$A336:$H336)),0)),J$1&\"=\",\"\"),\"\")","v":""}]
[{"$f":"IFERROR(SUBSTITUTE(INDEX(Data!$A337:$H337,,MATCH(FALSE,ISERROR(SEARCH(A$1&\"=\",Data!$A337:$H337)),0)),A$1&\"=\",\"\"),\"\")","v":""},{"$f":"IFERROR(SUBSTITUTE(INDEX(Data!$A337:$H337,,MATCH(FALSE,ISERROR(SEARCH(B$1&\"=\",Data!$A337:$H337)),0)),B$1&\"=\",\"\"),\"\")","v":""},{"$f":"IFERROR(SUBSTITUTE(INDEX(Data!$A337:$H337,,MATCH(FALSE,ISERROR(SEARCH(C$1&\"=\",Data!$A337:$H337)),0)),C$1&\"=\",\"\"),\"\")","v":""},{"$f":"IFERROR(SUBSTITUTE(INDEX(Data!$A337:$H337,,MATCH(FALSE,ISERROR(SEARCH(D$1&\"=\",Data!$A337:$H337)),0)),D$1&\"=\",\"\"),\"\")","v":""},{"$f":"IFERROR(SUBSTITUTE(INDEX(Data!$A337:$H337,,MATCH(FALSE,ISERROR(SEARCH(E$1&\"=\",Data!$A337:$H337)),0)),E$1&\"=\",\"\"),\"\")","v":""},{"$f":"IFERROR(SUBSTITUTE(INDEX(Data!$A337:$H337,,MATCH(FALSE,ISERROR(SEARCH(F$1&\"=\",Data!$A337:$H337)),0)),F$1&\"=\",\"\"),\"\")","v":""},{"$f":"IFERROR(SUBSTITUTE(INDEX(Data!$A337:$H337,,MATCH(FALSE,ISERROR(SEARCH(G$1&\"=\",Data!$A337:$H337)),0)),G$1&\"=\",\"\"),\"\")","v":""},{"$f":"IFERROR(SUBSTITUTE(INDEX(Data!$A337:$H337,,MATCH(FALSE,ISERROR(SEARCH(H$1&\"=\",Data!$A337:$H337)),0)),H$1&\"=\",\"\"),\"\")","v":""},{"$f":"IFERROR(SUBSTITUTE(INDEX(Data!$A337:$H337,,MATCH(FALSE,ISERROR(SEARCH(I$1&\"=\",Data!$A337:$H337)),0)),I$1&\"=\",\"\"),\"\")","v":""},{"$f":"IFERROR(SUBSTITUTE(INDEX(Data!$A337:$H337,,MATCH(FALSE,ISERROR(SEARCH(J$1&\"=\",Data!$A337:$H337)),0)),J$1&\"=\",\"\"),\"\")","v":""}]
[{"$f":"IFERROR(SUBSTITUTE(INDEX(Data!$A338:$H338,,MATCH(FALSE,ISERROR(SEARCH(A$1&\"=\",Data!$A338:$H338)),0)),A$1&\"=\",\"\"),\"\")","v":""},{"$f":"IFERROR(SUBSTITUTE(INDEX(Data!$A338:$H338,,MATCH(FALSE,ISERROR(SEARCH(B$1&\"=\",Data!$A338:$H338)),0)),B$1&\"=\",\"\"),\"\")","v":""},{"$f":"IFERROR(SUBSTITUTE(INDEX(Data!$A338:$H338,,MATCH(FALSE,ISERROR(SEARCH(C$1&\"=\",Data!$A338:$H338)),0)),C$1&\"=\",\"\"),\"\")","v":""},{"$f":"IFERROR(SUBSTITUTE(INDEX(Data!$A338:$H338,,MATCH(FALSE,ISERROR(SEARCH(D$1&\"=\",Data!$A338:$H338)),0)),D$1&\"=\",\"\"),\"\")","v":""},{"$f":"IFERROR(SUBSTITUTE(INDEX(Data!$A338:$H338,,MATCH(FALSE,ISERROR(SEARCH(E$1&\"=\",Data!$A338:$H338)),0)),E$1&\"=\",\"\"),\"\")","v":""},{"$f":"IFERROR(SUBSTITUTE(INDEX(Data!$A338:$H338,,MATCH(FALSE,ISERROR(SEARCH(F$1&\"=\",Data!$A338:$H338)),0)),F$1&\"=\",\"\"),\"\")","v":""},{"$f":"IFERROR(SUBSTITUTE(INDEX(Data!$A338:$H338,,MATCH(FALSE,ISERROR(SEARCH(G$1&\"=\",Data!$A338:$H338)),0)),G$1&\"=\",\"\"),\"\")","v":""},{"$f":"IFERROR(SUBSTITUTE(INDEX(Data!$A338:$H338,,MATCH(FALSE,ISERROR(SEARCH(H$1&\"=\",Data!$A338:$H338)),0)),H$1&\"=\",\"\"),\"\")","v":""},{"$f":"IFERROR(SUBSTITUTE(INDEX(Data!$A338:$H338,,MATCH(FALSE,ISERROR(SEARCH(I$1&\"=\",Data!$A338:$H338)),0)),I$1&\"=\",\"\"),\"\")","v":""},{"$f":"IFERROR(SUBSTITUTE(INDEX(Data!$A338:$H338,,MATCH(FALSE,ISERROR(SEARCH(J$1&\"=\",Data!$A338:$H338)),0)),J$1&\"=\",\"\"),\"\")","v":""}]
[{"$f":"IFERROR(SUBSTITUTE(INDEX(Data!$A339:$H339,,MATCH(FALSE,ISERROR(SEARCH(A$1&\"=\",Data!$A339:$H339)),0)),A$1&\"=\",\"\"),\"\")","v":""},{"$f":"IFERROR(SUBSTITUTE(INDEX(Data!$A339:$H339,,MATCH(FALSE,ISERROR(SEARCH(B$1&\"=\",Data!$A339:$H339)),0)),B$1&\"=\",\"\"),\"\")","v":""},{"$f":"IFERROR(SUBSTITUTE(INDEX(Data!$A339:$H339,,MATCH(FALSE,ISERROR(SEARCH(C$1&\"=\",Data!$A339:$H339)),0)),C$1&\"=\",\"\"),\"\")","v":""},{"$f":"IFERROR(SUBSTITUTE(INDEX(Data!$A339:$H339,,MATCH(FALSE,ISERROR(SEARCH(D$1&\"=\",Data!$A339:$H339)),0)),D$1&\"=\",\"\"),\"\")","v":""},{"$f":"IFERROR(SUBSTITUTE(INDEX(Data!$A339:$H339,,MATCH(FALSE,ISERROR(SEARCH(E$1&\"=\",Data!$A339:$H339)),0)),E$1&\"=\",\"\"),\"\")","v":""},{"$f":"IFERROR(SUBSTITUTE(INDEX(Data!$A339:$H339,,MATCH(FALSE,ISERROR(SEARCH(F$1&\"=\",Data!$A339:$H339)),0)),F$1&\"=\",\"\"),\"\")","v":""},{"$f":"IFERROR(SUBSTITUTE(INDEX(Data!$A339:$H339,,MATCH(FALSE,ISERROR(SEARCH(G$1&\"=\",Data!$A339:$H339)),0)),G$1&\"=\",\"\"),\"\")","v":""},{"$f":"IFERROR(SUBSTITUTE(INDEX(Data!$A339:$H339,,MATCH(FALSE,ISERROR(SEARCH(H$1&\"=\",Data!$A339:$H339)),0)),H$1&\"=\",\"\"),\"\")","v":""},{"$f":"IFERROR(SUBSTITUTE(INDEX(Data!$A339:$H339,,MATCH(FALSE,ISERROR(SEARCH(I$1&\"=\",Data!$A339:$H339)),0)),I$1&\"=\",\"\"),\"\")","v":""},{"$f":"IFERROR(SUBSTITUTE(INDEX(Data!$A339:$H339,,MATCH(FALSE,ISERROR(SEARCH(J$1&\"=\",Data!$A339:$H339)),0)),J$1&\"=\",\"\"),\"\")","v":""}]
[{"$f":"IFERROR(SUBSTITUTE(INDEX(Data!$A340:$H340,,MATCH(FALSE,ISERROR(SEARCH(A$1&\"=\",Data!$A340:$H340)),0)),A$1&\"=\",\"\"),\"\")","v":""},{"$f":"IFERROR(SUBSTITUTE(INDEX(Data!$A340:$H340,,MATCH(FALSE,ISERROR(SEARCH(B$1&\"=\",Data!$A340:$H340)),0)),B$1&\"=\",\"\"),\"\")","v":""},{"$f":"IFERROR(SUBSTITUTE(INDEX(Data!$A340:$H340,,MATCH(FALSE,ISERROR(SEARCH(C$1&\"=\",Data!$A340:$H340)),0)),C$1&\"=\",\"\"),\"\")","v":""},{"$f":"IFERROR(SUBSTITUTE(INDEX(Data!$A340:$H340,,MATCH(FALSE,ISERROR(SEARCH(D$1&\"=\",Data!$A340:$H340)),0)),D$1&\"=\",\"\"),\"\")","v":""},{"$f":"IFERROR(SUBSTITUTE(INDEX(Data!$A340:$H340,,MATCH(FALSE,ISERROR(SEARCH(E$1&\"=\",Data!$A340:$H340)),0)),E$1&\"=\",\"\"),\"\")","v":""},{"$f":"IFERROR(SUBSTITUTE(INDEX(Data!$A340:$H340,,MATCH(FALSE,ISERROR(SEARCH(F$1&\"=\",Data!$A340:$H340)),0)),F$1&\"=\",\"\"),\"\")","v":""},{"$f":"IFERROR(SUBSTITUTE(INDEX(Data!$A340:$H340,,MATCH(FALSE,ISERROR(SEARCH(G$1&\"=\",Data!$A340:$H340)),0)),G$1&\"=\",\"\"),\"\")","v":""},{"$f":"IFERROR(SUBSTITUTE(INDEX(Data!$A340:$H340,,MATCH(FALSE,ISERROR(SEARCH(H$1&\"=\",Data!$A340:$H340)),0)),H$1&\"=\",\"\"),\"\")","v":""},{"$f":"IFERROR(SUBSTITUTE(INDEX(Data!$A340:$H340,,MATCH(FALSE,ISERROR(SEARCH(I$1&\"=\",Data!$A340:$H340)),0)),I$1&\"=\",\"\"),\"\")","v":""},{"$f":"IFERROR(SUBSTITUTE(INDEX(Data!$A340:$H340,,MATCH(FALSE,ISERROR(SEARCH(J$1&\"=\",Data!$A340:$H340)),0)),J$1&\"=\",\"\"),\"\")","v":""}]
[{"$f":"IFERROR(SUBSTITUTE(INDEX(Data!$A341:$H341,,MATCH(FALSE,ISERROR(SEARCH(A$1&\"=\",Data!$A341:$H341)),0)),A$1&\"=\",\"\"),\"\")","v":""},{"$f":"IFERROR(SUBSTITUTE(INDEX(Data!$A341:$H341,,MATCH(FALSE,ISERROR(SEARCH(B$1&\"=\",Data!$A341:$H341)),0)),B$1&\"=\",\"\"),\"\")","v":""},{"$f":"IFERROR(SUBSTITUTE(INDEX(Data!$A341:$H341,,MATCH(FALSE,ISERROR(SEARCH(C$1&\"=\",Data!$A341:$H341)),0)),C$1&\"=\",\"\"),\"\")","v":""},{"$f":"IFERROR(SUBSTITUTE(INDEX(Data!$A341:$H341,,MATCH(FALSE,ISERROR(SEARCH(D$1&\"=\",Data!$A341:$H341)),0)),D$1&\"=\",\"\"),\"\")","v":""},{"$f":"IFERROR(SUBSTITUTE(INDEX(Data!$A341:$H341,,MATCH(FALSE,ISERROR(SEARCH(E$1&\"=\",Data!$A341:$H341)),0)),E$1&\"=\",\"\"),\"\")","v":""},{"$f":"IFERROR(SUBSTITUTE(INDEX(Data!$A341:$H341,,MATCH(FALSE,ISERROR(SEARCH(F$1&\"=\",Data!$A341:$H341)),0)),F$1&\"=\",\"\"),\"\")","v":""},{"$f":"IFERROR(SUBSTITUTE(INDEX(Data!$A341:$H341,,MATCH(FALSE,ISERROR(SEARCH(G$1&\"=\",Data!$A341:$H341)),0)),G$1&\"=\",\"\"),\"\")","v":""},{"$f":"IFERROR(SUBSTITUTE(INDEX(Data!$A341:$H341,,MATCH(FALSE,ISERROR(SEARCH(H$1&\"=\",Data!$A341:$H341)),0)),H$1&\"=\",\"\"),\"\")","v":""},{"$f":"IFERROR(SUBSTITUTE(INDEX(Data!$A341:$H341,,MATCH(FALSE,ISERROR(SEARCH(I$1&\"=\",Data!$A341:$H341)),0)),I$1&\"=\",\"\"),\"\")","v":""},{"$f":"IFERROR(SUBSTITUTE(INDEX(Data!$A341:$H341,,MATCH(FALSE,ISERROR(SEARCH(J$1&\"=\",Data!$A341:$H341)),0)),J$1&\"=\",\"\"),\"\")","v":""}]
[{"$f":"IFERROR(SUBSTITUTE(INDEX(Data!$A342:$H342,,MATCH(FALSE,ISERROR(SEARCH(A$1&\"=\",Data!$A342:$H342)),0)),A$1&\"=\",\"\"),\"\")","v":""},{"$f":"IFERROR(SUBSTITUTE(INDEX(Data!$A342:$H342,,MATCH(FALSE,ISERROR(SEARCH(B$1&\"=\",Data!$A342:$H342)),0)),B$1&\"=\",\"\"),\"\")","v":""},{"$f":"IFERROR(SUBSTITUTE(INDEX(Data!$A342:$H342,,MATCH(FALSE,ISERROR(SEARCH(C$1&\"=\",Data!$A342:$H342)),0)),C$1&\"=\",\"\"),\"\")","v":""},{"$f":"IFERROR(SUBSTITUTE(INDEX(Data!$A342:$H342,,MATCH(FALSE,ISERROR(SEARCH(D$1&\"=\",Data!$A342:$H342)),0)),D$1&\"=\",\"\"),\"\")","v":""},{"$f":"IFERROR(SUBSTITUTE(INDEX(Data!$A342:$H342,,MATCH(FALSE,ISERROR(SEARCH(E$1&\"=\",Data!$A342:$H342)),0)),E$1&\"=\",\"\"),\"\")","v":""},{"$f":"IFERROR(SUBSTITUTE(INDEX(Data!$A342:$H342,,MATCH(FALSE,ISERROR(SEARCH(F$1&\"=\",Data!$A342:$H342)),0)),F$1&\"=\",\"\"),\"\")","v":""},{"$f":"IFERROR(SUBSTITUTE(INDEX(Data!$A342:$H342,,MATCH(FALSE,ISERROR(SEARCH(G$1&\"=\",Data!$A342:$H342)),0)),G$1&\"=\",\"\"),\"\")","v":""},{"$f":"IFERROR(SUBSTITUTE(INDEX(Data!$A342:$H342,,MATCH(FALSE,ISERROR(SEARCH(H$1&\"=\",Data!$A342:$H342)),0)),H$1&\"=\",\"\"),\"\")","v":""},{"$f":"IFERROR(SUBSTITUTE(INDEX(Data!$A342:$H342,,MATCH(FALSE,ISERROR(SEARCH(I$1&\"=\",Data!$A342:$H342)),0)),I$1&\"=\",\"\"),\"\")","v":""},{"$f":"IFERROR(SUBSTITUTE(INDEX(Data!$A342:$H342,,MATCH(FALSE,ISERROR(SEARCH(J$1&\"=\",Data!$A342:$H342)),0)),J$1&\"=\",\"\"),\"\")","v":""}]
[{"$f":"IFERROR(SUBSTITUTE(INDEX(Data!$A343:$H343,,MATCH(FALSE,ISERROR(SEARCH(A$1&\"=\",Data!$A343:$H343)),0)),A$1&\"=\",\"\"),\"\")","v":""},{"$f":"IFERROR(SUBSTITUTE(INDEX(Data!$A343:$H343,,MATCH(FALSE,ISERROR(SEARCH(B$1&\"=\",Data!$A343:$H343)),0)),B$1&\"=\",\"\"),\"\")","v":""},{"$f":"IFERROR(SUBSTITUTE(INDEX(Data!$A343:$H343,,MATCH(FALSE,ISERROR(SEARCH(C$1&\"=\",Data!$A343:$H343)),0)),C$1&\"=\",\"\"),\"\")","v":""},{"$f":"IFERROR(SUBSTITUTE(INDEX(Data!$A343:$H343,,MATCH(FALSE,ISERROR(SEARCH(D$1&\"=\",Data!$A343:$H343)),0)),D$1&\"=\",\"\"),\"\")","v":""},{"$f":"IFERROR(SUBSTITUTE(INDEX(Data!$A343:$H343,,MATCH(FALSE,ISERROR(SEARCH(E$1&\"=\",Data!$A343:$H343)),0)),E$1&\"=\",\"\"),\"\")","v":""},{"$f":"IFERROR(SUBSTITUTE(INDEX(Data!$A343:$H343,,MATCH(FALSE,ISERROR(SEARCH(F$1&\"=\",Data!$A343:$H343)),0)),F$1&\"=\",\"\"),\"\")","v":""},{"$f":"IFERROR(SUBSTITUTE(INDEX(Data!$A343:$H343,,MATCH(FALSE,ISERROR(SEARCH(G$1&\"=\",Data!$A343:$H343)),0)),G$1&\"=\",\"\"),\"\")","v":""},{"$f":"IFERROR(SUBSTITUTE(INDEX(Data!$A343:$H343,,MATCH(FALSE,ISERROR(SEARCH(H$1&\"=\",Data!$A343:$H343)),0)),H$1&\"=\",\"\"),\"\")","v":""},{"$f":"IFERROR(SUBSTITUTE(INDEX(Data!$A343:$H343,,MATCH(FALSE,ISERROR(SEARCH(I$1&\"=\",Data!$A343:$H343)),0)),I$1&\"=\",\"\"),\"\")","v":""},{"$f":"IFERROR(SUBSTITUTE(INDEX(Data!$A343:$H343,,MATCH(FALSE,ISERROR(SEARCH(J$1&\"=\",Data!$A343:$H343)),0)),J$1&\"=\",\"\"),\"\")","v":""}]
[{"$f":"IFERROR(SUBSTITUTE(INDEX(Data!$A344:$H344,,MATCH(FALSE,ISERROR(SEARCH(A$1&\"=\",Data!$A344:$H344)),0)),A$1&\"=\",\"\"),\"\")","v":""},{"$f":"IFERROR(SUBSTITUTE(INDEX(Data!$A344:$H344,,MATCH(FALSE,ISERROR(SEARCH(B$1&\"=\",Data!$A344:$H344)),0)),B$1&\"=\",\"\"),\"\")","v":""},{"$f":"IFERROR(SUBSTITUTE(INDEX(Data!$A344:$H344,,MATCH(FALSE,ISERROR(SEARCH(C$1&\"=\",Data!$A344:$H344)),0)),C$1&\"=\",\"\"),\"\")","v":""},{"$f":"IFERROR(SUBSTITUTE(INDEX(Data!$A344:$H344,,MATCH(FALSE,ISERROR(SEARCH(D$1&\"=\",Data!$A344:$H344)),0)),D$1&\"=\",\"\"),\"\")","v":""},{"$f":"IFERROR(SUBSTITUTE(INDEX(Data!$A344:$H344,,MATCH(FALSE,ISERROR(SEARCH(E$1&\"=\",Data!$A344:$H344)),0)),E$1&\"=\",\"\"),\"\")","v":""},{"$f":"IFERROR(SUBSTITUTE(INDEX(Data!$A344:$H344,,MATCH(FALSE,ISERROR(SEARCH(F$1&\"=\",Data!$A344:$H344)),0)),F$1&\"=\",\"\"),\"\")","v":""},{"$f":"IFERROR(SUBSTITUTE(INDEX(Data!$A344:$H344,,MATCH(FALSE,ISERROR(SEARCH(G$1&\"=\",Data!$A344:$H344)),0)),G$1&\"=\",\"\"),\"\")","v":""},{"$f":"IFERROR(SUBSTITUTE(INDEX(Data!$A344:$H344,,MATCH(FALSE,ISERROR(SEARCH(H$1&\"=\",Data!$A344:$H344)),0)),H$1&\"=\",\"\"),\"\")","v":""},{"$f":"IFERROR(SUBSTITUTE(INDEX(Data!$A344:$H344,,MATCH(FALSE,ISERROR(SEARCH(I$1&\"=\",Data!$A344:$H344)),0)),I$1&\"=\",\"\"),\"\")","v":""},{"$f":"IFERROR(SUBSTITUTE(INDEX(Data!$A344:$H344,,MATCH(FALSE,ISERROR(SEARCH(J$1&\"=\",Data!$A344:$H344)),0)),J$1&\"=\",\"\"),\"\")","v":""}]
[{"$f":"IFERROR(SUBSTITUTE(INDEX(Data!$A345:$H345,,MATCH(FALSE,ISERROR(SEARCH(A$1&\"=\",Data!$A345:$H345)),0)),A$1&\"=\",\"\"),\"\")","v":""},{"$f":"IFERROR(SUBSTITUTE(INDEX(Data!$A345:$H345,,MATCH(FALSE,ISERROR(SEARCH(B$1&\"=\",Data!$A345:$H345)),0)),B$1&\"=\",\"\"),\"\")","v":""},{"$f":"IFERROR(SUBSTITUTE(INDEX(Data!$A345:$H345,,MATCH(FALSE,ISERROR(SEARCH(C$1&\"=\",Data!$A345:$H345)),0)),C$1&\"=\",\"\"),\"\")","v":""},{"$f":"IFERROR(SUBSTITUTE(INDEX(Data!$A345:$H345,,MATCH(FALSE,ISERROR(SEARCH(D$1&\"=\",Data!$A345:$H345)),0)),D$1&\"=\",\"\"),\"\")","v":""},{"$f":"IFERROR(SUBSTITUTE(INDEX(Data!$A345:$H345,,MATCH(FALSE,ISERROR(SEARCH(E$1&\"=\",Data!$A345:$H345)),0)),E$1&\"=\",\"\"),\"\")","v":""},{"$f":"IFERROR(SUBSTITUTE(INDEX(Data!$A345:$H345,,MATCH(FALSE,ISERROR(SEARCH(F$1&\"=\",Data!$A345:$H345)),0)),F$1&\"=\",\"\"),\"\")","v":""},{"$f":"IFERROR(SUBSTITUTE(INDEX(Data!$A345:$H345,,MATCH(FALSE,ISERROR(SEARCH(G$1&\"=\",Data!$A345:$H345)),0)),G$1&\"=\",\"\"),\"\")","v":""},{"$f":"IFERROR(SUBSTITUTE(INDEX(Data!$A345:$H345,,MATCH(FALSE,ISERROR(SEARCH(H$1&\"=\",Data!$A345:$H345)),0)),H$1&\"=\",\"\"),\"\")","v":""},{"$f":"IFERROR(SUBSTITUTE(INDEX(Data!$A345:$H345,,MATCH(FALSE,ISERROR(SEARCH(I$1&\"=\",Data!$A345:$H345)),0)),I$1&\"=\",\"\"),\"\")","v":""},{"$f":"IFERROR(SUBSTITUTE(INDEX(Data!$A345:$H345,,MATCH(FALSE,ISERROR(SEARCH(J$1&\"=\",Data!$A345:$H345)),0)),J$1&\"=\",\"\"),\"\")","v":""}]
[{"$f":"IFERROR(SUBSTITUTE(INDEX(Data!$A346:$H346,,MATCH(FALSE,ISERROR(SEARCH(A$1&\"=\",Data!$A346:$H346)),0)),A$1&\"=\",\"\"),\"\")","v":""},{"$f":"IFERROR(SUBSTITUTE(INDEX(Data!$A346:$H346,,MATCH(FALSE,ISERROR(SEARCH(B$1&\"=\",Data!$A346:$H346)),0)),B$1&\"=\",\"\"),\"\")","v":""},{"$f":"IFERROR(SUBSTITUTE(INDEX(Data!$A346:$H346,,MATCH(FALSE,ISERROR(SEARCH(C$1&\"=\",Data!$A346:$H346)),0)),C$1&\"=\",\"\"),\"\")","v":""},{"$f":"IFERROR(SUBSTITUTE(INDEX(Data!$A346:$H346,,MATCH(FALSE,ISERROR(SEARCH(D$1&\"=\",Data!$A346:$H346)),0)),D$1&\"=\",\"\"),\"\")","v":""},{"$f":"IFERROR(SUBSTITUTE(INDEX(Data!$A346:$H346,,MATCH(FALSE,ISERROR(SEARCH(E$1&\"=\",Data!$A346:$H346)),0)),E$1&\"=\",\"\"),\"\")","v":""},{"$f":"IFERROR(SUBSTITUTE(INDEX(Data!$A346:$H346,,MATCH(FALSE,ISERROR(SEARCH(F$1&\"=\",Data!$A346:$H346)),0)),F$1&\"=\",\"\"),\"\")","v":""},{"$f":"IFERROR(SUBSTITUTE(INDEX(Data!$A346:$H346,,MATCH(FALSE,ISERROR(SEARCH(G$1&\"=\",Data!$A346:$H346)),0)),G$1&\"=\",\"\"),\"\")","v":""},{"$f":"IFERROR(SUBSTITUTE(INDEX(Data!$A346:$H346,,MATCH(FALSE,ISERROR(SEARCH(H$1&\"=\",Data!$A346:$H346)),0)),H$1&\"=\",\"\"),\"\")","v":""},{"$f":"IFERROR(SUBSTITUTE(INDEX(Data!$A346:$H346,,MATCH(FALSE,ISERROR(SEARCH(I$1&\"=\",Data!$A346:$H346)),0)),I$1&\"=\",\"\"),\"\")","v":""},{"$f":"IFERROR(SUBSTITUTE(INDEX(Data!$A346:$H346,,MATCH(FALSE,ISERROR(SEARCH(J$1&\"=\",Data!$A346:$H346)),0)),J$1&\"=\",\"\"),\"\")","v":""}]
[{"$f":"IFERROR(SUBSTITUTE(INDEX(Data!$A347:$H347,,MATCH(FALSE,ISERROR(SEARCH(A$1&\"=\",Data!$A347:$H347)),0)),A$1&\"=\",\"\"),\"\")","v":""},{"$f":"IFERROR(SUBSTITUTE(INDEX(Data!$A347:$H347,,MATCH(FALSE,ISERROR(SEARCH(B$1&\"=\",Data!$A347:$H347)),0)),B$1&\"=\",\"\"),\"\")","v":""},{"$f":"IFERROR(SUBSTITUTE(INDEX(Data!$A347:$H347,,MATCH(FALSE,ISERROR(SEARCH(C$1&\"=\",Data!$A347:$H347)),0)),C$1&\"=\",\"\"),\"\")","v":""},{"$f":"IFERROR(SUBSTITUTE(INDEX(Data!$A347:$H347,,MATCH(FALSE,ISERROR(SEARCH(D$1&\"=\",Data!$A347:$H347)),0)),D$1&\"=\",\"\"),\"\")","v":""},{"$f":"IFERROR(SUBSTITUTE(INDEX(Data!$A347:$H347,,MATCH(FALSE,ISERROR(SEARCH(E$1&\"=\",Data!$A347:$H347)),0)),E$1&\"=\",\"\"),\"\")","v":""},{"$f":"IFERROR(SUBSTITUTE(INDEX(Data!$A347:$H347,,MATCH(FALSE,ISERROR(SEARCH(F$1&\"=\",Data!$A347:$H347)),0)),F$1&\"=\",\"\"),\"\")","v":""},{"$f":"IFERROR(SUBSTITUTE(INDEX(Data!$A347:$H347,,MATCH(FALSE,ISERROR(SEARCH(G$1&\"=\",Data!$A347:$H347)),0)),G$1&\"=\",\"\"),\"\")","v":""},{"$f":"IFERROR(SUBSTITUTE(INDEX(Data!$A347:$H347,,MATCH(FALSE,ISERROR(SEARCH(H$1&\"=\",Data!$A347:$H347)),0)),H$1&\"=\",\"\"),\"\")","v":""},{"$f":"IFERROR(SUBSTITUTE(INDEX(Data!$A347:$H347,,MATCH(FALSE,ISERROR(SEARCH(I$1&\"=\",Data!$A347:$H347)),0)),I$1&\"=\",\"\"),\"\")","v":""},{"$f":"IFERROR(SUBSTITUTE(INDEX(Data!$A347:$H347,,MATCH(FALSE,ISERROR(SEARCH(J$1&\"=\",Data!$A347:$H347)),0)),J$1&\"=\",\"\"),\"\")","v":""}]
[{"$f":"IFERROR(SUBSTITUTE(INDEX(Data!$A348:$H348,,MATCH(FALSE,ISERROR(SEARCH(A$1&\"=\",Data!$A348:$H348)),0)),A$1&\"=\",\"\"),\"\")","v":""},{"$f":"IFERROR(SUBSTITUTE(INDEX(Data!$A348:$H348,,MATCH(FALSE,ISERROR(SEARCH(B$1&\"=\",Data!$A348:$H348)),0)),B$1&\"=\",\"\"),\"\")","v":""},{"$f":"IFERROR(SUBSTITUTE(INDEX(Data!$A348:$H348,,MATCH(FALSE,ISERROR(SEARCH(C$1&\"=\",Data!$A348:$H348)),0)),C$1&\"=\",\"\"),\"\")","v":""},{"$f":"IFERROR(SUBSTITUTE(INDEX(Data!$A348:$H348,,MATCH(FALSE,ISERROR(SEARCH(D$1&\"=\",Data!$A348:$H348)),0)),D$1&\"=\",\"\"),\"\")","v":""},{"$f":"IFERROR(SUBSTITUTE(INDEX(Data!$A348:$H348,,MATCH(FALSE,ISERROR(SEARCH(E$1&\"=\",Data!$A348:$H348)),0)),E$1&\"=\",\"\"),\"\")","v":""},{"$f":"IFERROR(SUBSTITUTE(INDEX(Data!$A348:$H348,,MATCH(FALSE,ISERROR(SEARCH(F$1&\"=\",Data!$A348:$H348)),0)),F$1&\"=\",\"\"),\"\")","v":""},{"$f":"IFERROR(SUBSTITUTE(INDEX(Data!$A348:$H348,,MATCH(FALSE,ISERROR(SEARCH(G$1&\"=\",Data!$A348:$H348)),0)),G$1&\"=\",\"\"),\"\")","v":""},{"$f":"IFERROR(SUBSTITUTE(INDEX(Data!$A348:$H348,,MATCH(FALSE,ISERROR(SEARCH(H$1&\"=\",Data!$A348:$H348)),0)),H$1&\"=\",\"\"),\"\")","v":""},{"$f":"IFERROR(SUBSTITUTE(INDEX(Data!$A348:$H348,,MATCH(FALSE,ISERROR(SEARCH(I$1&\"=\",Data!$A348:$H348)),0)),I$1&\"=\",\"\"),\"\")","v":""},{"$f":"IFERROR(SUBSTITUTE(INDEX(Data!$A348:$H348,,MATCH(FALSE,ISERROR(SEARCH(J$1&\"=\",Data!$A348:$H348)),0)),J$1&\"=\",\"\"),\"\")","v":""}]
[{"$f":"IFERROR(SUBSTITUTE(INDEX(Data!$A349:$H349,,MATCH(FALSE,ISERROR(SEARCH(A$1&\"=\",Data!$A349:$H349)),0)),A$1&\"=\",\"\"),\"\")","v":""},{"$f":"IFERROR(SUBSTITUTE(INDEX(Data!$A349:$H349,,MATCH(FALSE,ISERROR(SEARCH(B$1&\"=\",Data!$A349:$H349)),0)),B$1&\"=\",\"\"),\"\")","v":""},{"$f":"IFERROR(SUBSTITUTE(INDEX(Data!$A349:$H349,,MATCH(FALSE,ISERROR(SEARCH(C$1&\"=\",Data!$A349:$H349)),0)),C$1&\"=\",\"\"),\"\")","v":""},{"$f":"IFERROR(SUBSTITUTE(INDEX(Data!$A349:$H349,,MATCH(FALSE,ISERROR(SEARCH(D$1&\"=\",Data!$A349:$H349)),0)),D$1&\"=\",\"\"),\"\")","v":""},{"$f":"IFERROR(SUBSTITUTE(INDEX(Data!$A349:$H349,,MATCH(FALSE,ISERROR(SEARCH(E$1&\"=\",Data!$A349:$H349)),0)),E$1&\"=\",\"\"),\"\")","v":""},{"$f":"IFERROR(SUBSTITUTE(INDEX(Data!$A349:$H349,,MATCH(FALSE,ISERROR(SEARCH(F$1&\"=\",Data!$A349:$H349)),0)),F$1&\"=\",\"\"),\"\")","v":""},{"$f":"IFERROR(SUBSTITUTE(INDEX(Data!$A349:$H349,,MATCH(FALSE,ISERROR(SEARCH(G$1&\"=\",Data!$A349:$H349)),0)),G$1&\"=\",\"\"),\"\")","v":""},{"$f":"IFERROR(SUBSTITUTE(INDEX(Data!$A349:$H349,,MATCH(FALSE,ISERROR(SEARCH(H$1&\"=\",Data!$A349:$H349)),0)),H$1&\"=\",\"\"),\"\")","v":""},{"$f":"IFERROR(SUBSTITUTE(INDEX(Data!$A349:$H349,,MATCH(FALSE,ISERROR(SEARCH(I$1&\"=\",Data!$A349:$H349)),0)),I$1&\"=\",\"\"),\"\")","v":""},{"$f":"IFERROR(SUBSTITUTE(INDEX(Data!$A349:$H349,,MATCH(FALSE,ISERROR(SEARCH(J$1&\"=\",Data!$A349:$H349)),0)),J$1&\"=\",\"\"),\"\")","v":""}]
[{"$f":"IFERROR(SUBSTITUTE(INDEX(Data!$A350:$H350,,MATCH(FALSE,ISERROR(SEARCH(A$1&\"=\",Data!$A350:$H350)),0)),A$1&\"=\",\"\"),\"\")","v":""},{"$f":"IFERROR(SUBSTITUTE(INDEX(Data!$A350:$H350,,MATCH(FALSE,ISERROR(SEARCH(B$1&\"=\",Data!$A350:$H350)),0)),B$1&\"=\",\"\"),\"\")","v":""},{"$f":"IFERROR(SUBSTITUTE(INDEX(Data!$A350:$H350,,MATCH(FALSE,ISERROR(SEARCH(C$1&\"=\",Data!$A350:$H350)),0)),C$1&\"=\",\"\"),\"\")","v":""},{"$f":"IFERROR(SUBSTITUTE(INDEX(Data!$A350:$H350,,MATCH(FALSE,ISERROR(SEARCH(D$1&\"=\",Data!$A350:$H350)),0)),D$1&\"=\",\"\"),\"\")","v":""},{"$f":"IFERROR(SUBSTITUTE(INDEX(Data!$A350:$H350,,MATCH(FALSE,ISERROR(SEARCH(E$1&\"=\",Data!$A350:$H350)),0)),E$1&\"=\",\"\"),\"\")","v":""},{"$f":"IFERROR(SUBSTITUTE(INDEX(Data!$A350:$H350,,MATCH(FALSE,ISERROR(SEARCH(F$1&\"=\",Data!$A350:$H350)),0)),F$1&\"=\",\"\"),\"\")","v":""},{"$f":"IFERROR(SUBSTITUTE(INDEX(Data!$A350:$H350,,MATCH(FALSE,ISERROR(SEARCH(G$1&\"=\",Data!$A350:$H350)),0)),G$1&\"=\",\"\"),\"\")","v":""},{"$f":"IFERROR(SUBSTITUTE(INDEX(Data!$A350:$H350,,MATCH(FALSE,ISERROR(SEARCH(H$1&\"=\",Data!$A350:$H350)),0)),H$1&\"=\",\"\"),\"\")","v":""},{"$f":"IFERROR(SUBSTITUTE(INDEX(Data!$A350:$H350,,MATCH(FALSE,ISERROR(SEARCH(I$1&\"=\",Data!$A350:$H350)),0)),I$1&\"=\",\"\"),\"\")","v":""},{"$f":"IFERROR(SUBSTITUTE(INDEX(Data!$A350:$H350,,MATCH(FALSE,ISERROR(SEARCH(J$1&\"=\",Data!$A350:$H350)),0)),J$1&\"=\",\"\"),\"\")","v":""}]
[{"$f":"IFERROR(SUBSTITUTE(INDEX(Data!$A351:$H351,,MATCH(FALSE,ISERROR(SEARCH(A$1&\"=\",Data!$A351:$H351)),0)),A$1&\"=\",\"\"),\"\")","v":""},{"$f":"IFERROR(SUBSTITUTE(INDEX(Data!$A351:$H351,,MATCH(FALSE,ISERROR(SEARCH(B$1&\"=\",Data!$A351:$H351)),0)),B$1&\"=\",\"\"),\"\")","v":""},{"$f":"IFERROR(SUBSTITUTE(INDEX(Data!$A351:$H351,,MATCH(FALSE,ISERROR(SEARCH(C$1&\"=\",Data!$A351:$H351)),0)),C$1&\"=\",\"\"),\"\")","v":""},{"$f":"IFERROR(SUBSTITUTE(INDEX(Data!$A351:$H351,,MATCH(FALSE,ISERROR(SEARCH(D$1&\"=\",Data!$A351:$H351)),0)),D$1&\"=\",\"\"),\"\")","v":""},{"$f":"IFERROR(SUBSTITUTE(INDEX(Data!$A351:$H351,,MATCH(FALSE,ISERROR(SEARCH(E$1&\"=\",Data!$A351:$H351)),0)),E$1&\"=\",\"\"),\"\")","v":""},{"$f":"IFERROR(SUBSTITUTE(INDEX(Data!$A351:$H351,,MATCH(FALSE,ISERROR(SEARCH(F$1&\"=\",Data!$A351:$H351)),0)),F$1&\"=\",\"\"),\"\")","v":""},{"$f":"IFERROR(SUBSTITUTE(INDEX(Data!$A351:$H351,,MATCH(FALSE,ISERROR(SEARCH(G$1&\"=\",Data!$A351:$H351)),0)),G$1&\"=\",\"\"),\"\")","v":""},{"$f":"IFERROR(SUBSTITUTE(INDEX(Data!$A351:$H351,,MATCH(FALSE,ISERROR(SEARCH(H$1&\"=\",Data!$A351:$H351)),0)),H$1&\"=\",\"\"),\"\")","v":""},{"$f":"IFERROR(SUBSTITUTE(INDEX(Data!$A351:$H351,,MATCH(FALSE,ISERROR(SEARCH(I$1&\"=\",Data!$A351:$H351)),0)),I$1&\"=\",\"\"),\"\")","v":""},{"$f":"IFERROR(SUBSTITUTE(INDEX(Data!$A351:$H351,,MATCH(FALSE,ISERROR(SEARCH(J$1&\"=\",Data!$A351:$H351)),0)),J$1&\"=\",\"\"),\"\")","v":""}]
[{"$f":"IFERROR(SUBSTITUTE(INDEX(Data!$A352:$H352,,MATCH(FALSE,ISERROR(SEARCH(A$1&\"=\",Data!$A352:$H352)),0)),A$1&\"=\",\"\"),\"\")","v":""},{"$f":"IFERROR(SUBSTITUTE(INDEX(Data!$A352:$H352,,MATCH(FALSE,ISERROR(SEARCH(B$1&\"=\",Data!$A352:$H352)),0)),B$1&\"=\",\"\"),\"\")","v":""},{"$f":"IFERROR(SUBSTITUTE(INDEX(Data!$A352:$H352,,MATCH(FALSE,ISERROR(SEARCH(C$1&\"=\",Data!$A352:$H352)),0)),C$1&\"=\",\"\"),\"\")","v":""},{"$f":"IFERROR(SUBSTITUTE(INDEX(Data!$A352:$H352,,MATCH(FALSE,ISERROR(SEARCH(D$1&\"=\",Data!$A352:$H352)),0)),D$1&\"=\",\"\"),\"\")","v":""},{"$f":"IFERROR(SUBSTITUTE(INDEX(Data!$A352:$H352,,MATCH(FALSE,ISERROR(SEARCH(E$1&\"=\",Data!$A352:$H352)),0)),E$1&\"=\",\"\"),\"\")","v":""},{"$f":"IFERROR(SUBSTITUTE(INDEX(Data!$A352:$H352,,MATCH(FALSE,ISERROR(SEARCH(F$1&\"=\",Data!$A352:$H352)),0)),F$1&\"=\",\"\"),\"\")","v":""},{"$f":"IFERROR(SUBSTITUTE(INDEX(Data!$A352:$H352,,MATCH(FALSE,ISERROR(SEARCH(G$1&\"=\",Data!$A352:$H352)),0)),G$1&\"=\",\"\"),\"\")","v":""},{"$f":"IFERROR(SUBSTITUTE(INDEX(Data!$A352:$H352,,MATCH(FALSE,ISERROR(SEARCH(H$1&\"=\",Data!$A352:$H352)),0)),H$1&\"=\",\"\"),\"\")","v":""},{"$f":"IFERROR(SUBSTITUTE(INDEX(Data!$A352:$H352,,MATCH(FALSE,ISERROR(SEARCH(I$1&\"=\",Data!$A352:$H352)),0)),I$1&\"=\",\"\"),\"\")","v":""},{"$f":"IFERROR(SUBSTITUTE(INDEX(Data!$A352:$H352,,MATCH(FALSE,ISERROR(SEARCH(J$1&\"=\",Data!$A352:$H352)),0)),J$1&\"=\",\"\"),\"\")","v":""}]
[{"$f":"IFERROR(SUBSTITUTE(INDEX(Data!$A353:$H353,,MATCH(FALSE,ISERROR(SEARCH(A$1&\"=\",Data!$A353:$H353)),0)),A$1&\"=\",\"\"),\"\")","v":""},{"$f":"IFERROR(SUBSTITUTE(INDEX(Data!$A353:$H353,,MATCH(FALSE,ISERROR(SEARCH(B$1&\"=\",Data!$A353:$H353)),0)),B$1&\"=\",\"\"),\"\")","v":""},{"$f":"IFERROR(SUBSTITUTE(INDEX(Data!$A353:$H353,,MATCH(FALSE,ISERROR(SEARCH(C$1&\"=\",Data!$A353:$H353)),0)),C$1&\"=\",\"\"),\"\")","v":""},{"$f":"IFERROR(SUBSTITUTE(INDEX(Data!$A353:$H353,,MATCH(FALSE,ISERROR(SEARCH(D$1&\"=\",Data!$A353:$H353)),0)),D$1&\"=\",\"\"),\"\")","v":""},{"$f":"IFERROR(SUBSTITUTE(INDEX(Data!$A353:$H353,,MATCH(FALSE,ISERROR(SEARCH(E$1&\"=\",Data!$A353:$H353)),0)),E$1&\"=\",\"\"),\"\")","v":""},{"$f":"IFERROR(SUBSTITUTE(INDEX(Data!$A353:$H353,,MATCH(FALSE,ISERROR(SEARCH(F$1&\"=\",Data!$A353:$H353)),0)),F$1&\"=\",\"\"),\"\")","v":""},{"$f":"IFERROR(SUBSTITUTE(INDEX(Data!$A353:$H353,,MATCH(FALSE,ISERROR(SEARCH(G$1&\"=\",Data!$A353:$H353)),0)),G$1&\"=\",\"\"),\"\")","v":""},{"$f":"IFERROR(SUBSTITUTE(INDEX(Data!$A353:$H353,,MATCH(FALSE,ISERROR(SEARCH(H$1&\"=\",Data!$A353:$H353)),0)),H$1&\"=\",\"\"),\"\")","v":""},{"$f":"IFERROR(SUBSTITUTE(INDEX(Data!$A353:$H353,,MATCH(FALSE,ISERROR(SEARCH(I$1&\"=\",Data!$A353:$H353)),0)),I$1&\"=\",\"\"),\"\")","v":""},{"$f":"IFERROR(SUBSTITUTE(INDEX(Data!$A353:$H353,,MATCH(FALSE,ISERROR(SEARCH(J$1&\"=\",Data!$A353:$H353)),0)),J$1&\"=\",\"\"),\"\")","v":""}]
[{"$f":"IFERROR(SUBSTITUTE(INDEX(Data!$A354:$H354,,MATCH(FALSE,ISERROR(SEARCH(A$1&\"=\",Data!$A354:$H354)),0)),A$1&\"=\",\"\"),\"\")","v":""},{"$f":"IFERROR(SUBSTITUTE(INDEX(Data!$A354:$H354,,MATCH(FALSE,ISERROR(SEARCH(B$1&\"=\",Data!$A354:$H354)),0)),B$1&\"=\",\"\"),\"\")","v":""},{"$f":"IFERROR(SUBSTITUTE(INDEX(Data!$A354:$H354,,MATCH(FALSE,ISERROR(SEARCH(C$1&\"=\",Data!$A354:$H354)),0)),C$1&\"=\",\"\"),\"\")","v":""},{"$f":"IFERROR(SUBSTITUTE(INDEX(Data!$A354:$H354,,MATCH(FALSE,ISERROR(SEARCH(D$1&\"=\",Data!$A354:$H354)),0)),D$1&\"=\",\"\"),\"\")","v":""},{"$f":"IFERROR(SUBSTITUTE(INDEX(Data!$A354:$H354,,MATCH(FALSE,ISERROR(SEARCH(E$1&\"=\",Data!$A354:$H354)),0)),E$1&\"=\",\"\"),\"\")","v":""},{"$f":"IFERROR(SUBSTITUTE(INDEX(Data!$A354:$H354,,MATCH(FALSE,ISERROR(SEARCH(F$1&\"=\",Data!$A354:$H354)),0)),F$1&\"=\",\"\"),\"\")","v":""},{"$f":"IFERROR(SUBSTITUTE(INDEX(Data!$A354:$H354,,MATCH(FALSE,ISERROR(SEARCH(G$1&\"=\",Data!$A354:$H354)),0)),G$1&\"=\",\"\"),\"\")","v":""},{"$f":"IFERROR(SUBSTITUTE(INDEX(Data!$A354:$H354,,MATCH(FALSE,ISERROR(SEARCH(H$1&\"=\",Data!$A354:$H354)),0)),H$1&\"=\",\"\"),\"\")","v":""},{"$f":"IFERROR(SUBSTITUTE(INDEX(Data!$A354:$H354,,MATCH(FALSE,ISERROR(SEARCH(I$1&\"=\",Data!$A354:$H354)),0)),I$1&\"=\",\"\"),\"\")","v":""},{"$f":"IFERROR(SUBSTITUTE(INDEX(Data!$A354:$H354,,MATCH(FALSE,ISERROR(SEARCH(J$1&\"=\",Data!$A354:$H354)),0)),J$1&\"=\",\"\"),\"\")","v":""}]
[{"$f":"IFERROR(SUBSTITUTE(INDEX(Data!$A355:$H355,,MATCH(FALSE,ISERROR(SEARCH(A$1&\"=\",Data!$A355:$H355)),0)),A$1&\"=\",\"\"),\"\")","v":""},{"$f":"IFERROR(SUBSTITUTE(INDEX(Data!$A355:$H355,,MATCH(FALSE,ISERROR(SEARCH(B$1&\"=\",Data!$A355:$H355)),0)),B$1&\"=\",\"\"),\"\")","v":""},{"$f":"IFERROR(SUBSTITUTE(INDEX(Data!$A355:$H355,,MATCH(FALSE,ISERROR(SEARCH(C$1&\"=\",Data!$A355:$H355)),0)),C$1&\"=\",\"\"),\"\")","v":""},{"$f":"IFERROR(SUBSTITUTE(INDEX(Data!$A355:$H355,,MATCH(FALSE,ISERROR(SEARCH(D$1&\"=\",Data!$A355:$H355)),0)),D$1&\"=\",\"\"),\"\")","v":""},{"$f":"IFERROR(SUBSTITUTE(INDEX(Data!$A355:$H355,,MATCH(FALSE,ISERROR(SEARCH(E$1&\"=\",Data!$A355:$H355)),0)),E$1&\"=\",\"\"),\"\")","v":""},{"$f":"IFERROR(SUBSTITUTE(INDEX(Data!$A355:$H355,,MATCH(FALSE,ISERROR(SEARCH(F$1&\"=\",Data!$A355:$H355)),0)),F$1&\"=\",\"\"),\"\")","v":""},{"$f":"IFERROR(SUBSTITUTE(INDEX(Data!$A355:$H355,,MATCH(FALSE,ISERROR(SEARCH(G$1&\"=\",Data!$A355:$H355)),0)),G$1&\"=\",\"\"),\"\")","v":""},{"$f":"IFERROR(SUBSTITUTE(INDEX(Data!$A355:$H355,,MATCH(FALSE,ISERROR(SEARCH(H$1&\"=\",Data!$A355:$H355)),0)),H$1&\"=\",\"\"),\"\")","v":""},{"$f":"IFERROR(SUBSTITUTE(INDEX(Data!$A355:$H355,,MATCH(FALSE,ISERROR(SEARCH(I$1&\"=\",Data!$A355:$H355)),0)),I$1&\"=\",\"\"),\"\")","v":""},{"$f":"IFERROR(SUBSTITUTE(INDEX(Data!$A355:$H355,,MATCH(FALSE,ISERROR(SEARCH(J$1&\"=\",Data!$A355:$H355)),0)),J$1&\"=\",\"\"),\"\")","v":""}]
[{"$f":"IFERROR(SUBSTITUTE(INDEX(Data!$A356:$H356,,MATCH(FALSE,ISERROR(SEARCH(A$1&\"=\",Data!$A356:$H356)),0)),A$1&\"=\",\"\"),\"\")","v":""},{"$f":"IFERROR(SUBSTITUTE(INDEX(Data!$A356:$H356,,MATCH(FALSE,ISERROR(SEARCH(B$1&\"=\",Data!$A356:$H356)),0)),B$1&\"=\",\"\"),\"\")","v":""},{"$f":"IFERROR(SUBSTITUTE(INDEX(Data!$A356:$H356,,MATCH(FALSE,ISERROR(SEARCH(C$1&\"=\",Data!$A356:$H356)),0)),C$1&\"=\",\"\"),\"\")","v":""},{"$f":"IFERROR(SUBSTITUTE(INDEX(Data!$A356:$H356,,MATCH(FALSE,ISERROR(SEARCH(D$1&\"=\",Data!$A356:$H356)),0)),D$1&\"=\",\"\"),\"\")","v":""},{"$f":"IFERROR(SUBSTITUTE(INDEX(Data!$A356:$H356,,MATCH(FALSE,ISERROR(SEARCH(E$1&\"=\",Data!$A356:$H356)),0)),E$1&\"=\",\"\"),\"\")","v":""},{"$f":"IFERROR(SUBSTITUTE(INDEX(Data!$A356:$H356,,MATCH(FALSE,ISERROR(SEARCH(F$1&\"=\",Data!$A356:$H356)),0)),F$1&\"=\",\"\"),\"\")","v":""},{"$f":"IFERROR(SUBSTITUTE(INDEX(Data!$A356:$H356,,MATCH(FALSE,ISERROR(SEARCH(G$1&\"=\",Data!$A356:$H356)),0)),G$1&\"=\",\"\"),\"\")","v":""},{"$f":"IFERROR(SUBSTITUTE(INDEX(Data!$A356:$H356,,MATCH(FALSE,ISERROR(SEARCH(H$1&\"=\",Data!$A356:$H356)),0)),H$1&\"=\",\"\"),\"\")","v":""},{"$f":"IFERROR(SUBSTITUTE(INDEX(Data!$A356:$H356,,MATCH(FALSE,ISERROR(SEARCH(I$1&\"=\",Data!$A356:$H356)),0)),I$1&\"=\",\"\"),\"\")","v":""},{"$f":"IFERROR(SUBSTITUTE(INDEX(Data!$A356:$H356,,MATCH(FALSE,ISERROR(SEARCH(J$1&\"=\",Data!$A356:$H356)),0)),J$1&\"=\",\"\"),\"\")","v":""}]
[{"$f":"IFERROR(SUBSTITUTE(INDEX(Data!$A357:$H357,,MATCH(FALSE,ISERROR(SEARCH(A$1&\"=\",Data!$A357:$H357)),0)),A$1&\"=\",\"\"),\"\")","v":""},{"$f":"IFERROR(SUBSTITUTE(INDEX(Data!$A357:$H357,,MATCH(FALSE,ISERROR(SEARCH(B$1&\"=\",Data!$A357:$H357)),0)),B$1&\"=\",\"\"),\"\")","v":""},{"$f":"IFERROR(SUBSTITUTE(INDEX(Data!$A357:$H357,,MATCH(FALSE,ISERROR(SEARCH(C$1&\"=\",Data!$A357:$H357)),0)),C$1&\"=\",\"\"),\"\")","v":""},{"$f":"IFERROR(SUBSTITUTE(INDEX(Data!$A357:$H357,,MATCH(FALSE,ISERROR(SEARCH(D$1&\"=\",Data!$A357:$H357)),0)),D$1&\"=\",\"\"),\"\")","v":""},{"$f":"IFERROR(SUBSTITUTE(INDEX(Data!$A357:$H357,,MATCH(FALSE,ISERROR(SEARCH(E$1&\"=\",Data!$A357:$H357)),0)),E$1&\"=\",\"\"),\"\")","v":""},{"$f":"IFERROR(SUBSTITUTE(INDEX(Data!$A357:$H357,,MATCH(FALSE,ISERROR(SEARCH(F$1&\"=\",Data!$A357:$H357)),0)),F$1&\"=\",\"\"),\"\")","v":""},{"$f":"IFERROR(SUBSTITUTE(INDEX(Data!$A357:$H357,,MATCH(FALSE,ISERROR(SEARCH(G$1&\"=\",Data!$A357:$H357)),0)),G$1&\"=\",\"\"),\"\")","v":""},{"$f":"IFERROR(SUBSTITUTE(INDEX(Data!$A357:$H357,,MATCH(FALSE,ISERROR(SEARCH(H$1&\"=\",Data!$A357:$H357)),0)),H$1&\"=\",\"\"),\"\")","v":""},{"$f":"IFERROR(SUBSTITUTE(INDEX(Data!$A357:$H357,,MATCH(FALSE,ISERROR(SEARCH(I$1&\"=\",Data!$A357:$H357)),0)),I$1&\"=\",\"\"),\"\")","v":""},{"$f":"IFERROR(SUBSTITUTE(INDEX(Data!$A357:$H357,,MATCH(FALSE,ISERROR(SEARCH(J$1&\"=\",Data!$A357:$H357)),0)),J$1&\"=\",\"\"),\"\")","v":""}]
[{"$f":"IFERROR(SUBSTITUTE(INDEX(Data!$A358:$H358,,MATCH(FALSE,ISERROR(SEARCH(A$1&\"=\",Data!$A358:$H358)),0)),A$1&\"=\",\"\"),\"\")","v":""},{"$f":"IFERROR(SUBSTITUTE(INDEX(Data!$A358:$H358,,MATCH(FALSE,ISERROR(SEARCH(B$1&\"=\",Data!$A358:$H358)),0)),B$1&\"=\",\"\"),\"\")","v":""},{"$f":"IFERROR(SUBSTITUTE(INDEX(Data!$A358:$H358,,MATCH(FALSE,ISERROR(SEARCH(C$1&\"=\",Data!$A358:$H358)),0)),C$1&\"=\",\"\"),\"\")","v":""},{"$f":"IFERROR(SUBSTITUTE(INDEX(Data!$A358:$H358,,MATCH(FALSE,ISERROR(SEARCH(D$1&\"=\",Data!$A358:$H358)),0)),D$1&\"=\",\"\"),\"\")","v":""},{"$f":"IFERROR(SUBSTITUTE(INDEX(Data!$A358:$H358,,MATCH(FALSE,ISERROR(SEARCH(E$1&\"=\",Data!$A358:$H358)),0)),E$1&\"=\",\"\"),\"\")","v":""},{"$f":"IFERROR(SUBSTITUTE(INDEX(Data!$A358:$H358,,MATCH(FALSE,ISERROR(SEARCH(F$1&\"=\",Data!$A358:$H358)),0)),F$1&\"=\",\"\"),\"\")","v":""},{"$f":"IFERROR(SUBSTITUTE(INDEX(Data!$A358:$H358,,MATCH(FALSE,ISERROR(SEARCH(G$1&\"=\",Data!$A358:$H358)),0)),G$1&\"=\",\"\"),\"\")","v":""},{"$f":"IFERROR(SUBSTITUTE(INDEX(Data!$A358:$H358,,MATCH(FALSE,ISERROR(SEARCH(H$1&\"=\",Data!$A358:$H358)),0)),H$1&\"=\",\"\"),\"\")","v":""},{"$f":"IFERROR(SUBSTITUTE(INDEX(Data!$A358:$H358,,MATCH(FALSE,ISERROR(SEARCH(I$1&\"=\",Data!$A358:$H358)),0)),I$1&\"=\",\"\"),\"\")","v":""},{"$f":"IFERROR(SUBSTITUTE(INDEX(Data!$A358:$H358,,MATCH(FALSE,ISERROR(SEARCH(J$1&\"=\",Data!$A358:$H358)),0)),J$1&\"=\",\"\"),\"\")","v":""}]
[{"$f":"IFERROR(SUBSTITUTE(INDEX(Data!$A359:$H359,,MATCH(FALSE,ISERROR(SEARCH(A$1&\"=\",Data!$A359:$H359)),0)),A$1&\"=\",\"\"),\"\")","v":""},{"$f":"IFERROR(SUBSTITUTE(INDEX(Data!$A359:$H359,,MATCH(FALSE,ISERROR(SEARCH(B$1&\"=\",Data!$A359:$H359)),0)),B$1&\"=\",\"\"),\"\")","v":""},{"$f":"IFERROR(SUBSTITUTE(INDEX(Data!$A359:$H359,,MATCH(FALSE,ISERROR(SEARCH(C$1&\"=\",Data!$A359:$H359)),0)),C$1&\"=\",\"\"),\"\")","v":""},{"$f":"IFERROR(SUBSTITUTE(INDEX(Data!$A359:$H359,,MATCH(FALSE,ISERROR(SEARCH(D$1&\"=\",Data!$A359:$H359)),0)),D$1&\"=\",\"\"),\"\")","v":""},{"$f":"IFERROR(SUBSTITUTE(INDEX(Data!$A359:$H359,,MATCH(FALSE,ISERROR(SEARCH(E$1&\"=\",Data!$A359:$H359)),0)),E$1&\"=\",\"\"),\"\")","v":""},{"$f":"IFERROR(SUBSTITUTE(INDEX(Data!$A359:$H359,,MATCH(FALSE,ISERROR(SEARCH(F$1&\"=\",Data!$A359:$H359)),0)),F$1&\"=\",\"\"),\"\")","v":""},{"$f":"IFERROR(SUBSTITUTE(INDEX(Data!$A359:$H359,,MATCH(FALSE,ISERROR(SEARCH(G$1&\"=\",Data!$A359:$H359)),0)),G$1&\"=\",\"\"),\"\")","v":""},{"$f":"IFERROR(SUBSTITUTE(INDEX(Data!$A359:$H359,,MATCH(FALSE,ISERROR(SEARCH(H$1&\"=\",Data!$A359:$H359)),0)),H$1&\"=\",\"\"),\"\")","v":""},{"$f":"IFERROR(SUBSTITUTE(INDEX(Data!$A359:$H359,,MATCH(FALSE,ISERROR(SEARCH(I$1&\"=\",Data!$A359:$H359)),0)),I$1&\"=\",\"\"),\"\")","v":""},{"$f":"IFERROR(SUBSTITUTE(INDEX(Data!$A359:$H359,,MATCH(FALSE,ISERROR(SEARCH(J$1&\"=\",Data!$A359:$H359)),0)),J$1&\"=\",\"\"),\"\")","v":""}]
[{"$f":"IFERROR(SUBSTITUTE(INDEX(Data!$A360:$H360,,MATCH(FALSE,ISERROR(SEARCH(A$1&\"=\",Data!$A360:$H360)),0)),A$1&\"=\",\"\"),\"\")","v":""},{"$f":"IFERROR(SUBSTITUTE(INDEX(Data!$A360:$H360,,MATCH(FALSE,ISERROR(SEARCH(B$1&\"=\",Data!$A360:$H360)),0)),B$1&\"=\",\"\"),\"\")","v":""},{"$f":"IFERROR(SUBSTITUTE(INDEX(Data!$A360:$H360,,MATCH(FALSE,ISERROR(SEARCH(C$1&\"=\",Data!$A360:$H360)),0)),C$1&\"=\",\"\"),\"\")","v":""},{"$f":"IFERROR(SUBSTITUTE(INDEX(Data!$A360:$H360,,MATCH(FALSE,ISERROR(SEARCH(D$1&\"=\",Data!$A360:$H360)),0)),D$1&\"=\",\"\"),\"\")","v":""},{"$f":"IFERROR(SUBSTITUTE(INDEX(Data!$A360:$H360,,MATCH(FALSE,ISERROR(SEARCH(E$1&\"=\",Data!$A360:$H360)),0)),E$1&\"=\",\"\"),\"\")","v":""},{"$f":"IFERROR(SUBSTITUTE(INDEX(Data!$A360:$H360,,MATCH(FALSE,ISERROR(SEARCH(F$1&\"=\",Data!$A360:$H360)),0)),F$1&\"=\",\"\"),\"\")","v":""},{"$f":"IFERROR(SUBSTITUTE(INDEX(Data!$A360:$H360,,MATCH(FALSE,ISERROR(SEARCH(G$1&\"=\",Data!$A360:$H360)),0)),G$1&\"=\",\"\"),\"\")","v":""},{"$f":"IFERROR(SUBSTITUTE(INDEX(Data!$A360:$H360,,MATCH(FALSE,ISERROR(SEARCH(H$1&\"=\",Data!$A360:$H360)),0)),H$1&\"=\",\"\"),\"\")","v":""},{"$f":"IFERROR(SUBSTITUTE(INDEX(Data!$A360:$H360,,MATCH(FALSE,ISERROR(SEARCH(I$1&\"=\",Data!$A360:$H360)),0)),I$1&\"=\",\"\"),\"\")","v":""},{"$f":"IFERROR(SUBSTITUTE(INDEX(Data!$A360:$H360,,MATCH(FALSE,ISERROR(SEARCH(J$1&\"=\",Data!$A360:$H360)),0)),J$1&\"=\",\"\"),\"\")","v":""}]
[{"$f":"IFERROR(SUBSTITUTE(INDEX(Data!$A361:$H361,,MATCH(FALSE,ISERROR(SEARCH(A$1&\"=\",Data!$A361:$H361)),0)),A$1&\"=\",\"\"),\"\")","v":""},{"$f":"IFERROR(SUBSTITUTE(INDEX(Data!$A361:$H361,,MATCH(FALSE,ISERROR(SEARCH(B$1&\"=\",Data!$A361:$H361)),0)),B$1&\"=\",\"\"),\"\")","v":""},{"$f":"IFERROR(SUBSTITUTE(INDEX(Data!$A361:$H361,,MATCH(FALSE,ISERROR(SEARCH(C$1&\"=\",Data!$A361:$H361)),0)),C$1&\"=\",\"\"),\"\")","v":""},{"$f":"IFERROR(SUBSTITUTE(INDEX(Data!$A361:$H361,,MATCH(FALSE,ISERROR(SEARCH(D$1&\"=\",Data!$A361:$H361)),0)),D$1&\"=\",\"\"),\"\")","v":""},{"$f":"IFERROR(SUBSTITUTE(INDEX(Data!$A361:$H361,,MATCH(FALSE,ISERROR(SEARCH(E$1&\"=\",Data!$A361:$H361)),0)),E$1&\"=\",\"\"),\"\")","v":""},{"$f":"IFERROR(SUBSTITUTE(INDEX(Data!$A361:$H361,,MATCH(FALSE,ISERROR(SEARCH(F$1&\"=\",Data!$A361:$H361)),0)),F$1&\"=\",\"\"),\"\")","v":""},{"$f":"IFERROR(SUBSTITUTE(INDEX(Data!$A361:$H361,,MATCH(FALSE,ISERROR(SEARCH(G$1&\"=\",Data!$A361:$H361)),0)),G$1&\"=\",\"\"),\"\")","v":""},{"$f":"IFERROR(SUBSTITUTE(INDEX(Data!$A361:$H361,,MATCH(FALSE,ISERROR(SEARCH(H$1&\"=\",Data!$A361:$H361)),0)),H$1&\"=\",\"\"),\"\")","v":""},{"$f":"IFERROR(SUBSTITUTE(INDEX(Data!$A361:$H361,,MATCH(FALSE,ISERROR(SEARCH(I$1&\"=\",Data!$A361:$H361)),0)),I$1&\"=\",\"\"),\"\")","v":""},{"$f":"IFERROR(SUBSTITUTE(INDEX(Data!$A361:$H361,,MATCH(FALSE,ISERROR(SEARCH(J$1&\"=\",Data!$A361:$H361)),0)),J$1&\"=\",\"\"),\"\")","v":""}]
[{"$f":"IFERROR(SUBSTITUTE(INDEX(Data!$A362:$H362,,MATCH(FALSE,ISERROR(SEARCH(A$1&\"=\",Data!$A362:$H362)),0)),A$1&\"=\",\"\"),\"\")","v":""},{"$f":"IFERROR(SUBSTITUTE(INDEX(Data!$A362:$H362,,MATCH(FALSE,ISERROR(SEARCH(B$1&\"=\",Data!$A362:$H362)),0)),B$1&\"=\",\"\"),\"\")","v":""},{"$f":"IFERROR(SUBSTITUTE(INDEX(Data!$A362:$H362,,MATCH(FALSE,ISERROR(SEARCH(C$1&\"=\",Data!$A362:$H362)),0)),C$1&\"=\",\"\"),\"\")","v":""},{"$f":"IFERROR(SUBSTITUTE(INDEX(Data!$A362:$H362,,MATCH(FALSE,ISERROR(SEARCH(D$1&\"=\",Data!$A362:$H362)),0)),D$1&\"=\",\"\"),\"\")","v":""},{"$f":"IFERROR(SUBSTITUTE(INDEX(Data!$A362:$H362,,MATCH(FALSE,ISERROR(SEARCH(E$1&\"=\",Data!$A362:$H362)),0)),E$1&\"=\",\"\"),\"\")","v":""},{"$f":"IFERROR(SUBSTITUTE(INDEX(Data!$A362:$H362,,MATCH(FALSE,ISERROR(SEARCH(F$1&\"=\",Data!$A362:$H362)),0)),F$1&\"=\",\"\"),\"\")","v":""},{"$f":"IFERROR(SUBSTITUTE(INDEX(Data!$A362:$H362,,MATCH(FALSE,ISERROR(SEARCH(G$1&\"=\",Data!$A362:$H362)),0)),G$1&\"=\",\"\"),\"\")","v":""},{"$f":"IFERROR(SUBSTITUTE(INDEX(Data!$A362:$H362,,MATCH(FALSE,ISERROR(SEARCH(H$1&\"=\",Data!$A362:$H362)),0)),H$1&\"=\",\"\"),\"\")","v":""},{"$f":"IFERROR(SUBSTITUTE(INDEX(Data!$A362:$H362,,MATCH(FALSE,ISERROR(SEARCH(I$1&\"=\",Data!$A362:$H362)),0)),I$1&\"=\",\"\"),\"\")","v":""},{"$f":"IFERROR(SUBSTITUTE(INDEX(Data!$A362:$H362,,MATCH(FALSE,ISERROR(SEARCH(J$1&\"=\",Data!$A362:$H362)),0)),J$1&\"=\",\"\"),\"\")","v":""}]
[{"$f":"IFERROR(SUBSTITUTE(INDEX(Data!$A363:$H363,,MATCH(FALSE,ISERROR(SEARCH(A$1&\"=\",Data!$A363:$H363)),0)),A$1&\"=\",\"\"),\"\")","v":""},{"$f":"IFERROR(SUBSTITUTE(INDEX(Data!$A363:$H363,,MATCH(FALSE,ISERROR(SEARCH(B$1&\"=\",Data!$A363:$H363)),0)),B$1&\"=\",\"\"),\"\")","v":""},{"$f":"IFERROR(SUBSTITUTE(INDEX(Data!$A363:$H363,,MATCH(FALSE,ISERROR(SEARCH(C$1&\"=\",Data!$A363:$H363)),0)),C$1&\"=\",\"\"),\"\")","v":""},{"$f":"IFERROR(SUBSTITUTE(INDEX(Data!$A363:$H363,,MATCH(FALSE,ISERROR(SEARCH(D$1&\"=\",Data!$A363:$H363)),0)),D$1&\"=\",\"\"),\"\")","v":""},{"$f":"IFERROR(SUBSTITUTE(INDEX(Data!$A363:$H363,,MATCH(FALSE,ISERROR(SEARCH(E$1&\"=\",Data!$A363:$H363)),0)),E$1&\"=\",\"\"),\"\")","v":""},{"$f":"IFERROR(SUBSTITUTE(INDEX(Data!$A363:$H363,,MATCH(FALSE,ISERROR(SEARCH(F$1&\"=\",Data!$A363:$H363)),0)),F$1&\"=\",\"\"),\"\")","v":""},{"$f":"IFERROR(SUBSTITUTE(INDEX(Data!$A363:$H363,,MATCH(FALSE,ISERROR(SEARCH(G$1&\"=\",Data!$A363:$H363)),0)),G$1&\"=\",\"\"),\"\")","v":""},{"$f":"IFERROR(SUBSTITUTE(INDEX(Data!$A363:$H363,,MATCH(FALSE,ISERROR(SEARCH(H$1&\"=\",Data!$A363:$H363)),0)),H$1&\"=\",\"\"),\"\")","v":""},{"$f":"IFERROR(SUBSTITUTE(INDEX(Data!$A363:$H363,,MATCH(FALSE,ISERROR(SEARCH(I$1&\"=\",Data!$A363:$H363)),0)),I$1&\"=\",\"\"),\"\")","v":""},{"$f":"IFERROR(SUBSTITUTE(INDEX(Data!$A363:$H363,,MATCH(FALSE,ISERROR(SEARCH(J$1&\"=\",Data!$A363:$H363)),0)),J$1&\"=\",\"\"),\"\")","v":""}]
[{"$f":"IFERROR(SUBSTITUTE(INDEX(Data!$A364:$H364,,MATCH(FALSE,ISERROR(SEARCH(A$1&\"=\",Data!$A364:$H364)),0)),A$1&\"=\",\"\"),\"\")","v":""},{"$f":"IFERROR(SUBSTITUTE(INDEX(Data!$A364:$H364,,MATCH(FALSE,ISERROR(SEARCH(B$1&\"=\",Data!$A364:$H364)),0)),B$1&\"=\",\"\"),\"\")","v":""},{"$f":"IFERROR(SUBSTITUTE(INDEX(Data!$A364:$H364,,MATCH(FALSE,ISERROR(SEARCH(C$1&\"=\",Data!$A364:$H364)),0)),C$1&\"=\",\"\"),\"\")","v":""},{"$f":"IFERROR(SUBSTITUTE(INDEX(Data!$A364:$H364,,MATCH(FALSE,ISERROR(SEARCH(D$1&\"=\",Data!$A364:$H364)),0)),D$1&\"=\",\"\"),\"\")","v":""},{"$f":"IFERROR(SUBSTITUTE(INDEX(Data!$A364:$H364,,MATCH(FALSE,ISERROR(SEARCH(E$1&\"=\",Data!$A364:$H364)),0)),E$1&\"=\",\"\"),\"\")","v":""},{"$f":"IFERROR(SUBSTITUTE(INDEX(Data!$A364:$H364,,MATCH(FALSE,ISERROR(SEARCH(F$1&\"=\",Data!$A364:$H364)),0)),F$1&\"=\",\"\"),\"\")","v":""},{"$f":"IFERROR(SUBSTITUTE(INDEX(Data!$A364:$H364,,MATCH(FALSE,ISERROR(SEARCH(G$1&\"=\",Data!$A364:$H364)),0)),G$1&\"=\",\"\"),\"\")","v":""},{"$f":"IFERROR(SUBSTITUTE(INDEX(Data!$A364:$H364,,MATCH(FALSE,ISERROR(SEARCH(H$1&\"=\",Data!$A364:$H364)),0)),H$1&\"=\",\"\"),\"\")","v":""},{"$f":"IFERROR(SUBSTITUTE(INDEX(Data!$A364:$H364,,MATCH(FALSE,ISERROR(SEARCH(I$1&\"=\",Data!$A364:$H364)),0)),I$1&\"=\",\"\"),\"\")","v":""},{"$f":"IFERROR(SUBSTITUTE(INDEX(Data!$A364:$H364,,MATCH(FALSE,ISERROR(SEARCH(J$1&\"=\",Data!$A364:$H364)),0)),J$1&\"=\",\"\"),\"\")","v":""}]
[{"$f":"IFERROR(SUBSTITUTE(INDEX(Data!$A365:$H365,,MATCH(FALSE,ISERROR(SEARCH(A$1&\"=\",Data!$A365:$H365)),0)),A$1&\"=\",\"\"),\"\")","v":""},{"$f":"IFERROR(SUBSTITUTE(INDEX(Data!$A365:$H365,,MATCH(FALSE,ISERROR(SEARCH(B$1&\"=\",Data!$A365:$H365)),0)),B$1&\"=\",\"\"),\"\")","v":""},{"$f":"IFERROR(SUBSTITUTE(INDEX(Data!$A365:$H365,,MATCH(FALSE,ISERROR(SEARCH(C$1&\"=\",Data!$A365:$H365)),0)),C$1&\"=\",\"\"),\"\")","v":""},{"$f":"IFERROR(SUBSTITUTE(INDEX(Data!$A365:$H365,,MATCH(FALSE,ISERROR(SEARCH(D$1&\"=\",Data!$A365:$H365)),0)),D$1&\"=\",\"\"),\"\")","v":""},{"$f":"IFERROR(SUBSTITUTE(INDEX(Data!$A365:$H365,,MATCH(FALSE,ISERROR(SEARCH(E$1&\"=\",Data!$A365:$H365)),0)),E$1&\"=\",\"\"),\"\")","v":""},{"$f":"IFERROR(SUBSTITUTE(INDEX(Data!$A365:$H365,,MATCH(FALSE,ISERROR(SEARCH(F$1&\"=\",Data!$A365:$H365)),0)),F$1&\"=\",\"\"),\"\")","v":""},{"$f":"IFERROR(SUBSTITUTE(INDEX(Data!$A365:$H365,,MATCH(FALSE,ISERROR(SEARCH(G$1&\"=\",Data!$A365:$H365)),0)),G$1&\"=\",\"\"),\"\")","v":""},{"$f":"IFERROR(SUBSTITUTE(INDEX(Data!$A365:$H365,,MATCH(FALSE,ISERROR(SEARCH(H$1&\"=\",Data!$A365:$H365)),0)),H$1&\"=\",\"\"),\"\")","v":""},{"$f":"IFERROR(SUBSTITUTE(INDEX(Data!$A365:$H365,,MATCH(FALSE,ISERROR(SEARCH(I$1&\"=\",Data!$A365:$H365)),0)),I$1&\"=\",\"\"),\"\")","v":""},{"$f":"IFERROR(SUBSTITUTE(INDEX(Data!$A365:$H365,,MATCH(FALSE,ISERROR(SEARCH(J$1&\"=\",Data!$A365:$H365)),0)),J$1&\"=\",\"\"),\"\")","v":""}]
[{"$f":"IFERROR(SUBSTITUTE(INDEX(Data!$A366:$H366,,MATCH(FALSE,ISERROR(SEARCH(A$1&\"=\",Data!$A366:$H366)),0)),A$1&\"=\",\"\"),\"\")","v":""},{"$f":"IFERROR(SUBSTITUTE(INDEX(Data!$A366:$H366,,MATCH(FALSE,ISERROR(SEARCH(B$1&\"=\",Data!$A366:$H366)),0)),B$1&\"=\",\"\"),\"\")","v":""},{"$f":"IFERROR(SUBSTITUTE(INDEX(Data!$A366:$H366,,MATCH(FALSE,ISERROR(SEARCH(C$1&\"=\",Data!$A366:$H366)),0)),C$1&\"=\",\"\"),\"\")","v":""},{"$f":"IFERROR(SUBSTITUTE(INDEX(Data!$A366:$H366,,MATCH(FALSE,ISERROR(SEARCH(D$1&\"=\",Data!$A366:$H366)),0)),D$1&\"=\",\"\"),\"\")","v":""},{"$f":"IFERROR(SUBSTITUTE(INDEX(Data!$A366:$H366,,MATCH(FALSE,ISERROR(SEARCH(E$1&\"=\",Data!$A366:$H366)),0)),E$1&\"=\",\"\"),\"\")","v":""},{"$f":"IFERROR(SUBSTITUTE(INDEX(Data!$A366:$H366,,MATCH(FALSE,ISERROR(SEARCH(F$1&\"=\",Data!$A366:$H366)),0)),F$1&\"=\",\"\"),\"\")","v":""},{"$f":"IFERROR(SUBSTITUTE(INDEX(Data!$A366:$H366,,MATCH(FALSE,ISERROR(SEARCH(G$1&\"=\",Data!$A366:$H366)),0)),G$1&\"=\",\"\"),\"\")","v":""},{"$f":"IFERROR(SUBSTITUTE(INDEX(Data!$A366:$H366,,MATCH(FALSE,ISERROR(SEARCH(H$1&\"=\",Data!$A366:$H366)),0)),H$1&\"=\",\"\"),\"\")","v":""},{"$f":"IFERROR(SUBSTITUTE(INDEX(Data!$A366:$H366,,MATCH(FALSE,ISERROR(SEARCH(I$1&\"=\",Data!$A366:$H366)),0)),I$1&\"=\",\"\"),\"\")","v":""},{"$f":"IFERROR(SUBSTITUTE(INDEX(Data!$A366:$H366,,MATCH(FALSE,ISERROR(SEARCH(J$1&\"=\",Data!$A366:$H366)),0)),J$1&\"=\",\"\"),\"\")","v":""}]
[{"$f":"IFERROR(SUBSTITUTE(INDEX(Data!$A367:$H367,,MATCH(FALSE,ISERROR(SEARCH(A$1&\"=\",Data!$A367:$H367)),0)),A$1&\"=\",\"\"),\"\")","v":""},{"$f":"IFERROR(SUBSTITUTE(INDEX(Data!$A367:$H367,,MATCH(FALSE,ISERROR(SEARCH(B$1&\"=\",Data!$A367:$H367)),0)),B$1&\"=\",\"\"),\"\")","v":""},{"$f":"IFERROR(SUBSTITUTE(INDEX(Data!$A367:$H367,,MATCH(FALSE,ISERROR(SEARCH(C$1&\"=\",Data!$A367:$H367)),0)),C$1&\"=\",\"\"),\"\")","v":""},{"$f":"IFERROR(SUBSTITUTE(INDEX(Data!$A367:$H367,,MATCH(FALSE,ISERROR(SEARCH(D$1&\"=\",Data!$A367:$H367)),0)),D$1&\"=\",\"\"),\"\")","v":""},{"$f":"IFERROR(SUBSTITUTE(INDEX(Data!$A367:$H367,,MATCH(FALSE,ISERROR(SEARCH(E$1&\"=\",Data!$A367:$H367)),0)),E$1&\"=\",\"\"),\"\")","v":""},{"$f":"IFERROR(SUBSTITUTE(INDEX(Data!$A367:$H367,,MATCH(FALSE,ISERROR(SEARCH(F$1&\"=\",Data!$A367:$H367)),0)),F$1&\"=\",\"\"),\"\")","v":""},{"$f":"IFERROR(SUBSTITUTE(INDEX(Data!$A367:$H367,,MATCH(FALSE,ISERROR(SEARCH(G$1&\"=\",Data!$A367:$H367)),0)),G$1&\"=\",\"\"),\"\")","v":""},{"$f":"IFERROR(SUBSTITUTE(INDEX(Data!$A367:$H367,,MATCH(FALSE,ISERROR(SEARCH(H$1&\"=\",Data!$A367:$H367)),0)),H$1&\"=\",\"\"),\"\")","v":""},{"$f":"IFERROR(SUBSTITUTE(INDEX(Data!$A367:$H367,,MATCH(FALSE,ISERROR(SEARCH(I$1&\"=\",Data!$A367:$H367)),0)),I$1&\"=\",\"\"),\"\")","v":""},{"$f":"IFERROR(SUBSTITUTE(INDEX(Data!$A367:$H367,,MATCH(FALSE,ISERROR(SEARCH(J$1&\"=\",Data!$A367:$H367)),0)),J$1&\"=\",\"\"),\"\")","v":""}]
[{"$f":"IFERROR(SUBSTITUTE(INDEX(Data!$A368:$H368,,MATCH(FALSE,ISERROR(SEARCH(A$1&\"=\",Data!$A368:$H368)),0)),A$1&\"=\",\"\"),\"\")","v":""},{"$f":"IFERROR(SUBSTITUTE(INDEX(Data!$A368:$H368,,MATCH(FALSE,ISERROR(SEARCH(B$1&\"=\",Data!$A368:$H368)),0)),B$1&\"=\",\"\"),\"\")","v":""},{"$f":"IFERROR(SUBSTITUTE(INDEX(Data!$A368:$H368,,MATCH(FALSE,ISERROR(SEARCH(C$1&\"=\",Data!$A368:$H368)),0)),C$1&\"=\",\"\"),\"\")","v":""},{"$f":"IFERROR(SUBSTITUTE(INDEX(Data!$A368:$H368,,MATCH(FALSE,ISERROR(SEARCH(D$1&\"=\",Data!$A368:$H368)),0)),D$1&\"=\",\"\"),\"\")","v":""},{"$f":"IFERROR(SUBSTITUTE(INDEX(Data!$A368:$H368,,MATCH(FALSE,ISERROR(SEARCH(E$1&\"=\",Data!$A368:$H368)),0)),E$1&\"=\",\"\"),\"\")","v":""},{"$f":"IFERROR(SUBSTITUTE(INDEX(Data!$A368:$H368,,MATCH(FALSE,ISERROR(SEARCH(F$1&\"=\",Data!$A368:$H368)),0)),F$1&\"=\",\"\"),\"\")","v":""},{"$f":"IFERROR(SUBSTITUTE(INDEX(Data!$A368:$H368,,MATCH(FALSE,ISERROR(SEARCH(G$1&\"=\",Data!$A368:$H368)),0)),G$1&\"=\",\"\"),\"\")","v":""},{"$f":"IFERROR(SUBSTITUTE(INDEX(Data!$A368:$H368,,MATCH(FALSE,ISERROR(SEARCH(H$1&\"=\",Data!$A368:$H368)),0)),H$1&\"=\",\"\"),\"\")","v":""},{"$f":"IFERROR(SUBSTITUTE(INDEX(Data!$A368:$H368,,MATCH(FALSE,ISERROR(SEARCH(I$1&\"=\",Data!$A368:$H368)),0)),I$1&\"=\",\"\"),\"\")","v":""},{"$f":"IFERROR(SUBSTITUTE(INDEX(Data!$A368:$H368,,MATCH(FALSE,ISERROR(SEARCH(J$1&\"=\",Data!$A368:$H368)),0)),J$1&\"=\",\"\"),\"\")","v":""}]
[{"$f":"IFERROR(SUBSTITUTE(INDEX(Data!$A369:$H369,,MATCH(FALSE,ISERROR(SEARCH(A$1&\"=\",Data!$A369:$H369)),0)),A$1&\"=\",\"\"),\"\")","v":""},{"$f":"IFERROR(SUBSTITUTE(INDEX(Data!$A369:$H369,,MATCH(FALSE,ISERROR(SEARCH(B$1&\"=\",Data!$A369:$H369)),0)),B$1&\"=\",\"\"),\"\")","v":""},{"$f":"IFERROR(SUBSTITUTE(INDEX(Data!$A369:$H369,,MATCH(FALSE,ISERROR(SEARCH(C$1&\"=\",Data!$A369:$H369)),0)),C$1&\"=\",\"\"),\"\")","v":""},{"$f":"IFERROR(SUBSTITUTE(INDEX(Data!$A369:$H369,,MATCH(FALSE,ISERROR(SEARCH(D$1&\"=\",Data!$A369:$H369)),0)),D$1&\"=\",\"\"),\"\")","v":""},{"$f":"IFERROR(SUBSTITUTE(INDEX(Data!$A369:$H369,,MATCH(FALSE,ISERROR(SEARCH(E$1&\"=\",Data!$A369:$H369)),0)),E$1&\"=\",\"\"),\"\")","v":""},{"$f":"IFERROR(SUBSTITUTE(INDEX(Data!$A369:$H369,,MATCH(FALSE,ISERROR(SEARCH(F$1&\"=\",Data!$A369:$H369)),0)),F$1&\"=\",\"\"),\"\")","v":""},{"$f":"IFERROR(SUBSTITUTE(INDEX(Data!$A369:$H369,,MATCH(FALSE,ISERROR(SEARCH(G$1&\"=\",Data!$A369:$H369)),0)),G$1&\"=\",\"\"),\"\")","v":""},{"$f":"IFERROR(SUBSTITUTE(INDEX(Data!$A369:$H369,,MATCH(FALSE,ISERROR(SEARCH(H$1&\"=\",Data!$A369:$H369)),0)),H$1&\"=\",\"\"),\"\")","v":""},{"$f":"IFERROR(SUBSTITUTE(INDEX(Data!$A369:$H369,,MATCH(FALSE,ISERROR(SEARCH(I$1&\"=\",Data!$A369:$H369)),0)),I$1&\"=\",\"\"),\"\")","v":""},{"$f":"IFERROR(SUBSTITUTE(INDEX(Data!$A369:$H369,,MATCH(FALSE,ISERROR(SEARCH(J$1&\"=\",Data!$A369:$H369)),0)),J$1&\"=\",\"\"),\"\")","v":""}]
[{"$f":"IFERROR(SUBSTITUTE(INDEX(Data!$A370:$H370,,MATCH(FALSE,ISERROR(SEARCH(A$1&\"=\",Data!$A370:$H370)),0)),A$1&\"=\",\"\"),\"\")","v":""},{"$f":"IFERROR(SUBSTITUTE(INDEX(Data!$A370:$H370,,MATCH(FALSE,ISERROR(SEARCH(B$1&\"=\",Data!$A370:$H370)),0)),B$1&\"=\",\"\"),\"\")","v":""},{"$f":"IFERROR(SUBSTITUTE(INDEX(Data!$A370:$H370,,MATCH(FALSE,ISERROR(SEARCH(C$1&\"=\",Data!$A370:$H370)),0)),C$1&\"=\",\"\"),\"\")","v":""},{"$f":"IFERROR(SUBSTITUTE(INDEX(Data!$A370:$H370,,MATCH(FALSE,ISERROR(SEARCH(D$1&\"=\",Data!$A370:$H370)),0)),D$1&\"=\",\"\"),\"\")","v":""},{"$f":"IFERROR(SUBSTITUTE(INDEX(Data!$A370:$H370,,MATCH(FALSE,ISERROR(SEARCH(E$1&\"=\",Data!$A370:$H370)),0)),E$1&\"=\",\"\"),\"\")","v":""},{"$f":"IFERROR(SUBSTITUTE(INDEX(Data!$A370:$H370,,MATCH(FALSE,ISERROR(SEARCH(F$1&\"=\",Data!$A370:$H370)),0)),F$1&\"=\",\"\"),\"\")","v":""},{"$f":"IFERROR(SUBSTITUTE(INDEX(Data!$A370:$H370,,MATCH(FALSE,ISERROR(SEARCH(G$1&\"=\",Data!$A370:$H370)),0)),G$1&\"=\",\"\"),\"\")","v":""},{"$f":"IFERROR(SUBSTITUTE(INDEX(Data!$A370:$H370,,MATCH(FALSE,ISERROR(SEARCH(H$1&\"=\",Data!$A370:$H370)),0)),H$1&\"=\",\"\"),\"\")","v":""},{"$f":"IFERROR(SUBSTITUTE(INDEX(Data!$A370:$H370,,MATCH(FALSE,ISERROR(SEARCH(I$1&\"=\",Data!$A370:$H370)),0)),I$1&\"=\",\"\"),\"\")","v":""},{"$f":"IFERROR(SUBSTITUTE(INDEX(Data!$A370:$H370,,MATCH(FALSE,ISERROR(SEARCH(J$1&\"=\",Data!$A370:$H370)),0)),J$1&\"=\",\"\"),\"\")","v":""}]
[{"$f":"IFERROR(SUBSTITUTE(INDEX(Data!$A371:$H371,,MATCH(FALSE,ISERROR(SEARCH(A$1&\"=\",Data!$A371:$H371)),0)),A$1&\"=\",\"\"),\"\")","v":""},{"$f":"IFERROR(SUBSTITUTE(INDEX(Data!$A371:$H371,,MATCH(FALSE,ISERROR(SEARCH(B$1&\"=\",Data!$A371:$H371)),0)),B$1&\"=\",\"\"),\"\")","v":""},{"$f":"IFERROR(SUBSTITUTE(INDEX(Data!$A371:$H371,,MATCH(FALSE,ISERROR(SEARCH(C$1&\"=\",Data!$A371:$H371)),0)),C$1&\"=\",\"\"),\"\")","v":""},{"$f":"IFERROR(SUBSTITUTE(INDEX(Data!$A371:$H371,,MATCH(FALSE,ISERROR(SEARCH(D$1&\"=\",Data!$A371:$H371)),0)),D$1&\"=\",\"\"),\"\")","v":""},{"$f":"IFERROR(SUBSTITUTE(INDEX(Data!$A371:$H371,,MATCH(FALSE,ISERROR(SEARCH(E$1&\"=\",Data!$A371:$H371)),0)),E$1&\"=\",\"\"),\"\")","v":""},{"$f":"IFERROR(SUBSTITUTE(INDEX(Data!$A371:$H371,,MATCH(FALSE,ISERROR(SEARCH(F$1&\"=\",Data!$A371:$H371)),0)),F$1&\"=\",\"\"),\"\")","v":""},{"$f":"IFERROR(SUBSTITUTE(INDEX(Data!$A371:$H371,,MATCH(FALSE,ISERROR(SEARCH(G$1&\"=\",Data!$A371:$H371)),0)),G$1&\"=\",\"\"),\"\")","v":""},{"$f":"IFERROR(SUBSTITUTE(INDEX(Data!$A371:$H371,,MATCH(FALSE,ISERROR(SEARCH(H$1&\"=\",Data!$A371:$H371)),0)),H$1&\"=\",\"\"),\"\")","v":""},{"$f":"IFERROR(SUBSTITUTE(INDEX(Data!$A371:$H371,,MATCH(FALSE,ISERROR(SEARCH(I$1&\"=\",Data!$A371:$H371)),0)),I$1&\"=\",\"\"),\"\")","v":""},{"$f":"IFERROR(SUBSTITUTE(INDEX(Data!$A371:$H371,,MATCH(FALSE,ISERROR(SEARCH(J$1&\"=\",Data!$A371:$H371)),0)),J$1&\"=\",\"\"),\"\")","v":""}]
[{"$f":"IFERROR(SUBSTITUTE(INDEX(Data!$A372:$H372,,MATCH(FALSE,ISERROR(SEARCH(A$1&\"=\",Data!$A372:$H372)),0)),A$1&\"=\",\"\"),\"\")","v":""},{"$f":"IFERROR(SUBSTITUTE(INDEX(Data!$A372:$H372,,MATCH(FALSE,ISERROR(SEARCH(B$1&\"=\",Data!$A372:$H372)),0)),B$1&\"=\",\"\"),\"\")","v":""},{"$f":"IFERROR(SUBSTITUTE(INDEX(Data!$A372:$H372,,MATCH(FALSE,ISERROR(SEARCH(C$1&\"=\",Data!$A372:$H372)),0)),C$1&\"=\",\"\"),\"\")","v":""},{"$f":"IFERROR(SUBSTITUTE(INDEX(Data!$A372:$H372,,MATCH(FALSE,ISERROR(SEARCH(D$1&\"=\",Data!$A372:$H372)),0)),D$1&\"=\",\"\"),\"\")","v":""},{"$f":"IFERROR(SUBSTITUTE(INDEX(Data!$A372:$H372,,MATCH(FALSE,ISERROR(SEARCH(E$1&\"=\",Data!$A372:$H372)),0)),E$1&\"=\",\"\"),\"\")","v":""},{"$f":"IFERROR(SUBSTITUTE(INDEX(Data!$A372:$H372,,MATCH(FALSE,ISERROR(SEARCH(F$1&\"=\",Data!$A372:$H372)),0)),F$1&\"=\",\"\"),\"\")","v":""},{"$f":"IFERROR(SUBSTITUTE(INDEX(Data!$A372:$H372,,MATCH(FALSE,ISERROR(SEARCH(G$1&\"=\",Data!$A372:$H372)),0)),G$1&\"=\",\"\"),\"\")","v":""},{"$f":"IFERROR(SUBSTITUTE(INDEX(Data!$A372:$H372,,MATCH(FALSE,ISERROR(SEARCH(H$1&\"=\",Data!$A372:$H372)),0)),H$1&\"=\",\"\"),\"\")","v":""},{"$f":"IFERROR(SUBSTITUTE(INDEX(Data!$A372:$H372,,MATCH(FALSE,ISERROR(SEARCH(I$1&\"=\",Data!$A372:$H372)),0)),I$1&\"=\",\"\"),\"\")","v":""},{"$f":"IFERROR(SUBSTITUTE(INDEX(Data!$A372:$H372,,MATCH(FALSE,ISERROR(SEARCH(J$1&\"=\",Data!$A372:$H372)),0)),J$1&\"=\",\"\"),\"\")","v":""}]
[{"$f":"IFERROR(SUBSTITUTE(INDEX(Data!$A373:$H373,,MATCH(FALSE,ISERROR(SEARCH(A$1&\"=\",Data!$A373:$H373)),0)),A$1&\"=\",\"\"),\"\")","v":""},{"$f":"IFERROR(SUBSTITUTE(INDEX(Data!$A373:$H373,,MATCH(FALSE,ISERROR(SEARCH(B$1&\"=\",Data!$A373:$H373)),0)),B$1&\"=\",\"\"),\"\")","v":""},{"$f":"IFERROR(SUBSTITUTE(INDEX(Data!$A373:$H373,,MATCH(FALSE,ISERROR(SEARCH(C$1&\"=\",Data!$A373:$H373)),0)),C$1&\"=\",\"\"),\"\")","v":""},{"$f":"IFERROR(SUBSTITUTE(INDEX(Data!$A373:$H373,,MATCH(FALSE,ISERROR(SEARCH(D$1&\"=\",Data!$A373:$H373)),0)),D$1&\"=\",\"\"),\"\")","v":""},{"$f":"IFERROR(SUBSTITUTE(INDEX(Data!$A373:$H373,,MATCH(FALSE,ISERROR(SEARCH(E$1&\"=\",Data!$A373:$H373)),0)),E$1&\"=\",\"\"),\"\")","v":""},{"$f":"IFERROR(SUBSTITUTE(INDEX(Data!$A373:$H373,,MATCH(FALSE,ISERROR(SEARCH(F$1&\"=\",Data!$A373:$H373)),0)),F$1&\"=\",\"\"),\"\")","v":""},{"$f":"IFERROR(SUBSTITUTE(INDEX(Data!$A373:$H373,,MATCH(FALSE,ISERROR(SEARCH(G$1&\"=\",Data!$A373:$H373)),0)),G$1&\"=\",\"\"),\"\")","v":""},{"$f":"IFERROR(SUBSTITUTE(INDEX(Data!$A373:$H373,,MATCH(FALSE,ISERROR(SEARCH(H$1&\"=\",Data!$A373:$H373)),0)),H$1&\"=\",\"\"),\"\")","v":""},{"$f":"IFERROR(SUBSTITUTE(INDEX(Data!$A373:$H373,,MATCH(FALSE,ISERROR(SEARCH(I$1&\"=\",Data!$A373:$H373)),0)),I$1&\"=\",\"\"),\"\")","v":""},{"$f":"IFERROR(SUBSTITUTE(INDEX(Data!$A373:$H373,,MATCH(FALSE,ISERROR(SEARCH(J$1&\"=\",Data!$A373:$H373)),0)),J$1&\"=\",\"\"),\"\")","v":""}]
[{"$f":"IFERROR(SUBSTITUTE(INDEX(Data!$A374:$H374,,MATCH(FALSE,ISERROR(SEARCH(A$1&\"=\",Data!$A374:$H374)),0)),A$1&\"=\",\"\"),\"\")","v":""},{"$f":"IFERROR(SUBSTITUTE(INDEX(Data!$A374:$H374,,MATCH(FALSE,ISERROR(SEARCH(B$1&\"=\",Data!$A374:$H374)),0)),B$1&\"=\",\"\"),\"\")","v":""},{"$f":"IFERROR(SUBSTITUTE(INDEX(Data!$A374:$H374,,MATCH(FALSE,ISERROR(SEARCH(C$1&\"=\",Data!$A374:$H374)),0)),C$1&\"=\",\"\"),\"\")","v":""},{"$f":"IFERROR(SUBSTITUTE(INDEX(Data!$A374:$H374,,MATCH(FALSE,ISERROR(SEARCH(D$1&\"=\",Data!$A374:$H374)),0)),D$1&\"=\",\"\"),\"\")","v":""},{"$f":"IFERROR(SUBSTITUTE(INDEX(Data!$A374:$H374,,MATCH(FALSE,ISERROR(SEARCH(E$1&\"=\",Data!$A374:$H374)),0)),E$1&\"=\",\"\"),\"\")","v":""},{"$f":"IFERROR(SUBSTITUTE(INDEX(Data!$A374:$H374,,MATCH(FALSE,ISERROR(SEARCH(F$1&\"=\",Data!$A374:$H374)),0)),F$1&\"=\",\"\"),\"\")","v":""},{"$f":"IFERROR(SUBSTITUTE(INDEX(Data!$A374:$H374,,MATCH(FALSE,ISERROR(SEARCH(G$1&\"=\",Data!$A374:$H374)),0)),G$1&\"=\",\"\"),\"\")","v":""},{"$f":"IFERROR(SUBSTITUTE(INDEX(Data!$A374:$H374,,MATCH(FALSE,ISERROR(SEARCH(H$1&\"=\",Data!$A374:$H374)),0)),H$1&\"=\",\"\"),\"\")","v":""},{"$f":"IFERROR(SUBSTITUTE(INDEX(Data!$A374:$H374,,MATCH(FALSE,ISERROR(SEARCH(I$1&\"=\",Data!$A374:$H374)),0)),I$1&\"=\",\"\"),\"\")","v":""},{"$f":"IFERROR(SUBSTITUTE(INDEX(Data!$A374:$H374,,MATCH(FALSE,ISERROR(SEARCH(J$1&\"=\",Data!$A374:$H374)),0)),J$1&\"=\",\"\"),\"\")","v":""}]
[{"$f":"IFERROR(SUBSTITUTE(INDEX(Data!$A375:$H375,,MATCH(FALSE,ISERROR(SEARCH(A$1&\"=\",Data!$A375:$H375)),0)),A$1&\"=\",\"\"),\"\")","v":""},{"$f":"IFERROR(SUBSTITUTE(INDEX(Data!$A375:$H375,,MATCH(FALSE,ISERROR(SEARCH(B$1&\"=\",Data!$A375:$H375)),0)),B$1&\"=\",\"\"),\"\")","v":""},{"$f":"IFERROR(SUBSTITUTE(INDEX(Data!$A375:$H375,,MATCH(FALSE,ISERROR(SEARCH(C$1&\"=\",Data!$A375:$H375)),0)),C$1&\"=\",\"\"),\"\")","v":""},{"$f":"IFERROR(SUBSTITUTE(INDEX(Data!$A375:$H375,,MATCH(FALSE,ISERROR(SEARCH(D$1&\"=\",Data!$A375:$H375)),0)),D$1&\"=\",\"\"),\"\")","v":""},{"$f":"IFERROR(SUBSTITUTE(INDEX(Data!$A375:$H375,,MATCH(FALSE,ISERROR(SEARCH(E$1&\"=\",Data!$A375:$H375)),0)),E$1&\"=\",\"\"),\"\")","v":""},{"$f":"IFERROR(SUBSTITUTE(INDEX(Data!$A375:$H375,,MATCH(FALSE,ISERROR(SEARCH(F$1&\"=\",Data!$A375:$H375)),0)),F$1&\"=\",\"\"),\"\")","v":""},{"$f":"IFERROR(SUBSTITUTE(INDEX(Data!$A375:$H375,,MATCH(FALSE,ISERROR(SEARCH(G$1&\"=\",Data!$A375:$H375)),0)),G$1&\"=\",\"\"),\"\")","v":""},{"$f":"IFERROR(SUBSTITUTE(INDEX(Data!$A375:$H375,,MATCH(FALSE,ISERROR(SEARCH(H$1&\"=\",Data!$A375:$H375)),0)),H$1&\"=\",\"\"),\"\")","v":""},{"$f":"IFERROR(SUBSTITUTE(INDEX(Data!$A375:$H375,,MATCH(FALSE,ISERROR(SEARCH(I$1&\"=\",Data!$A375:$H375)),0)),I$1&\"=\",\"\"),\"\")","v":""},{"$f":"IFERROR(SUBSTITUTE(INDEX(Data!$A375:$H375,,MATCH(FALSE,ISERROR(SEARCH(J$1&\"=\",Data!$A375:$H375)),0)),J$1&\"=\",\"\"),\"\")","v":""}]
[{"$f":"IFERROR(SUBSTITUTE(INDEX(Data!$A376:$H376,,MATCH(FALSE,ISERROR(SEARCH(A$1&\"=\",Data!$A376:$H376)),0)),A$1&\"=\",\"\"),\"\")","v":""},{"$f":"IFERROR(SUBSTITUTE(INDEX(Data!$A376:$H376,,MATCH(FALSE,ISERROR(SEARCH(B$1&\"=\",Data!$A376:$H376)),0)),B$1&\"=\",\"\"),\"\")","v":""},{"$f":"IFERROR(SUBSTITUTE(INDEX(Data!$A376:$H376,,MATCH(FALSE,ISERROR(SEARCH(C$1&\"=\",Data!$A376:$H376)),0)),C$1&\"=\",\"\"),\"\")","v":""},{"$f":"IFERROR(SUBSTITUTE(INDEX(Data!$A376:$H376,,MATCH(FALSE,ISERROR(SEARCH(D$1&\"=\",Data!$A376:$H376)),0)),D$1&\"=\",\"\"),\"\")","v":""},{"$f":"IFERROR(SUBSTITUTE(INDEX(Data!$A376:$H376,,MATCH(FALSE,ISERROR(SEARCH(E$1&\"=\",Data!$A376:$H376)),0)),E$1&\"=\",\"\"),\"\")","v":""},{"$f":"IFERROR(SUBSTITUTE(INDEX(Data!$A376:$H376,,MATCH(FALSE,ISERROR(SEARCH(F$1&\"=\",Data!$A376:$H376)),0)),F$1&\"=\",\"\"),\"\")","v":""},{"$f":"IFERROR(SUBSTITUTE(INDEX(Data!$A376:$H376,,MATCH(FALSE,ISERROR(SEARCH(G$1&\"=\",Data!$A376:$H376)),0)),G$1&\"=\",\"\"),\"\")","v":""},{"$f":"IFERROR(SUBSTITUTE(INDEX(Data!$A376:$H376,,MATCH(FALSE,ISERROR(SEARCH(H$1&\"=\",Data!$A376:$H376)),0)),H$1&\"=\",\"\"),\"\")","v":""},{"$f":"IFERROR(SUBSTITUTE(INDEX(Data!$A376:$H376,,MATCH(FALSE,ISERROR(SEARCH(I$1&\"=\",Data!$A376:$H376)),0)),I$1&\"=\",\"\"),\"\")","v":""},{"$f":"IFERROR(SUBSTITUTE(INDEX(Data!$A376:$H376,,MATCH(FALSE,ISERROR(SEARCH(J$1&\"=\",Data!$A376:$H376)),0)),J$1&\"=\",\"\"),\"\")","v":""}]
[{"$f":"IFERROR(SUBSTITUTE(INDEX(Data!$A377:$H377,,MATCH(FALSE,ISERROR(SEARCH(A$1&\"=\",Data!$A377:$H377)),0)),A$1&\"=\",\"\"),\"\")","v":""},{"$f":"IFERROR(SUBSTITUTE(INDEX(Data!$A377:$H377,,MATCH(FALSE,ISERROR(SEARCH(B$1&\"=\",Data!$A377:$H377)),0)),B$1&\"=\",\"\"),\"\")","v":""},{"$f":"IFERROR(SUBSTITUTE(INDEX(Data!$A377:$H377,,MATCH(FALSE,ISERROR(SEARCH(C$1&\"=\",Data!$A377:$H377)),0)),C$1&\"=\",\"\"),\"\")","v":""},{"$f":"IFERROR(SUBSTITUTE(INDEX(Data!$A377:$H377,,MATCH(FALSE,ISERROR(SEARCH(D$1&\"=\",Data!$A377:$H377)),0)),D$1&\"=\",\"\"),\"\")","v":""},{"$f":"IFERROR(SUBSTITUTE(INDEX(Data!$A377:$H377,,MATCH(FALSE,ISERROR(SEARCH(E$1&\"=\",Data!$A377:$H377)),0)),E$1&\"=\",\"\"),\"\")","v":""},{"$f":"IFERROR(SUBSTITUTE(INDEX(Data!$A377:$H377,,MATCH(FALSE,ISERROR(SEARCH(F$1&\"=\",Data!$A377:$H377)),0)),F$1&\"=\",\"\"),\"\")","v":""},{"$f":"IFERROR(SUBSTITUTE(INDEX(Data!$A377:$H377,,MATCH(FALSE,ISERROR(SEARCH(G$1&\"=\",Data!$A377:$H377)),0)),G$1&\"=\",\"\"),\"\")","v":""},{"$f":"IFERROR(SUBSTITUTE(INDEX(Data!$A377:$H377,,MATCH(FALSE,ISERROR(SEARCH(H$1&\"=\",Data!$A377:$H377)),0)),H$1&\"=\",\"\"),\"\")","v":""},{"$f":"IFERROR(SUBSTITUTE(INDEX(Data!$A377:$H377,,MATCH(FALSE,ISERROR(SEARCH(I$1&\"=\",Data!$A377:$H377)),0)),I$1&\"=\",\"\"),\"\")","v":""},{"$f":"IFERROR(SUBSTITUTE(INDEX(Data!$A377:$H377,,MATCH(FALSE,ISERROR(SEARCH(J$1&\"=\",Data!$A377:$H377)),0)),J$1&\"=\",\"\"),\"\")","v":""}]
[{"$f":"IFERROR(SUBSTITUTE(INDEX(Data!$A378:$H378,,MATCH(FALSE,ISERROR(SEARCH(A$1&\"=\",Data!$A378:$H378)),0)),A$1&\"=\",\"\"),\"\")","v":""},{"$f":"IFERROR(SUBSTITUTE(INDEX(Data!$A378:$H378,,MATCH(FALSE,ISERROR(SEARCH(B$1&\"=\",Data!$A378:$H378)),0)),B$1&\"=\",\"\"),\"\")","v":""},{"$f":"IFERROR(SUBSTITUTE(INDEX(Data!$A378:$H378,,MATCH(FALSE,ISERROR(SEARCH(C$1&\"=\",Data!$A378:$H378)),0)),C$1&\"=\",\"\"),\"\")","v":""},{"$f":"IFERROR(SUBSTITUTE(INDEX(Data!$A378:$H378,,MATCH(FALSE,ISERROR(SEARCH(D$1&\"=\",Data!$A378:$H378)),0)),D$1&\"=\",\"\"),\"\")","v":""},{"$f":"IFERROR(SUBSTITUTE(INDEX(Data!$A378:$H378,,MATCH(FALSE,ISERROR(SEARCH(E$1&\"=\",Data!$A378:$H378)),0)),E$1&\"=\",\"\"),\"\")","v":""},{"$f":"IFERROR(SUBSTITUTE(INDEX(Data!$A378:$H378,,MATCH(FALSE,ISERROR(SEARCH(F$1&\"=\",Data!$A378:$H378)),0)),F$1&\"=\",\"\"),\"\")","v":""},{"$f":"IFERROR(SUBSTITUTE(INDEX(Data!$A378:$H378,,MATCH(FALSE,ISERROR(SEARCH(G$1&\"=\",Data!$A378:$H378)),0)),G$1&\"=\",\"\"),\"\")","v":""},{"$f":"IFERROR(SUBSTITUTE(INDEX(Data!$A378:$H378,,MATCH(FALSE,ISERROR(SEARCH(H$1&\"=\",Data!$A378:$H378)),0)),H$1&\"=\",\"\"),\"\")","v":""},{"$f":"IFERROR(SUBSTITUTE(INDEX(Data!$A378:$H378,,MATCH(FALSE,ISERROR(SEARCH(I$1&\"=\",Data!$A378:$H378)),0)),I$1&\"=\",\"\"),\"\")","v":""},{"$f":"IFERROR(SUBSTITUTE(INDEX(Data!$A378:$H378,,MATCH(FALSE,ISERROR(SEARCH(J$1&\"=\",Data!$A378:$H378)),0)),J$1&\"=\",\"\"),\"\")","v":""}]
[{"$f":"IFERROR(SUBSTITUTE(INDEX(Data!$A379:$H379,,MATCH(FALSE,ISERROR(SEARCH(A$1&\"=\",Data!$A379:$H379)),0)),A$1&\"=\",\"\"),\"\")","v":""},{"$f":"IFERROR(SUBSTITUTE(INDEX(Data!$A379:$H379,,MATCH(FALSE,ISERROR(SEARCH(B$1&\"=\",Data!$A379:$H379)),0)),B$1&\"=\",\"\"),\"\")","v":""},{"$f":"IFERROR(SUBSTITUTE(INDEX(Data!$A379:$H379,,MATCH(FALSE,ISERROR(SEARCH(C$1&\"=\",Data!$A379:$H379)),0)),C$1&\"=\",\"\"),\"\")","v":""},{"$f":"IFERROR(SUBSTITUTE(INDEX(Data!$A379:$H379,,MATCH(FALSE,ISERROR(SEARCH(D$1&\"=\",Data!$A379:$H379)),0)),D$1&\"=\",\"\"),\"\")","v":""},{"$f":"IFERROR(SUBSTITUTE(INDEX(Data!$A379:$H379,,MATCH(FALSE,ISERROR(SEARCH(E$1&\"=\",Data!$A379:$H379)),0)),E$1&\"=\",\"\"),\"\")","v":""},{"$f":"IFERROR(SUBSTITUTE(INDEX(Data!$A379:$H379,,MATCH(FALSE,ISERROR(SEARCH(F$1&\"=\",Data!$A379:$H379)),0)),F$1&\"=\",\"\"),\"\")","v":""},{"$f":"IFERROR(SUBSTITUTE(INDEX(Data!$A379:$H379,,MATCH(FALSE,ISERROR(SEARCH(G$1&\"=\",Data!$A379:$H379)),0)),G$1&\"=\",\"\"),\"\")","v":""},{"$f":"IFERROR(SUBSTITUTE(INDEX(Data!$A379:$H379,,MATCH(FALSE,ISERROR(SEARCH(H$1&\"=\",Data!$A379:$H379)),0)),H$1&\"=\",\"\"),\"\")","v":""},{"$f":"IFERROR(SUBSTITUTE(INDEX(Data!$A379:$H379,,MATCH(FALSE,ISERROR(SEARCH(I$1&\"=\",Data!$A379:$H379)),0)),I$1&\"=\",\"\"),\"\")","v":""},{"$f":"IFERROR(SUBSTITUTE(INDEX(Data!$A379:$H379,,MATCH(FALSE,ISERROR(SEARCH(J$1&\"=\",Data!$A379:$H379)),0)),J$1&\"=\",\"\"),\"\")","v":""}]
[{"$f":"IFERROR(SUBSTITUTE(INDEX(Data!$A380:$H380,,MATCH(FALSE,ISERROR(SEARCH(A$1&\"=\",Data!$A380:$H380)),0)),A$1&\"=\",\"\"),\"\")","v":""},{"$f":"IFERROR(SUBSTITUTE(INDEX(Data!$A380:$H380,,MATCH(FALSE,ISERROR(SEARCH(B$1&\"=\",Data!$A380:$H380)),0)),B$1&\"=\",\"\"),\"\")","v":""},{"$f":"IFERROR(SUBSTITUTE(INDEX(Data!$A380:$H380,,MATCH(FALSE,ISERROR(SEARCH(C$1&\"=\",Data!$A380:$H380)),0)),C$1&\"=\",\"\"),\"\")","v":""},{"$f":"IFERROR(SUBSTITUTE(INDEX(Data!$A380:$H380,,MATCH(FALSE,ISERROR(SEARCH(D$1&\"=\",Data!$A380:$H380)),0)),D$1&\"=\",\"\"),\"\")","v":""},{"$f":"IFERROR(SUBSTITUTE(INDEX(Data!$A380:$H380,,MATCH(FALSE,ISERROR(SEARCH(E$1&\"=\",Data!$A380:$H380)),0)),E$1&\"=\",\"\"),\"\")","v":""},{"$f":"IFERROR(SUBSTITUTE(INDEX(Data!$A380:$H380,,MATCH(FALSE,ISERROR(SEARCH(F$1&\"=\",Data!$A380:$H380)),0)),F$1&\"=\",\"\"),\"\")","v":""},{"$f":"IFERROR(SUBSTITUTE(INDEX(Data!$A380:$H380,,MATCH(FALSE,ISERROR(SEARCH(G$1&\"=\",Data!$A380:$H380)),0)),G$1&\"=\",\"\"),\"\")","v":""},{"$f":"IFERROR(SUBSTITUTE(INDEX(Data!$A380:$H380,,MATCH(FALSE,ISERROR(SEARCH(H$1&\"=\",Data!$A380:$H380)),0)),H$1&\"=\",\"\"),\"\")","v":""},{"$f":"IFERROR(SUBSTITUTE(INDEX(Data!$A380:$H380,,MATCH(FALSE,ISERROR(SEARCH(I$1&\"=\",Data!$A380:$H380)),0)),I$1&\"=\",\"\"),\"\")","v":""},{"$f":"IFERROR(SUBSTITUTE(INDEX(Data!$A380:$H380,,MATCH(FALSE,ISERROR(SEARCH(J$1&\"=\",Data!$A380:$H380)),0)),J$1&\"=\",\"\"),\"\")","v":""}]
[{"$f":"IFERROR(SUBSTITUTE(INDEX(Data!$A381:$H381,,MATCH(FALSE,ISERROR(SEARCH(A$1&\"=\",Data!$A381:$H381)),0)),A$1&\"=\",\"\"),\"\")","v":""},{"$f":"IFERROR(SUBSTITUTE(INDEX(Data!$A381:$H381,,MATCH(FALSE,ISERROR(SEARCH(B$1&\"=\",Data!$A381:$H381)),0)),B$1&\"=\",\"\"),\"\")","v":""},{"$f":"IFERROR(SUBSTITUTE(INDEX(Data!$A381:$H381,,MATCH(FALSE,ISERROR(SEARCH(C$1&\"=\",Data!$A381:$H381)),0)),C$1&\"=\",\"\"),\"\")","v":""},{"$f":"IFERROR(SUBSTITUTE(INDEX(Data!$A381:$H381,,MATCH(FALSE,ISERROR(SEARCH(D$1&\"=\",Data!$A381:$H381)),0)),D$1&\"=\",\"\"),\"\")","v":""},{"$f":"IFERROR(SUBSTITUTE(INDEX(Data!$A381:$H381,,MATCH(FALSE,ISERROR(SEARCH(E$1&\"=\",Data!$A381:$H381)),0)),E$1&\"=\",\"\"),\"\")","v":""},{"$f":"IFERROR(SUBSTITUTE(INDEX(Data!$A381:$H381,,MATCH(FALSE,ISERROR(SEARCH(F$1&\"=\",Data!$A381:$H381)),0)),F$1&\"=\",\"\"),\"\")","v":""},{"$f":"IFERROR(SUBSTITUTE(INDEX(Data!$A381:$H381,,MATCH(FALSE,ISERROR(SEARCH(G$1&\"=\",Data!$A381:$H381)),0)),G$1&\"=\",\"\"),\"\")","v":""},{"$f":"IFERROR(SUBSTITUTE(INDEX(Data!$A381:$H381,,MATCH(FALSE,ISERROR(SEARCH(H$1&\"=\",Data!$A381:$H381)),0)),H$1&\"=\",\"\"),\"\")","v":""},{"$f":"IFERROR(SUBSTITUTE(INDEX(Data!$A381:$H381,,MATCH(FALSE,ISERROR(SEARCH(I$1&\"=\",Data!$A381:$H381)),0)),I$1&\"=\",\"\"),\"\")","v":""},{"$f":"IFERROR(SUBSTITUTE(INDEX(Data!$A381:$H381,,MATCH(FALSE,ISERROR(SEARCH(J$1&\"=\",Data!$A381:$H381)),0)),J$1&\"=\",\"\"),\"\")","v":""}]
[{"$f":"IFERROR(SUBSTITUTE(INDEX(Data!$A382:$H382,,MATCH(FALSE,ISERROR(SEARCH(A$1&\"=\",Data!$A382:$H382)),0)),A$1&\"=\",\"\"),\"\")","v":""},{"$f":"IFERROR(SUBSTITUTE(INDEX(Data!$A382:$H382,,MATCH(FALSE,ISERROR(SEARCH(B$1&\"=\",Data!$A382:$H382)),0)),B$1&\"=\",\"\"),\"\")","v":""},{"$f":"IFERROR(SUBSTITUTE(INDEX(Data!$A382:$H382,,MATCH(FALSE,ISERROR(SEARCH(C$1&\"=\",Data!$A382:$H382)),0)),C$1&\"=\",\"\"),\"\")","v":""},{"$f":"IFERROR(SUBSTITUTE(INDEX(Data!$A382:$H382,,MATCH(FALSE,ISERROR(SEARCH(D$1&\"=\",Data!$A382:$H382)),0)),D$1&\"=\",\"\"),\"\")","v":""},{"$f":"IFERROR(SUBSTITUTE(INDEX(Data!$A382:$H382,,MATCH(FALSE,ISERROR(SEARCH(E$1&\"=\",Data!$A382:$H382)),0)),E$1&\"=\",\"\"),\"\")","v":""},{"$f":"IFERROR(SUBSTITUTE(INDEX(Data!$A382:$H382,,MATCH(FALSE,ISERROR(SEARCH(F$1&\"=\",Data!$A382:$H382)),0)),F$1&\"=\",\"\"),\"\")","v":""},{"$f":"IFERROR(SUBSTITUTE(INDEX(Data!$A382:$H382,,MATCH(FALSE,ISERROR(SEARCH(G$1&\"=\",Data!$A382:$H382)),0)),G$1&\"=\",\"\"),\"\")","v":""},{"$f":"IFERROR(SUBSTITUTE(INDEX(Data!$A382:$H382,,MATCH(FALSE,ISERROR(SEARCH(H$1&\"=\",Data!$A382:$H382)),0)),H$1&\"=\",\"\"),\"\")","v":""},{"$f":"IFERROR(SUBSTITUTE(INDEX(Data!$A382:$H382,,MATCH(FALSE,ISERROR(SEARCH(I$1&\"=\",Data!$A382:$H382)),0)),I$1&\"=\",\"\"),\"\")","v":""},{"$f":"IFERROR(SUBSTITUTE(INDEX(Data!$A382:$H382,,MATCH(FALSE,ISERROR(SEARCH(J$1&\"=\",Data!$A382:$H382)),0)),J$1&\"=\",\"\"),\"\")","v":""}]
[{"$f":"IFERROR(SUBSTITUTE(INDEX(Data!$A383:$H383,,MATCH(FALSE,ISERROR(SEARCH(A$1&\"=\",Data!$A383:$H383)),0)),A$1&\"=\",\"\"),\"\")","v":""},{"$f":"IFERROR(SUBSTITUTE(INDEX(Data!$A383:$H383,,MATCH(FALSE,ISERROR(SEARCH(B$1&\"=\",Data!$A383:$H383)),0)),B$1&\"=\",\"\"),\"\")","v":""},{"$f":"IFERROR(SUBSTITUTE(INDEX(Data!$A383:$H383,,MATCH(FALSE,ISERROR(SEARCH(C$1&\"=\",Data!$A383:$H383)),0)),C$1&\"=\",\"\"),\"\")","v":""},{"$f":"IFERROR(SUBSTITUTE(INDEX(Data!$A383:$H383,,MATCH(FALSE,ISERROR(SEARCH(D$1&\"=\",Data!$A383:$H383)),0)),D$1&\"=\",\"\"),\"\")","v":""},{"$f":"IFERROR(SUBSTITUTE(INDEX(Data!$A383:$H383,,MATCH(FALSE,ISERROR(SEARCH(E$1&\"=\",Data!$A383:$H383)),0)),E$1&\"=\",\"\"),\"\")","v":""},{"$f":"IFERROR(SUBSTITUTE(INDEX(Data!$A383:$H383,,MATCH(FALSE,ISERROR(SEARCH(F$1&\"=\",Data!$A383:$H383)),0)),F$1&\"=\",\"\"),\"\")","v":""},{"$f":"IFERROR(SUBSTITUTE(INDEX(Data!$A383:$H383,,MATCH(FALSE,ISERROR(SEARCH(G$1&\"=\",Data!$A383:$H383)),0)),G$1&\"=\",\"\"),\"\")","v":""},{"$f":"IFERROR(SUBSTITUTE(INDEX(Data!$A383:$H383,,MATCH(FALSE,ISERROR(SEARCH(H$1&\"=\",Data!$A383:$H383)),0)),H$1&\"=\",\"\"),\"\")","v":""},{"$f":"IFERROR(SUBSTITUTE(INDEX(Data!$A383:$H383,,MATCH(FALSE,ISERROR(SEARCH(I$1&\"=\",Data!$A383:$H383)),0)),I$1&\"=\",\"\"),\"\")","v":""},{"$f":"IFERROR(SUBSTITUTE(INDEX(Data!$A383:$H383,,MATCH(FALSE,ISERROR(SEARCH(J$1&\"=\",Data!$A383:$H383)),0)),J$1&\"=\",\"\"),\"\")","v":""}]
[{"$f":"IFERROR(SUBSTITUTE(INDEX(Data!$A384:$H384,,MATCH(FALSE,ISERROR(SEARCH(A$1&\"=\",Data!$A384:$H384)),0)),A$1&\"=\",\"\"),\"\")","v":""},{"$f":"IFERROR(SUBSTITUTE(INDEX(Data!$A384:$H384,,MATCH(FALSE,ISERROR(SEARCH(B$1&\"=\",Data!$A384:$H384)),0)),B$1&\"=\",\"\"),\"\")","v":""},{"$f":"IFERROR(SUBSTITUTE(INDEX(Data!$A384:$H384,,MATCH(FALSE,ISERROR(SEARCH(C$1&\"=\",Data!$A384:$H384)),0)),C$1&\"=\",\"\"),\"\")","v":""},{"$f":"IFERROR(SUBSTITUTE(INDEX(Data!$A384:$H384,,MATCH(FALSE,ISERROR(SEARCH(D$1&\"=\",Data!$A384:$H384)),0)),D$1&\"=\",\"\"),\"\")","v":""},{"$f":"IFERROR(SUBSTITUTE(INDEX(Data!$A384:$H384,,MATCH(FALSE,ISERROR(SEARCH(E$1&\"=\",Data!$A384:$H384)),0)),E$1&\"=\",\"\"),\"\")","v":""},{"$f":"IFERROR(SUBSTITUTE(INDEX(Data!$A384:$H384,,MATCH(FALSE,ISERROR(SEARCH(F$1&\"=\",Data!$A384:$H384)),0)),F$1&\"=\",\"\"),\"\")","v":""},{"$f":"IFERROR(SUBSTITUTE(INDEX(Data!$A384:$H384,,MATCH(FALSE,ISERROR(SEARCH(G$1&\"=\",Data!$A384:$H384)),0)),G$1&\"=\",\"\"),\"\")","v":""},{"$f":"IFERROR(SUBSTITUTE(INDEX(Data!$A384:$H384,,MATCH(FALSE,ISERROR(SEARCH(H$1&\"=\",Data!$A384:$H384)),0)),H$1&\"=\",\"\"),\"\")","v":""},{"$f":"IFERROR(SUBSTITUTE(INDEX(Data!$A384:$H384,,MATCH(FALSE,ISERROR(SEARCH(I$1&\"=\",Data!$A384:$H384)),0)),I$1&\"=\",\"\"),\"\")","v":""},{"$f":"IFERROR(SUBSTITUTE(INDEX(Data!$A384:$H384,,MATCH(FALSE,ISERROR(SEARCH(J$1&\"=\",Data!$A384:$H384)),0)),J$1&\"=\",\"\"),\"\")","v":""}]
[{"$f":"IFERROR(SUBSTITUTE(INDEX(Data!$A385:$H385,,MATCH(FALSE,ISERROR(SEARCH(A$1&\"=\",Data!$A385:$H385)),0)),A$1&\"=\",\"\"),\"\")","v":""},{"$f":"IFERROR(SUBSTITUTE(INDEX(Data!$A385:$H385,,MATCH(FALSE,ISERROR(SEARCH(B$1&\"=\",Data!$A385:$H385)),0)),B$1&\"=\",\"\"),\"\")","v":""},{"$f":"IFERROR(SUBSTITUTE(INDEX(Data!$A385:$H385,,MATCH(FALSE,ISERROR(SEARCH(C$1&\"=\",Data!$A385:$H385)),0)),C$1&\"=\",\"\"),\"\")","v":""},{"$f":"IFERROR(SUBSTITUTE(INDEX(Data!$A385:$H385,,MATCH(FALSE,ISERROR(SEARCH(D$1&\"=\",Data!$A385:$H385)),0)),D$1&\"=\",\"\"),\"\")","v":""},{"$f":"IFERROR(SUBSTITUTE(INDEX(Data!$A385:$H385,,MATCH(FALSE,ISERROR(SEARCH(E$1&\"=\",Data!$A385:$H385)),0)),E$1&\"=\",\"\"),\"\")","v":""},{"$f":"IFERROR(SUBSTITUTE(INDEX(Data!$A385:$H385,,MATCH(FALSE,ISERROR(SEARCH(F$1&\"=\",Data!$A385:$H385)),0)),F$1&\"=\",\"\"),\"\")","v":""},{"$f":"IFERROR(SUBSTITUTE(INDEX(Data!$A385:$H385,,MATCH(FALSE,ISERROR(SEARCH(G$1&\"=\",Data!$A385:$H385)),0)),G$1&\"=\",\"\"),\"\")","v":""},{"$f":"IFERROR(SUBSTITUTE(INDEX(Data!$A385:$H385,,MATCH(FALSE,ISERROR(SEARCH(H$1&\"=\",Data!$A385:$H385)),0)),H$1&\"=\",\"\"),\"\")","v":""},{"$f":"IFERROR(SUBSTITUTE(INDEX(Data!$A385:$H385,,MATCH(FALSE,ISERROR(SEARCH(I$1&\"=\",Data!$A385:$H385)),0)),I$1&\"=\",\"\"),\"\")","v":""},{"$f":"IFERROR(SUBSTITUTE(INDEX(Data!$A385:$H385,,MATCH(FALSE,ISERROR(SEARCH(J$1&\"=\",Data!$A385:$H385)),0)),J$1&\"=\",\"\"),\"\")","v":""}]
[{"$f":"IFERROR(SUBSTITUTE(INDEX(Data!$A386:$H386,,MATCH(FALSE,ISERROR(SEARCH(A$1&\"=\",Data!$A386:$H386)),0)),A$1&\"=\",\"\"),\"\")","v":""},{"$f":"IFERROR(SUBSTITUTE(INDEX(Data!$A386:$H386,,MATCH(FALSE,ISERROR(SEARCH(B$1&\"=\",Data!$A386:$H386)),0)),B$1&\"=\",\"\"),\"\")","v":""},{"$f":"IFERROR(SUBSTITUTE(INDEX(Data!$A386:$H386,,MATCH(FALSE,ISERROR(SEARCH(C$1&\"=\",Data!$A386:$H386)),0)),C$1&\"=\",\"\"),\"\")","v":""},{"$f":"IFERROR(SUBSTITUTE(INDEX(Data!$A386:$H386,,MATCH(FALSE,ISERROR(SEARCH(D$1&\"=\",Data!$A386:$H386)),0)),D$1&\"=\",\"\"),\"\")","v":""},{"$f":"IFERROR(SUBSTITUTE(INDEX(Data!$A386:$H386,,MATCH(FALSE,ISERROR(SEARCH(E$1&\"=\",Data!$A386:$H386)),0)),E$1&\"=\",\"\"),\"\")","v":""},{"$f":"IFERROR(SUBSTITUTE(INDEX(Data!$A386:$H386,,MATCH(FALSE,ISERROR(SEARCH(F$1&\"=\",Data!$A386:$H386)),0)),F$1&\"=\",\"\"),\"\")","v":""},{"$f":"IFERROR(SUBSTITUTE(INDEX(Data!$A386:$H386,,MATCH(FALSE,ISERROR(SEARCH(G$1&\"=\",Data!$A386:$H386)),0)),G$1&\"=\",\"\"),\"\")","v":""},{"$f":"IFERROR(SUBSTITUTE(INDEX(Data!$A386:$H386,,MATCH(FALSE,ISERROR(SEARCH(H$1&\"=\",Data!$A386:$H386)),0)),H$1&\"=\",\"\"),\"\")","v":""},{"$f":"IFERROR(SUBSTITUTE(INDEX(Data!$A386:$H386,,MATCH(FALSE,ISERROR(SEARCH(I$1&\"=\",Data!$A386:$H386)),0)),I$1&\"=\",\"\"),\"\")","v":""},{"$f":"IFERROR(SUBSTITUTE(INDEX(Data!$A386:$H386,,MATCH(FALSE,ISERROR(SEARCH(J$1&\"=\",Data!$A386:$H386)),0)),J$1&\"=\",\"\"),\"\")","v":""}]
[{"$f":"IFERROR(SUBSTITUTE(INDEX(Data!$A387:$H387,,MATCH(FALSE,ISERROR(SEARCH(A$1&\"=\",Data!$A387:$H387)),0)),A$1&\"=\",\"\"),\"\")","v":""},{"$f":"IFERROR(SUBSTITUTE(INDEX(Data!$A387:$H387,,MATCH(FALSE,ISERROR(SEARCH(B$1&\"=\",Data!$A387:$H387)),0)),B$1&\"=\",\"\"),\"\")","v":""},{"$f":"IFERROR(SUBSTITUTE(INDEX(Data!$A387:$H387,,MATCH(FALSE,ISERROR(SEARCH(C$1&\"=\",Data!$A387:$H387)),0)),C$1&\"=\",\"\"),\"\")","v":""},{"$f":"IFERROR(SUBSTITUTE(INDEX(Data!$A387:$H387,,MATCH(FALSE,ISERROR(SEARCH(D$1&\"=\",Data!$A387:$H387)),0)),D$1&\"=\",\"\"),\"\")","v":""},{"$f":"IFERROR(SUBSTITUTE(INDEX(Data!$A387:$H387,,MATCH(FALSE,ISERROR(SEARCH(E$1&\"=\",Data!$A387:$H387)),0)),E$1&\"=\",\"\"),\"\")","v":""},{"$f":"IFERROR(SUBSTITUTE(INDEX(Data!$A387:$H387,,MATCH(FALSE,ISERROR(SEARCH(F$1&\"=\",Data!$A387:$H387)),0)),F$1&\"=\",\"\"),\"\")","v":""},{"$f":"IFERROR(SUBSTITUTE(INDEX(Data!$A387:$H387,,MATCH(FALSE,ISERROR(SEARCH(G$1&\"=\",Data!$A387:$H387)),0)),G$1&\"=\",\"\"),\"\")","v":""},{"$f":"IFERROR(SUBSTITUTE(INDEX(Data!$A387:$H387,,MATCH(FALSE,ISERROR(SEARCH(H$1&\"=\",Data!$A387:$H387)),0)),H$1&\"=\",\"\"),\"\")","v":""},{"$f":"IFERROR(SUBSTITUTE(INDEX(Data!$A387:$H387,,MATCH(FALSE,ISERROR(SEARCH(I$1&\"=\",Data!$A387:$H387)),0)),I$1&\"=\",\"\"),\"\")","v":""},{"$f":"IFERROR(SUBSTITUTE(INDEX(Data!$A387:$H387,,MATCH(FALSE,ISERROR(SEARCH(J$1&\"=\",Data!$A387:$H387)),0)),J$1&\"=\",\"\"),\"\")","v":""}]
[{"$f":"IFERROR(SUBSTITUTE(INDEX(Data!$A388:$H388,,MATCH(FALSE,ISERROR(SEARCH(A$1&\"=\",Data!$A388:$H388)),0)),A$1&\"=\",\"\"),\"\")","v":""},{"$f":"IFERROR(SUBSTITUTE(INDEX(Data!$A388:$H388,,MATCH(FALSE,ISERROR(SEARCH(B$1&\"=\",Data!$A388:$H388)),0)),B$1&\"=\",\"\"),\"\")","v":""},{"$f":"IFERROR(SUBSTITUTE(INDEX(Data!$A388:$H388,,MATCH(FALSE,ISERROR(SEARCH(C$1&\"=\",Data!$A388:$H388)),0)),C$1&\"=\",\"\"),\"\")","v":""},{"$f":"IFERROR(SUBSTITUTE(INDEX(Data!$A388:$H388,,MATCH(FALSE,ISERROR(SEARCH(D$1&\"=\",Data!$A388:$H388)),0)),D$1&\"=\",\"\"),\"\")","v":""},{"$f":"IFERROR(SUBSTITUTE(INDEX(Data!$A388:$H388,,MATCH(FALSE,ISERROR(SEARCH(E$1&\"=\",Data!$A388:$H388)),0)),E$1&\"=\",\"\"),\"\")","v":""},{"$f":"IFERROR(SUBSTITUTE(INDEX(Data!$A388:$H388,,MATCH(FALSE,ISERROR(SEARCH(F$1&\"=\",Data!$A388:$H388)),0)),F$1&\"=\",\"\"),\"\")","v":""},{"$f":"IFERROR(SUBSTITUTE(INDEX(Data!$A388:$H388,,MATCH(FALSE,ISERROR(SEARCH(G$1&\"=\",Data!$A388:$H388)),0)),G$1&\"=\",\"\"),\"\")","v":""},{"$f":"IFERROR(SUBSTITUTE(INDEX(Data!$A388:$H388,,MATCH(FALSE,ISERROR(SEARCH(H$1&\"=\",Data!$A388:$H388)),0)),H$1&\"=\",\"\"),\"\")","v":""},{"$f":"IFERROR(SUBSTITUTE(INDEX(Data!$A388:$H388,,MATCH(FALSE,ISERROR(SEARCH(I$1&\"=\",Data!$A388:$H388)),0)),I$1&\"=\",\"\"),\"\")","v":""},{"$f":"IFERROR(SUBSTITUTE(INDEX(Data!$A388:$H388,,MATCH(FALSE,ISERROR(SEARCH(J$1&\"=\",Data!$A388:$H388)),0)),J$1&\"=\",\"\"),\"\")","v":""}]
[{"$f":"IFERROR(SUBSTITUTE(INDEX(Data!$A389:$H389,,MATCH(FALSE,ISERROR(SEARCH(A$1&\"=\",Data!$A389:$H389)),0)),A$1&\"=\",\"\"),\"\")","v":""},{"$f":"IFERROR(SUBSTITUTE(INDEX(Data!$A389:$H389,,MATCH(FALSE,ISERROR(SEARCH(B$1&\"=\",Data!$A389:$H389)),0)),B$1&\"=\",\"\"),\"\")","v":""},{"$f":"IFERROR(SUBSTITUTE(INDEX(Data!$A389:$H389,,MATCH(FALSE,ISERROR(SEARCH(C$1&\"=\",Data!$A389:$H389)),0)),C$1&\"=\",\"\"),\"\")","v":""},{"$f":"IFERROR(SUBSTITUTE(INDEX(Data!$A389:$H389,,MATCH(FALSE,ISERROR(SEARCH(D$1&\"=\",Data!$A389:$H389)),0)),D$1&\"=\",\"\"),\"\")","v":""},{"$f":"IFERROR(SUBSTITUTE(INDEX(Data!$A389:$H389,,MATCH(FALSE,ISERROR(SEARCH(E$1&\"=\",Data!$A389:$H389)),0)),E$1&\"=\",\"\"),\"\")","v":""},{"$f":"IFERROR(SUBSTITUTE(INDEX(Data!$A389:$H389,,MATCH(FALSE,ISERROR(SEARCH(F$1&\"=\",Data!$A389:$H389)),0)),F$1&\"=\",\"\"),\"\")","v":""},{"$f":"IFERROR(SUBSTITUTE(INDEX(Data!$A389:$H389,,MATCH(FALSE,ISERROR(SEARCH(G$1&\"=\",Data!$A389:$H389)),0)),G$1&\"=\",\"\"),\"\")","v":""},{"$f":"IFERROR(SUBSTITUTE(INDEX(Data!$A389:$H389,,MATCH(FALSE,ISERROR(SEARCH(H$1&\"=\",Data!$A389:$H389)),0)),H$1&\"=\",\"\"),\"\")","v":""},{"$f":"IFERROR(SUBSTITUTE(INDEX(Data!$A389:$H389,,MATCH(FALSE,ISERROR(SEARCH(I$1&\"=\",Data!$A389:$H389)),0)),I$1&\"=\",\"\"),\"\")","v":""},{"$f":"IFERROR(SUBSTITUTE(INDEX(Data!$A389:$H389,,MATCH(FALSE,ISERROR(SEARCH(J$1&\"=\",Data!$A389:$H389)),0)),J$1&\"=\",\"\"),\"\")","v":""}]
[{"$f":"IFERROR(SUBSTITUTE(INDEX(Data!$A390:$H390,,MATCH(FALSE,ISERROR(SEARCH(A$1&\"=\",Data!$A390:$H390)),0)),A$1&\"=\",\"\"),\"\")","v":""},{"$f":"IFERROR(SUBSTITUTE(INDEX(Data!$A390:$H390,,MATCH(FALSE,ISERROR(SEARCH(B$1&\"=\",Data!$A390:$H390)),0)),B$1&\"=\",\"\"),\"\")","v":""},{"$f":"IFERROR(SUBSTITUTE(INDEX(Data!$A390:$H390,,MATCH(FALSE,ISERROR(SEARCH(C$1&\"=\",Data!$A390:$H390)),0)),C$1&\"=\",\"\"),\"\")","v":""},{"$f":"IFERROR(SUBSTITUTE(INDEX(Data!$A390:$H390,,MATCH(FALSE,ISERROR(SEARCH(D$1&\"=\",Data!$A390:$H390)),0)),D$1&\"=\",\"\"),\"\")","v":""},{"$f":"IFERROR(SUBSTITUTE(INDEX(Data!$A390:$H390,,MATCH(FALSE,ISERROR(SEARCH(E$1&\"=\",Data!$A390:$H390)),0)),E$1&\"=\",\"\"),\"\")","v":""},{"$f":"IFERROR(SUBSTITUTE(INDEX(Data!$A390:$H390,,MATCH(FALSE,ISERROR(SEARCH(F$1&\"=\",Data!$A390:$H390)),0)),F$1&\"=\",\"\"),\"\")","v":""},{"$f":"IFERROR(SUBSTITUTE(INDEX(Data!$A390:$H390,,MATCH(FALSE,ISERROR(SEARCH(G$1&\"=\",Data!$A390:$H390)),0)),G$1&\"=\",\"\"),\"\")","v":""},{"$f":"IFERROR(SUBSTITUTE(INDEX(Data!$A390:$H390,,MATCH(FALSE,ISERROR(SEARCH(H$1&\"=\",Data!$A390:$H390)),0)),H$1&\"=\",\"\"),\"\")","v":""},{"$f":"IFERROR(SUBSTITUTE(INDEX(Data!$A390:$H390,,MATCH(FALSE,ISERROR(SEARCH(I$1&\"=\",Data!$A390:$H390)),0)),I$1&\"=\",\"\"),\"\")","v":""},{"$f":"IFERROR(SUBSTITUTE(INDEX(Data!$A390:$H390,,MATCH(FALSE,ISERROR(SEARCH(J$1&\"=\",Data!$A390:$H390)),0)),J$1&\"=\",\"\"),\"\")","v":""}]
[{"$f":"IFERROR(SUBSTITUTE(INDEX(Data!$A391:$H391,,MATCH(FALSE,ISERROR(SEARCH(A$1&\"=\",Data!$A391:$H391)),0)),A$1&\"=\",\"\"),\"\")","v":""},{"$f":"IFERROR(SUBSTITUTE(INDEX(Data!$A391:$H391,,MATCH(FALSE,ISERROR(SEARCH(B$1&\"=\",Data!$A391:$H391)),0)),B$1&\"=\",\"\"),\"\")","v":""},{"$f":"IFERROR(SUBSTITUTE(INDEX(Data!$A391:$H391,,MATCH(FALSE,ISERROR(SEARCH(C$1&\"=\",Data!$A391:$H391)),0)),C$1&\"=\",\"\"),\"\")","v":""},{"$f":"IFERROR(SUBSTITUTE(INDEX(Data!$A391:$H391,,MATCH(FALSE,ISERROR(SEARCH(D$1&\"=\",Data!$A391:$H391)),0)),D$1&\"=\",\"\"),\"\")","v":""},{"$f":"IFERROR(SUBSTITUTE(INDEX(Data!$A391:$H391,,MATCH(FALSE,ISERROR(SEARCH(E$1&\"=\",Data!$A391:$H391)),0)),E$1&\"=\",\"\"),\"\")","v":""},{"$f":"IFERROR(SUBSTITUTE(INDEX(Data!$A391:$H391,,MATCH(FALSE,ISERROR(SEARCH(F$1&\"=\",Data!$A391:$H391)),0)),F$1&\"=\",\"\"),\"\")","v":""},{"$f":"IFERROR(SUBSTITUTE(INDEX(Data!$A391:$H391,,MATCH(FALSE,ISERROR(SEARCH(G$1&\"=\",Data!$A391:$H391)),0)),G$1&\"=\",\"\"),\"\")","v":""},{"$f":"IFERROR(SUBSTITUTE(INDEX(Data!$A391:$H391,,MATCH(FALSE,ISERROR(SEARCH(H$1&\"=\",Data!$A391:$H391)),0)),H$1&\"=\",\"\"),\"\")","v":""},{"$f":"IFERROR(SUBSTITUTE(INDEX(Data!$A391:$H391,,MATCH(FALSE,ISERROR(SEARCH(I$1&\"=\",Data!$A391:$H391)),0)),I$1&\"=\",\"\"),\"\")","v":""},{"$f":"IFERROR(SUBSTITUTE(INDEX(Data!$A391:$H391,,MATCH(FALSE,ISERROR(SEARCH(J$1&\"=\",Data!$A391:$H391)),0)),J$1&\"=\",\"\"),\"\")","v":""}]
[{"$f":"IFERROR(SUBSTITUTE(INDEX(Data!$A392:$H392,,MATCH(FALSE,ISERROR(SEARCH(A$1&\"=\",Data!$A392:$H392)),0)),A$1&\"=\",\"\"),\"\")","v":""},{"$f":"IFERROR(SUBSTITUTE(INDEX(Data!$A392:$H392,,MATCH(FALSE,ISERROR(SEARCH(B$1&\"=\",Data!$A392:$H392)),0)),B$1&\"=\",\"\"),\"\")","v":""},{"$f":"IFERROR(SUBSTITUTE(INDEX(Data!$A392:$H392,,MATCH(FALSE,ISERROR(SEARCH(C$1&\"=\",Data!$A392:$H392)),0)),C$1&\"=\",\"\"),\"\")","v":""},{"$f":"IFERROR(SUBSTITUTE(INDEX(Data!$A392:$H392,,MATCH(FALSE,ISERROR(SEARCH(D$1&\"=\",Data!$A392:$H392)),0)),D$1&\"=\",\"\"),\"\")","v":""},{"$f":"IFERROR(SUBSTITUTE(INDEX(Data!$A392:$H392,,MATCH(FALSE,ISERROR(SEARCH(E$1&\"=\",Data!$A392:$H392)),0)),E$1&\"=\",\"\"),\"\")","v":""},{"$f":"IFERROR(SUBSTITUTE(INDEX(Data!$A392:$H392,,MATCH(FALSE,ISERROR(SEARCH(F$1&\"=\",Data!$A392:$H392)),0)),F$1&\"=\",\"\"),\"\")","v":""},{"$f":"IFERROR(SUBSTITUTE(INDEX(Data!$A392:$H392,,MATCH(FALSE,ISERROR(SEARCH(G$1&\"=\",Data!$A392:$H392)),0)),G$1&\"=\",\"\"),\"\")","v":""},{"$f":"IFERROR(SUBSTITUTE(INDEX(Data!$A392:$H392,,MATCH(FALSE,ISERROR(SEARCH(H$1&\"=\",Data!$A392:$H392)),0)),H$1&\"=\",\"\"),\"\")","v":""},{"$f":"IFERROR(SUBSTITUTE(INDEX(Data!$A392:$H392,,MATCH(FALSE,ISERROR(SEARCH(I$1&\"=\",Data!$A392:$H392)),0)),I$1&\"=\",\"\"),\"\")","v":""},{"$f":"IFERROR(SUBSTITUTE(INDEX(Data!$A392:$H392,,MATCH(FALSE,ISERROR(SEARCH(J$1&\"=\",Data!$A392:$H392)),0)),J$1&\"=\",\"\"),\"\")","v":""}]
[{"$f":"IFERROR(SUBSTITUTE(INDEX(Data!$A393:$H393,,MATCH(FALSE,ISERROR(SEARCH(A$1&\"=\",Data!$A393:$H393)),0)),A$1&\"=\",\"\"),\"\")","v":""},{"$f":"IFERROR(SUBSTITUTE(INDEX(Data!$A393:$H393,,MATCH(FALSE,ISERROR(SEARCH(B$1&\"=\",Data!$A393:$H393)),0)),B$1&\"=\",\"\"),\"\")","v":""},{"$f":"IFERROR(SUBSTITUTE(INDEX(Data!$A393:$H393,,MATCH(FALSE,ISERROR(SEARCH(C$1&\"=\",Data!$A393:$H393)),0)),C$1&\"=\",\"\"),\"\")","v":""},{"$f":"IFERROR(SUBSTITUTE(INDEX(Data!$A393:$H393,,MATCH(FALSE,ISERROR(SEARCH(D$1&\"=\",Data!$A393:$H393)),0)),D$1&\"=\",\"\"),\"\")","v":""},{"$f":"IFERROR(SUBSTITUTE(INDEX(Data!$A393:$H393,,MATCH(FALSE,ISERROR(SEARCH(E$1&\"=\",Data!$A393:$H393)),0)),E$1&\"=\",\"\"),\"\")","v":""},{"$f":"IFERROR(SUBSTITUTE(INDEX(Data!$A393:$H393,,MATCH(FALSE,ISERROR(SEARCH(F$1&\"=\",Data!$A393:$H393)),0)),F$1&\"=\",\"\"),\"\")","v":""},{"$f":"IFERROR(SUBSTITUTE(INDEX(Data!$A393:$H393,,MATCH(FALSE,ISERROR(SEARCH(G$1&\"=\",Data!$A393:$H393)),0)),G$1&\"=\",\"\"),\"\")","v":""},{"$f":"IFERROR(SUBSTITUTE(INDEX(Data!$A393:$H393,,MATCH(FALSE,ISERROR(SEARCH(H$1&\"=\",Data!$A393:$H393)),0)),H$1&\"=\",\"\"),\"\")","v":""},{"$f":"IFERROR(SUBSTITUTE(INDEX(Data!$A393:$H393,,MATCH(FALSE,ISERROR(SEARCH(I$1&\"=\",Data!$A393:$H393)),0)),I$1&\"=\",\"\"),\"\")","v":""},{"$f":"IFERROR(SUBSTITUTE(INDEX(Data!$A393:$H393,,MATCH(FALSE,ISERROR(SEARCH(J$1&\"=\",Data!$A393:$H393)),0)),J$1&\"=\",\"\"),\"\")","v":""}]
[{"$f":"IFERROR(SUBSTITUTE(INDEX(Data!$A394:$H394,,MATCH(FALSE,ISERROR(SEARCH(A$1&\"=\",Data!$A394:$H394)),0)),A$1&\"=\",\"\"),\"\")","v":""},{"$f":"IFERROR(SUBSTITUTE(INDEX(Data!$A394:$H394,,MATCH(FALSE,ISERROR(SEARCH(B$1&\"=\",Data!$A394:$H394)),0)),B$1&\"=\",\"\"),\"\")","v":""},{"$f":"IFERROR(SUBSTITUTE(INDEX(Data!$A394:$H394,,MATCH(FALSE,ISERROR(SEARCH(C$1&\"=\",Data!$A394:$H394)),0)),C$1&\"=\",\"\"),\"\")","v":""},{"$f":"IFERROR(SUBSTITUTE(INDEX(Data!$A394:$H394,,MATCH(FALSE,ISERROR(SEARCH(D$1&\"=\",Data!$A394:$H394)),0)),D$1&\"=\",\"\"),\"\")","v":""},{"$f":"IFERROR(SUBSTITUTE(INDEX(Data!$A394:$H394,,MATCH(FALSE,ISERROR(SEARCH(E$1&\"=\",Data!$A394:$H394)),0)),E$1&\"=\",\"\"),\"\")","v":""},{"$f":"IFERROR(SUBSTITUTE(INDEX(Data!$A394:$H394,,MATCH(FALSE,ISERROR(SEARCH(F$1&\"=\",Data!$A394:$H394)),0)),F$1&\"=\",\"\"),\"\")","v":""},{"$f":"IFERROR(SUBSTITUTE(INDEX(Data!$A394:$H394,,MATCH(FALSE,ISERROR(SEARCH(G$1&\"=\",Data!$A394:$H394)),0)),G$1&\"=\",\"\"),\"\")","v":""},{"$f":"IFERROR(SUBSTITUTE(INDEX(Data!$A394:$H394,,MATCH(FALSE,ISERROR(SEARCH(H$1&\"=\",Data!$A394:$H394)),0)),H$1&\"=\",\"\"),\"\")","v":""},{"$f":"IFERROR(SUBSTITUTE(INDEX(Data!$A394:$H394,,MATCH(FALSE,ISERROR(SEARCH(I$1&\"=\",Data!$A394:$H394)),0)),I$1&\"=\",\"\"),\"\")","v":""},{"$f":"IFERROR(SUBSTITUTE(INDEX(Data!$A394:$H394,,MATCH(FALSE,ISERROR(SEARCH(J$1&\"=\",Data!$A394:$H394)),0)),J$1&\"=\",\"\"),\"\")","v":""}]
[{"$f":"IFERROR(SUBSTITUTE(INDEX(Data!$A395:$H395,,MATCH(FALSE,ISERROR(SEARCH(A$1&\"=\",Data!$A395:$H395)),0)),A$1&\"=\",\"\"),\"\")","v":""},{"$f":"IFERROR(SUBSTITUTE(INDEX(Data!$A395:$H395,,MATCH(FALSE,ISERROR(SEARCH(B$1&\"=\",Data!$A395:$H395)),0)),B$1&\"=\",\"\"),\"\")","v":""},{"$f":"IFERROR(SUBSTITUTE(INDEX(Data!$A395:$H395,,MATCH(FALSE,ISERROR(SEARCH(C$1&\"=\",Data!$A395:$H395)),0)),C$1&\"=\",\"\"),\"\")","v":""},{"$f":"IFERROR(SUBSTITUTE(INDEX(Data!$A395:$H395,,MATCH(FALSE,ISERROR(SEARCH(D$1&\"=\",Data!$A395:$H395)),0)),D$1&\"=\",\"\"),\"\")","v":""},{"$f":"IFERROR(SUBSTITUTE(INDEX(Data!$A395:$H395,,MATCH(FALSE,ISERROR(SEARCH(E$1&\"=\",Data!$A395:$H395)),0)),E$1&\"=\",\"\"),\"\")","v":""},{"$f":"IFERROR(SUBSTITUTE(INDEX(Data!$A395:$H395,,MATCH(FALSE,ISERROR(SEARCH(F$1&\"=\",Data!$A395:$H395)),0)),F$1&\"=\",\"\"),\"\")","v":""},{"$f":"IFERROR(SUBSTITUTE(INDEX(Data!$A395:$H395,,MATCH(FALSE,ISERROR(SEARCH(G$1&\"=\",Data!$A395:$H395)),0)),G$1&\"=\",\"\"),\"\")","v":""},{"$f":"IFERROR(SUBSTITUTE(INDEX(Data!$A395:$H395,,MATCH(FALSE,ISERROR(SEARCH(H$1&\"=\",Data!$A395:$H395)),0)),H$1&\"=\",\"\"),\"\")","v":""},{"$f":"IFERROR(SUBSTITUTE(INDEX(Data!$A395:$H395,,MATCH(FALSE,ISERROR(SEARCH(I$1&\"=\",Data!$A395:$H395)),0)),I$1&\"=\",\"\"),\"\")","v":""},{"$f":"IFERROR(SUBSTITUTE(INDEX(Data!$A395:$H395,,MATCH(FALSE,ISERROR(SEARCH(J$1&\"=\",Data!$A395:$H395)),0)),J$1&\"=\",\"\"),\"\")","v":""}]
[{"$f":"IFERROR(SUBSTITUTE(INDEX(Data!$A396:$H396,,MATCH(FALSE,ISERROR(SEARCH(A$1&\"=\",Data!$A396:$H396)),0)),A$1&\"=\",\"\"),\"\")","v":""},{"$f":"IFERROR(SUBSTITUTE(INDEX(Data!$A396:$H396,,MATCH(FALSE,ISERROR(SEARCH(B$1&\"=\",Data!$A396:$H396)),0)),B$1&\"=\",\"\"),\"\")","v":""},{"$f":"IFERROR(SUBSTITUTE(INDEX(Data!$A396:$H396,,MATCH(FALSE,ISERROR(SEARCH(C$1&\"=\",Data!$A396:$H396)),0)),C$1&\"=\",\"\"),\"\")","v":""},{"$f":"IFERROR(SUBSTITUTE(INDEX(Data!$A396:$H396,,MATCH(FALSE,ISERROR(SEARCH(D$1&\"=\",Data!$A396:$H396)),0)),D$1&\"=\",\"\"),\"\")","v":""},{"$f":"IFERROR(SUBSTITUTE(INDEX(Data!$A396:$H396,,MATCH(FALSE,ISERROR(SEARCH(E$1&\"=\",Data!$A396:$H396)),0)),E$1&\"=\",\"\"),\"\")","v":""},{"$f":"IFERROR(SUBSTITUTE(INDEX(Data!$A396:$H396,,MATCH(FALSE,ISERROR(SEARCH(F$1&\"=\",Data!$A396:$H396)),0)),F$1&\"=\",\"\"),\"\")","v":""},{"$f":"IFERROR(SUBSTITUTE(INDEX(Data!$A396:$H396,,MATCH(FALSE,ISERROR(SEARCH(G$1&\"=\",Data!$A396:$H396)),0)),G$1&\"=\",\"\"),\"\")","v":""},{"$f":"IFERROR(SUBSTITUTE(INDEX(Data!$A396:$H396,,MATCH(FALSE,ISERROR(SEARCH(H$1&\"=\",Data!$A396:$H396)),0)),H$1&\"=\",\"\"),\"\")","v":""},{"$f":"IFERROR(SUBSTITUTE(INDEX(Data!$A396:$H396,,MATCH(FALSE,ISERROR(SEARCH(I$1&\"=\",Data!$A396:$H396)),0)),I$1&\"=\",\"\"),\"\")","v":""},{"$f":"IFERROR(SUBSTITUTE(INDEX(Data!$A396:$H396,,MATCH(FALSE,ISERROR(SEARCH(J$1&\"=\",Data!$A396:$H396)),0)),J$1&\"=\",\"\"),\"\")","v":""}]
[{"$f":"IFERROR(SUBSTITUTE(INDEX(Data!$A397:$H397,,MATCH(FALSE,ISERROR(SEARCH(A$1&\"=\",Data!$A397:$H397)),0)),A$1&\"=\",\"\"),\"\")","v":""},{"$f":"IFERROR(SUBSTITUTE(INDEX(Data!$A397:$H397,,MATCH(FALSE,ISERROR(SEARCH(B$1&\"=\",Data!$A397:$H397)),0)),B$1&\"=\",\"\"),\"\")","v":""},{"$f":"IFERROR(SUBSTITUTE(INDEX(Data!$A397:$H397,,MATCH(FALSE,ISERROR(SEARCH(C$1&\"=\",Data!$A397:$H397)),0)),C$1&\"=\",\"\"),\"\")","v":""},{"$f":"IFERROR(SUBSTITUTE(INDEX(Data!$A397:$H397,,MATCH(FALSE,ISERROR(SEARCH(D$1&\"=\",Data!$A397:$H397)),0)),D$1&\"=\",\"\"),\"\")","v":""},{"$f":"IFERROR(SUBSTITUTE(INDEX(Data!$A397:$H397,,MATCH(FALSE,ISERROR(SEARCH(E$1&\"=\",Data!$A397:$H397)),0)),E$1&\"=\",\"\"),\"\")","v":""},{"$f":"IFERROR(SUBSTITUTE(INDEX(Data!$A397:$H397,,MATCH(FALSE,ISERROR(SEARCH(F$1&\"=\",Data!$A397:$H397)),0)),F$1&\"=\",\"\"),\"\")","v":""},{"$f":"IFERROR(SUBSTITUTE(INDEX(Data!$A397:$H397,,MATCH(FALSE,ISERROR(SEARCH(G$1&\"=\",Data!$A397:$H397)),0)),G$1&\"=\",\"\"),\"\")","v":""},{"$f":"IFERROR(SUBSTITUTE(INDEX(Data!$A397:$H397,,MATCH(FALSE,ISERROR(SEARCH(H$1&\"=\",Data!$A397:$H397)),0)),H$1&\"=\",\"\"),\"\")","v":""},{"$f":"IFERROR(SUBSTITUTE(INDEX(Data!$A397:$H397,,MATCH(FALSE,ISERROR(SEARCH(I$1&\"=\",Data!$A397:$H397)),0)),I$1&\"=\",\"\"),\"\")","v":""},{"$f":"IFERROR(SUBSTITUTE(INDEX(Data!$A397:$H397,,MATCH(FALSE,ISERROR(SEARCH(J$1&\"=\",Data!$A397:$H397)),0)),J$1&\"=\",\"\"),\"\")","v":""}]
[{"$f":"IFERROR(SUBSTITUTE(INDEX(Data!$A398:$H398,,MATCH(FALSE,ISERROR(SEARCH(A$1&\"=\",Data!$A398:$H398)),0)),A$1&\"=\",\"\"),\"\")","v":""},{"$f":"IFERROR(SUBSTITUTE(INDEX(Data!$A398:$H398,,MATCH(FALSE,ISERROR(SEARCH(B$1&\"=\",Data!$A398:$H398)),0)),B$1&\"=\",\"\"),\"\")","v":""},{"$f":"IFERROR(SUBSTITUTE(INDEX(Data!$A398:$H398,,MATCH(FALSE,ISERROR(SEARCH(C$1&\"=\",Data!$A398:$H398)),0)),C$1&\"=\",\"\"),\"\")","v":""},{"$f":"IFERROR(SUBSTITUTE(INDEX(Data!$A398:$H398,,MATCH(FALSE,ISERROR(SEARCH(D$1&\"=\",Data!$A398:$H398)),0)),D$1&\"=\",\"\"),\"\")","v":""},{"$f":"IFERROR(SUBSTITUTE(INDEX(Data!$A398:$H398,,MATCH(FALSE,ISERROR(SEARCH(E$1&\"=\",Data!$A398:$H398)),0)),E$1&\"=\",\"\"),\"\")","v":""},{"$f":"IFERROR(SUBSTITUTE(INDEX(Data!$A398:$H398,,MATCH(FALSE,ISERROR(SEARCH(F$1&\"=\",Data!$A398:$H398)),0)),F$1&\"=\",\"\"),\"\")","v":""},{"$f":"IFERROR(SUBSTITUTE(INDEX(Data!$A398:$H398,,MATCH(FALSE,ISERROR(SEARCH(G$1&\"=\",Data!$A398:$H398)),0)),G$1&\"=\",\"\"),\"\")","v":""},{"$f":"IFERROR(SUBSTITUTE(INDEX(Data!$A398:$H398,,MATCH(FALSE,ISERROR(SEARCH(H$1&\"=\",Data!$A398:$H398)),0)),H$1&\"=\",\"\"),\"\")","v":""},{"$f":"IFERROR(SUBSTITUTE(INDEX(Data!$A398:$H398,,MATCH(FALSE,ISERROR(SEARCH(I$1&\"=\",Data!$A398:$H398)),0)),I$1&\"=\",\"\"),\"\")","v":""},{"$f":"IFERROR(SUBSTITUTE(INDEX(Data!$A398:$H398,,MATCH(FALSE,ISERROR(SEARCH(J$1&\"=\",Data!$A398:$H398)),0)),J$1&\"=\",\"\"),\"\")","v":""}]
[{"$f":"IFERROR(SUBSTITUTE(INDEX(Data!$A399:$H399,,MATCH(FALSE,ISERROR(SEARCH(A$1&\"=\",Data!$A399:$H399)),0)),A$1&\"=\",\"\"),\"\")","v":""},{"$f":"IFERROR(SUBSTITUTE(INDEX(Data!$A399:$H399,,MATCH(FALSE,ISERROR(SEARCH(B$1&\"=\",Data!$A399:$H399)),0)),B$1&\"=\",\"\"),\"\")","v":""},{"$f":"IFERROR(SUBSTITUTE(INDEX(Data!$A399:$H399,,MATCH(FALSE,ISERROR(SEARCH(C$1&\"=\",Data!$A399:$H399)),0)),C$1&\"=\",\"\"),\"\")","v":""},{"$f":"IFERROR(SUBSTITUTE(INDEX(Data!$A399:$H399,,MATCH(FALSE,ISERROR(SEARCH(D$1&\"=\",Data!$A399:$H399)),0)),D$1&\"=\",\"\"),\"\")","v":""},{"$f":"IFERROR(SUBSTITUTE(INDEX(Data!$A399:$H399,,MATCH(FALSE,ISERROR(SEARCH(E$1&\"=\",Data!$A399:$H399)),0)),E$1&\"=\",\"\"),\"\")","v":""},{"$f":"IFERROR(SUBSTITUTE(INDEX(Data!$A399:$H399,,MATCH(FALSE,ISERROR(SEARCH(F$1&\"=\",Data!$A399:$H399)),0)),F$1&\"=\",\"\"),\"\")","v":""},{"$f":"IFERROR(SUBSTITUTE(INDEX(Data!$A399:$H399,,MATCH(FALSE,ISERROR(SEARCH(G$1&\"=\",Data!$A399:$H399)),0)),G$1&\"=\",\"\"),\"\")","v":""},{"$f":"IFERROR(SUBSTITUTE(INDEX(Data!$A399:$H399,,MATCH(FALSE,ISERROR(SEARCH(H$1&\"=\",Data!$A399:$H399)),0)),H$1&\"=\",\"\"),\"\")","v":""},{"$f":"IFERROR(SUBSTITUTE(INDEX(Data!$A399:$H399,,MATCH(FALSE,ISERROR(SEARCH(I$1&\"=\",Data!$A399:$H399)),0)),I$1&\"=\",\"\"),\"\")","v":""},{"$f":"IFERROR(SUBSTITUTE(INDEX(Data!$A399:$H399,,MATCH(FALSE,ISERROR(SEARCH(J$1&\"=\",Data!$A399:$H399)),0)),J$1&\"=\",\"\"),\"\")","v":""}]
[{"$f":"IFERROR(SUBSTITUTE(INDEX(Data!$A400:$H400,,MATCH(FALSE,ISERROR(SEARCH(A$1&\"=\",Data!$A400:$H400)),0)),A$1&\"=\",\"\"),\"\")","v":""},{"$f":"IFERROR(SUBSTITUTE(INDEX(Data!$A400:$H400,,MATCH(FALSE,ISERROR(SEARCH(B$1&\"=\",Data!$A400:$H400)),0)),B$1&\"=\",\"\"),\"\")","v":""},{"$f":"IFERROR(SUBSTITUTE(INDEX(Data!$A400:$H400,,MATCH(FALSE,ISERROR(SEARCH(C$1&\"=\",Data!$A400:$H400)),0)),C$1&\"=\",\"\"),\"\")","v":""},{"$f":"IFERROR(SUBSTITUTE(INDEX(Data!$A400:$H400,,MATCH(FALSE,ISERROR(SEARCH(D$1&\"=\",Data!$A400:$H400)),0)),D$1&\"=\",\"\"),\"\")","v":""},{"$f":"IFERROR(SUBSTITUTE(INDEX(Data!$A400:$H400,,MATCH(FALSE,ISERROR(SEARCH(E$1&\"=\",Data!$A400:$H400)),0)),E$1&\"=\",\"\"),\"\")","v":""},{"$f":"IFERROR(SUBSTITUTE(INDEX(Data!$A400:$H400,,MATCH(FALSE,ISERROR(SEARCH(F$1&\"=\",Data!$A400:$H400)),0)),F$1&\"=\",\"\"),\"\")","v":""},{"$f":"IFERROR(SUBSTITUTE(INDEX(Data!$A400:$H400,,MATCH(FALSE,ISERROR(SEARCH(G$1&\"=\",Data!$A400:$H400)),0)),G$1&\"=\",\"\"),\"\")","v":""},{"$f":"IFERROR(SUBSTITUTE(INDEX(Data!$A400:$H400,,MATCH(FALSE,ISERROR(SEARCH(H$1&\"=\",Data!$A400:$H400)),0)),H$1&\"=\",\"\"),\"\")","v":""},{"$f":"IFERROR(SUBSTITUTE(INDEX(Data!$A400:$H400,,MATCH(FALSE,ISERROR(SEARCH(I$1&\"=\",Data!$A400:$H400)),0)),I$1&\"=\",\"\"),\"\")","v":""},{"$f":"IFERROR(SUBSTITUTE(INDEX(Data!$A400:$H400,,MATCH(FALSE,ISERROR(SEARCH(J$1&\"=\",Data!$A400:$H400)),0)),J$1&\"=\",\"\"),\"\")","v":""}]
[{"$f":"IFERROR(SUBSTITUTE(INDEX(Data!$A401:$H401,,MATCH(FALSE,ISERROR(SEARCH(A$1&\"=\",Data!$A401:$H401)),0)),A$1&\"=\",\"\"),\"\")","v":""},{"$f":"IFERROR(SUBSTITUTE(INDEX(Data!$A401:$H401,,MATCH(FALSE,ISERROR(SEARCH(B$1&\"=\",Data!$A401:$H401)),0)),B$1&\"=\",\"\"),\"\")","v":""},{"$f":"IFERROR(SUBSTITUTE(INDEX(Data!$A401:$H401,,MATCH(FALSE,ISERROR(SEARCH(C$1&\"=\",Data!$A401:$H401)),0)),C$1&\"=\",\"\"),\"\")","v":""},{"$f":"IFERROR(SUBSTITUTE(INDEX(Data!$A401:$H401,,MATCH(FALSE,ISERROR(SEARCH(D$1&\"=\",Data!$A401:$H401)),0)),D$1&\"=\",\"\"),\"\")","v":""},{"$f":"IFERROR(SUBSTITUTE(INDEX(Data!$A401:$H401,,MATCH(FALSE,ISERROR(SEARCH(E$1&\"=\",Data!$A401:$H401)),0)),E$1&\"=\",\"\"),\"\")","v":""},{"$f":"IFERROR(SUBSTITUTE(INDEX(Data!$A401:$H401,,MATCH(FALSE,ISERROR(SEARCH(F$1&\"=\",Data!$A401:$H401)),0)),F$1&\"=\",\"\"),\"\")","v":""},{"$f":"IFERROR(SUBSTITUTE(INDEX(Data!$A401:$H401,,MATCH(FALSE,ISERROR(SEARCH(G$1&\"=\",Data!$A401:$H401)),0)),G$1&\"=\",\"\"),\"\")","v":""},{"$f":"IFERROR(SUBSTITUTE(INDEX(Data!$A401:$H401,,MATCH(FALSE,ISERROR(SEARCH(H$1&\"=\",Data!$A401:$H401)),0)),H$1&\"=\",\"\"),\"\")","v":""},{"$f":"IFERROR(SUBSTITUTE(INDEX(Data!$A401:$H401,,MATCH(FALSE,ISERROR(SEARCH(I$1&\"=\",Data!$A401:$H401)),0)),I$1&\"=\",\"\"),\"\")","v":""},{"$f":"IFERROR(SUBSTITUTE(INDEX(Data!$A401:$H401,,MATCH(FALSE,ISERROR(SEARCH(J$1&\"=\",Data!$A401:$H401)),0)),J$1&\"=\",\"\"),\"\")","v":""}]
[{"$f":"IFERROR(SUBSTITUTE(INDEX(Data!$A402:$H402,,MATCH(FALSE,ISERROR(SEARCH(A$1&\"=\",Data!$A402:$H402)),0)),A$1&\"=\",\"\"),\"\")","v":""},{"$f":"IFERROR(SUBSTITUTE(INDEX(Data!$A402:$H402,,MATCH(FALSE,ISERROR(SEARCH(B$1&\"=\",Data!$A402:$H402)),0)),B$1&\"=\",\"\"),\"\")","v":""},{"$f":"IFERROR(SUBSTITUTE(INDEX(Data!$A402:$H402,,MATCH(FALSE,ISERROR(SEARCH(C$1&\"=\",Data!$A402:$H402)),0)),C$1&\"=\",\"\"),\"\")","v":""},{"$f":"IFERROR(SUBSTITUTE(INDEX(Data!$A402:$H402,,MATCH(FALSE,ISERROR(SEARCH(D$1&\"=\",Data!$A402:$H402)),0)),D$1&\"=\",\"\"),\"\")","v":""},{"$f":"IFERROR(SUBSTITUTE(INDEX(Data!$A402:$H402,,MATCH(FALSE,ISERROR(SEARCH(E$1&\"=\",Data!$A402:$H402)),0)),E$1&\"=\",\"\"),\"\")","v":""},{"$f":"IFERROR(SUBSTITUTE(INDEX(Data!$A402:$H402,,MATCH(FALSE,ISERROR(SEARCH(F$1&\"=\",Data!$A402:$H402)),0)),F$1&\"=\",\"\"),\"\")","v":""},{"$f":"IFERROR(SUBSTITUTE(INDEX(Data!$A402:$H402,,MATCH(FALSE,ISERROR(SEARCH(G$1&\"=\",Data!$A402:$H402)),0)),G$1&\"=\",\"\"),\"\")","v":""},{"$f":"IFERROR(SUBSTITUTE(INDEX(Data!$A402:$H402,,MATCH(FALSE,ISERROR(SEARCH(H$1&\"=\",Data!$A402:$H402)),0)),H$1&\"=\",\"\"),\"\")","v":""},{"$f":"IFERROR(SUBSTITUTE(INDEX(Data!$A402:$H402,,MATCH(FALSE,ISERROR(SEARCH(I$1&\"=\",Data!$A402:$H402)),0)),I$1&\"=\",\"\"),\"\")","v":""},{"$f":"IFERROR(SUBSTITUTE(INDEX(Data!$A402:$H402,,MATCH(FALSE,ISERROR(SEARCH(J$1&\"=\",Data!$A402:$H402)),0)),J$1&\"=\",\"\"),\"\")","v":""}]
[{"$f":"IFERROR(SUBSTITUTE(INDEX(Data!$A403:$H403,,MATCH(FALSE,ISERROR(SEARCH(A$1&\"=\",Data!$A403:$H403)),0)),A$1&\"=\",\"\"),\"\")","v":""},{"$f":"IFERROR(SUBSTITUTE(INDEX(Data!$A403:$H403,,MATCH(FALSE,ISERROR(SEARCH(B$1&\"=\",Data!$A403:$H403)),0)),B$1&\"=\",\"\"),\"\")","v":""},{"$f":"IFERROR(SUBSTITUTE(INDEX(Data!$A403:$H403,,MATCH(FALSE,ISERROR(SEARCH(C$1&\"=\",Data!$A403:$H403)),0)),C$1&\"=\",\"\"),\"\")","v":""},{"$f":"IFERROR(SUBSTITUTE(INDEX(Data!$A403:$H403,,MATCH(FALSE,ISERROR(SEARCH(D$1&\"=\",Data!$A403:$H403)),0)),D$1&\"=\",\"\"),\"\")","v":""},{"$f":"IFERROR(SUBSTITUTE(INDEX(Data!$A403:$H403,,MATCH(FALSE,ISERROR(SEARCH(E$1&\"=\",Data!$A403:$H403)),0)),E$1&\"=\",\"\"),\"\")","v":""},{"$f":"IFERROR(SUBSTITUTE(INDEX(Data!$A403:$H403,,MATCH(FALSE,ISERROR(SEARCH(F$1&\"=\",Data!$A403:$H403)),0)),F$1&\"=\",\"\"),\"\")","v":""},{"$f":"IFERROR(SUBSTITUTE(INDEX(Data!$A403:$H403,,MATCH(FALSE,ISERROR(SEARCH(G$1&\"=\",Data!$A403:$H403)),0)),G$1&\"=\",\"\"),\"\")","v":""},{"$f":"IFERROR(SUBSTITUTE(INDEX(Data!$A403:$H403,,MATCH(FALSE,ISERROR(SEARCH(H$1&\"=\",Data!$A403:$H403)),0)),H$1&\"=\",\"\"),\"\")","v":""},{"$f":"IFERROR(SUBSTITUTE(INDEX(Data!$A403:$H403,,MATCH(FALSE,ISERROR(SEARCH(I$1&\"=\",Data!$A403:$H403)),0)),I$1&\"=\",\"\"),\"\")","v":""},{"$f":"IFERROR(SUBSTITUTE(INDEX(Data!$A403:$H403,,MATCH(FALSE,ISERROR(SEARCH(J$1&\"=\",Data!$A403:$H403)),0)),J$1&\"=\",\"\"),\"\")","v":""}]
[{"$f":"IFERROR(SUBSTITUTE(INDEX(Data!$A404:$H404,,MATCH(FALSE,ISERROR(SEARCH(A$1&\"=\",Data!$A404:$H404)),0)),A$1&\"=\",\"\"),\"\")","v":""},{"$f":"IFERROR(SUBSTITUTE(INDEX(Data!$A404:$H404,,MATCH(FALSE,ISERROR(SEARCH(B$1&\"=\",Data!$A404:$H404)),0)),B$1&\"=\",\"\"),\"\")","v":""},{"$f":"IFERROR(SUBSTITUTE(INDEX(Data!$A404:$H404,,MATCH(FALSE,ISERROR(SEARCH(C$1&\"=\",Data!$A404:$H404)),0)),C$1&\"=\",\"\"),\"\")","v":""},{"$f":"IFERROR(SUBSTITUTE(INDEX(Data!$A404:$H404,,MATCH(FALSE,ISERROR(SEARCH(D$1&\"=\",Data!$A404:$H404)),0)),D$1&\"=\",\"\"),\"\")","v":""},{"$f":"IFERROR(SUBSTITUTE(INDEX(Data!$A404:$H404,,MATCH(FALSE,ISERROR(SEARCH(E$1&\"=\",Data!$A404:$H404)),0)),E$1&\"=\",\"\"),\"\")","v":""},{"$f":"IFERROR(SUBSTITUTE(INDEX(Data!$A404:$H404,,MATCH(FALSE,ISERROR(SEARCH(F$1&\"=\",Data!$A404:$H404)),0)),F$1&\"=\",\"\"),\"\")","v":""},{"$f":"IFERROR(SUBSTITUTE(INDEX(Data!$A404:$H404,,MATCH(FALSE,ISERROR(SEARCH(G$1&\"=\",Data!$A404:$H404)),0)),G$1&\"=\",\"\"),\"\")","v":""},{"$f":"IFERROR(SUBSTITUTE(INDEX(Data!$A404:$H404,,MATCH(FALSE,ISERROR(SEARCH(H$1&\"=\",Data!$A404:$H404)),0)),H$1&\"=\",\"\"),\"\")","v":""},{"$f":"IFERROR(SUBSTITUTE(INDEX(Data!$A404:$H404,,MATCH(FALSE,ISERROR(SEARCH(I$1&\"=\",Data!$A404:$H404)),0)),I$1&\"=\",\"\"),\"\")","v":""},{"$f":"IFERROR(SUBSTITUTE(INDEX(Data!$A404:$H404,,MATCH(FALSE,ISERROR(SEARCH(J$1&\"=\",Data!$A404:$H404)),0)),J$1&\"=\",\"\"),\"\")","v":""}]
[{"$f":"IFERROR(SUBSTITUTE(INDEX(Data!$A405:$H405,,MATCH(FALSE,ISERROR(SEARCH(A$1&\"=\",Data!$A405:$H405)),0)),A$1&\"=\",\"\"),\"\")","v":""},{"$f":"IFERROR(SUBSTITUTE(INDEX(Data!$A405:$H405,,MATCH(FALSE,ISERROR(SEARCH(B$1&\"=\",Data!$A405:$H405)),0)),B$1&\"=\",\"\"),\"\")","v":""},{"$f":"IFERROR(SUBSTITUTE(INDEX(Data!$A405:$H405,,MATCH(FALSE,ISERROR(SEARCH(C$1&\"=\",Data!$A405:$H405)),0)),C$1&\"=\",\"\"),\"\")","v":""},{"$f":"IFERROR(SUBSTITUTE(INDEX(Data!$A405:$H405,,MATCH(FALSE,ISERROR(SEARCH(D$1&\"=\",Data!$A405:$H405)),0)),D$1&\"=\",\"\"),\"\")","v":""},{"$f":"IFERROR(SUBSTITUTE(INDEX(Data!$A405:$H405,,MATCH(FALSE,ISERROR(SEARCH(E$1&\"=\",Data!$A405:$H405)),0)),E$1&\"=\",\"\"),\"\")","v":""},{"$f":"IFERROR(SUBSTITUTE(INDEX(Data!$A405:$H405,,MATCH(FALSE,ISERROR(SEARCH(F$1&\"=\",Data!$A405:$H405)),0)),F$1&\"=\",\"\"),\"\")","v":""},{"$f":"IFERROR(SUBSTITUTE(INDEX(Data!$A405:$H405,,MATCH(FALSE,ISERROR(SEARCH(G$1&\"=\",Data!$A405:$H405)),0)),G$1&\"=\",\"\"),\"\")","v":""},{"$f":"IFERROR(SUBSTITUTE(INDEX(Data!$A405:$H405,,MATCH(FALSE,ISERROR(SEARCH(H$1&\"=\",Data!$A405:$H405)),0)),H$1&\"=\",\"\"),\"\")","v":""},{"$f":"IFERROR(SUBSTITUTE(INDEX(Data!$A405:$H405,,MATCH(FALSE,ISERROR(SEARCH(I$1&\"=\",Data!$A405:$H405)),0)),I$1&\"=\",\"\"),\"\")","v":""},{"$f":"IFERROR(SUBSTITUTE(INDEX(Data!$A405:$H405,,MATCH(FALSE,ISERROR(SEARCH(J$1&\"=\",Data!$A405:$H405)),0)),J$1&\"=\",\"\"),\"\")","v":""}]
[{"$f":"IFERROR(SUBSTITUTE(INDEX(Data!$A406:$H406,,MATCH(FALSE,ISERROR(SEARCH(A$1&\"=\",Data!$A406:$H406)),0)),A$1&\"=\",\"\"),\"\")","v":""},{"$f":"IFERROR(SUBSTITUTE(INDEX(Data!$A406:$H406,,MATCH(FALSE,ISERROR(SEARCH(B$1&\"=\",Data!$A406:$H406)),0)),B$1&\"=\",\"\"),\"\")","v":""},{"$f":"IFERROR(SUBSTITUTE(INDEX(Data!$A406:$H406,,MATCH(FALSE,ISERROR(SEARCH(C$1&\"=\",Data!$A406:$H406)),0)),C$1&\"=\",\"\"),\"\")","v":""},{"$f":"IFERROR(SUBSTITUTE(INDEX(Data!$A406:$H406,,MATCH(FALSE,ISERROR(SEARCH(D$1&\"=\",Data!$A406:$H406)),0)),D$1&\"=\",\"\"),\"\")","v":""},{"$f":"IFERROR(SUBSTITUTE(INDEX(Data!$A406:$H406,,MATCH(FALSE,ISERROR(SEARCH(E$1&\"=\",Data!$A406:$H406)),0)),E$1&\"=\",\"\"),\"\")","v":""},{"$f":"IFERROR(SUBSTITUTE(INDEX(Data!$A406:$H406,,MATCH(FALSE,ISERROR(SEARCH(F$1&\"=\",Data!$A406:$H406)),0)),F$1&\"=\",\"\"),\"\")","v":""},{"$f":"IFERROR(SUBSTITUTE(INDEX(Data!$A406:$H406,,MATCH(FALSE,ISERROR(SEARCH(G$1&\"=\",Data!$A406:$H406)),0)),G$1&\"=\",\"\"),\"\")","v":""},{"$f":"IFERROR(SUBSTITUTE(INDEX(Data!$A406:$H406,,MATCH(FALSE,ISERROR(SEARCH(H$1&\"=\",Data!$A406:$H406)),0)),H$1&\"=\",\"\"),\"\")","v":""},{"$f":"IFERROR(SUBSTITUTE(INDEX(Data!$A406:$H406,,MATCH(FALSE,ISERROR(SEARCH(I$1&\"=\",Data!$A406:$H406)),0)),I$1&\"=\",\"\"),\"\")","v":""},{"$f":"IFERROR(SUBSTITUTE(INDEX(Data!$A406:$H406,,MATCH(FALSE,ISERROR(SEARCH(J$1&\"=\",Data!$A406:$H406)),0)),J$1&\"=\",\"\"),\"\")","v":""}]
[{"$f":"IFERROR(SUBSTITUTE(INDEX(Data!$A407:$H407,,MATCH(FALSE,ISERROR(SEARCH(A$1&\"=\",Data!$A407:$H407)),0)),A$1&\"=\",\"\"),\"\")","v":""},{"$f":"IFERROR(SUBSTITUTE(INDEX(Data!$A407:$H407,,MATCH(FALSE,ISERROR(SEARCH(B$1&\"=\",Data!$A407:$H407)),0)),B$1&\"=\",\"\"),\"\")","v":""},{"$f":"IFERROR(SUBSTITUTE(INDEX(Data!$A407:$H407,,MATCH(FALSE,ISERROR(SEARCH(C$1&\"=\",Data!$A407:$H407)),0)),C$1&\"=\",\"\"),\"\")","v":""},{"$f":"IFERROR(SUBSTITUTE(INDEX(Data!$A407:$H407,,MATCH(FALSE,ISERROR(SEARCH(D$1&\"=\",Data!$A407:$H407)),0)),D$1&\"=\",\"\"),\"\")","v":""},{"$f":"IFERROR(SUBSTITUTE(INDEX(Data!$A407:$H407,,MATCH(FALSE,ISERROR(SEARCH(E$1&\"=\",Data!$A407:$H407)),0)),E$1&\"=\",\"\"),\"\")","v":""},{"$f":"IFERROR(SUBSTITUTE(INDEX(Data!$A407:$H407,,MATCH(FALSE,ISERROR(SEARCH(F$1&\"=\",Data!$A407:$H407)),0)),F$1&\"=\",\"\"),\"\")","v":""},{"$f":"IFERROR(SUBSTITUTE(INDEX(Data!$A407:$H407,,MATCH(FALSE,ISERROR(SEARCH(G$1&\"=\",Data!$A407:$H407)),0)),G$1&\"=\",\"\"),\"\")","v":""},{"$f":"IFERROR(SUBSTITUTE(INDEX(Data!$A407:$H407,,MATCH(FALSE,ISERROR(SEARCH(H$1&\"=\",Data!$A407:$H407)),0)),H$1&\"=\",\"\"),\"\")","v":""},{"$f":"IFERROR(SUBSTITUTE(INDEX(Data!$A407:$H407,,MATCH(FALSE,ISERROR(SEARCH(I$1&\"=\",Data!$A407:$H407)),0)),I$1&\"=\",\"\"),\"\")","v":""},{"$f":"IFERROR(SUBSTITUTE(INDEX(Data!$A407:$H407,,MATCH(FALSE,ISERROR(SEARCH(J$1&\"=\",Data!$A407:$H407)),0)),J$1&\"=\",\"\"),\"\")","v":""}]
[{"$f":"IFERROR(SUBSTITUTE(INDEX(Data!$A408:$H408,,MATCH(FALSE,ISERROR(SEARCH(A$1&\"=\",Data!$A408:$H408)),0)),A$1&\"=\",\"\"),\"\")","v":""},{"$f":"IFERROR(SUBSTITUTE(INDEX(Data!$A408:$H408,,MATCH(FALSE,ISERROR(SEARCH(B$1&\"=\",Data!$A408:$H408)),0)),B$1&\"=\",\"\"),\"\")","v":""},{"$f":"IFERROR(SUBSTITUTE(INDEX(Data!$A408:$H408,,MATCH(FALSE,ISERROR(SEARCH(C$1&\"=\",Data!$A408:$H408)),0)),C$1&\"=\",\"\"),\"\")","v":""},{"$f":"IFERROR(SUBSTITUTE(INDEX(Data!$A408:$H408,,MATCH(FALSE,ISERROR(SEARCH(D$1&\"=\",Data!$A408:$H408)),0)),D$1&\"=\",\"\"),\"\")","v":""},{"$f":"IFERROR(SUBSTITUTE(INDEX(Data!$A408:$H408,,MATCH(FALSE,ISERROR(SEARCH(E$1&\"=\",Data!$A408:$H408)),0)),E$1&\"=\",\"\"),\"\")","v":""},{"$f":"IFERROR(SUBSTITUTE(INDEX(Data!$A408:$H408,,MATCH(FALSE,ISERROR(SEARCH(F$1&\"=\",Data!$A408:$H408)),0)),F$1&\"=\",\"\"),\"\")","v":""},{"$f":"IFERROR(SUBSTITUTE(INDEX(Data!$A408:$H408,,MATCH(FALSE,ISERROR(SEARCH(G$1&\"=\",Data!$A408:$H408)),0)),G$1&\"=\",\"\"),\"\")","v":""},{"$f":"IFERROR(SUBSTITUTE(INDEX(Data!$A408:$H408,,MATCH(FALSE,ISERROR(SEARCH(H$1&\"=\",Data!$A408:$H408)),0)),H$1&\"=\",\"\"),\"\")","v":""},{"$f":"IFERROR(SUBSTITUTE(INDEX(Data!$A408:$H408,,MATCH(FALSE,ISERROR(SEARCH(I$1&\"=\",Data!$A408:$H408)),0)),I$1&\"=\",\"\"),\"\")","v":""},{"$f":"IFERROR(SUBSTITUTE(INDEX(Data!$A408:$H408,,MATCH(FALSE,ISERROR(SEARCH(J$1&\"=\",Data!$A408:$H408)),0)),J$1&\"=\",\"\"),\"\")","v":""}]
[{"$f":"IFERROR(SUBSTITUTE(INDEX(Data!$A409:$H409,,MATCH(FALSE,ISERROR(SEARCH(A$1&\"=\",Data!$A409:$H409)),0)),A$1&\"=\",\"\"),\"\")","v":""},{"$f":"IFERROR(SUBSTITUTE(INDEX(Data!$A409:$H409,,MATCH(FALSE,ISERROR(SEARCH(B$1&\"=\",Data!$A409:$H409)),0)),B$1&\"=\",\"\"),\"\")","v":""},{"$f":"IFERROR(SUBSTITUTE(INDEX(Data!$A409:$H409,,MATCH(FALSE,ISERROR(SEARCH(C$1&\"=\",Data!$A409:$H409)),0)),C$1&\"=\",\"\"),\"\")","v":""},{"$f":"IFERROR(SUBSTITUTE(INDEX(Data!$A409:$H409,,MATCH(FALSE,ISERROR(SEARCH(D$1&\"=\",Data!$A409:$H409)),0)),D$1&\"=\",\"\"),\"\")","v":""},{"$f":"IFERROR(SUBSTITUTE(INDEX(Data!$A409:$H409,,MATCH(FALSE,ISERROR(SEARCH(E$1&\"=\",Data!$A409:$H409)),0)),E$1&\"=\",\"\"),\"\")","v":""},{"$f":"IFERROR(SUBSTITUTE(INDEX(Data!$A409:$H409,,MATCH(FALSE,ISERROR(SEARCH(F$1&\"=\",Data!$A409:$H409)),0)),F$1&\"=\",\"\"),\"\")","v":""},{"$f":"IFERROR(SUBSTITUTE(INDEX(Data!$A409:$H409,,MATCH(FALSE,ISERROR(SEARCH(G$1&\"=\",Data!$A409:$H409)),0)),G$1&\"=\",\"\"),\"\")","v":""},{"$f":"IFERROR(SUBSTITUTE(INDEX(Data!$A409:$H409,,MATCH(FALSE,ISERROR(SEARCH(H$1&\"=\",Data!$A409:$H409)),0)),H$1&\"=\",\"\"),\"\")","v":""},{"$f":"IFERROR(SUBSTITUTE(INDEX(Data!$A409:$H409,,MATCH(FALSE,ISERROR(SEARCH(I$1&\"=\",Data!$A409:$H409)),0)),I$1&\"=\",\"\"),\"\")","v":""},{"$f":"IFERROR(SUBSTITUTE(INDEX(Data!$A409:$H409,,MATCH(FALSE,ISERROR(SEARCH(J$1&\"=\",Data!$A409:$H409)),0)),J$1&\"=\",\"\"),\"\")","v":""}]
[{"$f":"IFERROR(SUBSTITUTE(INDEX(Data!$A410:$H410,,MATCH(FALSE,ISERROR(SEARCH(A$1&\"=\",Data!$A410:$H410)),0)),A$1&\"=\",\"\"),\"\")","v":""},{"$f":"IFERROR(SUBSTITUTE(INDEX(Data!$A410:$H410,,MATCH(FALSE,ISERROR(SEARCH(B$1&\"=\",Data!$A410:$H410)),0)),B$1&\"=\",\"\"),\"\")","v":""},{"$f":"IFERROR(SUBSTITUTE(INDEX(Data!$A410:$H410,,MATCH(FALSE,ISERROR(SEARCH(C$1&\"=\",Data!$A410:$H410)),0)),C$1&\"=\",\"\"),\"\")","v":""},{"$f":"IFERROR(SUBSTITUTE(INDEX(Data!$A410:$H410,,MATCH(FALSE,ISERROR(SEARCH(D$1&\"=\",Data!$A410:$H410)),0)),D$1&\"=\",\"\"),\"\")","v":""},{"$f":"IFERROR(SUBSTITUTE(INDEX(Data!$A410:$H410,,MATCH(FALSE,ISERROR(SEARCH(E$1&\"=\",Data!$A410:$H410)),0)),E$1&\"=\",\"\"),\"\")","v":""},{"$f":"IFERROR(SUBSTITUTE(INDEX(Data!$A410:$H410,,MATCH(FALSE,ISERROR(SEARCH(F$1&\"=\",Data!$A410:$H410)),0)),F$1&\"=\",\"\"),\"\")","v":""},{"$f":"IFERROR(SUBSTITUTE(INDEX(Data!$A410:$H410,,MATCH(FALSE,ISERROR(SEARCH(G$1&\"=\",Data!$A410:$H410)),0)),G$1&\"=\",\"\"),\"\")","v":""},{"$f":"IFERROR(SUBSTITUTE(INDEX(Data!$A410:$H410,,MATCH(FALSE,ISERROR(SEARCH(H$1&\"=\",Data!$A410:$H410)),0)),H$1&\"=\",\"\"),\"\")","v":""},{"$f":"IFERROR(SUBSTITUTE(INDEX(Data!$A410:$H410,,MATCH(FALSE,ISERROR(SEARCH(I$1&\"=\",Data!$A410:$H410)),0)),I$1&\"=\",\"\"),\"\")","v":""},{"$f":"IFERROR(SUBSTITUTE(INDEX(Data!$A410:$H410,,MATCH(FALSE,ISERROR(SEARCH(J$1&\"=\",Data!$A410:$H410)),0)),J$1&\"=\",\"\"),\"\")","v":""}]
[{"$f":"IFERROR(SUBSTITUTE(INDEX(Data!$A411:$H411,,MATCH(FALSE,ISERROR(SEARCH(A$1&\"=\",Data!$A411:$H411)),0)),A$1&\"=\",\"\"),\"\")","v":""},{"$f":"IFERROR(SUBSTITUTE(INDEX(Data!$A411:$H411,,MATCH(FALSE,ISERROR(SEARCH(B$1&\"=\",Data!$A411:$H411)),0)),B$1&\"=\",\"\"),\"\")","v":""},{"$f":"IFERROR(SUBSTITUTE(INDEX(Data!$A411:$H411,,MATCH(FALSE,ISERROR(SEARCH(C$1&\"=\",Data!$A411:$H411)),0)),C$1&\"=\",\"\"),\"\")","v":""},{"$f":"IFERROR(SUBSTITUTE(INDEX(Data!$A411:$H411,,MATCH(FALSE,ISERROR(SEARCH(D$1&\"=\",Data!$A411:$H411)),0)),D$1&\"=\",\"\"),\"\")","v":""},{"$f":"IFERROR(SUBSTITUTE(INDEX(Data!$A411:$H411,,MATCH(FALSE,ISERROR(SEARCH(E$1&\"=\",Data!$A411:$H411)),0)),E$1&\"=\",\"\"),\"\")","v":""},{"$f":"IFERROR(SUBSTITUTE(INDEX(Data!$A411:$H411,,MATCH(FALSE,ISERROR(SEARCH(F$1&\"=\",Data!$A411:$H411)),0)),F$1&\"=\",\"\"),\"\")","v":""},{"$f":"IFERROR(SUBSTITUTE(INDEX(Data!$A411:$H411,,MATCH(FALSE,ISERROR(SEARCH(G$1&\"=\",Data!$A411:$H411)),0)),G$1&\"=\",\"\"),\"\")","v":""},{"$f":"IFERROR(SUBSTITUTE(INDEX(Data!$A411:$H411,,MATCH(FALSE,ISERROR(SEARCH(H$1&\"=\",Data!$A411:$H411)),0)),H$1&\"=\",\"\"),\"\")","v":""},{"$f":"IFERROR(SUBSTITUTE(INDEX(Data!$A411:$H411,,MATCH(FALSE,ISERROR(SEARCH(I$1&\"=\",Data!$A411:$H411)),0)),I$1&\"=\",\"\"),\"\")","v":""},{"$f":"IFERROR(SUBSTITUTE(INDEX(Data!$A411:$H411,,MATCH(FALSE,ISERROR(SEARCH(J$1&\"=\",Data!$A411:$H411)),0)),J$1&\"=\",\"\"),\"\")","v":""}]
[{"$f":"IFERROR(SUBSTITUTE(INDEX(Data!$A412:$H412,,MATCH(FALSE,ISERROR(SEARCH(A$1&\"=\",Data!$A412:$H412)),0)),A$1&\"=\",\"\"),\"\")","v":""},{"$f":"IFERROR(SUBSTITUTE(INDEX(Data!$A412:$H412,,MATCH(FALSE,ISERROR(SEARCH(B$1&\"=\",Data!$A412:$H412)),0)),B$1&\"=\",\"\"),\"\")","v":""},{"$f":"IFERROR(SUBSTITUTE(INDEX(Data!$A412:$H412,,MATCH(FALSE,ISERROR(SEARCH(C$1&\"=\",Data!$A412:$H412)),0)),C$1&\"=\",\"\"),\"\")","v":""},{"$f":"IFERROR(SUBSTITUTE(INDEX(Data!$A412:$H412,,MATCH(FALSE,ISERROR(SEARCH(D$1&\"=\",Data!$A412:$H412)),0)),D$1&\"=\",\"\"),\"\")","v":""},{"$f":"IFERROR(SUBSTITUTE(INDEX(Data!$A412:$H412,,MATCH(FALSE,ISERROR(SEARCH(E$1&\"=\",Data!$A412:$H412)),0)),E$1&\"=\",\"\"),\"\")","v":""},{"$f":"IFERROR(SUBSTITUTE(INDEX(Data!$A412:$H412,,MATCH(FALSE,ISERROR(SEARCH(F$1&\"=\",Data!$A412:$H412)),0)),F$1&\"=\",\"\"),\"\")","v":""},{"$f":"IFERROR(SUBSTITUTE(INDEX(Data!$A412:$H412,,MATCH(FALSE,ISERROR(SEARCH(G$1&\"=\",Data!$A412:$H412)),0)),G$1&\"=\",\"\"),\"\")","v":""},{"$f":"IFERROR(SUBSTITUTE(INDEX(Data!$A412:$H412,,MATCH(FALSE,ISERROR(SEARCH(H$1&\"=\",Data!$A412:$H412)),0)),H$1&\"=\",\"\"),\"\")","v":""},{"$f":"IFERROR(SUBSTITUTE(INDEX(Data!$A412:$H412,,MATCH(FALSE,ISERROR(SEARCH(I$1&\"=\",Data!$A412:$H412)),0)),I$1&\"=\",\"\"),\"\")","v":""},{"$f":"IFERROR(SUBSTITUTE(INDEX(Data!$A412:$H412,,MATCH(FALSE,ISERROR(SEARCH(J$1&\"=\",Data!$A412:$H412)),0)),J$1&\"=\",\"\"),\"\")","v":""}]
[{"$f":"IFERROR(SUBSTITUTE(INDEX(Data!$A413:$H413,,MATCH(FALSE,ISERROR(SEARCH(A$1&\"=\",Data!$A413:$H413)),0)),A$1&\"=\",\"\"),\"\")","v":""},{"$f":"IFERROR(SUBSTITUTE(INDEX(Data!$A413:$H413,,MATCH(FALSE,ISERROR(SEARCH(B$1&\"=\",Data!$A413:$H413)),0)),B$1&\"=\",\"\"),\"\")","v":""},{"$f":"IFERROR(SUBSTITUTE(INDEX(Data!$A413:$H413,,MATCH(FALSE,ISERROR(SEARCH(C$1&\"=\",Data!$A413:$H413)),0)),C$1&\"=\",\"\"),\"\")","v":""},{"$f":"IFERROR(SUBSTITUTE(INDEX(Data!$A413:$H413,,MATCH(FALSE,ISERROR(SEARCH(D$1&\"=\",Data!$A413:$H413)),0)),D$1&\"=\",\"\"),\"\")","v":""},{"$f":"IFERROR(SUBSTITUTE(INDEX(Data!$A413:$H413,,MATCH(FALSE,ISERROR(SEARCH(E$1&\"=\",Data!$A413:$H413)),0)),E$1&\"=\",\"\"),\"\")","v":""},{"$f":"IFERROR(SUBSTITUTE(INDEX(Data!$A413:$H413,,MATCH(FALSE,ISERROR(SEARCH(F$1&\"=\",Data!$A413:$H413)),0)),F$1&\"=\",\"\"),\"\")","v":""},{"$f":"IFERROR(SUBSTITUTE(INDEX(Data!$A413:$H413,,MATCH(FALSE,ISERROR(SEARCH(G$1&\"=\",Data!$A413:$H413)),0)),G$1&\"=\",\"\"),\"\")","v":""},{"$f":"IFERROR(SUBSTITUTE(INDEX(Data!$A413:$H413,,MATCH(FALSE,ISERROR(SEARCH(H$1&\"=\",Data!$A413:$H413)),0)),H$1&\"=\",\"\"),\"\")","v":""},{"$f":"IFERROR(SUBSTITUTE(INDEX(Data!$A413:$H413,,MATCH(FALSE,ISERROR(SEARCH(I$1&\"=\",Data!$A413:$H413)),0)),I$1&\"=\",\"\"),\"\")","v":""},{"$f":"IFERROR(SUBSTITUTE(INDEX(Data!$A413:$H413,,MATCH(FALSE,ISERROR(SEARCH(J$1&\"=\",Data!$A413:$H413)),0)),J$1&\"=\",\"\"),\"\")","v":""}]
[{"$f":"IFERROR(SUBSTITUTE(INDEX(Data!$A414:$H414,,MATCH(FALSE,ISERROR(SEARCH(A$1&\"=\",Data!$A414:$H414)),0)),A$1&\"=\",\"\"),\"\")","v":""},{"$f":"IFERROR(SUBSTITUTE(INDEX(Data!$A414:$H414,,MATCH(FALSE,ISERROR(SEARCH(B$1&\"=\",Data!$A414:$H414)),0)),B$1&\"=\",\"\"),\"\")","v":""},{"$f":"IFERROR(SUBSTITUTE(INDEX(Data!$A414:$H414,,MATCH(FALSE,ISERROR(SEARCH(C$1&\"=\",Data!$A414:$H414)),0)),C$1&\"=\",\"\"),\"\")","v":""},{"$f":"IFERROR(SUBSTITUTE(INDEX(Data!$A414:$H414,,MATCH(FALSE,ISERROR(SEARCH(D$1&\"=\",Data!$A414:$H414)),0)),D$1&\"=\",\"\"),\"\")","v":""},{"$f":"IFERROR(SUBSTITUTE(INDEX(Data!$A414:$H414,,MATCH(FALSE,ISERROR(SEARCH(E$1&\"=\",Data!$A414:$H414)),0)),E$1&\"=\",\"\"),\"\")","v":""},{"$f":"IFERROR(SUBSTITUTE(INDEX(Data!$A414:$H414,,MATCH(FALSE,ISERROR(SEARCH(F$1&\"=\",Data!$A414:$H414)),0)),F$1&\"=\",\"\"),\"\")","v":""},{"$f":"IFERROR(SUBSTITUTE(INDEX(Data!$A414:$H414,,MATCH(FALSE,ISERROR(SEARCH(G$1&\"=\",Data!$A414:$H414)),0)),G$1&\"=\",\"\"),\"\")","v":""},{"$f":"IFERROR(SUBSTITUTE(INDEX(Data!$A414:$H414,,MATCH(FALSE,ISERROR(SEARCH(H$1&\"=\",Data!$A414:$H414)),0)),H$1&\"=\",\"\"),\"\")","v":""},{"$f":"IFERROR(SUBSTITUTE(INDEX(Data!$A414:$H414,,MATCH(FALSE,ISERROR(SEARCH(I$1&\"=\",Data!$A414:$H414)),0)),I$1&\"=\",\"\"),\"\")","v":""},{"$f":"IFERROR(SUBSTITUTE(INDEX(Data!$A414:$H414,,MATCH(FALSE,ISERROR(SEARCH(J$1&\"=\",Data!$A414:$H414)),0)),J$1&\"=\",\"\"),\"\")","v":""}]
[{"$f":"IFERROR(SUBSTITUTE(INDEX(Data!$A415:$H415,,MATCH(FALSE,ISERROR(SEARCH(A$1&\"=\",Data!$A415:$H415)),0)),A$1&\"=\",\"\"),\"\")","v":""},{"$f":"IFERROR(SUBSTITUTE(INDEX(Data!$A415:$H415,,MATCH(FALSE,ISERROR(SEARCH(B$1&\"=\",Data!$A415:$H415)),0)),B$1&\"=\",\"\"),\"\")","v":""},{"$f":"IFERROR(SUBSTITUTE(INDEX(Data!$A415:$H415,,MATCH(FALSE,ISERROR(SEARCH(C$1&\"=\",Data!$A415:$H415)),0)),C$1&\"=\",\"\"),\"\")","v":""},{"$f":"IFERROR(SUBSTITUTE(INDEX(Data!$A415:$H415,,MATCH(FALSE,ISERROR(SEARCH(D$1&\"=\",Data!$A415:$H415)),0)),D$1&\"=\",\"\"),\"\")","v":""},{"$f":"IFERROR(SUBSTITUTE(INDEX(Data!$A415:$H415,,MATCH(FALSE,ISERROR(SEARCH(E$1&\"=\",Data!$A415:$H415)),0)),E$1&\"=\",\"\"),\"\")","v":""},{"$f":"IFERROR(SUBSTITUTE(INDEX(Data!$A415:$H415,,MATCH(FALSE,ISERROR(SEARCH(F$1&\"=\",Data!$A415:$H415)),0)),F$1&\"=\",\"\"),\"\")","v":""},{"$f":"IFERROR(SUBSTITUTE(INDEX(Data!$A415:$H415,,MATCH(FALSE,ISERROR(SEARCH(G$1&\"=\",Data!$A415:$H415)),0)),G$1&\"=\",\"\"),\"\")","v":""},{"$f":"IFERROR(SUBSTITUTE(INDEX(Data!$A415:$H415,,MATCH(FALSE,ISERROR(SEARCH(H$1&\"=\",Data!$A415:$H415)),0)),H$1&\"=\",\"\"),\"\")","v":""},{"$f":"IFERROR(SUBSTITUTE(INDEX(Data!$A415:$H415,,MATCH(FALSE,ISERROR(SEARCH(I$1&\"=\",Data!$A415:$H415)),0)),I$1&\"=\",\"\"),\"\")","v":""},{"$f":"IFERROR(SUBSTITUTE(INDEX(Data!$A415:$H415,,MATCH(FALSE,ISERROR(SEARCH(J$1&\"=\",Data!$A415:$H415)),0)),J$1&\"=\",\"\"),\"\")","v":""}]
[{"$f":"IFERROR(SUBSTITUTE(INDEX(Data!$A416:$H416,,MATCH(FALSE,ISERROR(SEARCH(A$1&\"=\",Data!$A416:$H416)),0)),A$1&\"=\",\"\"),\"\")","v":""},{"$f":"IFERROR(SUBSTITUTE(INDEX(Data!$A416:$H416,,MATCH(FALSE,ISERROR(SEARCH(B$1&\"=\",Data!$A416:$H416)),0)),B$1&\"=\",\"\"),\"\")","v":""},{"$f":"IFERROR(SUBSTITUTE(INDEX(Data!$A416:$H416,,MATCH(FALSE,ISERROR(SEARCH(C$1&\"=\",Data!$A416:$H416)),0)),C$1&\"=\",\"\"),\"\")","v":""},{"$f":"IFERROR(SUBSTITUTE(INDEX(Data!$A416:$H416,,MATCH(FALSE,ISERROR(SEARCH(D$1&\"=\",Data!$A416:$H416)),0)),D$1&\"=\",\"\"),\"\")","v":""},{"$f":"IFERROR(SUBSTITUTE(INDEX(Data!$A416:$H416,,MATCH(FALSE,ISERROR(SEARCH(E$1&\"=\",Data!$A416:$H416)),0)),E$1&\"=\",\"\"),\"\")","v":""},{"$f":"IFERROR(SUBSTITUTE(INDEX(Data!$A416:$H416,,MATCH(FALSE,ISERROR(SEARCH(F$1&\"=\",Data!$A416:$H416)),0)),F$1&\"=\",\"\"),\"\")","v":""},{"$f":"IFERROR(SUBSTITUTE(INDEX(Data!$A416:$H416,,MATCH(FALSE,ISERROR(SEARCH(G$1&\"=\",Data!$A416:$H416)),0)),G$1&\"=\",\"\"),\"\")","v":""},{"$f":"IFERROR(SUBSTITUTE(INDEX(Data!$A416:$H416,,MATCH(FALSE,ISERROR(SEARCH(H$1&\"=\",Data!$A416:$H416)),0)),H$1&\"=\",\"\"),\"\")","v":""},{"$f":"IFERROR(SUBSTITUTE(INDEX(Data!$A416:$H416,,MATCH(FALSE,ISERROR(SEARCH(I$1&\"=\",Data!$A416:$H416)),0)),I$1&\"=\",\"\"),\"\")","v":""},{"$f":"IFERROR(SUBSTITUTE(INDEX(Data!$A416:$H416,,MATCH(FALSE,ISERROR(SEARCH(J$1&\"=\",Data!$A416:$H416)),0)),J$1&\"=\",\"\"),\"\")","v":""}]
[{"$f":"IFERROR(SUBSTITUTE(INDEX(Data!$A417:$H417,,MATCH(FALSE,ISERROR(SEARCH(A$1&\"=\",Data!$A417:$H417)),0)),A$1&\"=\",\"\"),\"\")","v":""},{"$f":"IFERROR(SUBSTITUTE(INDEX(Data!$A417:$H417,,MATCH(FALSE,ISERROR(SEARCH(B$1&\"=\",Data!$A417:$H417)),0)),B$1&\"=\",\"\"),\"\")","v":""},{"$f":"IFERROR(SUBSTITUTE(INDEX(Data!$A417:$H417,,MATCH(FALSE,ISERROR(SEARCH(C$1&\"=\",Data!$A417:$H417)),0)),C$1&\"=\",\"\"),\"\")","v":""},{"$f":"IFERROR(SUBSTITUTE(INDEX(Data!$A417:$H417,,MATCH(FALSE,ISERROR(SEARCH(D$1&\"=\",Data!$A417:$H417)),0)),D$1&\"=\",\"\"),\"\")","v":""},{"$f":"IFERROR(SUBSTITUTE(INDEX(Data!$A417:$H417,,MATCH(FALSE,ISERROR(SEARCH(E$1&\"=\",Data!$A417:$H417)),0)),E$1&\"=\",\"\"),\"\")","v":""},{"$f":"IFERROR(SUBSTITUTE(INDEX(Data!$A417:$H417,,MATCH(FALSE,ISERROR(SEARCH(F$1&\"=\",Data!$A417:$H417)),0)),F$1&\"=\",\"\"),\"\")","v":""},{"$f":"IFERROR(SUBSTITUTE(INDEX(Data!$A417:$H417,,MATCH(FALSE,ISERROR(SEARCH(G$1&\"=\",Data!$A417:$H417)),0)),G$1&\"=\",\"\"),\"\")","v":""},{"$f":"IFERROR(SUBSTITUTE(INDEX(Data!$A417:$H417,,MATCH(FALSE,ISERROR(SEARCH(H$1&\"=\",Data!$A417:$H417)),0)),H$1&\"=\",\"\"),\"\")","v":""},{"$f":"IFERROR(SUBSTITUTE(INDEX(Data!$A417:$H417,,MATCH(FALSE,ISERROR(SEARCH(I$1&\"=\",Data!$A417:$H417)),0)),I$1&\"=\",\"\"),\"\")","v":""},{"$f":"IFERROR(SUBSTITUTE(INDEX(Data!$A417:$H417,,MATCH(FALSE,ISERROR(SEARCH(J$1&\"=\",Data!$A417:$H417)),0)),J$1&\"=\",\"\"),\"\")","v":""}]
[{"$f":"IFERROR(SUBSTITUTE(INDEX(Data!$A418:$H418,,MATCH(FALSE,ISERROR(SEARCH(A$1&\"=\",Data!$A418:$H418)),0)),A$1&\"=\",\"\"),\"\")","v":""},{"$f":"IFERROR(SUBSTITUTE(INDEX(Data!$A418:$H418,,MATCH(FALSE,ISERROR(SEARCH(B$1&\"=\",Data!$A418:$H418)),0)),B$1&\"=\",\"\"),\"\")","v":""},{"$f":"IFERROR(SUBSTITUTE(INDEX(Data!$A418:$H418,,MATCH(FALSE,ISERROR(SEARCH(C$1&\"=\",Data!$A418:$H418)),0)),C$1&\"=\",\"\"),\"\")","v":""},{"$f":"IFERROR(SUBSTITUTE(INDEX(Data!$A418:$H418,,MATCH(FALSE,ISERROR(SEARCH(D$1&\"=\",Data!$A418:$H418)),0)),D$1&\"=\",\"\"),\"\")","v":""},{"$f":"IFERROR(SUBSTITUTE(INDEX(Data!$A418:$H418,,MATCH(FALSE,ISERROR(SEARCH(E$1&\"=\",Data!$A418:$H418)),0)),E$1&\"=\",\"\"),\"\")","v":""},{"$f":"IFERROR(SUBSTITUTE(INDEX(Data!$A418:$H418,,MATCH(FALSE,ISERROR(SEARCH(F$1&\"=\",Data!$A418:$H418)),0)),F$1&\"=\",\"\"),\"\")","v":""},{"$f":"IFERROR(SUBSTITUTE(INDEX(Data!$A418:$H418,,MATCH(FALSE,ISERROR(SEARCH(G$1&\"=\",Data!$A418:$H418)),0)),G$1&\"=\",\"\"),\"\")","v":""},{"$f":"IFERROR(SUBSTITUTE(INDEX(Data!$A418:$H418,,MATCH(FALSE,ISERROR(SEARCH(H$1&\"=\",Data!$A418:$H418)),0)),H$1&\"=\",\"\"),\"\")","v":""},{"$f":"IFERROR(SUBSTITUTE(INDEX(Data!$A418:$H418,,MATCH(FALSE,ISERROR(SEARCH(I$1&\"=\",Data!$A418:$H418)),0)),I$1&\"=\",\"\"),\"\")","v":""},{"$f":"IFERROR(SUBSTITUTE(INDEX(Data!$A418:$H418,,MATCH(FALSE,ISERROR(SEARCH(J$1&\"=\",Data!$A418:$H418)),0)),J$1&\"=\",\"\"),\"\")","v":""}]
[{"$f":"IFERROR(SUBSTITUTE(INDEX(Data!$A419:$H419,,MATCH(FALSE,ISERROR(SEARCH(A$1&\"=\",Data!$A419:$H419)),0)),A$1&\"=\",\"\"),\"\")","v":""},{"$f":"IFERROR(SUBSTITUTE(INDEX(Data!$A419:$H419,,MATCH(FALSE,ISERROR(SEARCH(B$1&\"=\",Data!$A419:$H419)),0)),B$1&\"=\",\"\"),\"\")","v":""},{"$f":"IFERROR(SUBSTITUTE(INDEX(Data!$A419:$H419,,MATCH(FALSE,ISERROR(SEARCH(C$1&\"=\",Data!$A419:$H419)),0)),C$1&\"=\",\"\"),\"\")","v":""},{"$f":"IFERROR(SUBSTITUTE(INDEX(Data!$A419:$H419,,MATCH(FALSE,ISERROR(SEARCH(D$1&\"=\",Data!$A419:$H419)),0)),D$1&\"=\",\"\"),\"\")","v":""},{"$f":"IFERROR(SUBSTITUTE(INDEX(Data!$A419:$H419,,MATCH(FALSE,ISERROR(SEARCH(E$1&\"=\",Data!$A419:$H419)),0)),E$1&\"=\",\"\"),\"\")","v":""},{"$f":"IFERROR(SUBSTITUTE(INDEX(Data!$A419:$H419,,MATCH(FALSE,ISERROR(SEARCH(F$1&\"=\",Data!$A419:$H419)),0)),F$1&\"=\",\"\"),\"\")","v":""},{"$f":"IFERROR(SUBSTITUTE(INDEX(Data!$A419:$H419,,MATCH(FALSE,ISERROR(SEARCH(G$1&\"=\",Data!$A419:$H419)),0)),G$1&\"=\",\"\"),\"\")","v":""},{"$f":"IFERROR(SUBSTITUTE(INDEX(Data!$A419:$H419,,MATCH(FALSE,ISERROR(SEARCH(H$1&\"=\",Data!$A419:$H419)),0)),H$1&\"=\",\"\"),\"\")","v":""},{"$f":"IFERROR(SUBSTITUTE(INDEX(Data!$A419:$H419,,MATCH(FALSE,ISERROR(SEARCH(I$1&\"=\",Data!$A419:$H419)),0)),I$1&\"=\",\"\"),\"\")","v":""},{"$f":"IFERROR(SUBSTITUTE(INDEX(Data!$A419:$H419,,MATCH(FALSE,ISERROR(SEARCH(J$1&\"=\",Data!$A419:$H419)),0)),J$1&\"=\",\"\"),\"\")","v":""}]
[{"$f":"IFERROR(SUBSTITUTE(INDEX(Data!$A420:$H420,,MATCH(FALSE,ISERROR(SEARCH(A$1&\"=\",Data!$A420:$H420)),0)),A$1&\"=\",\"\"),\"\")","v":""},{"$f":"IFERROR(SUBSTITUTE(INDEX(Data!$A420:$H420,,MATCH(FALSE,ISERROR(SEARCH(B$1&\"=\",Data!$A420:$H420)),0)),B$1&\"=\",\"\"),\"\")","v":""},{"$f":"IFERROR(SUBSTITUTE(INDEX(Data!$A420:$H420,,MATCH(FALSE,ISERROR(SEARCH(C$1&\"=\",Data!$A420:$H420)),0)),C$1&\"=\",\"\"),\"\")","v":""},{"$f":"IFERROR(SUBSTITUTE(INDEX(Data!$A420:$H420,,MATCH(FALSE,ISERROR(SEARCH(D$1&\"=\",Data!$A420:$H420)),0)),D$1&\"=\",\"\"),\"\")","v":""},{"$f":"IFERROR(SUBSTITUTE(INDEX(Data!$A420:$H420,,MATCH(FALSE,ISERROR(SEARCH(E$1&\"=\",Data!$A420:$H420)),0)),E$1&\"=\",\"\"),\"\")","v":""},{"$f":"IFERROR(SUBSTITUTE(INDEX(Data!$A420:$H420,,MATCH(FALSE,ISERROR(SEARCH(F$1&\"=\",Data!$A420:$H420)),0)),F$1&\"=\",\"\"),\"\")","v":""},{"$f":"IFERROR(SUBSTITUTE(INDEX(Data!$A420:$H420,,MATCH(FALSE,ISERROR(SEARCH(G$1&\"=\",Data!$A420:$H420)),0)),G$1&\"=\",\"\"),\"\")","v":""},{"$f":"IFERROR(SUBSTITUTE(INDEX(Data!$A420:$H420,,MATCH(FALSE,ISERROR(SEARCH(H$1&\"=\",Data!$A420:$H420)),0)),H$1&\"=\",\"\"),\"\")","v":""},{"$f":"IFERROR(SUBSTITUTE(INDEX(Data!$A420:$H420,,MATCH(FALSE,ISERROR(SEARCH(I$1&\"=\",Data!$A420:$H420)),0)),I$1&\"=\",\"\"),\"\")","v":""},{"$f":"IFERROR(SUBSTITUTE(INDEX(Data!$A420:$H420,,MATCH(FALSE,ISERROR(SEARCH(J$1&\"=\",Data!$A420:$H420)),0)),J$1&\"=\",\"\"),\"\")","v":""}]
[{"$f":"IFERROR(SUBSTITUTE(INDEX(Data!$A421:$H421,,MATCH(FALSE,ISERROR(SEARCH(A$1&\"=\",Data!$A421:$H421)),0)),A$1&\"=\",\"\"),\"\")","v":""},{"$f":"IFERROR(SUBSTITUTE(INDEX(Data!$A421:$H421,,MATCH(FALSE,ISERROR(SEARCH(B$1&\"=\",Data!$A421:$H421)),0)),B$1&\"=\",\"\"),\"\")","v":""},{"$f":"IFERROR(SUBSTITUTE(INDEX(Data!$A421:$H421,,MATCH(FALSE,ISERROR(SEARCH(C$1&\"=\",Data!$A421:$H421)),0)),C$1&\"=\",\"\"),\"\")","v":""},{"$f":"IFERROR(SUBSTITUTE(INDEX(Data!$A421:$H421,,MATCH(FALSE,ISERROR(SEARCH(D$1&\"=\",Data!$A421:$H421)),0)),D$1&\"=\",\"\"),\"\")","v":""},{"$f":"IFERROR(SUBSTITUTE(INDEX(Data!$A421:$H421,,MATCH(FALSE,ISERROR(SEARCH(E$1&\"=\",Data!$A421:$H421)),0)),E$1&\"=\",\"\"),\"\")","v":""},{"$f":"IFERROR(SUBSTITUTE(INDEX(Data!$A421:$H421,,MATCH(FALSE,ISERROR(SEARCH(F$1&\"=\",Data!$A421:$H421)),0)),F$1&\"=\",\"\"),\"\")","v":""},{"$f":"IFERROR(SUBSTITUTE(INDEX(Data!$A421:$H421,,MATCH(FALSE,ISERROR(SEARCH(G$1&\"=\",Data!$A421:$H421)),0)),G$1&\"=\",\"\"),\"\")","v":""},{"$f":"IFERROR(SUBSTITUTE(INDEX(Data!$A421:$H421,,MATCH(FALSE,ISERROR(SEARCH(H$1&\"=\",Data!$A421:$H421)),0)),H$1&\"=\",\"\"),\"\")","v":""},{"$f":"IFERROR(SUBSTITUTE(INDEX(Data!$A421:$H421,,MATCH(FALSE,ISERROR(SEARCH(I$1&\"=\",Data!$A421:$H421)),0)),I$1&\"=\",\"\"),\"\")","v":""},{"$f":"IFERROR(SUBSTITUTE(INDEX(Data!$A421:$H421,,MATCH(FALSE,ISERROR(SEARCH(J$1&\"=\",Data!$A421:$H421)),0)),J$1&\"=\",\"\"),\"\")","v":""}]
[{"$f":"IFERROR(SUBSTITUTE(INDEX(Data!$A422:$H422,,MATCH(FALSE,ISERROR(SEARCH(A$1&\"=\",Data!$A422:$H422)),0)),A$1&\"=\",\"\"),\"\")","v":""},{"$f":"IFERROR(SUBSTITUTE(INDEX(Data!$A422:$H422,,MATCH(FALSE,ISERROR(SEARCH(B$1&\"=\",Data!$A422:$H422)),0)),B$1&\"=\",\"\"),\"\")","v":""},{"$f":"IFERROR(SUBSTITUTE(INDEX(Data!$A422:$H422,,MATCH(FALSE,ISERROR(SEARCH(C$1&\"=\",Data!$A422:$H422)),0)),C$1&\"=\",\"\"),\"\")","v":""},{"$f":"IFERROR(SUBSTITUTE(INDEX(Data!$A422:$H422,,MATCH(FALSE,ISERROR(SEARCH(D$1&\"=\",Data!$A422:$H422)),0)),D$1&\"=\",\"\"),\"\")","v":""},{"$f":"IFERROR(SUBSTITUTE(INDEX(Data!$A422:$H422,,MATCH(FALSE,ISERROR(SEARCH(E$1&\"=\",Data!$A422:$H422)),0)),E$1&\"=\",\"\"),\"\")","v":""},{"$f":"IFERROR(SUBSTITUTE(INDEX(Data!$A422:$H422,,MATCH(FALSE,ISERROR(SEARCH(F$1&\"=\",Data!$A422:$H422)),0)),F$1&\"=\",\"\"),\"\")","v":""},{"$f":"IFERROR(SUBSTITUTE(INDEX(Data!$A422:$H422,,MATCH(FALSE,ISERROR(SEARCH(G$1&\"=\",Data!$A422:$H422)),0)),G$1&\"=\",\"\"),\"\")","v":""},{"$f":"IFERROR(SUBSTITUTE(INDEX(Data!$A422:$H422,,MATCH(FALSE,ISERROR(SEARCH(H$1&\"=\",Data!$A422:$H422)),0)),H$1&\"=\",\"\"),\"\")","v":""},{"$f":"IFERROR(SUBSTITUTE(INDEX(Data!$A422:$H422,,MATCH(FALSE,ISERROR(SEARCH(I$1&\"=\",Data!$A422:$H422)),0)),I$1&\"=\",\"\"),\"\")","v":""},{"$f":"IFERROR(SUBSTITUTE(INDEX(Data!$A422:$H422,,MATCH(FALSE,ISERROR(SEARCH(J$1&\"=\",Data!$A422:$H422)),0)),J$1&\"=\",\"\"),\"\")","v":""}]
[{"$f":"IFERROR(SUBSTITUTE(INDEX(Data!$A423:$H423,,MATCH(FALSE,ISERROR(SEARCH(A$1&\"=\",Data!$A423:$H423)),0)),A$1&\"=\",\"\"),\"\")","v":""},{"$f":"IFERROR(SUBSTITUTE(INDEX(Data!$A423:$H423,,MATCH(FALSE,ISERROR(SEARCH(B$1&\"=\",Data!$A423:$H423)),0)),B$1&\"=\",\"\"),\"\")","v":""},{"$f":"IFERROR(SUBSTITUTE(INDEX(Data!$A423:$H423,,MATCH(FALSE,ISERROR(SEARCH(C$1&\"=\",Data!$A423:$H423)),0)),C$1&\"=\",\"\"),\"\")","v":""},{"$f":"IFERROR(SUBSTITUTE(INDEX(Data!$A423:$H423,,MATCH(FALSE,ISERROR(SEARCH(D$1&\"=\",Data!$A423:$H423)),0)),D$1&\"=\",\"\"),\"\")","v":""},{"$f":"IFERROR(SUBSTITUTE(INDEX(Data!$A423:$H423,,MATCH(FALSE,ISERROR(SEARCH(E$1&\"=\",Data!$A423:$H423)),0)),E$1&\"=\",\"\"),\"\")","v":""},{"$f":"IFERROR(SUBSTITUTE(INDEX(Data!$A423:$H423,,MATCH(FALSE,ISERROR(SEARCH(F$1&\"=\",Data!$A423:$H423)),0)),F$1&\"=\",\"\"),\"\")","v":""},{"$f":"IFERROR(SUBSTITUTE(INDEX(Data!$A423:$H423,,MATCH(FALSE,ISERROR(SEARCH(G$1&\"=\",Data!$A423:$H423)),0)),G$1&\"=\",\"\"),\"\")","v":""},{"$f":"IFERROR(SUBSTITUTE(INDEX(Data!$A423:$H423,,MATCH(FALSE,ISERROR(SEARCH(H$1&\"=\",Data!$A423:$H423)),0)),H$1&\"=\",\"\"),\"\")","v":""},{"$f":"IFERROR(SUBSTITUTE(INDEX(Data!$A423:$H423,,MATCH(FALSE,ISERROR(SEARCH(I$1&\"=\",Data!$A423:$H423)),0)),I$1&\"=\",\"\"),\"\")","v":""},{"$f":"IFERROR(SUBSTITUTE(INDEX(Data!$A423:$H423,,MATCH(FALSE,ISERROR(SEARCH(J$1&\"=\",Data!$A423:$H423)),0)),J$1&\"=\",\"\"),\"\")","v":""}]
[{"$f":"IFERROR(SUBSTITUTE(INDEX(Data!$A424:$H424,,MATCH(FALSE,ISERROR(SEARCH(A$1&\"=\",Data!$A424:$H424)),0)),A$1&\"=\",\"\"),\"\")","v":""},{"$f":"IFERROR(SUBSTITUTE(INDEX(Data!$A424:$H424,,MATCH(FALSE,ISERROR(SEARCH(B$1&\"=\",Data!$A424:$H424)),0)),B$1&\"=\",\"\"),\"\")","v":""},{"$f":"IFERROR(SUBSTITUTE(INDEX(Data!$A424:$H424,,MATCH(FALSE,ISERROR(SEARCH(C$1&\"=\",Data!$A424:$H424)),0)),C$1&\"=\",\"\"),\"\")","v":""},{"$f":"IFERROR(SUBSTITUTE(INDEX(Data!$A424:$H424,,MATCH(FALSE,ISERROR(SEARCH(D$1&\"=\",Data!$A424:$H424)),0)),D$1&\"=\",\"\"),\"\")","v":""},{"$f":"IFERROR(SUBSTITUTE(INDEX(Data!$A424:$H424,,MATCH(FALSE,ISERROR(SEARCH(E$1&\"=\",Data!$A424:$H424)),0)),E$1&\"=\",\"\"),\"\")","v":""},{"$f":"IFERROR(SUBSTITUTE(INDEX(Data!$A424:$H424,,MATCH(FALSE,ISERROR(SEARCH(F$1&\"=\",Data!$A424:$H424)),0)),F$1&\"=\",\"\"),\"\")","v":""},{"$f":"IFERROR(SUBSTITUTE(INDEX(Data!$A424:$H424,,MATCH(FALSE,ISERROR(SEARCH(G$1&\"=\",Data!$A424:$H424)),0)),G$1&\"=\",\"\"),\"\")","v":""},{"$f":"IFERROR(SUBSTITUTE(INDEX(Data!$A424:$H424,,MATCH(FALSE,ISERROR(SEARCH(H$1&\"=\",Data!$A424:$H424)),0)),H$1&\"=\",\"\"),\"\")","v":""},{"$f":"IFERROR(SUBSTITUTE(INDEX(Data!$A424:$H424,,MATCH(FALSE,ISERROR(SEARCH(I$1&\"=\",Data!$A424:$H424)),0)),I$1&\"=\",\"\"),\"\")","v":""},{"$f":"IFERROR(SUBSTITUTE(INDEX(Data!$A424:$H424,,MATCH(FALSE,ISERROR(SEARCH(J$1&\"=\",Data!$A424:$H424)),0)),J$1&\"=\",\"\"),\"\")","v":""}]
[{"$f":"IFERROR(SUBSTITUTE(INDEX(Data!$A425:$H425,,MATCH(FALSE,ISERROR(SEARCH(A$1&\"=\",Data!$A425:$H425)),0)),A$1&\"=\",\"\"),\"\")","v":""},{"$f":"IFERROR(SUBSTITUTE(INDEX(Data!$A425:$H425,,MATCH(FALSE,ISERROR(SEARCH(B$1&\"=\",Data!$A425:$H425)),0)),B$1&\"=\",\"\"),\"\")","v":""},{"$f":"IFERROR(SUBSTITUTE(INDEX(Data!$A425:$H425,,MATCH(FALSE,ISERROR(SEARCH(C$1&\"=\",Data!$A425:$H425)),0)),C$1&\"=\",\"\"),\"\")","v":""},{"$f":"IFERROR(SUBSTITUTE(INDEX(Data!$A425:$H425,,MATCH(FALSE,ISERROR(SEARCH(D$1&\"=\",Data!$A425:$H425)),0)),D$1&\"=\",\"\"),\"\")","v":""},{"$f":"IFERROR(SUBSTITUTE(INDEX(Data!$A425:$H425,,MATCH(FALSE,ISERROR(SEARCH(E$1&\"=\",Data!$A425:$H425)),0)),E$1&\"=\",\"\"),\"\")","v":""},{"$f":"IFERROR(SUBSTITUTE(INDEX(Data!$A425:$H425,,MATCH(FALSE,ISERROR(SEARCH(F$1&\"=\",Data!$A425:$H425)),0)),F$1&\"=\",\"\"),\"\")","v":""},{"$f":"IFERROR(SUBSTITUTE(INDEX(Data!$A425:$H425,,MATCH(FALSE,ISERROR(SEARCH(G$1&\"=\",Data!$A425:$H425)),0)),G$1&\"=\",\"\"),\"\")","v":""},{"$f":"IFERROR(SUBSTITUTE(INDEX(Data!$A425:$H425,,MATCH(FALSE,ISERROR(SEARCH(H$1&\"=\",Data!$A425:$H425)),0)),H$1&\"=\",\"\"),\"\")","v":""},{"$f":"IFERROR(SUBSTITUTE(INDEX(Data!$A425:$H425,,MATCH(FALSE,ISERROR(SEARCH(I$1&\"=\",Data!$A425:$H425)),0)),I$1&\"=\",\"\"),\"\")","v":""},{"$f":"IFERROR(SUBSTITUTE(INDEX(Data!$A425:$H425,,MATCH(FALSE,ISERROR(SEARCH(J$1&\"=\",Data!$A425:$H425)),0)),J$1&\"=\",\"\"),\"\")","v":""}]
[{"$f":"IFERROR(SUBSTITUTE(INDEX(Data!$A426:$H426,,MATCH(FALSE,ISERROR(SEARCH(A$1&\"=\",Data!$A426:$H426)),0)),A$1&\"=\",\"\"),\"\")","v":""},{"$f":"IFERROR(SUBSTITUTE(INDEX(Data!$A426:$H426,,MATCH(FALSE,ISERROR(SEARCH(B$1&\"=\",Data!$A426:$H426)),0)),B$1&\"=\",\"\"),\"\")","v":""},{"$f":"IFERROR(SUBSTITUTE(INDEX(Data!$A426:$H426,,MATCH(FALSE,ISERROR(SEARCH(C$1&\"=\",Data!$A426:$H426)),0)),C$1&\"=\",\"\"),\"\")","v":""},{"$f":"IFERROR(SUBSTITUTE(INDEX(Data!$A426:$H426,,MATCH(FALSE,ISERROR(SEARCH(D$1&\"=\",Data!$A426:$H426)),0)),D$1&\"=\",\"\"),\"\")","v":""},{"$f":"IFERROR(SUBSTITUTE(INDEX(Data!$A426:$H426,,MATCH(FALSE,ISERROR(SEARCH(E$1&\"=\",Data!$A426:$H426)),0)),E$1&\"=\",\"\"),\"\")","v":""},{"$f":"IFERROR(SUBSTITUTE(INDEX(Data!$A426:$H426,,MATCH(FALSE,ISERROR(SEARCH(F$1&\"=\",Data!$A426:$H426)),0)),F$1&\"=\",\"\"),\"\")","v":""},{"$f":"IFERROR(SUBSTITUTE(INDEX(Data!$A426:$H426,,MATCH(FALSE,ISERROR(SEARCH(G$1&\"=\",Data!$A426:$H426)),0)),G$1&\"=\",\"\"),\"\")","v":""},{"$f":"IFERROR(SUBSTITUTE(INDEX(Data!$A426:$H426,,MATCH(FALSE,ISERROR(SEARCH(H$1&\"=\",Data!$A426:$H426)),0)),H$1&\"=\",\"\"),\"\")","v":""},{"$f":"IFERROR(SUBSTITUTE(INDEX(Data!$A426:$H426,,MATCH(FALSE,ISERROR(SEARCH(I$1&\"=\",Data!$A426:$H426)),0)),I$1&\"=\",\"\"),\"\")","v":""},{"$f":"IFERROR(SUBSTITUTE(INDEX(Data!$A426:$H426,,MATCH(FALSE,ISERROR(SEARCH(J$1&\"=\",Data!$A426:$H426)),0)),J$1&\"=\",\"\"),\"\")","v":""}]
[{"$f":"IFERROR(SUBSTITUTE(INDEX(Data!$A427:$H427,,MATCH(FALSE,ISERROR(SEARCH(A$1&\"=\",Data!$A427:$H427)),0)),A$1&\"=\",\"\"),\"\")","v":""},{"$f":"IFERROR(SUBSTITUTE(INDEX(Data!$A427:$H427,,MATCH(FALSE,ISERROR(SEARCH(B$1&\"=\",Data!$A427:$H427)),0)),B$1&\"=\",\"\"),\"\")","v":""},{"$f":"IFERROR(SUBSTITUTE(INDEX(Data!$A427:$H427,,MATCH(FALSE,ISERROR(SEARCH(C$1&\"=\",Data!$A427:$H427)),0)),C$1&\"=\",\"\"),\"\")","v":""},{"$f":"IFERROR(SUBSTITUTE(INDEX(Data!$A427:$H427,,MATCH(FALSE,ISERROR(SEARCH(D$1&\"=\",Data!$A427:$H427)),0)),D$1&\"=\",\"\"),\"\")","v":""},{"$f":"IFERROR(SUBSTITUTE(INDEX(Data!$A427:$H427,,MATCH(FALSE,ISERROR(SEARCH(E$1&\"=\",Data!$A427:$H427)),0)),E$1&\"=\",\"\"),\"\")","v":""},{"$f":"IFERROR(SUBSTITUTE(INDEX(Data!$A427:$H427,,MATCH(FALSE,ISERROR(SEARCH(F$1&\"=\",Data!$A427:$H427)),0)),F$1&\"=\",\"\"),\"\")","v":""},{"$f":"IFERROR(SUBSTITUTE(INDEX(Data!$A427:$H427,,MATCH(FALSE,ISERROR(SEARCH(G$1&\"=\",Data!$A427:$H427)),0)),G$1&\"=\",\"\"),\"\")","v":""},{"$f":"IFERROR(SUBSTITUTE(INDEX(Data!$A427:$H427,,MATCH(FALSE,ISERROR(SEARCH(H$1&\"=\",Data!$A427:$H427)),0)),H$1&\"=\",\"\"),\"\")","v":""},{"$f":"IFERROR(SUBSTITUTE(INDEX(Data!$A427:$H427,,MATCH(FALSE,ISERROR(SEARCH(I$1&\"=\",Data!$A427:$H427)),0)),I$1&\"=\",\"\"),\"\")","v":""},{"$f":"IFERROR(SUBSTITUTE(INDEX(Data!$A427:$H427,,MATCH(FALSE,ISERROR(SEARCH(J$1&\"=\",Data!$A427:$H427)),0)),J$1&\"=\",\"\"),\"\")","v":""}]
[{"$f":"IFERROR(SUBSTITUTE(INDEX(Data!$A428:$H428,,MATCH(FALSE,ISERROR(SEARCH(A$1&\"=\",Data!$A428:$H428)),0)),A$1&\"=\",\"\"),\"\")","v":""},{"$f":"IFERROR(SUBSTITUTE(INDEX(Data!$A428:$H428,,MATCH(FALSE,ISERROR(SEARCH(B$1&\"=\",Data!$A428:$H428)),0)),B$1&\"=\",\"\"),\"\")","v":""},{"$f":"IFERROR(SUBSTITUTE(INDEX(Data!$A428:$H428,,MATCH(FALSE,ISERROR(SEARCH(C$1&\"=\",Data!$A428:$H428)),0)),C$1&\"=\",\"\"),\"\")","v":""},{"$f":"IFERROR(SUBSTITUTE(INDEX(Data!$A428:$H428,,MATCH(FALSE,ISERROR(SEARCH(D$1&\"=\",Data!$A428:$H428)),0)),D$1&\"=\",\"\"),\"\")","v":""},{"$f":"IFERROR(SUBSTITUTE(INDEX(Data!$A428:$H428,,MATCH(FALSE,ISERROR(SEARCH(E$1&\"=\",Data!$A428:$H428)),0)),E$1&\"=\",\"\"),\"\")","v":""},{"$f":"IFERROR(SUBSTITUTE(INDEX(Data!$A428:$H428,,MATCH(FALSE,ISERROR(SEARCH(F$1&\"=\",Data!$A428:$H428)),0)),F$1&\"=\",\"\"),\"\")","v":""},{"$f":"IFERROR(SUBSTITUTE(INDEX(Data!$A428:$H428,,MATCH(FALSE,ISERROR(SEARCH(G$1&\"=\",Data!$A428:$H428)),0)),G$1&\"=\",\"\"),\"\")","v":""},{"$f":"IFERROR(SUBSTITUTE(INDEX(Data!$A428:$H428,,MATCH(FALSE,ISERROR(SEARCH(H$1&\"=\",Data!$A428:$H428)),0)),H$1&\"=\",\"\"),\"\")","v":""},{"$f":"IFERROR(SUBSTITUTE(INDEX(Data!$A428:$H428,,MATCH(FALSE,ISERROR(SEARCH(I$1&\"=\",Data!$A428:$H428)),0)),I$1&\"=\",\"\"),\"\")","v":""},{"$f":"IFERROR(SUBSTITUTE(INDEX(Data!$A428:$H428,,MATCH(FALSE,ISERROR(SEARCH(J$1&\"=\",Data!$A428:$H428)),0)),J$1&\"=\",\"\"),\"\")","v":""}]
[{"$f":"IFERROR(SUBSTITUTE(INDEX(Data!$A429:$H429,,MATCH(FALSE,ISERROR(SEARCH(A$1&\"=\",Data!$A429:$H429)),0)),A$1&\"=\",\"\"),\"\")","v":""},{"$f":"IFERROR(SUBSTITUTE(INDEX(Data!$A429:$H429,,MATCH(FALSE,ISERROR(SEARCH(B$1&\"=\",Data!$A429:$H429)),0)),B$1&\"=\",\"\"),\"\")","v":""},{"$f":"IFERROR(SUBSTITUTE(INDEX(Data!$A429:$H429,,MATCH(FALSE,ISERROR(SEARCH(C$1&\"=\",Data!$A429:$H429)),0)),C$1&\"=\",\"\"),\"\")","v":""},{"$f":"IFERROR(SUBSTITUTE(INDEX(Data!$A429:$H429,,MATCH(FALSE,ISERROR(SEARCH(D$1&\"=\",Data!$A429:$H429)),0)),D$1&\"=\",\"\"),\"\")","v":""},{"$f":"IFERROR(SUBSTITUTE(INDEX(Data!$A429:$H429,,MATCH(FALSE,ISERROR(SEARCH(E$1&\"=\",Data!$A429:$H429)),0)),E$1&\"=\",\"\"),\"\")","v":""},{"$f":"IFERROR(SUBSTITUTE(INDEX(Data!$A429:$H429,,MATCH(FALSE,ISERROR(SEARCH(F$1&\"=\",Data!$A429:$H429)),0)),F$1&\"=\",\"\"),\"\")","v":""},{"$f":"IFERROR(SUBSTITUTE(INDEX(Data!$A429:$H429,,MATCH(FALSE,ISERROR(SEARCH(G$1&\"=\",Data!$A429:$H429)),0)),G$1&\"=\",\"\"),\"\")","v":""},{"$f":"IFERROR(SUBSTITUTE(INDEX(Data!$A429:$H429,,MATCH(FALSE,ISERROR(SEARCH(H$1&\"=\",Data!$A429:$H429)),0)),H$1&\"=\",\"\"),\"\")","v":""},{"$f":"IFERROR(SUBSTITUTE(INDEX(Data!$A429:$H429,,MATCH(FALSE,ISERROR(SEARCH(I$1&\"=\",Data!$A429:$H429)),0)),I$1&\"=\",\"\"),\"\")","v":""},{"$f":"IFERROR(SUBSTITUTE(INDEX(Data!$A429:$H429,,MATCH(FALSE,ISERROR(SEARCH(J$1&\"=\",Data!$A429:$H429)),0)),J$1&\"=\",\"\"),\"\")","v":""}]
[{"$f":"IFERROR(SUBSTITUTE(INDEX(Data!$A430:$H430,,MATCH(FALSE,ISERROR(SEARCH(A$1&\"=\",Data!$A430:$H430)),0)),A$1&\"=\",\"\"),\"\")","v":""},{"$f":"IFERROR(SUBSTITUTE(INDEX(Data!$A430:$H430,,MATCH(FALSE,ISERROR(SEARCH(B$1&\"=\",Data!$A430:$H430)),0)),B$1&\"=\",\"\"),\"\")","v":""},{"$f":"IFERROR(SUBSTITUTE(INDEX(Data!$A430:$H430,,MATCH(FALSE,ISERROR(SEARCH(C$1&\"=\",Data!$A430:$H430)),0)),C$1&\"=\",\"\"),\"\")","v":""},{"$f":"IFERROR(SUBSTITUTE(INDEX(Data!$A430:$H430,,MATCH(FALSE,ISERROR(SEARCH(D$1&\"=\",Data!$A430:$H430)),0)),D$1&\"=\",\"\"),\"\")","v":""},{"$f":"IFERROR(SUBSTITUTE(INDEX(Data!$A430:$H430,,MATCH(FALSE,ISERROR(SEARCH(E$1&\"=\",Data!$A430:$H430)),0)),E$1&\"=\",\"\"),\"\")","v":""},{"$f":"IFERROR(SUBSTITUTE(INDEX(Data!$A430:$H430,,MATCH(FALSE,ISERROR(SEARCH(F$1&\"=\",Data!$A430:$H430)),0)),F$1&\"=\",\"\"),\"\")","v":""},{"$f":"IFERROR(SUBSTITUTE(INDEX(Data!$A430:$H430,,MATCH(FALSE,ISERROR(SEARCH(G$1&\"=\",Data!$A430:$H430)),0)),G$1&\"=\",\"\"),\"\")","v":""},{"$f":"IFERROR(SUBSTITUTE(INDEX(Data!$A430:$H430,,MATCH(FALSE,ISERROR(SEARCH(H$1&\"=\",Data!$A430:$H430)),0)),H$1&\"=\",\"\"),\"\")","v":""},{"$f":"IFERROR(SUBSTITUTE(INDEX(Data!$A430:$H430,,MATCH(FALSE,ISERROR(SEARCH(I$1&\"=\",Data!$A430:$H430)),0)),I$1&\"=\",\"\"),\"\")","v":""},{"$f":"IFERROR(SUBSTITUTE(INDEX(Data!$A430:$H430,,MATCH(FALSE,ISERROR(SEARCH(J$1&\"=\",Data!$A430:$H430)),0)),J$1&\"=\",\"\"),\"\")","v":""}]
[{"$f":"IFERROR(SUBSTITUTE(INDEX(Data!$A431:$H431,,MATCH(FALSE,ISERROR(SEARCH(A$1&\"=\",Data!$A431:$H431)),0)),A$1&\"=\",\"\"),\"\")","v":""},{"$f":"IFERROR(SUBSTITUTE(INDEX(Data!$A431:$H431,,MATCH(FALSE,ISERROR(SEARCH(B$1&\"=\",Data!$A431:$H431)),0)),B$1&\"=\",\"\"),\"\")","v":""},{"$f":"IFERROR(SUBSTITUTE(INDEX(Data!$A431:$H431,,MATCH(FALSE,ISERROR(SEARCH(C$1&\"=\",Data!$A431:$H431)),0)),C$1&\"=\",\"\"),\"\")","v":""},{"$f":"IFERROR(SUBSTITUTE(INDEX(Data!$A431:$H431,,MATCH(FALSE,ISERROR(SEARCH(D$1&\"=\",Data!$A431:$H431)),0)),D$1&\"=\",\"\"),\"\")","v":""},{"$f":"IFERROR(SUBSTITUTE(INDEX(Data!$A431:$H431,,MATCH(FALSE,ISERROR(SEARCH(E$1&\"=\",Data!$A431:$H431)),0)),E$1&\"=\",\"\"),\"\")","v":""},{"$f":"IFERROR(SUBSTITUTE(INDEX(Data!$A431:$H431,,MATCH(FALSE,ISERROR(SEARCH(F$1&\"=\",Data!$A431:$H431)),0)),F$1&\"=\",\"\"),\"\")","v":""},{"$f":"IFERROR(SUBSTITUTE(INDEX(Data!$A431:$H431,,MATCH(FALSE,ISERROR(SEARCH(G$1&\"=\",Data!$A431:$H431)),0)),G$1&\"=\",\"\"),\"\")","v":""},{"$f":"IFERROR(SUBSTITUTE(INDEX(Data!$A431:$H431,,MATCH(FALSE,ISERROR(SEARCH(H$1&\"=\",Data!$A431:$H431)),0)),H$1&\"=\",\"\"),\"\")","v":""},{"$f":"IFERROR(SUBSTITUTE(INDEX(Data!$A431:$H431,,MATCH(FALSE,ISERROR(SEARCH(I$1&\"=\",Data!$A431:$H431)),0)),I$1&\"=\",\"\"),\"\")","v":""},{"$f":"IFERROR(SUBSTITUTE(INDEX(Data!$A431:$H431,,MATCH(FALSE,ISERROR(SEARCH(J$1&\"=\",Data!$A431:$H431)),0)),J$1&\"=\",\"\"),\"\")","v":""}]
[{"$f":"IFERROR(SUBSTITUTE(INDEX(Data!$A432:$H432,,MATCH(FALSE,ISERROR(SEARCH(A$1&\"=\",Data!$A432:$H432)),0)),A$1&\"=\",\"\"),\"\")","v":""},{"$f":"IFERROR(SUBSTITUTE(INDEX(Data!$A432:$H432,,MATCH(FALSE,ISERROR(SEARCH(B$1&\"=\",Data!$A432:$H432)),0)),B$1&\"=\",\"\"),\"\")","v":""},{"$f":"IFERROR(SUBSTITUTE(INDEX(Data!$A432:$H432,,MATCH(FALSE,ISERROR(SEARCH(C$1&\"=\",Data!$A432:$H432)),0)),C$1&\"=\",\"\"),\"\")","v":""},{"$f":"IFERROR(SUBSTITUTE(INDEX(Data!$A432:$H432,,MATCH(FALSE,ISERROR(SEARCH(D$1&\"=\",Data!$A432:$H432)),0)),D$1&\"=\",\"\"),\"\")","v":""},{"$f":"IFERROR(SUBSTITUTE(INDEX(Data!$A432:$H432,,MATCH(FALSE,ISERROR(SEARCH(E$1&\"=\",Data!$A432:$H432)),0)),E$1&\"=\",\"\"),\"\")","v":""},{"$f":"IFERROR(SUBSTITUTE(INDEX(Data!$A432:$H432,,MATCH(FALSE,ISERROR(SEARCH(F$1&\"=\",Data!$A432:$H432)),0)),F$1&\"=\",\"\"),\"\")","v":""},{"$f":"IFERROR(SUBSTITUTE(INDEX(Data!$A432:$H432,,MATCH(FALSE,ISERROR(SEARCH(G$1&\"=\",Data!$A432:$H432)),0)),G$1&\"=\",\"\"),\"\")","v":""},{"$f":"IFERROR(SUBSTITUTE(INDEX(Data!$A432:$H432,,MATCH(FALSE,ISERROR(SEARCH(H$1&\"=\",Data!$A432:$H432)),0)),H$1&\"=\",\"\"),\"\")","v":""},{"$f":"IFERROR(SUBSTITUTE(INDEX(Data!$A432:$H432,,MATCH(FALSE,ISERROR(SEARCH(I$1&\"=\",Data!$A432:$H432)),0)),I$1&\"=\",\"\"),\"\")","v":""},{"$f":"IFERROR(SUBSTITUTE(INDEX(Data!$A432:$H432,,MATCH(FALSE,ISERROR(SEARCH(J$1&\"=\",Data!$A432:$H432)),0)),J$1&\"=\",\"\"),\"\")","v":""}]
[{"$f":"IFERROR(SUBSTITUTE(INDEX(Data!$A433:$H433,,MATCH(FALSE,ISERROR(SEARCH(A$1&\"=\",Data!$A433:$H433)),0)),A$1&\"=\",\"\"),\"\")","v":""},{"$f":"IFERROR(SUBSTITUTE(INDEX(Data!$A433:$H433,,MATCH(FALSE,ISERROR(SEARCH(B$1&\"=\",Data!$A433:$H433)),0)),B$1&\"=\",\"\"),\"\")","v":""},{"$f":"IFERROR(SUBSTITUTE(INDEX(Data!$A433:$H433,,MATCH(FALSE,ISERROR(SEARCH(C$1&\"=\",Data!$A433:$H433)),0)),C$1&\"=\",\"\"),\"\")","v":""},{"$f":"IFERROR(SUBSTITUTE(INDEX(Data!$A433:$H433,,MATCH(FALSE,ISERROR(SEARCH(D$1&\"=\",Data!$A433:$H433)),0)),D$1&\"=\",\"\"),\"\")","v":""},{"$f":"IFERROR(SUBSTITUTE(INDEX(Data!$A433:$H433,,MATCH(FALSE,ISERROR(SEARCH(E$1&\"=\",Data!$A433:$H433)),0)),E$1&\"=\",\"\"),\"\")","v":""},{"$f":"IFERROR(SUBSTITUTE(INDEX(Data!$A433:$H433,,MATCH(FALSE,ISERROR(SEARCH(F$1&\"=\",Data!$A433:$H433)),0)),F$1&\"=\",\"\"),\"\")","v":""},{"$f":"IFERROR(SUBSTITUTE(INDEX(Data!$A433:$H433,,MATCH(FALSE,ISERROR(SEARCH(G$1&\"=\",Data!$A433:$H433)),0)),G$1&\"=\",\"\"),\"\")","v":""},{"$f":"IFERROR(SUBSTITUTE(INDEX(Data!$A433:$H433,,MATCH(FALSE,ISERROR(SEARCH(H$1&\"=\",Data!$A433:$H433)),0)),H$1&\"=\",\"\"),\"\")","v":""},{"$f":"IFERROR(SUBSTITUTE(INDEX(Data!$A433:$H433,,MATCH(FALSE,ISERROR(SEARCH(I$1&\"=\",Data!$A433:$H433)),0)),I$1&\"=\",\"\"),\"\")","v":""},{"$f":"IFERROR(SUBSTITUTE(INDEX(Data!$A433:$H433,,MATCH(FALSE,ISERROR(SEARCH(J$1&\"=\",Data!$A433:$H433)),0)),J$1&\"=\",\"\"),\"\")","v":""}]
[{"$f":"IFERROR(SUBSTITUTE(INDEX(Data!$A434:$H434,,MATCH(FALSE,ISERROR(SEARCH(A$1&\"=\",Data!$A434:$H434)),0)),A$1&\"=\",\"\"),\"\")","v":""},{"$f":"IFERROR(SUBSTITUTE(INDEX(Data!$A434:$H434,,MATCH(FALSE,ISERROR(SEARCH(B$1&\"=\",Data!$A434:$H434)),0)),B$1&\"=\",\"\"),\"\")","v":""},{"$f":"IFERROR(SUBSTITUTE(INDEX(Data!$A434:$H434,,MATCH(FALSE,ISERROR(SEARCH(C$1&\"=\",Data!$A434:$H434)),0)),C$1&\"=\",\"\"),\"\")","v":""},{"$f":"IFERROR(SUBSTITUTE(INDEX(Data!$A434:$H434,,MATCH(FALSE,ISERROR(SEARCH(D$1&\"=\",Data!$A434:$H434)),0)),D$1&\"=\",\"\"),\"\")","v":""},{"$f":"IFERROR(SUBSTITUTE(INDEX(Data!$A434:$H434,,MATCH(FALSE,ISERROR(SEARCH(E$1&\"=\",Data!$A434:$H434)),0)),E$1&\"=\",\"\"),\"\")","v":""},{"$f":"IFERROR(SUBSTITUTE(INDEX(Data!$A434:$H434,,MATCH(FALSE,ISERROR(SEARCH(F$1&\"=\",Data!$A434:$H434)),0)),F$1&\"=\",\"\"),\"\")","v":""},{"$f":"IFERROR(SUBSTITUTE(INDEX(Data!$A434:$H434,,MATCH(FALSE,ISERROR(SEARCH(G$1&\"=\",Data!$A434:$H434)),0)),G$1&\"=\",\"\"),\"\")","v":""},{"$f":"IFERROR(SUBSTITUTE(INDEX(Data!$A434:$H434,,MATCH(FALSE,ISERROR(SEARCH(H$1&\"=\",Data!$A434:$H434)),0)),H$1&\"=\",\"\"),\"\")","v":""},{"$f":"IFERROR(SUBSTITUTE(INDEX(Data!$A434:$H434,,MATCH(FALSE,ISERROR(SEARCH(I$1&\"=\",Data!$A434:$H434)),0)),I$1&\"=\",\"\"),\"\")","v":""},{"$f":"IFERROR(SUBSTITUTE(INDEX(Data!$A434:$H434,,MATCH(FALSE,ISERROR(SEARCH(J$1&\"=\",Data!$A434:$H434)),0)),J$1&\"=\",\"\"),\"\")","v":""}]
[{"$f":"IFERROR(SUBSTITUTE(INDEX(Data!$A435:$H435,,MATCH(FALSE,ISERROR(SEARCH(A$1&\"=\",Data!$A435:$H435)),0)),A$1&\"=\",\"\"),\"\")","v":""},{"$f":"IFERROR(SUBSTITUTE(INDEX(Data!$A435:$H435,,MATCH(FALSE,ISERROR(SEARCH(B$1&\"=\",Data!$A435:$H435)),0)),B$1&\"=\",\"\"),\"\")","v":""},{"$f":"IFERROR(SUBSTITUTE(INDEX(Data!$A435:$H435,,MATCH(FALSE,ISERROR(SEARCH(C$1&\"=\",Data!$A435:$H435)),0)),C$1&\"=\",\"\"),\"\")","v":""},{"$f":"IFERROR(SUBSTITUTE(INDEX(Data!$A435:$H435,,MATCH(FALSE,ISERROR(SEARCH(D$1&\"=\",Data!$A435:$H435)),0)),D$1&\"=\",\"\"),\"\")","v":""},{"$f":"IFERROR(SUBSTITUTE(INDEX(Data!$A435:$H435,,MATCH(FALSE,ISERROR(SEARCH(E$1&\"=\",Data!$A435:$H435)),0)),E$1&\"=\",\"\"),\"\")","v":""},{"$f":"IFERROR(SUBSTITUTE(INDEX(Data!$A435:$H435,,MATCH(FALSE,ISERROR(SEARCH(F$1&\"=\",Data!$A435:$H435)),0)),F$1&\"=\",\"\"),\"\")","v":""},{"$f":"IFERROR(SUBSTITUTE(INDEX(Data!$A435:$H435,,MATCH(FALSE,ISERROR(SEARCH(G$1&\"=\",Data!$A435:$H435)),0)),G$1&\"=\",\"\"),\"\")","v":""},{"$f":"IFERROR(SUBSTITUTE(INDEX(Data!$A435:$H435,,MATCH(FALSE,ISERROR(SEARCH(H$1&\"=\",Data!$A435:$H435)),0)),H$1&\"=\",\"\"),\"\")","v":""},{"$f":"IFERROR(SUBSTITUTE(INDEX(Data!$A435:$H435,,MATCH(FALSE,ISERROR(SEARCH(I$1&\"=\",Data!$A435:$H435)),0)),I$1&\"=\",\"\"),\"\")","v":""},{"$f":"IFERROR(SUBSTITUTE(INDEX(Data!$A435:$H435,,MATCH(FALSE,ISERROR(SEARCH(J$1&\"=\",Data!$A435:$H435)),0)),J$1&\"=\",\"\"),\"\")","v":""}]
[{"$f":"IFERROR(SUBSTITUTE(INDEX(Data!$A436:$H436,,MATCH(FALSE,ISERROR(SEARCH(A$1&\"=\",Data!$A436:$H436)),0)),A$1&\"=\",\"\"),\"\")","v":""},{"$f":"IFERROR(SUBSTITUTE(INDEX(Data!$A436:$H436,,MATCH(FALSE,ISERROR(SEARCH(B$1&\"=\",Data!$A436:$H436)),0)),B$1&\"=\",\"\"),\"\")","v":""},{"$f":"IFERROR(SUBSTITUTE(INDEX(Data!$A436:$H436,,MATCH(FALSE,ISERROR(SEARCH(C$1&\"=\",Data!$A436:$H436)),0)),C$1&\"=\",\"\"),\"\")","v":""},{"$f":"IFERROR(SUBSTITUTE(INDEX(Data!$A436:$H436,,MATCH(FALSE,ISERROR(SEARCH(D$1&\"=\",Data!$A436:$H436)),0)),D$1&\"=\",\"\"),\"\")","v":""},{"$f":"IFERROR(SUBSTITUTE(INDEX(Data!$A436:$H436,,MATCH(FALSE,ISERROR(SEARCH(E$1&\"=\",Data!$A436:$H436)),0)),E$1&\"=\",\"\"),\"\")","v":""},{"$f":"IFERROR(SUBSTITUTE(INDEX(Data!$A436:$H436,,MATCH(FALSE,ISERROR(SEARCH(F$1&\"=\",Data!$A436:$H436)),0)),F$1&\"=\",\"\"),\"\")","v":""},{"$f":"IFERROR(SUBSTITUTE(INDEX(Data!$A436:$H436,,MATCH(FALSE,ISERROR(SEARCH(G$1&\"=\",Data!$A436:$H436)),0)),G$1&\"=\",\"\"),\"\")","v":""},{"$f":"IFERROR(SUBSTITUTE(INDEX(Data!$A436:$H436,,MATCH(FALSE,ISERROR(SEARCH(H$1&\"=\",Data!$A436:$H436)),0)),H$1&\"=\",\"\"),\"\")","v":""},{"$f":"IFERROR(SUBSTITUTE(INDEX(Data!$A436:$H436,,MATCH(FALSE,ISERROR(SEARCH(I$1&\"=\",Data!$A436:$H436)),0)),I$1&\"=\",\"\"),\"\")","v":""},{"$f":"IFERROR(SUBSTITUTE(INDEX(Data!$A436:$H436,,MATCH(FALSE,ISERROR(SEARCH(J$1&\"=\",Data!$A436:$H436)),0)),J$1&\"=\",\"\"),\"\")","v":""}]
[{"$f":"IFERROR(SUBSTITUTE(INDEX(Data!$A437:$H437,,MATCH(FALSE,ISERROR(SEARCH(A$1&\"=\",Data!$A437:$H437)),0)),A$1&\"=\",\"\"),\"\")","v":""},{"$f":"IFERROR(SUBSTITUTE(INDEX(Data!$A437:$H437,,MATCH(FALSE,ISERROR(SEARCH(B$1&\"=\",Data!$A437:$H437)),0)),B$1&\"=\",\"\"),\"\")","v":""},{"$f":"IFERROR(SUBSTITUTE(INDEX(Data!$A437:$H437,,MATCH(FALSE,ISERROR(SEARCH(C$1&\"=\",Data!$A437:$H437)),0)),C$1&\"=\",\"\"),\"\")","v":""},{"$f":"IFERROR(SUBSTITUTE(INDEX(Data!$A437:$H437,,MATCH(FALSE,ISERROR(SEARCH(D$1&\"=\",Data!$A437:$H437)),0)),D$1&\"=\",\"\"),\"\")","v":""},{"$f":"IFERROR(SUBSTITUTE(INDEX(Data!$A437:$H437,,MATCH(FALSE,ISERROR(SEARCH(E$1&\"=\",Data!$A437:$H437)),0)),E$1&\"=\",\"\"),\"\")","v":""},{"$f":"IFERROR(SUBSTITUTE(INDEX(Data!$A437:$H437,,MATCH(FALSE,ISERROR(SEARCH(F$1&\"=\",Data!$A437:$H437)),0)),F$1&\"=\",\"\"),\"\")","v":""},{"$f":"IFERROR(SUBSTITUTE(INDEX(Data!$A437:$H437,,MATCH(FALSE,ISERROR(SEARCH(G$1&\"=\",Data!$A437:$H437)),0)),G$1&\"=\",\"\"),\"\")","v":""},{"$f":"IFERROR(SUBSTITUTE(INDEX(Data!$A437:$H437,,MATCH(FALSE,ISERROR(SEARCH(H$1&\"=\",Data!$A437:$H437)),0)),H$1&\"=\",\"\"),\"\")","v":""},{"$f":"IFERROR(SUBSTITUTE(INDEX(Data!$A437:$H437,,MATCH(FALSE,ISERROR(SEARCH(I$1&\"=\",Data!$A437:$H437)),0)),I$1&\"=\",\"\"),\"\")","v":""},{"$f":"IFERROR(SUBSTITUTE(INDEX(Data!$A437:$H437,,MATCH(FALSE,ISERROR(SEARCH(J$1&\"=\",Data!$A437:$H437)),0)),J$1&\"=\",\"\"),\"\")","v":""}]
[{"$f":"IFERROR(SUBSTITUTE(INDEX(Data!$A438:$H438,,MATCH(FALSE,ISERROR(SEARCH(A$1&\"=\",Data!$A438:$H438)),0)),A$1&\"=\",\"\"),\"\")","v":""},{"$f":"IFERROR(SUBSTITUTE(INDEX(Data!$A438:$H438,,MATCH(FALSE,ISERROR(SEARCH(B$1&\"=\",Data!$A438:$H438)),0)),B$1&\"=\",\"\"),\"\")","v":""},{"$f":"IFERROR(SUBSTITUTE(INDEX(Data!$A438:$H438,,MATCH(FALSE,ISERROR(SEARCH(C$1&\"=\",Data!$A438:$H438)),0)),C$1&\"=\",\"\"),\"\")","v":""},{"$f":"IFERROR(SUBSTITUTE(INDEX(Data!$A438:$H438,,MATCH(FALSE,ISERROR(SEARCH(D$1&\"=\",Data!$A438:$H438)),0)),D$1&\"=\",\"\"),\"\")","v":""},{"$f":"IFERROR(SUBSTITUTE(INDEX(Data!$A438:$H438,,MATCH(FALSE,ISERROR(SEARCH(E$1&\"=\",Data!$A438:$H438)),0)),E$1&\"=\",\"\"),\"\")","v":""},{"$f":"IFERROR(SUBSTITUTE(INDEX(Data!$A438:$H438,,MATCH(FALSE,ISERROR(SEARCH(F$1&\"=\",Data!$A438:$H438)),0)),F$1&\"=\",\"\"),\"\")","v":""},{"$f":"IFERROR(SUBSTITUTE(INDEX(Data!$A438:$H438,,MATCH(FALSE,ISERROR(SEARCH(G$1&\"=\",Data!$A438:$H438)),0)),G$1&\"=\",\"\"),\"\")","v":""},{"$f":"IFERROR(SUBSTITUTE(INDEX(Data!$A438:$H438,,MATCH(FALSE,ISERROR(SEARCH(H$1&\"=\",Data!$A438:$H438)),0)),H$1&\"=\",\"\"),\"\")","v":""},{"$f":"IFERROR(SUBSTITUTE(INDEX(Data!$A438:$H438,,MATCH(FALSE,ISERROR(SEARCH(I$1&\"=\",Data!$A438:$H438)),0)),I$1&\"=\",\"\"),\"\")","v":""},{"$f":"IFERROR(SUBSTITUTE(INDEX(Data!$A438:$H438,,MATCH(FALSE,ISERROR(SEARCH(J$1&\"=\",Data!$A438:$H438)),0)),J$1&\"=\",\"\"),\"\")","v":""}]
[{"$f":"IFERROR(SUBSTITUTE(INDEX(Data!$A439:$H439,,MATCH(FALSE,ISERROR(SEARCH(A$1&\"=\",Data!$A439:$H439)),0)),A$1&\"=\",\"\"),\"\")","v":""},{"$f":"IFERROR(SUBSTITUTE(INDEX(Data!$A439:$H439,,MATCH(FALSE,ISERROR(SEARCH(B$1&\"=\",Data!$A439:$H439)),0)),B$1&\"=\",\"\"),\"\")","v":""},{"$f":"IFERROR(SUBSTITUTE(INDEX(Data!$A439:$H439,,MATCH(FALSE,ISERROR(SEARCH(C$1&\"=\",Data!$A439:$H439)),0)),C$1&\"=\",\"\"),\"\")","v":""},{"$f":"IFERROR(SUBSTITUTE(INDEX(Data!$A439:$H439,,MATCH(FALSE,ISERROR(SEARCH(D$1&\"=\",Data!$A439:$H439)),0)),D$1&\"=\",\"\"),\"\")","v":""},{"$f":"IFERROR(SUBSTITUTE(INDEX(Data!$A439:$H439,,MATCH(FALSE,ISERROR(SEARCH(E$1&\"=\",Data!$A439:$H439)),0)),E$1&\"=\",\"\"),\"\")","v":""},{"$f":"IFERROR(SUBSTITUTE(INDEX(Data!$A439:$H439,,MATCH(FALSE,ISERROR(SEARCH(F$1&\"=\",Data!$A439:$H439)),0)),F$1&\"=\",\"\"),\"\")","v":""},{"$f":"IFERROR(SUBSTITUTE(INDEX(Data!$A439:$H439,,MATCH(FALSE,ISERROR(SEARCH(G$1&\"=\",Data!$A439:$H439)),0)),G$1&\"=\",\"\"),\"\")","v":""},{"$f":"IFERROR(SUBSTITUTE(INDEX(Data!$A439:$H439,,MATCH(FALSE,ISERROR(SEARCH(H$1&\"=\",Data!$A439:$H439)),0)),H$1&\"=\",\"\"),\"\")","v":""},{"$f":"IFERROR(SUBSTITUTE(INDEX(Data!$A439:$H439,,MATCH(FALSE,ISERROR(SEARCH(I$1&\"=\",Data!$A439:$H439)),0)),I$1&\"=\",\"\"),\"\")","v":""},{"$f":"IFERROR(SUBSTITUTE(INDEX(Data!$A439:$H439,,MATCH(FALSE,ISERROR(SEARCH(J$1&\"=\",Data!$A439:$H439)),0)),J$1&\"=\",\"\"),\"\")","v":""}]
[{"$f":"IFERROR(SUBSTITUTE(INDEX(Data!$A440:$H440,,MATCH(FALSE,ISERROR(SEARCH(A$1&\"=\",Data!$A440:$H440)),0)),A$1&\"=\",\"\"),\"\")","v":""},{"$f":"IFERROR(SUBSTITUTE(INDEX(Data!$A440:$H440,,MATCH(FALSE,ISERROR(SEARCH(B$1&\"=\",Data!$A440:$H440)),0)),B$1&\"=\",\"\"),\"\")","v":""},{"$f":"IFERROR(SUBSTITUTE(INDEX(Data!$A440:$H440,,MATCH(FALSE,ISERROR(SEARCH(C$1&\"=\",Data!$A440:$H440)),0)),C$1&\"=\",\"\"),\"\")","v":""},{"$f":"IFERROR(SUBSTITUTE(INDEX(Data!$A440:$H440,,MATCH(FALSE,ISERROR(SEARCH(D$1&\"=\",Data!$A440:$H440)),0)),D$1&\"=\",\"\"),\"\")","v":""},{"$f":"IFERROR(SUBSTITUTE(INDEX(Data!$A440:$H440,,MATCH(FALSE,ISERROR(SEARCH(E$1&\"=\",Data!$A440:$H440)),0)),E$1&\"=\",\"\"),\"\")","v":""},{"$f":"IFERROR(SUBSTITUTE(INDEX(Data!$A440:$H440,,MATCH(FALSE,ISERROR(SEARCH(F$1&\"=\",Data!$A440:$H440)),0)),F$1&\"=\",\"\"),\"\")","v":""},{"$f":"IFERROR(SUBSTITUTE(INDEX(Data!$A440:$H440,,MATCH(FALSE,ISERROR(SEARCH(G$1&\"=\",Data!$A440:$H440)),0)),G$1&\"=\",\"\"),\"\")","v":""},{"$f":"IFERROR(SUBSTITUTE(INDEX(Data!$A440:$H440,,MATCH(FALSE,ISERROR(SEARCH(H$1&\"=\",Data!$A440:$H440)),0)),H$1&\"=\",\"\"),\"\")","v":""},{"$f":"IFERROR(SUBSTITUTE(INDEX(Data!$A440:$H440,,MATCH(FALSE,ISERROR(SEARCH(I$1&\"=\",Data!$A440:$H440)),0)),I$1&\"=\",\"\"),\"\")","v":""},{"$f":"IFERROR(SUBSTITUTE(INDEX(Data!$A440:$H440,,MATCH(FALSE,ISERROR(SEARCH(J$1&\"=\",Data!$A440:$H440)),0)),J$1&\"=\",\"\"),\"\")","v":""}]
[{"$f":"IFERROR(SUBSTITUTE(INDEX(Data!$A441:$H441,,MATCH(FALSE,ISERROR(SEARCH(A$1&\"=\",Data!$A441:$H441)),0)),A$1&\"=\",\"\"),\"\")","v":""},{"$f":"IFERROR(SUBSTITUTE(INDEX(Data!$A441:$H441,,MATCH(FALSE,ISERROR(SEARCH(B$1&\"=\",Data!$A441:$H441)),0)),B$1&\"=\",\"\"),\"\")","v":""},{"$f":"IFERROR(SUBSTITUTE(INDEX(Data!$A441:$H441,,MATCH(FALSE,ISERROR(SEARCH(C$1&\"=\",Data!$A441:$H441)),0)),C$1&\"=\",\"\"),\"\")","v":""},{"$f":"IFERROR(SUBSTITUTE(INDEX(Data!$A441:$H441,,MATCH(FALSE,ISERROR(SEARCH(D$1&\"=\",Data!$A441:$H441)),0)),D$1&\"=\",\"\"),\"\")","v":""},{"$f":"IFERROR(SUBSTITUTE(INDEX(Data!$A441:$H441,,MATCH(FALSE,ISERROR(SEARCH(E$1&\"=\",Data!$A441:$H441)),0)),E$1&\"=\",\"\"),\"\")","v":""},{"$f":"IFERROR(SUBSTITUTE(INDEX(Data!$A441:$H441,,MATCH(FALSE,ISERROR(SEARCH(F$1&\"=\",Data!$A441:$H441)),0)),F$1&\"=\",\"\"),\"\")","v":""},{"$f":"IFERROR(SUBSTITUTE(INDEX(Data!$A441:$H441,,MATCH(FALSE,ISERROR(SEARCH(G$1&\"=\",Data!$A441:$H441)),0)),G$1&\"=\",\"\"),\"\")","v":""},{"$f":"IFERROR(SUBSTITUTE(INDEX(Data!$A441:$H441,,MATCH(FALSE,ISERROR(SEARCH(H$1&\"=\",Data!$A441:$H441)),0)),H$1&\"=\",\"\"),\"\")","v":""},{"$f":"IFERROR(SUBSTITUTE(INDEX(Data!$A441:$H441,,MATCH(FALSE,ISERROR(SEARCH(I$1&\"=\",Data!$A441:$H441)),0)),I$1&\"=\",\"\"),\"\")","v":""},{"$f":"IFERROR(SUBSTITUTE(INDEX(Data!$A441:$H441,,MATCH(FALSE,ISERROR(SEARCH(J$1&\"=\",Data!$A441:$H441)),0)),J$1&\"=\",\"\"),\"\")","v":""}]
[{"$f":"IFERROR(SUBSTITUTE(INDEX(Data!$A442:$H442,,MATCH(FALSE,ISERROR(SEARCH(A$1&\"=\",Data!$A442:$H442)),0)),A$1&\"=\",\"\"),\"\")","v":""},{"$f":"IFERROR(SUBSTITUTE(INDEX(Data!$A442:$H442,,MATCH(FALSE,ISERROR(SEARCH(B$1&\"=\",Data!$A442:$H442)),0)),B$1&\"=\",\"\"),\"\")","v":""},{"$f":"IFERROR(SUBSTITUTE(INDEX(Data!$A442:$H442,,MATCH(FALSE,ISERROR(SEARCH(C$1&\"=\",Data!$A442:$H442)),0)),C$1&\"=\",\"\"),\"\")","v":""},{"$f":"IFERROR(SUBSTITUTE(INDEX(Data!$A442:$H442,,MATCH(FALSE,ISERROR(SEARCH(D$1&\"=\",Data!$A442:$H442)),0)),D$1&\"=\",\"\"),\"\")","v":""},{"$f":"IFERROR(SUBSTITUTE(INDEX(Data!$A442:$H442,,MATCH(FALSE,ISERROR(SEARCH(E$1&\"=\",Data!$A442:$H442)),0)),E$1&\"=\",\"\"),\"\")","v":""},{"$f":"IFERROR(SUBSTITUTE(INDEX(Data!$A442:$H442,,MATCH(FALSE,ISERROR(SEARCH(F$1&\"=\",Data!$A442:$H442)),0)),F$1&\"=\",\"\"),\"\")","v":""},{"$f":"IFERROR(SUBSTITUTE(INDEX(Data!$A442:$H442,,MATCH(FALSE,ISERROR(SEARCH(G$1&\"=\",Data!$A442:$H442)),0)),G$1&\"=\",\"\"),\"\")","v":""},{"$f":"IFERROR(SUBSTITUTE(INDEX(Data!$A442:$H442,,MATCH(FALSE,ISERROR(SEARCH(H$1&\"=\",Data!$A442:$H442)),0)),H$1&\"=\",\"\"),\"\")","v":""},{"$f":"IFERROR(SUBSTITUTE(INDEX(Data!$A442:$H442,,MATCH(FALSE,ISERROR(SEARCH(I$1&\"=\",Data!$A442:$H442)),0)),I$1&\"=\",\"\"),\"\")","v":""},{"$f":"IFERROR(SUBSTITUTE(INDEX(Data!$A442:$H442,,MATCH(FALSE,ISERROR(SEARCH(J$1&\"=\",Data!$A442:$H442)),0)),J$1&\"=\",\"\"),\"\")","v":""}]
[{"$f":"IFERROR(SUBSTITUTE(INDEX(Data!$A443:$H443,,MATCH(FALSE,ISERROR(SEARCH(A$1&\"=\",Data!$A443:$H443)),0)),A$1&\"=\",\"\"),\"\")","v":""},{"$f":"IFERROR(SUBSTITUTE(INDEX(Data!$A443:$H443,,MATCH(FALSE,ISERROR(SEARCH(B$1&\"=\",Data!$A443:$H443)),0)),B$1&\"=\",\"\"),\"\")","v":""},{"$f":"IFERROR(SUBSTITUTE(INDEX(Data!$A443:$H443,,MATCH(FALSE,ISERROR(SEARCH(C$1&\"=\",Data!$A443:$H443)),0)),C$1&\"=\",\"\"),\"\")","v":""},{"$f":"IFERROR(SUBSTITUTE(INDEX(Data!$A443:$H443,,MATCH(FALSE,ISERROR(SEARCH(D$1&\"=\",Data!$A443:$H443)),0)),D$1&\"=\",\"\"),\"\")","v":""},{"$f":"IFERROR(SUBSTITUTE(INDEX(Data!$A443:$H443,,MATCH(FALSE,ISERROR(SEARCH(E$1&\"=\",Data!$A443:$H443)),0)),E$1&\"=\",\"\"),\"\")","v":""},{"$f":"IFERROR(SUBSTITUTE(INDEX(Data!$A443:$H443,,MATCH(FALSE,ISERROR(SEARCH(F$1&\"=\",Data!$A443:$H443)),0)),F$1&\"=\",\"\"),\"\")","v":""},{"$f":"IFERROR(SUBSTITUTE(INDEX(Data!$A443:$H443,,MATCH(FALSE,ISERROR(SEARCH(G$1&\"=\",Data!$A443:$H443)),0)),G$1&\"=\",\"\"),\"\")","v":""},{"$f":"IFERROR(SUBSTITUTE(INDEX(Data!$A443:$H443,,MATCH(FALSE,ISERROR(SEARCH(H$1&\"=\",Data!$A443:$H443)),0)),H$1&\"=\",\"\"),\"\")","v":""},{"$f":"IFERROR(SUBSTITUTE(INDEX(Data!$A443:$H443,,MATCH(FALSE,ISERROR(SEARCH(I$1&\"=\",Data!$A443:$H443)),0)),I$1&\"=\",\"\"),\"\")","v":""},{"$f":"IFERROR(SUBSTITUTE(INDEX(Data!$A443:$H443,,MATCH(FALSE,ISERROR(SEARCH(J$1&\"=\",Data!$A443:$H443)),0)),J$1&\"=\",\"\"),\"\")","v":""}]
[{"$f":"IFERROR(SUBSTITUTE(INDEX(Data!$A444:$H444,,MATCH(FALSE,ISERROR(SEARCH(A$1&\"=\",Data!$A444:$H444)),0)),A$1&\"=\",\"\"),\"\")","v":""},{"$f":"IFERROR(SUBSTITUTE(INDEX(Data!$A444:$H444,,MATCH(FALSE,ISERROR(SEARCH(B$1&\"=\",Data!$A444:$H444)),0)),B$1&\"=\",\"\"),\"\")","v":""},{"$f":"IFERROR(SUBSTITUTE(INDEX(Data!$A444:$H444,,MATCH(FALSE,ISERROR(SEARCH(C$1&\"=\",Data!$A444:$H444)),0)),C$1&\"=\",\"\"),\"\")","v":""},{"$f":"IFERROR(SUBSTITUTE(INDEX(Data!$A444:$H444,,MATCH(FALSE,ISERROR(SEARCH(D$1&\"=\",Data!$A444:$H444)),0)),D$1&\"=\",\"\"),\"\")","v":""},{"$f":"IFERROR(SUBSTITUTE(INDEX(Data!$A444:$H444,,MATCH(FALSE,ISERROR(SEARCH(E$1&\"=\",Data!$A444:$H444)),0)),E$1&\"=\",\"\"),\"\")","v":""},{"$f":"IFERROR(SUBSTITUTE(INDEX(Data!$A444:$H444,,MATCH(FALSE,ISERROR(SEARCH(F$1&\"=\",Data!$A444:$H444)),0)),F$1&\"=\",\"\"),\"\")","v":""},{"$f":"IFERROR(SUBSTITUTE(INDEX(Data!$A444:$H444,,MATCH(FALSE,ISERROR(SEARCH(G$1&\"=\",Data!$A444:$H444)),0)),G$1&\"=\",\"\"),\"\")","v":""},{"$f":"IFERROR(SUBSTITUTE(INDEX(Data!$A444:$H444,,MATCH(FALSE,ISERROR(SEARCH(H$1&\"=\",Data!$A444:$H444)),0)),H$1&\"=\",\"\"),\"\")","v":""},{"$f":"IFERROR(SUBSTITUTE(INDEX(Data!$A444:$H444,,MATCH(FALSE,ISERROR(SEARCH(I$1&\"=\",Data!$A444:$H444)),0)),I$1&\"=\",\"\"),\"\")","v":""},{"$f":"IFERROR(SUBSTITUTE(INDEX(Data!$A444:$H444,,MATCH(FALSE,ISERROR(SEARCH(J$1&\"=\",Data!$A444:$H444)),0)),J$1&\"=\",\"\"),\"\")","v":""}]
[{"$f":"IFERROR(SUBSTITUTE(INDEX(Data!$A445:$H445,,MATCH(FALSE,ISERROR(SEARCH(A$1&\"=\",Data!$A445:$H445)),0)),A$1&\"=\",\"\"),\"\")","v":""},{"$f":"IFERROR(SUBSTITUTE(INDEX(Data!$A445:$H445,,MATCH(FALSE,ISERROR(SEARCH(B$1&\"=\",Data!$A445:$H445)),0)),B$1&\"=\",\"\"),\"\")","v":""},{"$f":"IFERROR(SUBSTITUTE(INDEX(Data!$A445:$H445,,MATCH(FALSE,ISERROR(SEARCH(C$1&\"=\",Data!$A445:$H445)),0)),C$1&\"=\",\"\"),\"\")","v":""},{"$f":"IFERROR(SUBSTITUTE(INDEX(Data!$A445:$H445,,MATCH(FALSE,ISERROR(SEARCH(D$1&\"=\",Data!$A445:$H445)),0)),D$1&\"=\",\"\"),\"\")","v":""},{"$f":"IFERROR(SUBSTITUTE(INDEX(Data!$A445:$H445,,MATCH(FALSE,ISERROR(SEARCH(E$1&\"=\",Data!$A445:$H445)),0)),E$1&\"=\",\"\"),\"\")","v":""},{"$f":"IFERROR(SUBSTITUTE(INDEX(Data!$A445:$H445,,MATCH(FALSE,ISERROR(SEARCH(F$1&\"=\",Data!$A445:$H445)),0)),F$1&\"=\",\"\"),\"\")","v":""},{"$f":"IFERROR(SUBSTITUTE(INDEX(Data!$A445:$H445,,MATCH(FALSE,ISERROR(SEARCH(G$1&\"=\",Data!$A445:$H445)),0)),G$1&\"=\",\"\"),\"\")","v":""},{"$f":"IFERROR(SUBSTITUTE(INDEX(Data!$A445:$H445,,MATCH(FALSE,ISERROR(SEARCH(H$1&\"=\",Data!$A445:$H445)),0)),H$1&\"=\",\"\"),\"\")","v":""},{"$f":"IFERROR(SUBSTITUTE(INDEX(Data!$A445:$H445,,MATCH(FALSE,ISERROR(SEARCH(I$1&\"=\",Data!$A445:$H445)),0)),I$1&\"=\",\"\"),\"\")","v":""},{"$f":"IFERROR(SUBSTITUTE(INDEX(Data!$A445:$H445,,MATCH(FALSE,ISERROR(SEARCH(J$1&\"=\",Data!$A445:$H445)),0)),J$1&\"=\",\"\"),\"\")","v":""}]
[{"$f":"IFERROR(SUBSTITUTE(INDEX(Data!$A446:$H446,,MATCH(FALSE,ISERROR(SEARCH(A$1&\"=\",Data!$A446:$H446)),0)),A$1&\"=\",\"\"),\"\")","v":""},{"$f":"IFERROR(SUBSTITUTE(INDEX(Data!$A446:$H446,,MATCH(FALSE,ISERROR(SEARCH(B$1&\"=\",Data!$A446:$H446)),0)),B$1&\"=\",\"\"),\"\")","v":""},{"$f":"IFERROR(SUBSTITUTE(INDEX(Data!$A446:$H446,,MATCH(FALSE,ISERROR(SEARCH(C$1&\"=\",Data!$A446:$H446)),0)),C$1&\"=\",\"\"),\"\")","v":""},{"$f":"IFERROR(SUBSTITUTE(INDEX(Data!$A446:$H446,,MATCH(FALSE,ISERROR(SEARCH(D$1&\"=\",Data!$A446:$H446)),0)),D$1&\"=\",\"\"),\"\")","v":""},{"$f":"IFERROR(SUBSTITUTE(INDEX(Data!$A446:$H446,,MATCH(FALSE,ISERROR(SEARCH(E$1&\"=\",Data!$A446:$H446)),0)),E$1&\"=\",\"\"),\"\")","v":""},{"$f":"IFERROR(SUBSTITUTE(INDEX(Data!$A446:$H446,,MATCH(FALSE,ISERROR(SEARCH(F$1&\"=\",Data!$A446:$H446)),0)),F$1&\"=\",\"\"),\"\")","v":""},{"$f":"IFERROR(SUBSTITUTE(INDEX(Data!$A446:$H446,,MATCH(FALSE,ISERROR(SEARCH(G$1&\"=\",Data!$A446:$H446)),0)),G$1&\"=\",\"\"),\"\")","v":""},{"$f":"IFERROR(SUBSTITUTE(INDEX(Data!$A446:$H446,,MATCH(FALSE,ISERROR(SEARCH(H$1&\"=\",Data!$A446:$H446)),0)),H$1&\"=\",\"\"),\"\")","v":""},{"$f":"IFERROR(SUBSTITUTE(INDEX(Data!$A446:$H446,,MATCH(FALSE,ISERROR(SEARCH(I$1&\"=\",Data!$A446:$H446)),0)),I$1&\"=\",\"\"),\"\")","v":""},{"$f":"IFERROR(SUBSTITUTE(INDEX(Data!$A446:$H446,,MATCH(FALSE,ISERROR(SEARCH(J$1&\"=\",Data!$A446:$H446)),0)),J$1&\"=\",\"\"),\"\")","v":""}]
[{"$f":"IFERROR(SUBSTITUTE(INDEX(Data!$A447:$H447,,MATCH(FALSE,ISERROR(SEARCH(A$1&\"=\",Data!$A447:$H447)),0)),A$1&\"=\",\"\"),\"\")","v":""},{"$f":"IFERROR(SUBSTITUTE(INDEX(Data!$A447:$H447,,MATCH(FALSE,ISERROR(SEARCH(B$1&\"=\",Data!$A447:$H447)),0)),B$1&\"=\",\"\"),\"\")","v":""},{"$f":"IFERROR(SUBSTITUTE(INDEX(Data!$A447:$H447,,MATCH(FALSE,ISERROR(SEARCH(C$1&\"=\",Data!$A447:$H447)),0)),C$1&\"=\",\"\"),\"\")","v":""},{"$f":"IFERROR(SUBSTITUTE(INDEX(Data!$A447:$H447,,MATCH(FALSE,ISERROR(SEARCH(D$1&\"=\",Data!$A447:$H447)),0)),D$1&\"=\",\"\"),\"\")","v":""},{"$f":"IFERROR(SUBSTITUTE(INDEX(Data!$A447:$H447,,MATCH(FALSE,ISERROR(SEARCH(E$1&\"=\",Data!$A447:$H447)),0)),E$1&\"=\",\"\"),\"\")","v":""},{"$f":"IFERROR(SUBSTITUTE(INDEX(Data!$A447:$H447,,MATCH(FALSE,ISERROR(SEARCH(F$1&\"=\",Data!$A447:$H447)),0)),F$1&\"=\",\"\"),\"\")","v":""},{"$f":"IFERROR(SUBSTITUTE(INDEX(Data!$A447:$H447,,MATCH(FALSE,ISERROR(SEARCH(G$1&\"=\",Data!$A447:$H447)),0)),G$1&\"=\",\"\"),\"\")","v":""},{"$f":"IFERROR(SUBSTITUTE(INDEX(Data!$A447:$H447,,MATCH(FALSE,ISERROR(SEARCH(H$1&\"=\",Data!$A447:$H447)),0)),H$1&\"=\",\"\"),\"\")","v":""},{"$f":"IFERROR(SUBSTITUTE(INDEX(Data!$A447:$H447,,MATCH(FALSE,ISERROR(SEARCH(I$1&\"=\",Data!$A447:$H447)),0)),I$1&\"=\",\"\"),\"\")","v":""},{"$f":"IFERROR(SUBSTITUTE(INDEX(Data!$A447:$H447,,MATCH(FALSE,ISERROR(SEARCH(J$1&\"=\",Data!$A447:$H447)),0)),J$1&\"=\",\"\"),\"\")","v":""}]
[{"$f":"IFERROR(SUBSTITUTE(INDEX(Data!$A448:$H448,,MATCH(FALSE,ISERROR(SEARCH(A$1&\"=\",Data!$A448:$H448)),0)),A$1&\"=\",\"\"),\"\")","v":""},{"$f":"IFERROR(SUBSTITUTE(INDEX(Data!$A448:$H448,,MATCH(FALSE,ISERROR(SEARCH(B$1&\"=\",Data!$A448:$H448)),0)),B$1&\"=\",\"\"),\"\")","v":""},{"$f":"IFERROR(SUBSTITUTE(INDEX(Data!$A448:$H448,,MATCH(FALSE,ISERROR(SEARCH(C$1&\"=\",Data!$A448:$H448)),0)),C$1&\"=\",\"\"),\"\")","v":""},{"$f":"IFERROR(SUBSTITUTE(INDEX(Data!$A448:$H448,,MATCH(FALSE,ISERROR(SEARCH(D$1&\"=\",Data!$A448:$H448)),0)),D$1&\"=\",\"\"),\"\")","v":""},{"$f":"IFERROR(SUBSTITUTE(INDEX(Data!$A448:$H448,,MATCH(FALSE,ISERROR(SEARCH(E$1&\"=\",Data!$A448:$H448)),0)),E$1&\"=\",\"\"),\"\")","v":""},{"$f":"IFERROR(SUBSTITUTE(INDEX(Data!$A448:$H448,,MATCH(FALSE,ISERROR(SEARCH(F$1&\"=\",Data!$A448:$H448)),0)),F$1&\"=\",\"\"),\"\")","v":""},{"$f":"IFERROR(SUBSTITUTE(INDEX(Data!$A448:$H448,,MATCH(FALSE,ISERROR(SEARCH(G$1&\"=\",Data!$A448:$H448)),0)),G$1&\"=\",\"\"),\"\")","v":""},{"$f":"IFERROR(SUBSTITUTE(INDEX(Data!$A448:$H448,,MATCH(FALSE,ISERROR(SEARCH(H$1&\"=\",Data!$A448:$H448)),0)),H$1&\"=\",\"\"),\"\")","v":""},{"$f":"IFERROR(SUBSTITUTE(INDEX(Data!$A448:$H448,,MATCH(FALSE,ISERROR(SEARCH(I$1&\"=\",Data!$A448:$H448)),0)),I$1&\"=\",\"\"),\"\")","v":""},{"$f":"IFERROR(SUBSTITUTE(INDEX(Data!$A448:$H448,,MATCH(FALSE,ISERROR(SEARCH(J$1&\"=\",Data!$A448:$H448)),0)),J$1&\"=\",\"\"),\"\")","v":""}]
[{"$f":"IFERROR(SUBSTITUTE(INDEX(Data!$A449:$H449,,MATCH(FALSE,ISERROR(SEARCH(A$1&\"=\",Data!$A449:$H449)),0)),A$1&\"=\",\"\"),\"\")","v":""},{"$f":"IFERROR(SUBSTITUTE(INDEX(Data!$A449:$H449,,MATCH(FALSE,ISERROR(SEARCH(B$1&\"=\",Data!$A449:$H449)),0)),B$1&\"=\",\"\"),\"\")","v":""},{"$f":"IFERROR(SUBSTITUTE(INDEX(Data!$A449:$H449,,MATCH(FALSE,ISERROR(SEARCH(C$1&\"=\",Data!$A449:$H449)),0)),C$1&\"=\",\"\"),\"\")","v":""},{"$f":"IFERROR(SUBSTITUTE(INDEX(Data!$A449:$H449,,MATCH(FALSE,ISERROR(SEARCH(D$1&\"=\",Data!$A449:$H449)),0)),D$1&\"=\",\"\"),\"\")","v":""},{"$f":"IFERROR(SUBSTITUTE(INDEX(Data!$A449:$H449,,MATCH(FALSE,ISERROR(SEARCH(E$1&\"=\",Data!$A449:$H449)),0)),E$1&\"=\",\"\"),\"\")","v":""},{"$f":"IFERROR(SUBSTITUTE(INDEX(Data!$A449:$H449,,MATCH(FALSE,ISERROR(SEARCH(F$1&\"=\",Data!$A449:$H449)),0)),F$1&\"=\",\"\"),\"\")","v":""},{"$f":"IFERROR(SUBSTITUTE(INDEX(Data!$A449:$H449,,MATCH(FALSE,ISERROR(SEARCH(G$1&\"=\",Data!$A449:$H449)),0)),G$1&\"=\",\"\"),\"\")","v":""},{"$f":"IFERROR(SUBSTITUTE(INDEX(Data!$A449:$H449,,MATCH(FALSE,ISERROR(SEARCH(H$1&\"=\",Data!$A449:$H449)),0)),H$1&\"=\",\"\"),\"\")","v":""},{"$f":"IFERROR(SUBSTITUTE(INDEX(Data!$A449:$H449,,MATCH(FALSE,ISERROR(SEARCH(I$1&\"=\",Data!$A449:$H449)),0)),I$1&\"=\",\"\"),\"\")","v":""},{"$f":"IFERROR(SUBSTITUTE(INDEX(Data!$A449:$H449,,MATCH(FALSE,ISERROR(SEARCH(J$1&\"=\",Data!$A449:$H449)),0)),J$1&\"=\",\"\"),\"\")","v":""}]
[{"$f":"IFERROR(SUBSTITUTE(INDEX(Data!$A450:$H450,,MATCH(FALSE,ISERROR(SEARCH(A$1&\"=\",Data!$A450:$H450)),0)),A$1&\"=\",\"\"),\"\")","v":""},{"$f":"IFERROR(SUBSTITUTE(INDEX(Data!$A450:$H450,,MATCH(FALSE,ISERROR(SEARCH(B$1&\"=\",Data!$A450:$H450)),0)),B$1&\"=\",\"\"),\"\")","v":""},{"$f":"IFERROR(SUBSTITUTE(INDEX(Data!$A450:$H450,,MATCH(FALSE,ISERROR(SEARCH(C$1&\"=\",Data!$A450:$H450)),0)),C$1&\"=\",\"\"),\"\")","v":""},{"$f":"IFERROR(SUBSTITUTE(INDEX(Data!$A450:$H450,,MATCH(FALSE,ISERROR(SEARCH(D$1&\"=\",Data!$A450:$H450)),0)),D$1&\"=\",\"\"),\"\")","v":""},{"$f":"IFERROR(SUBSTITUTE(INDEX(Data!$A450:$H450,,MATCH(FALSE,ISERROR(SEARCH(E$1&\"=\",Data!$A450:$H450)),0)),E$1&\"=\",\"\"),\"\")","v":""},{"$f":"IFERROR(SUBSTITUTE(INDEX(Data!$A450:$H450,,MATCH(FALSE,ISERROR(SEARCH(F$1&\"=\",Data!$A450:$H450)),0)),F$1&\"=\",\"\"),\"\")","v":""},{"$f":"IFERROR(SUBSTITUTE(INDEX(Data!$A450:$H450,,MATCH(FALSE,ISERROR(SEARCH(G$1&\"=\",Data!$A450:$H450)),0)),G$1&\"=\",\"\"),\"\")","v":""},{"$f":"IFERROR(SUBSTITUTE(INDEX(Data!$A450:$H450,,MATCH(FALSE,ISERROR(SEARCH(H$1&\"=\",Data!$A450:$H450)),0)),H$1&\"=\",\"\"),\"\")","v":""},{"$f":"IFERROR(SUBSTITUTE(INDEX(Data!$A450:$H450,,MATCH(FALSE,ISERROR(SEARCH(I$1&\"=\",Data!$A450:$H450)),0)),I$1&\"=\",\"\"),\"\")","v":""},{"$f":"IFERROR(SUBSTITUTE(INDEX(Data!$A450:$H450,,MATCH(FALSE,ISERROR(SEARCH(J$1&\"=\",Data!$A450:$H450)),0)),J$1&\"=\",\"\"),\"\")","v":""}]
[{"$f":"IFERROR(SUBSTITUTE(INDEX(Data!$A451:$H451,,MATCH(FALSE,ISERROR(SEARCH(A$1&\"=\",Data!$A451:$H451)),0)),A$1&\"=\",\"\"),\"\")","v":""},{"$f":"IFERROR(SUBSTITUTE(INDEX(Data!$A451:$H451,,MATCH(FALSE,ISERROR(SEARCH(B$1&\"=\",Data!$A451:$H451)),0)),B$1&\"=\",\"\"),\"\")","v":""},{"$f":"IFERROR(SUBSTITUTE(INDEX(Data!$A451:$H451,,MATCH(FALSE,ISERROR(SEARCH(C$1&\"=\",Data!$A451:$H451)),0)),C$1&\"=\",\"\"),\"\")","v":""},{"$f":"IFERROR(SUBSTITUTE(INDEX(Data!$A451:$H451,,MATCH(FALSE,ISERROR(SEARCH(D$1&\"=\",Data!$A451:$H451)),0)),D$1&\"=\",\"\"),\"\")","v":""},{"$f":"IFERROR(SUBSTITUTE(INDEX(Data!$A451:$H451,,MATCH(FALSE,ISERROR(SEARCH(E$1&\"=\",Data!$A451:$H451)),0)),E$1&\"=\",\"\"),\"\")","v":""},{"$f":"IFERROR(SUBSTITUTE(INDEX(Data!$A451:$H451,,MATCH(FALSE,ISERROR(SEARCH(F$1&\"=\",Data!$A451:$H451)),0)),F$1&\"=\",\"\"),\"\")","v":""},{"$f":"IFERROR(SUBSTITUTE(INDEX(Data!$A451:$H451,,MATCH(FALSE,ISERROR(SEARCH(G$1&\"=\",Data!$A451:$H451)),0)),G$1&\"=\",\"\"),\"\")","v":""},{"$f":"IFERROR(SUBSTITUTE(INDEX(Data!$A451:$H451,,MATCH(FALSE,ISERROR(SEARCH(H$1&\"=\",Data!$A451:$H451)),0)),H$1&\"=\",\"\"),\"\")","v":""},{"$f":"IFERROR(SUBSTITUTE(INDEX(Data!$A451:$H451,,MATCH(FALSE,ISERROR(SEARCH(I$1&\"=\",Data!$A451:$H451)),0)),I$1&\"=\",\"\"),\"\")","v":""},{"$f":"IFERROR(SUBSTITUTE(INDEX(Data!$A451:$H451,,MATCH(FALSE,ISERROR(SEARCH(J$1&\"=\",Data!$A451:$H451)),0)),J$1&\"=\",\"\"),\"\")","v":""}]
[{"$f":"IFERROR(SUBSTITUTE(INDEX(Data!$A452:$H452,,MATCH(FALSE,ISERROR(SEARCH(A$1&\"=\",Data!$A452:$H452)),0)),A$1&\"=\",\"\"),\"\")","v":""},{"$f":"IFERROR(SUBSTITUTE(INDEX(Data!$A452:$H452,,MATCH(FALSE,ISERROR(SEARCH(B$1&\"=\",Data!$A452:$H452)),0)),B$1&\"=\",\"\"),\"\")","v":""},{"$f":"IFERROR(SUBSTITUTE(INDEX(Data!$A452:$H452,,MATCH(FALSE,ISERROR(SEARCH(C$1&\"=\",Data!$A452:$H452)),0)),C$1&\"=\",\"\"),\"\")","v":""},{"$f":"IFERROR(SUBSTITUTE(INDEX(Data!$A452:$H452,,MATCH(FALSE,ISERROR(SEARCH(D$1&\"=\",Data!$A452:$H452)),0)),D$1&\"=\",\"\"),\"\")","v":""},{"$f":"IFERROR(SUBSTITUTE(INDEX(Data!$A452:$H452,,MATCH(FALSE,ISERROR(SEARCH(E$1&\"=\",Data!$A452:$H452)),0)),E$1&\"=\",\"\"),\"\")","v":""},{"$f":"IFERROR(SUBSTITUTE(INDEX(Data!$A452:$H452,,MATCH(FALSE,ISERROR(SEARCH(F$1&\"=\",Data!$A452:$H452)),0)),F$1&\"=\",\"\"),\"\")","v":""},{"$f":"IFERROR(SUBSTITUTE(INDEX(Data!$A452:$H452,,MATCH(FALSE,ISERROR(SEARCH(G$1&\"=\",Data!$A452:$H452)),0)),G$1&\"=\",\"\"),\"\")","v":""},{"$f":"IFERROR(SUBSTITUTE(INDEX(Data!$A452:$H452,,MATCH(FALSE,ISERROR(SEARCH(H$1&\"=\",Data!$A452:$H452)),0)),H$1&\"=\",\"\"),\"\")","v":""},{"$f":"IFERROR(SUBSTITUTE(INDEX(Data!$A452:$H452,,MATCH(FALSE,ISERROR(SEARCH(I$1&\"=\",Data!$A452:$H452)),0)),I$1&\"=\",\"\"),\"\")","v":""},{"$f":"IFERROR(SUBSTITUTE(INDEX(Data!$A452:$H452,,MATCH(FALSE,ISERROR(SEARCH(J$1&\"=\",Data!$A452:$H452)),0)),J$1&\"=\",\"\"),\"\")","v":""}]
[{"$f":"IFERROR(SUBSTITUTE(INDEX(Data!$A453:$H453,,MATCH(FALSE,ISERROR(SEARCH(A$1&\"=\",Data!$A453:$H453)),0)),A$1&\"=\",\"\"),\"\")","v":""},{"$f":"IFERROR(SUBSTITUTE(INDEX(Data!$A453:$H453,,MATCH(FALSE,ISERROR(SEARCH(B$1&\"=\",Data!$A453:$H453)),0)),B$1&\"=\",\"\"),\"\")","v":""},{"$f":"IFERROR(SUBSTITUTE(INDEX(Data!$A453:$H453,,MATCH(FALSE,ISERROR(SEARCH(C$1&\"=\",Data!$A453:$H453)),0)),C$1&\"=\",\"\"),\"\")","v":""},{"$f":"IFERROR(SUBSTITUTE(INDEX(Data!$A453:$H453,,MATCH(FALSE,ISERROR(SEARCH(D$1&\"=\",Data!$A453:$H453)),0)),D$1&\"=\",\"\"),\"\")","v":""},{"$f":"IFERROR(SUBSTITUTE(INDEX(Data!$A453:$H453,,MATCH(FALSE,ISERROR(SEARCH(E$1&\"=\",Data!$A453:$H453)),0)),E$1&\"=\",\"\"),\"\")","v":""},{"$f":"IFERROR(SUBSTITUTE(INDEX(Data!$A453:$H453,,MATCH(FALSE,ISERROR(SEARCH(F$1&\"=\",Data!$A453:$H453)),0)),F$1&\"=\",\"\"),\"\")","v":""},{"$f":"IFERROR(SUBSTITUTE(INDEX(Data!$A453:$H453,,MATCH(FALSE,ISERROR(SEARCH(G$1&\"=\",Data!$A453:$H453)),0)),G$1&\"=\",\"\"),\"\")","v":""},{"$f":"IFERROR(SUBSTITUTE(INDEX(Data!$A453:$H453,,MATCH(FALSE,ISERROR(SEARCH(H$1&\"=\",Data!$A453:$H453)),0)),H$1&\"=\",\"\"),\"\")","v":""},{"$f":"IFERROR(SUBSTITUTE(INDEX(Data!$A453:$H453,,MATCH(FALSE,ISERROR(SEARCH(I$1&\"=\",Data!$A453:$H453)),0)),I$1&\"=\",\"\"),\"\")","v":""},{"$f":"IFERROR(SUBSTITUTE(INDEX(Data!$A453:$H453,,MATCH(FALSE,ISERROR(SEARCH(J$1&\"=\",Data!$A453:$H453)),0)),J$1&\"=\",\"\"),\"\")","v":""}]
[{"$f":"IFERROR(SUBSTITUTE(INDEX(Data!$A454:$H454,,MATCH(FALSE,ISERROR(SEARCH(A$1&\"=\",Data!$A454:$H454)),0)),A$1&\"=\",\"\"),\"\")","v":""},{"$f":"IFERROR(SUBSTITUTE(INDEX(Data!$A454:$H454,,MATCH(FALSE,ISERROR(SEARCH(B$1&\"=\",Data!$A454:$H454)),0)),B$1&\"=\",\"\"),\"\")","v":""},{"$f":"IFERROR(SUBSTITUTE(INDEX(Data!$A454:$H454,,MATCH(FALSE,ISERROR(SEARCH(C$1&\"=\",Data!$A454:$H454)),0)),C$1&\"=\",\"\"),\"\")","v":""},{"$f":"IFERROR(SUBSTITUTE(INDEX(Data!$A454:$H454,,MATCH(FALSE,ISERROR(SEARCH(D$1&\"=\",Data!$A454:$H454)),0)),D$1&\"=\",\"\"),\"\")","v":""},{"$f":"IFERROR(SUBSTITUTE(INDEX(Data!$A454:$H454,,MATCH(FALSE,ISERROR(SEARCH(E$1&\"=\",Data!$A454:$H454)),0)),E$1&\"=\",\"\"),\"\")","v":""},{"$f":"IFERROR(SUBSTITUTE(INDEX(Data!$A454:$H454,,MATCH(FALSE,ISERROR(SEARCH(F$1&\"=\",Data!$A454:$H454)),0)),F$1&\"=\",\"\"),\"\")","v":""},{"$f":"IFERROR(SUBSTITUTE(INDEX(Data!$A454:$H454,,MATCH(FALSE,ISERROR(SEARCH(G$1&\"=\",Data!$A454:$H454)),0)),G$1&\"=\",\"\"),\"\")","v":""},{"$f":"IFERROR(SUBSTITUTE(INDEX(Data!$A454:$H454,,MATCH(FALSE,ISERROR(SEARCH(H$1&\"=\",Data!$A454:$H454)),0)),H$1&\"=\",\"\"),\"\")","v":""},{"$f":"IFERROR(SUBSTITUTE(INDEX(Data!$A454:$H454,,MATCH(FALSE,ISERROR(SEARCH(I$1&\"=\",Data!$A454:$H454)),0)),I$1&\"=\",\"\"),\"\")","v":""},{"$f":"IFERROR(SUBSTITUTE(INDEX(Data!$A454:$H454,,MATCH(FALSE,ISERROR(SEARCH(J$1&\"=\",Data!$A454:$H454)),0)),J$1&\"=\",\"\"),\"\")","v":""}]
[{"$f":"IFERROR(SUBSTITUTE(INDEX(Data!$A455:$H455,,MATCH(FALSE,ISERROR(SEARCH(A$1&\"=\",Data!$A455:$H455)),0)),A$1&\"=\",\"\"),\"\")","v":""},{"$f":"IFERROR(SUBSTITUTE(INDEX(Data!$A455:$H455,,MATCH(FALSE,ISERROR(SEARCH(B$1&\"=\",Data!$A455:$H455)),0)),B$1&\"=\",\"\"),\"\")","v":""},{"$f":"IFERROR(SUBSTITUTE(INDEX(Data!$A455:$H455,,MATCH(FALSE,ISERROR(SEARCH(C$1&\"=\",Data!$A455:$H455)),0)),C$1&\"=\",\"\"),\"\")","v":""},{"$f":"IFERROR(SUBSTITUTE(INDEX(Data!$A455:$H455,,MATCH(FALSE,ISERROR(SEARCH(D$1&\"=\",Data!$A455:$H455)),0)),D$1&\"=\",\"\"),\"\")","v":""},{"$f":"IFERROR(SUBSTITUTE(INDEX(Data!$A455:$H455,,MATCH(FALSE,ISERROR(SEARCH(E$1&\"=\",Data!$A455:$H455)),0)),E$1&\"=\",\"\"),\"\")","v":""},{"$f":"IFERROR(SUBSTITUTE(INDEX(Data!$A455:$H455,,MATCH(FALSE,ISERROR(SEARCH(F$1&\"=\",Data!$A455:$H455)),0)),F$1&\"=\",\"\"),\"\")","v":""},{"$f":"IFERROR(SUBSTITUTE(INDEX(Data!$A455:$H455,,MATCH(FALSE,ISERROR(SEARCH(G$1&\"=\",Data!$A455:$H455)),0)),G$1&\"=\",\"\"),\"\")","v":""},{"$f":"IFERROR(SUBSTITUTE(INDEX(Data!$A455:$H455,,MATCH(FALSE,ISERROR(SEARCH(H$1&\"=\",Data!$A455:$H455)),0)),H$1&\"=\",\"\"),\"\")","v":""},{"$f":"IFERROR(SUBSTITUTE(INDEX(Data!$A455:$H455,,MATCH(FALSE,ISERROR(SEARCH(I$1&\"=\",Data!$A455:$H455)),0)),I$1&\"=\",\"\"),\"\")","v":""},{"$f":"IFERROR(SUBSTITUTE(INDEX(Data!$A455:$H455,,MATCH(FALSE,ISERROR(SEARCH(J$1&\"=\",Data!$A455:$H455)),0)),J$1&\"=\",\"\"),\"\")","v":""}]
[{"$f":"IFERROR(SUBSTITUTE(INDEX(Data!$A456:$H456,,MATCH(FALSE,ISERROR(SEARCH(A$1&\"=\",Data!$A456:$H456)),0)),A$1&\"=\",\"\"),\"\")","v":""},{"$f":"IFERROR(SUBSTITUTE(INDEX(Data!$A456:$H456,,MATCH(FALSE,ISERROR(SEARCH(B$1&\"=\",Data!$A456:$H456)),0)),B$1&\"=\",\"\"),\"\")","v":""},{"$f":"IFERROR(SUBSTITUTE(INDEX(Data!$A456:$H456,,MATCH(FALSE,ISERROR(SEARCH(C$1&\"=\",Data!$A456:$H456)),0)),C$1&\"=\",\"\"),\"\")","v":""},{"$f":"IFERROR(SUBSTITUTE(INDEX(Data!$A456:$H456,,MATCH(FALSE,ISERROR(SEARCH(D$1&\"=\",Data!$A456:$H456)),0)),D$1&\"=\",\"\"),\"\")","v":""},{"$f":"IFERROR(SUBSTITUTE(INDEX(Data!$A456:$H456,,MATCH(FALSE,ISERROR(SEARCH(E$1&\"=\",Data!$A456:$H456)),0)),E$1&\"=\",\"\"),\"\")","v":""},{"$f":"IFERROR(SUBSTITUTE(INDEX(Data!$A456:$H456,,MATCH(FALSE,ISERROR(SEARCH(F$1&\"=\",Data!$A456:$H456)),0)),F$1&\"=\",\"\"),\"\")","v":""},{"$f":"IFERROR(SUBSTITUTE(INDEX(Data!$A456:$H456,,MATCH(FALSE,ISERROR(SEARCH(G$1&\"=\",Data!$A456:$H456)),0)),G$1&\"=\",\"\"),\"\")","v":""},{"$f":"IFERROR(SUBSTITUTE(INDEX(Data!$A456:$H456,,MATCH(FALSE,ISERROR(SEARCH(H$1&\"=\",Data!$A456:$H456)),0)),H$1&\"=\",\"\"),\"\")","v":""},{"$f":"IFERROR(SUBSTITUTE(INDEX(Data!$A456:$H456,,MATCH(FALSE,ISERROR(SEARCH(I$1&\"=\",Data!$A456:$H456)),0)),I$1&\"=\",\"\"),\"\")","v":""},{"$f":"IFERROR(SUBSTITUTE(INDEX(Data!$A456:$H456,,MATCH(FALSE,ISERROR(SEARCH(J$1&\"=\",Data!$A456:$H456)),0)),J$1&\"=\",\"\"),\"\")","v":""}]
[{"$f":"IFERROR(SUBSTITUTE(INDEX(Data!$A457:$H457,,MATCH(FALSE,ISERROR(SEARCH(A$1&\"=\",Data!$A457:$H457)),0)),A$1&\"=\",\"\"),\"\")","v":""},{"$f":"IFERROR(SUBSTITUTE(INDEX(Data!$A457:$H457,,MATCH(FALSE,ISERROR(SEARCH(B$1&\"=\",Data!$A457:$H457)),0)),B$1&\"=\",\"\"),\"\")","v":""},{"$f":"IFERROR(SUBSTITUTE(INDEX(Data!$A457:$H457,,MATCH(FALSE,ISERROR(SEARCH(C$1&\"=\",Data!$A457:$H457)),0)),C$1&\"=\",\"\"),\"\")","v":""},{"$f":"IFERROR(SUBSTITUTE(INDEX(Data!$A457:$H457,,MATCH(FALSE,ISERROR(SEARCH(D$1&\"=\",Data!$A457:$H457)),0)),D$1&\"=\",\"\"),\"\")","v":""},{"$f":"IFERROR(SUBSTITUTE(INDEX(Data!$A457:$H457,,MATCH(FALSE,ISERROR(SEARCH(E$1&\"=\",Data!$A457:$H457)),0)),E$1&\"=\",\"\"),\"\")","v":""},{"$f":"IFERROR(SUBSTITUTE(INDEX(Data!$A457:$H457,,MATCH(FALSE,ISERROR(SEARCH(F$1&\"=\",Data!$A457:$H457)),0)),F$1&\"=\",\"\"),\"\")","v":""},{"$f":"IFERROR(SUBSTITUTE(INDEX(Data!$A457:$H457,,MATCH(FALSE,ISERROR(SEARCH(G$1&\"=\",Data!$A457:$H457)),0)),G$1&\"=\",\"\"),\"\")","v":""},{"$f":"IFERROR(SUBSTITUTE(INDEX(Data!$A457:$H457,,MATCH(FALSE,ISERROR(SEARCH(H$1&\"=\",Data!$A457:$H457)),0)),H$1&\"=\",\"\"),\"\")","v":""},{"$f":"IFERROR(SUBSTITUTE(INDEX(Data!$A457:$H457,,MATCH(FALSE,ISERROR(SEARCH(I$1&\"=\",Data!$A457:$H457)),0)),I$1&\"=\",\"\"),\"\")","v":""},{"$f":"IFERROR(SUBSTITUTE(INDEX(Data!$A457:$H457,,MATCH(FALSE,ISERROR(SEARCH(J$1&\"=\",Data!$A457:$H457)),0)),J$1&\"=\",\"\"),\"\")","v":""}]
[{"$f":"IFERROR(SUBSTITUTE(INDEX(Data!$A458:$H458,,MATCH(FALSE,ISERROR(SEARCH(A$1&\"=\",Data!$A458:$H458)),0)),A$1&\"=\",\"\"),\"\")","v":""},{"$f":"IFERROR(SUBSTITUTE(INDEX(Data!$A458:$H458,,MATCH(FALSE,ISERROR(SEARCH(B$1&\"=\",Data!$A458:$H458)),0)),B$1&\"=\",\"\"),\"\")","v":""},{"$f":"IFERROR(SUBSTITUTE(INDEX(Data!$A458:$H458,,MATCH(FALSE,ISERROR(SEARCH(C$1&\"=\",Data!$A458:$H458)),0)),C$1&\"=\",\"\"),\"\")","v":""},{"$f":"IFERROR(SUBSTITUTE(INDEX(Data!$A458:$H458,,MATCH(FALSE,ISERROR(SEARCH(D$1&\"=\",Data!$A458:$H458)),0)),D$1&\"=\",\"\"),\"\")","v":""},{"$f":"IFERROR(SUBSTITUTE(INDEX(Data!$A458:$H458,,MATCH(FALSE,ISERROR(SEARCH(E$1&\"=\",Data!$A458:$H458)),0)),E$1&\"=\",\"\"),\"\")","v":""},{"$f":"IFERROR(SUBSTITUTE(INDEX(Data!$A458:$H458,,MATCH(FALSE,ISERROR(SEARCH(F$1&\"=\",Data!$A458:$H458)),0)),F$1&\"=\",\"\"),\"\")","v":""},{"$f":"IFERROR(SUBSTITUTE(INDEX(Data!$A458:$H458,,MATCH(FALSE,ISERROR(SEARCH(G$1&\"=\",Data!$A458:$H458)),0)),G$1&\"=\",\"\"),\"\")","v":""},{"$f":"IFERROR(SUBSTITUTE(INDEX(Data!$A458:$H458,,MATCH(FALSE,ISERROR(SEARCH(H$1&\"=\",Data!$A458:$H458)),0)),H$1&\"=\",\"\"),\"\")","v":""},{"$f":"IFERROR(SUBSTITUTE(INDEX(Data!$A458:$H458,,MATCH(FALSE,ISERROR(SEARCH(I$1&\"=\",Data!$A458:$H458)),0)),I$1&\"=\",\"\"),\"\")","v":""},{"$f":"IFERROR(SUBSTITUTE(INDEX(Data!$A458:$H458,,MATCH(FALSE,ISERROR(SEARCH(J$1&\"=\",Data!$A458:$H458)),0)),J$1&\"=\",\"\"),\"\")","v":""}]
[{"$f":"IFERROR(SUBSTITUTE(INDEX(Data!$A459:$H459,,MATCH(FALSE,ISERROR(SEARCH(A$1&\"=\",Data!$A459:$H459)),0)),A$1&\"=\",\"\"),\"\")","v":""},{"$f":"IFERROR(SUBSTITUTE(INDEX(Data!$A459:$H459,,MATCH(FALSE,ISERROR(SEARCH(B$1&\"=\",Data!$A459:$H459)),0)),B$1&\"=\",\"\"),\"\")","v":""},{"$f":"IFERROR(SUBSTITUTE(INDEX(Data!$A459:$H459,,MATCH(FALSE,ISERROR(SEARCH(C$1&\"=\",Data!$A459:$H459)),0)),C$1&\"=\",\"\"),\"\")","v":""},{"$f":"IFERROR(SUBSTITUTE(INDEX(Data!$A459:$H459,,MATCH(FALSE,ISERROR(SEARCH(D$1&\"=\",Data!$A459:$H459)),0)),D$1&\"=\",\"\"),\"\")","v":""},{"$f":"IFERROR(SUBSTITUTE(INDEX(Data!$A459:$H459,,MATCH(FALSE,ISERROR(SEARCH(E$1&\"=\",Data!$A459:$H459)),0)),E$1&\"=\",\"\"),\"\")","v":""},{"$f":"IFERROR(SUBSTITUTE(INDEX(Data!$A459:$H459,,MATCH(FALSE,ISERROR(SEARCH(F$1&\"=\",Data!$A459:$H459)),0)),F$1&\"=\",\"\"),\"\")","v":""},{"$f":"IFERROR(SUBSTITUTE(INDEX(Data!$A459:$H459,,MATCH(FALSE,ISERROR(SEARCH(G$1&\"=\",Data!$A459:$H459)),0)),G$1&\"=\",\"\"),\"\")","v":""},{"$f":"IFERROR(SUBSTITUTE(INDEX(Data!$A459:$H459,,MATCH(FALSE,ISERROR(SEARCH(H$1&\"=\",Data!$A459:$H459)),0)),H$1&\"=\",\"\"),\"\")","v":""},{"$f":"IFERROR(SUBSTITUTE(INDEX(Data!$A459:$H459,,MATCH(FALSE,ISERROR(SEARCH(I$1&\"=\",Data!$A459:$H459)),0)),I$1&\"=\",\"\"),\"\")","v":""},{"$f":"IFERROR(SUBSTITUTE(INDEX(Data!$A459:$H459,,MATCH(FALSE,ISERROR(SEARCH(J$1&\"=\",Data!$A459:$H459)),0)),J$1&\"=\",\"\"),\"\")","v":""}]
[{"$f":"IFERROR(SUBSTITUTE(INDEX(Data!$A460:$H460,,MATCH(FALSE,ISERROR(SEARCH(A$1&\"=\",Data!$A460:$H460)),0)),A$1&\"=\",\"\"),\"\")","v":""},{"$f":"IFERROR(SUBSTITUTE(INDEX(Data!$A460:$H460,,MATCH(FALSE,ISERROR(SEARCH(B$1&\"=\",Data!$A460:$H460)),0)),B$1&\"=\",\"\"),\"\")","v":""},{"$f":"IFERROR(SUBSTITUTE(INDEX(Data!$A460:$H460,,MATCH(FALSE,ISERROR(SEARCH(C$1&\"=\",Data!$A460:$H460)),0)),C$1&\"=\",\"\"),\"\")","v":""},{"$f":"IFERROR(SUBSTITUTE(INDEX(Data!$A460:$H460,,MATCH(FALSE,ISERROR(SEARCH(D$1&\"=\",Data!$A460:$H460)),0)),D$1&\"=\",\"\"),\"\")","v":""},{"$f":"IFERROR(SUBSTITUTE(INDEX(Data!$A460:$H460,,MATCH(FALSE,ISERROR(SEARCH(E$1&\"=\",Data!$A460:$H460)),0)),E$1&\"=\",\"\"),\"\")","v":""},{"$f":"IFERROR(SUBSTITUTE(INDEX(Data!$A460:$H460,,MATCH(FALSE,ISERROR(SEARCH(F$1&\"=\",Data!$A460:$H460)),0)),F$1&\"=\",\"\"),\"\")","v":""},{"$f":"IFERROR(SUBSTITUTE(INDEX(Data!$A460:$H460,,MATCH(FALSE,ISERROR(SEARCH(G$1&\"=\",Data!$A460:$H460)),0)),G$1&\"=\",\"\"),\"\")","v":""},{"$f":"IFERROR(SUBSTITUTE(INDEX(Data!$A460:$H460,,MATCH(FALSE,ISERROR(SEARCH(H$1&\"=\",Data!$A460:$H460)),0)),H$1&\"=\",\"\"),\"\")","v":""},{"$f":"IFERROR(SUBSTITUTE(INDEX(Data!$A460:$H460,,MATCH(FALSE,ISERROR(SEARCH(I$1&\"=\",Data!$A460:$H460)),0)),I$1&\"=\",\"\"),\"\")","v":""},{"$f":"IFERROR(SUBSTITUTE(INDEX(Data!$A460:$H460,,MATCH(FALSE,ISERROR(SEARCH(J$1&\"=\",Data!$A460:$H460)),0)),J$1&\"=\",\"\"),\"\")","v":""}]
[{"$f":"IFERROR(SUBSTITUTE(INDEX(Data!$A461:$H461,,MATCH(FALSE,ISERROR(SEARCH(A$1&\"=\",Data!$A461:$H461)),0)),A$1&\"=\",\"\"),\"\")","v":""},{"$f":"IFERROR(SUBSTITUTE(INDEX(Data!$A461:$H461,,MATCH(FALSE,ISERROR(SEARCH(B$1&\"=\",Data!$A461:$H461)),0)),B$1&\"=\",\"\"),\"\")","v":""},{"$f":"IFERROR(SUBSTITUTE(INDEX(Data!$A461:$H461,,MATCH(FALSE,ISERROR(SEARCH(C$1&\"=\",Data!$A461:$H461)),0)),C$1&\"=\",\"\"),\"\")","v":""},{"$f":"IFERROR(SUBSTITUTE(INDEX(Data!$A461:$H461,,MATCH(FALSE,ISERROR(SEARCH(D$1&\"=\",Data!$A461:$H461)),0)),D$1&\"=\",\"\"),\"\")","v":""},{"$f":"IFERROR(SUBSTITUTE(INDEX(Data!$A461:$H461,,MATCH(FALSE,ISERROR(SEARCH(E$1&\"=\",Data!$A461:$H461)),0)),E$1&\"=\",\"\"),\"\")","v":""},{"$f":"IFERROR(SUBSTITUTE(INDEX(Data!$A461:$H461,,MATCH(FALSE,ISERROR(SEARCH(F$1&\"=\",Data!$A461:$H461)),0)),F$1&\"=\",\"\"),\"\")","v":""},{"$f":"IFERROR(SUBSTITUTE(INDEX(Data!$A461:$H461,,MATCH(FALSE,ISERROR(SEARCH(G$1&\"=\",Data!$A461:$H461)),0)),G$1&\"=\",\"\"),\"\")","v":""},{"$f":"IFERROR(SUBSTITUTE(INDEX(Data!$A461:$H461,,MATCH(FALSE,ISERROR(SEARCH(H$1&\"=\",Data!$A461:$H461)),0)),H$1&\"=\",\"\"),\"\")","v":""},{"$f":"IFERROR(SUBSTITUTE(INDEX(Data!$A461:$H461,,MATCH(FALSE,ISERROR(SEARCH(I$1&\"=\",Data!$A461:$H461)),0)),I$1&\"=\",\"\"),\"\")","v":""},{"$f":"IFERROR(SUBSTITUTE(INDEX(Data!$A461:$H461,,MATCH(FALSE,ISERROR(SEARCH(J$1&\"=\",Data!$A461:$H461)),0)),J$1&\"=\",\"\"),\"\")","v":""}]
[{"$f":"IFERROR(SUBSTITUTE(INDEX(Data!$A462:$H462,,MATCH(FALSE,ISERROR(SEARCH(A$1&\"=\",Data!$A462:$H462)),0)),A$1&\"=\",\"\"),\"\")","v":""},{"$f":"IFERROR(SUBSTITUTE(INDEX(Data!$A462:$H462,,MATCH(FALSE,ISERROR(SEARCH(B$1&\"=\",Data!$A462:$H462)),0)),B$1&\"=\",\"\"),\"\")","v":""},{"$f":"IFERROR(SUBSTITUTE(INDEX(Data!$A462:$H462,,MATCH(FALSE,ISERROR(SEARCH(C$1&\"=\",Data!$A462:$H462)),0)),C$1&\"=\",\"\"),\"\")","v":""},{"$f":"IFERROR(SUBSTITUTE(INDEX(Data!$A462:$H462,,MATCH(FALSE,ISERROR(SEARCH(D$1&\"=\",Data!$A462:$H462)),0)),D$1&\"=\",\"\"),\"\")","v":""},{"$f":"IFERROR(SUBSTITUTE(INDEX(Data!$A462:$H462,,MATCH(FALSE,ISERROR(SEARCH(E$1&\"=\",Data!$A462:$H462)),0)),E$1&\"=\",\"\"),\"\")","v":""},{"$f":"IFERROR(SUBSTITUTE(INDEX(Data!$A462:$H462,,MATCH(FALSE,ISERROR(SEARCH(F$1&\"=\",Data!$A462:$H462)),0)),F$1&\"=\",\"\"),\"\")","v":""},{"$f":"IFERROR(SUBSTITUTE(INDEX(Data!$A462:$H462,,MATCH(FALSE,ISERROR(SEARCH(G$1&\"=\",Data!$A462:$H462)),0)),G$1&\"=\",\"\"),\"\")","v":""},{"$f":"IFERROR(SUBSTITUTE(INDEX(Data!$A462:$H462,,MATCH(FALSE,ISERROR(SEARCH(H$1&\"=\",Data!$A462:$H462)),0)),H$1&\"=\",\"\"),\"\")","v":""},{"$f":"IFERROR(SUBSTITUTE(INDEX(Data!$A462:$H462,,MATCH(FALSE,ISERROR(SEARCH(I$1&\"=\",Data!$A462:$H462)),0)),I$1&\"=\",\"\"),\"\")","v":""},{"$f":"IFERROR(SUBSTITUTE(INDEX(Data!$A462:$H462,,MATCH(FALSE,ISERROR(SEARCH(J$1&\"=\",Data!$A462:$H462)),0)),J$1&\"=\",\"\"),\"\")","v":""}]
[{"$f":"IFERROR(SUBSTITUTE(INDEX(Data!$A463:$H463,,MATCH(FALSE,ISERROR(SEARCH(A$1&\"=\",Data!$A463:$H463)),0)),A$1&\"=\",\"\"),\"\")","v":""},{"$f":"IFERROR(SUBSTITUTE(INDEX(Data!$A463:$H463,,MATCH(FALSE,ISERROR(SEARCH(B$1&\"=\",Data!$A463:$H463)),0)),B$1&\"=\",\"\"),\"\")","v":""},{"$f":"IFERROR(SUBSTITUTE(INDEX(Data!$A463:$H463,,MATCH(FALSE,ISERROR(SEARCH(C$1&\"=\",Data!$A463:$H463)),0)),C$1&\"=\",\"\"),\"\")","v":""},{"$f":"IFERROR(SUBSTITUTE(INDEX(Data!$A463:$H463,,MATCH(FALSE,ISERROR(SEARCH(D$1&\"=\",Data!$A463:$H463)),0)),D$1&\"=\",\"\"),\"\")","v":""},{"$f":"IFERROR(SUBSTITUTE(INDEX(Data!$A463:$H463,,MATCH(FALSE,ISERROR(SEARCH(E$1&\"=\",Data!$A463:$H463)),0)),E$1&\"=\",\"\"),\"\")","v":""},{"$f":"IFERROR(SUBSTITUTE(INDEX(Data!$A463:$H463,,MATCH(FALSE,ISERROR(SEARCH(F$1&\"=\",Data!$A463:$H463)),0)),F$1&\"=\",\"\"),\"\")","v":""},{"$f":"IFERROR(SUBSTITUTE(INDEX(Data!$A463:$H463,,MATCH(FALSE,ISERROR(SEARCH(G$1&\"=\",Data!$A463:$H463)),0)),G$1&\"=\",\"\"),\"\")","v":""},{"$f":"IFERROR(SUBSTITUTE(INDEX(Data!$A463:$H463,,MATCH(FALSE,ISERROR(SEARCH(H$1&\"=\",Data!$A463:$H463)),0)),H$1&\"=\",\"\"),\"\")","v":""},{"$f":"IFERROR(SUBSTITUTE(INDEX(Data!$A463:$H463,,MATCH(FALSE,ISERROR(SEARCH(I$1&\"=\",Data!$A463:$H463)),0)),I$1&\"=\",\"\"),\"\")","v":""},{"$f":"IFERROR(SUBSTITUTE(INDEX(Data!$A463:$H463,,MATCH(FALSE,ISERROR(SEARCH(J$1&\"=\",Data!$A463:$H463)),0)),J$1&\"=\",\"\"),\"\")","v":""}]
[{"$f":"IFERROR(SUBSTITUTE(INDEX(Data!$A464:$H464,,MATCH(FALSE,ISERROR(SEARCH(A$1&\"=\",Data!$A464:$H464)),0)),A$1&\"=\",\"\"),\"\")","v":""},{"$f":"IFERROR(SUBSTITUTE(INDEX(Data!$A464:$H464,,MATCH(FALSE,ISERROR(SEARCH(B$1&\"=\",Data!$A464:$H464)),0)),B$1&\"=\",\"\"),\"\")","v":""},{"$f":"IFERROR(SUBSTITUTE(INDEX(Data!$A464:$H464,,MATCH(FALSE,ISERROR(SEARCH(C$1&\"=\",Data!$A464:$H464)),0)),C$1&\"=\",\"\"),\"\")","v":""},{"$f":"IFERROR(SUBSTITUTE(INDEX(Data!$A464:$H464,,MATCH(FALSE,ISERROR(SEARCH(D$1&\"=\",Data!$A464:$H464)),0)),D$1&\"=\",\"\"),\"\")","v":""},{"$f":"IFERROR(SUBSTITUTE(INDEX(Data!$A464:$H464,,MATCH(FALSE,ISERROR(SEARCH(E$1&\"=\",Data!$A464:$H464)),0)),E$1&\"=\",\"\"),\"\")","v":""},{"$f":"IFERROR(SUBSTITUTE(INDEX(Data!$A464:$H464,,MATCH(FALSE,ISERROR(SEARCH(F$1&\"=\",Data!$A464:$H464)),0)),F$1&\"=\",\"\"),\"\")","v":""},{"$f":"IFERROR(SUBSTITUTE(INDEX(Data!$A464:$H464,,MATCH(FALSE,ISERROR(SEARCH(G$1&\"=\",Data!$A464:$H464)),0)),G$1&\"=\",\"\"),\"\")","v":""},{"$f":"IFERROR(SUBSTITUTE(INDEX(Data!$A464:$H464,,MATCH(FALSE,ISERROR(SEARCH(H$1&\"=\",Data!$A464:$H464)),0)),H$1&\"=\",\"\"),\"\")","v":""},{"$f":"IFERROR(SUBSTITUTE(INDEX(Data!$A464:$H464,,MATCH(FALSE,ISERROR(SEARCH(I$1&\"=\",Data!$A464:$H464)),0)),I$1&\"=\",\"\"),\"\")","v":""},{"$f":"IFERROR(SUBSTITUTE(INDEX(Data!$A464:$H464,,MATCH(FALSE,ISERROR(SEARCH(J$1&\"=\",Data!$A464:$H464)),0)),J$1&\"=\",\"\"),\"\")","v":""}]
[{"$f":"IFERROR(SUBSTITUTE(INDEX(Data!$A465:$H465,,MATCH(FALSE,ISERROR(SEARCH(A$1&\"=\",Data!$A465:$H465)),0)),A$1&\"=\",\"\"),\"\")","v":""},{"$f":"IFERROR(SUBSTITUTE(INDEX(Data!$A465:$H465,,MATCH(FALSE,ISERROR(SEARCH(B$1&\"=\",Data!$A465:$H465)),0)),B$1&\"=\",\"\"),\"\")","v":""},{"$f":"IFERROR(SUBSTITUTE(INDEX(Data!$A465:$H465,,MATCH(FALSE,ISERROR(SEARCH(C$1&\"=\",Data!$A465:$H465)),0)),C$1&\"=\",\"\"),\"\")","v":""},{"$f":"IFERROR(SUBSTITUTE(INDEX(Data!$A465:$H465,,MATCH(FALSE,ISERROR(SEARCH(D$1&\"=\",Data!$A465:$H465)),0)),D$1&\"=\",\"\"),\"\")","v":""},{"$f":"IFERROR(SUBSTITUTE(INDEX(Data!$A465:$H465,,MATCH(FALSE,ISERROR(SEARCH(E$1&\"=\",Data!$A465:$H465)),0)),E$1&\"=\",\"\"),\"\")","v":""},{"$f":"IFERROR(SUBSTITUTE(INDEX(Data!$A465:$H465,,MATCH(FALSE,ISERROR(SEARCH(F$1&\"=\",Data!$A465:$H465)),0)),F$1&\"=\",\"\"),\"\")","v":""},{"$f":"IFERROR(SUBSTITUTE(INDEX(Data!$A465:$H465,,MATCH(FALSE,ISERROR(SEARCH(G$1&\"=\",Data!$A465:$H465)),0)),G$1&\"=\",\"\"),\"\")","v":""},{"$f":"IFERROR(SUBSTITUTE(INDEX(Data!$A465:$H465,,MATCH(FALSE,ISERROR(SEARCH(H$1&\"=\",Data!$A465:$H465)),0)),H$1&\"=\",\"\"),\"\")","v":""},{"$f":"IFERROR(SUBSTITUTE(INDEX(Data!$A465:$H465,,MATCH(FALSE,ISERROR(SEARCH(I$1&\"=\",Data!$A465:$H465)),0)),I$1&\"=\",\"\"),\"\")","v":""},{"$f":"IFERROR(SUBSTITUTE(INDEX(Data!$A465:$H465,,MATCH(FALSE,ISERROR(SEARCH(J$1&\"=\",Data!$A465:$H465)),0)),J$1&\"=\",\"\"),\"\")","v":""}]
[{"$f":"IFERROR(SUBSTITUTE(INDEX(Data!$A466:$H466,,MATCH(FALSE,ISERROR(SEARCH(A$1&\"=\",Data!$A466:$H466)),0)),A$1&\"=\",\"\"),\"\")","v":""},{"$f":"IFERROR(SUBSTITUTE(INDEX(Data!$A466:$H466,,MATCH(FALSE,ISERROR(SEARCH(B$1&\"=\",Data!$A466:$H466)),0)),B$1&\"=\",\"\"),\"\")","v":""},{"$f":"IFERROR(SUBSTITUTE(INDEX(Data!$A466:$H466,,MATCH(FALSE,ISERROR(SEARCH(C$1&\"=\",Data!$A466:$H466)),0)),C$1&\"=\",\"\"),\"\")","v":""},{"$f":"IFERROR(SUBSTITUTE(INDEX(Data!$A466:$H466,,MATCH(FALSE,ISERROR(SEARCH(D$1&\"=\",Data!$A466:$H466)),0)),D$1&\"=\",\"\"),\"\")","v":""},{"$f":"IFERROR(SUBSTITUTE(INDEX(Data!$A466:$H466,,MATCH(FALSE,ISERROR(SEARCH(E$1&\"=\",Data!$A466:$H466)),0)),E$1&\"=\",\"\"),\"\")","v":""},{"$f":"IFERROR(SUBSTITUTE(INDEX(Data!$A466:$H466,,MATCH(FALSE,ISERROR(SEARCH(F$1&\"=\",Data!$A466:$H466)),0)),F$1&\"=\",\"\"),\"\")","v":""},{"$f":"IFERROR(SUBSTITUTE(INDEX(Data!$A466:$H466,,MATCH(FALSE,ISERROR(SEARCH(G$1&\"=\",Data!$A466:$H466)),0)),G$1&\"=\",\"\"),\"\")","v":""},{"$f":"IFERROR(SUBSTITUTE(INDEX(Data!$A466:$H466,,MATCH(FALSE,ISERROR(SEARCH(H$1&\"=\",Data!$A466:$H466)),0)),H$1&\"=\",\"\"),\"\")","v":""},{"$f":"IFERROR(SUBSTITUTE(INDEX(Data!$A466:$H466,,MATCH(FALSE,ISERROR(SEARCH(I$1&\"=\",Data!$A466:$H466)),0)),I$1&\"=\",\"\"),\"\")","v":""},{"$f":"IFERROR(SUBSTITUTE(INDEX(Data!$A466:$H466,,MATCH(FALSE,ISERROR(SEARCH(J$1&\"=\",Data!$A466:$H466)),0)),J$1&\"=\",\"\"),\"\")","v":""}]
[{"$f":"IFERROR(SUBSTITUTE(INDEX(Data!$A467:$H467,,MATCH(FALSE,ISERROR(SEARCH(A$1&\"=\",Data!$A467:$H467)),0)),A$1&\"=\",\"\"),\"\")","v":""},{"$f":"IFERROR(SUBSTITUTE(INDEX(Data!$A467:$H467,,MATCH(FALSE,ISERROR(SEARCH(B$1&\"=\",Data!$A467:$H467)),0)),B$1&\"=\",\"\"),\"\")","v":""},{"$f":"IFERROR(SUBSTITUTE(INDEX(Data!$A467:$H467,,MATCH(FALSE,ISERROR(SEARCH(C$1&\"=\",Data!$A467:$H467)),0)),C$1&\"=\",\"\"),\"\")","v":""},{"$f":"IFERROR(SUBSTITUTE(INDEX(Data!$A467:$H467,,MATCH(FALSE,ISERROR(SEARCH(D$1&\"=\",Data!$A467:$H467)),0)),D$1&\"=\",\"\"),\"\")","v":""},{"$f":"IFERROR(SUBSTITUTE(INDEX(Data!$A467:$H467,,MATCH(FALSE,ISERROR(SEARCH(E$1&\"=\",Data!$A467:$H467)),0)),E$1&\"=\",\"\"),\"\")","v":""},{"$f":"IFERROR(SUBSTITUTE(INDEX(Data!$A467:$H467,,MATCH(FALSE,ISERROR(SEARCH(F$1&\"=\",Data!$A467:$H467)),0)),F$1&\"=\",\"\"),\"\")","v":""},{"$f":"IFERROR(SUBSTITUTE(INDEX(Data!$A467:$H467,,MATCH(FALSE,ISERROR(SEARCH(G$1&\"=\",Data!$A467:$H467)),0)),G$1&\"=\",\"\"),\"\")","v":""},{"$f":"IFERROR(SUBSTITUTE(INDEX(Data!$A467:$H467,,MATCH(FALSE,ISERROR(SEARCH(H$1&\"=\",Data!$A467:$H467)),0)),H$1&\"=\",\"\"),\"\")","v":""},{"$f":"IFERROR(SUBSTITUTE(INDEX(Data!$A467:$H467,,MATCH(FALSE,ISERROR(SEARCH(I$1&\"=\",Data!$A467:$H467)),0)),I$1&\"=\",\"\"),\"\")","v":""},{"$f":"IFERROR(SUBSTITUTE(INDEX(Data!$A467:$H467,,MATCH(FALSE,ISERROR(SEARCH(J$1&\"=\",Data!$A467:$H467)),0)),J$1&\"=\",\"\"),\"\")","v":""}]
[{"$f":"IFERROR(SUBSTITUTE(INDEX(Data!$A468:$H468,,MATCH(FALSE,ISERROR(SEARCH(A$1&\"=\",Data!$A468:$H468)),0)),A$1&\"=\",\"\"),\"\")","v":""},{"$f":"IFERROR(SUBSTITUTE(INDEX(Data!$A468:$H468,,MATCH(FALSE,ISERROR(SEARCH(B$1&\"=\",Data!$A468:$H468)),0)),B$1&\"=\",\"\"),\"\")","v":""},{"$f":"IFERROR(SUBSTITUTE(INDEX(Data!$A468:$H468,,MATCH(FALSE,ISERROR(SEARCH(C$1&\"=\",Data!$A468:$H468)),0)),C$1&\"=\",\"\"),\"\")","v":""},{"$f":"IFERROR(SUBSTITUTE(INDEX(Data!$A468:$H468,,MATCH(FALSE,ISERROR(SEARCH(D$1&\"=\",Data!$A468:$H468)),0)),D$1&\"=\",\"\"),\"\")","v":""},{"$f":"IFERROR(SUBSTITUTE(INDEX(Data!$A468:$H468,,MATCH(FALSE,ISERROR(SEARCH(E$1&\"=\",Data!$A468:$H468)),0)),E$1&\"=\",\"\"),\"\")","v":""},{"$f":"IFERROR(SUBSTITUTE(INDEX(Data!$A468:$H468,,MATCH(FALSE,ISERROR(SEARCH(F$1&\"=\",Data!$A468:$H468)),0)),F$1&\"=\",\"\"),\"\")","v":""},{"$f":"IFERROR(SUBSTITUTE(INDEX(Data!$A468:$H468,,MATCH(FALSE,ISERROR(SEARCH(G$1&\"=\",Data!$A468:$H468)),0)),G$1&\"=\",\"\"),\"\")","v":""},{"$f":"IFERROR(SUBSTITUTE(INDEX(Data!$A468:$H468,,MATCH(FALSE,ISERROR(SEARCH(H$1&\"=\",Data!$A468:$H468)),0)),H$1&\"=\",\"\"),\"\")","v":""},{"$f":"IFERROR(SUBSTITUTE(INDEX(Data!$A468:$H468,,MATCH(FALSE,ISERROR(SEARCH(I$1&\"=\",Data!$A468:$H468)),0)),I$1&\"=\",\"\"),\"\")","v":""},{"$f":"IFERROR(SUBSTITUTE(INDEX(Data!$A468:$H468,,MATCH(FALSE,ISERROR(SEARCH(J$1&\"=\",Data!$A468:$H468)),0)),J$1&\"=\",\"\"),\"\")","v":""}]
[{"$f":"IFERROR(SUBSTITUTE(INDEX(Data!$A469:$H469,,MATCH(FALSE,ISERROR(SEARCH(A$1&\"=\",Data!$A469:$H469)),0)),A$1&\"=\",\"\"),\"\")","v":""},{"$f":"IFERROR(SUBSTITUTE(INDEX(Data!$A469:$H469,,MATCH(FALSE,ISERROR(SEARCH(B$1&\"=\",Data!$A469:$H469)),0)),B$1&\"=\",\"\"),\"\")","v":""},{"$f":"IFERROR(SUBSTITUTE(INDEX(Data!$A469:$H469,,MATCH(FALSE,ISERROR(SEARCH(C$1&\"=\",Data!$A469:$H469)),0)),C$1&\"=\",\"\"),\"\")","v":""},{"$f":"IFERROR(SUBSTITUTE(INDEX(Data!$A469:$H469,,MATCH(FALSE,ISERROR(SEARCH(D$1&\"=\",Data!$A469:$H469)),0)),D$1&\"=\",\"\"),\"\")","v":""},{"$f":"IFERROR(SUBSTITUTE(INDEX(Data!$A469:$H469,,MATCH(FALSE,ISERROR(SEARCH(E$1&\"=\",Data!$A469:$H469)),0)),E$1&\"=\",\"\"),\"\")","v":""},{"$f":"IFERROR(SUBSTITUTE(INDEX(Data!$A469:$H469,,MATCH(FALSE,ISERROR(SEARCH(F$1&\"=\",Data!$A469:$H469)),0)),F$1&\"=\",\"\"),\"\")","v":""},{"$f":"IFERROR(SUBSTITUTE(INDEX(Data!$A469:$H469,,MATCH(FALSE,ISERROR(SEARCH(G$1&\"=\",Data!$A469:$H469)),0)),G$1&\"=\",\"\"),\"\")","v":""},{"$f":"IFERROR(SUBSTITUTE(INDEX(Data!$A469:$H469,,MATCH(FALSE,ISERROR(SEARCH(H$1&\"=\",Data!$A469:$H469)),0)),H$1&\"=\",\"\"),\"\")","v":""},{"$f":"IFERROR(SUBSTITUTE(INDEX(Data!$A469:$H469,,MATCH(FALSE,ISERROR(SEARCH(I$1&\"=\",Data!$A469:$H469)),0)),I$1&\"=\",\"\"),\"\")","v":""},{"$f":"IFERROR(SUBSTITUTE(INDEX(Data!$A469:$H469,,MATCH(FALSE,ISERROR(SEARCH(J$1&\"=\",Data!$A469:$H469)),0)),J$1&\"=\",\"\"),\"\")","v":""}]
[{"$f":"IFERROR(SUBSTITUTE(INDEX(Data!$A470:$H470,,MATCH(FALSE,ISERROR(SEARCH(A$1&\"=\",Data!$A470:$H470)),0)),A$1&\"=\",\"\"),\"\")","v":""},{"$f":"IFERROR(SUBSTITUTE(INDEX(Data!$A470:$H470,,MATCH(FALSE,ISERROR(SEARCH(B$1&\"=\",Data!$A470:$H470)),0)),B$1&\"=\",\"\"),\"\")","v":""},{"$f":"IFERROR(SUBSTITUTE(INDEX(Data!$A470:$H470,,MATCH(FALSE,ISERROR(SEARCH(C$1&\"=\",Data!$A470:$H470)),0)),C$1&\"=\",\"\"),\"\")","v":""},{"$f":"IFERROR(SUBSTITUTE(INDEX(Data!$A470:$H470,,MATCH(FALSE,ISERROR(SEARCH(D$1&\"=\",Data!$A470:$H470)),0)),D$1&\"=\",\"\"),\"\")","v":""},{"$f":"IFERROR(SUBSTITUTE(INDEX(Data!$A470:$H470,,MATCH(FALSE,ISERROR(SEARCH(E$1&\"=\",Data!$A470:$H470)),0)),E$1&\"=\",\"\"),\"\")","v":""},{"$f":"IFERROR(SUBSTITUTE(INDEX(Data!$A470:$H470,,MATCH(FALSE,ISERROR(SEARCH(F$1&\"=\",Data!$A470:$H470)),0)),F$1&\"=\",\"\"),\"\")","v":""},{"$f":"IFERROR(SUBSTITUTE(INDEX(Data!$A470:$H470,,MATCH(FALSE,ISERROR(SEARCH(G$1&\"=\",Data!$A470:$H470)),0)),G$1&\"=\",\"\"),\"\")","v":""},{"$f":"IFERROR(SUBSTITUTE(INDEX(Data!$A470:$H470,,MATCH(FALSE,ISERROR(SEARCH(H$1&\"=\",Data!$A470:$H470)),0)),H$1&\"=\",\"\"),\"\")","v":""},{"$f":"IFERROR(SUBSTITUTE(INDEX(Data!$A470:$H470,,MATCH(FALSE,ISERROR(SEARCH(I$1&\"=\",Data!$A470:$H470)),0)),I$1&\"=\",\"\"),\"\")","v":""},{"$f":"IFERROR(SUBSTITUTE(INDEX(Data!$A470:$H470,,MATCH(FALSE,ISERROR(SEARCH(J$1&\"=\",Data!$A470:$H470)),0)),J$1&\"=\",\"\"),\"\")","v":""}]
[{"$f":"IFERROR(SUBSTITUTE(INDEX(Data!$A471:$H471,,MATCH(FALSE,ISERROR(SEARCH(A$1&\"=\",Data!$A471:$H471)),0)),A$1&\"=\",\"\"),\"\")","v":""},{"$f":"IFERROR(SUBSTITUTE(INDEX(Data!$A471:$H471,,MATCH(FALSE,ISERROR(SEARCH(B$1&\"=\",Data!$A471:$H471)),0)),B$1&\"=\",\"\"),\"\")","v":""},{"$f":"IFERROR(SUBSTITUTE(INDEX(Data!$A471:$H471,,MATCH(FALSE,ISERROR(SEARCH(C$1&\"=\",Data!$A471:$H471)),0)),C$1&\"=\",\"\"),\"\")","v":""},{"$f":"IFERROR(SUBSTITUTE(INDEX(Data!$A471:$H471,,MATCH(FALSE,ISERROR(SEARCH(D$1&\"=\",Data!$A471:$H471)),0)),D$1&\"=\",\"\"),\"\")","v":""},{"$f":"IFERROR(SUBSTITUTE(INDEX(Data!$A471:$H471,,MATCH(FALSE,ISERROR(SEARCH(E$1&\"=\",Data!$A471:$H471)),0)),E$1&\"=\",\"\"),\"\")","v":""},{"$f":"IFERROR(SUBSTITUTE(INDEX(Data!$A471:$H471,,MATCH(FALSE,ISERROR(SEARCH(F$1&\"=\",Data!$A471:$H471)),0)),F$1&\"=\",\"\"),\"\")","v":""},{"$f":"IFERROR(SUBSTITUTE(INDEX(Data!$A471:$H471,,MATCH(FALSE,ISERROR(SEARCH(G$1&\"=\",Data!$A471:$H471)),0)),G$1&\"=\",\"\"),\"\")","v":""},{"$f":"IFERROR(SUBSTITUTE(INDEX(Data!$A471:$H471,,MATCH(FALSE,ISERROR(SEARCH(H$1&\"=\",Data!$A471:$H471)),0)),H$1&\"=\",\"\"),\"\")","v":""},{"$f":"IFERROR(SUBSTITUTE(INDEX(Data!$A471:$H471,,MATCH(FALSE,ISERROR(SEARCH(I$1&\"=\",Data!$A471:$H471)),0)),I$1&\"=\",\"\"),\"\")","v":""},{"$f":"IFERROR(SUBSTITUTE(INDEX(Data!$A471:$H471,,MATCH(FALSE,ISERROR(SEARCH(J$1&\"=\",Data!$A471:$H471)),0)),J$1&\"=\",\"\"),\"\")","v":""}]
[{"$f":"IFERROR(SUBSTITUTE(INDEX(Data!$A472:$H472,,MATCH(FALSE,ISERROR(SEARCH(A$1&\"=\",Data!$A472:$H472)),0)),A$1&\"=\",\"\"),\"\")","v":""},{"$f":"IFERROR(SUBSTITUTE(INDEX(Data!$A472:$H472,,MATCH(FALSE,ISERROR(SEARCH(B$1&\"=\",Data!$A472:$H472)),0)),B$1&\"=\",\"\"),\"\")","v":""},{"$f":"IFERROR(SUBSTITUTE(INDEX(Data!$A472:$H472,,MATCH(FALSE,ISERROR(SEARCH(C$1&\"=\",Data!$A472:$H472)),0)),C$1&\"=\",\"\"),\"\")","v":""},{"$f":"IFERROR(SUBSTITUTE(INDEX(Data!$A472:$H472,,MATCH(FALSE,ISERROR(SEARCH(D$1&\"=\",Data!$A472:$H472)),0)),D$1&\"=\",\"\"),\"\")","v":""},{"$f":"IFERROR(SUBSTITUTE(INDEX(Data!$A472:$H472,,MATCH(FALSE,ISERROR(SEARCH(E$1&\"=\",Data!$A472:$H472)),0)),E$1&\"=\",\"\"),\"\")","v":""},{"$f":"IFERROR(SUBSTITUTE(INDEX(Data!$A472:$H472,,MATCH(FALSE,ISERROR(SEARCH(F$1&\"=\",Data!$A472:$H472)),0)),F$1&\"=\",\"\"),\"\")","v":""},{"$f":"IFERROR(SUBSTITUTE(INDEX(Data!$A472:$H472,,MATCH(FALSE,ISERROR(SEARCH(G$1&\"=\",Data!$A472:$H472)),0)),G$1&\"=\",\"\"),\"\")","v":""},{"$f":"IFERROR(SUBSTITUTE(INDEX(Data!$A472:$H472,,MATCH(FALSE,ISERROR(SEARCH(H$1&\"=\",Data!$A472:$H472)),0)),H$1&\"=\",\"\"),\"\")","v":""},{"$f":"IFERROR(SUBSTITUTE(INDEX(Data!$A472:$H472,,MATCH(FALSE,ISERROR(SEARCH(I$1&\"=\",Data!$A472:$H472)),0)),I$1&\"=\",\"\"),\"\")","v":""},{"$f":"IFERROR(SUBSTITUTE(INDEX(Data!$A472:$H472,,MATCH(FALSE,ISERROR(SEARCH(J$1&\"=\",Data!$A472:$H472)),0)),J$1&\"=\",\"\"),\"\")","v":""}]
[{"$f":"IFERROR(SUBSTITUTE(INDEX(Data!$A473:$H473,,MATCH(FALSE,ISERROR(SEARCH(A$1&\"=\",Data!$A473:$H473)),0)),A$1&\"=\",\"\"),\"\")","v":""},{"$f":"IFERROR(SUBSTITUTE(INDEX(Data!$A473:$H473,,MATCH(FALSE,ISERROR(SEARCH(B$1&\"=\",Data!$A473:$H473)),0)),B$1&\"=\",\"\"),\"\")","v":""},{"$f":"IFERROR(SUBSTITUTE(INDEX(Data!$A473:$H473,,MATCH(FALSE,ISERROR(SEARCH(C$1&\"=\",Data!$A473:$H473)),0)),C$1&\"=\",\"\"),\"\")","v":""},{"$f":"IFERROR(SUBSTITUTE(INDEX(Data!$A473:$H473,,MATCH(FALSE,ISERROR(SEARCH(D$1&\"=\",Data!$A473:$H473)),0)),D$1&\"=\",\"\"),\"\")","v":""},{"$f":"IFERROR(SUBSTITUTE(INDEX(Data!$A473:$H473,,MATCH(FALSE,ISERROR(SEARCH(E$1&\"=\",Data!$A473:$H473)),0)),E$1&\"=\",\"\"),\"\")","v":""},{"$f":"IFERROR(SUBSTITUTE(INDEX(Data!$A473:$H473,,MATCH(FALSE,ISERROR(SEARCH(F$1&\"=\",Data!$A473:$H473)),0)),F$1&\"=\",\"\"),\"\")","v":""},{"$f":"IFERROR(SUBSTITUTE(INDEX(Data!$A473:$H473,,MATCH(FALSE,ISERROR(SEARCH(G$1&\"=\",Data!$A473:$H473)),0)),G$1&\"=\",\"\"),\"\")","v":""},{"$f":"IFERROR(SUBSTITUTE(INDEX(Data!$A473:$H473,,MATCH(FALSE,ISERROR(SEARCH(H$1&\"=\",Data!$A473:$H473)),0)),H$1&\"=\",\"\"),\"\")","v":""},{"$f":"IFERROR(SUBSTITUTE(INDEX(Data!$A473:$H473,,MATCH(FALSE,ISERROR(SEARCH(I$1&\"=\",Data!$A473:$H473)),0)),I$1&\"=\",\"\"),\"\")","v":""},{"$f":"IFERROR(SUBSTITUTE(INDEX(Data!$A473:$H473,,MATCH(FALSE,ISERROR(SEARCH(J$1&\"=\",Data!$A473:$H473)),0)),J$1&\"=\",\"\"),\"\")","v":""}]
[{"$f":"IFERROR(SUBSTITUTE(INDEX(Data!$A474:$H474,,MATCH(FALSE,ISERROR(SEARCH(A$1&\"=\",Data!$A474:$H474)),0)),A$1&\"=\",\"\"),\"\")","v":""},{"$f":"IFERROR(SUBSTITUTE(INDEX(Data!$A474:$H474,,MATCH(FALSE,ISERROR(SEARCH(B$1&\"=\",Data!$A474:$H474)),0)),B$1&\"=\",\"\"),\"\")","v":""},{"$f":"IFERROR(SUBSTITUTE(INDEX(Data!$A474:$H474,,MATCH(FALSE,ISERROR(SEARCH(C$1&\"=\",Data!$A474:$H474)),0)),C$1&\"=\",\"\"),\"\")","v":""},{"$f":"IFERROR(SUBSTITUTE(INDEX(Data!$A474:$H474,,MATCH(FALSE,ISERROR(SEARCH(D$1&\"=\",Data!$A474:$H474)),0)),D$1&\"=\",\"\"),\"\")","v":""},{"$f":"IFERROR(SUBSTITUTE(INDEX(Data!$A474:$H474,,MATCH(FALSE,ISERROR(SEARCH(E$1&\"=\",Data!$A474:$H474)),0)),E$1&\"=\",\"\"),\"\")","v":""},{"$f":"IFERROR(SUBSTITUTE(INDEX(Data!$A474:$H474,,MATCH(FALSE,ISERROR(SEARCH(F$1&\"=\",Data!$A474:$H474)),0)),F$1&\"=\",\"\"),\"\")","v":""},{"$f":"IFERROR(SUBSTITUTE(INDEX(Data!$A474:$H474,,MATCH(FALSE,ISERROR(SEARCH(G$1&\"=\",Data!$A474:$H474)),0)),G$1&\"=\",\"\"),\"\")","v":""},{"$f":"IFERROR(SUBSTITUTE(INDEX(Data!$A474:$H474,,MATCH(FALSE,ISERROR(SEARCH(H$1&\"=\",Data!$A474:$H474)),0)),H$1&\"=\",\"\"),\"\")","v":""},{"$f":"IFERROR(SUBSTITUTE(INDEX(Data!$A474:$H474,,MATCH(FALSE,ISERROR(SEARCH(I$1&\"=\",Data!$A474:$H474)),0)),I$1&\"=\",\"\"),\"\")","v":""},{"$f":"IFERROR(SUBSTITUTE(INDEX(Data!$A474:$H474,,MATCH(FALSE,ISERROR(SEARCH(J$1&\"=\",Data!$A474:$H474)),0)),J$1&\"=\",\"\"),\"\")","v":""}]
[{"$f":"IFERROR(SUBSTITUTE(INDEX(Data!$A475:$H475,,MATCH(FALSE,ISERROR(SEARCH(A$1&\"=\",Data!$A475:$H475)),0)),A$1&\"=\",\"\"),\"\")","v":""},{"$f":"IFERROR(SUBSTITUTE(INDEX(Data!$A475:$H475,,MATCH(FALSE,ISERROR(SEARCH(B$1&\"=\",Data!$A475:$H475)),0)),B$1&\"=\",\"\"),\"\")","v":""},{"$f":"IFERROR(SUBSTITUTE(INDEX(Data!$A475:$H475,,MATCH(FALSE,ISERROR(SEARCH(C$1&\"=\",Data!$A475:$H475)),0)),C$1&\"=\",\"\"),\"\")","v":""},{"$f":"IFERROR(SUBSTITUTE(INDEX(Data!$A475:$H475,,MATCH(FALSE,ISERROR(SEARCH(D$1&\"=\",Data!$A475:$H475)),0)),D$1&\"=\",\"\"),\"\")","v":""},{"$f":"IFERROR(SUBSTITUTE(INDEX(Data!$A475:$H475,,MATCH(FALSE,ISERROR(SEARCH(E$1&\"=\",Data!$A475:$H475)),0)),E$1&\"=\",\"\"),\"\")","v":""},{"$f":"IFERROR(SUBSTITUTE(INDEX(Data!$A475:$H475,,MATCH(FALSE,ISERROR(SEARCH(F$1&\"=\",Data!$A475:$H475)),0)),F$1&\"=\",\"\"),\"\")","v":""},{"$f":"IFERROR(SUBSTITUTE(INDEX(Data!$A475:$H475,,MATCH(FALSE,ISERROR(SEARCH(G$1&\"=\",Data!$A475:$H475)),0)),G$1&\"=\",\"\"),\"\")","v":""},{"$f":"IFERROR(SUBSTITUTE(INDEX(Data!$A475:$H475,,MATCH(FALSE,ISERROR(SEARCH(H$1&\"=\",Data!$A475:$H475)),0)),H$1&\"=\",\"\"),\"\")","v":""},{"$f":"IFERROR(SUBSTITUTE(INDEX(Data!$A475:$H475,,MATCH(FALSE,ISERROR(SEARCH(I$1&\"=\",Data!$A475:$H475)),0)),I$1&\"=\",\"\"),\"\")","v":""},{"$f":"IFERROR(SUBSTITUTE(INDEX(Data!$A475:$H475,,MATCH(FALSE,ISERROR(SEARCH(J$1&\"=\",Data!$A475:$H475)),0)),J$1&\"=\",\"\"),\"\")","v":""}]
[{"$f":"IFERROR(SUBSTITUTE(INDEX(Data!$A476:$H476,,MATCH(FALSE,ISERROR(SEARCH(A$1&\"=\",Data!$A476:$H476)),0)),A$1&\"=\",\"\"),\"\")","v":""},{"$f":"IFERROR(SUBSTITUTE(INDEX(Data!$A476:$H476,,MATCH(FALSE,ISERROR(SEARCH(B$1&\"=\",Data!$A476:$H476)),0)),B$1&\"=\",\"\"),\"\")","v":""},{"$f":"IFERROR(SUBSTITUTE(INDEX(Data!$A476:$H476,,MATCH(FALSE,ISERROR(SEARCH(C$1&\"=\",Data!$A476:$H476)),0)),C$1&\"=\",\"\"),\"\")","v":""},{"$f":"IFERROR(SUBSTITUTE(INDEX(Data!$A476:$H476,,MATCH(FALSE,ISERROR(SEARCH(D$1&\"=\",Data!$A476:$H476)),0)),D$1&\"=\",\"\"),\"\")","v":""},{"$f":"IFERROR(SUBSTITUTE(INDEX(Data!$A476:$H476,,MATCH(FALSE,ISERROR(SEARCH(E$1&\"=\",Data!$A476:$H476)),0)),E$1&\"=\",\"\"),\"\")","v":""},{"$f":"IFERROR(SUBSTITUTE(INDEX(Data!$A476:$H476,,MATCH(FALSE,ISERROR(SEARCH(F$1&\"=\",Data!$A476:$H476)),0)),F$1&\"=\",\"\"),\"\")","v":""},{"$f":"IFERROR(SUBSTITUTE(INDEX(Data!$A476:$H476,,MATCH(FALSE,ISERROR(SEARCH(G$1&\"=\",Data!$A476:$H476)),0)),G$1&\"=\",\"\"),\"\")","v":""},{"$f":"IFERROR(SUBSTITUTE(INDEX(Data!$A476:$H476,,MATCH(FALSE,ISERROR(SEARCH(H$1&\"=\",Data!$A476:$H476)),0)),H$1&\"=\",\"\"),\"\")","v":""},{"$f":"IFERROR(SUBSTITUTE(INDEX(Data!$A476:$H476,,MATCH(FALSE,ISERROR(SEARCH(I$1&\"=\",Data!$A476:$H476)),0)),I$1&\"=\",\"\"),\"\")","v":""},{"$f":"IFERROR(SUBSTITUTE(INDEX(Data!$A476:$H476,,MATCH(FALSE,ISERROR(SEARCH(J$1&\"=\",Data!$A476:$H476)),0)),J$1&\"=\",\"\"),\"\")","v":""}]
[{"$f":"IFERROR(SUBSTITUTE(INDEX(Data!$A477:$H477,,MATCH(FALSE,ISERROR(SEARCH(A$1&\"=\",Data!$A477:$H477)),0)),A$1&\"=\",\"\"),\"\")","v":""},{"$f":"IFERROR(SUBSTITUTE(INDEX(Data!$A477:$H477,,MATCH(FALSE,ISERROR(SEARCH(B$1&\"=\",Data!$A477:$H477)),0)),B$1&\"=\",\"\"),\"\")","v":""},{"$f":"IFERROR(SUBSTITUTE(INDEX(Data!$A477:$H477,,MATCH(FALSE,ISERROR(SEARCH(C$1&\"=\",Data!$A477:$H477)),0)),C$1&\"=\",\"\"),\"\")","v":""},{"$f":"IFERROR(SUBSTITUTE(INDEX(Data!$A477:$H477,,MATCH(FALSE,ISERROR(SEARCH(D$1&\"=\",Data!$A477:$H477)),0)),D$1&\"=\",\"\"),\"\")","v":""},{"$f":"IFERROR(SUBSTITUTE(INDEX(Data!$A477:$H477,,MATCH(FALSE,ISERROR(SEARCH(E$1&\"=\",Data!$A477:$H477)),0)),E$1&\"=\",\"\"),\"\")","v":""},{"$f":"IFERROR(SUBSTITUTE(INDEX(Data!$A477:$H477,,MATCH(FALSE,ISERROR(SEARCH(F$1&\"=\",Data!$A477:$H477)),0)),F$1&\"=\",\"\"),\"\")","v":""},{"$f":"IFERROR(SUBSTITUTE(INDEX(Data!$A477:$H477,,MATCH(FALSE,ISERROR(SEARCH(G$1&\"=\",Data!$A477:$H477)),0)),G$1&\"=\",\"\"),\"\")","v":""},{"$f":"IFERROR(SUBSTITUTE(INDEX(Data!$A477:$H477,,MATCH(FALSE,ISERROR(SEARCH(H$1&\"=\",Data!$A477:$H477)),0)),H$1&\"=\",\"\"),\"\")","v":""},{"$f":"IFERROR(SUBSTITUTE(INDEX(Data!$A477:$H477,,MATCH(FALSE,ISERROR(SEARCH(I$1&\"=\",Data!$A477:$H477)),0)),I$1&\"=\",\"\"),\"\")","v":""},{"$f":"IFERROR(SUBSTITUTE(INDEX(Data!$A477:$H477,,MATCH(FALSE,ISERROR(SEARCH(J$1&\"=\",Data!$A477:$H477)),0)),J$1&\"=\",\"\"),\"\")","v":""}]
[{"$f":"IFERROR(SUBSTITUTE(INDEX(Data!$A478:$H478,,MATCH(FALSE,ISERROR(SEARCH(A$1&\"=\",Data!$A478:$H478)),0)),A$1&\"=\",\"\"),\"\")","v":""},{"$f":"IFERROR(SUBSTITUTE(INDEX(Data!$A478:$H478,,MATCH(FALSE,ISERROR(SEARCH(B$1&\"=\",Data!$A478:$H478)),0)),B$1&\"=\",\"\"),\"\")","v":""},{"$f":"IFERROR(SUBSTITUTE(INDEX(Data!$A478:$H478,,MATCH(FALSE,ISERROR(SEARCH(C$1&\"=\",Data!$A478:$H478)),0)),C$1&\"=\",\"\"),\"\")","v":""},{"$f":"IFERROR(SUBSTITUTE(INDEX(Data!$A478:$H478,,MATCH(FALSE,ISERROR(SEARCH(D$1&\"=\",Data!$A478:$H478)),0)),D$1&\"=\",\"\"),\"\")","v":""},{"$f":"IFERROR(SUBSTITUTE(INDEX(Data!$A478:$H478,,MATCH(FALSE,ISERROR(SEARCH(E$1&\"=\",Data!$A478:$H478)),0)),E$1&\"=\",\"\"),\"\")","v":""},{"$f":"IFERROR(SUBSTITUTE(INDEX(Data!$A478:$H478,,MATCH(FALSE,ISERROR(SEARCH(F$1&\"=\",Data!$A478:$H478)),0)),F$1&\"=\",\"\"),\"\")","v":""},{"$f":"IFERROR(SUBSTITUTE(INDEX(Data!$A478:$H478,,MATCH(FALSE,ISERROR(SEARCH(G$1&\"=\",Data!$A478:$H478)),0)),G$1&\"=\",\"\"),\"\")","v":""},{"$f":"IFERROR(SUBSTITUTE(INDEX(Data!$A478:$H478,,MATCH(FALSE,ISERROR(SEARCH(H$1&\"=\",Data!$A478:$H478)),0)),H$1&\"=\",\"\"),\"\")","v":""},{"$f":"IFERROR(SUBSTITUTE(INDEX(Data!$A478:$H478,,MATCH(FALSE,ISERROR(SEARCH(I$1&\"=\",Data!$A478:$H478)),0)),I$1&\"=\",\"\"),\"\")","v":""},{"$f":"IFERROR(SUBSTITUTE(INDEX(Data!$A478:$H478,,MATCH(FALSE,ISERROR(SEARCH(J$1&\"=\",Data!$A478:$H478)),0)),J$1&\"=\",\"\"),\"\")","v":""}]
[{"$f":"IFERROR(SUBSTITUTE(INDEX(Data!$A479:$H479,,MATCH(FALSE,ISERROR(SEARCH(A$1&\"=\",Data!$A479:$H479)),0)),A$1&\"=\",\"\"),\"\")","v":""},{"$f":"IFERROR(SUBSTITUTE(INDEX(Data!$A479:$H479,,MATCH(FALSE,ISERROR(SEARCH(B$1&\"=\",Data!$A479:$H479)),0)),B$1&\"=\",\"\"),\"\")","v":""},{"$f":"IFERROR(SUBSTITUTE(INDEX(Data!$A479:$H479,,MATCH(FALSE,ISERROR(SEARCH(C$1&\"=\",Data!$A479:$H479)),0)),C$1&\"=\",\"\"),\"\")","v":""},{"$f":"IFERROR(SUBSTITUTE(INDEX(Data!$A479:$H479,,MATCH(FALSE,ISERROR(SEARCH(D$1&\"=\",Data!$A479:$H479)),0)),D$1&\"=\",\"\"),\"\")","v":""},{"$f":"IFERROR(SUBSTITUTE(INDEX(Data!$A479:$H479,,MATCH(FALSE,ISERROR(SEARCH(E$1&\"=\",Data!$A479:$H479)),0)),E$1&\"=\",\"\"),\"\")","v":""},{"$f":"IFERROR(SUBSTITUTE(INDEX(Data!$A479:$H479,,MATCH(FALSE,ISERROR(SEARCH(F$1&\"=\",Data!$A479:$H479)),0)),F$1&\"=\",\"\"),\"\")","v":""},{"$f":"IFERROR(SUBSTITUTE(INDEX(Data!$A479:$H479,,MATCH(FALSE,ISERROR(SEARCH(G$1&\"=\",Data!$A479:$H479)),0)),G$1&\"=\",\"\"),\"\")","v":""},{"$f":"IFERROR(SUBSTITUTE(INDEX(Data!$A479:$H479,,MATCH(FALSE,ISERROR(SEARCH(H$1&\"=\",Data!$A479:$H479)),0)),H$1&\"=\",\"\"),\"\")","v":""},{"$f":"IFERROR(SUBSTITUTE(INDEX(Data!$A479:$H479,,MATCH(FALSE,ISERROR(SEARCH(I$1&\"=\",Data!$A479:$H479)),0)),I$1&\"=\",\"\"),\"\")","v":""},{"$f":"IFERROR(SUBSTITUTE(INDEX(Data!$A479:$H479,,MATCH(FALSE,ISERROR(SEARCH(J$1&\"=\",Data!$A479:$H479)),0)),J$1&\"=\",\"\"),\"\")","v":""}]
[{"$f":"IFERROR(SUBSTITUTE(INDEX(Data!$A480:$H480,,MATCH(FALSE,ISERROR(SEARCH(A$1&\"=\",Data!$A480:$H480)),0)),A$1&\"=\",\"\"),\"\")","v":""},{"$f":"IFERROR(SUBSTITUTE(INDEX(Data!$A480:$H480,,MATCH(FALSE,ISERROR(SEARCH(B$1&\"=\",Data!$A480:$H480)),0)),B$1&\"=\",\"\"),\"\")","v":""},{"$f":"IFERROR(SUBSTITUTE(INDEX(Data!$A480:$H480,,MATCH(FALSE,ISERROR(SEARCH(C$1&\"=\",Data!$A480:$H480)),0)),C$1&\"=\",\"\"),\"\")","v":""},{"$f":"IFERROR(SUBSTITUTE(INDEX(Data!$A480:$H480,,MATCH(FALSE,ISERROR(SEARCH(D$1&\"=\",Data!$A480:$H480)),0)),D$1&\"=\",\"\"),\"\")","v":""},{"$f":"IFERROR(SUBSTITUTE(INDEX(Data!$A480:$H480,,MATCH(FALSE,ISERROR(SEARCH(E$1&\"=\",Data!$A480:$H480)),0)),E$1&\"=\",\"\"),\"\")","v":""},{"$f":"IFERROR(SUBSTITUTE(INDEX(Data!$A480:$H480,,MATCH(FALSE,ISERROR(SEARCH(F$1&\"=\",Data!$A480:$H480)),0)),F$1&\"=\",\"\"),\"\")","v":""},{"$f":"IFERROR(SUBSTITUTE(INDEX(Data!$A480:$H480,,MATCH(FALSE,ISERROR(SEARCH(G$1&\"=\",Data!$A480:$H480)),0)),G$1&\"=\",\"\"),\"\")","v":""},{"$f":"IFERROR(SUBSTITUTE(INDEX(Data!$A480:$H480,,MATCH(FALSE,ISERROR(SEARCH(H$1&\"=\",Data!$A480:$H480)),0)),H$1&\"=\",\"\"),\"\")","v":""},{"$f":"IFERROR(SUBSTITUTE(INDEX(Data!$A480:$H480,,MATCH(FALSE,ISERROR(SEARCH(I$1&\"=\",Data!$A480:$H480)),0)),I$1&\"=\",\"\"),\"\")","v":""},{"$f":"IFERROR(SUBSTITUTE(INDEX(Data!$A480:$H480,,MATCH(FALSE,ISERROR(SEARCH(J$1&\"=\",Data!$A480:$H480)),0)),J$1&\"=\",\"\"),\"\")","v":""}]
[{"$f":"IFERROR(SUBSTITUTE(INDEX(Data!$A481:$H481,,MATCH(FALSE,ISERROR(SEARCH(A$1&\"=\",Data!$A481:$H481)),0)),A$1&\"=\",\"\"),\"\")","v":""},{"$f":"IFERROR(SUBSTITUTE(INDEX(Data!$A481:$H481,,MATCH(FALSE,ISERROR(SEARCH(B$1&\"=\",Data!$A481:$H481)),0)),B$1&\"=\",\"\"),\"\")","v":""},{"$f":"IFERROR(SUBSTITUTE(INDEX(Data!$A481:$H481,,MATCH(FALSE,ISERROR(SEARCH(C$1&\"=\",Data!$A481:$H481)),0)),C$1&\"=\",\"\"),\"\")","v":""},{"$f":"IFERROR(SUBSTITUTE(INDEX(Data!$A481:$H481,,MATCH(FALSE,ISERROR(SEARCH(D$1&\"=\",Data!$A481:$H481)),0)),D$1&\"=\",\"\"),\"\")","v":""},{"$f":"IFERROR(SUBSTITUTE(INDEX(Data!$A481:$H481,,MATCH(FALSE,ISERROR(SEARCH(E$1&\"=\",Data!$A481:$H481)),0)),E$1&\"=\",\"\"),\"\")","v":""},{"$f":"IFERROR(SUBSTITUTE(INDEX(Data!$A481:$H481,,MATCH(FALSE,ISERROR(SEARCH(F$1&\"=\",Data!$A481:$H481)),0)),F$1&\"=\",\"\"),\"\")","v":""},{"$f":"IFERROR(SUBSTITUTE(INDEX(Data!$A481:$H481,,MATCH(FALSE,ISERROR(SEARCH(G$1&\"=\",Data!$A481:$H481)),0)),G$1&\"=\",\"\"),\"\")","v":""},{"$f":"IFERROR(SUBSTITUTE(INDEX(Data!$A481:$H481,,MATCH(FALSE,ISERROR(SEARCH(H$1&\"=\",Data!$A481:$H481)),0)),H$1&\"=\",\"\"),\"\")","v":""},{"$f":"IFERROR(SUBSTITUTE(INDEX(Data!$A481:$H481,,MATCH(FALSE,ISERROR(SEARCH(I$1&\"=\",Data!$A481:$H481)),0)),I$1&\"=\",\"\"),\"\")","v":""},{"$f":"IFERROR(SUBSTITUTE(INDEX(Data!$A481:$H481,,MATCH(FALSE,ISERROR(SEARCH(J$1&\"=\",Data!$A481:$H481)),0)),J$1&\"=\",\"\"),\"\")","v":""}]
[{"$f":"IFERROR(SUBSTITUTE(INDEX(Data!$A482:$H482,,MATCH(FALSE,ISERROR(SEARCH(A$1&\"=\",Data!$A482:$H482)),0)),A$1&\"=\",\"\"),\"\")","v":""},{"$f":"IFERROR(SUBSTITUTE(INDEX(Data!$A482:$H482,,MATCH(FALSE,ISERROR(SEARCH(B$1&\"=\",Data!$A482:$H482)),0)),B$1&\"=\",\"\"),\"\")","v":""},{"$f":"IFERROR(SUBSTITUTE(INDEX(Data!$A482:$H482,,MATCH(FALSE,ISERROR(SEARCH(C$1&\"=\",Data!$A482:$H482)),0)),C$1&\"=\",\"\"),\"\")","v":""},{"$f":"IFERROR(SUBSTITUTE(INDEX(Data!$A482:$H482,,MATCH(FALSE,ISERROR(SEARCH(D$1&\"=\",Data!$A482:$H482)),0)),D$1&\"=\",\"\"),\"\")","v":""},{"$f":"IFERROR(SUBSTITUTE(INDEX(Data!$A482:$H482,,MATCH(FALSE,ISERROR(SEARCH(E$1&\"=\",Data!$A482:$H482)),0)),E$1&\"=\",\"\"),\"\")","v":""},{"$f":"IFERROR(SUBSTITUTE(INDEX(Data!$A482:$H482,,MATCH(FALSE,ISERROR(SEARCH(F$1&\"=\",Data!$A482:$H482)),0)),F$1&\"=\",\"\"),\"\")","v":""},{"$f":"IFERROR(SUBSTITUTE(INDEX(Data!$A482:$H482,,MATCH(FALSE,ISERROR(SEARCH(G$1&\"=\",Data!$A482:$H482)),0)),G$1&\"=\",\"\"),\"\")","v":""},{"$f":"IFERROR(SUBSTITUTE(INDEX(Data!$A482:$H482,,MATCH(FALSE,ISERROR(SEARCH(H$1&\"=\",Data!$A482:$H482)),0)),H$1&\"=\",\"\"),\"\")","v":""},{"$f":"IFERROR(SUBSTITUTE(INDEX(Data!$A482:$H482,,MATCH(FALSE,ISERROR(SEARCH(I$1&\"=\",Data!$A482:$H482)),0)),I$1&\"=\",\"\"),\"\")","v":""},{"$f":"IFERROR(SUBSTITUTE(INDEX(Data!$A482:$H482,,MATCH(FALSE,ISERROR(SEARCH(J$1&\"=\",Data!$A482:$H482)),0)),J$1&\"=\",\"\"),\"\")","v":""}]
[{"$f":"IFERROR(SUBSTITUTE(INDEX(Data!$A483:$H483,,MATCH(FALSE,ISERROR(SEARCH(A$1&\"=\",Data!$A483:$H483)),0)),A$1&\"=\",\"\"),\"\")","v":""},{"$f":"IFERROR(SUBSTITUTE(INDEX(Data!$A483:$H483,,MATCH(FALSE,ISERROR(SEARCH(B$1&\"=\",Data!$A483:$H483)),0)),B$1&\"=\",\"\"),\"\")","v":""},{"$f":"IFERROR(SUBSTITUTE(INDEX(Data!$A483:$H483,,MATCH(FALSE,ISERROR(SEARCH(C$1&\"=\",Data!$A483:$H483)),0)),C$1&\"=\",\"\"),\"\")","v":""},{"$f":"IFERROR(SUBSTITUTE(INDEX(Data!$A483:$H483,,MATCH(FALSE,ISERROR(SEARCH(D$1&\"=\",Data!$A483:$H483)),0)),D$1&\"=\",\"\"),\"\")","v":""},{"$f":"IFERROR(SUBSTITUTE(INDEX(Data!$A483:$H483,,MATCH(FALSE,ISERROR(SEARCH(E$1&\"=\",Data!$A483:$H483)),0)),E$1&\"=\",\"\"),\"\")","v":""},{"$f":"IFERROR(SUBSTITUTE(INDEX(Data!$A483:$H483,,MATCH(FALSE,ISERROR(SEARCH(F$1&\"=\",Data!$A483:$H483)),0)),F$1&\"=\",\"\"),\"\")","v":""},{"$f":"IFERROR(SUBSTITUTE(INDEX(Data!$A483:$H483,,MATCH(FALSE,ISERROR(SEARCH(G$1&\"=\",Data!$A483:$H483)),0)),G$1&\"=\",\"\"),\"\")","v":""},{"$f":"IFERROR(SUBSTITUTE(INDEX(Data!$A483:$H483,,MATCH(FALSE,ISERROR(SEARCH(H$1&\"=\",Data!$A483:$H483)),0)),H$1&\"=\",\"\"),\"\")","v":""},{"$f":"IFERROR(SUBSTITUTE(INDEX(Data!$A483:$H483,,MATCH(FALSE,ISERROR(SEARCH(I$1&\"=\",Data!$A483:$H483)),0)),I$1&\"=\",\"\"),\"\")","v":""},{"$f":"IFERROR(SUBSTITUTE(INDEX(Data!$A483:$H483,,MATCH(FALSE,ISERROR(SEARCH(J$1&\"=\",Data!$A483:$H483)),0)),J$1&\"=\",\"\"),\"\")","v":""}]
[{"$f":"IFERROR(SUBSTITUTE(INDEX(Data!$A484:$H484,,MATCH(FALSE,ISERROR(SEARCH(A$1&\"=\",Data!$A484:$H484)),0)),A$1&\"=\",\"\"),\"\")","v":""},{"$f":"IFERROR(SUBSTITUTE(INDEX(Data!$A484:$H484,,MATCH(FALSE,ISERROR(SEARCH(B$1&\"=\",Data!$A484:$H484)),0)),B$1&\"=\",\"\"),\"\")","v":""},{"$f":"IFERROR(SUBSTITUTE(INDEX(Data!$A484:$H484,,MATCH(FALSE,ISERROR(SEARCH(C$1&\"=\",Data!$A484:$H484)),0)),C$1&\"=\",\"\"),\"\")","v":""},{"$f":"IFERROR(SUBSTITUTE(INDEX(Data!$A484:$H484,,MATCH(FALSE,ISERROR(SEARCH(D$1&\"=\",Data!$A484:$H484)),0)),D$1&\"=\",\"\"),\"\")","v":""},{"$f":"IFERROR(SUBSTITUTE(INDEX(Data!$A484:$H484,,MATCH(FALSE,ISERROR(SEARCH(E$1&\"=\",Data!$A484:$H484)),0)),E$1&\"=\",\"\"),\"\")","v":""},{"$f":"IFERROR(SUBSTITUTE(INDEX(Data!$A484:$H484,,MATCH(FALSE,ISERROR(SEARCH(F$1&\"=\",Data!$A484:$H484)),0)),F$1&\"=\",\"\"),\"\")","v":""},{"$f":"IFERROR(SUBSTITUTE(INDEX(Data!$A484:$H484,,MATCH(FALSE,ISERROR(SEARCH(G$1&\"=\",Data!$A484:$H484)),0)),G$1&\"=\",\"\"),\"\")","v":""},{"$f":"IFERROR(SUBSTITUTE(INDEX(Data!$A484:$H484,,MATCH(FALSE,ISERROR(SEARCH(H$1&\"=\",Data!$A484:$H484)),0)),H$1&\"=\",\"\"),\"\")","v":""},{"$f":"IFERROR(SUBSTITUTE(INDEX(Data!$A484:$H484,,MATCH(FALSE,ISERROR(SEARCH(I$1&\"=\",Data!$A484:$H484)),0)),I$1&\"=\",\"\"),\"\")","v":""},{"$f":"IFERROR(SUBSTITUTE(INDEX(Data!$A484:$H484,,MATCH(FALSE,ISERROR(SEARCH(J$1&\"=\",Data!$A484:$H484)),0)),J$1&\"=\",\"\"),\"\")","v":""}]
[{"$f":"IFERROR(SUBSTITUTE(INDEX(Data!$A485:$H485,,MATCH(FALSE,ISERROR(SEARCH(A$1&\"=\",Data!$A485:$H485)),0)),A$1&\"=\",\"\"),\"\")","v":""},{"$f":"IFERROR(SUBSTITUTE(INDEX(Data!$A485:$H485,,MATCH(FALSE,ISERROR(SEARCH(B$1&\"=\",Data!$A485:$H485)),0)),B$1&\"=\",\"\"),\"\")","v":""},{"$f":"IFERROR(SUBSTITUTE(INDEX(Data!$A485:$H485,,MATCH(FALSE,ISERROR(SEARCH(C$1&\"=\",Data!$A485:$H485)),0)),C$1&\"=\",\"\"),\"\")","v":""},{"$f":"IFERROR(SUBSTITUTE(INDEX(Data!$A485:$H485,,MATCH(FALSE,ISERROR(SEARCH(D$1&\"=\",Data!$A485:$H485)),0)),D$1&\"=\",\"\"),\"\")","v":""},{"$f":"IFERROR(SUBSTITUTE(INDEX(Data!$A485:$H485,,MATCH(FALSE,ISERROR(SEARCH(E$1&\"=\",Data!$A485:$H485)),0)),E$1&\"=\",\"\"),\"\")","v":""},{"$f":"IFERROR(SUBSTITUTE(INDEX(Data!$A485:$H485,,MATCH(FALSE,ISERROR(SEARCH(F$1&\"=\",Data!$A485:$H485)),0)),F$1&\"=\",\"\"),\"\")","v":""},{"$f":"IFERROR(SUBSTITUTE(INDEX(Data!$A485:$H485,,MATCH(FALSE,ISERROR(SEARCH(G$1&\"=\",Data!$A485:$H485)),0)),G$1&\"=\",\"\"),\"\")","v":""},{"$f":"IFERROR(SUBSTITUTE(INDEX(Data!$A485:$H485,,MATCH(FALSE,ISERROR(SEARCH(H$1&\"=\",Data!$A485:$H485)),0)),H$1&\"=\",\"\"),\"\")","v":""},{"$f":"IFERROR(SUBSTITUTE(INDEX(Data!$A485:$H485,,MATCH(FALSE,ISERROR(SEARCH(I$1&\"=\",Data!$A485:$H485)),0)),I$1&\"=\",\"\"),\"\")","v":""},{"$f":"IFERROR(SUBSTITUTE(INDEX(Data!$A485:$H485,,MATCH(FALSE,ISERROR(SEARCH(J$1&\"=\",Data!$A485:$H485)),0)),J$1&\"=\",\"\"),\"\")","v":""}]
[{"$f":"IFERROR(SUBSTITUTE(INDEX(Data!$A486:$H486,,MATCH(FALSE,ISERROR(SEARCH(A$1&\"=\",Data!$A486:$H486)),0)),A$1&\"=\",\"\"),\"\")","v":""},{"$f":"IFERROR(SUBSTITUTE(INDEX(Data!$A486:$H486,,MATCH(FALSE,ISERROR(SEARCH(B$1&\"=\",Data!$A486:$H486)),0)),B$1&\"=\",\"\"),\"\")","v":""},{"$f":"IFERROR(SUBSTITUTE(INDEX(Data!$A486:$H486,,MATCH(FALSE,ISERROR(SEARCH(C$1&\"=\",Data!$A486:$H486)),0)),C$1&\"=\",\"\"),\"\")","v":""},{"$f":"IFERROR(SUBSTITUTE(INDEX(Data!$A486:$H486,,MATCH(FALSE,ISERROR(SEARCH(D$1&\"=\",Data!$A486:$H486)),0)),D$1&\"=\",\"\"),\"\")","v":""},{"$f":"IFERROR(SUBSTITUTE(INDEX(Data!$A486:$H486,,MATCH(FALSE,ISERROR(SEARCH(E$1&\"=\",Data!$A486:$H486)),0)),E$1&\"=\",\"\"),\"\")","v":""},{"$f":"IFERROR(SUBSTITUTE(INDEX(Data!$A486:$H486,,MATCH(FALSE,ISERROR(SEARCH(F$1&\"=\",Data!$A486:$H486)),0)),F$1&\"=\",\"\"),\"\")","v":""},{"$f":"IFERROR(SUBSTITUTE(INDEX(Data!$A486:$H486,,MATCH(FALSE,ISERROR(SEARCH(G$1&\"=\",Data!$A486:$H486)),0)),G$1&\"=\",\"\"),\"\")","v":""},{"$f":"IFERROR(SUBSTITUTE(INDEX(Data!$A486:$H486,,MATCH(FALSE,ISERROR(SEARCH(H$1&\"=\",Data!$A486:$H486)),0)),H$1&\"=\",\"\"),\"\")","v":""},{"$f":"IFERROR(SUBSTITUTE(INDEX(Data!$A486:$H486,,MATCH(FALSE,ISERROR(SEARCH(I$1&\"=\",Data!$A486:$H486)),0)),I$1&\"=\",\"\"),\"\")","v":""},{"$f":"IFERROR(SUBSTITUTE(INDEX(Data!$A486:$H486,,MATCH(FALSE,ISERROR(SEARCH(J$1&\"=\",Data!$A486:$H486)),0)),J$1&\"=\",\"\"),\"\")","v":""}]
[{"$f":"IFERROR(SUBSTITUTE(INDEX(Data!$A487:$H487,,MATCH(FALSE,ISERROR(SEARCH(A$1&\"=\",Data!$A487:$H487)),0)),A$1&\"=\",\"\"),\"\")","v":""},{"$f":"IFERROR(SUBSTITUTE(INDEX(Data!$A487:$H487,,MATCH(FALSE,ISERROR(SEARCH(B$1&\"=\",Data!$A487:$H487)),0)),B$1&\"=\",\"\"),\"\")","v":""},{"$f":"IFERROR(SUBSTITUTE(INDEX(Data!$A487:$H487,,MATCH(FALSE,ISERROR(SEARCH(C$1&\"=\",Data!$A487:$H487)),0)),C$1&\"=\",\"\"),\"\")","v":""},{"$f":"IFERROR(SUBSTITUTE(INDEX(Data!$A487:$H487,,MATCH(FALSE,ISERROR(SEARCH(D$1&\"=\",Data!$A487:$H487)),0)),D$1&\"=\",\"\"),\"\")","v":""},{"$f":"IFERROR(SUBSTITUTE(INDEX(Data!$A487:$H487,,MATCH(FALSE,ISERROR(SEARCH(E$1&\"=\",Data!$A487:$H487)),0)),E$1&\"=\",\"\"),\"\")","v":""},{"$f":"IFERROR(SUBSTITUTE(INDEX(Data!$A487:$H487,,MATCH(FALSE,ISERROR(SEARCH(F$1&\"=\",Data!$A487:$H487)),0)),F$1&\"=\",\"\"),\"\")","v":""},{"$f":"IFERROR(SUBSTITUTE(INDEX(Data!$A487:$H487,,MATCH(FALSE,ISERROR(SEARCH(G$1&\"=\",Data!$A487:$H487)),0)),G$1&\"=\",\"\"),\"\")","v":""},{"$f":"IFERROR(SUBSTITUTE(INDEX(Data!$A487:$H487,,MATCH(FALSE,ISERROR(SEARCH(H$1&\"=\",Data!$A487:$H487)),0)),H$1&\"=\",\"\"),\"\")","v":""},{"$f":"IFERROR(SUBSTITUTE(INDEX(Data!$A487:$H487,,MATCH(FALSE,ISERROR(SEARCH(I$1&\"=\",Data!$A487:$H487)),0)),I$1&\"=\",\"\"),\"\")","v":""},{"$f":"IFERROR(SUBSTITUTE(INDEX(Data!$A487:$H487,,MATCH(FALSE,ISERROR(SEARCH(J$1&\"=\",Data!$A487:$H487)),0)),J$1&\"=\",\"\"),\"\")","v":""}]
[{"$f":"IFERROR(SUBSTITUTE(INDEX(Data!$A488:$H488,,MATCH(FALSE,ISERROR(SEARCH(A$1&\"=\",Data!$A488:$H488)),0)),A$1&\"=\",\"\"),\"\")","v":""},{"$f":"IFERROR(SUBSTITUTE(INDEX(Data!$A488:$H488,,MATCH(FALSE,ISERROR(SEARCH(B$1&\"=\",Data!$A488:$H488)),0)),B$1&\"=\",\"\"),\"\")","v":""},{"$f":"IFERROR(SUBSTITUTE(INDEX(Data!$A488:$H488,,MATCH(FALSE,ISERROR(SEARCH(C$1&\"=\",Data!$A488:$H488)),0)),C$1&\"=\",\"\"),\"\")","v":""},{"$f":"IFERROR(SUBSTITUTE(INDEX(Data!$A488:$H488,,MATCH(FALSE,ISERROR(SEARCH(D$1&\"=\",Data!$A488:$H488)),0)),D$1&\"=\",\"\"),\"\")","v":""},{"$f":"IFERROR(SUBSTITUTE(INDEX(Data!$A488:$H488,,MATCH(FALSE,ISERROR(SEARCH(E$1&\"=\",Data!$A488:$H488)),0)),E$1&\"=\",\"\"),\"\")","v":""},{"$f":"IFERROR(SUBSTITUTE(INDEX(Data!$A488:$H488,,MATCH(FALSE,ISERROR(SEARCH(F$1&\"=\",Data!$A488:$H488)),0)),F$1&\"=\",\"\"),\"\")","v":""},{"$f":"IFERROR(SUBSTITUTE(INDEX(Data!$A488:$H488,,MATCH(FALSE,ISERROR(SEARCH(G$1&\"=\",Data!$A488:$H488)),0)),G$1&\"=\",\"\"),\"\")","v":""},{"$f":"IFERROR(SUBSTITUTE(INDEX(Data!$A488:$H488,,MATCH(FALSE,ISERROR(SEARCH(H$1&\"=\",Data!$A488:$H488)),0)),H$1&\"=\",\"\"),\"\")","v":""},{"$f":"IFERROR(SUBSTITUTE(INDEX(Data!$A488:$H488,,MATCH(FALSE,ISERROR(SEARCH(I$1&\"=\",Data!$A488:$H488)),0)),I$1&\"=\",\"\"),\"\")","v":""},{"$f":"IFERROR(SUBSTITUTE(INDEX(Data!$A488:$H488,,MATCH(FALSE,ISERROR(SEARCH(J$1&\"=\",Data!$A488:$H488)),0)),J$1&\"=\",\"\"),\"\")","v":""}]
[{"$f":"IFERROR(SUBSTITUTE(INDEX(Data!$A489:$H489,,MATCH(FALSE,ISERROR(SEARCH(A$1&\"=\",Data!$A489:$H489)),0)),A$1&\"=\",\"\"),\"\")","v":""},{"$f":"IFERROR(SUBSTITUTE(INDEX(Data!$A489:$H489,,MATCH(FALSE,ISERROR(SEARCH(B$1&\"=\",Data!$A489:$H489)),0)),B$1&\"=\",\"\"),\"\")","v":""},{"$f":"IFERROR(SUBSTITUTE(INDEX(Data!$A489:$H489,,MATCH(FALSE,ISERROR(SEARCH(C$1&\"=\",Data!$A489:$H489)),0)),C$1&\"=\",\"\"),\"\")","v":""},{"$f":"IFERROR(SUBSTITUTE(INDEX(Data!$A489:$H489,,MATCH(FALSE,ISERROR(SEARCH(D$1&\"=\",Data!$A489:$H489)),0)),D$1&\"=\",\"\"),\"\")","v":""},{"$f":"IFERROR(SUBSTITUTE(INDEX(Data!$A489:$H489,,MATCH(FALSE,ISERROR(SEARCH(E$1&\"=\",Data!$A489:$H489)),0)),E$1&\"=\",\"\"),\"\")","v":""},{"$f":"IFERROR(SUBSTITUTE(INDEX(Data!$A489:$H489,,MATCH(FALSE,ISERROR(SEARCH(F$1&\"=\",Data!$A489:$H489)),0)),F$1&\"=\",\"\"),\"\")","v":""},{"$f":"IFERROR(SUBSTITUTE(INDEX(Data!$A489:$H489,,MATCH(FALSE,ISERROR(SEARCH(G$1&\"=\",Data!$A489:$H489)),0)),G$1&\"=\",\"\"),\"\")","v":""},{"$f":"IFERROR(SUBSTITUTE(INDEX(Data!$A489:$H489,,MATCH(FALSE,ISERROR(SEARCH(H$1&\"=\",Data!$A489:$H489)),0)),H$1&\"=\",\"\"),\"\")","v":""},{"$f":"IFERROR(SUBSTITUTE(INDEX(Data!$A489:$H489,,MATCH(FALSE,ISERROR(SEARCH(I$1&\"=\",Data!$A489:$H489)),0)),I$1&\"=\",\"\"),\"\")","v":""},{"$f":"IFERROR(SUBSTITUTE(INDEX(Data!$A489:$H489,,MATCH(FALSE,ISERROR(SEARCH(J$1&\"=\",Data!$A489:$H489)),0)),J$1&\"=\",\"\"),\"\")","v":""}]
[{"$f":"IFERROR(SUBSTITUTE(INDEX(Data!$A490:$H490,,MATCH(FALSE,ISERROR(SEARCH(A$1&\"=\",Data!$A490:$H490)),0)),A$1&\"=\",\"\"),\"\")","v":""},{"$f":"IFERROR(SUBSTITUTE(INDEX(Data!$A490:$H490,,MATCH(FALSE,ISERROR(SEARCH(B$1&\"=\",Data!$A490:$H490)),0)),B$1&\"=\",\"\"),\"\")","v":""},{"$f":"IFERROR(SUBSTITUTE(INDEX(Data!$A490:$H490,,MATCH(FALSE,ISERROR(SEARCH(C$1&\"=\",Data!$A490:$H490)),0)),C$1&\"=\",\"\"),\"\")","v":""},{"$f":"IFERROR(SUBSTITUTE(INDEX(Data!$A490:$H490,,MATCH(FALSE,ISERROR(SEARCH(D$1&\"=\",Data!$A490:$H490)),0)),D$1&\"=\",\"\"),\"\")","v":""},{"$f":"IFERROR(SUBSTITUTE(INDEX(Data!$A490:$H490,,MATCH(FALSE,ISERROR(SEARCH(E$1&\"=\",Data!$A490:$H490)),0)),E$1&\"=\",\"\"),\"\")","v":""},{"$f":"IFERROR(SUBSTITUTE(INDEX(Data!$A490:$H490,,MATCH(FALSE,ISERROR(SEARCH(F$1&\"=\",Data!$A490:$H490)),0)),F$1&\"=\",\"\"),\"\")","v":""},{"$f":"IFERROR(SUBSTITUTE(INDEX(Data!$A490:$H490,,MATCH(FALSE,ISERROR(SEARCH(G$1&\"=\",Data!$A490:$H490)),0)),G$1&\"=\",\"\"),\"\")","v":""},{"$f":"IFERROR(SUBSTITUTE(INDEX(Data!$A490:$H490,,MATCH(FALSE,ISERROR(SEARCH(H$1&\"=\",Data!$A490:$H490)),0)),H$1&\"=\",\"\"),\"\")","v":""},{"$f":"IFERROR(SUBSTITUTE(INDEX(Data!$A490:$H490,,MATCH(FALSE,ISERROR(SEARCH(I$1&\"=\",Data!$A490:$H490)),0)),I$1&\"=\",\"\"),\"\")","v":""},{"$f":"IFERROR(SUBSTITUTE(INDEX(Data!$A490:$H490,,MATCH(FALSE,ISERROR(SEARCH(J$1&\"=\",Data!$A490:$H490)),0)),J$1&\"=\",\"\"),\"\")","v":""}]
[{"$f":"IFERROR(SUBSTITUTE(INDEX(Data!$A491:$H491,,MATCH(FALSE,ISERROR(SEARCH(A$1&\"=\",Data!$A491:$H491)),0)),A$1&\"=\",\"\"),\"\")","v":""},{"$f":"IFERROR(SUBSTITUTE(INDEX(Data!$A491:$H491,,MATCH(FALSE,ISERROR(SEARCH(B$1&\"=\",Data!$A491:$H491)),0)),B$1&\"=\",\"\"),\"\")","v":""},{"$f":"IFERROR(SUBSTITUTE(INDEX(Data!$A491:$H491,,MATCH(FALSE,ISERROR(SEARCH(C$1&\"=\",Data!$A491:$H491)),0)),C$1&\"=\",\"\"),\"\")","v":""},{"$f":"IFERROR(SUBSTITUTE(INDEX(Data!$A491:$H491,,MATCH(FALSE,ISERROR(SEARCH(D$1&\"=\",Data!$A491:$H491)),0)),D$1&\"=\",\"\"),\"\")","v":""},{"$f":"IFERROR(SUBSTITUTE(INDEX(Data!$A491:$H491,,MATCH(FALSE,ISERROR(SEARCH(E$1&\"=\",Data!$A491:$H491)),0)),E$1&\"=\",\"\"),\"\")","v":""},{"$f":"IFERROR(SUBSTITUTE(INDEX(Data!$A491:$H491,,MATCH(FALSE,ISERROR(SEARCH(F$1&\"=\",Data!$A491:$H491)),0)),F$1&\"=\",\"\"),\"\")","v":""},{"$f":"IFERROR(SUBSTITUTE(INDEX(Data!$A491:$H491,,MATCH(FALSE,ISERROR(SEARCH(G$1&\"=\",Data!$A491:$H491)),0)),G$1&\"=\",\"\"),\"\")","v":""},{"$f":"IFERROR(SUBSTITUTE(INDEX(Data!$A491:$H491,,MATCH(FALSE,ISERROR(SEARCH(H$1&\"=\",Data!$A491:$H491)),0)),H$1&\"=\",\"\"),\"\")","v":""},{"$f":"IFERROR(SUBSTITUTE(INDEX(Data!$A491:$H491,,MATCH(FALSE,ISERROR(SEARCH(I$1&\"=\",Data!$A491:$H491)),0)),I$1&\"=\",\"\"),\"\")","v":""},{"$f":"IFERROR(SUBSTITUTE(INDEX(Data!$A491:$H491,,MATCH(FALSE,ISERROR(SEARCH(J$1&\"=\",Data!$A491:$H491)),0)),J$1&\"=\",\"\"),\"\")","v":""}]
[{"$f":"IFERROR(SUBSTITUTE(INDEX(Data!$A492:$H492,,MATCH(FALSE,ISERROR(SEARCH(A$1&\"=\",Data!$A492:$H492)),0)),A$1&\"=\",\"\"),\"\")","v":""},{"$f":"IFERROR(SUBSTITUTE(INDEX(Data!$A492:$H492,,MATCH(FALSE,ISERROR(SEARCH(B$1&\"=\",Data!$A492:$H492)),0)),B$1&\"=\",\"\"),\"\")","v":""},{"$f":"IFERROR(SUBSTITUTE(INDEX(Data!$A492:$H492,,MATCH(FALSE,ISERROR(SEARCH(C$1&\"=\",Data!$A492:$H492)),0)),C$1&\"=\",\"\"),\"\")","v":""},{"$f":"IFERROR(SUBSTITUTE(INDEX(Data!$A492:$H492,,MATCH(FALSE,ISERROR(SEARCH(D$1&\"=\",Data!$A492:$H492)),0)),D$1&\"=\",\"\"),\"\")","v":""},{"$f":"IFERROR(SUBSTITUTE(INDEX(Data!$A492:$H492,,MATCH(FALSE,ISERROR(SEARCH(E$1&\"=\",Data!$A492:$H492)),0)),E$1&\"=\",\"\"),\"\")","v":""},{"$f":"IFERROR(SUBSTITUTE(INDEX(Data!$A492:$H492,,MATCH(FALSE,ISERROR(SEARCH(F$1&\"=\",Data!$A492:$H492)),0)),F$1&\"=\",\"\"),\"\")","v":""},{"$f":"IFERROR(SUBSTITUTE(INDEX(Data!$A492:$H492,,MATCH(FALSE,ISERROR(SEARCH(G$1&\"=\",Data!$A492:$H492)),0)),G$1&\"=\",\"\"),\"\")","v":""},{"$f":"IFERROR(SUBSTITUTE(INDEX(Data!$A492:$H492,,MATCH(FALSE,ISERROR(SEARCH(H$1&\"=\",Data!$A492:$H492)),0)),H$1&\"=\",\"\"),\"\")","v":""},{"$f":"IFERROR(SUBSTITUTE(INDEX(Data!$A492:$H492,,MATCH(FALSE,ISERROR(SEARCH(I$1&\"=\",Data!$A492:$H492)),0)),I$1&\"=\",\"\"),\"\")","v":""},{"$f":"IFERROR(SUBSTITUTE(INDEX(Data!$A492:$H492,,MATCH(FALSE,ISERROR(SEARCH(J$1&\"=\",Data!$A492:$H492)),0)),J$1&\"=\",\"\"),\"\")","v":""}]
[{"$f":"IFERROR(SUBSTITUTE(INDEX(Data!$A493:$H493,,MATCH(FALSE,ISERROR(SEARCH(A$1&\"=\",Data!$A493:$H493)),0)),A$1&\"=\",\"\"),\"\")","v":""},{"$f":"IFERROR(SUBSTITUTE(INDEX(Data!$A493:$H493,,MATCH(FALSE,ISERROR(SEARCH(B$1&\"=\",Data!$A493:$H493)),0)),B$1&\"=\",\"\"),\"\")","v":""},{"$f":"IFERROR(SUBSTITUTE(INDEX(Data!$A493:$H493,,MATCH(FALSE,ISERROR(SEARCH(C$1&\"=\",Data!$A493:$H493)),0)),C$1&\"=\",\"\"),\"\")","v":""},{"$f":"IFERROR(SUBSTITUTE(INDEX(Data!$A493:$H493,,MATCH(FALSE,ISERROR(SEARCH(D$1&\"=\",Data!$A493:$H493)),0)),D$1&\"=\",\"\"),\"\")","v":""},{"$f":"IFERROR(SUBSTITUTE(INDEX(Data!$A493:$H493,,MATCH(FALSE,ISERROR(SEARCH(E$1&\"=\",Data!$A493:$H493)),0)),E$1&\"=\",\"\"),\"\")","v":""},{"$f":"IFERROR(SUBSTITUTE(INDEX(Data!$A493:$H493,,MATCH(FALSE,ISERROR(SEARCH(F$1&\"=\",Data!$A493:$H493)),0)),F$1&\"=\",\"\"),\"\")","v":""},{"$f":"IFERROR(SUBSTITUTE(INDEX(Data!$A493:$H493,,MATCH(FALSE,ISERROR(SEARCH(G$1&\"=\",Data!$A493:$H493)),0)),G$1&\"=\",\"\"),\"\")","v":""},{"$f":"IFERROR(SUBSTITUTE(INDEX(Data!$A493:$H493,,MATCH(FALSE,ISERROR(SEARCH(H$1&\"=\",Data!$A493:$H493)),0)),H$1&\"=\",\"\"),\"\")","v":""},{"$f":"IFERROR(SUBSTITUTE(INDEX(Data!$A493:$H493,,MATCH(FALSE,ISERROR(SEARCH(I$1&\"=\",Data!$A493:$H493)),0)),I$1&\"=\",\"\"),\"\")","v":""},{"$f":"IFERROR(SUBSTITUTE(INDEX(Data!$A493:$H493,,MATCH(FALSE,ISERROR(SEARCH(J$1&\"=\",Data!$A493:$H493)),0)),J$1&\"=\",\"\"),\"\")","v":""}]
[{"$f":"IFERROR(SUBSTITUTE(INDEX(Data!$A494:$H494,,MATCH(FALSE,ISERROR(SEARCH(A$1&\"=\",Data!$A494:$H494)),0)),A$1&\"=\",\"\"),\"\")","v":""},{"$f":"IFERROR(SUBSTITUTE(INDEX(Data!$A494:$H494,,MATCH(FALSE,ISERROR(SEARCH(B$1&\"=\",Data!$A494:$H494)),0)),B$1&\"=\",\"\"),\"\")","v":""},{"$f":"IFERROR(SUBSTITUTE(INDEX(Data!$A494:$H494,,MATCH(FALSE,ISERROR(SEARCH(C$1&\"=\",Data!$A494:$H494)),0)),C$1&\"=\",\"\"),\"\")","v":""},{"$f":"IFERROR(SUBSTITUTE(INDEX(Data!$A494:$H494,,MATCH(FALSE,ISERROR(SEARCH(D$1&\"=\",Data!$A494:$H494)),0)),D$1&\"=\",\"\"),\"\")","v":""},{"$f":"IFERROR(SUBSTITUTE(INDEX(Data!$A494:$H494,,MATCH(FALSE,ISERROR(SEARCH(E$1&\"=\",Data!$A494:$H494)),0)),E$1&\"=\",\"\"),\"\")","v":""},{"$f":"IFERROR(SUBSTITUTE(INDEX(Data!$A494:$H494,,MATCH(FALSE,ISERROR(SEARCH(F$1&\"=\",Data!$A494:$H494)),0)),F$1&\"=\",\"\"),\"\")","v":""},{"$f":"IFERROR(SUBSTITUTE(INDEX(Data!$A494:$H494,,MATCH(FALSE,ISERROR(SEARCH(G$1&\"=\",Data!$A494:$H494)),0)),G$1&\"=\",\"\"),\"\")","v":""},{"$f":"IFERROR(SUBSTITUTE(INDEX(Data!$A494:$H494,,MATCH(FALSE,ISERROR(SEARCH(H$1&\"=\",Data!$A494:$H494)),0)),H$1&\"=\",\"\"),\"\")","v":""},{"$f":"IFERROR(SUBSTITUTE(INDEX(Data!$A494:$H494,,MATCH(FALSE,ISERROR(SEARCH(I$1&\"=\",Data!$A494:$H494)),0)),I$1&\"=\",\"\"),\"\")","v":""},{"$f":"IFERROR(SUBSTITUTE(INDEX(Data!$A494:$H494,,MATCH(FALSE,ISERROR(SEARCH(J$1&\"=\",Data!$A494:$H494)),0)),J$1&\"=\",\"\"),\"\")","v":""}]
[{"$f":"IFERROR(SUBSTITUTE(INDEX(Data!$A495:$H495,,MATCH(FALSE,ISERROR(SEARCH(A$1&\"=\",Data!$A495:$H495)),0)),A$1&\"=\",\"\"),\"\")","v":""},{"$f":"IFERROR(SUBSTITUTE(INDEX(Data!$A495:$H495,,MATCH(FALSE,ISERROR(SEARCH(B$1&\"=\",Data!$A495:$H495)),0)),B$1&\"=\",\"\"),\"\")","v":""},{"$f":"IFERROR(SUBSTITUTE(INDEX(Data!$A495:$H495,,MATCH(FALSE,ISERROR(SEARCH(C$1&\"=\",Data!$A495:$H495)),0)),C$1&\"=\",\"\"),\"\")","v":""},{"$f":"IFERROR(SUBSTITUTE(INDEX(Data!$A495:$H495,,MATCH(FALSE,ISERROR(SEARCH(D$1&\"=\",Data!$A495:$H495)),0)),D$1&\"=\",\"\"),\"\")","v":""},{"$f":"IFERROR(SUBSTITUTE(INDEX(Data!$A495:$H495,,MATCH(FALSE,ISERROR(SEARCH(E$1&\"=\",Data!$A495:$H495)),0)),E$1&\"=\",\"\"),\"\")","v":""},{"$f":"IFERROR(SUBSTITUTE(INDEX(Data!$A495:$H495,,MATCH(FALSE,ISERROR(SEARCH(F$1&\"=\",Data!$A495:$H495)),0)),F$1&\"=\",\"\"),\"\")","v":""},{"$f":"IFERROR(SUBSTITUTE(INDEX(Data!$A495:$H495,,MATCH(FALSE,ISERROR(SEARCH(G$1&\"=\",Data!$A495:$H495)),0)),G$1&\"=\",\"\"),\"\")","v":""},{"$f":"IFERROR(SUBSTITUTE(INDEX(Data!$A495:$H495,,MATCH(FALSE,ISERROR(SEARCH(H$1&\"=\",Data!$A495:$H495)),0)),H$1&\"=\",\"\"),\"\")","v":""},{"$f":"IFERROR(SUBSTITUTE(INDEX(Data!$A495:$H495,,MATCH(FALSE,ISERROR(SEARCH(I$1&\"=\",Data!$A495:$H495)),0)),I$1&\"=\",\"\"),\"\")","v":""},{"$f":"IFERROR(SUBSTITUTE(INDEX(Data!$A495:$H495,,MATCH(FALSE,ISERROR(SEARCH(J$1&\"=\",Data!$A495:$H495)),0)),J$1&\"=\",\"\"),\"\")","v":""}]
[{"$f":"IFERROR(SUBSTITUTE(INDEX(Data!$A496:$H496,,MATCH(FALSE,ISERROR(SEARCH(A$1&\"=\",Data!$A496:$H496)),0)),A$1&\"=\",\"\"),\"\")","v":""},{"$f":"IFERROR(SUBSTITUTE(INDEX(Data!$A496:$H496,,MATCH(FALSE,ISERROR(SEARCH(B$1&\"=\",Data!$A496:$H496)),0)),B$1&\"=\",\"\"),\"\")","v":""},{"$f":"IFERROR(SUBSTITUTE(INDEX(Data!$A496:$H496,,MATCH(FALSE,ISERROR(SEARCH(C$1&\"=\",Data!$A496:$H496)),0)),C$1&\"=\",\"\"),\"\")","v":""},{"$f":"IFERROR(SUBSTITUTE(INDEX(Data!$A496:$H496,,MATCH(FALSE,ISERROR(SEARCH(D$1&\"=\",Data!$A496:$H496)),0)),D$1&\"=\",\"\"),\"\")","v":""},{"$f":"IFERROR(SUBSTITUTE(INDEX(Data!$A496:$H496,,MATCH(FALSE,ISERROR(SEARCH(E$1&\"=\",Data!$A496:$H496)),0)),E$1&\"=\",\"\"),\"\")","v":""},{"$f":"IFERROR(SUBSTITUTE(INDEX(Data!$A496:$H496,,MATCH(FALSE,ISERROR(SEARCH(F$1&\"=\",Data!$A496:$H496)),0)),F$1&\"=\",\"\"),\"\")","v":""},{"$f":"IFERROR(SUBSTITUTE(INDEX(Data!$A496:$H496,,MATCH(FALSE,ISERROR(SEARCH(G$1&\"=\",Data!$A496:$H496)),0)),G$1&\"=\",\"\"),\"\")","v":""},{"$f":"IFERROR(SUBSTITUTE(INDEX(Data!$A496:$H496,,MATCH(FALSE,ISERROR(SEARCH(H$1&\"=\",Data!$A496:$H496)),0)),H$1&\"=\",\"\"),\"\")","v":""},{"$f":"IFERROR(SUBSTITUTE(INDEX(Data!$A496:$H496,,MATCH(FALSE,ISERROR(SEARCH(I$1&\"=\",Data!$A496:$H496)),0)),I$1&\"=\",\"\"),\"\")","v":""},{"$f":"IFERROR(SUBSTITUTE(INDEX(Data!$A496:$H496,,MATCH(FALSE,ISERROR(SEARCH(J$1&\"=\",Data!$A496:$H496)),0)),J$1&\"=\",\"\"),\"\")","v":""}]
[{"$f":"IFERROR(SUBSTITUTE(INDEX(Data!$A497:$H497,,MATCH(FALSE,ISERROR(SEARCH(A$1&\"=\",Data!$A497:$H497)),0)),A$1&\"=\",\"\"),\"\")","v":""},{"$f":"IFERROR(SUBSTITUTE(INDEX(Data!$A497:$H497,,MATCH(FALSE,ISERROR(SEARCH(B$1&\"=\",Data!$A497:$H497)),0)),B$1&\"=\",\"\"),\"\")","v":""},{"$f":"IFERROR(SUBSTITUTE(INDEX(Data!$A497:$H497,,MATCH(FALSE,ISERROR(SEARCH(C$1&\"=\",Data!$A497:$H497)),0)),C$1&\"=\",\"\"),\"\")","v":""},{"$f":"IFERROR(SUBSTITUTE(INDEX(Data!$A497:$H497,,MATCH(FALSE,ISERROR(SEARCH(D$1&\"=\",Data!$A497:$H497)),0)),D$1&\"=\",\"\"),\"\")","v":""},{"$f":"IFERROR(SUBSTITUTE(INDEX(Data!$A497:$H497,,MATCH(FALSE,ISERROR(SEARCH(E$1&\"=\",Data!$A497:$H497)),0)),E$1&\"=\",\"\"),\"\")","v":""},{"$f":"IFERROR(SUBSTITUTE(INDEX(Data!$A497:$H497,,MATCH(FALSE,ISERROR(SEARCH(F$1&\"=\",Data!$A497:$H497)),0)),F$1&\"=\",\"\"),\"\")","v":""},{"$f":"IFERROR(SUBSTITUTE(INDEX(Data!$A497:$H497,,MATCH(FALSE,ISERROR(SEARCH(G$1&\"=\",Data!$A497:$H497)),0)),G$1&\"=\",\"\"),\"\")","v":""},{"$f":"IFERROR(SUBSTITUTE(INDEX(Data!$A497:$H497,,MATCH(FALSE,ISERROR(SEARCH(H$1&\"=\",Data!$A497:$H497)),0)),H$1&\"=\",\"\"),\"\")","v":""},{"$f":"IFERROR(SUBSTITUTE(INDEX(Data!$A497:$H497,,MATCH(FALSE,ISERROR(SEARCH(I$1&\"=\",Data!$A497:$H497)),0)),I$1&\"=\",\"\"),\"\")","v":""},{"$f":"IFERROR(SUBSTITUTE(INDEX(Data!$A497:$H497,,MATCH(FALSE,ISERROR(SEARCH(J$1&\"=\",Data!$A497:$H497)),0)),J$1&\"=\",\"\"),\"\")","v":""}]
[{"$f":"IFERROR(SUBSTITUTE(INDEX(Data!$A498:$H498,,MATCH(FALSE,ISERROR(SEARCH(A$1&\"=\",Data!$A498:$H498)),0)),A$1&\"=\",\"\"),\"\")","v":""},{"$f":"IFERROR(SUBSTITUTE(INDEX(Data!$A498:$H498,,MATCH(FALSE,ISERROR(SEARCH(B$1&\"=\",Data!$A498:$H498)),0)),B$1&\"=\",\"\"),\"\")","v":""},{"$f":"IFERROR(SUBSTITUTE(INDEX(Data!$A498:$H498,,MATCH(FALSE,ISERROR(SEARCH(C$1&\"=\",Data!$A498:$H498)),0)),C$1&\"=\",\"\"),\"\")","v":""},{"$f":"IFERROR(SUBSTITUTE(INDEX(Data!$A498:$H498,,MATCH(FALSE,ISERROR(SEARCH(D$1&\"=\",Data!$A498:$H498)),0)),D$1&\"=\",\"\"),\"\")","v":""},{"$f":"IFERROR(SUBSTITUTE(INDEX(Data!$A498:$H498,,MATCH(FALSE,ISERROR(SEARCH(E$1&\"=\",Data!$A498:$H498)),0)),E$1&\"=\",\"\"),\"\")","v":""},{"$f":"IFERROR(SUBSTITUTE(INDEX(Data!$A498:$H498,,MATCH(FALSE,ISERROR(SEARCH(F$1&\"=\",Data!$A498:$H498)),0)),F$1&\"=\",\"\"),\"\")","v":""},{"$f":"IFERROR(SUBSTITUTE(INDEX(Data!$A498:$H498,,MATCH(FALSE,ISERROR(SEARCH(G$1&\"=\",Data!$A498:$H498)),0)),G$1&\"=\",\"\"),\"\")","v":""},{"$f":"IFERROR(SUBSTITUTE(INDEX(Data!$A498:$H498,,MATCH(FALSE,ISERROR(SEARCH(H$1&\"=\",Data!$A498:$H498)),0)),H$1&\"=\",\"\"),\"\")","v":""},{"$f":"IFERROR(SUBSTITUTE(INDEX(Data!$A498:$H498,,MATCH(FALSE,ISERROR(SEARCH(I$1&\"=\",Data!$A498:$H498)),0)),I$1&\"=\",\"\"),\"\")","v":""},{"$f":"IFERROR(SUBSTITUTE(INDEX(Data!$A498:$H498,,MATCH(FALSE,ISERROR(SEARCH(J$1&\"=\",Data!$A498:$H498)),0)),J$1&\"=\",\"\"),\"\")","v":""}]
[{"$f":"IFERROR(SUBSTITUTE(INDEX(Data!$A499:$H499,,MATCH(FALSE,ISERROR(SEARCH(A$1&\"=\",Data!$A499:$H499)),0)),A$1&\"=\",\"\"),\"\")","v":""},{"$f":"IFERROR(SUBSTITUTE(INDEX(Data!$A499:$H499,,MATCH(FALSE,ISERROR(SEARCH(B$1&\"=\",Data!$A499:$H499)),0)),B$1&\"=\",\"\"),\"\")","v":""},{"$f":"IFERROR(SUBSTITUTE(INDEX(Data!$A499:$H499,,MATCH(FALSE,ISERROR(SEARCH(C$1&\"=\",Data!$A499:$H499)),0)),C$1&\"=\",\"\"),\"\")","v":""},{"$f":"IFERROR(SUBSTITUTE(INDEX(Data!$A499:$H499,,MATCH(FALSE,ISERROR(SEARCH(D$1&\"=\",Data!$A499:$H499)),0)),D$1&\"=\",\"\"),\"\")","v":""},{"$f":"IFERROR(SUBSTITUTE(INDEX(Data!$A499:$H499,,MATCH(FALSE,ISERROR(SEARCH(E$1&\"=\",Data!$A499:$H499)),0)),E$1&\"=\",\"\"),\"\")","v":""},{"$f":"IFERROR(SUBSTITUTE(INDEX(Data!$A499:$H499,,MATCH(FALSE,ISERROR(SEARCH(F$1&\"=\",Data!$A499:$H499)),0)),F$1&\"=\",\"\"),\"\")","v":""},{"$f":"IFERROR(SUBSTITUTE(INDEX(Data!$A499:$H499,,MATCH(FALSE,ISERROR(SEARCH(G$1&\"=\",Data!$A499:$H499)),0)),G$1&\"=\",\"\"),\"\")","v":""},{"$f":"IFERROR(SUBSTITUTE(INDEX(Data!$A499:$H499,,MATCH(FALSE,ISERROR(SEARCH(H$1&\"=\",Data!$A499:$H499)),0)),H$1&\"=\",\"\"),\"\")","v":""},{"$f":"IFERROR(SUBSTITUTE(INDEX(Data!$A499:$H499,,MATCH(FALSE,ISERROR(SEARCH(I$1&\"=\",Data!$A499:$H499)),0)),I$1&\"=\",\"\"),\"\")","v":""},{"$f":"IFERROR(SUBSTITUTE(INDEX(Data!$A499:$H499,,MATCH(FALSE,ISERROR(SEARCH(J$1&\"=\",Data!$A499:$H499)),0)),J$1&\"=\",\"\"),\"\")","v":""}]
[{"$f":"IFERROR(SUBSTITUTE(INDEX(Data!$A500:$H500,,MATCH(FALSE,ISERROR(SEARCH(A$1&\"=\",Data!$A500:$H500)),0)),A$1&\"=\",\"\"),\"\")","v":""},{"$f":"IFERROR(SUBSTITUTE(INDEX(Data!$A500:$H500,,MATCH(FALSE,ISERROR(SEARCH(B$1&\"=\",Data!$A500:$H500)),0)),B$1&\"=\",\"\"),\"\")","v":""},{"$f":"IFERROR(SUBSTITUTE(INDEX(Data!$A500:$H500,,MATCH(FALSE,ISERROR(SEARCH(C$1&\"=\",Data!$A500:$H500)),0)),C$1&\"=\",\"\"),\"\")","v":""},{"$f":"IFERROR(SUBSTITUTE(INDEX(Data!$A500:$H500,,MATCH(FALSE,ISERROR(SEARCH(D$1&\"=\",Data!$A500:$H500)),0)),D$1&\"=\",\"\"),\"\")","v":""},{"$f":"IFERROR(SUBSTITUTE(INDEX(Data!$A500:$H500,,MATCH(FALSE,ISERROR(SEARCH(E$1&\"=\",Data!$A500:$H500)),0)),E$1&\"=\",\"\"),\"\")","v":""},{"$f":"IFERROR(SUBSTITUTE(INDEX(Data!$A500:$H500,,MATCH(FALSE,ISERROR(SEARCH(F$1&\"=\",Data!$A500:$H500)),0)),F$1&\"=\",\"\"),\"\")","v":""},{"$f":"IFERROR(SUBSTITUTE(INDEX(Data!$A500:$H500,,MATCH(FALSE,ISERROR(SEARCH(G$1&\"=\",Data!$A500:$H500)),0)),G$1&\"=\",\"\"),\"\")","v":""},{"$f":"IFERROR(SUBSTITUTE(INDEX(Data!$A500:$H500,,MATCH(FALSE,ISERROR(SEARCH(H$1&\"=\",Data!$A500:$H500)),0)),H$1&\"=\",\"\"),\"\")","v":""},{"$f":"IFERROR(SUBSTITUTE(INDEX(Data!$A500:$H500,,MATCH(FALSE,ISERROR(SEARCH(I$1&\"=\",Data!$A500:$H500)),0)),I$1&\"=\",\"\"),\"\")","v":""},{"$f":"IFERROR(SUBSTITUTE(INDEX(Data!$A500:$H500,,MATCH(FALSE,ISERROR(SEARCH(J$1&\"=\",Data!$A500:$H500)),0)),J$1&\"=\",\"\"),\"\")","v":""}]
[{"$f":"IFERROR(SUBSTITUTE(INDEX(Data!$A501:$H501,,MATCH(FALSE,ISERROR(SEARCH(A$1&\"=\",Data!$A501:$H501)),0)),A$1&\"=\",\"\"),\"\")","v":""},{"$f":"IFERROR(SUBSTITUTE(INDEX(Data!$A501:$H501,,MATCH(FALSE,ISERROR(SEARCH(B$1&\"=\",Data!$A501:$H501)),0)),B$1&\"=\",\"\"),\"\")","v":""},{"$f":"IFERROR(SUBSTITUTE(INDEX(Data!$A501:$H501,,MATCH(FALSE,ISERROR(SEARCH(C$1&\"=\",Data!$A501:$H501)),0)),C$1&\"=\",\"\"),\"\")","v":""},{"$f":"IFERROR(SUBSTITUTE(INDEX(Data!$A501:$H501,,MATCH(FALSE,ISERROR(SEARCH(D$1&\"=\",Data!$A501:$H501)),0)),D$1&\"=\",\"\"),\"\")","v":""},{"$f":"IFERROR(SUBSTITUTE(INDEX(Data!$A501:$H501,,MATCH(FALSE,ISERROR(SEARCH(E$1&\"=\",Data!$A501:$H501)),0)),E$1&\"=\",\"\"),\"\")","v":""},{"$f":"IFERROR(SUBSTITUTE(INDEX(Data!$A501:$H501,,MATCH(FALSE,ISERROR(SEARCH(F$1&\"=\",Data!$A501:$H501)),0)),F$1&\"=\",\"\"),\"\")","v":""},{"$f":"IFERROR(SUBSTITUTE(INDEX(Data!$A501:$H501,,MATCH(FALSE,ISERROR(SEARCH(G$1&\"=\",Data!$A501:$H501)),0)),G$1&\"=\",\"\"),\"\")","v":""},{"$f":"IFERROR(SUBSTITUTE(INDEX(Data!$A501:$H501,,MATCH(FALSE,ISERROR(SEARCH(H$1&\"=\",Data!$A501:$H501)),0)),H$1&\"=\",\"\"),\"\")","v":""},{"$f":"IFERROR(SUBSTITUTE(INDEX(Data!$A501:$H501,,MATCH(FALSE,ISERROR(SEARCH(I$1&\"=\",Data!$A501:$H501)),0)),I$1&\"=\",\"\"),\"\")","v":""},{"$f":"IFERROR(SUBSTITUTE(INDEX(Data!$A501:$H501,,MATCH(FALSE,ISERROR(SEARCH(J$1&\"=\",Data!$A501:$H501)),0)),J$1&\"=\",\"\"),\"\")","v":""}]
[{"$f":"IFERROR(SUBSTITUTE(INDEX(Data!$A502:$H502,,MATCH(FALSE,ISERROR(SEARCH(A$1&\"=\",Data!$A502:$H502)),0)),A$1&\"=\",\"\"),\"\")","v":""},{"$f":"IFERROR(SUBSTITUTE(INDEX(Data!$A502:$H502,,MATCH(FALSE,ISERROR(SEARCH(B$1&\"=\",Data!$A502:$H502)),0)),B$1&\"=\",\"\"),\"\")","v":""},{"$f":"IFERROR(SUBSTITUTE(INDEX(Data!$A502:$H502,,MATCH(FALSE,ISERROR(SEARCH(C$1&\"=\",Data!$A502:$H502)),0)),C$1&\"=\",\"\"),\"\")","v":""},{"$f":"IFERROR(SUBSTITUTE(INDEX(Data!$A502:$H502,,MATCH(FALSE,ISERROR(SEARCH(D$1&\"=\",Data!$A502:$H502)),0)),D$1&\"=\",\"\"),\"\")","v":""},{"$f":"IFERROR(SUBSTITUTE(INDEX(Data!$A502:$H502,,MATCH(FALSE,ISERROR(SEARCH(E$1&\"=\",Data!$A502:$H502)),0)),E$1&\"=\",\"\"),\"\")","v":""},{"$f":"IFERROR(SUBSTITUTE(INDEX(Data!$A502:$H502,,MATCH(FALSE,ISERROR(SEARCH(F$1&\"=\",Data!$A502:$H502)),0)),F$1&\"=\",\"\"),\"\")","v":""},{"$f":"IFERROR(SUBSTITUTE(INDEX(Data!$A502:$H502,,MATCH(FALSE,ISERROR(SEARCH(G$1&\"=\",Data!$A502:$H502)),0)),G$1&\"=\",\"\"),\"\")","v":""},{"$f":"IFERROR(SUBSTITUTE(INDEX(Data!$A502:$H502,,MATCH(FALSE,ISERROR(SEARCH(H$1&\"=\",Data!$A502:$H502)),0)),H$1&\"=\",\"\"),\"\")","v":""},{"$f":"IFERROR(SUBSTITUTE(INDEX(Data!$A502:$H502,,MATCH(FALSE,ISERROR(SEARCH(I$1&\"=\",Data!$A502:$H502)),0)),I$1&\"=\",\"\"),\"\")","v":""},{"$f":"IFERROR(SUBSTITUTE(INDEX(Data!$A502:$H502,,MATCH(FALSE,ISERROR(SEARCH(J$1&\"=\",Data!$A502:$H502)),0)),J$1&\"=\",\"\"),\"\")","v":""}]
[{"$f":"IFERROR(SUBSTITUTE(INDEX(Data!$A503:$H503,,MATCH(FALSE,ISERROR(SEARCH(A$1&\"=\",Data!$A503:$H503)),0)),A$1&\"=\",\"\"),\"\")","v":""},{"$f":"IFERROR(SUBSTITUTE(INDEX(Data!$A503:$H503,,MATCH(FALSE,ISERROR(SEARCH(B$1&\"=\",Data!$A503:$H503)),0)),B$1&\"=\",\"\"),\"\")","v":""},{"$f":"IFERROR(SUBSTITUTE(INDEX(Data!$A503:$H503,,MATCH(FALSE,ISERROR(SEARCH(C$1&\"=\",Data!$A503:$H503)),0)),C$1&\"=\",\"\"),\"\")","v":""},{"$f":"IFERROR(SUBSTITUTE(INDEX(Data!$A503:$H503,,MATCH(FALSE,ISERROR(SEARCH(D$1&\"=\",Data!$A503:$H503)),0)),D$1&\"=\",\"\"),\"\")","v":""},{"$f":"IFERROR(SUBSTITUTE(INDEX(Data!$A503:$H503,,MATCH(FALSE,ISERROR(SEARCH(E$1&\"=\",Data!$A503:$H503)),0)),E$1&\"=\",\"\"),\"\")","v":""},{"$f":"IFERROR(SUBSTITUTE(INDEX(Data!$A503:$H503,,MATCH(FALSE,ISERROR(SEARCH(F$1&\"=\",Data!$A503:$H503)),0)),F$1&\"=\",\"\"),\"\")","v":""},{"$f":"IFERROR(SUBSTITUTE(INDEX(Data!$A503:$H503,,MATCH(FALSE,ISERROR(SEARCH(G$1&\"=\",Data!$A503:$H503)),0)),G$1&\"=\",\"\"),\"\")","v":""},{"$f":"IFERROR(SUBSTITUTE(INDEX(Data!$A503:$H503,,MATCH(FALSE,ISERROR(SEARCH(H$1&\"=\",Data!$A503:$H503)),0)),H$1&\"=\",\"\"),\"\")","v":""},{"$f":"IFERROR(SUBSTITUTE(INDEX(Data!$A503:$H503,,MATCH(FALSE,ISERROR(SEARCH(I$1&\"=\",Data!$A503:$H503)),0)),I$1&\"=\",\"\"),\"\")","v":""},{"$f":"IFERROR(SUBSTITUTE(INDEX(Data!$A503:$H503,,MATCH(FALSE,ISERROR(SEARCH(J$1&\"=\",Data!$A503:$H503)),0)),J$1&\"=\",\"\"),\"\")","v":""}]
[{"$f":"IFERROR(SUBSTITUTE(INDEX(Data!$A504:$H504,,MATCH(FALSE,ISERROR(SEARCH(A$1&\"=\",Data!$A504:$H504)),0)),A$1&\"=\",\"\"),\"\")","v":""},{"$f":"IFERROR(SUBSTITUTE(INDEX(Data!$A504:$H504,,MATCH(FALSE,ISERROR(SEARCH(B$1&\"=\",Data!$A504:$H504)),0)),B$1&\"=\",\"\"),\"\")","v":""},{"$f":"IFERROR(SUBSTITUTE(INDEX(Data!$A504:$H504,,MATCH(FALSE,ISERROR(SEARCH(C$1&\"=\",Data!$A504:$H504)),0)),C$1&\"=\",\"\"),\"\")","v":""},{"$f":"IFERROR(SUBSTITUTE(INDEX(Data!$A504:$H504,,MATCH(FALSE,ISERROR(SEARCH(D$1&\"=\",Data!$A504:$H504)),0)),D$1&\"=\",\"\"),\"\")","v":""},{"$f":"IFERROR(SUBSTITUTE(INDEX(Data!$A504:$H504,,MATCH(FALSE,ISERROR(SEARCH(E$1&\"=\",Data!$A504:$H504)),0)),E$1&\"=\",\"\"),\"\")","v":""},{"$f":"IFERROR(SUBSTITUTE(INDEX(Data!$A504:$H504,,MATCH(FALSE,ISERROR(SEARCH(F$1&\"=\",Data!$A504:$H504)),0)),F$1&\"=\",\"\"),\"\")","v":""},{"$f":"IFERROR(SUBSTITUTE(INDEX(Data!$A504:$H504,,MATCH(FALSE,ISERROR(SEARCH(G$1&\"=\",Data!$A504:$H504)),0)),G$1&\"=\",\"\"),\"\")","v":""},{"$f":"IFERROR(SUBSTITUTE(INDEX(Data!$A504:$H504,,MATCH(FALSE,ISERROR(SEARCH(H$1&\"=\",Data!$A504:$H504)),0)),H$1&\"=\",\"\"),\"\")","v":""},{"$f":"IFERROR(SUBSTITUTE(INDEX(Data!$A504:$H504,,MATCH(FALSE,ISERROR(SEARCH(I$1&\"=\",Data!$A504:$H504)),0)),I$1&\"=\",\"\"),\"\")","v":""},{"$f":"IFERROR(SUBSTITUTE(INDEX(Data!$A504:$H504,,MATCH(FALSE,ISERROR(SEARCH(J$1&\"=\",Data!$A504:$H504)),0)),J$1&\"=\",\"\"),\"\")","v":""}]
[{"$f":"IFERROR(SUBSTITUTE(INDEX(Data!$A505:$H505,,MATCH(FALSE,ISERROR(SEARCH(A$1&\"=\",Data!$A505:$H505)),0)),A$1&\"=\",\"\"),\"\")","v":""},{"$f":"IFERROR(SUBSTITUTE(INDEX(Data!$A505:$H505,,MATCH(FALSE,ISERROR(SEARCH(B$1&\"=\",Data!$A505:$H505)),0)),B$1&\"=\",\"\"),\"\")","v":""},{"$f":"IFERROR(SUBSTITUTE(INDEX(Data!$A505:$H505,,MATCH(FALSE,ISERROR(SEARCH(C$1&\"=\",Data!$A505:$H505)),0)),C$1&\"=\",\"\"),\"\")","v":""},{"$f":"IFERROR(SUBSTITUTE(INDEX(Data!$A505:$H505,,MATCH(FALSE,ISERROR(SEARCH(D$1&\"=\",Data!$A505:$H505)),0)),D$1&\"=\",\"\"),\"\")","v":""},{"$f":"IFERROR(SUBSTITUTE(INDEX(Data!$A505:$H505,,MATCH(FALSE,ISERROR(SEARCH(E$1&\"=\",Data!$A505:$H505)),0)),E$1&\"=\",\"\"),\"\")","v":""},{"$f":"IFERROR(SUBSTITUTE(INDEX(Data!$A505:$H505,,MATCH(FALSE,ISERROR(SEARCH(F$1&\"=\",Data!$A505:$H505)),0)),F$1&\"=\",\"\"),\"\")","v":""},{"$f":"IFERROR(SUBSTITUTE(INDEX(Data!$A505:$H505,,MATCH(FALSE,ISERROR(SEARCH(G$1&\"=\",Data!$A505:$H505)),0)),G$1&\"=\",\"\"),\"\")","v":""},{"$f":"IFERROR(SUBSTITUTE(INDEX(Data!$A505:$H505,,MATCH(FALSE,ISERROR(SEARCH(H$1&\"=\",Data!$A505:$H505)),0)),H$1&\"=\",\"\"),\"\")","v":""},{"$f":"IFERROR(SUBSTITUTE(INDEX(Data!$A505:$H505,,MATCH(FALSE,ISERROR(SEARCH(I$1&\"=\",Data!$A505:$H505)),0)),I$1&\"=\",\"\"),\"\")","v":""},{"$f":"IFERROR(SUBSTITUTE(INDEX(Data!$A505:$H505,,MATCH(FALSE,ISERROR(SEARCH(J$1&\"=\",Data!$A505:$H505)),0)),J$1&\"=\",\"\"),\"\")","v":""}]
[{"$f":"IFERROR(SUBSTITUTE(INDEX(Data!$A506:$H506,,MATCH(FALSE,ISERROR(SEARCH(A$1&\"=\",Data!$A506:$H506)),0)),A$1&\"=\",\"\"),\"\")","v":""},{"$f":"IFERROR(SUBSTITUTE(INDEX(Data!$A506:$H506,,MATCH(FALSE,ISERROR(SEARCH(B$1&\"=\",Data!$A506:$H506)),0)),B$1&\"=\",\"\"),\"\")","v":""},{"$f":"IFERROR(SUBSTITUTE(INDEX(Data!$A506:$H506,,MATCH(FALSE,ISERROR(SEARCH(C$1&\"=\",Data!$A506:$H506)),0)),C$1&\"=\",\"\"),\"\")","v":""},{"$f":"IFERROR(SUBSTITUTE(INDEX(Data!$A506:$H506,,MATCH(FALSE,ISERROR(SEARCH(D$1&\"=\",Data!$A506:$H506)),0)),D$1&\"=\",\"\"),\"\")","v":""},{"$f":"IFERROR(SUBSTITUTE(INDEX(Data!$A506:$H506,,MATCH(FALSE,ISERROR(SEARCH(E$1&\"=\",Data!$A506:$H506)),0)),E$1&\"=\",\"\"),\"\")","v":""},{"$f":"IFERROR(SUBSTITUTE(INDEX(Data!$A506:$H506,,MATCH(FALSE,ISERROR(SEARCH(F$1&\"=\",Data!$A506:$H506)),0)),F$1&\"=\",\"\"),\"\")","v":""},{"$f":"IFERROR(SUBSTITUTE(INDEX(Data!$A506:$H506,,MATCH(FALSE,ISERROR(SEARCH(G$1&\"=\",Data!$A506:$H506)),0)),G$1&\"=\",\"\"),\"\")","v":""},{"$f":"IFERROR(SUBSTITUTE(INDEX(Data!$A506:$H506,,MATCH(FALSE,ISERROR(SEARCH(H$1&\"=\",Data!$A506:$H506)),0)),H$1&\"=\",\"\"),\"\")","v":""},{"$f":"IFERROR(SUBSTITUTE(INDEX(Data!$A506:$H506,,MATCH(FALSE,ISERROR(SEARCH(I$1&\"=\",Data!$A506:$H506)),0)),I$1&\"=\",\"\"),\"\")","v":""},{"$f":"IFERROR(SUBSTITUTE(INDEX(Data!$A506:$H506,,MATCH(FALSE,ISERROR(SEARCH(J$1&\"=\",Data!$A506:$H506)),0)),J$1&\"=\",\"\"),\"\")","v":""}]
[{"$f":"IFERROR(SUBSTITUTE(INDEX(Data!$A507:$H507,,MATCH(FALSE,ISERROR(SEARCH(A$1&\"=\",Data!$A507:$H507)),0)),A$1&\"=\",\"\"),\"\")","v":""},{"$f":"IFERROR(SUBSTITUTE(INDEX(Data!$A507:$H507,,MATCH(FALSE,ISERROR(SEARCH(B$1&\"=\",Data!$A507:$H507)),0)),B$1&\"=\",\"\"),\"\")","v":""},{"$f":"IFERROR(SUBSTITUTE(INDEX(Data!$A507:$H507,,MATCH(FALSE,ISERROR(SEARCH(C$1&\"=\",Data!$A507:$H507)),0)),C$1&\"=\",\"\"),\"\")","v":""},{"$f":"IFERROR(SUBSTITUTE(INDEX(Data!$A507:$H507,,MATCH(FALSE,ISERROR(SEARCH(D$1&\"=\",Data!$A507:$H507)),0)),D$1&\"=\",\"\"),\"\")","v":""},{"$f":"IFERROR(SUBSTITUTE(INDEX(Data!$A507:$H507,,MATCH(FALSE,ISERROR(SEARCH(E$1&\"=\",Data!$A507:$H507)),0)),E$1&\"=\",\"\"),\"\")","v":""},{"$f":"IFERROR(SUBSTITUTE(INDEX(Data!$A507:$H507,,MATCH(FALSE,ISERROR(SEARCH(F$1&\"=\",Data!$A507:$H507)),0)),F$1&\"=\",\"\"),\"\")","v":""},{"$f":"IFERROR(SUBSTITUTE(INDEX(Data!$A507:$H507,,MATCH(FALSE,ISERROR(SEARCH(G$1&\"=\",Data!$A507:$H507)),0)),G$1&\"=\",\"\"),\"\")","v":""},{"$f":"IFERROR(SUBSTITUTE(INDEX(Data!$A507:$H507,,MATCH(FALSE,ISERROR(SEARCH(H$1&\"=\",Data!$A507:$H507)),0)),H$1&\"=\",\"\"),\"\")","v":""},{"$f":"IFERROR(SUBSTITUTE(INDEX(Data!$A507:$H507,,MATCH(FALSE,ISERROR(SEARCH(I$1&\"=\",Data!$A507:$H507)),0)),I$1&\"=\",\"\"),\"\")","v":""},{"$f":"IFERROR(SUBSTITUTE(INDEX(Data!$A507:$H507,,MATCH(FALSE,ISERROR(SEARCH(J$1&\"=\",Data!$A507:$H507)),0)),J$1&\"=\",\"\"),\"\")","v":""}]
[{"$f":"IFERROR(SUBSTITUTE(INDEX(Data!$A508:$H508,,MATCH(FALSE,ISERROR(SEARCH(A$1&\"=\",Data!$A508:$H508)),0)),A$1&\"=\",\"\"),\"\")","v":""},{"$f":"IFERROR(SUBSTITUTE(INDEX(Data!$A508:$H508,,MATCH(FALSE,ISERROR(SEARCH(B$1&\"=\",Data!$A508:$H508)),0)),B$1&\"=\",\"\"),\"\")","v":""},{"$f":"IFERROR(SUBSTITUTE(INDEX(Data!$A508:$H508,,MATCH(FALSE,ISERROR(SEARCH(C$1&\"=\",Data!$A508:$H508)),0)),C$1&\"=\",\"\"),\"\")","v":""},{"$f":"IFERROR(SUBSTITUTE(INDEX(Data!$A508:$H508,,MATCH(FALSE,ISERROR(SEARCH(D$1&\"=\",Data!$A508:$H508)),0)),D$1&\"=\",\"\"),\"\")","v":""},{"$f":"IFERROR(SUBSTITUTE(INDEX(Data!$A508:$H508,,MATCH(FALSE,ISERROR(SEARCH(E$1&\"=\",Data!$A508:$H508)),0)),E$1&\"=\",\"\"),\"\")","v":""},{"$f":"IFERROR(SUBSTITUTE(INDEX(Data!$A508:$H508,,MATCH(FALSE,ISERROR(SEARCH(F$1&\"=\",Data!$A508:$H508)),0)),F$1&\"=\",\"\"),\"\")","v":""},{"$f":"IFERROR(SUBSTITUTE(INDEX(Data!$A508:$H508,,MATCH(FALSE,ISERROR(SEARCH(G$1&\"=\",Data!$A508:$H508)),0)),G$1&\"=\",\"\"),\"\")","v":""},{"$f":"IFERROR(SUBSTITUTE(INDEX(Data!$A508:$H508,,MATCH(FALSE,ISERROR(SEARCH(H$1&\"=\",Data!$A508:$H508)),0)),H$1&\"=\",\"\"),\"\")","v":""},{"$f":"IFERROR(SUBSTITUTE(INDEX(Data!$A508:$H508,,MATCH(FALSE,ISERROR(SEARCH(I$1&\"=\",Data!$A508:$H508)),0)),I$1&\"=\",\"\"),\"\")","v":""},{"$f":"IFERROR(SUBSTITUTE(INDEX(Data!$A508:$H508,,MATCH(FALSE,ISERROR(SEARCH(J$1&\"=\",Data!$A508:$H508)),0)),J$1&\"=\",\"\"),\"\")","v":""}]
[{"$f":"IFERROR(SUBSTITUTE(INDEX(Data!$A509:$H509,,MATCH(FALSE,ISERROR(SEARCH(A$1&\"=\",Data!$A509:$H509)),0)),A$1&\"=\",\"\"),\"\")","v":""},{"$f":"IFERROR(SUBSTITUTE(INDEX(Data!$A509:$H509,,MATCH(FALSE,ISERROR(SEARCH(B$1&\"=\",Data!$A509:$H509)),0)),B$1&\"=\",\"\"),\"\")","v":""},{"$f":"IFERROR(SUBSTITUTE(INDEX(Data!$A509:$H509,,MATCH(FALSE,ISERROR(SEARCH(C$1&\"=\",Data!$A509:$H509)),0)),C$1&\"=\",\"\"),\"\")","v":""},{"$f":"IFERROR(SUBSTITUTE(INDEX(Data!$A509:$H509,,MATCH(FALSE,ISERROR(SEARCH(D$1&\"=\",Data!$A509:$H509)),0)),D$1&\"=\",\"\"),\"\")","v":""},{"$f":"IFERROR(SUBSTITUTE(INDEX(Data!$A509:$H509,,MATCH(FALSE,ISERROR(SEARCH(E$1&\"=\",Data!$A509:$H509)),0)),E$1&\"=\",\"\"),\"\")","v":""},{"$f":"IFERROR(SUBSTITUTE(INDEX(Data!$A509:$H509,,MATCH(FALSE,ISERROR(SEARCH(F$1&\"=\",Data!$A509:$H509)),0)),F$1&\"=\",\"\"),\"\")","v":""},{"$f":"IFERROR(SUBSTITUTE(INDEX(Data!$A509:$H509,,MATCH(FALSE,ISERROR(SEARCH(G$1&\"=\",Data!$A509:$H509)),0)),G$1&\"=\",\"\"),\"\")","v":""},{"$f":"IFERROR(SUBSTITUTE(INDEX(Data!$A509:$H509,,MATCH(FALSE,ISERROR(SEARCH(H$1&\"=\",Data!$A509:$H509)),0)),H$1&\"=\",\"\"),\"\")","v":""},{"$f":"IFERROR(SUBSTITUTE(INDEX(Data!$A509:$H509,,MATCH(FALSE,ISERROR(SEARCH(I$1&\"=\",Data!$A509:$H509)),0)),I$1&\"=\",\"\"),\"\")","v":""},{"$f":"IFERROR(SUBSTITUTE(INDEX(Data!$A509:$H509,,MATCH(FALSE,ISERROR(SEARCH(J$1&\"=\",Data!$A509:$H509)),0)),J$1&\"=\",\"\"),\"\")","v":""}]
[{"$f":"IFERROR(SUBSTITUTE(INDEX(Data!$A510:$H510,,MATCH(FALSE,ISERROR(SEARCH(A$1&\"=\",Data!$A510:$H510)),0)),A$1&\"=\",\"\"),\"\")","v":""},{"$f":"IFERROR(SUBSTITUTE(INDEX(Data!$A510:$H510,,MATCH(FALSE,ISERROR(SEARCH(B$1&\"=\",Data!$A510:$H510)),0)),B$1&\"=\",\"\"),\"\")","v":""},{"$f":"IFERROR(SUBSTITUTE(INDEX(Data!$A510:$H510,,MATCH(FALSE,ISERROR(SEARCH(C$1&\"=\",Data!$A510:$H510)),0)),C$1&\"=\",\"\"),\"\")","v":""},{"$f":"IFERROR(SUBSTITUTE(INDEX(Data!$A510:$H510,,MATCH(FALSE,ISERROR(SEARCH(D$1&\"=\",Data!$A510:$H510)),0)),D$1&\"=\",\"\"),\"\")","v":""},{"$f":"IFERROR(SUBSTITUTE(INDEX(Data!$A510:$H510,,MATCH(FALSE,ISERROR(SEARCH(E$1&\"=\",Data!$A510:$H510)),0)),E$1&\"=\",\"\"),\"\")","v":""},{"$f":"IFERROR(SUBSTITUTE(INDEX(Data!$A510:$H510,,MATCH(FALSE,ISERROR(SEARCH(F$1&\"=\",Data!$A510:$H510)),0)),F$1&\"=\",\"\"),\"\")","v":""},{"$f":"IFERROR(SUBSTITUTE(INDEX(Data!$A510:$H510,,MATCH(FALSE,ISERROR(SEARCH(G$1&\"=\",Data!$A510:$H510)),0)),G$1&\"=\",\"\"),\"\")","v":""},{"$f":"IFERROR(SUBSTITUTE(INDEX(Data!$A510:$H510,,MATCH(FALSE,ISERROR(SEARCH(H$1&\"=\",Data!$A510:$H510)),0)),H$1&\"=\",\"\"),\"\")","v":""},{"$f":"IFERROR(SUBSTITUTE(INDEX(Data!$A510:$H510,,MATCH(FALSE,ISERROR(SEARCH(I$1&\"=\",Data!$A510:$H510)),0)),I$1&\"=\",\"\"),\"\")","v":""},{"$f":"IFERROR(SUBSTITUTE(INDEX(Data!$A510:$H510,,MATCH(FALSE,ISERROR(SEARCH(J$1&\"=\",Data!$A510:$H510)),0)),J$1&\"=\",\"\"),\"\")","v":""}]
[{"$f":"IFERROR(SUBSTITUTE(INDEX(Data!$A511:$H511,,MATCH(FALSE,ISERROR(SEARCH(A$1&\"=\",Data!$A511:$H511)),0)),A$1&\"=\",\"\"),\"\")","v":""},{"$f":"IFERROR(SUBSTITUTE(INDEX(Data!$A511:$H511,,MATCH(FALSE,ISERROR(SEARCH(B$1&\"=\",Data!$A511:$H511)),0)),B$1&\"=\",\"\"),\"\")","v":""},{"$f":"IFERROR(SUBSTITUTE(INDEX(Data!$A511:$H511,,MATCH(FALSE,ISERROR(SEARCH(C$1&\"=\",Data!$A511:$H511)),0)),C$1&\"=\",\"\"),\"\")","v":""},{"$f":"IFERROR(SUBSTITUTE(INDEX(Data!$A511:$H511,,MATCH(FALSE,ISERROR(SEARCH(D$1&\"=\",Data!$A511:$H511)),0)),D$1&\"=\",\"\"),\"\")","v":""},{"$f":"IFERROR(SUBSTITUTE(INDEX(Data!$A511:$H511,,MATCH(FALSE,ISERROR(SEARCH(E$1&\"=\",Data!$A511:$H511)),0)),E$1&\"=\",\"\"),\"\")","v":""},{"$f":"IFERROR(SUBSTITUTE(INDEX(Data!$A511:$H511,,MATCH(FALSE,ISERROR(SEARCH(F$1&\"=\",Data!$A511:$H511)),0)),F$1&\"=\",\"\"),\"\")","v":""},{"$f":"IFERROR(SUBSTITUTE(INDEX(Data!$A511:$H511,,MATCH(FALSE,ISERROR(SEARCH(G$1&\"=\",Data!$A511:$H511)),0)),G$1&\"=\",\"\"),\"\")","v":""},{"$f":"IFERROR(SUBSTITUTE(INDEX(Data!$A511:$H511,,MATCH(FALSE,ISERROR(SEARCH(H$1&\"=\",Data!$A511:$H511)),0)),H$1&\"=\",\"\"),\"\")","v":""},{"$f":"IFERROR(SUBSTITUTE(INDEX(Data!$A511:$H511,,MATCH(FALSE,ISERROR(SEARCH(I$1&\"=\",Data!$A511:$H511)),0)),I$1&\"=\",\"\"),\"\")","v":""},{"$f":"IFERROR(SUBSTITUTE(INDEX(Data!$A511:$H511,,MATCH(FALSE,ISERROR(SEARCH(J$1&\"=\",Data!$A511:$H511)),0)),J$1&\"=\",\"\"),\"\")","v":""}]
[{"$f":"IFERROR(SUBSTITUTE(INDEX(Data!$A512:$H512,,MATCH(FALSE,ISERROR(SEARCH(A$1&\"=\",Data!$A512:$H512)),0)),A$1&\"=\",\"\"),\"\")","v":""},{"$f":"IFERROR(SUBSTITUTE(INDEX(Data!$A512:$H512,,MATCH(FALSE,ISERROR(SEARCH(B$1&\"=\",Data!$A512:$H512)),0)),B$1&\"=\",\"\"),\"\")","v":""},{"$f":"IFERROR(SUBSTITUTE(INDEX(Data!$A512:$H512,,MATCH(FALSE,ISERROR(SEARCH(C$1&\"=\",Data!$A512:$H512)),0)),C$1&\"=\",\"\"),\"\")","v":""},{"$f":"IFERROR(SUBSTITUTE(INDEX(Data!$A512:$H512,,MATCH(FALSE,ISERROR(SEARCH(D$1&\"=\",Data!$A512:$H512)),0)),D$1&\"=\",\"\"),\"\")","v":""},{"$f":"IFERROR(SUBSTITUTE(INDEX(Data!$A512:$H512,,MATCH(FALSE,ISERROR(SEARCH(E$1&\"=\",Data!$A512:$H512)),0)),E$1&\"=\",\"\"),\"\")","v":""},{"$f":"IFERROR(SUBSTITUTE(INDEX(Data!$A512:$H512,,MATCH(FALSE,ISERROR(SEARCH(F$1&\"=\",Data!$A512:$H512)),0)),F$1&\"=\",\"\"),\"\")","v":""},{"$f":"IFERROR(SUBSTITUTE(INDEX(Data!$A512:$H512,,MATCH(FALSE,ISERROR(SEARCH(G$1&\"=\",Data!$A512:$H512)),0)),G$1&\"=\",\"\"),\"\")","v":""},{"$f":"IFERROR(SUBSTITUTE(INDEX(Data!$A512:$H512,,MATCH(FALSE,ISERROR(SEARCH(H$1&\"=\",Data!$A512:$H512)),0)),H$1&\"=\",\"\"),\"\")","v":""},{"$f":"IFERROR(SUBSTITUTE(INDEX(Data!$A512:$H512,,MATCH(FALSE,ISERROR(SEARCH(I$1&\"=\",Data!$A512:$H512)),0)),I$1&\"=\",\"\"),\"\")","v":""},{"$f":"IFERROR(SUBSTITUTE(INDEX(Data!$A512:$H512,,MATCH(FALSE,ISERROR(SEARCH(J$1&\"=\",Data!$A512:$H512)),0)),J$1&\"=\",\"\"),\"\")","v":""}]
[{"$f":"IFERROR(SUBSTITUTE(INDEX(Data!$A513:$H513,,MATCH(FALSE,ISERROR(SEARCH(A$1&\"=\",Data!$A513:$H513)),0)),A$1&\"=\",\"\"),\"\")","v":""},{"$f":"IFERROR(SUBSTITUTE(INDEX(Data!$A513:$H513,,MATCH(FALSE,ISERROR(SEARCH(B$1&\"=\",Data!$A513:$H513)),0)),B$1&\"=\",\"\"),\"\")","v":""},{"$f":"IFERROR(SUBSTITUTE(INDEX(Data!$A513:$H513,,MATCH(FALSE,ISERROR(SEARCH(C$1&\"=\",Data!$A513:$H513)),0)),C$1&\"=\",\"\"),\"\")","v":""},{"$f":"IFERROR(SUBSTITUTE(INDEX(Data!$A513:$H513,,MATCH(FALSE,ISERROR(SEARCH(D$1&\"=\",Data!$A513:$H513)),0)),D$1&\"=\",\"\"),\"\")","v":""},{"$f":"IFERROR(SUBSTITUTE(INDEX(Data!$A513:$H513,,MATCH(FALSE,ISERROR(SEARCH(E$1&\"=\",Data!$A513:$H513)),0)),E$1&\"=\",\"\"),\"\")","v":""},{"$f":"IFERROR(SUBSTITUTE(INDEX(Data!$A513:$H513,,MATCH(FALSE,ISERROR(SEARCH(F$1&\"=\",Data!$A513:$H513)),0)),F$1&\"=\",\"\"),\"\")","v":""},{"$f":"IFERROR(SUBSTITUTE(INDEX(Data!$A513:$H513,,MATCH(FALSE,ISERROR(SEARCH(G$1&\"=\",Data!$A513:$H513)),0)),G$1&\"=\",\"\"),\"\")","v":""},{"$f":"IFERROR(SUBSTITUTE(INDEX(Data!$A513:$H513,,MATCH(FALSE,ISERROR(SEARCH(H$1&\"=\",Data!$A513:$H513)),0)),H$1&\"=\",\"\"),\"\")","v":""},{"$f":"IFERROR(SUBSTITUTE(INDEX(Data!$A513:$H513,,MATCH(FALSE,ISERROR(SEARCH(I$1&\"=\",Data!$A513:$H513)),0)),I$1&\"=\",\"\"),\"\")","v":""},{"$f":"IFERROR(SUBSTITUTE(INDEX(Data!$A513:$H513,,MATCH(FALSE,ISERROR(SEARCH(J$1&\"=\",Data!$A513:$H513)),0)),J$1&\"=\",\"\"),\"\")","v":""}]
[{"$f":"IFERROR(SUBSTITUTE(INDEX(Data!$A514:$H514,,MATCH(FALSE,ISERROR(SEARCH(A$1&\"=\",Data!$A514:$H514)),0)),A$1&\"=\",\"\"),\"\")","v":""},{"$f":"IFERROR(SUBSTITUTE(INDEX(Data!$A514:$H514,,MATCH(FALSE,ISERROR(SEARCH(B$1&\"=\",Data!$A514:$H514)),0)),B$1&\"=\",\"\"),\"\")","v":""},{"$f":"IFERROR(SUBSTITUTE(INDEX(Data!$A514:$H514,,MATCH(FALSE,ISERROR(SEARCH(C$1&\"=\",Data!$A514:$H514)),0)),C$1&\"=\",\"\"),\"\")","v":""},{"$f":"IFERROR(SUBSTITUTE(INDEX(Data!$A514:$H514,,MATCH(FALSE,ISERROR(SEARCH(D$1&\"=\",Data!$A514:$H514)),0)),D$1&\"=\",\"\"),\"\")","v":""},{"$f":"IFERROR(SUBSTITUTE(INDEX(Data!$A514:$H514,,MATCH(FALSE,ISERROR(SEARCH(E$1&\"=\",Data!$A514:$H514)),0)),E$1&\"=\",\"\"),\"\")","v":""},{"$f":"IFERROR(SUBSTITUTE(INDEX(Data!$A514:$H514,,MATCH(FALSE,ISERROR(SEARCH(F$1&\"=\",Data!$A514:$H514)),0)),F$1&\"=\",\"\"),\"\")","v":""},{"$f":"IFERROR(SUBSTITUTE(INDEX(Data!$A514:$H514,,MATCH(FALSE,ISERROR(SEARCH(G$1&\"=\",Data!$A514:$H514)),0)),G$1&\"=\",\"\"),\"\")","v":""},{"$f":"IFERROR(SUBSTITUTE(INDEX(Data!$A514:$H514,,MATCH(FALSE,ISERROR(SEARCH(H$1&\"=\",Data!$A514:$H514)),0)),H$1&\"=\",\"\"),\"\")","v":""},{"$f":"IFERROR(SUBSTITUTE(INDEX(Data!$A514:$H514,,MATCH(FALSE,ISERROR(SEARCH(I$1&\"=\",Data!$A514:$H514)),0)),I$1&\"=\",\"\"),\"\")","v":""},{"$f":"IFERROR(SUBSTITUTE(INDEX(Data!$A514:$H514,,MATCH(FALSE,ISERROR(SEARCH(J$1&\"=\",Data!$A514:$H514)),0)),J$1&\"=\",\"\"),\"\")","v":""}]
[{"$f":"IFERROR(SUBSTITUTE(INDEX(Data!$A515:$H515,,MATCH(FALSE,ISERROR(SEARCH(A$1&\"=\",Data!$A515:$H515)),0)),A$1&\"=\",\"\"),\"\")","v":""},{"$f":"IFERROR(SUBSTITUTE(INDEX(Data!$A515:$H515,,MATCH(FALSE,ISERROR(SEARCH(B$1&\"=\",Data!$A515:$H515)),0)),B$1&\"=\",\"\"),\"\")","v":""},{"$f":"IFERROR(SUBSTITUTE(INDEX(Data!$A515:$H515,,MATCH(FALSE,ISERROR(SEARCH(C$1&\"=\",Data!$A515:$H515)),0)),C$1&\"=\",\"\"),\"\")","v":""},{"$f":"IFERROR(SUBSTITUTE(INDEX(Data!$A515:$H515,,MATCH(FALSE,ISERROR(SEARCH(D$1&\"=\",Data!$A515:$H515)),0)),D$1&\"=\",\"\"),\"\")","v":""},{"$f":"IFERROR(SUBSTITUTE(INDEX(Data!$A515:$H515,,MATCH(FALSE,ISERROR(SEARCH(E$1&\"=\",Data!$A515:$H515)),0)),E$1&\"=\",\"\"),\"\")","v":""},{"$f":"IFERROR(SUBSTITUTE(INDEX(Data!$A515:$H515,,MATCH(FALSE,ISERROR(SEARCH(F$1&\"=\",Data!$A515:$H515)),0)),F$1&\"=\",\"\"),\"\")","v":""},{"$f":"IFERROR(SUBSTITUTE(INDEX(Data!$A515:$H515,,MATCH(FALSE,ISERROR(SEARCH(G$1&\"=\",Data!$A515:$H515)),0)),G$1&\"=\",\"\"),\"\")","v":""},{"$f":"IFERROR(SUBSTITUTE(INDEX(Data!$A515:$H515,,MATCH(FALSE,ISERROR(SEARCH(H$1&\"=\",Data!$A515:$H515)),0)),H$1&\"=\",\"\"),\"\")","v":""},{"$f":"IFERROR(SUBSTITUTE(INDEX(Data!$A515:$H515,,MATCH(FALSE,ISERROR(SEARCH(I$1&\"=\",Data!$A515:$H515)),0)),I$1&\"=\",\"\"),\"\")","v":""},{"$f":"IFERROR(SUBSTITUTE(INDEX(Data!$A515:$H515,,MATCH(FALSE,ISERROR(SEARCH(J$1&\"=\",Data!$A515:$H515)),0)),J$1&\"=\",\"\"),\"\")","v":""}]
[{"$f":"IFERROR(SUBSTITUTE(INDEX(Data!$A516:$H516,,MATCH(FALSE,ISERROR(SEARCH(A$1&\"=\",Data!$A516:$H516)),0)),A$1&\"=\",\"\"),\"\")","v":""},{"$f":"IFERROR(SUBSTITUTE(INDEX(Data!$A516:$H516,,MATCH(FALSE,ISERROR(SEARCH(B$1&\"=\",Data!$A516:$H516)),0)),B$1&\"=\",\"\"),\"\")","v":""},{"$f":"IFERROR(SUBSTITUTE(INDEX(Data!$A516:$H516,,MATCH(FALSE,ISERROR(SEARCH(C$1&\"=\",Data!$A516:$H516)),0)),C$1&\"=\",\"\"),\"\")","v":""},{"$f":"IFERROR(SUBSTITUTE(INDEX(Data!$A516:$H516,,MATCH(FALSE,ISERROR(SEARCH(D$1&\"=\",Data!$A516:$H516)),0)),D$1&\"=\",\"\"),\"\")","v":""},{"$f":"IFERROR(SUBSTITUTE(INDEX(Data!$A516:$H516,,MATCH(FALSE,ISERROR(SEARCH(E$1&\"=\",Data!$A516:$H516)),0)),E$1&\"=\",\"\"),\"\")","v":""},{"$f":"IFERROR(SUBSTITUTE(INDEX(Data!$A516:$H516,,MATCH(FALSE,ISERROR(SEARCH(F$1&\"=\",Data!$A516:$H516)),0)),F$1&\"=\",\"\"),\"\")","v":""},{"$f":"IFERROR(SUBSTITUTE(INDEX(Data!$A516:$H516,,MATCH(FALSE,ISERROR(SEARCH(G$1&\"=\",Data!$A516:$H516)),0)),G$1&\"=\",\"\"),\"\")","v":""},{"$f":"IFERROR(SUBSTITUTE(INDEX(Data!$A516:$H516,,MATCH(FALSE,ISERROR(SEARCH(H$1&\"=\",Data!$A516:$H516)),0)),H$1&\"=\",\"\"),\"\")","v":""},{"$f":"IFERROR(SUBSTITUTE(INDEX(Data!$A516:$H516,,MATCH(FALSE,ISERROR(SEARCH(I$1&\"=\",Data!$A516:$H516)),0)),I$1&\"=\",\"\"),\"\")","v":""},{"$f":"IFERROR(SUBSTITUTE(INDEX(Data!$A516:$H516,,MATCH(FALSE,ISERROR(SEARCH(J$1&\"=\",Data!$A516:$H516)),0)),J$1&\"=\",\"\"),\"\")","v":""}]
[{"$f":"IFERROR(SUBSTITUTE(INDEX(Data!$A517:$H517,,MATCH(FALSE,ISERROR(SEARCH(A$1&\"=\",Data!$A517:$H517)),0)),A$1&\"=\",\"\"),\"\")","v":""},{"$f":"IFERROR(SUBSTITUTE(INDEX(Data!$A517:$H517,,MATCH(FALSE,ISERROR(SEARCH(B$1&\"=\",Data!$A517:$H517)),0)),B$1&\"=\",\"\"),\"\")","v":""},{"$f":"IFERROR(SUBSTITUTE(INDEX(Data!$A517:$H517,,MATCH(FALSE,ISERROR(SEARCH(C$1&\"=\",Data!$A517:$H517)),0)),C$1&\"=\",\"\"),\"\")","v":""},{"$f":"IFERROR(SUBSTITUTE(INDEX(Data!$A517:$H517,,MATCH(FALSE,ISERROR(SEARCH(D$1&\"=\",Data!$A517:$H517)),0)),D$1&\"=\",\"\"),\"\")","v":""},{"$f":"IFERROR(SUBSTITUTE(INDEX(Data!$A517:$H517,,MATCH(FALSE,ISERROR(SEARCH(E$1&\"=\",Data!$A517:$H517)),0)),E$1&\"=\",\"\"),\"\")","v":""},{"$f":"IFERROR(SUBSTITUTE(INDEX(Data!$A517:$H517,,MATCH(FALSE,ISERROR(SEARCH(F$1&\"=\",Data!$A517:$H517)),0)),F$1&\"=\",\"\"),\"\")","v":""},{"$f":"IFERROR(SUBSTITUTE(INDEX(Data!$A517:$H517,,MATCH(FALSE,ISERROR(SEARCH(G$1&\"=\",Data!$A517:$H517)),0)),G$1&\"=\",\"\"),\"\")","v":""},{"$f":"IFERROR(SUBSTITUTE(INDEX(Data!$A517:$H517,,MATCH(FALSE,ISERROR(SEARCH(H$1&\"=\",Data!$A517:$H517)),0)),H$1&\"=\",\"\"),\"\")","v":""},{"$f":"IFERROR(SUBSTITUTE(INDEX(Data!$A517:$H517,,MATCH(FALSE,ISERROR(SEARCH(I$1&\"=\",Data!$A517:$H517)),0)),I$1&\"=\",\"\"),\"\")","v":""},{"$f":"IFERROR(SUBSTITUTE(INDEX(Data!$A517:$H517,,MATCH(FALSE,ISERROR(SEARCH(J$1&\"=\",Data!$A517:$H517)),0)),J$1&\"=\",\"\"),\"\")","v":""}]
[{"$f":"IFERROR(SUBSTITUTE(INDEX(Data!$A518:$H518,,MATCH(FALSE,ISERROR(SEARCH(A$1&\"=\",Data!$A518:$H518)),0)),A$1&\"=\",\"\"),\"\")","v":""},{"$f":"IFERROR(SUBSTITUTE(INDEX(Data!$A518:$H518,,MATCH(FALSE,ISERROR(SEARCH(B$1&\"=\",Data!$A518:$H518)),0)),B$1&\"=\",\"\"),\"\")","v":""},{"$f":"IFERROR(SUBSTITUTE(INDEX(Data!$A518:$H518,,MATCH(FALSE,ISERROR(SEARCH(C$1&\"=\",Data!$A518:$H518)),0)),C$1&\"=\",\"\"),\"\")","v":""},{"$f":"IFERROR(SUBSTITUTE(INDEX(Data!$A518:$H518,,MATCH(FALSE,ISERROR(SEARCH(D$1&\"=\",Data!$A518:$H518)),0)),D$1&\"=\",\"\"),\"\")","v":""},{"$f":"IFERROR(SUBSTITUTE(INDEX(Data!$A518:$H518,,MATCH(FALSE,ISERROR(SEARCH(E$1&\"=\",Data!$A518:$H518)),0)),E$1&\"=\",\"\"),\"\")","v":""},{"$f":"IFERROR(SUBSTITUTE(INDEX(Data!$A518:$H518,,MATCH(FALSE,ISERROR(SEARCH(F$1&\"=\",Data!$A518:$H518)),0)),F$1&\"=\",\"\"),\"\")","v":""},{"$f":"IFERROR(SUBSTITUTE(INDEX(Data!$A518:$H518,,MATCH(FALSE,ISERROR(SEARCH(G$1&\"=\",Data!$A518:$H518)),0)),G$1&\"=\",\"\"),\"\")","v":""},{"$f":"IFERROR(SUBSTITUTE(INDEX(Data!$A518:$H518,,MATCH(FALSE,ISERROR(SEARCH(H$1&\"=\",Data!$A518:$H518)),0)),H$1&\"=\",\"\"),\"\")","v":""},{"$f":"IFERROR(SUBSTITUTE(INDEX(Data!$A518:$H518,,MATCH(FALSE,ISERROR(SEARCH(I$1&\"=\",Data!$A518:$H518)),0)),I$1&\"=\",\"\"),\"\")","v":""},{"$f":"IFERROR(SUBSTITUTE(INDEX(Data!$A518:$H518,,MATCH(FALSE,ISERROR(SEARCH(J$1&\"=\",Data!$A518:$H518)),0)),J$1&\"=\",\"\"),\"\")","v":""}]
[{"$f":"IFERROR(SUBSTITUTE(INDEX(Data!$A519:$H519,,MATCH(FALSE,ISERROR(SEARCH(A$1&\"=\",Data!$A519:$H519)),0)),A$1&\"=\",\"\"),\"\")","v":""},{"$f":"IFERROR(SUBSTITUTE(INDEX(Data!$A519:$H519,,MATCH(FALSE,ISERROR(SEARCH(B$1&\"=\",Data!$A519:$H519)),0)),B$1&\"=\",\"\"),\"\")","v":""},{"$f":"IFERROR(SUBSTITUTE(INDEX(Data!$A519:$H519,,MATCH(FALSE,ISERROR(SEARCH(C$1&\"=\",Data!$A519:$H519)),0)),C$1&\"=\",\"\"),\"\")","v":""},{"$f":"IFERROR(SUBSTITUTE(INDEX(Data!$A519:$H519,,MATCH(FALSE,ISERROR(SEARCH(D$1&\"=\",Data!$A519:$H519)),0)),D$1&\"=\",\"\"),\"\")","v":""},{"$f":"IFERROR(SUBSTITUTE(INDEX(Data!$A519:$H519,,MATCH(FALSE,ISERROR(SEARCH(E$1&\"=\",Data!$A519:$H519)),0)),E$1&\"=\",\"\"),\"\")","v":""},{"$f":"IFERROR(SUBSTITUTE(INDEX(Data!$A519:$H519,,MATCH(FALSE,ISERROR(SEARCH(F$1&\"=\",Data!$A519:$H519)),0)),F$1&\"=\",\"\"),\"\")","v":""},{"$f":"IFERROR(SUBSTITUTE(INDEX(Data!$A519:$H519,,MATCH(FALSE,ISERROR(SEARCH(G$1&\"=\",Data!$A519:$H519)),0)),G$1&\"=\",\"\"),\"\")","v":""},{"$f":"IFERROR(SUBSTITUTE(INDEX(Data!$A519:$H519,,MATCH(FALSE,ISERROR(SEARCH(H$1&\"=\",Data!$A519:$H519)),0)),H$1&\"=\",\"\"),\"\")","v":""},{"$f":"IFERROR(SUBSTITUTE(INDEX(Data!$A519:$H519,,MATCH(FALSE,ISERROR(SEARCH(I$1&\"=\",Data!$A519:$H519)),0)),I$1&\"=\",\"\"),\"\")","v":""},{"$f":"IFERROR(SUBSTITUTE(INDEX(Data!$A519:$H519,,MATCH(FALSE,ISERROR(SEARCH(J$1&\"=\",Data!$A519:$H519)),0)),J$1&\"=\",\"\"),\"\")","v":""}]
[{"$f":"IFERROR(SUBSTITUTE(INDEX(Data!$A520:$H520,,MATCH(FALSE,ISERROR(SEARCH(A$1&\"=\",Data!$A520:$H520)),0)),A$1&\"=\",\"\"),\"\")","v":""},{"$f":"IFERROR(SUBSTITUTE(INDEX(Data!$A520:$H520,,MATCH(FALSE,ISERROR(SEARCH(B$1&\"=\",Data!$A520:$H520)),0)),B$1&\"=\",\"\"),\"\")","v":""},{"$f":"IFERROR(SUBSTITUTE(INDEX(Data!$A520:$H520,,MATCH(FALSE,ISERROR(SEARCH(C$1&\"=\",Data!$A520:$H520)),0)),C$1&\"=\",\"\"),\"\")","v":""},{"$f":"IFERROR(SUBSTITUTE(INDEX(Data!$A520:$H520,,MATCH(FALSE,ISERROR(SEARCH(D$1&\"=\",Data!$A520:$H520)),0)),D$1&\"=\",\"\"),\"\")","v":""},{"$f":"IFERROR(SUBSTITUTE(INDEX(Data!$A520:$H520,,MATCH(FALSE,ISERROR(SEARCH(E$1&\"=\",Data!$A520:$H520)),0)),E$1&\"=\",\"\"),\"\")","v":""},{"$f":"IFERROR(SUBSTITUTE(INDEX(Data!$A520:$H520,,MATCH(FALSE,ISERROR(SEARCH(F$1&\"=\",Data!$A520:$H520)),0)),F$1&\"=\",\"\"),\"\")","v":""},{"$f":"IFERROR(SUBSTITUTE(INDEX(Data!$A520:$H520,,MATCH(FALSE,ISERROR(SEARCH(G$1&\"=\",Data!$A520:$H520)),0)),G$1&\"=\",\"\"),\"\")","v":""},{"$f":"IFERROR(SUBSTITUTE(INDEX(Data!$A520:$H520,,MATCH(FALSE,ISERROR(SEARCH(H$1&\"=\",Data!$A520:$H520)),0)),H$1&\"=\",\"\"),\"\")","v":""},{"$f":"IFERROR(SUBSTITUTE(INDEX(Data!$A520:$H520,,MATCH(FALSE,ISERROR(SEARCH(I$1&\"=\",Data!$A520:$H520)),0)),I$1&\"=\",\"\"),\"\")","v":""},{"$f":"IFERROR(SUBSTITUTE(INDEX(Data!$A520:$H520,,MATCH(FALSE,ISERROR(SEARCH(J$1&\"=\",Data!$A520:$H520)),0)),J$1&\"=\",\"\"),\"\")","v":""}]
[{"$f":"IFERROR(SUBSTITUTE(INDEX(Data!$A521:$H521,,MATCH(FALSE,ISERROR(SEARCH(A$1&\"=\",Data!$A521:$H521)),0)),A$1&\"=\",\"\"),\"\")","v":""},{"$f":"IFERROR(SUBSTITUTE(INDEX(Data!$A521:$H521,,MATCH(FALSE,ISERROR(SEARCH(B$1&\"=\",Data!$A521:$H521)),0)),B$1&\"=\",\"\"),\"\")","v":""},{"$f":"IFERROR(SUBSTITUTE(INDEX(Data!$A521:$H521,,MATCH(FALSE,ISERROR(SEARCH(C$1&\"=\",Data!$A521:$H521)),0)),C$1&\"=\",\"\"),\"\")","v":""},{"$f":"IFERROR(SUBSTITUTE(INDEX(Data!$A521:$H521,,MATCH(FALSE,ISERROR(SEARCH(D$1&\"=\",Data!$A521:$H521)),0)),D$1&\"=\",\"\"),\"\")","v":""},{"$f":"IFERROR(SUBSTITUTE(INDEX(Data!$A521:$H521,,MATCH(FALSE,ISERROR(SEARCH(E$1&\"=\",Data!$A521:$H521)),0)),E$1&\"=\",\"\"),\"\")","v":""},{"$f":"IFERROR(SUBSTITUTE(INDEX(Data!$A521:$H521,,MATCH(FALSE,ISERROR(SEARCH(F$1&\"=\",Data!$A521:$H521)),0)),F$1&\"=\",\"\"),\"\")","v":""},{"$f":"IFERROR(SUBSTITUTE(INDEX(Data!$A521:$H521,,MATCH(FALSE,ISERROR(SEARCH(G$1&\"=\",Data!$A521:$H521)),0)),G$1&\"=\",\"\"),\"\")","v":""},{"$f":"IFERROR(SUBSTITUTE(INDEX(Data!$A521:$H521,,MATCH(FALSE,ISERROR(SEARCH(H$1&\"=\",Data!$A521:$H521)),0)),H$1&\"=\",\"\"),\"\")","v":""},{"$f":"IFERROR(SUBSTITUTE(INDEX(Data!$A521:$H521,,MATCH(FALSE,ISERROR(SEARCH(I$1&\"=\",Data!$A521:$H521)),0)),I$1&\"=\",\"\"),\"\")","v":""},{"$f":"IFERROR(SUBSTITUTE(INDEX(Data!$A521:$H521,,MATCH(FALSE,ISERROR(SEARCH(J$1&\"=\",Data!$A521:$H521)),0)),J$1&\"=\",\"\"),\"\")","v":""}]
[{"$f":"IFERROR(SUBSTITUTE(INDEX(Data!$A522:$H522,,MATCH(FALSE,ISERROR(SEARCH(A$1&\"=\",Data!$A522:$H522)),0)),A$1&\"=\",\"\"),\"\")","v":""},{"$f":"IFERROR(SUBSTITUTE(INDEX(Data!$A522:$H522,,MATCH(FALSE,ISERROR(SEARCH(B$1&\"=\",Data!$A522:$H522)),0)),B$1&\"=\",\"\"),\"\")","v":""},{"$f":"IFERROR(SUBSTITUTE(INDEX(Data!$A522:$H522,,MATCH(FALSE,ISERROR(SEARCH(C$1&\"=\",Data!$A522:$H522)),0)),C$1&\"=\",\"\"),\"\")","v":""},{"$f":"IFERROR(SUBSTITUTE(INDEX(Data!$A522:$H522,,MATCH(FALSE,ISERROR(SEARCH(D$1&\"=\",Data!$A522:$H522)),0)),D$1&\"=\",\"\"),\"\")","v":""},{"$f":"IFERROR(SUBSTITUTE(INDEX(Data!$A522:$H522,,MATCH(FALSE,ISERROR(SEARCH(E$1&\"=\",Data!$A522:$H522)),0)),E$1&\"=\",\"\"),\"\")","v":""},{"$f":"IFERROR(SUBSTITUTE(INDEX(Data!$A522:$H522,,MATCH(FALSE,ISERROR(SEARCH(F$1&\"=\",Data!$A522:$H522)),0)),F$1&\"=\",\"\"),\"\")","v":""},{"$f":"IFERROR(SUBSTITUTE(INDEX(Data!$A522:$H522,,MATCH(FALSE,ISERROR(SEARCH(G$1&\"=\",Data!$A522:$H522)),0)),G$1&\"=\",\"\"),\"\")","v":""},{"$f":"IFERROR(SUBSTITUTE(INDEX(Data!$A522:$H522,,MATCH(FALSE,ISERROR(SEARCH(H$1&\"=\",Data!$A522:$H522)),0)),H$1&\"=\",\"\"),\"\")","v":""},{"$f":"IFERROR(SUBSTITUTE(INDEX(Data!$A522:$H522,,MATCH(FALSE,ISERROR(SEARCH(I$1&\"=\",Data!$A522:$H522)),0)),I$1&\"=\",\"\"),\"\")","v":""},{"$f":"IFERROR(SUBSTITUTE(INDEX(Data!$A522:$H522,,MATCH(FALSE,ISERROR(SEARCH(J$1&\"=\",Data!$A522:$H522)),0)),J$1&\"=\",\"\"),\"\")","v":""}]
[{"$f":"IFERROR(SUBSTITUTE(INDEX(Data!$A523:$H523,,MATCH(FALSE,ISERROR(SEARCH(A$1&\"=\",Data!$A523:$H523)),0)),A$1&\"=\",\"\"),\"\")","v":""},{"$f":"IFERROR(SUBSTITUTE(INDEX(Data!$A523:$H523,,MATCH(FALSE,ISERROR(SEARCH(B$1&\"=\",Data!$A523:$H523)),0)),B$1&\"=\",\"\"),\"\")","v":""},{"$f":"IFERROR(SUBSTITUTE(INDEX(Data!$A523:$H523,,MATCH(FALSE,ISERROR(SEARCH(C$1&\"=\",Data!$A523:$H523)),0)),C$1&\"=\",\"\"),\"\")","v":""},{"$f":"IFERROR(SUBSTITUTE(INDEX(Data!$A523:$H523,,MATCH(FALSE,ISERROR(SEARCH(D$1&\"=\",Data!$A523:$H523)),0)),D$1&\"=\",\"\"),\"\")","v":""},{"$f":"IFERROR(SUBSTITUTE(INDEX(Data!$A523:$H523,,MATCH(FALSE,ISERROR(SEARCH(E$1&\"=\",Data!$A523:$H523)),0)),E$1&\"=\",\"\"),\"\")","v":""},{"$f":"IFERROR(SUBSTITUTE(INDEX(Data!$A523:$H523,,MATCH(FALSE,ISERROR(SEARCH(F$1&\"=\",Data!$A523:$H523)),0)),F$1&\"=\",\"\"),\"\")","v":""},{"$f":"IFERROR(SUBSTITUTE(INDEX(Data!$A523:$H523,,MATCH(FALSE,ISERROR(SEARCH(G$1&\"=\",Data!$A523:$H523)),0)),G$1&\"=\",\"\"),\"\")","v":""},{"$f":"IFERROR(SUBSTITUTE(INDEX(Data!$A523:$H523,,MATCH(FALSE,ISERROR(SEARCH(H$1&\"=\",Data!$A523:$H523)),0)),H$1&\"=\",\"\"),\"\")","v":""},{"$f":"IFERROR(SUBSTITUTE(INDEX(Data!$A523:$H523,,MATCH(FALSE,ISERROR(SEARCH(I$1&\"=\",Data!$A523:$H523)),0)),I$1&\"=\",\"\"),\"\")","v":""},{"$f":"IFERROR(SUBSTITUTE(INDEX(Data!$A523:$H523,,MATCH(FALSE,ISERROR(SEARCH(J$1&\"=\",Data!$A523:$H523)),0)),J$1&\"=\",\"\"),\"\")","v":""}]
[{"$f":"IFERROR(SUBSTITUTE(INDEX(Data!$A524:$H524,,MATCH(FALSE,ISERROR(SEARCH(A$1&\"=\",Data!$A524:$H524)),0)),A$1&\"=\",\"\"),\"\")","v":""},{"$f":"IFERROR(SUBSTITUTE(INDEX(Data!$A524:$H524,,MATCH(FALSE,ISERROR(SEARCH(B$1&\"=\",Data!$A524:$H524)),0)),B$1&\"=\",\"\"),\"\")","v":""},{"$f":"IFERROR(SUBSTITUTE(INDEX(Data!$A524:$H524,,MATCH(FALSE,ISERROR(SEARCH(C$1&\"=\",Data!$A524:$H524)),0)),C$1&\"=\",\"\"),\"\")","v":""},{"$f":"IFERROR(SUBSTITUTE(INDEX(Data!$A524:$H524,,MATCH(FALSE,ISERROR(SEARCH(D$1&\"=\",Data!$A524:$H524)),0)),D$1&\"=\",\"\"),\"\")","v":""},{"$f":"IFERROR(SUBSTITUTE(INDEX(Data!$A524:$H524,,MATCH(FALSE,ISERROR(SEARCH(E$1&\"=\",Data!$A524:$H524)),0)),E$1&\"=\",\"\"),\"\")","v":""},{"$f":"IFERROR(SUBSTITUTE(INDEX(Data!$A524:$H524,,MATCH(FALSE,ISERROR(SEARCH(F$1&\"=\",Data!$A524:$H524)),0)),F$1&\"=\",\"\"),\"\")","v":""},{"$f":"IFERROR(SUBSTITUTE(INDEX(Data!$A524:$H524,,MATCH(FALSE,ISERROR(SEARCH(G$1&\"=\",Data!$A524:$H524)),0)),G$1&\"=\",\"\"),\"\")","v":""},{"$f":"IFERROR(SUBSTITUTE(INDEX(Data!$A524:$H524,,MATCH(FALSE,ISERROR(SEARCH(H$1&\"=\",Data!$A524:$H524)),0)),H$1&\"=\",\"\"),\"\")","v":""},{"$f":"IFERROR(SUBSTITUTE(INDEX(Data!$A524:$H524,,MATCH(FALSE,ISERROR(SEARCH(I$1&\"=\",Data!$A524:$H524)),0)),I$1&\"=\",\"\"),\"\")","v":""},{"$f":"IFERROR(SUBSTITUTE(INDEX(Data!$A524:$H524,,MATCH(FALSE,ISERROR(SEARCH(J$1&\"=\",Data!$A524:$H524)),0)),J$1&\"=\",\"\"),\"\")","v":""}]
[{"$f":"IFERROR(SUBSTITUTE(INDEX(Data!$A525:$H525,,MATCH(FALSE,ISERROR(SEARCH(A$1&\"=\",Data!$A525:$H525)),0)),A$1&\"=\",\"\"),\"\")","v":""},{"$f":"IFERROR(SUBSTITUTE(INDEX(Data!$A525:$H525,,MATCH(FALSE,ISERROR(SEARCH(B$1&\"=\",Data!$A525:$H525)),0)),B$1&\"=\",\"\"),\"\")","v":""},{"$f":"IFERROR(SUBSTITUTE(INDEX(Data!$A525:$H525,,MATCH(FALSE,ISERROR(SEARCH(C$1&\"=\",Data!$A525:$H525)),0)),C$1&\"=\",\"\"),\"\")","v":""},{"$f":"IFERROR(SUBSTITUTE(INDEX(Data!$A525:$H525,,MATCH(FALSE,ISERROR(SEARCH(D$1&\"=\",Data!$A525:$H525)),0)),D$1&\"=\",\"\"),\"\")","v":""},{"$f":"IFERROR(SUBSTITUTE(INDEX(Data!$A525:$H525,,MATCH(FALSE,ISERROR(SEARCH(E$1&\"=\",Data!$A525:$H525)),0)),E$1&\"=\",\"\"),\"\")","v":""},{"$f":"IFERROR(SUBSTITUTE(INDEX(Data!$A525:$H525,,MATCH(FALSE,ISERROR(SEARCH(F$1&\"=\",Data!$A525:$H525)),0)),F$1&\"=\",\"\"),\"\")","v":""},{"$f":"IFERROR(SUBSTITUTE(INDEX(Data!$A525:$H525,,MATCH(FALSE,ISERROR(SEARCH(G$1&\"=\",Data!$A525:$H525)),0)),G$1&\"=\",\"\"),\"\")","v":""},{"$f":"IFERROR(SUBSTITUTE(INDEX(Data!$A525:$H525,,MATCH(FALSE,ISERROR(SEARCH(H$1&\"=\",Data!$A525:$H525)),0)),H$1&\"=\",\"\"),\"\")","v":""},{"$f":"IFERROR(SUBSTITUTE(INDEX(Data!$A525:$H525,,MATCH(FALSE,ISERROR(SEARCH(I$1&\"=\",Data!$A525:$H525)),0)),I$1&\"=\",\"\"),\"\")","v":""},{"$f":"IFERROR(SUBSTITUTE(INDEX(Data!$A525:$H525,,MATCH(FALSE,ISERROR(SEARCH(J$1&\"=\",Data!$A525:$H525)),0)),J$1&\"=\",\"\"),\"\")","v":""}]
[{"$f":"IFERROR(SUBSTITUTE(INDEX(Data!$A526:$H526,,MATCH(FALSE,ISERROR(SEARCH(A$1&\"=\",Data!$A526:$H526)),0)),A$1&\"=\",\"\"),\"\")","v":""},{"$f":"IFERROR(SUBSTITUTE(INDEX(Data!$A526:$H526,,MATCH(FALSE,ISERROR(SEARCH(B$1&\"=\",Data!$A526:$H526)),0)),B$1&\"=\",\"\"),\"\")","v":""},{"$f":"IFERROR(SUBSTITUTE(INDEX(Data!$A526:$H526,,MATCH(FALSE,ISERROR(SEARCH(C$1&\"=\",Data!$A526:$H526)),0)),C$1&\"=\",\"\"),\"\")","v":""},{"$f":"IFERROR(SUBSTITUTE(INDEX(Data!$A526:$H526,,MATCH(FALSE,ISERROR(SEARCH(D$1&\"=\",Data!$A526:$H526)),0)),D$1&\"=\",\"\"),\"\")","v":""},{"$f":"IFERROR(SUBSTITUTE(INDEX(Data!$A526:$H526,,MATCH(FALSE,ISERROR(SEARCH(E$1&\"=\",Data!$A526:$H526)),0)),E$1&\"=\",\"\"),\"\")","v":""},{"$f":"IFERROR(SUBSTITUTE(INDEX(Data!$A526:$H526,,MATCH(FALSE,ISERROR(SEARCH(F$1&\"=\",Data!$A526:$H526)),0)),F$1&\"=\",\"\"),\"\")","v":""},{"$f":"IFERROR(SUBSTITUTE(INDEX(Data!$A526:$H526,,MATCH(FALSE,ISERROR(SEARCH(G$1&\"=\",Data!$A526:$H526)),0)),G$1&\"=\",\"\"),\"\")","v":""},{"$f":"IFERROR(SUBSTITUTE(INDEX(Data!$A526:$H526,,MATCH(FALSE,ISERROR(SEARCH(H$1&\"=\",Data!$A526:$H526)),0)),H$1&\"=\",\"\"),\"\")","v":""},{"$f":"IFERROR(SUBSTITUTE(INDEX(Data!$A526:$H526,,MATCH(FALSE,ISERROR(SEARCH(I$1&\"=\",Data!$A526:$H526)),0)),I$1&\"=\",\"\"),\"\")","v":""},{"$f":"IFERROR(SUBSTITUTE(INDEX(Data!$A526:$H526,,MATCH(FALSE,ISERROR(SEARCH(J$1&\"=\",Data!$A526:$H526)),0)),J$1&\"=\",\"\"),\"\")","v":""}]
[{"$f":"IFERROR(SUBSTITUTE(INDEX(Data!$A527:$H527,,MATCH(FALSE,ISERROR(SEARCH(A$1&\"=\",Data!$A527:$H527)),0)),A$1&\"=\",\"\"),\"\")","v":""},{"$f":"IFERROR(SUBSTITUTE(INDEX(Data!$A527:$H527,,MATCH(FALSE,ISERROR(SEARCH(B$1&\"=\",Data!$A527:$H527)),0)),B$1&\"=\",\"\"),\"\")","v":""},{"$f":"IFERROR(SUBSTITUTE(INDEX(Data!$A527:$H527,,MATCH(FALSE,ISERROR(SEARCH(C$1&\"=\",Data!$A527:$H527)),0)),C$1&\"=\",\"\"),\"\")","v":""},{"$f":"IFERROR(SUBSTITUTE(INDEX(Data!$A527:$H527,,MATCH(FALSE,ISERROR(SEARCH(D$1&\"=\",Data!$A527:$H527)),0)),D$1&\"=\",\"\"),\"\")","v":""},{"$f":"IFERROR(SUBSTITUTE(INDEX(Data!$A527:$H527,,MATCH(FALSE,ISERROR(SEARCH(E$1&\"=\",Data!$A527:$H527)),0)),E$1&\"=\",\"\"),\"\")","v":""},{"$f":"IFERROR(SUBSTITUTE(INDEX(Data!$A527:$H527,,MATCH(FALSE,ISERROR(SEARCH(F$1&\"=\",Data!$A527:$H527)),0)),F$1&\"=\",\"\"),\"\")","v":""},{"$f":"IFERROR(SUBSTITUTE(INDEX(Data!$A527:$H527,,MATCH(FALSE,ISERROR(SEARCH(G$1&\"=\",Data!$A527:$H527)),0)),G$1&\"=\",\"\"),\"\")","v":""},{"$f":"IFERROR(SUBSTITUTE(INDEX(Data!$A527:$H527,,MATCH(FALSE,ISERROR(SEARCH(H$1&\"=\",Data!$A527:$H527)),0)),H$1&\"=\",\"\"),\"\")","v":""},{"$f":"IFERROR(SUBSTITUTE(INDEX(Data!$A527:$H527,,MATCH(FALSE,ISERROR(SEARCH(I$1&\"=\",Data!$A527:$H527)),0)),I$1&\"=\",\"\"),\"\")","v":""},{"$f":"IFERROR(SUBSTITUTE(INDEX(Data!$A527:$H527,,MATCH(FALSE,ISERROR(SEARCH(J$1&\"=\",Data!$A527:$H527)),0)),J$1&\"=\",\"\"),\"\")","v":""}]
[{"$f":"IFERROR(SUBSTITUTE(INDEX(Data!$A528:$H528,,MATCH(FALSE,ISERROR(SEARCH(A$1&\"=\",Data!$A528:$H528)),0)),A$1&\"=\",\"\"),\"\")","v":""},{"$f":"IFERROR(SUBSTITUTE(INDEX(Data!$A528:$H528,,MATCH(FALSE,ISERROR(SEARCH(B$1&\"=\",Data!$A528:$H528)),0)),B$1&\"=\",\"\"),\"\")","v":""},{"$f":"IFERROR(SUBSTITUTE(INDEX(Data!$A528:$H528,,MATCH(FALSE,ISERROR(SEARCH(C$1&\"=\",Data!$A528:$H528)),0)),C$1&\"=\",\"\"),\"\")","v":""},{"$f":"IFERROR(SUBSTITUTE(INDEX(Data!$A528:$H528,,MATCH(FALSE,ISERROR(SEARCH(D$1&\"=\",Data!$A528:$H528)),0)),D$1&\"=\",\"\"),\"\")","v":""},{"$f":"IFERROR(SUBSTITUTE(INDEX(Data!$A528:$H528,,MATCH(FALSE,ISERROR(SEARCH(E$1&\"=\",Data!$A528:$H528)),0)),E$1&\"=\",\"\"),\"\")","v":""},{"$f":"IFERROR(SUBSTITUTE(INDEX(Data!$A528:$H528,,MATCH(FALSE,ISERROR(SEARCH(F$1&\"=\",Data!$A528:$H528)),0)),F$1&\"=\",\"\"),\"\")","v":""},{"$f":"IFERROR(SUBSTITUTE(INDEX(Data!$A528:$H528,,MATCH(FALSE,ISERROR(SEARCH(G$1&\"=\",Data!$A528:$H528)),0)),G$1&\"=\",\"\"),\"\")","v":""},{"$f":"IFERROR(SUBSTITUTE(INDEX(Data!$A528:$H528,,MATCH(FALSE,ISERROR(SEARCH(H$1&\"=\",Data!$A528:$H528)),0)),H$1&\"=\",\"\"),\"\")","v":""},{"$f":"IFERROR(SUBSTITUTE(INDEX(Data!$A528:$H528,,MATCH(FALSE,ISERROR(SEARCH(I$1&\"=\",Data!$A528:$H528)),0)),I$1&\"=\",\"\"),\"\")","v":""},{"$f":"IFERROR(SUBSTITUTE(INDEX(Data!$A528:$H528,,MATCH(FALSE,ISERROR(SEARCH(J$1&\"=\",Data!$A528:$H528)),0)),J$1&\"=\",\"\"),\"\")","v":""}]
[{"$f":"IFERROR(SUBSTITUTE(INDEX(Data!$A529:$H529,,MATCH(FALSE,ISERROR(SEARCH(A$1&\"=\",Data!$A529:$H529)),0)),A$1&\"=\",\"\"),\"\")","v":""},{"$f":"IFERROR(SUBSTITUTE(INDEX(Data!$A529:$H529,,MATCH(FALSE,ISERROR(SEARCH(B$1&\"=\",Data!$A529:$H529)),0)),B$1&\"=\",\"\"),\"\")","v":""},{"$f":"IFERROR(SUBSTITUTE(INDEX(Data!$A529:$H529,,MATCH(FALSE,ISERROR(SEARCH(C$1&\"=\",Data!$A529:$H529)),0)),C$1&\"=\",\"\"),\"\")","v":""},{"$f":"IFERROR(SUBSTITUTE(INDEX(Data!$A529:$H529,,MATCH(FALSE,ISERROR(SEARCH(D$1&\"=\",Data!$A529:$H529)),0)),D$1&\"=\",\"\"),\"\")","v":""},{"$f":"IFERROR(SUBSTITUTE(INDEX(Data!$A529:$H529,,MATCH(FALSE,ISERROR(SEARCH(E$1&\"=\",Data!$A529:$H529)),0)),E$1&\"=\",\"\"),\"\")","v":""},{"$f":"IFERROR(SUBSTITUTE(INDEX(Data!$A529:$H529,,MATCH(FALSE,ISERROR(SEARCH(F$1&\"=\",Data!$A529:$H529)),0)),F$1&\"=\",\"\"),\"\")","v":""},{"$f":"IFERROR(SUBSTITUTE(INDEX(Data!$A529:$H529,,MATCH(FALSE,ISERROR(SEARCH(G$1&\"=\",Data!$A529:$H529)),0)),G$1&\"=\",\"\"),\"\")","v":""},{"$f":"IFERROR(SUBSTITUTE(INDEX(Data!$A529:$H529,,MATCH(FALSE,ISERROR(SEARCH(H$1&\"=\",Data!$A529:$H529)),0)),H$1&\"=\",\"\"),\"\")","v":""},{"$f":"IFERROR(SUBSTITUTE(INDEX(Data!$A529:$H529,,MATCH(FALSE,ISERROR(SEARCH(I$1&\"=\",Data!$A529:$H529)),0)),I$1&\"=\",\"\"),\"\")","v":""},{"$f":"IFERROR(SUBSTITUTE(INDEX(Data!$A529:$H529,,MATCH(FALSE,ISERROR(SEARCH(J$1&\"=\",Data!$A529:$H529)),0)),J$1&\"=\",\"\"),\"\")","v":""}]
[{"$f":"IFERROR(SUBSTITUTE(INDEX(Data!$A530:$H530,,MATCH(FALSE,ISERROR(SEARCH(A$1&\"=\",Data!$A530:$H530)),0)),A$1&\"=\",\"\"),\"\")","v":""},{"$f":"IFERROR(SUBSTITUTE(INDEX(Data!$A530:$H530,,MATCH(FALSE,ISERROR(SEARCH(B$1&\"=\",Data!$A530:$H530)),0)),B$1&\"=\",\"\"),\"\")","v":""},{"$f":"IFERROR(SUBSTITUTE(INDEX(Data!$A530:$H530,,MATCH(FALSE,ISERROR(SEARCH(C$1&\"=\",Data!$A530:$H530)),0)),C$1&\"=\",\"\"),\"\")","v":""},{"$f":"IFERROR(SUBSTITUTE(INDEX(Data!$A530:$H530,,MATCH(FALSE,ISERROR(SEARCH(D$1&\"=\",Data!$A530:$H530)),0)),D$1&\"=\",\"\"),\"\")","v":""},{"$f":"IFERROR(SUBSTITUTE(INDEX(Data!$A530:$H530,,MATCH(FALSE,ISERROR(SEARCH(E$1&\"=\",Data!$A530:$H530)),0)),E$1&\"=\",\"\"),\"\")","v":""},{"$f":"IFERROR(SUBSTITUTE(INDEX(Data!$A530:$H530,,MATCH(FALSE,ISERROR(SEARCH(F$1&\"=\",Data!$A530:$H530)),0)),F$1&\"=\",\"\"),\"\")","v":""},{"$f":"IFERROR(SUBSTITUTE(INDEX(Data!$A530:$H530,,MATCH(FALSE,ISERROR(SEARCH(G$1&\"=\",Data!$A530:$H530)),0)),G$1&\"=\",\"\"),\"\")","v":""},{"$f":"IFERROR(SUBSTITUTE(INDEX(Data!$A530:$H530,,MATCH(FALSE,ISERROR(SEARCH(H$1&\"=\",Data!$A530:$H530)),0)),H$1&\"=\",\"\"),\"\")","v":""},{"$f":"IFERROR(SUBSTITUTE(INDEX(Data!$A530:$H530,,MATCH(FALSE,ISERROR(SEARCH(I$1&\"=\",Data!$A530:$H530)),0)),I$1&\"=\",\"\"),\"\")","v":""},{"$f":"IFERROR(SUBSTITUTE(INDEX(Data!$A530:$H530,,MATCH(FALSE,ISERROR(SEARCH(J$1&\"=\",Data!$A530:$H530)),0)),J$1&\"=\",\"\"),\"\")","v":""}]
[{"$f":"IFERROR(SUBSTITUTE(INDEX(Data!$A531:$H531,,MATCH(FALSE,ISERROR(SEARCH(A$1&\"=\",Data!$A531:$H531)),0)),A$1&\"=\",\"\"),\"\")","v":""},{"$f":"IFERROR(SUBSTITUTE(INDEX(Data!$A531:$H531,,MATCH(FALSE,ISERROR(SEARCH(B$1&\"=\",Data!$A531:$H531)),0)),B$1&\"=\",\"\"),\"\")","v":""},{"$f":"IFERROR(SUBSTITUTE(INDEX(Data!$A531:$H531,,MATCH(FALSE,ISERROR(SEARCH(C$1&\"=\",Data!$A531:$H531)),0)),C$1&\"=\",\"\"),\"\")","v":""},{"$f":"IFERROR(SUBSTITUTE(INDEX(Data!$A531:$H531,,MATCH(FALSE,ISERROR(SEARCH(D$1&\"=\",Data!$A531:$H531)),0)),D$1&\"=\",\"\"),\"\")","v":""},{"$f":"IFERROR(SUBSTITUTE(INDEX(Data!$A531:$H531,,MATCH(FALSE,ISERROR(SEARCH(E$1&\"=\",Data!$A531:$H531)),0)),E$1&\"=\",\"\"),\"\")","v":""},{"$f":"IFERROR(SUBSTITUTE(INDEX(Data!$A531:$H531,,MATCH(FALSE,ISERROR(SEARCH(F$1&\"=\",Data!$A531:$H531)),0)),F$1&\"=\",\"\"),\"\")","v":""},{"$f":"IFERROR(SUBSTITUTE(INDEX(Data!$A531:$H531,,MATCH(FALSE,ISERROR(SEARCH(G$1&\"=\",Data!$A531:$H531)),0)),G$1&\"=\",\"\"),\"\")","v":""},{"$f":"IFERROR(SUBSTITUTE(INDEX(Data!$A531:$H531,,MATCH(FALSE,ISERROR(SEARCH(H$1&\"=\",Data!$A531:$H531)),0)),H$1&\"=\",\"\"),\"\")","v":""},{"$f":"IFERROR(SUBSTITUTE(INDEX(Data!$A531:$H531,,MATCH(FALSE,ISERROR(SEARCH(I$1&\"=\",Data!$A531:$H531)),0)),I$1&\"=\",\"\"),\"\")","v":""},{"$f":"IFERROR(SUBSTITUTE(INDEX(Data!$A531:$H531,,MATCH(FALSE,ISERROR(SEARCH(J$1&\"=\",Data!$A531:$H531)),0)),J$1&\"=\",\"\"),\"\")","v":""}]
[{"$f":"IFERROR(SUBSTITUTE(INDEX(Data!$A532:$H532,,MATCH(FALSE,ISERROR(SEARCH(A$1&\"=\",Data!$A532:$H532)),0)),A$1&\"=\",\"\"),\"\")","v":""},{"$f":"IFERROR(SUBSTITUTE(INDEX(Data!$A532:$H532,,MATCH(FALSE,ISERROR(SEARCH(B$1&\"=\",Data!$A532:$H532)),0)),B$1&\"=\",\"\"),\"\")","v":""},{"$f":"IFERROR(SUBSTITUTE(INDEX(Data!$A532:$H532,,MATCH(FALSE,ISERROR(SEARCH(C$1&\"=\",Data!$A532:$H532)),0)),C$1&\"=\",\"\"),\"\")","v":""},{"$f":"IFERROR(SUBSTITUTE(INDEX(Data!$A532:$H532,,MATCH(FALSE,ISERROR(SEARCH(D$1&\"=\",Data!$A532:$H532)),0)),D$1&\"=\",\"\"),\"\")","v":""},{"$f":"IFERROR(SUBSTITUTE(INDEX(Data!$A532:$H532,,MATCH(FALSE,ISERROR(SEARCH(E$1&\"=\",Data!$A532:$H532)),0)),E$1&\"=\",\"\"),\"\")","v":""},{"$f":"IFERROR(SUBSTITUTE(INDEX(Data!$A532:$H532,,MATCH(FALSE,ISERROR(SEARCH(F$1&\"=\",Data!$A532:$H532)),0)),F$1&\"=\",\"\"),\"\")","v":""},{"$f":"IFERROR(SUBSTITUTE(INDEX(Data!$A532:$H532,,MATCH(FALSE,ISERROR(SEARCH(G$1&\"=\",Data!$A532:$H532)),0)),G$1&\"=\",\"\"),\"\")","v":""},{"$f":"IFERROR(SUBSTITUTE(INDEX(Data!$A532:$H532,,MATCH(FALSE,ISERROR(SEARCH(H$1&\"=\",Data!$A532:$H532)),0)),H$1&\"=\",\"\"),\"\")","v":""},{"$f":"IFERROR(SUBSTITUTE(INDEX(Data!$A532:$H532,,MATCH(FALSE,ISERROR(SEARCH(I$1&\"=\",Data!$A532:$H532)),0)),I$1&\"=\",\"\"),\"\")","v":""},{"$f":"IFERROR(SUBSTITUTE(INDEX(Data!$A532:$H532,,MATCH(FALSE,ISERROR(SEARCH(J$1&\"=\",Data!$A532:$H532)),0)),J$1&\"=\",\"\"),\"\")","v":""}]
[{"$f":"IFERROR(SUBSTITUTE(INDEX(Data!$A533:$H533,,MATCH(FALSE,ISERROR(SEARCH(A$1&\"=\",Data!$A533:$H533)),0)),A$1&\"=\",\"\"),\"\")","v":""},{"$f":"IFERROR(SUBSTITUTE(INDEX(Data!$A533:$H533,,MATCH(FALSE,ISERROR(SEARCH(B$1&\"=\",Data!$A533:$H533)),0)),B$1&\"=\",\"\"),\"\")","v":""},{"$f":"IFERROR(SUBSTITUTE(INDEX(Data!$A533:$H533,,MATCH(FALSE,ISERROR(SEARCH(C$1&\"=\",Data!$A533:$H533)),0)),C$1&\"=\",\"\"),\"\")","v":""},{"$f":"IFERROR(SUBSTITUTE(INDEX(Data!$A533:$H533,,MATCH(FALSE,ISERROR(SEARCH(D$1&\"=\",Data!$A533:$H533)),0)),D$1&\"=\",\"\"),\"\")","v":""},{"$f":"IFERROR(SUBSTITUTE(INDEX(Data!$A533:$H533,,MATCH(FALSE,ISERROR(SEARCH(E$1&\"=\",Data!$A533:$H533)),0)),E$1&\"=\",\"\"),\"\")","v":""},{"$f":"IFERROR(SUBSTITUTE(INDEX(Data!$A533:$H533,,MATCH(FALSE,ISERROR(SEARCH(F$1&\"=\",Data!$A533:$H533)),0)),F$1&\"=\",\"\"),\"\")","v":""},{"$f":"IFERROR(SUBSTITUTE(INDEX(Data!$A533:$H533,,MATCH(FALSE,ISERROR(SEARCH(G$1&\"=\",Data!$A533:$H533)),0)),G$1&\"=\",\"\"),\"\")","v":""},{"$f":"IFERROR(SUBSTITUTE(INDEX(Data!$A533:$H533,,MATCH(FALSE,ISERROR(SEARCH(H$1&\"=\",Data!$A533:$H533)),0)),H$1&\"=\",\"\"),\"\")","v":""},{"$f":"IFERROR(SUBSTITUTE(INDEX(Data!$A533:$H533,,MATCH(FALSE,ISERROR(SEARCH(I$1&\"=\",Data!$A533:$H533)),0)),I$1&\"=\",\"\"),\"\")","v":""},{"$f":"IFERROR(SUBSTITUTE(INDEX(Data!$A533:$H533,,MATCH(FALSE,ISERROR(SEARCH(J$1&\"=\",Data!$A533:$H533)),0)),J$1&\"=\",\"\"),\"\")","v":""}]
[{"$f":"IFERROR(SUBSTITUTE(INDEX(Data!$A534:$H534,,MATCH(FALSE,ISERROR(SEARCH(A$1&\"=\",Data!$A534:$H534)),0)),A$1&\"=\",\"\"),\"\")","v":""},{"$f":"IFERROR(SUBSTITUTE(INDEX(Data!$A534:$H534,,MATCH(FALSE,ISERROR(SEARCH(B$1&\"=\",Data!$A534:$H534)),0)),B$1&\"=\",\"\"),\"\")","v":""},{"$f":"IFERROR(SUBSTITUTE(INDEX(Data!$A534:$H534,,MATCH(FALSE,ISERROR(SEARCH(C$1&\"=\",Data!$A534:$H534)),0)),C$1&\"=\",\"\"),\"\")","v":""},{"$f":"IFERROR(SUBSTITUTE(INDEX(Data!$A534:$H534,,MATCH(FALSE,ISERROR(SEARCH(D$1&\"=\",Data!$A534:$H534)),0)),D$1&\"=\",\"\"),\"\")","v":""},{"$f":"IFERROR(SUBSTITUTE(INDEX(Data!$A534:$H534,,MATCH(FALSE,ISERROR(SEARCH(E$1&\"=\",Data!$A534:$H534)),0)),E$1&\"=\",\"\"),\"\")","v":""},{"$f":"IFERROR(SUBSTITUTE(INDEX(Data!$A534:$H534,,MATCH(FALSE,ISERROR(SEARCH(F$1&\"=\",Data!$A534:$H534)),0)),F$1&\"=\",\"\"),\"\")","v":""},{"$f":"IFERROR(SUBSTITUTE(INDEX(Data!$A534:$H534,,MATCH(FALSE,ISERROR(SEARCH(G$1&\"=\",Data!$A534:$H534)),0)),G$1&\"=\",\"\"),\"\")","v":""},{"$f":"IFERROR(SUBSTITUTE(INDEX(Data!$A534:$H534,,MATCH(FALSE,ISERROR(SEARCH(H$1&\"=\",Data!$A534:$H534)),0)),H$1&\"=\",\"\"),\"\")","v":""},{"$f":"IFERROR(SUBSTITUTE(INDEX(Data!$A534:$H534,,MATCH(FALSE,ISERROR(SEARCH(I$1&\"=\",Data!$A534:$H534)),0)),I$1&\"=\",\"\"),\"\")","v":""},{"$f":"IFERROR(SUBSTITUTE(INDEX(Data!$A534:$H534,,MATCH(FALSE,ISERROR(SEARCH(J$1&\"=\",Data!$A534:$H534)),0)),J$1&\"=\",\"\"),\"\")","v":""}]
[{"$f":"IFERROR(SUBSTITUTE(INDEX(Data!$A535:$H535,,MATCH(FALSE,ISERROR(SEARCH(A$1&\"=\",Data!$A535:$H535)),0)),A$1&\"=\",\"\"),\"\")","v":""},{"$f":"IFERROR(SUBSTITUTE(INDEX(Data!$A535:$H535,,MATCH(FALSE,ISERROR(SEARCH(B$1&\"=\",Data!$A535:$H535)),0)),B$1&\"=\",\"\"),\"\")","v":""},{"$f":"IFERROR(SUBSTITUTE(INDEX(Data!$A535:$H535,,MATCH(FALSE,ISERROR(SEARCH(C$1&\"=\",Data!$A535:$H535)),0)),C$1&\"=\",\"\"),\"\")","v":""},{"$f":"IFERROR(SUBSTITUTE(INDEX(Data!$A535:$H535,,MATCH(FALSE,ISERROR(SEARCH(D$1&\"=\",Data!$A535:$H535)),0)),D$1&\"=\",\"\"),\"\")","v":""},{"$f":"IFERROR(SUBSTITUTE(INDEX(Data!$A535:$H535,,MATCH(FALSE,ISERROR(SEARCH(E$1&\"=\",Data!$A535:$H535)),0)),E$1&\"=\",\"\"),\"\")","v":""},{"$f":"IFERROR(SUBSTITUTE(INDEX(Data!$A535:$H535,,MATCH(FALSE,ISERROR(SEARCH(F$1&\"=\",Data!$A535:$H535)),0)),F$1&\"=\",\"\"),\"\")","v":""},{"$f":"IFERROR(SUBSTITUTE(INDEX(Data!$A535:$H535,,MATCH(FALSE,ISERROR(SEARCH(G$1&\"=\",Data!$A535:$H535)),0)),G$1&\"=\",\"\"),\"\")","v":""},{"$f":"IFERROR(SUBSTITUTE(INDEX(Data!$A535:$H535,,MATCH(FALSE,ISERROR(SEARCH(H$1&\"=\",Data!$A535:$H535)),0)),H$1&\"=\",\"\"),\"\")","v":""},{"$f":"IFERROR(SUBSTITUTE(INDEX(Data!$A535:$H535,,MATCH(FALSE,ISERROR(SEARCH(I$1&\"=\",Data!$A535:$H535)),0)),I$1&\"=\",\"\"),\"\")","v":""},{"$f":"IFERROR(SUBSTITUTE(INDEX(Data!$A535:$H535,,MATCH(FALSE,ISERROR(SEARCH(J$1&\"=\",Data!$A535:$H535)),0)),J$1&\"=\",\"\"),\"\")","v":""}]
[{"$f":"IFERROR(SUBSTITUTE(INDEX(Data!$A536:$H536,,MATCH(FALSE,ISERROR(SEARCH(A$1&\"=\",Data!$A536:$H536)),0)),A$1&\"=\",\"\"),\"\")","v":""},{"$f":"IFERROR(SUBSTITUTE(INDEX(Data!$A536:$H536,,MATCH(FALSE,ISERROR(SEARCH(B$1&\"=\",Data!$A536:$H536)),0)),B$1&\"=\",\"\"),\"\")","v":""},{"$f":"IFERROR(SUBSTITUTE(INDEX(Data!$A536:$H536,,MATCH(FALSE,ISERROR(SEARCH(C$1&\"=\",Data!$A536:$H536)),0)),C$1&\"=\",\"\"),\"\")","v":""},{"$f":"IFERROR(SUBSTITUTE(INDEX(Data!$A536:$H536,,MATCH(FALSE,ISERROR(SEARCH(D$1&\"=\",Data!$A536:$H536)),0)),D$1&\"=\",\"\"),\"\")","v":""},{"$f":"IFERROR(SUBSTITUTE(INDEX(Data!$A536:$H536,,MATCH(FALSE,ISERROR(SEARCH(E$1&\"=\",Data!$A536:$H536)),0)),E$1&\"=\",\"\"),\"\")","v":""},{"$f":"IFERROR(SUBSTITUTE(INDEX(Data!$A536:$H536,,MATCH(FALSE,ISERROR(SEARCH(F$1&\"=\",Data!$A536:$H536)),0)),F$1&\"=\",\"\"),\"\")","v":""},{"$f":"IFERROR(SUBSTITUTE(INDEX(Data!$A536:$H536,,MATCH(FALSE,ISERROR(SEARCH(G$1&\"=\",Data!$A536:$H536)),0)),G$1&\"=\",\"\"),\"\")","v":""},{"$f":"IFERROR(SUBSTITUTE(INDEX(Data!$A536:$H536,,MATCH(FALSE,ISERROR(SEARCH(H$1&\"=\",Data!$A536:$H536)),0)),H$1&\"=\",\"\"),\"\")","v":""},{"$f":"IFERROR(SUBSTITUTE(INDEX(Data!$A536:$H536,,MATCH(FALSE,ISERROR(SEARCH(I$1&\"=\",Data!$A536:$H536)),0)),I$1&\"=\",\"\"),\"\")","v":""},{"$f":"IFERROR(SUBSTITUTE(INDEX(Data!$A536:$H536,,MATCH(FALSE,ISERROR(SEARCH(J$1&\"=\",Data!$A536:$H536)),0)),J$1&\"=\",\"\"),\"\")","v":""}]
[{"$f":"IFERROR(SUBSTITUTE(INDEX(Data!$A537:$H537,,MATCH(FALSE,ISERROR(SEARCH(A$1&\"=\",Data!$A537:$H537)),0)),A$1&\"=\",\"\"),\"\")","v":""},{"$f":"IFERROR(SUBSTITUTE(INDEX(Data!$A537:$H537,,MATCH(FALSE,ISERROR(SEARCH(B$1&\"=\",Data!$A537:$H537)),0)),B$1&\"=\",\"\"),\"\")","v":""},{"$f":"IFERROR(SUBSTITUTE(INDEX(Data!$A537:$H537,,MATCH(FALSE,ISERROR(SEARCH(C$1&\"=\",Data!$A537:$H537)),0)),C$1&\"=\",\"\"),\"\")","v":""},{"$f":"IFERROR(SUBSTITUTE(INDEX(Data!$A537:$H537,,MATCH(FALSE,ISERROR(SEARCH(D$1&\"=\",Data!$A537:$H537)),0)),D$1&\"=\",\"\"),\"\")","v":""},{"$f":"IFERROR(SUBSTITUTE(INDEX(Data!$A537:$H537,,MATCH(FALSE,ISERROR(SEARCH(E$1&\"=\",Data!$A537:$H537)),0)),E$1&\"=\",\"\"),\"\")","v":""},{"$f":"IFERROR(SUBSTITUTE(INDEX(Data!$A537:$H537,,MATCH(FALSE,ISERROR(SEARCH(F$1&\"=\",Data!$A537:$H537)),0)),F$1&\"=\",\"\"),\"\")","v":""},{"$f":"IFERROR(SUBSTITUTE(INDEX(Data!$A537:$H537,,MATCH(FALSE,ISERROR(SEARCH(G$1&\"=\",Data!$A537:$H537)),0)),G$1&\"=\",\"\"),\"\")","v":""},{"$f":"IFERROR(SUBSTITUTE(INDEX(Data!$A537:$H537,,MATCH(FALSE,ISERROR(SEARCH(H$1&\"=\",Data!$A537:$H537)),0)),H$1&\"=\",\"\"),\"\")","v":""},{"$f":"IFERROR(SUBSTITUTE(INDEX(Data!$A537:$H537,,MATCH(FALSE,ISERROR(SEARCH(I$1&\"=\",Data!$A537:$H537)),0)),I$1&\"=\",\"\"),\"\")","v":""},{"$f":"IFERROR(SUBSTITUTE(INDEX(Data!$A537:$H537,,MATCH(FALSE,ISERROR(SEARCH(J$1&\"=\",Data!$A537:$H537)),0)),J$1&\"=\",\"\"),\"\")","v":""}]
[{"$f":"IFERROR(SUBSTITUTE(INDEX(Data!$A538:$H538,,MATCH(FALSE,ISERROR(SEARCH(A$1&\"=\",Data!$A538:$H538)),0)),A$1&\"=\",\"\"),\"\")","v":""},{"$f":"IFERROR(SUBSTITUTE(INDEX(Data!$A538:$H538,,MATCH(FALSE,ISERROR(SEARCH(B$1&\"=\",Data!$A538:$H538)),0)),B$1&\"=\",\"\"),\"\")","v":""},{"$f":"IFERROR(SUBSTITUTE(INDEX(Data!$A538:$H538,,MATCH(FALSE,ISERROR(SEARCH(C$1&\"=\",Data!$A538:$H538)),0)),C$1&\"=\",\"\"),\"\")","v":""},{"$f":"IFERROR(SUBSTITUTE(INDEX(Data!$A538:$H538,,MATCH(FALSE,ISERROR(SEARCH(D$1&\"=\",Data!$A538:$H538)),0)),D$1&\"=\",\"\"),\"\")","v":""},{"$f":"IFERROR(SUBSTITUTE(INDEX(Data!$A538:$H538,,MATCH(FALSE,ISERROR(SEARCH(E$1&\"=\",Data!$A538:$H538)),0)),E$1&\"=\",\"\"),\"\")","v":""},{"$f":"IFERROR(SUBSTITUTE(INDEX(Data!$A538:$H538,,MATCH(FALSE,ISERROR(SEARCH(F$1&\"=\",Data!$A538:$H538)),0)),F$1&\"=\",\"\"),\"\")","v":""},{"$f":"IFERROR(SUBSTITUTE(INDEX(Data!$A538:$H538,,MATCH(FALSE,ISERROR(SEARCH(G$1&\"=\",Data!$A538:$H538)),0)),G$1&\"=\",\"\"),\"\")","v":""},{"$f":"IFERROR(SUBSTITUTE(INDEX(Data!$A538:$H538,,MATCH(FALSE,ISERROR(SEARCH(H$1&\"=\",Data!$A538:$H538)),0)),H$1&\"=\",\"\"),\"\")","v":""},{"$f":"IFERROR(SUBSTITUTE(INDEX(Data!$A538:$H538,,MATCH(FALSE,ISERROR(SEARCH(I$1&\"=\",Data!$A538:$H538)),0)),I$1&\"=\",\"\"),\"\")","v":""},{"$f":"IFERROR(SUBSTITUTE(INDEX(Data!$A538:$H538,,MATCH(FALSE,ISERROR(SEARCH(J$1&\"=\",Data!$A538:$H538)),0)),J$1&\"=\",\"\"),\"\")","v":""}]
[{"$f":"IFERROR(SUBSTITUTE(INDEX(Data!$A539:$H539,,MATCH(FALSE,ISERROR(SEARCH(A$1&\"=\",Data!$A539:$H539)),0)),A$1&\"=\",\"\"),\"\")","v":""},{"$f":"IFERROR(SUBSTITUTE(INDEX(Data!$A539:$H539,,MATCH(FALSE,ISERROR(SEARCH(B$1&\"=\",Data!$A539:$H539)),0)),B$1&\"=\",\"\"),\"\")","v":""},{"$f":"IFERROR(SUBSTITUTE(INDEX(Data!$A539:$H539,,MATCH(FALSE,ISERROR(SEARCH(C$1&\"=\",Data!$A539:$H539)),0)),C$1&\"=\",\"\"),\"\")","v":""},{"$f":"IFERROR(SUBSTITUTE(INDEX(Data!$A539:$H539,,MATCH(FALSE,ISERROR(SEARCH(D$1&\"=\",Data!$A539:$H539)),0)),D$1&\"=\",\"\"),\"\")","v":""},{"$f":"IFERROR(SUBSTITUTE(INDEX(Data!$A539:$H539,,MATCH(FALSE,ISERROR(SEARCH(E$1&\"=\",Data!$A539:$H539)),0)),E$1&\"=\",\"\"),\"\")","v":""},{"$f":"IFERROR(SUBSTITUTE(INDEX(Data!$A539:$H539,,MATCH(FALSE,ISERROR(SEARCH(F$1&\"=\",Data!$A539:$H539)),0)),F$1&\"=\",\"\"),\"\")","v":""},{"$f":"IFERROR(SUBSTITUTE(INDEX(Data!$A539:$H539,,MATCH(FALSE,ISERROR(SEARCH(G$1&\"=\",Data!$A539:$H539)),0)),G$1&\"=\",\"\"),\"\")","v":""},{"$f":"IFERROR(SUBSTITUTE(INDEX(Data!$A539:$H539,,MATCH(FALSE,ISERROR(SEARCH(H$1&\"=\",Data!$A539:$H539)),0)),H$1&\"=\",\"\"),\"\")","v":""},{"$f":"IFERROR(SUBSTITUTE(INDEX(Data!$A539:$H539,,MATCH(FALSE,ISERROR(SEARCH(I$1&\"=\",Data!$A539:$H539)),0)),I$1&\"=\",\"\"),\"\")","v":""},{"$f":"IFERROR(SUBSTITUTE(INDEX(Data!$A539:$H539,,MATCH(FALSE,ISERROR(SEARCH(J$1&\"=\",Data!$A539:$H539)),0)),J$1&\"=\",\"\"),\"\")","v":""}]
[{"$f":"IFERROR(SUBSTITUTE(INDEX(Data!$A540:$H540,,MATCH(FALSE,ISERROR(SEARCH(A$1&\"=\",Data!$A540:$H540)),0)),A$1&\"=\",\"\"),\"\")","v":""},{"$f":"IFERROR(SUBSTITUTE(INDEX(Data!$A540:$H540,,MATCH(FALSE,ISERROR(SEARCH(B$1&\"=\",Data!$A540:$H540)),0)),B$1&\"=\",\"\"),\"\")","v":""},{"$f":"IFERROR(SUBSTITUTE(INDEX(Data!$A540:$H540,,MATCH(FALSE,ISERROR(SEARCH(C$1&\"=\",Data!$A540:$H540)),0)),C$1&\"=\",\"\"),\"\")","v":""},{"$f":"IFERROR(SUBSTITUTE(INDEX(Data!$A540:$H540,,MATCH(FALSE,ISERROR(SEARCH(D$1&\"=\",Data!$A540:$H540)),0)),D$1&\"=\",\"\"),\"\")","v":""},{"$f":"IFERROR(SUBSTITUTE(INDEX(Data!$A540:$H540,,MATCH(FALSE,ISERROR(SEARCH(E$1&\"=\",Data!$A540:$H540)),0)),E$1&\"=\",\"\"),\"\")","v":""},{"$f":"IFERROR(SUBSTITUTE(INDEX(Data!$A540:$H540,,MATCH(FALSE,ISERROR(SEARCH(F$1&\"=\",Data!$A540:$H540)),0)),F$1&\"=\",\"\"),\"\")","v":""},{"$f":"IFERROR(SUBSTITUTE(INDEX(Data!$A540:$H540,,MATCH(FALSE,ISERROR(SEARCH(G$1&\"=\",Data!$A540:$H540)),0)),G$1&\"=\",\"\"),\"\")","v":""},{"$f":"IFERROR(SUBSTITUTE(INDEX(Data!$A540:$H540,,MATCH(FALSE,ISERROR(SEARCH(H$1&\"=\",Data!$A540:$H540)),0)),H$1&\"=\",\"\"),\"\")","v":""},{"$f":"IFERROR(SUBSTITUTE(INDEX(Data!$A540:$H540,,MATCH(FALSE,ISERROR(SEARCH(I$1&\"=\",Data!$A540:$H540)),0)),I$1&\"=\",\"\"),\"\")","v":""},{"$f":"IFERROR(SUBSTITUTE(INDEX(Data!$A540:$H540,,MATCH(FALSE,ISERROR(SEARCH(J$1&\"=\",Data!$A540:$H540)),0)),J$1&\"=\",\"\"),\"\")","v":""}]
[{"$f":"IFERROR(SUBSTITUTE(INDEX(Data!$A541:$H541,,MATCH(FALSE,ISERROR(SEARCH(A$1&\"=\",Data!$A541:$H541)),0)),A$1&\"=\",\"\"),\"\")","v":""},{"$f":"IFERROR(SUBSTITUTE(INDEX(Data!$A541:$H541,,MATCH(FALSE,ISERROR(SEARCH(B$1&\"=\",Data!$A541:$H541)),0)),B$1&\"=\",\"\"),\"\")","v":""},{"$f":"IFERROR(SUBSTITUTE(INDEX(Data!$A541:$H541,,MATCH(FALSE,ISERROR(SEARCH(C$1&\"=\",Data!$A541:$H541)),0)),C$1&\"=\",\"\"),\"\")","v":""},{"$f":"IFERROR(SUBSTITUTE(INDEX(Data!$A541:$H541,,MATCH(FALSE,ISERROR(SEARCH(D$1&\"=\",Data!$A541:$H541)),0)),D$1&\"=\",\"\"),\"\")","v":""},{"$f":"IFERROR(SUBSTITUTE(INDEX(Data!$A541:$H541,,MATCH(FALSE,ISERROR(SEARCH(E$1&\"=\",Data!$A541:$H541)),0)),E$1&\"=\",\"\"),\"\")","v":""},{"$f":"IFERROR(SUBSTITUTE(INDEX(Data!$A541:$H541,,MATCH(FALSE,ISERROR(SEARCH(F$1&\"=\",Data!$A541:$H541)),0)),F$1&\"=\",\"\"),\"\")","v":""},{"$f":"IFERROR(SUBSTITUTE(INDEX(Data!$A541:$H541,,MATCH(FALSE,ISERROR(SEARCH(G$1&\"=\",Data!$A541:$H541)),0)),G$1&\"=\",\"\"),\"\")","v":""},{"$f":"IFERROR(SUBSTITUTE(INDEX(Data!$A541:$H541,,MATCH(FALSE,ISERROR(SEARCH(H$1&\"=\",Data!$A541:$H541)),0)),H$1&\"=\",\"\"),\"\")","v":""},{"$f":"IFERROR(SUBSTITUTE(INDEX(Data!$A541:$H541,,MATCH(FALSE,ISERROR(SEARCH(I$1&\"=\",Data!$A541:$H541)),0)),I$1&\"=\",\"\"),\"\")","v":""},{"$f":"IFERROR(SUBSTITUTE(INDEX(Data!$A541:$H541,,MATCH(FALSE,ISERROR(SEARCH(J$1&\"=\",Data!$A541:$H541)),0)),J$1&\"=\",\"\"),\"\")","v":""}]
[{"$f":"IFERROR(SUBSTITUTE(INDEX(Data!$A542:$H542,,MATCH(FALSE,ISERROR(SEARCH(A$1&\"=\",Data!$A542:$H542)),0)),A$1&\"=\",\"\"),\"\")","v":""},{"$f":"IFERROR(SUBSTITUTE(INDEX(Data!$A542:$H542,,MATCH(FALSE,ISERROR(SEARCH(B$1&\"=\",Data!$A542:$H542)),0)),B$1&\"=\",\"\"),\"\")","v":""},{"$f":"IFERROR(SUBSTITUTE(INDEX(Data!$A542:$H542,,MATCH(FALSE,ISERROR(SEARCH(C$1&\"=\",Data!$A542:$H542)),0)),C$1&\"=\",\"\"),\"\")","v":""},{"$f":"IFERROR(SUBSTITUTE(INDEX(Data!$A542:$H542,,MATCH(FALSE,ISERROR(SEARCH(D$1&\"=\",Data!$A542:$H542)),0)),D$1&\"=\",\"\"),\"\")","v":""},{"$f":"IFERROR(SUBSTITUTE(INDEX(Data!$A542:$H542,,MATCH(FALSE,ISERROR(SEARCH(E$1&\"=\",Data!$A542:$H542)),0)),E$1&\"=\",\"\"),\"\")","v":""},{"$f":"IFERROR(SUBSTITUTE(INDEX(Data!$A542:$H542,,MATCH(FALSE,ISERROR(SEARCH(F$1&\"=\",Data!$A542:$H542)),0)),F$1&\"=\",\"\"),\"\")","v":""},{"$f":"IFERROR(SUBSTITUTE(INDEX(Data!$A542:$H542,,MATCH(FALSE,ISERROR(SEARCH(G$1&\"=\",Data!$A542:$H542)),0)),G$1&\"=\",\"\"),\"\")","v":""},{"$f":"IFERROR(SUBSTITUTE(INDEX(Data!$A542:$H542,,MATCH(FALSE,ISERROR(SEARCH(H$1&\"=\",Data!$A542:$H542)),0)),H$1&\"=\",\"\"),\"\")","v":""},{"$f":"IFERROR(SUBSTITUTE(INDEX(Data!$A542:$H542,,MATCH(FALSE,ISERROR(SEARCH(I$1&\"=\",Data!$A542:$H542)),0)),I$1&\"=\",\"\"),\"\")","v":""},{"$f":"IFERROR(SUBSTITUTE(INDEX(Data!$A542:$H542,,MATCH(FALSE,ISERROR(SEARCH(J$1&\"=\",Data!$A542:$H542)),0)),J$1&\"=\",\"\"),\"\")","v":""}]
[{"$f":"IFERROR(SUBSTITUTE(INDEX(Data!$A543:$H543,,MATCH(FALSE,ISERROR(SEARCH(A$1&\"=\",Data!$A543:$H543)),0)),A$1&\"=\",\"\"),\"\")","v":""},{"$f":"IFERROR(SUBSTITUTE(INDEX(Data!$A543:$H543,,MATCH(FALSE,ISERROR(SEARCH(B$1&\"=\",Data!$A543:$H543)),0)),B$1&\"=\",\"\"),\"\")","v":""},{"$f":"IFERROR(SUBSTITUTE(INDEX(Data!$A543:$H543,,MATCH(FALSE,ISERROR(SEARCH(C$1&\"=\",Data!$A543:$H543)),0)),C$1&\"=\",\"\"),\"\")","v":""},{"$f":"IFERROR(SUBSTITUTE(INDEX(Data!$A543:$H543,,MATCH(FALSE,ISERROR(SEARCH(D$1&\"=\",Data!$A543:$H543)),0)),D$1&\"=\",\"\"),\"\")","v":""},{"$f":"IFERROR(SUBSTITUTE(INDEX(Data!$A543:$H543,,MATCH(FALSE,ISERROR(SEARCH(E$1&\"=\",Data!$A543:$H543)),0)),E$1&\"=\",\"\"),\"\")","v":""},{"$f":"IFERROR(SUBSTITUTE(INDEX(Data!$A543:$H543,,MATCH(FALSE,ISERROR(SEARCH(F$1&\"=\",Data!$A543:$H543)),0)),F$1&\"=\",\"\"),\"\")","v":""},{"$f":"IFERROR(SUBSTITUTE(INDEX(Data!$A543:$H543,,MATCH(FALSE,ISERROR(SEARCH(G$1&\"=\",Data!$A543:$H543)),0)),G$1&\"=\",\"\"),\"\")","v":""},{"$f":"IFERROR(SUBSTITUTE(INDEX(Data!$A543:$H543,,MATCH(FALSE,ISERROR(SEARCH(H$1&\"=\",Data!$A543:$H543)),0)),H$1&\"=\",\"\"),\"\")","v":""},{"$f":"IFERROR(SUBSTITUTE(INDEX(Data!$A543:$H543,,MATCH(FALSE,ISERROR(SEARCH(I$1&\"=\",Data!$A543:$H543)),0)),I$1&\"=\",\"\"),\"\")","v":""},{"$f":"IFERROR(SUBSTITUTE(INDEX(Data!$A543:$H543,,MATCH(FALSE,ISERROR(SEARCH(J$1&\"=\",Data!$A543:$H543)),0)),J$1&\"=\",\"\"),\"\")","v":""}]
[{"$f":"IFERROR(SUBSTITUTE(INDEX(Data!$A544:$H544,,MATCH(FALSE,ISERROR(SEARCH(A$1&\"=\",Data!$A544:$H544)),0)),A$1&\"=\",\"\"),\"\")","v":""},{"$f":"IFERROR(SUBSTITUTE(INDEX(Data!$A544:$H544,,MATCH(FALSE,ISERROR(SEARCH(B$1&\"=\",Data!$A544:$H544)),0)),B$1&\"=\",\"\"),\"\")","v":""},{"$f":"IFERROR(SUBSTITUTE(INDEX(Data!$A544:$H544,,MATCH(FALSE,ISERROR(SEARCH(C$1&\"=\",Data!$A544:$H544)),0)),C$1&\"=\",\"\"),\"\")","v":""},{"$f":"IFERROR(SUBSTITUTE(INDEX(Data!$A544:$H544,,MATCH(FALSE,ISERROR(SEARCH(D$1&\"=\",Data!$A544:$H544)),0)),D$1&\"=\",\"\"),\"\")","v":""},{"$f":"IFERROR(SUBSTITUTE(INDEX(Data!$A544:$H544,,MATCH(FALSE,ISERROR(SEARCH(E$1&\"=\",Data!$A544:$H544)),0)),E$1&\"=\",\"\"),\"\")","v":""},{"$f":"IFERROR(SUBSTITUTE(INDEX(Data!$A544:$H544,,MATCH(FALSE,ISERROR(SEARCH(F$1&\"=\",Data!$A544:$H544)),0)),F$1&\"=\",\"\"),\"\")","v":""},{"$f":"IFERROR(SUBSTITUTE(INDEX(Data!$A544:$H544,,MATCH(FALSE,ISERROR(SEARCH(G$1&\"=\",Data!$A544:$H544)),0)),G$1&\"=\",\"\"),\"\")","v":""},{"$f":"IFERROR(SUBSTITUTE(INDEX(Data!$A544:$H544,,MATCH(FALSE,ISERROR(SEARCH(H$1&\"=\",Data!$A544:$H544)),0)),H$1&\"=\",\"\"),\"\")","v":""},{"$f":"IFERROR(SUBSTITUTE(INDEX(Data!$A544:$H544,,MATCH(FALSE,ISERROR(SEARCH(I$1&\"=\",Data!$A544:$H544)),0)),I$1&\"=\",\"\"),\"\")","v":""},{"$f":"IFERROR(SUBSTITUTE(INDEX(Data!$A544:$H544,,MATCH(FALSE,ISERROR(SEARCH(J$1&\"=\",Data!$A544:$H544)),0)),J$1&\"=\",\"\"),\"\")","v":""}]
[{"$f":"IFERROR(SUBSTITUTE(INDEX(Data!$A545:$H545,,MATCH(FALSE,ISERROR(SEARCH(A$1&\"=\",Data!$A545:$H545)),0)),A$1&\"=\",\"\"),\"\")","v":""},{"$f":"IFERROR(SUBSTITUTE(INDEX(Data!$A545:$H545,,MATCH(FALSE,ISERROR(SEARCH(B$1&\"=\",Data!$A545:$H545)),0)),B$1&\"=\",\"\"),\"\")","v":""},{"$f":"IFERROR(SUBSTITUTE(INDEX(Data!$A545:$H545,,MATCH(FALSE,ISERROR(SEARCH(C$1&\"=\",Data!$A545:$H545)),0)),C$1&\"=\",\"\"),\"\")","v":""},{"$f":"IFERROR(SUBSTITUTE(INDEX(Data!$A545:$H545,,MATCH(FALSE,ISERROR(SEARCH(D$1&\"=\",Data!$A545:$H545)),0)),D$1&\"=\",\"\"),\"\")","v":""},{"$f":"IFERROR(SUBSTITUTE(INDEX(Data!$A545:$H545,,MATCH(FALSE,ISERROR(SEARCH(E$1&\"=\",Data!$A545:$H545)),0)),E$1&\"=\",\"\"),\"\")","v":""},{"$f":"IFERROR(SUBSTITUTE(INDEX(Data!$A545:$H545,,MATCH(FALSE,ISERROR(SEARCH(F$1&\"=\",Data!$A545:$H545)),0)),F$1&\"=\",\"\"),\"\")","v":""},{"$f":"IFERROR(SUBSTITUTE(INDEX(Data!$A545:$H545,,MATCH(FALSE,ISERROR(SEARCH(G$1&\"=\",Data!$A545:$H545)),0)),G$1&\"=\",\"\"),\"\")","v":""},{"$f":"IFERROR(SUBSTITUTE(INDEX(Data!$A545:$H545,,MATCH(FALSE,ISERROR(SEARCH(H$1&\"=\",Data!$A545:$H545)),0)),H$1&\"=\",\"\"),\"\")","v":""},{"$f":"IFERROR(SUBSTITUTE(INDEX(Data!$A545:$H545,,MATCH(FALSE,ISERROR(SEARCH(I$1&\"=\",Data!$A545:$H545)),0)),I$1&\"=\",\"\"),\"\")","v":""},{"$f":"IFERROR(SUBSTITUTE(INDEX(Data!$A545:$H545,,MATCH(FALSE,ISERROR(SEARCH(J$1&\"=\",Data!$A545:$H545)),0)),J$1&\"=\",\"\"),\"\")","v":""}]
[{"$f":"IFERROR(SUBSTITUTE(INDEX(Data!$A546:$H546,,MATCH(FALSE,ISERROR(SEARCH(A$1&\"=\",Data!$A546:$H546)),0)),A$1&\"=\",\"\"),\"\")","v":""},{"$f":"IFERROR(SUBSTITUTE(INDEX(Data!$A546:$H546,,MATCH(FALSE,ISERROR(SEARCH(B$1&\"=\",Data!$A546:$H546)),0)),B$1&\"=\",\"\"),\"\")","v":""},{"$f":"IFERROR(SUBSTITUTE(INDEX(Data!$A546:$H546,,MATCH(FALSE,ISERROR(SEARCH(C$1&\"=\",Data!$A546:$H546)),0)),C$1&\"=\",\"\"),\"\")","v":""},{"$f":"IFERROR(SUBSTITUTE(INDEX(Data!$A546:$H546,,MATCH(FALSE,ISERROR(SEARCH(D$1&\"=\",Data!$A546:$H546)),0)),D$1&\"=\",\"\"),\"\")","v":""},{"$f":"IFERROR(SUBSTITUTE(INDEX(Data!$A546:$H546,,MATCH(FALSE,ISERROR(SEARCH(E$1&\"=\",Data!$A546:$H546)),0)),E$1&\"=\",\"\"),\"\")","v":""},{"$f":"IFERROR(SUBSTITUTE(INDEX(Data!$A546:$H546,,MATCH(FALSE,ISERROR(SEARCH(F$1&\"=\",Data!$A546:$H546)),0)),F$1&\"=\",\"\"),\"\")","v":""},{"$f":"IFERROR(SUBSTITUTE(INDEX(Data!$A546:$H546,,MATCH(FALSE,ISERROR(SEARCH(G$1&\"=\",Data!$A546:$H546)),0)),G$1&\"=\",\"\"),\"\")","v":""},{"$f":"IFERROR(SUBSTITUTE(INDEX(Data!$A546:$H546,,MATCH(FALSE,ISERROR(SEARCH(H$1&\"=\",Data!$A546:$H546)),0)),H$1&\"=\",\"\"),\"\")","v":""},{"$f":"IFERROR(SUBSTITUTE(INDEX(Data!$A546:$H546,,MATCH(FALSE,ISERROR(SEARCH(I$1&\"=\",Data!$A546:$H546)),0)),I$1&\"=\",\"\"),\"\")","v":""},{"$f":"IFERROR(SUBSTITUTE(INDEX(Data!$A546:$H546,,MATCH(FALSE,ISERROR(SEARCH(J$1&\"=\",Data!$A546:$H546)),0)),J$1&\"=\",\"\"),\"\")","v":""}]
[{"$f":"IFERROR(SUBSTITUTE(INDEX(Data!$A547:$H547,,MATCH(FALSE,ISERROR(SEARCH(A$1&\"=\",Data!$A547:$H547)),0)),A$1&\"=\",\"\"),\"\")","v":""},{"$f":"IFERROR(SUBSTITUTE(INDEX(Data!$A547:$H547,,MATCH(FALSE,ISERROR(SEARCH(B$1&\"=\",Data!$A547:$H547)),0)),B$1&\"=\",\"\"),\"\")","v":""},{"$f":"IFERROR(SUBSTITUTE(INDEX(Data!$A547:$H547,,MATCH(FALSE,ISERROR(SEARCH(C$1&\"=\",Data!$A547:$H547)),0)),C$1&\"=\",\"\"),\"\")","v":""},{"$f":"IFERROR(SUBSTITUTE(INDEX(Data!$A547:$H547,,MATCH(FALSE,ISERROR(SEARCH(D$1&\"=\",Data!$A547:$H547)),0)),D$1&\"=\",\"\"),\"\")","v":""},{"$f":"IFERROR(SUBSTITUTE(INDEX(Data!$A547:$H547,,MATCH(FALSE,ISERROR(SEARCH(E$1&\"=\",Data!$A547:$H547)),0)),E$1&\"=\",\"\"),\"\")","v":""},{"$f":"IFERROR(SUBSTITUTE(INDEX(Data!$A547:$H547,,MATCH(FALSE,ISERROR(SEARCH(F$1&\"=\",Data!$A547:$H547)),0)),F$1&\"=\",\"\"),\"\")","v":""},{"$f":"IFERROR(SUBSTITUTE(INDEX(Data!$A547:$H547,,MATCH(FALSE,ISERROR(SEARCH(G$1&\"=\",Data!$A547:$H547)),0)),G$1&\"=\",\"\"),\"\")","v":""},{"$f":"IFERROR(SUBSTITUTE(INDEX(Data!$A547:$H547,,MATCH(FALSE,ISERROR(SEARCH(H$1&\"=\",Data!$A547:$H547)),0)),H$1&\"=\",\"\"),\"\")","v":""},{"$f":"IFERROR(SUBSTITUTE(INDEX(Data!$A547:$H547,,MATCH(FALSE,ISERROR(SEARCH(I$1&\"=\",Data!$A547:$H547)),0)),I$1&\"=\",\"\"),\"\")","v":""},{"$f":"IFERROR(SUBSTITUTE(INDEX(Data!$A547:$H547,,MATCH(FALSE,ISERROR(SEARCH(J$1&\"=\",Data!$A547:$H547)),0)),J$1&\"=\",\"\"),\"\")","v":""}]
[{"$f":"IFERROR(SUBSTITUTE(INDEX(Data!$A548:$H548,,MATCH(FALSE,ISERROR(SEARCH(A$1&\"=\",Data!$A548:$H548)),0)),A$1&\"=\",\"\"),\"\")","v":""},{"$f":"IFERROR(SUBSTITUTE(INDEX(Data!$A548:$H548,,MATCH(FALSE,ISERROR(SEARCH(B$1&\"=\",Data!$A548:$H548)),0)),B$1&\"=\",\"\"),\"\")","v":""},{"$f":"IFERROR(SUBSTITUTE(INDEX(Data!$A548:$H548,,MATCH(FALSE,ISERROR(SEARCH(C$1&\"=\",Data!$A548:$H548)),0)),C$1&\"=\",\"\"),\"\")","v":""},{"$f":"IFERROR(SUBSTITUTE(INDEX(Data!$A548:$H548,,MATCH(FALSE,ISERROR(SEARCH(D$1&\"=\",Data!$A548:$H548)),0)),D$1&\"=\",\"\"),\"\")","v":""},{"$f":"IFERROR(SUBSTITUTE(INDEX(Data!$A548:$H548,,MATCH(FALSE,ISERROR(SEARCH(E$1&\"=\",Data!$A548:$H548)),0)),E$1&\"=\",\"\"),\"\")","v":""},{"$f":"IFERROR(SUBSTITUTE(INDEX(Data!$A548:$H548,,MATCH(FALSE,ISERROR(SEARCH(F$1&\"=\",Data!$A548:$H548)),0)),F$1&\"=\",\"\"),\"\")","v":""},{"$f":"IFERROR(SUBSTITUTE(INDEX(Data!$A548:$H548,,MATCH(FALSE,ISERROR(SEARCH(G$1&\"=\",Data!$A548:$H548)),0)),G$1&\"=\",\"\"),\"\")","v":""},{"$f":"IFERROR(SUBSTITUTE(INDEX(Data!$A548:$H548,,MATCH(FALSE,ISERROR(SEARCH(H$1&\"=\",Data!$A548:$H548)),0)),H$1&\"=\",\"\"),\"\")","v":""},{"$f":"IFERROR(SUBSTITUTE(INDEX(Data!$A548:$H548,,MATCH(FALSE,ISERROR(SEARCH(I$1&\"=\",Data!$A548:$H548)),0)),I$1&\"=\",\"\"),\"\")","v":""},{"$f":"IFERROR(SUBSTITUTE(INDEX(Data!$A548:$H548,,MATCH(FALSE,ISERROR(SEARCH(J$1&\"=\",Data!$A548:$H548)),0)),J$1&\"=\",\"\"),\"\")","v":""}]
[{"$f":"IFERROR(SUBSTITUTE(INDEX(Data!$A549:$H549,,MATCH(FALSE,ISERROR(SEARCH(A$1&\"=\",Data!$A549:$H549)),0)),A$1&\"=\",\"\"),\"\")","v":""},{"$f":"IFERROR(SUBSTITUTE(INDEX(Data!$A549:$H549,,MATCH(FALSE,ISERROR(SEARCH(B$1&\"=\",Data!$A549:$H549)),0)),B$1&\"=\",\"\"),\"\")","v":""},{"$f":"IFERROR(SUBSTITUTE(INDEX(Data!$A549:$H549,,MATCH(FALSE,ISERROR(SEARCH(C$1&\"=\",Data!$A549:$H549)),0)),C$1&\"=\",\"\"),\"\")","v":""},{"$f":"IFERROR(SUBSTITUTE(INDEX(Data!$A549:$H549,,MATCH(FALSE,ISERROR(SEARCH(D$1&\"=\",Data!$A549:$H549)),0)),D$1&\"=\",\"\"),\"\")","v":""},{"$f":"IFERROR(SUBSTITUTE(INDEX(Data!$A549:$H549,,MATCH(FALSE,ISERROR(SEARCH(E$1&\"=\",Data!$A549:$H549)),0)),E$1&\"=\",\"\"),\"\")","v":""},{"$f":"IFERROR(SUBSTITUTE(INDEX(Data!$A549:$H549,,MATCH(FALSE,ISERROR(SEARCH(F$1&\"=\",Data!$A549:$H549)),0)),F$1&\"=\",\"\"),\"\")","v":""},{"$f":"IFERROR(SUBSTITUTE(INDEX(Data!$A549:$H549,,MATCH(FALSE,ISERROR(SEARCH(G$1&\"=\",Data!$A549:$H549)),0)),G$1&\"=\",\"\"),\"\")","v":""},{"$f":"IFERROR(SUBSTITUTE(INDEX(Data!$A549:$H549,,MATCH(FALSE,ISERROR(SEARCH(H$1&\"=\",Data!$A549:$H549)),0)),H$1&\"=\",\"\"),\"\")","v":""},{"$f":"IFERROR(SUBSTITUTE(INDEX(Data!$A549:$H549,,MATCH(FALSE,ISERROR(SEARCH(I$1&\"=\",Data!$A549:$H549)),0)),I$1&\"=\",\"\"),\"\")","v":""},{"$f":"IFERROR(SUBSTITUTE(INDEX(Data!$A549:$H549,,MATCH(FALSE,ISERROR(SEARCH(J$1&\"=\",Data!$A549:$H549)),0)),J$1&\"=\",\"\"),\"\")","v":""}]
[{"$f":"IFERROR(SUBSTITUTE(INDEX(Data!$A550:$H550,,MATCH(FALSE,ISERROR(SEARCH(A$1&\"=\",Data!$A550:$H550)),0)),A$1&\"=\",\"\"),\"\")","v":""},{"$f":"IFERROR(SUBSTITUTE(INDEX(Data!$A550:$H550,,MATCH(FALSE,ISERROR(SEARCH(B$1&\"=\",Data!$A550:$H550)),0)),B$1&\"=\",\"\"),\"\")","v":""},{"$f":"IFERROR(SUBSTITUTE(INDEX(Data!$A550:$H550,,MATCH(FALSE,ISERROR(SEARCH(C$1&\"=\",Data!$A550:$H550)),0)),C$1&\"=\",\"\"),\"\")","v":""},{"$f":"IFERROR(SUBSTITUTE(INDEX(Data!$A550:$H550,,MATCH(FALSE,ISERROR(SEARCH(D$1&\"=\",Data!$A550:$H550)),0)),D$1&\"=\",\"\"),\"\")","v":""},{"$f":"IFERROR(SUBSTITUTE(INDEX(Data!$A550:$H550,,MATCH(FALSE,ISERROR(SEARCH(E$1&\"=\",Data!$A550:$H550)),0)),E$1&\"=\",\"\"),\"\")","v":""},{"$f":"IFERROR(SUBSTITUTE(INDEX(Data!$A550:$H550,,MATCH(FALSE,ISERROR(SEARCH(F$1&\"=\",Data!$A550:$H550)),0)),F$1&\"=\",\"\"),\"\")","v":""},{"$f":"IFERROR(SUBSTITUTE(INDEX(Data!$A550:$H550,,MATCH(FALSE,ISERROR(SEARCH(G$1&\"=\",Data!$A550:$H550)),0)),G$1&\"=\",\"\"),\"\")","v":""},{"$f":"IFERROR(SUBSTITUTE(INDEX(Data!$A550:$H550,,MATCH(FALSE,ISERROR(SEARCH(H$1&\"=\",Data!$A550:$H550)),0)),H$1&\"=\",\"\"),\"\")","v":""},{"$f":"IFERROR(SUBSTITUTE(INDEX(Data!$A550:$H550,,MATCH(FALSE,ISERROR(SEARCH(I$1&\"=\",Data!$A550:$H550)),0)),I$1&\"=\",\"\"),\"\")","v":""},{"$f":"IFERROR(SUBSTITUTE(INDEX(Data!$A550:$H550,,MATCH(FALSE,ISERROR(SEARCH(J$1&\"=\",Data!$A550:$H550)),0)),J$1&\"=\",\"\"),\"\")","v":""}]
[{"$f":"IFERROR(SUBSTITUTE(INDEX(Data!$A551:$H551,,MATCH(FALSE,ISERROR(SEARCH(A$1&\"=\",Data!$A551:$H551)),0)),A$1&\"=\",\"\"),\"\")","v":""},{"$f":"IFERROR(SUBSTITUTE(INDEX(Data!$A551:$H551,,MATCH(FALSE,ISERROR(SEARCH(B$1&\"=\",Data!$A551:$H551)),0)),B$1&\"=\",\"\"),\"\")","v":""},{"$f":"IFERROR(SUBSTITUTE(INDEX(Data!$A551:$H551,,MATCH(FALSE,ISERROR(SEARCH(C$1&\"=\",Data!$A551:$H551)),0)),C$1&\"=\",\"\"),\"\")","v":""},{"$f":"IFERROR(SUBSTITUTE(INDEX(Data!$A551:$H551,,MATCH(FALSE,ISERROR(SEARCH(D$1&\"=\",Data!$A551:$H551)),0)),D$1&\"=\",\"\"),\"\")","v":""},{"$f":"IFERROR(SUBSTITUTE(INDEX(Data!$A551:$H551,,MATCH(FALSE,ISERROR(SEARCH(E$1&\"=\",Data!$A551:$H551)),0)),E$1&\"=\",\"\"),\"\")","v":""},{"$f":"IFERROR(SUBSTITUTE(INDEX(Data!$A551:$H551,,MATCH(FALSE,ISERROR(SEARCH(F$1&\"=\",Data!$A551:$H551)),0)),F$1&\"=\",\"\"),\"\")","v":""},{"$f":"IFERROR(SUBSTITUTE(INDEX(Data!$A551:$H551,,MATCH(FALSE,ISERROR(SEARCH(G$1&\"=\",Data!$A551:$H551)),0)),G$1&\"=\",\"\"),\"\")","v":""},{"$f":"IFERROR(SUBSTITUTE(INDEX(Data!$A551:$H551,,MATCH(FALSE,ISERROR(SEARCH(H$1&\"=\",Data!$A551:$H551)),0)),H$1&\"=\",\"\"),\"\")","v":""},{"$f":"IFERROR(SUBSTITUTE(INDEX(Data!$A551:$H551,,MATCH(FALSE,ISERROR(SEARCH(I$1&\"=\",Data!$A551:$H551)),0)),I$1&\"=\",\"\"),\"\")","v":""},{"$f":"IFERROR(SUBSTITUTE(INDEX(Data!$A551:$H551,,MATCH(FALSE,ISERROR(SEARCH(J$1&\"=\",Data!$A551:$H551)),0)),J$1&\"=\",\"\"),\"\")","v":""}]
[{"$f":"IFERROR(SUBSTITUTE(INDEX(Data!$A552:$H552,,MATCH(FALSE,ISERROR(SEARCH(A$1&\"=\",Data!$A552:$H552)),0)),A$1&\"=\",\"\"),\"\")","v":""},{"$f":"IFERROR(SUBSTITUTE(INDEX(Data!$A552:$H552,,MATCH(FALSE,ISERROR(SEARCH(B$1&\"=\",Data!$A552:$H552)),0)),B$1&\"=\",\"\"),\"\")","v":""},{"$f":"IFERROR(SUBSTITUTE(INDEX(Data!$A552:$H552,,MATCH(FALSE,ISERROR(SEARCH(C$1&\"=\",Data!$A552:$H552)),0)),C$1&\"=\",\"\"),\"\")","v":""},{"$f":"IFERROR(SUBSTITUTE(INDEX(Data!$A552:$H552,,MATCH(FALSE,ISERROR(SEARCH(D$1&\"=\",Data!$A552:$H552)),0)),D$1&\"=\",\"\"),\"\")","v":""},{"$f":"IFERROR(SUBSTITUTE(INDEX(Data!$A552:$H552,,MATCH(FALSE,ISERROR(SEARCH(E$1&\"=\",Data!$A552:$H552)),0)),E$1&\"=\",\"\"),\"\")","v":""},{"$f":"IFERROR(SUBSTITUTE(INDEX(Data!$A552:$H552,,MATCH(FALSE,ISERROR(SEARCH(F$1&\"=\",Data!$A552:$H552)),0)),F$1&\"=\",\"\"),\"\")","v":""},{"$f":"IFERROR(SUBSTITUTE(INDEX(Data!$A552:$H552,,MATCH(FALSE,ISERROR(SEARCH(G$1&\"=\",Data!$A552:$H552)),0)),G$1&\"=\",\"\"),\"\")","v":""},{"$f":"IFERROR(SUBSTITUTE(INDEX(Data!$A552:$H552,,MATCH(FALSE,ISERROR(SEARCH(H$1&\"=\",Data!$A552:$H552)),0)),H$1&\"=\",\"\"),\"\")","v":""},{"$f":"IFERROR(SUBSTITUTE(INDEX(Data!$A552:$H552,,MATCH(FALSE,ISERROR(SEARCH(I$1&\"=\",Data!$A552:$H552)),0)),I$1&\"=\",\"\"),\"\")","v":""},{"$f":"IFERROR(SUBSTITUTE(INDEX(Data!$A552:$H552,,MATCH(FALSE,ISERROR(SEARCH(J$1&\"=\",Data!$A552:$H552)),0)),J$1&\"=\",\"\"),\"\")","v":""}]
[{"$f":"IFERROR(SUBSTITUTE(INDEX(Data!$A553:$H553,,MATCH(FALSE,ISERROR(SEARCH(A$1&\"=\",Data!$A553:$H553)),0)),A$1&\"=\",\"\"),\"\")","v":""},{"$f":"IFERROR(SUBSTITUTE(INDEX(Data!$A553:$H553,,MATCH(FALSE,ISERROR(SEARCH(B$1&\"=\",Data!$A553:$H553)),0)),B$1&\"=\",\"\"),\"\")","v":""},{"$f":"IFERROR(SUBSTITUTE(INDEX(Data!$A553:$H553,,MATCH(FALSE,ISERROR(SEARCH(C$1&\"=\",Data!$A553:$H553)),0)),C$1&\"=\",\"\"),\"\")","v":""},{"$f":"IFERROR(SUBSTITUTE(INDEX(Data!$A553:$H553,,MATCH(FALSE,ISERROR(SEARCH(D$1&\"=\",Data!$A553:$H553)),0)),D$1&\"=\",\"\"),\"\")","v":""},{"$f":"IFERROR(SUBSTITUTE(INDEX(Data!$A553:$H553,,MATCH(FALSE,ISERROR(SEARCH(E$1&\"=\",Data!$A553:$H553)),0)),E$1&\"=\",\"\"),\"\")","v":""},{"$f":"IFERROR(SUBSTITUTE(INDEX(Data!$A553:$H553,,MATCH(FALSE,ISERROR(SEARCH(F$1&\"=\",Data!$A553:$H553)),0)),F$1&\"=\",\"\"),\"\")","v":""},{"$f":"IFERROR(SUBSTITUTE(INDEX(Data!$A553:$H553,,MATCH(FALSE,ISERROR(SEARCH(G$1&\"=\",Data!$A553:$H553)),0)),G$1&\"=\",\"\"),\"\")","v":""},{"$f":"IFERROR(SUBSTITUTE(INDEX(Data!$A553:$H553,,MATCH(FALSE,ISERROR(SEARCH(H$1&\"=\",Data!$A553:$H553)),0)),H$1&\"=\",\"\"),\"\")","v":""},{"$f":"IFERROR(SUBSTITUTE(INDEX(Data!$A553:$H553,,MATCH(FALSE,ISERROR(SEARCH(I$1&\"=\",Data!$A553:$H553)),0)),I$1&\"=\",\"\"),\"\")","v":""},{"$f":"IFERROR(SUBSTITUTE(INDEX(Data!$A553:$H553,,MATCH(FALSE,ISERROR(SEARCH(J$1&\"=\",Data!$A553:$H553)),0)),J$1&\"=\",\"\"),\"\")","v":""}]
[{"$f":"IFERROR(SUBSTITUTE(INDEX(Data!$A554:$H554,,MATCH(FALSE,ISERROR(SEARCH(A$1&\"=\",Data!$A554:$H554)),0)),A$1&\"=\",\"\"),\"\")","v":""},{"$f":"IFERROR(SUBSTITUTE(INDEX(Data!$A554:$H554,,MATCH(FALSE,ISERROR(SEARCH(B$1&\"=\",Data!$A554:$H554)),0)),B$1&\"=\",\"\"),\"\")","v":""},{"$f":"IFERROR(SUBSTITUTE(INDEX(Data!$A554:$H554,,MATCH(FALSE,ISERROR(SEARCH(C$1&\"=\",Data!$A554:$H554)),0)),C$1&\"=\",\"\"),\"\")","v":""},{"$f":"IFERROR(SUBSTITUTE(INDEX(Data!$A554:$H554,,MATCH(FALSE,ISERROR(SEARCH(D$1&\"=\",Data!$A554:$H554)),0)),D$1&\"=\",\"\"),\"\")","v":""},{"$f":"IFERROR(SUBSTITUTE(INDEX(Data!$A554:$H554,,MATCH(FALSE,ISERROR(SEARCH(E$1&\"=\",Data!$A554:$H554)),0)),E$1&\"=\",\"\"),\"\")","v":""},{"$f":"IFERROR(SUBSTITUTE(INDEX(Data!$A554:$H554,,MATCH(FALSE,ISERROR(SEARCH(F$1&\"=\",Data!$A554:$H554)),0)),F$1&\"=\",\"\"),\"\")","v":""},{"$f":"IFERROR(SUBSTITUTE(INDEX(Data!$A554:$H554,,MATCH(FALSE,ISERROR(SEARCH(G$1&\"=\",Data!$A554:$H554)),0)),G$1&\"=\",\"\"),\"\")","v":""},{"$f":"IFERROR(SUBSTITUTE(INDEX(Data!$A554:$H554,,MATCH(FALSE,ISERROR(SEARCH(H$1&\"=\",Data!$A554:$H554)),0)),H$1&\"=\",\"\"),\"\")","v":""},{"$f":"IFERROR(SUBSTITUTE(INDEX(Data!$A554:$H554,,MATCH(FALSE,ISERROR(SEARCH(I$1&\"=\",Data!$A554:$H554)),0)),I$1&\"=\",\"\"),\"\")","v":""},{"$f":"IFERROR(SUBSTITUTE(INDEX(Data!$A554:$H554,,MATCH(FALSE,ISERROR(SEARCH(J$1&\"=\",Data!$A554:$H554)),0)),J$1&\"=\",\"\"),\"\")","v":""}]
[{"$f":"IFERROR(SUBSTITUTE(INDEX(Data!$A555:$H555,,MATCH(FALSE,ISERROR(SEARCH(A$1&\"=\",Data!$A555:$H555)),0)),A$1&\"=\",\"\"),\"\")","v":""},{"$f":"IFERROR(SUBSTITUTE(INDEX(Data!$A555:$H555,,MATCH(FALSE,ISERROR(SEARCH(B$1&\"=\",Data!$A555:$H555)),0)),B$1&\"=\",\"\"),\"\")","v":""},{"$f":"IFERROR(SUBSTITUTE(INDEX(Data!$A555:$H555,,MATCH(FALSE,ISERROR(SEARCH(C$1&\"=\",Data!$A555:$H555)),0)),C$1&\"=\",\"\"),\"\")","v":""},{"$f":"IFERROR(SUBSTITUTE(INDEX(Data!$A555:$H555,,MATCH(FALSE,ISERROR(SEARCH(D$1&\"=\",Data!$A555:$H555)),0)),D$1&\"=\",\"\"),\"\")","v":""},{"$f":"IFERROR(SUBSTITUTE(INDEX(Data!$A555:$H555,,MATCH(FALSE,ISERROR(SEARCH(E$1&\"=\",Data!$A555:$H555)),0)),E$1&\"=\",\"\"),\"\")","v":""},{"$f":"IFERROR(SUBSTITUTE(INDEX(Data!$A555:$H555,,MATCH(FALSE,ISERROR(SEARCH(F$1&\"=\",Data!$A555:$H555)),0)),F$1&\"=\",\"\"),\"\")","v":""},{"$f":"IFERROR(SUBSTITUTE(INDEX(Data!$A555:$H555,,MATCH(FALSE,ISERROR(SEARCH(G$1&\"=\",Data!$A555:$H555)),0)),G$1&\"=\",\"\"),\"\")","v":""},{"$f":"IFERROR(SUBSTITUTE(INDEX(Data!$A555:$H555,,MATCH(FALSE,ISERROR(SEARCH(H$1&\"=\",Data!$A555:$H555)),0)),H$1&\"=\",\"\"),\"\")","v":""},{"$f":"IFERROR(SUBSTITUTE(INDEX(Data!$A555:$H555,,MATCH(FALSE,ISERROR(SEARCH(I$1&\"=\",Data!$A555:$H555)),0)),I$1&\"=\",\"\"),\"\")","v":""},{"$f":"IFERROR(SUBSTITUTE(INDEX(Data!$A555:$H555,,MATCH(FALSE,ISERROR(SEARCH(J$1&\"=\",Data!$A555:$H555)),0)),J$1&\"=\",\"\"),\"\")","v":""}]
[{"$f":"IFERROR(SUBSTITUTE(INDEX(Data!$A556:$H556,,MATCH(FALSE,ISERROR(SEARCH(A$1&\"=\",Data!$A556:$H556)),0)),A$1&\"=\",\"\"),\"\")","v":""},{"$f":"IFERROR(SUBSTITUTE(INDEX(Data!$A556:$H556,,MATCH(FALSE,ISERROR(SEARCH(B$1&\"=\",Data!$A556:$H556)),0)),B$1&\"=\",\"\"),\"\")","v":""},{"$f":"IFERROR(SUBSTITUTE(INDEX(Data!$A556:$H556,,MATCH(FALSE,ISERROR(SEARCH(C$1&\"=\",Data!$A556:$H556)),0)),C$1&\"=\",\"\"),\"\")","v":""},{"$f":"IFERROR(SUBSTITUTE(INDEX(Data!$A556:$H556,,MATCH(FALSE,ISERROR(SEARCH(D$1&\"=\",Data!$A556:$H556)),0)),D$1&\"=\",\"\"),\"\")","v":""},{"$f":"IFERROR(SUBSTITUTE(INDEX(Data!$A556:$H556,,MATCH(FALSE,ISERROR(SEARCH(E$1&\"=\",Data!$A556:$H556)),0)),E$1&\"=\",\"\"),\"\")","v":""},{"$f":"IFERROR(SUBSTITUTE(INDEX(Data!$A556:$H556,,MATCH(FALSE,ISERROR(SEARCH(F$1&\"=\",Data!$A556:$H556)),0)),F$1&\"=\",\"\"),\"\")","v":""},{"$f":"IFERROR(SUBSTITUTE(INDEX(Data!$A556:$H556,,MATCH(FALSE,ISERROR(SEARCH(G$1&\"=\",Data!$A556:$H556)),0)),G$1&\"=\",\"\"),\"\")","v":""},{"$f":"IFERROR(SUBSTITUTE(INDEX(Data!$A556:$H556,,MATCH(FALSE,ISERROR(SEARCH(H$1&\"=\",Data!$A556:$H556)),0)),H$1&\"=\",\"\"),\"\")","v":""},{"$f":"IFERROR(SUBSTITUTE(INDEX(Data!$A556:$H556,,MATCH(FALSE,ISERROR(SEARCH(I$1&\"=\",Data!$A556:$H556)),0)),I$1&\"=\",\"\"),\"\")","v":""},{"$f":"IFERROR(SUBSTITUTE(INDEX(Data!$A556:$H556,,MATCH(FALSE,ISERROR(SEARCH(J$1&\"=\",Data!$A556:$H556)),0)),J$1&\"=\",\"\"),\"\")","v":""}]
[{"$f":"IFERROR(SUBSTITUTE(INDEX(Data!$A557:$H557,,MATCH(FALSE,ISERROR(SEARCH(A$1&\"=\",Data!$A557:$H557)),0)),A$1&\"=\",\"\"),\"\")","v":""},{"$f":"IFERROR(SUBSTITUTE(INDEX(Data!$A557:$H557,,MATCH(FALSE,ISERROR(SEARCH(B$1&\"=\",Data!$A557:$H557)),0)),B$1&\"=\",\"\"),\"\")","v":""},{"$f":"IFERROR(SUBSTITUTE(INDEX(Data!$A557:$H557,,MATCH(FALSE,ISERROR(SEARCH(C$1&\"=\",Data!$A557:$H557)),0)),C$1&\"=\",\"\"),\"\")","v":""},{"$f":"IFERROR(SUBSTITUTE(INDEX(Data!$A557:$H557,,MATCH(FALSE,ISERROR(SEARCH(D$1&\"=\",Data!$A557:$H557)),0)),D$1&\"=\",\"\"),\"\")","v":""},{"$f":"IFERROR(SUBSTITUTE(INDEX(Data!$A557:$H557,,MATCH(FALSE,ISERROR(SEARCH(E$1&\"=\",Data!$A557:$H557)),0)),E$1&\"=\",\"\"),\"\")","v":""},{"$f":"IFERROR(SUBSTITUTE(INDEX(Data!$A557:$H557,,MATCH(FALSE,ISERROR(SEARCH(F$1&\"=\",Data!$A557:$H557)),0)),F$1&\"=\",\"\"),\"\")","v":""},{"$f":"IFERROR(SUBSTITUTE(INDEX(Data!$A557:$H557,,MATCH(FALSE,ISERROR(SEARCH(G$1&\"=\",Data!$A557:$H557)),0)),G$1&\"=\",\"\"),\"\")","v":""},{"$f":"IFERROR(SUBSTITUTE(INDEX(Data!$A557:$H557,,MATCH(FALSE,ISERROR(SEARCH(H$1&\"=\",Data!$A557:$H557)),0)),H$1&\"=\",\"\"),\"\")","v":""},{"$f":"IFERROR(SUBSTITUTE(INDEX(Data!$A557:$H557,,MATCH(FALSE,ISERROR(SEARCH(I$1&\"=\",Data!$A557:$H557)),0)),I$1&\"=\",\"\"),\"\")","v":""},{"$f":"IFERROR(SUBSTITUTE(INDEX(Data!$A557:$H557,,MATCH(FALSE,ISERROR(SEARCH(J$1&\"=\",Data!$A557:$H557)),0)),J$1&\"=\",\"\"),\"\")","v":""}]
[{"$f":"IFERROR(SUBSTITUTE(INDEX(Data!$A558:$H558,,MATCH(FALSE,ISERROR(SEARCH(A$1&\"=\",Data!$A558:$H558)),0)),A$1&\"=\",\"\"),\"\")","v":""},{"$f":"IFERROR(SUBSTITUTE(INDEX(Data!$A558:$H558,,MATCH(FALSE,ISERROR(SEARCH(B$1&\"=\",Data!$A558:$H558)),0)),B$1&\"=\",\"\"),\"\")","v":""},{"$f":"IFERROR(SUBSTITUTE(INDEX(Data!$A558:$H558,,MATCH(FALSE,ISERROR(SEARCH(C$1&\"=\",Data!$A558:$H558)),0)),C$1&\"=\",\"\"),\"\")","v":""},{"$f":"IFERROR(SUBSTITUTE(INDEX(Data!$A558:$H558,,MATCH(FALSE,ISERROR(SEARCH(D$1&\"=\",Data!$A558:$H558)),0)),D$1&\"=\",\"\"),\"\")","v":""},{"$f":"IFERROR(SUBSTITUTE(INDEX(Data!$A558:$H558,,MATCH(FALSE,ISERROR(SEARCH(E$1&\"=\",Data!$A558:$H558)),0)),E$1&\"=\",\"\"),\"\")","v":""},{"$f":"IFERROR(SUBSTITUTE(INDEX(Data!$A558:$H558,,MATCH(FALSE,ISERROR(SEARCH(F$1&\"=\",Data!$A558:$H558)),0)),F$1&\"=\",\"\"),\"\")","v":""},{"$f":"IFERROR(SUBSTITUTE(INDEX(Data!$A558:$H558,,MATCH(FALSE,ISERROR(SEARCH(G$1&\"=\",Data!$A558:$H558)),0)),G$1&\"=\",\"\"),\"\")","v":""},{"$f":"IFERROR(SUBSTITUTE(INDEX(Data!$A558:$H558,,MATCH(FALSE,ISERROR(SEARCH(H$1&\"=\",Data!$A558:$H558)),0)),H$1&\"=\",\"\"),\"\")","v":""},{"$f":"IFERROR(SUBSTITUTE(INDEX(Data!$A558:$H558,,MATCH(FALSE,ISERROR(SEARCH(I$1&\"=\",Data!$A558:$H558)),0)),I$1&\"=\",\"\"),\"\")","v":""},{"$f":"IFERROR(SUBSTITUTE(INDEX(Data!$A558:$H558,,MATCH(FALSE,ISERROR(SEARCH(J$1&\"=\",Data!$A558:$H558)),0)),J$1&\"=\",\"\"),\"\")","v":""}]
[{"$f":"IFERROR(SUBSTITUTE(INDEX(Data!$A559:$H559,,MATCH(FALSE,ISERROR(SEARCH(A$1&\"=\",Data!$A559:$H559)),0)),A$1&\"=\",\"\"),\"\")","v":""},{"$f":"IFERROR(SUBSTITUTE(INDEX(Data!$A559:$H559,,MATCH(FALSE,ISERROR(SEARCH(B$1&\"=\",Data!$A559:$H559)),0)),B$1&\"=\",\"\"),\"\")","v":""},{"$f":"IFERROR(SUBSTITUTE(INDEX(Data!$A559:$H559,,MATCH(FALSE,ISERROR(SEARCH(C$1&\"=\",Data!$A559:$H559)),0)),C$1&\"=\",\"\"),\"\")","v":""},{"$f":"IFERROR(SUBSTITUTE(INDEX(Data!$A559:$H559,,MATCH(FALSE,ISERROR(SEARCH(D$1&\"=\",Data!$A559:$H559)),0)),D$1&\"=\",\"\"),\"\")","v":""},{"$f":"IFERROR(SUBSTITUTE(INDEX(Data!$A559:$H559,,MATCH(FALSE,ISERROR(SEARCH(E$1&\"=\",Data!$A559:$H559)),0)),E$1&\"=\",\"\"),\"\")","v":""},{"$f":"IFERROR(SUBSTITUTE(INDEX(Data!$A559:$H559,,MATCH(FALSE,ISERROR(SEARCH(F$1&\"=\",Data!$A559:$H559)),0)),F$1&\"=\",\"\"),\"\")","v":""},{"$f":"IFERROR(SUBSTITUTE(INDEX(Data!$A559:$H559,,MATCH(FALSE,ISERROR(SEARCH(G$1&\"=\",Data!$A559:$H559)),0)),G$1&\"=\",\"\"),\"\")","v":""},{"$f":"IFERROR(SUBSTITUTE(INDEX(Data!$A559:$H559,,MATCH(FALSE,ISERROR(SEARCH(H$1&\"=\",Data!$A559:$H559)),0)),H$1&\"=\",\"\"),\"\")","v":""},{"$f":"IFERROR(SUBSTITUTE(INDEX(Data!$A559:$H559,,MATCH(FALSE,ISERROR(SEARCH(I$1&\"=\",Data!$A559:$H559)),0)),I$1&\"=\",\"\"),\"\")","v":""},{"$f":"IFERROR(SUBSTITUTE(INDEX(Data!$A559:$H559,,MATCH(FALSE,ISERROR(SEARCH(J$1&\"=\",Data!$A559:$H559)),0)),J$1&\"=\",\"\"),\"\")","v":""}]
[{"$f":"IFERROR(SUBSTITUTE(INDEX(Data!$A560:$H560,,MATCH(FALSE,ISERROR(SEARCH(A$1&\"=\",Data!$A560:$H560)),0)),A$1&\"=\",\"\"),\"\")","v":""},{"$f":"IFERROR(SUBSTITUTE(INDEX(Data!$A560:$H560,,MATCH(FALSE,ISERROR(SEARCH(B$1&\"=\",Data!$A560:$H560)),0)),B$1&\"=\",\"\"),\"\")","v":""},{"$f":"IFERROR(SUBSTITUTE(INDEX(Data!$A560:$H560,,MATCH(FALSE,ISERROR(SEARCH(C$1&\"=\",Data!$A560:$H560)),0)),C$1&\"=\",\"\"),\"\")","v":""},{"$f":"IFERROR(SUBSTITUTE(INDEX(Data!$A560:$H560,,MATCH(FALSE,ISERROR(SEARCH(D$1&\"=\",Data!$A560:$H560)),0)),D$1&\"=\",\"\"),\"\")","v":""},{"$f":"IFERROR(SUBSTITUTE(INDEX(Data!$A560:$H560,,MATCH(FALSE,ISERROR(SEARCH(E$1&\"=\",Data!$A560:$H560)),0)),E$1&\"=\",\"\"),\"\")","v":""},{"$f":"IFERROR(SUBSTITUTE(INDEX(Data!$A560:$H560,,MATCH(FALSE,ISERROR(SEARCH(F$1&\"=\",Data!$A560:$H560)),0)),F$1&\"=\",\"\"),\"\")","v":""},{"$f":"IFERROR(SUBSTITUTE(INDEX(Data!$A560:$H560,,MATCH(FALSE,ISERROR(SEARCH(G$1&\"=\",Data!$A560:$H560)),0)),G$1&\"=\",\"\"),\"\")","v":""},{"$f":"IFERROR(SUBSTITUTE(INDEX(Data!$A560:$H560,,MATCH(FALSE,ISERROR(SEARCH(H$1&\"=\",Data!$A560:$H560)),0)),H$1&\"=\",\"\"),\"\")","v":""},{"$f":"IFERROR(SUBSTITUTE(INDEX(Data!$A560:$H560,,MATCH(FALSE,ISERROR(SEARCH(I$1&\"=\",Data!$A560:$H560)),0)),I$1&\"=\",\"\"),\"\")","v":""},{"$f":"IFERROR(SUBSTITUTE(INDEX(Data!$A560:$H560,,MATCH(FALSE,ISERROR(SEARCH(J$1&\"=\",Data!$A560:$H560)),0)),J$1&\"=\",\"\"),\"\")","v":""}]
[{"$f":"IFERROR(SUBSTITUTE(INDEX(Data!$A561:$H561,,MATCH(FALSE,ISERROR(SEARCH(A$1&\"=\",Data!$A561:$H561)),0)),A$1&\"=\",\"\"),\"\")","v":""},{"$f":"IFERROR(SUBSTITUTE(INDEX(Data!$A561:$H561,,MATCH(FALSE,ISERROR(SEARCH(B$1&\"=\",Data!$A561:$H561)),0)),B$1&\"=\",\"\"),\"\")","v":""},{"$f":"IFERROR(SUBSTITUTE(INDEX(Data!$A561:$H561,,MATCH(FALSE,ISERROR(SEARCH(C$1&\"=\",Data!$A561:$H561)),0)),C$1&\"=\",\"\"),\"\")","v":""},{"$f":"IFERROR(SUBSTITUTE(INDEX(Data!$A561:$H561,,MATCH(FALSE,ISERROR(SEARCH(D$1&\"=\",Data!$A561:$H561)),0)),D$1&\"=\",\"\"),\"\")","v":""},{"$f":"IFERROR(SUBSTITUTE(INDEX(Data!$A561:$H561,,MATCH(FALSE,ISERROR(SEARCH(E$1&\"=\",Data!$A561:$H561)),0)),E$1&\"=\",\"\"),\"\")","v":""},{"$f":"IFERROR(SUBSTITUTE(INDEX(Data!$A561:$H561,,MATCH(FALSE,ISERROR(SEARCH(F$1&\"=\",Data!$A561:$H561)),0)),F$1&\"=\",\"\"),\"\")","v":""},{"$f":"IFERROR(SUBSTITUTE(INDEX(Data!$A561:$H561,,MATCH(FALSE,ISERROR(SEARCH(G$1&\"=\",Data!$A561:$H561)),0)),G$1&\"=\",\"\"),\"\")","v":""},{"$f":"IFERROR(SUBSTITUTE(INDEX(Data!$A561:$H561,,MATCH(FALSE,ISERROR(SEARCH(H$1&\"=\",Data!$A561:$H561)),0)),H$1&\"=\",\"\"),\"\")","v":""},{"$f":"IFERROR(SUBSTITUTE(INDEX(Data!$A561:$H561,,MATCH(FALSE,ISERROR(SEARCH(I$1&\"=\",Data!$A561:$H561)),0)),I$1&\"=\",\"\"),\"\")","v":""},{"$f":"IFERROR(SUBSTITUTE(INDEX(Data!$A561:$H561,,MATCH(FALSE,ISERROR(SEARCH(J$1&\"=\",Data!$A561:$H561)),0)),J$1&\"=\",\"\"),\"\")","v":""}]
[{"$f":"IFERROR(SUBSTITUTE(INDEX(Data!$A562:$H562,,MATCH(FALSE,ISERROR(SEARCH(A$1&\"=\",Data!$A562:$H562)),0)),A$1&\"=\",\"\"),\"\")","v":""},{"$f":"IFERROR(SUBSTITUTE(INDEX(Data!$A562:$H562,,MATCH(FALSE,ISERROR(SEARCH(B$1&\"=\",Data!$A562:$H562)),0)),B$1&\"=\",\"\"),\"\")","v":""},{"$f":"IFERROR(SUBSTITUTE(INDEX(Data!$A562:$H562,,MATCH(FALSE,ISERROR(SEARCH(C$1&\"=\",Data!$A562:$H562)),0)),C$1&\"=\",\"\"),\"\")","v":""},{"$f":"IFERROR(SUBSTITUTE(INDEX(Data!$A562:$H562,,MATCH(FALSE,ISERROR(SEARCH(D$1&\"=\",Data!$A562:$H562)),0)),D$1&\"=\",\"\"),\"\")","v":""},{"$f":"IFERROR(SUBSTITUTE(INDEX(Data!$A562:$H562,,MATCH(FALSE,ISERROR(SEARCH(E$1&\"=\",Data!$A562:$H562)),0)),E$1&\"=\",\"\"),\"\")","v":""},{"$f":"IFERROR(SUBSTITUTE(INDEX(Data!$A562:$H562,,MATCH(FALSE,ISERROR(SEARCH(F$1&\"=\",Data!$A562:$H562)),0)),F$1&\"=\",\"\"),\"\")","v":""},{"$f":"IFERROR(SUBSTITUTE(INDEX(Data!$A562:$H562,,MATCH(FALSE,ISERROR(SEARCH(G$1&\"=\",Data!$A562:$H562)),0)),G$1&\"=\",\"\"),\"\")","v":""},{"$f":"IFERROR(SUBSTITUTE(INDEX(Data!$A562:$H562,,MATCH(FALSE,ISERROR(SEARCH(H$1&\"=\",Data!$A562:$H562)),0)),H$1&\"=\",\"\"),\"\")","v":""},{"$f":"IFERROR(SUBSTITUTE(INDEX(Data!$A562:$H562,,MATCH(FALSE,ISERROR(SEARCH(I$1&\"=\",Data!$A562:$H562)),0)),I$1&\"=\",\"\"),\"\")","v":""},{"$f":"IFERROR(SUBSTITUTE(INDEX(Data!$A562:$H562,,MATCH(FALSE,ISERROR(SEARCH(J$1&\"=\",Data!$A562:$H562)),0)),J$1&\"=\",\"\"),\"\")","v":""}]
[{"$f":"IFERROR(SUBSTITUTE(INDEX(Data!$A563:$H563,,MATCH(FALSE,ISERROR(SEARCH(A$1&\"=\",Data!$A563:$H563)),0)),A$1&\"=\",\"\"),\"\")","v":""},{"$f":"IFERROR(SUBSTITUTE(INDEX(Data!$A563:$H563,,MATCH(FALSE,ISERROR(SEARCH(B$1&\"=\",Data!$A563:$H563)),0)),B$1&\"=\",\"\"),\"\")","v":""},{"$f":"IFERROR(SUBSTITUTE(INDEX(Data!$A563:$H563,,MATCH(FALSE,ISERROR(SEARCH(C$1&\"=\",Data!$A563:$H563)),0)),C$1&\"=\",\"\"),\"\")","v":""},{"$f":"IFERROR(SUBSTITUTE(INDEX(Data!$A563:$H563,,MATCH(FALSE,ISERROR(SEARCH(D$1&\"=\",Data!$A563:$H563)),0)),D$1&\"=\",\"\"),\"\")","v":""},{"$f":"IFERROR(SUBSTITUTE(INDEX(Data!$A563:$H563,,MATCH(FALSE,ISERROR(SEARCH(E$1&\"=\",Data!$A563:$H563)),0)),E$1&\"=\",\"\"),\"\")","v":""},{"$f":"IFERROR(SUBSTITUTE(INDEX(Data!$A563:$H563,,MATCH(FALSE,ISERROR(SEARCH(F$1&\"=\",Data!$A563:$H563)),0)),F$1&\"=\",\"\"),\"\")","v":""},{"$f":"IFERROR(SUBSTITUTE(INDEX(Data!$A563:$H563,,MATCH(FALSE,ISERROR(SEARCH(G$1&\"=\",Data!$A563:$H563)),0)),G$1&\"=\",\"\"),\"\")","v":""},{"$f":"IFERROR(SUBSTITUTE(INDEX(Data!$A563:$H563,,MATCH(FALSE,ISERROR(SEARCH(H$1&\"=\",Data!$A563:$H563)),0)),H$1&\"=\",\"\"),\"\")","v":""},{"$f":"IFERROR(SUBSTITUTE(INDEX(Data!$A563:$H563,,MATCH(FALSE,ISERROR(SEARCH(I$1&\"=\",Data!$A563:$H563)),0)),I$1&\"=\",\"\"),\"\")","v":""},{"$f":"IFERROR(SUBSTITUTE(INDEX(Data!$A563:$H563,,MATCH(FALSE,ISERROR(SEARCH(J$1&\"=\",Data!$A563:$H563)),0)),J$1&\"=\",\"\"),\"\")","v":""}]
[{"$f":"IFERROR(SUBSTITUTE(INDEX(Data!$A564:$H564,,MATCH(FALSE,ISERROR(SEARCH(A$1&\"=\",Data!$A564:$H564)),0)),A$1&\"=\",\"\"),\"\")","v":""},{"$f":"IFERROR(SUBSTITUTE(INDEX(Data!$A564:$H564,,MATCH(FALSE,ISERROR(SEARCH(B$1&\"=\",Data!$A564:$H564)),0)),B$1&\"=\",\"\"),\"\")","v":""},{"$f":"IFERROR(SUBSTITUTE(INDEX(Data!$A564:$H564,,MATCH(FALSE,ISERROR(SEARCH(C$1&\"=\",Data!$A564:$H564)),0)),C$1&\"=\",\"\"),\"\")","v":""},{"$f":"IFERROR(SUBSTITUTE(INDEX(Data!$A564:$H564,,MATCH(FALSE,ISERROR(SEARCH(D$1&\"=\",Data!$A564:$H564)),0)),D$1&\"=\",\"\"),\"\")","v":""},{"$f":"IFERROR(SUBSTITUTE(INDEX(Data!$A564:$H564,,MATCH(FALSE,ISERROR(SEARCH(E$1&\"=\",Data!$A564:$H564)),0)),E$1&\"=\",\"\"),\"\")","v":""},{"$f":"IFERROR(SUBSTITUTE(INDEX(Data!$A564:$H564,,MATCH(FALSE,ISERROR(SEARCH(F$1&\"=\",Data!$A564:$H564)),0)),F$1&\"=\",\"\"),\"\")","v":""},{"$f":"IFERROR(SUBSTITUTE(INDEX(Data!$A564:$H564,,MATCH(FALSE,ISERROR(SEARCH(G$1&\"=\",Data!$A564:$H564)),0)),G$1&\"=\",\"\"),\"\")","v":""},{"$f":"IFERROR(SUBSTITUTE(INDEX(Data!$A564:$H564,,MATCH(FALSE,ISERROR(SEARCH(H$1&\"=\",Data!$A564:$H564)),0)),H$1&\"=\",\"\"),\"\")","v":""},{"$f":"IFERROR(SUBSTITUTE(INDEX(Data!$A564:$H564,,MATCH(FALSE,ISERROR(SEARCH(I$1&\"=\",Data!$A564:$H564)),0)),I$1&\"=\",\"\"),\"\")","v":""},{"$f":"IFERROR(SUBSTITUTE(INDEX(Data!$A564:$H564,,MATCH(FALSE,ISERROR(SEARCH(J$1&\"=\",Data!$A564:$H564)),0)),J$1&\"=\",\"\"),\"\")","v":""}]
[{"$f":"IFERROR(SUBSTITUTE(INDEX(Data!$A565:$H565,,MATCH(FALSE,ISERROR(SEARCH(A$1&\"=\",Data!$A565:$H565)),0)),A$1&\"=\",\"\"),\"\")","v":""},{"$f":"IFERROR(SUBSTITUTE(INDEX(Data!$A565:$H565,,MATCH(FALSE,ISERROR(SEARCH(B$1&\"=\",Data!$A565:$H565)),0)),B$1&\"=\",\"\"),\"\")","v":""},{"$f":"IFERROR(SUBSTITUTE(INDEX(Data!$A565:$H565,,MATCH(FALSE,ISERROR(SEARCH(C$1&\"=\",Data!$A565:$H565)),0)),C$1&\"=\",\"\"),\"\")","v":""},{"$f":"IFERROR(SUBSTITUTE(INDEX(Data!$A565:$H565,,MATCH(FALSE,ISERROR(SEARCH(D$1&\"=\",Data!$A565:$H565)),0)),D$1&\"=\",\"\"),\"\")","v":""},{"$f":"IFERROR(SUBSTITUTE(INDEX(Data!$A565:$H565,,MATCH(FALSE,ISERROR(SEARCH(E$1&\"=\",Data!$A565:$H565)),0)),E$1&\"=\",\"\"),\"\")","v":""},{"$f":"IFERROR(SUBSTITUTE(INDEX(Data!$A565:$H565,,MATCH(FALSE,ISERROR(SEARCH(F$1&\"=\",Data!$A565:$H565)),0)),F$1&\"=\",\"\"),\"\")","v":""},{"$f":"IFERROR(SUBSTITUTE(INDEX(Data!$A565:$H565,,MATCH(FALSE,ISERROR(SEARCH(G$1&\"=\",Data!$A565:$H565)),0)),G$1&\"=\",\"\"),\"\")","v":""},{"$f":"IFERROR(SUBSTITUTE(INDEX(Data!$A565:$H565,,MATCH(FALSE,ISERROR(SEARCH(H$1&\"=\",Data!$A565:$H565)),0)),H$1&\"=\",\"\"),\"\")","v":""},{"$f":"IFERROR(SUBSTITUTE(INDEX(Data!$A565:$H565,,MATCH(FALSE,ISERROR(SEARCH(I$1&\"=\",Data!$A565:$H565)),0)),I$1&\"=\",\"\"),\"\")","v":""},{"$f":"IFERROR(SUBSTITUTE(INDEX(Data!$A565:$H565,,MATCH(FALSE,ISERROR(SEARCH(J$1&\"=\",Data!$A565:$H565)),0)),J$1&\"=\",\"\"),\"\")","v":""}]
[{"$f":"IFERROR(SUBSTITUTE(INDEX(Data!$A566:$H566,,MATCH(FALSE,ISERROR(SEARCH(A$1&\"=\",Data!$A566:$H566)),0)),A$1&\"=\",\"\"),\"\")","v":""},{"$f":"IFERROR(SUBSTITUTE(INDEX(Data!$A566:$H566,,MATCH(FALSE,ISERROR(SEARCH(B$1&\"=\",Data!$A566:$H566)),0)),B$1&\"=\",\"\"),\"\")","v":""},{"$f":"IFERROR(SUBSTITUTE(INDEX(Data!$A566:$H566,,MATCH(FALSE,ISERROR(SEARCH(C$1&\"=\",Data!$A566:$H566)),0)),C$1&\"=\",\"\"),\"\")","v":""},{"$f":"IFERROR(SUBSTITUTE(INDEX(Data!$A566:$H566,,MATCH(FALSE,ISERROR(SEARCH(D$1&\"=\",Data!$A566:$H566)),0)),D$1&\"=\",\"\"),\"\")","v":""},{"$f":"IFERROR(SUBSTITUTE(INDEX(Data!$A566:$H566,,MATCH(FALSE,ISERROR(SEARCH(E$1&\"=\",Data!$A566:$H566)),0)),E$1&\"=\",\"\"),\"\")","v":""},{"$f":"IFERROR(SUBSTITUTE(INDEX(Data!$A566:$H566,,MATCH(FALSE,ISERROR(SEARCH(F$1&\"=\",Data!$A566:$H566)),0)),F$1&\"=\",\"\"),\"\")","v":""},{"$f":"IFERROR(SUBSTITUTE(INDEX(Data!$A566:$H566,,MATCH(FALSE,ISERROR(SEARCH(G$1&\"=\",Data!$A566:$H566)),0)),G$1&\"=\",\"\"),\"\")","v":""},{"$f":"IFERROR(SUBSTITUTE(INDEX(Data!$A566:$H566,,MATCH(FALSE,ISERROR(SEARCH(H$1&\"=\",Data!$A566:$H566)),0)),H$1&\"=\",\"\"),\"\")","v":""},{"$f":"IFERROR(SUBSTITUTE(INDEX(Data!$A566:$H566,,MATCH(FALSE,ISERROR(SEARCH(I$1&\"=\",Data!$A566:$H566)),0)),I$1&\"=\",\"\"),\"\")","v":""},{"$f":"IFERROR(SUBSTITUTE(INDEX(Data!$A566:$H566,,MATCH(FALSE,ISERROR(SEARCH(J$1&\"=\",Data!$A566:$H566)),0)),J$1&\"=\",\"\"),\"\")","v":""}]
[{"$f":"IFERROR(SUBSTITUTE(INDEX(Data!$A567:$H567,,MATCH(FALSE,ISERROR(SEARCH(A$1&\"=\",Data!$A567:$H567)),0)),A$1&\"=\",\"\"),\"\")","v":""},{"$f":"IFERROR(SUBSTITUTE(INDEX(Data!$A567:$H567,,MATCH(FALSE,ISERROR(SEARCH(B$1&\"=\",Data!$A567:$H567)),0)),B$1&\"=\",\"\"),\"\")","v":""},{"$f":"IFERROR(SUBSTITUTE(INDEX(Data!$A567:$H567,,MATCH(FALSE,ISERROR(SEARCH(C$1&\"=\",Data!$A567:$H567)),0)),C$1&\"=\",\"\"),\"\")","v":""},{"$f":"IFERROR(SUBSTITUTE(INDEX(Data!$A567:$H567,,MATCH(FALSE,ISERROR(SEARCH(D$1&\"=\",Data!$A567:$H567)),0)),D$1&\"=\",\"\"),\"\")","v":""},{"$f":"IFERROR(SUBSTITUTE(INDEX(Data!$A567:$H567,,MATCH(FALSE,ISERROR(SEARCH(E$1&\"=\",Data!$A567:$H567)),0)),E$1&\"=\",\"\"),\"\")","v":""},{"$f":"IFERROR(SUBSTITUTE(INDEX(Data!$A567:$H567,,MATCH(FALSE,ISERROR(SEARCH(F$1&\"=\",Data!$A567:$H567)),0)),F$1&\"=\",\"\"),\"\")","v":""},{"$f":"IFERROR(SUBSTITUTE(INDEX(Data!$A567:$H567,,MATCH(FALSE,ISERROR(SEARCH(G$1&\"=\",Data!$A567:$H567)),0)),G$1&\"=\",\"\"),\"\")","v":""},{"$f":"IFERROR(SUBSTITUTE(INDEX(Data!$A567:$H567,,MATCH(FALSE,ISERROR(SEARCH(H$1&\"=\",Data!$A567:$H567)),0)),H$1&\"=\",\"\"),\"\")","v":""},{"$f":"IFERROR(SUBSTITUTE(INDEX(Data!$A567:$H567,,MATCH(FALSE,ISERROR(SEARCH(I$1&\"=\",Data!$A567:$H567)),0)),I$1&\"=\",\"\"),\"\")","v":""},{"$f":"IFERROR(SUBSTITUTE(INDEX(Data!$A567:$H567,,MATCH(FALSE,ISERROR(SEARCH(J$1&\"=\",Data!$A567:$H567)),0)),J$1&\"=\",\"\"),\"\")","v":""}]
[{"$f":"IFERROR(SUBSTITUTE(INDEX(Data!$A568:$H568,,MATCH(FALSE,ISERROR(SEARCH(A$1&\"=\",Data!$A568:$H568)),0)),A$1&\"=\",\"\"),\"\")","v":""},{"$f":"IFERROR(SUBSTITUTE(INDEX(Data!$A568:$H568,,MATCH(FALSE,ISERROR(SEARCH(B$1&\"=\",Data!$A568:$H568)),0)),B$1&\"=\",\"\"),\"\")","v":""},{"$f":"IFERROR(SUBSTITUTE(INDEX(Data!$A568:$H568,,MATCH(FALSE,ISERROR(SEARCH(C$1&\"=\",Data!$A568:$H568)),0)),C$1&\"=\",\"\"),\"\")","v":""},{"$f":"IFERROR(SUBSTITUTE(INDEX(Data!$A568:$H568,,MATCH(FALSE,ISERROR(SEARCH(D$1&\"=\",Data!$A568:$H568)),0)),D$1&\"=\",\"\"),\"\")","v":""},{"$f":"IFERROR(SUBSTITUTE(INDEX(Data!$A568:$H568,,MATCH(FALSE,ISERROR(SEARCH(E$1&\"=\",Data!$A568:$H568)),0)),E$1&\"=\",\"\"),\"\")","v":""},{"$f":"IFERROR(SUBSTITUTE(INDEX(Data!$A568:$H568,,MATCH(FALSE,ISERROR(SEARCH(F$1&\"=\",Data!$A568:$H568)),0)),F$1&\"=\",\"\"),\"\")","v":""},{"$f":"IFERROR(SUBSTITUTE(INDEX(Data!$A568:$H568,,MATCH(FALSE,ISERROR(SEARCH(G$1&\"=\",Data!$A568:$H568)),0)),G$1&\"=\",\"\"),\"\")","v":""},{"$f":"IFERROR(SUBSTITUTE(INDEX(Data!$A568:$H568,,MATCH(FALSE,ISERROR(SEARCH(H$1&\"=\",Data!$A568:$H568)),0)),H$1&\"=\",\"\"),\"\")","v":""},{"$f":"IFERROR(SUBSTITUTE(INDEX(Data!$A568:$H568,,MATCH(FALSE,ISERROR(SEARCH(I$1&\"=\",Data!$A568:$H568)),0)),I$1&\"=\",\"\"),\"\")","v":""},{"$f":"IFERROR(SUBSTITUTE(INDEX(Data!$A568:$H568,,MATCH(FALSE,ISERROR(SEARCH(J$1&\"=\",Data!$A568:$H568)),0)),J$1&\"=\",\"\"),\"\")","v":""}]
[{"$f":"IFERROR(SUBSTITUTE(INDEX(Data!$A569:$H569,,MATCH(FALSE,ISERROR(SEARCH(A$1&\"=\",Data!$A569:$H569)),0)),A$1&\"=\",\"\"),\"\")","v":""},{"$f":"IFERROR(SUBSTITUTE(INDEX(Data!$A569:$H569,,MATCH(FALSE,ISERROR(SEARCH(B$1&\"=\",Data!$A569:$H569)),0)),B$1&\"=\",\"\"),\"\")","v":""},{"$f":"IFERROR(SUBSTITUTE(INDEX(Data!$A569:$H569,,MATCH(FALSE,ISERROR(SEARCH(C$1&\"=\",Data!$A569:$H569)),0)),C$1&\"=\",\"\"),\"\")","v":""},{"$f":"IFERROR(SUBSTITUTE(INDEX(Data!$A569:$H569,,MATCH(FALSE,ISERROR(SEARCH(D$1&\"=\",Data!$A569:$H569)),0)),D$1&\"=\",\"\"),\"\")","v":""},{"$f":"IFERROR(SUBSTITUTE(INDEX(Data!$A569:$H569,,MATCH(FALSE,ISERROR(SEARCH(E$1&\"=\",Data!$A569:$H569)),0)),E$1&\"=\",\"\"),\"\")","v":""},{"$f":"IFERROR(SUBSTITUTE(INDEX(Data!$A569:$H569,,MATCH(FALSE,ISERROR(SEARCH(F$1&\"=\",Data!$A569:$H569)),0)),F$1&\"=\",\"\"),\"\")","v":""},{"$f":"IFERROR(SUBSTITUTE(INDEX(Data!$A569:$H569,,MATCH(FALSE,ISERROR(SEARCH(G$1&\"=\",Data!$A569:$H569)),0)),G$1&\"=\",\"\"),\"\")","v":""},{"$f":"IFERROR(SUBSTITUTE(INDEX(Data!$A569:$H569,,MATCH(FALSE,ISERROR(SEARCH(H$1&\"=\",Data!$A569:$H569)),0)),H$1&\"=\",\"\"),\"\")","v":""},{"$f":"IFERROR(SUBSTITUTE(INDEX(Data!$A569:$H569,,MATCH(FALSE,ISERROR(SEARCH(I$1&\"=\",Data!$A569:$H569)),0)),I$1&\"=\",\"\"),\"\")","v":""},{"$f":"IFERROR(SUBSTITUTE(INDEX(Data!$A569:$H569,,MATCH(FALSE,ISERROR(SEARCH(J$1&\"=\",Data!$A569:$H569)),0)),J$1&\"=\",\"\"),\"\")","v":""}]
[{"$f":"IFERROR(SUBSTITUTE(INDEX(Data!$A570:$H570,,MATCH(FALSE,ISERROR(SEARCH(A$1&\"=\",Data!$A570:$H570)),0)),A$1&\"=\",\"\"),\"\")","v":""},{"$f":"IFERROR(SUBSTITUTE(INDEX(Data!$A570:$H570,,MATCH(FALSE,ISERROR(SEARCH(B$1&\"=\",Data!$A570:$H570)),0)),B$1&\"=\",\"\"),\"\")","v":""},{"$f":"IFERROR(SUBSTITUTE(INDEX(Data!$A570:$H570,,MATCH(FALSE,ISERROR(SEARCH(C$1&\"=\",Data!$A570:$H570)),0)),C$1&\"=\",\"\"),\"\")","v":""},{"$f":"IFERROR(SUBSTITUTE(INDEX(Data!$A570:$H570,,MATCH(FALSE,ISERROR(SEARCH(D$1&\"=\",Data!$A570:$H570)),0)),D$1&\"=\",\"\"),\"\")","v":""},{"$f":"IFERROR(SUBSTITUTE(INDEX(Data!$A570:$H570,,MATCH(FALSE,ISERROR(SEARCH(E$1&\"=\",Data!$A570:$H570)),0)),E$1&\"=\",\"\"),\"\")","v":""},{"$f":"IFERROR(SUBSTITUTE(INDEX(Data!$A570:$H570,,MATCH(FALSE,ISERROR(SEARCH(F$1&\"=\",Data!$A570:$H570)),0)),F$1&\"=\",\"\"),\"\")","v":""},{"$f":"IFERROR(SUBSTITUTE(INDEX(Data!$A570:$H570,,MATCH(FALSE,ISERROR(SEARCH(G$1&\"=\",Data!$A570:$H570)),0)),G$1&\"=\",\"\"),\"\")","v":""},{"$f":"IFERROR(SUBSTITUTE(INDEX(Data!$A570:$H570,,MATCH(FALSE,ISERROR(SEARCH(H$1&\"=\",Data!$A570:$H570)),0)),H$1&\"=\",\"\"),\"\")","v":""},{"$f":"IFERROR(SUBSTITUTE(INDEX(Data!$A570:$H570,,MATCH(FALSE,ISERROR(SEARCH(I$1&\"=\",Data!$A570:$H570)),0)),I$1&\"=\",\"\"),\"\")","v":""},{"$f":"IFERROR(SUBSTITUTE(INDEX(Data!$A570:$H570,,MATCH(FALSE,ISERROR(SEARCH(J$1&\"=\",Data!$A570:$H570)),0)),J$1&\"=\",\"\"),\"\")","v":""}]
[{"$f":"IFERROR(SUBSTITUTE(INDEX(Data!$A571:$H571,,MATCH(FALSE,ISERROR(SEARCH(A$1&\"=\",Data!$A571:$H571)),0)),A$1&\"=\",\"\"),\"\")","v":""},{"$f":"IFERROR(SUBSTITUTE(INDEX(Data!$A571:$H571,,MATCH(FALSE,ISERROR(SEARCH(B$1&\"=\",Data!$A571:$H571)),0)),B$1&\"=\",\"\"),\"\")","v":""},{"$f":"IFERROR(SUBSTITUTE(INDEX(Data!$A571:$H571,,MATCH(FALSE,ISERROR(SEARCH(C$1&\"=\",Data!$A571:$H571)),0)),C$1&\"=\",\"\"),\"\")","v":""},{"$f":"IFERROR(SUBSTITUTE(INDEX(Data!$A571:$H571,,MATCH(FALSE,ISERROR(SEARCH(D$1&\"=\",Data!$A571:$H571)),0)),D$1&\"=\",\"\"),\"\")","v":""},{"$f":"IFERROR(SUBSTITUTE(INDEX(Data!$A571:$H571,,MATCH(FALSE,ISERROR(SEARCH(E$1&\"=\",Data!$A571:$H571)),0)),E$1&\"=\",\"\"),\"\")","v":""},{"$f":"IFERROR(SUBSTITUTE(INDEX(Data!$A571:$H571,,MATCH(FALSE,ISERROR(SEARCH(F$1&\"=\",Data!$A571:$H571)),0)),F$1&\"=\",\"\"),\"\")","v":""},{"$f":"IFERROR(SUBSTITUTE(INDEX(Data!$A571:$H571,,MATCH(FALSE,ISERROR(SEARCH(G$1&\"=\",Data!$A571:$H571)),0)),G$1&\"=\",\"\"),\"\")","v":""},{"$f":"IFERROR(SUBSTITUTE(INDEX(Data!$A571:$H571,,MATCH(FALSE,ISERROR(SEARCH(H$1&\"=\",Data!$A571:$H571)),0)),H$1&\"=\",\"\"),\"\")","v":""},{"$f":"IFERROR(SUBSTITUTE(INDEX(Data!$A571:$H571,,MATCH(FALSE,ISERROR(SEARCH(I$1&\"=\",Data!$A571:$H571)),0)),I$1&\"=\",\"\"),\"\")","v":""},{"$f":"IFERROR(SUBSTITUTE(INDEX(Data!$A571:$H571,,MATCH(FALSE,ISERROR(SEARCH(J$1&\"=\",Data!$A571:$H571)),0)),J$1&\"=\",\"\"),\"\")","v":""}]
[{"$f":"IFERROR(SUBSTITUTE(INDEX(Data!$A572:$H572,,MATCH(FALSE,ISERROR(SEARCH(A$1&\"=\",Data!$A572:$H572)),0)),A$1&\"=\",\"\"),\"\")","v":""},{"$f":"IFERROR(SUBSTITUTE(INDEX(Data!$A572:$H572,,MATCH(FALSE,ISERROR(SEARCH(B$1&\"=\",Data!$A572:$H572)),0)),B$1&\"=\",\"\"),\"\")","v":""},{"$f":"IFERROR(SUBSTITUTE(INDEX(Data!$A572:$H572,,MATCH(FALSE,ISERROR(SEARCH(C$1&\"=\",Data!$A572:$H572)),0)),C$1&\"=\",\"\"),\"\")","v":""},{"$f":"IFERROR(SUBSTITUTE(INDEX(Data!$A572:$H572,,MATCH(FALSE,ISERROR(SEARCH(D$1&\"=\",Data!$A572:$H572)),0)),D$1&\"=\",\"\"),\"\")","v":""},{"$f":"IFERROR(SUBSTITUTE(INDEX(Data!$A572:$H572,,MATCH(FALSE,ISERROR(SEARCH(E$1&\"=\",Data!$A572:$H572)),0)),E$1&\"=\",\"\"),\"\")","v":""},{"$f":"IFERROR(SUBSTITUTE(INDEX(Data!$A572:$H572,,MATCH(FALSE,ISERROR(SEARCH(F$1&\"=\",Data!$A572:$H572)),0)),F$1&\"=\",\"\"),\"\")","v":""},{"$f":"IFERROR(SUBSTITUTE(INDEX(Data!$A572:$H572,,MATCH(FALSE,ISERROR(SEARCH(G$1&\"=\",Data!$A572:$H572)),0)),G$1&\"=\",\"\"),\"\")","v":""},{"$f":"IFERROR(SUBSTITUTE(INDEX(Data!$A572:$H572,,MATCH(FALSE,ISERROR(SEARCH(H$1&\"=\",Data!$A572:$H572)),0)),H$1&\"=\",\"\"),\"\")","v":""},{"$f":"IFERROR(SUBSTITUTE(INDEX(Data!$A572:$H572,,MATCH(FALSE,ISERROR(SEARCH(I$1&\"=\",Data!$A572:$H572)),0)),I$1&\"=\",\"\"),\"\")","v":""},{"$f":"IFERROR(SUBSTITUTE(INDEX(Data!$A572:$H572,,MATCH(FALSE,ISERROR(SEARCH(J$1&\"=\",Data!$A572:$H572)),0)),J$1&\"=\",\"\"),\"\")","v":""}]
[{"$f":"IFERROR(SUBSTITUTE(INDEX(Data!$A573:$H573,,MATCH(FALSE,ISERROR(SEARCH(A$1&\"=\",Data!$A573:$H573)),0)),A$1&\"=\",\"\"),\"\")","v":""},{"$f":"IFERROR(SUBSTITUTE(INDEX(Data!$A573:$H573,,MATCH(FALSE,ISERROR(SEARCH(B$1&\"=\",Data!$A573:$H573)),0)),B$1&\"=\",\"\"),\"\")","v":""},{"$f":"IFERROR(SUBSTITUTE(INDEX(Data!$A573:$H573,,MATCH(FALSE,ISERROR(SEARCH(C$1&\"=\",Data!$A573:$H573)),0)),C$1&\"=\",\"\"),\"\")","v":""},{"$f":"IFERROR(SUBSTITUTE(INDEX(Data!$A573:$H573,,MATCH(FALSE,ISERROR(SEARCH(D$1&\"=\",Data!$A573:$H573)),0)),D$1&\"=\",\"\"),\"\")","v":""},{"$f":"IFERROR(SUBSTITUTE(INDEX(Data!$A573:$H573,,MATCH(FALSE,ISERROR(SEARCH(E$1&\"=\",Data!$A573:$H573)),0)),E$1&\"=\",\"\"),\"\")","v":""},{"$f":"IFERROR(SUBSTITUTE(INDEX(Data!$A573:$H573,,MATCH(FALSE,ISERROR(SEARCH(F$1&\"=\",Data!$A573:$H573)),0)),F$1&\"=\",\"\"),\"\")","v":""},{"$f":"IFERROR(SUBSTITUTE(INDEX(Data!$A573:$H573,,MATCH(FALSE,ISERROR(SEARCH(G$1&\"=\",Data!$A573:$H573)),0)),G$1&\"=\",\"\"),\"\")","v":""},{"$f":"IFERROR(SUBSTITUTE(INDEX(Data!$A573:$H573,,MATCH(FALSE,ISERROR(SEARCH(H$1&\"=\",Data!$A573:$H573)),0)),H$1&\"=\",\"\"),\"\")","v":""},{"$f":"IFERROR(SUBSTITUTE(INDEX(Data!$A573:$H573,,MATCH(FALSE,ISERROR(SEARCH(I$1&\"=\",Data!$A573:$H573)),0)),I$1&\"=\",\"\"),\"\")","v":""},{"$f":"IFERROR(SUBSTITUTE(INDEX(Data!$A573:$H573,,MATCH(FALSE,ISERROR(SEARCH(J$1&\"=\",Data!$A573:$H573)),0)),J$1&\"=\",\"\"),\"\")","v":""}]
[{"$f":"IFERROR(SUBSTITUTE(INDEX(Data!$A574:$H574,,MATCH(FALSE,ISERROR(SEARCH(A$1&\"=\",Data!$A574:$H574)),0)),A$1&\"=\",\"\"),\"\")","v":""},{"$f":"IFERROR(SUBSTITUTE(INDEX(Data!$A574:$H574,,MATCH(FALSE,ISERROR(SEARCH(B$1&\"=\",Data!$A574:$H574)),0)),B$1&\"=\",\"\"),\"\")","v":""},{"$f":"IFERROR(SUBSTITUTE(INDEX(Data!$A574:$H574,,MATCH(FALSE,ISERROR(SEARCH(C$1&\"=\",Data!$A574:$H574)),0)),C$1&\"=\",\"\"),\"\")","v":""},{"$f":"IFERROR(SUBSTITUTE(INDEX(Data!$A574:$H574,,MATCH(FALSE,ISERROR(SEARCH(D$1&\"=\",Data!$A574:$H574)),0)),D$1&\"=\",\"\"),\"\")","v":""},{"$f":"IFERROR(SUBSTITUTE(INDEX(Data!$A574:$H574,,MATCH(FALSE,ISERROR(SEARCH(E$1&\"=\",Data!$A574:$H574)),0)),E$1&\"=\",\"\"),\"\")","v":""},{"$f":"IFERROR(SUBSTITUTE(INDEX(Data!$A574:$H574,,MATCH(FALSE,ISERROR(SEARCH(F$1&\"=\",Data!$A574:$H574)),0)),F$1&\"=\",\"\"),\"\")","v":""},{"$f":"IFERROR(SUBSTITUTE(INDEX(Data!$A574:$H574,,MATCH(FALSE,ISERROR(SEARCH(G$1&\"=\",Data!$A574:$H574)),0)),G$1&\"=\",\"\"),\"\")","v":""},{"$f":"IFERROR(SUBSTITUTE(INDEX(Data!$A574:$H574,,MATCH(FALSE,ISERROR(SEARCH(H$1&\"=\",Data!$A574:$H574)),0)),H$1&\"=\",\"\"),\"\")","v":""},{"$f":"IFERROR(SUBSTITUTE(INDEX(Data!$A574:$H574,,MATCH(FALSE,ISERROR(SEARCH(I$1&\"=\",Data!$A574:$H574)),0)),I$1&\"=\",\"\"),\"\")","v":""},{"$f":"IFERROR(SUBSTITUTE(INDEX(Data!$A574:$H574,,MATCH(FALSE,ISERROR(SEARCH(J$1&\"=\",Data!$A574:$H574)),0)),J$1&\"=\",\"\"),\"\")","v":""}]
[{"$f":"IFERROR(SUBSTITUTE(INDEX(Data!$A575:$H575,,MATCH(FALSE,ISERROR(SEARCH(A$1&\"=\",Data!$A575:$H575)),0)),A$1&\"=\",\"\"),\"\")","v":""},{"$f":"IFERROR(SUBSTITUTE(INDEX(Data!$A575:$H575,,MATCH(FALSE,ISERROR(SEARCH(B$1&\"=\",Data!$A575:$H575)),0)),B$1&\"=\",\"\"),\"\")","v":""},{"$f":"IFERROR(SUBSTITUTE(INDEX(Data!$A575:$H575,,MATCH(FALSE,ISERROR(SEARCH(C$1&\"=\",Data!$A575:$H575)),0)),C$1&\"=\",\"\"),\"\")","v":""},{"$f":"IFERROR(SUBSTITUTE(INDEX(Data!$A575:$H575,,MATCH(FALSE,ISERROR(SEARCH(D$1&\"=\",Data!$A575:$H575)),0)),D$1&\"=\",\"\"),\"\")","v":""},{"$f":"IFERROR(SUBSTITUTE(INDEX(Data!$A575:$H575,,MATCH(FALSE,ISERROR(SEARCH(E$1&\"=\",Data!$A575:$H575)),0)),E$1&\"=\",\"\"),\"\")","v":""},{"$f":"IFERROR(SUBSTITUTE(INDEX(Data!$A575:$H575,,MATCH(FALSE,ISERROR(SEARCH(F$1&\"=\",Data!$A575:$H575)),0)),F$1&\"=\",\"\"),\"\")","v":""},{"$f":"IFERROR(SUBSTITUTE(INDEX(Data!$A575:$H575,,MATCH(FALSE,ISERROR(SEARCH(G$1&\"=\",Data!$A575:$H575)),0)),G$1&\"=\",\"\"),\"\")","v":""},{"$f":"IFERROR(SUBSTITUTE(INDEX(Data!$A575:$H575,,MATCH(FALSE,ISERROR(SEARCH(H$1&\"=\",Data!$A575:$H575)),0)),H$1&\"=\",\"\"),\"\")","v":""},{"$f":"IFERROR(SUBSTITUTE(INDEX(Data!$A575:$H575,,MATCH(FALSE,ISERROR(SEARCH(I$1&\"=\",Data!$A575:$H575)),0)),I$1&\"=\",\"\"),\"\")","v":""},{"$f":"IFERROR(SUBSTITUTE(INDEX(Data!$A575:$H575,,MATCH(FALSE,ISERROR(SEARCH(J$1&\"=\",Data!$A575:$H575)),0)),J$1&\"=\",\"\"),\"\")","v":""}]
[{"$f":"IFERROR(SUBSTITUTE(INDEX(Data!$A576:$H576,,MATCH(FALSE,ISERROR(SEARCH(A$1&\"=\",Data!$A576:$H576)),0)),A$1&\"=\",\"\"),\"\")","v":""},{"$f":"IFERROR(SUBSTITUTE(INDEX(Data!$A576:$H576,,MATCH(FALSE,ISERROR(SEARCH(B$1&\"=\",Data!$A576:$H576)),0)),B$1&\"=\",\"\"),\"\")","v":""},{"$f":"IFERROR(SUBSTITUTE(INDEX(Data!$A576:$H576,,MATCH(FALSE,ISERROR(SEARCH(C$1&\"=\",Data!$A576:$H576)),0)),C$1&\"=\",\"\"),\"\")","v":""},{"$f":"IFERROR(SUBSTITUTE(INDEX(Data!$A576:$H576,,MATCH(FALSE,ISERROR(SEARCH(D$1&\"=\",Data!$A576:$H576)),0)),D$1&\"=\",\"\"),\"\")","v":""},{"$f":"IFERROR(SUBSTITUTE(INDEX(Data!$A576:$H576,,MATCH(FALSE,ISERROR(SEARCH(E$1&\"=\",Data!$A576:$H576)),0)),E$1&\"=\",\"\"),\"\")","v":""},{"$f":"IFERROR(SUBSTITUTE(INDEX(Data!$A576:$H576,,MATCH(FALSE,ISERROR(SEARCH(F$1&\"=\",Data!$A576:$H576)),0)),F$1&\"=\",\"\"),\"\")","v":""},{"$f":"IFERROR(SUBSTITUTE(INDEX(Data!$A576:$H576,,MATCH(FALSE,ISERROR(SEARCH(G$1&\"=\",Data!$A576:$H576)),0)),G$1&\"=\",\"\"),\"\")","v":""},{"$f":"IFERROR(SUBSTITUTE(INDEX(Data!$A576:$H576,,MATCH(FALSE,ISERROR(SEARCH(H$1&\"=\",Data!$A576:$H576)),0)),H$1&\"=\",\"\"),\"\")","v":""},{"$f":"IFERROR(SUBSTITUTE(INDEX(Data!$A576:$H576,,MATCH(FALSE,ISERROR(SEARCH(I$1&\"=\",Data!$A576:$H576)),0)),I$1&\"=\",\"\"),\"\")","v":""},{"$f":"IFERROR(SUBSTITUTE(INDEX(Data!$A576:$H576,,MATCH(FALSE,ISERROR(SEARCH(J$1&\"=\",Data!$A576:$H576)),0)),J$1&\"=\",\"\"),\"\")","v":""}]
[{"$f":"IFERROR(SUBSTITUTE(INDEX(Data!$A577:$H577,,MATCH(FALSE,ISERROR(SEARCH(A$1&\"=\",Data!$A577:$H577)),0)),A$1&\"=\",\"\"),\"\")","v":""},{"$f":"IFERROR(SUBSTITUTE(INDEX(Data!$A577:$H577,,MATCH(FALSE,ISERROR(SEARCH(B$1&\"=\",Data!$A577:$H577)),0)),B$1&\"=\",\"\"),\"\")","v":""},{"$f":"IFERROR(SUBSTITUTE(INDEX(Data!$A577:$H577,,MATCH(FALSE,ISERROR(SEARCH(C$1&\"=\",Data!$A577:$H577)),0)),C$1&\"=\",\"\"),\"\")","v":""},{"$f":"IFERROR(SUBSTITUTE(INDEX(Data!$A577:$H577,,MATCH(FALSE,ISERROR(SEARCH(D$1&\"=\",Data!$A577:$H577)),0)),D$1&\"=\",\"\"),\"\")","v":""},{"$f":"IFERROR(SUBSTITUTE(INDEX(Data!$A577:$H577,,MATCH(FALSE,ISERROR(SEARCH(E$1&\"=\",Data!$A577:$H577)),0)),E$1&\"=\",\"\"),\"\")","v":""},{"$f":"IFERROR(SUBSTITUTE(INDEX(Data!$A577:$H577,,MATCH(FALSE,ISERROR(SEARCH(F$1&\"=\",Data!$A577:$H577)),0)),F$1&\"=\",\"\"),\"\")","v":""},{"$f":"IFERROR(SUBSTITUTE(INDEX(Data!$A577:$H577,,MATCH(FALSE,ISERROR(SEARCH(G$1&\"=\",Data!$A577:$H577)),0)),G$1&\"=\",\"\"),\"\")","v":""},{"$f":"IFERROR(SUBSTITUTE(INDEX(Data!$A577:$H577,,MATCH(FALSE,ISERROR(SEARCH(H$1&\"=\",Data!$A577:$H577)),0)),H$1&\"=\",\"\"),\"\")","v":""},{"$f":"IFERROR(SUBSTITUTE(INDEX(Data!$A577:$H577,,MATCH(FALSE,ISERROR(SEARCH(I$1&\"=\",Data!$A577:$H577)),0)),I$1&\"=\",\"\"),\"\")","v":""},{"$f":"IFERROR(SUBSTITUTE(INDEX(Data!$A577:$H577,,MATCH(FALSE,ISERROR(SEARCH(J$1&\"=\",Data!$A577:$H577)),0)),J$1&\"=\",\"\"),\"\")","v":""}]
[{"$f":"IFERROR(SUBSTITUTE(INDEX(Data!$A578:$H578,,MATCH(FALSE,ISERROR(SEARCH(A$1&\"=\",Data!$A578:$H578)),0)),A$1&\"=\",\"\"),\"\")","v":""},{"$f":"IFERROR(SUBSTITUTE(INDEX(Data!$A578:$H578,,MATCH(FALSE,ISERROR(SEARCH(B$1&\"=\",Data!$A578:$H578)),0)),B$1&\"=\",\"\"),\"\")","v":""},{"$f":"IFERROR(SUBSTITUTE(INDEX(Data!$A578:$H578,,MATCH(FALSE,ISERROR(SEARCH(C$1&\"=\",Data!$A578:$H578)),0)),C$1&\"=\",\"\"),\"\")","v":""},{"$f":"IFERROR(SUBSTITUTE(INDEX(Data!$A578:$H578,,MATCH(FALSE,ISERROR(SEARCH(D$1&\"=\",Data!$A578:$H578)),0)),D$1&\"=\",\"\"),\"\")","v":""},{"$f":"IFERROR(SUBSTITUTE(INDEX(Data!$A578:$H578,,MATCH(FALSE,ISERROR(SEARCH(E$1&\"=\",Data!$A578:$H578)),0)),E$1&\"=\",\"\"),\"\")","v":""},{"$f":"IFERROR(SUBSTITUTE(INDEX(Data!$A578:$H578,,MATCH(FALSE,ISERROR(SEARCH(F$1&\"=\",Data!$A578:$H578)),0)),F$1&\"=\",\"\"),\"\")","v":""},{"$f":"IFERROR(SUBSTITUTE(INDEX(Data!$A578:$H578,,MATCH(FALSE,ISERROR(SEARCH(G$1&\"=\",Data!$A578:$H578)),0)),G$1&\"=\",\"\"),\"\")","v":""},{"$f":"IFERROR(SUBSTITUTE(INDEX(Data!$A578:$H578,,MATCH(FALSE,ISERROR(SEARCH(H$1&\"=\",Data!$A578:$H578)),0)),H$1&\"=\",\"\"),\"\")","v":""},{"$f":"IFERROR(SUBSTITUTE(INDEX(Data!$A578:$H578,,MATCH(FALSE,ISERROR(SEARCH(I$1&\"=\",Data!$A578:$H578)),0)),I$1&\"=\",\"\"),\"\")","v":""},{"$f":"IFERROR(SUBSTITUTE(INDEX(Data!$A578:$H578,,MATCH(FALSE,ISERROR(SEARCH(J$1&\"=\",Data!$A578:$H578)),0)),J$1&\"=\",\"\"),\"\")","v":""}]
[{"$f":"IFERROR(SUBSTITUTE(INDEX(Data!$A579:$H579,,MATCH(FALSE,ISERROR(SEARCH(A$1&\"=\",Data!$A579:$H579)),0)),A$1&\"=\",\"\"),\"\")","v":""},{"$f":"IFERROR(SUBSTITUTE(INDEX(Data!$A579:$H579,,MATCH(FALSE,ISERROR(SEARCH(B$1&\"=\",Data!$A579:$H579)),0)),B$1&\"=\",\"\"),\"\")","v":""},{"$f":"IFERROR(SUBSTITUTE(INDEX(Data!$A579:$H579,,MATCH(FALSE,ISERROR(SEARCH(C$1&\"=\",Data!$A579:$H579)),0)),C$1&\"=\",\"\"),\"\")","v":""},{"$f":"IFERROR(SUBSTITUTE(INDEX(Data!$A579:$H579,,MATCH(FALSE,ISERROR(SEARCH(D$1&\"=\",Data!$A579:$H579)),0)),D$1&\"=\",\"\"),\"\")","v":""},{"$f":"IFERROR(SUBSTITUTE(INDEX(Data!$A579:$H579,,MATCH(FALSE,ISERROR(SEARCH(E$1&\"=\",Data!$A579:$H579)),0)),E$1&\"=\",\"\"),\"\")","v":""},{"$f":"IFERROR(SUBSTITUTE(INDEX(Data!$A579:$H579,,MATCH(FALSE,ISERROR(SEARCH(F$1&\"=\",Data!$A579:$H579)),0)),F$1&\"=\",\"\"),\"\")","v":""},{"$f":"IFERROR(SUBSTITUTE(INDEX(Data!$A579:$H579,,MATCH(FALSE,ISERROR(SEARCH(G$1&\"=\",Data!$A579:$H579)),0)),G$1&\"=\",\"\"),\"\")","v":""},{"$f":"IFERROR(SUBSTITUTE(INDEX(Data!$A579:$H579,,MATCH(FALSE,ISERROR(SEARCH(H$1&\"=\",Data!$A579:$H579)),0)),H$1&\"=\",\"\"),\"\")","v":""},{"$f":"IFERROR(SUBSTITUTE(INDEX(Data!$A579:$H579,,MATCH(FALSE,ISERROR(SEARCH(I$1&\"=\",Data!$A579:$H579)),0)),I$1&\"=\",\"\"),\"\")","v":""},{"$f":"IFERROR(SUBSTITUTE(INDEX(Data!$A579:$H579,,MATCH(FALSE,ISERROR(SEARCH(J$1&\"=\",Data!$A579:$H579)),0)),J$1&\"=\",\"\"),\"\")","v":""}]
[{"$f":"IFERROR(SUBSTITUTE(INDEX(Data!$A580:$H580,,MATCH(FALSE,ISERROR(SEARCH(A$1&\"=\",Data!$A580:$H580)),0)),A$1&\"=\",\"\"),\"\")","v":""},{"$f":"IFERROR(SUBSTITUTE(INDEX(Data!$A580:$H580,,MATCH(FALSE,ISERROR(SEARCH(B$1&\"=\",Data!$A580:$H580)),0)),B$1&\"=\",\"\"),\"\")","v":""},{"$f":"IFERROR(SUBSTITUTE(INDEX(Data!$A580:$H580,,MATCH(FALSE,ISERROR(SEARCH(C$1&\"=\",Data!$A580:$H580)),0)),C$1&\"=\",\"\"),\"\")","v":""},{"$f":"IFERROR(SUBSTITUTE(INDEX(Data!$A580:$H580,,MATCH(FALSE,ISERROR(SEARCH(D$1&\"=\",Data!$A580:$H580)),0)),D$1&\"=\",\"\"),\"\")","v":""},{"$f":"IFERROR(SUBSTITUTE(INDEX(Data!$A580:$H580,,MATCH(FALSE,ISERROR(SEARCH(E$1&\"=\",Data!$A580:$H580)),0)),E$1&\"=\",\"\"),\"\")","v":""},{"$f":"IFERROR(SUBSTITUTE(INDEX(Data!$A580:$H580,,MATCH(FALSE,ISERROR(SEARCH(F$1&\"=\",Data!$A580:$H580)),0)),F$1&\"=\",\"\"),\"\")","v":""},{"$f":"IFERROR(SUBSTITUTE(INDEX(Data!$A580:$H580,,MATCH(FALSE,ISERROR(SEARCH(G$1&\"=\",Data!$A580:$H580)),0)),G$1&\"=\",\"\"),\"\")","v":""},{"$f":"IFERROR(SUBSTITUTE(INDEX(Data!$A580:$H580,,MATCH(FALSE,ISERROR(SEARCH(H$1&\"=\",Data!$A580:$H580)),0)),H$1&\"=\",\"\"),\"\")","v":""},{"$f":"IFERROR(SUBSTITUTE(INDEX(Data!$A580:$H580,,MATCH(FALSE,ISERROR(SEARCH(I$1&\"=\",Data!$A580:$H580)),0)),I$1&\"=\",\"\"),\"\")","v":""},{"$f":"IFERROR(SUBSTITUTE(INDEX(Data!$A580:$H580,,MATCH(FALSE,ISERROR(SEARCH(J$1&\"=\",Data!$A580:$H580)),0)),J$1&\"=\",\"\"),\"\")","v":""}]
[{"$f":"IFERROR(SUBSTITUTE(INDEX(Data!$A581:$H581,,MATCH(FALSE,ISERROR(SEARCH(A$1&\"=\",Data!$A581:$H581)),0)),A$1&\"=\",\"\"),\"\")","v":""},{"$f":"IFERROR(SUBSTITUTE(INDEX(Data!$A581:$H581,,MATCH(FALSE,ISERROR(SEARCH(B$1&\"=\",Data!$A581:$H581)),0)),B$1&\"=\",\"\"),\"\")","v":""},{"$f":"IFERROR(SUBSTITUTE(INDEX(Data!$A581:$H581,,MATCH(FALSE,ISERROR(SEARCH(C$1&\"=\",Data!$A581:$H581)),0)),C$1&\"=\",\"\"),\"\")","v":""},{"$f":"IFERROR(SUBSTITUTE(INDEX(Data!$A581:$H581,,MATCH(FALSE,ISERROR(SEARCH(D$1&\"=\",Data!$A581:$H581)),0)),D$1&\"=\",\"\"),\"\")","v":""},{"$f":"IFERROR(SUBSTITUTE(INDEX(Data!$A581:$H581,,MATCH(FALSE,ISERROR(SEARCH(E$1&\"=\",Data!$A581:$H581)),0)),E$1&\"=\",\"\"),\"\")","v":""},{"$f":"IFERROR(SUBSTITUTE(INDEX(Data!$A581:$H581,,MATCH(FALSE,ISERROR(SEARCH(F$1&\"=\",Data!$A581:$H581)),0)),F$1&\"=\",\"\"),\"\")","v":""},{"$f":"IFERROR(SUBSTITUTE(INDEX(Data!$A581:$H581,,MATCH(FALSE,ISERROR(SEARCH(G$1&\"=\",Data!$A581:$H581)),0)),G$1&\"=\",\"\"),\"\")","v":""},{"$f":"IFERROR(SUBSTITUTE(INDEX(Data!$A581:$H581,,MATCH(FALSE,ISERROR(SEARCH(H$1&\"=\",Data!$A581:$H581)),0)),H$1&\"=\",\"\"),\"\")","v":""},{"$f":"IFERROR(SUBSTITUTE(INDEX(Data!$A581:$H581,,MATCH(FALSE,ISERROR(SEARCH(I$1&\"=\",Data!$A581:$H581)),0)),I$1&\"=\",\"\"),\"\")","v":""},{"$f":"IFERROR(SUBSTITUTE(INDEX(Data!$A581:$H581,,MATCH(FALSE,ISERROR(SEARCH(J$1&\"=\",Data!$A581:$H581)),0)),J$1&\"=\",\"\"),\"\")","v":""}]
[{"$f":"IFERROR(SUBSTITUTE(INDEX(Data!$A582:$H582,,MATCH(FALSE,ISERROR(SEARCH(A$1&\"=\",Data!$A582:$H582)),0)),A$1&\"=\",\"\"),\"\")","v":""},{"$f":"IFERROR(SUBSTITUTE(INDEX(Data!$A582:$H582,,MATCH(FALSE,ISERROR(SEARCH(B$1&\"=\",Data!$A582:$H582)),0)),B$1&\"=\",\"\"),\"\")","v":""},{"$f":"IFERROR(SUBSTITUTE(INDEX(Data!$A582:$H582,,MATCH(FALSE,ISERROR(SEARCH(C$1&\"=\",Data!$A582:$H582)),0)),C$1&\"=\",\"\"),\"\")","v":""},{"$f":"IFERROR(SUBSTITUTE(INDEX(Data!$A582:$H582,,MATCH(FALSE,ISERROR(SEARCH(D$1&\"=\",Data!$A582:$H582)),0)),D$1&\"=\",\"\"),\"\")","v":""},{"$f":"IFERROR(SUBSTITUTE(INDEX(Data!$A582:$H582,,MATCH(FALSE,ISERROR(SEARCH(E$1&\"=\",Data!$A582:$H582)),0)),E$1&\"=\",\"\"),\"\")","v":""},{"$f":"IFERROR(SUBSTITUTE(INDEX(Data!$A582:$H582,,MATCH(FALSE,ISERROR(SEARCH(F$1&\"=\",Data!$A582:$H582)),0)),F$1&\"=\",\"\"),\"\")","v":""},{"$f":"IFERROR(SUBSTITUTE(INDEX(Data!$A582:$H582,,MATCH(FALSE,ISERROR(SEARCH(G$1&\"=\",Data!$A582:$H582)),0)),G$1&\"=\",\"\"),\"\")","v":""},{"$f":"IFERROR(SUBSTITUTE(INDEX(Data!$A582:$H582,,MATCH(FALSE,ISERROR(SEARCH(H$1&\"=\",Data!$A582:$H582)),0)),H$1&\"=\",\"\"),\"\")","v":""},{"$f":"IFERROR(SUBSTITUTE(INDEX(Data!$A582:$H582,,MATCH(FALSE,ISERROR(SEARCH(I$1&\"=\",Data!$A582:$H582)),0)),I$1&\"=\",\"\"),\"\")","v":""},{"$f":"IFERROR(SUBSTITUTE(INDEX(Data!$A582:$H582,,MATCH(FALSE,ISERROR(SEARCH(J$1&\"=\",Data!$A582:$H582)),0)),J$1&\"=\",\"\"),\"\")","v":""}]
[{"$f":"IFERROR(SUBSTITUTE(INDEX(Data!$A583:$H583,,MATCH(FALSE,ISERROR(SEARCH(A$1&\"=\",Data!$A583:$H583)),0)),A$1&\"=\",\"\"),\"\")","v":""},{"$f":"IFERROR(SUBSTITUTE(INDEX(Data!$A583:$H583,,MATCH(FALSE,ISERROR(SEARCH(B$1&\"=\",Data!$A583:$H583)),0)),B$1&\"=\",\"\"),\"\")","v":""},{"$f":"IFERROR(SUBSTITUTE(INDEX(Data!$A583:$H583,,MATCH(FALSE,ISERROR(SEARCH(C$1&\"=\",Data!$A583:$H583)),0)),C$1&\"=\",\"\"),\"\")","v":""},{"$f":"IFERROR(SUBSTITUTE(INDEX(Data!$A583:$H583,,MATCH(FALSE,ISERROR(SEARCH(D$1&\"=\",Data!$A583:$H583)),0)),D$1&\"=\",\"\"),\"\")","v":""},{"$f":"IFERROR(SUBSTITUTE(INDEX(Data!$A583:$H583,,MATCH(FALSE,ISERROR(SEARCH(E$1&\"=\",Data!$A583:$H583)),0)),E$1&\"=\",\"\"),\"\")","v":""},{"$f":"IFERROR(SUBSTITUTE(INDEX(Data!$A583:$H583,,MATCH(FALSE,ISERROR(SEARCH(F$1&\"=\",Data!$A583:$H583)),0)),F$1&\"=\",\"\"),\"\")","v":""},{"$f":"IFERROR(SUBSTITUTE(INDEX(Data!$A583:$H583,,MATCH(FALSE,ISERROR(SEARCH(G$1&\"=\",Data!$A583:$H583)),0)),G$1&\"=\",\"\"),\"\")","v":""},{"$f":"IFERROR(SUBSTITUTE(INDEX(Data!$A583:$H583,,MATCH(FALSE,ISERROR(SEARCH(H$1&\"=\",Data!$A583:$H583)),0)),H$1&\"=\",\"\"),\"\")","v":""},{"$f":"IFERROR(SUBSTITUTE(INDEX(Data!$A583:$H583,,MATCH(FALSE,ISERROR(SEARCH(I$1&\"=\",Data!$A583:$H583)),0)),I$1&\"=\",\"\"),\"\")","v":""},{"$f":"IFERROR(SUBSTITUTE(INDEX(Data!$A583:$H583,,MATCH(FALSE,ISERROR(SEARCH(J$1&\"=\",Data!$A583:$H583)),0)),J$1&\"=\",\"\"),\"\")","v":""}]
[{"$f":"IFERROR(SUBSTITUTE(INDEX(Data!$A584:$H584,,MATCH(FALSE,ISERROR(SEARCH(A$1&\"=\",Data!$A584:$H584)),0)),A$1&\"=\",\"\"),\"\")","v":""},{"$f":"IFERROR(SUBSTITUTE(INDEX(Data!$A584:$H584,,MATCH(FALSE,ISERROR(SEARCH(B$1&\"=\",Data!$A584:$H584)),0)),B$1&\"=\",\"\"),\"\")","v":""},{"$f":"IFERROR(SUBSTITUTE(INDEX(Data!$A584:$H584,,MATCH(FALSE,ISERROR(SEARCH(C$1&\"=\",Data!$A584:$H584)),0)),C$1&\"=\",\"\"),\"\")","v":""},{"$f":"IFERROR(SUBSTITUTE(INDEX(Data!$A584:$H584,,MATCH(FALSE,ISERROR(SEARCH(D$1&\"=\",Data!$A584:$H584)),0)),D$1&\"=\",\"\"),\"\")","v":""},{"$f":"IFERROR(SUBSTITUTE(INDEX(Data!$A584:$H584,,MATCH(FALSE,ISERROR(SEARCH(E$1&\"=\",Data!$A584:$H584)),0)),E$1&\"=\",\"\"),\"\")","v":""},{"$f":"IFERROR(SUBSTITUTE(INDEX(Data!$A584:$H584,,MATCH(FALSE,ISERROR(SEARCH(F$1&\"=\",Data!$A584:$H584)),0)),F$1&\"=\",\"\"),\"\")","v":""},{"$f":"IFERROR(SUBSTITUTE(INDEX(Data!$A584:$H584,,MATCH(FALSE,ISERROR(SEARCH(G$1&\"=\",Data!$A584:$H584)),0)),G$1&\"=\",\"\"),\"\")","v":""},{"$f":"IFERROR(SUBSTITUTE(INDEX(Data!$A584:$H584,,MATCH(FALSE,ISERROR(SEARCH(H$1&\"=\",Data!$A584:$H584)),0)),H$1&\"=\",\"\"),\"\")","v":""},{"$f":"IFERROR(SUBSTITUTE(INDEX(Data!$A584:$H584,,MATCH(FALSE,ISERROR(SEARCH(I$1&\"=\",Data!$A584:$H584)),0)),I$1&\"=\",\"\"),\"\")","v":""},{"$f":"IFERROR(SUBSTITUTE(INDEX(Data!$A584:$H584,,MATCH(FALSE,ISERROR(SEARCH(J$1&\"=\",Data!$A584:$H584)),0)),J$1&\"=\",\"\"),\"\")","v":""}]
[{"$f":"IFERROR(SUBSTITUTE(INDEX(Data!$A585:$H585,,MATCH(FALSE,ISERROR(SEARCH(A$1&\"=\",Data!$A585:$H585)),0)),A$1&\"=\",\"\"),\"\")","v":""},{"$f":"IFERROR(SUBSTITUTE(INDEX(Data!$A585:$H585,,MATCH(FALSE,ISERROR(SEARCH(B$1&\"=\",Data!$A585:$H585)),0)),B$1&\"=\",\"\"),\"\")","v":""},{"$f":"IFERROR(SUBSTITUTE(INDEX(Data!$A585:$H585,,MATCH(FALSE,ISERROR(SEARCH(C$1&\"=\",Data!$A585:$H585)),0)),C$1&\"=\",\"\"),\"\")","v":""},{"$f":"IFERROR(SUBSTITUTE(INDEX(Data!$A585:$H585,,MATCH(FALSE,ISERROR(SEARCH(D$1&\"=\",Data!$A585:$H585)),0)),D$1&\"=\",\"\"),\"\")","v":""},{"$f":"IFERROR(SUBSTITUTE(INDEX(Data!$A585:$H585,,MATCH(FALSE,ISERROR(SEARCH(E$1&\"=\",Data!$A585:$H585)),0)),E$1&\"=\",\"\"),\"\")","v":""},{"$f":"IFERROR(SUBSTITUTE(INDEX(Data!$A585:$H585,,MATCH(FALSE,ISERROR(SEARCH(F$1&\"=\",Data!$A585:$H585)),0)),F$1&\"=\",\"\"),\"\")","v":""},{"$f":"IFERROR(SUBSTITUTE(INDEX(Data!$A585:$H585,,MATCH(FALSE,ISERROR(SEARCH(G$1&\"=\",Data!$A585:$H585)),0)),G$1&\"=\",\"\"),\"\")","v":""},{"$f":"IFERROR(SUBSTITUTE(INDEX(Data!$A585:$H585,,MATCH(FALSE,ISERROR(SEARCH(H$1&\"=\",Data!$A585:$H585)),0)),H$1&\"=\",\"\"),\"\")","v":""},{"$f":"IFERROR(SUBSTITUTE(INDEX(Data!$A585:$H585,,MATCH(FALSE,ISERROR(SEARCH(I$1&\"=\",Data!$A585:$H585)),0)),I$1&\"=\",\"\"),\"\")","v":""},{"$f":"IFERROR(SUBSTITUTE(INDEX(Data!$A585:$H585,,MATCH(FALSE,ISERROR(SEARCH(J$1&\"=\",Data!$A585:$H585)),0)),J$1&\"=\",\"\"),\"\")","v":""}]
[{"$f":"IFERROR(SUBSTITUTE(INDEX(Data!$A586:$H586,,MATCH(FALSE,ISERROR(SEARCH(A$1&\"=\",Data!$A586:$H586)),0)),A$1&\"=\",\"\"),\"\")","v":""},{"$f":"IFERROR(SUBSTITUTE(INDEX(Data!$A586:$H586,,MATCH(FALSE,ISERROR(SEARCH(B$1&\"=\",Data!$A586:$H586)),0)),B$1&\"=\",\"\"),\"\")","v":""},{"$f":"IFERROR(SUBSTITUTE(INDEX(Data!$A586:$H586,,MATCH(FALSE,ISERROR(SEARCH(C$1&\"=\",Data!$A586:$H586)),0)),C$1&\"=\",\"\"),\"\")","v":""},{"$f":"IFERROR(SUBSTITUTE(INDEX(Data!$A586:$H586,,MATCH(FALSE,ISERROR(SEARCH(D$1&\"=\",Data!$A586:$H586)),0)),D$1&\"=\",\"\"),\"\")","v":""},{"$f":"IFERROR(SUBSTITUTE(INDEX(Data!$A586:$H586,,MATCH(FALSE,ISERROR(SEARCH(E$1&\"=\",Data!$A586:$H586)),0)),E$1&\"=\",\"\"),\"\")","v":""},{"$f":"IFERROR(SUBSTITUTE(INDEX(Data!$A586:$H586,,MATCH(FALSE,ISERROR(SEARCH(F$1&\"=\",Data!$A586:$H586)),0)),F$1&\"=\",\"\"),\"\")","v":""},{"$f":"IFERROR(SUBSTITUTE(INDEX(Data!$A586:$H586,,MATCH(FALSE,ISERROR(SEARCH(G$1&\"=\",Data!$A586:$H586)),0)),G$1&\"=\",\"\"),\"\")","v":""},{"$f":"IFERROR(SUBSTITUTE(INDEX(Data!$A586:$H586,,MATCH(FALSE,ISERROR(SEARCH(H$1&\"=\",Data!$A586:$H586)),0)),H$1&\"=\",\"\"),\"\")","v":""},{"$f":"IFERROR(SUBSTITUTE(INDEX(Data!$A586:$H586,,MATCH(FALSE,ISERROR(SEARCH(I$1&\"=\",Data!$A586:$H586)),0)),I$1&\"=\",\"\"),\"\")","v":""},{"$f":"IFERROR(SUBSTITUTE(INDEX(Data!$A586:$H586,,MATCH(FALSE,ISERROR(SEARCH(J$1&\"=\",Data!$A586:$H586)),0)),J$1&\"=\",\"\"),\"\")","v":""}]
[{"$f":"IFERROR(SUBSTITUTE(INDEX(Data!$A587:$H587,,MATCH(FALSE,ISERROR(SEARCH(A$1&\"=\",Data!$A587:$H587)),0)),A$1&\"=\",\"\"),\"\")","v":""},{"$f":"IFERROR(SUBSTITUTE(INDEX(Data!$A587:$H587,,MATCH(FALSE,ISERROR(SEARCH(B$1&\"=\",Data!$A587:$H587)),0)),B$1&\"=\",\"\"),\"\")","v":""},{"$f":"IFERROR(SUBSTITUTE(INDEX(Data!$A587:$H587,,MATCH(FALSE,ISERROR(SEARCH(C$1&\"=\",Data!$A587:$H587)),0)),C$1&\"=\",\"\"),\"\")","v":""},{"$f":"IFERROR(SUBSTITUTE(INDEX(Data!$A587:$H587,,MATCH(FALSE,ISERROR(SEARCH(D$1&\"=\",Data!$A587:$H587)),0)),D$1&\"=\",\"\"),\"\")","v":""},{"$f":"IFERROR(SUBSTITUTE(INDEX(Data!$A587:$H587,,MATCH(FALSE,ISERROR(SEARCH(E$1&\"=\",Data!$A587:$H587)),0)),E$1&\"=\",\"\"),\"\")","v":""},{"$f":"IFERROR(SUBSTITUTE(INDEX(Data!$A587:$H587,,MATCH(FALSE,ISERROR(SEARCH(F$1&\"=\",Data!$A587:$H587)),0)),F$1&\"=\",\"\"),\"\")","v":""},{"$f":"IFERROR(SUBSTITUTE(INDEX(Data!$A587:$H587,,MATCH(FALSE,ISERROR(SEARCH(G$1&\"=\",Data!$A587:$H587)),0)),G$1&\"=\",\"\"),\"\")","v":""},{"$f":"IFERROR(SUBSTITUTE(INDEX(Data!$A587:$H587,,MATCH(FALSE,ISERROR(SEARCH(H$1&\"=\",Data!$A587:$H587)),0)),H$1&\"=\",\"\"),\"\")","v":""},{"$f":"IFERROR(SUBSTITUTE(INDEX(Data!$A587:$H587,,MATCH(FALSE,ISERROR(SEARCH(I$1&\"=\",Data!$A587:$H587)),0)),I$1&\"=\",\"\"),\"\")","v":""},{"$f":"IFERROR(SUBSTITUTE(INDEX(Data!$A587:$H587,,MATCH(FALSE,ISERROR(SEARCH(J$1&\"=\",Data!$A587:$H587)),0)),J$1&\"=\",\"\"),\"\")","v":""}]
[{"$f":"IFERROR(SUBSTITUTE(INDEX(Data!$A588:$H588,,MATCH(FALSE,ISERROR(SEARCH(A$1&\"=\",Data!$A588:$H588)),0)),A$1&\"=\",\"\"),\"\")","v":""},{"$f":"IFERROR(SUBSTITUTE(INDEX(Data!$A588:$H588,,MATCH(FALSE,ISERROR(SEARCH(B$1&\"=\",Data!$A588:$H588)),0)),B$1&\"=\",\"\"),\"\")","v":""},{"$f":"IFERROR(SUBSTITUTE(INDEX(Data!$A588:$H588,,MATCH(FALSE,ISERROR(SEARCH(C$1&\"=\",Data!$A588:$H588)),0)),C$1&\"=\",\"\"),\"\")","v":""},{"$f":"IFERROR(SUBSTITUTE(INDEX(Data!$A588:$H588,,MATCH(FALSE,ISERROR(SEARCH(D$1&\"=\",Data!$A588:$H588)),0)),D$1&\"=\",\"\"),\"\")","v":""},{"$f":"IFERROR(SUBSTITUTE(INDEX(Data!$A588:$H588,,MATCH(FALSE,ISERROR(SEARCH(E$1&\"=\",Data!$A588:$H588)),0)),E$1&\"=\",\"\"),\"\")","v":""},{"$f":"IFERROR(SUBSTITUTE(INDEX(Data!$A588:$H588,,MATCH(FALSE,ISERROR(SEARCH(F$1&\"=\",Data!$A588:$H588)),0)),F$1&\"=\",\"\"),\"\")","v":""},{"$f":"IFERROR(SUBSTITUTE(INDEX(Data!$A588:$H588,,MATCH(FALSE,ISERROR(SEARCH(G$1&\"=\",Data!$A588:$H588)),0)),G$1&\"=\",\"\"),\"\")","v":""},{"$f":"IFERROR(SUBSTITUTE(INDEX(Data!$A588:$H588,,MATCH(FALSE,ISERROR(SEARCH(H$1&\"=\",Data!$A588:$H588)),0)),H$1&\"=\",\"\"),\"\")","v":""},{"$f":"IFERROR(SUBSTITUTE(INDEX(Data!$A588:$H588,,MATCH(FALSE,ISERROR(SEARCH(I$1&\"=\",Data!$A588:$H588)),0)),I$1&\"=\",\"\"),\"\")","v":""},{"$f":"IFERROR(SUBSTITUTE(INDEX(Data!$A588:$H588,,MATCH(FALSE,ISERROR(SEARCH(J$1&\"=\",Data!$A588:$H588)),0)),J$1&\"=\",\"\"),\"\")","v":""}]
[{"$f":"IFERROR(SUBSTITUTE(INDEX(Data!$A589:$H589,,MATCH(FALSE,ISERROR(SEARCH(A$1&\"=\",Data!$A589:$H589)),0)),A$1&\"=\",\"\"),\"\")","v":""},{"$f":"IFERROR(SUBSTITUTE(INDEX(Data!$A589:$H589,,MATCH(FALSE,ISERROR(SEARCH(B$1&\"=\",Data!$A589:$H589)),0)),B$1&\"=\",\"\"),\"\")","v":""},{"$f":"IFERROR(SUBSTITUTE(INDEX(Data!$A589:$H589,,MATCH(FALSE,ISERROR(SEARCH(C$1&\"=\",Data!$A589:$H589)),0)),C$1&\"=\",\"\"),\"\")","v":""},{"$f":"IFERROR(SUBSTITUTE(INDEX(Data!$A589:$H589,,MATCH(FALSE,ISERROR(SEARCH(D$1&\"=\",Data!$A589:$H589)),0)),D$1&\"=\",\"\"),\"\")","v":""},{"$f":"IFERROR(SUBSTITUTE(INDEX(Data!$A589:$H589,,MATCH(FALSE,ISERROR(SEARCH(E$1&\"=\",Data!$A589:$H589)),0)),E$1&\"=\",\"\"),\"\")","v":""},{"$f":"IFERROR(SUBSTITUTE(INDEX(Data!$A589:$H589,,MATCH(FALSE,ISERROR(SEARCH(F$1&\"=\",Data!$A589:$H589)),0)),F$1&\"=\",\"\"),\"\")","v":""},{"$f":"IFERROR(SUBSTITUTE(INDEX(Data!$A589:$H589,,MATCH(FALSE,ISERROR(SEARCH(G$1&\"=\",Data!$A589:$H589)),0)),G$1&\"=\",\"\"),\"\")","v":""},{"$f":"IFERROR(SUBSTITUTE(INDEX(Data!$A589:$H589,,MATCH(FALSE,ISERROR(SEARCH(H$1&\"=\",Data!$A589:$H589)),0)),H$1&\"=\",\"\"),\"\")","v":""},{"$f":"IFERROR(SUBSTITUTE(INDEX(Data!$A589:$H589,,MATCH(FALSE,ISERROR(SEARCH(I$1&\"=\",Data!$A589:$H589)),0)),I$1&\"=\",\"\"),\"\")","v":""},{"$f":"IFERROR(SUBSTITUTE(INDEX(Data!$A589:$H589,,MATCH(FALSE,ISERROR(SEARCH(J$1&\"=\",Data!$A589:$H589)),0)),J$1&\"=\",\"\"),\"\")","v":""}]
[{"$f":"IFERROR(SUBSTITUTE(INDEX(Data!$A590:$H590,,MATCH(FALSE,ISERROR(SEARCH(A$1&\"=\",Data!$A590:$H590)),0)),A$1&\"=\",\"\"),\"\")","v":""},{"$f":"IFERROR(SUBSTITUTE(INDEX(Data!$A590:$H590,,MATCH(FALSE,ISERROR(SEARCH(B$1&\"=\",Data!$A590:$H590)),0)),B$1&\"=\",\"\"),\"\")","v":""},{"$f":"IFERROR(SUBSTITUTE(INDEX(Data!$A590:$H590,,MATCH(FALSE,ISERROR(SEARCH(C$1&\"=\",Data!$A590:$H590)),0)),C$1&\"=\",\"\"),\"\")","v":""},{"$f":"IFERROR(SUBSTITUTE(INDEX(Data!$A590:$H590,,MATCH(FALSE,ISERROR(SEARCH(D$1&\"=\",Data!$A590:$H590)),0)),D$1&\"=\",\"\"),\"\")","v":""},{"$f":"IFERROR(SUBSTITUTE(INDEX(Data!$A590:$H590,,MATCH(FALSE,ISERROR(SEARCH(E$1&\"=\",Data!$A590:$H590)),0)),E$1&\"=\",\"\"),\"\")","v":""},{"$f":"IFERROR(SUBSTITUTE(INDEX(Data!$A590:$H590,,MATCH(FALSE,ISERROR(SEARCH(F$1&\"=\",Data!$A590:$H590)),0)),F$1&\"=\",\"\"),\"\")","v":""},{"$f":"IFERROR(SUBSTITUTE(INDEX(Data!$A590:$H590,,MATCH(FALSE,ISERROR(SEARCH(G$1&\"=\",Data!$A590:$H590)),0)),G$1&\"=\",\"\"),\"\")","v":""},{"$f":"IFERROR(SUBSTITUTE(INDEX(Data!$A590:$H590,,MATCH(FALSE,ISERROR(SEARCH(H$1&\"=\",Data!$A590:$H590)),0)),H$1&\"=\",\"\"),\"\")","v":""},{"$f":"IFERROR(SUBSTITUTE(INDEX(Data!$A590:$H590,,MATCH(FALSE,ISERROR(SEARCH(I$1&\"=\",Data!$A590:$H590)),0)),I$1&\"=\",\"\"),\"\")","v":""},{"$f":"IFERROR(SUBSTITUTE(INDEX(Data!$A590:$H590,,MATCH(FALSE,ISERROR(SEARCH(J$1&\"=\",Data!$A590:$H590)),0)),J$1&\"=\",\"\"),\"\")","v":""}]
[{"$f":"IFERROR(SUBSTITUTE(INDEX(Data!$A591:$H591,,MATCH(FALSE,ISERROR(SEARCH(A$1&\"=\",Data!$A591:$H591)),0)),A$1&\"=\",\"\"),\"\")","v":""},{"$f":"IFERROR(SUBSTITUTE(INDEX(Data!$A591:$H591,,MATCH(FALSE,ISERROR(SEARCH(B$1&\"=\",Data!$A591:$H591)),0)),B$1&\"=\",\"\"),\"\")","v":""},{"$f":"IFERROR(SUBSTITUTE(INDEX(Data!$A591:$H591,,MATCH(FALSE,ISERROR(SEARCH(C$1&\"=\",Data!$A591:$H591)),0)),C$1&\"=\",\"\"),\"\")","v":""},{"$f":"IFERROR(SUBSTITUTE(INDEX(Data!$A591:$H591,,MATCH(FALSE,ISERROR(SEARCH(D$1&\"=\",Data!$A591:$H591)),0)),D$1&\"=\",\"\"),\"\")","v":""},{"$f":"IFERROR(SUBSTITUTE(INDEX(Data!$A591:$H591,,MATCH(FALSE,ISERROR(SEARCH(E$1&\"=\",Data!$A591:$H591)),0)),E$1&\"=\",\"\"),\"\")","v":""},{"$f":"IFERROR(SUBSTITUTE(INDEX(Data!$A591:$H591,,MATCH(FALSE,ISERROR(SEARCH(F$1&\"=\",Data!$A591:$H591)),0)),F$1&\"=\",\"\"),\"\")","v":""},{"$f":"IFERROR(SUBSTITUTE(INDEX(Data!$A591:$H591,,MATCH(FALSE,ISERROR(SEARCH(G$1&\"=\",Data!$A591:$H591)),0)),G$1&\"=\",\"\"),\"\")","v":""},{"$f":"IFERROR(SUBSTITUTE(INDEX(Data!$A591:$H591,,MATCH(FALSE,ISERROR(SEARCH(H$1&\"=\",Data!$A591:$H591)),0)),H$1&\"=\",\"\"),\"\")","v":""},{"$f":"IFERROR(SUBSTITUTE(INDEX(Data!$A591:$H591,,MATCH(FALSE,ISERROR(SEARCH(I$1&\"=\",Data!$A591:$H591)),0)),I$1&\"=\",\"\"),\"\")","v":""},{"$f":"IFERROR(SUBSTITUTE(INDEX(Data!$A591:$H591,,MATCH(FALSE,ISERROR(SEARCH(J$1&\"=\",Data!$A591:$H591)),0)),J$1&\"=\",\"\"),\"\")","v":""}]
[{"$f":"IFERROR(SUBSTITUTE(INDEX(Data!$A592:$H592,,MATCH(FALSE,ISERROR(SEARCH(A$1&\"=\",Data!$A592:$H592)),0)),A$1&\"=\",\"\"),\"\")","v":""},{"$f":"IFERROR(SUBSTITUTE(INDEX(Data!$A592:$H592,,MATCH(FALSE,ISERROR(SEARCH(B$1&\"=\",Data!$A592:$H592)),0)),B$1&\"=\",\"\"),\"\")","v":""},{"$f":"IFERROR(SUBSTITUTE(INDEX(Data!$A592:$H592,,MATCH(FALSE,ISERROR(SEARCH(C$1&\"=\",Data!$A592:$H592)),0)),C$1&\"=\",\"\"),\"\")","v":""},{"$f":"IFERROR(SUBSTITUTE(INDEX(Data!$A592:$H592,,MATCH(FALSE,ISERROR(SEARCH(D$1&\"=\",Data!$A592:$H592)),0)),D$1&\"=\",\"\"),\"\")","v":""},{"$f":"IFERROR(SUBSTITUTE(INDEX(Data!$A592:$H592,,MATCH(FALSE,ISERROR(SEARCH(E$1&\"=\",Data!$A592:$H592)),0)),E$1&\"=\",\"\"),\"\")","v":""},{"$f":"IFERROR(SUBSTITUTE(INDEX(Data!$A592:$H592,,MATCH(FALSE,ISERROR(SEARCH(F$1&\"=\",Data!$A592:$H592)),0)),F$1&\"=\",\"\"),\"\")","v":""},{"$f":"IFERROR(SUBSTITUTE(INDEX(Data!$A592:$H592,,MATCH(FALSE,ISERROR(SEARCH(G$1&\"=\",Data!$A592:$H592)),0)),G$1&\"=\",\"\"),\"\")","v":""},{"$f":"IFERROR(SUBSTITUTE(INDEX(Data!$A592:$H592,,MATCH(FALSE,ISERROR(SEARCH(H$1&\"=\",Data!$A592:$H592)),0)),H$1&\"=\",\"\"),\"\")","v":""},{"$f":"IFERROR(SUBSTITUTE(INDEX(Data!$A592:$H592,,MATCH(FALSE,ISERROR(SEARCH(I$1&\"=\",Data!$A592:$H592)),0)),I$1&\"=\",\"\"),\"\")","v":""},{"$f":"IFERROR(SUBSTITUTE(INDEX(Data!$A592:$H592,,MATCH(FALSE,ISERROR(SEARCH(J$1&\"=\",Data!$A592:$H592)),0)),J$1&\"=\",\"\"),\"\")","v":""}]
[{"$f":"IFERROR(SUBSTITUTE(INDEX(Data!$A593:$H593,,MATCH(FALSE,ISERROR(SEARCH(A$1&\"=\",Data!$A593:$H593)),0)),A$1&\"=\",\"\"),\"\")","v":""},{"$f":"IFERROR(SUBSTITUTE(INDEX(Data!$A593:$H593,,MATCH(FALSE,ISERROR(SEARCH(B$1&\"=\",Data!$A593:$H593)),0)),B$1&\"=\",\"\"),\"\")","v":""},{"$f":"IFERROR(SUBSTITUTE(INDEX(Data!$A593:$H593,,MATCH(FALSE,ISERROR(SEARCH(C$1&\"=\",Data!$A593:$H593)),0)),C$1&\"=\",\"\"),\"\")","v":""},{"$f":"IFERROR(SUBSTITUTE(INDEX(Data!$A593:$H593,,MATCH(FALSE,ISERROR(SEARCH(D$1&\"=\",Data!$A593:$H593)),0)),D$1&\"=\",\"\"),\"\")","v":""},{"$f":"IFERROR(SUBSTITUTE(INDEX(Data!$A593:$H593,,MATCH(FALSE,ISERROR(SEARCH(E$1&\"=\",Data!$A593:$H593)),0)),E$1&\"=\",\"\"),\"\")","v":""},{"$f":"IFERROR(SUBSTITUTE(INDEX(Data!$A593:$H593,,MATCH(FALSE,ISERROR(SEARCH(F$1&\"=\",Data!$A593:$H593)),0)),F$1&\"=\",\"\"),\"\")","v":""},{"$f":"IFERROR(SUBSTITUTE(INDEX(Data!$A593:$H593,,MATCH(FALSE,ISERROR(SEARCH(G$1&\"=\",Data!$A593:$H593)),0)),G$1&\"=\",\"\"),\"\")","v":""},{"$f":"IFERROR(SUBSTITUTE(INDEX(Data!$A593:$H593,,MATCH(FALSE,ISERROR(SEARCH(H$1&\"=\",Data!$A593:$H593)),0)),H$1&\"=\",\"\"),\"\")","v":""},{"$f":"IFERROR(SUBSTITUTE(INDEX(Data!$A593:$H593,,MATCH(FALSE,ISERROR(SEARCH(I$1&\"=\",Data!$A593:$H593)),0)),I$1&\"=\",\"\"),\"\")","v":""},{"$f":"IFERROR(SUBSTITUTE(INDEX(Data!$A593:$H593,,MATCH(FALSE,ISERROR(SEARCH(J$1&\"=\",Data!$A593:$H593)),0)),J$1&\"=\",\"\"),\"\")","v":""}]
[{"$f":"IFERROR(SUBSTITUTE(INDEX(Data!$A594:$H594,,MATCH(FALSE,ISERROR(SEARCH(A$1&\"=\",Data!$A594:$H594)),0)),A$1&\"=\",\"\"),\"\")","v":""},{"$f":"IFERROR(SUBSTITUTE(INDEX(Data!$A594:$H594,,MATCH(FALSE,ISERROR(SEARCH(B$1&\"=\",Data!$A594:$H594)),0)),B$1&\"=\",\"\"),\"\")","v":""},{"$f":"IFERROR(SUBSTITUTE(INDEX(Data!$A594:$H594,,MATCH(FALSE,ISERROR(SEARCH(C$1&\"=\",Data!$A594:$H594)),0)),C$1&\"=\",\"\"),\"\")","v":""},{"$f":"IFERROR(SUBSTITUTE(INDEX(Data!$A594:$H594,,MATCH(FALSE,ISERROR(SEARCH(D$1&\"=\",Data!$A594:$H594)),0)),D$1&\"=\",\"\"),\"\")","v":""},{"$f":"IFERROR(SUBSTITUTE(INDEX(Data!$A594:$H594,,MATCH(FALSE,ISERROR(SEARCH(E$1&\"=\",Data!$A594:$H594)),0)),E$1&\"=\",\"\"),\"\")","v":""},{"$f":"IFERROR(SUBSTITUTE(INDEX(Data!$A594:$H594,,MATCH(FALSE,ISERROR(SEARCH(F$1&\"=\",Data!$A594:$H594)),0)),F$1&\"=\",\"\"),\"\")","v":""},{"$f":"IFERROR(SUBSTITUTE(INDEX(Data!$A594:$H594,,MATCH(FALSE,ISERROR(SEARCH(G$1&\"=\",Data!$A594:$H594)),0)),G$1&\"=\",\"\"),\"\")","v":""},{"$f":"IFERROR(SUBSTITUTE(INDEX(Data!$A594:$H594,,MATCH(FALSE,ISERROR(SEARCH(H$1&\"=\",Data!$A594:$H594)),0)),H$1&\"=\",\"\"),\"\")","v":""},{"$f":"IFERROR(SUBSTITUTE(INDEX(Data!$A594:$H594,,MATCH(FALSE,ISERROR(SEARCH(I$1&\"=\",Data!$A594:$H594)),0)),I$1&\"=\",\"\"),\"\")","v":""},{"$f":"IFERROR(SUBSTITUTE(INDEX(Data!$A594:$H594,,MATCH(FALSE,ISERROR(SEARCH(J$1&\"=\",Data!$A594:$H594)),0)),J$1&\"=\",\"\"),\"\")","v":""}]
[{"$f":"IFERROR(SUBSTITUTE(INDEX(Data!$A595:$H595,,MATCH(FALSE,ISERROR(SEARCH(A$1&\"=\",Data!$A595:$H595)),0)),A$1&\"=\",\"\"),\"\")","v":""},{"$f":"IFERROR(SUBSTITUTE(INDEX(Data!$A595:$H595,,MATCH(FALSE,ISERROR(SEARCH(B$1&\"=\",Data!$A595:$H595)),0)),B$1&\"=\",\"\"),\"\")","v":""},{"$f":"IFERROR(SUBSTITUTE(INDEX(Data!$A595:$H595,,MATCH(FALSE,ISERROR(SEARCH(C$1&\"=\",Data!$A595:$H595)),0)),C$1&\"=\",\"\"),\"\")","v":""},{"$f":"IFERROR(SUBSTITUTE(INDEX(Data!$A595:$H595,,MATCH(FALSE,ISERROR(SEARCH(D$1&\"=\",Data!$A595:$H595)),0)),D$1&\"=\",\"\"),\"\")","v":""},{"$f":"IFERROR(SUBSTITUTE(INDEX(Data!$A595:$H595,,MATCH(FALSE,ISERROR(SEARCH(E$1&\"=\",Data!$A595:$H595)),0)),E$1&\"=\",\"\"),\"\")","v":""},{"$f":"IFERROR(SUBSTITUTE(INDEX(Data!$A595:$H595,,MATCH(FALSE,ISERROR(SEARCH(F$1&\"=\",Data!$A595:$H595)),0)),F$1&\"=\",\"\"),\"\")","v":""},{"$f":"IFERROR(SUBSTITUTE(INDEX(Data!$A595:$H595,,MATCH(FALSE,ISERROR(SEARCH(G$1&\"=\",Data!$A595:$H595)),0)),G$1&\"=\",\"\"),\"\")","v":""},{"$f":"IFERROR(SUBSTITUTE(INDEX(Data!$A595:$H595,,MATCH(FALSE,ISERROR(SEARCH(H$1&\"=\",Data!$A595:$H595)),0)),H$1&\"=\",\"\"),\"\")","v":""},{"$f":"IFERROR(SUBSTITUTE(INDEX(Data!$A595:$H595,,MATCH(FALSE,ISERROR(SEARCH(I$1&\"=\",Data!$A595:$H595)),0)),I$1&\"=\",\"\"),\"\")","v":""},{"$f":"IFERROR(SUBSTITUTE(INDEX(Data!$A595:$H595,,MATCH(FALSE,ISERROR(SEARCH(J$1&\"=\",Data!$A595:$H595)),0)),J$1&\"=\",\"\"),\"\")","v":""}]
[{"$f":"IFERROR(SUBSTITUTE(INDEX(Data!$A596:$H596,,MATCH(FALSE,ISERROR(SEARCH(A$1&\"=\",Data!$A596:$H596)),0)),A$1&\"=\",\"\"),\"\")","v":""},{"$f":"IFERROR(SUBSTITUTE(INDEX(Data!$A596:$H596,,MATCH(FALSE,ISERROR(SEARCH(B$1&\"=\",Data!$A596:$H596)),0)),B$1&\"=\",\"\"),\"\")","v":""},{"$f":"IFERROR(SUBSTITUTE(INDEX(Data!$A596:$H596,,MATCH(FALSE,ISERROR(SEARCH(C$1&\"=\",Data!$A596:$H596)),0)),C$1&\"=\",\"\"),\"\")","v":""},{"$f":"IFERROR(SUBSTITUTE(INDEX(Data!$A596:$H596,,MATCH(FALSE,ISERROR(SEARCH(D$1&\"=\",Data!$A596:$H596)),0)),D$1&\"=\",\"\"),\"\")","v":""},{"$f":"IFERROR(SUBSTITUTE(INDEX(Data!$A596:$H596,,MATCH(FALSE,ISERROR(SEARCH(E$1&\"=\",Data!$A596:$H596)),0)),E$1&\"=\",\"\"),\"\")","v":""},{"$f":"IFERROR(SUBSTITUTE(INDEX(Data!$A596:$H596,,MATCH(FALSE,ISERROR(SEARCH(F$1&\"=\",Data!$A596:$H596)),0)),F$1&\"=\",\"\"),\"\")","v":""},{"$f":"IFERROR(SUBSTITUTE(INDEX(Data!$A596:$H596,,MATCH(FALSE,ISERROR(SEARCH(G$1&\"=\",Data!$A596:$H596)),0)),G$1&\"=\",\"\"),\"\")","v":""},{"$f":"IFERROR(SUBSTITUTE(INDEX(Data!$A596:$H596,,MATCH(FALSE,ISERROR(SEARCH(H$1&\"=\",Data!$A596:$H596)),0)),H$1&\"=\",\"\"),\"\")","v":""},{"$f":"IFERROR(SUBSTITUTE(INDEX(Data!$A596:$H596,,MATCH(FALSE,ISERROR(SEARCH(I$1&\"=\",Data!$A596:$H596)),0)),I$1&\"=\",\"\"),\"\")","v":""},{"$f":"IFERROR(SUBSTITUTE(INDEX(Data!$A596:$H596,,MATCH(FALSE,ISERROR(SEARCH(J$1&\"=\",Data!$A596:$H596)),0)),J$1&\"=\",\"\"),\"\")","v":""}]
[{"$f":"IFERROR(SUBSTITUTE(INDEX(Data!$A597:$H597,,MATCH(FALSE,ISERROR(SEARCH(A$1&\"=\",Data!$A597:$H597)),0)),A$1&\"=\",\"\"),\"\")","v":""},{"$f":"IFERROR(SUBSTITUTE(INDEX(Data!$A597:$H597,,MATCH(FALSE,ISERROR(SEARCH(B$1&\"=\",Data!$A597:$H597)),0)),B$1&\"=\",\"\"),\"\")","v":""},{"$f":"IFERROR(SUBSTITUTE(INDEX(Data!$A597:$H597,,MATCH(FALSE,ISERROR(SEARCH(C$1&\"=\",Data!$A597:$H597)),0)),C$1&\"=\",\"\"),\"\")","v":""},{"$f":"IFERROR(SUBSTITUTE(INDEX(Data!$A597:$H597,,MATCH(FALSE,ISERROR(SEARCH(D$1&\"=\",Data!$A597:$H597)),0)),D$1&\"=\",\"\"),\"\")","v":""},{"$f":"IFERROR(SUBSTITUTE(INDEX(Data!$A597:$H597,,MATCH(FALSE,ISERROR(SEARCH(E$1&\"=\",Data!$A597:$H597)),0)),E$1&\"=\",\"\"),\"\")","v":""},{"$f":"IFERROR(SUBSTITUTE(INDEX(Data!$A597:$H597,,MATCH(FALSE,ISERROR(SEARCH(F$1&\"=\",Data!$A597:$H597)),0)),F$1&\"=\",\"\"),\"\")","v":""},{"$f":"IFERROR(SUBSTITUTE(INDEX(Data!$A597:$H597,,MATCH(FALSE,ISERROR(SEARCH(G$1&\"=\",Data!$A597:$H597)),0)),G$1&\"=\",\"\"),\"\")","v":""},{"$f":"IFERROR(SUBSTITUTE(INDEX(Data!$A597:$H597,,MATCH(FALSE,ISERROR(SEARCH(H$1&\"=\",Data!$A597:$H597)),0)),H$1&\"=\",\"\"),\"\")","v":""},{"$f":"IFERROR(SUBSTITUTE(INDEX(Data!$A597:$H597,,MATCH(FALSE,ISERROR(SEARCH(I$1&\"=\",Data!$A597:$H597)),0)),I$1&\"=\",\"\"),\"\")","v":""},{"$f":"IFERROR(SUBSTITUTE(INDEX(Data!$A597:$H597,,MATCH(FALSE,ISERROR(SEARCH(J$1&\"=\",Data!$A597:$H597)),0)),J$1&\"=\",\"\"),\"\")","v":""}]
[{"$f":"IFERROR(SUBSTITUTE(INDEX(Data!$A598:$H598,,MATCH(FALSE,ISERROR(SEARCH(A$1&\"=\",Data!$A598:$H598)),0)),A$1&\"=\",\"\"),\"\")","v":""},{"$f":"IFERROR(SUBSTITUTE(INDEX(Data!$A598:$H598,,MATCH(FALSE,ISERROR(SEARCH(B$1&\"=\",Data!$A598:$H598)),0)),B$1&\"=\",\"\"),\"\")","v":""},{"$f":"IFERROR(SUBSTITUTE(INDEX(Data!$A598:$H598,,MATCH(FALSE,ISERROR(SEARCH(C$1&\"=\",Data!$A598:$H598)),0)),C$1&\"=\",\"\"),\"\")","v":""},{"$f":"IFERROR(SUBSTITUTE(INDEX(Data!$A598:$H598,,MATCH(FALSE,ISERROR(SEARCH(D$1&\"=\",Data!$A598:$H598)),0)),D$1&\"=\",\"\"),\"\")","v":""},{"$f":"IFERROR(SUBSTITUTE(INDEX(Data!$A598:$H598,,MATCH(FALSE,ISERROR(SEARCH(E$1&\"=\",Data!$A598:$H598)),0)),E$1&\"=\",\"\"),\"\")","v":""},{"$f":"IFERROR(SUBSTITUTE(INDEX(Data!$A598:$H598,,MATCH(FALSE,ISERROR(SEARCH(F$1&\"=\",Data!$A598:$H598)),0)),F$1&\"=\",\"\"),\"\")","v":""},{"$f":"IFERROR(SUBSTITUTE(INDEX(Data!$A598:$H598,,MATCH(FALSE,ISERROR(SEARCH(G$1&\"=\",Data!$A598:$H598)),0)),G$1&\"=\",\"\"),\"\")","v":""},{"$f":"IFERROR(SUBSTITUTE(INDEX(Data!$A598:$H598,,MATCH(FALSE,ISERROR(SEARCH(H$1&\"=\",Data!$A598:$H598)),0)),H$1&\"=\",\"\"),\"\")","v":""},{"$f":"IFERROR(SUBSTITUTE(INDEX(Data!$A598:$H598,,MATCH(FALSE,ISERROR(SEARCH(I$1&\"=\",Data!$A598:$H598)),0)),I$1&\"=\",\"\"),\"\")","v":""},{"$f":"IFERROR(SUBSTITUTE(INDEX(Data!$A598:$H598,,MATCH(FALSE,ISERROR(SEARCH(J$1&\"=\",Data!$A598:$H598)),0)),J$1&\"=\",\"\"),\"\")","v":""}]
[{"$f":"IFERROR(SUBSTITUTE(INDEX(Data!$A599:$H599,,MATCH(FALSE,ISERROR(SEARCH(A$1&\"=\",Data!$A599:$H599)),0)),A$1&\"=\",\"\"),\"\")","v":""},{"$f":"IFERROR(SUBSTITUTE(INDEX(Data!$A599:$H599,,MATCH(FALSE,ISERROR(SEARCH(B$1&\"=\",Data!$A599:$H599)),0)),B$1&\"=\",\"\"),\"\")","v":""},{"$f":"IFERROR(SUBSTITUTE(INDEX(Data!$A599:$H599,,MATCH(FALSE,ISERROR(SEARCH(C$1&\"=\",Data!$A599:$H599)),0)),C$1&\"=\",\"\"),\"\")","v":""},{"$f":"IFERROR(SUBSTITUTE(INDEX(Data!$A599:$H599,,MATCH(FALSE,ISERROR(SEARCH(D$1&\"=\",Data!$A599:$H599)),0)),D$1&\"=\",\"\"),\"\")","v":""},{"$f":"IFERROR(SUBSTITUTE(INDEX(Data!$A599:$H599,,MATCH(FALSE,ISERROR(SEARCH(E$1&\"=\",Data!$A599:$H599)),0)),E$1&\"=\",\"\"),\"\")","v":""},{"$f":"IFERROR(SUBSTITUTE(INDEX(Data!$A599:$H599,,MATCH(FALSE,ISERROR(SEARCH(F$1&\"=\",Data!$A599:$H599)),0)),F$1&\"=\",\"\"),\"\")","v":""},{"$f":"IFERROR(SUBSTITUTE(INDEX(Data!$A599:$H599,,MATCH(FALSE,ISERROR(SEARCH(G$1&\"=\",Data!$A599:$H599)),0)),G$1&\"=\",\"\"),\"\")","v":""},{"$f":"IFERROR(SUBSTITUTE(INDEX(Data!$A599:$H599,,MATCH(FALSE,ISERROR(SEARCH(H$1&\"=\",Data!$A599:$H599)),0)),H$1&\"=\",\"\"),\"\")","v":""},{"$f":"IFERROR(SUBSTITUTE(INDEX(Data!$A599:$H599,,MATCH(FALSE,ISERROR(SEARCH(I$1&\"=\",Data!$A599:$H599)),0)),I$1&\"=\",\"\"),\"\")","v":""},{"$f":"IFERROR(SUBSTITUTE(INDEX(Data!$A599:$H599,,MATCH(FALSE,ISERROR(SEARCH(J$1&\"=\",Data!$A599:$H599)),0)),J$1&\"=\",\"\"),\"\")","v":""}]
[{"$f":"IFERROR(SUBSTITUTE(INDEX(Data!$A600:$H600,,MATCH(FALSE,ISERROR(SEARCH(A$1&\"=\",Data!$A600:$H600)),0)),A$1&\"=\",\"\"),\"\")","v":""},{"$f":"IFERROR(SUBSTITUTE(INDEX(Data!$A600:$H600,,MATCH(FALSE,ISERROR(SEARCH(B$1&\"=\",Data!$A600:$H600)),0)),B$1&\"=\",\"\"),\"\")","v":""},{"$f":"IFERROR(SUBSTITUTE(INDEX(Data!$A600:$H600,,MATCH(FALSE,ISERROR(SEARCH(C$1&\"=\",Data!$A600:$H600)),0)),C$1&\"=\",\"\"),\"\")","v":""},{"$f":"IFERROR(SUBSTITUTE(INDEX(Data!$A600:$H600,,MATCH(FALSE,ISERROR(SEARCH(D$1&\"=\",Data!$A600:$H600)),0)),D$1&\"=\",\"\"),\"\")","v":""},{"$f":"IFERROR(SUBSTITUTE(INDEX(Data!$A600:$H600,,MATCH(FALSE,ISERROR(SEARCH(E$1&\"=\",Data!$A600:$H600)),0)),E$1&\"=\",\"\"),\"\")","v":""},{"$f":"IFERROR(SUBSTITUTE(INDEX(Data!$A600:$H600,,MATCH(FALSE,ISERROR(SEARCH(F$1&\"=\",Data!$A600:$H600)),0)),F$1&\"=\",\"\"),\"\")","v":""},{"$f":"IFERROR(SUBSTITUTE(INDEX(Data!$A600:$H600,,MATCH(FALSE,ISERROR(SEARCH(G$1&\"=\",Data!$A600:$H600)),0)),G$1&\"=\",\"\"),\"\")","v":""},{"$f":"IFERROR(SUBSTITUTE(INDEX(Data!$A600:$H600,,MATCH(FALSE,ISERROR(SEARCH(H$1&\"=\",Data!$A600:$H600)),0)),H$1&\"=\",\"\"),\"\")","v":""},{"$f":"IFERROR(SUBSTITUTE(INDEX(Data!$A600:$H600,,MATCH(FALSE,ISERROR(SEARCH(I$1&\"=\",Data!$A600:$H600)),0)),I$1&\"=\",\"\"),\"\")","v":""},{"$f":"IFERROR(SUBSTITUTE(INDEX(Data!$A600:$H600,,MATCH(FALSE,ISERROR(SEARCH(J$1&\"=\",Data!$A600:$H600)),0)),J$1&\"=\",\"\"),\"\")","v":""}]

{"sheet":"Zoznam (2)","index":2,"n_rows":9,"n_cols":10,"rows_kept":9,"cut":false,"hidden":false,"merged":[]}
["uid","last_name","first_name","language","telephone","street","city","orgunit","department","Funkcia"]
["JANO01","Janová","Maria",null,"2589/5598","Hrubá 3","Brezno","01",null,"Technický zamestnanec"]
["FERO02","Ferová","Jana",null,null,"Hlavná 12","Košice","01",null,"Mzdárka"]
["IVAN01","Ivanov","Miroslav",null,"2589/5023","SNP 9","Zvolen","04",null,"Technický zamestnanec"]
["PETER01","Peterka","Mario",null,"2589/4325",null,"Žilina","01",null,"Manager"]
["KATKA02","Katkač","Jozef",null,"2589/1528","Mamateyová 5","Vrútky","03",null,"Asistent"]
["JULKA01","Julkavý","Igor",null,"2589/9825","Železničná 49","Martin","01"]
["MARTI01","Martiová","Jolana",null,null,"Prvá 64","Banská Bystrica","02",null,"Technický zamestnanec"]
["IVAN02","Ivanová","Adriana",null,"2589/1973","Krivá 87","Bytča","05",null,"Technický zamestnanec"]