{"text_format":"1","workbook":"xlsx","n_sheets":4,"sheets":["Data","All IN","IN 2018 pom","Riesitelska skupina"],"not_rendered":{"charts":1,"images":0,"macros":1,"external_links":1,"defined_names":9,"comments":0,"pivot_tables":1},"unopened":[],"bounds":{"document_bytes":16777216,"sheet_cells":100000,"rows_first":2000,"rows_last":500,"rows_between":2000,"halvings":0,"cell_chars":16384,"cell_head_chars":4096},"cells_cut":0,"cells_raw":0,"read":"whole","date_system":"1900"}

{"sheet":"Data","index":0,"n_rows":20,"n_cols":10,"rows_kept":20,"cut":false,"hidden":false,"merged":[]}
["TICKETID","REPORTDATE","PRIORITY","SUMMARY","SERVICE","STAV","ACTUALFINISH","ZODPOVEDNA_SKUPINA","ROOT_CAUSE_CI","RIESITELSKA_SKUPINA"]
[1,"2018-11-21T15:27:53.317",3,"Nazov 1","DESKTOP_SLUZBY","INPROG"]
[1,"2018-11-21T15:26:36.645",2,"Nazov 2","IT AS Operational CRM","ASSIGNED"]
[1,"2018-11-21T15:21:32.644",3,"Nazov 3","DESKTOP_SLUZBY","INPROG"]
[1,"2018-11-21T15:19:08.550",2,"Nazov 4","IT AS Internet banking","ASSIGNED"]
[1,"2018-11-21T15:02:23.093",3,"Nazov 5","DESKTOP_SLUZBY","RESOLVED","2018-11-21T15:28:11.365",null,null,"Hnupi"]
[1,"2018-11-21T14:23:14.579",3,"Nazov 6","IT AS Web TB","ASSIGNED"]
[1,"2018-11-21T14:11:56.730",2,"Nazov 7","IT AS IFCA","INPROG"]
[1,"2018-11-21T13:58:52.619",3,"Nazov 8","IT AS Operational CRM","INPROG"]
[1,"2018-11-21T12:28:07.100",3,"Nazov 9","DESKTOP_SLUZBY","INPROG"]
[1,"2018-11-21T11:56:18.823",3,"Nazov 10","IT EUS Notebook","RESOLVED","2018-11-21T14:49:55.734",null,null,"Hnupi"]
[1,"2018-11-21T11:27:57.560",2,"Nazov 11","IT AS Gate","RESOLVED","2018-11-21T14:26:52.485","Jablka","AUTOMIC SERVICE~14C58AEA-AEF1-417F-8BD9-C5274D3C5B64","Risk"]
[1,"2018-11-21T11:10:37.463",2,"Nazov 12","IT AS Spracovanie platobnych prikazov","RESOLVED","2018-11-21T14:34:30.297","Kebabe","POPS~CFB5028F-5354-4762-8ABD-E2F2BDE126D2","Risk"]
[1,"2018-11-21T10:16:50.407",3,"Nazov 13","IT AS Kampane","RESOLVED","2018-11-21T15:09:30.832","Jablka","CAMPAIGNFE~C59E4999-25AC-4DD0-91CA-536836CA4B2B","Kalkulacky"]
[1,"2018-11-21T10:05:25.512",3,"Nazov 14","DESKTOP_SLUZBY","WIPPEND"]
[1,"2018-11-21T09:55:42.387",2,"Nazov 15","IT AS DWH","INPROG"]
[1,"2018-11-21T09:35:23.074",2,"Nazov 16","IT AS Loan EE","RESOLVED","2018-11-21T13:18:11.852","Kebabe","UNSPECIFIED","Kebabe"]
[1,"2018-11-21T08:49:37.796",2,"Nazov 17","IT AS Invest","ASSIGNED"]
[1,"2018-11-21T08:12:27.258",3,"Nazov 18","DESKTOP_SLUZBY","RESOLVED","2018-11-21T09:51:18.061",null,null,"Hnupi"]
[1,"2018-11-21T08:02:34.929",2,"Nazov 19","IT AS ODS","INPROG"]

{"sheet":"All IN","index":1,"n_rows":201,"n_cols":2,"rows_kept":201,"cut":false,"hidden":true,"merged":[]}
["Service","Počet IN"]
["IT AS Gate",{"$f":"COUNTIF([1]DATA!$K$1:$K$65536,A2)","v":{"$error":"#VALUE!"}}]
["IT AS Operational CRM",{"$f":"COUNTIF([1]DATA!$K$1:$K$65536,A3)","v":{"$error":"#VALUE!"}}]
["IT AS Loan EE",{"$f":"COUNTIF([1]DATA!$K$1:$K$65536,A4)","v":{"$error":"#VALUE!"}}]
["IT AS Midas",{"$f":"COUNTIF([1]DATA!$K$1:$K$65536,A5)","v":{"$error":"#VALUE!"}}]
["IT AS APS Regionalni klienti",{"$f":"COUNTIF([1]DATA!$K$1:$K$65536,A6)","v":{"$error":"#VALUE!"}}]
["IT EUS Notebook",{"$f":"COUNTIF([1]DATA!$K$1:$K$65536,A7)","v":{"$error":"#VALUE!"}}]
["IT AS SUN",{"$f":"COUNTIF([1]DATA!$K$1:$K$65536,A8)","v":{"$error":"#VALUE!"}}]
["IT AS ODS",{"$f":"COUNTIF([1]DATA!$K$1:$K$65536,A9)","v":{"$error":"#VALUE!"}}]
["IT AS Internet banking",{"$f":"COUNTIF([1]DATA!$K$1:$K$65536,A10)","v":{"$error":"#VALUE!"}}]
["IT AS Web TB",{"$f":"COUNTIF([1]DATA!$K$1:$K$65536,A11)","v":{"$error":"#VALUE!"}}]
["IT AS DWH",{"$f":"COUNTIF([1]DATA!$K$1:$K$65536,A12)","v":{"$error":"#VALUE!"}}]
["IT AS Oblmas",{"$f":"COUNTIF([1]DATA!$K$1:$K$65536,A13)","v":{"$error":"#VALUE!"}}]
["IT AS Automatizacia exekucnych konani",{"$f":"COUNTIF([1]DATA!$K$1:$K$65536,A14)","v":{"$error":"#VALUE!"}}]
["IT EUS E-mail and Same time",{"$f":"COUNTIF([1]DATA!$K$1:$K$65536,A15)","v":{"$error":"#VALUE!"}}]
["SIRIUS_LATE_END_10:45",{"$f":"COUNTIF([1]DATA!$K$1:$K$65536,A16)","v":{"$error":"#VALUE!"}}]
["IT AS DMS",{"$f":"COUNTIF([1]DATA!$K$1:$K$65536,A17)","v":{"$error":"#VALUE!"}}]
["IT AS Multicash",{"$f":"COUNTIF([1]DATA!$K$1:$K$65536,A18)","v":{"$error":"#VALUE!"}}]
["IT AS DSA",{"$f":"COUNTIF([1]DATA!$K$1:$K$65536,A19)","v":{"$error":"#VALUE!"}}]
["GATE_LOAD",{"$f":"COUNTIF([1]DATA!$K$1:$K$65536,A20)","v":{"$error":"#VALUE!"}}]
["IT AS APS Loan HUB",{"$f":"COUNTIF([1]DATA!$K$1:$K$65536,A21)","v":{"$error":"#VALUE!"}}]
["IT AS Globus TB",{"$f":"COUNTIF([1]DATA!$K$1:$K$65536,A22)","v":{"$error":"#VALUE!"}}]
["IT AS Kampane",{"$f":"COUNTIF([1]DATA!$K$1:$K$65536,A23)","v":{"$error":"#VALUE!"}}]
["IT AS Internet banking - Smartphone",{"$f":"COUNTIF([1]DATA!$K$1:$K$65536,A24)","v":{"$error":"#VALUE!"}}]
["IT AS Business banking",{"$f":"COUNTIF([1]DATA!$K$1:$K$65536,A25)","v":{"$error":"#VALUE!"}}]
["SUBOROVE_SLUZBY",{"$f":"COUNTIF([1]DATA!$K$1:$K$65536,A26)","v":{"$error":"#VALUE!"}}]
["IT AS CBL",{"$f":"COUNTIF([1]DATA!$K$1:$K$65536,A27)","v":{"$error":"#VALUE!"}}]
["IT AS Globus TAM",{"$f":"COUNTIF([1]DATA!$K$1:$K$65536,A28)","v":{"$error":"#VALUE!"}}]
["IT AS Cognos",{"$f":"COUNTIF([1]DATA!$K$1:$K$65536,A29)","v":{"$error":"#VALUE!"}}]
["IT EUS Citrix App",{"$f":"COUNTIF([1]DATA!$K$1:$K$65536,A30)","v":{"$error":"#VALUE!"}}]
["IT AS Tabis",{"$f":"COUNTIF([1]DATA!$K$1:$K$65536,A31)","v":{"$error":"#VALUE!"}}]
["IT AS Collections",{"$f":"COUNTIF([1]DATA!$K$1:$K$65536,A32)","v":{"$error":"#VALUE!"}}]
["IT EUS Citrix TB Pobocky",{"$f":"COUNTIF([1]DATA!$K$1:$K$65536,A33)","v":{"$error":"#VALUE!"}}]
["IT AS Intranet",{"$f":"COUNTIF([1]DATA!$K$1:$K$65536,A34)","v":{"$error":"#VALUE!"}}]
["IT AS UPI",{"$f":"COUNTIF([1]DATA!$K$1:$K$65536,A35)","v":{"$error":"#VALUE!"}}]
["IT AS Podnety a staznosti",{"$f":"COUNTIF([1]DATA!$K$1:$K$65536,A36)","v":{"$error":"#VALUE!"}}]
["IT AS Credit navigator TB",{"$f":"COUNTIF([1]DATA!$K$1:$K$65536,A37)","v":{"$error":"#VALUE!"}}]
["IT AS PTS",{"$f":"COUNTIF([1]DATA!$K$1:$K$65536,A38)","v":{"$error":"#VALUE!"}}]
["IT AS Call centrum",{"$f":"COUNTIF([1]DATA!$K$1:$K$65536,A39)","v":{"$error":"#VALUE!"}}]
["IT AS Viamo",{"$f":"COUNTIF([1]DATA!$K$1:$K$65536,A40)","v":{"$error":"#VALUE!"}}]
["IT AS Identity Management",{"$f":"COUNTIF([1]DATA!$K$1:$K$65536,A41)","v":{"$error":"#VALUE!"}}]
["IT AS WEB RB",{"$f":"COUNTIF([1]DATA!$K$1:$K$65536,A42)","v":{"$error":"#VALUE!"}}]
["Sietove pripojenie",{"$f":"COUNTIF([1]DATA!$K$1:$K$65536,A43)","v":{"$error":"#VALUE!"}}]
["IT AS Invest",{"$f":"COUNTIF([1]DATA!$K$1:$K$65536,A44)","v":{"$error":"#VALUE!"}}]
["Sun Load",{"$f":"COUNTIF([1]DATA!$K$1:$K$65536,A45)","v":{"$error":"#VALUE!"}}]
["VOICE_NETWORK",{"$f":"COUNTIF([1]DATA!$K$1:$K$65536,A46)","v":{"$error":"#VALUE!"}}]
["MIDAS+_COB",{"$f":"COUNTIF([1]DATA!$K$1:$K$65536,A47)","v":{"$error":"#VALUE!"}}]
["IT AS e-Procurement",{"$f":"COUNTIF([1]DATA!$K$1:$K$65536,A48)","v":{"$error":"#VALUE!"}}]
["IT AS Likvidna a devizova pozicia banky",{"$f":"COUNTIF([1]DATA!$K$1:$K$65536,A49)","v":{"$error":"#VALUE!"}}]
["IT EUS IP Phone Basic",{"$f":"COUNTIF([1]DATA!$K$1:$K$65536,A50)","v":{"$error":"#VALUE!"}}]
["IT AS PayPortal",{"$f":"COUNTIF([1]DATA!$K$1:$K$65536,A51)","v":{"$error":"#VALUE!"}}]
["IT EUS Citrix Dialog",{"$f":"COUNTIF([1]DATA!$K$1:$K$65536,A52)","v":{"$error":"#VALUE!"}}]
["IT EUS Citrix Centrala",{"$f":"COUNTIF([1]DATA!$K$1:$K$65536,A53)","v":{"$error":"#VALUE!"}}]
["IT AS Globus DDS",{"$f":"COUNTIF([1]DATA!$K$1:$K$65536,A54)","v":{"$error":"#VALUE!"}}]
["IT AS GPP - Zahranicny platobny styk",{"$f":"COUNTIF([1]DATA!$K$1:$K$65536,A55)","v":{"$error":"#VALUE!"}}]
["IT EUS Citrix SC Presov",{"$f":"COUNTIF([1]DATA!$K$1:$K$65536,A56)","v":{"$error":"#VALUE!"}}]
["IT AS Scan Center EXE",{"$f":"COUNTIF([1]DATA!$K$1:$K$65536,A57)","v":{"$error":"#VALUE!"}}]
["GLOBUS_TB_COB",{"$f":"COUNTIF([1]DATA!$K$1:$K$65536,A58)","v":{"$error":"#VALUE!"}}]
["IT AS SAP",{"$f":"COUNTIF([1]DATA!$K$1:$K$65536,A59)","v":{"$error":"#VALUE!"}}]
["IT AS IFCA",{"$f":"COUNTIF([1]DATA!$K$1:$K$65536,A60)","v":{"$error":"#VALUE!"}}]
["IT AS Elektronicke datove schranky",{"$f":"COUNTIF([1]DATA!$K$1:$K$65536,A61)","v":{"$error":"#VALUE!"}}]
["IT AS Bmail",{"$f":"COUNTIF([1]DATA!$K$1:$K$65536,A62)","v":{"$error":"#VALUE!"}}]
["Intranet+ (modul PACOL)",{"$f":"COUNTIF([1]DATA!$K$1:$K$65536,A63)","v":{"$error":"#VALUE!"}}]
["IT EUS LAN/WAN Device Connection for Branch",{"$f":"COUNTIF([1]DATA!$K$1:$K$65536,A64)","v":{"$error":"#VALUE!"}}]
["IT AS InternetBanking RB",{"$f":"COUNTIF([1]DATA!$K$1:$K$65536,A65)","v":{"$error":"#VALUE!"}}]
["IT AS Spracovanie platobnych prikazov",{"$f":"COUNTIF([1]DATA!$K$1:$K$65536,A66)","v":{"$error":"#VALUE!"}}]
["IT AS Service Desk - TSRM",{"$f":"COUNTIF([1]DATA!$K$1:$K$65536,A67)","v":{"$error":"#VALUE!"}}]
["IT AS SBB",{"$f":"COUNTIF([1]DATA!$K$1:$K$65536,A68)","v":{"$error":"#VALUE!"}}]
["IT AS Collateral",{"$f":"COUNTIF([1]DATA!$K$1:$K$65536,A69)","v":{"$error":"#VALUE!"}}]
["IT AS InfoPortal",{"$f":"COUNTIF([1]DATA!$K$1:$K$65536,A70)","v":{"$error":"#VALUE!"}}]
["IT AS Scan Center",{"$f":"COUNTIF([1]DATA!$K$1:$K$65536,A71)","v":{"$error":"#VALUE!"}}]
["IT TS Sharepoint",{"$f":"COUNTIF([1]DATA!$K$1:$K$65536,A72)","v":{"$error":"#VALUE!"}}]
["IT AS APS Restrukturalizacia retailovych uverov",{"$f":"COUNTIF([1]DATA!$K$1:$K$65536,A73)","v":{"$error":"#VALUE!"}}]
["IT AS Kurzovy listok",{"$f":"COUNTIF([1]DATA!$K$1:$K$65536,A74)","v":{"$error":"#VALUE!"}}]
["IT AS SIPS - Domaci platobny styk",{"$f":"COUNTIF([1]DATA!$K$1:$K$65536,A75)","v":{"$error":"#VALUE!"}}]
["IT AS Rule engine",{"$f":"COUNTIF([1]DATA!$K$1:$K$65536,A76)","v":{"$error":"#VALUE!"}}]
["IT AS Brain2/Kamakura",{"$f":"COUNTIF([1]DATA!$K$1:$K$65536,A77)","v":{"$error":"#VALUE!"}}]
["IT AS Internetove platobne terminaly",{"$f":"COUNTIF([1]DATA!$K$1:$K$65536,A78)","v":{"$error":"#VALUE!"}}]
["IT AS LeasIt",{"$f":"COUNTIF([1]DATA!$K$1:$K$65536,A79)","v":{"$error":"#VALUE!"}}]
["IT EUS Home and Shared Folders",{"$f":"COUNTIF([1]DATA!$K$1:$K$65536,A80)","v":{"$error":"#VALUE!"}}]
["IT EUS Citrix RB Pobocky",{"$f":"COUNTIF([1]DATA!$K$1:$K$65536,A81)","v":{"$error":"#VALUE!"}}]
["Cashomat_Global",{"$f":"COUNTIF([1]DATA!$K$1:$K$65536,A82)","v":{"$error":"#VALUE!"}}]
["IT AS Account Processor",{"$f":"COUNTIF([1]DATA!$K$1:$K$65536,A83)","v":{"$error":"#VALUE!"}}]
["IT AS Mobil Pay",{"$f":"COUNTIF([1]DATA!$K$1:$K$65536,A84)","v":{"$error":"#VALUE!"}}]
["IT AS SrProcRB",{"$f":"COUNTIF([1]DATA!$K$1:$K$65536,A85)","v":{"$error":"#VALUE!"}}]
["IT AS Cashomat",{"$f":"COUNTIF([1]DATA!$K$1:$K$65536,A86)","v":{"$error":"#VALUE!"}}]
["IT EUS Citrix TL",{"$f":"COUNTIF([1]DATA!$K$1:$K$65536,A87)","v":{"$error":"#VALUE!"}}]
["IT AS DDS Portal",{"$f":"COUNTIF([1]DATA!$K$1:$K$65536,A88)","v":{"$error":"#VALUE!"}}]
["DEVON_COB",{"$f":"COUNTIF([1]DATA!$K$1:$K$65536,A89)","v":{"$error":"#VALUE!"}}]
["IT AS Sprava akcii TB (EVE)",{"$f":"COUNTIF([1]DATA!$K$1:$K$65536,A90)","v":{"$error":"#VALUE!"}}]
["IT AS Autopozicovna Commander",{"$f":"COUNTIF([1]DATA!$K$1:$K$65536,A91)","v":{"$error":"#VALUE!"}}]
["MKI",{"$f":"COUNTIF([1]DATA!$K$1:$K$65536,A92)","v":{"$error":"#VALUE!"}}]
["COLLECTIONS_COB",{"$f":"COUNTIF([1]DATA!$K$1:$K$65536,A93)","v":{"$error":"#VALUE!"}}]
["ECOMMERCE",{"$f":"COUNTIF([1]DATA!$K$1:$K$65536,A94)","v":{"$error":"#VALUE!"}}]
["IT AS Fraud Case Management",{"$f":"COUNTIF([1]DATA!$K$1:$K$65536,A95)","v":{"$error":"#VALUE!"}}]
["IT TS LAN RPC",{"$f":"COUNTIF([1]DATA!$K$1:$K$65536,A96)","v":{"$error":"#VALUE!"}}]
["IT AS Devon",{"$f":"COUNTIF([1]DATA!$K$1:$K$65536,A97)","v":{"$error":"#VALUE!"}}]
["IT AS Integracia s MKI",{"$f":"COUNTIF([1]DATA!$K$1:$K$65536,A98)","v":{"$error":"#VALUE!"}}]
["GateGlobal",{"$f":"COUNTIF([1]DATA!$K$1:$K$65536,A99)","v":{"$error":"#VALUE!"}}]
["IT AS Mail a kalendar",{"$f":"COUNTIF([1]DATA!$K$1:$K$65536,A100)","v":{"$error":"#VALUE!"}}]
["IT AS LN aplikacie",{"$f":"COUNTIF([1]DATA!$K$1:$K$65536,A101)","v":{"$error":"#VALUE!"}}]
["IT TS LAN TB",{"$f":"COUNTIF([1]DATA!$K$1:$K$65536,A102)","v":{"$error":"#VALUE!"}}]
["GLOBUS_DDS_COB",{"$f":"COUNTIF([1]DATA!$K$1:$K$65536,A103)","v":{"$error":"#VALUE!"}}]
["IT AS VAKUP",{"$f":"COUNTIF([1]DATA!$K$1:$K$65536,A104)","v":{"$error":"#VALUE!"}}]
["DWH_REPORTS",{"$f":"COUNTIF([1]DATA!$K$1:$K$65536,A105)","v":{"$error":"#VALUE!"}}]
["IT EUS Kurzova tabula",{"$f":"COUNTIF([1]DATA!$K$1:$K$65536,A106)","v":{"$error":"#VALUE!"}}]
["IT TS Microweby",{"$f":"COUNTIF([1]DATA!$K$1:$K$65536,A107)","v":{"$error":"#VALUE!"}}]
["IT AS Fraud Detection Engine",{"$f":"COUNTIF([1]DATA!$K$1:$K$65536,A108)","v":{"$error":"#VALUE!"}}]
["IT AS ILLP a WO Strategy",{"$f":"COUNTIF([1]DATA!$K$1:$K$65536,A109)","v":{"$error":"#VALUE!"}}]
["IT AS Web DDS",{"$f":"COUNTIF([1]DATA!$K$1:$K$65536,A110)","v":{"$error":"#VALUE!"}}]
["MULTICASH_TRANSFER_DDS",{"$f":"COUNTIF([1]DATA!$K$1:$K$65536,A111)","v":{"$error":"#VALUE!"}}]
["CBS_TB_eCMSS",{"$f":"COUNTIF([1]DATA!$K$1:$K$65536,A112)","v":{"$error":"#VALUE!"}}]
["IT AS TRAP",{"$f":"COUNTIF([1]DATA!$K$1:$K$65536,A113)","v":{"$error":"#VALUE!"}}]
["IT AS FAT (Financial Advisory Tool)",{"$f":"COUNTIF([1]DATA!$K$1:$K$65536,A114)","v":{"$error":"#VALUE!"}}]
["IT TS Voice recording Zoom",{"$f":"COUNTIF([1]DATA!$K$1:$K$65536,A115)","v":{"$error":"#VALUE!"}}]
["IT AS Open banking TB",{"$f":"COUNTIF([1]DATA!$K$1:$K$65536,A116)","v":{"$error":"#VALUE!"}}]
["IT AS Spracovanie odpisov a pohladavok",{"$f":"COUNTIF([1]DATA!$K$1:$K$65536,A117)","v":{"$error":"#VALUE!"}}]
["IT TS New Citrix RPC",{"$f":"COUNTIF([1]DATA!$K$1:$K$65536,A118)","v":{"$error":"#VALUE!"}}]
["IT AS On-line otvaranie uctov",{"$f":"COUNTIF([1]DATA!$K$1:$K$65536,A119)","v":{"$error":"#VALUE!"}}]
["IT AS iDeal",{"$f":"COUNTIF([1]DATA!$K$1:$K$65536,A120)","v":{"$error":"#VALUE!"}}]
["IT AS TRAM",{"$f":"COUNTIF([1]DATA!$K$1:$K$65536,A121)","v":{"$error":"#VALUE!"}}]
["IT AS Portfolio reporting",{"$f":"COUNTIF([1]DATA!$K$1:$K$65536,A122)","v":{"$error":"#VALUE!"}}]
["IT EUS Mobile Iron",{"$f":"COUNTIF([1]DATA!$K$1:$K$65536,A123)","v":{"$error":"#VALUE!"}}]
["IT AS Reporting NBS",{"$f":"COUNTIF([1]DATA!$K$1:$K$65536,A124)","v":{"$error":"#VALUE!"}}]
["IT AS Web TL",{"$f":"COUNTIF([1]DATA!$K$1:$K$65536,A125)","v":{"$error":"#VALUE!"}}]
["ODS_PLUGINS",{"$f":"COUNTIF([1]DATA!$K$1:$K$65536,A126)","v":{"$error":"#VALUE!"}}]
["IT AS Crisp",{"$f":"COUNTIF([1]DATA!$K$1:$K$65536,A127)","v":{"$error":"#VALUE!"}}]
["Registratúrne stredisko",{"$f":"COUNTIF([1]DATA!$K$1:$K$65536,A128)","v":{"$error":"#VALUE!"}}]
["Reportingové Centrum",{"$f":"COUNTIF([1]DATA!$K$1:$K$65536,A129)","v":{"$error":"#VALUE!"}}]
["GLOBUS_TAM_COB",{"$f":"COUNTIF([1]DATA!$K$1:$K$65536,A130)","v":{"$error":"#VALUE!"}}]
["IT TS AnyConnect",{"$f":"COUNTIF([1]DATA!$K$1:$K$65536,A131)","v":{"$error":"#VALUE!"}}]
["IT TS Facility - Neplánovaný výpadok",{"$f":"COUNTIF([1]DATA!$K$1:$K$65536,A132)","v":{"$error":"#VALUE!"}}]
["IT EUS Shared Print, Copy and Scan",{"$f":"COUNTIF([1]DATA!$K$1:$K$65536,A133)","v":{"$error":"#VALUE!"}}]
["IT AS POS",{"$f":"COUNTIF([1]DATA!$K$1:$K$65536,A134)","v":{"$error":"#VALUE!"}}]
["IT AS Mobile Private Banking",{"$f":"COUNTIF([1]DATA!$K$1:$K$65536,A135)","v":{"$error":"#VALUE!"}}]
["IT EUS Brand-wall",{"$f":"COUNTIF([1]DATA!$K$1:$K$65536,A136)","v":{"$error":"#VALUE!"}}]
["IT TS MSOffice365",{"$f":"COUNTIF([1]DATA!$K$1:$K$65536,A137)","v":{"$error":"#VALUE!"}}]
["IT AS Subject Register",{"$f":"COUNTIF([1]DATA!$K$1:$K$65536,A138)","v":{"$error":"#VALUE!"}}]
["IT AS ATM",{"$f":"COUNTIF([1]DATA!$K$1:$K$65536,A139)","v":{"$error":"#VALUE!"}}]
["IT TS Služby konektivity WAN, DC, Visa, Mastercard",{"$f":"COUNTIF([1]DATA!$K$1:$K$65536,A140)","v":{"$error":"#VALUE!"}}]
["IT AS Web TAM",{"$f":"COUNTIF([1]DATA!$K$1:$K$65536,A141)","v":{"$error":"#VALUE!"}}]
["IT AS Reuters",{"$f":"COUNTIF([1]DATA!$K$1:$K$65536,A142)","v":{"$error":"#VALUE!"}}]
["IT AS Konkurzy",{"$f":"COUNTIF([1]DATA!$K$1:$K$65536,A143)","v":{"$error":"#VALUE!"}}]
["IT TS Služby Service desku",{"$f":"COUNTIF([1]DATA!$K$1:$K$65536,A144)","v":{"$error":"#VALUE!"}}]
["IT AS Burza cennych papierov",{"$f":"COUNTIF([1]DATA!$K$1:$K$65536,A145)","v":{"$error":"#VALUE!"}}]
["IT AS MARK IV",{"$f":"COUNTIF([1]DATA!$K$1:$K$65536,A146)","v":{"$error":"#VALUE!"}}]
["IT TS WebEx",{"$f":"COUNTIF([1]DATA!$K$1:$K$65536,A147)","v":{"$error":"#VALUE!"}}]
["ORA_BSU_LOANS",{"$f":"COUNTIF([1]DATA!$K$1:$K$65536,A148)","v":{"$error":"#VALUE!"}}]
["IT AS Credit navigator TL",{"$f":"COUNTIF([1]DATA!$K$1:$K$65536,A149)","v":{"$error":"#VALUE!"}}]
["GEMINI",{"$f":"COUNTIF([1]DATA!$K$1:$K$65536,A150)","v":{"$error":"#VALUE!"}}]
["CPIP",{"$f":"COUNTIF([1]DATA!$K$1:$K$65536,A151)","v":{"$error":"#VALUE!"}}]
["COLLECTIONS_LATE_END_COB_8:00",{"$f":"COUNTIF([1]DATA!$K$1:$K$65536,A152)","v":{"$error":"#VALUE!"}}]
["DDS_FRONTEND",{"$f":"COUNTIF([1]DATA!$K$1:$K$65536,A153)","v":{"$error":"#VALUE!"}}]
["IT AS ORA Tamix",{"$f":"COUNTIF([1]DATA!$K$1:$K$65536,A154)","v":{"$error":"#VALUE!"}}]
["IT EUS Microsoft Office SW 2016",{"$f":"COUNTIF([1]DATA!$K$1:$K$65536,A155)","v":{"$error":"#VALUE!"}}]
["IT TS ZUNODB",{"$f":"COUNTIF([1]DATA!$K$1:$K$65536,A156)","v":{"$error":"#VALUE!"}}]
["IT EUS Oznamova tabula",{"$f":"COUNTIF([1]DATA!$K$1:$K$65536,A157)","v":{"$error":"#VALUE!"}}]
["IT AS TBG Security WEBs",{"$f":"COUNTIF([1]DATA!$K$1:$K$65536,A158)","v":{"$error":"#VALUE!"}}]
["IT AS mDSA_mobilná aplikácia",{"$f":"COUNTIF([1]DATA!$K$1:$K$65536,A159)","v":{"$error":"#VALUE!"}}]
["IT TS VMWare farma",{"$f":"COUNTIF([1]DATA!$K$1:$K$65536,A160)","v":{"$error":"#VALUE!"}}]
["IT AS RPA - Robot process automation",{"$f":"COUNTIF([1]DATA!$K$1:$K$65536,A161)","v":{"$error":"#VALUE!"}}]
["IT AS DDP IS Pokoj",{"$f":"COUNTIF([1]DATA!$K$1:$K$65536,A162)","v":{"$error":"#VALUE!"}}]
["IT TS Facility - Plánovaný výpadok",{"$f":"COUNTIF([1]DATA!$K$1:$K$65536,A163)","v":{"$error":"#VALUE!"}}]
["IT TS DevOps",{"$f":"COUNTIF([1]DATA!$K$1:$K$65536,A164)","v":{"$error":"#VALUE!"}}]
["IT AS BBTB",{"$f":"COUNTIF([1]DATA!$K$1:$K$65536,A165)","v":{"$error":"#VALUE!"}}]
["IT TS Hosting PC pre Vzdialeny pristup von",{"$f":"COUNTIF([1]DATA!$K$1:$K$65536,A166)","v":{"$error":"#VALUE!"}}]
["IT AS Ciselniky",{"$f":"COUNTIF([1]DATA!$K$1:$K$65536,A167)","v":{"$error":"#VALUE!"}}]
["IT AS MQC",{"$f":"COUNTIF([1]DATA!$K$1:$K$65536,A168)","v":{"$error":"#VALUE!"}}]
["AS400Payments",{"$f":"COUNTIF([1]DATA!$K$1:$K$65536,A169)","v":{"$error":"#VALUE!"}}]
["DCC",{"$f":"COUNTIF([1]DATA!$K$1:$K$65536,A170)","v":{"$error":"#VALUE!"}}]
["CrispNorkom",{"$f":"COUNTIF([1]DATA!$K$1:$K$65536,A171)","v":{"$error":"#VALUE!"}}]
["AS400CardTransactions",{"$f":"COUNTIF([1]DATA!$K$1:$K$65536,A172)","v":{"$error":"#VALUE!"}}]
["ACTIVE_DIRECTORY",{"$f":"COUNTIF([1]DATA!$K$1:$K$65536,A173)","v":{"$error":"#VALUE!"}}]
["MIDDLEWARE",{"$f":"COUNTIF([1]DATA!$K$1:$K$65536,A174)","v":{"$error":"#VALUE!"}}]
["Rapid Application Development",{"$f":"COUNTIF([1]DATA!$K$1:$K$65536,A175)","v":{"$error":"#VALUE!"}}]
["IT AS VersionOne",{"$f":"COUNTIF([1]DATA!$K$1:$K$65536,A176)","v":{"$error":"#VALUE!"}}]
["FIS",{"$f":"COUNTIF([1]DATA!$K$1:$K$65536,A177)","v":{"$error":"#VALUE!"}}]
["MisysMessageManager",{"$f":"COUNTIF([1]DATA!$K$1:$K$65536,A178)","v":{"$error":"#VALUE!"}}]
["IT AS FISA",{"$f":"COUNTIF([1]DATA!$K$1:$K$65536,A179)","v":{"$error":"#VALUE!"}}]
["IT AS Analytical CRM",{"$f":"COUNTIF([1]DATA!$K$1:$K$65536,A180)","v":{"$error":"#VALUE!"}}]
["MW_APP",{"$f":"COUNTIF([1]DATA!$K$1:$K$65536,A181)","v":{"$error":"#VALUE!"}}]
["IT TS Vidyo",{"$f":"COUNTIF([1]DATA!$K$1:$K$65536,A182)","v":{"$error":"#VALUE!"}}]
["IT AS Scoring TL",{"$f":"COUNTIF([1]DATA!$K$1:$K$65536,A183)","v":{"$error":"#VALUE!"}}]
["APS Tatra Leasing",{"$f":"COUNTIF([1]DATA!$K$1:$K$65536,A184)","v":{"$error":"#VALUE!"}}]
["IT TS Sharepoint TL",{"$f":"COUNTIF([1]DATA!$K$1:$K$65536,A185)","v":{"$error":"#VALUE!"}}]
["IT AS Podnikova encyklopedia",{"$f":"COUNTIF([1]DATA!$K$1:$K$65536,A186)","v":{"$error":"#VALUE!"}}]
["IT AS Bank Assurance",{"$f":"COUNTIF([1]DATA!$K$1:$K$65536,A187)","v":{"$error":"#VALUE!"}}]
["TLACOVE_SLUZBY",{"$f":"COUNTIF([1]DATA!$K$1:$K$65536,A188)","v":{"$error":"#VALUE!"}}]
["IT AS Bloomberg",{"$f":"COUNTIF([1]DATA!$K$1:$K$65536,A189)","v":{"$error":"#VALUE!"}}]
["TELEPLATBA_eCMS",{"$f":"COUNTIF([1]DATA!$K$1:$K$65536,A190)","v":{"$error":"#VALUE!"}}]
["FDS",{"$f":"COUNTIF([1]DATA!$K$1:$K$65536,A191)","v":{"$error":"#VALUE!"}}]
[null,{"$f":"COUNTIF([1]DATA!$K$1:$K$65536,A192)","v":{"$error":"#VALUE!"}}]
[null,{"$f":"COUNTIF([1]DATA!$K$1:$K$65536,A193)","v":{"$error":"#VALUE!"}}]
[null,{"$f":"COUNTIF([1]DATA!$K$1:$K$65536,A194)","v":{"$error":"#VALUE!"}}]
[null,{"$f":"COUNTIF([1]DATA!$K$1:$K$65536,A195)","v":{"$error":"#VALUE!"}}]
[null,{"$f":"COUNTIF([1]DATA!$K$1:$K$65536,A196)","v":{"$error":"#VALUE!"}}]
[null,{"$f":"COUNTIF([1]DATA!$K$1:$K$65536,A197)","v":{"$error":"#VALUE!"}}]
[null,{"$f":"COUNTIF([1]DATA!$K$1:$K$65536,A198)","v":{"$error":"#VALUE!"}}]
[null,{"$f":"COUNTIF([1]DATA!$K$1:$K$65536,A199)","v":{"$error":"#VALUE!"}}]
[null,{"$f":"COUNTIF([1]DATA!$K$1:$K$65536,A200)","v":{"$error":"#VALUE!"}}]
[null,{"$f":"COUNTIF([1]DATA!$K$1:$K$65536,A201)","v":{"$error":"#VALUE!"}}]

{"sheet":"IN 2018 pom","index":2,"n_rows":3700,"n_cols":8,"rows_kept":3700,"cut":false,"hidden":true,"merged":[]}
["Service","Priorita","IN","Popis","Reported date","Mesiac","Tyzden","Posledný mesiac"]
[{"$f":"IF(Data!E2=\"\",\"\",Data!E2)","v":"DESKTOP_SLUZBY"},{"$f":"IF(Data!C2=\"\",\"\",Data!C2)","v":3},{"$f":"IF(Data!A2=\"\",\"\",Data!A2)","v":1},{"$f":"IF(Data!D2=\"\",\"\",Data!D2)","v":"Nazov 1"},{"$f":"IF(Data!B2=\"\",\"\",Data!B2)","v":"2018-11-21T15:27:53.317"},{"$f":"IF(E2>0,MONTH(E2),\"\")","v":11},{"$f":"IF(E2>0,WEEKNUM(E2),\"0\")","v":47},{"$f":"IF(G2>=($G$2-3),\"Ano\",\"Nie\")","v":"Ano"}]
[{"$f":"IF(Data!E3=\"\",\"\",Data!E3)","v":"IT AS Operational CRM"},{"$f":"IF(Data!C3=\"\",\"\",Data!C3)","v":2},{"$f":"IF(Data!A3=\"\",\"\",Data!A3)","v":1},{"$f":"IF(Data!D3=\"\",\"\",Data!D3)","v":"Nazov 2"},{"$f":"IF(Data!B3=\"\",\"\",Data!B3)","v":"2018-11-21T15:26:36.645"},{"$f":"IF(E3>0,MONTH(E3),\"\")","v":11},{"$f":"IF(E3>0,WEEKNUM(E3),\"0\")","v":47},{"$f":"IF(G3>=($G$2-3),\"Ano\",\"Nie\")","v":"Ano"}]
[{"$f":"IF(Data!E4=\"\",\"\",Data!E4)","v":"DESKTOP_SLUZBY"},{"$f":"IF(Data!C4=\"\",\"\",Data!C4)","v":3},{"$f":"IF(Data!A4=\"\",\"\",Data!A4)","v":1},{"$f":"IF(Data!D4=\"\",\"\",Data!D4)","v":"Nazov 3"},{"$f":"IF(Data!B4=\"\",\"\",Data!B4)","v":"2018-11-21T15:21:32.644"},11,47,"Ano"]
[{"$f":"IF(Data!E5=\"\",\"\",Data!E5)","v":"IT AS Internet banking"},{"$f":"IF(Data!C5=\"\",\"\",Data!C5)","v":2},{"$f":"IF(Data!A5=\"\",\"\",Data!A5)","v":1},{"$f":"IF(Data!D5=\"\",\"\",Data!D5)","v":"Nazov 4"},{"$f":"IF(Data!B5=\"\",\"\",Data!B5)","v":"2018-11-21T15:19:08.550"},11,47,"Ano"]
[{"$f":"IF(Data!E6=\"\",\"\",Data!E6)","v":"DESKTOP_SLUZBY"},{"$f":"IF(Data!C6=\"\",\"\",Data!C6)","v":3},{"$f":"IF(Data!A6=\"\",\"\",Data!A6)","v":1},{"$f":"IF(Data!D6=\"\",\"\",Data!D6)","v":"Nazov 5"},{"$f":"IF(Data!B6=\"\",\"\",Data!B6)","v":"2018-11-21T15:02:23.093"},11,47,"Ano"]
[{"$f":"IF(Data!E7=\"\",\"\",Data!E7)","v":"IT AS Web TB"},{"$f":"IF(Data!C7=\"\",\"\",Data!C7)","v":3},{"$f":"IF(Data!A7=\"\",\"\",Data!A7)","v":1},{"$f":"IF(Data!D7=\"\",\"\",Data!D7)","v":"Nazov 6"},{"$f":"IF(Data!B7=\"\",\"\",Data!B7)","v":"2018-11-21T14:23:14.579"},11,47,"Ano"]
[{"$f":"IF(Data!E8=\"\",\"\",Data!E8)","v":"IT AS IFCA"},{"$f":"IF(Data!C8=\"\",\"\",Data!C8)","v":2},{"$f":"IF(Data!A8=\"\",\"\",Data!A8)","v":1},{"$f":"IF(Data!D8=\"\",\"\",Data!D8)","v":"Nazov 7"},{"$f":"IF(Data!B8=\"\",\"\",Data!B8)","v":"2018-11-21T14:11:56.730"},11,47,"Ano"]
[{"$f":"IF(Data!E9=\"\",\"\",Data!E9)","v":"IT AS Operational CRM"},{"$f":"IF(Data!C9=\"\",\"\",Data!C9)","v":3},{"$f":"IF(Data!A9=\"\",\"\",Data!A9)","v":1},{"$f":"IF(Data!D9=\"\",\"\",Data!D9)","v":"Nazov 8"},{"$f":"IF(Data!B9=\"\",\"\",Data!B9)","v":"2018-11-21T13:58:52.619"},11,47,"Ano"]
[{"$f":"IF(Data!E10=\"\",\"\",Data!E10)","v":"DESKTOP_SLUZBY"},{"$f":"IF(Data!C10=\"\",\"\",Data!C10)","v":3},{"$f":"IF(Data!A10=\"\",\"\",Data!A10)","v":1},{"$f":"IF(Data!D10=\"\",\"\",Data!D10)","v":"Nazov 9"},{"$f":"IF(Data!B10=\"\",\"\",Data!B10)","v":"2018-11-21T12:28:07.100"},11,47,"Ano"]
[{"$f":"IF(Data!E11=\"\",\"\",Data!E11)","v":"IT EUS Notebook"},{"$f":"IF(Data!C11=\"\",\"\",Data!C11)","v":3},{"$f":"IF(Data!A11=\"\",\"\",Data!A11)","v":1},{"$f":"IF(Data!D11=\"\",\"\",Data!D11)","v":"Nazov 10"},{"$f":"IF(Data!B11=\"\",\"\",Data!B11)","v":"2018-11-21T11:56:18.823"},11,47,"Ano"]
[{"$f":"IF(Data!E12=\"\",\"\",Data!E12)","v":"IT AS Gate"},{"$f":"IF(Data!C12=\"\",\"\",Data!C12)","v":2},{"$f":"IF(Data!A12=\"\",\"\",Data!A12)","v":1},{"$f":"IF(Data!D12=\"\",\"\",Data!D12)","v":"Nazov 11"},{"$f":"IF(Data!B12=\"\",\"\",Data!B12)","v":"2018-11-21T11:27:57.560"},11,47,"Ano"]
[{"$f":"IF(Data!E13=\"\",\"\",Data!E13)","v":"IT AS Spracovanie platobnych prikazov"},{"$f":"IF(Data!C13=\"\",\"\",Data!C13)","v":2},{"$f":"IF(Data!A13=\"\",\"\",Data!A13)","v":1},{"$f":"IF(Data!D13=\"\",\"\",Data!D13)","v":"Nazov 12"},{"$f":"IF(Data!B13=\"\",\"\",Data!B13)","v":"2018-11-21T11:10:37.463"},11,47,"Ano"]
[{"$f":"IF(Data!E14=\"\",\"\",Data!E14)","v":"IT AS Kampane"},{"$f":"IF(Data!C14=\"\",\"\",Data!C14)","v":3},{"$f":"IF(Data!A14=\"\",\"\",Data!A14)","v":1},{"$f":"IF(Data!D14=\"\",\"\",Data!D14)","v":"Nazov 13"},{"$f":"IF(Data!B14=\"\",\"\",Data!B14)","v":"2018-11-21T10:16:50.407"},11,47,"Ano"]
[{"$f":"IF(Data!E15=\"\",\"\",Data!E15)","v":"DESKTOP_SLUZBY"},{"$f":"IF(Data!C15=\"\",\"\",Data!C15)","v":3},{"$f":"IF(Data!A15=\"\",\"\",Data!A15)","v":1},{"$f":"IF(Data!D15=\"\",\"\",Data!D15)","v":"Nazov 14"},{"$f":"IF(Data!B15=\"\",\"\",Data!B15)","v":"2018-11-21T10:05:25.512"},11,47,"Ano"]
[{"$f":"IF(Data!E16=\"\",\"\",Data!E16)","v":"IT AS DWH"},{"$f":"IF(Data!C16=\"\",\"\",Data!C16)","v":2},{"$f":"IF(Data!A16=\"\",\"\",Data!A16)","v":1},{"$f":"IF(Data!D16=\"\",\"\",Data!D16)","v":"Nazov 15"},{"$f":"IF(Data!B16=\"\",\"\",Data!B16)","v":"2018-11-21T09:55:42.387"},11,47,"Ano"]
[{"$f":"IF(Data!E17=\"\",\"\",Data!E17)","v":"IT AS Loan EE"},{"$f":"IF(Data!C17=\"\",\"\",Data!C17)","v":2},{"$f":"IF(Data!A17=\"\",\"\",Data!A17)","v":1},{"$f":"IF(Data!D17=\"\",\"\",Data!D17)","v":"Nazov 16"},{"$f":"IF(Data!B17=\"\",\"\",Data!B17)","v":"2018-11-21T09:35:23.074"},11,47,"Ano"]
[{"$f":"IF(Data!E18=\"\",\"\",Data!E18)","v":"IT AS Invest"},{"$f":"IF(Data!C18=\"\",\"\",Data!C18)","v":2},{"$f":"IF(Data!A18=\"\",\"\",Data!A18)","v":1},{"$f":"IF(Data!D18=\"\",\"\",Data!D18)","v":"Nazov 17"},{"$f":"IF(Data!B18=\"\",\"\",Data!B18)","v":"2018-11-21T08:49:37.796"},11,47,"Ano"]
[{"$f":"IF(Data!E19=\"\",\"\",Data!E19)","v":"DESKTOP_SLUZBY"},{"$f":"IF(Data!C19=\"\",\"\",Data!C19)","v":3},{"$f":"IF(Data!A19=\"\",\"\",Data!A19)","v":1},{"$f":"IF(Data!D19=\"\",\"\",Data!D19)","v":"Nazov 18"},{"$f":"IF(Data!B19=\"\",\"\",Data!B19)","v":"2018-11-21T08:12:27.258"},11,47,"Ano"]
[{"$f":"IF(Data!E20=\"\",\"\",Data!E20)","v":"IT AS ODS"},{"$f":"IF(Data!C20=\"\",\"\",Data!C20)","v":2},{"$f":"IF(Data!A20=\"\",\"\",Data!A20)","v":1},{"$f":"IF(Data!D20=\"\",\"\",Data!D20)","v":"Nazov 19"},{"$f":"IF(Data!B20=\"\",\"\",Data!B20)","v":"2018-11-21T08:02:34.929"},11,47,"Ano"]
[{"$f":"IF(Data!#REF!=\"\",\"\",Data!#REF!)","v":{"$error":"#REF!"}},{"$f":"IF(Data!#REF!=\"\",\"\",Data!#REF!)","v":{"$error":"#REF!"}},{"$f":"IF(Data!#REF!=\"\",\"\",Data!#REF!)","v":{"$error":"#REF!"}},{"$f":"IF(Data!#REF!=\"\",\"\",Data!#REF!)","v":{"$error":"#REF!"}},{"$f":"IF(Data!#REF!=\"\",\"\",Data!#REF!)","v":{"$error":"#REF!"}},{"$error":"#REF!"},{"$error":"#REF!"},{"$error":"#REF!"}]
[{"$f":"IF(Data!#REF!=\"\",\"\",Data!#REF!)","v":{"$error":"#REF!"}},{"$f":"IF(Data!#REF!=\"\",\"\",Data!#REF!)","v":{"$error":"#REF!"}},{"$f":"IF(Data!#REF!=\"\",\"\",Data!#REF!)","v":{"$error":"#REF!"}},{"$f":"IF(Data!#REF!=\"\",\"\",Data!#REF!)","v":{"$error":"#REF!"}},{"$f":"IF(Data!#REF!=\"\",\"\",Data!#REF!)","v":{"$error":"#REF!"}},{"$error":"#REF!"},{"$error":"#REF!"},{"$error":"#REF!"}]
[{"$f":"IF(Data!#REF!=\"\",\"\",Data!#REF!)","v":{"$error":"#REF!"}},{"$f":"IF(Data!#REF!=\"\",\"\",Data!#REF!)","v":{"$error":"#REF!"}},{"$f":"IF(Data!#REF!=\"\",\"\",Data!#REF!)","v":{"$error":"#REF!"}},{"$f":"IF(Data!#REF!=\"\",\"\",Data!#REF!)","v":{"$error":"#REF!"}},{"$f":"IF(Data!#REF!=\"\",\"\",Data!#REF!)","v":{"$error":"#REF!"}},{"$error":"#REF!"},{"$error":"#REF!"},{"$error":"#REF!"}]
[{"$f":"IF(Data!#REF!=\"\",\"\",Data!#REF!)","v":{"$error":"#REF!"}},{"$f":"IF(Data!#REF!=\"\",\"\",Data!#REF!)","v":{"$error":"#REF!"}},{"$f":"IF(Data!#REF!=\"\",\"\",Data!#REF!)","v":{"$error":"#REF!"}},{"$f":"IF(Data!#REF!=\"\",\"\",Data!#REF!)","v":{"$error":"#REF!"}},{"$f":"IF(Data!#REF!=\"\",\"\",Data!#REF!)","v":{"$error":"#REF!"}},{"$error":"#REF!"},{"$error":"#REF!"},{"$error":"#REF!"}]
[{"$f":"IF(Data!#REF!=\"\",\"\",Data!#REF!)","v":{"$error":"#REF!"}},{"$f":"IF(Data!#REF!=\"\",\"\",Data!#REF!)","v":{"$error":"#REF!"}},{"$f":"IF(Data!#REF!=\"\",\"\",Data!#REF!)","v":{"$error":"#REF!"}},{"$f":"IF(Data!#REF!=\"\",\"\",Data!#REF!)","v":{"$error":"#REF!"}},{"$f":"IF(Data!#REF!=\"\",\"\",Data!#REF!)","v":{"$error":"#REF!"}},{"$error":"#REF!"},{"$error":"#REF!"},{"$error":"#REF!"}]
[{"$f":"IF(Data!#REF!=\"\",\"\",Data!#REF!)","v":{"$error":"#REF!"}},{"$f":"IF(Data!#REF!=\"\",\"\",Data!#REF!)","v":{"$error":"#REF!"}},{"$f":"IF(Data!#REF!=\"\",\"\",Data!#REF!)","v":{"$error":"#REF!"}},{"$f":"IF(Data!#REF!=\"\",\"\",Data!#REF!)","v":{"$error":"#REF!"}},{"$f":"IF(Data!#REF!=\"\",\"\",Data!#REF!)","v":{"$error":"#REF!"}},{"$error":"#REF!"},{"$error":"#REF!"},{"$error":"#REF!"}]
[{"$f":"IF(Data!#REF!=\"\",\"\",Data!#REF!)","v":{"$error":"#REF!"}},{"$f":"IF(Data!#REF!=\"\",\"\",Data!#REF!)","v":{"$error":"#REF!"}},{"$f":"IF(Data!#REF!=\"\",\"\",Data!#REF!)","v":{"$error":"#REF!"}},{"$f":"IF(Data!#REF!=\"\",\"\",Data!#REF!)","v":{"$error":"#REF!"}},{"$f":"IF(Data!#REF!=\"\",\"\",Data!#REF!)","v":{"$error":"#REF!"}},{"$error":"#REF!"},{"$error":"#REF!"},{"$error":"#REF!"}]
[{"$f":"IF(Data!#REF!=\"\",\"\",Data!#REF!)","v":{"$error":"#REF!"}},{"$f":"IF(Data!#REF!=\"\",\"\",Data!#REF!)","v":{"$error":"#REF!"}},{"$f":"IF(Data!#REF!=\"\",\"\",Data!#REF!)","v":{"$error":"#REF!"}},{"$f":"IF(Data!#REF!=\"\",\"\",Data!#REF!)","v":{"$error":"#REF!"}},{"$f":"IF(Data!#REF!=\"\",\"\",Data!#REF!)","v":{"$error":"#REF!"}},{"$error":"#REF!"},{"$error":"#REF!"},{"$error":"#REF!"}]
[{"$f":"IF(Data!#REF!=\"\",\"\",Data!#REF!)","v":{"$error":"#REF!"}},{"$f":"IF(Data!#REF!=\"\",\"\",Data!#REF!)","v":{"$error":"#REF!"}},{"$f":"IF(Data!#REF!=\"\",\"\",Data!#REF!)","v":{"$error":"#REF!"}},{"$f":"IF(Data!#REF!=\"\",\"\",Data!#REF!)","v":{"$error":"#REF!"}},{"$f":"IF(Data!#REF!=\"\",\"\",Data!#REF!)","v":{"$error":"#REF!"}},{"$error":"#REF!"},{"$error":"#REF!"},{"$error":"#REF!"}]
[{"$f":"IF(Data!#REF!=\"\",\"\",Data!#REF!)","v":{"$error":"#REF!"}},{"$f":"IF(Data!#REF!=\"\",\"\",Data!#REF!)","v":{"$error":"#REF!"}},{"$f":"IF(Data!#REF!=\"\",\"\",Data!#REF!)","v":{"$error":"#REF!"}},{"$f":"IF(Data!#REF!=\"\",\"\",Data!#REF!)","v":{"$error":"#REF!"}},{"$f":"IF(Data!#REF!=\"\",\"\",Data!#REF!)","v":{"$error":"#REF!"}},{"$error":"#REF!"},{"$error":"#REF!"},{"$error":"#REF!"}]
[{"$f":"IF(Data!#REF!=\"\",\"\",Data!#REF!)","v":{"$error":"#REF!"}},{"$f":"IF(Data!#REF!=\"\",\"\",Data!#REF!)","v":{"$error":"#REF!"}},{"$f":"IF(Data!#REF!=\"\",\"\",Data!#REF!)","v":{"$error":"#REF!"}},{"$f":"IF(Data!#REF!=\"\",\"\",Data!#REF!)","v":{"$error":"#REF!"}},{"$f":"IF(Data!#REF!=\"\",\"\",Data!#REF!)","v":{"$error":"#REF!"}},{"$error":"#REF!"},{"$error":"#REF!"},{"$error":"#REF!"}]
[{"$f":"IF(Data!#REF!=\"\",\"\",Data!#REF!)","v":{"$error":"#REF!"}},{"$f":"IF(Data!#REF!=\"\",\"\",Data!#REF!)","v":{"$error":"#REF!"}},{"$f":"IF(Data!#REF!=\"\",\"\",Data!#REF!)","v":{"$error":"#REF!"}},{"$f":"IF(Data!#REF!=\"\",\"\",Data!#REF!)","v":{"$error":"#REF!"}},{"$f":"IF(Data!#REF!=\"\",\"\",Data!#REF!)","v":{"$error":"#REF!"}},{"$error":"#REF!"},{"$error":"#REF!"},{"$error":"#REF!"}]
[{"$f":"IF(Data!#REF!=\"\",\"\",Data!#REF!)","v":{"$error":"#REF!"}},{"$f":"IF(Data!#REF!=\"\",\"\",Data!#REF!)","v":{"$error":"#REF!"}},{"$f":"IF(Data!#REF!=\"\",\"\",Data!#REF!)","v":{"$error":"#REF!"}},{"$f":"IF(Data!#REF!=\"\",\"\",Data!#REF!)","v":{"$error":"#REF!"}},{"$f":"IF(Data!#REF!=\"\",\"\",Data!#REF!)","v":{"$error":"#REF!"}},{"$error":"#REF!"},{"$error":"#REF!"},{"$error":"#REF!"}]
[{"$f":"IF(Data!#REF!=\"\",\"\",Data!#REF!)","v":{"$error":"#REF!"}},{"$f":"IF(Data!#REF!=\"\",\"\",Data!#REF!)","v":{"$error":"#REF!"}},{"$f":"IF(Data!#REF!=\"\",\"\",Data!#REF!)","v":{"$error":"#REF!"}},{"$f":"IF(Data!#REF!=\"\",\"\",Data!#REF!)","v":{"$error":"#REF!"}},{"$f":"IF(Data!#REF!=\"\",\"\",Data!#REF!)","v":{"$error":"#REF!"}},{"$error":"#REF!"},{"$error":"#REF!"},{"$error":"#REF!"}]
[{"$f":"IF(Data!#REF!=\"\",\"\",Data!#REF!)","v":{"$error":"#REF!"}},{"$f":"IF(Data!#REF!=\"\",\"\",Data!#REF!)","v":{"$error":"#REF!"}},{"$f":"IF(Data!#REF!=\"\",\"\",Data!#REF!)","v":{"$error":"#REF!"}},{"$f":"IF(Data!#REF!=\"\",\"\",Data!#REF!)","v":{"$error":"#REF!"}},{"$f":"IF(Data!#REF!=\"\",\"\",Data!#REF!)","v":{"$error":"#REF!"}},{"$error":"#REF!"},{"$error":"#REF!"},{"$error":"#REF!"}]
[{"$f":"IF(Data!#REF!=\"\",\"\",Data!#REF!)","v":{"$error":"#REF!"}},{"$f":"IF(Data!#REF!=\"\",\"\",Data!#REF!)","v":{"$error":"#REF!"}},{"$f":"IF(Data!#REF!=\"\",\"\",Data!#REF!)","v":{"$error":"#REF!"}},{"$f":"IF(Data!#REF!=\"\",\"\",Data!#REF!)","v":{"$error":"#REF!"}},{"$f":"IF(Data!#REF!=\"\",\"\",Data!#REF!)","v":{"$error":"#REF!"}},{"$error":"#REF!"},{"$error":"#REF!"},{"$error":"#REF!"}]
[{"$f":"IF(Data!#REF!=\"\",\"\",Data!#REF!)","v":{"$error":"#REF!"}},{"$f":"IF(Data!#REF!=\"\",\"\",Data!#REF!)","v":{"$error":"#REF!"}},{"$f":"IF(Data!#REF!=\"\",\"\",Data!#REF!)","v":{"$error":"#REF!"}},{"$f":"IF(Data!#REF!=\"\",\"\",Data!#REF!)","v":{"$error":"#REF!"}},{"$f":"IF(Data!#REF!=\"\",\"\",Data!#REF!)","v":{"$error":"#REF!"}},{"$error":"#REF!"},{"$error":"#REF!"},{"$error":"#REF!"}]
[{"$f":"IF(Data!#REF!=\"\",\"\",Data!#REF!)","v":{"$error":"#REF!"}},{"$f":"IF(Data!#REF!=\"\",\"\",Data!#REF!)","v":{"$error":"#REF!"}},{"$f":"IF(Data!#REF!=\"\",\"\",Data!#REF!)","v":{"$error":"#REF!"}},{"$f":"IF(Data!#REF!=\"\",\"\",Data!#REF!)","v":{"$error":"#REF!"}},{"$f":"IF(Data!#REF!=\"\",\"\",Data!#REF!)","v":{"$error":"#REF!"}},{"$error":"#REF!"},{"$error":"#REF!"},{"$error":"#REF!"}]
[{"$f":"IF(Data!#REF!=\"\",\"\",Data!#REF!)","v":{"$error":"#REF!"}},{"$f":"IF(Data!#REF!=\"\",\"\",Data!#REF!)","v":{"$error":"#REF!"}},{"$f":"IF(Data!#REF!=\"\",\"\",Data!#REF!)","v":{"$error":"#REF!"}},{"$f":"IF(Data!#REF!=\"\",\"\",Data!#REF!)","v":{"$error":"#REF!"}},{"$f":"IF(Data!#REF!=\"\",\"\",Data!#REF!)","v":{"$error":"#REF!"}},{"$error":"#REF!"},{"$error":"#REF!"},{"$error":"#REF!"}]
[{"$f":"IF(Data!#REF!=\"\",\"\",Data!#REF!)","v":{"$error":"#REF!"}},{"$f":"IF(Data!#REF!=\"\",\"\",Data!#REF!)","v":{"$error":"#REF!"}},{"$f":"IF(Data!#REF!=\"\",\"\",Data!#REF!)","v":{"$error":"#REF!"}},{"$f":"IF(Data!#REF!=\"\",\"\",Data!#REF!)","v":{"$error":"#REF!"}},{"$f":"IF(Data!#REF!=\"\",\"\",Data!#REF!)","v":{"$error":"#REF!"}},{"$error":"#REF!"},{"$error":"#REF!"},{"$error":"#REF!"}]
[{"$f":"IF(Data!#REF!=\"\",\"\",Data!#REF!)","v":{"$error":"#REF!"}},{"$f":"IF(Data!#REF!=\"\",\"\",Data!#REF!)","v":{"$error":"#REF!"}},{"$f":"IF(Data!#REF!=\"\",\"\",Data!#REF!)","v":{"$error":"#REF!"}},{"$f":"IF(Data!#REF!=\"\",\"\",Data!#REF!)","v":{"$error":"#REF!"}},{"$f":"IF(Data!#REF!=\"\",\"\",Data!#REF!)","v":{"$error":"#REF!"}},{"$error":"#REF!"},{"$error":"#REF!"},{"$error":"#REF!"}]
[{"$f":"IF(Data!#REF!=\"\",\"\",Data!#REF!)","v":{"$error":"#REF!"}},{"$f":"IF(Data!#REF!=\"\",\"\",Data!#REF!)","v":{"$error":"#REF!"}},{"$f":"IF(Data!#REF!=\"\",\"\",Data!#REF!)","v":{"$error":"#REF!"}},{"$f":"IF(Data!#REF!=\"\",\"\",Data!#REF!)","v":{"$error":"#REF!"}},{"$f":"IF(Data!#REF!=\"\",\"\",Data!#REF!)","v":{"$error":"#REF!"}},{"$error":"#REF!"},{"$error":"#REF!"},{"$error":"#REF!"}]
[{"$f":"IF(Data!#REF!=\"\",\"\",Data!#REF!)","v":{"$error":"#REF!"}},{"$f":"IF(Data!#REF!=\"\",\"\",Data!#REF!)","v":{"$error":"#REF!"}},{"$f":"IF(Data!#REF!=\"\",\"\",Data!#REF!)","v":{"$error":"#REF!"}},{"$f":"IF(Data!#REF!=\"\",\"\",Data!#REF!)","v":{"$error":"#REF!"}},{"$f":"IF(Data!#REF!=\"\",\"\",Data!#REF!)","v":{"$error":"#REF!"}},{"$error":"#REF!"},{"$error":"#REF!"},{"$error":"#REF!"}]
[{"$f":"IF(Data!#REF!=\"\",\"\",Data!#REF!)","v":{"$error":"#REF!"}},{"$f":"IF(Data!#REF!=\"\",\"\",Data!#REF!)","v":{"$error":"#REF!"}},{"$f":"IF(Data!#REF!=\"\",\"\",Data!#REF!)","v":{"$error":"#REF!"}},{"$f":"IF(Data!#REF!=\"\",\"\",Data!#REF!)","v":{"$error":"#REF!"}},{"$f":"IF(Data!#REF!=\"\",\"\",Data!#REF!)","v":{"$error":"#REF!"}},{"$error":"#REF!"},{"$error":"#REF!"},{"$error":"#REF!"}]
[{"$f":"IF(Data!#REF!=\"\",\"\",Data!#REF!)","v":{"$error":"#REF!"}},{"$f":"IF(Data!#REF!=\"\",\"\",Data!#REF!)","v":{"$error":"#REF!"}},{"$f":"IF(Data!#REF!=\"\",\"\",Data!#REF!)","v":{"$error":"#REF!"}},{"$f":"IF(Data!#REF!=\"\",\"\",Data!#REF!)","v":{"$error":"#REF!"}},{"$f":"IF(Data!#REF!=\"\",\"\",Data!#REF!)","v":{"$error":"#REF!"}},{"$error":"#REF!"},{"$error":"#REF!"},{"$error":"#REF!"}]
[{"$f":"IF(Data!#REF!=\"\",\"\",Data!#REF!)","v":{"$error":"#REF!"}},{"$f":"IF(Data!#REF!=\"\",\"\",Data!#REF!)","v":{"$error":"#REF!"}},{"$f":"IF(Data!#REF!=\"\",\"\",Data!#REF!)","v":{"$error":"#REF!"}},{"$f":"IF(Data!#REF!=\"\",\"\",Data!#REF!)","v":{"$error":"#REF!"}},{"$f":"IF(Data!#REF!=\"\",\"\",Data!#REF!)","v":{"$error":"#REF!"}},{"$error":"#REF!"},{"$error":"#REF!"},{"$error":"#REF!"}]
[{"$f":"IF(Data!#REF!=\"\",\"\",Data!#REF!)","v":{"$error":"#REF!"}},{"$f":"IF(Data!#REF!=\"\",\"\",Data!#REF!)","v":{"$error":"#REF!"}},{"$f":"IF(Data!#REF!=\"\",\"\",Data!#REF!)","v":{"$error":"#REF!"}},{"$f":"IF(Data!#REF!=\"\",\"\",Data!#REF!)","v":{"$error":"#REF!"}},{"$f":"IF(Data!#REF!=\"\",\"\",Data!#REF!)","v":{"$error":"#REF!"}},{"$error":"#REF!"},{"$error":"#REF!"},{"$error":"#REF!"}]
[{"$f":"IF(Data!#REF!=\"\",\"\",Data!#REF!)","v":{"$error":"#REF!"}},{"$f":"IF(Data!#REF!=\"\",\"\",Data!#REF!)","v":{"$error":"#REF!"}},{"$f":"IF(Data!#REF!=\"\",\"\",Data!#REF!)","v":{"$error":"#REF!"}},{"$f":"IF(Data!#REF!=\"\",\"\",Data!#REF!)","v":{"$error":"#REF!"}},{"$f":"IF(Data!#REF!=\"\",\"\",Data!#REF!)","v":{"$error":"#REF!"}},{"$error":"#REF!"},{"$error":"#REF!"},{"$error":"#REF!"}]
[{"$f":"IF(Data!#REF!=\"\",\"\",Data!#REF!)","v":{"$error":"#REF!"}},{"$f":"IF(Data!#REF!=\"\",\"\",Data!#REF!)","v":{"$error":"#REF!"}},{"$f":"IF(Data!#REF!=\"\",\"\",Data!#REF!)","v":{"$error":"#REF!"}},{"$f":"IF(Data!#REF!=\"\",\"\",Data!#REF!)","v":{"$error":"#REF!"}},{"$f":"IF(Data!#REF!=\"\",\"\",Data!#REF!)","v":{"$error":"#REF!"}},{"$error":"#REF!"},{"$error":"#REF!"},{"$error":"#REF!"}]
[{"$f":"IF(Data!#REF!=\"\",\"\",Data!#REF!)","v":{"$error":"#REF!"}},{"$f":"IF(Data!#REF!=\"\",\"\",Data!#REF!)","v":{"$error":"#REF!"}},{"$f":"IF(Data!#REF!=\"\",\"\",Data!#REF!)","v":{"$error":"#REF!"}},{"$f":"IF(Data!#REF!=\"\",\"\",Data!#REF!)","v":{"$error":"#REF!"}},{"$f":"IF(Data!#REF!=\"\",\"\",Data!#REF!)","v":{"$error":"#REF!"}},{"$error":"#REF!"},{"$error":"#REF!"},{"$error":"#REF!"}]
[{"$f":"IF(Data!#REF!=\"\",\"\",Data!#REF!)","v":{"$error":"#REF!"}},{"$f":"IF(Data!#REF!=\"\",\"\",Data!#REF!)","v":{"$error":"#REF!"}},{"$f":"IF(Data!#REF!=\"\",\"\",Data!#REF!)","v":{"$error":"#REF!"}},{"$f":"IF(Data!#REF!=\"\",\"\",Data!#REF!)","v":{"$error":"#REF!"}},{"$f":"IF(Data!#REF!=\"\",\"\",Data!#REF!)","v":{"$error":"#REF!"}},{"$error":"#REF!"},{"$error":"#REF!"},{"$error":"#REF!"}]
[{"$f":"IF(Data!#REF!=\"\",\"\",Data!#REF!)","v":{"$error":"#REF!"}},{"$f":"IF(Data!#REF!=\"\",\"\",Data!#REF!)","v":{"$error":"#REF!"}},{"$f":"IF(Data!#REF!=\"\",\"\",Data!#REF!)","v":{"$error":"#REF!"}},{"$f":"IF(Data!#REF!=\"\",\"\",Data!#REF!)","v":{"$error":"#REF!"}},{"$f":"IF(Data!#REF!=\"\",\"\",Data!#REF!)","v":{"$error":"#REF!"}},{"$error":"#REF!"},{"$error":"#REF!"},{"$error":"#REF!"}]
[{"$f":"IF(Data!#REF!=\"\",\"\",Data!#REF!)","v":{"$error":"#REF!"}},{"$f":"IF(Data!#REF!=\"\",\"\",Data!#REF!)","v":{"$error":"#REF!"}},{"$f":"IF(Data!#REF!=\"\",\"\",Data!#REF!)","v":{"$error":"#REF!"}},{"$f":"IF(Data!#REF!=\"\",\"\",Data!#REF!)","v":{"$error":"#REF!"}},{"$f":"IF(Data!#REF!=\"\",\"\",Data!#REF!)","v":{"$error":"#REF!"}},{"$error":"#REF!"},{"$error":"#REF!"},{"$error":"#REF!"}]
[{"$f":"IF(Data!#REF!=\"\",\"\",Data!#REF!)","v":{"$error":"#REF!"}},{"$f":"IF(Data!#REF!=\"\",\"\",Data!#REF!)","v":{"$error":"#REF!"}},{"$f":"IF(Data!#REF!=\"\",\"\",Data!#REF!)","v":{"$error":"#REF!"}},{"$f":"IF(Data!#REF!=\"\",\"\",Data!#REF!)","v":{"$error":"#REF!"}},{"$f":"IF(Data!#REF!=\"\",\"\",Data!#REF!)","v":{"$error":"#REF!"}},{"$error":"#REF!"},{"$error":"#REF!"},{"$error":"#REF!"}]
[{"$f":"IF(Data!#REF!=\"\",\"\",Data!#REF!)","v":{"$error":"#REF!"}},{"$f":"IF(Data!#REF!=\"\",\"\",Data!#REF!)","v":{"$error":"#REF!"}},{"$f":"IF(Data!#REF!=\"\",\"\",Data!#REF!)","v":{"$error":"#REF!"}},{"$f":"IF(Data!#REF!=\"\",\"\",Data!#REF!)","v":{"$error":"#REF!"}},{"$f":"IF(Data!#REF!=\"\",\"\",Data!#REF!)","v":{"$error":"#REF!"}},{"$error":"#REF!"},{"$error":"#REF!"},{"$error":"#REF!"}]
[{"$f":"IF(Data!#REF!=\"\",\"\",Data!#REF!)","v":{"$error":"#REF!"}},{"$f":"IF(Data!#REF!=\"\",\"\",Data!#REF!)","v":{"$error":"#REF!"}},{"$f":"IF(Data!#REF!=\"\",\"\",Data!#REF!)","v":{"$error":"#REF!"}},{"$f":"IF(Data!#REF!=\"\",\"\",Data!#REF!)","v":{"$error":"#REF!"}},{"$f":"IF(Data!#REF!=\"\",\"\",Data!#REF!)","v":{"$error":"#REF!"}},{"$error":"#REF!"},{"$error":"#REF!"},{"$error":"#REF!"}]
[{"$f":"IF(Data!#REF!=\"\",\"\",Data!#REF!)","v":{"$error":"#REF!"}},{"$f":"IF(Data!#REF!=\"\",\"\",Data!#REF!)","v":{"$error":"#REF!"}},{"$f":"IF(Data!#REF!=\"\",\"\",Data!#REF!)","v":{"$error":"#REF!"}},{"$f":"IF(Data!#REF!=\"\",\"\",Data!#REF!)","v":{"$error":"#REF!"}},{"$f":"IF(Data!#REF!=\"\",\"\",Data!#REF!)","v":{"$error":"#REF!"}},{"$error":"#REF!"},{"$error":"#REF!"},{"$error":"#REF!"}]
[{"$f":"IF(Data!#REF!=\"\",\"\",Data!#REF!)","v":{"$error":"#REF!"}},{"$f":"IF(Data!#REF!=\"\",\"\",Data!#REF!)","v":{"$error":"#REF!"}},{"$f":"IF(Data!#REF!=\"\",\"\",Data!#REF!)","v":{"$error":"#REF!"}},{"$f":"IF(Data!#REF!=\"\",\"\",Data!#REF!)","v":{"$error":"#REF!"}},{"$f":"IF(Data!#REF!=\"\",\"\",Data!#REF!)","v":{"$error":"#REF!"}},{"$error":"#REF!"},{"$error":"#REF!"},{"$error":"#REF!"}]
[{"$f":"IF(Data!#REF!=\"\",\"\",Data!#REF!)","v":{"$error":"#REF!"}},{"$f":"IF(Data!#REF!=\"\",\"\",Data!#REF!)","v":{"$error":"#REF!"}},{"$f":"IF(Data!#REF!=\"\",\"\",Data!#REF!)","v":{"$error":"#REF!"}},{"$f":"IF(Data!#REF!=\"\",\"\",Data!#REF!)","v":{"$error":"#REF!"}},{"$f":"IF(Data!#REF!=\"\",\"\",Data!#REF!)","v":{"$error":"#REF!"}},{"$error":"#REF!"},{"$error":"#REF!"},{"$error":"#REF!"}]
[{"$f":"IF(Data!#REF!=\"\",\"\",Data!#REF!)","v":{"$error":"#REF!"}},{"$f":"IF(Data!#REF!=\"\",\"\",Data!#REF!)","v":{"$error":"#REF!"}},{"$f":"IF(Data!#REF!=\"\",\"\",Data!#REF!)","v":{"$error":"#REF!"}},{"$f":"IF(Data!#REF!=\"\",\"\",Data!#REF!)","v":{"$error":"#REF!"}},{"$f":"IF(Data!#REF!=\"\",\"\",Data!#REF!)","v":{"$error":"#REF!"}},{"$error":"#REF!"},{"$error":"#REF!"},{"$error":"#REF!"}]
[{"$f":"IF(Data!#REF!=\"\",\"\",Data!#REF!)","v":{"$error":"#REF!"}},{"$f":"IF(Data!#REF!=\"\",\"\",Data!#REF!)","v":{"$error":"#REF!"}},{"$f":"IF(Data!#REF!=\"\",\"\",Data!#REF!)","v":{"$error":"#REF!"}},{"$f":"IF(Data!#REF!=\"\",\"\",Data!#REF!)","v":{"$error":"#REF!"}},{"$f":"IF(Data!#REF!=\"\",\"\",Data!#REF!)","v":{"$error":"#REF!"}},{"$error":"#REF!"},{"$error":"#REF!"},{"$error":"#REF!"}]
[{"$f":"IF(Data!#REF!=\"\",\"\",Data!#REF!)","v":{"$error":"#REF!"}},{"$f":"IF(Data!#REF!=\"\",\"\",Data!#REF!)","v":{"$error":"#REF!"}},{"$f":"IF(Data!#REF!=\"\",\"\",Data!#REF!)","v":{"$error":"#REF!"}},{"$f":"IF(Data!#REF!=\"\",\"\",Data!#REF!)","v":{"$error":"#REF!"}},{"$f":"IF(Data!#REF!=\"\",\"\",Data!#REF!)","v":{"$error":"#REF!"}},{"$error":"#REF!"},{"$error":"#REF!"},{"$error":"#REF!"}]
[{"$f":"IF(Data!#REF!=\"\",\"\",Data!#REF!)","v":{"$error":"#REF!"}},{"$f":"IF(Data!#REF!=\"\",\"\",Data!#REF!)","v":{"$error":"#REF!"}},{"$f":"IF(Data!#REF!=\"\",\"\",Data!#REF!)","v":{"$error":"#REF!"}},{"$f":"IF(Data!#REF!=\"\",\"\",Data!#REF!)","v":{"$error":"#REF!"}},{"$f":"IF(Data!#REF!=\"\",\"\",Data!#REF!)","v":{"$error":"#REF!"}},{"$error":"#REF!"},{"$error":"#REF!"},{"$error":"#REF!"}]
[{"$f":"IF(Data!#REF!=\"\",\"\",Data!#REF!)","v":{"$error":"#REF!"}},{"$f":"IF(Data!#REF!=\"\",\"\",Data!#REF!)","v":{"$error":"#REF!"}},{"$f":"IF(Data!#REF!=\"\",\"\",Data!#REF!)","v":{"$error":"#REF!"}},{"$f":"IF(Data!#REF!=\"\",\"\",Data!#REF!)","v":{"$error":"#REF!"}},{"$f":"IF(Data!#REF!=\"\",\"\",Data!#REF!)","v":{"$error":"#REF!"}},{"$error":"#REF!"},{"$error":"#REF!"},{"$error":"#REF!"}]
[{"$f":"IF(Data!#REF!=\"\",\"\",Data!#REF!)","v":{"$error":"#REF!"}},{"$f":"IF(Data!#REF!=\"\",\"\",Data!#REF!)","v":{"$error":"#REF!"}},{"$f":"IF(Data!#REF!=\"\",\"\",Data!#REF!)","v":{"$error":"#REF!"}},{"$f":"IF(Data!#REF!=\"\",\"\",Data!#REF!)","v":{"$error":"#REF!"}},{"$f":"IF(Data!#REF!=\"\",\"\",Data!#REF!)","v":{"$error":"#REF!"}},{"$error":"#REF!"},{"$error":"#REF!"},{"$error":"#REF!"}]
[{"$f":"IF(Data!#REF!=\"\",\"\",Data!#REF!)","v":{"$error":"#REF!"}},{"$f":"IF(Data!#REF!=\"\",\"\",Data!#REF!)","v":{"$error":"#REF!"}},{"$f":"IF(Data!#REF!=\"\",\"\",Data!#REF!)","v":{"$error":"#REF!"}},{"$f":"IF(Data!#REF!=\"\",\"\",Data!#REF!)","v":{"$error":"#REF!"}},{"$f":"IF(Data!#REF!=\"\",\"\",Data!#REF!)","v":{"$error":"#REF!"}},{"$error":"#REF!"},{"$error":"#REF!"},{"$error":"#REF!"}]
[{"$f":"IF(Data!#REF!=\"\",\"\",Data!#REF!)","v":{"$error":"#REF!"}},{"$f":"IF(Data!#REF!=\"\",\"\",Data!#REF!)","v":{"$error":"#REF!"}},{"$f":"IF(Data!#REF!=\"\",\"\",Data!#REF!)","v":{"$error":"#REF!"}},{"$f":"IF(Data!#REF!=\"\",\"\",Data!#REF!)","v":{"$error":"#REF!"}},{"$f":"IF(Data!#REF!=\"\",\"\",Data!#REF!)","v":{"$error":"#REF!"}},{"$f":"IF(E67>0,MONTH(E67),\"\")","v":{"$error":"#REF!"}},{"$f":"IF(E67>0,WEEKNUM(E67),\"0\")","v":{"$error":"#REF!"}},{"$f":"IF(G67>=($G$2-3),\"Ano\",\"Nie\")","v":{"$error":"#REF!"}}]
[{"$f":"IF(Data!#REF!=\"\",\"\",Data!#REF!)","v":{"$error":"#REF!"}},{"$f":"IF(Data!#REF!=\"\",\"\",Data!#REF!)","v":{"$error":"#REF!"}},{"$f":"IF(Data!#REF!=\"\",\"\",Data!#REF!)","v":{"$error":"#REF!"}},{"$f":"IF(Data!#REF!=\"\",\"\",Data!#REF!)","v":{"$error":"#REF!"}},{"$f":"IF(Data!#REF!=\"\",\"\",Data!#REF!)","v":{"$error":"#REF!"}},{"$error":"#REF!"},{"$error":"#REF!"},{"$error":"#REF!"}]
[{"$f":"IF(Data!#REF!=\"\",\"\",Data!#REF!)","v":{"$error":"#REF!"}},{"$f":"IF(Data!#REF!=\"\",\"\",Data!#REF!)","v":{"$error":"#REF!"}},{"$f":"IF(Data!#REF!=\"\",\"\",Data!#REF!)","v":{"$error":"#REF!"}},{"$f":"IF(Data!#REF!=\"\",\"\",Data!#REF!)","v":{"$error":"#REF!"}},{"$f":"IF(Data!#REF!=\"\",\"\",Data!#REF!)","v":{"$error":"#REF!"}},{"$error":"#REF!"},{"$error":"#REF!"},{"$error":"#REF!"}]
[{"$f":"IF(Data!#REF!=\"\",\"\",Data!#REF!)","v":{"$error":"#REF!"}},{"$f":"IF(Data!#REF!=\"\",\"\",Data!#REF!)","v":{"$error":"#REF!"}},{"$f":"IF(Data!#REF!=\"\",\"\",Data!#REF!)","v":{"$error":"#REF!"}},{"$f":"IF(Data!#REF!=\"\",\"\",Data!#REF!)","v":{"$error":"#REF!"}},{"$f":"IF(Data!#REF!=\"\",\"\",Data!#REF!)","v":{"$error":"#REF!"}},{"$error":"#REF!"},{"$error":"#REF!"},{"$error":"#REF!"}]
[{"$f":"IF(Data!#REF!=\"\",\"\",Data!#REF!)","v":{"$error":"#REF!"}},{"$f":"IF(Data!#REF!=\"\",\"\",Data!#REF!)","v":{"$error":"#REF!"}},{"$f":"IF(Data!#REF!=\"\",\"\",Data!#REF!)","v":{"$error":"#REF!"}},{"$f":"IF(Data!#REF!=\"\",\"\",Data!#REF!)","v":{"$error":"#REF!"}},{"$f":"IF(Data!#REF!=\"\",\"\",Data!#REF!)","v":{"$error":"#REF!"}},{"$error":"#REF!"},{"$error":"#REF!"},{"$error":"#REF!"}]
[{"$f":"IF(Data!#REF!=\"\",\"\",Data!#REF!)","v":{"$error":"#REF!"}},{"$f":"IF(Data!#REF!=\"\",\"\",Data!#REF!)","v":{"$error":"#REF!"}},{"$f":"IF(Data!#REF!=\"\",\"\",Data!#REF!)","v":{"$error":"#REF!"}},{"$f":"IF(Data!#REF!=\"\",\"\",Data!#REF!)","v":{"$error":"#REF!"}},{"$f":"IF(Data!#REF!=\"\",\"\",Data!#REF!)","v":{"$error":"#REF!"}},{"$error":"#REF!"},{"$error":"#REF!"},{"$error":"#REF!"}]
[{"$f":"IF(Data!#REF!=\"\",\"\",Data!#REF!)","v":{"$error":"#REF!"}},{"$f":"IF(Data!#REF!=\"\",\"\",Data!#REF!)","v":{"$error":"#REF!"}},{"$f":"IF(Data!#REF!=\"\",\"\",Data!#REF!)","v":{"$error":"#REF!"}},{"$f":"IF(Data!#REF!=\"\",\"\",Data!#REF!)","v":{"$error":"#REF!"}},{"$f":"IF(Data!#REF!=\"\",\"\",Data!#REF!)","v":{"$error":"#REF!"}},{"$error":"#REF!"},{"$error":"#REF!"},{"$error":"#REF!"}]
[{"$f":"IF(Data!#REF!=\"\",\"\",Data!#REF!)","v":{"$error":"#REF!"}},{"$f":"IF(Data!#REF!=\"\",\"\",Data!#REF!)","v":{"$error":"#REF!"}},{"$f":"IF(Data!#REF!=\"\",\"\",Data!#REF!)","v":{"$error":"#REF!"}},{"$f":"IF(Data!#REF!=\"\",\"\",Data!#REF!)","v":{"$error":"#REF!"}},{"$f":"IF(Data!#REF!=\"\",\"\",Data!#REF!)","v":{"$error":"#REF!"}},{"$error":"#REF!"},{"$error":"#REF!"},{"$error":"#REF!"}]
[{"$f":"IF(Data!#REF!=\"\",\"\",Data!#REF!)","v":{"$error":"#REF!"}},{"$f":"IF(Data!#REF!=\"\",\"\",Data!#REF!)","v":{"$error":"#REF!"}},{"$f":"IF(Data!#REF!=\"\",\"\",Data!#REF!)","v":{"$error":"#REF!"}},{"$f":"IF(Data!#REF!=\"\",\"\",Data!#REF!)","v":{"$error":"#REF!"}},{"$f":"IF(Data!#REF!=\"\",\"\",Data!#REF!)","v":{"$error":"#REF!"}},{"$error":"#REF!"},{"$error":"#REF!"},{"$error":"#REF!"}]
[{"$f":"IF(Data!#REF!=\"\",\"\",Data!#REF!)","v":{"$error":"#REF!"}},{"$f":"IF(Data!#REF!=\"\",\"\",Data!#REF!)","v":{"$error":"#REF!"}},{"$f":"IF(Data!#REF!=\"\",\"\",Data!#REF!)","v":{"$error":"#REF!"}},{"$f":"IF(Data!#REF!=\"\",\"\",Data!#REF!)","v":{"$error":"#REF!"}},{"$f":"IF(Data!#REF!=\"\",\"\",Data!#REF!)","v":{"$error":"#REF!"}},{"$error":"#REF!"},{"$error":"#REF!"},{"$error":"#REF!"}]
[{"$f":"IF(Data!#REF!=\"\",\"\",Data!#REF!)","v":{"$error":"#REF!"}},{"$f":"IF(Data!#REF!=\"\",\"\",Data!#REF!)","v":{"$error":"#REF!"}},{"$f":"IF(Data!#REF!=\"\",\"\",Data!#REF!)","v":{"$error":"#REF!"}},{"$f":"IF(Data!#REF!=\"\",\"\",Data!#REF!)","v":{"$error":"#REF!"}},{"$f":"IF(Data!#REF!=\"\",\"\",Data!#REF!)","v":{"$error":"#REF!"}},{"$error":"#REF!"},{"$error":"#REF!"},{"$error":"#REF!"}]
[{"$f":"IF(Data!#REF!=\"\",\"\",Data!#REF!)","v":{"$error":"#REF!"}},{"$f":"IF(Data!#REF!=\"\",\"\",Data!#REF!)","v":{"$error":"#REF!"}},{"$f":"IF(Data!#REF!=\"\",\"\",Data!#REF!)","v":{"$error":"#REF!"}},{"$f":"IF(Data!#REF!=\"\",\"\",Data!#REF!)","v":{"$error":"#REF!"}},{"$f":"IF(Data!#REF!=\"\",\"\",Data!#REF!)","v":{"$error":"#REF!"}},{"$error":"#REF!"},{"$error":"#REF!"},{"$error":"#REF!"}]
[{"$f":"IF(Data!#REF!=\"\",\"\",Data!#REF!)","v":{"$error":"#REF!"}},{"$f":"IF(Data!#REF!=\"\",\"\",Data!#REF!)","v":{"$error":"#REF!"}},{"$f":"IF(Data!#REF!=\"\",\"\",Data!#REF!)","v":{"$error":"#REF!"}},{"$f":"IF(Data!#REF!=\"\",\"\",Data!#REF!)","v":{"$error":"#REF!"}},{"$f":"IF(Data!#REF!=\"\",\"\",Data!#REF!)","v":{"$error":"#REF!"}},{"$error":"#REF!"},{"$error":"#REF!"},{"$error":"#REF!"}]
[{"$f":"IF(Data!#REF!=\"\",\"\",Data!#REF!)","v":{"$error":"#REF!"}},{"$f":"IF(Data!#REF!=\"\",\"\",Data!#REF!)","v":{"$error":"#REF!"}},{"$f":"IF(Data!#REF!=\"\",\"\",Data!#REF!)","v":{"$error":"#REF!"}},{"$f":"IF(Data!#REF!=\"\",\"\",Data!#REF!)","v":{"$error":"#REF!"}},{"$f":"IF(Data!#REF!=\"\",\"\",Data!#REF!)","v":{"$error":"#REF!"}},{"$error":"#REF!"},{"$error":"#REF!"},{"$error":"#REF!"}]
[{"$f":"IF(Data!#REF!=\"\",\"\",Data!#REF!)","v":{"$error":"#REF!"}},{"$f":"IF(Data!#REF!=\"\",\"\",Data!#REF!)","v":{"$error":"#REF!"}},{"$f":"IF(Data!#REF!=\"\",\"\",Data!#REF!)","v":{"$error":"#REF!"}},{"$f":"IF(Data!#REF!=\"\",\"\",Data!#REF!)","v":{"$error":"#REF!"}},{"$f":"IF(Data!#REF!=\"\",\"\",Data!#REF!)","v":{"$error":"#REF!"}},{"$error":"#REF!"},{"$error":"#REF!"},{"$error":"#REF!"}]
[{"$f":"IF(Data!#REF!=\"\",\"\",Data!#REF!)","v":{"$error":"#REF!"}},{"$f":"IF(Data!#REF!=\"\",\"\",Data!#REF!)","v":{"$error":"#REF!"}},{"$f":"IF(Data!#REF!=\"\",\"\",Data!#REF!)","v":{"$error":"#REF!"}},{"$f":"IF(Data!#REF!=\"\",\"\",Data!#REF!)","v":{"$error":"#REF!"}},{"$f":"IF(Data!#REF!=\"\",\"\",Data!#REF!)","v":{"$error":"#REF!"}},{"$error":"#REF!"},{"$error":"#REF!"},{"$error":"#REF!"}]
[{"$f":"IF(Data!#REF!=\"\",\"\",Data!#REF!)","v":{"$error":"#REF!"}},{"$f":"IF(Data!#REF!=\"\",\"\",Data!#REF!)","v":{"$error":"#REF!"}},{"$f":"IF(Data!#REF!=\"\",\"\",Data!#REF!)","v":{"$error":"#REF!"}},{"$f":"IF(Data!#REF!=\"\",\"\",Data!#REF!)","v":{"$error":"#REF!"}},{"$f":"IF(Data!#REF!=\"\",\"\",Data!#REF!)","v":{"$error":"#REF!"}},{"$error":"#REF!"},{"$error":"#REF!"},{"$error":"#REF!"}]
[{"$f":"IF(Data!#REF!=\"\",\"\",Data!#REF!)","v":{"$error":"#REF!"}},{"$f":"IF(Data!#REF!=\"\",\"\",Data!#REF!)","v":{"$error":"#REF!"}},{"$f":"IF(Data!#REF!=\"\",\"\",Data!#REF!)","v":{"$error":"#REF!"}},{"$f":"IF(Data!#REF!=\"\",\"\",Data!#REF!)","v":{"$error":"#REF!"}},{"$f":"IF(Data!#REF!=\"\",\"\",Data!#REF!)","v":{"$error":"#REF!"}},{"$error":"#REF!"},{"$error":"#REF!"},{"$error":"#REF!"}]
[{"$f":"IF(Data!#REF!=\"\",\"\",Data!#REF!)","v":{"$error":"#REF!"}},{"$f":"IF(Data!#REF!=\"\",\"\",Data!#REF!)","v":{"$error":"#REF!"}},{"$f":"IF(Data!#REF!=\"\",\"\",Data!#REF!)","v":{"$error":"#REF!"}},{"$f":"IF(Data!#REF!=\"\",\"\",Data!#REF!)","v":{"$error":"#REF!"}},{"$f":"IF(Data!#REF!=\"\",\"\",Data!#REF!)","v":{"$error":"#REF!"}},{"$error":"#REF!"},{"$error":"#REF!"},{"$error":"#REF!"}]
[{"$f":"IF(Data!#REF!=\"\",\"\",Data!#REF!)","v":{"$error":"#REF!"}},{"$f":"IF(Data!#REF!=\"\",\"\",Data!#REF!)","v":{"$error":"#REF!"}},{"$f":"IF(Data!#REF!=\"\",\"\",Data!#REF!)","v":{"$error":"#REF!"}},{"$f":"IF(Data!#REF!=\"\",\"\",Data!#REF!)","v":{"$error":"#REF!"}},{"$f":"IF(Data!#REF!=\"\",\"\",Data!#REF!)","v":{"$error":"#REF!"}},{"$error":"#REF!"},{"$error":"#REF!"},{"$error":"#REF!"}]
[{"$f":"IF(Data!#REF!=\"\",\"\",Data!#REF!)","v":{"$error":"#REF!"}},{"$f":"IF(Data!#REF!=\"\",\"\",Data!#REF!)","v":{"$error":"#REF!"}},{"$f":"IF(Data!#REF!=\"\",\"\",Data!#REF!)","v":{"$error":"#REF!"}},{"$f":"IF(Data!#REF!=\"\",\"\",Data!#REF!)","v":{"$error":"#REF!"}},{"$f":"IF(Data!#REF!=\"\",\"\",Data!#REF!)","v":{"$error":"#REF!"}},{"$error":"#REF!"},{"$error":"#REF!"},{"$error":"#REF!"}]
[{"$f":"IF(Data!#REF!=\"\",\"\",Data!#REF!)","v":{"$error":"#REF!"}},{"$f":"IF(Data!#REF!=\"\",\"\",Data!#REF!)","v":{"$error":"#REF!"}},{"$f":"IF(Data!#REF!=\"\",\"\",Data!#REF!)","v":{"$error":"#REF!"}},{"$f":"IF(Data!#REF!=\"\",\"\",Data!#REF!)","v":{"$error":"#REF!"}},{"$f":"IF(Data!#REF!=\"\",\"\",Data!#REF!)","v":{"$error":"#REF!"}},{"$error":"#REF!"},{"$error":"#REF!"},{"$error":"#REF!"}]
[{"$f":"IF(Data!#REF!=\"\",\"\",Data!#REF!)","v":{"$error":"#REF!"}},{"$f":"IF(Data!#REF!=\"\",\"\",Data!#REF!)","v":{"$error":"#REF!"}},{"$f":"IF(Data!#REF!=\"\",\"\",Data!#REF!)","v":{"$error":"#REF!"}},{"$f":"IF(Data!#REF!=\"\",\"\",Data!#REF!)","v":{"$error":"#REF!"}},{"$f":"IF(Data!#REF!=\"\",\"\",Data!#REF!)","v":{"$error":"#REF!"}},{"$error":"#REF!"},{"$error":"#REF!"},{"$error":"#REF!"}]
[{"$f":"IF(Data!#REF!=\"\",\"\",Data!#REF!)","v":{"$error":"#REF!"}},{"$f":"IF(Data!#REF!=\"\",\"\",Data!#REF!)","v":{"$error":"#REF!"}},{"$f":"IF(Data!#REF!=\"\",\"\",Data!#REF!)","v":{"$error":"#REF!"}},{"$f":"IF(Data!#REF!=\"\",\"\",Data!#REF!)","v":{"$error":"#REF!"}},{"$f":"IF(Data!#REF!=\"\",\"\",Data!#REF!)","v":{"$error":"#REF!"}},{"$error":"#REF!"},{"$error":"#REF!"},{"$error":"#REF!"}]
[{"$f":"IF(Data!#REF!=\"\",\"\",Data!#REF!)","v":{"$error":"#REF!"}},{"$f":"IF(Data!#REF!=\"\",\"\",Data!#REF!)","v":{"$error":"#REF!"}},{"$f":"IF(Data!#REF!=\"\",\"\",Data!#REF!)","v":{"$error":"#REF!"}},{"$f":"IF(Data!#REF!=\"\",\"\",Data!#REF!)","v":{"$error":"#REF!"}},{"$f":"IF(Data!#REF!=\"\",\"\",Data!#REF!)","v":{"$error":"#REF!"}},{"$error":"#REF!"},{"$error":"#REF!"},{"$error":"#REF!"}]
[{"$f":"IF(Data!#REF!=\"\",\"\",Data!#REF!)","v":{"$error":"#REF!"}},{"$f":"IF(Data!#REF!=\"\",\"\",Data!#REF!)","v":{"$error":"#REF!"}},{"$f":"IF(Data!#REF!=\"\",\"\",Data!#REF!)","v":{"$error":"#REF!"}},{"$f":"IF(Data!#REF!=\"\",\"\",Data!#REF!)","v":{"$error":"#REF!"}},{"$f":"IF(Data!#REF!=\"\",\"\",Data!#REF!)","v":{"$error":"#REF!"}},{"$error":"#REF!"},{"$error":"#REF!"},{"$error":"#REF!"}]
[{"$f":"IF(Data!#REF!=\"\",\"\",Data!#REF!)","v":{"$error":"#REF!"}},{"$f":"IF(Data!#REF!=\"\",\"\",Data!#REF!)","v":{"$error":"#REF!"}},{"$f":"IF(Data!#REF!=\"\",\"\",Data!#REF!)","v":{"$error":"#REF!"}},{"$f":"IF(Data!#REF!=\"\",\"\",Data!#REF!)","v":{"$error":"#REF!"}},{"$f":"IF(Data!#REF!=\"\",\"\",Data!#REF!)","v":{"$error":"#REF!"}},{"$error":"#REF!"},{"$error":"#REF!"},{"$error":"#REF!"}]
[{"$f":"IF(Data!#REF!=\"\",\"\",Data!#REF!)","v":{"$error":"#REF!"}},{"$f":"IF(Data!#REF!=\"\",\"\",Data!#REF!)","v":{"$error":"#REF!"}},{"$f":"IF(Data!#REF!=\"\",\"\",Data!#REF!)","v":{"$error":"#REF!"}},{"$f":"IF(Data!#REF!=\"\",\"\",Data!#REF!)","v":{"$error":"#REF!"}},{"$f":"IF(Data!#REF!=\"\",\"\",Data!#REF!)","v":{"$error":"#REF!"}},{"$error":"#REF!"},{"$error":"#REF!"},{"$error":"#REF!"}]
[{"$f":"IF(Data!#REF!=\"\",\"\",Data!#REF!)","v":{"$error":"#REF!"}},{"$f":"IF(Data!#REF!=\"\",\"\",Data!#REF!)","v":{"$error":"#REF!"}},{"$f":"IF(Data!#REF!=\"\",\"\",Data!#REF!)","v":{"$error":"#REF!"}},{"$f":"IF(Data!#REF!=\"\",\"\",Data!#REF!)","v":{"$error":"#REF!"}},{"$f":"IF(Data!#REF!=\"\",\"\",Data!#REF!)","v":{"$error":"#REF!"}},{"$error":"#REF!"},{"$error":"#REF!"},{"$error":"#REF!"}]
[{"$f":"IF(Data!#REF!=\"\",\"\",Data!#REF!)","v":{"$error":"#REF!"}},{"$f":"IF(Data!#REF!=\"\",\"\",Data!#REF!)","v":{"$error":"#REF!"}},{"$f":"IF(Data!#REF!=\"\",\"\",Data!#REF!)","v":{"$error":"#REF!"}},{"$f":"IF(Data!#REF!=\"\",\"\",Data!#REF!)","v":{"$error":"#REF!"}},{"$f":"IF(Data!#REF!=\"\",\"\",Data!#REF!)","v":{"$error":"#REF!"}},{"$error":"#REF!"},{"$error":"#REF!"},{"$error":"#REF!"}]
[{"$f":"IF(Data!#REF!=\"\",\"\",Data!#REF!)","v":{"$error":"#REF!"}},{"$f":"IF(Data!#REF!=\"\",\"\",Data!#REF!)","v":{"$error":"#REF!"}},{"$f":"IF(Data!#REF!=\"\",\"\",Data!#REF!)","v":{"$error":"#REF!"}},{"$f":"IF(Data!#REF!=\"\",\"\",Data!#REF!)","v":{"$error":"#REF!"}},{"$f":"IF(Data!#REF!=\"\",\"\",Data!#REF!)","v":{"$error":"#REF!"}},{"$error":"#REF!"},{"$error":"#REF!"},{"$error":"#REF!"}]
[{"$f":"IF(Data!#REF!=\"\",\"\",Data!#REF!)","v":{"$error":"#REF!"}},{"$f":"IF(Data!#REF!=\"\",\"\",Data!#REF!)","v":{"$error":"#REF!"}},{"$f":"IF(Data!#REF!=\"\",\"\",Data!#REF!)","v":{"$error":"#REF!"}},{"$f":"IF(Data!#REF!=\"\",\"\",Data!#REF!)","v":{"$error":"#REF!"}},{"$f":"IF(Data!#REF!=\"\",\"\",Data!#REF!)","v":{"$error":"#REF!"}},{"$error":"#REF!"},{"$error":"#REF!"},{"$error":"#REF!"}]
[{"$f":"IF(Data!#REF!=\"\",\"\",Data!#REF!)","v":{"$error":"#REF!"}},{"$f":"IF(Data!#REF!=\"\",\"\",Data!#REF!)","v":{"$error":"#REF!"}},{"$f":"IF(Data!#REF!=\"\",\"\",Data!#REF!)","v":{"$error":"#REF!"}},{"$f":"IF(Data!#REF!=\"\",\"\",Data!#REF!)","v":{"$error":"#REF!"}},{"$f":"IF(Data!#REF!=\"\",\"\",Data!#REF!)","v":{"$error":"#REF!"}},{"$error":"#REF!"},{"$error":"#REF!"},{"$error":"#REF!"}]
[{"$f":"IF(Data!#REF!=\"\",\"\",Data!#REF!)","v":{"$error":"#REF!"}},{"$f":"IF(Data!#REF!=\"\",\"\",Data!#REF!)","v":{"$error":"#REF!"}},{"$f":"IF(Data!#REF!=\"\",\"\",Data!#REF!)","v":{"$error":"#REF!"}},{"$f":"IF(Data!#REF!=\"\",\"\",Data!#REF!)","v":{"$error":"#REF!"}},{"$f":"IF(Data!#REF!=\"\",\"\",Data!#REF!)","v":{"$error":"#REF!"}},{"$error":"#REF!"},{"$error":"#REF!"},{"$error":"#REF!"}]
[{"$f":"IF(Data!#REF!=\"\",\"\",Data!#REF!)","v":{"$error":"#REF!"}},{"$f":"IF(Data!#REF!=\"\",\"\",Data!#REF!)","v":{"$error":"#REF!"}},{"$f":"IF(Data!#REF!=\"\",\"\",Data!#REF!)","v":{"$error":"#REF!"}},{"$f":"IF(Data!#REF!=\"\",\"\",Data!#REF!)","v":{"$error":"#REF!"}},{"$f":"IF(Data!#REF!=\"\",\"\",Data!#REF!)","v":{"$error":"#REF!"}},{"$error":"#REF!"},{"$error":"#REF!"},{"$error":"#REF!"}]
[{"$f":"IF(Data!#REF!=\"\",\"\",Data!#REF!)","v":{"$error":"#REF!"}},{"$f":"IF(Data!#REF!=\"\",\"\",Data!#REF!)","v":{"$error":"#REF!"}},{"$f":"IF(Data!#REF!=\"\",\"\",Data!#REF!)","v":{"$error":"#REF!"}},{"$f":"IF(Data!#REF!=\"\",\"\",Data!#REF!)","v":{"$error":"#REF!"}},{"$f":"IF(Data!#REF!=\"\",\"\",Data!#REF!)","v":{"$error":"#REF!"}},{"$error":"#REF!"},{"$error":"#REF!"},{"$error":"#REF!"}]
[{"$f":"IF(Data!#REF!=\"\",\"\",Data!#REF!)","v":{"$error":"#REF!"}},{"$f":"IF(Data!#REF!=\"\",\"\",Data!#REF!)","v":{"$error":"#REF!"}},{"$f":"IF(Data!#REF!=\"\",\"\",Data!#REF!)","v":{"$error":"#REF!"}},{"$f":"IF(Data!#REF!=\"\",\"\",Data!#REF!)","v":{"$error":"#REF!"}},{"$f":"IF(Data!#REF!=\"\",\"\",Data!#REF!)","v":{"$error":"#REF!"}},{"$error":"#REF!"},{"$error":"#REF!"},{"$error":"#REF!"}]
[{"$f":"IF(Data!#REF!=\"\",\"\",Data!#REF!)","v":{"$error":"#REF!"}},{"$f":"IF(Data!#REF!=\"\",\"\",Data!#REF!)","v":{"$error":"#REF!"}},{"$f":"IF(Data!#REF!=\"\",\"\",Data!#REF!)","v":{"$error":"#REF!"}},{"$f":"IF(Data!#REF!=\"\",\"\",Data!#REF!)","v":{"$error":"#REF!"}},{"$f":"IF(Data!#REF!=\"\",\"\",Data!#REF!)","v":{"$error":"#REF!"}},{"$error":"#REF!"},{"$error":"#REF!"},{"$error":"#REF!"}]
[{"$f":"IF(Data!#REF!=\"\",\"\",Data!#REF!)","v":{"$error":"#REF!"}},{"$f":"IF(Data!#REF!=\"\",\"\",Data!#REF!)","v":{"$error":"#REF!"}},{"$f":"IF(Data!#REF!=\"\",\"\",Data!#REF!)","v":{"$error":"#REF!"}},{"$f":"IF(Data!#REF!=\"\",\"\",Data!#REF!)","v":{"$error":"#REF!"}},{"$f":"IF(Data!#REF!=\"\",\"\",Data!#REF!)","v":{"$error":"#REF!"}},{"$error":"#REF!"},{"$error":"#REF!"},{"$error":"#REF!"}]
[{"$f":"IF(Data!#REF!=\"\",\"\",Data!#REF!)","v":{"$error":"#REF!"}},{"$f":"IF(Data!#REF!=\"\",\"\",Data!#REF!)","v":{"$error":"#REF!"}},{"$f":"IF(Data!#REF!=\"\",\"\",Data!#REF!)","v":{"$error":"#REF!"}},{"$f":"IF(Data!#REF!=\"\",\"\",Data!#REF!)","v":{"$error":"#REF!"}},{"$f":"IF(Data!#REF!=\"\",\"\",Data!#REF!)","v":{"$error":"#REF!"}},{"$error":"#REF!"},{"$error":"#REF!"},{"$error":"#REF!"}]
[{"$f":"IF(Data!#REF!=\"\",\"\",Data!#REF!)","v":{"$error":"#REF!"}},{"$f":"IF(Data!#REF!=\"\",\"\",Data!#REF!)","v":{"$error":"#REF!"}},{"$f":"IF(Data!#REF!=\"\",\"\",Data!#REF!)","v":{"$error":"#REF!"}},{"$f":"IF(Data!#REF!=\"\",\"\",Data!#REF!)","v":{"$error":"#REF!"}},{"$f":"IF(Data!#REF!=\"\",\"\",Data!#REF!)","v":{"$error":"#REF!"}},{"$error":"#REF!"},{"$error":"#REF!"},{"$error":"#REF!"}]
[{"$f":"IF(Data!#REF!=\"\",\"\",Data!#REF!)","v":{"$error":"#REF!"}},{"$f":"IF(Data!#REF!=\"\",\"\",Data!#REF!)","v":{"$error":"#REF!"}},{"$f":"IF(Data!#REF!=\"\",\"\",Data!#REF!)","v":{"$error":"#REF!"}},{"$f":"IF(Data!#REF!=\"\",\"\",Data!#REF!)","v":{"$error":"#REF!"}},{"$f":"IF(Data!#REF!=\"\",\"\",Data!#REF!)","v":{"$error":"#REF!"}},{"$error":"#REF!"},{"$error":"#REF!"},{"$error":"#REF!"}]
[{"$f":"IF(Data!#REF!=\"\",\"\",Data!#REF!)","v":{"$error":"#REF!"}},{"$f":"IF(Data!#REF!=\"\",\"\",Data!#REF!)","v":{"$error":"#REF!"}},{"$f":"IF(Data!#REF!=\"\",\"\",Data!#REF!)","v":{"$error":"#REF!"}},{"$f":"IF(Data!#REF!=\"\",\"\",Data!#REF!)","v":{"$error":"#REF!"}},{"$f":"IF(Data!#REF!=\"\",\"\",Data!#REF!)","v":{"$error":"#REF!"}},{"$error":"#REF!"},{"$error":"#REF!"},{"$error":"#REF!"}]
[{"$f":"IF(Data!#REF!=\"\",\"\",Data!#REF!)","v":{"$error":"#REF!"}},{"$f":"IF(Data!#REF!=\"\",\"\",Data!#REF!)","v":{"$error":"#REF!"}},{"$f":"IF(Data!#REF!=\"\",\"\",Data!#REF!)","v":{"$error":"#REF!"}},{"$f":"IF(Data!#REF!=\"\",\"\",Data!#REF!)","v":{"$error":"#REF!"}},{"$f":"IF(Data!#REF!=\"\",\"\",Data!#REF!)","v":{"$error":"#REF!"}},{"$error":"#REF!"},{"$error":"#REF!"},{"$error":"#REF!"}]
[{"$f":"IF(Data!#REF!=\"\",\"\",Data!#REF!)","v":{"$error":"#REF!"}},{"$f":"IF(Data!#REF!=\"\",\"\",Data!#REF!)","v":{"$error":"#REF!"}},{"$f":"IF(Data!#REF!=\"\",\"\",Data!#REF!)","v":{"$error":"#REF!"}},{"$f":"IF(Data!#REF!=\"\",\"\",Data!#REF!)","v":{"$error":"#REF!"}},{"$f":"IF(Data!#REF!=\"\",\"\",Data!#REF!)","v":{"$error":"#REF!"}},{"$error":"#REF!"},{"$error":"#REF!"},{"$error":"#REF!"}]
[{"$f":"IF(Data!#REF!=\"\",\"\",Data!#REF!)","v":{"$error":"#REF!"}},{"$f":"IF(Data!#REF!=\"\",\"\",Data!#REF!)","v":{"$error":"#REF!"}},{"$f":"IF(Data!#REF!=\"\",\"\",Data!#REF!)","v":{"$error":"#REF!"}},{"$f":"IF(Data!#REF!=\"\",\"\",Data!#REF!)","v":{"$error":"#REF!"}},{"$f":"IF(Data!#REF!=\"\",\"\",Data!#REF!)","v":{"$error":"#REF!"}},{"$error":"#REF!"},{"$error":"#REF!"},{"$error":"#REF!"}]
[{"$f":"IF(Data!#REF!=\"\",\"\",Data!#REF!)","v":{"$error":"#REF!"}},{"$f":"IF(Data!#REF!=\"\",\"\",Data!#REF!)","v":{"$error":"#REF!"}},{"$f":"IF(Data!#REF!=\"\",\"\",Data!#REF!)","v":{"$error":"#REF!"}},{"$f":"IF(Data!#REF!=\"\",\"\",Data!#REF!)","v":{"$error":"#REF!"}},{"$f":"IF(Data!#REF!=\"\",\"\",Data!#REF!)","v":{"$error":"#REF!"}},{"$error":"#REF!"},{"$error":"#REF!"},{"$error":"#REF!"}]
[{"$f":"IF(Data!#REF!=\"\",\"\",Data!#REF!)","v":{"$error":"#REF!"}},{"$f":"IF(Data!#REF!=\"\",\"\",Data!#REF!)","v":{"$error":"#REF!"}},{"$f":"IF(Data!#REF!=\"\",\"\",Data!#REF!)","v":{"$error":"#REF!"}},{"$f":"IF(Data!#REF!=\"\",\"\",Data!#REF!)","v":{"$error":"#REF!"}},{"$f":"IF(Data!#REF!=\"\",\"\",Data!#REF!)","v":{"$error":"#REF!"}},{"$error":"#REF!"},{"$error":"#REF!"},{"$error":"#REF!"}]
[{"$f":"IF(Data!#REF!=\"\",\"\",Data!#REF!)","v":{"$error":"#REF!"}},{"$f":"IF(Data!#REF!=\"\",\"\",Data!#REF!)","v":{"$error":"#REF!"}},{"$f":"IF(Data!#REF!=\"\",\"\",Data!#REF!)","v":{"$error":"#REF!"}},{"$f":"IF(Data!#REF!=\"\",\"\",Data!#REF!)","v":{"$error":"#REF!"}},{"$f":"IF(Data!#REF!=\"\",\"\",Data!#REF!)","v":{"$error":"#REF!"}},{"$error":"#REF!"},{"$error":"#REF!"},{"$error":"#REF!"}]
[{"$f":"IF(Data!#REF!=\"\",\"\",Data!#REF!)","v":{"$error":"#REF!"}},{"$f":"IF(Data!#REF!=\"\",\"\",Data!#REF!)","v":{"$error":"#REF!"}},{"$f":"IF(Data!#REF!=\"\",\"\",Data!#REF!)","v":{"$error":"#REF!"}},{"$f":"IF(Data!#REF!=\"\",\"\",Data!#REF!)","v":{"$error":"#REF!"}},{"$f":"IF(Data!#REF!=\"\",\"\",Data!#REF!)","v":{"$error":"#REF!"}},{"$error":"#REF!"},{"$error":"#REF!"},{"$error":"#REF!"}]
[{"$f":"IF(Data!#REF!=\"\",\"\",Data!#REF!)","v":{"$error":"#REF!"}},{"$f":"IF(Data!#REF!=\"\",\"\",Data!#REF!)","v":{"$error":"#REF!"}},{"$f":"IF(Data!#REF!=\"\",\"\",Data!#REF!)","v":{"$error":"#REF!"}},{"$f":"IF(Data!#REF!=\"\",\"\",Data!#REF!)","v":{"$error":"#REF!"}},{"$f":"IF(Data!#REF!=\"\",\"\",Data!#REF!)","v":{"$error":"#REF!"}},{"$error":"#REF!"},{"$error":"#REF!"},{"$error":"#REF!"}]
[{"$f":"IF(Data!#REF!=\"\",\"\",Data!#REF!)","v":{"$error":"#REF!"}},{"$f":"IF(Data!#REF!=\"\",\"\",Data!#REF!)","v":{"$error":"#REF!"}},{"$f":"IF(Data!#REF!=\"\",\"\",Data!#REF!)","v":{"$error":"#REF!"}},{"$f":"IF(Data!#REF!=\"\",\"\",Data!#REF!)","v":{"$error":"#REF!"}},{"$f":"IF(Data!#REF!=\"\",\"\",Data!#REF!)","v":{"$error":"#REF!"}},{"$error":"#REF!"},{"$error":"#REF!"},{"$error":"#REF!"}]
[{"$f":"IF(Data!#REF!=\"\",\"\",Data!#REF!)","v":{"$error":"#REF!"}},{"$f":"IF(Data!#REF!=\"\",\"\",Data!#REF!)","v":{"$error":"#REF!"}},{"$f":"IF(Data!#REF!=\"\",\"\",Data!#REF!)","v":{"$error":"#REF!"}},{"$f":"IF(Data!#REF!=\"\",\"\",Data!#REF!)","v":{"$error":"#REF!"}},{"$f":"IF(Data!#REF!=\"\",\"\",Data!#REF!)","v":{"$error":"#REF!"}},{"$error":"#REF!"},{"$error":"#REF!"},{"$error":"#REF!"}]
[{"$f":"IF(Data!#REF!=\"\",\"\",Data!#REF!)","v":{"$error":"#REF!"}},{"$f":"IF(Data!#REF!=\"\",\"\",Data!#REF!)","v":{"$error":"#REF!"}},{"$f":"IF(Data!#REF!=\"\",\"\",Data!#REF!)","v":{"$error":"#REF!"}},{"$f":"IF(Data!#REF!=\"\",\"\",Data!#REF!)","v":{"$error":"#REF!"}},{"$f":"IF(Data!#REF!=\"\",\"\",Data!#REF!)","v":{"$error":"#REF!"}},{"$error":"#REF!"},{"$error":"#REF!"},{"$error":"#REF!"}]
[{"$f":"IF(Data!#REF!=\"\",\"\",Data!#REF!)","v":{"$error":"#REF!"}},{"$f":"IF(Data!#REF!=\"\",\"\",Data!#REF!)","v":{"$error":"#REF!"}},{"$f":"IF(Data!#REF!=\"\",\"\",Data!#REF!)","v":{"$error":"#REF!"}},{"$f":"IF(Data!#REF!=\"\",\"\",Data!#REF!)","v":{"$error":"#REF!"}},{"$f":"IF(Data!#REF!=\"\",\"\",Data!#REF!)","v":{"$error":"#REF!"}},{"$error":"#REF!"},{"$error":"#REF!"},{"$error":"#REF!"}]
[{"$f":"IF(Data!#REF!=\"\",\"\",Data!#REF!)","v":{"$error":"#REF!"}},{"$f":"IF(Data!#REF!=\"\",\"\",Data!#REF!)","v":{"$error":"#REF!"}},{"$f":"IF(Data!#REF!=\"\",\"\",Data!#REF!)","v":{"$error":"#REF!"}},{"$f":"IF(Data!#REF!=\"\",\"\",Data!#REF!)","v":{"$error":"#REF!"}},{"$f":"IF(Data!#REF!=\"\",\"\",Data!#REF!)","v":{"$error":"#REF!"}},{"$error":"#REF!"},{"$error":"#REF!"},{"$error":"#REF!"}]
[{"$f":"IF(Data!#REF!=\"\",\"\",Data!#REF!)","v":{"$error":"#REF!"}},{"$f":"IF(Data!#REF!=\"\",\"\",Data!#REF!)","v":{"$error":"#REF!"}},{"$f":"IF(Data!#REF!=\"\",\"\",Data!#REF!)","v":{"$error":"#REF!"}},{"$f":"IF(Data!#REF!=\"\",\"\",Data!#REF!)","v":{"$error":"#REF!"}},{"$f":"IF(Data!#REF!=\"\",\"\",Data!#REF!)","v":{"$error":"#REF!"}},{"$error":"#REF!"},{"$error":"#REF!"},{"$error":"#REF!"}]
[{"$f":"IF(Data!#REF!=\"\",\"\",Data!#REF!)","v":{"$error":"#REF!"}},{"$f":"IF(Data!#REF!=\"\",\"\",Data!#REF!)","v":{"$error":"#REF!"}},{"$f":"IF(Data!#REF!=\"\",\"\",Data!#REF!)","v":{"$error":"#REF!"}},{"$f":"IF(Data!#REF!=\"\",\"\",Data!#REF!)","v":{"$error":"#REF!"}},{"$f":"IF(Data!#REF!=\"\",\"\",Data!#REF!)","v":{"$error":"#REF!"}},{"$error":"#REF!"},{"$error":"#REF!"},{"$error":"#REF!"}]
[{"$f":"IF(Data!#REF!=\"\",\"\",Data!#REF!)","v":{"$error":"#REF!"}},{"$f":"IF(Data!#REF!=\"\",\"\",Data!#REF!)","v":{"$error":"#REF!"}},{"$f":"IF(Data!#REF!=\"\",\"\",Data!#REF!)","v":{"$error":"#REF!"}},{"$f":"IF(Data!#REF!=\"\",\"\",Data!#REF!)","v":{"$error":"#REF!"}},{"$f":"IF(Data!#REF!=\"\",\"\",Data!#REF!)","v":{"$error":"#REF!"}},{"$error":"#REF!"},{"$error":"#REF!"},{"$error":"#REF!"}]
[{"$f":"IF(Data!#REF!=\"\",\"\",Data!#REF!)","v":{"$error":"#REF!"}},{"$f":"IF(Data!#REF!=\"\",\"\",Data!#REF!)","v":{"$error":"#REF!"}},{"$f":"IF(Data!#REF!=\"\",\"\",Data!#REF!)","v":{"$error":"#REF!"}},{"$f":"IF(Data!#REF!=\"\",\"\",Data!#REF!)","v":{"$error":"#REF!"}},{"$f":"IF(Data!#REF!=\"\",\"\",Data!#REF!)","v":{"$error":"#REF!"}},{"$error":"#REF!"},{"$error":"#REF!"},{"$error":"#REF!"}]
[{"$f":"IF(Data!#REF!=\"\",\"\",Data!#REF!)","v":{"$error":"#REF!"}},{"$f":"IF(Data!#REF!=\"\",\"\",Data!#REF!)","v":{"$error":"#REF!"}},{"$f":"IF(Data!#REF!=\"\",\"\",Data!#REF!)","v":{"$error":"#REF!"}},{"$f":"IF(Data!#REF!=\"\",\"\",Data!#REF!)","v":{"$error":"#REF!"}},{"$f":"IF(Data!#REF!=\"\",\"\",Data!#REF!)","v":{"$error":"#REF!"}},{"$error":"#REF!"},{"$error":"#REF!"},{"$error":"#REF!"}]
[{"$f":"IF(Data!#REF!=\"\",\"\",Data!#REF!)","v":{"$error":"#REF!"}},{"$f":"IF(Data!#REF!=\"\",\"\",Data!#REF!)","v":{"$error":"#REF!"}},{"$f":"IF(Data!#REF!=\"\",\"\",Data!#REF!)","v":{"$error":"#REF!"}},{"$f":"IF(Data!#REF!=\"\",\"\",Data!#REF!)","v":{"$error":"#REF!"}},{"$f":"IF(Data!#REF!=\"\",\"\",Data!#REF!)","v":{"$error":"#REF!"}},{"$error":"#REF!"},{"$error":"#REF!"},{"$error":"#REF!"}]
[{"$f":"IF(Data!#REF!=\"\",\"\",Data!#REF!)","v":{"$error":"#REF!"}},{"$f":"IF(Data!#REF!=\"\",\"\",Data!#REF!)","v":{"$error":"#REF!"}},{"$f":"IF(Data!#REF!=\"\",\"\",Data!#REF!)","v":{"$error":"#REF!"}},{"$f":"IF(Data!#REF!=\"\",\"\",Data!#REF!)","v":{"$error":"#REF!"}},{"$f":"IF(Data!#REF!=\"\",\"\",Data!#REF!)","v":{"$error":"#REF!"}},{"$error":"#REF!"},{"$error":"#REF!"},{"$error":"#REF!"}]
[{"$f":"IF(Data!#REF!=\"\",\"\",Data!#REF!)","v":{"$error":"#REF!"}},{"$f":"IF(Data!#REF!=\"\",\"\",Data!#REF!)","v":{"$error":"#REF!"}},{"$f":"IF(Data!#REF!=\"\",\"\",Data!#REF!)","v":{"$error":"#REF!"}},{"$f":"IF(Data!#REF!=\"\",\"\",Data!#REF!)","v":{"$error":"#REF!"}},{"$f":"IF(Data!#REF!=\"\",\"\",Data!#REF!)","v":{"$error":"#REF!"}},{"$error":"#REF!"},{"$error":"#REF!"},{"$error":"#REF!"}]
[{"$f":"IF(Data!#REF!=\"\",\"\",Data!#REF!)","v":{"$error":"#REF!"}},{"$f":"IF(Data!#REF!=\"\",\"\",Data!#REF!)","v":{"$error":"#REF!"}},{"$f":"IF(Data!#REF!=\"\",\"\",Data!#REF!)","v":{"$error":"#REF!"}},{"$f":"IF(Data!#REF!=\"\",\"\",Data!#REF!)","v":{"$error":"#REF!"}},{"$f":"IF(Data!#REF!=\"\",\"\",Data!#REF!)","v":{"$error":"#REF!"}},{"$f":"IF(E131>0,MONTH(E131),\"\")","v":{"$error":"#REF!"}},{"$f":"IF(E131>0,WEEKNUM(E131),\"0\")","v":{"$error":"#REF!"}},{"$f":"IF(G131>=($G$2-3),\"Ano\",\"Nie\")","v":{"$error":"#REF!"}}]
[{"$f":"IF(Data!#REF!=\"\",\"\",Data!#REF!)","v":{"$error":"#REF!"}},{"$f":"IF(Data!#REF!=\"\",\"\",Data!#REF!)","v":{"$error":"#REF!"}},{"$f":"IF(Data!#REF!=\"\",\"\",Data!#REF!)","v":{"$error":"#REF!"}},{"$f":"IF(Data!#REF!=\"\",\"\",Data!#REF!)","v":{"$error":"#REF!"}},{"$f":"IF(Data!#REF!=\"\",\"\",Data!#REF!)","v":{"$error":"#REF!"}},{"$error":"#REF!"},{"$error":"#REF!"},{"$error":"#REF!"}]
[{"$f":"IF(Data!#REF!=\"\",\"\",Data!#REF!)","v":{"$error":"#REF!"}},{"$f":"IF(Data!#REF!=\"\",\"\",Data!#REF!)","v":{"$error":"#REF!"}},{"$f":"IF(Data!#REF!=\"\",\"\",Data!#REF!)","v":{"$error":"#REF!"}},{"$f":"IF(Data!#REF!=\"\",\"\",Data!#REF!)","v":{"$error":"#REF!"}},{"$f":"IF(Data!#REF!=\"\",\"\",Data!#REF!)","v":{"$error":"#REF!"}},{"$error":"#REF!"},{"$error":"#REF!"},{"$error":"#REF!"}]
[{"$f":"IF(Data!#REF!=\"\",\"\",Data!#REF!)","v":{"$error":"#REF!"}},{"$f":"IF(Data!#REF!=\"\",\"\",Data!#REF!)","v":{"$error":"#REF!"}},{"$f":"IF(Data!#REF!=\"\",\"\",Data!#REF!)","v":{"$error":"#REF!"}},{"$f":"IF(Data!#REF!=\"\",\"\",Data!#REF!)","v":{"$error":"#REF!"}},{"$f":"IF(Data!#REF!=\"\",\"\",Data!#REF!)","v":{"$error":"#REF!"}},{"$error":"#REF!"},{"$error":"#REF!"},{"$error":"#REF!"}]
[{"$f":"IF(Data!#REF!=\"\",\"\",Data!#REF!)","v":{"$error":"#REF!"}},{"$f":"IF(Data!#REF!=\"\",\"\",Data!#REF!)","v":{"$error":"#REF!"}},{"$f":"IF(Data!#REF!=\"\",\"\",Data!#REF!)","v":{"$error":"#REF!"}},{"$f":"IF(Data!#REF!=\"\",\"\",Data!#REF!)","v":{"$error":"#REF!"}},{"$f":"IF(Data!#REF!=\"\",\"\",Data!#REF!)","v":{"$error":"#REF!"}},{"$error":"#REF!"},{"$error":"#REF!"},{"$error":"#REF!"}]
[{"$f":"IF(Data!#REF!=\"\",\"\",Data!#REF!)","v":{"$error":"#REF!"}},{"$f":"IF(Data!#REF!=\"\",\"\",Data!#REF!)","v":{"$error":"#REF!"}},{"$f":"IF(Data!#REF!=\"\",\"\",Data!#REF!)","v":{"$error":"#REF!"}},{"$f":"IF(Data!#REF!=\"\",\"\",Data!#REF!)","v":{"$error":"#REF!"}},{"$f":"IF(Data!#REF!=\"\",\"\",Data!#REF!)","v":{"$error":"#REF!"}},{"$error":"#REF!"},{"$error":"#REF!"},{"$error":"#REF!"}]
[{"$f":"IF(Data!#REF!=\"\",\"\",Data!#REF!)","v":{"$error":"#REF!"}},{"$f":"IF(Data!#REF!=\"\",\"\",Data!#REF!)","v":{"$error":"#REF!"}},{"$f":"IF(Data!#REF!=\"\",\"\",Data!#REF!)","v":{"$error":"#REF!"}},{"$f":"IF(Data!#REF!=\"\",\"\",Data!#REF!)","v":{"$error":"#REF!"}},{"$f":"IF(Data!#REF!=\"\",\"\",Data!#REF!)","v":{"$error":"#REF!"}},{"$error":"#REF!"},{"$error":"#REF!"},{"$error":"#REF!"}]
[{"$f":"IF(Data!#REF!=\"\",\"\",Data!#REF!)","v":{"$error":"#REF!"}},{"$f":"IF(Data!#REF!=\"\",\"\",Data!#REF!)","v":{"$error":"#REF!"}},{"$f":"IF(Data!#REF!=\"\",\"\",Data!#REF!)","v":{"$error":"#REF!"}},{"$f":"IF(Data!#REF!=\"\",\"\",Data!#REF!)","v":{"$error":"#REF!"}},{"$f":"IF(Data!#REF!=\"\",\"\",Data!#REF!)","v":{"$error":"#REF!"}},{"$error":"#REF!"},{"$error":"#REF!"},{"$error":"#REF!"}]
[{"$f":"IF(Data!#REF!=\"\",\"\",Data!#REF!)","v":{"$error":"#REF!"}},{"$f":"IF(Data!#REF!=\"\",\"\",Data!#REF!)","v":{"$error":"#REF!"}},{"$f":"IF(Data!#REF!=\"\",\"\",Data!#REF!)","v":{"$error":"#REF!"}},{"$f":"IF(Data!#REF!=\"\",\"\",Data!#REF!)","v":{"$error":"#REF!"}},{"$f":"IF(Data!#REF!=\"\",\"\",Data!#REF!)","v":{"$error":"#REF!"}},{"$error":"#REF!"},{"$error":"#REF!"},{"$error":"#REF!"}]
[{"$f":"IF(Data!#REF!=\"\",\"\",Data!#REF!)","v":{"$error":"#REF!"}},{"$f":"IF(Data!#REF!=\"\",\"\",Data!#REF!)","v":{"$error":"#REF!"}},{"$f":"IF(Data!#REF!=\"\",\"\",Data!#REF!)","v":{"$error":"#REF!"}},{"$f":"IF(Data!#REF!=\"\",\"\",Data!#REF!)","v":{"$error":"#REF!"}},{"$f":"IF(Data!#REF!=\"\",\"\",Data!#REF!)","v":{"$error":"#REF!"}},{"$error":"#REF!"},{"$error":"#REF!"},{"$error":"#REF!"}]
[{"$f":"IF(Data!#REF!=\"\",\"\",Data!#REF!)","v":{"$error":"#REF!"}},{"$f":"IF(Data!#REF!=\"\",\"\",Data!#REF!)","v":{"$error":"#REF!"}},{"$f":"IF(Data!#REF!=\"\",\"\",Data!#REF!)","v":{"$error":"#REF!"}},{"$f":"IF(Data!#REF!=\"\",\"\",Data!#REF!)","v":{"$error":"#REF!"}},{"$f":"IF(Data!#REF!=\"\",\"\",Data!#REF!)","v":{"$error":"#REF!"}},{"$error":"#REF!"},{"$error":"#REF!"},{"$error":"#REF!"}]
[{"$f":"IF(Data!#REF!=\"\",\"\",Data!#REF!)","v":{"$error":"#REF!"}},{"$f":"IF(Data!#REF!=\"\",\"\",Data!#REF!)","v":{"$error":"#REF!"}},{"$f":"IF(Data!#REF!=\"\",\"\",Data!#REF!)","v":{"$error":"#REF!"}},{"$f":"IF(Data!#REF!=\"\",\"\",Data!#REF!)","v":{"$error":"#REF!"}},{"$f":"IF(Data!#REF!=\"\",\"\",Data!#REF!)","v":{"$error":"#REF!"}},{"$error":"#REF!"},{"$error":"#REF!"},{"$error":"#REF!"}]
[{"$f":"IF(Data!#REF!=\"\",\"\",Data!#REF!)","v":{"$error":"#REF!"}},{"$f":"IF(Data!#REF!=\"\",\"\",Data!#REF!)","v":{"$error":"#REF!"}},{"$f":"IF(Data!#REF!=\"\",\"\",Data!#REF!)","v":{"$error":"#REF!"}},{"$f":"IF(Data!#REF!=\"\",\"\",Data!#REF!)","v":{"$error":"#REF!"}},{"$f":"IF(Data!#REF!=\"\",\"\",Data!#REF!)","v":{"$error":"#REF!"}},{"$error":"#REF!"},{"$error":"#REF!"},{"$error":"#REF!"}]
[{"$f":"IF(Data!#REF!=\"\",\"\",Data!#REF!)","v":{"$error":"#REF!"}},{"$f":"IF(Data!#REF!=\"\",\"\",Data!#REF!)","v":{"$error":"#REF!"}},{"$f":"IF(Data!#REF!=\"\",\"\",Data!#REF!)","v":{"$error":"#REF!"}},{"$f":"IF(Data!#REF!=\"\",\"\",Data!#REF!)","v":{"$error":"#REF!"}},{"$f":"IF(Data!#REF!=\"\",\"\",Data!#REF!)","v":{"$error":"#REF!"}},{"$error":"#REF!"},{"$error":"#REF!"},{"$error":"#REF!"}]
[{"$f":"IF(Data!#REF!=\"\",\"\",Data!#REF!)","v":{"$error":"#REF!"}},{"$f":"IF(Data!#REF!=\"\",\"\",Data!#REF!)","v":{"$error":"#REF!"}},{"$f":"IF(Data!#REF!=\"\",\"\",Data!#REF!)","v":{"$error":"#REF!"}},{"$f":"IF(Data!#REF!=\"\",\"\",Data!#REF!)","v":{"$error":"#REF!"}},{"$f":"IF(Data!#REF!=\"\",\"\",Data!#REF!)","v":{"$error":"#REF!"}},{"$error":"#REF!"},{"$error":"#REF!"},{"$error":"#REF!"}]
[{"$f":"IF(Data!#REF!=\"\",\"\",Data!#REF!)","v":{"$error":"#REF!"}},{"$f":"IF(Data!#REF!=\"\",\"\",Data!#REF!)","v":{"$error":"#REF!"}},{"$f":"IF(Data!#REF!=\"\",\"\",Data!#REF!)","v":{"$error":"#REF!"}},{"$f":"IF(Data!#REF!=\"\",\"\",Data!#REF!)","v":{"$error":"#REF!"}},{"$f":"IF(Data!#REF!=\"\",\"\",Data!#REF!)","v":{"$error":"#REF!"}},{"$error":"#REF!"},{"$error":"#REF!"},{"$error":"#REF!"}]
[{"$f":"IF(Data!#REF!=\"\",\"\",Data!#REF!)","v":{"$error":"#REF!"}},{"$f":"IF(Data!#REF!=\"\",\"\",Data!#REF!)","v":{"$error":"#REF!"}},{"$f":"IF(Data!#REF!=\"\",\"\",Data!#REF!)","v":{"$error":"#REF!"}},{"$f":"IF(Data!#REF!=\"\",\"\",Data!#REF!)","v":{"$error":"#REF!"}},{"$f":"IF(Data!#REF!=\"\",\"\",Data!#REF!)","v":{"$error":"#REF!"}},{"$error":"#REF!"},{"$error":"#REF!"},{"$error":"#REF!"}]
[{"$f":"IF(Data!#REF!=\"\",\"\",Data!#REF!)","v":{"$error":"#REF!"}},{"$f":"IF(Data!#REF!=\"\",\"\",Data!#REF!)","v":{"$error":"#REF!"}},{"$f":"IF(Data!#REF!=\"\",\"\",Data!#REF!)","v":{"$error":"#REF!"}},{"$f":"IF(Data!#REF!=\"\",\"\",Data!#REF!)","v":{"$error":"#REF!"}},{"$f":"IF(Data!#REF!=\"\",\"\",Data!#REF!)","v":{"$error":"#REF!"}},{"$error":"#REF!"},{"$error":"#REF!"},{"$error":"#REF!"}]
[{"$f":"IF(Data!#REF!=\"\",\"\",Data!#REF!)","v":{"$error":"#REF!"}},{"$f":"IF(Data!#REF!=\"\",\"\",Data!#REF!)","v":{"$error":"#REF!"}},{"$f":"IF(Data!#REF!=\"\",\"\",Data!#REF!)","v":{"$error":"#REF!"}},{"$f":"IF(Data!#REF!=\"\",\"\",Data!#REF!)","v":{"$error":"#REF!"}},{"$f":"IF(Data!#REF!=\"\",\"\",Data!#REF!)","v":{"$error":"#REF!"}},{"$error":"#REF!"},{"$error":"#REF!"},{"$error":"#REF!"}]
[{"$f":"IF(Data!#REF!=\"\",\"\",Data!#REF!)","v":{"$error":"#REF!"}},{"$f":"IF(Data!#REF!=\"\",\"\",Data!#REF!)","v":{"$error":"#REF!"}},{"$f":"IF(Data!#REF!=\"\",\"\",Data!#REF!)","v":{"$error":"#REF!"}},{"$f":"IF(Data!#REF!=\"\",\"\",Data!#REF!)","v":{"$error":"#REF!"}},{"$f":"IF(Data!#REF!=\"\",\"\",Data!#REF!)","v":{"$error":"#REF!"}},{"$error":"#REF!"},{"$error":"#REF!"},{"$error":"#REF!"}]
[{"$f":"IF(Data!#REF!=\"\",\"\",Data!#REF!)","v":{"$error":"#REF!"}},{"$f":"IF(Data!#REF!=\"\",\"\",Data!#REF!)","v":{"$error":"#REF!"}},{"$f":"IF(Data!#REF!=\"\",\"\",Data!#REF!)","v":{"$error":"#REF!"}},{"$f":"IF(Data!#REF!=\"\",\"\",Data!#REF!)","v":{"$error":"#REF!"}},{"$f":"IF(Data!#REF!=\"\",\"\",Data!#REF!)","v":{"$error":"#REF!"}},{"$error":"#REF!"},{"$error":"#REF!"},{"$error":"#REF!"}]
[{"$f":"IF(Data!#REF!=\"\",\"\",Data!#REF!)","v":{"$error":"#REF!"}},{"$f":"IF(Data!#REF!=\"\",\"\",Data!#REF!)","v":{"$error":"#REF!"}},{"$f":"IF(Data!#REF!=\"\",\"\",Data!#REF!)","v":{"$error":"#REF!"}},{"$f":"IF(Data!#REF!=\"\",\"\",Data!#REF!)","v":{"$error":"#REF!"}},{"$f":"IF(Data!#REF!=\"\",\"\",Data!#REF!)","v":{"$error":"#REF!"}},{"$error":"#REF!"},{"$error":"#REF!"},{"$error":"#REF!"}]
[{"$f":"IF(Data!#REF!=\"\",\"\",Data!#REF!)","v":{"$error":"#REF!"}},{"$f":"IF(Data!#REF!=\"\",\"\",Data!#REF!)","v":{"$error":"#REF!"}},{"$f":"IF(Data!#REF!=\"\",\"\",Data!#REF!)","v":{"$error":"#REF!"}},{"$f":"IF(Data!#REF!=\"\",\"\",Data!#REF!)","v":{"$error":"#REF!"}},{"$f":"IF(Data!#REF!=\"\",\"\",Data!#REF!)","v":{"$error":"#REF!"}},{"$error":"#REF!"},{"$error":"#REF!"},{"$error":"#REF!"}]
[{"$f":"IF(Data!#REF!=\"\",\"\",Data!#REF!)","v":{"$error":"#REF!"}},{"$f":"IF(Data!#REF!=\"\",\"\",Data!#REF!)","v":{"$error":"#REF!"}},{"$f":"IF(Data!#REF!=\"\",\"\",Data!#REF!)","v":{"$error":"#REF!"}},{"$f":"IF(Data!#REF!=\"\",\"\",Data!#REF!)","v":{"$error":"#REF!"}},{"$f":"IF(Data!#REF!=\"\",\"\",Data!#REF!)","v":{"$error":"#REF!"}},{"$error":"#REF!"},{"$error":"#REF!"},{"$error":"#REF!"}]
[{"$f":"IF(Data!#REF!=\"\",\"\",Data!#REF!)","v":{"$error":"#REF!"}},{"$f":"IF(Data!#REF!=\"\",\"\",Data!#REF!)","v":{"$error":"#REF!"}},{"$f":"IF(Data!#REF!=\"\",\"\",Data!#REF!)","v":{"$error":"#REF!"}},{"$f":"IF(Data!#REF!=\"\",\"\",Data!#REF!)","v":{"$error":"#REF!"}},{"$f":"IF(Data!#REF!=\"\",\"\",Data!#REF!)","v":{"$error":"#REF!"}},{"$error":"#REF!"},{"$error":"#REF!"},{"$error":"#REF!"}]
[{"$f":"IF(Data!#REF!=\"\",\"\",Data!#REF!)","v":{"$error":"#REF!"}},{"$f":"IF(Data!#REF!=\"\",\"\",Data!#REF!)","v":{"$error":"#REF!"}},{"$f":"IF(Data!#REF!=\"\",\"\",Data!#REF!)","v":{"$error":"#REF!"}},{"$f":"IF(Data!#REF!=\"\",\"\",Data!#REF!)","v":{"$error":"#REF!"}},{"$f":"IF(Data!#REF!=\"\",\"\",Data!#REF!)","v":{"$error":"#REF!"}},{"$error":"#REF!"},{"$error":"#REF!"},{"$error":"#REF!"}]
[{"$f":"IF(Data!#REF!=\"\",\"\",Data!#REF!)","v":{"$error":"#REF!"}},{"$f":"IF(Data!#REF!=\"\",\"\",Data!#REF!)","v":{"$error":"#REF!"}},{"$f":"IF(Data!#REF!=\"\",\"\",Data!#REF!)","v":{"$error":"#REF!"}},{"$f":"IF(Data!#REF!=\"\",\"\",Data!#REF!)","v":{"$error":"#REF!"}},{"$f":"IF(Data!#REF!=\"\",\"\",Data!#REF!)","v":{"$error":"#REF!"}},{"$error":"#REF!"},{"$error":"#REF!"},{"$error":"#REF!"}]
[{"$f":"IF(Data!#REF!=\"\",\"\",Data!#REF!)","v":{"$error":"#REF!"}},{"$f":"IF(Data!#REF!=\"\",\"\",Data!#REF!)","v":{"$error":"#REF!"}},{"$f":"IF(Data!#REF!=\"\",\"\",Data!#REF!)","v":{"$error":"#REF!"}},{"$f":"IF(Data!#REF!=\"\",\"\",Data!#REF!)","v":{"$error":"#REF!"}},{"$f":"IF(Data!#REF!=\"\",\"\",Data!#REF!)","v":{"$error":"#REF!"}},{"$error":"#REF!"},{"$error":"#REF!"},{"$error":"#REF!"}]
[{"$f":"IF(Data!#REF!=\"\",\"\",Data!#REF!)","v":{"$error":"#REF!"}},{"$f":"IF(Data!#REF!=\"\",\"\",Data!#REF!)","v":{"$error":"#REF!"}},{"$f":"IF(Data!#REF!=\"\",\"\",Data!#REF!)","v":{"$error":"#REF!"}},{"$f":"IF(Data!#REF!=\"\",\"\",Data!#REF!)","v":{"$error":"#REF!"}},{"$f":"IF(Data!#REF!=\"\",\"\",Data!#REF!)","v":{"$error":"#REF!"}},{"$error":"#REF!"},{"$error":"#REF!"},{"$error":"#REF!"}]
[{"$f":"IF(Data!#REF!=\"\",\"\",Data!#REF!)","v":{"$error":"#REF!"}},{"$f":"IF(Data!#REF!=\"\",\"\",Data!#REF!)","v":{"$error":"#REF!"}},{"$f":"IF(Data!#REF!=\"\",\"\",Data!#REF!)","v":{"$error":"#REF!"}},{"$f":"IF(Data!#REF!=\"\",\"\",Data!#REF!)","v":{"$error":"#REF!"}},{"$f":"IF(Data!#REF!=\"\",\"\",Data!#REF!)","v":{"$error":"#REF!"}},{"$error":"#REF!"},{"$error":"#REF!"},{"$error":"#REF!"}]
[{"$f":"IF(Data!#REF!=\"\",\"\",Data!#REF!)","v":{"$error":"#REF!"}},{"$f":"IF(Data!#REF!=\"\",\"\",Data!#REF!)","v":{"$error":"#REF!"}},{"$f":"IF(Data!#REF!=\"\",\"\",Data!#REF!)","v":{"$error":"#REF!"}},{"$f":"IF(Data!#REF!=\"\",\"\",Data!#REF!)","v":{"$error":"#REF!"}},{"$f":"IF(Data!#REF!=\"\",\"\",Data!#REF!)","v":{"$error":"#REF!"}},{"$error":"#REF!"},{"$error":"#REF!"},{"$error":"#REF!"}]
[{"$f":"IF(Data!#REF!=\"\",\"\",Data!#REF!)","v":{"$error":"#REF!"}},{"$f":"IF(Data!#REF!=\"\",\"\",Data!#REF!)","v":{"$error":"#REF!"}},{"$f":"IF(Data!#REF!=\"\",\"\",Data!#REF!)","v":{"$error":"#REF!"}},{"$f":"IF(Data!#REF!=\"\",\"\",Data!#REF!)","v":{"$error":"#REF!"}},{"$f":"IF(Data!#REF!=\"\",\"\",Data!#REF!)","v":{"$error":"#REF!"}},{"$error":"#REF!"},{"$error":"#REF!"},{"$error":"#REF!"}]
[{"$f":"IF(Data!#REF!=\"\",\"\",Data!#REF!)","v":{"$error":"#REF!"}},{"$f":"IF(Data!#REF!=\"\",\"\",Data!#REF!)","v":{"$error":"#REF!"}},{"$f":"IF(Data!#REF!=\"\",\"\",Data!#REF!)","v":{"$error":"#REF!"}},{"$f":"IF(Data!#REF!=\"\",\"\",Data!#REF!)","v":{"$error":"#REF!"}},{"$f":"IF(Data!#REF!=\"\",\"\",Data!#REF!)","v":{"$error":"#REF!"}},{"$error":"#REF!"},{"$error":"#REF!"},{"$error":"#REF!"}]
[{"$f":"IF(Data!#REF!=\"\",\"\",Data!#REF!)","v":{"$error":"#REF!"}},{"$f":"IF(Data!#REF!=\"\",\"\",Data!#REF!)","v":{"$error":"#REF!"}},{"$f":"IF(Data!#REF!=\"\",\"\",Data!#REF!)","v":{"$error":"#REF!"}},{"$f":"IF(Data!#REF!=\"\",\"\",Data!#REF!)","v":{"$error":"#REF!"}},{"$f":"IF(Data!#REF!=\"\",\"\",Data!#REF!)","v":{"$error":"#REF!"}},{"$error":"#REF!"},{"$error":"#REF!"},{"$error":"#REF!"}]
[{"$f":"IF(Data!#REF!=\"\",\"\",Data!#REF!)","v":{"$error":"#REF!"}},{"$f":"IF(Data!#REF!=\"\",\"\",Data!#REF!)","v":{"$error":"#REF!"}},{"$f":"IF(Data!#REF!=\"\",\"\",Data!#REF!)","v":{"$error":"#REF!"}},{"$f":"IF(Data!#REF!=\"\",\"\",Data!#REF!)","v":{"$error":"#REF!"}},{"$f":"IF(Data!#REF!=\"\",\"\",Data!#REF!)","v":{"$error":"#REF!"}},{"$error":"#REF!"},{"$error":"#REF!"},{"$error":"#REF!"}]
[{"$f":"IF(Data!#REF!=\"\",\"\",Data!#REF!)","v":{"$error":"#REF!"}},{"$f":"IF(Data!#REF!=\"\",\"\",Data!#REF!)","v":{"$error":"#REF!"}},{"$f":"IF(Data!#REF!=\"\",\"\",Data!#REF!)","v":{"$error":"#REF!"}},{"$f":"IF(Data!#REF!=\"\",\"\",Data!#REF!)","v":{"$error":"#REF!"}},{"$f":"IF(Data!#REF!=\"\",\"\",Data!#REF!)","v":{"$error":"#REF!"}},{"$error":"#REF!"},{"$error":"#REF!"},{"$error":"#REF!"}]
[{"$f":"IF(Data!#REF!=\"\",\"\",Data!#REF!)","v":{"$error":"#REF!"}},{"$f":"IF(Data!#REF!=\"\",\"\",Data!#REF!)","v":{"$error":"#REF!"}},{"$f":"IF(Data!#REF!=\"\",\"\",Data!#REF!)","v":{"$error":"#REF!"}},{"$f":"IF(Data!#REF!=\"\",\"\",Data!#REF!)","v":{"$error":"#REF!"}},{"$f":"IF(Data!#REF!=\"\",\"\",Data!#REF!)","v":{"$error":"#REF!"}},{"$error":"#REF!"},{"$error":"#REF!"},{"$error":"#REF!"}]
[{"$f":"IF(Data!#REF!=\"\",\"\",Data!#REF!)","v":{"$error":"#REF!"}},{"$f":"IF(Data!#REF!=\"\",\"\",Data!#REF!)","v":{"$error":"#REF!"}},{"$f":"IF(Data!#REF!=\"\",\"\",Data!#REF!)","v":{"$error":"#REF!"}},{"$f":"IF(Data!#REF!=\"\",\"\",Data!#REF!)","v":{"$error":"#REF!"}},{"$f":"IF(Data!#REF!=\"\",\"\",Data!#REF!)","v":{"$error":"#REF!"}},{"$error":"#REF!"},{"$error":"#REF!"},{"$error":"#REF!"}]
[{"$f":"IF(Data!#REF!=\"\",\"\",Data!#REF!)","v":{"$error":"#REF!"}},{"$f":"IF(Data!#REF!=\"\",\"\",Data!#REF!)","v":{"$error":"#REF!"}},{"$f":"IF(Data!#REF!=\"\",\"\",Data!#REF!)","v":{"$error":"#REF!"}},{"$f":"IF(Data!#REF!=\"\",\"\",Data!#REF!)","v":{"$error":"#REF!"}},{"$f":"IF(Data!#REF!=\"\",\"\",Data!#REF!)","v":{"$error":"#REF!"}},{"$error":"#REF!"},{"$error":"#REF!"},{"$error":"#REF!"}]
[{"$f":"IF(Data!#REF!=\"\",\"\",Data!#REF!)","v":{"$error":"#REF!"}},{"$f":"IF(Data!#REF!=\"\",\"\",Data!#REF!)","v":{"$error":"#REF!"}},{"$f":"IF(Data!#REF!=\"\",\"\",Data!#REF!)","v":{"$error":"#REF!"}},{"$f":"IF(Data!#REF!=\"\",\"\",Data!#REF!)","v":{"$error":"#REF!"}},{"$f":"IF(Data!#REF!=\"\",\"\",Data!#REF!)","v":{"$error":"#REF!"}},{"$error":"#REF!"},{"$error":"#REF!"},{"$error":"#REF!"}]
[{"$f":"IF(Data!#REF!=\"\",\"\",Data!#REF!)","v":{"$error":"#REF!"}},{"$f":"IF(Data!#REF!=\"\",\"\",Data!#REF!)","v":{"$error":"#REF!"}},{"$f":"IF(Data!#REF!=\"\",\"\",Data!#REF!)","v":{"$error":"#REF!"}},{"$f":"IF(Data!#REF!=\"\",\"\",Data!#REF!)","v":{"$error":"#REF!"}},{"$f":"IF(Data!#REF!=\"\",\"\",Data!#REF!)","v":{"$error":"#REF!"}},{"$error":"#REF!"},{"$error":"#REF!"},{"$error":"#REF!"}]
[{"$f":"IF(Data!#REF!=\"\",\"\",Data!#REF!)","v":{"$error":"#REF!"}},{"$f":"IF(Data!#REF!=\"\",\"\",Data!#REF!)","v":{"$error":"#REF!"}},{"$f":"IF(Data!#REF!=\"\",\"\",Data!#REF!)","v":{"$error":"#REF!"}},{"$f":"IF(Data!#REF!=\"\",\"\",Data!#REF!)","v":{"$error":"#REF!"}},{"$f":"IF(Data!#REF!=\"\",\"\",Data!#REF!)","v":{"$error":"#REF!"}},{"$error":"#REF!"},{"$error":"#REF!"},{"$error":"#REF!"}]
[{"$f":"IF(Data!#REF!=\"\",\"\",Data!#REF!)","v":{"$error":"#REF!"}},{"$f":"IF(Data!#REF!=\"\",\"\",Data!#REF!)","v":{"$error":"#REF!"}},{"$f":"IF(Data!#REF!=\"\",\"\",Data!#REF!)","v":{"$error":"#REF!"}},{"$f":"IF(Data!#REF!=\"\",\"\",Data!#REF!)","v":{"$error":"#REF!"}},{"$f":"IF(Data!#REF!=\"\",\"\",Data!#REF!)","v":{"$error":"#REF!"}},{"$error":"#REF!"},{"$error":"#REF!"},{"$error":"#REF!"}]
[{"$f":"IF(Data!#REF!=\"\",\"\",Data!#REF!)","v":{"$error":"#REF!"}},{"$f":"IF(Data!#REF!=\"\",\"\",Data!#REF!)","v":{"$error":"#REF!"}},{"$f":"IF(Data!#REF!=\"\",\"\",Data!#REF!)","v":{"$error":"#REF!"}},{"$f":"IF(Data!#REF!=\"\",\"\",Data!#REF!)","v":{"$error":"#REF!"}},{"$f":"IF(Data!#REF!=\"\",\"\",Data!#REF!)","v":{"$error":"#REF!"}},{"$error":"#REF!"},{"$error":"#REF!"},{"$error":"#REF!"}]
[{"$f":"IF(Data!#REF!=\"\",\"\",Data!#REF!)","v":{"$error":"#REF!"}},{"$f":"IF(Data!#REF!=\"\",\"\",Data!#REF!)","v":{"$error":"#REF!"}},{"$f":"IF(Data!#REF!=\"\",\"\",Data!#REF!)","v":{"$error":"#REF!"}},{"$f":"IF(Data!#REF!=\"\",\"\",Data!#REF!)","v":{"$error":"#REF!"}},{"$f":"IF(Data!#REF!=\"\",\"\",Data!#REF!)","v":{"$error":"#REF!"}},{"$error":"#REF!"},{"$error":"#REF!"},{"$error":"#REF!"}]
[{"$f":"IF(Data!#REF!=\"\",\"\",Data!#REF!)","v":{"$error":"#REF!"}},{"$f":"IF(Data!#REF!=\"\",\"\",Data!#REF!)","v":{"$error":"#REF!"}},{"$f":"IF(Data!#REF!=\"\",\"\",Data!#REF!)","v":{"$error":"#REF!"}},{"$f":"IF(Data!#REF!=\"\",\"\",Data!#REF!)","v":{"$error":"#REF!"}},{"$f":"IF(Data!#REF!=\"\",\"\",Data!#REF!)","v":{"$error":"#REF!"}},{"$error":"#REF!"},{"$error":"#REF!"},{"$error":"#REF!"}]
[{"$f":"IF(Data!#REF!=\"\",\"\",Data!#REF!)","v":{"$error":"#REF!"}},{"$f":"IF(Data!#REF!=\"\",\"\",Data!#REF!)","v":{"$error":"#REF!"}},{"$f":"IF(Data!#REF!=\"\",\"\",Data!#REF!)","v":{"$error":"#REF!"}},{"$f":"IF(Data!#REF!=\"\",\"\",Data!#REF!)","v":{"$error":"#REF!"}},{"$f":"IF(Data!#REF!=\"\",\"\",Data!#REF!)","v":{"$error":"#REF!"}},{"$error":"#REF!"},{"$error":"#REF!"},{"$error":"#REF!"}]
[{"$f":"IF(Data!#REF!=\"\",\"\",Data!#REF!)","v":{"$error":"#REF!"}},{"$f":"IF(Data!#REF!=\"\",\"\",Data!#REF!)","v":{"$error":"#REF!"}},{"$f":"IF(Data!#REF!=\"\",\"\",Data!#REF!)","v":{"$error":"#REF!"}},{"$f":"IF(Data!#REF!=\"\",\"\",Data!#REF!)","v":{"$error":"#REF!"}},{"$f":"IF(Data!#REF!=\"\",\"\",Data!#REF!)","v":{"$error":"#REF!"}},{"$error":"#REF!"},{"$error":"#REF!"},{"$error":"#REF!"}]
[{"$f":"IF(Data!#REF!=\"\",\"\",Data!#REF!)","v":{"$error":"#REF!"}},{"$f":"IF(Data!#REF!=\"\",\"\",Data!#REF!)","v":{"$error":"#REF!"}},{"$f":"IF(Data!#REF!=\"\",\"\",Data!#REF!)","v":{"$error":"#REF!"}},{"$f":"IF(Data!#REF!=\"\",\"\",Data!#REF!)","v":{"$error":"#REF!"}},{"$f":"IF(Data!#REF!=\"\",\"\",Data!#REF!)","v":{"$error":"#REF!"}},{"$error":"#REF!"},{"$error":"#REF!"},{"$error":"#REF!"}]
[{"$f":"IF(Data!#REF!=\"\",\"\",Data!#REF!)","v":{"$error":"#REF!"}},{"$f":"IF(Data!#REF!=\"\",\"\",Data!#REF!)","v":{"$error":"#REF!"}},{"$f":"IF(Data!#REF!=\"\",\"\",Data!#REF!)","v":{"$error":"#REF!"}},{"$f":"IF(Data!#REF!=\"\",\"\",Data!#REF!)","v":{"$error":"#REF!"}},{"$f":"IF(Data!#REF!=\"\",\"\",Data!#REF!)","v":{"$error":"#REF!"}},{"$error":"#REF!"},{"$error":"#REF!"},{"$error":"#REF!"}]
[{"$f":"IF(Data!#REF!=\"\",\"\",Data!#REF!)","v":{"$error":"#REF!"}},{"$f":"IF(Data!#REF!=\"\",\"\",Data!#REF!)","v":{"$error":"#REF!"}},{"$f":"IF(Data!#REF!=\"\",\"\",Data!#REF!)","v":{"$error":"#REF!"}},{"$f":"IF(Data!#REF!=\"\",\"\",Data!#REF!)","v":{"$error":"#REF!"}},{"$f":"IF(Data!#REF!=\"\",\"\",Data!#REF!)","v":{"$error":"#REF!"}},{"$error":"#REF!"},{"$error":"#REF!"},{"$error":"#REF!"}]
[{"$f":"IF(Data!#REF!=\"\",\"\",Data!#REF!)","v":{"$error":"#REF!"}},{"$f":"IF(Data!#REF!=\"\",\"\",Data!#REF!)","v":{"$error":"#REF!"}},{"$f":"IF(Data!#REF!=\"\",\"\",Data!#REF!)","v":{"$error":"#REF!"}},{"$f":"IF(Data!#REF!=\"\",\"\",Data!#REF!)","v":{"$error":"#REF!"}},{"$f":"IF(Data!#REF!=\"\",\"\",Data!#REF!)","v":{"$error":"#REF!"}},{"$error":"#REF!"},{"$error":"#REF!"},{"$error":"#REF!"}]
[{"$f":"IF(Data!#REF!=\"\",\"\",Data!#REF!)","v":{"$error":"#REF!"}},{"$f":"IF(Data!#REF!=\"\",\"\",Data!#REF!)","v":{"$error":"#REF!"}},{"$f":"IF(Data!#REF!=\"\",\"\",Data!#REF!)","v":{"$error":"#REF!"}},{"$f":"IF(Data!#REF!=\"\",\"\",Data!#REF!)","v":{"$error":"#REF!"}},{"$f":"IF(Data!#REF!=\"\",\"\",Data!#REF!)","v":{"$error":"#REF!"}},{"$error":"#REF!"},{"$error":"#REF!"},{"$error":"#REF!"}]
[{"$f":"IF(Data!#REF!=\"\",\"\",Data!#REF!)","v":{"$error":"#REF!"}},{"$f":"IF(Data!#REF!=\"\",\"\",Data!#REF!)","v":{"$error":"#REF!"}},{"$f":"IF(Data!#REF!=\"\",\"\",Data!#REF!)","v":{"$error":"#REF!"}},{"$f":"IF(Data!#REF!=\"\",\"\",Data!#REF!)","v":{"$error":"#REF!"}},{"$f":"IF(Data!#REF!=\"\",\"\",Data!#REF!)","v":{"$error":"#REF!"}},{"$error":"#REF!"},{"$error":"#REF!"},{"$error":"#REF!"}]
[{"$f":"IF(Data!#REF!=\"\",\"\",Data!#REF!)","v":{"$error":"#REF!"}},{"$f":"IF(Data!#REF!=\"\",\"\",Data!#REF!)","v":{"$error":"#REF!"}},{"$f":"IF(Data!#REF!=\"\",\"\",Data!#REF!)","v":{"$error":"#REF!"}},{"$f":"IF(Data!#REF!=\"\",\"\",Data!#REF!)","v":{"$error":"#REF!"}},{"$f":"IF(Data!#REF!=\"\",\"\",Data!#REF!)","v":{"$error":"#REF!"}},{"$error":"#REF!"},{"$error":"#REF!"},{"$error":"#REF!"}]
[{"$f":"IF(Data!#REF!=\"\",\"\",Data!#REF!)","v":{"$error":"#REF!"}},{"$f":"IF(Data!#REF!=\"\",\"\",Data!#REF!)","v":{"$error":"#REF!"}},{"$f":"IF(Data!#REF!=\"\",\"\",Data!#REF!)","v":{"$error":"#REF!"}},{"$f":"IF(Data!#REF!=\"\",\"\",Data!#REF!)","v":{"$error":"#REF!"}},{"$f":"IF(Data!#REF!=\"\",\"\",Data!#REF!)","v":{"$error":"#REF!"}},{"$error":"#REF!"},{"$error":"#REF!"},{"$error":"#REF!"}]
[{"$f":"IF(Data!#REF!=\"\",\"\",Data!#REF!)","v":{"$error":"#REF!"}},{"$f":"IF(Data!#REF!=\"\",\"\",Data!#REF!)","v":{"$error":"#REF!"}},{"$f":"IF(Data!#REF!=\"\",\"\",Data!#REF!)","v":{"$error":"#REF!"}},{"$f":"IF(Data!#REF!=\"\",\"\",Data!#REF!)","v":{"$error":"#REF!"}},{"$f":"IF(Data!#REF!=\"\",\"\",Data!#REF!)","v":{"$error":"#REF!"}},{"$error":"#REF!"},{"$error":"#REF!"},{"$error":"#REF!"}]
[{"$f":"IF(Data!#REF!=\"\",\"\",Data!#REF!)","v":{"$error":"#REF!"}},{"$f":"IF(Data!#REF!=\"\",\"\",Data!#REF!)","v":{"$error":"#REF!"}},{"$f":"IF(Data!#REF!=\"\",\"\",Data!#REF!)","v":{"$error":"#REF!"}},{"$f":"IF(Data!#REF!=\"\",\"\",Data!#REF!)","v":{"$error":"#REF!"}},{"$f":"IF(Data!#REF!=\"\",\"\",Data!#REF!)","v":{"$error":"#REF!"}},{"$error":"#REF!"},{"$error":"#REF!"},{"$error":"#REF!"}]
[{"$f":"IF(Data!#REF!=\"\",\"\",Data!#REF!)","v":{"$error":"#REF!"}},{"$f":"IF(Data!#REF!=\"\",\"\",Data!#REF!)","v":{"$error":"#REF!"}},{"$f":"IF(Data!#REF!=\"\",\"\",Data!#REF!)","v":{"$error":"#REF!"}},{"$f":"IF(Data!#REF!=\"\",\"\",Data!#REF!)","v":{"$error":"#REF!"}},{"$f":"IF(Data!#REF!=\"\",\"\",Data!#REF!)","v":{"$error":"#REF!"}},{"$error":"#REF!"},{"$error":"#REF!"},{"$error":"#REF!"}]
[{"$f":"IF(Data!#REF!=\"\",\"\",Data!#REF!)","v":{"$error":"#REF!"}},{"$f":"IF(Data!#REF!=\"\",\"\",Data!#REF!)","v":{"$error":"#REF!"}},{"$f":"IF(Data!#REF!=\"\",\"\",Data!#REF!)","v":{"$error":"#REF!"}},{"$f":"IF(Data!#REF!=\"\",\"\",Data!#REF!)","v":{"$error":"#REF!"}},{"$f":"IF(Data!#REF!=\"\",\"\",Data!#REF!)","v":{"$error":"#REF!"}},{"$error":"#REF!"},{"$error":"#REF!"},{"$error":"#REF!"}]
[{"$f":"IF(Data!#REF!=\"\",\"\",Data!#REF!)","v":{"$error":"#REF!"}},{"$f":"IF(Data!#REF!=\"\",\"\",Data!#REF!)","v":{"$error":"#REF!"}},{"$f":"IF(Data!#REF!=\"\",\"\",Data!#REF!)","v":{"$error":"#REF!"}},{"$f":"IF(Data!#REF!=\"\",\"\",Data!#REF!)","v":{"$error":"#REF!"}},{"$f":"IF(Data!#REF!=\"\",\"\",Data!#REF!)","v":{"$error":"#REF!"}},{"$error":"#REF!"},{"$error":"#REF!"},{"$error":"#REF!"}]
[{"$f":"IF(Data!#REF!=\"\",\"\",Data!#REF!)","v":{"$error":"#REF!"}},{"$f":"IF(Data!#REF!=\"\",\"\",Data!#REF!)","v":{"$error":"#REF!"}},{"$f":"IF(Data!#REF!=\"\",\"\",Data!#REF!)","v":{"$error":"#REF!"}},{"$f":"IF(Data!#REF!=\"\",\"\",Data!#REF!)","v":{"$error":"#REF!"}},{"$f":"IF(Data!#REF!=\"\",\"\",Data!#REF!)","v":{"$error":"#REF!"}},{"$error":"#REF!"},{"$error":"#REF!"},{"$error":"#REF!"}]
[{"$f":"IF(Data!#REF!=\"\",\"\",Data!#REF!)","v":{"$error":"#REF!"}},{"$f":"IF(Data!#REF!=\"\",\"\",Data!#REF!)","v":{"$error":"#REF!"}},{"$f":"IF(Data!#REF!=\"\",\"\",Data!#REF!)","v":{"$error":"#REF!"}},{"$f":"IF(Data!#REF!=\"\",\"\",Data!#REF!)","v":{"$error":"#REF!"}},{"$f":"IF(Data!#REF!=\"\",\"\",Data!#REF!)","v":{"$error":"#REF!"}},{"$error":"#REF!"},{"$error":"#REF!"},{"$error":"#REF!"}]
[{"$f":"IF(Data!#REF!=\"\",\"\",Data!#REF!)","v":{"$error":"#REF!"}},{"$f":"IF(Data!#REF!=\"\",\"\",Data!#REF!)","v":{"$error":"#REF!"}},{"$f":"IF(Data!#REF!=\"\",\"\",Data!#REF!)","v":{"$error":"#REF!"}},{"$f":"IF(Data!#REF!=\"\",\"\",Data!#REF!)","v":{"$error":"#REF!"}},{"$f":"IF(Data!#REF!=\"\",\"\",Data!#REF!)","v":{"$error":"#REF!"}},{"$error":"#REF!"},{"$error":"#REF!"},{"$error":"#REF!"}]
[{"$f":"IF(Data!#REF!=\"\",\"\",Data!#REF!)","v":{"$error":"#REF!"}},{"$f":"IF(Data!#REF!=\"\",\"\",Data!#REF!)","v":{"$error":"#REF!"}},{"$f":"IF(Data!#REF!=\"\",\"\",Data!#REF!)","v":{"$error":"#REF!"}},{"$f":"IF(Data!#REF!=\"\",\"\",Data!#REF!)","v":{"$error":"#REF!"}},{"$f":"IF(Data!#REF!=\"\",\"\",Data!#REF!)","v":{"$error":"#REF!"}},{"$f":"IF(E195>0,MONTH(E195),\"\")","v":{"$error":"#REF!"}},{"$f":"IF(E195>0,WEEKNUM(E195),\"0\")","v":{"$error":"#REF!"}},{"$f":"IF(G195>=($G$2-3),\"Ano\",\"Nie\")","v":{"$error":"#REF!"}}]
[{"$f":"IF(Data!#REF!=\"\",\"\",Data!#REF!)","v":{"$error":"#REF!"}},{"$f":"IF(Data!#REF!=\"\",\"\",Data!#REF!)","v":{"$error":"#REF!"}},{"$f":"IF(Data!#REF!=\"\",\"\",Data!#REF!)","v":{"$error":"#REF!"}},{"$f":"IF(Data!#REF!=\"\",\"\",Data!#REF!)","v":{"$error":"#REF!"}},{"$f":"IF(Data!#REF!=\"\",\"\",Data!#REF!)","v":{"$error":"#REF!"}},{"$error":"#REF!"},{"$error":"#REF!"},{"$error":"#REF!"}]
[{"$f":"IF(Data!#REF!=\"\",\"\",Data!#REF!)","v":{"$error":"#REF!"}},{"$f":"IF(Data!#REF!=\"\",\"\",Data!#REF!)","v":{"$error":"#REF!"}},{"$f":"IF(Data!#REF!=\"\",\"\",Data!#REF!)","v":{"$error":"#REF!"}},{"$f":"IF(Data!#REF!=\"\",\"\",Data!#REF!)","v":{"$error":"#REF!"}},{"$f":"IF(Data!#REF!=\"\",\"\",Data!#REF!)","v":{"$error":"#REF!"}},{"$error":"#REF!"},{"$error":"#REF!"},{"$error":"#REF!"}]
[{"$f":"IF(Data!#REF!=\"\",\"\",Data!#REF!)","v":{"$error":"#REF!"}},{"$f":"IF(Data!#REF!=\"\",\"\",Data!#REF!)","v":{"$error":"#REF!"}},{"$f":"IF(Data!#REF!=\"\",\"\",Data!#REF!)","v":{"$error":"#REF!"}},{"$f":"IF(Data!#REF!=\"\",\"\",Data!#REF!)","v":{"$error":"#REF!"}},{"$f":"IF(Data!#REF!=\"\",\"\",Data!#REF!)","v":{"$error":"#REF!"}},{"$error":"#REF!"},{"$error":"#REF!"},{"$error":"#REF!"}]
[{"$f":"IF(Data!#REF!=\"\",\"\",Data!#REF!)","v":{"$error":"#REF!"}},{"$f":"IF(Data!#REF!=\"\",\"\",Data!#REF!)","v":{"$error":"#REF!"}},{"$f":"IF(Data!#REF!=\"\",\"\",Data!#REF!)","v":{"$error":"#REF!"}},{"$f":"IF(Data!#REF!=\"\",\"\",Data!#REF!)","v":{"$error":"#REF!"}},{"$f":"IF(Data!#REF!=\"\",\"\",Data!#REF!)","v":{"$error":"#REF!"}},{"$error":"#REF!"},{"$error":"#REF!"},{"$error":"#REF!"}]
[{"$f":"IF(Data!#REF!=\"\",\"\",Data!#REF!)","v":{"$error":"#REF!"}},{"$f":"IF(Data!#REF!=\"\",\"\",Data!#REF!)","v":{"$error":"#REF!"}},{"$f":"IF(Data!#REF!=\"\",\"\",Data!#REF!)","v":{"$error":"#REF!"}},{"$f":"IF(Data!#REF!=\"\",\"\",Data!#REF!)","v":{"$error":"#REF!"}},{"$f":"IF(Data!#REF!=\"\",\"\",Data!#REF!)","v":{"$error":"#REF!"}},{"$error":"#REF!"},{"$error":"#REF!"},{"$error":"#REF!"}]
[{"$f":"IF(Data!#REF!=\"\",\"\",Data!#REF!)","v":{"$error":"#REF!"}},{"$f":"IF(Data!#REF!=\"\",\"\",Data!#REF!)","v":{"$error":"#REF!"}},{"$f":"IF(Data!#REF!=\"\",\"\",Data!#REF!)","v":{"$error":"#REF!"}},{"$f":"IF(Data!#REF!=\"\",\"\",Data!#REF!)","v":{"$error":"#REF!"}},{"$f":"IF(Data!#REF!=\"\",\"\",Data!#REF!)","v":{"$error":"#REF!"}},{"$error":"#REF!"},{"$error":"#REF!"},{"$error":"#REF!"}]
[{"$f":"IF(Data!#REF!=\"\",\"\",Data!#REF!)","v":{"$error":"#REF!"}},{"$f":"IF(Data!#REF!=\"\",\"\",Data!#REF!)","v":{"$error":"#REF!"}},{"$f":"IF(Data!#REF!=\"\",\"\",Data!#REF!)","v":{"$error":"#REF!"}},{"$f":"IF(Data!#REF!=\"\",\"\",Data!#REF!)","v":{"$error":"#REF!"}},{"$f":"IF(Data!#REF!=\"\",\"\",Data!#REF!)","v":{"$error":"#REF!"}},{"$error":"#REF!"},{"$error":"#REF!"},{"$error":"#REF!"}]
[{"$f":"IF(Data!#REF!=\"\",\"\",Data!#REF!)","v":{"$error":"#REF!"}},{"$f":"IF(Data!#REF!=\"\",\"\",Data!#REF!)","v":{"$error":"#REF!"}},{"$f":"IF(Data!#REF!=\"\",\"\",Data!#REF!)","v":{"$error":"#REF!"}},{"$f":"IF(Data!#REF!=\"\",\"\",Data!#REF!)","v":{"$error":"#REF!"}},{"$f":"IF(Data!#REF!=\"\",\"\",Data!#REF!)","v":{"$error":"#REF!"}},{"$error":"#REF!"},{"$error":"#REF!"},{"$error":"#REF!"}]
[{"$f":"IF(Data!#REF!=\"\",\"\",Data!#REF!)","v":{"$error":"#REF!"}},{"$f":"IF(Data!#REF!=\"\",\"\",Data!#REF!)","v":{"$error":"#REF!"}},{"$f":"IF(Data!#REF!=\"\",\"\",Data!#REF!)","v":{"$error":"#REF!"}},{"$f":"IF(Data!#REF!=\"\",\"\",Data!#REF!)","v":{"$error":"#REF!"}},{"$f":"IF(Data!#REF!=\"\",\"\",Data!#REF!)","v":{"$error":"#REF!"}},{"$error":"#REF!"},{"$error":"#REF!"},{"$error":"#REF!"}]
[{"$f":"IF(Data!#REF!=\"\",\"\",Data!#REF!)","v":{"$error":"#REF!"}},{"$f":"IF(Data!#REF!=\"\",\"\",Data!#REF!)","v":{"$error":"#REF!"}},{"$f":"IF(Data!#REF!=\"\",\"\",Data!#REF!)","v":{"$error":"#REF!"}},{"$f":"IF(Data!#REF!=\"\",\"\",Data!#REF!)","v":{"$error":"#REF!"}},{"$f":"IF(Data!#REF!=\"\",\"\",Data!#REF!)","v":{"$error":"#REF!"}},{"$error":"#REF!"},{"$error":"#REF!"},{"$error":"#REF!"}]
[{"$f":"IF(Data!#REF!=\"\",\"\",Data!#REF!)","v":{"$error":"#REF!"}},{"$f":"IF(Data!#REF!=\"\",\"\",Data!#REF!)","v":{"$error":"#REF!"}},{"$f":"IF(Data!#REF!=\"\",\"\",Data!#REF!)","v":{"$error":"#REF!"}},{"$f":"IF(Data!#REF!=\"\",\"\",Data!#REF!)","v":{"$error":"#REF!"}},{"$f":"IF(Data!#REF!=\"\",\"\",Data!#REF!)","v":{"$error":"#REF!"}},{"$error":"#REF!"},{"$error":"#REF!"},{"$error":"#REF!"}]
[{"$f":"IF(Data!#REF!=\"\",\"\",Data!#REF!)","v":{"$error":"#REF!"}},{"$f":"IF(Data!#REF!=\"\",\"\",Data!#REF!)","v":{"$error":"#REF!"}},{"$f":"IF(Data!#REF!=\"\",\"\",Data!#REF!)","v":{"$error":"#REF!"}},{"$f":"IF(Data!#REF!=\"\",\"\",Data!#REF!)","v":{"$error":"#REF!"}},{"$f":"IF(Data!#REF!=\"\",\"\",Data!#REF!)","v":{"$error":"#REF!"}},{"$error":"#REF!"},{"$error":"#REF!"},{"$error":"#REF!"}]
[{"$f":"IF(Data!#REF!=\"\",\"\",Data!#REF!)","v":{"$error":"#REF!"}},{"$f":"IF(Data!#REF!=\"\",\"\",Data!#REF!)","v":{"$error":"#REF!"}},{"$f":"IF(Data!#REF!=\"\",\"\",Data!#REF!)","v":{"$error":"#REF!"}},{"$f":"IF(Data!#REF!=\"\",\"\",Data!#REF!)","v":{"$error":"#REF!"}},{"$f":"IF(Data!#REF!=\"\",\"\",Data!#REF!)","v":{"$error":"#REF!"}},{"$error":"#REF!"},{"$error":"#REF!"},{"$error":"#REF!"}]
[{"$f":"IF(Data!#REF!=\"\",\"\",Data!#REF!)","v":{"$error":"#REF!"}},{"$f":"IF(Data!#REF!=\"\",\"\",Data!#REF!)","v":{"$error":"#REF!"}},{"$f":"IF(Data!#REF!=\"\",\"\",Data!#REF!)","v":{"$error":"#REF!"}},{"$f":"IF(Data!#REF!=\"\",\"\",Data!#REF!)","v":{"$error":"#REF!"}},{"$f":"IF(Data!#REF!=\"\",\"\",Data!#REF!)","v":{"$error":"#REF!"}},{"$error":"#REF!"},{"$error":"#REF!"},{"$error":"#REF!"}]
[{"$f":"IF(Data!#REF!=\"\",\"\",Data!#REF!)","v":{"$error":"#REF!"}},{"$f":"IF(Data!#REF!=\"\",\"\",Data!#REF!)","v":{"$error":"#REF!"}},{"$f":"IF(Data!#REF!=\"\",\"\",Data!#REF!)","v":{"$error":"#REF!"}},{"$f":"IF(Data!#REF!=\"\",\"\",Data!#REF!)","v":{"$error":"#REF!"}},{"$f":"IF(Data!#REF!=\"\",\"\",Data!#REF!)","v":{"$error":"#REF!"}},{"$error":"#REF!"},{"$error":"#REF!"},{"$error":"#REF!"}]
[{"$f":"IF(Data!#REF!=\"\",\"\",Data!#REF!)","v":{"$error":"#REF!"}},{"$f":"IF(Data!#REF!=\"\",\"\",Data!#REF!)","v":{"$error":"#REF!"}},{"$f":"IF(Data!#REF!=\"\",\"\",Data!#REF!)","v":{"$error":"#REF!"}},{"$f":"IF(Data!#REF!=\"\",\"\",Data!#REF!)","v":{"$error":"#REF!"}},{"$f":"IF(Data!#REF!=\"\",\"\",Data!#REF!)","v":{"$error":"#REF!"}},{"$error":"#REF!"},{"$error":"#REF!"},{"$error":"#REF!"}]
[{"$f":"IF(Data!#REF!=\"\",\"\",Data!#REF!)","v":{"$error":"#REF!"}},{"$f":"IF(Data!#REF!=\"\",\"\",Data!#REF!)","v":{"$error":"#REF!"}},{"$f":"IF(Data!#REF!=\"\",\"\",Data!#REF!)","v":{"$error":"#REF!"}},{"$f":"IF(Data!#REF!=\"\",\"\",Data!#REF!)","v":{"$error":"#REF!"}},{"$f":"IF(Data!#REF!=\"\",\"\",Data!#REF!)","v":{"$error":"#REF!"}},{"$error":"#REF!"},{"$error":"#REF!"},{"$error":"#REF!"}]
[{"$f":"IF(Data!#REF!=\"\",\"\",Data!#REF!)","v":{"$error":"#REF!"}},{"$f":"IF(Data!#REF!=\"\",\"\",Data!#REF!)","v":{"$error":"#REF!"}},{"$f":"IF(Data!#REF!=\"\",\"\",Data!#REF!)","v":{"$error":"#REF!"}},{"$f":"IF(Data!#REF!=\"\",\"\",Data!#REF!)","v":{"$error":"#REF!"}},{"$f":"IF(Data!#REF!=\"\",\"\",Data!#REF!)","v":{"$error":"#REF!"}},{"$error":"#REF!"},{"$error":"#REF!"},{"$error":"#REF!"}]
[{"$f":"IF(Data!#REF!=\"\",\"\",Data!#REF!)","v":{"$error":"#REF!"}},{"$f":"IF(Data!#REF!=\"\",\"\",Data!#REF!)","v":{"$error":"#REF!"}},{"$f":"IF(Data!#REF!=\"\",\"\",Data!#REF!)","v":{"$error":"#REF!"}},{"$f":"IF(Data!#REF!=\"\",\"\",Data!#REF!)","v":{"$error":"#REF!"}},{"$f":"IF(Data!#REF!=\"\",\"\",Data!#REF!)","v":{"$error":"#REF!"}},{"$error":"#REF!"},{"$error":"#REF!"},{"$error":"#REF!"}]
[{"$f":"IF(Data!#REF!=\"\",\"\",Data!#REF!)","v":{"$error":"#REF!"}},{"$f":"IF(Data!#REF!=\"\",\"\",Data!#REF!)","v":{"$error":"#REF!"}},{"$f":"IF(Data!#REF!=\"\",\"\",Data!#REF!)","v":{"$error":"#REF!"}},{"$f":"IF(Data!#REF!=\"\",\"\",Data!#REF!)","v":{"$error":"#REF!"}},{"$f":"IF(Data!#REF!=\"\",\"\",Data!#REF!)","v":{"$error":"#REF!"}},{"$error":"#REF!"},{"$error":"#REF!"},{"$error":"#REF!"}]
[{"$f":"IF(Data!#REF!=\"\",\"\",Data!#REF!)","v":{"$error":"#REF!"}},{"$f":"IF(Data!#REF!=\"\",\"\",Data!#REF!)","v":{"$error":"#REF!"}},{"$f":"IF(Data!#REF!=\"\",\"\",Data!#REF!)","v":{"$error":"#REF!"}},{"$f":"IF(Data!#REF!=\"\",\"\",Data!#REF!)","v":{"$error":"#REF!"}},{"$f":"IF(Data!#REF!=\"\",\"\",Data!#REF!)","v":{"$error":"#REF!"}},{"$error":"#REF!"},{"$error":"#REF!"},{"$error":"#REF!"}]
[{"$f":"IF(Data!#REF!=\"\",\"\",Data!#REF!)","v":{"$error":"#REF!"}},{"$f":"IF(Data!#REF!=\"\",\"\",Data!#REF!)","v":{"$error":"#REF!"}},{"$f":"IF(Data!#REF!=\"\",\"\",Data!#REF!)","v":{"$error":"#REF!"}},{"$f":"IF(Data!#REF!=\"\",\"\",Data!#REF!)","v":{"$error":"#REF!"}},{"$f":"IF(Data!#REF!=\"\",\"\",Data!#REF!)","v":{"$error":"#REF!"}},{"$error":"#REF!"},{"$error":"#REF!"},{"$error":"#REF!"}]
[{"$f":"IF(Data!#REF!=\"\",\"\",Data!#REF!)","v":{"$error":"#REF!"}},{"$f":"IF(Data!#REF!=\"\",\"\",Data!#REF!)","v":{"$error":"#REF!"}},{"$f":"IF(Data!#REF!=\"\",\"\",Data!#REF!)","v":{"$error":"#REF!"}},{"$f":"IF(Data!#REF!=\"\",\"\",Data!#REF!)","v":{"$error":"#REF!"}},{"$f":"IF(Data!#REF!=\"\",\"\",Data!#REF!)","v":{"$error":"#REF!"}},{"$error":"#REF!"},{"$error":"#REF!"},{"$error":"#REF!"}]
[{"$f":"IF(Data!#REF!=\"\",\"\",Data!#REF!)","v":{"$error":"#REF!"}},{"$f":"IF(Data!#REF!=\"\",\"\",Data!#REF!)","v":{"$error":"#REF!"}},{"$f":"IF(Data!#REF!=\"\",\"\",Data!#REF!)","v":{"$error":"#REF!"}},{"$f":"IF(Data!#REF!=\"\",\"\",Data!#REF!)","v":{"$error":"#REF!"}},{"$f":"IF(Data!#REF!=\"\",\"\",Data!#REF!)","v":{"$error":"#REF!"}},{"$error":"#REF!"},{"$error":"#REF!"},{"$error":"#REF!"}]
[{"$f":"IF(Data!#REF!=\"\",\"\",Data!#REF!)","v":{"$error":"#REF!"}},{"$f":"IF(Data!#REF!=\"\",\"\",Data!#REF!)","v":{"$error":"#REF!"}},{"$f":"IF(Data!#REF!=\"\",\"\",Data!#REF!)","v":{"$error":"#REF!"}},{"$f":"IF(Data!#REF!=\"\",\"\",Data!#REF!)","v":{"$error":"#REF!"}},{"$f":"IF(Data!#REF!=\"\",\"\",Data!#REF!)","v":{"$error":"#REF!"}},{"$error":"#REF!"},{"$error":"#REF!"},{"$error":"#REF!"}]
[{"$f":"IF(Data!#REF!=\"\",\"\",Data!#REF!)","v":{"$error":"#REF!"}},{"$f":"IF(Data!#REF!=\"\",\"\",Data!#REF!)","v":{"$error":"#REF!"}},{"$f":"IF(Data!#REF!=\"\",\"\",Data!#REF!)","v":{"$error":"#REF!"}},{"$f":"IF(Data!#REF!=\"\",\"\",Data!#REF!)","v":{"$error":"#REF!"}},{"$f":"IF(Data!#REF!=\"\",\"\",Data!#REF!)","v":{"$error":"#REF!"}},{"$error":"#REF!"},{"$error":"#REF!"},{"$error":"#REF!"}]
[{"$f":"IF(Data!#REF!=\"\",\"\",Data!#REF!)","v":{"$error":"#REF!"}},{"$f":"IF(Data!#REF!=\"\",\"\",Data!#REF!)","v":{"$error":"#REF!"}},{"$f":"IF(Data!#REF!=\"\",\"\",Data!#REF!)","v":{"$error":"#REF!"}},{"$f":"IF(Data!#REF!=\"\",\"\",Data!#REF!)","v":{"$error":"#REF!"}},{"$f":"IF(Data!#REF!=\"\",\"\",Data!#REF!)","v":{"$error":"#REF!"}},{"$error":"#REF!"},{"$error":"#REF!"},{"$error":"#REF!"}]
[{"$f":"IF(Data!#REF!=\"\",\"\",Data!#REF!)","v":{"$error":"#REF!"}},{"$f":"IF(Data!#REF!=\"\",\"\",Data!#REF!)","v":{"$error":"#REF!"}},{"$f":"IF(Data!#REF!=\"\",\"\",Data!#REF!)","v":{"$error":"#REF!"}},{"$f":"IF(Data!#REF!=\"\",\"\",Data!#REF!)","v":{"$error":"#REF!"}},{"$f":"IF(Data!#REF!=\"\",\"\",Data!#REF!)","v":{"$error":"#REF!"}},{"$error":"#REF!"},{"$error":"#REF!"},{"$error":"#REF!"}]
[{"$f":"IF(Data!#REF!=\"\",\"\",Data!#REF!)","v":{"$error":"#REF!"}},{"$f":"IF(Data!#REF!=\"\",\"\",Data!#REF!)","v":{"$error":"#REF!"}},{"$f":"IF(Data!#REF!=\"\",\"\",Data!#REF!)","v":{"$error":"#REF!"}},{"$f":"IF(Data!#REF!=\"\",\"\",Data!#REF!)","v":{"$error":"#REF!"}},{"$f":"IF(Data!#REF!=\"\",\"\",Data!#REF!)","v":{"$error":"#REF!"}},{"$error":"#REF!"},{"$error":"#REF!"},{"$error":"#REF!"}]
[{"$f":"IF(Data!#REF!=\"\",\"\",Data!#REF!)","v":{"$error":"#REF!"}},{"$f":"IF(Data!#REF!=\"\",\"\",Data!#REF!)","v":{"$error":"#REF!"}},{"$f":"IF(Data!#REF!=\"\",\"\",Data!#REF!)","v":{"$error":"#REF!"}},{"$f":"IF(Data!#REF!=\"\",\"\",Data!#REF!)","v":{"$error":"#REF!"}},{"$f":"IF(Data!#REF!=\"\",\"\",Data!#REF!)","v":{"$error":"#REF!"}},{"$error":"#REF!"},{"$error":"#REF!"},{"$error":"#REF!"}]
[{"$f":"IF(Data!#REF!=\"\",\"\",Data!#REF!)","v":{"$error":"#REF!"}},{"$f":"IF(Data!#REF!=\"\",\"\",Data!#REF!)","v":{"$error":"#REF!"}},{"$f":"IF(Data!#REF!=\"\",\"\",Data!#REF!)","v":{"$error":"#REF!"}},{"$f":"IF(Data!#REF!=\"\",\"\",Data!#REF!)","v":{"$error":"#REF!"}},{"$f":"IF(Data!#REF!=\"\",\"\",Data!#REF!)","v":{"$error":"#REF!"}},{"$error":"#REF!"},{"$error":"#REF!"},{"$error":"#REF!"}]
[{"$f":"IF(Data!#REF!=\"\",\"\",Data!#REF!)","v":{"$error":"#REF!"}},{"$f":"IF(Data!#REF!=\"\",\"\",Data!#REF!)","v":{"$error":"#REF!"}},{"$f":"IF(Data!#REF!=\"\",\"\",Data!#REF!)","v":{"$error":"#REF!"}},{"$f":"IF(Data!#REF!=\"\",\"\",Data!#REF!)","v":{"$error":"#REF!"}},{"$f":"IF(Data!#REF!=\"\",\"\",Data!#REF!)","v":{"$error":"#REF!"}},{"$error":"#REF!"},{"$error":"#REF!"},{"$error":"#REF!"}]
[{"$f":"IF(Data!#REF!=\"\",\"\",Data!#REF!)","v":{"$error":"#REF!"}},{"$f":"IF(Data!#REF!=\"\",\"\",Data!#REF!)","v":{"$error":"#REF!"}},{"$f":"IF(Data!#REF!=\"\",\"\",Data!#REF!)","v":{"$error":"#REF!"}},{"$f":"IF(Data!#REF!=\"\",\"\",Data!#REF!)","v":{"$error":"#REF!"}},{"$f":"IF(Data!#REF!=\"\",\"\",Data!#REF!)","v":{"$error":"#REF!"}},{"$error":"#REF!"},{"$error":"#REF!"},{"$error":"#REF!"}]
[{"$f":"IF(Data!#REF!=\"\",\"\",Data!#REF!)","v":{"$error":"#REF!"}},{"$f":"IF(Data!#REF!=\"\",\"\",Data!#REF!)","v":{"$error":"#REF!"}},{"$f":"IF(Data!#REF!=\"\",\"\",Data!#REF!)","v":{"$error":"#REF!"}},{"$f":"IF(Data!#REF!=\"\",\"\",Data!#REF!)","v":{"$error":"#REF!"}},{"$f":"IF(Data!#REF!=\"\",\"\",Data!#REF!)","v":{"$error":"#REF!"}},{"$error":"#REF!"},{"$error":"#REF!"},{"$error":"#REF!"}]
[{"$f":"IF(Data!#REF!=\"\",\"\",Data!#REF!)","v":{"$error":"#REF!"}},{"$f":"IF(Data!#REF!=\"\",\"\",Data!#REF!)","v":{"$error":"#REF!"}},{"$f":"IF(Data!#REF!=\"\",\"\",Data!#REF!)","v":{"$error":"#REF!"}},{"$f":"IF(Data!#REF!=\"\",\"\",Data!#REF!)","v":{"$error":"#REF!"}},{"$f":"IF(Data!#REF!=\"\",\"\",Data!#REF!)","v":{"$error":"#REF!"}},{"$error":"#REF!"},{"$error":"#REF!"},{"$error":"#REF!"}]
[{"$f":"IF(Data!#REF!=\"\",\"\",Data!#REF!)","v":{"$error":"#REF!"}},{"$f":"IF(Data!#REF!=\"\",\"\",Data!#REF!)","v":{"$error":"#REF!"}},{"$f":"IF(Data!#REF!=\"\",\"\",Data!#REF!)","v":{"$error":"#REF!"}},{"$f":"IF(Data!#REF!=\"\",\"\",Data!#REF!)","v":{"$error":"#REF!"}},{"$f":"IF(Data!#REF!=\"\",\"\",Data!#REF!)","v":{"$error":"#REF!"}},{"$error":"#REF!"},{"$error":"#REF!"},{"$error":"#REF!"}]
[{"$f":"IF(Data!#REF!=\"\",\"\",Data!#REF!)","v":{"$error":"#REF!"}},{"$f":"IF(Data!#REF!=\"\",\"\",Data!#REF!)","v":{"$error":"#REF!"}},{"$f":"IF(Data!#REF!=\"\",\"\",Data!#REF!)","v":{"$error":"#REF!"}},{"$f":"IF(Data!#REF!=\"\",\"\",Data!#REF!)","v":{"$error":"#REF!"}},{"$f":"IF(Data!#REF!=\"\",\"\",Data!#REF!)","v":{"$error":"#REF!"}},{"$error":"#REF!"},{"$error":"#REF!"},{"$error":"#REF!"}]
[{"$f":"IF(Data!#REF!=\"\",\"\",Data!#REF!)","v":{"$error":"#REF!"}},{"$f":"IF(Data!#REF!=\"\",\"\",Data!#REF!)","v":{"$error":"#REF!"}},{"$f":"IF(Data!#REF!=\"\",\"\",Data!#REF!)","v":{"$error":"#REF!"}},{"$f":"IF(Data!#REF!=\"\",\"\",Data!#REF!)","v":{"$error":"#REF!"}},{"$f":"IF(Data!#REF!=\"\",\"\",Data!#REF!)","v":{"$error":"#REF!"}},{"$error":"#REF!"},{"$error":"#REF!"},{"$error":"#REF!"}]
[{"$f":"IF(Data!#REF!=\"\",\"\",Data!#REF!)","v":{"$error":"#REF!"}},{"$f":"IF(Data!#REF!=\"\",\"\",Data!#REF!)","v":{"$error":"#REF!"}},{"$f":"IF(Data!#REF!=\"\",\"\",Data!#REF!)","v":{"$error":"#REF!"}},{"$f":"IF(Data!#REF!=\"\",\"\",Data!#REF!)","v":{"$error":"#REF!"}},{"$f":"IF(Data!#REF!=\"\",\"\",Data!#REF!)","v":{"$error":"#REF!"}},{"$error":"#REF!"},{"$error":"#REF!"},{"$error":"#REF!"}]
[{"$f":"IF(Data!#REF!=\"\",\"\",Data!#REF!)","v":{"$error":"#REF!"}},{"$f":"IF(Data!#REF!=\"\",\"\",Data!#REF!)","v":{"$error":"#REF!"}},{"$f":"IF(Data!#REF!=\"\",\"\",Data!#REF!)","v":{"$error":"#REF!"}},{"$f":"IF(Data!#REF!=\"\",\"\",Data!#REF!)","v":{"$error":"#REF!"}},{"$f":"IF(Data!#REF!=\"\",\"\",Data!#REF!)","v":{"$error":"#REF!"}},{"$error":"#REF!"},{"$error":"#REF!"},{"$error":"#REF!"}]
[{"$f":"IF(Data!#REF!=\"\",\"\",Data!#REF!)","v":{"$error":"#REF!"}},{"$f":"IF(Data!#REF!=\"\",\"\",Data!#REF!)","v":{"$error":"#REF!"}},{"$f":"IF(Data!#REF!=\"\",\"\",Data!#REF!)","v":{"$error":"#REF!"}},{"$f":"IF(Data!#REF!=\"\",\"\",Data!#REF!)","v":{"$error":"#REF!"}},{"$f":"IF(Data!#REF!=\"\",\"\",Data!#REF!)","v":{"$error":"#REF!"}},{"$error":"#REF!"},{"$error":"#REF!"},{"$error":"#REF!"}]
[{"$f":"IF(Data!#REF!=\"\",\"\",Data!#REF!)","v":{"$error":"#REF!"}},{"$f":"IF(Data!#REF!=\"\",\"\",Data!#REF!)","v":{"$error":"#REF!"}},{"$f":"IF(Data!#REF!=\"\",\"\",Data!#REF!)","v":{"$error":"#REF!"}},{"$f":"IF(Data!#REF!=\"\",\"\",Data!#REF!)","v":{"$error":"#REF!"}},{"$f":"IF(Data!#REF!=\"\",\"\",Data!#REF!)","v":{"$error":"#REF!"}},{"$error":"#REF!"},{"$error":"#REF!"},{"$error":"#REF!"}]
[{"$f":"IF(Data!#REF!=\"\",\"\",Data!#REF!)","v":{"$error":"#REF!"}},{"$f":"IF(Data!#REF!=\"\",\"\",Data!#REF!)","v":{"$error":"#REF!"}},{"$f":"IF(Data!#REF!=\"\",\"\",Data!#REF!)","v":{"$error":"#REF!"}},{"$f":"IF(Data!#REF!=\"\",\"\",Data!#REF!)","v":{"$error":"#REF!"}},{"$f":"IF(Data!#REF!=\"\",\"\",Data!#REF!)","v":{"$error":"#REF!"}},{"$error":"#REF!"},{"$error":"#REF!"},{"$error":"#REF!"}]
[{"$f":"IF(Data!#REF!=\"\",\"\",Data!#REF!)","v":{"$error":"#REF!"}},{"$f":"IF(Data!#REF!=\"\",\"\",Data!#REF!)","v":{"$error":"#REF!"}},{"$f":"IF(Data!#REF!=\"\",\"\",Data!#REF!)","v":{"$error":"#REF!"}},{"$f":"IF(Data!#REF!=\"\",\"\",Data!#REF!)","v":{"$error":"#REF!"}},{"$f":"IF(Data!#REF!=\"\",\"\",Data!#REF!)","v":{"$error":"#REF!"}},{"$error":"#REF!"},{"$error":"#REF!"},{"$error":"#REF!"}]
[{"$f":"IF(Data!#REF!=\"\",\"\",Data!#REF!)","v":{"$error":"#REF!"}},{"$f":"IF(Data!#REF!=\"\",\"\",Data!#REF!)","v":{"$error":"#REF!"}},{"$f":"IF(Data!#REF!=\"\",\"\",Data!#REF!)","v":{"$error":"#REF!"}},{"$f":"IF(Data!#REF!=\"\",\"\",Data!#REF!)","v":{"$error":"#REF!"}},{"$f":"IF(Data!#REF!=\"\",\"\",Data!#REF!)","v":{"$error":"#REF!"}},{"$error":"#REF!"},{"$error":"#REF!"},{"$error":"#REF!"}]
[{"$f":"IF(Data!#REF!=\"\",\"\",Data!#REF!)","v":{"$error":"#REF!"}},{"$f":"IF(Data!#REF!=\"\",\"\",Data!#REF!)","v":{"$error":"#REF!"}},{"$f":"IF(Data!#REF!=\"\",\"\",Data!#REF!)","v":{"$error":"#REF!"}},{"$f":"IF(Data!#REF!=\"\",\"\",Data!#REF!)","v":{"$error":"#REF!"}},{"$f":"IF(Data!#REF!=\"\",\"\",Data!#REF!)","v":{"$error":"#REF!"}},{"$error":"#REF!"},{"$error":"#REF!"},{"$error":"#REF!"}]
[{"$f":"IF(Data!#REF!=\"\",\"\",Data!#REF!)","v":{"$error":"#REF!"}},{"$f":"IF(Data!#REF!=\"\",\"\",Data!#REF!)","v":{"$error":"#REF!"}},{"$f":"IF(Data!#REF!=\"\",\"\",Data!#REF!)","v":{"$error":"#REF!"}},{"$f":"IF(Data!#REF!=\"\",\"\",Data!#REF!)","v":{"$error":"#REF!"}},{"$f":"IF(Data!#REF!=\"\",\"\",Data!#REF!)","v":{"$error":"#REF!"}},{"$error":"#REF!"},{"$error":"#REF!"},{"$error":"#REF!"}]
[{"$f":"IF(Data!#REF!=\"\",\"\",Data!#REF!)","v":{"$error":"#REF!"}},{"$f":"IF(Data!#REF!=\"\",\"\",Data!#REF!)","v":{"$error":"#REF!"}},{"$f":"IF(Data!#REF!=\"\",\"\",Data!#REF!)","v":{"$error":"#REF!"}},{"$f":"IF(Data!#REF!=\"\",\"\",Data!#REF!)","v":{"$error":"#REF!"}},{"$f":"IF(Data!#REF!=\"\",\"\",Data!#REF!)","v":{"$error":"#REF!"}},{"$error":"#REF!"},{"$error":"#REF!"},{"$error":"#REF!"}]
[{"$f":"IF(Data!#REF!=\"\",\"\",Data!#REF!)","v":{"$error":"#REF!"}},{"$f":"IF(Data!#REF!=\"\",\"\",Data!#REF!)","v":{"$error":"#REF!"}},{"$f":"IF(Data!#REF!=\"\",\"\",Data!#REF!)","v":{"$error":"#REF!"}},{"$f":"IF(Data!#REF!=\"\",\"\",Data!#REF!)","v":{"$error":"#REF!"}},{"$f":"IF(Data!#REF!=\"\",\"\",Data!#REF!)","v":{"$error":"#REF!"}},{"$error":"#REF!"},{"$error":"#REF!"},{"$error":"#REF!"}]
[{"$f":"IF(Data!#REF!=\"\",\"\",Data!#REF!)","v":{"$error":"#REF!"}},{"$f":"IF(Data!#REF!=\"\",\"\",Data!#REF!)","v":{"$error":"#REF!"}},{"$f":"IF(Data!#REF!=\"\",\"\",Data!#REF!)","v":{"$error":"#REF!"}},{"$f":"IF(Data!#REF!=\"\",\"\",Data!#REF!)","v":{"$error":"#REF!"}},{"$f":"IF(Data!#REF!=\"\",\"\",Data!#REF!)","v":{"$error":"#REF!"}},{"$error":"#REF!"},{"$error":"#REF!"},{"$error":"#REF!"}]
[{"$f":"IF(Data!#REF!=\"\",\"\",Data!#REF!)","v":{"$error":"#REF!"}},{"$f":"IF(Data!#REF!=\"\",\"\",Data!#REF!)","v":{"$error":"#REF!"}},{"$f":"IF(Data!#REF!=\"\",\"\",Data!#REF!)","v":{"$error":"#REF!"}},{"$f":"IF(Data!#REF!=\"\",\"\",Data!#REF!)","v":{"$error":"#REF!"}},{"$f":"IF(Data!#REF!=\"\",\"\",Data!#REF!)","v":{"$error":"#REF!"}},{"$error":"#REF!"},{"$error":"#REF!"},{"$error":"#REF!"}]
[{"$f":"IF(Data!#REF!=\"\",\"\",Data!#REF!)","v":{"$error":"#REF!"}},{"$f":"IF(Data!#REF!=\"\",\"\",Data!#REF!)","v":{"$error":"#REF!"}},{"$f":"IF(Data!#REF!=\"\",\"\",Data!#REF!)","v":{"$error":"#REF!"}},{"$f":"IF(Data!#REF!=\"\",\"\",Data!#REF!)","v":{"$error":"#REF!"}},{"$f":"IF(Data!#REF!=\"\",\"\",Data!#REF!)","v":{"$error":"#REF!"}},{"$error":"#REF!"},{"$error":"#REF!"},{"$error":"#REF!"}]
[{"$f":"IF(Data!#REF!=\"\",\"\",Data!#REF!)","v":{"$error":"#REF!"}},{"$f":"IF(Data!#REF!=\"\",\"\",Data!#REF!)","v":{"$error":"#REF!"}},{"$f":"IF(Data!#REF!=\"\",\"\",Data!#REF!)","v":{"$error":"#REF!"}},{"$f":"IF(Data!#REF!=\"\",\"\",Data!#REF!)","v":{"$error":"#REF!"}},{"$f":"IF(Data!#REF!=\"\",\"\",Data!#REF!)","v":{"$error":"#REF!"}},{"$error":"#REF!"},{"$error":"#REF!"},{"$error":"#REF!"}]
[{"$f":"IF(Data!#REF!=\"\",\"\",Data!#REF!)","v":{"$error":"#REF!"}},{"$f":"IF(Data!#REF!=\"\",\"\",Data!#REF!)","v":{"$error":"#REF!"}},{"$f":"IF(Data!#REF!=\"\",\"\",Data!#REF!)","v":{"$error":"#REF!"}},{"$f":"IF(Data!#REF!=\"\",\"\",Data!#REF!)","v":{"$error":"#REF!"}},{"$f":"IF(Data!#REF!=\"\",\"\",Data!#REF!)","v":{"$error":"#REF!"}},{"$error":"#REF!"},{"$error":"#REF!"},{"$error":"#REF!"}]
[{"$f":"IF(Data!#REF!=\"\",\"\",Data!#REF!)","v":{"$error":"#REF!"}},{"$f":"IF(Data!#REF!=\"\",\"\",Data!#REF!)","v":{"$error":"#REF!"}},{"$f":"IF(Data!#REF!=\"\",\"\",Data!#REF!)","v":{"$error":"#REF!"}},{"$f":"IF(Data!#REF!=\"\",\"\",Data!#REF!)","v":{"$error":"#REF!"}},{"$f":"IF(Data!#REF!=\"\",\"\",Data!#REF!)","v":{"$error":"#REF!"}},{"$error":"#REF!"},{"$error":"#REF!"},{"$error":"#REF!"}]
[{"$f":"IF(Data!#REF!=\"\",\"\",Data!#REF!)","v":{"$error":"#REF!"}},{"$f":"IF(Data!#REF!=\"\",\"\",Data!#REF!)","v":{"$error":"#REF!"}},{"$f":"IF(Data!#REF!=\"\",\"\",Data!#REF!)","v":{"$error":"#REF!"}},{"$f":"IF(Data!#REF!=\"\",\"\",Data!#REF!)","v":{"$error":"#REF!"}},{"$f":"IF(Data!#REF!=\"\",\"\",Data!#REF!)","v":{"$error":"#REF!"}},{"$error":"#REF!"},{"$error":"#REF!"},{"$error":"#REF!"}]
[{"$f":"IF(Data!#REF!=\"\",\"\",Data!#REF!)","v":{"$error":"#REF!"}},{"$f":"IF(Data!#REF!=\"\",\"\",Data!#REF!)","v":{"$error":"#REF!"}},{"$f":"IF(Data!#REF!=\"\",\"\",Data!#REF!)","v":{"$error":"#REF!"}},{"$f":"IF(Data!#REF!=\"\",\"\",Data!#REF!)","v":{"$error":"#REF!"}},{"$f":"IF(Data!#REF!=\"\",\"\",Data!#REF!)","v":{"$error":"#REF!"}},{"$error":"#REF!"},{"$error":"#REF!"},{"$error":"#REF!"}]
[{"$f":"IF(Data!#REF!=\"\",\"\",Data!#REF!)","v":{"$error":"#REF!"}},{"$f":"IF(Data!#REF!=\"\",\"\",Data!#REF!)","v":{"$error":"#REF!"}},{"$f":"IF(Data!#REF!=\"\",\"\",Data!#REF!)","v":{"$error":"#REF!"}},{"$f":"IF(Data!#REF!=\"\",\"\",Data!#REF!)","v":{"$error":"#REF!"}},{"$f":"IF(Data!#REF!=\"\",\"\",Data!#REF!)","v":{"$error":"#REF!"}},{"$error":"#REF!"},{"$error":"#REF!"},{"$error":"#REF!"}]
[{"$f":"IF(Data!#REF!=\"\",\"\",Data!#REF!)","v":{"$error":"#REF!"}},{"$f":"IF(Data!#REF!=\"\",\"\",Data!#REF!)","v":{"$error":"#REF!"}},{"$f":"IF(Data!#REF!=\"\",\"\",Data!#REF!)","v":{"$error":"#REF!"}},{"$f":"IF(Data!#REF!=\"\",\"\",Data!#REF!)","v":{"$error":"#REF!"}},{"$f":"IF(Data!#REF!=\"\",\"\",Data!#REF!)","v":{"$error":"#REF!"}},{"$error":"#REF!"},{"$error":"#REF!"},{"$error":"#REF!"}]
[{"$f":"IF(Data!#REF!=\"\",\"\",Data!#REF!)","v":{"$error":"#REF!"}},{"$f":"IF(Data!#REF!=\"\",\"\",Data!#REF!)","v":{"$error":"#REF!"}},{"$f":"IF(Data!#REF!=\"\",\"\",Data!#REF!)","v":{"$error":"#REF!"}},{"$f":"IF(Data!#REF!=\"\",\"\",Data!#REF!)","v":{"$error":"#REF!"}},{"$f":"IF(Data!#REF!=\"\",\"\",Data!#REF!)","v":{"$error":"#REF!"}},{"$error":"#REF!"},{"$error":"#REF!"},{"$error":"#REF!"}]
[{"$f":"IF(Data!#REF!=\"\",\"\",Data!#REF!)","v":{"$error":"#REF!"}},{"$f":"IF(Data!#REF!=\"\",\"\",Data!#REF!)","v":{"$error":"#REF!"}},{"$f":"IF(Data!#REF!=\"\",\"\",Data!#REF!)","v":{"$error":"#REF!"}},{"$f":"IF(Data!#REF!=\"\",\"\",Data!#REF!)","v":{"$error":"#REF!"}},{"$f":"IF(Data!#REF!=\"\",\"\",Data!#REF!)","v":{"$error":"#REF!"}},{"$error":"#REF!"},{"$error":"#REF!"},{"$error":"#REF!"}]
[{"$f":"IF(Data!#REF!=\"\",\"\",Data!#REF!)","v":{"$error":"#REF!"}},{"$f":"IF(Data!#REF!=\"\",\"\",Data!#REF!)","v":{"$error":"#REF!"}},{"$f":"IF(Data!#REF!=\"\",\"\",Data!#REF!)","v":{"$error":"#REF!"}},{"$f":"IF(Data!#REF!=\"\",\"\",Data!#REF!)","v":{"$error":"#REF!"}},{"$f":"IF(Data!#REF!=\"\",\"\",Data!#REF!)","v":{"$error":"#REF!"}},{"$error":"#REF!"},{"$error":"#REF!"},{"$error":"#REF!"}]
[{"$f":"IF(Data!#REF!=\"\",\"\",Data!#REF!)","v":{"$error":"#REF!"}},{"$f":"IF(Data!#REF!=\"\",\"\",Data!#REF!)","v":{"$error":"#REF!"}},{"$f":"IF(Data!#REF!=\"\",\"\",Data!#REF!)","v":{"$error":"#REF!"}},{"$f":"IF(Data!#REF!=\"\",\"\",Data!#REF!)","v":{"$error":"#REF!"}},{"$f":"IF(Data!#REF!=\"\",\"\",Data!#REF!)","v":{"$error":"#REF!"}},{"$error":"#REF!"},{"$error":"#REF!"},{"$error":"#REF!"}]
[{"$f":"IF(Data!#REF!=\"\",\"\",Data!#REF!)","v":{"$error":"#REF!"}},{"$f":"IF(Data!#REF!=\"\",\"\",Data!#REF!)","v":{"$error":"#REF!"}},{"$f":"IF(Data!#REF!=\"\",\"\",Data!#REF!)","v":{"$error":"#REF!"}},{"$f":"IF(Data!#REF!=\"\",\"\",Data!#REF!)","v":{"$error":"#REF!"}},{"$f":"IF(Data!#REF!=\"\",\"\",Data!#REF!)","v":{"$error":"#REF!"}},{"$f":"IF(E259>0,MONTH(E259),\"\")","v":{"$error":"#REF!"}},{"$f":"IF(E259>0,WEEKNUM(E259),\"0\")","v":{"$error":"#REF!"}},{"$f":"IF(G259>=($G$2-3),\"Ano\",\"Nie\")","v":{"$error":"#REF!"}}]
[{"$f":"IF(Data!#REF!=\"\",\"\",Data!#REF!)","v":{"$error":"#REF!"}},{"$f":"IF(Data!#REF!=\"\",\"\",Data!#REF!)","v":{"$error":"#REF!"}},{"$f":"IF(Data!#REF!=\"\",\"\",Data!#REF!)","v":{"$error":"#REF!"}},{"$f":"IF(Data!#REF!=\"\",\"\",Data!#REF!)","v":{"$error":"#REF!"}},{"$f":"IF(Data!#REF!=\"\",\"\",Data!#REF!)","v":{"$error":"#REF!"}},{"$error":"#REF!"},{"$error":"#REF!"},{"$error":"#REF!"}]
[{"$f":"IF(Data!#REF!=\"\",\"\",Data!#REF!)","v":{"$error":"#REF!"}},{"$f":"IF(Data!#REF!=\"\",\"\",Data!#REF!)","v":{"$error":"#REF!"}},{"$f":"IF(Data!#REF!=\"\",\"\",Data!#REF!)","v":{"$error":"#REF!"}},{"$f":"IF(Data!#REF!=\"\",\"\",Data!#REF!)","v":{"$error":"#REF!"}},{"$f":"IF(Data!#REF!=\"\",\"\",Data!#REF!)","v":{"$error":"#REF!"}},{"$error":"#REF!"},{"$error":"#REF!"},{"$error":"#REF!"}]
[{"$f":"IF(Data!#REF!=\"\",\"\",Data!#REF!)","v":{"$error":"#REF!"}},{"$f":"IF(Data!#REF!=\"\",\"\",Data!#REF!)","v":{"$error":"#REF!"}},{"$f":"IF(Data!#REF!=\"\",\"\",Data!#REF!)","v":{"$error":"#REF!"}},{"$f":"IF(Data!#REF!=\"\",\"\",Data!#REF!)","v":{"$error":"#REF!"}},{"$f":"IF(Data!#REF!=\"\",\"\",Data!#REF!)","v":{"$error":"#REF!"}},{"$error":"#REF!"},{"$error":"#REF!"},{"$error":"#REF!"}]
[{"$f":"IF(Data!#REF!=\"\",\"\",Data!#REF!)","v":{"$error":"#REF!"}},{"$f":"IF(Data!#REF!=\"\",\"\",Data!#REF!)","v":{"$error":"#REF!"}},{"$f":"IF(Data!#REF!=\"\",\"\",Data!#REF!)","v":{"$error":"#REF!"}},{"$f":"IF(Data!#REF!=\"\",\"\",Data!#REF!)","v":{"$error":"#REF!"}},{"$f":"IF(Data!#REF!=\"\",\"\",Data!#REF!)","v":{"$error":"#REF!"}},{"$error":"#REF!"},{"$error":"#REF!"},{"$error":"#REF!"}]
[{"$f":"IF(Data!#REF!=\"\",\"\",Data!#REF!)","v":{"$error":"#REF!"}},{"$f":"IF(Data!#REF!=\"\",\"\",Data!#REF!)","v":{"$error":"#REF!"}},{"$f":"IF(Data!#REF!=\"\",\"\",Data!#REF!)","v":{"$error":"#REF!"}},{"$f":"IF(Data!#REF!=\"\",\"\",Data!#REF!)","v":{"$error":"#REF!"}},{"$f":"IF(Data!#REF!=\"\",\"\",Data!#REF!)","v":{"$error":"#REF!"}},{"$error":"#REF!"},{"$error":"#REF!"},{"$error":"#REF!"}]
[{"$f":"IF(Data!#REF!=\"\",\"\",Data!#REF!)","v":{"$error":"#REF!"}},{"$f":"IF(Data!#REF!=\"\",\"\",Data!#REF!)","v":{"$error":"#REF!"}},{"$f":"IF(Data!#REF!=\"\",\"\",Data!#REF!)","v":{"$error":"#REF!"}},{"$f":"IF(Data!#REF!=\"\",\"\",Data!#REF!)","v":{"$error":"#REF!"}},{"$f":"IF(Data!#REF!=\"\",\"\",Data!#REF!)","v":{"$error":"#REF!"}},{"$error":"#REF!"},{"$error":"#REF!"},{"$error":"#REF!"}]
[{"$f":"IF(Data!#REF!=\"\",\"\",Data!#REF!)","v":{"$error":"#REF!"}},{"$f":"IF(Data!#REF!=\"\",\"\",Data!#REF!)","v":{"$error":"#REF!"}},{"$f":"IF(Data!#REF!=\"\",\"\",Data!#REF!)","v":{"$error":"#REF!"}},{"$f":"IF(Data!#REF!=\"\",\"\",Data!#REF!)","v":{"$error":"#REF!"}},{"$f":"IF(Data!#REF!=\"\",\"\",Data!#REF!)","v":{"$error":"#REF!"}},{"$error":"#REF!"},{"$error":"#REF!"},{"$error":"#REF!"}]
[{"$f":"IF(Data!#REF!=\"\",\"\",Data!#REF!)","v":{"$error":"#REF!"}},{"$f":"IF(Data!#REF!=\"\",\"\",Data!#REF!)","v":{"$error":"#REF!"}},{"$f":"IF(Data!#REF!=\"\",\"\",Data!#REF!)","v":{"$error":"#REF!"}},{"$f":"IF(Data!#REF!=\"\",\"\",Data!#REF!)","v":{"$error":"#REF!"}},{"$f":"IF(Data!#REF!=\"\",\"\",Data!#REF!)","v":{"$error":"#REF!"}},{"$error":"#REF!"},{"$error":"#REF!"},{"$error":"#REF!"}]
[{"$f":"IF(Data!#REF!=\"\",\"\",Data!#REF!)","v":{"$error":"#REF!"}},{"$f":"IF(Data!#REF!=\"\",\"\",Data!#REF!)","v":{"$error":"#REF!"}},{"$f":"IF(Data!#REF!=\"\",\"\",Data!#REF!)","v":{"$error":"#REF!"}},{"$f":"IF(Data!#REF!=\"\",\"\",Data!#REF!)","v":{"$error":"#REF!"}},{"$f":"IF(Data!#REF!=\"\",\"\",Data!#REF!)","v":{"$error":"#REF!"}},{"$error":"#REF!"},{"$error":"#REF!"},{"$error":"#REF!"}]
[{"$f":"IF(Data!#REF!=\"\",\"\",Data!#REF!)","v":{"$error":"#REF!"}},{"$f":"IF(Data!#REF!=\"\",\"\",Data!#REF!)","v":{"$error":"#REF!"}},{"$f":"IF(Data!#REF!=\"\",\"\",Data!#REF!)","v":{"$error":"#REF!"}},{"$f":"IF(Data!#REF!=\"\",\"\",Data!#REF!)","v":{"$error":"#REF!"}},{"$f":"IF(Data!#REF!=\"\",\"\",Data!#REF!)","v":{"$error":"#REF!"}},{"$error":"#REF!"},{"$error":"#REF!"},{"$error":"#REF!"}]
[{"$f":"IF(Data!#REF!=\"\",\"\",Data!#REF!)","v":{"$error":"#REF!"}},{"$f":"IF(Data!#REF!=\"\",\"\",Data!#REF!)","v":{"$error":"#REF!"}},{"$f":"IF(Data!#REF!=\"\",\"\",Data!#REF!)","v":{"$error":"#REF!"}},{"$f":"IF(Data!#REF!=\"\",\"\",Data!#REF!)","v":{"$error":"#REF!"}},{"$f":"IF(Data!#REF!=\"\",\"\",Data!#REF!)","v":{"$error":"#REF!"}},{"$error":"#REF!"},{"$error":"#REF!"},{"$error":"#REF!"}]
[{"$f":"IF(Data!#REF!=\"\",\"\",Data!#REF!)","v":{"$error":"#REF!"}},{"$f":"IF(Data!#REF!=\"\",\"\",Data!#REF!)","v":{"$error":"#REF!"}},{"$f":"IF(Data!#REF!=\"\",\"\",Data!#REF!)","v":{"$error":"#REF!"}},{"$f":"IF(Data!#REF!=\"\",\"\",Data!#REF!)","v":{"$error":"#REF!"}},{"$f":"IF(Data!#REF!=\"\",\"\",Data!#REF!)","v":{"$error":"#REF!"}},{"$error":"#REF!"},{"$error":"#REF!"},{"$error":"#REF!"}]
[{"$f":"IF(Data!#REF!=\"\",\"\",Data!#REF!)","v":{"$error":"#REF!"}},{"$f":"IF(Data!#REF!=\"\",\"\",Data!#REF!)","v":{"$error":"#REF!"}},{"$f":"IF(Data!#REF!=\"\",\"\",Data!#REF!)","v":{"$error":"#REF!"}},{"$f":"IF(Data!#REF!=\"\",\"\",Data!#REF!)","v":{"$error":"#REF!"}},{"$f":"IF(Data!#REF!=\"\",\"\",Data!#REF!)","v":{"$error":"#REF!"}},{"$error":"#REF!"},{"$error":"#REF!"},{"$error":"#REF!"}]
[{"$f":"IF(Data!#REF!=\"\",\"\",Data!#REF!)","v":{"$error":"#REF!"}},{"$f":"IF(Data!#REF!=\"\",\"\",Data!#REF!)","v":{"$error":"#REF!"}},{"$f":"IF(Data!#REF!=\"\",\"\",Data!#REF!)","v":{"$error":"#REF!"}},{"$f":"IF(Data!#REF!=\"\",\"\",Data!#REF!)","v":{"$error":"#REF!"}},{"$f":"IF(Data!#REF!=\"\",\"\",Data!#REF!)","v":{"$error":"#REF!"}},{"$error":"#REF!"},{"$error":"#REF!"},{"$error":"#REF!"}]
[{"$f":"IF(Data!#REF!=\"\",\"\",Data!#REF!)","v":{"$error":"#REF!"}},{"$f":"IF(Data!#REF!=\"\",\"\",Data!#REF!)","v":{"$error":"#REF!"}},{"$f":"IF(Data!#REF!=\"\",\"\",Data!#REF!)","v":{"$error":"#REF!"}},{"$f":"IF(Data!#REF!=\"\",\"\",Data!#REF!)","v":{"$error":"#REF!"}},{"$f":"IF(Data!#REF!=\"\",\"\",Data!#REF!)","v":{"$error":"#REF!"}},{"$error":"#REF!"},{"$error":"#REF!"},{"$error":"#REF!"}]
[{"$f":"IF(Data!#REF!=\"\",\"\",Data!#REF!)","v":{"$error":"#REF!"}},{"$f":"IF(Data!#REF!=\"\",\"\",Data!#REF!)","v":{"$error":"#REF!"}},{"$f":"IF(Data!#REF!=\"\",\"\",Data!#REF!)","v":{"$error":"#REF!"}},{"$f":"IF(Data!#REF!=\"\",\"\",Data!#REF!)","v":{"$error":"#REF!"}},{"$f":"IF(Data!#REF!=\"\",\"\",Data!#REF!)","v":{"$error":"#REF!"}},{"$error":"#REF!"},{"$error":"#REF!"},{"$error":"#REF!"}]
[{"$f":"IF(Data!#REF!=\"\",\"\",Data!#REF!)","v":{"$error":"#REF!"}},{"$f":"IF(Data!#REF!=\"\",\"\",Data!#REF!)","v":{"$error":"#REF!"}},{"$f":"IF(Data!#REF!=\"\",\"\",Data!#REF!)","v":{"$error":"#REF!"}},{"$f":"IF(Data!#REF!=\"\",\"\",Data!#REF!)","v":{"$error":"#REF!"}},{"$f":"IF(Data!#REF!=\"\",\"\",Data!#REF!)","v":{"$error":"#REF!"}},{"$error":"#REF!"},{"$error":"#REF!"},{"$error":"#REF!"}]
[{"$f":"IF(Data!#REF!=\"\",\"\",Data!#REF!)","v":{"$error":"#REF!"}},{"$f":"IF(Data!#REF!=\"\",\"\",Data!#REF!)","v":{"$error":"#REF!"}},{"$f":"IF(Data!#REF!=\"\",\"\",Data!#REF!)","v":{"$error":"#REF!"}},{"$f":"IF(Data!#REF!=\"\",\"\",Data!#REF!)","v":{"$error":"#REF!"}},{"$f":"IF(Data!#REF!=\"\",\"\",Data!#REF!)","v":{"$error":"#REF!"}},{"$error":"#REF!"},{"$error":"#REF!"},{"$error":"#REF!"}]
[{"$f":"IF(Data!#REF!=\"\",\"\",Data!#REF!)","v":{"$error":"#REF!"}},{"$f":"IF(Data!#REF!=\"\",\"\",Data!#REF!)","v":{"$error":"#REF!"}},{"$f":"IF(Data!#REF!=\"\",\"\",Data!#REF!)","v":{"$error":"#REF!"}},{"$f":"IF(Data!#REF!=\"\",\"\",Data!#REF!)","v":{"$error":"#REF!"}},{"$f":"IF(Data!#REF!=\"\",\"\",Data!#REF!)","v":{"$error":"#REF!"}},{"$error":"#REF!"},{"$error":"#REF!"},{"$error":"#REF!"}]
[{"$f":"IF(Data!#REF!=\"\",\"\",Data!#REF!)","v":{"$error":"#REF!"}},{"$f":"IF(Data!#REF!=\"\",\"\",Data!#REF!)","v":{"$error":"#REF!"}},{"$f":"IF(Data!#REF!=\"\",\"\",Data!#REF!)","v":{"$error":"#REF!"}},{"$f":"IF(Data!#REF!=\"\",\"\",Data!#REF!)","v":{"$error":"#REF!"}},{"$f":"IF(Data!#REF!=\"\",\"\",Data!#REF!)","v":{"$error":"#REF!"}},{"$error":"#REF!"},{"$error":"#REF!"},{"$error":"#REF!"}]
[{"$f":"IF(Data!#REF!=\"\",\"\",Data!#REF!)","v":{"$error":"#REF!"}},{"$f":"IF(Data!#REF!=\"\",\"\",Data!#REF!)","v":{"$error":"#REF!"}},{"$f":"IF(Data!#REF!=\"\",\"\",Data!#REF!)","v":{"$error":"#REF!"}},{"$f":"IF(Data!#REF!=\"\",\"\",Data!#REF!)","v":{"$error":"#REF!"}},{"$f":"IF(Data!#REF!=\"\",\"\",Data!#REF!)","v":{"$error":"#REF!"}},{"$error":"#REF!"},{"$error":"#REF!"},{"$error":"#REF!"}]
[{"$f":"IF(Data!#REF!=\"\",\"\",Data!#REF!)","v":{"$error":"#REF!"}},{"$f":"IF(Data!#REF!=\"\",\"\",Data!#REF!)","v":{"$error":"#REF!"}},{"$f":"IF(Data!#REF!=\"\",\"\",Data!#REF!)","v":{"$error":"#REF!"}},{"$f":"IF(Data!#REF!=\"\",\"\",Data!#REF!)","v":{"$error":"#REF!"}},{"$f":"IF(Data!#REF!=\"\",\"\",Data!#REF!)","v":{"$error":"#REF!"}},{"$error":"#REF!"},{"$error":"#REF!"},{"$error":"#REF!"}]
[{"$f":"IF(Data!#REF!=\"\",\"\",Data!#REF!)","v":{"$error":"#REF!"}},{"$f":"IF(Data!#REF!=\"\",\"\",Data!#REF!)","v":{"$error":"#REF!"}},{"$f":"IF(Data!#REF!=\"\",\"\",Data!#REF!)","v":{"$error":"#REF!"}},{"$f":"IF(Data!#REF!=\"\",\"\",Data!#REF!)","v":{"$error":"#REF!"}},{"$f":"IF(Data!#REF!=\"\",\"\",Data!#REF!)","v":{"$error":"#REF!"}},{"$error":"#REF!"},{"$error":"#REF!"},{"$error":"#REF!"}]
[{"$f":"IF(Data!#REF!=\"\",\"\",Data!#REF!)","v":{"$error":"#REF!"}},{"$f":"IF(Data!#REF!=\"\",\"\",Data!#REF!)","v":{"$error":"#REF!"}},{"$f":"IF(Data!#REF!=\"\",\"\",Data!#REF!)","v":{"$error":"#REF!"}},{"$f":"IF(Data!#REF!=\"\",\"\",Data!#REF!)","v":{"$error":"#REF!"}},{"$f":"IF(Data!#REF!=\"\",\"\",Data!#REF!)","v":{"$error":"#REF!"}},{"$error":"#REF!"},{"$error":"#REF!"},{"$error":"#REF!"}]
[{"$f":"IF(Data!#REF!=\"\",\"\",Data!#REF!)","v":{"$error":"#REF!"}},{"$f":"IF(Data!#REF!=\"\",\"\",Data!#REF!)","v":{"$error":"#REF!"}},{"$f":"IF(Data!#REF!=\"\",\"\",Data!#REF!)","v":{"$error":"#REF!"}},{"$f":"IF(Data!#REF!=\"\",\"\",Data!#REF!)","v":{"$error":"#REF!"}},{"$f":"IF(Data!#REF!=\"\",\"\",Data!#REF!)","v":{"$error":"#REF!"}},{"$error":"#REF!"},{"$error":"#REF!"},{"$error":"#REF!"}]
[{"$f":"IF(Data!#REF!=\"\",\"\",Data!#REF!)","v":{"$error":"#REF!"}},{"$f":"IF(Data!#REF!=\"\",\"\",Data!#REF!)","v":{"$error":"#REF!"}},{"$f":"IF(Data!#REF!=\"\",\"\",Data!#REF!)","v":{"$error":"#REF!"}},{"$f":"IF(Data!#REF!=\"\",\"\",Data!#REF!)","v":{"$error":"#REF!"}},{"$f":"IF(Data!#REF!=\"\",\"\",Data!#REF!)","v":{"$error":"#REF!"}},{"$error":"#REF!"},{"$error":"#REF!"},{"$error":"#REF!"}]
[{"$f":"IF(Data!#REF!=\"\",\"\",Data!#REF!)","v":{"$error":"#REF!"}},{"$f":"IF(Data!#REF!=\"\",\"\",Data!#REF!)","v":{"$error":"#REF!"}},{"$f":"IF(Data!#REF!=\"\",\"\",Data!#REF!)","v":{"$error":"#REF!"}},{"$f":"IF(Data!#REF!=\"\",\"\",Data!#REF!)","v":{"$error":"#REF!"}},{"$f":"IF(Data!#REF!=\"\",\"\",Data!#REF!)","v":{"$error":"#REF!"}},{"$error":"#REF!"},{"$error":"#REF!"},{"$error":"#REF!"}]
[{"$f":"IF(Data!#REF!=\"\",\"\",Data!#REF!)","v":{"$error":"#REF!"}},{"$f":"IF(Data!#REF!=\"\",\"\",Data!#REF!)","v":{"$error":"#REF!"}},{"$f":"IF(Data!#REF!=\"\",\"\",Data!#REF!)","v":{"$error":"#REF!"}},{"$f":"IF(Data!#REF!=\"\",\"\",Data!#REF!)","v":{"$error":"#REF!"}},{"$f":"IF(Data!#REF!=\"\",\"\",Data!#REF!)","v":{"$error":"#REF!"}},{"$error":"#REF!"},{"$error":"#REF!"},{"$error":"#REF!"}]
[{"$f":"IF(Data!#REF!=\"\",\"\",Data!#REF!)","v":{"$error":"#REF!"}},{"$f":"IF(Data!#REF!=\"\",\"\",Data!#REF!)","v":{"$error":"#REF!"}},{"$f":"IF(Data!#REF!=\"\",\"\",Data!#REF!)","v":{"$error":"#REF!"}},{"$f":"IF(Data!#REF!=\"\",\"\",Data!#REF!)","v":{"$error":"#REF!"}},{"$f":"IF(Data!#REF!=\"\",\"\",Data!#REF!)","v":{"$error":"#REF!"}},{"$error":"#REF!"},{"$error":"#REF!"},{"$error":"#REF!"}]
[{"$f":"IF(Data!#REF!=\"\",\"\",Data!#REF!)","v":{"$error":"#REF!"}},{"$f":"IF(Data!#REF!=\"\",\"\",Data!#REF!)","v":{"$error":"#REF!"}},{"$f":"IF(Data!#REF!=\"\",\"\",Data!#REF!)","v":{"$error":"#REF!"}},{"$f":"IF(Data!#REF!=\"\",\"\",Data!#REF!)","v":{"$error":"#REF!"}},{"$f":"IF(Data!#REF!=\"\",\"\",Data!#REF!)","v":{"$error":"#REF!"}},{"$error":"#REF!"},{"$error":"#REF!"},{"$error":"#REF!"}]
[{"$f":"IF(Data!#REF!=\"\",\"\",Data!#REF!)","v":{"$error":"#REF!"}},{"$f":"IF(Data!#REF!=\"\",\"\",Data!#REF!)","v":{"$error":"#REF!"}},{"$f":"IF(Data!#REF!=\"\",\"\",Data!#REF!)","v":{"$error":"#REF!"}},{"$f":"IF(Data!#REF!=\"\",\"\",Data!#REF!)","v":{"$error":"#REF!"}},{"$f":"IF(Data!#REF!=\"\",\"\",Data!#REF!)","v":{"$error":"#REF!"}},{"$error":"#REF!"},{"$error":"#REF!"},{"$error":"#REF!"}]
[{"$f":"IF(Data!#REF!=\"\",\"\",Data!#REF!)","v":{"$error":"#REF!"}},{"$f":"IF(Data!#REF!=\"\",\"\",Data!#REF!)","v":{"$error":"#REF!"}},{"$f":"IF(Data!#REF!=\"\",\"\",Data!#REF!)","v":{"$error":"#REF!"}},{"$f":"IF(Data!#REF!=\"\",\"\",Data!#REF!)","v":{"$error":"#REF!"}},{"$f":"IF(Data!#REF!=\"\",\"\",Data!#REF!)","v":{"$error":"#REF!"}},{"$error":"#REF!"},{"$error":"#REF!"},{"$error":"#REF!"}]
[{"$f":"IF(Data!#REF!=\"\",\"\",Data!#REF!)","v":{"$error":"#REF!"}},{"$f":"IF(Data!#REF!=\"\",\"\",Data!#REF!)","v":{"$error":"#REF!"}},{"$f":"IF(Data!#REF!=\"\",\"\",Data!#REF!)","v":{"$error":"#REF!"}},{"$f":"IF(Data!#REF!=\"\",\"\",Data!#REF!)","v":{"$error":"#REF!"}},{"$f":"IF(Data!#REF!=\"\",\"\",Data!#REF!)","v":{"$error":"#REF!"}},{"$error":"#REF!"},{"$error":"#REF!"},{"$error":"#REF!"}]
[{"$f":"IF(Data!#REF!=\"\",\"\",Data!#REF!)","v":{"$error":"#REF!"}},{"$f":"IF(Data!#REF!=\"\",\"\",Data!#REF!)","v":{"$error":"#REF!"}},{"$f":"IF(Data!#REF!=\"\",\"\",Data!#REF!)","v":{"$error":"#REF!"}},{"$f":"IF(Data!#REF!=\"\",\"\",Data!#REF!)","v":{"$error":"#REF!"}},{"$f":"IF(Data!#REF!=\"\",\"\",Data!#REF!)","v":{"$error":"#REF!"}},{"$error":"#REF!"},{"$error":"#REF!"},{"$error":"#REF!"}]
[{"$f":"IF(Data!#REF!=\"\",\"\",Data!#REF!)","v":{"$error":"#REF!"}},{"$f":"IF(Data!#REF!=\"\",\"\",Data!#REF!)","v":{"$error":"#REF!"}},{"$f":"IF(Data!#REF!=\"\",\"\",Data!#REF!)","v":{"$error":"#REF!"}},{"$f":"IF(Data!#REF!=\"\",\"\",Data!#REF!)","v":{"$error":"#REF!"}},{"$f":"IF(Data!#REF!=\"\",\"\",Data!#REF!)","v":{"$error":"#REF!"}},{"$error":"#REF!"},{"$error":"#REF!"},{"$error":"#REF!"}]
[{"$f":"IF(Data!#REF!=\"\",\"\",Data!#REF!)","v":{"$error":"#REF!"}},{"$f":"IF(Data!#REF!=\"\",\"\",Data!#REF!)","v":{"$error":"#REF!"}},{"$f":"IF(Data!#REF!=\"\",\"\",Data!#REF!)","v":{"$error":"#REF!"}},{"$f":"IF(Data!#REF!=\"\",\"\",Data!#REF!)","v":{"$error":"#REF!"}},{"$f":"IF(Data!#REF!=\"\",\"\",Data!#REF!)","v":{"$error":"#REF!"}},{"$error":"#REF!"},{"$error":"#REF!"},{"$error":"#REF!"}]
[{"$f":"IF(Data!#REF!=\"\",\"\",Data!#REF!)","v":{"$error":"#REF!"}},{"$f":"IF(Data!#REF!=\"\",\"\",Data!#REF!)","v":{"$error":"#REF!"}},{"$f":"IF(Data!#REF!=\"\",\"\",Data!#REF!)","v":{"$error":"#REF!"}},{"$f":"IF(Data!#REF!=\"\",\"\",Data!#REF!)","v":{"$error":"#REF!"}},{"$f":"IF(Data!#REF!=\"\",\"\",Data!#REF!)","v":{"$error":"#REF!"}},{"$error":"#REF!"},{"$error":"#REF!"},{"$error":"#REF!"}]
[{"$f":"IF(Data!#REF!=\"\",\"\",Data!#REF!)","v":{"$error":"#REF!"}},{"$f":"IF(Data!#REF!=\"\",\"\",Data!#REF!)","v":{"$error":"#REF!"}},{"$f":"IF(Data!#REF!=\"\",\"\",Data!#REF!)","v":{"$error":"#REF!"}},{"$f":"IF(Data!#REF!=\"\",\"\",Data!#REF!)","v":{"$error":"#REF!"}},{"$f":"IF(Data!#REF!=\"\",\"\",Data!#REF!)","v":{"$error":"#REF!"}},{"$error":"#REF!"},{"$error":"#REF!"},{"$error":"#REF!"}]
[{"$f":"IF(Data!#REF!=\"\",\"\",Data!#REF!)","v":{"$error":"#REF!"}},{"$f":"IF(Data!#REF!=\"\",\"\",Data!#REF!)","v":{"$error":"#REF!"}},{"$f":"IF(Data!#REF!=\"\",\"\",Data!#REF!)","v":{"$error":"#REF!"}},{"$f":"IF(Data!#REF!=\"\",\"\",Data!#REF!)","v":{"$error":"#REF!"}},{"$f":"IF(Data!#REF!=\"\",\"\",Data!#REF!)","v":{"$error":"#REF!"}},{"$error":"#REF!"},{"$error":"#REF!"},{"$error":"#REF!"}]
[{"$f":"IF(Data!#REF!=\"\",\"\",Data!#REF!)","v":{"$error":"#REF!"}},{"$f":"IF(Data!#REF!=\"\",\"\",Data!#REF!)","v":{"$error":"#REF!"}},{"$f":"IF(Data!#REF!=\"\",\"\",Data!#REF!)","v":{"$error":"#REF!"}},{"$f":"IF(Data!#REF!=\"\",\"\",Data!#REF!)","v":{"$error":"#REF!"}},{"$f":"IF(Data!#REF!=\"\",\"\",Data!#REF!)","v":{"$error":"#REF!"}},{"$error":"#REF!"},{"$error":"#REF!"},{"$error":"#REF!"}]
[{"$f":"IF(Data!#REF!=\"\",\"\",Data!#REF!)","v":{"$error":"#REF!"}},{"$f":"IF(Data!#REF!=\"\",\"\",Data!#REF!)","v":{"$error":"#REF!"}},{"$f":"IF(Data!#REF!=\"\",\"\",Data!#REF!)","v":{"$error":"#REF!"}},{"$f":"IF(Data!#REF!=\"\",\"\",Data!#REF!)","v":{"$error":"#REF!"}},{"$f":"IF(Data!#REF!=\"\",\"\",Data!#REF!)","v":{"$error":"#REF!"}},{"$error":"#REF!"},{"$error":"#REF!"},{"$error":"#REF!"}]
[{"$f":"IF(Data!#REF!=\"\",\"\",Data!#REF!)","v":{"$error":"#REF!"}},{"$f":"IF(Data!#REF!=\"\",\"\",Data!#REF!)","v":{"$error":"#REF!"}},{"$f":"IF(Data!#REF!=\"\",\"\",Data!#REF!)","v":{"$error":"#REF!"}},{"$f":"IF(Data!#REF!=\"\",\"\",Data!#REF!)","v":{"$error":"#REF!"}},{"$f":"IF(Data!#REF!=\"\",\"\",Data!#REF!)","v":{"$error":"#REF!"}},{"$error":"#REF!"},{"$error":"#REF!"},{"$error":"#REF!"}]
[{"$f":"IF(Data!#REF!=\"\",\"\",Data!#REF!)","v":{"$error":"#REF!"}},{"$f":"IF(Data!#REF!=\"\",\"\",Data!#REF!)","v":{"$error":"#REF!"}},{"$f":"IF(Data!#REF!=\"\",\"\",Data!#REF!)","v":{"$error":"#REF!"}},{"$f":"IF(Data!#REF!=\"\",\"\",Data!#REF!)","v":{"$error":"#REF!"}},{"$f":"IF(Data!#REF!=\"\",\"\",Data!#REF!)","v":{"$error":"#REF!"}},{"$error":"#REF!"},{"$error":"#REF!"},{"$error":"#REF!"}]
[{"$f":"IF(Data!#REF!=\"\",\"\",Data!#REF!)","v":{"$error":"#REF!"}},{"$f":"IF(Data!#REF!=\"\",\"\",Data!#REF!)","v":{"$error":"#REF!"}},{"$f":"IF(Data!#REF!=\"\",\"\",Data!#REF!)","v":{"$error":"#REF!"}},{"$f":"IF(Data!#REF!=\"\",\"\",Data!#REF!)","v":{"$error":"#REF!"}},{"$f":"IF(Data!#REF!=\"\",\"\",Data!#REF!)","v":{"$error":"#REF!"}},{"$error":"#REF!"},{"$error":"#REF!"},{"$error":"#REF!"}]
[{"$f":"IF(Data!#REF!=\"\",\"\",Data!#REF!)","v":{"$error":"#REF!"}},{"$f":"IF(Data!#REF!=\"\",\"\",Data!#REF!)","v":{"$error":"#REF!"}},{"$f":"IF(Data!#REF!=\"\",\"\",Data!#REF!)","v":{"$error":"#REF!"}},{"$f":"IF(Data!#REF!=\"\",\"\",Data!#REF!)","v":{"$error":"#REF!"}},{"$f":"IF(Data!#REF!=\"\",\"\",Data!#REF!)","v":{"$error":"#REF!"}},{"$error":"#REF!"},{"$error":"#REF!"},{"$error":"#REF!"}]
[{"$f":"IF(Data!#REF!=\"\",\"\",Data!#REF!)","v":{"$error":"#REF!"}},{"$f":"IF(Data!#REF!=\"\",\"\",Data!#REF!)","v":{"$error":"#REF!"}},{"$f":"IF(Data!#REF!=\"\",\"\",Data!#REF!)","v":{"$error":"#REF!"}},{"$f":"IF(Data!#REF!=\"\",\"\",Data!#REF!)","v":{"$error":"#REF!"}},{"$f":"IF(Data!#REF!=\"\",\"\",Data!#REF!)","v":{"$error":"#REF!"}},{"$error":"#REF!"},{"$error":"#REF!"},{"$error":"#REF!"}]
[{"$f":"IF(Data!#REF!=\"\",\"\",Data!#REF!)","v":{"$error":"#REF!"}},{"$f":"IF(Data!#REF!=\"\",\"\",Data!#REF!)","v":{"$error":"#REF!"}},{"$f":"IF(Data!#REF!=\"\",\"\",Data!#REF!)","v":{"$error":"#REF!"}},{"$f":"IF(Data!#REF!=\"\",\"\",Data!#REF!)","v":{"$error":"#REF!"}},{"$f":"IF(Data!#REF!=\"\",\"\",Data!#REF!)","v":{"$error":"#REF!"}},{"$error":"#REF!"},{"$error":"#REF!"},{"$error":"#REF!"}]
[{"$f":"IF(Data!#REF!=\"\",\"\",Data!#REF!)","v":{"$error":"#REF!"}},{"$f":"IF(Data!#REF!=\"\",\"\",Data!#REF!)","v":{"$error":"#REF!"}},{"$f":"IF(Data!#REF!=\"\",\"\",Data!#REF!)","v":{"$error":"#REF!"}},{"$f":"IF(Data!#REF!=\"\",\"\",Data!#REF!)","v":{"$error":"#REF!"}},{"$f":"IF(Data!#REF!=\"\",\"\",Data!#REF!)","v":{"$error":"#REF!"}},{"$error":"#REF!"},{"$error":"#REF!"},{"$error":"#REF!"}]
[{"$f":"IF(Data!#REF!=\"\",\"\",Data!#REF!)","v":{"$error":"#REF!"}},{"$f":"IF(Data!#REF!=\"\",\"\",Data!#REF!)","v":{"$error":"#REF!"}},{"$f":"IF(Data!#REF!=\"\",\"\",Data!#REF!)","v":{"$error":"#REF!"}},{"$f":"IF(Data!#REF!=\"\",\"\",Data!#REF!)","v":{"$error":"#REF!"}},{"$f":"IF(Data!#REF!=\"\",\"\",Data!#REF!)","v":{"$error":"#REF!"}},{"$error":"#REF!"},{"$error":"#REF!"},{"$error":"#REF!"}]
[{"$f":"IF(Data!#REF!=\"\",\"\",Data!#REF!)","v":{"$error":"#REF!"}},{"$f":"IF(Data!#REF!=\"\",\"\",Data!#REF!)","v":{"$error":"#REF!"}},{"$f":"IF(Data!#REF!=\"\",\"\",Data!#REF!)","v":{"$error":"#REF!"}},{"$f":"IF(Data!#REF!=\"\",\"\",Data!#REF!)","v":{"$error":"#REF!"}},{"$f":"IF(Data!#REF!=\"\",\"\",Data!#REF!)","v":{"$error":"#REF!"}},{"$error":"#REF!"},{"$error":"#REF!"},{"$error":"#REF!"}]
[{"$f":"IF(Data!#REF!=\"\",\"\",Data!#REF!)","v":{"$error":"#REF!"}},{"$f":"IF(Data!#REF!=\"\",\"\",Data!#REF!)","v":{"$error":"#REF!"}},{"$f":"IF(Data!#REF!=\"\",\"\",Data!#REF!)","v":{"$error":"#REF!"}},{"$f":"IF(Data!#REF!=\"\",\"\",Data!#REF!)","v":{"$error":"#REF!"}},{"$f":"IF(Data!#REF!=\"\",\"\",Data!#REF!)","v":{"$error":"#REF!"}},{"$error":"#REF!"},{"$error":"#REF!"},{"$error":"#REF!"}]
[{"$f":"IF(Data!#REF!=\"\",\"\",Data!#REF!)","v":{"$error":"#REF!"}},{"$f":"IF(Data!#REF!=\"\",\"\",Data!#REF!)","v":{"$error":"#REF!"}},{"$f":"IF(Data!#REF!=\"\",\"\",Data!#REF!)","v":{"$error":"#REF!"}},{"$f":"IF(Data!#REF!=\"\",\"\",Data!#REF!)","v":{"$error":"#REF!"}},{"$f":"IF(Data!#REF!=\"\",\"\",Data!#REF!)","v":{"$error":"#REF!"}},{"$error":"#REF!"},{"$error":"#REF!"},{"$error":"#REF!"}]
[{"$f":"IF(Data!#REF!=\"\",\"\",Data!#REF!)","v":{"$error":"#REF!"}},{"$f":"IF(Data!#REF!=\"\",\"\",Data!#REF!)","v":{"$error":"#REF!"}},{"$f":"IF(Data!#REF!=\"\",\"\",Data!#REF!)","v":{"$error":"#REF!"}},{"$f":"IF(Data!#REF!=\"\",\"\",Data!#REF!)","v":{"$error":"#REF!"}},{"$f":"IF(Data!#REF!=\"\",\"\",Data!#REF!)","v":{"$error":"#REF!"}},{"$error":"#REF!"},{"$error":"#REF!"},{"$error":"#REF!"}]
[{"$f":"IF(Data!#REF!=\"\",\"\",Data!#REF!)","v":{"$error":"#REF!"}},{"$f":"IF(Data!#REF!=\"\",\"\",Data!#REF!)","v":{"$error":"#REF!"}},{"$f":"IF(Data!#REF!=\"\",\"\",Data!#REF!)","v":{"$error":"#REF!"}},{"$f":"IF(Data!#REF!=\"\",\"\",Data!#REF!)","v":{"$error":"#REF!"}},{"$f":"IF(Data!#REF!=\"\",\"\",Data!#REF!)","v":{"$error":"#REF!"}},{"$error":"#REF!"},{"$error":"#REF!"},{"$error":"#REF!"}]
[{"$f":"IF(Data!#REF!=\"\",\"\",Data!#REF!)","v":{"$error":"#REF!"}},{"$f":"IF(Data!#REF!=\"\",\"\",Data!#REF!)","v":{"$error":"#REF!"}},{"$f":"IF(Data!#REF!=\"\",\"\",Data!#REF!)","v":{"$error":"#REF!"}},{"$f":"IF(Data!#REF!=\"\",\"\",Data!#REF!)","v":{"$error":"#REF!"}},{"$f":"IF(Data!#REF!=\"\",\"\",Data!#REF!)","v":{"$error":"#REF!"}},{"$error":"#REF!"},{"$error":"#REF!"},{"$error":"#REF!"}]
[{"$f":"IF(Data!#REF!=\"\",\"\",Data!#REF!)","v":{"$error":"#REF!"}},{"$f":"IF(Data!#REF!=\"\",\"\",Data!#REF!)","v":{"$error":"#REF!"}},{"$f":"IF(Data!#REF!=\"\",\"\",Data!#REF!)","v":{"$error":"#REF!"}},{"$f":"IF(Data!#REF!=\"\",\"\",Data!#REF!)","v":{"$error":"#REF!"}},{"$f":"IF(Data!#REF!=\"\",\"\",Data!#REF!)","v":{"$error":"#REF!"}},{"$error":"#REF!"},{"$error":"#REF!"},{"$error":"#REF!"}]
[{"$f":"IF(Data!#REF!=\"\",\"\",Data!#REF!)","v":{"$error":"#REF!"}},{"$f":"IF(Data!#REF!=\"\",\"\",Data!#REF!)","v":{"$error":"#REF!"}},{"$f":"IF(Data!#REF!=\"\",\"\",Data!#REF!)","v":{"$error":"#REF!"}},{"$f":"IF(Data!#REF!=\"\",\"\",Data!#REF!)","v":{"$error":"#REF!"}},{"$f":"IF(Data!#REF!=\"\",\"\",Data!#REF!)","v":{"$error":"#REF!"}},{"$error":"#REF!"},{"$error":"#REF!"},{"$error":"#REF!"}]
[{"$f":"IF(Data!#REF!=\"\",\"\",Data!#REF!)","v":{"$error":"#REF!"}},{"$f":"IF(Data!#REF!=\"\",\"\",Data!#REF!)","v":{"$error":"#REF!"}},{"$f":"IF(Data!#REF!=\"\",\"\",Data!#REF!)","v":{"$error":"#REF!"}},{"$f":"IF(Data!#REF!=\"\",\"\",Data!#REF!)","v":{"$error":"#REF!"}},{"$f":"IF(Data!#REF!=\"\",\"\",Data!#REF!)","v":{"$error":"#REF!"}},{"$error":"#REF!"},{"$error":"#REF!"},{"$error":"#REF!"}]
[{"$f":"IF(Data!#REF!=\"\",\"\",Data!#REF!)","v":{"$error":"#REF!"}},{"$f":"IF(Data!#REF!=\"\",\"\",Data!#REF!)","v":{"$error":"#REF!"}},{"$f":"IF(Data!#REF!=\"\",\"\",Data!#REF!)","v":{"$error":"#REF!"}},{"$f":"IF(Data!#REF!=\"\",\"\",Data!#REF!)","v":{"$error":"#REF!"}},{"$f":"IF(Data!#REF!=\"\",\"\",Data!#REF!)","v":{"$error":"#REF!"}},{"$error":"#REF!"},{"$error":"#REF!"},{"$error":"#REF!"}]
[{"$f":"IF(Data!#REF!=\"\",\"\",Data!#REF!)","v":{"$error":"#REF!"}},{"$f":"IF(Data!#REF!=\"\",\"\",Data!#REF!)","v":{"$error":"#REF!"}},{"$f":"IF(Data!#REF!=\"\",\"\",Data!#REF!)","v":{"$error":"#REF!"}},{"$f":"IF(Data!#REF!=\"\",\"\",Data!#REF!)","v":{"$error":"#REF!"}},{"$f":"IF(Data!#REF!=\"\",\"\",Data!#REF!)","v":{"$error":"#REF!"}},{"$error":"#REF!"},{"$error":"#REF!"},{"$error":"#REF!"}]
[{"$f":"IF(Data!#REF!=\"\",\"\",Data!#REF!)","v":{"$error":"#REF!"}},{"$f":"IF(Data!#REF!=\"\",\"\",Data!#REF!)","v":{"$error":"#REF!"}},{"$f":"IF(Data!#REF!=\"\",\"\",Data!#REF!)","v":{"$error":"#REF!"}},{"$f":"IF(Data!#REF!=\"\",\"\",Data!#REF!)","v":{"$error":"#REF!"}},{"$f":"IF(Data!#REF!=\"\",\"\",Data!#REF!)","v":{"$error":"#REF!"}},{"$error":"#REF!"},{"$error":"#REF!"},{"$error":"#REF!"}]
[{"$f":"IF(Data!#REF!=\"\",\"\",Data!#REF!)","v":{"$error":"#REF!"}},{"$f":"IF(Data!#REF!=\"\",\"\",Data!#REF!)","v":{"$error":"#REF!"}},{"$f":"IF(Data!#REF!=\"\",\"\",Data!#REF!)","v":{"$error":"#REF!"}},{"$f":"IF(Data!#REF!=\"\",\"\",Data!#REF!)","v":{"$error":"#REF!"}},{"$f":"IF(Data!#REF!=\"\",\"\",Data!#REF!)","v":{"$error":"#REF!"}},{"$error":"#REF!"},{"$error":"#REF!"},{"$error":"#REF!"}]
[{"$f":"IF(Data!#REF!=\"\",\"\",Data!#REF!)","v":{"$error":"#REF!"}},{"$f":"IF(Data!#REF!=\"\",\"\",Data!#REF!)","v":{"$error":"#REF!"}},{"$f":"IF(Data!#REF!=\"\",\"\",Data!#REF!)","v":{"$error":"#REF!"}},{"$f":"IF(Data!#REF!=\"\",\"\",Data!#REF!)","v":{"$error":"#REF!"}},{"$f":"IF(Data!#REF!=\"\",\"\",Data!#REF!)","v":{"$error":"#REF!"}},{"$error":"#REF!"},{"$error":"#REF!"},{"$error":"#REF!"}]
[{"$f":"IF(Data!#REF!=\"\",\"\",Data!#REF!)","v":{"$error":"#REF!"}},{"$f":"IF(Data!#REF!=\"\",\"\",Data!#REF!)","v":{"$error":"#REF!"}},{"$f":"IF(Data!#REF!=\"\",\"\",Data!#REF!)","v":{"$error":"#REF!"}},{"$f":"IF(Data!#REF!=\"\",\"\",Data!#REF!)","v":{"$error":"#REF!"}},{"$f":"IF(Data!#REF!=\"\",\"\",Data!#REF!)","v":{"$error":"#REF!"}},{"$f":"IF(E323>0,MONTH(E323),\"\")","v":{"$error":"#REF!"}},{"$f":"IF(E323>0,WEEKNUM(E323),\"0\")","v":{"$error":"#REF!"}},{"$f":"IF(G323>=($G$2-3),\"Ano\",\"Nie\")","v":{"$error":"#REF!"}}]
[{"$f":"IF(Data!#REF!=\"\",\"\",Data!#REF!)","v":{"$error":"#REF!"}},{"$f":"IF(Data!#REF!=\"\",\"\",Data!#REF!)","v":{"$error":"#REF!"}},{"$f":"IF(Data!#REF!=\"\",\"\",Data!#REF!)","v":{"$error":"#REF!"}},{"$f":"IF(Data!#REF!=\"\",\"\",Data!#REF!)","v":{"$error":"#REF!"}},{"$f":"IF(Data!#REF!=\"\",\"\",Data!#REF!)","v":{"$error":"#REF!"}},{"$error":"#REF!"},{"$error":"#REF!"},{"$error":"#REF!"}]
[{"$f":"IF(Data!#REF!=\"\",\"\",Data!#REF!)","v":{"$error":"#REF!"}},{"$f":"IF(Data!#REF!=\"\",\"\",Data!#REF!)","v":{"$error":"#REF!"}},{"$f":"IF(Data!#REF!=\"\",\"\",Data!#REF!)","v":{"$error":"#REF!"}},{"$f":"IF(Data!#REF!=\"\",\"\",Data!#REF!)","v":{"$error":"#REF!"}},{"$f":"IF(Data!#REF!=\"\",\"\",Data!#REF!)","v":{"$error":"#REF!"}},{"$error":"#REF!"},{"$error":"#REF!"},{"$error":"#REF!"}]
[{"$f":"IF(Data!#REF!=\"\",\"\",Data!#REF!)","v":{"$error":"#REF!"}},{"$f":"IF(Data!#REF!=\"\",\"\",Data!#REF!)","v":{"$error":"#REF!"}},{"$f":"IF(Data!#REF!=\"\",\"\",Data!#REF!)","v":{"$error":"#REF!"}},{"$f":"IF(Data!#REF!=\"\",\"\",Data!#REF!)","v":{"$error":"#REF!"}},{"$f":"IF(Data!#REF!=\"\",\"\",Data!#REF!)","v":{"$error":"#REF!"}},{"$error":"#REF!"},{"$error":"#REF!"},{"$error":"#REF!"}]
[{"$f":"IF(Data!#REF!=\"\",\"\",Data!#REF!)","v":{"$error":"#REF!"}},{"$f":"IF(Data!#REF!=\"\",\"\",Data!#REF!)","v":{"$error":"#REF!"}},{"$f":"IF(Data!#REF!=\"\",\"\",Data!#REF!)","v":{"$error":"#REF!"}},{"$f":"IF(Data!#REF!=\"\",\"\",Data!#REF!)","v":{"$error":"#REF!"}},{"$f":"IF(Data!#REF!=\"\",\"\",Data!#REF!)","v":{"$error":"#REF!"}},{"$error":"#REF!"},{"$error":"#REF!"},{"$error":"#REF!"}]
[{"$f":"IF(Data!#REF!=\"\",\"\",Data!#REF!)","v":{"$error":"#REF!"}},{"$f":"IF(Data!#REF!=\"\",\"\",Data!#REF!)","v":{"$error":"#REF!"}},{"$f":"IF(Data!#REF!=\"\",\"\",Data!#REF!)","v":{"$error":"#REF!"}},{"$f":"IF(Data!#REF!=\"\",\"\",Data!#REF!)","v":{"$error":"#REF!"}},{"$f":"IF(Data!#REF!=\"\",\"\",Data!#REF!)","v":{"$error":"#REF!"}},{"$error":"#REF!"},{"$error":"#REF!"},{"$error":"#REF!"}]
[{"$f":"IF(Data!#REF!=\"\",\"\",Data!#REF!)","v":{"$error":"#REF!"}},{"$f":"IF(Data!#REF!=\"\",\"\",Data!#REF!)","v":{"$error":"#REF!"}},{"$f":"IF(Data!#REF!=\"\",\"\",Data!#REF!)","v":{"$error":"#REF!"}},{"$f":"IF(Data!#REF!=\"\",\"\",Data!#REF!)","v":{"$error":"#REF!"}},{"$f":"IF(Data!#REF!=\"\",\"\",Data!#REF!)","v":{"$error":"#REF!"}},{"$error":"#REF!"},{"$error":"#REF!"},{"$error":"#REF!"}]
[{"$f":"IF(Data!#REF!=\"\",\"\",Data!#REF!)","v":{"$error":"#REF!"}},{"$f":"IF(Data!#REF!=\"\",\"\",Data!#REF!)","v":{"$error":"#REF!"}},{"$f":"IF(Data!#REF!=\"\",\"\",Data!#REF!)","v":{"$error":"#REF!"}},{"$f":"IF(Data!#REF!=\"\",\"\",Data!#REF!)","v":{"$error":"#REF!"}},{"$f":"IF(Data!#REF!=\"\",\"\",Data!#REF!)","v":{"$error":"#REF!"}},{"$error":"#REF!"},{"$error":"#REF!"},{"$error":"#REF!"}]
[{"$f":"IF(Data!#REF!=\"\",\"\",Data!#REF!)","v":{"$error":"#REF!"}},{"$f":"IF(Data!#REF!=\"\",\"\",Data!#REF!)","v":{"$error":"#REF!"}},{"$f":"IF(Data!#REF!=\"\",\"\",Data!#REF!)","v":{"$error":"#REF!"}},{"$f":"IF(Data!#REF!=\"\",\"\",Data!#REF!)","v":{"$error":"#REF!"}},{"$f":"IF(Data!#REF!=\"\",\"\",Data!#REF!)","v":{"$error":"#REF!"}},{"$error":"#REF!"},{"$error":"#REF!"},{"$error":"#REF!"}]
[{"$f":"IF(Data!#REF!=\"\",\"\",Data!#REF!)","v":{"$error":"#REF!"}},{"$f":"IF(Data!#REF!=\"\",\"\",Data!#REF!)","v":{"$error":"#REF!"}},{"$f":"IF(Data!#REF!=\"\",\"\",Data!#REF!)","v":{"$error":"#REF!"}},{"$f":"IF(Data!#REF!=\"\",\"\",Data!#REF!)","v":{"$error":"#REF!"}},{"$f":"IF(Data!#REF!=\"\",\"\",Data!#REF!)","v":{"$error":"#REF!"}},{"$error":"#REF!"},{"$error":"#REF!"},{"$error":"#REF!"}]
[{"$f":"IF(Data!#REF!=\"\",\"\",Data!#REF!)","v":{"$error":"#REF!"}},{"$f":"IF(Data!#REF!=\"\",\"\",Data!#REF!)","v":{"$error":"#REF!"}},{"$f":"IF(Data!#REF!=\"\",\"\",Data!#REF!)","v":{"$error":"#REF!"}},{"$f":"IF(Data!#REF!=\"\",\"\",Data!#REF!)","v":{"$error":"#REF!"}},{"$f":"IF(Data!#REF!=\"\",\"\",Data!#REF!)","v":{"$error":"#REF!"}},{"$error":"#REF!"},{"$error":"#REF!"},{"$error":"#REF!"}]
[{"$f":"IF(Data!#REF!=\"\",\"\",Data!#REF!)","v":{"$error":"#REF!"}},{"$f":"IF(Data!#REF!=\"\",\"\",Data!#REF!)","v":{"$error":"#REF!"}},{"$f":"IF(Data!#REF!=\"\",\"\",Data!#REF!)","v":{"$error":"#REF!"}},{"$f":"IF(Data!#REF!=\"\",\"\",Data!#REF!)","v":{"$error":"#REF!"}},{"$f":"IF(Data!#REF!=\"\",\"\",Data!#REF!)","v":{"$error":"#REF!"}},{"$error":"#REF!"},{"$error":"#REF!"},{"$error":"#REF!"}]
[{"$f":"IF(Data!#REF!=\"\",\"\",Data!#REF!)","v":{"$error":"#REF!"}},{"$f":"IF(Data!#REF!=\"\",\"\",Data!#REF!)","v":{"$error":"#REF!"}},{"$f":"IF(Data!#REF!=\"\",\"\",Data!#REF!)","v":{"$error":"#REF!"}},{"$f":"IF(Data!#REF!=\"\",\"\",Data!#REF!)","v":{"$error":"#REF!"}},{"$f":"IF(Data!#REF!=\"\",\"\",Data!#REF!)","v":{"$error":"#REF!"}},{"$error":"#REF!"},{"$error":"#REF!"},{"$error":"#REF!"}]
[{"$f":"IF(Data!#REF!=\"\",\"\",Data!#REF!)","v":{"$error":"#REF!"}},{"$f":"IF(Data!#REF!=\"\",\"\",Data!#REF!)","v":{"$error":"#REF!"}},{"$f":"IF(Data!#REF!=\"\",\"\",Data!#REF!)","v":{"$error":"#REF!"}},{"$f":"IF(Data!#REF!=\"\",\"\",Data!#REF!)","v":{"$error":"#REF!"}},{"$f":"IF(Data!#REF!=\"\",\"\",Data!#REF!)","v":{"$error":"#REF!"}},{"$error":"#REF!"},{"$error":"#REF!"},{"$error":"#REF!"}]
[{"$f":"IF(Data!#REF!=\"\",\"\",Data!#REF!)","v":{"$error":"#REF!"}},{"$f":"IF(Data!#REF!=\"\",\"\",Data!#REF!)","v":{"$error":"#REF!"}},{"$f":"IF(Data!#REF!=\"\",\"\",Data!#REF!)","v":{"$error":"#REF!"}},{"$f":"IF(Data!#REF!=\"\",\"\",Data!#REF!)","v":{"$error":"#REF!"}},{"$f":"IF(Data!#REF!=\"\",\"\",Data!#REF!)","v":{"$error":"#REF!"}},{"$error":"#REF!"},{"$error":"#REF!"},{"$error":"#REF!"}]
[{"$f":"IF(Data!#REF!=\"\",\"\",Data!#REF!)","v":{"$error":"#REF!"}},{"$f":"IF(Data!#REF!=\"\",\"\",Data!#REF!)","v":{"$error":"#REF!"}},{"$f":"IF(Data!#REF!=\"\",\"\",Data!#REF!)","v":{"$error":"#REF!"}},{"$f":"IF(Data!#REF!=\"\",\"\",Data!#REF!)","v":{"$error":"#REF!"}},{"$f":"IF(Data!#REF!=\"\",\"\",Data!#REF!)","v":{"$error":"#REF!"}},{"$error":"#REF!"},{"$error":"#REF!"},{"$error":"#REF!"}]
[{"$f":"IF(Data!#REF!=\"\",\"\",Data!#REF!)","v":{"$error":"#REF!"}},{"$f":"IF(Data!#REF!=\"\",\"\",Data!#REF!)","v":{"$error":"#REF!"}},{"$f":"IF(Data!#REF!=\"\",\"\",Data!#REF!)","v":{"$error":"#REF!"}},{"$f":"IF(Data!#REF!=\"\",\"\",Data!#REF!)","v":{"$error":"#REF!"}},{"$f":"IF(Data!#REF!=\"\",\"\",Data!#REF!)","v":{"$error":"#REF!"}},{"$error":"#REF!"},{"$error":"#REF!"},{"$error":"#REF!"}]
[{"$f":"IF(Data!#REF!=\"\",\"\",Data!#REF!)","v":{"$error":"#REF!"}},{"$f":"IF(Data!#REF!=\"\",\"\",Data!#REF!)","v":{"$error":"#REF!"}},{"$f":"IF(Data!#REF!=\"\",\"\",Data!#REF!)","v":{"$error":"#REF!"}},{"$f":"IF(Data!#REF!=\"\",\"\",Data!#REF!)","v":{"$error":"#REF!"}},{"$f":"IF(Data!#REF!=\"\",\"\",Data!#REF!)","v":{"$error":"#REF!"}},{"$error":"#REF!"},{"$error":"#REF!"},{"$error":"#REF!"}]
[{"$f":"IF(Data!#REF!=\"\",\"\",Data!#REF!)","v":{"$error":"#REF!"}},{"$f":"IF(Data!#REF!=\"\",\"\",Data!#REF!)","v":{"$error":"#REF!"}},{"$f":"IF(Data!#REF!=\"\",\"\",Data!#REF!)","v":{"$error":"#REF!"}},{"$f":"IF(Data!#REF!=\"\",\"\",Data!#REF!)","v":{"$error":"#REF!"}},{"$f":"IF(Data!#REF!=\"\",\"\",Data!#REF!)","v":{"$error":"#REF!"}},{"$error":"#REF!"},{"$error":"#REF!"},{"$error":"#REF!"}]
[{"$f":"IF(Data!#REF!=\"\",\"\",Data!#REF!)","v":{"$error":"#REF!"}},{"$f":"IF(Data!#REF!=\"\",\"\",Data!#REF!)","v":{"$error":"#REF!"}},{"$f":"IF(Data!#REF!=\"\",\"\",Data!#REF!)","v":{"$error":"#REF!"}},{"$f":"IF(Data!#REF!=\"\",\"\",Data!#REF!)","v":{"$error":"#REF!"}},{"$f":"IF(Data!#REF!=\"\",\"\",Data!#REF!)","v":{"$error":"#REF!"}},{"$error":"#REF!"},{"$error":"#REF!"},{"$error":"#REF!"}]
[{"$f":"IF(Data!#REF!=\"\",\"\",Data!#REF!)","v":{"$error":"#REF!"}},{"$f":"IF(Data!#REF!=\"\",\"\",Data!#REF!)","v":{"$error":"#REF!"}},{"$f":"IF(Data!#REF!=\"\",\"\",Data!#REF!)","v":{"$error":"#REF!"}},{"$f":"IF(Data!#REF!=\"\",\"\",Data!#REF!)","v":{"$error":"#REF!"}},{"$f":"IF(Data!#REF!=\"\",\"\",Data!#REF!)","v":{"$error":"#REF!"}},{"$error":"#REF!"},{"$error":"#REF!"},{"$error":"#REF!"}]
[{"$f":"IF(Data!#REF!=\"\",\"\",Data!#REF!)","v":{"$error":"#REF!"}},{"$f":"IF(Data!#REF!=\"\",\"\",Data!#REF!)","v":{"$error":"#REF!"}},{"$f":"IF(Data!#REF!=\"\",\"\",Data!#REF!)","v":{"$error":"#REF!"}},{"$f":"IF(Data!#REF!=\"\",\"\",Data!#REF!)","v":{"$error":"#REF!"}},{"$f":"IF(Data!#REF!=\"\",\"\",Data!#REF!)","v":{"$error":"#REF!"}},{"$error":"#REF!"},{"$error":"#REF!"},{"$error":"#REF!"}]
[{"$f":"IF(Data!#REF!=\"\",\"\",Data!#REF!)","v":{"$error":"#REF!"}},{"$f":"IF(Data!#REF!=\"\",\"\",Data!#REF!)","v":{"$error":"#REF!"}},{"$f":"IF(Data!#REF!=\"\",\"\",Data!#REF!)","v":{"$error":"#REF!"}},{"$f":"IF(Data!#REF!=\"\",\"\",Data!#REF!)","v":{"$error":"#REF!"}},{"$f":"IF(Data!#REF!=\"\",\"\",Data!#REF!)","v":{"$error":"#REF!"}},{"$error":"#REF!"},{"$error":"#REF!"},{"$error":"#REF!"}]
[{"$f":"IF(Data!#REF!=\"\",\"\",Data!#REF!)","v":{"$error":"#REF!"}},{"$f":"IF(Data!#REF!=\"\",\"\",Data!#REF!)","v":{"$error":"#REF!"}},{"$f":"IF(Data!#REF!=\"\",\"\",Data!#REF!)","v":{"$error":"#REF!"}},{"$f":"IF(Data!#REF!=\"\",\"\",Data!#REF!)","v":{"$error":"#REF!"}},{"$f":"IF(Data!#REF!=\"\",\"\",Data!#REF!)","v":{"$error":"#REF!"}},{"$error":"#REF!"},{"$error":"#REF!"},{"$error":"#REF!"}]
[{"$f":"IF(Data!#REF!=\"\",\"\",Data!#REF!)","v":{"$error":"#REF!"}},{"$f":"IF(Data!#REF!=\"\",\"\",Data!#REF!)","v":{"$error":"#REF!"}},{"$f":"IF(Data!#REF!=\"\",\"\",Data!#REF!)","v":{"$error":"#REF!"}},{"$f":"IF(Data!#REF!=\"\",\"\",Data!#REF!)","v":{"$error":"#REF!"}},{"$f":"IF(Data!#REF!=\"\",\"\",Data!#REF!)","v":{"$error":"#REF!"}},{"$error":"#REF!"},{"$error":"#REF!"},{"$error":"#REF!"}]
[{"$f":"IF(Data!#REF!=\"\",\"\",Data!#REF!)","v":{"$error":"#REF!"}},{"$f":"IF(Data!#REF!=\"\",\"\",Data!#REF!)","v":{"$error":"#REF!"}},{"$f":"IF(Data!#REF!=\"\",\"\",Data!#REF!)","v":{"$error":"#REF!"}},{"$f":"IF(Data!#REF!=\"\",\"\",Data!#REF!)","v":{"$error":"#REF!"}},{"$f":"IF(Data!#REF!=\"\",\"\",Data!#REF!)","v":{"$error":"#REF!"}},{"$error":"#REF!"},{"$error":"#REF!"},{"$error":"#REF!"}]
[{"$f":"IF(Data!#REF!=\"\",\"\",Data!#REF!)","v":{"$error":"#REF!"}},{"$f":"IF(Data!#REF!=\"\",\"\",Data!#REF!)","v":{"$error":"#REF!"}},{"$f":"IF(Data!#REF!=\"\",\"\",Data!#REF!)","v":{"$error":"#REF!"}},{"$f":"IF(Data!#REF!=\"\",\"\",Data!#REF!)","v":{"$error":"#REF!"}},{"$f":"IF(Data!#REF!=\"\",\"\",Data!#REF!)","v":{"$error":"#REF!"}},{"$error":"#REF!"},{"$error":"#REF!"},{"$error":"#REF!"}]
[{"$f":"IF(Data!#REF!=\"\",\"\",Data!#REF!)","v":{"$error":"#REF!"}},{"$f":"IF(Data!#REF!=\"\",\"\",Data!#REF!)","v":{"$error":"#REF!"}},{"$f":"IF(Data!#REF!=\"\",\"\",Data!#REF!)","v":{"$error":"#REF!"}},{"$f":"IF(Data!#REF!=\"\",\"\",Data!#REF!)","v":{"$error":"#REF!"}},{"$f":"IF(Data!#REF!=\"\",\"\",Data!#REF!)","v":{"$error":"#REF!"}},{"$error":"#REF!"},{"$error":"#REF!"},{"$error":"#REF!"}]
[{"$f":"IF(Data!#REF!=\"\",\"\",Data!#REF!)","v":{"$error":"#REF!"}},{"$f":"IF(Data!#REF!=\"\",\"\",Data!#REF!)","v":{"$error":"#REF!"}},{"$f":"IF(Data!#REF!=\"\",\"\",Data!#REF!)","v":{"$error":"#REF!"}},{"$f":"IF(Data!#REF!=\"\",\"\",Data!#REF!)","v":{"$error":"#REF!"}},{"$f":"IF(Data!#REF!=\"\",\"\",Data!#REF!)","v":{"$error":"#REF!"}},{"$error":"#REF!"},{"$error":"#REF!"},{"$error":"#REF!"}]
[{"$f":"IF(Data!#REF!=\"\",\"\",Data!#REF!)","v":{"$error":"#REF!"}},{"$f":"IF(Data!#REF!=\"\",\"\",Data!#REF!)","v":{"$error":"#REF!"}},{"$f":"IF(Data!#REF!=\"\",\"\",Data!#REF!)","v":{"$error":"#REF!"}},{"$f":"IF(Data!#REF!=\"\",\"\",Data!#REF!)","v":{"$error":"#REF!"}},{"$f":"IF(Data!#REF!=\"\",\"\",Data!#REF!)","v":{"$error":"#REF!"}},{"$error":"#REF!"},{"$error":"#REF!"},{"$error":"#REF!"}]
[{"$f":"IF(Data!#REF!=\"\",\"\",Data!#REF!)","v":{"$error":"#REF!"}},{"$f":"IF(Data!#REF!=\"\",\"\",Data!#REF!)","v":{"$error":"#REF!"}},{"$f":"IF(Data!#REF!=\"\",\"\",Data!#REF!)","v":{"$error":"#REF!"}},{"$f":"IF(Data!#REF!=\"\",\"\",Data!#REF!)","v":{"$error":"#REF!"}},{"$f":"IF(Data!#REF!=\"\",\"\",Data!#REF!)","v":{"$error":"#REF!"}},{"$error":"#REF!"},{"$error":"#REF!"},{"$error":"#REF!"}]
[{"$f":"IF(Data!#REF!=\"\",\"\",Data!#REF!)","v":{"$error":"#REF!"}},{"$f":"IF(Data!#REF!=\"\",\"\",Data!#REF!)","v":{"$error":"#REF!"}},{"$f":"IF(Data!#REF!=\"\",\"\",Data!#REF!)","v":{"$error":"#REF!"}},{"$f":"IF(Data!#REF!=\"\",\"\",Data!#REF!)","v":{"$error":"#REF!"}},{"$f":"IF(Data!#REF!=\"\",\"\",Data!#REF!)","v":{"$error":"#REF!"}},{"$error":"#REF!"},{"$error":"#REF!"},{"$error":"#REF!"}]
[{"$f":"IF(Data!#REF!=\"\",\"\",Data!#REF!)","v":{"$error":"#REF!"}},{"$f":"IF(Data!#REF!=\"\",\"\",Data!#REF!)","v":{"$error":"#REF!"}},{"$f":"IF(Data!#REF!=\"\",\"\",Data!#REF!)","v":{"$error":"#REF!"}},{"$f":"IF(Data!#REF!=\"\",\"\",Data!#REF!)","v":{"$error":"#REF!"}},{"$f":"IF(Data!#REF!=\"\",\"\",Data!#REF!)","v":{"$error":"#REF!"}},{"$error":"#REF!"},{"$error":"#REF!"},{"$error":"#REF!"}]
[{"$f":"IF(Data!#REF!=\"\",\"\",Data!#REF!)","v":{"$error":"#REF!"}},{"$f":"IF(Data!#REF!=\"\",\"\",Data!#REF!)","v":{"$error":"#REF!"}},{"$f":"IF(Data!#REF!=\"\",\"\",Data!#REF!)","v":{"$error":"#REF!"}},{"$f":"IF(Data!#REF!=\"\",\"\",Data!#REF!)","v":{"$error":"#REF!"}},{"$f":"IF(Data!#REF!=\"\",\"\",Data!#REF!)","v":{"$error":"#REF!"}},{"$error":"#REF!"},{"$error":"#REF!"},{"$error":"#REF!"}]
[{"$f":"IF(Data!#REF!=\"\",\"\",Data!#REF!)","v":{"$error":"#REF!"}},{"$f":"IF(Data!#REF!=\"\",\"\",Data!#REF!)","v":{"$error":"#REF!"}},{"$f":"IF(Data!#REF!=\"\",\"\",Data!#REF!)","v":{"$error":"#REF!"}},{"$f":"IF(Data!#REF!=\"\",\"\",Data!#REF!)","v":{"$error":"#REF!"}},{"$f":"IF(Data!#REF!=\"\",\"\",Data!#REF!)","v":{"$error":"#REF!"}},{"$error":"#REF!"},{"$error":"#REF!"},{"$error":"#REF!"}]
[{"$f":"IF(Data!#REF!=\"\",\"\",Data!#REF!)","v":{"$error":"#REF!"}},{"$f":"IF(Data!#REF!=\"\",\"\",Data!#REF!)","v":{"$error":"#REF!"}},{"$f":"IF(Data!#REF!=\"\",\"\",Data!#REF!)","v":{"$error":"#REF!"}},{"$f":"IF(Data!#REF!=\"\",\"\",Data!#REF!)","v":{"$error":"#REF!"}},{"$f":"IF(Data!#REF!=\"\",\"\",Data!#REF!)","v":{"$error":"#REF!"}},{"$error":"#REF!"},{"$error":"#REF!"},{"$error":"#REF!"}]
[{"$f":"IF(Data!#REF!=\"\",\"\",Data!#REF!)","v":{"$error":"#REF!"}},{"$f":"IF(Data!#REF!=\"\",\"\",Data!#REF!)","v":{"$error":"#REF!"}},{"$f":"IF(Data!#REF!=\"\",\"\",Data!#REF!)","v":{"$error":"#REF!"}},{"$f":"IF(Data!#REF!=\"\",\"\",Data!#REF!)","v":{"$error":"#REF!"}},{"$f":"IF(Data!#REF!=\"\",\"\",Data!#REF!)","v":{"$error":"#REF!"}},{"$error":"#REF!"},{"$error":"#REF!"},{"$error":"#REF!"}]
[{"$f":"IF(Data!#REF!=\"\",\"\",Data!#REF!)","v":{"$error":"#REF!"}},{"$f":"IF(Data!#REF!=\"\",\"\",Data!#REF!)","v":{"$error":"#REF!"}},{"$f":"IF(Data!#REF!=\"\",\"\",Data!#REF!)","v":{"$error":"#REF!"}},{"$f":"IF(Data!#REF!=\"\",\"\",Data!#REF!)","v":{"$error":"#REF!"}},{"$f":"IF(Data!#REF!=\"\",\"\",Data!#REF!)","v":{"$error":"#REF!"}},{"$error":"#REF!"},{"$error":"#REF!"},{"$error":"#REF!"}]
[{"$f":"IF(Data!#REF!=\"\",\"\",Data!#REF!)","v":{"$error":"#REF!"}},{"$f":"IF(Data!#REF!=\"\",\"\",Data!#REF!)","v":{"$error":"#REF!"}},{"$f":"IF(Data!#REF!=\"\",\"\",Data!#REF!)","v":{"$error":"#REF!"}},{"$f":"IF(Data!#REF!=\"\",\"\",Data!#REF!)","v":{"$error":"#REF!"}},{"$f":"IF(Data!#REF!=\"\",\"\",Data!#REF!)","v":{"$error":"#REF!"}},{"$error":"#REF!"},{"$error":"#REF!"},{"$error":"#REF!"}]
[{"$f":"IF(Data!#REF!=\"\",\"\",Data!#REF!)","v":{"$error":"#REF!"}},{"$f":"IF(Data!#REF!=\"\",\"\",Data!#REF!)","v":{"$error":"#REF!"}},{"$f":"IF(Data!#REF!=\"\",\"\",Data!#REF!)","v":{"$error":"#REF!"}},{"$f":"IF(Data!#REF!=\"\",\"\",Data!#REF!)","v":{"$error":"#REF!"}},{"$f":"IF(Data!#REF!=\"\",\"\",Data!#REF!)","v":{"$error":"#REF!"}},{"$error":"#REF!"},{"$error":"#REF!"},{"$error":"#REF!"}]
[{"$f":"IF(Data!#REF!=\"\",\"\",Data!#REF!)","v":{"$error":"#REF!"}},{"$f":"IF(Data!#REF!=\"\",\"\",Data!#REF!)","v":{"$error":"#REF!"}},{"$f":"IF(Data!#REF!=\"\",\"\",Data!#REF!)","v":{"$error":"#REF!"}},{"$f":"IF(Data!#REF!=\"\",\"\",Data!#REF!)","v":{"$error":"#REF!"}},{"$f":"IF(Data!#REF!=\"\",\"\",Data!#REF!)","v":{"$error":"#REF!"}},{"$error":"#REF!"},{"$error":"#REF!"},{"$error":"#REF!"}]
[{"$f":"IF(Data!#REF!=\"\",\"\",Data!#REF!)","v":{"$error":"#REF!"}},{"$f":"IF(Data!#REF!=\"\",\"\",Data!#REF!)","v":{"$error":"#REF!"}},{"$f":"IF(Data!#REF!=\"\",\"\",Data!#REF!)","v":{"$error":"#REF!"}},{"$f":"IF(Data!#REF!=\"\",\"\",Data!#REF!)","v":{"$error":"#REF!"}},{"$f":"IF(Data!#REF!=\"\",\"\",Data!#REF!)","v":{"$error":"#REF!"}},{"$error":"#REF!"},{"$error":"#REF!"},{"$error":"#REF!"}]
[{"$f":"IF(Data!#REF!=\"\",\"\",Data!#REF!)","v":{"$error":"#REF!"}},{"$f":"IF(Data!#REF!=\"\",\"\",Data!#REF!)","v":{"$error":"#REF!"}},{"$f":"IF(Data!#REF!=\"\",\"\",Data!#REF!)","v":{"$error":"#REF!"}},{"$f":"IF(Data!#REF!=\"\",\"\",Data!#REF!)","v":{"$error":"#REF!"}},{"$f":"IF(Data!#REF!=\"\",\"\",Data!#REF!)","v":{"$error":"#REF!"}},{"$error":"#REF!"},{"$error":"#REF!"},{"$error":"#REF!"}]
[{"$f":"IF(Data!#REF!=\"\",\"\",Data!#REF!)","v":{"$error":"#REF!"}},{"$f":"IF(Data!#REF!=\"\",\"\",Data!#REF!)","v":{"$error":"#REF!"}},{"$f":"IF(Data!#REF!=\"\",\"\",Data!#REF!)","v":{"$error":"#REF!"}},{"$f":"IF(Data!#REF!=\"\",\"\",Data!#REF!)","v":{"$error":"#REF!"}},{"$f":"IF(Data!#REF!=\"\",\"\",Data!#REF!)","v":{"$error":"#REF!"}},{"$error":"#REF!"},{"$error":"#REF!"},{"$error":"#REF!"}]
[{"$f":"IF(Data!#REF!=\"\",\"\",Data!#REF!)","v":{"$error":"#REF!"}},{"$f":"IF(Data!#REF!=\"\",\"\",Data!#REF!)","v":{"$error":"#REF!"}},{"$f":"IF(Data!#REF!=\"\",\"\",Data!#REF!)","v":{"$error":"#REF!"}},{"$f":"IF(Data!#REF!=\"\",\"\",Data!#REF!)","v":{"$error":"#REF!"}},{"$f":"IF(Data!#REF!=\"\",\"\",Data!#REF!)","v":{"$error":"#REF!"}},{"$error":"#REF!"},{"$error":"#REF!"},{"$error":"#REF!"}]
[{"$f":"IF(Data!#REF!=\"\",\"\",Data!#REF!)","v":{"$error":"#REF!"}},{"$f":"IF(Data!#REF!=\"\",\"\",Data!#REF!)","v":{"$error":"#REF!"}},{"$f":"IF(Data!#REF!=\"\",\"\",Data!#REF!)","v":{"$error":"#REF!"}},{"$f":"IF(Data!#REF!=\"\",\"\",Data!#REF!)","v":{"$error":"#REF!"}},{"$f":"IF(Data!#REF!=\"\",\"\",Data!#REF!)","v":{"$error":"#REF!"}},{"$error":"#REF!"},{"$error":"#REF!"},{"$error":"#REF!"}]
[{"$f":"IF(Data!#REF!=\"\",\"\",Data!#REF!)","v":{"$error":"#REF!"}},{"$f":"IF(Data!#REF!=\"\",\"\",Data!#REF!)","v":{"$error":"#REF!"}},{"$f":"IF(Data!#REF!=\"\",\"\",Data!#REF!)","v":{"$error":"#REF!"}},{"$f":"IF(Data!#REF!=\"\",\"\",Data!#REF!)","v":{"$error":"#REF!"}},{"$f":"IF(Data!#REF!=\"\",\"\",Data!#REF!)","v":{"$error":"#REF!"}},{"$error":"#REF!"},{"$error":"#REF!"},{"$error":"#REF!"}]
[{"$f":"IF(Data!#REF!=\"\",\"\",Data!#REF!)","v":{"$error":"#REF!"}},{"$f":"IF(Data!#REF!=\"\",\"\",Data!#REF!)","v":{"$error":"#REF!"}},{"$f":"IF(Data!#REF!=\"\",\"\",Data!#REF!)","v":{"$error":"#REF!"}},{"$f":"IF(Data!#REF!=\"\",\"\",Data!#REF!)","v":{"$error":"#REF!"}},{"$f":"IF(Data!#REF!=\"\",\"\",Data!#REF!)","v":{"$error":"#REF!"}},{"$error":"#REF!"},{"$error":"#REF!"},{"$error":"#REF!"}]
[{"$f":"IF(Data!#REF!=\"\",\"\",Data!#REF!)","v":{"$error":"#REF!"}},{"$f":"IF(Data!#REF!=\"\",\"\",Data!#REF!)","v":{"$error":"#REF!"}},{"$f":"IF(Data!#REF!=\"\",\"\",Data!#REF!)","v":{"$error":"#REF!"}},{"$f":"IF(Data!#REF!=\"\",\"\",Data!#REF!)","v":{"$error":"#REF!"}},{"$f":"IF(Data!#REF!=\"\",\"\",Data!#REF!)","v":{"$error":"#REF!"}},{"$error":"#REF!"},{"$error":"#REF!"},{"$error":"#REF!"}]
[{"$f":"IF(Data!#REF!=\"\",\"\",Data!#REF!)","v":{"$error":"#REF!"}},{"$f":"IF(Data!#REF!=\"\",\"\",Data!#REF!)","v":{"$error":"#REF!"}},{"$f":"IF(Data!#REF!=\"\",\"\",Data!#REF!)","v":{"$error":"#REF!"}},{"$f":"IF(Data!#REF!=\"\",\"\",Data!#REF!)","v":{"$error":"#REF!"}},{"$f":"IF(Data!#REF!=\"\",\"\",Data!#REF!)","v":{"$error":"#REF!"}},{"$error":"#REF!"},{"$error":"#REF!"},{"$error":"#REF!"}]
[{"$f":"IF(Data!#REF!=\"\",\"\",Data!#REF!)","v":{"$error":"#REF!"}},{"$f":"IF(Data!#REF!=\"\",\"\",Data!#REF!)","v":{"$error":"#REF!"}},{"$f":"IF(Data!#REF!=\"\",\"\",Data!#REF!)","v":{"$error":"#REF!"}},{"$f":"IF(Data!#REF!=\"\",\"\",Data!#REF!)","v":{"$error":"#REF!"}},{"$f":"IF(Data!#REF!=\"\",\"\",Data!#REF!)","v":{"$error":"#REF!"}},{"$error":"#REF!"},{"$error":"#REF!"},{"$error":"#REF!"}]
[{"$f":"IF(Data!#REF!=\"\",\"\",Data!#REF!)","v":{"$error":"#REF!"}},{"$f":"IF(Data!#REF!=\"\",\"\",Data!#REF!)","v":{"$error":"#REF!"}},{"$f":"IF(Data!#REF!=\"\",\"\",Data!#REF!)","v":{"$error":"#REF!"}},{"$f":"IF(Data!#REF!=\"\",\"\",Data!#REF!)","v":{"$error":"#REF!"}},{"$f":"IF(Data!#REF!=\"\",\"\",Data!#REF!)","v":{"$error":"#REF!"}},{"$error":"#REF!"},{"$error":"#REF!"},{"$error":"#REF!"}]
[{"$f":"IF(Data!#REF!=\"\",\"\",Data!#REF!)","v":{"$error":"#REF!"}},{"$f":"IF(Data!#REF!=\"\",\"\",Data!#REF!)","v":{"$error":"#REF!"}},{"$f":"IF(Data!#REF!=\"\",\"\",Data!#REF!)","v":{"$error":"#REF!"}},{"$f":"IF(Data!#REF!=\"\",\"\",Data!#REF!)","v":{"$error":"#REF!"}},{"$f":"IF(Data!#REF!=\"\",\"\",Data!#REF!)","v":{"$error":"#REF!"}},{"$error":"#REF!"},{"$error":"#REF!"},{"$error":"#REF!"}]
[{"$f":"IF(Data!#REF!=\"\",\"\",Data!#REF!)","v":{"$error":"#REF!"}},{"$f":"IF(Data!#REF!=\"\",\"\",Data!#REF!)","v":{"$error":"#REF!"}},{"$f":"IF(Data!#REF!=\"\",\"\",Data!#REF!)","v":{"$error":"#REF!"}},{"$f":"IF(Data!#REF!=\"\",\"\",Data!#REF!)","v":{"$error":"#REF!"}},{"$f":"IF(Data!#REF!=\"\",\"\",Data!#REF!)","v":{"$error":"#REF!"}},{"$error":"#REF!"},{"$error":"#REF!"},{"$error":"#REF!"}]
[{"$f":"IF(Data!#REF!=\"\",\"\",Data!#REF!)","v":{"$error":"#REF!"}},{"$f":"IF(Data!#REF!=\"\",\"\",Data!#REF!)","v":{"$error":"#REF!"}},{"$f":"IF(Data!#REF!=\"\",\"\",Data!#REF!)","v":{"$error":"#REF!"}},{"$f":"IF(Data!#REF!=\"\",\"\",Data!#REF!)","v":{"$error":"#REF!"}},{"$f":"IF(Data!#REF!=\"\",\"\",Data!#REF!)","v":{"$error":"#REF!"}},{"$error":"#REF!"},{"$error":"#REF!"},{"$error":"#REF!"}]
[{"$f":"IF(Data!#REF!=\"\",\"\",Data!#REF!)","v":{"$error":"#REF!"}},{"$f":"IF(Data!#REF!=\"\",\"\",Data!#REF!)","v":{"$error":"#REF!"}},{"$f":"IF(Data!#REF!=\"\",\"\",Data!#REF!)","v":{"$error":"#REF!"}},{"$f":"IF(Data!#REF!=\"\",\"\",Data!#REF!)","v":{"$error":"#REF!"}},{"$f":"IF(Data!#REF!=\"\",\"\",Data!#REF!)","v":{"$error":"#REF!"}},{"$error":"#REF!"},{"$error":"#REF!"},{"$error":"#REF!"}]
[{"$f":"IF(Data!#REF!=\"\",\"\",Data!#REF!)","v":{"$error":"#REF!"}},{"$f":"IF(Data!#REF!=\"\",\"\",Data!#REF!)","v":{"$error":"#REF!"}},{"$f":"IF(Data!#REF!=\"\",\"\",Data!#REF!)","v":{"$error":"#REF!"}},{"$f":"IF(Data!#REF!=\"\",\"\",Data!#REF!)","v":{"$error":"#REF!"}},{"$f":"IF(Data!#REF!=\"\",\"\",Data!#REF!)","v":{"$error":"#REF!"}},{"$error":"#REF!"},{"$error":"#REF!"},{"$error":"#REF!"}]
[{"$f":"IF(Data!#REF!=\"\",\"\",Data!#REF!)","v":{"$error":"#REF!"}},{"$f":"IF(Data!#REF!=\"\",\"\",Data!#REF!)","v":{"$error":"#REF!"}},{"$f":"IF(Data!#REF!=\"\",\"\",Data!#REF!)","v":{"$error":"#REF!"}},{"$f":"IF(Data!#REF!=\"\",\"\",Data!#REF!)","v":{"$error":"#REF!"}},{"$f":"IF(Data!#REF!=\"\",\"\",Data!#REF!)","v":{"$error":"#REF!"}},{"$error":"#REF!"},{"$error":"#REF!"},{"$error":"#REF!"}]
[{"$f":"IF(Data!#REF!=\"\",\"\",Data!#REF!)","v":{"$error":"#REF!"}},{"$f":"IF(Data!#REF!=\"\",\"\",Data!#REF!)","v":{"$error":"#REF!"}},{"$f":"IF(Data!#REF!=\"\",\"\",Data!#REF!)","v":{"$error":"#REF!"}},{"$f":"IF(Data!#REF!=\"\",\"\",Data!#REF!)","v":{"$error":"#REF!"}},{"$f":"IF(Data!#REF!=\"\",\"\",Data!#REF!)","v":{"$error":"#REF!"}},{"$error":"#REF!"},{"$error":"#REF!"},{"$error":"#REF!"}]
[{"$f":"IF(Data!#REF!=\"\",\"\",Data!#REF!)","v":{"$error":"#REF!"}},{"$f":"IF(Data!#REF!=\"\",\"\",Data!#REF!)","v":{"$error":"#REF!"}},{"$f":"IF(Data!#REF!=\"\",\"\",Data!#REF!)","v":{"$error":"#REF!"}},{"$f":"IF(Data!#REF!=\"\",\"\",Data!#REF!)","v":{"$error":"#REF!"}},{"$f":"IF(Data!#REF!=\"\",\"\",Data!#REF!)","v":{"$error":"#REF!"}},{"$error":"#REF!"},{"$error":"#REF!"},{"$error":"#REF!"}]
[{"$f":"IF(Data!#REF!=\"\",\"\",Data!#REF!)","v":{"$error":"#REF!"}},{"$f":"IF(Data!#REF!=\"\",\"\",Data!#REF!)","v":{"$error":"#REF!"}},{"$f":"IF(Data!#REF!=\"\",\"\",Data!#REF!)","v":{"$error":"#REF!"}},{"$f":"IF(Data!#REF!=\"\",\"\",Data!#REF!)","v":{"$error":"#REF!"}},{"$f":"IF(Data!#REF!=\"\",\"\",Data!#REF!)","v":{"$error":"#REF!"}},{"$error":"#REF!"},{"$error":"#REF!"},{"$error":"#REF!"}]
[{"$f":"IF(Data!#REF!=\"\",\"\",Data!#REF!)","v":{"$error":"#REF!"}},{"$f":"IF(Data!#REF!=\"\",\"\",Data!#REF!)","v":{"$error":"#REF!"}},{"$f":"IF(Data!#REF!=\"\",\"\",Data!#REF!)","v":{"$error":"#REF!"}},{"$f":"IF(Data!#REF!=\"\",\"\",Data!#REF!)","v":{"$error":"#REF!"}},{"$f":"IF(Data!#REF!=\"\",\"\",Data!#REF!)","v":{"$error":"#REF!"}},{"$error":"#REF!"},{"$error":"#REF!"},{"$error":"#REF!"}]
[{"$f":"IF(Data!#REF!=\"\",\"\",Data!#REF!)","v":{"$error":"#REF!"}},{"$f":"IF(Data!#REF!=\"\",\"\",Data!#REF!)","v":{"$error":"#REF!"}},{"$f":"IF(Data!#REF!=\"\",\"\",Data!#REF!)","v":{"$error":"#REF!"}},{"$f":"IF(Data!#REF!=\"\",\"\",Data!#REF!)","v":{"$error":"#REF!"}},{"$f":"IF(Data!#REF!=\"\",\"\",Data!#REF!)","v":{"$error":"#REF!"}},{"$error":"#REF!"},{"$error":"#REF!"},{"$error":"#REF!"}]
[{"$f":"IF(Data!#REF!=\"\",\"\",Data!#REF!)","v":{"$error":"#REF!"}},{"$f":"IF(Data!#REF!=\"\",\"\",Data!#REF!)","v":{"$error":"#REF!"}},{"$f":"IF(Data!#REF!=\"\",\"\",Data!#REF!)","v":{"$error":"#REF!"}},{"$f":"IF(Data!#REF!=\"\",\"\",Data!#REF!)","v":{"$error":"#REF!"}},{"$f":"IF(Data!#REF!=\"\",\"\",Data!#REF!)","v":{"$error":"#REF!"}},{"$error":"#REF!"},{"$error":"#REF!"},{"$error":"#REF!"}]
[{"$f":"IF(Data!#REF!=\"\",\"\",Data!#REF!)","v":{"$error":"#REF!"}},{"$f":"IF(Data!#REF!=\"\",\"\",Data!#REF!)","v":{"$error":"#REF!"}},{"$f":"IF(Data!#REF!=\"\",\"\",Data!#REF!)","v":{"$error":"#REF!"}},{"$f":"IF(Data!#REF!=\"\",\"\",Data!#REF!)","v":{"$error":"#REF!"}},{"$f":"IF(Data!#REF!=\"\",\"\",Data!#REF!)","v":{"$error":"#REF!"}},{"$f":"IF(E387>0,MONTH(E387),\"\")","v":{"$error":"#REF!"}},{"$f":"IF(E387>0,WEEKNUM(E387),\"0\")","v":{"$error":"#REF!"}},{"$f":"IF(G387>=($G$2-3),\"Ano\",\"Nie\")","v":{"$error":"#REF!"}}]
[{"$f":"IF(Data!#REF!=\"\",\"\",Data!#REF!)","v":{"$error":"#REF!"}},{"$f":"IF(Data!#REF!=\"\",\"\",Data!#REF!)","v":{"$error":"#REF!"}},{"$f":"IF(Data!#REF!=\"\",\"\",Data!#REF!)","v":{"$error":"#REF!"}},{"$f":"IF(Data!#REF!=\"\",\"\",Data!#REF!)","v":{"$error":"#REF!"}},{"$f":"IF(Data!#REF!=\"\",\"\",Data!#REF!)","v":{"$error":"#REF!"}},{"$error":"#REF!"},{"$error":"#REF!"},{"$error":"#REF!"}]
[{"$f":"IF(Data!#REF!=\"\",\"\",Data!#REF!)","v":{"$error":"#REF!"}},{"$f":"IF(Data!#REF!=\"\",\"\",Data!#REF!)","v":{"$error":"#REF!"}},{"$f":"IF(Data!#REF!=\"\",\"\",Data!#REF!)","v":{"$error":"#REF!"}},{"$f":"IF(Data!#REF!=\"\",\"\",Data!#REF!)","v":{"$error":"#REF!"}},{"$f":"IF(Data!#REF!=\"\",\"\",Data!#REF!)","v":{"$error":"#REF!"}},{"$error":"#REF!"},{"$error":"#REF!"},{"$error":"#REF!"}]
[{"$f":"IF(Data!#REF!=\"\",\"\",Data!#REF!)","v":{"$error":"#REF!"}},{"$f":"IF(Data!#REF!=\"\",\"\",Data!#REF!)","v":{"$error":"#REF!"}},{"$f":"IF(Data!#REF!=\"\",\"\",Data!#REF!)","v":{"$error":"#REF!"}},{"$f":"IF(Data!#REF!=\"\",\"\",Data!#REF!)","v":{"$error":"#REF!"}},{"$f":"IF(Data!#REF!=\"\",\"\",Data!#REF!)","v":{"$error":"#REF!"}},{"$error":"#REF!"},{"$error":"#REF!"},{"$error":"#REF!"}]
[{"$f":"IF(Data!#REF!=\"\",\"\",Data!#REF!)","v":{"$error":"#REF!"}},{"$f":"IF(Data!#REF!=\"\",\"\",Data!#REF!)","v":{"$error":"#REF!"}},{"$f":"IF(Data!#REF!=\"\",\"\",Data!#REF!)","v":{"$error":"#REF!"}},{"$f":"IF(Data!#REF!=\"\",\"\",Data!#REF!)","v":{"$error":"#REF!"}},{"$f":"IF(Data!#REF!=\"\",\"\",Data!#REF!)","v":{"$error":"#REF!"}},{"$error":"#REF!"},{"$error":"#REF!"},{"$error":"#REF!"}]
[{"$f":"IF(Data!#REF!=\"\",\"\",Data!#REF!)","v":{"$error":"#REF!"}},{"$f":"IF(Data!#REF!=\"\",\"\",Data!#REF!)","v":{"$error":"#REF!"}},{"$f":"IF(Data!#REF!=\"\",\"\",Data!#REF!)","v":{"$error":"#REF!"}},{"$f":"IF(Data!#REF!=\"\",\"\",Data!#REF!)","v":{"$error":"#REF!"}},{"$f":"IF(Data!#REF!=\"\",\"\",Data!#REF!)","v":{"$error":"#REF!"}},{"$error":"#REF!"},{"$error":"#REF!"},{"$error":"#REF!"}]
[{"$f":"IF(Data!#REF!=\"\",\"\",Data!#REF!)","v":{"$error":"#REF!"}},{"$f":"IF(Data!#REF!=\"\",\"\",Data!#REF!)","v":{"$error":"#REF!"}},{"$f":"IF(Data!#REF!=\"\",\"\",Data!#REF!)","v":{"$error":"#REF!"}},{"$f":"IF(Data!#REF!=\"\",\"\",Data!#REF!)","v":{"$error":"#REF!"}},{"$f":"IF(Data!#REF!=\"\",\"\",Data!#REF!)","v":{"$error":"#REF!"}},{"$error":"#REF!"},{"$error":"#REF!"},{"$error":"#REF!"}]
[{"$f":"IF(Data!#REF!=\"\",\"\",Data!#REF!)","v":{"$error":"#REF!"}},{"$f":"IF(Data!#REF!=\"\",\"\",Data!#REF!)","v":{"$error":"#REF!"}},{"$f":"IF(Data!#REF!=\"\",\"\",Data!#REF!)","v":{"$error":"#REF!"}},{"$f":"IF(Data!#REF!=\"\",\"\",Data!#REF!)","v":{"$error":"#REF!"}},{"$f":"IF(Data!#REF!=\"\",\"\",Data!#REF!)","v":{"$error":"#REF!"}},{"$error":"#REF!"},{"$error":"#REF!"},{"$error":"#REF!"}]
[{"$f":"IF(Data!#REF!=\"\",\"\",Data!#REF!)","v":{"$error":"#REF!"}},{"$f":"IF(Data!#REF!=\"\",\"\",Data!#REF!)","v":{"$error":"#REF!"}},{"$f":"IF(Data!#REF!=\"\",\"\",Data!#REF!)","v":{"$error":"#REF!"}},{"$f":"IF(Data!#REF!=\"\",\"\",Data!#REF!)","v":{"$error":"#REF!"}},{"$f":"IF(Data!#REF!=\"\",\"\",Data!#REF!)","v":{"$error":"#REF!"}},{"$error":"#REF!"},{"$error":"#REF!"},{"$error":"#REF!"}]
[{"$f":"IF(Data!#REF!=\"\",\"\",Data!#REF!)","v":{"$error":"#REF!"}},{"$f":"IF(Data!#REF!=\"\",\"\",Data!#REF!)","v":{"$error":"#REF!"}},{"$f":"IF(Data!#REF!=\"\",\"\",Data!#REF!)","v":{"$error":"#REF!"}},{"$f":"IF(Data!#REF!=\"\",\"\",Data!#REF!)","v":{"$error":"#REF!"}},{"$f":"IF(Data!#REF!=\"\",\"\",Data!#REF!)","v":{"$error":"#REF!"}},{"$error":"#REF!"},{"$error":"#REF!"},{"$error":"#REF!"}]
[{"$f":"IF(Data!#REF!=\"\",\"\",Data!#REF!)","v":{"$error":"#REF!"}},{"$f":"IF(Data!#REF!=\"\",\"\",Data!#REF!)","v":{"$error":"#REF!"}},{"$f":"IF(Data!#REF!=\"\",\"\",Data!#REF!)","v":{"$error":"#REF!"}},{"$f":"IF(Data!#REF!=\"\",\"\",Data!#REF!)","v":{"$error":"#REF!"}},{"$f":"IF(Data!#REF!=\"\",\"\",Data!#REF!)","v":{"$error":"#REF!"}},{"$error":"#REF!"},{"$error":"#REF!"},{"$error":"#REF!"}]
[{"$f":"IF(Data!#REF!=\"\",\"\",Data!#REF!)","v":{"$error":"#REF!"}},{"$f":"IF(Data!#REF!=\"\",\"\",Data!#REF!)","v":{"$error":"#REF!"}},{"$f":"IF(Data!#REF!=\"\",\"\",Data!#REF!)","v":{"$error":"#REF!"}},{"$f":"IF(Data!#REF!=\"\",\"\",Data!#REF!)","v":{"$error":"#REF!"}},{"$f":"IF(Data!#REF!=\"\",\"\",Data!#REF!)","v":{"$error":"#REF!"}},{"$error":"#REF!"},{"$error":"#REF!"},{"$error":"#REF!"}]
[{"$f":"IF(Data!#REF!=\"\",\"\",Data!#REF!)","v":{"$error":"#REF!"}},{"$f":"IF(Data!#REF!=\"\",\"\",Data!#REF!)","v":{"$error":"#REF!"}},{"$f":"IF(Data!#REF!=\"\",\"\",Data!#REF!)","v":{"$error":"#REF!"}},{"$f":"IF(Data!#REF!=\"\",\"\",Data!#REF!)","v":{"$error":"#REF!"}},{"$f":"IF(Data!#REF!=\"\",\"\",Data!#REF!)","v":{"$error":"#REF!"}},{"$error":"#REF!"},{"$error":"#REF!"},{"$error":"#REF!"}]
[{"$f":"IF(Data!#REF!=\"\",\"\",Data!#REF!)","v":{"$error":"#REF!"}},{"$f":"IF(Data!#REF!=\"\",\"\",Data!#REF!)","v":{"$error":"#REF!"}},{"$f":"IF(Data!#REF!=\"\",\"\",Data!#REF!)","v":{"$error":"#REF!"}},{"$f":"IF(Data!#REF!=\"\",\"\",Data!#REF!)","v":{"$error":"#REF!"}},{"$f":"IF(Data!#REF!=\"\",\"\",Data!#REF!)","v":{"$error":"#REF!"}},{"$error":"#REF!"},{"$error":"#REF!"},{"$error":"#REF!"}]
[{"$f":"IF(Data!#REF!=\"\",\"\",Data!#REF!)","v":{"$error":"#REF!"}},{"$f":"IF(Data!#REF!=\"\",\"\",Data!#REF!)","v":{"$error":"#REF!"}},{"$f":"IF(Data!#REF!=\"\",\"\",Data!#REF!)","v":{"$error":"#REF!"}},{"$f":"IF(Data!#REF!=\"\",\"\",Data!#REF!)","v":{"$error":"#REF!"}},{"$f":"IF(Data!#REF!=\"\",\"\",Data!#REF!)","v":{"$error":"#REF!"}},{"$error":"#REF!"},{"$error":"#REF!"},{"$error":"#REF!"}]
[{"$f":"IF(Data!#REF!=\"\",\"\",Data!#REF!)","v":{"$error":"#REF!"}},{"$f":"IF(Data!#REF!=\"\",\"\",Data!#REF!)","v":{"$error":"#REF!"}},{"$f":"IF(Data!#REF!=\"\",\"\",Data!#REF!)","v":{"$error":"#REF!"}},{"$f":"IF(Data!#REF!=\"\",\"\",Data!#REF!)","v":{"$error":"#REF!"}},{"$f":"IF(Data!#REF!=\"\",\"\",Data!#REF!)","v":{"$error":"#REF!"}},{"$error":"#REF!"},{"$error":"#REF!"},{"$error":"#REF!"}]
[{"$f":"IF(Data!#REF!=\"\",\"\",Data!#REF!)","v":{"$error":"#REF!"}},{"$f":"IF(Data!#REF!=\"\",\"\",Data!#REF!)","v":{"$error":"#REF!"}},{"$f":"IF(Data!#REF!=\"\",\"\",Data!#REF!)","v":{"$error":"#REF!"}},{"$f":"IF(Data!#REF!=\"\",\"\",Data!#REF!)","v":{"$error":"#REF!"}},{"$f":"IF(Data!#REF!=\"\",\"\",Data!#REF!)","v":{"$error":"#REF!"}},{"$error":"#REF!"},{"$error":"#REF!"},{"$error":"#REF!"}]
[{"$f":"IF(Data!#REF!=\"\",\"\",Data!#REF!)","v":{"$error":"#REF!"}},{"$f":"IF(Data!#REF!=\"\",\"\",Data!#REF!)","v":{"$error":"#REF!"}},{"$f":"IF(Data!#REF!=\"\",\"\",Data!#REF!)","v":{"$error":"#REF!"}},{"$f":"IF(Data!#REF!=\"\",\"\",Data!#REF!)","v":{"$error":"#REF!"}},{"$f":"IF(Data!#REF!=\"\",\"\",Data!#REF!)","v":{"$error":"#REF!"}},{"$error":"#REF!"},{"$error":"#REF!"},{"$error":"#REF!"}]
[{"$f":"IF(Data!#REF!=\"\",\"\",Data!#REF!)","v":{"$error":"#REF!"}},{"$f":"IF(Data!#REF!=\"\",\"\",Data!#REF!)","v":{"$error":"#REF!"}},{"$f":"IF(Data!#REF!=\"\",\"\",Data!#REF!)","v":{"$error":"#REF!"}},{"$f":"IF(Data!#REF!=\"\",\"\",Data!#REF!)","v":{"$error":"#REF!"}},{"$f":"IF(Data!#REF!=\"\",\"\",Data!#REF!)","v":{"$error":"#REF!"}},{"$error":"#REF!"},{"$error":"#REF!"},{"$error":"#REF!"}]
[{"$f":"IF(Data!#REF!=\"\",\"\",Data!#REF!)","v":{"$error":"#REF!"}},{"$f":"IF(Data!#REF!=\"\",\"\",Data!#REF!)","v":{"$error":"#REF!"}},{"$f":"IF(Data!#REF!=\"\",\"\",Data!#REF!)","v":{"$error":"#REF!"}},{"$f":"IF(Data!#REF!=\"\",\"\",Data!#REF!)","v":{"$error":"#REF!"}},{"$f":"IF(Data!#REF!=\"\",\"\",Data!#REF!)","v":{"$error":"#REF!"}},{"$error":"#REF!"},{"$error":"#REF!"},{"$error":"#REF!"}]
[{"$f":"IF(Data!#REF!=\"\",\"\",Data!#REF!)","v":{"$error":"#REF!"}},{"$f":"IF(Data!#REF!=\"\",\"\",Data!#REF!)","v":{"$error":"#REF!"}},{"$f":"IF(Data!#REF!=\"\",\"\",Data!#REF!)","v":{"$error":"#REF!"}},{"$f":"IF(Data!#REF!=\"\",\"\",Data!#REF!)","v":{"$error":"#REF!"}},{"$f":"IF(Data!#REF!=\"\",\"\",Data!#REF!)","v":{"$error":"#REF!"}},{"$error":"#REF!"},{"$error":"#REF!"},{"$error":"#REF!"}]
[{"$f":"IF(Data!#REF!=\"\",\"\",Data!#REF!)","v":{"$error":"#REF!"}},{"$f":"IF(Data!#REF!=\"\",\"\",Data!#REF!)","v":{"$error":"#REF!"}},{"$f":"IF(Data!#REF!=\"\",\"\",Data!#REF!)","v":{"$error":"#REF!"}},{"$f":"IF(Data!#REF!=\"\",\"\",Data!#REF!)","v":{"$error":"#REF!"}},{"$f":"IF(Data!#REF!=\"\",\"\",Data!#REF!)","v":{"$error":"#REF!"}},{"$error":"#REF!"},{"$error":"#REF!"},{"$error":"#REF!"}]
[{"$f":"IF(Data!#REF!=\"\",\"\",Data!#REF!)","v":{"$error":"#REF!"}},{"$f":"IF(Data!#REF!=\"\",\"\",Data!#REF!)","v":{"$error":"#REF!"}},{"$f":"IF(Data!#REF!=\"\",\"\",Data!#REF!)","v":{"$error":"#REF!"}},{"$f":"IF(Data!#REF!=\"\",\"\",Data!#REF!)","v":{"$error":"#REF!"}},{"$f":"IF(Data!#REF!=\"\",\"\",Data!#REF!)","v":{"$error":"#REF!"}},{"$error":"#REF!"},{"$error":"#REF!"},{"$error":"#REF!"}]
[{"$f":"IF(Data!#REF!=\"\",\"\",Data!#REF!)","v":{"$error":"#REF!"}},{"$f":"IF(Data!#REF!=\"\",\"\",Data!#REF!)","v":{"$error":"#REF!"}},{"$f":"IF(Data!#REF!=\"\",\"\",Data!#REF!)","v":{"$error":"#REF!"}},{"$f":"IF(Data!#REF!=\"\",\"\",Data!#REF!)","v":{"$error":"#REF!"}},{"$f":"IF(Data!#REF!=\"\",\"\",Data!#REF!)","v":{"$error":"#REF!"}},{"$error":"#REF!"},{"$error":"#REF!"},{"$error":"#REF!"}]
[{"$f":"IF(Data!#REF!=\"\",\"\",Data!#REF!)","v":{"$error":"#REF!"}},{"$f":"IF(Data!#REF!=\"\",\"\",Data!#REF!)","v":{"$error":"#REF!"}},{"$f":"IF(Data!#REF!=\"\",\"\",Data!#REF!)","v":{"$error":"#REF!"}},{"$f":"IF(Data!#REF!=\"\",\"\",Data!#REF!)","v":{"$error":"#REF!"}},{"$f":"IF(Data!#REF!=\"\",\"\",Data!#REF!)","v":{"$error":"#REF!"}},{"$error":"#REF!"},{"$error":"#REF!"},{"$error":"#REF!"}]
[{"$f":"IF(Data!#REF!=\"\",\"\",Data!#REF!)","v":{"$error":"#REF!"}},{"$f":"IF(Data!#REF!=\"\",\"\",Data!#REF!)","v":{"$error":"#REF!"}},{"$f":"IF(Data!#REF!=\"\",\"\",Data!#REF!)","v":{"$error":"#REF!"}},{"$f":"IF(Data!#REF!=\"\",\"\",Data!#REF!)","v":{"$error":"#REF!"}},{"$f":"IF(Data!#REF!=\"\",\"\",Data!#REF!)","v":{"$error":"#REF!"}},{"$error":"#REF!"},{"$error":"#REF!"},{"$error":"#REF!"}]
[{"$f":"IF(Data!#REF!=\"\",\"\",Data!#REF!)","v":{"$error":"#REF!"}},{"$f":"IF(Data!#REF!=\"\",\"\",Data!#REF!)","v":{"$error":"#REF!"}},{"$f":"IF(Data!#REF!=\"\",\"\",Data!#REF!)","v":{"$error":"#REF!"}},{"$f":"IF(Data!#REF!=\"\",\"\",Data!#REF!)","v":{"$error":"#REF!"}},{"$f":"IF(Data!#REF!=\"\",\"\",Data!#REF!)","v":{"$error":"#REF!"}},{"$error":"#REF!"},{"$error":"#REF!"},{"$error":"#REF!"}]
[{"$f":"IF(Data!#REF!=\"\",\"\",Data!#REF!)","v":{"$error":"#REF!"}},{"$f":"IF(Data!#REF!=\"\",\"\",Data!#REF!)","v":{"$error":"#REF!"}},{"$f":"IF(Data!#REF!=\"\",\"\",Data!#REF!)","v":{"$error":"#REF!"}},{"$f":"IF(Data!#REF!=\"\",\"\",Data!#REF!)","v":{"$error":"#REF!"}},{"$f":"IF(Data!#REF!=\"\",\"\",Data!#REF!)","v":{"$error":"#REF!"}},{"$error":"#REF!"},{"$error":"#REF!"},{"$error":"#REF!"}]
[{"$f":"IF(Data!#REF!=\"\",\"\",Data!#REF!)","v":{"$error":"#REF!"}},{"$f":"IF(Data!#REF!=\"\",\"\",Data!#REF!)","v":{"$error":"#REF!"}},{"$f":"IF(Data!#REF!=\"\",\"\",Data!#REF!)","v":{"$error":"#REF!"}},{"$f":"IF(Data!#REF!=\"\",\"\",Data!#REF!)","v":{"$error":"#REF!"}},{"$f":"IF(Data!#REF!=\"\",\"\",Data!#REF!)","v":{"$error":"#REF!"}},{"$error":"#REF!"},{"$error":"#REF!"},{"$error":"#REF!"}]
[{"$f":"IF(Data!#REF!=\"\",\"\",Data!#REF!)","v":{"$error":"#REF!"}},{"$f":"IF(Data!#REF!=\"\",\"\",Data!#REF!)","v":{"$error":"#REF!"}},{"$f":"IF(Data!#REF!=\"\",\"\",Data!#REF!)","v":{"$error":"#REF!"}},{"$f":"IF(Data!#REF!=\"\",\"\",Data!#REF!)","v":{"$error":"#REF!"}},{"$f":"IF(Data!#REF!=\"\",\"\",Data!#REF!)","v":{"$error":"#REF!"}},{"$error":"#REF!"},{"$error":"#REF!"},{"$error":"#REF!"}]
[{"$f":"IF(Data!#REF!=\"\",\"\",Data!#REF!)","v":{"$error":"#REF!"}},{"$f":"IF(Data!#REF!=\"\",\"\",Data!#REF!)","v":{"$error":"#REF!"}},{"$f":"IF(Data!#REF!=\"\",\"\",Data!#REF!)","v":{"$error":"#REF!"}},{"$f":"IF(Data!#REF!=\"\",\"\",Data!#REF!)","v":{"$error":"#REF!"}},{"$f":"IF(Data!#REF!=\"\",\"\",Data!#REF!)","v":{"$error":"#REF!"}},{"$error":"#REF!"},{"$error":"#REF!"},{"$error":"#REF!"}]
[{"$f":"IF(Data!#REF!=\"\",\"\",Data!#REF!)","v":{"$error":"#REF!"}},{"$f":"IF(Data!#REF!=\"\",\"\",Data!#REF!)","v":{"$error":"#REF!"}},{"$f":"IF(Data!#REF!=\"\",\"\",Data!#REF!)","v":{"$error":"#REF!"}},{"$f":"IF(Data!#REF!=\"\",\"\",Data!#REF!)","v":{"$error":"#REF!"}},{"$f":"IF(Data!#REF!=\"\",\"\",Data!#REF!)","v":{"$error":"#REF!"}},{"$error":"#REF!"},{"$error":"#REF!"},{"$error":"#REF!"}]
[{"$f":"IF(Data!#REF!=\"\",\"\",Data!#REF!)","v":{"$error":"#REF!"}},{"$f":"IF(Data!#REF!=\"\",\"\",Data!#REF!)","v":{"$error":"#REF!"}},{"$f":"IF(Data!#REF!=\"\",\"\",Data!#REF!)","v":{"$error":"#REF!"}},{"$f":"IF(Data!#REF!=\"\",\"\",Data!#REF!)","v":{"$error":"#REF!"}},{"$f":"IF(Data!#REF!=\"\",\"\",Data!#REF!)","v":{"$error":"#REF!"}},{"$error":"#REF!"},{"$error":"#REF!"},{"$error":"#REF!"}]
[{"$f":"IF(Data!#REF!=\"\",\"\",Data!#REF!)","v":{"$error":"#REF!"}},{"$f":"IF(Data!#REF!=\"\",\"\",Data!#REF!)","v":{"$error":"#REF!"}},{"$f":"IF(Data!#REF!=\"\",\"\",Data!#REF!)","v":{"$error":"#REF!"}},{"$f":"IF(Data!#REF!=\"\",\"\",Data!#REF!)","v":{"$error":"#REF!"}},{"$f":"IF(Data!#REF!=\"\",\"\",Data!#REF!)","v":{"$error":"#REF!"}},{"$error":"#REF!"},{"$error":"#REF!"},{"$error":"#REF!"}]
[{"$f":"IF(Data!#REF!=\"\",\"\",Data!#REF!)","v":{"$error":"#REF!"}},{"$f":"IF(Data!#REF!=\"\",\"\",Data!#REF!)","v":{"$error":"#REF!"}},{"$f":"IF(Data!#REF!=\"\",\"\",Data!#REF!)","v":{"$error":"#REF!"}},{"$f":"IF(Data!#REF!=\"\",\"\",Data!#REF!)","v":{"$error":"#REF!"}},{"$f":"IF(Data!#REF!=\"\",\"\",Data!#REF!)","v":{"$error":"#REF!"}},{"$error":"#REF!"},{"$error":"#REF!"},{"$error":"#REF!"}]
[{"$f":"IF(Data!#REF!=\"\",\"\",Data!#REF!)","v":{"$error":"#REF!"}},{"$f":"IF(Data!#REF!=\"\",\"\",Data!#REF!)","v":{"$error":"#REF!"}},{"$f":"IF(Data!#REF!=\"\",\"\",Data!#REF!)","v":{"$error":"#REF!"}},{"$f":"IF(Data!#REF!=\"\",\"\",Data!#REF!)","v":{"$error":"#REF!"}},{"$f":"IF(Data!#REF!=\"\",\"\",Data!#REF!)","v":{"$error":"#REF!"}},{"$error":"#REF!"},{"$error":"#REF!"},{"$error":"#REF!"}]
[{"$f":"IF(Data!#REF!=\"\",\"\",Data!#REF!)","v":{"$error":"#REF!"}},{"$f":"IF(Data!#REF!=\"\",\"\",Data!#REF!)","v":{"$error":"#REF!"}},{"$f":"IF(Data!#REF!=\"\",\"\",Data!#REF!)","v":{"$error":"#REF!"}},{"$f":"IF(Data!#REF!=\"\",\"\",Data!#REF!)","v":{"$error":"#REF!"}},{"$f":"IF(Data!#REF!=\"\",\"\",Data!#REF!)","v":{"$error":"#REF!"}},{"$error":"#REF!"},{"$error":"#REF!"},{"$error":"#REF!"}]
[{"$f":"IF(Data!#REF!=\"\",\"\",Data!#REF!)","v":{"$error":"#REF!"}},{"$f":"IF(Data!#REF!=\"\",\"\",Data!#REF!)","v":{"$error":"#REF!"}},{"$f":"IF(Data!#REF!=\"\",\"\",Data!#REF!)","v":{"$error":"#REF!"}},{"$f":"IF(Data!#REF!=\"\",\"\",Data!#REF!)","v":{"$error":"#REF!"}},{"$f":"IF(Data!#REF!=\"\",\"\",Data!#REF!)","v":{"$error":"#REF!"}},{"$error":"#REF!"},{"$error":"#REF!"},{"$error":"#REF!"}]
[{"$f":"IF(Data!#REF!=\"\",\"\",Data!#REF!)","v":{"$error":"#REF!"}},{"$f":"IF(Data!#REF!=\"\",\"\",Data!#REF!)","v":{"$error":"#REF!"}},{"$f":"IF(Data!#REF!=\"\",\"\",Data!#REF!)","v":{"$error":"#REF!"}},{"$f":"IF(Data!#REF!=\"\",\"\",Data!#REF!)","v":{"$error":"#REF!"}},{"$f":"IF(Data!#REF!=\"\",\"\",Data!#REF!)","v":{"$error":"#REF!"}},{"$error":"#REF!"},{"$error":"#REF!"},{"$error":"#REF!"}]
[{"$f":"IF(Data!#REF!=\"\",\"\",Data!#REF!)","v":{"$error":"#REF!"}},{"$f":"IF(Data!#REF!=\"\",\"\",Data!#REF!)","v":{"$error":"#REF!"}},{"$f":"IF(Data!#REF!=\"\",\"\",Data!#REF!)","v":{"$error":"#REF!"}},{"$f":"IF(Data!#REF!=\"\",\"\",Data!#REF!)","v":{"$error":"#REF!"}},{"$f":"IF(Data!#REF!=\"\",\"\",Data!#REF!)","v":{"$error":"#REF!"}},{"$error":"#REF!"},{"$error":"#REF!"},{"$error":"#REF!"}]
[{"$f":"IF(Data!#REF!=\"\",\"\",Data!#REF!)","v":{"$error":"#REF!"}},{"$f":"IF(Data!#REF!=\"\",\"\",Data!#REF!)","v":{"$error":"#REF!"}},{"$f":"IF(Data!#REF!=\"\",\"\",Data!#REF!)","v":{"$error":"#REF!"}},{"$f":"IF(Data!#REF!=\"\",\"\",Data!#REF!)","v":{"$error":"#REF!"}},{"$f":"IF(Data!#REF!=\"\",\"\",Data!#REF!)","v":{"$error":"#REF!"}},{"$error":"#REF!"},{"$error":"#REF!"},{"$error":"#REF!"}]
[{"$f":"IF(Data!#REF!=\"\",\"\",Data!#REF!)","v":{"$error":"#REF!"}},{"$f":"IF(Data!#REF!=\"\",\"\",Data!#REF!)","v":{"$error":"#REF!"}},{"$f":"IF(Data!#REF!=\"\",\"\",Data!#REF!)","v":{"$error":"#REF!"}},{"$f":"IF(Data!#REF!=\"\",\"\",Data!#REF!)","v":{"$error":"#REF!"}},{"$f":"IF(Data!#REF!=\"\",\"\",Data!#REF!)","v":{"$error":"#REF!"}},{"$error":"#REF!"},{"$error":"#REF!"},{"$error":"#REF!"}]
[{"$f":"IF(Data!#REF!=\"\",\"\",Data!#REF!)","v":{"$error":"#REF!"}},{"$f":"IF(Data!#REF!=\"\",\"\",Data!#REF!)","v":{"$error":"#REF!"}},{"$f":"IF(Data!#REF!=\"\",\"\",Data!#REF!)","v":{"$error":"#REF!"}},{"$f":"IF(Data!#REF!=\"\",\"\",Data!#REF!)","v":{"$error":"#REF!"}},{"$f":"IF(Data!#REF!=\"\",\"\",Data!#REF!)","v":{"$error":"#REF!"}},{"$error":"#REF!"},{"$error":"#REF!"},{"$error":"#REF!"}]
[{"$f":"IF(Data!#REF!=\"\",\"\",Data!#REF!)","v":{"$error":"#REF!"}},{"$f":"IF(Data!#REF!=\"\",\"\",Data!#REF!)","v":{"$error":"#REF!"}},{"$f":"IF(Data!#REF!=\"\",\"\",Data!#REF!)","v":{"$error":"#REF!"}},{"$f":"IF(Data!#REF!=\"\",\"\",Data!#REF!)","v":{"$error":"#REF!"}},{"$f":"IF(Data!#REF!=\"\",\"\",Data!#REF!)","v":{"$error":"#REF!"}},{"$error":"#REF!"},{"$error":"#REF!"},{"$error":"#REF!"}]
[{"$f":"IF(Data!#REF!=\"\",\"\",Data!#REF!)","v":{"$error":"#REF!"}},{"$f":"IF(Data!#REF!=\"\",\"\",Data!#REF!)","v":{"$error":"#REF!"}},{"$f":"IF(Data!#REF!=\"\",\"\",Data!#REF!)","v":{"$error":"#REF!"}},{"$f":"IF(Data!#REF!=\"\",\"\",Data!#REF!)","v":{"$error":"#REF!"}},{"$f":"IF(Data!#REF!=\"\",\"\",Data!#REF!)","v":{"$error":"#REF!"}},{"$error":"#REF!"},{"$error":"#REF!"},{"$error":"#REF!"}]
[{"$f":"IF(Data!#REF!=\"\",\"\",Data!#REF!)","v":{"$error":"#REF!"}},{"$f":"IF(Data!#REF!=\"\",\"\",Data!#REF!)","v":{"$error":"#REF!"}},{"$f":"IF(Data!#REF!=\"\",\"\",Data!#REF!)","v":{"$error":"#REF!"}},{"$f":"IF(Data!#REF!=\"\",\"\",Data!#REF!)","v":{"$error":"#REF!"}},{"$f":"IF(Data!#REF!=\"\",\"\",Data!#REF!)","v":{"$error":"#REF!"}},{"$error":"#REF!"},{"$error":"#REF!"},{"$error":"#REF!"}]
[{"$f":"IF(Data!#REF!=\"\",\"\",Data!#REF!)","v":{"$error":"#REF!"}},{"$f":"IF(Data!#REF!=\"\",\"\",Data!#REF!)","v":{"$error":"#REF!"}},{"$f":"IF(Data!#REF!=\"\",\"\",Data!#REF!)","v":{"$error":"#REF!"}},{"$f":"IF(Data!#REF!=\"\",\"\",Data!#REF!)","v":{"$error":"#REF!"}},{"$f":"IF(Data!#REF!=\"\",\"\",Data!#REF!)","v":{"$error":"#REF!"}},{"$error":"#REF!"},{"$error":"#REF!"},{"$error":"#REF!"}]
[{"$f":"IF(Data!#REF!=\"\",\"\",Data!#REF!)","v":{"$error":"#REF!"}},{"$f":"IF(Data!#REF!=\"\",\"\",Data!#REF!)","v":{"$error":"#REF!"}},{"$f":"IF(Data!#REF!=\"\",\"\",Data!#REF!)","v":{"$error":"#REF!"}},{"$f":"IF(Data!#REF!=\"\",\"\",Data!#REF!)","v":{"$error":"#REF!"}},{"$f":"IF(Data!#REF!=\"\",\"\",Data!#REF!)","v":{"$error":"#REF!"}},{"$error":"#REF!"},{"$error":"#REF!"},{"$error":"#REF!"}]
[{"$f":"IF(Data!#REF!=\"\",\"\",Data!#REF!)","v":{"$error":"#REF!"}},{"$f":"IF(Data!#REF!=\"\",\"\",Data!#REF!)","v":{"$error":"#REF!"}},{"$f":"IF(Data!#REF!=\"\",\"\",Data!#REF!)","v":{"$error":"#REF!"}},{"$f":"IF(Data!#REF!=\"\",\"\",Data!#REF!)","v":{"$error":"#REF!"}},{"$f":"IF(Data!#REF!=\"\",\"\",Data!#REF!)","v":{"$error":"#REF!"}},{"$error":"#REF!"},{"$error":"#REF!"},{"$error":"#REF!"}]
[{"$f":"IF(Data!#REF!=\"\",\"\",Data!#REF!)","v":{"$error":"#REF!"}},{"$f":"IF(Data!#REF!=\"\",\"\",Data!#REF!)","v":{"$error":"#REF!"}},{"$f":"IF(Data!#REF!=\"\",\"\",Data!#REF!)","v":{"$error":"#REF!"}},{"$f":"IF(Data!#REF!=\"\",\"\",Data!#REF!)","v":{"$error":"#REF!"}},{"$f":"IF(Data!#REF!=\"\",\"\",Data!#REF!)","v":{"$error":"#REF!"}},{"$error":"#REF!"},{"$error":"#REF!"},{"$error":"#REF!"}]
[{"$f":"IF(Data!#REF!=\"\",\"\",Data!#REF!)","v":{"$error":"#REF!"}},{"$f":"IF(Data!#REF!=\"\",\"\",Data!#REF!)","v":{"$error":"#REF!"}},{"$f":"IF(Data!#REF!=\"\",\"\",Data!#REF!)","v":{"$error":"#REF!"}},{"$f":"IF(Data!#REF!=\"\",\"\",Data!#REF!)","v":{"$error":"#REF!"}},{"$f":"IF(Data!#REF!=\"\",\"\",Data!#REF!)","v":{"$error":"#REF!"}},{"$error":"#REF!"},{"$error":"#REF!"},{"$error":"#REF!"}]
[{"$f":"IF(Data!#REF!=\"\",\"\",Data!#REF!)","v":{"$error":"#REF!"}},{"$f":"IF(Data!#REF!=\"\",\"\",Data!#REF!)","v":{"$error":"#REF!"}},{"$f":"IF(Data!#REF!=\"\",\"\",Data!#REF!)","v":{"$error":"#REF!"}},{"$f":"IF(Data!#REF!=\"\",\"\",Data!#REF!)","v":{"$error":"#REF!"}},{"$f":"IF(Data!#REF!=\"\",\"\",Data!#REF!)","v":{"$error":"#REF!"}},{"$error":"#REF!"},{"$error":"#REF!"},{"$error":"#REF!"}]
[{"$f":"IF(Data!#REF!=\"\",\"\",Data!#REF!)","v":{"$error":"#REF!"}},{"$f":"IF(Data!#REF!=\"\",\"\",Data!#REF!)","v":{"$error":"#REF!"}},{"$f":"IF(Data!#REF!=\"\",\"\",Data!#REF!)","v":{"$error":"#REF!"}},{"$f":"IF(Data!#REF!=\"\",\"\",Data!#REF!)","v":{"$error":"#REF!"}},{"$f":"IF(Data!#REF!=\"\",\"\",Data!#REF!)","v":{"$error":"#REF!"}},{"$error":"#REF!"},{"$error":"#REF!"},{"$error":"#REF!"}]
[{"$f":"IF(Data!#REF!=\"\",\"\",Data!#REF!)","v":{"$error":"#REF!"}},{"$f":"IF(Data!#REF!=\"\",\"\",Data!#REF!)","v":{"$error":"#REF!"}},{"$f":"IF(Data!#REF!=\"\",\"\",Data!#REF!)","v":{"$error":"#REF!"}},{"$f":"IF(Data!#REF!=\"\",\"\",Data!#REF!)","v":{"$error":"#REF!"}},{"$f":"IF(Data!#REF!=\"\",\"\",Data!#REF!)","v":{"$error":"#REF!"}},{"$error":"#REF!"},{"$error":"#REF!"},{"$error":"#REF!"}]
[{"$f":"IF(Data!#REF!=\"\",\"\",Data!#REF!)","v":{"$error":"#REF!"}},{"$f":"IF(Data!#REF!=\"\",\"\",Data!#REF!)","v":{"$error":"#REF!"}},{"$f":"IF(Data!#REF!=\"\",\"\",Data!#REF!)","v":{"$error":"#REF!"}},{"$f":"IF(Data!#REF!=\"\",\"\",Data!#REF!)","v":{"$error":"#REF!"}},{"$f":"IF(Data!#REF!=\"\",\"\",Data!#REF!)","v":{"$error":"#REF!"}},{"$error":"#REF!"},{"$error":"#REF!"},{"$error":"#REF!"}]
[{"$f":"IF(Data!#REF!=\"\",\"\",Data!#REF!)","v":{"$error":"#REF!"}},{"$f":"IF(Data!#REF!=\"\",\"\",Data!#REF!)","v":{"$error":"#REF!"}},{"$f":"IF(Data!#REF!=\"\",\"\",Data!#REF!)","v":{"$error":"#REF!"}},{"$f":"IF(Data!#REF!=\"\",\"\",Data!#REF!)","v":{"$error":"#REF!"}},{"$f":"IF(Data!#REF!=\"\",\"\",Data!#REF!)","v":{"$error":"#REF!"}},{"$error":"#REF!"},{"$error":"#REF!"},{"$error":"#REF!"}]
[{"$f":"IF(Data!#REF!=\"\",\"\",Data!#REF!)","v":{"$error":"#REF!"}},{"$f":"IF(Data!#REF!=\"\",\"\",Data!#REF!)","v":{"$error":"#REF!"}},{"$f":"IF(Data!#REF!=\"\",\"\",Data!#REF!)","v":{"$error":"#REF!"}},{"$f":"IF(Data!#REF!=\"\",\"\",Data!#REF!)","v":{"$error":"#REF!"}},{"$f":"IF(Data!#REF!=\"\",\"\",Data!#REF!)","v":{"$error":"#REF!"}},{"$error":"#REF!"},{"$error":"#REF!"},{"$error":"#REF!"}]
[{"$f":"IF(Data!#REF!=\"\",\"\",Data!#REF!)","v":{"$error":"#REF!"}},{"$f":"IF(Data!#REF!=\"\",\"\",Data!#REF!)","v":{"$error":"#REF!"}},{"$f":"IF(Data!#REF!=\"\",\"\",Data!#REF!)","v":{"$error":"#REF!"}},{"$f":"IF(Data!#REF!=\"\",\"\",Data!#REF!)","v":{"$error":"#REF!"}},{"$f":"IF(Data!#REF!=\"\",\"\",Data!#REF!)","v":{"$error":"#REF!"}},{"$error":"#REF!"},{"$error":"#REF!"},{"$error":"#REF!"}]
[{"$f":"IF(Data!#REF!=\"\",\"\",Data!#REF!)","v":{"$error":"#REF!"}},{"$f":"IF(Data!#REF!=\"\",\"\",Data!#REF!)","v":{"$error":"#REF!"}},{"$f":"IF(Data!#REF!=\"\",\"\",Data!#REF!)","v":{"$error":"#REF!"}},{"$f":"IF(Data!#REF!=\"\",\"\",Data!#REF!)","v":{"$error":"#REF!"}},{"$f":"IF(Data!#REF!=\"\",\"\",Data!#REF!)","v":{"$error":"#REF!"}},{"$error":"#REF!"},{"$error":"#REF!"},{"$error":"#REF!"}]
[{"$f":"IF(Data!#REF!=\"\",\"\",Data!#REF!)","v":{"$error":"#REF!"}},{"$f":"IF(Data!#REF!=\"\",\"\",Data!#REF!)","v":{"$error":"#REF!"}},{"$f":"IF(Data!#REF!=\"\",\"\",Data!#REF!)","v":{"$error":"#REF!"}},{"$f":"IF(Data!#REF!=\"\",\"\",Data!#REF!)","v":{"$error":"#REF!"}},{"$f":"IF(Data!#REF!=\"\",\"\",Data!#REF!)","v":{"$error":"#REF!"}},{"$error":"#REF!"},{"$error":"#REF!"},{"$error":"#REF!"}]
[{"$f":"IF(Data!#REF!=\"\",\"\",Data!#REF!)","v":{"$error":"#REF!"}},{"$f":"IF(Data!#REF!=\"\",\"\",Data!#REF!)","v":{"$error":"#REF!"}},{"$f":"IF(Data!#REF!=\"\",\"\",Data!#REF!)","v":{"$error":"#REF!"}},{"$f":"IF(Data!#REF!=\"\",\"\",Data!#REF!)","v":{"$error":"#REF!"}},{"$f":"IF(Data!#REF!=\"\",\"\",Data!#REF!)","v":{"$error":"#REF!"}},{"$error":"#REF!"},{"$error":"#REF!"},{"$error":"#REF!"}]
[{"$f":"IF(Data!#REF!=\"\",\"\",Data!#REF!)","v":{"$error":"#REF!"}},{"$f":"IF(Data!#REF!=\"\",\"\",Data!#REF!)","v":{"$error":"#REF!"}},{"$f":"IF(Data!#REF!=\"\",\"\",Data!#REF!)","v":{"$error":"#REF!"}},{"$f":"IF(Data!#REF!=\"\",\"\",Data!#REF!)","v":{"$error":"#REF!"}},{"$f":"IF(Data!#REF!=\"\",\"\",Data!#REF!)","v":{"$error":"#REF!"}},{"$error":"#REF!"},{"$error":"#REF!"},{"$error":"#REF!"}]
[{"$f":"IF(Data!#REF!=\"\",\"\",Data!#REF!)","v":{"$error":"#REF!"}},{"$f":"IF(Data!#REF!=\"\",\"\",Data!#REF!)","v":{"$error":"#REF!"}},{"$f":"IF(Data!#REF!=\"\",\"\",Data!#REF!)","v":{"$error":"#REF!"}},{"$f":"IF(Data!#REF!=\"\",\"\",Data!#REF!)","v":{"$error":"#REF!"}},{"$f":"IF(Data!#REF!=\"\",\"\",Data!#REF!)","v":{"$error":"#REF!"}},{"$error":"#REF!"},{"$error":"#REF!"},{"$error":"#REF!"}]
[{"$f":"IF(Data!#REF!=\"\",\"\",Data!#REF!)","v":{"$error":"#REF!"}},{"$f":"IF(Data!#REF!=\"\",\"\",Data!#REF!)","v":{"$error":"#REF!"}},{"$f":"IF(Data!#REF!=\"\",\"\",Data!#REF!)","v":{"$error":"#REF!"}},{"$f":"IF(Data!#REF!=\"\",\"\",Data!#REF!)","v":{"$error":"#REF!"}},{"$f":"IF(Data!#REF!=\"\",\"\",Data!#REF!)","v":{"$error":"#REF!"}},{"$error":"#REF!"},{"$error":"#REF!"},{"$error":"#REF!"}]
[{"$f":"IF(Data!#REF!=\"\",\"\",Data!#REF!)","v":{"$error":"#REF!"}},{"$f":"IF(Data!#REF!=\"\",\"\",Data!#REF!)","v":{"$error":"#REF!"}},{"$f":"IF(Data!#REF!=\"\",\"\",Data!#REF!)","v":{"$error":"#REF!"}},{"$f":"IF(Data!#REF!=\"\",\"\",Data!#REF!)","v":{"$error":"#REF!"}},{"$f":"IF(Data!#REF!=\"\",\"\",Data!#REF!)","v":{"$error":"#REF!"}},{"$f":"IF(E451>0,MONTH(E451),\"\")","v":{"$error":"#REF!"}},{"$f":"IF(E451>0,WEEKNUM(E451),\"0\")","v":{"$error":"#REF!"}},{"$f":"IF(G451>=($G$2-3),\"Ano\",\"Nie\")","v":{"$error":"#REF!"}}]
[{"$f":"IF(Data!#REF!=\"\",\"\",Data!#REF!)","v":{"$error":"#REF!"}},{"$f":"IF(Data!#REF!=\"\",\"\",Data!#REF!)","v":{"$error":"#REF!"}},{"$f":"IF(Data!#REF!=\"\",\"\",Data!#REF!)","v":{"$error":"#REF!"}},{"$f":"IF(Data!#REF!=\"\",\"\",Data!#REF!)","v":{"$error":"#REF!"}},{"$f":"IF(Data!#REF!=\"\",\"\",Data!#REF!)","v":{"$error":"#REF!"}},{"$error":"#REF!"},{"$error":"#REF!"},{"$error":"#REF!"}]
[{"$f":"IF(Data!#REF!=\"\",\"\",Data!#REF!)","v":{"$error":"#REF!"}},{"$f":"IF(Data!#REF!=\"\",\"\",Data!#REF!)","v":{"$error":"#REF!"}},{"$f":"IF(Data!#REF!=\"\",\"\",Data!#REF!)","v":{"$error":"#REF!"}},{"$f":"IF(Data!#REF!=\"\",\"\",Data!#REF!)","v":{"$error":"#REF!"}},{"$f":"IF(Data!#REF!=\"\",\"\",Data!#REF!)","v":{"$error":"#REF!"}},{"$error":"#REF!"},{"$error":"#REF!"},{"$error":"#REF!"}]
[{"$f":"IF(Data!#REF!=\"\",\"\",Data!#REF!)","v":{"$error":"#REF!"}},{"$f":"IF(Data!#REF!=\"\",\"\",Data!#REF!)","v":{"$error":"#REF!"}},{"$f":"IF(Data!#REF!=\"\",\"\",Data!#REF!)","v":{"$error":"#REF!"}},{"$f":"IF(Data!#REF!=\"\",\"\",Data!#REF!)","v":{"$error":"#REF!"}},{"$f":"IF(Data!#REF!=\"\",\"\",Data!#REF!)","v":{"$error":"#REF!"}},{"$error":"#REF!"},{"$error":"#REF!"},{"$error":"#REF!"}]
[{"$f":"IF(Data!#REF!=\"\",\"\",Data!#REF!)","v":{"$error":"#REF!"}},{"$f":"IF(Data!#REF!=\"\",\"\",Data!#REF!)","v":{"$error":"#REF!"}},{"$f":"IF(Data!#REF!=\"\",\"\",Data!#REF!)","v":{"$error":"#REF!"}},{"$f":"IF(Data!#REF!=\"\",\"\",Data!#REF!)","v":{"$error":"#REF!"}},{"$f":"IF(Data!#REF!=\"\",\"\",Data!#REF!)","v":{"$error":"#REF!"}},{"$error":"#REF!"},{"$error":"#REF!"},{"$error":"#REF!"}]
[{"$f":"IF(Data!#REF!=\"\",\"\",Data!#REF!)","v":{"$error":"#REF!"}},{"$f":"IF(Data!#REF!=\"\",\"\",Data!#REF!)","v":{"$error":"#REF!"}},{"$f":"IF(Data!#REF!=\"\",\"\",Data!#REF!)","v":{"$error":"#REF!"}},{"$f":"IF(Data!#REF!=\"\",\"\",Data!#REF!)","v":{"$error":"#REF!"}},{"$f":"IF(Data!#REF!=\"\",\"\",Data!#REF!)","v":{"$error":"#REF!"}},{"$error":"#REF!"},{"$error":"#REF!"},{"$error":"#REF!"}]
[{"$f":"IF(Data!#REF!=\"\",\"\",Data!#REF!)","v":{"$error":"#REF!"}},{"$f":"IF(Data!#REF!=\"\",\"\",Data!#REF!)","v":{"$error":"#REF!"}},{"$f":"IF(Data!#REF!=\"\",\"\",Data!#REF!)","v":{"$error":"#REF!"}},{"$f":"IF(Data!#REF!=\"\",\"\",Data!#REF!)","v":{"$error":"#REF!"}},{"$f":"IF(Data!#REF!=\"\",\"\",Data!#REF!)","v":{"$error":"#REF!"}},{"$error":"#REF!"},{"$error":"#REF!"},{"$error":"#REF!"}]
[{"$f":"IF(Data!#REF!=\"\",\"\",Data!#REF!)","v":{"$error":"#REF!"}},{"$f":"IF(Data!#REF!=\"\",\"\",Data!#REF!)","v":{"$error":"#REF!"}},{"$f":"IF(Data!#REF!=\"\",\"\",Data!#REF!)","v":{"$error":"#REF!"}},{"$f":"IF(Data!#REF!=\"\",\"\",Data!#REF!)","v":{"$error":"#REF!"}},{"$f":"IF(Data!#REF!=\"\",\"\",Data!#REF!)","v":{"$error":"#REF!"}},{"$error":"#REF!"},{"$error":"#REF!"},{"$error":"#REF!"}]
[{"$f":"IF(Data!#REF!=\"\",\"\",Data!#REF!)","v":{"$error":"#REF!"}},{"$f":"IF(Data!#REF!=\"\",\"\",Data!#REF!)","v":{"$error":"#REF!"}},{"$f":"IF(Data!#REF!=\"\",\"\",Data!#REF!)","v":{"$error":"#REF!"}},{"$f":"IF(Data!#REF!=\"\",\"\",Data!#REF!)","v":{"$error":"#REF!"}},{"$f":"IF(Data!#REF!=\"\",\"\",Data!#REF!)","v":{"$error":"#REF!"}},{"$error":"#REF!"},{"$error":"#REF!"},{"$error":"#REF!"}]
[{"$f":"IF(Data!#REF!=\"\",\"\",Data!#REF!)","v":{"$error":"#REF!"}},{"$f":"IF(Data!#REF!=\"\",\"\",Data!#REF!)","v":{"$error":"#REF!"}},{"$f":"IF(Data!#REF!=\"\",\"\",Data!#REF!)","v":{"$error":"#REF!"}},{"$f":"IF(Data!#REF!=\"\",\"\",Data!#REF!)","v":{"$error":"#REF!"}},{"$f":"IF(Data!#REF!=\"\",\"\",Data!#REF!)","v":{"$error":"#REF!"}},{"$error":"#REF!"},{"$error":"#REF!"},{"$error":"#REF!"}]
[{"$f":"IF(Data!#REF!=\"\",\"\",Data!#REF!)","v":{"$error":"#REF!"}},{"$f":"IF(Data!#REF!=\"\",\"\",Data!#REF!)","v":{"$error":"#REF!"}},{"$f":"IF(Data!#REF!=\"\",\"\",Data!#REF!)","v":{"$error":"#REF!"}},{"$f":"IF(Data!#REF!=\"\",\"\",Data!#REF!)","v":{"$error":"#REF!"}},{"$f":"IF(Data!#REF!=\"\",\"\",Data!#REF!)","v":{"$error":"#REF!"}},{"$error":"#REF!"},{"$error":"#REF!"},{"$error":"#REF!"}]
[{"$f":"IF(Data!#REF!=\"\",\"\",Data!#REF!)","v":{"$error":"#REF!"}},{"$f":"IF(Data!#REF!=\"\",\"\",Data!#REF!)","v":{"$error":"#REF!"}},{"$f":"IF(Data!#REF!=\"\",\"\",Data!#REF!)","v":{"$error":"#REF!"}},{"$f":"IF(Data!#REF!=\"\",\"\",Data!#REF!)","v":{"$error":"#REF!"}},{"$f":"IF(Data!#REF!=\"\",\"\",Data!#REF!)","v":{"$error":"#REF!"}},{"$error":"#REF!"},{"$error":"#REF!"},{"$error":"#REF!"}]
[{"$f":"IF(Data!#REF!=\"\",\"\",Data!#REF!)","v":{"$error":"#REF!"}},{"$f":"IF(Data!#REF!=\"\",\"\",Data!#REF!)","v":{"$error":"#REF!"}},{"$f":"IF(Data!#REF!=\"\",\"\",Data!#REF!)","v":{"$error":"#REF!"}},{"$f":"IF(Data!#REF!=\"\",\"\",Data!#REF!)","v":{"$error":"#REF!"}},{"$f":"IF(Data!#REF!=\"\",\"\",Data!#REF!)","v":{"$error":"#REF!"}},{"$error":"#REF!"},{"$error":"#REF!"},{"$error":"#REF!"}]
[{"$f":"IF(Data!#REF!=\"\",\"\",Data!#REF!)","v":{"$error":"#REF!"}},{"$f":"IF(Data!#REF!=\"\",\"\",Data!#REF!)","v":{"$error":"#REF!"}},{"$f":"IF(Data!#REF!=\"\",\"\",Data!#REF!)","v":{"$error":"#REF!"}},{"$f":"IF(Data!#REF!=\"\",\"\",Data!#REF!)","v":{"$error":"#REF!"}},{"$f":"IF(Data!#REF!=\"\",\"\",Data!#REF!)","v":{"$error":"#REF!"}},{"$error":"#REF!"},{"$error":"#REF!"},{"$error":"#REF!"}]
[{"$f":"IF(Data!#REF!=\"\",\"\",Data!#REF!)","v":{"$error":"#REF!"}},{"$f":"IF(Data!#REF!=\"\",\"\",Data!#REF!)","v":{"$error":"#REF!"}},{"$f":"IF(Data!#REF!=\"\",\"\",Data!#REF!)","v":{"$error":"#REF!"}},{"$f":"IF(Data!#REF!=\"\",\"\",Data!#REF!)","v":{"$error":"#REF!"}},{"$f":"IF(Data!#REF!=\"\",\"\",Data!#REF!)","v":{"$error":"#REF!"}},{"$error":"#REF!"},{"$error":"#REF!"},{"$error":"#REF!"}]
[{"$f":"IF(Data!#REF!=\"\",\"\",Data!#REF!)","v":{"$error":"#REF!"}},{"$f":"IF(Data!#REF!=\"\",\"\",Data!#REF!)","v":{"$error":"#REF!"}},{"$f":"IF(Data!#REF!=\"\",\"\",Data!#REF!)","v":{"$error":"#REF!"}},{"$f":"IF(Data!#REF!=\"\",\"\",Data!#REF!)","v":{"$error":"#REF!"}},{"$f":"IF(Data!#REF!=\"\",\"\",Data!#REF!)","v":{"$error":"#REF!"}},{"$error":"#REF!"},{"$error":"#REF!"},{"$error":"#REF!"}]
[{"$f":"IF(Data!#REF!=\"\",\"\",Data!#REF!)","v":{"$error":"#REF!"}},{"$f":"IF(Data!#REF!=\"\",\"\",Data!#REF!)","v":{"$error":"#REF!"}},{"$f":"IF(Data!#REF!=\"\",\"\",Data!#REF!)","v":{"$error":"#REF!"}},{"$f":"IF(Data!#REF!=\"\",\"\",Data!#REF!)","v":{"$error":"#REF!"}},{"$f":"IF(Data!#REF!=\"\",\"\",Data!#REF!)","v":{"$error":"#REF!"}},{"$error":"#REF!"},{"$error":"#REF!"},{"$error":"#REF!"}]
[{"$f":"IF(Data!#REF!=\"\",\"\",Data!#REF!)","v":{"$error":"#REF!"}},{"$f":"IF(Data!#REF!=\"\",\"\",Data!#REF!)","v":{"$error":"#REF!"}},{"$f":"IF(Data!#REF!=\"\",\"\",Data!#REF!)","v":{"$error":"#REF!"}},{"$f":"IF(Data!#REF!=\"\",\"\",Data!#REF!)","v":{"$error":"#REF!"}},{"$f":"IF(Data!#REF!=\"\",\"\",Data!#REF!)","v":{"$error":"#REF!"}},{"$error":"#REF!"},{"$error":"#REF!"},{"$error":"#REF!"}]
[{"$f":"IF(Data!#REF!=\"\",\"\",Data!#REF!)","v":{"$error":"#REF!"}},{"$f":"IF(Data!#REF!=\"\",\"\",Data!#REF!)","v":{"$error":"#REF!"}},{"$f":"IF(Data!#REF!=\"\",\"\",Data!#REF!)","v":{"$error":"#REF!"}},{"$f":"IF(Data!#REF!=\"\",\"\",Data!#REF!)","v":{"$error":"#REF!"}},{"$f":"IF(Data!#REF!=\"\",\"\",Data!#REF!)","v":{"$error":"#REF!"}},{"$error":"#REF!"},{"$error":"#REF!"},{"$error":"#REF!"}]
[{"$f":"IF(Data!#REF!=\"\",\"\",Data!#REF!)","v":{"$error":"#REF!"}},{"$f":"IF(Data!#REF!=\"\",\"\",Data!#REF!)","v":{"$error":"#REF!"}},{"$f":"IF(Data!#REF!=\"\",\"\",Data!#REF!)","v":{"$error":"#REF!"}},{"$f":"IF(Data!#REF!=\"\",\"\",Data!#REF!)","v":{"$error":"#REF!"}},{"$f":"IF(Data!#REF!=\"\",\"\",Data!#REF!)","v":{"$error":"#REF!"}},{"$error":"#REF!"},{"$error":"#REF!"},{"$error":"#REF!"}]
[{"$f":"IF(Data!#REF!=\"\",\"\",Data!#REF!)","v":{"$error":"#REF!"}},{"$f":"IF(Data!#REF!=\"\",\"\",Data!#REF!)","v":{"$error":"#REF!"}},{"$f":"IF(Data!#REF!=\"\",\"\",Data!#REF!)","v":{"$error":"#REF!"}},{"$f":"IF(Data!#REF!=\"\",\"\",Data!#REF!)","v":{"$error":"#REF!"}},{"$f":"IF(Data!#REF!=\"\",\"\",Data!#REF!)","v":{"$error":"#REF!"}},{"$error":"#REF!"},{"$error":"#REF!"},{"$error":"#REF!"}]
[{"$f":"IF(Data!#REF!=\"\",\"\",Data!#REF!)","v":{"$error":"#REF!"}},{"$f":"IF(Data!#REF!=\"\",\"\",Data!#REF!)","v":{"$error":"#REF!"}},{"$f":"IF(Data!#REF!=\"\",\"\",Data!#REF!)","v":{"$error":"#REF!"}},{"$f":"IF(Data!#REF!=\"\",\"\",Data!#REF!)","v":{"$error":"#REF!"}},{"$f":"IF(Data!#REF!=\"\",\"\",Data!#REF!)","v":{"$error":"#REF!"}},{"$error":"#REF!"},{"$error":"#REF!"},{"$error":"#REF!"}]
[{"$f":"IF(Data!#REF!=\"\",\"\",Data!#REF!)","v":{"$error":"#REF!"}},{"$f":"IF(Data!#REF!=\"\",\"\",Data!#REF!)","v":{"$error":"#REF!"}},{"$f":"IF(Data!#REF!=\"\",\"\",Data!#REF!)","v":{"$error":"#REF!"}},{"$f":"IF(Data!#REF!=\"\",\"\",Data!#REF!)","v":{"$error":"#REF!"}},{"$f":"IF(Data!#REF!=\"\",\"\",Data!#REF!)","v":{"$error":"#REF!"}},{"$error":"#REF!"},{"$error":"#REF!"},{"$error":"#REF!"}]
[{"$f":"IF(Data!#REF!=\"\",\"\",Data!#REF!)","v":{"$error":"#REF!"}},{"$f":"IF(Data!#REF!=\"\",\"\",Data!#REF!)","v":{"$error":"#REF!"}},{"$f":"IF(Data!#REF!=\"\",\"\",Data!#REF!)","v":{"$error":"#REF!"}},{"$f":"IF(Data!#REF!=\"\",\"\",Data!#REF!)","v":{"$error":"#REF!"}},{"$f":"IF(Data!#REF!=\"\",\"\",Data!#REF!)","v":{"$error":"#REF!"}},{"$error":"#REF!"},{"$error":"#REF!"},{"$error":"#REF!"}]
[{"$f":"IF(Data!#REF!=\"\",\"\",Data!#REF!)","v":{"$error":"#REF!"}},{"$f":"IF(Data!#REF!=\"\",\"\",Data!#REF!)","v":{"$error":"#REF!"}},{"$f":"IF(Data!#REF!=\"\",\"\",Data!#REF!)","v":{"$error":"#REF!"}},{"$f":"IF(Data!#REF!=\"\",\"\",Data!#REF!)","v":{"$error":"#REF!"}},{"$f":"IF(Data!#REF!=\"\",\"\",Data!#REF!)","v":{"$error":"#REF!"}},{"$error":"#REF!"},{"$error":"#REF!"},{"$error":"#REF!"}]
[{"$f":"IF(Data!#REF!=\"\",\"\",Data!#REF!)","v":{"$error":"#REF!"}},{"$f":"IF(Data!#REF!=\"\",\"\",Data!#REF!)","v":{"$error":"#REF!"}},{"$f":"IF(Data!#REF!=\"\",\"\",Data!#REF!)","v":{"$error":"#REF!"}},{"$f":"IF(Data!#REF!=\"\",\"\",Data!#REF!)","v":{"$error":"#REF!"}},{"$f":"IF(Data!#REF!=\"\",\"\",Data!#REF!)","v":{"$error":"#REF!"}},{"$error":"#REF!"},{"$error":"#REF!"},{"$error":"#REF!"}]
[{"$f":"IF(Data!#REF!=\"\",\"\",Data!#REF!)","v":{"$error":"#REF!"}},{"$f":"IF(Data!#REF!=\"\",\"\",Data!#REF!)","v":{"$error":"#REF!"}},{"$f":"IF(Data!#REF!=\"\",\"\",Data!#REF!)","v":{"$error":"#REF!"}},{"$f":"IF(Data!#REF!=\"\",\"\",Data!#REF!)","v":{"$error":"#REF!"}},{"$f":"IF(Data!#REF!=\"\",\"\",Data!#REF!)","v":{"$error":"#REF!"}},{"$error":"#REF!"},{"$error":"#REF!"},{"$error":"#REF!"}]
[{"$f":"IF(Data!#REF!=\"\",\"\",Data!#REF!)","v":{"$error":"#REF!"}},{"$f":"IF(Data!#REF!=\"\",\"\",Data!#REF!)","v":{"$error":"#REF!"}},{"$f":"IF(Data!#REF!=\"\",\"\",Data!#REF!)","v":{"$error":"#REF!"}},{"$f":"IF(Data!#REF!=\"\",\"\",Data!#REF!)","v":{"$error":"#REF!"}},{"$f":"IF(Data!#REF!=\"\",\"\",Data!#REF!)","v":{"$error":"#REF!"}},{"$error":"#REF!"},{"$error":"#REF!"},{"$error":"#REF!"}]
[{"$f":"IF(Data!#REF!=\"\",\"\",Data!#REF!)","v":{"$error":"#REF!"}},{"$f":"IF(Data!#REF!=\"\",\"\",Data!#REF!)","v":{"$error":"#REF!"}},{"$f":"IF(Data!#REF!=\"\",\"\",Data!#REF!)","v":{"$error":"#REF!"}},{"$f":"IF(Data!#REF!=\"\",\"\",Data!#REF!)","v":{"$error":"#REF!"}},{"$f":"IF(Data!#REF!=\"\",\"\",Data!#REF!)","v":{"$error":"#REF!"}},{"$error":"#REF!"},{"$error":"#REF!"},{"$error":"#REF!"}]
[{"$f":"IF(Data!#REF!=\"\",\"\",Data!#REF!)","v":{"$error":"#REF!"}},{"$f":"IF(Data!#REF!=\"\",\"\",Data!#REF!)","v":{"$error":"#REF!"}},{"$f":"IF(Data!#REF!=\"\",\"\",Data!#REF!)","v":{"$error":"#REF!"}},{"$f":"IF(Data!#REF!=\"\",\"\",Data!#REF!)","v":{"$error":"#REF!"}},{"$f":"IF(Data!#REF!=\"\",\"\",Data!#REF!)","v":{"$error":"#REF!"}},{"$error":"#REF!"},{"$error":"#REF!"},{"$error":"#REF!"}]
[{"$f":"IF(Data!#REF!=\"\",\"\",Data!#REF!)","v":{"$error":"#REF!"}},{"$f":"IF(Data!#REF!=\"\",\"\",Data!#REF!)","v":{"$error":"#REF!"}},{"$f":"IF(Data!#REF!=\"\",\"\",Data!#REF!)","v":{"$error":"#REF!"}},{"$f":"IF(Data!#REF!=\"\",\"\",Data!#REF!)","v":{"$error":"#REF!"}},{"$f":"IF(Data!#REF!=\"\",\"\",Data!#REF!)","v":{"$error":"#REF!"}},{"$error":"#REF!"},{"$error":"#REF!"},{"$error":"#REF!"}]
[{"$f":"IF(Data!#REF!=\"\",\"\",Data!#REF!)","v":{"$error":"#REF!"}},{"$f":"IF(Data!#REF!=\"\",\"\",Data!#REF!)","v":{"$error":"#REF!"}},{"$f":"IF(Data!#REF!=\"\",\"\",Data!#REF!)","v":{"$error":"#REF!"}},{"$f":"IF(Data!#REF!=\"\",\"\",Data!#REF!)","v":{"$error":"#REF!"}},{"$f":"IF(Data!#REF!=\"\",\"\",Data!#REF!)","v":{"$error":"#REF!"}},{"$error":"#REF!"},{"$error":"#REF!"},{"$error":"#REF!"}]
[{"$f":"IF(Data!#REF!=\"\",\"\",Data!#REF!)","v":{"$error":"#REF!"}},{"$f":"IF(Data!#REF!=\"\",\"\",Data!#REF!)","v":{"$error":"#REF!"}},{"$f":"IF(Data!#REF!=\"\",\"\",Data!#REF!)","v":{"$error":"#REF!"}},{"$f":"IF(Data!#REF!=\"\",\"\",Data!#REF!)","v":{"$error":"#REF!"}},{"$f":"IF(Data!#REF!=\"\",\"\",Data!#REF!)","v":{"$error":"#REF!"}},{"$error":"#REF!"},{"$error":"#REF!"},{"$error":"#REF!"}]
[{"$f":"IF(Data!#REF!=\"\",\"\",Data!#REF!)","v":{"$error":"#REF!"}},{"$f":"IF(Data!#REF!=\"\",\"\",Data!#REF!)","v":{"$error":"#REF!"}},{"$f":"IF(Data!#REF!=\"\",\"\",Data!#REF!)","v":{"$error":"#REF!"}},{"$f":"IF(Data!#REF!=\"\",\"\",Data!#REF!)","v":{"$error":"#REF!"}},{"$f":"IF(Data!#REF!=\"\",\"\",Data!#REF!)","v":{"$error":"#REF!"}},{"$error":"#REF!"},{"$error":"#REF!"},{"$error":"#REF!"}]
[{"$f":"IF(Data!#REF!=\"\",\"\",Data!#REF!)","v":{"$error":"#REF!"}},{"$f":"IF(Data!#REF!=\"\",\"\",Data!#REF!)","v":{"$error":"#REF!"}},{"$f":"IF(Data!#REF!=\"\",\"\",Data!#REF!)","v":{"$error":"#REF!"}},{"$f":"IF(Data!#REF!=\"\",\"\",Data!#REF!)","v":{"$error":"#REF!"}},{"$f":"IF(Data!#REF!=\"\",\"\",Data!#REF!)","v":{"$error":"#REF!"}},{"$error":"#REF!"},{"$error":"#REF!"},{"$error":"#REF!"}]
[{"$f":"IF(Data!#REF!=\"\",\"\",Data!#REF!)","v":{"$error":"#REF!"}},{"$f":"IF(Data!#REF!=\"\",\"\",Data!#REF!)","v":{"$error":"#REF!"}},{"$f":"IF(Data!#REF!=\"\",\"\",Data!#REF!)","v":{"$error":"#REF!"}},{"$f":"IF(Data!#REF!=\"\",\"\",Data!#REF!)","v":{"$error":"#REF!"}},{"$f":"IF(Data!#REF!=\"\",\"\",Data!#REF!)","v":{"$error":"#REF!"}},{"$error":"#REF!"},{"$error":"#REF!"},{"$error":"#REF!"}]
[{"$f":"IF(Data!#REF!=\"\",\"\",Data!#REF!)","v":{"$error":"#REF!"}},{"$f":"IF(Data!#REF!=\"\",\"\",Data!#REF!)","v":{"$error":"#REF!"}},{"$f":"IF(Data!#REF!=\"\",\"\",Data!#REF!)","v":{"$error":"#REF!"}},{"$f":"IF(Data!#REF!=\"\",\"\",Data!#REF!)","v":{"$error":"#REF!"}},{"$f":"IF(Data!#REF!=\"\",\"\",Data!#REF!)","v":{"$error":"#REF!"}},{"$error":"#REF!"},{"$error":"#REF!"},{"$error":"#REF!"}]
[{"$f":"IF(Data!#REF!=\"\",\"\",Data!#REF!)","v":{"$error":"#REF!"}},{"$f":"IF(Data!#REF!=\"\",\"\",Data!#REF!)","v":{"$error":"#REF!"}},{"$f":"IF(Data!#REF!=\"\",\"\",Data!#REF!)","v":{"$error":"#REF!"}},{"$f":"IF(Data!#REF!=\"\",\"\",Data!#REF!)","v":{"$error":"#REF!"}},{"$f":"IF(Data!#REF!=\"\",\"\",Data!#REF!)","v":{"$error":"#REF!"}},{"$error":"#REF!"},{"$error":"#REF!"},{"$error":"#REF!"}]
[{"$f":"IF(Data!#REF!=\"\",\"\",Data!#REF!)","v":{"$error":"#REF!"}},{"$f":"IF(Data!#REF!=\"\",\"\",Data!#REF!)","v":{"$error":"#REF!"}},{"$f":"IF(Data!#REF!=\"\",\"\",Data!#REF!)","v":{"$error":"#REF!"}},{"$f":"IF(Data!#REF!=\"\",\"\",Data!#REF!)","v":{"$error":"#REF!"}},{"$f":"IF(Data!#REF!=\"\",\"\",Data!#REF!)","v":{"$error":"#REF!"}},{"$error":"#REF!"},{"$error":"#REF!"},{"$error":"#REF!"}]
[{"$f":"IF(Data!#REF!=\"\",\"\",Data!#REF!)","v":{"$error":"#REF!"}},{"$f":"IF(Data!#REF!=\"\",\"\",Data!#REF!)","v":{"$error":"#REF!"}},{"$f":"IF(Data!#REF!=\"\",\"\",Data!#REF!)","v":{"$error":"#REF!"}},{"$f":"IF(Data!#REF!=\"\",\"\",Data!#REF!)","v":{"$error":"#REF!"}},{"$f":"IF(Data!#REF!=\"\",\"\",Data!#REF!)","v":{"$error":"#REF!"}},{"$error":"#REF!"},{"$error":"#REF!"},{"$error":"#REF!"}]
[{"$f":"IF(Data!#REF!=\"\",\"\",Data!#REF!)","v":{"$error":"#REF!"}},{"$f":"IF(Data!#REF!=\"\",\"\",Data!#REF!)","v":{"$error":"#REF!"}},{"$f":"IF(Data!#REF!=\"\",\"\",Data!#REF!)","v":{"$error":"#REF!"}},{"$f":"IF(Data!#REF!=\"\",\"\",Data!#REF!)","v":{"$error":"#REF!"}},{"$f":"IF(Data!#REF!=\"\",\"\",Data!#REF!)","v":{"$error":"#REF!"}},{"$error":"#REF!"},{"$error":"#REF!"},{"$error":"#REF!"}]
[{"$f":"IF(Data!#REF!=\"\",\"\",Data!#REF!)","v":{"$error":"#REF!"}},{"$f":"IF(Data!#REF!=\"\",\"\",Data!#REF!)","v":{"$error":"#REF!"}},{"$f":"IF(Data!#REF!=\"\",\"\",Data!#REF!)","v":{"$error":"#REF!"}},{"$f":"IF(Data!#REF!=\"\",\"\",Data!#REF!)","v":{"$error":"#REF!"}},{"$f":"IF(Data!#REF!=\"\",\"\",Data!#REF!)","v":{"$error":"#REF!"}},{"$error":"#REF!"},{"$error":"#REF!"},{"$error":"#REF!"}]
[{"$f":"IF(Data!#REF!=\"\",\"\",Data!#REF!)","v":{"$error":"#REF!"}},{"$f":"IF(Data!#REF!=\"\",\"\",Data!#REF!)","v":{"$error":"#REF!"}},{"$f":"IF(Data!#REF!=\"\",\"\",Data!#REF!)","v":{"$error":"#REF!"}},{"$f":"IF(Data!#REF!=\"\",\"\",Data!#REF!)","v":{"$error":"#REF!"}},{"$f":"IF(Data!#REF!=\"\",\"\",Data!#REF!)","v":{"$error":"#REF!"}},{"$error":"#REF!"},{"$error":"#REF!"},{"$error":"#REF!"}]
[{"$f":"IF(Data!#REF!=\"\",\"\",Data!#REF!)","v":{"$error":"#REF!"}},{"$f":"IF(Data!#REF!=\"\",\"\",Data!#REF!)","v":{"$error":"#REF!"}},{"$f":"IF(Data!#REF!=\"\",\"\",Data!#REF!)","v":{"$error":"#REF!"}},{"$f":"IF(Data!#REF!=\"\",\"\",Data!#REF!)","v":{"$error":"#REF!"}},{"$f":"IF(Data!#REF!=\"\",\"\",Data!#REF!)","v":{"$error":"#REF!"}},{"$error":"#REF!"},{"$error":"#REF!"},{"$error":"#REF!"}]
[{"$f":"IF(Data!#REF!=\"\",\"\",Data!#REF!)","v":{"$error":"#REF!"}},{"$f":"IF(Data!#REF!=\"\",\"\",Data!#REF!)","v":{"$error":"#REF!"}},{"$f":"IF(Data!#REF!=\"\",\"\",Data!#REF!)","v":{"$error":"#REF!"}},{"$f":"IF(Data!#REF!=\"\",\"\",Data!#REF!)","v":{"$error":"#REF!"}},{"$f":"IF(Data!#REF!=\"\",\"\",Data!#REF!)","v":{"$error":"#REF!"}},{"$error":"#REF!"},{"$error":"#REF!"},{"$error":"#REF!"}]
[{"$f":"IF(Data!#REF!=\"\",\"\",Data!#REF!)","v":{"$error":"#REF!"}},{"$f":"IF(Data!#REF!=\"\",\"\",Data!#REF!)","v":{"$error":"#REF!"}},{"$f":"IF(Data!#REF!=\"\",\"\",Data!#REF!)","v":{"$error":"#REF!"}},{"$f":"IF(Data!#REF!=\"\",\"\",Data!#REF!)","v":{"$error":"#REF!"}},{"$f":"IF(Data!#REF!=\"\",\"\",Data!#REF!)","v":{"$error":"#REF!"}},{"$error":"#REF!"},{"$error":"#REF!"},{"$error":"#REF!"}]
[{"$f":"IF(Data!#REF!=\"\",\"\",Data!#REF!)","v":{"$error":"#REF!"}},{"$f":"IF(Data!#REF!=\"\",\"\",Data!#REF!)","v":{"$error":"#REF!"}},{"$f":"IF(Data!#REF!=\"\",\"\",Data!#REF!)","v":{"$error":"#REF!"}},{"$f":"IF(Data!#REF!=\"\",\"\",Data!#REF!)","v":{"$error":"#REF!"}},{"$f":"IF(Data!#REF!=\"\",\"\",Data!#REF!)","v":{"$error":"#REF!"}},{"$error":"#REF!"},{"$error":"#REF!"},{"$error":"#REF!"}]
[{"$f":"IF(Data!#REF!=\"\",\"\",Data!#REF!)","v":{"$error":"#REF!"}},{"$f":"IF(Data!#REF!=\"\",\"\",Data!#REF!)","v":{"$error":"#REF!"}},{"$f":"IF(Data!#REF!=\"\",\"\",Data!#REF!)","v":{"$error":"#REF!"}},{"$f":"IF(Data!#REF!=\"\",\"\",Data!#REF!)","v":{"$error":"#REF!"}},{"$f":"IF(Data!#REF!=\"\",\"\",Data!#REF!)","v":{"$error":"#REF!"}},{"$error":"#REF!"},{"$error":"#REF!"},{"$error":"#REF!"}]
[{"$f":"IF(Data!#REF!=\"\",\"\",Data!#REF!)","v":{"$error":"#REF!"}},{"$f":"IF(Data!#REF!=\"\",\"\",Data!#REF!)","v":{"$error":"#REF!"}},{"$f":"IF(Data!#REF!=\"\",\"\",Data!#REF!)","v":{"$error":"#REF!"}},{"$f":"IF(Data!#REF!=\"\",\"\",Data!#REF!)","v":{"$error":"#REF!"}},{"$f":"IF(Data!#REF!=\"\",\"\",Data!#REF!)","v":{"$error":"#REF!"}},{"$error":"#REF!"},{"$error":"#REF!"},{"$error":"#REF!"}]
[{"$f":"IF(Data!#REF!=\"\",\"\",Data!#REF!)","v":{"$error":"#REF!"}},{"$f":"IF(Data!#REF!=\"\",\"\",Data!#REF!)","v":{"$error":"#REF!"}},{"$f":"IF(Data!#REF!=\"\",\"\",Data!#REF!)","v":{"$error":"#REF!"}},{"$f":"IF(Data!#REF!=\"\",\"\",Data!#REF!)","v":{"$error":"#REF!"}},{"$f":"IF(Data!#REF!=\"\",\"\",Data!#REF!)","v":{"$error":"#REF!"}},{"$error":"#REF!"},{"$error":"#REF!"},{"$error":"#REF!"}]
[{"$f":"IF(Data!#REF!=\"\",\"\",Data!#REF!)","v":{"$error":"#REF!"}},{"$f":"IF(Data!#REF!=\"\",\"\",Data!#REF!)","v":{"$error":"#REF!"}},{"$f":"IF(Data!#REF!=\"\",\"\",Data!#REF!)","v":{"$error":"#REF!"}},{"$f":"IF(Data!#REF!=\"\",\"\",Data!#REF!)","v":{"$error":"#REF!"}},{"$f":"IF(Data!#REF!=\"\",\"\",Data!#REF!)","v":{"$error":"#REF!"}},{"$error":"#REF!"},{"$error":"#REF!"},{"$error":"#REF!"}]
[{"$f":"IF(Data!#REF!=\"\",\"\",Data!#REF!)","v":{"$error":"#REF!"}},{"$f":"IF(Data!#REF!=\"\",\"\",Data!#REF!)","v":{"$error":"#REF!"}},{"$f":"IF(Data!#REF!=\"\",\"\",Data!#REF!)","v":{"$error":"#REF!"}},{"$f":"IF(Data!#REF!=\"\",\"\",Data!#REF!)","v":{"$error":"#REF!"}},{"$f":"IF(Data!#REF!=\"\",\"\",Data!#REF!)","v":{"$error":"#REF!"}},{"$error":"#REF!"},{"$error":"#REF!"},{"$error":"#REF!"}]
[{"$f":"IF(Data!#REF!=\"\",\"\",Data!#REF!)","v":{"$error":"#REF!"}},{"$f":"IF(Data!#REF!=\"\",\"\",Data!#REF!)","v":{"$error":"#REF!"}},{"$f":"IF(Data!#REF!=\"\",\"\",Data!#REF!)","v":{"$error":"#REF!"}},{"$f":"IF(Data!#REF!=\"\",\"\",Data!#REF!)","v":{"$error":"#REF!"}},{"$f":"IF(Data!#REF!=\"\",\"\",Data!#REF!)","v":{"$error":"#REF!"}},{"$error":"#REF!"},{"$error":"#REF!"},{"$error":"#REF!"}]
[{"$f":"IF(Data!#REF!=\"\",\"\",Data!#REF!)","v":{"$error":"#REF!"}},{"$f":"IF(Data!#REF!=\"\",\"\",Data!#REF!)","v":{"$error":"#REF!"}},{"$f":"IF(Data!#REF!=\"\",\"\",Data!#REF!)","v":{"$error":"#REF!"}},{"$f":"IF(Data!#REF!=\"\",\"\",Data!#REF!)","v":{"$error":"#REF!"}},{"$f":"IF(Data!#REF!=\"\",\"\",Data!#REF!)","v":{"$error":"#REF!"}},{"$error":"#REF!"},{"$error":"#REF!"},{"$error":"#REF!"}]
[{"$f":"IF(Data!#REF!=\"\",\"\",Data!#REF!)","v":{"$error":"#REF!"}},{"$f":"IF(Data!#REF!=\"\",\"\",Data!#REF!)","v":{"$error":"#REF!"}},{"$f":"IF(Data!#REF!=\"\",\"\",Data!#REF!)","v":{"$error":"#REF!"}},{"$f":"IF(Data!#REF!=\"\",\"\",Data!#REF!)","v":{"$error":"#REF!"}},{"$f":"IF(Data!#REF!=\"\",\"\",Data!#REF!)","v":{"$error":"#REF!"}},{"$error":"#REF!"},{"$error":"#REF!"},{"$error":"#REF!"}]
[{"$f":"IF(Data!#REF!=\"\",\"\",Data!#REF!)","v":{"$error":"#REF!"}},{"$f":"IF(Data!#REF!=\"\",\"\",Data!#REF!)","v":{"$error":"#REF!"}},{"$f":"IF(Data!#REF!=\"\",\"\",Data!#REF!)","v":{"$error":"#REF!"}},{"$f":"IF(Data!#REF!=\"\",\"\",Data!#REF!)","v":{"$error":"#REF!"}},{"$f":"IF(Data!#REF!=\"\",\"\",Data!#REF!)","v":{"$error":"#REF!"}},{"$error":"#REF!"},{"$error":"#REF!"},{"$error":"#REF!"}]
[{"$f":"IF(Data!#REF!=\"\",\"\",Data!#REF!)","v":{"$error":"#REF!"}},{"$f":"IF(Data!#REF!=\"\",\"\",Data!#REF!)","v":{"$error":"#REF!"}},{"$f":"IF(Data!#REF!=\"\",\"\",Data!#REF!)","v":{"$error":"#REF!"}},{"$f":"IF(Data!#REF!=\"\",\"\",Data!#REF!)","v":{"$error":"#REF!"}},{"$f":"IF(Data!#REF!=\"\",\"\",Data!#REF!)","v":{"$error":"#REF!"}},{"$error":"#REF!"},{"$error":"#REF!"},{"$error":"#REF!"}]
[{"$f":"IF(Data!#REF!=\"\",\"\",Data!#REF!)","v":{"$error":"#REF!"}},{"$f":"IF(Data!#REF!=\"\",\"\",Data!#REF!)","v":{"$error":"#REF!"}},{"$f":"IF(Data!#REF!=\"\",\"\",Data!#REF!)","v":{"$error":"#REF!"}},{"$f":"IF(Data!#REF!=\"\",\"\",Data!#REF!)","v":{"$error":"#REF!"}},{"$f":"IF(Data!#REF!=\"\",\"\",Data!#REF!)","v":{"$error":"#REF!"}},{"$error":"#REF!"},{"$error":"#REF!"},{"$error":"#REF!"}]
[{"$f":"IF(Data!#REF!=\"\",\"\",Data!#REF!)","v":{"$error":"#REF!"}},{"$f":"IF(Data!#REF!=\"\",\"\",Data!#REF!)","v":{"$error":"#REF!"}},{"$f":"IF(Data!#REF!=\"\",\"\",Data!#REF!)","v":{"$error":"#REF!"}},{"$f":"IF(Data!#REF!=\"\",\"\",Data!#REF!)","v":{"$error":"#REF!"}},{"$f":"IF(Data!#REF!=\"\",\"\",Data!#REF!)","v":{"$error":"#REF!"}},{"$error":"#REF!"},{"$error":"#REF!"},{"$error":"#REF!"}]
[{"$f":"IF(Data!#REF!=\"\",\"\",Data!#REF!)","v":{"$error":"#REF!"}},{"$f":"IF(Data!#REF!=\"\",\"\",Data!#REF!)","v":{"$error":"#REF!"}},{"$f":"IF(Data!#REF!=\"\",\"\",Data!#REF!)","v":{"$error":"#REF!"}},{"$f":"IF(Data!#REF!=\"\",\"\",Data!#REF!)","v":{"$error":"#REF!"}},{"$f":"IF(Data!#REF!=\"\",\"\",Data!#REF!)","v":{"$error":"#REF!"}},{"$error":"#REF!"},{"$error":"#REF!"},{"$error":"#REF!"}]
[{"$f":"IF(Data!#REF!=\"\",\"\",Data!#REF!)","v":{"$error":"#REF!"}},{"$f":"IF(Data!#REF!=\"\",\"\",Data!#REF!)","v":{"$error":"#REF!"}},{"$f":"IF(Data!#REF!=\"\",\"\",Data!#REF!)","v":{"$error":"#REF!"}},{"$f":"IF(Data!#REF!=\"\",\"\",Data!#REF!)","v":{"$error":"#REF!"}},{"$f":"IF(Data!#REF!=\"\",\"\",Data!#REF!)","v":{"$error":"#REF!"}},{"$error":"#REF!"},{"$error":"#REF!"},{"$error":"#REF!"}]
[{"$f":"IF(Data!#REF!=\"\",\"\",Data!#REF!)","v":{"$error":"#REF!"}},{"$f":"IF(Data!#REF!=\"\",\"\",Data!#REF!)","v":{"$error":"#REF!"}},{"$f":"IF(Data!#REF!=\"\",\"\",Data!#REF!)","v":{"$error":"#REF!"}},{"$f":"IF(Data!#REF!=\"\",\"\",Data!#REF!)","v":{"$error":"#REF!"}},{"$f":"IF(Data!#REF!=\"\",\"\",Data!#REF!)","v":{"$error":"#REF!"}},{"$error":"#REF!"},{"$error":"#REF!"},{"$error":"#REF!"}]
[{"$f":"IF(Data!#REF!=\"\",\"\",Data!#REF!)","v":{"$error":"#REF!"}},{"$f":"IF(Data!#REF!=\"\",\"\",Data!#REF!)","v":{"$error":"#REF!"}},{"$f":"IF(Data!#REF!=\"\",\"\",Data!#REF!)","v":{"$error":"#REF!"}},{"$f":"IF(Data!#REF!=\"\",\"\",Data!#REF!)","v":{"$error":"#REF!"}},{"$f":"IF(Data!#REF!=\"\",\"\",Data!#REF!)","v":{"$error":"#REF!"}},{"$error":"#REF!"},{"$error":"#REF!"},{"$error":"#REF!"}]
[{"$f":"IF(Data!#REF!=\"\",\"\",Data!#REF!)","v":{"$error":"#REF!"}},{"$f":"IF(Data!#REF!=\"\",\"\",Data!#REF!)","v":{"$error":"#REF!"}},{"$f":"IF(Data!#REF!=\"\",\"\",Data!#REF!)","v":{"$error":"#REF!"}},{"$f":"IF(Data!#REF!=\"\",\"\",Data!#REF!)","v":{"$error":"#REF!"}},{"$f":"IF(Data!#REF!=\"\",\"\",Data!#REF!)","v":{"$error":"#REF!"}},{"$error":"#REF!"},{"$error":"#REF!"},{"$error":"#REF!"}]
[{"$f":"IF(Data!#REF!=\"\",\"\",Data!#REF!)","v":{"$error":"#REF!"}},{"$f":"IF(Data!#REF!=\"\",\"\",Data!#REF!)","v":{"$error":"#REF!"}},{"$f":"IF(Data!#REF!=\"\",\"\",Data!#REF!)","v":{"$error":"#REF!"}},{"$f":"IF(Data!#REF!=\"\",\"\",Data!#REF!)","v":{"$error":"#REF!"}},{"$f":"IF(Data!#REF!=\"\",\"\",Data!#REF!)","v":{"$error":"#REF!"}},{"$f":"IF(E515>0,MONTH(E515),\"\")","v":{"$error":"#REF!"}},{"$f":"IF(E515>0,WEEKNUM(E515),\"0\")","v":{"$error":"#REF!"}},{"$f":"IF(G515>=($G$2-3),\"Ano\",\"Nie\")","v":{"$error":"#REF!"}}]
[{"$f":"IF(Data!#REF!=\"\",\"\",Data!#REF!)","v":{"$error":"#REF!"}},{"$f":"IF(Data!#REF!=\"\",\"\",Data!#REF!)","v":{"$error":"#REF!"}},{"$f":"IF(Data!#REF!=\"\",\"\",Data!#REF!)","v":{"$error":"#REF!"}},{"$f":"IF(Data!#REF!=\"\",\"\",Data!#REF!)","v":{"$error":"#REF!"}},{"$f":"IF(Data!#REF!=\"\",\"\",Data!#REF!)","v":{"$error":"#REF!"}},{"$error":"#REF!"},{"$error":"#REF!"},{"$error":"#REF!"}]
[{"$f":"IF(Data!#REF!=\"\",\"\",Data!#REF!)","v":{"$error":"#REF!"}},{"$f":"IF(Data!#REF!=\"\",\"\",Data!#REF!)","v":{"$error":"#REF!"}},{"$f":"IF(Data!#REF!=\"\",\"\",Data!#REF!)","v":{"$error":"#REF!"}},{"$f":"IF(Data!#REF!=\"\",\"\",Data!#REF!)","v":{"$error":"#REF!"}},{"$f":"IF(Data!#REF!=\"\",\"\",Data!#REF!)","v":{"$error":"#REF!"}},{"$error":"#REF!"},{"$error":"#REF!"},{"$error":"#REF!"}]
[{"$f":"IF(Data!#REF!=\"\",\"\",Data!#REF!)","v":{"$error":"#REF!"}},{"$f":"IF(Data!#REF!=\"\",\"\",Data!#REF!)","v":{"$error":"#REF!"}},{"$f":"IF(Data!#REF!=\"\",\"\",Data!#REF!)","v":{"$error":"#REF!"}},{"$f":"IF(Data!#REF!=\"\",\"\",Data!#REF!)","v":{"$error":"#REF!"}},{"$f":"IF(Data!#REF!=\"\",\"\",Data!#REF!)","v":{"$error":"#REF!"}},{"$error":"#REF!"},{"$error":"#REF!"},{"$error":"#REF!"}]
[{"$f":"IF(Data!#REF!=\"\",\"\",Data!#REF!)","v":{"$error":"#REF!"}},{"$f":"IF(Data!#REF!=\"\",\"\",Data!#REF!)","v":{"$error":"#REF!"}},{"$f":"IF(Data!#REF!=\"\",\"\",Data!#REF!)","v":{"$error":"#REF!"}},{"$f":"IF(Data!#REF!=\"\",\"\",Data!#REF!)","v":{"$error":"#REF!"}},{"$f":"IF(Data!#REF!=\"\",\"\",Data!#REF!)","v":{"$error":"#REF!"}},{"$error":"#REF!"},{"$error":"#REF!"},{"$error":"#REF!"}]
[{"$f":"IF(Data!#REF!=\"\",\"\",Data!#REF!)","v":{"$error":"#REF!"}},{"$f":"IF(Data!#REF!=\"\",\"\",Data!#REF!)","v":{"$error":"#REF!"}},{"$f":"IF(Data!#REF!=\"\",\"\",Data!#REF!)","v":{"$error":"#REF!"}},{"$f":"IF(Data!#REF!=\"\",\"\",Data!#REF!)","v":{"$error":"#REF!"}},{"$f":"IF(Data!#REF!=\"\",\"\",Data!#REF!)","v":{"$error":"#REF!"}},{"$error":"#REF!"},{"$error":"#REF!"},{"$error":"#REF!"}]
[{"$f":"IF(Data!#REF!=\"\",\"\",Data!#REF!)","v":{"$error":"#REF!"}},{"$f":"IF(Data!#REF!=\"\",\"\",Data!#REF!)","v":{"$error":"#REF!"}},{"$f":"IF(Data!#REF!=\"\",\"\",Data!#REF!)","v":{"$error":"#REF!"}},{"$f":"IF(Data!#REF!=\"\",\"\",Data!#REF!)","v":{"$error":"#REF!"}},{"$f":"IF(Data!#REF!=\"\",\"\",Data!#REF!)","v":{"$error":"#REF!"}},{"$error":"#REF!"},{"$error":"#REF!"},{"$error":"#REF!"}]
[{"$f":"IF(Data!#REF!=\"\",\"\",Data!#REF!)","v":{"$error":"#REF!"}},{"$f":"IF(Data!#REF!=\"\",\"\",Data!#REF!)","v":{"$error":"#REF!"}},{"$f":"IF(Data!#REF!=\"\",\"\",Data!#REF!)","v":{"$error":"#REF!"}},{"$f":"IF(Data!#REF!=\"\",\"\",Data!#REF!)","v":{"$error":"#REF!"}},{"$f":"IF(Data!#REF!=\"\",\"\",Data!#REF!)","v":{"$error":"#REF!"}},{"$error":"#REF!"},{"$error":"#REF!"},{"$error":"#REF!"}]
[{"$f":"IF(Data!#REF!=\"\",\"\",Data!#REF!)","v":{"$error":"#REF!"}},{"$f":"IF(Data!#REF!=\"\",\"\",Data!#REF!)","v":{"$error":"#REF!"}},{"$f":"IF(Data!#REF!=\"\",\"\",Data!#REF!)","v":{"$error":"#REF!"}},{"$f":"IF(Data!#REF!=\"\",\"\",Data!#REF!)","v":{"$error":"#REF!"}},{"$f":"IF(Data!#REF!=\"\",\"\",Data!#REF!)","v":{"$error":"#REF!"}},{"$error":"#REF!"},{"$error":"#REF!"},{"$error":"#REF!"}]
[{"$f":"IF(Data!#REF!=\"\",\"\",Data!#REF!)","v":{"$error":"#REF!"}},{"$f":"IF(Data!#REF!=\"\",\"\",Data!#REF!)","v":{"$error":"#REF!"}},{"$f":"IF(Data!#REF!=\"\",\"\",Data!#REF!)","v":{"$error":"#REF!"}},{"$f":"IF(Data!#REF!=\"\",\"\",Data!#REF!)","v":{"$error":"#REF!"}},{"$f":"IF(Data!#REF!=\"\",\"\",Data!#REF!)","v":{"$error":"#REF!"}},{"$error":"#REF!"},{"$error":"#REF!"},{"$error":"#REF!"}]
[{"$f":"IF(Data!#REF!=\"\",\"\",Data!#REF!)","v":{"$error":"#REF!"}},{"$f":"IF(Data!#REF!=\"\",\"\",Data!#REF!)","v":{"$error":"#REF!"}},{"$f":"IF(Data!#REF!=\"\",\"\",Data!#REF!)","v":{"$error":"#REF!"}},{"$f":"IF(Data!#REF!=\"\",\"\",Data!#REF!)","v":{"$error":"#REF!"}},{"$f":"IF(Data!#REF!=\"\",\"\",Data!#REF!)","v":{"$error":"#REF!"}},{"$error":"#REF!"},{"$error":"#REF!"},{"$error":"#REF!"}]
[{"$f":"IF(Data!#REF!=\"\",\"\",Data!#REF!)","v":{"$error":"#REF!"}},{"$f":"IF(Data!#REF!=\"\",\"\",Data!#REF!)","v":{"$error":"#REF!"}},{"$f":"IF(Data!#REF!=\"\",\"\",Data!#REF!)","v":{"$error":"#REF!"}},{"$f":"IF(Data!#REF!=\"\",\"\",Data!#REF!)","v":{"$error":"#REF!"}},{"$f":"IF(Data!#REF!=\"\",\"\",Data!#REF!)","v":{"$error":"#REF!"}},{"$error":"#REF!"},{"$error":"#REF!"},{"$error":"#REF!"}]
[{"$f":"IF(Data!#REF!=\"\",\"\",Data!#REF!)","v":{"$error":"#REF!"}},{"$f":"IF(Data!#REF!=\"\",\"\",Data!#REF!)","v":{"$error":"#REF!"}},{"$f":"IF(Data!#REF!=\"\",\"\",Data!#REF!)","v":{"$error":"#REF!"}},{"$f":"IF(Data!#REF!=\"\",\"\",Data!#REF!)","v":{"$error":"#REF!"}},{"$f":"IF(Data!#REF!=\"\",\"\",Data!#REF!)","v":{"$error":"#REF!"}},{"$error":"#REF!"},{"$error":"#REF!"},{"$error":"#REF!"}]
[{"$f":"IF(Data!#REF!=\"\",\"\",Data!#REF!)","v":{"$error":"#REF!"}},{"$f":"IF(Data!#REF!=\"\",\"\",Data!#REF!)","v":{"$error":"#REF!"}},{"$f":"IF(Data!#REF!=\"\",\"\",Data!#REF!)","v":{"$error":"#REF!"}},{"$f":"IF(Data!#REF!=\"\",\"\",Data!#REF!)","v":{"$error":"#REF!"}},{"$f":"IF(Data!#REF!=\"\",\"\",Data!#REF!)","v":{"$error":"#REF!"}},{"$error":"#REF!"},{"$error":"#REF!"},{"$error":"#REF!"}]
[{"$f":"IF(Data!#REF!=\"\",\"\",Data!#REF!)","v":{"$error":"#REF!"}},{"$f":"IF(Data!#REF!=\"\",\"\",Data!#REF!)","v":{"$error":"#REF!"}},{"$f":"IF(Data!#REF!=\"\",\"\",Data!#REF!)","v":{"$error":"#REF!"}},{"$f":"IF(Data!#REF!=\"\",\"\",Data!#REF!)","v":{"$error":"#REF!"}},{"$f":"IF(Data!#REF!=\"\",\"\",Data!#REF!)","v":{"$error":"#REF!"}},{"$error":"#REF!"},{"$error":"#REF!"},{"$error":"#REF!"}]
[{"$f":"IF(Data!#REF!=\"\",\"\",Data!#REF!)","v":{"$error":"#REF!"}},{"$f":"IF(Data!#REF!=\"\",\"\",Data!#REF!)","v":{"$error":"#REF!"}},{"$f":"IF(Data!#REF!=\"\",\"\",Data!#REF!)","v":{"$error":"#REF!"}},{"$f":"IF(Data!#REF!=\"\",\"\",Data!#REF!)","v":{"$error":"#REF!"}},{"$f":"IF(Data!#REF!=\"\",\"\",Data!#REF!)","v":{"$error":"#REF!"}},{"$error":"#REF!"},{"$error":"#REF!"},{"$error":"#REF!"}]
[{"$f":"IF(Data!#REF!=\"\",\"\",Data!#REF!)","v":{"$error":"#REF!"}},{"$f":"IF(Data!#REF!=\"\",\"\",Data!#REF!)","v":{"$error":"#REF!"}},{"$f":"IF(Data!#REF!=\"\",\"\",Data!#REF!)","v":{"$error":"#REF!"}},{"$f":"IF(Data!#REF!=\"\",\"\",Data!#REF!)","v":{"$error":"#REF!"}},{"$f":"IF(Data!#REF!=\"\",\"\",Data!#REF!)","v":{"$error":"#REF!"}},{"$error":"#REF!"},{"$error":"#REF!"},{"$error":"#REF!"}]
[{"$f":"IF(Data!#REF!=\"\",\"\",Data!#REF!)","v":{"$error":"#REF!"}},{"$f":"IF(Data!#REF!=\"\",\"\",Data!#REF!)","v":{"$error":"#REF!"}},{"$f":"IF(Data!#REF!=\"\",\"\",Data!#REF!)","v":{"$error":"#REF!"}},{"$f":"IF(Data!#REF!=\"\",\"\",Data!#REF!)","v":{"$error":"#REF!"}},{"$f":"IF(Data!#REF!=\"\",\"\",Data!#REF!)","v":{"$error":"#REF!"}},{"$error":"#REF!"},{"$error":"#REF!"},{"$error":"#REF!"}]
[{"$f":"IF(Data!#REF!=\"\",\"\",Data!#REF!)","v":{"$error":"#REF!"}},{"$f":"IF(Data!#REF!=\"\",\"\",Data!#REF!)","v":{"$error":"#REF!"}},{"$f":"IF(Data!#REF!=\"\",\"\",Data!#REF!)","v":{"$error":"#REF!"}},{"$f":"IF(Data!#REF!=\"\",\"\",Data!#REF!)","v":{"$error":"#REF!"}},{"$f":"IF(Data!#REF!=\"\",\"\",Data!#REF!)","v":{"$error":"#REF!"}},{"$error":"#REF!"},{"$error":"#REF!"},{"$error":"#REF!"}]
[{"$f":"IF(Data!#REF!=\"\",\"\",Data!#REF!)","v":{"$error":"#REF!"}},{"$f":"IF(Data!#REF!=\"\",\"\",Data!#REF!)","v":{"$error":"#REF!"}},{"$f":"IF(Data!#REF!=\"\",\"\",Data!#REF!)","v":{"$error":"#REF!"}},{"$f":"IF(Data!#REF!=\"\",\"\",Data!#REF!)","v":{"$error":"#REF!"}},{"$f":"IF(Data!#REF!=\"\",\"\",Data!#REF!)","v":{"$error":"#REF!"}},{"$error":"#REF!"},{"$error":"#REF!"},{"$error":"#REF!"}]
[{"$f":"IF(Data!#REF!=\"\",\"\",Data!#REF!)","v":{"$error":"#REF!"}},{"$f":"IF(Data!#REF!=\"\",\"\",Data!#REF!)","v":{"$error":"#REF!"}},{"$f":"IF(Data!#REF!=\"\",\"\",Data!#REF!)","v":{"$error":"#REF!"}},{"$f":"IF(Data!#REF!=\"\",\"\",Data!#REF!)","v":{"$error":"#REF!"}},{"$f":"IF(Data!#REF!=\"\",\"\",Data!#REF!)","v":{"$error":"#REF!"}},{"$error":"#REF!"},{"$error":"#REF!"},{"$error":"#REF!"}]
[{"$f":"IF(Data!#REF!=\"\",\"\",Data!#REF!)","v":{"$error":"#REF!"}},{"$f":"IF(Data!#REF!=\"\",\"\",Data!#REF!)","v":{"$error":"#REF!"}},{"$f":"IF(Data!#REF!=\"\",\"\",Data!#REF!)","v":{"$error":"#REF!"}},{"$f":"IF(Data!#REF!=\"\",\"\",Data!#REF!)","v":{"$error":"#REF!"}},{"$f":"IF(Data!#REF!=\"\",\"\",Data!#REF!)","v":{"$error":"#REF!"}},{"$error":"#REF!"},{"$error":"#REF!"},{"$error":"#REF!"}]
[{"$f":"IF(Data!#REF!=\"\",\"\",Data!#REF!)","v":{"$error":"#REF!"}},{"$f":"IF(Data!#REF!=\"\",\"\",Data!#REF!)","v":{"$error":"#REF!"}},{"$f":"IF(Data!#REF!=\"\",\"\",Data!#REF!)","v":{"$error":"#REF!"}},{"$f":"IF(Data!#REF!=\"\",\"\",Data!#REF!)","v":{"$error":"#REF!"}},{"$f":"IF(Data!#REF!=\"\",\"\",Data!#REF!)","v":{"$error":"#REF!"}},{"$error":"#REF!"},{"$error":"#REF!"},{"$error":"#REF!"}]
[{"$f":"IF(Data!#REF!=\"\",\"\",Data!#REF!)","v":{"$error":"#REF!"}},{"$f":"IF(Data!#REF!=\"\",\"\",Data!#REF!)","v":{"$error":"#REF!"}},{"$f":"IF(Data!#REF!=\"\",\"\",Data!#REF!)","v":{"$error":"#REF!"}},{"$f":"IF(Data!#REF!=\"\",\"\",Data!#REF!)","v":{"$error":"#REF!"}},{"$f":"IF(Data!#REF!=\"\",\"\",Data!#REF!)","v":{"$error":"#REF!"}},{"$error":"#REF!"},{"$error":"#REF!"},{"$error":"#REF!"}]
[{"$f":"IF(Data!#REF!=\"\",\"\",Data!#REF!)","v":{"$error":"#REF!"}},{"$f":"IF(Data!#REF!=\"\",\"\",Data!#REF!)","v":{"$error":"#REF!"}},{"$f":"IF(Data!#REF!=\"\",\"\",Data!#REF!)","v":{"$error":"#REF!"}},{"$f":"IF(Data!#REF!=\"\",\"\",Data!#REF!)","v":{"$error":"#REF!"}},{"$f":"IF(Data!#REF!=\"\",\"\",Data!#REF!)","v":{"$error":"#REF!"}},{"$error":"#REF!"},{"$error":"#REF!"},{"$error":"#REF!"}]
[{"$f":"IF(Data!#REF!=\"\",\"\",Data!#REF!)","v":{"$error":"#REF!"}},{"$f":"IF(Data!#REF!=\"\",\"\",Data!#REF!)","v":{"$error":"#REF!"}},{"$f":"IF(Data!#REF!=\"\",\"\",Data!#REF!)","v":{"$error":"#REF!"}},{"$f":"IF(Data!#REF!=\"\",\"\",Data!#REF!)","v":{"$error":"#REF!"}},{"$f":"IF(Data!#REF!=\"\",\"\",Data!#REF!)","v":{"$error":"#REF!"}},{"$error":"#REF!"},{"$error":"#REF!"},{"$error":"#REF!"}]
[{"$f":"IF(Data!#REF!=\"\",\"\",Data!#REF!)","v":{"$error":"#REF!"}},{"$f":"IF(Data!#REF!=\"\",\"\",Data!#REF!)","v":{"$error":"#REF!"}},{"$f":"IF(Data!#REF!=\"\",\"\",Data!#REF!)","v":{"$error":"#REF!"}},{"$f":"IF(Data!#REF!=\"\",\"\",Data!#REF!)","v":{"$error":"#REF!"}},{"$f":"IF(Data!#REF!=\"\",\"\",Data!#REF!)","v":{"$error":"#REF!"}},{"$error":"#REF!"},{"$error":"#REF!"},{"$error":"#REF!"}]
[{"$f":"IF(Data!#REF!=\"\",\"\",Data!#REF!)","v":{"$error":"#REF!"}},{"$f":"IF(Data!#REF!=\"\",\"\",Data!#REF!)","v":{"$error":"#REF!"}},{"$f":"IF(Data!#REF!=\"\",\"\",Data!#REF!)","v":{"$error":"#REF!"}},{"$f":"IF(Data!#REF!=\"\",\"\",Data!#REF!)","v":{"$error":"#REF!"}},{"$f":"IF(Data!#REF!=\"\",\"\",Data!#REF!)","v":{"$error":"#REF!"}},{"$error":"#REF!"},{"$error":"#REF!"},{"$error":"#REF!"}]
[{"$f":"IF(Data!#REF!=\"\",\"\",Data!#REF!)","v":{"$error":"#REF!"}},{"$f":"IF(Data!#REF!=\"\",\"\",Data!#REF!)","v":{"$error":"#REF!"}},{"$f":"IF(Data!#REF!=\"\",\"\",Data!#REF!)","v":{"$error":"#REF!"}},{"$f":"IF(Data!#REF!=\"\",\"\",Data!#REF!)","v":{"$error":"#REF!"}},{"$f":"IF(Data!#REF!=\"\",\"\",Data!#REF!)","v":{"$error":"#REF!"}},{"$error":"#REF!"},{"$error":"#REF!"},{"$error":"#REF!"}]
[{"$f":"IF(Data!#REF!=\"\",\"\",Data!#REF!)","v":{"$error":"#REF!"}},{"$f":"IF(Data!#REF!=\"\",\"\",Data!#REF!)","v":{"$error":"#REF!"}},{"$f":"IF(Data!#REF!=\"\",\"\",Data!#REF!)","v":{"$error":"#REF!"}},{"$f":"IF(Data!#REF!=\"\",\"\",Data!#REF!)","v":{"$error":"#REF!"}},{"$f":"IF(Data!#REF!=\"\",\"\",Data!#REF!)","v":{"$error":"#REF!"}},{"$error":"#REF!"},{"$error":"#REF!"},{"$error":"#REF!"}]
[{"$f":"IF(Data!#REF!=\"\",\"\",Data!#REF!)","v":{"$error":"#REF!"}},{"$f":"IF(Data!#REF!=\"\",\"\",Data!#REF!)","v":{"$error":"#REF!"}},{"$f":"IF(Data!#REF!=\"\",\"\",Data!#REF!)","v":{"$error":"#REF!"}},{"$f":"IF(Data!#REF!=\"\",\"\",Data!#REF!)","v":{"$error":"#REF!"}},{"$f":"IF(Data!#REF!=\"\",\"\",Data!#REF!)","v":{"$error":"#REF!"}},{"$error":"#REF!"},{"$error":"#REF!"},{"$error":"#REF!"}]
[{"$f":"IF(Data!#REF!=\"\",\"\",Data!#REF!)","v":{"$error":"#REF!"}},{"$f":"IF(Data!#REF!=\"\",\"\",Data!#REF!)","v":{"$error":"#REF!"}},{"$f":"IF(Data!#REF!=\"\",\"\",Data!#REF!)","v":{"$error":"#REF!"}},{"$f":"IF(Data!#REF!=\"\",\"\",Data!#REF!)","v":{"$error":"#REF!"}},{"$f":"IF(Data!#REF!=\"\",\"\",Data!#REF!)","v":{"$error":"#REF!"}},{"$error":"#REF!"},{"$error":"#REF!"},{"$error":"#REF!"}]
[{"$f":"IF(Data!#REF!=\"\",\"\",Data!#REF!)","v":{"$error":"#REF!"}},{"$f":"IF(Data!#REF!=\"\",\"\",Data!#REF!)","v":{"$error":"#REF!"}},{"$f":"IF(Data!#REF!=\"\",\"\",Data!#REF!)","v":{"$error":"#REF!"}},{"$f":"IF(Data!#REF!=\"\",\"\",Data!#REF!)","v":{"$error":"#REF!"}},{"$f":"IF(Data!#REF!=\"\",\"\",Data!#REF!)","v":{"$error":"#REF!"}},{"$error":"#REF!"},{"$error":"#REF!"},{"$error":"#REF!"}]
[{"$f":"IF(Data!#REF!=\"\",\"\",Data!#REF!)","v":{"$error":"#REF!"}},{"$f":"IF(Data!#REF!=\"\",\"\",Data!#REF!)","v":{"$error":"#REF!"}},{"$f":"IF(Data!#REF!=\"\",\"\",Data!#REF!)","v":{"$error":"#REF!"}},{"$f":"IF(Data!#REF!=\"\",\"\",Data!#REF!)","v":{"$error":"#REF!"}},{"$f":"IF(Data!#REF!=\"\",\"\",Data!#REF!)","v":{"$error":"#REF!"}},{"$error":"#REF!"},{"$error":"#REF!"},{"$error":"#REF!"}]
[{"$f":"IF(Data!#REF!=\"\",\"\",Data!#REF!)","v":{"$error":"#REF!"}},{"$f":"IF(Data!#REF!=\"\",\"\",Data!#REF!)","v":{"$error":"#REF!"}},{"$f":"IF(Data!#REF!=\"\",\"\",Data!#REF!)","v":{"$error":"#REF!"}},{"$f":"IF(Data!#REF!=\"\",\"\",Data!#REF!)","v":{"$error":"#REF!"}},{"$f":"IF(Data!#REF!=\"\",\"\",Data!#REF!)","v":{"$error":"#REF!"}},{"$error":"#REF!"},{"$error":"#REF!"},{"$error":"#REF!"}]
[{"$f":"IF(Data!#REF!=\"\",\"\",Data!#REF!)","v":{"$error":"#REF!"}},{"$f":"IF(Data!#REF!=\"\",\"\",Data!#REF!)","v":{"$error":"#REF!"}},{"$f":"IF(Data!#REF!=\"\",\"\",Data!#REF!)","v":{"$error":"#REF!"}},{"$f":"IF(Data!#REF!=\"\",\"\",Data!#REF!)","v":{"$error":"#REF!"}},{"$f":"IF(Data!#REF!=\"\",\"\",Data!#REF!)","v":{"$error":"#REF!"}},{"$error":"#REF!"},{"$error":"#REF!"},{"$error":"#REF!"}]
[{"$f":"IF(Data!#REF!=\"\",\"\",Data!#REF!)","v":{"$error":"#REF!"}},{"$f":"IF(Data!#REF!=\"\",\"\",Data!#REF!)","v":{"$error":"#REF!"}},{"$f":"IF(Data!#REF!=\"\",\"\",Data!#REF!)","v":{"$error":"#REF!"}},{"$f":"IF(Data!#REF!=\"\",\"\",Data!#REF!)","v":{"$error":"#REF!"}},{"$f":"IF(Data!#REF!=\"\",\"\",Data!#REF!)","v":{"$error":"#REF!"}},{"$error":"#REF!"},{"$error":"#REF!"},{"$error":"#REF!"}]
[{"$f":"IF(Data!#REF!=\"\",\"\",Data!#REF!)","v":{"$error":"#REF!"}},{"$f":"IF(Data!#REF!=\"\",\"\",Data!#REF!)","v":{"$error":"#REF!"}},{"$f":"IF(Data!#REF!=\"\",\"\",Data!#REF!)","v":{"$error":"#REF!"}},{"$f":"IF(Data!#REF!=\"\",\"\",Data!#REF!)","v":{"$error":"#REF!"}},{"$f":"IF(Data!#REF!=\"\",\"\",Data!#REF!)","v":{"$error":"#REF!"}},{"$error":"#REF!"},{"$error":"#REF!"},{"$error":"#REF!"}]
[{"$f":"IF(Data!#REF!=\"\",\"\",Data!#REF!)","v":{"$error":"#REF!"}},{"$f":"IF(Data!#REF!=\"\",\"\",Data!#REF!)","v":{"$error":"#REF!"}},{"$f":"IF(Data!#REF!=\"\",\"\",Data!#REF!)","v":{"$error":"#REF!"}},{"$f":"IF(Data!#REF!=\"\",\"\",Data!#REF!)","v":{"$error":"#REF!"}},{"$f":"IF(Data!#REF!=\"\",\"\",Data!#REF!)","v":{"$error":"#REF!"}},{"$error":"#REF!"},{"$error":"#REF!"},{"$error":"#REF!"}]
[{"$f":"IF(Data!#REF!=\"\",\"\",Data!#REF!)","v":{"$error":"#REF!"}},{"$f":"IF(Data!#REF!=\"\",\"\",Data!#REF!)","v":{"$error":"#REF!"}},{"$f":"IF(Data!#REF!=\"\",\"\",Data!#REF!)","v":{"$error":"#REF!"}},{"$f":"IF(Data!#REF!=\"\",\"\",Data!#REF!)","v":{"$error":"#REF!"}},{"$f":"IF(Data!#REF!=\"\",\"\",Data!#REF!)","v":{"$error":"#REF!"}},{"$error":"#REF!"},{"$error":"#REF!"},{"$error":"#REF!"}]
[{"$f":"IF(Data!#REF!=\"\",\"\",Data!#REF!)","v":{"$error":"#REF!"}},{"$f":"IF(Data!#REF!=\"\",\"\",Data!#REF!)","v":{"$error":"#REF!"}},{"$f":"IF(Data!#REF!=\"\",\"\",Data!#REF!)","v":{"$error":"#REF!"}},{"$f":"IF(Data!#REF!=\"\",\"\",Data!#REF!)","v":{"$error":"#REF!"}},{"$f":"IF(Data!#REF!=\"\",\"\",Data!#REF!)","v":{"$error":"#REF!"}},{"$error":"#REF!"},{"$error":"#REF!"},{"$error":"#REF!"}]
[{"$f":"IF(Data!#REF!=\"\",\"\",Data!#REF!)","v":{"$error":"#REF!"}},{"$f":"IF(Data!#REF!=\"\",\"\",Data!#REF!)","v":{"$error":"#REF!"}},{"$f":"IF(Data!#REF!=\"\",\"\",Data!#REF!)","v":{"$error":"#REF!"}},{"$f":"IF(Data!#REF!=\"\",\"\",Data!#REF!)","v":{"$error":"#REF!"}},{"$f":"IF(Data!#REF!=\"\",\"\",Data!#REF!)","v":{"$error":"#REF!"}},{"$error":"#REF!"},{"$error":"#REF!"},{"$error":"#REF!"}]
[{"$f":"IF(Data!#REF!=\"\",\"\",Data!#REF!)","v":{"$error":"#REF!"}},{"$f":"IF(Data!#REF!=\"\",\"\",Data!#REF!)","v":{"$error":"#REF!"}},{"$f":"IF(Data!#REF!=\"\",\"\",Data!#REF!)","v":{"$error":"#REF!"}},{"$f":"IF(Data!#REF!=\"\",\"\",Data!#REF!)","v":{"$error":"#REF!"}},{"$f":"IF(Data!#REF!=\"\",\"\",Data!#REF!)","v":{"$error":"#REF!"}},{"$error":"#REF!"},{"$error":"#REF!"},{"$error":"#REF!"}]
[{"$f":"IF(Data!#REF!=\"\",\"\",Data!#REF!)","v":{"$error":"#REF!"}},{"$f":"IF(Data!#REF!=\"\",\"\",Data!#REF!)","v":{"$error":"#REF!"}},{"$f":"IF(Data!#REF!=\"\",\"\",Data!#REF!)","v":{"$error":"#REF!"}},{"$f":"IF(Data!#REF!=\"\",\"\",Data!#REF!)","v":{"$error":"#REF!"}},{"$f":"IF(Data!#REF!=\"\",\"\",Data!#REF!)","v":{"$error":"#REF!"}},{"$error":"#REF!"},{"$error":"#REF!"},{"$error":"#REF!"}]
[{"$f":"IF(Data!#REF!=\"\",\"\",Data!#REF!)","v":{"$error":"#REF!"}},{"$f":"IF(Data!#REF!=\"\",\"\",Data!#REF!)","v":{"$error":"#REF!"}},{"$f":"IF(Data!#REF!=\"\",\"\",Data!#REF!)","v":{"$error":"#REF!"}},{"$f":"IF(Data!#REF!=\"\",\"\",Data!#REF!)","v":{"$error":"#REF!"}},{"$f":"IF(Data!#REF!=\"\",\"\",Data!#REF!)","v":{"$error":"#REF!"}},{"$error":"#REF!"},{"$error":"#REF!"},{"$error":"#REF!"}]
[{"$f":"IF(Data!#REF!=\"\",\"\",Data!#REF!)","v":{"$error":"#REF!"}},{"$f":"IF(Data!#REF!=\"\",\"\",Data!#REF!)","v":{"$error":"#REF!"}},{"$f":"IF(Data!#REF!=\"\",\"\",Data!#REF!)","v":{"$error":"#REF!"}},{"$f":"IF(Data!#REF!=\"\",\"\",Data!#REF!)","v":{"$error":"#REF!"}},{"$f":"IF(Data!#REF!=\"\",\"\",Data!#REF!)","v":{"$error":"#REF!"}},{"$error":"#REF!"},{"$error":"#REF!"},{"$error":"#REF!"}]
[{"$f":"IF(Data!#REF!=\"\",\"\",Data!#REF!)","v":{"$error":"#REF!"}},{"$f":"IF(Data!#REF!=\"\",\"\",Data!#REF!)","v":{"$error":"#REF!"}},{"$f":"IF(Data!#REF!=\"\",\"\",Data!#REF!)","v":{"$error":"#REF!"}},{"$f":"IF(Data!#REF!=\"\",\"\",Data!#REF!)","v":{"$error":"#REF!"}},{"$f":"IF(Data!#REF!=\"\",\"\",Data!#REF!)","v":{"$error":"#REF!"}},{"$error":"#REF!"},{"$error":"#REF!"},{"$error":"#REF!"}]
[{"$f":"IF(Data!#REF!=\"\",\"\",Data!#REF!)","v":{"$error":"#REF!"}},{"$f":"IF(Data!#REF!=\"\",\"\",Data!#REF!)","v":{"$error":"#REF!"}},{"$f":"IF(Data!#REF!=\"\",\"\",Data!#REF!)","v":{"$error":"#REF!"}},{"$f":"IF(Data!#REF!=\"\",\"\",Data!#REF!)","v":{"$error":"#REF!"}},{"$f":"IF(Data!#REF!=\"\",\"\",Data!#REF!)","v":{"$error":"#REF!"}},{"$error":"#REF!"},{"$error":"#REF!"},{"$error":"#REF!"}]
[{"$f":"IF(Data!#REF!=\"\",\"\",Data!#REF!)","v":{"$error":"#REF!"}},{"$f":"IF(Data!#REF!=\"\",\"\",Data!#REF!)","v":{"$error":"#REF!"}},{"$f":"IF(Data!#REF!=\"\",\"\",Data!#REF!)","v":{"$error":"#REF!"}},{"$f":"IF(Data!#REF!=\"\",\"\",Data!#REF!)","v":{"$error":"#REF!"}},{"$f":"IF(Data!#REF!=\"\",\"\",Data!#REF!)","v":{"$error":"#REF!"}},{"$error":"#REF!"},{"$error":"#REF!"},{"$error":"#REF!"}]
[{"$f":"IF(Data!#REF!=\"\",\"\",Data!#REF!)","v":{"$error":"#REF!"}},{"$f":"IF(Data!#REF!=\"\",\"\",Data!#REF!)","v":{"$error":"#REF!"}},{"$f":"IF(Data!#REF!=\"\",\"\",Data!#REF!)","v":{"$error":"#REF!"}},{"$f":"IF(Data!#REF!=\"\",\"\",Data!#REF!)","v":{"$error":"#REF!"}},{"$f":"IF(Data!#REF!=\"\",\"\",Data!#REF!)","v":{"$error":"#REF!"}},{"$error":"#REF!"},{"$error":"#REF!"},{"$error":"#REF!"}]
[{"$f":"IF(Data!#REF!=\"\",\"\",Data!#REF!)","v":{"$error":"#REF!"}},{"$f":"IF(Data!#REF!=\"\",\"\",Data!#REF!)","v":{"$error":"#REF!"}},{"$f":"IF(Data!#REF!=\"\",\"\",Data!#REF!)","v":{"$error":"#REF!"}},{"$f":"IF(Data!#REF!=\"\",\"\",Data!#REF!)","v":{"$error":"#REF!"}},{"$f":"IF(Data!#REF!=\"\",\"\",Data!#REF!)","v":{"$error":"#REF!"}},{"$error":"#REF!"},{"$error":"#REF!"},{"$error":"#REF!"}]
[{"$f":"IF(Data!#REF!=\"\",\"\",Data!#REF!)","v":{"$error":"#REF!"}},{"$f":"IF(Data!#REF!=\"\",\"\",Data!#REF!)","v":{"$error":"#REF!"}},{"$f":"IF(Data!#REF!=\"\",\"\",Data!#REF!)","v":{"$error":"#REF!"}},{"$f":"IF(Data!#REF!=\"\",\"\",Data!#REF!)","v":{"$error":"#REF!"}},{"$f":"IF(Data!#REF!=\"\",\"\",Data!#REF!)","v":{"$error":"#REF!"}},{"$error":"#REF!"},{"$error":"#REF!"},{"$error":"#REF!"}]
[{"$f":"IF(Data!#REF!=\"\",\"\",Data!#REF!)","v":{"$error":"#REF!"}},{"$f":"IF(Data!#REF!=\"\",\"\",Data!#REF!)","v":{"$error":"#REF!"}},{"$f":"IF(Data!#REF!=\"\",\"\",Data!#REF!)","v":{"$error":"#REF!"}},{"$f":"IF(Data!#REF!=\"\",\"\",Data!#REF!)","v":{"$error":"#REF!"}},{"$f":"IF(Data!#REF!=\"\",\"\",Data!#REF!)","v":{"$error":"#REF!"}},{"$error":"#REF!"},{"$error":"#REF!"},{"$error":"#REF!"}]
[{"$f":"IF(Data!#REF!=\"\",\"\",Data!#REF!)","v":{"$error":"#REF!"}},{"$f":"IF(Data!#REF!=\"\",\"\",Data!#REF!)","v":{"$error":"#REF!"}},{"$f":"IF(Data!#REF!=\"\",\"\",Data!#REF!)","v":{"$error":"#REF!"}},{"$f":"IF(Data!#REF!=\"\",\"\",Data!#REF!)","v":{"$error":"#REF!"}},{"$f":"IF(Data!#REF!=\"\",\"\",Data!#REF!)","v":{"$error":"#REF!"}},{"$error":"#REF!"},{"$error":"#REF!"},{"$error":"#REF!"}]
[{"$f":"IF(Data!#REF!=\"\",\"\",Data!#REF!)","v":{"$error":"#REF!"}},{"$f":"IF(Data!#REF!=\"\",\"\",Data!#REF!)","v":{"$error":"#REF!"}},{"$f":"IF(Data!#REF!=\"\",\"\",Data!#REF!)","v":{"$error":"#REF!"}},{"$f":"IF(Data!#REF!=\"\",\"\",Data!#REF!)","v":{"$error":"#REF!"}},{"$f":"IF(Data!#REF!=\"\",\"\",Data!#REF!)","v":{"$error":"#REF!"}},{"$error":"#REF!"},{"$error":"#REF!"},{"$error":"#REF!"}]
[{"$f":"IF(Data!#REF!=\"\",\"\",Data!#REF!)","v":{"$error":"#REF!"}},{"$f":"IF(Data!#REF!=\"\",\"\",Data!#REF!)","v":{"$error":"#REF!"}},{"$f":"IF(Data!#REF!=\"\",\"\",Data!#REF!)","v":{"$error":"#REF!"}},{"$f":"IF(Data!#REF!=\"\",\"\",Data!#REF!)","v":{"$error":"#REF!"}},{"$f":"IF(Data!#REF!=\"\",\"\",Data!#REF!)","v":{"$error":"#REF!"}},{"$error":"#REF!"},{"$error":"#REF!"},{"$error":"#REF!"}]
[{"$f":"IF(Data!#REF!=\"\",\"\",Data!#REF!)","v":{"$error":"#REF!"}},{"$f":"IF(Data!#REF!=\"\",\"\",Data!#REF!)","v":{"$error":"#REF!"}},{"$f":"IF(Data!#REF!=\"\",\"\",Data!#REF!)","v":{"$error":"#REF!"}},{"$f":"IF(Data!#REF!=\"\",\"\",Data!#REF!)","v":{"$error":"#REF!"}},{"$f":"IF(Data!#REF!=\"\",\"\",Data!#REF!)","v":{"$error":"#REF!"}},{"$error":"#REF!"},{"$error":"#REF!"},{"$error":"#REF!"}]
[{"$f":"IF(Data!#REF!=\"\",\"\",Data!#REF!)","v":{"$error":"#REF!"}},{"$f":"IF(Data!#REF!=\"\",\"\",Data!#REF!)","v":{"$error":"#REF!"}},{"$f":"IF(Data!#REF!=\"\",\"\",Data!#REF!)","v":{"$error":"#REF!"}},{"$f":"IF(Data!#REF!=\"\",\"\",Data!#REF!)","v":{"$error":"#REF!"}},{"$f":"IF(Data!#REF!=\"\",\"\",Data!#REF!)","v":{"$error":"#REF!"}},{"$error":"#REF!"},{"$error":"#REF!"},{"$error":"#REF!"}]
[{"$f":"IF(Data!#REF!=\"\",\"\",Data!#REF!)","v":{"$error":"#REF!"}},{"$f":"IF(Data!#REF!=\"\",\"\",Data!#REF!)","v":{"$error":"#REF!"}},{"$f":"IF(Data!#REF!=\"\",\"\",Data!#REF!)","v":{"$error":"#REF!"}},{"$f":"IF(Data!#REF!=\"\",\"\",Data!#REF!)","v":{"$error":"#REF!"}},{"$f":"IF(Data!#REF!=\"\",\"\",Data!#REF!)","v":{"$error":"#REF!"}},{"$error":"#REF!"},{"$error":"#REF!"},{"$error":"#REF!"}]
[{"$f":"IF(Data!#REF!=\"\",\"\",Data!#REF!)","v":{"$error":"#REF!"}},{"$f":"IF(Data!#REF!=\"\",\"\",Data!#REF!)","v":{"$error":"#REF!"}},{"$f":"IF(Data!#REF!=\"\",\"\",Data!#REF!)","v":{"$error":"#REF!"}},{"$f":"IF(Data!#REF!=\"\",\"\",Data!#REF!)","v":{"$error":"#REF!"}},{"$f":"IF(Data!#REF!=\"\",\"\",Data!#REF!)","v":{"$error":"#REF!"}},{"$error":"#REF!"},{"$error":"#REF!"},{"$error":"#REF!"}]
[{"$f":"IF(Data!#REF!=\"\",\"\",Data!#REF!)","v":{"$error":"#REF!"}},{"$f":"IF(Data!#REF!=\"\",\"\",Data!#REF!)","v":{"$error":"#REF!"}},{"$f":"IF(Data!#REF!=\"\",\"\",Data!#REF!)","v":{"$error":"#REF!"}},{"$f":"IF(Data!#REF!=\"\",\"\",Data!#REF!)","v":{"$error":"#REF!"}},{"$f":"IF(Data!#REF!=\"\",\"\",Data!#REF!)","v":{"$error":"#REF!"}},{"$error":"#REF!"},{"$error":"#REF!"},{"$error":"#REF!"}]
[{"$f":"IF(Data!#REF!=\"\",\"\",Data!#REF!)","v":{"$error":"#REF!"}},{"$f":"IF(Data!#REF!=\"\",\"\",Data!#REF!)","v":{"$error":"#REF!"}},{"$f":"IF(Data!#REF!=\"\",\"\",Data!#REF!)","v":{"$error":"#REF!"}},{"$f":"IF(Data!#REF!=\"\",\"\",Data!#REF!)","v":{"$error":"#REF!"}},{"$f":"IF(Data!#REF!=\"\",\"\",Data!#REF!)","v":{"$error":"#REF!"}},{"$error":"#REF!"},{"$error":"#REF!"},{"$error":"#REF!"}]
[{"$f":"IF(Data!#REF!=\"\",\"\",Data!#REF!)","v":{"$error":"#REF!"}},{"$f":"IF(Data!#REF!=\"\",\"\",Data!#REF!)","v":{"$error":"#REF!"}},{"$f":"IF(Data!#REF!=\"\",\"\",Data!#REF!)","v":{"$error":"#REF!"}},{"$f":"IF(Data!#REF!=\"\",\"\",Data!#REF!)","v":{"$error":"#REF!"}},{"$f":"IF(Data!#REF!=\"\",\"\",Data!#REF!)","v":{"$error":"#REF!"}},{"$error":"#REF!"},{"$error":"#REF!"},{"$error":"#REF!"}]
[{"$f":"IF(Data!#REF!=\"\",\"\",Data!#REF!)","v":{"$error":"#REF!"}},{"$f":"IF(Data!#REF!=\"\",\"\",Data!#REF!)","v":{"$error":"#REF!"}},{"$f":"IF(Data!#REF!=\"\",\"\",Data!#REF!)","v":{"$error":"#REF!"}},{"$f":"IF(Data!#REF!=\"\",\"\",Data!#REF!)","v":{"$error":"#REF!"}},{"$f":"IF(Data!#REF!=\"\",\"\",Data!#REF!)","v":{"$error":"#REF!"}},{"$error":"#REF!"},{"$error":"#REF!"},{"$error":"#REF!"}]
[{"$f":"IF(Data!#REF!=\"\",\"\",Data!#REF!)","v":{"$error":"#REF!"}},{"$f":"IF(Data!#REF!=\"\",\"\",Data!#REF!)","v":{"$error":"#REF!"}},{"$f":"IF(Data!#REF!=\"\",\"\",Data!#REF!)","v":{"$error":"#REF!"}},{"$f":"IF(Data!#REF!=\"\",\"\",Data!#REF!)","v":{"$error":"#REF!"}},{"$f":"IF(Data!#REF!=\"\",\"\",Data!#REF!)","v":{"$error":"#REF!"}},{"$f":"IF(E579>0,MONTH(E579),\"\")","v":{"$error":"#REF!"}},{"$f":"IF(E579>0,WEEKNUM(E579),\"0\")","v":{"$error":"#REF!"}},{"$f":"IF(G579>=($G$2-3),\"Ano\",\"Nie\")","v":{"$error":"#REF!"}}]
[{"$f":"IF(Data!#REF!=\"\",\"\",Data!#REF!)","v":{"$error":"#REF!"}},{"$f":"IF(Data!#REF!=\"\",\"\",Data!#REF!)","v":{"$error":"#REF!"}},{"$f":"IF(Data!#REF!=\"\",\"\",Data!#REF!)","v":{"$error":"#REF!"}},{"$f":"IF(Data!#REF!=\"\",\"\",Data!#REF!)","v":{"$error":"#REF!"}},{"$f":"IF(Data!#REF!=\"\",\"\",Data!#REF!)","v":{"$error":"#REF!"}},{"$error":"#REF!"},{"$error":"#REF!"},{"$error":"#REF!"}]
[{"$f":"IF(Data!#REF!=\"\",\"\",Data!#REF!)","v":{"$error":"#REF!"}},{"$f":"IF(Data!#REF!=\"\",\"\",Data!#REF!)","v":{"$error":"#REF!"}},{"$f":"IF(Data!#REF!=\"\",\"\",Data!#REF!)","v":{"$error":"#REF!"}},{"$f":"IF(Data!#REF!=\"\",\"\",Data!#REF!)","v":{"$error":"#REF!"}},{"$f":"IF(Data!#REF!=\"\",\"\",Data!#REF!)","v":{"$error":"#REF!"}},{"$error":"#REF!"},{"$error":"#REF!"},{"$error":"#REF!"}]
[{"$f":"IF(Data!#REF!=\"\",\"\",Data!#REF!)","v":{"$error":"#REF!"}},{"$f":"IF(Data!#REF!=\"\",\"\",Data!#REF!)","v":{"$error":"#REF!"}},{"$f":"IF(Data!#REF!=\"\",\"\",Data!#REF!)","v":{"$error":"#REF!"}},{"$f":"IF(Data!#REF!=\"\",\"\",Data!#REF!)","v":{"$error":"#REF!"}},{"$f":"IF(Data!#REF!=\"\",\"\",Data!#REF!)","v":{"$error":"#REF!"}},{"$error":"#REF!"},{"$error":"#REF!"},{"$error":"#REF!"}]
[{"$f":"IF(Data!#REF!=\"\",\"\",Data!#REF!)","v":{"$error":"#REF!"}},{"$f":"IF(Data!#REF!=\"\",\"\",Data!#REF!)","v":{"$error":"#REF!"}},{"$f":"IF(Data!#REF!=\"\",\"\",Data!#REF!)","v":{"$error":"#REF!"}},{"$f":"IF(Data!#REF!=\"\",\"\",Data!#REF!)","v":{"$error":"#REF!"}},{"$f":"IF(Data!#REF!=\"\",\"\",Data!#REF!)","v":{"$error":"#REF!"}},{"$error":"#REF!"},{"$error":"#REF!"},{"$error":"#REF!"}]
[{"$f":"IF(Data!#REF!=\"\",\"\",Data!#REF!)","v":{"$error":"#REF!"}},{"$f":"IF(Data!#REF!=\"\",\"\",Data!#REF!)","v":{"$error":"#REF!"}},{"$f":"IF(Data!#REF!=\"\",\"\",Data!#REF!)","v":{"$error":"#REF!"}},{"$f":"IF(Data!#REF!=\"\",\"\",Data!#REF!)","v":{"$error":"#REF!"}},{"$f":"IF(Data!#REF!=\"\",\"\",Data!#REF!)","v":{"$error":"#REF!"}},{"$error":"#REF!"},{"$error":"#REF!"},{"$error":"#REF!"}]
[{"$f":"IF(Data!#REF!=\"\",\"\",Data!#REF!)","v":{"$error":"#REF!"}},{"$f":"IF(Data!#REF!=\"\",\"\",Data!#REF!)","v":{"$error":"#REF!"}},{"$f":"IF(Data!#REF!=\"\",\"\",Data!#REF!)","v":{"$error":"#REF!"}},{"$f":"IF(Data!#REF!=\"\",\"\",Data!#REF!)","v":{"$error":"#REF!"}},{"$f":"IF(Data!#REF!=\"\",\"\",Data!#REF!)","v":{"$error":"#REF!"}},{"$error":"#REF!"},{"$error":"#REF!"},{"$error":"#REF!"}]
[{"$f":"IF(Data!#REF!=\"\",\"\",Data!#REF!)","v":{"$error":"#REF!"}},{"$f":"IF(Data!#REF!=\"\",\"\",Data!#REF!)","v":{"$error":"#REF!"}},{"$f":"IF(Data!#REF!=\"\",\"\",Data!#REF!)","v":{"$error":"#REF!"}},{"$f":"IF(Data!#REF!=\"\",\"\",Data!#REF!)","v":{"$error":"#REF!"}},{"$f":"IF(Data!#REF!=\"\",\"\",Data!#REF!)","v":{"$error":"#REF!"}},{"$error":"#REF!"},{"$error":"#REF!"},{"$error":"#REF!"}]
[{"$f":"IF(Data!#REF!=\"\",\"\",Data!#REF!)","v":{"$error":"#REF!"}},{"$f":"IF(Data!#REF!=\"\",\"\",Data!#REF!)","v":{"$error":"#REF!"}},{"$f":"IF(Data!#REF!=\"\",\"\",Data!#REF!)","v":{"$error":"#REF!"}},{"$f":"IF(Data!#REF!=\"\",\"\",Data!#REF!)","v":{"$error":"#REF!"}},{"$f":"IF(Data!#REF!=\"\",\"\",Data!#REF!)","v":{"$error":"#REF!"}},{"$error":"#REF!"},{"$error":"#REF!"},{"$error":"#REF!"}]
[{"$f":"IF(Data!#REF!=\"\",\"\",Data!#REF!)","v":{"$error":"#REF!"}},{"$f":"IF(Data!#REF!=\"\",\"\",Data!#REF!)","v":{"$error":"#REF!"}},{"$f":"IF(Data!#REF!=\"\",\"\",Data!#REF!)","v":{"$error":"#REF!"}},{"$f":"IF(Data!#REF!=\"\",\"\",Data!#REF!)","v":{"$error":"#REF!"}},{"$f":"IF(Data!#REF!=\"\",\"\",Data!#REF!)","v":{"$error":"#REF!"}},{"$error":"#REF!"},{"$error":"#REF!"},{"$error":"#REF!"}]
[{"$f":"IF(Data!#REF!=\"\",\"\",Data!#REF!)","v":{"$error":"#REF!"}},{"$f":"IF(Data!#REF!=\"\",\"\",Data!#REF!)","v":{"$error":"#REF!"}},{"$f":"IF(Data!#REF!=\"\",\"\",Data!#REF!)","v":{"$error":"#REF!"}},{"$f":"IF(Data!#REF!=\"\",\"\",Data!#REF!)","v":{"$error":"#REF!"}},{"$f":"IF(Data!#REF!=\"\",\"\",Data!#REF!)","v":{"$error":"#REF!"}},{"$error":"#REF!"},{"$error":"#REF!"},{"$error":"#REF!"}]
[{"$f":"IF(Data!#REF!=\"\",\"\",Data!#REF!)","v":{"$error":"#REF!"}},{"$f":"IF(Data!#REF!=\"\",\"\",Data!#REF!)","v":{"$error":"#REF!"}},{"$f":"IF(Data!#REF!=\"\",\"\",Data!#REF!)","v":{"$error":"#REF!"}},{"$f":"IF(Data!#REF!=\"\",\"\",Data!#REF!)","v":{"$error":"#REF!"}},{"$f":"IF(Data!#REF!=\"\",\"\",Data!#REF!)","v":{"$error":"#REF!"}},{"$error":"#REF!"},{"$error":"#REF!"},{"$error":"#REF!"}]
[{"$f":"IF(Data!#REF!=\"\",\"\",Data!#REF!)","v":{"$error":"#REF!"}},{"$f":"IF(Data!#REF!=\"\",\"\",Data!#REF!)","v":{"$error":"#REF!"}},{"$f":"IF(Data!#REF!=\"\",\"\",Data!#REF!)","v":{"$error":"#REF!"}},{"$f":"IF(Data!#REF!=\"\",\"\",Data!#REF!)","v":{"$error":"#REF!"}},{"$f":"IF(Data!#REF!=\"\",\"\",Data!#REF!)","v":{"$error":"#REF!"}},{"$error":"#REF!"},{"$error":"#REF!"},{"$error":"#REF!"}]
[{"$f":"IF(Data!#REF!=\"\",\"\",Data!#REF!)","v":{"$error":"#REF!"}},{"$f":"IF(Data!#REF!=\"\",\"\",Data!#REF!)","v":{"$error":"#REF!"}},{"$f":"IF(Data!#REF!=\"\",\"\",Data!#REF!)","v":{"$error":"#REF!"}},{"$f":"IF(Data!#REF!=\"\",\"\",Data!#REF!)","v":{"$error":"#REF!"}},{"$f":"IF(Data!#REF!=\"\",\"\",Data!#REF!)","v":{"$error":"#REF!"}},{"$error":"#REF!"},{"$error":"#REF!"},{"$error":"#REF!"}]
[{"$f":"IF(Data!#REF!=\"\",\"\",Data!#REF!)","v":{"$error":"#REF!"}},{"$f":"IF(Data!#REF!=\"\",\"\",Data!#REF!)","v":{"$error":"#REF!"}},{"$f":"IF(Data!#REF!=\"\",\"\",Data!#REF!)","v":{"$error":"#REF!"}},{"$f":"IF(Data!#REF!=\"\",\"\",Data!#REF!)","v":{"$error":"#REF!"}},{"$f":"IF(Data!#REF!=\"\",\"\",Data!#REF!)","v":{"$error":"#REF!"}},{"$error":"#REF!"},{"$error":"#REF!"},{"$error":"#REF!"}]
[{"$f":"IF(Data!#REF!=\"\",\"\",Data!#REF!)","v":{"$error":"#REF!"}},{"$f":"IF(Data!#REF!=\"\",\"\",Data!#REF!)","v":{"$error":"#REF!"}},{"$f":"IF(Data!#REF!=\"\",\"\",Data!#REF!)","v":{"$error":"#REF!"}},{"$f":"IF(Data!#REF!=\"\",\"\",Data!#REF!)","v":{"$error":"#REF!"}},{"$f":"IF(Data!#REF!=\"\",\"\",Data!#REF!)","v":{"$error":"#REF!"}},{"$error":"#REF!"},{"$error":"#REF!"},{"$error":"#REF!"}]
[{"$f":"IF(Data!#REF!=\"\",\"\",Data!#REF!)","v":{"$error":"#REF!"}},{"$f":"IF(Data!#REF!=\"\",\"\",Data!#REF!)","v":{"$error":"#REF!"}},{"$f":"IF(Data!#REF!=\"\",\"\",Data!#REF!)","v":{"$error":"#REF!"}},{"$f":"IF(Data!#REF!=\"\",\"\",Data!#REF!)","v":{"$error":"#REF!"}},{"$f":"IF(Data!#REF!=\"\",\"\",Data!#REF!)","v":{"$error":"#REF!"}},{"$error":"#REF!"},{"$error":"#REF!"},{"$error":"#REF!"}]
[{"$f":"IF(Data!#REF!=\"\",\"\",Data!#REF!)","v":{"$error":"#REF!"}},{"$f":"IF(Data!#REF!=\"\",\"\",Data!#REF!)","v":{"$error":"#REF!"}},{"$f":"IF(Data!#REF!=\"\",\"\",Data!#REF!)","v":{"$error":"#REF!"}},{"$f":"IF(Data!#REF!=\"\",\"\",Data!#REF!)","v":{"$error":"#REF!"}},{"$f":"IF(Data!#REF!=\"\",\"\",Data!#REF!)","v":{"$error":"#REF!"}},{"$error":"#REF!"},{"$error":"#REF!"},{"$error":"#REF!"}]
[{"$f":"IF(Data!#REF!=\"\",\"\",Data!#REF!)","v":{"$error":"#REF!"}},{"$f":"IF(Data!#REF!=\"\",\"\",Data!#REF!)","v":{"$error":"#REF!"}},{"$f":"IF(Data!#REF!=\"\",\"\",Data!#REF!)","v":{"$error":"#REF!"}},{"$f":"IF(Data!#REF!=\"\",\"\",Data!#REF!)","v":{"$error":"#REF!"}},{"$f":"IF(Data!#REF!=\"\",\"\",Data!#REF!)","v":{"$error":"#REF!"}},{"$error":"#REF!"},{"$error":"#REF!"},{"$error":"#REF!"}]
[{"$f":"IF(Data!#REF!=\"\",\"\",Data!#REF!)","v":{"$error":"#REF!"}},{"$f":"IF(Data!#REF!=\"\",\"\",Data!#REF!)","v":{"$error":"#REF!"}},{"$f":"IF(Data!#REF!=\"\",\"\",Data!#REF!)","v":{"$error":"#REF!"}},{"$f":"IF(Data!#REF!=\"\",\"\",Data!#REF!)","v":{"$error":"#REF!"}},{"$f":"IF(Data!#REF!=\"\",\"\",Data!#REF!)","v":{"$error":"#REF!"}},{"$error":"#REF!"},{"$error":"#REF!"},{"$error":"#REF!"}]
[{"$f":"IF(Data!#REF!=\"\",\"\",Data!#REF!)","v":{"$error":"#REF!"}},{"$f":"IF(Data!#REF!=\"\",\"\",Data!#REF!)","v":{"$error":"#REF!"}},{"$f":"IF(Data!#REF!=\"\",\"\",Data!#REF!)","v":{"$error":"#REF!"}},{"$f":"IF(Data!#REF!=\"\",\"\",Data!#REF!)","v":{"$error":"#REF!"}},{"$f":"IF(Data!#REF!=\"\",\"\",Data!#REF!)","v":{"$error":"#REF!"}},{"$error":"#REF!"},{"$error":"#REF!"},{"$error":"#REF!"}]
[{"$f":"IF(Data!#REF!=\"\",\"\",Data!#REF!)","v":{"$error":"#REF!"}},{"$f":"IF(Data!#REF!=\"\",\"\",Data!#REF!)","v":{"$error":"#REF!"}},{"$f":"IF(Data!#REF!=\"\",\"\",Data!#REF!)","v":{"$error":"#REF!"}},{"$f":"IF(Data!#REF!=\"\",\"\",Data!#REF!)","v":{"$error":"#REF!"}},{"$f":"IF(Data!#REF!=\"\",\"\",Data!#REF!)","v":{"$error":"#REF!"}},{"$error":"#REF!"},{"$error":"#REF!"},{"$error":"#REF!"}]
[{"$f":"IF(Data!#REF!=\"\",\"\",Data!#REF!)","v":{"$error":"#REF!"}},{"$f":"IF(Data!#REF!=\"\",\"\",Data!#REF!)","v":{"$error":"#REF!"}},{"$f":"IF(Data!#REF!=\"\",\"\",Data!#REF!)","v":{"$error":"#REF!"}},{"$f":"IF(Data!#REF!=\"\",\"\",Data!#REF!)","v":{"$error":"#REF!"}},{"$f":"IF(Data!#REF!=\"\",\"\",Data!#REF!)","v":{"$error":"#REF!"}},{"$error":"#REF!"},{"$error":"#REF!"},{"$error":"#REF!"}]
[{"$f":"IF(Data!#REF!=\"\",\"\",Data!#REF!)","v":{"$error":"#REF!"}},{"$f":"IF(Data!#REF!=\"\",\"\",Data!#REF!)","v":{"$error":"#REF!"}},{"$f":"IF(Data!#REF!=\"\",\"\",Data!#REF!)","v":{"$error":"#REF!"}},{"$f":"IF(Data!#REF!=\"\",\"\",Data!#REF!)","v":{"$error":"#REF!"}},{"$f":"IF(Data!#REF!=\"\",\"\",Data!#REF!)","v":{"$error":"#REF!"}},{"$error":"#REF!"},{"$error":"#REF!"},{"$error":"#REF!"}]
[{"$f":"IF(Data!#REF!=\"\",\"\",Data!#REF!)","v":{"$error":"#REF!"}},{"$f":"IF(Data!#REF!=\"\",\"\",Data!#REF!)","v":{"$error":"#REF!"}},{"$f":"IF(Data!#REF!=\"\",\"\",Data!#REF!)","v":{"$error":"#REF!"}},{"$f":"IF(Data!#REF!=\"\",\"\",Data!#REF!)","v":{"$error":"#REF!"}},{"$f":"IF(Data!#REF!=\"\",\"\",Data!#REF!)","v":{"$error":"#REF!"}},{"$error":"#REF!"},{"$error":"#REF!"},{"$error":"#REF!"}]
[{"$f":"IF(Data!#REF!=\"\",\"\",Data!#REF!)","v":{"$error":"#REF!"}},{"$f":"IF(Data!#REF!=\"\",\"\",Data!#REF!)","v":{"$error":"#REF!"}},{"$f":"IF(Data!#REF!=\"\",\"\",Data!#REF!)","v":{"$error":"#REF!"}},{"$f":"IF(Data!#REF!=\"\",\"\",Data!#REF!)","v":{"$error":"#REF!"}},{"$f":"IF(Data!#REF!=\"\",\"\",Data!#REF!)","v":{"$error":"#REF!"}},{"$error":"#REF!"},{"$error":"#REF!"},{"$error":"#REF!"}]
[{"$f":"IF(Data!#REF!=\"\",\"\",Data!#REF!)","v":{"$error":"#REF!"}},{"$f":"IF(Data!#REF!=\"\",\"\",Data!#REF!)","v":{"$error":"#REF!"}},{"$f":"IF(Data!#REF!=\"\",\"\",Data!#REF!)","v":{"$error":"#REF!"}},{"$f":"IF(Data!#REF!=\"\",\"\",Data!#REF!)","v":{"$error":"#REF!"}},{"$f":"IF(Data!#REF!=\"\",\"\",Data!#REF!)","v":{"$error":"#REF!"}},{"$error":"#REF!"},{"$error":"#REF!"},{"$error":"#REF!"}]
[{"$f":"IF(Data!#REF!=\"\",\"\",Data!#REF!)","v":{"$error":"#REF!"}},{"$f":"IF(Data!#REF!=\"\",\"\",Data!#REF!)","v":{"$error":"#REF!"}},{"$f":"IF(Data!#REF!=\"\",\"\",Data!#REF!)","v":{"$error":"#REF!"}},{"$f":"IF(Data!#REF!=\"\",\"\",Data!#REF!)","v":{"$error":"#REF!"}},{"$f":"IF(Data!#REF!=\"\",\"\",Data!#REF!)","v":{"$error":"#REF!"}},{"$error":"#REF!"},{"$error":"#REF!"},{"$error":"#REF!"}]
[{"$f":"IF(Data!#REF!=\"\",\"\",Data!#REF!)","v":{"$error":"#REF!"}},{"$f":"IF(Data!#REF!=\"\",\"\",Data!#REF!)","v":{"$error":"#REF!"}},{"$f":"IF(Data!#REF!=\"\",\"\",Data!#REF!)","v":{"$error":"#REF!"}},{"$f":"IF(Data!#REF!=\"\",\"\",Data!#REF!)","v":{"$error":"#REF!"}},{"$f":"IF(Data!#REF!=\"\",\"\",Data!#REF!)","v":{"$error":"#REF!"}},{"$error":"#REF!"},{"$error":"#REF!"},{"$error":"#REF!"}]
[{"$f":"IF(Data!#REF!=\"\",\"\",Data!#REF!)","v":{"$error":"#REF!"}},{"$f":"IF(Data!#REF!=\"\",\"\",Data!#REF!)","v":{"$error":"#REF!"}},{"$f":"IF(Data!#REF!=\"\",\"\",Data!#REF!)","v":{"$error":"#REF!"}},{"$f":"IF(Data!#REF!=\"\",\"\",Data!#REF!)","v":{"$error":"#REF!"}},{"$f":"IF(Data!#REF!=\"\",\"\",Data!#REF!)","v":{"$error":"#REF!"}},{"$error":"#REF!"},{"$error":"#REF!"},{"$error":"#REF!"}]
[{"$f":"IF(Data!#REF!=\"\",\"\",Data!#REF!)","v":{"$error":"#REF!"}},{"$f":"IF(Data!#REF!=\"\",\"\",Data!#REF!)","v":{"$error":"#REF!"}},{"$f":"IF(Data!#REF!=\"\",\"\",Data!#REF!)","v":{"$error":"#REF!"}},{"$f":"IF(Data!#REF!=\"\",\"\",Data!#REF!)","v":{"$error":"#REF!"}},{"$f":"IF(Data!#REF!=\"\",\"\",Data!#REF!)","v":{"$error":"#REF!"}},{"$error":"#REF!"},{"$error":"#REF!"},{"$error":"#REF!"}]
[{"$f":"IF(Data!#REF!=\"\",\"\",Data!#REF!)","v":{"$error":"#REF!"}},{"$f":"IF(Data!#REF!=\"\",\"\",Data!#REF!)","v":{"$error":"#REF!"}},{"$f":"IF(Data!#REF!=\"\",\"\",Data!#REF!)","v":{"$error":"#REF!"}},{"$f":"IF(Data!#REF!=\"\",\"\",Data!#REF!)","v":{"$error":"#REF!"}},{"$f":"IF(Data!#REF!=\"\",\"\",Data!#REF!)","v":{"$error":"#REF!"}},{"$error":"#REF!"},{"$error":"#REF!"},{"$error":"#REF!"}]
[{"$f":"IF(Data!#REF!=\"\",\"\",Data!#REF!)","v":{"$error":"#REF!"}},{"$f":"IF(Data!#REF!=\"\",\"\",Data!#REF!)","v":{"$error":"#REF!"}},{"$f":"IF(Data!#REF!=\"\",\"\",Data!#REF!)","v":{"$error":"#REF!"}},{"$f":"IF(Data!#REF!=\"\",\"\",Data!#REF!)","v":{"$error":"#REF!"}},{"$f":"IF(Data!#REF!=\"\",\"\",Data!#REF!)","v":{"$error":"#REF!"}},{"$error":"#REF!"},{"$error":"#REF!"},{"$error":"#REF!"}]
[{"$f":"IF(Data!#REF!=\"\",\"\",Data!#REF!)","v":{"$error":"#REF!"}},{"$f":"IF(Data!#REF!=\"\",\"\",Data!#REF!)","v":{"$error":"#REF!"}},{"$f":"IF(Data!#REF!=\"\",\"\",Data!#REF!)","v":{"$error":"#REF!"}},{"$f":"IF(Data!#REF!=\"\",\"\",Data!#REF!)","v":{"$error":"#REF!"}},{"$f":"IF(Data!#REF!=\"\",\"\",Data!#REF!)","v":{"$error":"#REF!"}},{"$error":"#REF!"},{"$error":"#REF!"},{"$error":"#REF!"}]
[{"$f":"IF(Data!#REF!=\"\",\"\",Data!#REF!)","v":{"$error":"#REF!"}},{"$f":"IF(Data!#REF!=\"\",\"\",Data!#REF!)","v":{"$error":"#REF!"}},{"$f":"IF(Data!#REF!=\"\",\"\",Data!#REF!)","v":{"$error":"#REF!"}},{"$f":"IF(Data!#REF!=\"\",\"\",Data!#REF!)","v":{"$error":"#REF!"}},{"$f":"IF(Data!#REF!=\"\",\"\",Data!#REF!)","v":{"$error":"#REF!"}},{"$error":"#REF!"},{"$error":"#REF!"},{"$error":"#REF!"}]
[{"$f":"IF(Data!#REF!=\"\",\"\",Data!#REF!)","v":{"$error":"#REF!"}},{"$f":"IF(Data!#REF!=\"\",\"\",Data!#REF!)","v":{"$error":"#REF!"}},{"$f":"IF(Data!#REF!=\"\",\"\",Data!#REF!)","v":{"$error":"#REF!"}},{"$f":"IF(Data!#REF!=\"\",\"\",Data!#REF!)","v":{"$error":"#REF!"}},{"$f":"IF(Data!#REF!=\"\",\"\",Data!#REF!)","v":{"$error":"#REF!"}},{"$error":"#REF!"},{"$error":"#REF!"},{"$error":"#REF!"}]
[{"$f":"IF(Data!#REF!=\"\",\"\",Data!#REF!)","v":{"$error":"#REF!"}},{"$f":"IF(Data!#REF!=\"\",\"\",Data!#REF!)","v":{"$error":"#REF!"}},{"$f":"IF(Data!#REF!=\"\",\"\",Data!#REF!)","v":{"$error":"#REF!"}},{"$f":"IF(Data!#REF!=\"\",\"\",Data!#REF!)","v":{"$error":"#REF!"}},{"$f":"IF(Data!#REF!=\"\",\"\",Data!#REF!)","v":{"$error":"#REF!"}},{"$error":"#REF!"},{"$error":"#REF!"},{"$error":"#REF!"}]
[{"$f":"IF(Data!#REF!=\"\",\"\",Data!#REF!)","v":{"$error":"#REF!"}},{"$f":"IF(Data!#REF!=\"\",\"\",Data!#REF!)","v":{"$error":"#REF!"}},{"$f":"IF(Data!#REF!=\"\",\"\",Data!#REF!)","v":{"$error":"#REF!"}},{"$f":"IF(Data!#REF!=\"\",\"\",Data!#REF!)","v":{"$error":"#REF!"}},{"$f":"IF(Data!#REF!=\"\",\"\",Data!#REF!)","v":{"$error":"#REF!"}},{"$error":"#REF!"},{"$error":"#REF!"},{"$error":"#REF!"}]
[{"$f":"IF(Data!#REF!=\"\",\"\",Data!#REF!)","v":{"$error":"#REF!"}},{"$f":"IF(Data!#REF!=\"\",\"\",Data!#REF!)","v":{"$error":"#REF!"}},{"$f":"IF(Data!#REF!=\"\",\"\",Data!#REF!)","v":{"$error":"#REF!"}},{"$f":"IF(Data!#REF!=\"\",\"\",Data!#REF!)","v":{"$error":"#REF!"}},{"$f":"IF(Data!#REF!=\"\",\"\",Data!#REF!)","v":{"$error":"#REF!"}},{"$error":"#REF!"},{"$error":"#REF!"},{"$error":"#REF!"}]
[{"$f":"IF(Data!#REF!=\"\",\"\",Data!#REF!)","v":{"$error":"#REF!"}},{"$f":"IF(Data!#REF!=\"\",\"\",Data!#REF!)","v":{"$error":"#REF!"}},{"$f":"IF(Data!#REF!=\"\",\"\",Data!#REF!)","v":{"$error":"#REF!"}},{"$f":"IF(Data!#REF!=\"\",\"\",Data!#REF!)","v":{"$error":"#REF!"}},{"$f":"IF(Data!#REF!=\"\",\"\",Data!#REF!)","v":{"$error":"#REF!"}},{"$error":"#REF!"},{"$error":"#REF!"},{"$error":"#REF!"}]
[{"$f":"IF(Data!#REF!=\"\",\"\",Data!#REF!)","v":{"$error":"#REF!"}},{"$f":"IF(Data!#REF!=\"\",\"\",Data!#REF!)","v":{"$error":"#REF!"}},{"$f":"IF(Data!#REF!=\"\",\"\",Data!#REF!)","v":{"$error":"#REF!"}},{"$f":"IF(Data!#REF!=\"\",\"\",Data!#REF!)","v":{"$error":"#REF!"}},{"$f":"IF(Data!#REF!=\"\",\"\",Data!#REF!)","v":{"$error":"#REF!"}},{"$error":"#REF!"},{"$error":"#REF!"},{"$error":"#REF!"}]
[{"$f":"IF(Data!#REF!=\"\",\"\",Data!#REF!)","v":{"$error":"#REF!"}},{"$f":"IF(Data!#REF!=\"\",\"\",Data!#REF!)","v":{"$error":"#REF!"}},{"$f":"IF(Data!#REF!=\"\",\"\",Data!#REF!)","v":{"$error":"#REF!"}},{"$f":"IF(Data!#REF!=\"\",\"\",Data!#REF!)","v":{"$error":"#REF!"}},{"$f":"IF(Data!#REF!=\"\",\"\",Data!#REF!)","v":{"$error":"#REF!"}},{"$error":"#REF!"},{"$error":"#REF!"},{"$error":"#REF!"}]
[{"$f":"IF(Data!#REF!=\"\",\"\",Data!#REF!)","v":{"$error":"#REF!"}},{"$f":"IF(Data!#REF!=\"\",\"\",Data!#REF!)","v":{"$error":"#REF!"}},{"$f":"IF(Data!#REF!=\"\",\"\",Data!#REF!)","v":{"$error":"#REF!"}},{"$f":"IF(Data!#REF!=\"\",\"\",Data!#REF!)","v":{"$error":"#REF!"}},{"$f":"IF(Data!#REF!=\"\",\"\",Data!#REF!)","v":{"$error":"#REF!"}},{"$error":"#REF!"},{"$error":"#REF!"},{"$error":"#REF!"}]
[{"$f":"IF(Data!#REF!=\"\",\"\",Data!#REF!)","v":{"$error":"#REF!"}},{"$f":"IF(Data!#REF!=\"\",\"\",Data!#REF!)","v":{"$error":"#REF!"}},{"$f":"IF(Data!#REF!=\"\",\"\",Data!#REF!)","v":{"$error":"#REF!"}},{"$f":"IF(Data!#REF!=\"\",\"\",Data!#REF!)","v":{"$error":"#REF!"}},{"$f":"IF(Data!#REF!=\"\",\"\",Data!#REF!)","v":{"$error":"#REF!"}},{"$error":"#REF!"},{"$error":"#REF!"},{"$error":"#REF!"}]
[{"$f":"IF(Data!#REF!=\"\",\"\",Data!#REF!)","v":{"$error":"#REF!"}},{"$f":"IF(Data!#REF!=\"\",\"\",Data!#REF!)","v":{"$error":"#REF!"}},{"$f":"IF(Data!#REF!=\"\",\"\",Data!#REF!)","v":{"$error":"#REF!"}},{"$f":"IF(Data!#REF!=\"\",\"\",Data!#REF!)","v":{"$error":"#REF!"}},{"$f":"IF(Data!#REF!=\"\",\"\",Data!#REF!)","v":{"$error":"#REF!"}},{"$error":"#REF!"},{"$error":"#REF!"},{"$error":"#REF!"}]
[{"$f":"IF(Data!#REF!=\"\",\"\",Data!#REF!)","v":{"$error":"#REF!"}},{"$f":"IF(Data!#REF!=\"\",\"\",Data!#REF!)","v":{"$error":"#REF!"}},{"$f":"IF(Data!#REF!=\"\",\"\",Data!#REF!)","v":{"$error":"#REF!"}},{"$f":"IF(Data!#REF!=\"\",\"\",Data!#REF!)","v":{"$error":"#REF!"}},{"$f":"IF(Data!#REF!=\"\",\"\",Data!#REF!)","v":{"$error":"#REF!"}},{"$error":"#REF!"},{"$error":"#REF!"},{"$error":"#REF!"}]
[{"$f":"IF(Data!#REF!=\"\",\"\",Data!#REF!)","v":{"$error":"#REF!"}},{"$f":"IF(Data!#REF!=\"\",\"\",Data!#REF!)","v":{"$error":"#REF!"}},{"$f":"IF(Data!#REF!=\"\",\"\",Data!#REF!)","v":{"$error":"#REF!"}},{"$f":"IF(Data!#REF!=\"\",\"\",Data!#REF!)","v":{"$error":"#REF!"}},{"$f":"IF(Data!#REF!=\"\",\"\",Data!#REF!)","v":{"$error":"#REF!"}},{"$error":"#REF!"},{"$error":"#REF!"},{"$error":"#REF!"}]
[{"$f":"IF(Data!#REF!=\"\",\"\",Data!#REF!)","v":{"$error":"#REF!"}},{"$f":"IF(Data!#REF!=\"\",\"\",Data!#REF!)","v":{"$error":"#REF!"}},{"$f":"IF(Data!#REF!=\"\",\"\",Data!#REF!)","v":{"$error":"#REF!"}},{"$f":"IF(Data!#REF!=\"\",\"\",Data!#REF!)","v":{"$error":"#REF!"}},{"$f":"IF(Data!#REF!=\"\",\"\",Data!#REF!)","v":{"$error":"#REF!"}},{"$error":"#REF!"},{"$error":"#REF!"},{"$error":"#REF!"}]
[{"$f":"IF(Data!#REF!=\"\",\"\",Data!#REF!)","v":{"$error":"#REF!"}},{"$f":"IF(Data!#REF!=\"\",\"\",Data!#REF!)","v":{"$error":"#REF!"}},{"$f":"IF(Data!#REF!=\"\",\"\",Data!#REF!)","v":{"$error":"#REF!"}},{"$f":"IF(Data!#REF!=\"\",\"\",Data!#REF!)","v":{"$error":"#REF!"}},{"$f":"IF(Data!#REF!=\"\",\"\",Data!#REF!)","v":{"$error":"#REF!"}},{"$error":"#REF!"},{"$error":"#REF!"},{"$error":"#REF!"}]
[{"$f":"IF(Data!#REF!=\"\",\"\",Data!#REF!)","v":{"$error":"#REF!"}},{"$f":"IF(Data!#REF!=\"\",\"\",Data!#REF!)","v":{"$error":"#REF!"}},{"$f":"IF(Data!#REF!=\"\",\"\",Data!#REF!)","v":{"$error":"#REF!"}},{"$f":"IF(Data!#REF!=\"\",\"\",Data!#REF!)","v":{"$error":"#REF!"}},{"$f":"IF(Data!#REF!=\"\",\"\",Data!#REF!)","v":{"$error":"#REF!"}},{"$error":"#REF!"},{"$error":"#REF!"},{"$error":"#REF!"}]
[{"$f":"IF(Data!#REF!=\"\",\"\",Data!#REF!)","v":{"$error":"#REF!"}},{"$f":"IF(Data!#REF!=\"\",\"\",Data!#REF!)","v":{"$error":"#REF!"}},{"$f":"IF(Data!#REF!=\"\",\"\",Data!#REF!)","v":{"$error":"#REF!"}},{"$f":"IF(Data!#REF!=\"\",\"\",Data!#REF!)","v":{"$error":"#REF!"}},{"$f":"IF(Data!#REF!=\"\",\"\",Data!#REF!)","v":{"$error":"#REF!"}},{"$error":"#REF!"},{"$error":"#REF!"},{"$error":"#REF!"}]
[{"$f":"IF(Data!#REF!=\"\",\"\",Data!#REF!)","v":{"$error":"#REF!"}},{"$f":"IF(Data!#REF!=\"\",\"\",Data!#REF!)","v":{"$error":"#REF!"}},{"$f":"IF(Data!#REF!=\"\",\"\",Data!#REF!)","v":{"$error":"#REF!"}},{"$f":"IF(Data!#REF!=\"\",\"\",Data!#REF!)","v":{"$error":"#REF!"}},{"$f":"IF(Data!#REF!=\"\",\"\",Data!#REF!)","v":{"$error":"#REF!"}},{"$error":"#REF!"},{"$error":"#REF!"},{"$error":"#REF!"}]
[{"$f":"IF(Data!#REF!=\"\",\"\",Data!#REF!)","v":{"$error":"#REF!"}},{"$f":"IF(Data!#REF!=\"\",\"\",Data!#REF!)","v":{"$error":"#REF!"}},{"$f":"IF(Data!#REF!=\"\",\"\",Data!#REF!)","v":{"$error":"#REF!"}},{"$f":"IF(Data!#REF!=\"\",\"\",Data!#REF!)","v":{"$error":"#REF!"}},{"$f":"IF(Data!#REF!=\"\",\"\",Data!#REF!)","v":{"$error":"#REF!"}},{"$error":"#REF!"},{"$error":"#REF!"},{"$error":"#REF!"}]
[{"$f":"IF(Data!#REF!=\"\",\"\",Data!#REF!)","v":{"$error":"#REF!"}},{"$f":"IF(Data!#REF!=\"\",\"\",Data!#REF!)","v":{"$error":"#REF!"}},{"$f":"IF(Data!#REF!=\"\",\"\",Data!#REF!)","v":{"$error":"#REF!"}},{"$f":"IF(Data!#REF!=\"\",\"\",Data!#REF!)","v":{"$error":"#REF!"}},{"$f":"IF(Data!#REF!=\"\",\"\",Data!#REF!)","v":{"$error":"#REF!"}},{"$error":"#REF!"},{"$error":"#REF!"},{"$error":"#REF!"}]
[{"$f":"IF(Data!#REF!=\"\",\"\",Data!#REF!)","v":{"$error":"#REF!"}},{"$f":"IF(Data!#REF!=\"\",\"\",Data!#REF!)","v":{"$error":"#REF!"}},{"$f":"IF(Data!#REF!=\"\",\"\",Data!#REF!)","v":{"$error":"#REF!"}},{"$f":"IF(Data!#REF!=\"\",\"\",Data!#REF!)","v":{"$error":"#REF!"}},{"$f":"IF(Data!#REF!=\"\",\"\",Data!#REF!)","v":{"$error":"#REF!"}},{"$error":"#REF!"},{"$error":"#REF!"},{"$error":"#REF!"}]
[{"$f":"IF(Data!#REF!=\"\",\"\",Data!#REF!)","v":{"$error":"#REF!"}},{"$f":"IF(Data!#REF!=\"\",\"\",Data!#REF!)","v":{"$error":"#REF!"}},{"$f":"IF(Data!#REF!=\"\",\"\",Data!#REF!)","v":{"$error":"#REF!"}},{"$f":"IF(Data!#REF!=\"\",\"\",Data!#REF!)","v":{"$error":"#REF!"}},{"$f":"IF(Data!#REF!=\"\",\"\",Data!#REF!)","v":{"$error":"#REF!"}},{"$error":"#REF!"},{"$error":"#REF!"},{"$error":"#REF!"}]
[{"$f":"IF(Data!#REF!=\"\",\"\",Data!#REF!)","v":{"$error":"#REF!"}},{"$f":"IF(Data!#REF!=\"\",\"\",Data!#REF!)","v":{"$error":"#REF!"}},{"$f":"IF(Data!#REF!=\"\",\"\",Data!#REF!)","v":{"$error":"#REF!"}},{"$f":"IF(Data!#REF!=\"\",\"\",Data!#REF!)","v":{"$error":"#REF!"}},{"$f":"IF(Data!#REF!=\"\",\"\",Data!#REF!)","v":{"$error":"#REF!"}},{"$error":"#REF!"},{"$error":"#REF!"},{"$error":"#REF!"}]
[{"$f":"IF(Data!#REF!=\"\",\"\",Data!#REF!)","v":{"$error":"#REF!"}},{"$f":"IF(Data!#REF!=\"\",\"\",Data!#REF!)","v":{"$error":"#REF!"}},{"$f":"IF(Data!#REF!=\"\",\"\",Data!#REF!)","v":{"$error":"#REF!"}},{"$f":"IF(Data!#REF!=\"\",\"\",Data!#REF!)","v":{"$error":"#REF!"}},{"$f":"IF(Data!#REF!=\"\",\"\",Data!#REF!)","v":{"$error":"#REF!"}},{"$error":"#REF!"},{"$error":"#REF!"},{"$error":"#REF!"}]
[{"$f":"IF(Data!#REF!=\"\",\"\",Data!#REF!)","v":{"$error":"#REF!"}},{"$f":"IF(Data!#REF!=\"\",\"\",Data!#REF!)","v":{"$error":"#REF!"}},{"$f":"IF(Data!#REF!=\"\",\"\",Data!#REF!)","v":{"$error":"#REF!"}},{"$f":"IF(Data!#REF!=\"\",\"\",Data!#REF!)","v":{"$error":"#REF!"}},{"$f":"IF(Data!#REF!=\"\",\"\",Data!#REF!)","v":{"$error":"#REF!"}},{"$error":"#REF!"},{"$error":"#REF!"},{"$error":"#REF!"}]
[{"$f":"IF(Data!#REF!=\"\",\"\",Data!#REF!)","v":{"$error":"#REF!"}},{"$f":"IF(Data!#REF!=\"\",\"\",Data!#REF!)","v":{"$error":"#REF!"}},{"$f":"IF(Data!#REF!=\"\",\"\",Data!#REF!)","v":{"$error":"#REF!"}},{"$f":"IF(Data!#REF!=\"\",\"\",Data!#REF!)","v":{"$error":"#REF!"}},{"$f":"IF(Data!#REF!=\"\",\"\",Data!#REF!)","v":{"$error":"#REF!"}},{"$error":"#REF!"},{"$error":"#REF!"},{"$error":"#REF!"}]
[{"$f":"IF(Data!#REF!=\"\",\"\",Data!#REF!)","v":{"$error":"#REF!"}},{"$f":"IF(Data!#REF!=\"\",\"\",Data!#REF!)","v":{"$error":"#REF!"}},{"$f":"IF(Data!#REF!=\"\",\"\",Data!#REF!)","v":{"$error":"#REF!"}},{"$f":"IF(Data!#REF!=\"\",\"\",Data!#REF!)","v":{"$error":"#REF!"}},{"$f":"IF(Data!#REF!=\"\",\"\",Data!#REF!)","v":{"$error":"#REF!"}},{"$error":"#REF!"},{"$error":"#REF!"},{"$error":"#REF!"}]
[{"$f":"IF(Data!#REF!=\"\",\"\",Data!#REF!)","v":{"$error":"#REF!"}},{"$f":"IF(Data!#REF!=\"\",\"\",Data!#REF!)","v":{"$error":"#REF!"}},{"$f":"IF(Data!#REF!=\"\",\"\",Data!#REF!)","v":{"$error":"#REF!"}},{"$f":"IF(Data!#REF!=\"\",\"\",Data!#REF!)","v":{"$error":"#REF!"}},{"$f":"IF(Data!#REF!=\"\",\"\",Data!#REF!)","v":{"$error":"#REF!"}},{"$error":"#REF!"},{"$error":"#REF!"},{"$error":"#REF!"}]
[{"$f":"IF(Data!#REF!=\"\",\"\",Data!#REF!)","v":{"$error":"#REF!"}},{"$f":"IF(Data!#REF!=\"\",\"\",Data!#REF!)","v":{"$error":"#REF!"}},{"$f":"IF(Data!#REF!=\"\",\"\",Data!#REF!)","v":{"$error":"#REF!"}},{"$f":"IF(Data!#REF!=\"\",\"\",Data!#REF!)","v":{"$error":"#REF!"}},{"$f":"IF(Data!#REF!=\"\",\"\",Data!#REF!)","v":{"$error":"#REF!"}},{"$error":"#REF!"},{"$error":"#REF!"},{"$error":"#REF!"}]
[{"$f":"IF(Data!#REF!=\"\",\"\",Data!#REF!)","v":{"$error":"#REF!"}},{"$f":"IF(Data!#REF!=\"\",\"\",Data!#REF!)","v":{"$error":"#REF!"}},{"$f":"IF(Data!#REF!=\"\",\"\",Data!#REF!)","v":{"$error":"#REF!"}},{"$f":"IF(Data!#REF!=\"\",\"\",Data!#REF!)","v":{"$error":"#REF!"}},{"$f":"IF(Data!#REF!=\"\",\"\",Data!#REF!)","v":{"$error":"#REF!"}},{"$error":"#REF!"},{"$error":"#REF!"},{"$error":"#REF!"}]
[{"$f":"IF(Data!#REF!=\"\",\"\",Data!#REF!)","v":{"$error":"#REF!"}},{"$f":"IF(Data!#REF!=\"\",\"\",Data!#REF!)","v":{"$error":"#REF!"}},{"$f":"IF(Data!#REF!=\"\",\"\",Data!#REF!)","v":{"$error":"#REF!"}},{"$f":"IF(Data!#REF!=\"\",\"\",Data!#REF!)","v":{"$error":"#REF!"}},{"$f":"IF(Data!#REF!=\"\",\"\",Data!#REF!)","v":{"$error":"#REF!"}},{"$f":"IF(E643>0,MONTH(E643),\"\")","v":{"$error":"#REF!"}},{"$f":"IF(E643>0,WEEKNUM(E643),\"0\")","v":{"$error":"#REF!"}},{"$f":"IF(G643>=($G$2-3),\"Ano\",\"Nie\")","v":{"$error":"#REF!"}}]
[{"$f":"IF(Data!#REF!=\"\",\"\",Data!#REF!)","v":{"$error":"#REF!"}},{"$f":"IF(Data!#REF!=\"\",\"\",Data!#REF!)","v":{"$error":"#REF!"}},{"$f":"IF(Data!#REF!=\"\",\"\",Data!#REF!)","v":{"$error":"#REF!"}},{"$f":"IF(Data!#REF!=\"\",\"\",Data!#REF!)","v":{"$error":"#REF!"}},{"$f":"IF(Data!#REF!=\"\",\"\",Data!#REF!)","v":{"$error":"#REF!"}},{"$error":"#REF!"},{"$error":"#REF!"},{"$error":"#REF!"}]
[{"$f":"IF(Data!#REF!=\"\",\"\",Data!#REF!)","v":{"$error":"#REF!"}},{"$f":"IF(Data!#REF!=\"\",\"\",Data!#REF!)","v":{"$error":"#REF!"}},{"$f":"IF(Data!#REF!=\"\",\"\",Data!#REF!)","v":{"$error":"#REF!"}},{"$f":"IF(Data!#REF!=\"\",\"\",Data!#REF!)","v":{"$error":"#REF!"}},{"$f":"IF(Data!#REF!=\"\",\"\",Data!#REF!)","v":{"$error":"#REF!"}},{"$error":"#REF!"},{"$error":"#REF!"},{"$error":"#REF!"}]
[{"$f":"IF(Data!#REF!=\"\",\"\",Data!#REF!)","v":{"$error":"#REF!"}},{"$f":"IF(Data!#REF!=\"\",\"\",Data!#REF!)","v":{"$error":"#REF!"}},{"$f":"IF(Data!#REF!=\"\",\"\",Data!#REF!)","v":{"$error":"#REF!"}},{"$f":"IF(Data!#REF!=\"\",\"\",Data!#REF!)","v":{"$error":"#REF!"}},{"$f":"IF(Data!#REF!=\"\",\"\",Data!#REF!)","v":{"$error":"#REF!"}},{"$error":"#REF!"},{"$error":"#REF!"},{"$error":"#REF!"}]
[{"$f":"IF(Data!#REF!=\"\",\"\",Data!#REF!)","v":{"$error":"#REF!"}},{"$f":"IF(Data!#REF!=\"\",\"\",Data!#REF!)","v":{"$error":"#REF!"}},{"$f":"IF(Data!#REF!=\"\",\"\",Data!#REF!)","v":{"$error":"#REF!"}},{"$f":"IF(Data!#REF!=\"\",\"\",Data!#REF!)","v":{"$error":"#REF!"}},{"$f":"IF(Data!#REF!=\"\",\"\",Data!#REF!)","v":{"$error":"#REF!"}},{"$error":"#REF!"},{"$error":"#REF!"},{"$error":"#REF!"}]
[{"$f":"IF(Data!#REF!=\"\",\"\",Data!#REF!)","v":{"$error":"#REF!"}},{"$f":"IF(Data!#REF!=\"\",\"\",Data!#REF!)","v":{"$error":"#REF!"}},{"$f":"IF(Data!#REF!=\"\",\"\",Data!#REF!)","v":{"$error":"#REF!"}},{"$f":"IF(Data!#REF!=\"\",\"\",Data!#REF!)","v":{"$error":"#REF!"}},{"$f":"IF(Data!#REF!=\"\",\"\",Data!#REF!)","v":{"$error":"#REF!"}},{"$error":"#REF!"},{"$error":"#REF!"},{"$error":"#REF!"}]
[{"$f":"IF(Data!#REF!=\"\",\"\",Data!#REF!)","v":{"$error":"#REF!"}},{"$f":"IF(Data!#REF!=\"\",\"\",Data!#REF!)","v":{"$error":"#REF!"}},{"$f":"IF(Data!#REF!=\"\",\"\",Data!#REF!)","v":{"$error":"#REF!"}},{"$f":"IF(Data!#REF!=\"\",\"\",Data!#REF!)","v":{"$error":"#REF!"}},{"$f":"IF(Data!#REF!=\"\",\"\",Data!#REF!)","v":{"$error":"#REF!"}},{"$error":"#REF!"},{"$error":"#REF!"},{"$error":"#REF!"}]
[{"$f":"IF(Data!#REF!=\"\",\"\",Data!#REF!)","v":{"$error":"#REF!"}},{"$f":"IF(Data!#REF!=\"\",\"\",Data!#REF!)","v":{"$error":"#REF!"}},{"$f":"IF(Data!#REF!=\"\",\"\",Data!#REF!)","v":{"$error":"#REF!"}},{"$f":"IF(Data!#REF!=\"\",\"\",Data!#REF!)","v":{"$error":"#REF!"}},{"$f":"IF(Data!#REF!=\"\",\"\",Data!#REF!)","v":{"$error":"#REF!"}},{"$error":"#REF!"},{"$error":"#REF!"},{"$error":"#REF!"}]
[{"$f":"IF(Data!#REF!=\"\",\"\",Data!#REF!)","v":{"$error":"#REF!"}},{"$f":"IF(Data!#REF!=\"\",\"\",Data!#REF!)","v":{"$error":"#REF!"}},{"$f":"IF(Data!#REF!=\"\",\"\",Data!#REF!)","v":{"$error":"#REF!"}},{"$f":"IF(Data!#REF!=\"\",\"\",Data!#REF!)","v":{"$error":"#REF!"}},{"$f":"IF(Data!#REF!=\"\",\"\",Data!#REF!)","v":{"$error":"#REF!"}},{"$error":"#REF!"},{"$error":"#REF!"},{"$error":"#REF!"}]
[{"$f":"IF(Data!#REF!=\"\",\"\",Data!#REF!)","v":{"$error":"#REF!"}},{"$f":"IF(Data!#REF!=\"\",\"\",Data!#REF!)","v":{"$error":"#REF!"}},{"$f":"IF(Data!#REF!=\"\",\"\",Data!#REF!)","v":{"$error":"#REF!"}},{"$f":"IF(Data!#REF!=\"\",\"\",Data!#REF!)","v":{"$error":"#REF!"}},{"$f":"IF(Data!#REF!=\"\",\"\",Data!#REF!)","v":{"$error":"#REF!"}},{"$error":"#REF!"},{"$error":"#REF!"},{"$error":"#REF!"}]
[{"$f":"IF(Data!#REF!=\"\",\"\",Data!#REF!)","v":{"$error":"#REF!"}},{"$f":"IF(Data!#REF!=\"\",\"\",Data!#REF!)","v":{"$error":"#REF!"}},{"$f":"IF(Data!#REF!=\"\",\"\",Data!#REF!)","v":{"$error":"#REF!"}},{"$f":"IF(Data!#REF!=\"\",\"\",Data!#REF!)","v":{"$error":"#REF!"}},{"$f":"IF(Data!#REF!=\"\",\"\",Data!#REF!)","v":{"$error":"#REF!"}},{"$error":"#REF!"},{"$error":"#REF!"},{"$error":"#REF!"}]
[{"$f":"IF(Data!#REF!=\"\",\"\",Data!#REF!)","v":{"$error":"#REF!"}},{"$f":"IF(Data!#REF!=\"\",\"\",Data!#REF!)","v":{"$error":"#REF!"}},{"$f":"IF(Data!#REF!=\"\",\"\",Data!#REF!)","v":{"$error":"#REF!"}},{"$f":"IF(Data!#REF!=\"\",\"\",Data!#REF!)","v":{"$error":"#REF!"}},{"$f":"IF(Data!#REF!=\"\",\"\",Data!#REF!)","v":{"$error":"#REF!"}},{"$error":"#REF!"},{"$error":"#REF!"},{"$error":"#REF!"}]
[{"$f":"IF(Data!#REF!=\"\",\"\",Data!#REF!)","v":{"$error":"#REF!"}},{"$f":"IF(Data!#REF!=\"\",\"\",Data!#REF!)","v":{"$error":"#REF!"}},{"$f":"IF(Data!#REF!=\"\",\"\",Data!#REF!)","v":{"$error":"#REF!"}},{"$f":"IF(Data!#REF!=\"\",\"\",Data!#REF!)","v":{"$error":"#REF!"}},{"$f":"IF(Data!#REF!=\"\",\"\",Data!#REF!)","v":{"$error":"#REF!"}},{"$error":"#REF!"},{"$error":"#REF!"},{"$error":"#REF!"}]
[{"$f":"IF(Data!#REF!=\"\",\"\",Data!#REF!)","v":{"$error":"#REF!"}},{"$f":"IF(Data!#REF!=\"\",\"\",Data!#REF!)","v":{"$error":"#REF!"}},{"$f":"IF(Data!#REF!=\"\",\"\",Data!#REF!)","v":{"$error":"#REF!"}},{"$f":"IF(Data!#REF!=\"\",\"\",Data!#REF!)","v":{"$error":"#REF!"}},{"$f":"IF(Data!#REF!=\"\",\"\",Data!#REF!)","v":{"$error":"#REF!"}},{"$error":"#REF!"},{"$error":"#REF!"},{"$error":"#REF!"}]
[{"$f":"IF(Data!#REF!=\"\",\"\",Data!#REF!)","v":{"$error":"#REF!"}},{"$f":"IF(Data!#REF!=\"\",\"\",Data!#REF!)","v":{"$error":"#REF!"}},{"$f":"IF(Data!#REF!=\"\",\"\",Data!#REF!)","v":{"$error":"#REF!"}},{"$f":"IF(Data!#REF!=\"\",\"\",Data!#REF!)","v":{"$error":"#REF!"}},{"$f":"IF(Data!#REF!=\"\",\"\",Data!#REF!)","v":{"$error":"#REF!"}},{"$error":"#REF!"},{"$error":"#REF!"},{"$error":"#REF!"}]
[{"$f":"IF(Data!#REF!=\"\",\"\",Data!#REF!)","v":{"$error":"#REF!"}},{"$f":"IF(Data!#REF!=\"\",\"\",Data!#REF!)","v":{"$error":"#REF!"}},{"$f":"IF(Data!#REF!=\"\",\"\",Data!#REF!)","v":{"$error":"#REF!"}},{"$f":"IF(Data!#REF!=\"\",\"\",Data!#REF!)","v":{"$error":"#REF!"}},{"$f":"IF(Data!#REF!=\"\",\"\",Data!#REF!)","v":{"$error":"#REF!"}},{"$error":"#REF!"},{"$error":"#REF!"},{"$error":"#REF!"}]
[{"$f":"IF(Data!#REF!=\"\",\"\",Data!#REF!)","v":{"$error":"#REF!"}},{"$f":"IF(Data!#REF!=\"\",\"\",Data!#REF!)","v":{"$error":"#REF!"}},{"$f":"IF(Data!#REF!=\"\",\"\",Data!#REF!)","v":{"$error":"#REF!"}},{"$f":"IF(Data!#REF!=\"\",\"\",Data!#REF!)","v":{"$error":"#REF!"}},{"$f":"IF(Data!#REF!=\"\",\"\",Data!#REF!)","v":{"$error":"#REF!"}},{"$error":"#REF!"},{"$error":"#REF!"},{"$error":"#REF!"}]
[{"$f":"IF(Data!#REF!=\"\",\"\",Data!#REF!)","v":{"$error":"#REF!"}},{"$f":"IF(Data!#REF!=\"\",\"\",Data!#REF!)","v":{"$error":"#REF!"}},{"$f":"IF(Data!#REF!=\"\",\"\",Data!#REF!)","v":{"$error":"#REF!"}},{"$f":"IF(Data!#REF!=\"\",\"\",Data!#REF!)","v":{"$error":"#REF!"}},{"$f":"IF(Data!#REF!=\"\",\"\",Data!#REF!)","v":{"$error":"#REF!"}},{"$error":"#REF!"},{"$error":"#REF!"},{"$error":"#REF!"}]
[{"$f":"IF(Data!#REF!=\"\",\"\",Data!#REF!)","v":{"$error":"#REF!"}},{"$f":"IF(Data!#REF!=\"\",\"\",Data!#REF!)","v":{"$error":"#REF!"}},{"$f":"IF(Data!#REF!=\"\",\"\",Data!#REF!)","v":{"$error":"#REF!"}},{"$f":"IF(Data!#REF!=\"\",\"\",Data!#REF!)","v":{"$error":"#REF!"}},{"$f":"IF(Data!#REF!=\"\",\"\",Data!#REF!)","v":{"$error":"#REF!"}},{"$error":"#REF!"},{"$error":"#REF!"},{"$error":"#REF!"}]
[{"$f":"IF(Data!#REF!=\"\",\"\",Data!#REF!)","v":{"$error":"#REF!"}},{"$f":"IF(Data!#REF!=\"\",\"\",Data!#REF!)","v":{"$error":"#REF!"}},{"$f":"IF(Data!#REF!=\"\",\"\",Data!#REF!)","v":{"$error":"#REF!"}},{"$f":"IF(Data!#REF!=\"\",\"\",Data!#REF!)","v":{"$error":"#REF!"}},{"$f":"IF(Data!#REF!=\"\",\"\",Data!#REF!)","v":{"$error":"#REF!"}},{"$error":"#REF!"},{"$error":"#REF!"},{"$error":"#REF!"}]
[{"$f":"IF(Data!#REF!=\"\",\"\",Data!#REF!)","v":{"$error":"#REF!"}},{"$f":"IF(Data!#REF!=\"\",\"\",Data!#REF!)","v":{"$error":"#REF!"}},{"$f":"IF(Data!#REF!=\"\",\"\",Data!#REF!)","v":{"$error":"#REF!"}},{"$f":"IF(Data!#REF!=\"\",\"\",Data!#REF!)","v":{"$error":"#REF!"}},{"$f":"IF(Data!#REF!=\"\",\"\",Data!#REF!)","v":{"$error":"#REF!"}},{"$error":"#REF!"},{"$error":"#REF!"},{"$error":"#REF!"}]
[{"$f":"IF(Data!#REF!=\"\",\"\",Data!#REF!)","v":{"$error":"#REF!"}},{"$f":"IF(Data!#REF!=\"\",\"\",Data!#REF!)","v":{"$error":"#REF!"}},{"$f":"IF(Data!#REF!=\"\",\"\",Data!#REF!)","v":{"$error":"#REF!"}},{"$f":"IF(Data!#REF!=\"\",\"\",Data!#REF!)","v":{"$error":"#REF!"}},{"$f":"IF(Data!#REF!=\"\",\"\",Data!#REF!)","v":{"$error":"#REF!"}},{"$error":"#REF!"},{"$error":"#REF!"},{"$error":"#REF!"}]
[{"$f":"IF(Data!#REF!=\"\",\"\",Data!#REF!)","v":{"$error":"#REF!"}},{"$f":"IF(Data!#REF!=\"\",\"\",Data!#REF!)","v":{"$error":"#REF!"}},{"$f":"IF(Data!#REF!=\"\",\"\",Data!#REF!)","v":{"$error":"#REF!"}},{"$f":"IF(Data!#REF!=\"\",\"\",Data!#REF!)","v":{"$error":"#REF!"}},{"$f":"IF(Data!#REF!=\"\",\"\",Data!#REF!)","v":{"$error":"#REF!"}},{"$error":"#REF!"},{"$error":"#REF!"},{"$error":"#REF!"}]
[{"$f":"IF(Data!#REF!=\"\",\"\",Data!#REF!)","v":{"$error":"#REF!"}},{"$f":"IF(Data!#REF!=\"\",\"\",Data!#REF!)","v":{"$error":"#REF!"}},{"$f":"IF(Data!#REF!=\"\",\"\",Data!#REF!)","v":{"$error":"#REF!"}},{"$f":"IF(Data!#REF!=\"\",\"\",Data!#REF!)","v":{"$error":"#REF!"}},{"$f":"IF(Data!#REF!=\"\",\"\",Data!#REF!)","v":{"$error":"#REF!"}},{"$error":"#REF!"},{"$error":"#REF!"},{"$error":"#REF!"}]
[{"$f":"IF(Data!#REF!=\"\",\"\",Data!#REF!)","v":{"$error":"#REF!"}},{"$f":"IF(Data!#REF!=\"\",\"\",Data!#REF!)","v":{"$error":"#REF!"}},{"$f":"IF(Data!#REF!=\"\",\"\",Data!#REF!)","v":{"$error":"#REF!"}},{"$f":"IF(Data!#REF!=\"\",\"\",Data!#REF!)","v":{"$error":"#REF!"}},{"$f":"IF(Data!#REF!=\"\",\"\",Data!#REF!)","v":{"$error":"#REF!"}},{"$error":"#REF!"},{"$error":"#REF!"},{"$error":"#REF!"}]
[{"$f":"IF(Data!#REF!=\"\",\"\",Data!#REF!)","v":{"$error":"#REF!"}},{"$f":"IF(Data!#REF!=\"\",\"\",Data!#REF!)","v":{"$error":"#REF!"}},{"$f":"IF(Data!#REF!=\"\",\"\",Data!#REF!)","v":{"$error":"#REF!"}},{"$f":"IF(Data!#REF!=\"\",\"\",Data!#REF!)","v":{"$error":"#REF!"}},{"$f":"IF(Data!#REF!=\"\",\"\",Data!#REF!)","v":{"$error":"#REF!"}},{"$error":"#REF!"},{"$error":"#REF!"},{"$error":"#REF!"}]
[{"$f":"IF(Data!#REF!=\"\",\"\",Data!#REF!)","v":{"$error":"#REF!"}},{"$f":"IF(Data!#REF!=\"\",\"\",Data!#REF!)","v":{"$error":"#REF!"}},{"$f":"IF(Data!#REF!=\"\",\"\",Data!#REF!)","v":{"$error":"#REF!"}},{"$f":"IF(Data!#REF!=\"\",\"\",Data!#REF!)","v":{"$error":"#REF!"}},{"$f":"IF(Data!#REF!=\"\",\"\",Data!#REF!)","v":{"$error":"#REF!"}},{"$error":"#REF!"},{"$error":"#REF!"},{"$error":"#REF!"}]
[{"$f":"IF(Data!#REF!=\"\",\"\",Data!#REF!)","v":{"$error":"#REF!"}},{"$f":"IF(Data!#REF!=\"\",\"\",Data!#REF!)","v":{"$error":"#REF!"}},{"$f":"IF(Data!#REF!=\"\",\"\",Data!#REF!)","v":{"$error":"#REF!"}},{"$f":"IF(Data!#REF!=\"\",\"\",Data!#REF!)","v":{"$error":"#REF!"}},{"$f":"IF(Data!#REF!=\"\",\"\",Data!#REF!)","v":{"$error":"#REF!"}},{"$error":"#REF!"},{"$error":"#REF!"},{"$error":"#REF!"}]
[{"$f":"IF(Data!#REF!=\"\",\"\",Data!#REF!)","v":{"$error":"#REF!"}},{"$f":"IF(Data!#REF!=\"\",\"\",Data!#REF!)","v":{"$error":"#REF!"}},{"$f":"IF(Data!#REF!=\"\",\"\",Data!#REF!)","v":{"$error":"#REF!"}},{"$f":"IF(Data!#REF!=\"\",\"\",Data!#REF!)","v":{"$error":"#REF!"}},{"$f":"IF(Data!#REF!=\"\",\"\",Data!#REF!)","v":{"$error":"#REF!"}},{"$error":"#REF!"},{"$error":"#REF!"},{"$error":"#REF!"}]
[{"$f":"IF(Data!#REF!=\"\",\"\",Data!#REF!)","v":{"$error":"#REF!"}},{"$f":"IF(Data!#REF!=\"\",\"\",Data!#REF!)","v":{"$error":"#REF!"}},{"$f":"IF(Data!#REF!=\"\",\"\",Data!#REF!)","v":{"$error":"#REF!"}},{"$f":"IF(Data!#REF!=\"\",\"\",Data!#REF!)","v":{"$error":"#REF!"}},{"$f":"IF(Data!#REF!=\"\",\"\",Data!#REF!)","v":{"$error":"#REF!"}},{"$error":"#REF!"},{"$error":"#REF!"},{"$error":"#REF!"}]
[{"$f":"IF(Data!#REF!=\"\",\"\",Data!#REF!)","v":{"$error":"#REF!"}},{"$f":"IF(Data!#REF!=\"\",\"\",Data!#REF!)","v":{"$error":"#REF!"}},{"$f":"IF(Data!#REF!=\"\",\"\",Data!#REF!)","v":{"$error":"#REF!"}},{"$f":"IF(Data!#REF!=\"\",\"\",Data!#REF!)","v":{"$error":"#REF!"}},{"$f":"IF(Data!#REF!=\"\",\"\",Data!#REF!)","v":{"$error":"#REF!"}},{"$error":"#REF!"},{"$error":"#REF!"},{"$error":"#REF!"}]
[{"$f":"IF(Data!#REF!=\"\",\"\",Data!#REF!)","v":{"$error":"#REF!"}},{"$f":"IF(Data!#REF!=\"\",\"\",Data!#REF!)","v":{"$error":"#REF!"}},{"$f":"IF(Data!#REF!=\"\",\"\",Data!#REF!)","v":{"$error":"#REF!"}},{"$f":"IF(Data!#REF!=\"\",\"\",Data!#REF!)","v":{"$error":"#REF!"}},{"$f":"IF(Data!#REF!=\"\",\"\",Data!#REF!)","v":{"$error":"#REF!"}},{"$error":"#REF!"},{"$error":"#REF!"},{"$error":"#REF!"}]
[{"$f":"IF(Data!#REF!=\"\",\"\",Data!#REF!)","v":{"$error":"#REF!"}},{"$f":"IF(Data!#REF!=\"\",\"\",Data!#REF!)","v":{"$error":"#REF!"}},{"$f":"IF(Data!#REF!=\"\",\"\",Data!#REF!)","v":{"$error":"#REF!"}},{"$f":"IF(Data!#REF!=\"\",\"\",Data!#REF!)","v":{"$error":"#REF!"}},{"$f":"IF(Data!#REF!=\"\",\"\",Data!#REF!)","v":{"$error":"#REF!"}},{"$error":"#REF!"},{"$error":"#REF!"},{"$error":"#REF!"}]
[{"$f":"IF(Data!#REF!=\"\",\"\",Data!#REF!)","v":{"$error":"#REF!"}},{"$f":"IF(Data!#REF!=\"\",\"\",Data!#REF!)","v":{"$error":"#REF!"}},{"$f":"IF(Data!#REF!=\"\",\"\",Data!#REF!)","v":{"$error":"#REF!"}},{"$f":"IF(Data!#REF!=\"\",\"\",Data!#REF!)","v":{"$error":"#REF!"}},{"$f":"IF(Data!#REF!=\"\",\"\",Data!#REF!)","v":{"$error":"#REF!"}},{"$error":"#REF!"},{"$error":"#REF!"},{"$error":"#REF!"}]
[{"$f":"IF(Data!#REF!=\"\",\"\",Data!#REF!)","v":{"$error":"#REF!"}},{"$f":"IF(Data!#REF!=\"\",\"\",Data!#REF!)","v":{"$error":"#REF!"}},{"$f":"IF(Data!#REF!=\"\",\"\",Data!#REF!)","v":{"$error":"#REF!"}},{"$f":"IF(Data!#REF!=\"\",\"\",Data!#REF!)","v":{"$error":"#REF!"}},{"$f":"IF(Data!#REF!=\"\",\"\",Data!#REF!)","v":{"$error":"#REF!"}},{"$error":"#REF!"},{"$error":"#REF!"},{"$error":"#REF!"}]
[{"$f":"IF(Data!#REF!=\"\",\"\",Data!#REF!)","v":{"$error":"#REF!"}},{"$f":"IF(Data!#REF!=\"\",\"\",Data!#REF!)","v":{"$error":"#REF!"}},{"$f":"IF(Data!#REF!=\"\",\"\",Data!#REF!)","v":{"$error":"#REF!"}},{"$f":"IF(Data!#REF!=\"\",\"\",Data!#REF!)","v":{"$error":"#REF!"}},{"$f":"IF(Data!#REF!=\"\",\"\",Data!#REF!)","v":{"$error":"#REF!"}},{"$error":"#REF!"},{"$error":"#REF!"},{"$error":"#REF!"}]
[{"$f":"IF(Data!#REF!=\"\",\"\",Data!#REF!)","v":{"$error":"#REF!"}},{"$f":"IF(Data!#REF!=\"\",\"\",Data!#REF!)","v":{"$error":"#REF!"}},{"$f":"IF(Data!#REF!=\"\",\"\",Data!#REF!)","v":{"$error":"#REF!"}},{"$f":"IF(Data!#REF!=\"\",\"\",Data!#REF!)","v":{"$error":"#REF!"}},{"$f":"IF(Data!#REF!=\"\",\"\",Data!#REF!)","v":{"$error":"#REF!"}},{"$error":"#REF!"},{"$error":"#REF!"},{"$error":"#REF!"}]
[{"$f":"IF(Data!#REF!=\"\",\"\",Data!#REF!)","v":{"$error":"#REF!"}},{"$f":"IF(Data!#REF!=\"\",\"\",Data!#REF!)","v":{"$error":"#REF!"}},{"$f":"IF(Data!#REF!=\"\",\"\",Data!#REF!)","v":{"$error":"#REF!"}},{"$f":"IF(Data!#REF!=\"\",\"\",Data!#REF!)","v":{"$error":"#REF!"}},{"$f":"IF(Data!#REF!=\"\",\"\",Data!#REF!)","v":{"$error":"#REF!"}},{"$error":"#REF!"},{"$error":"#REF!"},{"$error":"#REF!"}]
[{"$f":"IF(Data!#REF!=\"\",\"\",Data!#REF!)","v":{"$error":"#REF!"}},{"$f":"IF(Data!#REF!=\"\",\"\",Data!#REF!)","v":{"$error":"#REF!"}},{"$f":"IF(Data!#REF!=\"\",\"\",Data!#REF!)","v":{"$error":"#REF!"}},{"$f":"IF(Data!#REF!=\"\",\"\",Data!#REF!)","v":{"$error":"#REF!"}},{"$f":"IF(Data!#REF!=\"\",\"\",Data!#REF!)","v":{"$error":"#REF!"}},{"$error":"#REF!"},{"$error":"#REF!"},{"$error":"#REF!"}]
[{"$f":"IF(Data!#REF!=\"\",\"\",Data!#REF!)","v":{"$error":"#REF!"}},{"$f":"IF(Data!#REF!=\"\",\"\",Data!#REF!)","v":{"$error":"#REF!"}},{"$f":"IF(Data!#REF!=\"\",\"\",Data!#REF!)","v":{"$error":"#REF!"}},{"$f":"IF(Data!#REF!=\"\",\"\",Data!#REF!)","v":{"$error":"#REF!"}},{"$f":"IF(Data!#REF!=\"\",\"\",Data!#REF!)","v":{"$error":"#REF!"}},{"$error":"#REF!"},{"$error":"#REF!"},{"$error":"#REF!"}]
[{"$f":"IF(Data!#REF!=\"\",\"\",Data!#REF!)","v":{"$error":"#REF!"}},{"$f":"IF(Data!#REF!=\"\",\"\",Data!#REF!)","v":{"$error":"#REF!"}},{"$f":"IF(Data!#REF!=\"\",\"\",Data!#REF!)","v":{"$error":"#REF!"}},{"$f":"IF(Data!#REF!=\"\",\"\",Data!#REF!)","v":{"$error":"#REF!"}},{"$f":"IF(Data!#REF!=\"\",\"\",Data!#REF!)","v":{"$error":"#REF!"}},{"$error":"#REF!"},{"$error":"#REF!"},{"$error":"#REF!"}]
[{"$f":"IF(Data!#REF!=\"\",\"\",Data!#REF!)","v":{"$error":"#REF!"}},{"$f":"IF(Data!#REF!=\"\",\"\",Data!#REF!)","v":{"$error":"#REF!"}},{"$f":"IF(Data!#REF!=\"\",\"\",Data!#REF!)","v":{"$error":"#REF!"}},{"$f":"IF(Data!#REF!=\"\",\"\",Data!#REF!)","v":{"$error":"#REF!"}},{"$f":"IF(Data!#REF!=\"\",\"\",Data!#REF!)","v":{"$error":"#REF!"}},{"$error":"#REF!"},{"$error":"#REF!"},{"$error":"#REF!"}]
[{"$f":"IF(Data!#REF!=\"\",\"\",Data!#REF!)","v":{"$error":"#REF!"}},{"$f":"IF(Data!#REF!=\"\",\"\",Data!#REF!)","v":{"$error":"#REF!"}},{"$f":"IF(Data!#REF!=\"\",\"\",Data!#REF!)","v":{"$error":"#REF!"}},{"$f":"IF(Data!#REF!=\"\",\"\",Data!#REF!)","v":{"$error":"#REF!"}},{"$f":"IF(Data!#REF!=\"\",\"\",Data!#REF!)","v":{"$error":"#REF!"}},{"$error":"#REF!"},{"$error":"#REF!"},{"$error":"#REF!"}]
[{"$f":"IF(Data!#REF!=\"\",\"\",Data!#REF!)","v":{"$error":"#REF!"}},{"$f":"IF(Data!#REF!=\"\",\"\",Data!#REF!)","v":{"$error":"#REF!"}},{"$f":"IF(Data!#REF!=\"\",\"\",Data!#REF!)","v":{"$error":"#REF!"}},{"$f":"IF(Data!#REF!=\"\",\"\",Data!#REF!)","v":{"$error":"#REF!"}},{"$f":"IF(Data!#REF!=\"\",\"\",Data!#REF!)","v":{"$error":"#REF!"}},{"$error":"#REF!"},{"$error":"#REF!"},{"$error":"#REF!"}]
[{"$f":"IF(Data!#REF!=\"\",\"\",Data!#REF!)","v":{"$error":"#REF!"}},{"$f":"IF(Data!#REF!=\"\",\"\",Data!#REF!)","v":{"$error":"#REF!"}},{"$f":"IF(Data!#REF!=\"\",\"\",Data!#REF!)","v":{"$error":"#REF!"}},{"$f":"IF(Data!#REF!=\"\",\"\",Data!#REF!)","v":{"$error":"#REF!"}},{"$f":"IF(Data!#REF!=\"\",\"\",Data!#REF!)","v":{"$error":"#REF!"}},{"$error":"#REF!"},{"$error":"#REF!"},{"$error":"#REF!"}]
[{"$f":"IF(Data!#REF!=\"\",\"\",Data!#REF!)","v":{"$error":"#REF!"}},{"$f":"IF(Data!#REF!=\"\",\"\",Data!#REF!)","v":{"$error":"#REF!"}},{"$f":"IF(Data!#REF!=\"\",\"\",Data!#REF!)","v":{"$error":"#REF!"}},{"$f":"IF(Data!#REF!=\"\",\"\",Data!#REF!)","v":{"$error":"#REF!"}},{"$f":"IF(Data!#REF!=\"\",\"\",Data!#REF!)","v":{"$error":"#REF!"}},{"$error":"#REF!"},{"$error":"#REF!"},{"$error":"#REF!"}]
[{"$f":"IF(Data!#REF!=\"\",\"\",Data!#REF!)","v":{"$error":"#REF!"}},{"$f":"IF(Data!#REF!=\"\",\"\",Data!#REF!)","v":{"$error":"#REF!"}},{"$f":"IF(Data!#REF!=\"\",\"\",Data!#REF!)","v":{"$error":"#REF!"}},{"$f":"IF(Data!#REF!=\"\",\"\",Data!#REF!)","v":{"$error":"#REF!"}},{"$f":"IF(Data!#REF!=\"\",\"\",Data!#REF!)","v":{"$error":"#REF!"}},{"$error":"#REF!"},{"$error":"#REF!"},{"$error":"#REF!"}]
[{"$f":"IF(Data!#REF!=\"\",\"\",Data!#REF!)","v":{"$error":"#REF!"}},{"$f":"IF(Data!#REF!=\"\",\"\",Data!#REF!)","v":{"$error":"#REF!"}},{"$f":"IF(Data!#REF!=\"\",\"\",Data!#REF!)","v":{"$error":"#REF!"}},{"$f":"IF(Data!#REF!=\"\",\"\",Data!#REF!)","v":{"$error":"#REF!"}},{"$f":"IF(Data!#REF!=\"\",\"\",Data!#REF!)","v":{"$error":"#REF!"}},{"$error":"#REF!"},{"$error":"#REF!"},{"$error":"#REF!"}]
[{"$f":"IF(Data!#REF!=\"\",\"\",Data!#REF!)","v":{"$error":"#REF!"}},{"$f":"IF(Data!#REF!=\"\",\"\",Data!#REF!)","v":{"$error":"#REF!"}},{"$f":"IF(Data!#REF!=\"\",\"\",Data!#REF!)","v":{"$error":"#REF!"}},{"$f":"IF(Data!#REF!=\"\",\"\",Data!#REF!)","v":{"$error":"#REF!"}},{"$f":"IF(Data!#REF!=\"\",\"\",Data!#REF!)","v":{"$error":"#REF!"}},{"$error":"#REF!"},{"$error":"#REF!"},{"$error":"#REF!"}]
[{"$f":"IF(Data!#REF!=\"\",\"\",Data!#REF!)","v":{"$error":"#REF!"}},{"$f":"IF(Data!#REF!=\"\",\"\",Data!#REF!)","v":{"$error":"#REF!"}},{"$f":"IF(Data!#REF!=\"\",\"\",Data!#REF!)","v":{"$error":"#REF!"}},{"$f":"IF(Data!#REF!=\"\",\"\",Data!#REF!)","v":{"$error":"#REF!"}},{"$f":"IF(Data!#REF!=\"\",\"\",Data!#REF!)","v":{"$error":"#REF!"}},{"$error":"#REF!"},{"$error":"#REF!"},{"$error":"#REF!"}]
[{"$f":"IF(Data!#REF!=\"\",\"\",Data!#REF!)","v":{"$error":"#REF!"}},{"$f":"IF(Data!#REF!=\"\",\"\",Data!#REF!)","v":{"$error":"#REF!"}},{"$f":"IF(Data!#REF!=\"\",\"\",Data!#REF!)","v":{"$error":"#REF!"}},{"$f":"IF(Data!#REF!=\"\",\"\",Data!#REF!)","v":{"$error":"#REF!"}},{"$f":"IF(Data!#REF!=\"\",\"\",Data!#REF!)","v":{"$error":"#REF!"}},{"$error":"#REF!"},{"$error":"#REF!"},{"$error":"#REF!"}]
[{"$f":"IF(Data!#REF!=\"\",\"\",Data!#REF!)","v":{"$error":"#REF!"}},{"$f":"IF(Data!#REF!=\"\",\"\",Data!#REF!)","v":{"$error":"#REF!"}},{"$f":"IF(Data!#REF!=\"\",\"\",Data!#REF!)","v":{"$error":"#REF!"}},{"$f":"IF(Data!#REF!=\"\",\"\",Data!#REF!)","v":{"$error":"#REF!"}},{"$f":"IF(Data!#REF!=\"\",\"\",Data!#REF!)","v":{"$error":"#REF!"}},{"$error":"#REF!"},{"$error":"#REF!"},{"$error":"#REF!"}]
[{"$f":"IF(Data!#REF!=\"\",\"\",Data!#REF!)","v":{"$error":"#REF!"}},{"$f":"IF(Data!#REF!=\"\",\"\",Data!#REF!)","v":{"$error":"#REF!"}},{"$f":"IF(Data!#REF!=\"\",\"\",Data!#REF!)","v":{"$error":"#REF!"}},{"$f":"IF(Data!#REF!=\"\",\"\",Data!#REF!)","v":{"$error":"#REF!"}},{"$f":"IF(Data!#REF!=\"\",\"\",Data!#REF!)","v":{"$error":"#REF!"}},{"$error":"#REF!"},{"$error":"#REF!"},{"$error":"#REF!"}]
[{"$f":"IF(Data!#REF!=\"\",\"\",Data!#REF!)","v":{"$error":"#REF!"}},{"$f":"IF(Data!#REF!=\"\",\"\",Data!#REF!)","v":{"$error":"#REF!"}},{"$f":"IF(Data!#REF!=\"\",\"\",Data!#REF!)","v":{"$error":"#REF!"}},{"$f":"IF(Data!#REF!=\"\",\"\",Data!#REF!)","v":{"$error":"#REF!"}},{"$f":"IF(Data!#REF!=\"\",\"\",Data!#REF!)","v":{"$error":"#REF!"}},{"$error":"#REF!"},{"$error":"#REF!"},{"$error":"#REF!"}]
[{"$f":"IF(Data!#REF!=\"\",\"\",Data!#REF!)","v":{"$error":"#REF!"}},{"$f":"IF(Data!#REF!=\"\",\"\",Data!#REF!)","v":{"$error":"#REF!"}},{"$f":"IF(Data!#REF!=\"\",\"\",Data!#REF!)","v":{"$error":"#REF!"}},{"$f":"IF(Data!#REF!=\"\",\"\",Data!#REF!)","v":{"$error":"#REF!"}},{"$f":"IF(Data!#REF!=\"\",\"\",Data!#REF!)","v":{"$error":"#REF!"}},{"$error":"#REF!"},{"$error":"#REF!"},{"$error":"#REF!"}]
[{"$f":"IF(Data!#REF!=\"\",\"\",Data!#REF!)","v":{"$error":"#REF!"}},{"$f":"IF(Data!#REF!=\"\",\"\",Data!#REF!)","v":{"$error":"#REF!"}},{"$f":"IF(Data!#REF!=\"\",\"\",Data!#REF!)","v":{"$error":"#REF!"}},{"$f":"IF(Data!#REF!=\"\",\"\",Data!#REF!)","v":{"$error":"#REF!"}},{"$f":"IF(Data!#REF!=\"\",\"\",Data!#REF!)","v":{"$error":"#REF!"}},{"$error":"#REF!"},{"$error":"#REF!"},{"$error":"#REF!"}]
[{"$f":"IF(Data!#REF!=\"\",\"\",Data!#REF!)","v":{"$error":"#REF!"}},{"$f":"IF(Data!#REF!=\"\",\"\",Data!#REF!)","v":{"$error":"#REF!"}},{"$f":"IF(Data!#REF!=\"\",\"\",Data!#REF!)","v":{"$error":"#REF!"}},{"$f":"IF(Data!#REF!=\"\",\"\",Data!#REF!)","v":{"$error":"#REF!"}},{"$f":"IF(Data!#REF!=\"\",\"\",Data!#REF!)","v":{"$error":"#REF!"}},{"$error":"#REF!"},{"$error":"#REF!"},{"$error":"#REF!"}]
[{"$f":"IF(Data!#REF!=\"\",\"\",Data!#REF!)","v":{"$error":"#REF!"}},{"$f":"IF(Data!#REF!=\"\",\"\",Data!#REF!)","v":{"$error":"#REF!"}},{"$f":"IF(Data!#REF!=\"\",\"\",Data!#REF!)","v":{"$error":"#REF!"}},{"$f":"IF(Data!#REF!=\"\",\"\",Data!#REF!)","v":{"$error":"#REF!"}},{"$f":"IF(Data!#REF!=\"\",\"\",Data!#REF!)","v":{"$error":"#REF!"}},{"$error":"#REF!"},{"$error":"#REF!"},{"$error":"#REF!"}]
[{"$f":"IF(Data!#REF!=\"\",\"\",Data!#REF!)","v":{"$error":"#REF!"}},{"$f":"IF(Data!#REF!=\"\",\"\",Data!#REF!)","v":{"$error":"#REF!"}},{"$f":"IF(Data!#REF!=\"\",\"\",Data!#REF!)","v":{"$error":"#REF!"}},{"$f":"IF(Data!#REF!=\"\",\"\",Data!#REF!)","v":{"$error":"#REF!"}},{"$f":"IF(Data!#REF!=\"\",\"\",Data!#REF!)","v":{"$error":"#REF!"}},{"$error":"#REF!"},{"$error":"#REF!"},{"$error":"#REF!"}]
[{"$f":"IF(Data!#REF!=\"\",\"\",Data!#REF!)","v":{"$error":"#REF!"}},{"$f":"IF(Data!#REF!=\"\",\"\",Data!#REF!)","v":{"$error":"#REF!"}},{"$f":"IF(Data!#REF!=\"\",\"\",Data!#REF!)","v":{"$error":"#REF!"}},{"$f":"IF(Data!#REF!=\"\",\"\",Data!#REF!)","v":{"$error":"#REF!"}},{"$f":"IF(Data!#REF!=\"\",\"\",Data!#REF!)","v":{"$error":"#REF!"}},{"$error":"#REF!"},{"$error":"#REF!"},{"$error":"#REF!"}]
[{"$f":"IF(Data!#REF!=\"\",\"\",Data!#REF!)","v":{"$error":"#REF!"}},{"$f":"IF(Data!#REF!=\"\",\"\",Data!#REF!)","v":{"$error":"#REF!"}},{"$f":"IF(Data!#REF!=\"\",\"\",Data!#REF!)","v":{"$error":"#REF!"}},{"$f":"IF(Data!#REF!=\"\",\"\",Data!#REF!)","v":{"$error":"#REF!"}},{"$f":"IF(Data!#REF!=\"\",\"\",Data!#REF!)","v":{"$error":"#REF!"}},{"$error":"#REF!"},{"$error":"#REF!"},{"$error":"#REF!"}]
[{"$f":"IF(Data!#REF!=\"\",\"\",Data!#REF!)","v":{"$error":"#REF!"}},{"$f":"IF(Data!#REF!=\"\",\"\",Data!#REF!)","v":{"$error":"#REF!"}},{"$f":"IF(Data!#REF!=\"\",\"\",Data!#REF!)","v":{"$error":"#REF!"}},{"$f":"IF(Data!#REF!=\"\",\"\",Data!#REF!)","v":{"$error":"#REF!"}},{"$f":"IF(Data!#REF!=\"\",\"\",Data!#REF!)","v":{"$error":"#REF!"}},{"$error":"#REF!"},{"$error":"#REF!"},{"$error":"#REF!"}]
[{"$f":"IF(Data!#REF!=\"\",\"\",Data!#REF!)","v":{"$error":"#REF!"}},{"$f":"IF(Data!#REF!=\"\",\"\",Data!#REF!)","v":{"$error":"#REF!"}},{"$f":"IF(Data!#REF!=\"\",\"\",Data!#REF!)","v":{"$error":"#REF!"}},{"$f":"IF(Data!#REF!=\"\",\"\",Data!#REF!)","v":{"$error":"#REF!"}},{"$f":"IF(Data!#REF!=\"\",\"\",Data!#REF!)","v":{"$error":"#REF!"}},{"$error":"#REF!"},{"$error":"#REF!"},{"$error":"#REF!"}]
[{"$f":"IF(Data!#REF!=\"\",\"\",Data!#REF!)","v":{"$error":"#REF!"}},{"$f":"IF(Data!#REF!=\"\",\"\",Data!#REF!)","v":{"$error":"#REF!"}},{"$f":"IF(Data!#REF!=\"\",\"\",Data!#REF!)","v":{"$error":"#REF!"}},{"$f":"IF(Data!#REF!=\"\",\"\",Data!#REF!)","v":{"$error":"#REF!"}},{"$f":"IF(Data!#REF!=\"\",\"\",Data!#REF!)","v":{"$error":"#REF!"}},{"$error":"#REF!"},{"$error":"#REF!"},{"$error":"#REF!"}]
[{"$f":"IF(Data!#REF!=\"\",\"\",Data!#REF!)","v":{"$error":"#REF!"}},{"$f":"IF(Data!#REF!=\"\",\"\",Data!#REF!)","v":{"$error":"#REF!"}},{"$f":"IF(Data!#REF!=\"\",\"\",Data!#REF!)","v":{"$error":"#REF!"}},{"$f":"IF(Data!#REF!=\"\",\"\",Data!#REF!)","v":{"$error":"#REF!"}},{"$f":"IF(Data!#REF!=\"\",\"\",Data!#REF!)","v":{"$error":"#REF!"}},{"$f":"IF(E707>0,MONTH(E707),\"\")","v":{"$error":"#REF!"}},{"$f":"IF(E707>0,WEEKNUM(E707),\"0\")","v":{"$error":"#REF!"}},{"$f":"IF(G707>=($G$2-3),\"Ano\",\"Nie\")","v":{"$error":"#REF!"}}]
[{"$f":"IF(Data!#REF!=\"\",\"\",Data!#REF!)","v":{"$error":"#REF!"}},{"$f":"IF(Data!#REF!=\"\",\"\",Data!#REF!)","v":{"$error":"#REF!"}},{"$f":"IF(Data!#REF!=\"\",\"\",Data!#REF!)","v":{"$error":"#REF!"}},{"$f":"IF(Data!#REF!=\"\",\"\",Data!#REF!)","v":{"$error":"#REF!"}},{"$f":"IF(Data!#REF!=\"\",\"\",Data!#REF!)","v":{"$error":"#REF!"}},{"$error":"#REF!"},{"$error":"#REF!"},{"$error":"#REF!"}]
[{"$f":"IF(Data!#REF!=\"\",\"\",Data!#REF!)","v":{"$error":"#REF!"}},{"$f":"IF(Data!#REF!=\"\",\"\",Data!#REF!)","v":{"$error":"#REF!"}},{"$f":"IF(Data!#REF!=\"\",\"\",Data!#REF!)","v":{"$error":"#REF!"}},{"$f":"IF(Data!#REF!=\"\",\"\",Data!#REF!)","v":{"$error":"#REF!"}},{"$f":"IF(Data!#REF!=\"\",\"\",Data!#REF!)","v":{"$error":"#REF!"}},{"$error":"#REF!"},{"$error":"#REF!"},{"$error":"#REF!"}]
[{"$f":"IF(Data!#REF!=\"\",\"\",Data!#REF!)","v":{"$error":"#REF!"}},{"$f":"IF(Data!#REF!=\"\",\"\",Data!#REF!)","v":{"$error":"#REF!"}},{"$f":"IF(Data!#REF!=\"\",\"\",Data!#REF!)","v":{"$error":"#REF!"}},{"$f":"IF(Data!#REF!=\"\",\"\",Data!#REF!)","v":{"$error":"#REF!"}},{"$f":"IF(Data!#REF!=\"\",\"\",Data!#REF!)","v":{"$error":"#REF!"}},{"$error":"#REF!"},{"$error":"#REF!"},{"$error":"#REF!"}]
[{"$f":"IF(Data!#REF!=\"\",\"\",Data!#REF!)","v":{"$error":"#REF!"}},{"$f":"IF(Data!#REF!=\"\",\"\",Data!#REF!)","v":{"$error":"#REF!"}},{"$f":"IF(Data!#REF!=\"\",\"\",Data!#REF!)","v":{"$error":"#REF!"}},{"$f":"IF(Data!#REF!=\"\",\"\",Data!#REF!)","v":{"$error":"#REF!"}},{"$f":"IF(Data!#REF!=\"\",\"\",Data!#REF!)","v":{"$error":"#REF!"}},{"$error":"#REF!"},{"$error":"#REF!"},{"$error":"#REF!"}]
[{"$f":"IF(Data!#REF!=\"\",\"\",Data!#REF!)","v":{"$error":"#REF!"}},{"$f":"IF(Data!#REF!=\"\",\"\",Data!#REF!)","v":{"$error":"#REF!"}},{"$f":"IF(Data!#REF!=\"\",\"\",Data!#REF!)","v":{"$error":"#REF!"}},{"$f":"IF(Data!#REF!=\"\",\"\",Data!#REF!)","v":{"$error":"#REF!"}},{"$f":"IF(Data!#REF!=\"\",\"\",Data!#REF!)","v":{"$error":"#REF!"}},{"$error":"#REF!"},{"$error":"#REF!"},{"$error":"#REF!"}]
[{"$f":"IF(Data!#REF!=\"\",\"\",Data!#REF!)","v":{"$error":"#REF!"}},{"$f":"IF(Data!#REF!=\"\",\"\",Data!#REF!)","v":{"$error":"#REF!"}},{"$f":"IF(Data!#REF!=\"\",\"\",Data!#REF!)","v":{"$error":"#REF!"}},{"$f":"IF(Data!#REF!=\"\",\"\",Data!#REF!)","v":{"$error":"#REF!"}},{"$f":"IF(Data!#REF!=\"\",\"\",Data!#REF!)","v":{"$error":"#REF!"}},{"$error":"#REF!"},{"$error":"#REF!"},{"$error":"#REF!"}]
[{"$f":"IF(Data!#REF!=\"\",\"\",Data!#REF!)","v":{"$error":"#REF!"}},{"$f":"IF(Data!#REF!=\"\",\"\",Data!#REF!)","v":{"$error":"#REF!"}},{"$f":"IF(Data!#REF!=\"\",\"\",Data!#REF!)","v":{"$error":"#REF!"}},{"$f":"IF(Data!#REF!=\"\",\"\",Data!#REF!)","v":{"$error":"#REF!"}},{"$f":"IF(Data!#REF!=\"\",\"\",Data!#REF!)","v":{"$error":"#REF!"}},{"$error":"#REF!"},{"$error":"#REF!"},{"$error":"#REF!"}]
[{"$f":"IF(Data!#REF!=\"\",\"\",Data!#REF!)","v":{"$error":"#REF!"}},{"$f":"IF(Data!#REF!=\"\",\"\",Data!#REF!)","v":{"$error":"#REF!"}},{"$f":"IF(Data!#REF!=\"\",\"\",Data!#REF!)","v":{"$error":"#REF!"}},{"$f":"IF(Data!#REF!=\"\",\"\",Data!#REF!)","v":{"$error":"#REF!"}},{"$f":"IF(Data!#REF!=\"\",\"\",Data!#REF!)","v":{"$error":"#REF!"}},{"$error":"#REF!"},{"$error":"#REF!"},{"$error":"#REF!"}]
[{"$f":"IF(Data!#REF!=\"\",\"\",Data!#REF!)","v":{"$error":"#REF!"}},{"$f":"IF(Data!#REF!=\"\",\"\",Data!#REF!)","v":{"$error":"#REF!"}},{"$f":"IF(Data!#REF!=\"\",\"\",Data!#REF!)","v":{"$error":"#REF!"}},{"$f":"IF(Data!#REF!=\"\",\"\",Data!#REF!)","v":{"$error":"#REF!"}},{"$f":"IF(Data!#REF!=\"\",\"\",Data!#REF!)","v":{"$error":"#REF!"}},{"$error":"#REF!"},{"$error":"#REF!"},{"$error":"#REF!"}]
[{"$f":"IF(Data!#REF!=\"\",\"\",Data!#REF!)","v":{"$error":"#REF!"}},{"$f":"IF(Data!#REF!=\"\",\"\",Data!#REF!)","v":{"$error":"#REF!"}},{"$f":"IF(Data!#REF!=\"\",\"\",Data!#REF!)","v":{"$error":"#REF!"}},{"$f":"IF(Data!#REF!=\"\",\"\",Data!#REF!)","v":{"$error":"#REF!"}},{"$f":"IF(Data!#REF!=\"\",\"\",Data!#REF!)","v":{"$error":"#REF!"}},{"$error":"#REF!"},{"$error":"#REF!"},{"$error":"#REF!"}]
[{"$f":"IF(Data!#REF!=\"\",\"\",Data!#REF!)","v":{"$error":"#REF!"}},{"$f":"IF(Data!#REF!=\"\",\"\",Data!#REF!)","v":{"$error":"#REF!"}},{"$f":"IF(Data!#REF!=\"\",\"\",Data!#REF!)","v":{"$error":"#REF!"}},{"$f":"IF(Data!#REF!=\"\",\"\",Data!#REF!)","v":{"$error":"#REF!"}},{"$f":"IF(Data!#REF!=\"\",\"\",Data!#REF!)","v":{"$error":"#REF!"}},{"$error":"#REF!"},{"$error":"#REF!"},{"$error":"#REF!"}]
[{"$f":"IF(Data!#REF!=\"\",\"\",Data!#REF!)","v":{"$error":"#REF!"}},{"$f":"IF(Data!#REF!=\"\",\"\",Data!#REF!)","v":{"$error":"#REF!"}},{"$f":"IF(Data!#REF!=\"\",\"\",Data!#REF!)","v":{"$error":"#REF!"}},{"$f":"IF(Data!#REF!=\"\",\"\",Data!#REF!)","v":{"$error":"#REF!"}},{"$f":"IF(Data!#REF!=\"\",\"\",Data!#REF!)","v":{"$error":"#REF!"}},{"$error":"#REF!"},{"$error":"#REF!"},{"$error":"#REF!"}]
[{"$f":"IF(Data!#REF!=\"\",\"\",Data!#REF!)","v":{"$error":"#REF!"}},{"$f":"IF(Data!#REF!=\"\",\"\",Data!#REF!)","v":{"$error":"#REF!"}},{"$f":"IF(Data!#REF!=\"\",\"\",Data!#REF!)","v":{"$error":"#REF!"}},{"$f":"IF(Data!#REF!=\"\",\"\",Data!#REF!)","v":{"$error":"#REF!"}},{"$f":"IF(Data!#REF!=\"\",\"\",Data!#REF!)","v":{"$error":"#REF!"}},{"$error":"#REF!"},{"$error":"#REF!"},{"$error":"#REF!"}]
[{"$f":"IF(Data!#REF!=\"\",\"\",Data!#REF!)","v":{"$error":"#REF!"}},{"$f":"IF(Data!#REF!=\"\",\"\",Data!#REF!)","v":{"$error":"#REF!"}},{"$f":"IF(Data!#REF!=\"\",\"\",Data!#REF!)","v":{"$error":"#REF!"}},{"$f":"IF(Data!#REF!=\"\",\"\",Data!#REF!)","v":{"$error":"#REF!"}},{"$f":"IF(Data!#REF!=\"\",\"\",Data!#REF!)","v":{"$error":"#REF!"}},{"$error":"#REF!"},{"$error":"#REF!"},{"$error":"#REF!"}]
[{"$f":"IF(Data!#REF!=\"\",\"\",Data!#REF!)","v":{"$error":"#REF!"}},{"$f":"IF(Data!#REF!=\"\",\"\",Data!#REF!)","v":{"$error":"#REF!"}},{"$f":"IF(Data!#REF!=\"\",\"\",Data!#REF!)","v":{"$error":"#REF!"}},{"$f":"IF(Data!#REF!=\"\",\"\",Data!#REF!)","v":{"$error":"#REF!"}},{"$f":"IF(Data!#REF!=\"\",\"\",Data!#REF!)","v":{"$error":"#REF!"}},{"$error":"#REF!"},{"$error":"#REF!"},{"$error":"#REF!"}]
[{"$f":"IF(Data!#REF!=\"\",\"\",Data!#REF!)","v":{"$error":"#REF!"}},{"$f":"IF(Data!#REF!=\"\",\"\",Data!#REF!)","v":{"$error":"#REF!"}},{"$f":"IF(Data!#REF!=\"\",\"\",Data!#REF!)","v":{"$error":"#REF!"}},{"$f":"IF(Data!#REF!=\"\",\"\",Data!#REF!)","v":{"$error":"#REF!"}},{"$f":"IF(Data!#REF!=\"\",\"\",Data!#REF!)","v":{"$error":"#REF!"}},{"$error":"#REF!"},{"$error":"#REF!"},{"$error":"#REF!"}]
[{"$f":"IF(Data!#REF!=\"\",\"\",Data!#REF!)","v":{"$error":"#REF!"}},{"$f":"IF(Data!#REF!=\"\",\"\",Data!#REF!)","v":{"$error":"#REF!"}},{"$f":"IF(Data!#REF!=\"\",\"\",Data!#REF!)","v":{"$error":"#REF!"}},{"$f":"IF(Data!#REF!=\"\",\"\",Data!#REF!)","v":{"$error":"#REF!"}},{"$f":"IF(Data!#REF!=\"\",\"\",Data!#REF!)","v":{"$error":"#REF!"}},{"$error":"#REF!"},{"$error":"#REF!"},{"$error":"#REF!"}]
[{"$f":"IF(Data!#REF!=\"\",\"\",Data!#REF!)","v":{"$error":"#REF!"}},{"$f":"IF(Data!#REF!=\"\",\"\",Data!#REF!)","v":{"$error":"#REF!"}},{"$f":"IF(Data!#REF!=\"\",\"\",Data!#REF!)","v":{"$error":"#REF!"}},{"$f":"IF(Data!#REF!=\"\",\"\",Data!#REF!)","v":{"$error":"#REF!"}},{"$f":"IF(Data!#REF!=\"\",\"\",Data!#REF!)","v":{"$error":"#REF!"}},{"$error":"#REF!"},{"$error":"#REF!"},{"$error":"#REF!"}]
[{"$f":"IF(Data!#REF!=\"\",\"\",Data!#REF!)","v":{"$error":"#REF!"}},{"$f":"IF(Data!#REF!=\"\",\"\",Data!#REF!)","v":{"$error":"#REF!"}},{"$f":"IF(Data!#REF!=\"\",\"\",Data!#REF!)","v":{"$error":"#REF!"}},{"$f":"IF(Data!#REF!=\"\",\"\",Data!#REF!)","v":{"$error":"#REF!"}},{"$f":"IF(Data!#REF!=\"\",\"\",Data!#REF!)","v":{"$error":"#REF!"}},{"$error":"#REF!"},{"$error":"#REF!"},{"$error":"#REF!"}]
[{"$f":"IF(Data!#REF!=\"\",\"\",Data!#REF!)","v":{"$error":"#REF!"}},{"$f":"IF(Data!#REF!=\"\",\"\",Data!#REF!)","v":{"$error":"#REF!"}},{"$f":"IF(Data!#REF!=\"\",\"\",Data!#REF!)","v":{"$error":"#REF!"}},{"$f":"IF(Data!#REF!=\"\",\"\",Data!#REF!)","v":{"$error":"#REF!"}},{"$f":"IF(Data!#REF!=\"\",\"\",Data!#REF!)","v":{"$error":"#REF!"}},{"$error":"#REF!"},{"$error":"#REF!"},{"$error":"#REF!"}]
[{"$f":"IF(Data!#REF!=\"\",\"\",Data!#REF!)","v":{"$error":"#REF!"}},{"$f":"IF(Data!#REF!=\"\",\"\",Data!#REF!)","v":{"$error":"#REF!"}},{"$f":"IF(Data!#REF!=\"\",\"\",Data!#REF!)","v":{"$error":"#REF!"}},{"$f":"IF(Data!#REF!=\"\",\"\",Data!#REF!)","v":{"$error":"#REF!"}},{"$f":"IF(Data!#REF!=\"\",\"\",Data!#REF!)","v":{"$error":"#REF!"}},{"$error":"#REF!"},{"$error":"#REF!"},{"$error":"#REF!"}]
[{"$f":"IF(Data!#REF!=\"\",\"\",Data!#REF!)","v":{"$error":"#REF!"}},{"$f":"IF(Data!#REF!=\"\",\"\",Data!#REF!)","v":{"$error":"#REF!"}},{"$f":"IF(Data!#REF!=\"\",\"\",Data!#REF!)","v":{"$error":"#REF!"}},{"$f":"IF(Data!#REF!=\"\",\"\",Data!#REF!)","v":{"$error":"#REF!"}},{"$f":"IF(Data!#REF!=\"\",\"\",Data!#REF!)","v":{"$error":"#REF!"}},{"$error":"#REF!"},{"$error":"#REF!"},{"$error":"#REF!"}]
[{"$f":"IF(Data!#REF!=\"\",\"\",Data!#REF!)","v":{"$error":"#REF!"}},{"$f":"IF(Data!#REF!=\"\",\"\",Data!#REF!)","v":{"$error":"#REF!"}},{"$f":"IF(Data!#REF!=\"\",\"\",Data!#REF!)","v":{"$error":"#REF!"}},{"$f":"IF(Data!#REF!=\"\",\"\",Data!#REF!)","v":{"$error":"#REF!"}},{"$f":"IF(Data!#REF!=\"\",\"\",Data!#REF!)","v":{"$error":"#REF!"}},{"$error":"#REF!"},{"$error":"#REF!"},{"$error":"#REF!"}]
[{"$f":"IF(Data!#REF!=\"\",\"\",Data!#REF!)","v":{"$error":"#REF!"}},{"$f":"IF(Data!#REF!=\"\",\"\",Data!#REF!)","v":{"$error":"#REF!"}},{"$f":"IF(Data!#REF!=\"\",\"\",Data!#REF!)","v":{"$error":"#REF!"}},{"$f":"IF(Data!#REF!=\"\",\"\",Data!#REF!)","v":{"$error":"#REF!"}},{"$f":"IF(Data!#REF!=\"\",\"\",Data!#REF!)","v":{"$error":"#REF!"}},{"$error":"#REF!"},{"$error":"#REF!"},{"$error":"#REF!"}]
[{"$f":"IF(Data!#REF!=\"\",\"\",Data!#REF!)","v":{"$error":"#REF!"}},{"$f":"IF(Data!#REF!=\"\",\"\",Data!#REF!)","v":{"$error":"#REF!"}},{"$f":"IF(Data!#REF!=\"\",\"\",Data!#REF!)","v":{"$error":"#REF!"}},{"$f":"IF(Data!#REF!=\"\",\"\",Data!#REF!)","v":{"$error":"#REF!"}},{"$f":"IF(Data!#REF!=\"\",\"\",Data!#REF!)","v":{"$error":"#REF!"}},{"$error":"#REF!"},{"$error":"#REF!"},{"$error":"#REF!"}]
[{"$f":"IF(Data!#REF!=\"\",\"\",Data!#REF!)","v":{"$error":"#REF!"}},{"$f":"IF(Data!#REF!=\"\",\"\",Data!#REF!)","v":{"$error":"#REF!"}},{"$f":"IF(Data!#REF!=\"\",\"\",Data!#REF!)","v":{"$error":"#REF!"}},{"$f":"IF(Data!#REF!=\"\",\"\",Data!#REF!)","v":{"$error":"#REF!"}},{"$f":"IF(Data!#REF!=\"\",\"\",Data!#REF!)","v":{"$error":"#REF!"}},{"$error":"#REF!"},{"$error":"#REF!"},{"$error":"#REF!"}]
[{"$f":"IF(Data!#REF!=\"\",\"\",Data!#REF!)","v":{"$error":"#REF!"}},{"$f":"IF(Data!#REF!=\"\",\"\",Data!#REF!)","v":{"$error":"#REF!"}},{"$f":"IF(Data!#REF!=\"\",\"\",Data!#REF!)","v":{"$error":"#REF!"}},{"$f":"IF(Data!#REF!=\"\",\"\",Data!#REF!)","v":{"$error":"#REF!"}},{"$f":"IF(Data!#REF!=\"\",\"\",Data!#REF!)","v":{"$error":"#REF!"}},{"$error":"#REF!"},{"$error":"#REF!"},{"$error":"#REF!"}]
[{"$f":"IF(Data!#REF!=\"\",\"\",Data!#REF!)","v":{"$error":"#REF!"}},{"$f":"IF(Data!#REF!=\"\",\"\",Data!#REF!)","v":{"$error":"#REF!"}},{"$f":"IF(Data!#REF!=\"\",\"\",Data!#REF!)","v":{"$error":"#REF!"}},{"$f":"IF(Data!#REF!=\"\",\"\",Data!#REF!)","v":{"$error":"#REF!"}},{"$f":"IF(Data!#REF!=\"\",\"\",Data!#REF!)","v":{"$error":"#REF!"}},{"$error":"#REF!"},{"$error":"#REF!"},{"$error":"#REF!"}]
[{"$f":"IF(Data!#REF!=\"\",\"\",Data!#REF!)","v":{"$error":"#REF!"}},{"$f":"IF(Data!#REF!=\"\",\"\",Data!#REF!)","v":{"$error":"#REF!"}},{"$f":"IF(Data!#REF!=\"\",\"\",Data!#REF!)","v":{"$error":"#REF!"}},{"$f":"IF(Data!#REF!=\"\",\"\",Data!#REF!)","v":{"$error":"#REF!"}},{"$f":"IF(Data!#REF!=\"\",\"\",Data!#REF!)","v":{"$error":"#REF!"}},{"$error":"#REF!"},{"$error":"#REF!"},{"$error":"#REF!"}]
[{"$f":"IF(Data!#REF!=\"\",\"\",Data!#REF!)","v":{"$error":"#REF!"}},{"$f":"IF(Data!#REF!=\"\",\"\",Data!#REF!)","v":{"$error":"#REF!"}},{"$f":"IF(Data!#REF!=\"\",\"\",Data!#REF!)","v":{"$error":"#REF!"}},{"$f":"IF(Data!#REF!=\"\",\"\",Data!#REF!)","v":{"$error":"#REF!"}},{"$f":"IF(Data!#REF!=\"\",\"\",Data!#REF!)","v":{"$error":"#REF!"}},{"$error":"#REF!"},{"$error":"#REF!"},{"$error":"#REF!"}]
[{"$f":"IF(Data!#REF!=\"\",\"\",Data!#REF!)","v":{"$error":"#REF!"}},{"$f":"IF(Data!#REF!=\"\",\"\",Data!#REF!)","v":{"$error":"#REF!"}},{"$f":"IF(Data!#REF!=\"\",\"\",Data!#REF!)","v":{"$error":"#REF!"}},{"$f":"IF(Data!#REF!=\"\",\"\",Data!#REF!)","v":{"$error":"#REF!"}},{"$f":"IF(Data!#REF!=\"\",\"\",Data!#REF!)","v":{"$error":"#REF!"}},{"$error":"#REF!"},{"$error":"#REF!"},{"$error":"#REF!"}]
[{"$f":"IF(Data!#REF!=\"\",\"\",Data!#REF!)","v":{"$error":"#REF!"}},{"$f":"IF(Data!#REF!=\"\",\"\",Data!#REF!)","v":{"$error":"#REF!"}},{"$f":"IF(Data!#REF!=\"\",\"\",Data!#REF!)","v":{"$error":"#REF!"}},{"$f":"IF(Data!#REF!=\"\",\"\",Data!#REF!)","v":{"$error":"#REF!"}},{"$f":"IF(Data!#REF!=\"\",\"\",Data!#REF!)","v":{"$error":"#REF!"}},{"$error":"#REF!"},{"$error":"#REF!"},{"$error":"#REF!"}]
[{"$f":"IF(Data!#REF!=\"\",\"\",Data!#REF!)","v":{"$error":"#REF!"}},{"$f":"IF(Data!#REF!=\"\",\"\",Data!#REF!)","v":{"$error":"#REF!"}},{"$f":"IF(Data!#REF!=\"\",\"\",Data!#REF!)","v":{"$error":"#REF!"}},{"$f":"IF(Data!#REF!=\"\",\"\",Data!#REF!)","v":{"$error":"#REF!"}},{"$f":"IF(Data!#REF!=\"\",\"\",Data!#REF!)","v":{"$error":"#REF!"}},{"$error":"#REF!"},{"$error":"#REF!"},{"$error":"#REF!"}]
[{"$f":"IF(Data!#REF!=\"\",\"\",Data!#REF!)","v":{"$error":"#REF!"}},{"$f":"IF(Data!#REF!=\"\",\"\",Data!#REF!)","v":{"$error":"#REF!"}},{"$f":"IF(Data!#REF!=\"\",\"\",Data!#REF!)","v":{"$error":"#REF!"}},{"$f":"IF(Data!#REF!=\"\",\"\",Data!#REF!)","v":{"$error":"#REF!"}},{"$f":"IF(Data!#REF!=\"\",\"\",Data!#REF!)","v":{"$error":"#REF!"}},{"$error":"#REF!"},{"$error":"#REF!"},{"$error":"#REF!"}]
[{"$f":"IF(Data!#REF!=\"\",\"\",Data!#REF!)","v":{"$error":"#REF!"}},{"$f":"IF(Data!#REF!=\"\",\"\",Data!#REF!)","v":{"$error":"#REF!"}},{"$f":"IF(Data!#REF!=\"\",\"\",Data!#REF!)","v":{"$error":"#REF!"}},{"$f":"IF(Data!#REF!=\"\",\"\",Data!#REF!)","v":{"$error":"#REF!"}},{"$f":"IF(Data!#REF!=\"\",\"\",Data!#REF!)","v":{"$error":"#REF!"}},{"$error":"#REF!"},{"$error":"#REF!"},{"$error":"#REF!"}]
[{"$f":"IF(Data!#REF!=\"\",\"\",Data!#REF!)","v":{"$error":"#REF!"}},{"$f":"IF(Data!#REF!=\"\",\"\",Data!#REF!)","v":{"$error":"#REF!"}},{"$f":"IF(Data!#REF!=\"\",\"\",Data!#REF!)","v":{"$error":"#REF!"}},{"$f":"IF(Data!#REF!=\"\",\"\",Data!#REF!)","v":{"$error":"#REF!"}},{"$f":"IF(Data!#REF!=\"\",\"\",Data!#REF!)","v":{"$error":"#REF!"}},{"$error":"#REF!"},{"$error":"#REF!"},{"$error":"#REF!"}]
[{"$f":"IF(Data!#REF!=\"\",\"\",Data!#REF!)","v":{"$error":"#REF!"}},{"$f":"IF(Data!#REF!=\"\",\"\",Data!#REF!)","v":{"$error":"#REF!"}},{"$f":"IF(Data!#REF!=\"\",\"\",Data!#REF!)","v":{"$error":"#REF!"}},{"$f":"IF(Data!#REF!=\"\",\"\",Data!#REF!)","v":{"$error":"#REF!"}},{"$f":"IF(Data!#REF!=\"\",\"\",Data!#REF!)","v":{"$error":"#REF!"}},{"$error":"#REF!"},{"$error":"#REF!"},{"$error":"#REF!"}]
[{"$f":"IF(Data!#REF!=\"\",\"\",Data!#REF!)","v":{"$error":"#REF!"}},{"$f":"IF(Data!#REF!=\"\",\"\",Data!#REF!)","v":{"$error":"#REF!"}},{"$f":"IF(Data!#REF!=\"\",\"\",Data!#REF!)","v":{"$error":"#REF!"}},{"$f":"IF(Data!#REF!=\"\",\"\",Data!#REF!)","v":{"$error":"#REF!"}},{"$f":"IF(Data!#REF!=\"\",\"\",Data!#REF!)","v":{"$error":"#REF!"}},{"$error":"#REF!"},{"$error":"#REF!"},{"$error":"#REF!"}]
[{"$f":"IF(Data!#REF!=\"\",\"\",Data!#REF!)","v":{"$error":"#REF!"}},{"$f":"IF(Data!#REF!=\"\",\"\",Data!#REF!)","v":{"$error":"#REF!"}},{"$f":"IF(Data!#REF!=\"\",\"\",Data!#REF!)","v":{"$error":"#REF!"}},{"$f":"IF(Data!#REF!=\"\",\"\",Data!#REF!)","v":{"$error":"#REF!"}},{"$f":"IF(Data!#REF!=\"\",\"\",Data!#REF!)","v":{"$error":"#REF!"}},{"$error":"#REF!"},{"$error":"#REF!"},{"$error":"#REF!"}]
[{"$f":"IF(Data!#REF!=\"\",\"\",Data!#REF!)","v":{"$error":"#REF!"}},{"$f":"IF(Data!#REF!=\"\",\"\",Data!#REF!)","v":{"$error":"#REF!"}},{"$f":"IF(Data!#REF!=\"\",\"\",Data!#REF!)","v":{"$error":"#REF!"}},{"$f":"IF(Data!#REF!=\"\",\"\",Data!#REF!)","v":{"$error":"#REF!"}},{"$f":"IF(Data!#REF!=\"\",\"\",Data!#REF!)","v":{"$error":"#REF!"}},{"$error":"#REF!"},{"$error":"#REF!"},{"$error":"#REF!"}]
[{"$f":"IF(Data!#REF!=\"\",\"\",Data!#REF!)","v":{"$error":"#REF!"}},{"$f":"IF(Data!#REF!=\"\",\"\",Data!#REF!)","v":{"$error":"#REF!"}},{"$f":"IF(Data!#REF!=\"\",\"\",Data!#REF!)","v":{"$error":"#REF!"}},{"$f":"IF(Data!#REF!=\"\",\"\",Data!#REF!)","v":{"$error":"#REF!"}},{"$f":"IF(Data!#REF!=\"\",\"\",Data!#REF!)","v":{"$error":"#REF!"}},{"$error":"#REF!"},{"$error":"#REF!"},{"$error":"#REF!"}]
[{"$f":"IF(Data!#REF!=\"\",\"\",Data!#REF!)","v":{"$error":"#REF!"}},{"$f":"IF(Data!#REF!=\"\",\"\",Data!#REF!)","v":{"$error":"#REF!"}},{"$f":"IF(Data!#REF!=\"\",\"\",Data!#REF!)","v":{"$error":"#REF!"}},{"$f":"IF(Data!#REF!=\"\",\"\",Data!#REF!)","v":{"$error":"#REF!"}},{"$f":"IF(Data!#REF!=\"\",\"\",Data!#REF!)","v":{"$error":"#REF!"}},{"$error":"#REF!"},{"$error":"#REF!"},{"$error":"#REF!"}]
[{"$f":"IF(Data!#REF!=\"\",\"\",Data!#REF!)","v":{"$error":"#REF!"}},{"$f":"IF(Data!#REF!=\"\",\"\",Data!#REF!)","v":{"$error":"#REF!"}},{"$f":"IF(Data!#REF!=\"\",\"\",Data!#REF!)","v":{"$error":"#REF!"}},{"$f":"IF(Data!#REF!=\"\",\"\",Data!#REF!)","v":{"$error":"#REF!"}},{"$f":"IF(Data!#REF!=\"\",\"\",Data!#REF!)","v":{"$error":"#REF!"}},{"$error":"#REF!"},{"$error":"#REF!"},{"$error":"#REF!"}]
[{"$f":"IF(Data!#REF!=\"\",\"\",Data!#REF!)","v":{"$error":"#REF!"}},{"$f":"IF(Data!#REF!=\"\",\"\",Data!#REF!)","v":{"$error":"#REF!"}},{"$f":"IF(Data!#REF!=\"\",\"\",Data!#REF!)","v":{"$error":"#REF!"}},{"$f":"IF(Data!#REF!=\"\",\"\",Data!#REF!)","v":{"$error":"#REF!"}},{"$f":"IF(Data!#REF!=\"\",\"\",Data!#REF!)","v":{"$error":"#REF!"}},{"$error":"#REF!"},{"$error":"#REF!"},{"$error":"#REF!"}]
[{"$f":"IF(Data!#REF!=\"\",\"\",Data!#REF!)","v":{"$error":"#REF!"}},{"$f":"IF(Data!#REF!=\"\",\"\",Data!#REF!)","v":{"$error":"#REF!"}},{"$f":"IF(Data!#REF!=\"\",\"\",Data!#REF!)","v":{"$error":"#REF!"}},{"$f":"IF(Data!#REF!=\"\",\"\",Data!#REF!)","v":{"$error":"#REF!"}},{"$f":"IF(Data!#REF!=\"\",\"\",Data!#REF!)","v":{"$error":"#REF!"}},{"$error":"#REF!"},{"$error":"#REF!"},{"$error":"#REF!"}]
[{"$f":"IF(Data!#REF!=\"\",\"\",Data!#REF!)","v":{"$error":"#REF!"}},{"$f":"IF(Data!#REF!=\"\",\"\",Data!#REF!)","v":{"$error":"#REF!"}},{"$f":"IF(Data!#REF!=\"\",\"\",Data!#REF!)","v":{"$error":"#REF!"}},{"$f":"IF(Data!#REF!=\"\",\"\",Data!#REF!)","v":{"$error":"#REF!"}},{"$f":"IF(Data!#REF!=\"\",\"\",Data!#REF!)","v":{"$error":"#REF!"}},{"$error":"#REF!"},{"$error":"#REF!"},{"$error":"#REF!"}]
[{"$f":"IF(Data!#REF!=\"\",\"\",Data!#REF!)","v":{"$error":"#REF!"}},{"$f":"IF(Data!#REF!=\"\",\"\",Data!#REF!)","v":{"$error":"#REF!"}},{"$f":"IF(Data!#REF!=\"\",\"\",Data!#REF!)","v":{"$error":"#REF!"}},{"$f":"IF(Data!#REF!=\"\",\"\",Data!#REF!)","v":{"$error":"#REF!"}},{"$f":"IF(Data!#REF!=\"\",\"\",Data!#REF!)","v":{"$error":"#REF!"}},{"$error":"#REF!"},{"$error":"#REF!"},{"$error":"#REF!"}]
[{"$f":"IF(Data!#REF!=\"\",\"\",Data!#REF!)","v":{"$error":"#REF!"}},{"$f":"IF(Data!#REF!=\"\",\"\",Data!#REF!)","v":{"$error":"#REF!"}},{"$f":"IF(Data!#REF!=\"\",\"\",Data!#REF!)","v":{"$error":"#REF!"}},{"$f":"IF(Data!#REF!=\"\",\"\",Data!#REF!)","v":{"$error":"#REF!"}},{"$f":"IF(Data!#REF!=\"\",\"\",Data!#REF!)","v":{"$error":"#REF!"}},{"$error":"#REF!"},{"$error":"#REF!"},{"$error":"#REF!"}]
[{"$f":"IF(Data!#REF!=\"\",\"\",Data!#REF!)","v":{"$error":"#REF!"}},{"$f":"IF(Data!#REF!=\"\",\"\",Data!#REF!)","v":{"$error":"#REF!"}},{"$f":"IF(Data!#REF!=\"\",\"\",Data!#REF!)","v":{"$error":"#REF!"}},{"$f":"IF(Data!#REF!=\"\",\"\",Data!#REF!)","v":{"$error":"#REF!"}},{"$f":"IF(Data!#REF!=\"\",\"\",Data!#REF!)","v":{"$error":"#REF!"}},{"$error":"#REF!"},{"$error":"#REF!"},{"$error":"#REF!"}]
[{"$f":"IF(Data!#REF!=\"\",\"\",Data!#REF!)","v":{"$error":"#REF!"}},{"$f":"IF(Data!#REF!=\"\",\"\",Data!#REF!)","v":{"$error":"#REF!"}},{"$f":"IF(Data!#REF!=\"\",\"\",Data!#REF!)","v":{"$error":"#REF!"}},{"$f":"IF(Data!#REF!=\"\",\"\",Data!#REF!)","v":{"$error":"#REF!"}},{"$f":"IF(Data!#REF!=\"\",\"\",Data!#REF!)","v":{"$error":"#REF!"}},{"$error":"#REF!"},{"$error":"#REF!"},{"$error":"#REF!"}]
[{"$f":"IF(Data!#REF!=\"\",\"\",Data!#REF!)","v":{"$error":"#REF!"}},{"$f":"IF(Data!#REF!=\"\",\"\",Data!#REF!)","v":{"$error":"#REF!"}},{"$f":"IF(Data!#REF!=\"\",\"\",Data!#REF!)","v":{"$error":"#REF!"}},{"$f":"IF(Data!#REF!=\"\",\"\",Data!#REF!)","v":{"$error":"#REF!"}},{"$f":"IF(Data!#REF!=\"\",\"\",Data!#REF!)","v":{"$error":"#REF!"}},{"$error":"#REF!"},{"$error":"#REF!"},{"$error":"#REF!"}]
[{"$f":"IF(Data!#REF!=\"\",\"\",Data!#REF!)","v":{"$error":"#REF!"}},{"$f":"IF(Data!#REF!=\"\",\"\",Data!#REF!)","v":{"$error":"#REF!"}},{"$f":"IF(Data!#REF!=\"\",\"\",Data!#REF!)","v":{"$error":"#REF!"}},{"$f":"IF(Data!#REF!=\"\",\"\",Data!#REF!)","v":{"$error":"#REF!"}},{"$f":"IF(Data!#REF!=\"\",\"\",Data!#REF!)","v":{"$error":"#REF!"}},{"$error":"#REF!"},{"$error":"#REF!"},{"$error":"#REF!"}]
[{"$f":"IF(Data!#REF!=\"\",\"\",Data!#REF!)","v":{"$error":"#REF!"}},{"$f":"IF(Data!#REF!=\"\",\"\",Data!#REF!)","v":{"$error":"#REF!"}},{"$f":"IF(Data!#REF!=\"\",\"\",Data!#REF!)","v":{"$error":"#REF!"}},{"$f":"IF(Data!#REF!=\"\",\"\",Data!#REF!)","v":{"$error":"#REF!"}},{"$f":"IF(Data!#REF!=\"\",\"\",Data!#REF!)","v":{"$error":"#REF!"}},{"$error":"#REF!"},{"$error":"#REF!"},{"$error":"#REF!"}]
[{"$f":"IF(Data!#REF!=\"\",\"\",Data!#REF!)","v":{"$error":"#REF!"}},{"$f":"IF(Data!#REF!=\"\",\"\",Data!#REF!)","v":{"$error":"#REF!"}},{"$f":"IF(Data!#REF!=\"\",\"\",Data!#REF!)","v":{"$error":"#REF!"}},{"$f":"IF(Data!#REF!=\"\",\"\",Data!#REF!)","v":{"$error":"#REF!"}},{"$f":"IF(Data!#REF!=\"\",\"\",Data!#REF!)","v":{"$error":"#REF!"}},{"$error":"#REF!"},{"$error":"#REF!"},{"$error":"#REF!"}]
[{"$f":"IF(Data!#REF!=\"\",\"\",Data!#REF!)","v":{"$error":"#REF!"}},{"$f":"IF(Data!#REF!=\"\",\"\",Data!#REF!)","v":{"$error":"#REF!"}},{"$f":"IF(Data!#REF!=\"\",\"\",Data!#REF!)","v":{"$error":"#REF!"}},{"$f":"IF(Data!#REF!=\"\",\"\",Data!#REF!)","v":{"$error":"#REF!"}},{"$f":"IF(Data!#REF!=\"\",\"\",Data!#REF!)","v":{"$error":"#REF!"}},{"$error":"#REF!"},{"$error":"#REF!"},{"$error":"#REF!"}]
[{"$f":"IF(Data!#REF!=\"\",\"\",Data!#REF!)","v":{"$error":"#REF!"}},{"$f":"IF(Data!#REF!=\"\",\"\",Data!#REF!)","v":{"$error":"#REF!"}},{"$f":"IF(Data!#REF!=\"\",\"\",Data!#REF!)","v":{"$error":"#REF!"}},{"$f":"IF(Data!#REF!=\"\",\"\",Data!#REF!)","v":{"$error":"#REF!"}},{"$f":"IF(Data!#REF!=\"\",\"\",Data!#REF!)","v":{"$error":"#REF!"}},{"$error":"#REF!"},{"$error":"#REF!"},{"$error":"#REF!"}]
[{"$f":"IF(Data!#REF!=\"\",\"\",Data!#REF!)","v":{"$error":"#REF!"}},{"$f":"IF(Data!#REF!=\"\",\"\",Data!#REF!)","v":{"$error":"#REF!"}},{"$f":"IF(Data!#REF!=\"\",\"\",Data!#REF!)","v":{"$error":"#REF!"}},{"$f":"IF(Data!#REF!=\"\",\"\",Data!#REF!)","v":{"$error":"#REF!"}},{"$f":"IF(Data!#REF!=\"\",\"\",Data!#REF!)","v":{"$error":"#REF!"}},{"$error":"#REF!"},{"$error":"#REF!"},{"$error":"#REF!"}]
[{"$f":"IF(Data!#REF!=\"\",\"\",Data!#REF!)","v":{"$error":"#REF!"}},{"$f":"IF(Data!#REF!=\"\",\"\",Data!#REF!)","v":{"$error":"#REF!"}},{"$f":"IF(Data!#REF!=\"\",\"\",Data!#REF!)","v":{"$error":"#REF!"}},{"$f":"IF(Data!#REF!=\"\",\"\",Data!#REF!)","v":{"$error":"#REF!"}},{"$f":"IF(Data!#REF!=\"\",\"\",Data!#REF!)","v":{"$error":"#REF!"}},{"$error":"#REF!"},{"$error":"#REF!"},{"$error":"#REF!"}]
[{"$f":"IF(Data!#REF!=\"\",\"\",Data!#REF!)","v":{"$error":"#REF!"}},{"$f":"IF(Data!#REF!=\"\",\"\",Data!#REF!)","v":{"$error":"#REF!"}},{"$f":"IF(Data!#REF!=\"\",\"\",Data!#REF!)","v":{"$error":"#REF!"}},{"$f":"IF(Data!#REF!=\"\",\"\",Data!#REF!)","v":{"$error":"#REF!"}},{"$f":"IF(Data!#REF!=\"\",\"\",Data!#REF!)","v":{"$error":"#REF!"}},{"$error":"#REF!"},{"$error":"#REF!"},{"$error":"#REF!"}]
[{"$f":"IF(Data!#REF!=\"\",\"\",Data!#REF!)","v":{"$error":"#REF!"}},{"$f":"IF(Data!#REF!=\"\",\"\",Data!#REF!)","v":{"$error":"#REF!"}},{"$f":"IF(Data!#REF!=\"\",\"\",Data!#REF!)","v":{"$error":"#REF!"}},{"$f":"IF(Data!#REF!=\"\",\"\",Data!#REF!)","v":{"$error":"#REF!"}},{"$f":"IF(Data!#REF!=\"\",\"\",Data!#REF!)","v":{"$error":"#REF!"}},{"$error":"#REF!"},{"$error":"#REF!"},{"$error":"#REF!"}]
[{"$f":"IF(Data!#REF!=\"\",\"\",Data!#REF!)","v":{"$error":"#REF!"}},{"$f":"IF(Data!#REF!=\"\",\"\",Data!#REF!)","v":{"$error":"#REF!"}},{"$f":"IF(Data!#REF!=\"\",\"\",Data!#REF!)","v":{"$error":"#REF!"}},{"$f":"IF(Data!#REF!=\"\",\"\",Data!#REF!)","v":{"$error":"#REF!"}},{"$f":"IF(Data!#REF!=\"\",\"\",Data!#REF!)","v":{"$error":"#REF!"}},{"$error":"#REF!"},{"$error":"#REF!"},{"$error":"#REF!"}]
[{"$f":"IF(Data!#REF!=\"\",\"\",Data!#REF!)","v":{"$error":"#REF!"}},{"$f":"IF(Data!#REF!=\"\",\"\",Data!#REF!)","v":{"$error":"#REF!"}},{"$f":"IF(Data!#REF!=\"\",\"\",Data!#REF!)","v":{"$error":"#REF!"}},{"$f":"IF(Data!#REF!=\"\",\"\",Data!#REF!)","v":{"$error":"#REF!"}},{"$f":"IF(Data!#REF!=\"\",\"\",Data!#REF!)","v":{"$error":"#REF!"}},{"$error":"#REF!"},{"$error":"#REF!"},{"$error":"#REF!"}]
[{"$f":"IF(Data!#REF!=\"\",\"\",Data!#REF!)","v":{"$error":"#REF!"}},{"$f":"IF(Data!#REF!=\"\",\"\",Data!#REF!)","v":{"$error":"#REF!"}},{"$f":"IF(Data!#REF!=\"\",\"\",Data!#REF!)","v":{"$error":"#REF!"}},{"$f":"IF(Data!#REF!=\"\",\"\",Data!#REF!)","v":{"$error":"#REF!"}},{"$f":"IF(Data!#REF!=\"\",\"\",Data!#REF!)","v":{"$error":"#REF!"}},{"$error":"#REF!"},{"$error":"#REF!"},{"$error":"#REF!"}]
[{"$f":"IF(Data!#REF!=\"\",\"\",Data!#REF!)","v":{"$error":"#REF!"}},{"$f":"IF(Data!#REF!=\"\",\"\",Data!#REF!)","v":{"$error":"#REF!"}},{"$f":"IF(Data!#REF!=\"\",\"\",Data!#REF!)","v":{"$error":"#REF!"}},{"$f":"IF(Data!#REF!=\"\",\"\",Data!#REF!)","v":{"$error":"#REF!"}},{"$f":"IF(Data!#REF!=\"\",\"\",Data!#REF!)","v":{"$error":"#REF!"}},{"$f":"IF(E771>0,MONTH(E771),\"\")","v":{"$error":"#REF!"}},{"$f":"IF(E771>0,WEEKNUM(E771),\"0\")","v":{"$error":"#REF!"}},{"$f":"IF(G771>=($G$2-3),\"Ano\",\"Nie\")","v":{"$error":"#REF!"}}]
[{"$f":"IF(Data!#REF!=\"\",\"\",Data!#REF!)","v":{"$error":"#REF!"}},{"$f":"IF(Data!#REF!=\"\",\"\",Data!#REF!)","v":{"$error":"#REF!"}},{"$f":"IF(Data!#REF!=\"\",\"\",Data!#REF!)","v":{"$error":"#REF!"}},{"$f":"IF(Data!#REF!=\"\",\"\",Data!#REF!)","v":{"$error":"#REF!"}},{"$f":"IF(Data!#REF!=\"\",\"\",Data!#REF!)","v":{"$error":"#REF!"}},{"$error":"#REF!"},{"$error":"#REF!"},{"$error":"#REF!"}]
[{"$f":"IF(Data!#REF!=\"\",\"\",Data!#REF!)","v":{"$error":"#REF!"}},{"$f":"IF(Data!#REF!=\"\",\"\",Data!#REF!)","v":{"$error":"#REF!"}},{"$f":"IF(Data!#REF!=\"\",\"\",Data!#REF!)","v":{"$error":"#REF!"}},{"$f":"IF(Data!#REF!=\"\",\"\",Data!#REF!)","v":{"$error":"#REF!"}},{"$f":"IF(Data!#REF!=\"\",\"\",Data!#REF!)","v":{"$error":"#REF!"}},{"$error":"#REF!"},{"$error":"#REF!"},{"$error":"#REF!"}]
[{"$f":"IF(Data!#REF!=\"\",\"\",Data!#REF!)","v":{"$error":"#REF!"}},{"$f":"IF(Data!#REF!=\"\",\"\",Data!#REF!)","v":{"$error":"#REF!"}},{"$f":"IF(Data!#REF!=\"\",\"\",Data!#REF!)","v":{"$error":"#REF!"}},{"$f":"IF(Data!#REF!=\"\",\"\",Data!#REF!)","v":{"$error":"#REF!"}},{"$f":"IF(Data!#REF!=\"\",\"\",Data!#REF!)","v":{"$error":"#REF!"}},{"$error":"#REF!"},{"$error":"#REF!"},{"$error":"#REF!"}]
[{"$f":"IF(Data!#REF!=\"\",\"\",Data!#REF!)","v":{"$error":"#REF!"}},{"$f":"IF(Data!#REF!=\"\",\"\",Data!#REF!)","v":{"$error":"#REF!"}},{"$f":"IF(Data!#REF!=\"\",\"\",Data!#REF!)","v":{"$error":"#REF!"}},{"$f":"IF(Data!#REF!=\"\",\"\",Data!#REF!)","v":{"$error":"#REF!"}},{"$f":"IF(Data!#REF!=\"\",\"\",Data!#REF!)","v":{"$error":"#REF!"}},{"$error":"#REF!"},{"$error":"#REF!"},{"$error":"#REF!"}]
[{"$f":"IF(Data!#REF!=\"\",\"\",Data!#REF!)","v":{"$error":"#REF!"}},{"$f":"IF(Data!#REF!=\"\",\"\",Data!#REF!)","v":{"$error":"#REF!"}},{"$f":"IF(Data!#REF!=\"\",\"\",Data!#REF!)","v":{"$error":"#REF!"}},{"$f":"IF(Data!#REF!=\"\",\"\",Data!#REF!)","v":{"$error":"#REF!"}},{"$f":"IF(Data!#REF!=\"\",\"\",Data!#REF!)","v":{"$error":"#REF!"}},{"$error":"#REF!"},{"$error":"#REF!"},{"$error":"#REF!"}]
[{"$f":"IF(Data!#REF!=\"\",\"\",Data!#REF!)","v":{"$error":"#REF!"}},{"$f":"IF(Data!#REF!=\"\",\"\",Data!#REF!)","v":{"$error":"#REF!"}},{"$f":"IF(Data!#REF!=\"\",\"\",Data!#REF!)","v":{"$error":"#REF!"}},{"$f":"IF(Data!#REF!=\"\",\"\",Data!#REF!)","v":{"$error":"#REF!"}},{"$f":"IF(Data!#REF!=\"\",\"\",Data!#REF!)","v":{"$error":"#REF!"}},{"$error":"#REF!"},{"$error":"#REF!"},{"$error":"#REF!"}]
[{"$f":"IF(Data!#REF!=\"\",\"\",Data!#REF!)","v":{"$error":"#REF!"}},{"$f":"IF(Data!#REF!=\"\",\"\",Data!#REF!)","v":{"$error":"#REF!"}},{"$f":"IF(Data!#REF!=\"\",\"\",Data!#REF!)","v":{"$error":"#REF!"}},{"$f":"IF(Data!#REF!=\"\",\"\",Data!#REF!)","v":{"$error":"#REF!"}},{"$f":"IF(Data!#REF!=\"\",\"\",Data!#REF!)","v":{"$error":"#REF!"}},{"$error":"#REF!"},{"$error":"#REF!"},{"$error":"#REF!"}]
[{"$f":"IF(Data!#REF!=\"\",\"\",Data!#REF!)","v":{"$error":"#REF!"}},{"$f":"IF(Data!#REF!=\"\",\"\",Data!#REF!)","v":{"$error":"#REF!"}},{"$f":"IF(Data!#REF!=\"\",\"\",Data!#REF!)","v":{"$error":"#REF!"}},{"$f":"IF(Data!#REF!=\"\",\"\",Data!#REF!)","v":{"$error":"#REF!"}},{"$f":"IF(Data!#REF!=\"\",\"\",Data!#REF!)","v":{"$error":"#REF!"}},{"$error":"#REF!"},{"$error":"#REF!"},{"$error":"#REF!"}]
[{"$f":"IF(Data!#REF!=\"\",\"\",Data!#REF!)","v":{"$error":"#REF!"}},{"$f":"IF(Data!#REF!=\"\",\"\",Data!#REF!)","v":{"$error":"#REF!"}},{"$f":"IF(Data!#REF!=\"\",\"\",Data!#REF!)","v":{"$error":"#REF!"}},{"$f":"IF(Data!#REF!=\"\",\"\",Data!#REF!)","v":{"$error":"#REF!"}},{"$f":"IF(Data!#REF!=\"\",\"\",Data!#REF!)","v":{"$error":"#REF!"}},{"$error":"#REF!"},{"$error":"#REF!"},{"$error":"#REF!"}]
[{"$f":"IF(Data!#REF!=\"\",\"\",Data!#REF!)","v":{"$error":"#REF!"}},{"$f":"IF(Data!#REF!=\"\",\"\",Data!#REF!)","v":{"$error":"#REF!"}},{"$f":"IF(Data!#REF!=\"\",\"\",Data!#REF!)","v":{"$error":"#REF!"}},{"$f":"IF(Data!#REF!=\"\",\"\",Data!#REF!)","v":{"$error":"#REF!"}},{"$f":"IF(Data!#REF!=\"\",\"\",Data!#REF!)","v":{"$error":"#REF!"}},{"$error":"#REF!"},{"$error":"#REF!"},{"$error":"#REF!"}]
[{"$f":"IF(Data!#REF!=\"\",\"\",Data!#REF!)","v":{"$error":"#REF!"}},{"$f":"IF(Data!#REF!=\"\",\"\",Data!#REF!)","v":{"$error":"#REF!"}},{"$f":"IF(Data!#REF!=\"\",\"\",Data!#REF!)","v":{"$error":"#REF!"}},{"$f":"IF(Data!#REF!=\"\",\"\",Data!#REF!)","v":{"$error":"#REF!"}},{"$f":"IF(Data!#REF!=\"\",\"\",Data!#REF!)","v":{"$error":"#REF!"}},{"$error":"#REF!"},{"$error":"#REF!"},{"$error":"#REF!"}]
[{"$f":"IF(Data!#REF!=\"\",\"\",Data!#REF!)","v":{"$error":"#REF!"}},{"$f":"IF(Data!#REF!=\"\",\"\",Data!#REF!)","v":{"$error":"#REF!"}},{"$f":"IF(Data!#REF!=\"\",\"\",Data!#REF!)","v":{"$error":"#REF!"}},{"$f":"IF(Data!#REF!=\"\",\"\",Data!#REF!)","v":{"$error":"#REF!"}},{"$f":"IF(Data!#REF!=\"\",\"\",Data!#REF!)","v":{"$error":"#REF!"}},{"$error":"#REF!"},{"$error":"#REF!"},{"$error":"#REF!"}]
[{"$f":"IF(Data!#REF!=\"\",\"\",Data!#REF!)","v":{"$error":"#REF!"}},{"$f":"IF(Data!#REF!=\"\",\"\",Data!#REF!)","v":{"$error":"#REF!"}},{"$f":"IF(Data!#REF!=\"\",\"\",Data!#REF!)","v":{"$error":"#REF!"}},{"$f":"IF(Data!#REF!=\"\",\"\",Data!#REF!)","v":{"$error":"#REF!"}},{"$f":"IF(Data!#REF!=\"\",\"\",Data!#REF!)","v":{"$error":"#REF!"}},{"$error":"#REF!"},{"$error":"#REF!"},{"$error":"#REF!"}]
[{"$f":"IF(Data!#REF!=\"\",\"\",Data!#REF!)","v":{"$error":"#REF!"}},{"$f":"IF(Data!#REF!=\"\",\"\",Data!#REF!)","v":{"$error":"#REF!"}},{"$f":"IF(Data!#REF!=\"\",\"\",Data!#REF!)","v":{"$error":"#REF!"}},{"$f":"IF(Data!#REF!=\"\",\"\",Data!#REF!)","v":{"$error":"#REF!"}},{"$f":"IF(Data!#REF!=\"\",\"\",Data!#REF!)","v":{"$error":"#REF!"}},{"$error":"#REF!"},{"$error":"#REF!"},{"$error":"#REF!"}]
[{"$f":"IF(Data!#REF!=\"\",\"\",Data!#REF!)","v":{"$error":"#REF!"}},{"$f":"IF(Data!#REF!=\"\",\"\",Data!#REF!)","v":{"$error":"#REF!"}},{"$f":"IF(Data!#REF!=\"\",\"\",Data!#REF!)","v":{"$error":"#REF!"}},{"$f":"IF(Data!#REF!=\"\",\"\",Data!#REF!)","v":{"$error":"#REF!"}},{"$f":"IF(Data!#REF!=\"\",\"\",Data!#REF!)","v":{"$error":"#REF!"}},{"$error":"#REF!"},{"$error":"#REF!"},{"$error":"#REF!"}]
[{"$f":"IF(Data!#REF!=\"\",\"\",Data!#REF!)","v":{"$error":"#REF!"}},{"$f":"IF(Data!#REF!=\"\",\"\",Data!#REF!)","v":{"$error":"#REF!"}},{"$f":"IF(Data!#REF!=\"\",\"\",Data!#REF!)","v":{"$error":"#REF!"}},{"$f":"IF(Data!#REF!=\"\",\"\",Data!#REF!)","v":{"$error":"#REF!"}},{"$f":"IF(Data!#REF!=\"\",\"\",Data!#REF!)","v":{"$error":"#REF!"}},{"$error":"#REF!"},{"$error":"#REF!"},{"$error":"#REF!"}]
[{"$f":"IF(Data!#REF!=\"\",\"\",Data!#REF!)","v":{"$error":"#REF!"}},{"$f":"IF(Data!#REF!=\"\",\"\",Data!#REF!)","v":{"$error":"#REF!"}},{"$f":"IF(Data!#REF!=\"\",\"\",Data!#REF!)","v":{"$error":"#REF!"}},{"$f":"IF(Data!#REF!=\"\",\"\",Data!#REF!)","v":{"$error":"#REF!"}},{"$f":"IF(Data!#REF!=\"\",\"\",Data!#REF!)","v":{"$error":"#REF!"}},{"$error":"#REF!"},{"$error":"#REF!"},{"$error":"#REF!"}]
[{"$f":"IF(Data!#REF!=\"\",\"\",Data!#REF!)","v":{"$error":"#REF!"}},{"$f":"IF(Data!#REF!=\"\",\"\",Data!#REF!)","v":{"$error":"#REF!"}},{"$f":"IF(Data!#REF!=\"\",\"\",Data!#REF!)","v":{"$error":"#REF!"}},{"$f":"IF(Data!#REF!=\"\",\"\",Data!#REF!)","v":{"$error":"#REF!"}},{"$f":"IF(Data!#REF!=\"\",\"\",Data!#REF!)","v":{"$error":"#REF!"}},{"$error":"#REF!"},{"$error":"#REF!"},{"$error":"#REF!"}]
[{"$f":"IF(Data!#REF!=\"\",\"\",Data!#REF!)","v":{"$error":"#REF!"}},{"$f":"IF(Data!#REF!=\"\",\"\",Data!#REF!)","v":{"$error":"#REF!"}},{"$f":"IF(Data!#REF!=\"\",\"\",Data!#REF!)","v":{"$error":"#REF!"}},{"$f":"IF(Data!#REF!=\"\",\"\",Data!#REF!)","v":{"$error":"#REF!"}},{"$f":"IF(Data!#REF!=\"\",\"\",Data!#REF!)","v":{"$error":"#REF!"}},{"$error":"#REF!"},{"$error":"#REF!"},{"$error":"#REF!"}]
[{"$f":"IF(Data!#REF!=\"\",\"\",Data!#REF!)","v":{"$error":"#REF!"}},{"$f":"IF(Data!#REF!=\"\",\"\",Data!#REF!)","v":{"$error":"#REF!"}},{"$f":"IF(Data!#REF!=\"\",\"\",Data!#REF!)","v":{"$error":"#REF!"}},{"$f":"IF(Data!#REF!=\"\",\"\",Data!#REF!)","v":{"$error":"#REF!"}},{"$f":"IF(Data!#REF!=\"\",\"\",Data!#REF!)","v":{"$error":"#REF!"}},{"$error":"#REF!"},{"$error":"#REF!"},{"$error":"#REF!"}]
[{"$f":"IF(Data!#REF!=\"\",\"\",Data!#REF!)","v":{"$error":"#REF!"}},{"$f":"IF(Data!#REF!=\"\",\"\",Data!#REF!)","v":{"$error":"#REF!"}},{"$f":"IF(Data!#REF!=\"\",\"\",Data!#REF!)","v":{"$error":"#REF!"}},{"$f":"IF(Data!#REF!=\"\",\"\",Data!#REF!)","v":{"$error":"#REF!"}},{"$f":"IF(Data!#REF!=\"\",\"\",Data!#REF!)","v":{"$error":"#REF!"}},{"$error":"#REF!"},{"$error":"#REF!"},{"$error":"#REF!"}]
[{"$f":"IF(Data!#REF!=\"\",\"\",Data!#REF!)","v":{"$error":"#REF!"}},{"$f":"IF(Data!#REF!=\"\",\"\",Data!#REF!)","v":{"$error":"#REF!"}},{"$f":"IF(Data!#REF!=\"\",\"\",Data!#REF!)","v":{"$error":"#REF!"}},{"$f":"IF(Data!#REF!=\"\",\"\",Data!#REF!)","v":{"$error":"#REF!"}},{"$f":"IF(Data!#REF!=\"\",\"\",Data!#REF!)","v":{"$error":"#REF!"}},{"$error":"#REF!"},{"$error":"#REF!"},{"$error":"#REF!"}]
[{"$f":"IF(Data!#REF!=\"\",\"\",Data!#REF!)","v":{"$error":"#REF!"}},{"$f":"IF(Data!#REF!=\"\",\"\",Data!#REF!)","v":{"$error":"#REF!"}},{"$f":"IF(Data!#REF!=\"\",\"\",Data!#REF!)","v":{"$error":"#REF!"}},{"$f":"IF(Data!#REF!=\"\",\"\",Data!#REF!)","v":{"$error":"#REF!"}},{"$f":"IF(Data!#REF!=\"\",\"\",Data!#REF!)","v":{"$error":"#REF!"}},{"$error":"#REF!"},{"$error":"#REF!"},{"$error":"#REF!"}]
[{"$f":"IF(Data!#REF!=\"\",\"\",Data!#REF!)","v":{"$error":"#REF!"}},{"$f":"IF(Data!#REF!=\"\",\"\",Data!#REF!)","v":{"$error":"#REF!"}},{"$f":"IF(Data!#REF!=\"\",\"\",Data!#REF!)","v":{"$error":"#REF!"}},{"$f":"IF(Data!#REF!=\"\",\"\",Data!#REF!)","v":{"$error":"#REF!"}},{"$f":"IF(Data!#REF!=\"\",\"\",Data!#REF!)","v":{"$error":"#REF!"}},{"$error":"#REF!"},{"$error":"#REF!"},{"$error":"#REF!"}]
[{"$f":"IF(Data!#REF!=\"\",\"\",Data!#REF!)","v":{"$error":"#REF!"}},{"$f":"IF(Data!#REF!=\"\",\"\",Data!#REF!)","v":{"$error":"#REF!"}},{"$f":"IF(Data!#REF!=\"\",\"\",Data!#REF!)","v":{"$error":"#REF!"}},{"$f":"IF(Data!#REF!=\"\",\"\",Data!#REF!)","v":{"$error":"#REF!"}},{"$f":"IF(Data!#REF!=\"\",\"\",Data!#REF!)","v":{"$error":"#REF!"}},{"$error":"#REF!"},{"$error":"#REF!"},{"$error":"#REF!"}]
[{"$f":"IF(Data!#REF!=\"\",\"\",Data!#REF!)","v":{"$error":"#REF!"}},{"$f":"IF(Data!#REF!=\"\",\"\",Data!#REF!)","v":{"$error":"#REF!"}},{"$f":"IF(Data!#REF!=\"\",\"\",Data!#REF!)","v":{"$error":"#REF!"}},{"$f":"IF(Data!#REF!=\"\",\"\",Data!#REF!)","v":{"$error":"#REF!"}},{"$f":"IF(Data!#REF!=\"\",\"\",Data!#REF!)","v":{"$error":"#REF!"}},{"$error":"#REF!"},{"$error":"#REF!"},{"$error":"#REF!"}]
[{"$f":"IF(Data!#REF!=\"\",\"\",Data!#REF!)","v":{"$error":"#REF!"}},{"$f":"IF(Data!#REF!=\"\",\"\",Data!#REF!)","v":{"$error":"#REF!"}},{"$f":"IF(Data!#REF!=\"\",\"\",Data!#REF!)","v":{"$error":"#REF!"}},{"$f":"IF(Data!#REF!=\"\",\"\",Data!#REF!)","v":{"$error":"#REF!"}},{"$f":"IF(Data!#REF!=\"\",\"\",Data!#REF!)","v":{"$error":"#REF!"}},{"$error":"#REF!"},{"$error":"#REF!"},{"$error":"#REF!"}]
[{"$f":"IF(Data!#REF!=\"\",\"\",Data!#REF!)","v":{"$error":"#REF!"}},{"$f":"IF(Data!#REF!=\"\",\"\",Data!#REF!)","v":{"$error":"#REF!"}},{"$f":"IF(Data!#REF!=\"\",\"\",Data!#REF!)","v":{"$error":"#REF!"}},{"$f":"IF(Data!#REF!=\"\",\"\",Data!#REF!)","v":{"$error":"#REF!"}},{"$f":"IF(Data!#REF!=\"\",\"\",Data!#REF!)","v":{"$error":"#REF!"}},{"$error":"#REF!"},{"$error":"#REF!"},{"$error":"#REF!"}]
[{"$f":"IF(Data!#REF!=\"\",\"\",Data!#REF!)","v":{"$error":"#REF!"}},{"$f":"IF(Data!#REF!=\"\",\"\",Data!#REF!)","v":{"$error":"#REF!"}},{"$f":"IF(Data!#REF!=\"\",\"\",Data!#REF!)","v":{"$error":"#REF!"}},{"$f":"IF(Data!#REF!=\"\",\"\",Data!#REF!)","v":{"$error":"#REF!"}},{"$f":"IF(Data!#REF!=\"\",\"\",Data!#REF!)","v":{"$error":"#REF!"}},{"$error":"#REF!"},{"$error":"#REF!"},{"$error":"#REF!"}]
[{"$f":"IF(Data!#REF!=\"\",\"\",Data!#REF!)","v":{"$error":"#REF!"}},{"$f":"IF(Data!#REF!=\"\",\"\",Data!#REF!)","v":{"$error":"#REF!"}},{"$f":"IF(Data!#REF!=\"\",\"\",Data!#REF!)","v":{"$error":"#REF!"}},{"$f":"IF(Data!#REF!=\"\",\"\",Data!#REF!)","v":{"$error":"#REF!"}},{"$f":"IF(Data!#REF!=\"\",\"\",Data!#REF!)","v":{"$error":"#REF!"}},{"$error":"#REF!"},{"$error":"#REF!"},{"$error":"#REF!"}]
[{"$f":"IF(Data!#REF!=\"\",\"\",Data!#REF!)","v":{"$error":"#REF!"}},{"$f":"IF(Data!#REF!=\"\",\"\",Data!#REF!)","v":{"$error":"#REF!"}},{"$f":"IF(Data!#REF!=\"\",\"\",Data!#REF!)","v":{"$error":"#REF!"}},{"$f":"IF(Data!#REF!=\"\",\"\",Data!#REF!)","v":{"$error":"#REF!"}},{"$f":"IF(Data!#REF!=\"\",\"\",Data!#REF!)","v":{"$error":"#REF!"}},{"$error":"#REF!"},{"$error":"#REF!"},{"$error":"#REF!"}]
[{"$f":"IF(Data!#REF!=\"\",\"\",Data!#REF!)","v":{"$error":"#REF!"}},{"$f":"IF(Data!#REF!=\"\",\"\",Data!#REF!)","v":{"$error":"#REF!"}},{"$f":"IF(Data!#REF!=\"\",\"\",Data!#REF!)","v":{"$error":"#REF!"}},{"$f":"IF(Data!#REF!=\"\",\"\",Data!#REF!)","v":{"$error":"#REF!"}},{"$f":"IF(Data!#REF!=\"\",\"\",Data!#REF!)","v":{"$error":"#REF!"}},{"$error":"#REF!"},{"$error":"#REF!"},{"$error":"#REF!"}]
[{"$f":"IF(Data!#REF!=\"\",\"\",Data!#REF!)","v":{"$error":"#REF!"}},{"$f":"IF(Data!#REF!=\"\",\"\",Data!#REF!)","v":{"$error":"#REF!"}},{"$f":"IF(Data!#REF!=\"\",\"\",Data!#REF!)","v":{"$error":"#REF!"}},{"$f":"IF(Data!#REF!=\"\",\"\",Data!#REF!)","v":{"$error":"#REF!"}},{"$f":"IF(Data!#REF!=\"\",\"\",Data!#REF!)","v":{"$error":"#REF!"}},{"$error":"#REF!"},{"$error":"#REF!"},{"$error":"#REF!"}]
[{"$f":"IF(Data!#REF!=\"\",\"\",Data!#REF!)","v":{"$error":"#REF!"}},{"$f":"IF(Data!#REF!=\"\",\"\",Data!#REF!)","v":{"$error":"#REF!"}},{"$f":"IF(Data!#REF!=\"\",\"\",Data!#REF!)","v":{"$error":"#REF!"}},{"$f":"IF(Data!#REF!=\"\",\"\",Data!#REF!)","v":{"$error":"#REF!"}},{"$f":"IF(Data!#REF!=\"\",\"\",Data!#REF!)","v":{"$error":"#REF!"}},{"$error":"#REF!"},{"$error":"#REF!"},{"$error":"#REF!"}]
[{"$f":"IF(Data!#REF!=\"\",\"\",Data!#REF!)","v":{"$error":"#REF!"}},{"$f":"IF(Data!#REF!=\"\",\"\",Data!#REF!)","v":{"$error":"#REF!"}},{"$f":"IF(Data!#REF!=\"\",\"\",Data!#REF!)","v":{"$error":"#REF!"}},{"$f":"IF(Data!#REF!=\"\",\"\",Data!#REF!)","v":{"$error":"#REF!"}},{"$f":"IF(Data!#REF!=\"\",\"\",Data!#REF!)","v":{"$error":"#REF!"}},{"$error":"#REF!"},{"$error":"#REF!"},{"$error":"#REF!"}]
[{"$f":"IF(Data!#REF!=\"\",\"\",Data!#REF!)","v":{"$error":"#REF!"}},{"$f":"IF(Data!#REF!=\"\",\"\",Data!#REF!)","v":{"$error":"#REF!"}},{"$f":"IF(Data!#REF!=\"\",\"\",Data!#REF!)","v":{"$error":"#REF!"}},{"$f":"IF(Data!#REF!=\"\",\"\",Data!#REF!)","v":{"$error":"#REF!"}},{"$f":"IF(Data!#REF!=\"\",\"\",Data!#REF!)","v":{"$error":"#REF!"}},{"$error":"#REF!"},{"$error":"#REF!"},{"$error":"#REF!"}]
[{"$f":"IF(Data!#REF!=\"\",\"\",Data!#REF!)","v":{"$error":"#REF!"}},{"$f":"IF(Data!#REF!=\"\",\"\",Data!#REF!)","v":{"$error":"#REF!"}},{"$f":"IF(Data!#REF!=\"\",\"\",Data!#REF!)","v":{"$error":"#REF!"}},{"$f":"IF(Data!#REF!=\"\",\"\",Data!#REF!)","v":{"$error":"#REF!"}},{"$f":"IF(Data!#REF!=\"\",\"\",Data!#REF!)","v":{"$error":"#REF!"}},{"$error":"#REF!"},{"$error":"#REF!"},{"$error":"#REF!"}]
[{"$f":"IF(Data!#REF!=\"\",\"\",Data!#REF!)","v":{"$error":"#REF!"}},{"$f":"IF(Data!#REF!=\"\",\"\",Data!#REF!)","v":{"$error":"#REF!"}},{"$f":"IF(Data!#REF!=\"\",\"\",Data!#REF!)","v":{"$error":"#REF!"}},{"$f":"IF(Data!#REF!=\"\",\"\",Data!#REF!)","v":{"$error":"#REF!"}},{"$f":"IF(Data!#REF!=\"\",\"\",Data!#REF!)","v":{"$error":"#REF!"}},{"$error":"#REF!"},{"$error":"#REF!"},{"$error":"#REF!"}]
[{"$f":"IF(Data!#REF!=\"\",\"\",Data!#REF!)","v":{"$error":"#REF!"}},{"$f":"IF(Data!#REF!=\"\",\"\",Data!#REF!)","v":{"$error":"#REF!"}},{"$f":"IF(Data!#REF!=\"\",\"\",Data!#REF!)","v":{"$error":"#REF!"}},{"$f":"IF(Data!#REF!=\"\",\"\",Data!#REF!)","v":{"$error":"#REF!"}},{"$f":"IF(Data!#REF!=\"\",\"\",Data!#REF!)","v":{"$error":"#REF!"}},{"$error":"#REF!"},{"$error":"#REF!"},{"$error":"#REF!"}]
[{"$f":"IF(Data!#REF!=\"\",\"\",Data!#REF!)","v":{"$error":"#REF!"}},{"$f":"IF(Data!#REF!=\"\",\"\",Data!#REF!)","v":{"$error":"#REF!"}},{"$f":"IF(Data!#REF!=\"\",\"\",Data!#REF!)","v":{"$error":"#REF!"}},{"$f":"IF(Data!#REF!=\"\",\"\",Data!#REF!)","v":{"$error":"#REF!"}},{"$f":"IF(Data!#REF!=\"\",\"\",Data!#REF!)","v":{"$error":"#REF!"}},{"$error":"#REF!"},{"$error":"#REF!"},{"$error":"#REF!"}]
[{"$f":"IF(Data!#REF!=\"\",\"\",Data!#REF!)","v":{"$error":"#REF!"}},{"$f":"IF(Data!#REF!=\"\",\"\",Data!#REF!)","v":{"$error":"#REF!"}},{"$f":"IF(Data!#REF!=\"\",\"\",Data!#REF!)","v":{"$error":"#REF!"}},{"$f":"IF(Data!#REF!=\"\",\"\",Data!#REF!)","v":{"$error":"#REF!"}},{"$f":"IF(Data!#REF!=\"\",\"\",Data!#REF!)","v":{"$error":"#REF!"}},{"$error":"#REF!"},{"$error":"#REF!"},{"$error":"#REF!"}]
[{"$f":"IF(Data!#REF!=\"\",\"\",Data!#REF!)","v":{"$error":"#REF!"}},{"$f":"IF(Data!#REF!=\"\",\"\",Data!#REF!)","v":{"$error":"#REF!"}},{"$f":"IF(Data!#REF!=\"\",\"\",Data!#REF!)","v":{"$error":"#REF!"}},{"$f":"IF(Data!#REF!=\"\",\"\",Data!#REF!)","v":{"$error":"#REF!"}},{"$f":"IF(Data!#REF!=\"\",\"\",Data!#REF!)","v":{"$error":"#REF!"}},{"$error":"#REF!"},{"$error":"#REF!"},{"$error":"#REF!"}]
[{"$f":"IF(Data!#REF!=\"\",\"\",Data!#REF!)","v":{"$error":"#REF!"}},{"$f":"IF(Data!#REF!=\"\",\"\",Data!#REF!)","v":{"$error":"#REF!"}},{"$f":"IF(Data!#REF!=\"\",\"\",Data!#REF!)","v":{"$error":"#REF!"}},{"$f":"IF(Data!#REF!=\"\",\"\",Data!#REF!)","v":{"$error":"#REF!"}},{"$f":"IF(Data!#REF!=\"\",\"\",Data!#REF!)","v":{"$error":"#REF!"}},{"$error":"#REF!"},{"$error":"#REF!"},{"$error":"#REF!"}]
[{"$f":"IF(Data!#REF!=\"\",\"\",Data!#REF!)","v":{"$error":"#REF!"}},{"$f":"IF(Data!#REF!=\"\",\"\",Data!#REF!)","v":{"$error":"#REF!"}},{"$f":"IF(Data!#REF!=\"\",\"\",Data!#REF!)","v":{"$error":"#REF!"}},{"$f":"IF(Data!#REF!=\"\",\"\",Data!#REF!)","v":{"$error":"#REF!"}},{"$f":"IF(Data!#REF!=\"\",\"\",Data!#REF!)","v":{"$error":"#REF!"}},{"$error":"#REF!"},{"$error":"#REF!"},{"$error":"#REF!"}]
[{"$f":"IF(Data!#REF!=\"\",\"\",Data!#REF!)","v":{"$error":"#REF!"}},{"$f":"IF(Data!#REF!=\"\",\"\",Data!#REF!)","v":{"$error":"#REF!"}},{"$f":"IF(Data!#REF!=\"\",\"\",Data!#REF!)","v":{"$error":"#REF!"}},{"$f":"IF(Data!#REF!=\"\",\"\",Data!#REF!)","v":{"$error":"#REF!"}},{"$f":"IF(Data!#REF!=\"\",\"\",Data!#REF!)","v":{"$error":"#REF!"}},{"$error":"#REF!"},{"$error":"#REF!"},{"$error":"#REF!"}]
[{"$f":"IF(Data!#REF!=\"\",\"\",Data!#REF!)","v":{"$error":"#REF!"}},{"$f":"IF(Data!#REF!=\"\",\"\",Data!#REF!)","v":{"$error":"#REF!"}},{"$f":"IF(Data!#REF!=\"\",\"\",Data!#REF!)","v":{"$error":"#REF!"}},{"$f":"IF(Data!#REF!=\"\",\"\",Data!#REF!)","v":{"$error":"#REF!"}},{"$f":"IF(Data!#REF!=\"\",\"\",Data!#REF!)","v":{"$error":"#REF!"}},{"$error":"#REF!"},{"$error":"#REF!"},{"$error":"#REF!"}]
[{"$f":"IF(Data!#REF!=\"\",\"\",Data!#REF!)","v":{"$error":"#REF!"}},{"$f":"IF(Data!#REF!=\"\",\"\",Data!#REF!)","v":{"$error":"#REF!"}},{"$f":"IF(Data!#REF!=\"\",\"\",Data!#REF!)","v":{"$error":"#REF!"}},{"$f":"IF(Data!#REF!=\"\",\"\",Data!#REF!)","v":{"$error":"#REF!"}},{"$f":"IF(Data!#REF!=\"\",\"\",Data!#REF!)","v":{"$error":"#REF!"}},{"$error":"#REF!"},{"$error":"#REF!"},{"$error":"#REF!"}]
[{"$f":"IF(Data!#REF!=\"\",\"\",Data!#REF!)","v":{"$error":"#REF!"}},{"$f":"IF(Data!#REF!=\"\",\"\",Data!#REF!)","v":{"$error":"#REF!"}},{"$f":"IF(Data!#REF!=\"\",\"\",Data!#REF!)","v":{"$error":"#REF!"}},{"$f":"IF(Data!#REF!=\"\",\"\",Data!#REF!)","v":{"$error":"#REF!"}},{"$f":"IF(Data!#REF!=\"\",\"\",Data!#REF!)","v":{"$error":"#REF!"}},{"$error":"#REF!"},{"$error":"#REF!"},{"$error":"#REF!"}]
[{"$f":"IF(Data!#REF!=\"\",\"\",Data!#REF!)","v":{"$error":"#REF!"}},{"$f":"IF(Data!#REF!=\"\",\"\",Data!#REF!)","v":{"$error":"#REF!"}},{"$f":"IF(Data!#REF!=\"\",\"\",Data!#REF!)","v":{"$error":"#REF!"}},{"$f":"IF(Data!#REF!=\"\",\"\",Data!#REF!)","v":{"$error":"#REF!"}},{"$f":"IF(Data!#REF!=\"\",\"\",Data!#REF!)","v":{"$error":"#REF!"}},{"$error":"#REF!"},{"$error":"#REF!"},{"$error":"#REF!"}]
[{"$f":"IF(Data!#REF!=\"\",\"\",Data!#REF!)","v":{"$error":"#REF!"}},{"$f":"IF(Data!#REF!=\"\",\"\",Data!#REF!)","v":{"$error":"#REF!"}},{"$f":"IF(Data!#REF!=\"\",\"\",Data!#REF!)","v":{"$error":"#REF!"}},{"$f":"IF(Data!#REF!=\"\",\"\",Data!#REF!)","v":{"$error":"#REF!"}},{"$f":"IF(Data!#REF!=\"\",\"\",Data!#REF!)","v":{"$error":"#REF!"}},{"$error":"#REF!"},{"$error":"#REF!"},{"$error":"#REF!"}]
[{"$f":"IF(Data!#REF!=\"\",\"\",Data!#REF!)","v":{"$error":"#REF!"}},{"$f":"IF(Data!#REF!=\"\",\"\",Data!#REF!)","v":{"$error":"#REF!"}},{"$f":"IF(Data!#REF!=\"\",\"\",Data!#REF!)","v":{"$error":"#REF!"}},{"$f":"IF(Data!#REF!=\"\",\"\",Data!#REF!)","v":{"$error":"#REF!"}},{"$f":"IF(Data!#REF!=\"\",\"\",Data!#REF!)","v":{"$error":"#REF!"}},{"$error":"#REF!"},{"$error":"#REF!"},{"$error":"#REF!"}]
[{"$f":"IF(Data!#REF!=\"\",\"\",Data!#REF!)","v":{"$error":"#REF!"}},{"$f":"IF(Data!#REF!=\"\",\"\",Data!#REF!)","v":{"$error":"#REF!"}},{"$f":"IF(Data!#REF!=\"\",\"\",Data!#REF!)","v":{"$error":"#REF!"}},{"$f":"IF(Data!#REF!=\"\",\"\",Data!#REF!)","v":{"$error":"#REF!"}},{"$f":"IF(Data!#REF!=\"\",\"\",Data!#REF!)","v":{"$error":"#REF!"}},{"$error":"#REF!"},{"$error":"#REF!"},{"$error":"#REF!"}]
[{"$f":"IF(Data!#REF!=\"\",\"\",Data!#REF!)","v":{"$error":"#REF!"}},{"$f":"IF(Data!#REF!=\"\",\"\",Data!#REF!)","v":{"$error":"#REF!"}},{"$f":"IF(Data!#REF!=\"\",\"\",Data!#REF!)","v":{"$error":"#REF!"}},{"$f":"IF(Data!#REF!=\"\",\"\",Data!#REF!)","v":{"$error":"#REF!"}},{"$f":"IF(Data!#REF!=\"\",\"\",Data!#REF!)","v":{"$error":"#REF!"}},{"$error":"#REF!"},{"$error":"#REF!"},{"$error":"#REF!"}]
[{"$f":"IF(Data!#REF!=\"\",\"\",Data!#REF!)","v":{"$error":"#REF!"}},{"$f":"IF(Data!#REF!=\"\",\"\",Data!#REF!)","v":{"$error":"#REF!"}},{"$f":"IF(Data!#REF!=\"\",\"\",Data!#REF!)","v":{"$error":"#REF!"}},{"$f":"IF(Data!#REF!=\"\",\"\",Data!#REF!)","v":{"$error":"#REF!"}},{"$f":"IF(Data!#REF!=\"\",\"\",Data!#REF!)","v":{"$error":"#REF!"}},{"$error":"#REF!"},{"$error":"#REF!"},{"$error":"#REF!"}]
[{"$f":"IF(Data!#REF!=\"\",\"\",Data!#REF!)","v":{"$error":"#REF!"}},{"$f":"IF(Data!#REF!=\"\",\"\",Data!#REF!)","v":{"$error":"#REF!"}},{"$f":"IF(Data!#REF!=\"\",\"\",Data!#REF!)","v":{"$error":"#REF!"}},{"$f":"IF(Data!#REF!=\"\",\"\",Data!#REF!)","v":{"$error":"#REF!"}},{"$f":"IF(Data!#REF!=\"\",\"\",Data!#REF!)","v":{"$error":"#REF!"}},{"$error":"#REF!"},{"$error":"#REF!"},{"$error":"#REF!"}]
[{"$f":"IF(Data!#REF!=\"\",\"\",Data!#REF!)","v":{"$error":"#REF!"}},{"$f":"IF(Data!#REF!=\"\",\"\",Data!#REF!)","v":{"$error":"#REF!"}},{"$f":"IF(Data!#REF!=\"\",\"\",Data!#REF!)","v":{"$error":"#REF!"}},{"$f":"IF(Data!#REF!=\"\",\"\",Data!#REF!)","v":{"$error":"#REF!"}},{"$f":"IF(Data!#REF!=\"\",\"\",Data!#REF!)","v":{"$error":"#REF!"}},{"$error":"#REF!"},{"$error":"#REF!"},{"$error":"#REF!"}]
[{"$f":"IF(Data!#REF!=\"\",\"\",Data!#REF!)","v":{"$error":"#REF!"}},{"$f":"IF(Data!#REF!=\"\",\"\",Data!#REF!)","v":{"$error":"#REF!"}},{"$f":"IF(Data!#REF!=\"\",\"\",Data!#REF!)","v":{"$error":"#REF!"}},{"$f":"IF(Data!#REF!=\"\",\"\",Data!#REF!)","v":{"$error":"#REF!"}},{"$f":"IF(Data!#REF!=\"\",\"\",Data!#REF!)","v":{"$error":"#REF!"}},{"$error":"#REF!"},{"$error":"#REF!"},{"$error":"#REF!"}]
[{"$f":"IF(Data!#REF!=\"\",\"\",Data!#REF!)","v":{"$error":"#REF!"}},{"$f":"IF(Data!#REF!=\"\",\"\",Data!#REF!)","v":{"$error":"#REF!"}},{"$f":"IF(Data!#REF!=\"\",\"\",Data!#REF!)","v":{"$error":"#REF!"}},{"$f":"IF(Data!#REF!=\"\",\"\",Data!#REF!)","v":{"$error":"#REF!"}},{"$f":"IF(Data!#REF!=\"\",\"\",Data!#REF!)","v":{"$error":"#REF!"}},{"$error":"#REF!"},{"$error":"#REF!"},{"$error":"#REF!"}]
[{"$f":"IF(Data!#REF!=\"\",\"\",Data!#REF!)","v":{"$error":"#REF!"}},{"$f":"IF(Data!#REF!=\"\",\"\",Data!#REF!)","v":{"$error":"#REF!"}},{"$f":"IF(Data!#REF!=\"\",\"\",Data!#REF!)","v":{"$error":"#REF!"}},{"$f":"IF(Data!#REF!=\"\",\"\",Data!#REF!)","v":{"$error":"#REF!"}},{"$f":"IF(Data!#REF!=\"\",\"\",Data!#REF!)","v":{"$error":"#REF!"}},{"$error":"#REF!"},{"$error":"#REF!"},{"$error":"#REF!"}]
[{"$f":"IF(Data!#REF!=\"\",\"\",Data!#REF!)","v":{"$error":"#REF!"}},{"$f":"IF(Data!#REF!=\"\",\"\",Data!#REF!)","v":{"$error":"#REF!"}},{"$f":"IF(Data!#REF!=\"\",\"\",Data!#REF!)","v":{"$error":"#REF!"}},{"$f":"IF(Data!#REF!=\"\",\"\",Data!#REF!)","v":{"$error":"#REF!"}},{"$f":"IF(Data!#REF!=\"\",\"\",Data!#REF!)","v":{"$error":"#REF!"}},{"$error":"#REF!"},{"$error":"#REF!"},{"$error":"#REF!"}]
[{"$f":"IF(Data!#REF!=\"\",\"\",Data!#REF!)","v":{"$error":"#REF!"}},{"$f":"IF(Data!#REF!=\"\",\"\",Data!#REF!)","v":{"$error":"#REF!"}},{"$f":"IF(Data!#REF!=\"\",\"\",Data!#REF!)","v":{"$error":"#REF!"}},{"$f":"IF(Data!#REF!=\"\",\"\",Data!#REF!)","v":{"$error":"#REF!"}},{"$f":"IF(Data!#REF!=\"\",\"\",Data!#REF!)","v":{"$error":"#REF!"}},{"$error":"#REF!"},{"$error":"#REF!"},{"$error":"#REF!"}]
[{"$f":"IF(Data!#REF!=\"\",\"\",Data!#REF!)","v":{"$error":"#REF!"}},{"$f":"IF(Data!#REF!=\"\",\"\",Data!#REF!)","v":{"$error":"#REF!"}},{"$f":"IF(Data!#REF!=\"\",\"\",Data!#REF!)","v":{"$error":"#REF!"}},{"$f":"IF(Data!#REF!=\"\",\"\",Data!#REF!)","v":{"$error":"#REF!"}},{"$f":"IF(Data!#REF!=\"\",\"\",Data!#REF!)","v":{"$error":"#REF!"}},{"$error":"#REF!"},{"$error":"#REF!"},{"$error":"#REF!"}]
[{"$f":"IF(Data!#REF!=\"\",\"\",Data!#REF!)","v":{"$error":"#REF!"}},{"$f":"IF(Data!#REF!=\"\",\"\",Data!#REF!)","v":{"$error":"#REF!"}},{"$f":"IF(Data!#REF!=\"\",\"\",Data!#REF!)","v":{"$error":"#REF!"}},{"$f":"IF(Data!#REF!=\"\",\"\",Data!#REF!)","v":{"$error":"#REF!"}},{"$f":"IF(Data!#REF!=\"\",\"\",Data!#REF!)","v":{"$error":"#REF!"}},{"$error":"#REF!"},{"$error":"#REF!"},{"$error":"#REF!"}]
[{"$f":"IF(Data!#REF!=\"\",\"\",Data!#REF!)","v":{"$error":"#REF!"}},{"$f":"IF(Data!#REF!=\"\",\"\",Data!#REF!)","v":{"$error":"#REF!"}},{"$f":"IF(Data!#REF!=\"\",\"\",Data!#REF!)","v":{"$error":"#REF!"}},{"$f":"IF(Data!#REF!=\"\",\"\",Data!#REF!)","v":{"$error":"#REF!"}},{"$f":"IF(Data!#REF!=\"\",\"\",Data!#REF!)","v":{"$error":"#REF!"}},{"$f":"IF(E835>0,MONTH(E835),\"\")","v":{"$error":"#REF!"}},{"$f":"IF(E835>0,WEEKNUM(E835),\"0\")","v":{"$error":"#REF!"}},{"$f":"IF(G835>=($G$2-3),\"Ano\",\"Nie\")","v":{"$error":"#REF!"}}]
[{"$f":"IF(Data!#REF!=\"\",\"\",Data!#REF!)","v":{"$error":"#REF!"}},{"$f":"IF(Data!#REF!=\"\",\"\",Data!#REF!)","v":{"$error":"#REF!"}},{"$f":"IF(Data!#REF!=\"\",\"\",Data!#REF!)","v":{"$error":"#REF!"}},{"$f":"IF(Data!#REF!=\"\",\"\",Data!#REF!)","v":{"$error":"#REF!"}},{"$f":"IF(Data!#REF!=\"\",\"\",Data!#REF!)","v":{"$error":"#REF!"}},{"$error":"#REF!"},{"$error":"#REF!"},{"$error":"#REF!"}]
[{"$f":"IF(Data!#REF!=\"\",\"\",Data!#REF!)","v":{"$error":"#REF!"}},{"$f":"IF(Data!#REF!=\"\",\"\",Data!#REF!)","v":{"$error":"#REF!"}},{"$f":"IF(Data!#REF!=\"\",\"\",Data!#REF!)","v":{"$error":"#REF!"}},{"$f":"IF(Data!#REF!=\"\",\"\",Data!#REF!)","v":{"$error":"#REF!"}},{"$f":"IF(Data!#REF!=\"\",\"\",Data!#REF!)","v":{"$error":"#REF!"}},{"$error":"#REF!"},{"$error":"#REF!"},{"$error":"#REF!"}]
[{"$f":"IF(Data!#REF!=\"\",\"\",Data!#REF!)","v":{"$error":"#REF!"}},{"$f":"IF(Data!#REF!=\"\",\"\",Data!#REF!)","v":{"$error":"#REF!"}},{"$f":"IF(Data!#REF!=\"\",\"\",Data!#REF!)","v":{"$error":"#REF!"}},{"$f":"IF(Data!#REF!=\"\",\"\",Data!#REF!)","v":{"$error":"#REF!"}},{"$f":"IF(Data!#REF!=\"\",\"\",Data!#REF!)","v":{"$error":"#REF!"}},{"$error":"#REF!"},{"$error":"#REF!"},{"$error":"#REF!"}]
[{"$f":"IF(Data!#REF!=\"\",\"\",Data!#REF!)","v":{"$error":"#REF!"}},{"$f":"IF(Data!#REF!=\"\",\"\",Data!#REF!)","v":{"$error":"#REF!"}},{"$f":"IF(Data!#REF!=\"\",\"\",Data!#REF!)","v":{"$error":"#REF!"}},{"$f":"IF(Data!#REF!=\"\",\"\",Data!#REF!)","v":{"$error":"#REF!"}},{"$f":"IF(Data!#REF!=\"\",\"\",Data!#REF!)","v":{"$error":"#REF!"}},{"$error":"#REF!"},{"$error":"#REF!"},{"$error":"#REF!"}]
[{"$f":"IF(Data!#REF!=\"\",\"\",Data!#REF!)","v":{"$error":"#REF!"}},{"$f":"IF(Data!#REF!=\"\",\"\",Data!#REF!)","v":{"$error":"#REF!"}},{"$f":"IF(Data!#REF!=\"\",\"\",Data!#REF!)","v":{"$error":"#REF!"}},{"$f":"IF(Data!#REF!=\"\",\"\",Data!#REF!)","v":{"$error":"#REF!"}},{"$f":"IF(Data!#REF!=\"\",\"\",Data!#REF!)","v":{"$error":"#REF!"}},{"$error":"#REF!"},{"$error":"#REF!"},{"$error":"#REF!"}]
[{"$f":"IF(Data!#REF!=\"\",\"\",Data!#REF!)","v":{"$error":"#REF!"}},{"$f":"IF(Data!#REF!=\"\",\"\",Data!#REF!)","v":{"$error":"#REF!"}},{"$f":"IF(Data!#REF!=\"\",\"\",Data!#REF!)","v":{"$error":"#REF!"}},{"$f":"IF(Data!#REF!=\"\",\"\",Data!#REF!)","v":{"$error":"#REF!"}},{"$f":"IF(Data!#REF!=\"\",\"\",Data!#REF!)","v":{"$error":"#REF!"}},{"$error":"#REF!"},{"$error":"#REF!"},{"$error":"#REF!"}]
[{"$f":"IF(Data!#REF!=\"\",\"\",Data!#REF!)","v":{"$error":"#REF!"}},{"$f":"IF(Data!#REF!=\"\",\"\",Data!#REF!)","v":{"$error":"#REF!"}},{"$f":"IF(Data!#REF!=\"\",\"\",Data!#REF!)","v":{"$error":"#REF!"}},{"$f":"IF(Data!#REF!=\"\",\"\",Data!#REF!)","v":{"$error":"#REF!"}},{"$f":"IF(Data!#REF!=\"\",\"\",Data!#REF!)","v":{"$error":"#REF!"}},{"$error":"#REF!"},{"$error":"#REF!"},{"$error":"#REF!"}]
[{"$f":"IF(Data!#REF!=\"\",\"\",Data!#REF!)","v":{"$error":"#REF!"}},{"$f":"IF(Data!#REF!=\"\",\"\",Data!#REF!)","v":{"$error":"#REF!"}},{"$f":"IF(Data!#REF!=\"\",\"\",Data!#REF!)","v":{"$error":"#REF!"}},{"$f":"IF(Data!#REF!=\"\",\"\",Data!#REF!)","v":{"$error":"#REF!"}},{"$f":"IF(Data!#REF!=\"\",\"\",Data!#REF!)","v":{"$error":"#REF!"}},{"$error":"#REF!"},{"$error":"#REF!"},{"$error":"#REF!"}]
[{"$f":"IF(Data!#REF!=\"\",\"\",Data!#REF!)","v":{"$error":"#REF!"}},{"$f":"IF(Data!#REF!=\"\",\"\",Data!#REF!)","v":{"$error":"#REF!"}},{"$f":"IF(Data!#REF!=\"\",\"\",Data!#REF!)","v":{"$error":"#REF!"}},{"$f":"IF(Data!#REF!=\"\",\"\",Data!#REF!)","v":{"$error":"#REF!"}},{"$f":"IF(Data!#REF!=\"\",\"\",Data!#REF!)","v":{"$error":"#REF!"}},{"$error":"#REF!"},{"$error":"#REF!"},{"$error":"#REF!"}]
[{"$f":"IF(Data!#REF!=\"\",\"\",Data!#REF!)","v":{"$error":"#REF!"}},{"$f":"IF(Data!#REF!=\"\",\"\",Data!#REF!)","v":{"$error":"#REF!"}},{"$f":"IF(Data!#REF!=\"\",\"\",Data!#REF!)","v":{"$error":"#REF!"}},{"$f":"IF(Data!#REF!=\"\",\"\",Data!#REF!)","v":{"$error":"#REF!"}},{"$f":"IF(Data!#REF!=\"\",\"\",Data!#REF!)","v":{"$error":"#REF!"}},{"$error":"#REF!"},{"$error":"#REF!"},{"$error":"#REF!"}]
[{"$f":"IF(Data!#REF!=\"\",\"\",Data!#REF!)","v":{"$error":"#REF!"}},{"$f":"IF(Data!#REF!=\"\",\"\",Data!#REF!)","v":{"$error":"#REF!"}},{"$f":"IF(Data!#REF!=\"\",\"\",Data!#REF!)","v":{"$error":"#REF!"}},{"$f":"IF(Data!#REF!=\"\",\"\",Data!#REF!)","v":{"$error":"#REF!"}},{"$f":"IF(Data!#REF!=\"\",\"\",Data!#REF!)","v":{"$error":"#REF!"}},{"$error":"#REF!"},{"$error":"#REF!"},{"$error":"#REF!"}]
[{"$f":"IF(Data!#REF!=\"\",\"\",Data!#REF!)","v":{"$error":"#REF!"}},{"$f":"IF(Data!#REF!=\"\",\"\",Data!#REF!)","v":{"$error":"#REF!"}},{"$f":"IF(Data!#REF!=\"\",\"\",Data!#REF!)","v":{"$error":"#REF!"}},{"$f":"IF(Data!#REF!=\"\",\"\",Data!#REF!)","v":{"$error":"#REF!"}},{"$f":"IF(Data!#REF!=\"\",\"\",Data!#REF!)","v":{"$error":"#REF!"}},{"$error":"#REF!"},{"$error":"#REF!"},{"$error":"#REF!"}]
[{"$f":"IF(Data!#REF!=\"\",\"\",Data!#REF!)","v":{"$error":"#REF!"}},{"$f":"IF(Data!#REF!=\"\",\"\",Data!#REF!)","v":{"$error":"#REF!"}},{"$f":"IF(Data!#REF!=\"\",\"\",Data!#REF!)","v":{"$error":"#REF!"}},{"$f":"IF(Data!#REF!=\"\",\"\",Data!#REF!)","v":{"$error":"#REF!"}},{"$f":"IF(Data!#REF!=\"\",\"\",Data!#REF!)","v":{"$error":"#REF!"}},{"$error":"#REF!"},{"$error":"#REF!"},{"$error":"#REF!"}]
[{"$f":"IF(Data!#REF!=\"\",\"\",Data!#REF!)","v":{"$error":"#REF!"}},{"$f":"IF(Data!#REF!=\"\",\"\",Data!#REF!)","v":{"$error":"#REF!"}},{"$f":"IF(Data!#REF!=\"\",\"\",Data!#REF!)","v":{"$error":"#REF!"}},{"$f":"IF(Data!#REF!=\"\",\"\",Data!#REF!)","v":{"$error":"#REF!"}},{"$f":"IF(Data!#REF!=\"\",\"\",Data!#REF!)","v":{"$error":"#REF!"}},{"$error":"#REF!"},{"$error":"#REF!"},{"$error":"#REF!"}]
[{"$f":"IF(Data!#REF!=\"\",\"\",Data!#REF!)","v":{"$error":"#REF!"}},{"$f":"IF(Data!#REF!=\"\",\"\",Data!#REF!)","v":{"$error":"#REF!"}},{"$f":"IF(Data!#REF!=\"\",\"\",Data!#REF!)","v":{"$error":"#REF!"}},{"$f":"IF(Data!#REF!=\"\",\"\",Data!#REF!)","v":{"$error":"#REF!"}},{"$f":"IF(Data!#REF!=\"\",\"\",Data!#REF!)","v":{"$error":"#REF!"}},{"$error":"#REF!"},{"$error":"#REF!"},{"$error":"#REF!"}]
[{"$f":"IF(Data!#REF!=\"\",\"\",Data!#REF!)","v":{"$error":"#REF!"}},{"$f":"IF(Data!#REF!=\"\",\"\",Data!#REF!)","v":{"$error":"#REF!"}},{"$f":"IF(Data!#REF!=\"\",\"\",Data!#REF!)","v":{"$error":"#REF!"}},{"$f":"IF(Data!#REF!=\"\",\"\",Data!#REF!)","v":{"$error":"#REF!"}},{"$f":"IF(Data!#REF!=\"\",\"\",Data!#REF!)","v":{"$error":"#REF!"}},{"$error":"#REF!"},{"$error":"#REF!"},{"$error":"#REF!"}]
[{"$f":"IF(Data!#REF!=\"\",\"\",Data!#REF!)","v":{"$error":"#REF!"}},{"$f":"IF(Data!#REF!=\"\",\"\",Data!#REF!)","v":{"$error":"#REF!"}},{"$f":"IF(Data!#REF!=\"\",\"\",Data!#REF!)","v":{"$error":"#REF!"}},{"$f":"IF(Data!#REF!=\"\",\"\",Data!#REF!)","v":{"$error":"#REF!"}},{"$f":"IF(Data!#REF!=\"\",\"\",Data!#REF!)","v":{"$error":"#REF!"}},{"$error":"#REF!"},{"$error":"#REF!"},{"$error":"#REF!"}]
[{"$f":"IF(Data!#REF!=\"\",\"\",Data!#REF!)","v":{"$error":"#REF!"}},{"$f":"IF(Data!#REF!=\"\",\"\",Data!#REF!)","v":{"$error":"#REF!"}},{"$f":"IF(Data!#REF!=\"\",\"\",Data!#REF!)","v":{"$error":"#REF!"}},{"$f":"IF(Data!#REF!=\"\",\"\",Data!#REF!)","v":{"$error":"#REF!"}},{"$f":"IF(Data!#REF!=\"\",\"\",Data!#REF!)","v":{"$error":"#REF!"}},{"$error":"#REF!"},{"$error":"#REF!"},{"$error":"#REF!"}]
[{"$f":"IF(Data!#REF!=\"\",\"\",Data!#REF!)","v":{"$error":"#REF!"}},{"$f":"IF(Data!#REF!=\"\",\"\",Data!#REF!)","v":{"$error":"#REF!"}},{"$f":"IF(Data!#REF!=\"\",\"\",Data!#REF!)","v":{"$error":"#REF!"}},{"$f":"IF(Data!#REF!=\"\",\"\",Data!#REF!)","v":{"$error":"#REF!"}},{"$f":"IF(Data!#REF!=\"\",\"\",Data!#REF!)","v":{"$error":"#REF!"}},{"$error":"#REF!"},{"$error":"#REF!"},{"$error":"#REF!"}]
[{"$f":"IF(Data!#REF!=\"\",\"\",Data!#REF!)","v":{"$error":"#REF!"}},{"$f":"IF(Data!#REF!=\"\",\"\",Data!#REF!)","v":{"$error":"#REF!"}},{"$f":"IF(Data!#REF!=\"\",\"\",Data!#REF!)","v":{"$error":"#REF!"}},{"$f":"IF(Data!#REF!=\"\",\"\",Data!#REF!)","v":{"$error":"#REF!"}},{"$f":"IF(Data!#REF!=\"\",\"\",Data!#REF!)","v":{"$error":"#REF!"}},{"$error":"#REF!"},{"$error":"#REF!"},{"$error":"#REF!"}]
[{"$f":"IF(Data!#REF!=\"\",\"\",Data!#REF!)","v":{"$error":"#REF!"}},{"$f":"IF(Data!#REF!=\"\",\"\",Data!#REF!)","v":{"$error":"#REF!"}},{"$f":"IF(Data!#REF!=\"\",\"\",Data!#REF!)","v":{"$error":"#REF!"}},{"$f":"IF(Data!#REF!=\"\",\"\",Data!#REF!)","v":{"$error":"#REF!"}},{"$f":"IF(Data!#REF!=\"\",\"\",Data!#REF!)","v":{"$error":"#REF!"}},{"$error":"#REF!"},{"$error":"#REF!"},{"$error":"#REF!"}]
[{"$f":"IF(Data!#REF!=\"\",\"\",Data!#REF!)","v":{"$error":"#REF!"}},{"$f":"IF(Data!#REF!=\"\",\"\",Data!#REF!)","v":{"$error":"#REF!"}},{"$f":"IF(Data!#REF!=\"\",\"\",Data!#REF!)","v":{"$error":"#REF!"}},{"$f":"IF(Data!#REF!=\"\",\"\",Data!#REF!)","v":{"$error":"#REF!"}},{"$f":"IF(Data!#REF!=\"\",\"\",Data!#REF!)","v":{"$error":"#REF!"}},{"$error":"#REF!"},{"$error":"#REF!"},{"$error":"#REF!"}]
[{"$f":"IF(Data!#REF!=\"\",\"\",Data!#REF!)","v":{"$error":"#REF!"}},{"$f":"IF(Data!#REF!=\"\",\"\",Data!#REF!)","v":{"$error":"#REF!"}},{"$f":"IF(Data!#REF!=\"\",\"\",Data!#REF!)","v":{"$error":"#REF!"}},{"$f":"IF(Data!#REF!=\"\",\"\",Data!#REF!)","v":{"$error":"#REF!"}},{"$f":"IF(Data!#REF!=\"\",\"\",Data!#REF!)","v":{"$error":"#REF!"}},{"$error":"#REF!"},{"$error":"#REF!"},{"$error":"#REF!"}]
[{"$f":"IF(Data!#REF!=\"\",\"\",Data!#REF!)","v":{"$error":"#REF!"}},{"$f":"IF(Data!#REF!=\"\",\"\",Data!#REF!)","v":{"$error":"#REF!"}},{"$f":"IF(Data!#REF!=\"\",\"\",Data!#REF!)","v":{"$error":"#REF!"}},{"$f":"IF(Data!#REF!=\"\",\"\",Data!#REF!)","v":{"$error":"#REF!"}},{"$f":"IF(Data!#REF!=\"\",\"\",Data!#REF!)","v":{"$error":"#REF!"}},{"$error":"#REF!"},{"$error":"#REF!"},{"$error":"#REF!"}]
[{"$f":"IF(Data!#REF!=\"\",\"\",Data!#REF!)","v":{"$error":"#REF!"}},{"$f":"IF(Data!#REF!=\"\",\"\",Data!#REF!)","v":{"$error":"#REF!"}},{"$f":"IF(Data!#REF!=\"\",\"\",Data!#REF!)","v":{"$error":"#REF!"}},{"$f":"IF(Data!#REF!=\"\",\"\",Data!#REF!)","v":{"$error":"#REF!"}},{"$f":"IF(Data!#REF!=\"\",\"\",Data!#REF!)","v":{"$error":"#REF!"}},{"$error":"#REF!"},{"$error":"#REF!"},{"$error":"#REF!"}]
[{"$f":"IF(Data!#REF!=\"\",\"\",Data!#REF!)","v":{"$error":"#REF!"}},{"$f":"IF(Data!#REF!=\"\",\"\",Data!#REF!)","v":{"$error":"#REF!"}},{"$f":"IF(Data!#REF!=\"\",\"\",Data!#REF!)","v":{"$error":"#REF!"}},{"$f":"IF(Data!#REF!=\"\",\"\",Data!#REF!)","v":{"$error":"#REF!"}},{"$f":"IF(Data!#REF!=\"\",\"\",Data!#REF!)","v":{"$error":"#REF!"}},{"$error":"#REF!"},{"$error":"#REF!"},{"$error":"#REF!"}]
[{"$f":"IF(Data!#REF!=\"\",\"\",Data!#REF!)","v":{"$error":"#REF!"}},{"$f":"IF(Data!#REF!=\"\",\"\",Data!#REF!)","v":{"$error":"#REF!"}},{"$f":"IF(Data!#REF!=\"\",\"\",Data!#REF!)","v":{"$error":"#REF!"}},{"$f":"IF(Data!#REF!=\"\",\"\",Data!#REF!)","v":{"$error":"#REF!"}},{"$f":"IF(Data!#REF!=\"\",\"\",Data!#REF!)","v":{"$error":"#REF!"}},{"$error":"#REF!"},{"$error":"#REF!"},{"$error":"#REF!"}]
[{"$f":"IF(Data!#REF!=\"\",\"\",Data!#REF!)","v":{"$error":"#REF!"}},{"$f":"IF(Data!#REF!=\"\",\"\",Data!#REF!)","v":{"$error":"#REF!"}},{"$f":"IF(Data!#REF!=\"\",\"\",Data!#REF!)","v":{"$error":"#REF!"}},{"$f":"IF(Data!#REF!=\"\",\"\",Data!#REF!)","v":{"$error":"#REF!"}},{"$f":"IF(Data!#REF!=\"\",\"\",Data!#REF!)","v":{"$error":"#REF!"}},{"$error":"#REF!"},{"$error":"#REF!"},{"$error":"#REF!"}]
[{"$f":"IF(Data!#REF!=\"\",\"\",Data!#REF!)","v":{"$error":"#REF!"}},{"$f":"IF(Data!#REF!=\"\",\"\",Data!#REF!)","v":{"$error":"#REF!"}},{"$f":"IF(Data!#REF!=\"\",\"\",Data!#REF!)","v":{"$error":"#REF!"}},{"$f":"IF(Data!#REF!=\"\",\"\",Data!#REF!)","v":{"$error":"#REF!"}},{"$f":"IF(Data!#REF!=\"\",\"\",Data!#REF!)","v":{"$error":"#REF!"}},{"$error":"#REF!"},{"$error":"#REF!"},{"$error":"#REF!"}]
[{"$f":"IF(Data!#REF!=\"\",\"\",Data!#REF!)","v":{"$error":"#REF!"}},{"$f":"IF(Data!#REF!=\"\",\"\",Data!#REF!)","v":{"$error":"#REF!"}},{"$f":"IF(Data!#REF!=\"\",\"\",Data!#REF!)","v":{"$error":"#REF!"}},{"$f":"IF(Data!#REF!=\"\",\"\",Data!#REF!)","v":{"$error":"#REF!"}},{"$f":"IF(Data!#REF!=\"\",\"\",Data!#REF!)","v":{"$error":"#REF!"}},{"$error":"#REF!"},{"$error":"#REF!"},{"$error":"#REF!"}]
[{"$f":"IF(Data!#REF!=\"\",\"\",Data!#REF!)","v":{"$error":"#REF!"}},{"$f":"IF(Data!#REF!=\"\",\"\",Data!#REF!)","v":{"$error":"#REF!"}},{"$f":"IF(Data!#REF!=\"\",\"\",Data!#REF!)","v":{"$error":"#REF!"}},{"$f":"IF(Data!#REF!=\"\",\"\",Data!#REF!)","v":{"$error":"#REF!"}},{"$f":"IF(Data!#REF!=\"\",\"\",Data!#REF!)","v":{"$error":"#REF!"}},{"$error":"#REF!"},{"$error":"#REF!"},{"$error":"#REF!"}]
[{"$f":"IF(Data!#REF!=\"\",\"\",Data!#REF!)","v":{"$error":"#REF!"}},{"$f":"IF(Data!#REF!=\"\",\"\",Data!#REF!)","v":{"$error":"#REF!"}},{"$f":"IF(Data!#REF!=\"\",\"\",Data!#REF!)","v":{"$error":"#REF!"}},{"$f":"IF(Data!#REF!=\"\",\"\",Data!#REF!)","v":{"$error":"#REF!"}},{"$f":"IF(Data!#REF!=\"\",\"\",Data!#REF!)","v":{"$error":"#REF!"}},{"$error":"#REF!"},{"$error":"#REF!"},{"$error":"#REF!"}]
[{"$f":"IF(Data!#REF!=\"\",\"\",Data!#REF!)","v":{"$error":"#REF!"}},{"$f":"IF(Data!#REF!=\"\",\"\",Data!#REF!)","v":{"$error":"#REF!"}},{"$f":"IF(Data!#REF!=\"\",\"\",Data!#REF!)","v":{"$error":"#REF!"}},{"$f":"IF(Data!#REF!=\"\",\"\",Data!#REF!)","v":{"$error":"#REF!"}},{"$f":"IF(Data!#REF!=\"\",\"\",Data!#REF!)","v":{"$error":"#REF!"}},{"$error":"#REF!"},{"$error":"#REF!"},{"$error":"#REF!"}]
[{"$f":"IF(Data!#REF!=\"\",\"\",Data!#REF!)","v":{"$error":"#REF!"}},{"$f":"IF(Data!#REF!=\"\",\"\",Data!#REF!)","v":{"$error":"#REF!"}},{"$f":"IF(Data!#REF!=\"\",\"\",Data!#REF!)","v":{"$error":"#REF!"}},{"$f":"IF(Data!#REF!=\"\",\"\",Data!#REF!)","v":{"$error":"#REF!"}},{"$f":"IF(Data!#REF!=\"\",\"\",Data!#REF!)","v":{"$error":"#REF!"}},{"$error":"#REF!"},{"$error":"#REF!"},{"$error":"#REF!"}]
[{"$f":"IF(Data!#REF!=\"\",\"\",Data!#REF!)","v":{"$error":"#REF!"}},{"$f":"IF(Data!#REF!=\"\",\"\",Data!#REF!)","v":{"$error":"#REF!"}},{"$f":"IF(Data!#REF!=\"\",\"\",Data!#REF!)","v":{"$error":"#REF!"}},{"$f":"IF(Data!#REF!=\"\",\"\",Data!#REF!)","v":{"$error":"#REF!"}},{"$f":"IF(Data!#REF!=\"\",\"\",Data!#REF!)","v":{"$error":"#REF!"}},{"$error":"#REF!"},{"$error":"#REF!"},{"$error":"#REF!"}]
[{"$f":"IF(Data!#REF!=\"\",\"\",Data!#REF!)","v":{"$error":"#REF!"}},{"$f":"IF(Data!#REF!=\"\",\"\",Data!#REF!)","v":{"$error":"#REF!"}},{"$f":"IF(Data!#REF!=\"\",\"\",Data!#REF!)","v":{"$error":"#REF!"}},{"$f":"IF(Data!#REF!=\"\",\"\",Data!#REF!)","v":{"$error":"#REF!"}},{"$f":"IF(Data!#REF!=\"\",\"\",Data!#REF!)","v":{"$error":"#REF!"}},{"$error":"#REF!"},{"$error":"#REF!"},{"$error":"#REF!"}]
[{"$f":"IF(Data!#REF!=\"\",\"\",Data!#REF!)","v":{"$error":"#REF!"}},{"$f":"IF(Data!#REF!=\"\",\"\",Data!#REF!)","v":{"$error":"#REF!"}},{"$f":"IF(Data!#REF!=\"\",\"\",Data!#REF!)","v":{"$error":"#REF!"}},{"$f":"IF(Data!#REF!=\"\",\"\",Data!#REF!)","v":{"$error":"#REF!"}},{"$f":"IF(Data!#REF!=\"\",\"\",Data!#REF!)","v":{"$error":"#REF!"}},{"$error":"#REF!"},{"$error":"#REF!"},{"$error":"#REF!"}]
[{"$f":"IF(Data!#REF!=\"\",\"\",Data!#REF!)","v":{"$error":"#REF!"}},{"$f":"IF(Data!#REF!=\"\",\"\",Data!#REF!)","v":{"$error":"#REF!"}},{"$f":"IF(Data!#REF!=\"\",\"\",Data!#REF!)","v":{"$error":"#REF!"}},{"$f":"IF(Data!#REF!=\"\",\"\",Data!#REF!)","v":{"$error":"#REF!"}},{"$f":"IF(Data!#REF!=\"\",\"\",Data!#REF!)","v":{"$error":"#REF!"}},{"$error":"#REF!"},{"$error":"#REF!"},{"$error":"#REF!"}]
[{"$f":"IF(Data!#REF!=\"\",\"\",Data!#REF!)","v":{"$error":"#REF!"}},{"$f":"IF(Data!#REF!=\"\",\"\",Data!#REF!)","v":{"$error":"#REF!"}},{"$f":"IF(Data!#REF!=\"\",\"\",Data!#REF!)","v":{"$error":"#REF!"}},{"$f":"IF(Data!#REF!=\"\",\"\",Data!#REF!)","v":{"$error":"#REF!"}},{"$f":"IF(Data!#REF!=\"\",\"\",Data!#REF!)","v":{"$error":"#REF!"}},{"$error":"#REF!"},{"$error":"#REF!"},{"$error":"#REF!"}]
[{"$f":"IF(Data!#REF!=\"\",\"\",Data!#REF!)","v":{"$error":"#REF!"}},{"$f":"IF(Data!#REF!=\"\",\"\",Data!#REF!)","v":{"$error":"#REF!"}},{"$f":"IF(Data!#REF!=\"\",\"\",Data!#REF!)","v":{"$error":"#REF!"}},{"$f":"IF(Data!#REF!=\"\",\"\",Data!#REF!)","v":{"$error":"#REF!"}},{"$f":"IF(Data!#REF!=\"\",\"\",Data!#REF!)","v":{"$error":"#REF!"}},{"$error":"#REF!"},{"$error":"#REF!"},{"$error":"#REF!"}]
[{"$f":"IF(Data!#REF!=\"\",\"\",Data!#REF!)","v":{"$error":"#REF!"}},{"$f":"IF(Data!#REF!=\"\",\"\",Data!#REF!)","v":{"$error":"#REF!"}},{"$f":"IF(Data!#REF!=\"\",\"\",Data!#REF!)","v":{"$error":"#REF!"}},{"$f":"IF(Data!#REF!=\"\",\"\",Data!#REF!)","v":{"$error":"#REF!"}},{"$f":"IF(Data!#REF!=\"\",\"\",Data!#REF!)","v":{"$error":"#REF!"}},{"$error":"#REF!"},{"$error":"#REF!"},{"$error":"#REF!"}]
[{"$f":"IF(Data!#REF!=\"\",\"\",Data!#REF!)","v":{"$error":"#REF!"}},{"$f":"IF(Data!#REF!=\"\",\"\",Data!#REF!)","v":{"$error":"#REF!"}},{"$f":"IF(Data!#REF!=\"\",\"\",Data!#REF!)","v":{"$error":"#REF!"}},{"$f":"IF(Data!#REF!=\"\",\"\",Data!#REF!)","v":{"$error":"#REF!"}},{"$f":"IF(Data!#REF!=\"\",\"\",Data!#REF!)","v":{"$error":"#REF!"}},{"$error":"#REF!"},{"$error":"#REF!"},{"$error":"#REF!"}]
[{"$f":"IF(Data!#REF!=\"\",\"\",Data!#REF!)","v":{"$error":"#REF!"}},{"$f":"IF(Data!#REF!=\"\",\"\",Data!#REF!)","v":{"$error":"#REF!"}},{"$f":"IF(Data!#REF!=\"\",\"\",Data!#REF!)","v":{"$error":"#REF!"}},{"$f":"IF(Data!#REF!=\"\",\"\",Data!#REF!)","v":{"$error":"#REF!"}},{"$f":"IF(Data!#REF!=\"\",\"\",Data!#REF!)","v":{"$error":"#REF!"}},{"$error":"#REF!"},{"$error":"#REF!"},{"$error":"#REF!"}]
[{"$f":"IF(Data!#REF!=\"\",\"\",Data!#REF!)","v":{"$error":"#REF!"}},{"$f":"IF(Data!#REF!=\"\",\"\",Data!#REF!)","v":{"$error":"#REF!"}},{"$f":"IF(Data!#REF!=\"\",\"\",Data!#REF!)","v":{"$error":"#REF!"}},{"$f":"IF(Data!#REF!=\"\",\"\",Data!#REF!)","v":{"$error":"#REF!"}},{"$f":"IF(Data!#REF!=\"\",\"\",Data!#REF!)","v":{"$error":"#REF!"}},{"$error":"#REF!"},{"$error":"#REF!"},{"$error":"#REF!"}]
[{"$f":"IF(Data!#REF!=\"\",\"\",Data!#REF!)","v":{"$error":"#REF!"}},{"$f":"IF(Data!#REF!=\"\",\"\",Data!#REF!)","v":{"$error":"#REF!"}},{"$f":"IF(Data!#REF!=\"\",\"\",Data!#REF!)","v":{"$error":"#REF!"}},{"$f":"IF(Data!#REF!=\"\",\"\",Data!#REF!)","v":{"$error":"#REF!"}},{"$f":"IF(Data!#REF!=\"\",\"\",Data!#REF!)","v":{"$error":"#REF!"}},{"$error":"#REF!"},{"$error":"#REF!"},{"$error":"#REF!"}]
[{"$f":"IF(Data!#REF!=\"\",\"\",Data!#REF!)","v":{"$error":"#REF!"}},{"$f":"IF(Data!#REF!=\"\",\"\",Data!#REF!)","v":{"$error":"#REF!"}},{"$f":"IF(Data!#REF!=\"\",\"\",Data!#REF!)","v":{"$error":"#REF!"}},{"$f":"IF(Data!#REF!=\"\",\"\",Data!#REF!)","v":{"$error":"#REF!"}},{"$f":"IF(Data!#REF!=\"\",\"\",Data!#REF!)","v":{"$error":"#REF!"}},{"$error":"#REF!"},{"$error":"#REF!"},{"$error":"#REF!"}]
[{"$f":"IF(Data!#REF!=\"\",\"\",Data!#REF!)","v":{"$error":"#REF!"}},{"$f":"IF(Data!#REF!=\"\",\"\",Data!#REF!)","v":{"$error":"#REF!"}},{"$f":"IF(Data!#REF!=\"\",\"\",Data!#REF!)","v":{"$error":"#REF!"}},{"$f":"IF(Data!#REF!=\"\",\"\",Data!#REF!)","v":{"$error":"#REF!"}},{"$f":"IF(Data!#REF!=\"\",\"\",Data!#REF!)","v":{"$error":"#REF!"}},{"$error":"#REF!"},{"$error":"#REF!"},{"$error":"#REF!"}]
[{"$f":"IF(Data!#REF!=\"\",\"\",Data!#REF!)","v":{"$error":"#REF!"}},{"$f":"IF(Data!#REF!=\"\",\"\",Data!#REF!)","v":{"$error":"#REF!"}},{"$f":"IF(Data!#REF!=\"\",\"\",Data!#REF!)","v":{"$error":"#REF!"}},{"$f":"IF(Data!#REF!=\"\",\"\",Data!#REF!)","v":{"$error":"#REF!"}},{"$f":"IF(Data!#REF!=\"\",\"\",Data!#REF!)","v":{"$error":"#REF!"}},{"$error":"#REF!"},{"$error":"#REF!"},{"$error":"#REF!"}]
[{"$f":"IF(Data!#REF!=\"\",\"\",Data!#REF!)","v":{"$error":"#REF!"}},{"$f":"IF(Data!#REF!=\"\",\"\",Data!#REF!)","v":{"$error":"#REF!"}},{"$f":"IF(Data!#REF!=\"\",\"\",Data!#REF!)","v":{"$error":"#REF!"}},{"$f":"IF(Data!#REF!=\"\",\"\",Data!#REF!)","v":{"$error":"#REF!"}},{"$f":"IF(Data!#REF!=\"\",\"\",Data!#REF!)","v":{"$error":"#REF!"}},{"$error":"#REF!"},{"$error":"#REF!"},{"$error":"#REF!"}]
[{"$f":"IF(Data!#REF!=\"\",\"\",Data!#REF!)","v":{"$error":"#REF!"}},{"$f":"IF(Data!#REF!=\"\",\"\",Data!#REF!)","v":{"$error":"#REF!"}},{"$f":"IF(Data!#REF!=\"\",\"\",Data!#REF!)","v":{"$error":"#REF!"}},{"$f":"IF(Data!#REF!=\"\",\"\",Data!#REF!)","v":{"$error":"#REF!"}},{"$f":"IF(Data!#REF!=\"\",\"\",Data!#REF!)","v":{"$error":"#REF!"}},{"$error":"#REF!"},{"$error":"#REF!"},{"$error":"#REF!"}]
[{"$f":"IF(Data!#REF!=\"\",\"\",Data!#REF!)","v":{"$error":"#REF!"}},{"$f":"IF(Data!#REF!=\"\",\"\",Data!#REF!)","v":{"$error":"#REF!"}},{"$f":"IF(Data!#REF!=\"\",\"\",Data!#REF!)","v":{"$error":"#REF!"}},{"$f":"IF(Data!#REF!=\"\",\"\",Data!#REF!)","v":{"$error":"#REF!"}},{"$f":"IF(Data!#REF!=\"\",\"\",Data!#REF!)","v":{"$error":"#REF!"}},{"$error":"#REF!"},{"$error":"#REF!"},{"$error":"#REF!"}]
[{"$f":"IF(Data!#REF!=\"\",\"\",Data!#REF!)","v":{"$error":"#REF!"}},{"$f":"IF(Data!#REF!=\"\",\"\",Data!#REF!)","v":{"$error":"#REF!"}},{"$f":"IF(Data!#REF!=\"\",\"\",Data!#REF!)","v":{"$error":"#REF!"}},{"$f":"IF(Data!#REF!=\"\",\"\",Data!#REF!)","v":{"$error":"#REF!"}},{"$f":"IF(Data!#REF!=\"\",\"\",Data!#REF!)","v":{"$error":"#REF!"}},{"$error":"#REF!"},{"$error":"#REF!"},{"$error":"#REF!"}]
[{"$f":"IF(Data!#REF!=\"\",\"\",Data!#REF!)","v":{"$error":"#REF!"}},{"$f":"IF(Data!#REF!=\"\",\"\",Data!#REF!)","v":{"$error":"#REF!"}},{"$f":"IF(Data!#REF!=\"\",\"\",Data!#REF!)","v":{"$error":"#REF!"}},{"$f":"IF(Data!#REF!=\"\",\"\",Data!#REF!)","v":{"$error":"#REF!"}},{"$f":"IF(Data!#REF!=\"\",\"\",Data!#REF!)","v":{"$error":"#REF!"}},{"$error":"#REF!"},{"$error":"#REF!"},{"$error":"#REF!"}]
[{"$f":"IF(Data!#REF!=\"\",\"\",Data!#REF!)","v":{"$error":"#REF!"}},{"$f":"IF(Data!#REF!=\"\",\"\",Data!#REF!)","v":{"$error":"#REF!"}},{"$f":"IF(Data!#REF!=\"\",\"\",Data!#REF!)","v":{"$error":"#REF!"}},{"$f":"IF(Data!#REF!=\"\",\"\",Data!#REF!)","v":{"$error":"#REF!"}},{"$f":"IF(Data!#REF!=\"\",\"\",Data!#REF!)","v":{"$error":"#REF!"}},{"$error":"#REF!"},{"$error":"#REF!"},{"$error":"#REF!"}]
[{"$f":"IF(Data!#REF!=\"\",\"\",Data!#REF!)","v":{"$error":"#REF!"}},{"$f":"IF(Data!#REF!=\"\",\"\",Data!#REF!)","v":{"$error":"#REF!"}},{"$f":"IF(Data!#REF!=\"\",\"\",Data!#REF!)","v":{"$error":"#REF!"}},{"$f":"IF(Data!#REF!=\"\",\"\",Data!#REF!)","v":{"$error":"#REF!"}},{"$f":"IF(Data!#REF!=\"\",\"\",Data!#REF!)","v":{"$error":"#REF!"}},{"$error":"#REF!"},{"$error":"#REF!"},{"$error":"#REF!"}]
[{"$f":"IF(Data!#REF!=\"\",\"\",Data!#REF!)","v":{"$error":"#REF!"}},{"$f":"IF(Data!#REF!=\"\",\"\",Data!#REF!)","v":{"$error":"#REF!"}},{"$f":"IF(Data!#REF!=\"\",\"\",Data!#REF!)","v":{"$error":"#REF!"}},{"$f":"IF(Data!#REF!=\"\",\"\",Data!#REF!)","v":{"$error":"#REF!"}},{"$f":"IF(Data!#REF!=\"\",\"\",Data!#REF!)","v":{"$error":"#REF!"}},{"$error":"#REF!"},{"$error":"#REF!"},{"$error":"#REF!"}]
[{"$f":"IF(Data!#REF!=\"\",\"\",Data!#REF!)","v":{"$error":"#REF!"}},{"$f":"IF(Data!#REF!=\"\",\"\",Data!#REF!)","v":{"$error":"#REF!"}},{"$f":"IF(Data!#REF!=\"\",\"\",Data!#REF!)","v":{"$error":"#REF!"}},{"$f":"IF(Data!#REF!=\"\",\"\",Data!#REF!)","v":{"$error":"#REF!"}},{"$f":"IF(Data!#REF!=\"\",\"\",Data!#REF!)","v":{"$error":"#REF!"}},{"$error":"#REF!"},{"$error":"#REF!"},{"$error":"#REF!"}]
[{"$f":"IF(Data!#REF!=\"\",\"\",Data!#REF!)","v":{"$error":"#REF!"}},{"$f":"IF(Data!#REF!=\"\",\"\",Data!#REF!)","v":{"$error":"#REF!"}},{"$f":"IF(Data!#REF!=\"\",\"\",Data!#REF!)","v":{"$error":"#REF!"}},{"$f":"IF(Data!#REF!=\"\",\"\",Data!#REF!)","v":{"$error":"#REF!"}},{"$f":"IF(Data!#REF!=\"\",\"\",Data!#REF!)","v":{"$error":"#REF!"}},{"$error":"#REF!"},{"$error":"#REF!"},{"$error":"#REF!"}]
[{"$f":"IF(Data!#REF!=\"\",\"\",Data!#REF!)","v":{"$error":"#REF!"}},{"$f":"IF(Data!#REF!=\"\",\"\",Data!#REF!)","v":{"$error":"#REF!"}},{"$f":"IF(Data!#REF!=\"\",\"\",Data!#REF!)","v":{"$error":"#REF!"}},{"$f":"IF(Data!#REF!=\"\",\"\",Data!#REF!)","v":{"$error":"#REF!"}},{"$f":"IF(Data!#REF!=\"\",\"\",Data!#REF!)","v":{"$error":"#REF!"}},{"$error":"#REF!"},{"$error":"#REF!"},{"$error":"#REF!"}]
[{"$f":"IF(Data!#REF!=\"\",\"\",Data!#REF!)","v":{"$error":"#REF!"}},{"$f":"IF(Data!#REF!=\"\",\"\",Data!#REF!)","v":{"$error":"#REF!"}},{"$f":"IF(Data!#REF!=\"\",\"\",Data!#REF!)","v":{"$error":"#REF!"}},{"$f":"IF(Data!#REF!=\"\",\"\",Data!#REF!)","v":{"$error":"#REF!"}},{"$f":"IF(Data!#REF!=\"\",\"\",Data!#REF!)","v":{"$error":"#REF!"}},{"$error":"#REF!"},{"$error":"#REF!"},{"$error":"#REF!"}]
[{"$f":"IF(Data!#REF!=\"\",\"\",Data!#REF!)","v":{"$error":"#REF!"}},{"$f":"IF(Data!#REF!=\"\",\"\",Data!#REF!)","v":{"$error":"#REF!"}},{"$f":"IF(Data!#REF!=\"\",\"\",Data!#REF!)","v":{"$error":"#REF!"}},{"$f":"IF(Data!#REF!=\"\",\"\",Data!#REF!)","v":{"$error":"#REF!"}},{"$f":"IF(Data!#REF!=\"\",\"\",Data!#REF!)","v":{"$error":"#REF!"}},{"$error":"#REF!"},{"$error":"#REF!"},{"$error":"#REF!"}]
[{"$f":"IF(Data!#REF!=\"\",\"\",Data!#REF!)","v":{"$error":"#REF!"}},{"$f":"IF(Data!#REF!=\"\",\"\",Data!#REF!)","v":{"$error":"#REF!"}},{"$f":"IF(Data!#REF!=\"\",\"\",Data!#REF!)","v":{"$error":"#REF!"}},{"$f":"IF(Data!#REF!=\"\",\"\",Data!#REF!)","v":{"$error":"#REF!"}},{"$f":"IF(Data!#REF!=\"\",\"\",Data!#REF!)","v":{"$error":"#REF!"}},{"$error":"#REF!"},{"$error":"#REF!"},{"$error":"#REF!"}]
[{"$f":"IF(Data!#REF!=\"\",\"\",Data!#REF!)","v":{"$error":"#REF!"}},{"$f":"IF(Data!#REF!=\"\",\"\",Data!#REF!)","v":{"$error":"#REF!"}},{"$f":"IF(Data!#REF!=\"\",\"\",Data!#REF!)","v":{"$error":"#REF!"}},{"$f":"IF(Data!#REF!=\"\",\"\",Data!#REF!)","v":{"$error":"#REF!"}},{"$f":"IF(Data!#REF!=\"\",\"\",Data!#REF!)","v":{"$error":"#REF!"}},{"$error":"#REF!"},{"$error":"#REF!"},{"$error":"#REF!"}]
[{"$f":"IF(Data!#REF!=\"\",\"\",Data!#REF!)","v":{"$error":"#REF!"}},{"$f":"IF(Data!#REF!=\"\",\"\",Data!#REF!)","v":{"$error":"#REF!"}},{"$f":"IF(Data!#REF!=\"\",\"\",Data!#REF!)","v":{"$error":"#REF!"}},{"$f":"IF(Data!#REF!=\"\",\"\",Data!#REF!)","v":{"$error":"#REF!"}},{"$f":"IF(Data!#REF!=\"\",\"\",Data!#REF!)","v":{"$error":"#REF!"}},{"$f":"IF(E899>0,MONTH(E899),\"\")","v":{"$error":"#REF!"}},{"$f":"IF(E899>0,WEEKNUM(E899),\"0\")","v":{"$error":"#REF!"}},{"$f":"IF(G899>=($G$2-3),\"Ano\",\"Nie\")","v":{"$error":"#REF!"}}]
[{"$f":"IF(Data!#REF!=\"\",\"\",Data!#REF!)","v":{"$error":"#REF!"}},{"$f":"IF(Data!#REF!=\"\",\"\",Data!#REF!)","v":{"$error":"#REF!"}},{"$f":"IF(Data!#REF!=\"\",\"\",Data!#REF!)","v":{"$error":"#REF!"}},{"$f":"IF(Data!#REF!=\"\",\"\",Data!#REF!)","v":{"$error":"#REF!"}},{"$f":"IF(Data!#REF!=\"\",\"\",Data!#REF!)","v":{"$error":"#REF!"}},{"$error":"#REF!"},{"$error":"#REF!"},{"$error":"#REF!"}]
[{"$f":"IF(Data!#REF!=\"\",\"\",Data!#REF!)","v":{"$error":"#REF!"}},{"$f":"IF(Data!#REF!=\"\",\"\",Data!#REF!)","v":{"$error":"#REF!"}},{"$f":"IF(Data!#REF!=\"\",\"\",Data!#REF!)","v":{"$error":"#REF!"}},{"$f":"IF(Data!#REF!=\"\",\"\",Data!#REF!)","v":{"$error":"#REF!"}},{"$f":"IF(Data!#REF!=\"\",\"\",Data!#REF!)","v":{"$error":"#REF!"}},{"$error":"#REF!"},{"$error":"#REF!"},{"$error":"#REF!"}]
[{"$f":"IF(Data!#REF!=\"\",\"\",Data!#REF!)","v":{"$error":"#REF!"}},{"$f":"IF(Data!#REF!=\"\",\"\",Data!#REF!)","v":{"$error":"#REF!"}},{"$f":"IF(Data!#REF!=\"\",\"\",Data!#REF!)","v":{"$error":"#REF!"}},{"$f":"IF(Data!#REF!=\"\",\"\",Data!#REF!)","v":{"$error":"#REF!"}},{"$f":"IF(Data!#REF!=\"\",\"\",Data!#REF!)","v":{"$error":"#REF!"}},{"$error":"#REF!"},{"$error":"#REF!"},{"$error":"#REF!"}]
[{"$f":"IF(Data!#REF!=\"\",\"\",Data!#REF!)","v":{"$error":"#REF!"}},{"$f":"IF(Data!#REF!=\"\",\"\",Data!#REF!)","v":{"$error":"#REF!"}},{"$f":"IF(Data!#REF!=\"\",\"\",Data!#REF!)","v":{"$error":"#REF!"}},{"$f":"IF(Data!#REF!=\"\",\"\",Data!#REF!)","v":{"$error":"#REF!"}},{"$f":"IF(Data!#REF!=\"\",\"\",Data!#REF!)","v":{"$error":"#REF!"}},{"$error":"#REF!"},{"$error":"#REF!"},{"$error":"#REF!"}]
[{"$f":"IF(Data!#REF!=\"\",\"\",Data!#REF!)","v":{"$error":"#REF!"}},{"$f":"IF(Data!#REF!=\"\",\"\",Data!#REF!)","v":{"$error":"#REF!"}},{"$f":"IF(Data!#REF!=\"\",\"\",Data!#REF!)","v":{"$error":"#REF!"}},{"$f":"IF(Data!#REF!=\"\",\"\",Data!#REF!)","v":{"$error":"#REF!"}},{"$f":"IF(Data!#REF!=\"\",\"\",Data!#REF!)","v":{"$error":"#REF!"}},{"$error":"#REF!"},{"$error":"#REF!"},{"$error":"#REF!"}]
[{"$f":"IF(Data!#REF!=\"\",\"\",Data!#REF!)","v":{"$error":"#REF!"}},{"$f":"IF(Data!#REF!=\"\",\"\",Data!#REF!)","v":{"$error":"#REF!"}},{"$f":"IF(Data!#REF!=\"\",\"\",Data!#REF!)","v":{"$error":"#REF!"}},{"$f":"IF(Data!#REF!=\"\",\"\",Data!#REF!)","v":{"$error":"#REF!"}},{"$f":"IF(Data!#REF!=\"\",\"\",Data!#REF!)","v":{"$error":"#REF!"}},{"$error":"#REF!"},{"$error":"#REF!"},{"$error":"#REF!"}]
[{"$f":"IF(Data!#REF!=\"\",\"\",Data!#REF!)","v":{"$error":"#REF!"}},{"$f":"IF(Data!#REF!=\"\",\"\",Data!#REF!)","v":{"$error":"#REF!"}},{"$f":"IF(Data!#REF!=\"\",\"\",Data!#REF!)","v":{"$error":"#REF!"}},{"$f":"IF(Data!#REF!=\"\",\"\",Data!#REF!)","v":{"$error":"#REF!"}},{"$f":"IF(Data!#REF!=\"\",\"\",Data!#REF!)","v":{"$error":"#REF!"}},{"$error":"#REF!"},{"$error":"#REF!"},{"$error":"#REF!"}]
[{"$f":"IF(Data!#REF!=\"\",\"\",Data!#REF!)","v":{"$error":"#REF!"}},{"$f":"IF(Data!#REF!=\"\",\"\",Data!#REF!)","v":{"$error":"#REF!"}},{"$f":"IF(Data!#REF!=\"\",\"\",Data!#REF!)","v":{"$error":"#REF!"}},{"$f":"IF(Data!#REF!=\"\",\"\",Data!#REF!)","v":{"$error":"#REF!"}},{"$f":"IF(Data!#REF!=\"\",\"\",Data!#REF!)","v":{"$error":"#REF!"}},{"$error":"#REF!"},{"$error":"#REF!"},{"$error":"#REF!"}]
[{"$f":"IF(Data!#REF!=\"\",\"\",Data!#REF!)","v":{"$error":"#REF!"}},{"$f":"IF(Data!#REF!=\"\",\"\",Data!#REF!)","v":{"$error":"#REF!"}},{"$f":"IF(Data!#REF!=\"\",\"\",Data!#REF!)","v":{"$error":"#REF!"}},{"$f":"IF(Data!#REF!=\"\",\"\",Data!#REF!)","v":{"$error":"#REF!"}},{"$f":"IF(Data!#REF!=\"\",\"\",Data!#REF!)","v":{"$error":"#REF!"}},{"$error":"#REF!"},{"$error":"#REF!"},{"$error":"#REF!"}]
[{"$f":"IF(Data!#REF!=\"\",\"\",Data!#REF!)","v":{"$error":"#REF!"}},{"$f":"IF(Data!#REF!=\"\",\"\",Data!#REF!)","v":{"$error":"#REF!"}},{"$f":"IF(Data!#REF!=\"\",\"\",Data!#REF!)","v":{"$error":"#REF!"}},{"$f":"IF(Data!#REF!=\"\",\"\",Data!#REF!)","v":{"$error":"#REF!"}},{"$f":"IF(Data!#REF!=\"\",\"\",Data!#REF!)","v":{"$error":"#REF!"}},{"$error":"#REF!"},{"$error":"#REF!"},{"$error":"#REF!"}]
[{"$f":"IF(Data!#REF!=\"\",\"\",Data!#REF!)","v":{"$error":"#REF!"}},{"$f":"IF(Data!#REF!=\"\",\"\",Data!#REF!)","v":{"$error":"#REF!"}},{"$f":"IF(Data!#REF!=\"\",\"\",Data!#REF!)","v":{"$error":"#REF!"}},{"$f":"IF(Data!#REF!=\"\",\"\",Data!#REF!)","v":{"$error":"#REF!"}},{"$f":"IF(Data!#REF!=\"\",\"\",Data!#REF!)","v":{"$error":"#REF!"}},{"$error":"#REF!"},{"$error":"#REF!"},{"$error":"#REF!"}]
[{"$f":"IF(Data!#REF!=\"\",\"\",Data!#REF!)","v":{"$error":"#REF!"}},{"$f":"IF(Data!#REF!=\"\",\"\",Data!#REF!)","v":{"$error":"#REF!"}},{"$f":"IF(Data!#REF!=\"\",\"\",Data!#REF!)","v":{"$error":"#REF!"}},{"$f":"IF(Data!#REF!=\"\",\"\",Data!#REF!)","v":{"$error":"#REF!"}},{"$f":"IF(Data!#REF!=\"\",\"\",Data!#REF!)","v":{"$error":"#REF!"}},{"$error":"#REF!"},{"$error":"#REF!"},{"$error":"#REF!"}]
[{"$f":"IF(Data!#REF!=\"\",\"\",Data!#REF!)","v":{"$error":"#REF!"}},{"$f":"IF(Data!#REF!=\"\",\"\",Data!#REF!)","v":{"$error":"#REF!"}},{"$f":"IF(Data!#REF!=\"\",\"\",Data!#REF!)","v":{"$error":"#REF!"}},{"$f":"IF(Data!#REF!=\"\",\"\",Data!#REF!)","v":{"$error":"#REF!"}},{"$f":"IF(Data!#REF!=\"\",\"\",Data!#REF!)","v":{"$error":"#REF!"}},{"$error":"#REF!"},{"$error":"#REF!"},{"$error":"#REF!"}]
[{"$f":"IF(Data!#REF!=\"\",\"\",Data!#REF!)","v":{"$error":"#REF!"}},{"$f":"IF(Data!#REF!=\"\",\"\",Data!#REF!)","v":{"$error":"#REF!"}},{"$f":"IF(Data!#REF!=\"\",\"\",Data!#REF!)","v":{"$error":"#REF!"}},{"$f":"IF(Data!#REF!=\"\",\"\",Data!#REF!)","v":{"$error":"#REF!"}},{"$f":"IF(Data!#REF!=\"\",\"\",Data!#REF!)","v":{"$error":"#REF!"}},{"$error":"#REF!"},{"$error":"#REF!"},{"$error":"#REF!"}]
[{"$f":"IF(Data!#REF!=\"\",\"\",Data!#REF!)","v":{"$error":"#REF!"}},{"$f":"IF(Data!#REF!=\"\",\"\",Data!#REF!)","v":{"$error":"#REF!"}},{"$f":"IF(Data!#REF!=\"\",\"\",Data!#REF!)","v":{"$error":"#REF!"}},{"$f":"IF(Data!#REF!=\"\",\"\",Data!#REF!)","v":{"$error":"#REF!"}},{"$f":"IF(Data!#REF!=\"\",\"\",Data!#REF!)","v":{"$error":"#REF!"}},{"$error":"#REF!"},{"$error":"#REF!"},{"$error":"#REF!"}]
[{"$f":"IF(Data!#REF!=\"\",\"\",Data!#REF!)","v":{"$error":"#REF!"}},{"$f":"IF(Data!#REF!=\"\",\"\",Data!#REF!)","v":{"$error":"#REF!"}},{"$f":"IF(Data!#REF!=\"\",\"\",Data!#REF!)","v":{"$error":"#REF!"}},{"$f":"IF(Data!#REF!=\"\",\"\",Data!#REF!)","v":{"$error":"#REF!"}},{"$f":"IF(Data!#REF!=\"\",\"\",Data!#REF!)","v":{"$error":"#REF!"}},{"$error":"#REF!"},{"$error":"#REF!"},{"$error":"#REF!"}]
[{"$f":"IF(Data!#REF!=\"\",\"\",Data!#REF!)","v":{"$error":"#REF!"}},{"$f":"IF(Data!#REF!=\"\",\"\",Data!#REF!)","v":{"$error":"#REF!"}},{"$f":"IF(Data!#REF!=\"\",\"\",Data!#REF!)","v":{"$error":"#REF!"}},{"$f":"IF(Data!#REF!=\"\",\"\",Data!#REF!)","v":{"$error":"#REF!"}},{"$f":"IF(Data!#REF!=\"\",\"\",Data!#REF!)","v":{"$error":"#REF!"}},{"$error":"#REF!"},{"$error":"#REF!"},{"$error":"#REF!"}]
[{"$f":"IF(Data!#REF!=\"\",\"\",Data!#REF!)","v":{"$error":"#REF!"}},{"$f":"IF(Data!#REF!=\"\",\"\",Data!#REF!)","v":{"$error":"#REF!"}},{"$f":"IF(Data!#REF!=\"\",\"\",Data!#REF!)","v":{"$error":"#REF!"}},{"$f":"IF(Data!#REF!=\"\",\"\",Data!#REF!)","v":{"$error":"#REF!"}},{"$f":"IF(Data!#REF!=\"\",\"\",Data!#REF!)","v":{"$error":"#REF!"}},{"$error":"#REF!"},{"$error":"#REF!"},{"$error":"#REF!"}]
[{"$f":"IF(Data!#REF!=\"\",\"\",Data!#REF!)","v":{"$error":"#REF!"}},{"$f":"IF(Data!#REF!=\"\",\"\",Data!#REF!)","v":{"$error":"#REF!"}},{"$f":"IF(Data!#REF!=\"\",\"\",Data!#REF!)","v":{"$error":"#REF!"}},{"$f":"IF(Data!#REF!=\"\",\"\",Data!#REF!)","v":{"$error":"#REF!"}},{"$f":"IF(Data!#REF!=\"\",\"\",Data!#REF!)","v":{"$error":"#REF!"}},{"$error":"#REF!"},{"$error":"#REF!"},{"$error":"#REF!"}]
[{"$f":"IF(Data!#REF!=\"\",\"\",Data!#REF!)","v":{"$error":"#REF!"}},{"$f":"IF(Data!#REF!=\"\",\"\",Data!#REF!)","v":{"$error":"#REF!"}},{"$f":"IF(Data!#REF!=\"\",\"\",Data!#REF!)","v":{"$error":"#REF!"}},{"$f":"IF(Data!#REF!=\"\",\"\",Data!#REF!)","v":{"$error":"#REF!"}},{"$f":"IF(Data!#REF!=\"\",\"\",Data!#REF!)","v":{"$error":"#REF!"}},{"$error":"#REF!"},{"$error":"#REF!"},{"$error":"#REF!"}]
[{"$f":"IF(Data!#REF!=\"\",\"\",Data!#REF!)","v":{"$error":"#REF!"}},{"$f":"IF(Data!#REF!=\"\",\"\",Data!#REF!)","v":{"$error":"#REF!"}},{"$f":"IF(Data!#REF!=\"\",\"\",Data!#REF!)","v":{"$error":"#REF!"}},{"$f":"IF(Data!#REF!=\"\",\"\",Data!#REF!)","v":{"$error":"#REF!"}},{"$f":"IF(Data!#REF!=\"\",\"\",Data!#REF!)","v":{"$error":"#REF!"}},{"$error":"#REF!"},{"$error":"#REF!"},{"$error":"#REF!"}]
[{"$f":"IF(Data!#REF!=\"\",\"\",Data!#REF!)","v":{"$error":"#REF!"}},{"$f":"IF(Data!#REF!=\"\",\"\",Data!#REF!)","v":{"$error":"#REF!"}},{"$f":"IF(Data!#REF!=\"\",\"\",Data!#REF!)","v":{"$error":"#REF!"}},{"$f":"IF(Data!#REF!=\"\",\"\",Data!#REF!)","v":{"$error":"#REF!"}},{"$f":"IF(Data!#REF!=\"\",\"\",Data!#REF!)","v":{"$error":"#REF!"}},{"$error":"#REF!"},{"$error":"#REF!"},{"$error":"#REF!"}]
[{"$f":"IF(Data!#REF!=\"\",\"\",Data!#REF!)","v":{"$error":"#REF!"}},{"$f":"IF(Data!#REF!=\"\",\"\",Data!#REF!)","v":{"$error":"#REF!"}},{"$f":"IF(Data!#REF!=\"\",\"\",Data!#REF!)","v":{"$error":"#REF!"}},{"$f":"IF(Data!#REF!=\"\",\"\",Data!#REF!)","v":{"$error":"#REF!"}},{"$f":"IF(Data!#REF!=\"\",\"\",Data!#REF!)","v":{"$error":"#REF!"}},{"$error":"#REF!"},{"$error":"#REF!"},{"$error":"#REF!"}]
[{"$f":"IF(Data!#REF!=\"\",\"\",Data!#REF!)","v":{"$error":"#REF!"}},{"$f":"IF(Data!#REF!=\"\",\"\",Data!#REF!)","v":{"$error":"#REF!"}},{"$f":"IF(Data!#REF!=\"\",\"\",Data!#REF!)","v":{"$error":"#REF!"}},{"$f":"IF(Data!#REF!=\"\",\"\",Data!#REF!)","v":{"$error":"#REF!"}},{"$f":"IF(Data!#REF!=\"\",\"\",Data!#REF!)","v":{"$error":"#REF!"}},{"$error":"#REF!"},{"$error":"#REF!"},{"$error":"#REF!"}]
[{"$f":"IF(Data!#REF!=\"\",\"\",Data!#REF!)","v":{"$error":"#REF!"}},{"$f":"IF(Data!#REF!=\"\",\"\",Data!#REF!)","v":{"$error":"#REF!"}},{"$f":"IF(Data!#REF!=\"\",\"\",Data!#REF!)","v":{"$error":"#REF!"}},{"$f":"IF(Data!#REF!=\"\",\"\",Data!#REF!)","v":{"$error":"#REF!"}},{"$f":"IF(Data!#REF!=\"\",\"\",Data!#REF!)","v":{"$error":"#REF!"}},{"$error":"#REF!"},{"$error":"#REF!"},{"$error":"#REF!"}]
[{"$f":"IF(Data!#REF!=\"\",\"\",Data!#REF!)","v":{"$error":"#REF!"}},{"$f":"IF(Data!#REF!=\"\",\"\",Data!#REF!)","v":{"$error":"#REF!"}},{"$f":"IF(Data!#REF!=\"\",\"\",Data!#REF!)","v":{"$error":"#REF!"}},{"$f":"IF(Data!#REF!=\"\",\"\",Data!#REF!)","v":{"$error":"#REF!"}},{"$f":"IF(Data!#REF!=\"\",\"\",Data!#REF!)","v":{"$error":"#REF!"}},{"$error":"#REF!"},{"$error":"#REF!"},{"$error":"#REF!"}]
[{"$f":"IF(Data!#REF!=\"\",\"\",Data!#REF!)","v":{"$error":"#REF!"}},{"$f":"IF(Data!#REF!=\"\",\"\",Data!#REF!)","v":{"$error":"#REF!"}},{"$f":"IF(Data!#REF!=\"\",\"\",Data!#REF!)","v":{"$error":"#REF!"}},{"$f":"IF(Data!#REF!=\"\",\"\",Data!#REF!)","v":{"$error":"#REF!"}},{"$f":"IF(Data!#REF!=\"\",\"\",Data!#REF!)","v":{"$error":"#REF!"}},{"$error":"#REF!"},{"$error":"#REF!"},{"$error":"#REF!"}]
[{"$f":"IF(Data!#REF!=\"\",\"\",Data!#REF!)","v":{"$error":"#REF!"}},{"$f":"IF(Data!#REF!=\"\",\"\",Data!#REF!)","v":{"$error":"#REF!"}},{"$f":"IF(Data!#REF!=\"\",\"\",Data!#REF!)","v":{"$error":"#REF!"}},{"$f":"IF(Data!#REF!=\"\",\"\",Data!#REF!)","v":{"$error":"#REF!"}},{"$f":"IF(Data!#REF!=\"\",\"\",Data!#REF!)","v":{"$error":"#REF!"}},{"$error":"#REF!"},{"$error":"#REF!"},{"$error":"#REF!"}]
[{"$f":"IF(Data!#REF!=\"\",\"\",Data!#REF!)","v":{"$error":"#REF!"}},{"$f":"IF(Data!#REF!=\"\",\"\",Data!#REF!)","v":{"$error":"#REF!"}},{"$f":"IF(Data!#REF!=\"\",\"\",Data!#REF!)","v":{"$error":"#REF!"}},{"$f":"IF(Data!#REF!=\"\",\"\",Data!#REF!)","v":{"$error":"#REF!"}},{"$f":"IF(Data!#REF!=\"\",\"\",Data!#REF!)","v":{"$error":"#REF!"}},{"$error":"#REF!"},{"$error":"#REF!"},{"$error":"#REF!"}]
[{"$f":"IF(Data!#REF!=\"\",\"\",Data!#REF!)","v":{"$error":"#REF!"}},{"$f":"IF(Data!#REF!=\"\",\"\",Data!#REF!)","v":{"$error":"#REF!"}},{"$f":"IF(Data!#REF!=\"\",\"\",Data!#REF!)","v":{"$error":"#REF!"}},{"$f":"IF(Data!#REF!=\"\",\"\",Data!#REF!)","v":{"$error":"#REF!"}},{"$f":"IF(Data!#REF!=\"\",\"\",Data!#REF!)","v":{"$error":"#REF!"}},{"$error":"#REF!"},{"$error":"#REF!"},{"$error":"#REF!"}]
[{"$f":"IF(Data!#REF!=\"\",\"\",Data!#REF!)","v":{"$error":"#REF!"}},{"$f":"IF(Data!#REF!=\"\",\"\",Data!#REF!)","v":{"$error":"#REF!"}},{"$f":"IF(Data!#REF!=\"\",\"\",Data!#REF!)","v":{"$error":"#REF!"}},{"$f":"IF(Data!#REF!=\"\",\"\",Data!#REF!)","v":{"$error":"#REF!"}},{"$f":"IF(Data!#REF!=\"\",\"\",Data!#REF!)","v":{"$error":"#REF!"}},{"$error":"#REF!"},{"$error":"#REF!"},{"$error":"#REF!"}]
[{"$f":"IF(Data!#REF!=\"\",\"\",Data!#REF!)","v":{"$error":"#REF!"}},{"$f":"IF(Data!#REF!=\"\",\"\",Data!#REF!)","v":{"$error":"#REF!"}},{"$f":"IF(Data!#REF!=\"\",\"\",Data!#REF!)","v":{"$error":"#REF!"}},{"$f":"IF(Data!#REF!=\"\",\"\",Data!#REF!)","v":{"$error":"#REF!"}},{"$f":"IF(Data!#REF!=\"\",\"\",Data!#REF!)","v":{"$error":"#REF!"}},{"$error":"#REF!"},{"$error":"#REF!"},{"$error":"#REF!"}]
[{"$f":"IF(Data!#REF!=\"\",\"\",Data!#REF!)","v":{"$error":"#REF!"}},{"$f":"IF(Data!#REF!=\"\",\"\",Data!#REF!)","v":{"$error":"#REF!"}},{"$f":"IF(Data!#REF!=\"\",\"\",Data!#REF!)","v":{"$error":"#REF!"}},{"$f":"IF(Data!#REF!=\"\",\"\",Data!#REF!)","v":{"$error":"#REF!"}},{"$f":"IF(Data!#REF!=\"\",\"\",Data!#REF!)","v":{"$error":"#REF!"}},{"$error":"#REF!"},{"$error":"#REF!"},{"$error":"#REF!"}]
[{"$f":"IF(Data!#REF!=\"\",\"\",Data!#REF!)","v":{"$error":"#REF!"}},{"$f":"IF(Data!#REF!=\"\",\"\",Data!#REF!)","v":{"$error":"#REF!"}},{"$f":"IF(Data!#REF!=\"\",\"\",Data!#REF!)","v":{"$error":"#REF!"}},{"$f":"IF(Data!#REF!=\"\",\"\",Data!#REF!)","v":{"$error":"#REF!"}},{"$f":"IF(Data!#REF!=\"\",\"\",Data!#REF!)","v":{"$error":"#REF!"}},{"$error":"#REF!"},{"$error":"#REF!"},{"$error":"#REF!"}]
[{"$f":"IF(Data!#REF!=\"\",\"\",Data!#REF!)","v":{"$error":"#REF!"}},{"$f":"IF(Data!#REF!=\"\",\"\",Data!#REF!)","v":{"$error":"#REF!"}},{"$f":"IF(Data!#REF!=\"\",\"\",Data!#REF!)","v":{"$error":"#REF!"}},{"$f":"IF(Data!#REF!=\"\",\"\",Data!#REF!)","v":{"$error":"#REF!"}},{"$f":"IF(Data!#REF!=\"\",\"\",Data!#REF!)","v":{"$error":"#REF!"}},{"$error":"#REF!"},{"$error":"#REF!"},{"$error":"#REF!"}]
[{"$f":"IF(Data!#REF!=\"\",\"\",Data!#REF!)","v":{"$error":"#REF!"}},{"$f":"IF(Data!#REF!=\"\",\"\",Data!#REF!)","v":{"$error":"#REF!"}},{"$f":"IF(Data!#REF!=\"\",\"\",Data!#REF!)","v":{"$error":"#REF!"}},{"$f":"IF(Data!#REF!=\"\",\"\",Data!#REF!)","v":{"$error":"#REF!"}},{"$f":"IF(Data!#REF!=\"\",\"\",Data!#REF!)","v":{"$error":"#REF!"}},{"$error":"#REF!"},{"$error":"#REF!"},{"$error":"#REF!"}]
[{"$f":"IF(Data!#REF!=\"\",\"\",Data!#REF!)","v":{"$error":"#REF!"}},{"$f":"IF(Data!#REF!=\"\",\"\",Data!#REF!)","v":{"$error":"#REF!"}},{"$f":"IF(Data!#REF!=\"\",\"\",Data!#REF!)","v":{"$error":"#REF!"}},{"$f":"IF(Data!#REF!=\"\",\"\",Data!#REF!)","v":{"$error":"#REF!"}},{"$f":"IF(Data!#REF!=\"\",\"\",Data!#REF!)","v":{"$error":"#REF!"}},{"$error":"#REF!"},{"$error":"#REF!"},{"$error":"#REF!"}]
[{"$f":"IF(Data!#REF!=\"\",\"\",Data!#REF!)","v":{"$error":"#REF!"}},{"$f":"IF(Data!#REF!=\"\",\"\",Data!#REF!)","v":{"$error":"#REF!"}},{"$f":"IF(Data!#REF!=\"\",\"\",Data!#REF!)","v":{"$error":"#REF!"}},{"$f":"IF(Data!#REF!=\"\",\"\",Data!#REF!)","v":{"$error":"#REF!"}},{"$f":"IF(Data!#REF!=\"\",\"\",Data!#REF!)","v":{"$error":"#REF!"}},{"$error":"#REF!"},{"$error":"#REF!"},{"$error":"#REF!"}]
[{"$f":"IF(Data!#REF!=\"\",\"\",Data!#REF!)","v":{"$error":"#REF!"}},{"$f":"IF(Data!#REF!=\"\",\"\",Data!#REF!)","v":{"$error":"#REF!"}},{"$f":"IF(Data!#REF!=\"\",\"\",Data!#REF!)","v":{"$error":"#REF!"}},{"$f":"IF(Data!#REF!=\"\",\"\",Data!#REF!)","v":{"$error":"#REF!"}},{"$f":"IF(Data!#REF!=\"\",\"\",Data!#REF!)","v":{"$error":"#REF!"}},{"$error":"#REF!"},{"$error":"#REF!"},{"$error":"#REF!"}]
[{"$f":"IF(Data!#REF!=\"\",\"\",Data!#REF!)","v":{"$error":"#REF!"}},{"$f":"IF(Data!#REF!=\"\",\"\",Data!#REF!)","v":{"$error":"#REF!"}},{"$f":"IF(Data!#REF!=\"\",\"\",Data!#REF!)","v":{"$error":"#REF!"}},{"$f":"IF(Data!#REF!=\"\",\"\",Data!#REF!)","v":{"$error":"#REF!"}},{"$f":"IF(Data!#REF!=\"\",\"\",Data!#REF!)","v":{"$error":"#REF!"}},{"$error":"#REF!"},{"$error":"#REF!"},{"$error":"#REF!"}]
[{"$f":"IF(Data!#REF!=\"\",\"\",Data!#REF!)","v":{"$error":"#REF!"}},{"$f":"IF(Data!#REF!=\"\",\"\",Data!#REF!)","v":{"$error":"#REF!"}},{"$f":"IF(Data!#REF!=\"\",\"\",Data!#REF!)","v":{"$error":"#REF!"}},{"$f":"IF(Data!#REF!=\"\",\"\",Data!#REF!)","v":{"$error":"#REF!"}},{"$f":"IF(Data!#REF!=\"\",\"\",Data!#REF!)","v":{"$error":"#REF!"}},{"$error":"#REF!"},{"$error":"#REF!"},{"$error":"#REF!"}]
[{"$f":"IF(Data!#REF!=\"\",\"\",Data!#REF!)","v":{"$error":"#REF!"}},{"$f":"IF(Data!#REF!=\"\",\"\",Data!#REF!)","v":{"$error":"#REF!"}},{"$f":"IF(Data!#REF!=\"\",\"\",Data!#REF!)","v":{"$error":"#REF!"}},{"$f":"IF(Data!#REF!=\"\",\"\",Data!#REF!)","v":{"$error":"#REF!"}},{"$f":"IF(Data!#REF!=\"\",\"\",Data!#REF!)","v":{"$error":"#REF!"}},{"$error":"#REF!"},{"$error":"#REF!"},{"$error":"#REF!"}]
[{"$f":"IF(Data!#REF!=\"\",\"\",Data!#REF!)","v":{"$error":"#REF!"}},{"$f":"IF(Data!#REF!=\"\",\"\",Data!#REF!)","v":{"$error":"#REF!"}},{"$f":"IF(Data!#REF!=\"\",\"\",Data!#REF!)","v":{"$error":"#REF!"}},{"$f":"IF(Data!#REF!=\"\",\"\",Data!#REF!)","v":{"$error":"#REF!"}},{"$f":"IF(Data!#REF!=\"\",\"\",Data!#REF!)","v":{"$error":"#REF!"}},{"$error":"#REF!"},{"$error":"#REF!"},{"$error":"#REF!"}]
[{"$f":"IF(Data!#REF!=\"\",\"\",Data!#REF!)","v":{"$error":"#REF!"}},{"$f":"IF(Data!#REF!=\"\",\"\",Data!#REF!)","v":{"$error":"#REF!"}},{"$f":"IF(Data!#REF!=\"\",\"\",Data!#REF!)","v":{"$error":"#REF!"}},{"$f":"IF(Data!#REF!=\"\",\"\",Data!#REF!)","v":{"$error":"#REF!"}},{"$f":"IF(Data!#REF!=\"\",\"\",Data!#REF!)","v":{"$error":"#REF!"}},{"$error":"#REF!"},{"$error":"#REF!"},{"$error":"#REF!"}]
[{"$f":"IF(Data!#REF!=\"\",\"\",Data!#REF!)","v":{"$error":"#REF!"}},{"$f":"IF(Data!#REF!=\"\",\"\",Data!#REF!)","v":{"$error":"#REF!"}},{"$f":"IF(Data!#REF!=\"\",\"\",Data!#REF!)","v":{"$error":"#REF!"}},{"$f":"IF(Data!#REF!=\"\",\"\",Data!#REF!)","v":{"$error":"#REF!"}},{"$f":"IF(Data!#REF!=\"\",\"\",Data!#REF!)","v":{"$error":"#REF!"}},{"$error":"#REF!"},{"$error":"#REF!"},{"$error":"#REF!"}]
[{"$f":"IF(Data!#REF!=\"\",\"\",Data!#REF!)","v":{"$error":"#REF!"}},{"$f":"IF(Data!#REF!=\"\",\"\",Data!#REF!)","v":{"$error":"#REF!"}},{"$f":"IF(Data!#REF!=\"\",\"\",Data!#REF!)","v":{"$error":"#REF!"}},{"$f":"IF(Data!#REF!=\"\",\"\",Data!#REF!)","v":{"$error":"#REF!"}},{"$f":"IF(Data!#REF!=\"\",\"\",Data!#REF!)","v":{"$error":"#REF!"}},{"$error":"#REF!"},{"$error":"#REF!"},{"$error":"#REF!"}]
[{"$f":"IF(Data!#REF!=\"\",\"\",Data!#REF!)","v":{"$error":"#REF!"}},{"$f":"IF(Data!#REF!=\"\",\"\",Data!#REF!)","v":{"$error":"#REF!"}},{"$f":"IF(Data!#REF!=\"\",\"\",Data!#REF!)","v":{"$error":"#REF!"}},{"$f":"IF(Data!#REF!=\"\",\"\",Data!#REF!)","v":{"$error":"#REF!"}},{"$f":"IF(Data!#REF!=\"\",\"\",Data!#REF!)","v":{"$error":"#REF!"}},{"$error":"#REF!"},{"$error":"#REF!"},{"$error":"#REF!"}]
[{"$f":"IF(Data!#REF!=\"\",\"\",Data!#REF!)","v":{"$error":"#REF!"}},{"$f":"IF(Data!#REF!=\"\",\"\",Data!#REF!)","v":{"$error":"#REF!"}},{"$f":"IF(Data!#REF!=\"\",\"\",Data!#REF!)","v":{"$error":"#REF!"}},{"$f":"IF(Data!#REF!=\"\",\"\",Data!#REF!)","v":{"$error":"#REF!"}},{"$f":"IF(Data!#REF!=\"\",\"\",Data!#REF!)","v":{"$error":"#REF!"}},{"$error":"#REF!"},{"$error":"#REF!"},{"$error":"#REF!"}]
[{"$f":"IF(Data!#REF!=\"\",\"\",Data!#REF!)","v":{"$error":"#REF!"}},{"$f":"IF(Data!#REF!=\"\",\"\",Data!#REF!)","v":{"$error":"#REF!"}},{"$f":"IF(Data!#REF!=\"\",\"\",Data!#REF!)","v":{"$error":"#REF!"}},{"$f":"IF(Data!#REF!=\"\",\"\",Data!#REF!)","v":{"$error":"#REF!"}},{"$f":"IF(Data!#REF!=\"\",\"\",Data!#REF!)","v":{"$error":"#REF!"}},{"$error":"#REF!"},{"$error":"#REF!"},{"$error":"#REF!"}]
[{"$f":"IF(Data!#REF!=\"\",\"\",Data!#REF!)","v":{"$error":"#REF!"}},{"$f":"IF(Data!#REF!=\"\",\"\",Data!#REF!)","v":{"$error":"#REF!"}},{"$f":"IF(Data!#REF!=\"\",\"\",Data!#REF!)","v":{"$error":"#REF!"}},{"$f":"IF(Data!#REF!=\"\",\"\",Data!#REF!)","v":{"$error":"#REF!"}},{"$f":"IF(Data!#REF!=\"\",\"\",Data!#REF!)","v":{"$error":"#REF!"}},{"$error":"#REF!"},{"$error":"#REF!"},{"$error":"#REF!"}]
[{"$f":"IF(Data!#REF!=\"\",\"\",Data!#REF!)","v":{"$error":"#REF!"}},{"$f":"IF(Data!#REF!=\"\",\"\",Data!#REF!)","v":{"$error":"#REF!"}},{"$f":"IF(Data!#REF!=\"\",\"\",Data!#REF!)","v":{"$error":"#REF!"}},{"$f":"IF(Data!#REF!=\"\",\"\",Data!#REF!)","v":{"$error":"#REF!"}},{"$f":"IF(Data!#REF!=\"\",\"\",Data!#REF!)","v":{"$error":"#REF!"}},{"$error":"#REF!"},{"$error":"#REF!"},{"$error":"#REF!"}]
[{"$f":"IF(Data!#REF!=\"\",\"\",Data!#REF!)","v":{"$error":"#REF!"}},{"$f":"IF(Data!#REF!=\"\",\"\",Data!#REF!)","v":{"$error":"#REF!"}},{"$f":"IF(Data!#REF!=\"\",\"\",Data!#REF!)","v":{"$error":"#REF!"}},{"$f":"IF(Data!#REF!=\"\",\"\",Data!#REF!)","v":{"$error":"#REF!"}},{"$f":"IF(Data!#REF!=\"\",\"\",Data!#REF!)","v":{"$error":"#REF!"}},{"$error":"#REF!"},{"$error":"#REF!"},{"$error":"#REF!"}]
[{"$f":"IF(Data!#REF!=\"\",\"\",Data!#REF!)","v":{"$error":"#REF!"}},{"$f":"IF(Data!#REF!=\"\",\"\",Data!#REF!)","v":{"$error":"#REF!"}},{"$f":"IF(Data!#REF!=\"\",\"\",Data!#REF!)","v":{"$error":"#REF!"}},{"$f":"IF(Data!#REF!=\"\",\"\",Data!#REF!)","v":{"$error":"#REF!"}},{"$f":"IF(Data!#REF!=\"\",\"\",Data!#REF!)","v":{"$error":"#REF!"}},{"$error":"#REF!"},{"$error":"#REF!"},{"$error":"#REF!"}]
[{"$f":"IF(Data!#REF!=\"\",\"\",Data!#REF!)","v":{"$error":"#REF!"}},{"$f":"IF(Data!#REF!=\"\",\"\",Data!#REF!)","v":{"$error":"#REF!"}},{"$f":"IF(Data!#REF!=\"\",\"\",Data!#REF!)","v":{"$error":"#REF!"}},{"$f":"IF(Data!#REF!=\"\",\"\",Data!#REF!)","v":{"$error":"#REF!"}},{"$f":"IF(Data!#REF!=\"\",\"\",Data!#REF!)","v":{"$error":"#REF!"}},{"$error":"#REF!"},{"$error":"#REF!"},{"$error":"#REF!"}]
[{"$f":"IF(Data!#REF!=\"\",\"\",Data!#REF!)","v":{"$error":"#REF!"}},{"$f":"IF(Data!#REF!=\"\",\"\",Data!#REF!)","v":{"$error":"#REF!"}},{"$f":"IF(Data!#REF!=\"\",\"\",Data!#REF!)","v":{"$error":"#REF!"}},{"$f":"IF(Data!#REF!=\"\",\"\",Data!#REF!)","v":{"$error":"#REF!"}},{"$f":"IF(Data!#REF!=\"\",\"\",Data!#REF!)","v":{"$error":"#REF!"}},{"$error":"#REF!"},{"$error":"#REF!"},{"$error":"#REF!"}]
[{"$f":"IF(Data!#REF!=\"\",\"\",Data!#REF!)","v":{"$error":"#REF!"}},{"$f":"IF(Data!#REF!=\"\",\"\",Data!#REF!)","v":{"$error":"#REF!"}},{"$f":"IF(Data!#REF!=\"\",\"\",Data!#REF!)","v":{"$error":"#REF!"}},{"$f":"IF(Data!#REF!=\"\",\"\",Data!#REF!)","v":{"$error":"#REF!"}},{"$f":"IF(Data!#REF!=\"\",\"\",Data!#REF!)","v":{"$error":"#REF!"}},{"$error":"#REF!"},{"$error":"#REF!"},{"$error":"#REF!"}]
[{"$f":"IF(Data!#REF!=\"\",\"\",Data!#REF!)","v":{"$error":"#REF!"}},{"$f":"IF(Data!#REF!=\"\",\"\",Data!#REF!)","v":{"$error":"#REF!"}},{"$f":"IF(Data!#REF!=\"\",\"\",Data!#REF!)","v":{"$error":"#REF!"}},{"$f":"IF(Data!#REF!=\"\",\"\",Data!#REF!)","v":{"$error":"#REF!"}},{"$f":"IF(Data!#REF!=\"\",\"\",Data!#REF!)","v":{"$error":"#REF!"}},{"$error":"#REF!"},{"$error":"#REF!"},{"$error":"#REF!"}]
[{"$f":"IF(Data!#REF!=\"\",\"\",Data!#REF!)","v":{"$error":"#REF!"}},{"$f":"IF(Data!#REF!=\"\",\"\",Data!#REF!)","v":{"$error":"#REF!"}},{"$f":"IF(Data!#REF!=\"\",\"\",Data!#REF!)","v":{"$error":"#REF!"}},{"$f":"IF(Data!#REF!=\"\",\"\",Data!#REF!)","v":{"$error":"#REF!"}},{"$f":"IF(Data!#REF!=\"\",\"\",Data!#REF!)","v":{"$error":"#REF!"}},{"$error":"#REF!"},{"$error":"#REF!"},{"$error":"#REF!"}]
[{"$f":"IF(Data!#REF!=\"\",\"\",Data!#REF!)","v":{"$error":"#REF!"}},{"$f":"IF(Data!#REF!=\"\",\"\",Data!#REF!)","v":{"$error":"#REF!"}},{"$f":"IF(Data!#REF!=\"\",\"\",Data!#REF!)","v":{"$error":"#REF!"}},{"$f":"IF(Data!#REF!=\"\",\"\",Data!#REF!)","v":{"$error":"#REF!"}},{"$f":"IF(Data!#REF!=\"\",\"\",Data!#REF!)","v":{"$error":"#REF!"}},{"$error":"#REF!"},{"$error":"#REF!"},{"$error":"#REF!"}]
[{"$f":"IF(Data!#REF!=\"\",\"\",Data!#REF!)","v":{"$error":"#REF!"}},{"$f":"IF(Data!#REF!=\"\",\"\",Data!#REF!)","v":{"$error":"#REF!"}},{"$f":"IF(Data!#REF!=\"\",\"\",Data!#REF!)","v":{"$error":"#REF!"}},{"$f":"IF(Data!#REF!=\"\",\"\",Data!#REF!)","v":{"$error":"#REF!"}},{"$f":"IF(Data!#REF!=\"\",\"\",Data!#REF!)","v":{"$error":"#REF!"}},{"$error":"#REF!"},{"$error":"#REF!"},{"$error":"#REF!"}]
[{"$f":"IF(Data!#REF!=\"\",\"\",Data!#REF!)","v":{"$error":"#REF!"}},{"$f":"IF(Data!#REF!=\"\",\"\",Data!#REF!)","v":{"$error":"#REF!"}},{"$f":"IF(Data!#REF!=\"\",\"\",Data!#REF!)","v":{"$error":"#REF!"}},{"$f":"IF(Data!#REF!=\"\",\"\",Data!#REF!)","v":{"$error":"#REF!"}},{"$f":"IF(Data!#REF!=\"\",\"\",Data!#REF!)","v":{"$error":"#REF!"}},{"$error":"#REF!"},{"$error":"#REF!"},{"$error":"#REF!"}]
[{"$f":"IF(Data!#REF!=\"\",\"\",Data!#REF!)","v":{"$error":"#REF!"}},{"$f":"IF(Data!#REF!=\"\",\"\",Data!#REF!)","v":{"$error":"#REF!"}},{"$f":"IF(Data!#REF!=\"\",\"\",Data!#REF!)","v":{"$error":"#REF!"}},{"$f":"IF(Data!#REF!=\"\",\"\",Data!#REF!)","v":{"$error":"#REF!"}},{"$f":"IF(Data!#REF!=\"\",\"\",Data!#REF!)","v":{"$error":"#REF!"}},{"$error":"#REF!"},{"$error":"#REF!"},{"$error":"#REF!"}]
[{"$f":"IF(Data!#REF!=\"\",\"\",Data!#REF!)","v":{"$error":"#REF!"}},{"$f":"IF(Data!#REF!=\"\",\"\",Data!#REF!)","v":{"$error":"#REF!"}},{"$f":"IF(Data!#REF!=\"\",\"\",Data!#REF!)","v":{"$error":"#REF!"}},{"$f":"IF(Data!#REF!=\"\",\"\",Data!#REF!)","v":{"$error":"#REF!"}},{"$f":"IF(Data!#REF!=\"\",\"\",Data!#REF!)","v":{"$error":"#REF!"}},{"$error":"#REF!"},{"$error":"#REF!"},{"$error":"#REF!"}]
[{"$f":"IF(Data!#REF!=\"\",\"\",Data!#REF!)","v":{"$error":"#REF!"}},{"$f":"IF(Data!#REF!=\"\",\"\",Data!#REF!)","v":{"$error":"#REF!"}},{"$f":"IF(Data!#REF!=\"\",\"\",Data!#REF!)","v":{"$error":"#REF!"}},{"$f":"IF(Data!#REF!=\"\",\"\",Data!#REF!)","v":{"$error":"#REF!"}},{"$f":"IF(Data!#REF!=\"\",\"\",Data!#REF!)","v":{"$error":"#REF!"}},{"$f":"IF(E963>0,MONTH(E963),\"\")","v":{"$error":"#REF!"}},{"$f":"IF(E963>0,WEEKNUM(E963),\"0\")","v":{"$error":"#REF!"}},{"$f":"IF(G963>=($G$2-3),\"Ano\",\"Nie\")","v":{"$error":"#REF!"}}]
[{"$f":"IF(Data!#REF!=\"\",\"\",Data!#REF!)","v":{"$error":"#REF!"}},{"$f":"IF(Data!#REF!=\"\",\"\",Data!#REF!)","v":{"$error":"#REF!"}},{"$f":"IF(Data!#REF!=\"\",\"\",Data!#REF!)","v":{"$error":"#REF!"}},{"$f":"IF(Data!#REF!=\"\",\"\",Data!#REF!)","v":{"$error":"#REF!"}},{"$f":"IF(Data!#REF!=\"\",\"\",Data!#REF!)","v":{"$error":"#REF!"}},{"$error":"#REF!"},{"$error":"#REF!"},{"$error":"#REF!"}]
[{"$f":"IF(Data!#REF!=\"\",\"\",Data!#REF!)","v":{"$error":"#REF!"}},{"$f":"IF(Data!#REF!=\"\",\"\",Data!#REF!)","v":{"$error":"#REF!"}},{"$f":"IF(Data!#REF!=\"\",\"\",Data!#REF!)","v":{"$error":"#REF!"}},{"$f":"IF(Data!#REF!=\"\",\"\",Data!#REF!)","v":{"$error":"#REF!"}},{"$f":"IF(Data!#REF!=\"\",\"\",Data!#REF!)","v":{"$error":"#REF!"}},{"$error":"#REF!"},{"$error":"#REF!"},{"$error":"#REF!"}]
[{"$f":"IF(Data!#REF!=\"\",\"\",Data!#REF!)","v":{"$error":"#REF!"}},{"$f":"IF(Data!#REF!=\"\",\"\",Data!#REF!)","v":{"$error":"#REF!"}},{"$f":"IF(Data!#REF!=\"\",\"\",Data!#REF!)","v":{"$error":"#REF!"}},{"$f":"IF(Data!#REF!=\"\",\"\",Data!#REF!)","v":{"$error":"#REF!"}},{"$f":"IF(Data!#REF!=\"\",\"\",Data!#REF!)","v":{"$error":"#REF!"}},{"$error":"#REF!"},{"$error":"#REF!"},{"$error":"#REF!"}]
[{"$f":"IF(Data!#REF!=\"\",\"\",Data!#REF!)","v":{"$error":"#REF!"}},{"$f":"IF(Data!#REF!=\"\",\"\",Data!#REF!)","v":{"$error":"#REF!"}},{"$f":"IF(Data!#REF!=\"\",\"\",Data!#REF!)","v":{"$error":"#REF!"}},{"$f":"IF(Data!#REF!=\"\",\"\",Data!#REF!)","v":{"$error":"#REF!"}},{"$f":"IF(Data!#REF!=\"\",\"\",Data!#REF!)","v":{"$error":"#REF!"}},{"$error":"#REF!"},{"$error":"#REF!"},{"$error":"#REF!"}]
[{"$f":"IF(Data!#REF!=\"\",\"\",Data!#REF!)","v":{"$error":"#REF!"}},{"$f":"IF(Data!#REF!=\"\",\"\",Data!#REF!)","v":{"$error":"#REF!"}},{"$f":"IF(Data!#REF!=\"\",\"\",Data!#REF!)","v":{"$error":"#REF!"}},{"$f":"IF(Data!#REF!=\"\",\"\",Data!#REF!)","v":{"$error":"#REF!"}},{"$f":"IF(Data!#REF!=\"\",\"\",Data!#REF!)","v":{"$error":"#REF!"}},{"$error":"#REF!"},{"$error":"#REF!"},{"$error":"#REF!"}]
[{"$f":"IF(Data!#REF!=\"\",\"\",Data!#REF!)","v":{"$error":"#REF!"}},{"$f":"IF(Data!#REF!=\"\",\"\",Data!#REF!)","v":{"$error":"#REF!"}},{"$f":"IF(Data!#REF!=\"\",\"\",Data!#REF!)","v":{"$error":"#REF!"}},{"$f":"IF(Data!#REF!=\"\",\"\",Data!#REF!)","v":{"$error":"#REF!"}},{"$f":"IF(Data!#REF!=\"\",\"\",Data!#REF!)","v":{"$error":"#REF!"}},{"$error":"#REF!"},{"$error":"#REF!"},{"$error":"#REF!"}]
[{"$f":"IF(Data!#REF!=\"\",\"\",Data!#REF!)","v":{"$error":"#REF!"}},{"$f":"IF(Data!#REF!=\"\",\"\",Data!#REF!)","v":{"$error":"#REF!"}},{"$f":"IF(Data!#REF!=\"\",\"\",Data!#REF!)","v":{"$error":"#REF!"}},{"$f":"IF(Data!#REF!=\"\",\"\",Data!#REF!)","v":{"$error":"#REF!"}},{"$f":"IF(Data!#REF!=\"\",\"\",Data!#REF!)","v":{"$error":"#REF!"}},{"$error":"#REF!"},{"$error":"#REF!"},{"$error":"#REF!"}]
[{"$f":"IF(Data!#REF!=\"\",\"\",Data!#REF!)","v":{"$error":"#REF!"}},{"$f":"IF(Data!#REF!=\"\",\"\",Data!#REF!)","v":{"$error":"#REF!"}},{"$f":"IF(Data!#REF!=\"\",\"\",Data!#REF!)","v":{"$error":"#REF!"}},{"$f":"IF(Data!#REF!=\"\",\"\",Data!#REF!)","v":{"$error":"#REF!"}},{"$f":"IF(Data!#REF!=\"\",\"\",Data!#REF!)","v":{"$error":"#REF!"}},{"$error":"#REF!"},{"$error":"#REF!"},{"$error":"#REF!"}]
[{"$f":"IF(Data!#REF!=\"\",\"\",Data!#REF!)","v":{"$error":"#REF!"}},{"$f":"IF(Data!#REF!=\"\",\"\",Data!#REF!)","v":{"$error":"#REF!"}},{"$f":"IF(Data!#REF!=\"\",\"\",Data!#REF!)","v":{"$error":"#REF!"}},{"$f":"IF(Data!#REF!=\"\",\"\",Data!#REF!)","v":{"$error":"#REF!"}},{"$f":"IF(Data!#REF!=\"\",\"\",Data!#REF!)","v":{"$error":"#REF!"}},{"$error":"#REF!"},{"$error":"#REF!"},{"$error":"#REF!"}]
[{"$f":"IF(Data!#REF!=\"\",\"\",Data!#REF!)","v":{"$error":"#REF!"}},{"$f":"IF(Data!#REF!=\"\",\"\",Data!#REF!)","v":{"$error":"#REF!"}},{"$f":"IF(Data!#REF!=\"\",\"\",Data!#REF!)","v":{"$error":"#REF!"}},{"$f":"IF(Data!#REF!=\"\",\"\",Data!#REF!)","v":{"$error":"#REF!"}},{"$f":"IF(Data!#REF!=\"\",\"\",Data!#REF!)","v":{"$error":"#REF!"}},{"$error":"#REF!"},{"$error":"#REF!"},{"$error":"#REF!"}]
[{"$f":"IF(Data!#REF!=\"\",\"\",Data!#REF!)","v":{"$error":"#REF!"}},{"$f":"IF(Data!#REF!=\"\",\"\",Data!#REF!)","v":{"$error":"#REF!"}},{"$f":"IF(Data!#REF!=\"\",\"\",Data!#REF!)","v":{"$error":"#REF!"}},{"$f":"IF(Data!#REF!=\"\",\"\",Data!#REF!)","v":{"$error":"#REF!"}},{"$f":"IF(Data!#REF!=\"\",\"\",Data!#REF!)","v":{"$error":"#REF!"}},{"$error":"#REF!"},{"$error":"#REF!"},{"$error":"#REF!"}]
[{"$f":"IF(Data!#REF!=\"\",\"\",Data!#REF!)","v":{"$error":"#REF!"}},{"$f":"IF(Data!#REF!=\"\",\"\",Data!#REF!)","v":{"$error":"#REF!"}},{"$f":"IF(Data!#REF!=\"\",\"\",Data!#REF!)","v":{"$error":"#REF!"}},{"$f":"IF(Data!#REF!=\"\",\"\",Data!#REF!)","v":{"$error":"#REF!"}},{"$f":"IF(Data!#REF!=\"\",\"\",Data!#REF!)","v":{"$error":"#REF!"}},{"$error":"#REF!"},{"$error":"#REF!"},{"$error":"#REF!"}]
[{"$f":"IF(Data!#REF!=\"\",\"\",Data!#REF!)","v":{"$error":"#REF!"}},{"$f":"IF(Data!#REF!=\"\",\"\",Data!#REF!)","v":{"$error":"#REF!"}},{"$f":"IF(Data!#REF!=\"\",\"\",Data!#REF!)","v":{"$error":"#REF!"}},{"$f":"IF(Data!#REF!=\"\",\"\",Data!#REF!)","v":{"$error":"#REF!"}},{"$f":"IF(Data!#REF!=\"\",\"\",Data!#REF!)","v":{"$error":"#REF!"}},{"$error":"#REF!"},{"$error":"#REF!"},{"$error":"#REF!"}]
[{"$f":"IF(Data!#REF!=\"\",\"\",Data!#REF!)","v":{"$error":"#REF!"}},{"$f":"IF(Data!#REF!=\"\",\"\",Data!#REF!)","v":{"$error":"#REF!"}},{"$f":"IF(Data!#REF!=\"\",\"\",Data!#REF!)","v":{"$error":"#REF!"}},{"$f":"IF(Data!#REF!=\"\",\"\",Data!#REF!)","v":{"$error":"#REF!"}},{"$f":"IF(Data!#REF!=\"\",\"\",Data!#REF!)","v":{"$error":"#REF!"}},{"$error":"#REF!"},{"$error":"#REF!"},{"$error":"#REF!"}]
[{"$f":"IF(Data!#REF!=\"\",\"\",Data!#REF!)","v":{"$error":"#REF!"}},{"$f":"IF(Data!#REF!=\"\",\"\",Data!#REF!)","v":{"$error":"#REF!"}},{"$f":"IF(Data!#REF!=\"\",\"\",Data!#REF!)","v":{"$error":"#REF!"}},{"$f":"IF(Data!#REF!=\"\",\"\",Data!#REF!)","v":{"$error":"#REF!"}},{"$f":"IF(Data!#REF!=\"\",\"\",Data!#REF!)","v":{"$error":"#REF!"}},{"$error":"#REF!"},{"$error":"#REF!"},{"$error":"#REF!"}]
[{"$f":"IF(Data!#REF!=\"\",\"\",Data!#REF!)","v":{"$error":"#REF!"}},{"$f":"IF(Data!#REF!=\"\",\"\",Data!#REF!)","v":{"$error":"#REF!"}},{"$f":"IF(Data!#REF!=\"\",\"\",Data!#REF!)","v":{"$error":"#REF!"}},{"$f":"IF(Data!#REF!=\"\",\"\",Data!#REF!)","v":{"$error":"#REF!"}},{"$f":"IF(Data!#REF!=\"\",\"\",Data!#REF!)","v":{"$error":"#REF!"}},{"$error":"#REF!"},{"$error":"#REF!"},{"$error":"#REF!"}]
[{"$f":"IF(Data!#REF!=\"\",\"\",Data!#REF!)","v":{"$error":"#REF!"}},{"$f":"IF(Data!#REF!=\"\",\"\",Data!#REF!)","v":{"$error":"#REF!"}},{"$f":"IF(Data!#REF!=\"\",\"\",Data!#REF!)","v":{"$error":"#REF!"}},{"$f":"IF(Data!#REF!=\"\",\"\",Data!#REF!)","v":{"$error":"#REF!"}},{"$f":"IF(Data!#REF!=\"\",\"\",Data!#REF!)","v":{"$error":"#REF!"}},{"$error":"#REF!"},{"$error":"#REF!"},{"$error":"#REF!"}]
[{"$f":"IF(Data!#REF!=\"\",\"\",Data!#REF!)","v":{"$error":"#REF!"}},{"$f":"IF(Data!#REF!=\"\",\"\",Data!#REF!)","v":{"$error":"#REF!"}},{"$f":"IF(Data!#REF!=\"\",\"\",Data!#REF!)","v":{"$error":"#REF!"}},{"$f":"IF(Data!#REF!=\"\",\"\",Data!#REF!)","v":{"$error":"#REF!"}},{"$f":"IF(Data!#REF!=\"\",\"\",Data!#REF!)","v":{"$error":"#REF!"}},{"$error":"#REF!"},{"$error":"#REF!"},{"$error":"#REF!"}]
[{"$f":"IF(Data!#REF!=\"\",\"\",Data!#REF!)","v":{"$error":"#REF!"}},{"$f":"IF(Data!#REF!=\"\",\"\",Data!#REF!)","v":{"$error":"#REF!"}},{"$f":"IF(Data!#REF!=\"\",\"\",Data!#REF!)","v":{"$error":"#REF!"}},{"$f":"IF(Data!#REF!=\"\",\"\",Data!#REF!)","v":{"$error":"#REF!"}},{"$f":"IF(Data!#REF!=\"\",\"\",Data!#REF!)","v":{"$error":"#REF!"}},{"$error":"#REF!"},{"$error":"#REF!"},{"$error":"#REF!"}]
[{"$f":"IF(Data!#REF!=\"\",\"\",Data!#REF!)","v":{"$error":"#REF!"}},{"$f":"IF(Data!#REF!=\"\",\"\",Data!#REF!)","v":{"$error":"#REF!"}},{"$f":"IF(Data!#REF!=\"\",\"\",Data!#REF!)","v":{"$error":"#REF!"}},{"$f":"IF(Data!#REF!=\"\",\"\",Data!#REF!)","v":{"$error":"#REF!"}},{"$f":"IF(Data!#REF!=\"\",\"\",Data!#REF!)","v":{"$error":"#REF!"}},{"$error":"#REF!"},{"$error":"#REF!"},{"$error":"#REF!"}]
[{"$f":"IF(Data!#REF!=\"\",\"\",Data!#REF!)","v":{"$error":"#REF!"}},{"$f":"IF(Data!#REF!=\"\",\"\",Data!#REF!)","v":{"$error":"#REF!"}},{"$f":"IF(Data!#REF!=\"\",\"\",Data!#REF!)","v":{"$error":"#REF!"}},{"$f":"IF(Data!#REF!=\"\",\"\",Data!#REF!)","v":{"$error":"#REF!"}},{"$f":"IF(Data!#REF!=\"\",\"\",Data!#REF!)","v":{"$error":"#REF!"}},{"$error":"#REF!"},{"$error":"#REF!"},{"$error":"#REF!"}]
[{"$f":"IF(Data!#REF!=\"\",\"\",Data!#REF!)","v":{"$error":"#REF!"}},{"$f":"IF(Data!#REF!=\"\",\"\",Data!#REF!)","v":{"$error":"#REF!"}},{"$f":"IF(Data!#REF!=\"\",\"\",Data!#REF!)","v":{"$error":"#REF!"}},{"$f":"IF(Data!#REF!=\"\",\"\",Data!#REF!)","v":{"$error":"#REF!"}},{"$f":"IF(Data!#REF!=\"\",\"\",Data!#REF!)","v":{"$error":"#REF!"}},{"$error":"#REF!"},{"$error":"#REF!"},{"$error":"#REF!"}]
[{"$f":"IF(Data!#REF!=\"\",\"\",Data!#REF!)","v":{"$error":"#REF!"}},{"$f":"IF(Data!#REF!=\"\",\"\",Data!#REF!)","v":{"$error":"#REF!"}},{"$f":"IF(Data!#REF!=\"\",\"\",Data!#REF!)","v":{"$error":"#REF!"}},{"$f":"IF(Data!#REF!=\"\",\"\",Data!#REF!)","v":{"$error":"#REF!"}},{"$f":"IF(Data!#REF!=\"\",\"\",Data!#REF!)","v":{"$error":"#REF!"}},{"$error":"#REF!"},{"$error":"#REF!"},{"$error":"#REF!"}]
[{"$f":"IF(Data!#REF!=\"\",\"\",Data!#REF!)","v":{"$error":"#REF!"}},{"$f":"IF(Data!#REF!=\"\",\"\",Data!#REF!)","v":{"$error":"#REF!"}},{"$f":"IF(Data!#REF!=\"\",\"\",Data!#REF!)","v":{"$error":"#REF!"}},{"$f":"IF(Data!#REF!=\"\",\"\",Data!#REF!)","v":{"$error":"#REF!"}},{"$f":"IF(Data!#REF!=\"\",\"\",Data!#REF!)","v":{"$error":"#REF!"}},{"$error":"#REF!"},{"$error":"#REF!"},{"$error":"#REF!"}]
[{"$f":"IF(Data!#REF!=\"\",\"\",Data!#REF!)","v":{"$error":"#REF!"}},{"$f":"IF(Data!#REF!=\"\",\"\",Data!#REF!)","v":{"$error":"#REF!"}},{"$f":"IF(Data!#REF!=\"\",\"\",Data!#REF!)","v":{"$error":"#REF!"}},{"$f":"IF(Data!#REF!=\"\",\"\",Data!#REF!)","v":{"$error":"#REF!"}},{"$f":"IF(Data!#REF!=\"\",\"\",Data!#REF!)","v":{"$error":"#REF!"}},{"$error":"#REF!"},{"$error":"#REF!"},{"$error":"#REF!"}]
[{"$f":"IF(Data!#REF!=\"\",\"\",Data!#REF!)","v":{"$error":"#REF!"}},{"$f":"IF(Data!#REF!=\"\",\"\",Data!#REF!)","v":{"$error":"#REF!"}},{"$f":"IF(Data!#REF!=\"\",\"\",Data!#REF!)","v":{"$error":"#REF!"}},{"$f":"IF(Data!#REF!=\"\",\"\",Data!#REF!)","v":{"$error":"#REF!"}},{"$f":"IF(Data!#REF!=\"\",\"\",Data!#REF!)","v":{"$error":"#REF!"}},{"$error":"#REF!"},{"$error":"#REF!"},{"$error":"#REF!"}]
[{"$f":"IF(Data!#REF!=\"\",\"\",Data!#REF!)","v":{"$error":"#REF!"}},{"$f":"IF(Data!#REF!=\"\",\"\",Data!#REF!)","v":{"$error":"#REF!"}},{"$f":"IF(Data!#REF!=\"\",\"\",Data!#REF!)","v":{"$error":"#REF!"}},{"$f":"IF(Data!#REF!=\"\",\"\",Data!#REF!)","v":{"$error":"#REF!"}},{"$f":"IF(Data!#REF!=\"\",\"\",Data!#REF!)","v":{"$error":"#REF!"}},{"$error":"#REF!"},{"$error":"#REF!"},{"$error":"#REF!"}]
[{"$f":"IF(Data!#REF!=\"\",\"\",Data!#REF!)","v":{"$error":"#REF!"}},{"$f":"IF(Data!#REF!=\"\",\"\",Data!#REF!)","v":{"$error":"#REF!"}},{"$f":"IF(Data!#REF!=\"\",\"\",Data!#REF!)","v":{"$error":"#REF!"}},{"$f":"IF(Data!#REF!=\"\",\"\",Data!#REF!)","v":{"$error":"#REF!"}},{"$f":"IF(Data!#REF!=\"\",\"\",Data!#REF!)","v":{"$error":"#REF!"}},{"$error":"#REF!"},{"$error":"#REF!"},{"$error":"#REF!"}]
[{"$f":"IF(Data!#REF!=\"\",\"\",Data!#REF!)","v":{"$error":"#REF!"}},{"$f":"IF(Data!#REF!=\"\",\"\",Data!#REF!)","v":{"$error":"#REF!"}},{"$f":"IF(Data!#REF!=\"\",\"\",Data!#REF!)","v":{"$error":"#REF!"}},{"$f":"IF(Data!#REF!=\"\",\"\",Data!#REF!)","v":{"$error":"#REF!"}},{"$f":"IF(Data!#REF!=\"\",\"\",Data!#REF!)","v":{"$error":"#REF!"}},{"$error":"#REF!"},{"$error":"#REF!"},{"$error":"#REF!"}]
[{"$f":"IF(Data!#REF!=\"\",\"\",Data!#REF!)","v":{"$error":"#REF!"}},{"$f":"IF(Data!#REF!=\"\",\"\",Data!#REF!)","v":{"$error":"#REF!"}},{"$f":"IF(Data!#REF!=\"\",\"\",Data!#REF!)","v":{"$error":"#REF!"}},{"$f":"IF(Data!#REF!=\"\",\"\",Data!#REF!)","v":{"$error":"#REF!"}},{"$f":"IF(Data!#REF!=\"\",\"\",Data!#REF!)","v":{"$error":"#REF!"}},{"$error":"#REF!"},{"$error":"#REF!"},{"$error":"#REF!"}]
[{"$f":"IF(Data!#REF!=\"\",\"\",Data!#REF!)","v":{"$error":"#REF!"}},{"$f":"IF(Data!#REF!=\"\",\"\",Data!#REF!)","v":{"$error":"#REF!"}},{"$f":"IF(Data!#REF!=\"\",\"\",Data!#REF!)","v":{"$error":"#REF!"}},{"$f":"IF(Data!#REF!=\"\",\"\",Data!#REF!)","v":{"$error":"#REF!"}},{"$f":"IF(Data!#REF!=\"\",\"\",Data!#REF!)","v":{"$error":"#REF!"}},{"$error":"#REF!"},{"$error":"#REF!"},{"$error":"#REF!"}]
[{"$f":"IF(Data!#REF!=\"\",\"\",Data!#REF!)","v":{"$error":"#REF!"}},{"$f":"IF(Data!#REF!=\"\",\"\",Data!#REF!)","v":{"$error":"#REF!"}},{"$f":"IF(Data!#REF!=\"\",\"\",Data!#REF!)","v":{"$error":"#REF!"}},{"$f":"IF(Data!#REF!=\"\",\"\",Data!#REF!)","v":{"$error":"#REF!"}},{"$f":"IF(Data!#REF!=\"\",\"\",Data!#REF!)","v":{"$error":"#REF!"}},{"$error":"#REF!"},{"$error":"#REF!"},{"$error":"#REF!"}]
[{"$f":"IF(Data!#REF!=\"\",\"\",Data!#REF!)","v":{"$error":"#REF!"}},{"$f":"IF(Data!#REF!=\"\",\"\",Data!#REF!)","v":{"$error":"#REF!"}},{"$f":"IF(Data!#REF!=\"\",\"\",Data!#REF!)","v":{"$error":"#REF!"}},{"$f":"IF(Data!#REF!=\"\",\"\",Data!#REF!)","v":{"$error":"#REF!"}},{"$f":"IF(Data!#REF!=\"\",\"\",Data!#REF!)","v":{"$error":"#REF!"}},{"$error":"#REF!"},{"$error":"#REF!"},{"$error":"#REF!"}]
[{"$f":"IF(Data!#REF!=\"\",\"\",Data!#REF!)","v":{"$error":"#REF!"}},{"$f":"IF(Data!#REF!=\"\",\"\",Data!#REF!)","v":{"$error":"#REF!"}},{"$f":"IF(Data!#REF!=\"\",\"\",Data!#REF!)","v":{"$error":"#REF!"}},{"$f":"IF(Data!#REF!=\"\",\"\",Data!#REF!)","v":{"$error":"#REF!"}},{"$f":"IF(Data!#REF!=\"\",\"\",Data!#REF!)","v":{"$error":"#REF!"}},{"$error":"#REF!"},{"$error":"#REF!"},{"$error":"#REF!"}]
[{"$f":"IF(Data!#REF!=\"\",\"\",Data!#REF!)","v":{"$error":"#REF!"}},{"$f":"IF(Data!#REF!=\"\",\"\",Data!#REF!)","v":{"$error":"#REF!"}},{"$f":"IF(Data!#REF!=\"\",\"\",Data!#REF!)","v":{"$error":"#REF!"}},{"$f":"IF(Data!#REF!=\"\",\"\",Data!#REF!)","v":{"$error":"#REF!"}},{"$f":"IF(Data!#REF!=\"\",\"\",Data!#REF!)","v":{"$error":"#REF!"}},{"$error":"#REF!"},{"$error":"#REF!"},{"$error":"#REF!"}]
[{"$f":"IF(Data!#REF!=\"\",\"\",Data!#REF!)","v":{"$error":"#REF!"}},{"$f":"IF(Data!#REF!=\"\",\"\",Data!#REF!)","v":{"$error":"#REF!"}},{"$f":"IF(Data!#REF!=\"\",\"\",Data!#REF!)","v":{"$error":"#REF!"}},{"$f":"IF(Data!#REF!=\"\",\"\",Data!#REF!)","v":{"$error":"#REF!"}},{"$f":"IF(Data!#REF!=\"\",\"\",Data!#REF!)","v":{"$error":"#REF!"}},{"$error":"#REF!"},{"$error":"#REF!"},{"$error":"#REF!"}]
[{"$f":"IF(Data!#REF!=\"\",\"\",Data!#REF!)","v":{"$error":"#REF!"}},{"$f":"IF(Data!#REF!=\"\",\"\",Data!#REF!)","v":{"$error":"#REF!"}},{"$f":"IF(Data!#REF!=\"\",\"\",Data!#REF!)","v":{"$error":"#REF!"}},{"$f":"IF(Data!#REF!=\"\",\"\",Data!#REF!)","v":{"$error":"#REF!"}},{"$f":"IF(Data!#REF!=\"\",\"\",Data!#REF!)","v":{"$error":"#REF!"}},{"$error":"#REF!"},{"$error":"#REF!"},{"$error":"#REF!"}]
[{"$f":"IF(Data!#REF!=\"\",\"\",Data!#REF!)","v":{"$error":"#REF!"}},{"$f":"IF(Data!#REF!=\"\",\"\",Data!#REF!)","v":{"$error":"#REF!"}},{"$f":"IF(Data!#REF!=\"\",\"\",Data!#REF!)","v":{"$error":"#REF!"}},{"$f":"IF(Data!#REF!=\"\",\"\",Data!#REF!)","v":{"$error":"#REF!"}},{"$f":"IF(Data!#REF!=\"\",\"\",Data!#REF!)","v":{"$error":"#REF!"}},{"$error":"#REF!"},{"$error":"#REF!"},{"$error":"#REF!"}]
[{"$f":"IF(Data!#REF!=\"\",\"\",Data!#REF!)","v":{"$error":"#REF!"}},{"$f":"IF(Data!#REF!=\"\",\"\",Data!#REF!)","v":{"$error":"#REF!"}},{"$f":"IF(Data!#REF!=\"\",\"\",Data!#REF!)","v":{"$error":"#REF!"}},{"$f":"IF(Data!#REF!=\"\",\"\",Data!#REF!)","v":{"$error":"#REF!"}},{"$f":"IF(Data!#REF!=\"\",\"\",Data!#REF!)","v":{"$error":"#REF!"}},{"$error":"#REF!"},{"$error":"#REF!"},{"$error":"#REF!"}]
[{"$f":"IF(Data!#REF!=\"\",\"\",Data!#REF!)","v":{"$error":"#REF!"}},{"$f":"IF(Data!#REF!=\"\",\"\",Data!#REF!)","v":{"$error":"#REF!"}},{"$f":"IF(Data!#REF!=\"\",\"\",Data!#REF!)","v":{"$error":"#REF!"}},{"$f":"IF(Data!#REF!=\"\",\"\",Data!#REF!)","v":{"$error":"#REF!"}},{"$f":"IF(Data!#REF!=\"\",\"\",Data!#REF!)","v":{"$error":"#REF!"}},{"$error":"#REF!"},{"$error":"#REF!"},{"$error":"#REF!"}]
[{"$f":"IF(Data!#REF!=\"\",\"\",Data!#REF!)","v":{"$error":"#REF!"}},{"$f":"IF(Data!#REF!=\"\",\"\",Data!#REF!)","v":{"$error":"#REF!"}},{"$f":"IF(Data!#REF!=\"\",\"\",Data!#REF!)","v":{"$error":"#REF!"}},{"$f":"IF(Data!#REF!=\"\",\"\",Data!#REF!)","v":{"$error":"#REF!"}},{"$f":"IF(Data!#REF!=\"\",\"\",Data!#REF!)","v":{"$error":"#REF!"}},{"$error":"#REF!"},{"$error":"#REF!"},{"$error":"#REF!"}]
[{"$f":"IF(Data!#REF!=\"\",\"\",Data!#REF!)","v":{"$error":"#REF!"}},{"$f":"IF(Data!#REF!=\"\",\"\",Data!#REF!)","v":{"$error":"#REF!"}},{"$f":"IF(Data!#REF!=\"\",\"\",Data!#REF!)","v":{"$error":"#REF!"}},{"$f":"IF(Data!#REF!=\"\",\"\",Data!#REF!)","v":{"$error":"#REF!"}},{"$f":"IF(Data!#REF!=\"\",\"\",Data!#REF!)","v":{"$error":"#REF!"}},{"$error":"#REF!"},{"$error":"#REF!"},{"$error":"#REF!"}]
[{"$f":"IF(Data!#REF!=\"\",\"\",Data!#REF!)","v":{"$error":"#REF!"}},{"$f":"IF(Data!#REF!=\"\",\"\",Data!#REF!)","v":{"$error":"#REF!"}},{"$f":"IF(Data!#REF!=\"\",\"\",Data!#REF!)","v":{"$error":"#REF!"}},{"$f":"IF(Data!#REF!=\"\",\"\",Data!#REF!)","v":{"$error":"#REF!"}},{"$f":"IF(Data!#REF!=\"\",\"\",Data!#REF!)","v":{"$error":"#REF!"}},{"$error":"#REF!"},{"$error":"#REF!"},{"$error":"#REF!"}]
[{"$f":"IF(Data!#REF!=\"\",\"\",Data!#REF!)","v":{"$error":"#REF!"}},{"$f":"IF(Data!#REF!=\"\",\"\",Data!#REF!)","v":{"$error":"#REF!"}},{"$f":"IF(Data!#REF!=\"\",\"\",Data!#REF!)","v":{"$error":"#REF!"}},{"$f":"IF(Data!#REF!=\"\",\"\",Data!#REF!)","v":{"$error":"#REF!"}},{"$f":"IF(Data!#REF!=\"\",\"\",Data!#REF!)","v":{"$error":"#REF!"}},{"$error":"#REF!"},{"$error":"#REF!"},{"$error":"#REF!"}]
[{"$f":"IF(Data!#REF!=\"\",\"\",Data!#REF!)","v":{"$error":"#REF!"}},{"$f":"IF(Data!#REF!=\"\",\"\",Data!#REF!)","v":{"$error":"#REF!"}},{"$f":"IF(Data!#REF!=\"\",\"\",Data!#REF!)","v":{"$error":"#REF!"}},{"$f":"IF(Data!#REF!=\"\",\"\",Data!#REF!)","v":{"$error":"#REF!"}},{"$f":"IF(Data!#REF!=\"\",\"\",Data!#REF!)","v":{"$error":"#REF!"}},{"$error":"#REF!"},{"$error":"#REF!"},{"$error":"#REF!"}]
[{"$f":"IF(Data!#REF!=\"\",\"\",Data!#REF!)","v":{"$error":"#REF!"}},{"$f":"IF(Data!#REF!=\"\",\"\",Data!#REF!)","v":{"$error":"#REF!"}},{"$f":"IF(Data!#REF!=\"\",\"\",Data!#REF!)","v":{"$error":"#REF!"}},{"$f":"IF(Data!#REF!=\"\",\"\",Data!#REF!)","v":{"$error":"#REF!"}},{"$f":"IF(Data!#REF!=\"\",\"\",Data!#REF!)","v":{"$error":"#REF!"}},{"$error":"#REF!"},{"$error":"#REF!"},{"$error":"#REF!"}]
[{"$f":"IF(Data!#REF!=\"\",\"\",Data!#REF!)","v":{"$error":"#REF!"}},{"$f":"IF(Data!#REF!=\"\",\"\",Data!#REF!)","v":{"$error":"#REF!"}},{"$f":"IF(Data!#REF!=\"\",\"\",Data!#REF!)","v":{"$error":"#REF!"}},{"$f":"IF(Data!#REF!=\"\",\"\",Data!#REF!)","v":{"$error":"#REF!"}},{"$f":"IF(Data!#REF!=\"\",\"\",Data!#REF!)","v":{"$error":"#REF!"}},{"$error":"#REF!"},{"$error":"#REF!"},{"$error":"#REF!"}]
[{"$f":"IF(Data!#REF!=\"\",\"\",Data!#REF!)","v":{"$error":"#REF!"}},{"$f":"IF(Data!#REF!=\"\",\"\",Data!#REF!)","v":{"$error":"#REF!"}},{"$f":"IF(Data!#REF!=\"\",\"\",Data!#REF!)","v":{"$error":"#REF!"}},{"$f":"IF(Data!#REF!=\"\",\"\",Data!#REF!)","v":{"$error":"#REF!"}},{"$f":"IF(Data!#REF!=\"\",\"\",Data!#REF!)","v":{"$error":"#REF!"}},{"$error":"#REF!"},{"$error":"#REF!"},{"$error":"#REF!"}]
[{"$f":"IF(Data!#REF!=\"\",\"\",Data!#REF!)","v":{"$error":"#REF!"}},{"$f":"IF(Data!#REF!=\"\",\"\",Data!#REF!)","v":{"$error":"#REF!"}},{"$f":"IF(Data!#REF!=\"\",\"\",Data!#REF!)","v":{"$error":"#REF!"}},{"$f":"IF(Data!#REF!=\"\",\"\",Data!#REF!)","v":{"$error":"#REF!"}},{"$f":"IF(Data!#REF!=\"\",\"\",Data!#REF!)","v":{"$error":"#REF!"}},{"$error":"#REF!"},{"$error":"#REF!"},{"$error":"#REF!"}]
[{"$f":"IF(Data!#REF!=\"\",\"\",Data!#REF!)","v":{"$error":"#REF!"}},{"$f":"IF(Data!#REF!=\"\",\"\",Data!#REF!)","v":{"$error":"#REF!"}},{"$f":"IF(Data!#REF!=\"\",\"\",Data!#REF!)","v":{"$error":"#REF!"}},{"$f":"IF(Data!#REF!=\"\",\"\",Data!#REF!)","v":{"$error":"#REF!"}},{"$f":"IF(Data!#REF!=\"\",\"\",Data!#REF!)","v":{"$error":"#REF!"}},{"$error":"#REF!"},{"$error":"#REF!"},{"$error":"#REF!"}]
[{"$f":"IF(Data!#REF!=\"\",\"\",Data!#REF!)","v":{"$error":"#REF!"}},{"$f":"IF(Data!#REF!=\"\",\"\",Data!#REF!)","v":{"$error":"#REF!"}},{"$f":"IF(Data!#REF!=\"\",\"\",Data!#REF!)","v":{"$error":"#REF!"}},{"$f":"IF(Data!#REF!=\"\",\"\",Data!#REF!)","v":{"$error":"#REF!"}},{"$f":"IF(Data!#REF!=\"\",\"\",Data!#REF!)","v":{"$error":"#REF!"}},{"$error":"#REF!"},{"$error":"#REF!"},{"$error":"#REF!"}]
[{"$f":"IF(Data!#REF!=\"\",\"\",Data!#REF!)","v":{"$error":"#REF!"}},{"$f":"IF(Data!#REF!=\"\",\"\",Data!#REF!)","v":{"$error":"#REF!"}},{"$f":"IF(Data!#REF!=\"\",\"\",Data!#REF!)","v":{"$error":"#REF!"}},{"$f":"IF(Data!#REF!=\"\",\"\",Data!#REF!)","v":{"$error":"#REF!"}},{"$f":"IF(Data!#REF!=\"\",\"\",Data!#REF!)","v":{"$error":"#REF!"}},{"$error":"#REF!"},{"$error":"#REF!"},{"$error":"#REF!"}]
[{"$f":"IF(Data!#REF!=\"\",\"\",Data!#REF!)","v":{"$error":"#REF!"}},{"$f":"IF(Data!#REF!=\"\",\"\",Data!#REF!)","v":{"$error":"#REF!"}},{"$f":"IF(Data!#REF!=\"\",\"\",Data!#REF!)","v":{"$error":"#REF!"}},{"$f":"IF(Data!#REF!=\"\",\"\",Data!#REF!)","v":{"$error":"#REF!"}},{"$f":"IF(Data!#REF!=\"\",\"\",Data!#REF!)","v":{"$error":"#REF!"}},{"$error":"#REF!"},{"$error":"#REF!"},{"$error":"#REF!"}]
[{"$f":"IF(Data!#REF!=\"\",\"\",Data!#REF!)","v":{"$error":"#REF!"}},{"$f":"IF(Data!#REF!=\"\",\"\",Data!#REF!)","v":{"$error":"#REF!"}},{"$f":"IF(Data!#REF!=\"\",\"\",Data!#REF!)","v":{"$error":"#REF!"}},{"$f":"IF(Data!#REF!=\"\",\"\",Data!#REF!)","v":{"$error":"#REF!"}},{"$f":"IF(Data!#REF!=\"\",\"\",Data!#REF!)","v":{"$error":"#REF!"}},{"$error":"#REF!"},{"$error":"#REF!"},{"$error":"#REF!"}]
[{"$f":"IF(Data!#REF!=\"\",\"\",Data!#REF!)","v":{"$error":"#REF!"}},{"$f":"IF(Data!#REF!=\"\",\"\",Data!#REF!)","v":{"$error":"#REF!"}},{"$f":"IF(Data!#REF!=\"\",\"\",Data!#REF!)","v":{"$error":"#REF!"}},{"$f":"IF(Data!#REF!=\"\",\"\",Data!#REF!)","v":{"$error":"#REF!"}},{"$f":"IF(Data!#REF!=\"\",\"\",Data!#REF!)","v":{"$error":"#REF!"}},{"$error":"#REF!"},{"$error":"#REF!"},{"$error":"#REF!"}]
[{"$f":"IF(Data!#REF!=\"\",\"\",Data!#REF!)","v":{"$error":"#REF!"}},{"$f":"IF(Data!#REF!=\"\",\"\",Data!#REF!)","v":{"$error":"#REF!"}},{"$f":"IF(Data!#REF!=\"\",\"\",Data!#REF!)","v":{"$error":"#REF!"}},{"$f":"IF(Data!#REF!=\"\",\"\",Data!#REF!)","v":{"$error":"#REF!"}},{"$f":"IF(Data!#REF!=\"\",\"\",Data!#REF!)","v":{"$error":"#REF!"}},{"$error":"#REF!"},{"$error":"#REF!"},{"$error":"#REF!"}]
[{"$f":"IF(Data!#REF!=\"\",\"\",Data!#REF!)","v":{"$error":"#REF!"}},{"$f":"IF(Data!#REF!=\"\",\"\",Data!#REF!)","v":{"$error":"#REF!"}},{"$f":"IF(Data!#REF!=\"\",\"\",Data!#REF!)","v":{"$error":"#REF!"}},{"$f":"IF(Data!#REF!=\"\",\"\",Data!#REF!)","v":{"$error":"#REF!"}},{"$f":"IF(Data!#REF!=\"\",\"\",Data!#REF!)","v":{"$error":"#REF!"}},{"$error":"#REF!"},{"$error":"#REF!"},{"$error":"#REF!"}]
[{"$f":"IF(Data!#REF!=\"\",\"\",Data!#REF!)","v":{"$error":"#REF!"}},{"$f":"IF(Data!#REF!=\"\",\"\",Data!#REF!)","v":{"$error":"#REF!"}},{"$f":"IF(Data!#REF!=\"\",\"\",Data!#REF!)","v":{"$error":"#REF!"}},{"$f":"IF(Data!#REF!=\"\",\"\",Data!#REF!)","v":{"$error":"#REF!"}},{"$f":"IF(Data!#REF!=\"\",\"\",Data!#REF!)","v":{"$error":"#REF!"}},{"$error":"#REF!"},{"$error":"#REF!"},{"$error":"#REF!"}]
[{"$f":"IF(Data!#REF!=\"\",\"\",Data!#REF!)","v":{"$error":"#REF!"}},{"$f":"IF(Data!#REF!=\"\",\"\",Data!#REF!)","v":{"$error":"#REF!"}},{"$f":"IF(Data!#REF!=\"\",\"\",Data!#REF!)","v":{"$error":"#REF!"}},{"$f":"IF(Data!#REF!=\"\",\"\",Data!#REF!)","v":{"$error":"#REF!"}},{"$f":"IF(Data!#REF!=\"\",\"\",Data!#REF!)","v":{"$error":"#REF!"}},{"$error":"#REF!"},{"$error":"#REF!"},{"$error":"#REF!"}]
[{"$f":"IF(Data!#REF!=\"\",\"\",Data!#REF!)","v":{"$error":"#REF!"}},{"$f":"IF(Data!#REF!=\"\",\"\",Data!#REF!)","v":{"$error":"#REF!"}},{"$f":"IF(Data!#REF!=\"\",\"\",Data!#REF!)","v":{"$error":"#REF!"}},{"$f":"IF(Data!#REF!=\"\",\"\",Data!#REF!)","v":{"$error":"#REF!"}},{"$f":"IF(Data!#REF!=\"\",\"\",Data!#REF!)","v":{"$error":"#REF!"}},{"$error":"#REF!"},{"$error":"#REF!"},{"$error":"#REF!"}]
[{"$f":"IF(Data!#REF!=\"\",\"\",Data!#REF!)","v":{"$error":"#REF!"}},{"$f":"IF(Data!#REF!=\"\",\"\",Data!#REF!)","v":{"$error":"#REF!"}},{"$f":"IF(Data!#REF!=\"\",\"\",Data!#REF!)","v":{"$error":"#REF!"}},{"$f":"IF(Data!#REF!=\"\",\"\",Data!#REF!)","v":{"$error":"#REF!"}},{"$f":"IF(Data!#REF!=\"\",\"\",Data!#REF!)","v":{"$error":"#REF!"}},{"$error":"#REF!"},{"$error":"#REF!"},{"$error":"#REF!"}]
[{"$f":"IF(Data!#REF!=\"\",\"\",Data!#REF!)","v":{"$error":"#REF!"}},{"$f":"IF(Data!#REF!=\"\",\"\",Data!#REF!)","v":{"$error":"#REF!"}},{"$f":"IF(Data!#REF!=\"\",\"\",Data!#REF!)","v":{"$error":"#REF!"}},{"$f":"IF(Data!#REF!=\"\",\"\",Data!#REF!)","v":{"$error":"#REF!"}},{"$f":"IF(Data!#REF!=\"\",\"\",Data!#REF!)","v":{"$error":"#REF!"}},{"$error":"#REF!"},{"$error":"#REF!"},{"$error":"#REF!"}]
[{"$f":"IF(Data!#REF!=\"\",\"\",Data!#REF!)","v":{"$error":"#REF!"}},{"$f":"IF(Data!#REF!=\"\",\"\",Data!#REF!)","v":{"$error":"#REF!"}},{"$f":"IF(Data!#REF!=\"\",\"\",Data!#REF!)","v":{"$error":"#REF!"}},{"$f":"IF(Data!#REF!=\"\",\"\",Data!#REF!)","v":{"$error":"#REF!"}},{"$f":"IF(Data!#REF!=\"\",\"\",Data!#REF!)","v":{"$error":"#REF!"}},{"$error":"#REF!"},{"$error":"#REF!"},{"$error":"#REF!"}]
[{"$f":"IF(Data!#REF!=\"\",\"\",Data!#REF!)","v":{"$error":"#REF!"}},{"$f":"IF(Data!#REF!=\"\",\"\",Data!#REF!)","v":{"$error":"#REF!"}},{"$f":"IF(Data!#REF!=\"\",\"\",Data!#REF!)","v":{"$error":"#REF!"}},{"$f":"IF(Data!#REF!=\"\",\"\",Data!#REF!)","v":{"$error":"#REF!"}},{"$f":"IF(Data!#REF!=\"\",\"\",Data!#REF!)","v":{"$error":"#REF!"}},{"$f":"IF(E1027>0,MONTH(E1027),\"\")","v":{"$error":"#REF!"}},{"$f":"IF(E1027>0,WEEKNUM(E1027),\"0\")","v":{"$error":"#REF!"}},{"$f":"IF(G1027>=($G$2-3),\"Ano\",\"Nie\")","v":{"$error":"#REF!"}}]
[{"$f":"IF(Data!#REF!=\"\",\"\",Data!#REF!)","v":{"$error":"#REF!"}},{"$f":"IF(Data!#REF!=\"\",\"\",Data!#REF!)","v":{"$error":"#REF!"}},{"$f":"IF(Data!#REF!=\"\",\"\",Data!#REF!)","v":{"$error":"#REF!"}},{"$f":"IF(Data!#REF!=\"\",\"\",Data!#REF!)","v":{"$error":"#REF!"}},{"$f":"IF(Data!#REF!=\"\",\"\",Data!#REF!)","v":{"$error":"#REF!"}},{"$error":"#REF!"},{"$error":"#REF!"},{"$error":"#REF!"}]
[{"$f":"IF(Data!#REF!=\"\",\"\",Data!#REF!)","v":{"$error":"#REF!"}},{"$f":"IF(Data!#REF!=\"\",\"\",Data!#REF!)","v":{"$error":"#REF!"}},{"$f":"IF(Data!#REF!=\"\",\"\",Data!#REF!)","v":{"$error":"#REF!"}},{"$f":"IF(Data!#REF!=\"\",\"\",Data!#REF!)","v":{"$error":"#REF!"}},{"$f":"IF(Data!#REF!=\"\",\"\",Data!#REF!)","v":{"$error":"#REF!"}},{"$error":"#REF!"},{"$error":"#REF!"},{"$error":"#REF!"}]
[{"$f":"IF(Data!#REF!=\"\",\"\",Data!#REF!)","v":{"$error":"#REF!"}},{"$f":"IF(Data!#REF!=\"\",\"\",Data!#REF!)","v":{"$error":"#REF!"}},{"$f":"IF(Data!#REF!=\"\",\"\",Data!#REF!)","v":{"$error":"#REF!"}},{"$f":"IF(Data!#REF!=\"\",\"\",Data!#REF!)","v":{"$error":"#REF!"}},{"$f":"IF(Data!#REF!=\"\",\"\",Data!#REF!)","v":{"$error":"#REF!"}},{"$error":"#REF!"},{"$error":"#REF!"},{"$error":"#REF!"}]
[{"$f":"IF(Data!#REF!=\"\",\"\",Data!#REF!)","v":{"$error":"#REF!"}},{"$f":"IF(Data!#REF!=\"\",\"\",Data!#REF!)","v":{"$error":"#REF!"}},{"$f":"IF(Data!#REF!=\"\",\"\",Data!#REF!)","v":{"$error":"#REF!"}},{"$f":"IF(Data!#REF!=\"\",\"\",Data!#REF!)","v":{"$error":"#REF!"}},{"$f":"IF(Data!#REF!=\"\",\"\",Data!#REF!)","v":{"$error":"#REF!"}},{"$error":"#REF!"},{"$error":"#REF!"},{"$error":"#REF!"}]
[{"$f":"IF(Data!#REF!=\"\",\"\",Data!#REF!)","v":{"$error":"#REF!"}},{"$f":"IF(Data!#REF!=\"\",\"\",Data!#REF!)","v":{"$error":"#REF!"}},{"$f":"IF(Data!#REF!=\"\",\"\",Data!#REF!)","v":{"$error":"#REF!"}},{"$f":"IF(Data!#REF!=\"\",\"\",Data!#REF!)","v":{"$error":"#REF!"}},{"$f":"IF(Data!#REF!=\"\",\"\",Data!#REF!)","v":{"$error":"#REF!"}},{"$error":"#REF!"},{"$error":"#REF!"},{"$error":"#REF!"}]
[{"$f":"IF(Data!#REF!=\"\",\"\",Data!#REF!)","v":{"$error":"#REF!"}},{"$f":"IF(Data!#REF!=\"\",\"\",Data!#REF!)","v":{"$error":"#REF!"}},{"$f":"IF(Data!#REF!=\"\",\"\",Data!#REF!)","v":{"$error":"#REF!"}},{"$f":"IF(Data!#REF!=\"\",\"\",Data!#REF!)","v":{"$error":"#REF!"}},{"$f":"IF(Data!#REF!=\"\",\"\",Data!#REF!)","v":{"$error":"#REF!"}},{"$error":"#REF!"},{"$error":"#REF!"},{"$error":"#REF!"}]
[{"$f":"IF(Data!#REF!=\"\",\"\",Data!#REF!)","v":{"$error":"#REF!"}},{"$f":"IF(Data!#REF!=\"\",\"\",Data!#REF!)","v":{"$error":"#REF!"}},{"$f":"IF(Data!#REF!=\"\",\"\",Data!#REF!)","v":{"$error":"#REF!"}},{"$f":"IF(Data!#REF!=\"\",\"\",Data!#REF!)","v":{"$error":"#REF!"}},{"$f":"IF(Data!#REF!=\"\",\"\",Data!#REF!)","v":{"$error":"#REF!"}},{"$error":"#REF!"},{"$error":"#REF!"},{"$error":"#REF!"}]
[{"$f":"IF(Data!#REF!=\"\",\"\",Data!#REF!)","v":{"$error":"#REF!"}},{"$f":"IF(Data!#REF!=\"\",\"\",Data!#REF!)","v":{"$error":"#REF!"}},{"$f":"IF(Data!#REF!=\"\",\"\",Data!#REF!)","v":{"$error":"#REF!"}},{"$f":"IF(Data!#REF!=\"\",\"\",Data!#REF!)","v":{"$error":"#REF!"}},{"$f":"IF(Data!#REF!=\"\",\"\",Data!#REF!)","v":{"$error":"#REF!"}},{"$error":"#REF!"},{"$error":"#REF!"},{"$error":"#REF!"}]
[{"$f":"IF(Data!#REF!=\"\",\"\",Data!#REF!)","v":{"$error":"#REF!"}},{"$f":"IF(Data!#REF!=\"\",\"\",Data!#REF!)","v":{"$error":"#REF!"}},{"$f":"IF(Data!#REF!=\"\",\"\",Data!#REF!)","v":{"$error":"#REF!"}},{"$f":"IF(Data!#REF!=\"\",\"\",Data!#REF!)","v":{"$error":"#REF!"}},{"$f":"IF(Data!#REF!=\"\",\"\",Data!#REF!)","v":{"$error":"#REF!"}},{"$error":"#REF!"},{"$error":"#REF!"},{"$error":"#REF!"}]
[{"$f":"IF(Data!#REF!=\"\",\"\",Data!#REF!)","v":{"$error":"#REF!"}},{"$f":"IF(Data!#REF!=\"\",\"\",Data!#REF!)","v":{"$error":"#REF!"}},{"$f":"IF(Data!#REF!=\"\",\"\",Data!#REF!)","v":{"$error":"#REF!"}},{"$f":"IF(Data!#REF!=\"\",\"\",Data!#REF!)","v":{"$error":"#REF!"}},{"$f":"IF(Data!#REF!=\"\",\"\",Data!#REF!)","v":{"$error":"#REF!"}},{"$error":"#REF!"},{"$error":"#REF!"},{"$error":"#REF!"}]
[{"$f":"IF(Data!#REF!=\"\",\"\",Data!#REF!)","v":{"$error":"#REF!"}},{"$f":"IF(Data!#REF!=\"\",\"\",Data!#REF!)","v":{"$error":"#REF!"}},{"$f":"IF(Data!#REF!=\"\",\"\",Data!#REF!)","v":{"$error":"#REF!"}},{"$f":"IF(Data!#REF!=\"\",\"\",Data!#REF!)","v":{"$error":"#REF!"}},{"$f":"IF(Data!#REF!=\"\",\"\",Data!#REF!)","v":{"$error":"#REF!"}},{"$error":"#REF!"},{"$error":"#REF!"},{"$error":"#REF!"}]
[{"$f":"IF(Data!#REF!=\"\",\"\",Data!#REF!)","v":{"$error":"#REF!"}},{"$f":"IF(Data!#REF!=\"\",\"\",Data!#REF!)","v":{"$error":"#REF!"}},{"$f":"IF(Data!#REF!=\"\",\"\",Data!#REF!)","v":{"$error":"#REF!"}},{"$f":"IF(Data!#REF!=\"\",\"\",Data!#REF!)","v":{"$error":"#REF!"}},{"$f":"IF(Data!#REF!=\"\",\"\",Data!#REF!)","v":{"$error":"#REF!"}},{"$error":"#REF!"},{"$error":"#REF!"},{"$error":"#REF!"}]
[{"$f":"IF(Data!#REF!=\"\",\"\",Data!#REF!)","v":{"$error":"#REF!"}},{"$f":"IF(Data!#REF!=\"\",\"\",Data!#REF!)","v":{"$error":"#REF!"}},{"$f":"IF(Data!#REF!=\"\",\"\",Data!#REF!)","v":{"$error":"#REF!"}},{"$f":"IF(Data!#REF!=\"\",\"\",Data!#REF!)","v":{"$error":"#REF!"}},{"$f":"IF(Data!#REF!=\"\",\"\",Data!#REF!)","v":{"$error":"#REF!"}},{"$error":"#REF!"},{"$error":"#REF!"},{"$error":"#REF!"}]
[{"$f":"IF(Data!#REF!=\"\",\"\",Data!#REF!)","v":{"$error":"#REF!"}},{"$f":"IF(Data!#REF!=\"\",\"\",Data!#REF!)","v":{"$error":"#REF!"}},{"$f":"IF(Data!#REF!=\"\",\"\",Data!#REF!)","v":{"$error":"#REF!"}},{"$f":"IF(Data!#REF!=\"\",\"\",Data!#REF!)","v":{"$error":"#REF!"}},{"$f":"IF(Data!#REF!=\"\",\"\",Data!#REF!)","v":{"$error":"#REF!"}},{"$error":"#REF!"},{"$error":"#REF!"},{"$error":"#REF!"}]
[{"$f":"IF(Data!#REF!=\"\",\"\",Data!#REF!)","v":{"$error":"#REF!"}},{"$f":"IF(Data!#REF!=\"\",\"\",Data!#REF!)","v":{"$error":"#REF!"}},{"$f":"IF(Data!#REF!=\"\",\"\",Data!#REF!)","v":{"$error":"#REF!"}},{"$f":"IF(Data!#REF!=\"\",\"\",Data!#REF!)","v":{"$error":"#REF!"}},{"$f":"IF(Data!#REF!=\"\",\"\",Data!#REF!)","v":{"$error":"#REF!"}},{"$error":"#REF!"},{"$error":"#REF!"},{"$error":"#REF!"}]
[{"$f":"IF(Data!#REF!=\"\",\"\",Data!#REF!)","v":{"$error":"#REF!"}},{"$f":"IF(Data!#REF!=\"\",\"\",Data!#REF!)","v":{"$error":"#REF!"}},{"$f":"IF(Data!#REF!=\"\",\"\",Data!#REF!)","v":{"$error":"#REF!"}},{"$f":"IF(Data!#REF!=\"\",\"\",Data!#REF!)","v":{"$error":"#REF!"}},{"$f":"IF(Data!#REF!=\"\",\"\",Data!#REF!)","v":{"$error":"#REF!"}},{"$error":"#REF!"},{"$error":"#REF!"},{"$error":"#REF!"}]
[{"$f":"IF(Data!#REF!=\"\",\"\",Data!#REF!)","v":{"$error":"#REF!"}},{"$f":"IF(Data!#REF!=\"\",\"\",Data!#REF!)","v":{"$error":"#REF!"}},{"$f":"IF(Data!#REF!=\"\",\"\",Data!#REF!)","v":{"$error":"#REF!"}},{"$f":"IF(Data!#REF!=\"\",\"\",Data!#REF!)","v":{"$error":"#REF!"}},{"$f":"IF(Data!#REF!=\"\",\"\",Data!#REF!)","v":{"$error":"#REF!"}},{"$error":"#REF!"},{"$error":"#REF!"},{"$error":"#REF!"}]
[{"$f":"IF(Data!#REF!=\"\",\"\",Data!#REF!)","v":{"$error":"#REF!"}},{"$f":"IF(Data!#REF!=\"\",\"\",Data!#REF!)","v":{"$error":"#REF!"}},{"$f":"IF(Data!#REF!=\"\",\"\",Data!#REF!)","v":{"$error":"#REF!"}},{"$f":"IF(Data!#REF!=\"\",\"\",Data!#REF!)","v":{"$error":"#REF!"}},{"$f":"IF(Data!#REF!=\"\",\"\",Data!#REF!)","v":{"$error":"#REF!"}},{"$error":"#REF!"},{"$error":"#REF!"},{"$error":"#REF!"}]
[{"$f":"IF(Data!#REF!=\"\",\"\",Data!#REF!)","v":{"$error":"#REF!"}},{"$f":"IF(Data!#REF!=\"\",\"\",Data!#REF!)","v":{"$error":"#REF!"}},{"$f":"IF(Data!#REF!=\"\",\"\",Data!#REF!)","v":{"$error":"#REF!"}},{"$f":"IF(Data!#REF!=\"\",\"\",Data!#REF!)","v":{"$error":"#REF!"}},{"$f":"IF(Data!#REF!=\"\",\"\",Data!#REF!)","v":{"$error":"#REF!"}},{"$error":"#REF!"},{"$error":"#REF!"},{"$error":"#REF!"}]
[{"$f":"IF(Data!#REF!=\"\",\"\",Data!#REF!)","v":{"$error":"#REF!"}},{"$f":"IF(Data!#REF!=\"\",\"\",Data!#REF!)","v":{"$error":"#REF!"}},{"$f":"IF(Data!#REF!=\"\",\"\",Data!#REF!)","v":{"$error":"#REF!"}},{"$f":"IF(Data!#REF!=\"\",\"\",Data!#REF!)","v":{"$error":"#REF!"}},{"$f":"IF(Data!#REF!=\"\",\"\",Data!#REF!)","v":{"$error":"#REF!"}},{"$error":"#REF!"},{"$error":"#REF!"},{"$error":"#REF!"}]
[{"$f":"IF(Data!#REF!=\"\",\"\",Data!#REF!)","v":{"$error":"#REF!"}},{"$f":"IF(Data!#REF!=\"\",\"\",Data!#REF!)","v":{"$error":"#REF!"}},{"$f":"IF(Data!#REF!=\"\",\"\",Data!#REF!)","v":{"$error":"#REF!"}},{"$f":"IF(Data!#REF!=\"\",\"\",Data!#REF!)","v":{"$error":"#REF!"}},{"$f":"IF(Data!#REF!=\"\",\"\",Data!#REF!)","v":{"$error":"#REF!"}},{"$error":"#REF!"},{"$error":"#REF!"},{"$error":"#REF!"}]
[{"$f":"IF(Data!#REF!=\"\",\"\",Data!#REF!)","v":{"$error":"#REF!"}},{"$f":"IF(Data!#REF!=\"\",\"\",Data!#REF!)","v":{"$error":"#REF!"}},{"$f":"IF(Data!#REF!=\"\",\"\",Data!#REF!)","v":{"$error":"#REF!"}},{"$f":"IF(Data!#REF!=\"\",\"\",Data!#REF!)","v":{"$error":"#REF!"}},{"$f":"IF(Data!#REF!=\"\",\"\",Data!#REF!)","v":{"$error":"#REF!"}},{"$error":"#REF!"},{"$error":"#REF!"},{"$error":"#REF!"}]
[{"$f":"IF(Data!#REF!=\"\",\"\",Data!#REF!)","v":{"$error":"#REF!"}},{"$f":"IF(Data!#REF!=\"\",\"\",Data!#REF!)","v":{"$error":"#REF!"}},{"$f":"IF(Data!#REF!=\"\",\"\",Data!#REF!)","v":{"$error":"#REF!"}},{"$f":"IF(Data!#REF!=\"\",\"\",Data!#REF!)","v":{"$error":"#REF!"}},{"$f":"IF(Data!#REF!=\"\",\"\",Data!#REF!)","v":{"$error":"#REF!"}},{"$error":"#REF!"},{"$error":"#REF!"},{"$error":"#REF!"}]
[{"$f":"IF(Data!#REF!=\"\",\"\",Data!#REF!)","v":{"$error":"#REF!"}},{"$f":"IF(Data!#REF!=\"\",\"\",Data!#REF!)","v":{"$error":"#REF!"}},{"$f":"IF(Data!#REF!=\"\",\"\",Data!#REF!)","v":{"$error":"#REF!"}},{"$f":"IF(Data!#REF!=\"\",\"\",Data!#REF!)","v":{"$error":"#REF!"}},{"$f":"IF(Data!#REF!=\"\",\"\",Data!#REF!)","v":{"$error":"#REF!"}},{"$error":"#REF!"},{"$error":"#REF!"},{"$error":"#REF!"}]
[{"$f":"IF(Data!#REF!=\"\",\"\",Data!#REF!)","v":{"$error":"#REF!"}},{"$f":"IF(Data!#REF!=\"\",\"\",Data!#REF!)","v":{"$error":"#REF!"}},{"$f":"IF(Data!#REF!=\"\",\"\",Data!#REF!)","v":{"$error":"#REF!"}},{"$f":"IF(Data!#REF!=\"\",\"\",Data!#REF!)","v":{"$error":"#REF!"}},{"$f":"IF(Data!#REF!=\"\",\"\",Data!#REF!)","v":{"$error":"#REF!"}},{"$error":"#REF!"},{"$error":"#REF!"},{"$error":"#REF!"}]
[{"$f":"IF(Data!#REF!=\"\",\"\",Data!#REF!)","v":{"$error":"#REF!"}},{"$f":"IF(Data!#REF!=\"\",\"\",Data!#REF!)","v":{"$error":"#REF!"}},{"$f":"IF(Data!#REF!=\"\",\"\",Data!#REF!)","v":{"$error":"#REF!"}},{"$f":"IF(Data!#REF!=\"\",\"\",Data!#REF!)","v":{"$error":"#REF!"}},{"$f":"IF(Data!#REF!=\"\",\"\",Data!#REF!)","v":{"$error":"#REF!"}},{"$error":"#REF!"},{"$error":"#REF!"},{"$error":"#REF!"}]
[{"$f":"IF(Data!#REF!=\"\",\"\",Data!#REF!)","v":{"$error":"#REF!"}},{"$f":"IF(Data!#REF!=\"\",\"\",Data!#REF!)","v":{"$error":"#REF!"}},{"$f":"IF(Data!#REF!=\"\",\"\",Data!#REF!)","v":{"$error":"#REF!"}},{"$f":"IF(Data!#REF!=\"\",\"\",Data!#REF!)","v":{"$error":"#REF!"}},{"$f":"IF(Data!#REF!=\"\",\"\",Data!#REF!)","v":{"$error":"#REF!"}},{"$error":"#REF!"},{"$error":"#REF!"},{"$error":"#REF!"}]
[{"$f":"IF(Data!#REF!=\"\",\"\",Data!#REF!)","v":{"$error":"#REF!"}},{"$f":"IF(Data!#REF!=\"\",\"\",Data!#REF!)","v":{"$error":"#REF!"}},{"$f":"IF(Data!#REF!=\"\",\"\",Data!#REF!)","v":{"$error":"#REF!"}},{"$f":"IF(Data!#REF!=\"\",\"\",Data!#REF!)","v":{"$error":"#REF!"}},{"$f":"IF(Data!#REF!=\"\",\"\",Data!#REF!)","v":{"$error":"#REF!"}},{"$error":"#REF!"},{"$error":"#REF!"},{"$error":"#REF!"}]
[{"$f":"IF(Data!#REF!=\"\",\"\",Data!#REF!)","v":{"$error":"#REF!"}},{"$f":"IF(Data!#REF!=\"\",\"\",Data!#REF!)","v":{"$error":"#REF!"}},{"$f":"IF(Data!#REF!=\"\",\"\",Data!#REF!)","v":{"$error":"#REF!"}},{"$f":"IF(Data!#REF!=\"\",\"\",Data!#REF!)","v":{"$error":"#REF!"}},{"$f":"IF(Data!#REF!=\"\",\"\",Data!#REF!)","v":{"$error":"#REF!"}},{"$error":"#REF!"},{"$error":"#REF!"},{"$error":"#REF!"}]
[{"$f":"IF(Data!#REF!=\"\",\"\",Data!#REF!)","v":{"$error":"#REF!"}},{"$f":"IF(Data!#REF!=\"\",\"\",Data!#REF!)","v":{"$error":"#REF!"}},{"$f":"IF(Data!#REF!=\"\",\"\",Data!#REF!)","v":{"$error":"#REF!"}},{"$f":"IF(Data!#REF!=\"\",\"\",Data!#REF!)","v":{"$error":"#REF!"}},{"$f":"IF(Data!#REF!=\"\",\"\",Data!#REF!)","v":{"$error":"#REF!"}},{"$error":"#REF!"},{"$error":"#REF!"},{"$error":"#REF!"}]
[{"$f":"IF(Data!#REF!=\"\",\"\",Data!#REF!)","v":{"$error":"#REF!"}},{"$f":"IF(Data!#REF!=\"\",\"\",Data!#REF!)","v":{"$error":"#REF!"}},{"$f":"IF(Data!#REF!=\"\",\"\",Data!#REF!)","v":{"$error":"#REF!"}},{"$f":"IF(Data!#REF!=\"\",\"\",Data!#REF!)","v":{"$error":"#REF!"}},{"$f":"IF(Data!#REF!=\"\",\"\",Data!#REF!)","v":{"$error":"#REF!"}},{"$error":"#REF!"},{"$error":"#REF!"},{"$error":"#REF!"}]
[{"$f":"IF(Data!#REF!=\"\",\"\",Data!#REF!)","v":{"$error":"#REF!"}},{"$f":"IF(Data!#REF!=\"\",\"\",Data!#REF!)","v":{"$error":"#REF!"}},{"$f":"IF(Data!#REF!=\"\",\"\",Data!#REF!)","v":{"$error":"#REF!"}},{"$f":"IF(Data!#REF!=\"\",\"\",Data!#REF!)","v":{"$error":"#REF!"}},{"$f":"IF(Data!#REF!=\"\",\"\",Data!#REF!)","v":{"$error":"#REF!"}},{"$error":"#REF!"},{"$error":"#REF!"},{"$error":"#REF!"}]
[{"$f":"IF(Data!#REF!=\"\",\"\",Data!#REF!)","v":{"$error":"#REF!"}},{"$f":"IF(Data!#REF!=\"\",\"\",Data!#REF!)","v":{"$error":"#REF!"}},{"$f":"IF(Data!#REF!=\"\",\"\",Data!#REF!)","v":{"$error":"#REF!"}},{"$f":"IF(Data!#REF!=\"\",\"\",Data!#REF!)","v":{"$error":"#REF!"}},{"$f":"IF(Data!#REF!=\"\",\"\",Data!#REF!)","v":{"$error":"#REF!"}},{"$error":"#REF!"},{"$error":"#REF!"},{"$error":"#REF!"}]
[{"$f":"IF(Data!#REF!=\"\",\"\",Data!#REF!)","v":{"$error":"#REF!"}},{"$f":"IF(Data!#REF!=\"\",\"\",Data!#REF!)","v":{"$error":"#REF!"}},{"$f":"IF(Data!#REF!=\"\",\"\",Data!#REF!)","v":{"$error":"#REF!"}},{"$f":"IF(Data!#REF!=\"\",\"\",Data!#REF!)","v":{"$error":"#REF!"}},{"$f":"IF(Data!#REF!=\"\",\"\",Data!#REF!)","v":{"$error":"#REF!"}},{"$error":"#REF!"},{"$error":"#REF!"},{"$error":"#REF!"}]
[{"$f":"IF(Data!#REF!=\"\",\"\",Data!#REF!)","v":{"$error":"#REF!"}},{"$f":"IF(Data!#REF!=\"\",\"\",Data!#REF!)","v":{"$error":"#REF!"}},{"$f":"IF(Data!#REF!=\"\",\"\",Data!#REF!)","v":{"$error":"#REF!"}},{"$f":"IF(Data!#REF!=\"\",\"\",Data!#REF!)","v":{"$error":"#REF!"}},{"$f":"IF(Data!#REF!=\"\",\"\",Data!#REF!)","v":{"$error":"#REF!"}},{"$error":"#REF!"},{"$error":"#REF!"},{"$error":"#REF!"}]
[{"$f":"IF(Data!#REF!=\"\",\"\",Data!#REF!)","v":{"$error":"#REF!"}},{"$f":"IF(Data!#REF!=\"\",\"\",Data!#REF!)","v":{"$error":"#REF!"}},{"$f":"IF(Data!#REF!=\"\",\"\",Data!#REF!)","v":{"$error":"#REF!"}},{"$f":"IF(Data!#REF!=\"\",\"\",Data!#REF!)","v":{"$error":"#REF!"}},{"$f":"IF(Data!#REF!=\"\",\"\",Data!#REF!)","v":{"$error":"#REF!"}},{"$error":"#REF!"},{"$error":"#REF!"},{"$error":"#REF!"}]
[{"$f":"IF(Data!#REF!=\"\",\"\",Data!#REF!)","v":{"$error":"#REF!"}},{"$f":"IF(Data!#REF!=\"\",\"\",Data!#REF!)","v":{"$error":"#REF!"}},{"$f":"IF(Data!#REF!=\"\",\"\",Data!#REF!)","v":{"$error":"#REF!"}},{"$f":"IF(Data!#REF!=\"\",\"\",Data!#REF!)","v":{"$error":"#REF!"}},{"$f":"IF(Data!#REF!=\"\",\"\",Data!#REF!)","v":{"$error":"#REF!"}},{"$error":"#REF!"},{"$error":"#REF!"},{"$error":"#REF!"}]
[{"$f":"IF(Data!#REF!=\"\",\"\",Data!#REF!)","v":{"$error":"#REF!"}},{"$f":"IF(Data!#REF!=\"\",\"\",Data!#REF!)","v":{"$error":"#REF!"}},{"$f":"IF(Data!#REF!=\"\",\"\",Data!#REF!)","v":{"$error":"#REF!"}},{"$f":"IF(Data!#REF!=\"\",\"\",Data!#REF!)","v":{"$error":"#REF!"}},{"$f":"IF(Data!#REF!=\"\",\"\",Data!#REF!)","v":{"$error":"#REF!"}},{"$error":"#REF!"},{"$error":"#REF!"},{"$error":"#REF!"}]
[{"$f":"IF(Data!#REF!=\"\",\"\",Data!#REF!)","v":{"$error":"#REF!"}},{"$f":"IF(Data!#REF!=\"\",\"\",Data!#REF!)","v":{"$error":"#REF!"}},{"$f":"IF(Data!#REF!=\"\",\"\",Data!#REF!)","v":{"$error":"#REF!"}},{"$f":"IF(Data!#REF!=\"\",\"\",Data!#REF!)","v":{"$error":"#REF!"}},{"$f":"IF(Data!#REF!=\"\",\"\",Data!#REF!)","v":{"$error":"#REF!"}},{"$error":"#REF!"},{"$error":"#REF!"},{"$error":"#REF!"}]
[{"$f":"IF(Data!#REF!=\"\",\"\",Data!#REF!)","v":{"$error":"#REF!"}},{"$f":"IF(Data!#REF!=\"\",\"\",Data!#REF!)","v":{"$error":"#REF!"}},{"$f":"IF(Data!#REF!=\"\",\"\",Data!#REF!)","v":{"$error":"#REF!"}},{"$f":"IF(Data!#REF!=\"\",\"\",Data!#REF!)","v":{"$error":"#REF!"}},{"$f":"IF(Data!#REF!=\"\",\"\",Data!#REF!)","v":{"$error":"#REF!"}},{"$error":"#REF!"},{"$error":"#REF!"},{"$error":"#REF!"}]
[{"$f":"IF(Data!#REF!=\"\",\"\",Data!#REF!)","v":{"$error":"#REF!"}},{"$f":"IF(Data!#REF!=\"\",\"\",Data!#REF!)","v":{"$error":"#REF!"}},{"$f":"IF(Data!#REF!=\"\",\"\",Data!#REF!)","v":{"$error":"#REF!"}},{"$f":"IF(Data!#REF!=\"\",\"\",Data!#REF!)","v":{"$error":"#REF!"}},{"$f":"IF(Data!#REF!=\"\",\"\",Data!#REF!)","v":{"$error":"#REF!"}},{"$error":"#REF!"},{"$error":"#REF!"},{"$error":"#REF!"}]
[{"$f":"IF(Data!#REF!=\"\",\"\",Data!#REF!)","v":{"$error":"#REF!"}},{"$f":"IF(Data!#REF!=\"\",\"\",Data!#REF!)","v":{"$error":"#REF!"}},{"$f":"IF(Data!#REF!=\"\",\"\",Data!#REF!)","v":{"$error":"#REF!"}},{"$f":"IF(Data!#REF!=\"\",\"\",Data!#REF!)","v":{"$error":"#REF!"}},{"$f":"IF(Data!#REF!=\"\",\"\",Data!#REF!)","v":{"$error":"#REF!"}},{"$error":"#REF!"},{"$error":"#REF!"},{"$error":"#REF!"}]
[{"$f":"IF(Data!#REF!=\"\",\"\",Data!#REF!)","v":{"$error":"#REF!"}},{"$f":"IF(Data!#REF!=\"\",\"\",Data!#REF!)","v":{"$error":"#REF!"}},{"$f":"IF(Data!#REF!=\"\",\"\",Data!#REF!)","v":{"$error":"#REF!"}},{"$f":"IF(Data!#REF!=\"\",\"\",Data!#REF!)","v":{"$error":"#REF!"}},{"$f":"IF(Data!#REF!=\"\",\"\",Data!#REF!)","v":{"$error":"#REF!"}},{"$error":"#REF!"},{"$error":"#REF!"},{"$error":"#REF!"}]
[{"$f":"IF(Data!#REF!=\"\",\"\",Data!#REF!)","v":{"$error":"#REF!"}},{"$f":"IF(Data!#REF!=\"\",\"\",Data!#REF!)","v":{"$error":"#REF!"}},{"$f":"IF(Data!#REF!=\"\",\"\",Data!#REF!)","v":{"$error":"#REF!"}},{"$f":"IF(Data!#REF!=\"\",\"\",Data!#REF!)","v":{"$error":"#REF!"}},{"$f":"IF(Data!#REF!=\"\",\"\",Data!#REF!)","v":{"$error":"#REF!"}},{"$error":"#REF!"},{"$error":"#REF!"},{"$error":"#REF!"}]
[{"$f":"IF(Data!#REF!=\"\",\"\",Data!#REF!)","v":{"$error":"#REF!"}},{"$f":"IF(Data!#REF!=\"\",\"\",Data!#REF!)","v":{"$error":"#REF!"}},{"$f":"IF(Data!#REF!=\"\",\"\",Data!#REF!)","v":{"$error":"#REF!"}},{"$f":"IF(Data!#REF!=\"\",\"\",Data!#REF!)","v":{"$error":"#REF!"}},{"$f":"IF(Data!#REF!=\"\",\"\",Data!#REF!)","v":{"$error":"#REF!"}},{"$error":"#REF!"},{"$error":"#REF!"},{"$error":"#REF!"}]
[{"$f":"IF(Data!#REF!=\"\",\"\",Data!#REF!)","v":{"$error":"#REF!"}},{"$f":"IF(Data!#REF!=\"\",\"\",Data!#REF!)","v":{"$error":"#REF!"}},{"$f":"IF(Data!#REF!=\"\",\"\",Data!#REF!)","v":{"$error":"#REF!"}},{"$f":"IF(Data!#REF!=\"\",\"\",Data!#REF!)","v":{"$error":"#REF!"}},{"$f":"IF(Data!#REF!=\"\",\"\",Data!#REF!)","v":{"$error":"#REF!"}},{"$error":"#REF!"},{"$error":"#REF!"},{"$error":"#REF!"}]
[{"$f":"IF(Data!#REF!=\"\",\"\",Data!#REF!)","v":{"$error":"#REF!"}},{"$f":"IF(Data!#REF!=\"\",\"\",Data!#REF!)","v":{"$error":"#REF!"}},{"$f":"IF(Data!#REF!=\"\",\"\",Data!#REF!)","v":{"$error":"#REF!"}},{"$f":"IF(Data!#REF!=\"\",\"\",Data!#REF!)","v":{"$error":"#REF!"}},{"$f":"IF(Data!#REF!=\"\",\"\",Data!#REF!)","v":{"$error":"#REF!"}},{"$error":"#REF!"},{"$error":"#REF!"},{"$error":"#REF!"}]
[{"$f":"IF(Data!#REF!=\"\",\"\",Data!#REF!)","v":{"$error":"#REF!"}},{"$f":"IF(Data!#REF!=\"\",\"\",Data!#REF!)","v":{"$error":"#REF!"}},{"$f":"IF(Data!#REF!=\"\",\"\",Data!#REF!)","v":{"$error":"#REF!"}},{"$f":"IF(Data!#REF!=\"\",\"\",Data!#REF!)","v":{"$error":"#REF!"}},{"$f":"IF(Data!#REF!=\"\",\"\",Data!#REF!)","v":{"$error":"#REF!"}},{"$error":"#REF!"},{"$error":"#REF!"},{"$error":"#REF!"}]
[{"$f":"IF(Data!#REF!=\"\",\"\",Data!#REF!)","v":{"$error":"#REF!"}},{"$f":"IF(Data!#REF!=\"\",\"\",Data!#REF!)","v":{"$error":"#REF!"}},{"$f":"IF(Data!#REF!=\"\",\"\",Data!#REF!)","v":{"$error":"#REF!"}},{"$f":"IF(Data!#REF!=\"\",\"\",Data!#REF!)","v":{"$error":"#REF!"}},{"$f":"IF(Data!#REF!=\"\",\"\",Data!#REF!)","v":{"$error":"#REF!"}},{"$error":"#REF!"},{"$error":"#REF!"},{"$error":"#REF!"}]
[{"$f":"IF(Data!#REF!=\"\",\"\",Data!#REF!)","v":{"$error":"#REF!"}},{"$f":"IF(Data!#REF!=\"\",\"\",Data!#REF!)","v":{"$error":"#REF!"}},{"$f":"IF(Data!#REF!=\"\",\"\",Data!#REF!)","v":{"$error":"#REF!"}},{"$f":"IF(Data!#REF!=\"\",\"\",Data!#REF!)","v":{"$error":"#REF!"}},{"$f":"IF(Data!#REF!=\"\",\"\",Data!#REF!)","v":{"$error":"#REF!"}},{"$error":"#REF!"},{"$error":"#REF!"},{"$error":"#REF!"}]
[{"$f":"IF(Data!#REF!=\"\",\"\",Data!#REF!)","v":{"$error":"#REF!"}},{"$f":"IF(Data!#REF!=\"\",\"\",Data!#REF!)","v":{"$error":"#REF!"}},{"$f":"IF(Data!#REF!=\"\",\"\",Data!#REF!)","v":{"$error":"#REF!"}},{"$f":"IF(Data!#REF!=\"\",\"\",Data!#REF!)","v":{"$error":"#REF!"}},{"$f":"IF(Data!#REF!=\"\",\"\",Data!#REF!)","v":{"$error":"#REF!"}},{"$error":"#REF!"},{"$error":"#REF!"},{"$error":"#REF!"}]
[{"$f":"IF(Data!#REF!=\"\",\"\",Data!#REF!)","v":{"$error":"#REF!"}},{"$f":"IF(Data!#REF!=\"\",\"\",Data!#REF!)","v":{"$error":"#REF!"}},{"$f":"IF(Data!#REF!=\"\",\"\",Data!#REF!)","v":{"$error":"#REF!"}},{"$f":"IF(Data!#REF!=\"\",\"\",Data!#REF!)","v":{"$error":"#REF!"}},{"$f":"IF(Data!#REF!=\"\",\"\",Data!#REF!)","v":{"$error":"#REF!"}},{"$error":"#REF!"},{"$error":"#REF!"},{"$error":"#REF!"}]
[{"$f":"IF(Data!#REF!=\"\",\"\",Data!#REF!)","v":{"$error":"#REF!"}},{"$f":"IF(Data!#REF!=\"\",\"\",Data!#REF!)","v":{"$error":"#REF!"}},{"$f":"IF(Data!#REF!=\"\",\"\",Data!#REF!)","v":{"$error":"#REF!"}},{"$f":"IF(Data!#REF!=\"\",\"\",Data!#REF!)","v":{"$error":"#REF!"}},{"$f":"IF(Data!#REF!=\"\",\"\",Data!#REF!)","v":{"$error":"#REF!"}},{"$error":"#REF!"},{"$error":"#REF!"},{"$error":"#REF!"}]
[{"$f":"IF(Data!#REF!=\"\",\"\",Data!#REF!)","v":{"$error":"#REF!"}},{"$f":"IF(Data!#REF!=\"\",\"\",Data!#REF!)","v":{"$error":"#REF!"}},{"$f":"IF(Data!#REF!=\"\",\"\",Data!#REF!)","v":{"$error":"#REF!"}},{"$f":"IF(Data!#REF!=\"\",\"\",Data!#REF!)","v":{"$error":"#REF!"}},{"$f":"IF(Data!#REF!=\"\",\"\",Data!#REF!)","v":{"$error":"#REF!"}},{"$error":"#REF!"},{"$error":"#REF!"},{"$error":"#REF!"}]
[{"$f":"IF(Data!#REF!=\"\",\"\",Data!#REF!)","v":{"$error":"#REF!"}},{"$f":"IF(Data!#REF!=\"\",\"\",Data!#REF!)","v":{"$error":"#REF!"}},{"$f":"IF(Data!#REF!=\"\",\"\",Data!#REF!)","v":{"$error":"#REF!"}},{"$f":"IF(Data!#REF!=\"\",\"\",Data!#REF!)","v":{"$error":"#REF!"}},{"$f":"IF(Data!#REF!=\"\",\"\",Data!#REF!)","v":{"$error":"#REF!"}},{"$error":"#REF!"},{"$error":"#REF!"},{"$error":"#REF!"}]
[{"$f":"IF(Data!#REF!=\"\",\"\",Data!#REF!)","v":{"$error":"#REF!"}},{"$f":"IF(Data!#REF!=\"\",\"\",Data!#REF!)","v":{"$error":"#REF!"}},{"$f":"IF(Data!#REF!=\"\",\"\",Data!#REF!)","v":{"$error":"#REF!"}},{"$f":"IF(Data!#REF!=\"\",\"\",Data!#REF!)","v":{"$error":"#REF!"}},{"$f":"IF(Data!#REF!=\"\",\"\",Data!#REF!)","v":{"$error":"#REF!"}},{"$error":"#REF!"},{"$error":"#REF!"},{"$error":"#REF!"}]
[{"$f":"IF(Data!#REF!=\"\",\"\",Data!#REF!)","v":{"$error":"#REF!"}},{"$f":"IF(Data!#REF!=\"\",\"\",Data!#REF!)","v":{"$error":"#REF!"}},{"$f":"IF(Data!#REF!=\"\",\"\",Data!#REF!)","v":{"$error":"#REF!"}},{"$f":"IF(Data!#REF!=\"\",\"\",Data!#REF!)","v":{"$error":"#REF!"}},{"$f":"IF(Data!#REF!=\"\",\"\",Data!#REF!)","v":{"$error":"#REF!"}},{"$error":"#REF!"},{"$error":"#REF!"},{"$error":"#REF!"}]
[{"$f":"IF(Data!#REF!=\"\",\"\",Data!#REF!)","v":{"$error":"#REF!"}},{"$f":"IF(Data!#REF!=\"\",\"\",Data!#REF!)","v":{"$error":"#REF!"}},{"$f":"IF(Data!#REF!=\"\",\"\",Data!#REF!)","v":{"$error":"#REF!"}},{"$f":"IF(Data!#REF!=\"\",\"\",Data!#REF!)","v":{"$error":"#REF!"}},{"$f":"IF(Data!#REF!=\"\",\"\",Data!#REF!)","v":{"$error":"#REF!"}},{"$error":"#REF!"},{"$error":"#REF!"},{"$error":"#REF!"}]
[{"$f":"IF(Data!#REF!=\"\",\"\",Data!#REF!)","v":{"$error":"#REF!"}},{"$f":"IF(Data!#REF!=\"\",\"\",Data!#REF!)","v":{"$error":"#REF!"}},{"$f":"IF(Data!#REF!=\"\",\"\",Data!#REF!)","v":{"$error":"#REF!"}},{"$f":"IF(Data!#REF!=\"\",\"\",Data!#REF!)","v":{"$error":"#REF!"}},{"$f":"IF(Data!#REF!=\"\",\"\",Data!#REF!)","v":{"$error":"#REF!"}},{"$error":"#REF!"},{"$error":"#REF!"},{"$error":"#REF!"}]
[{"$f":"IF(Data!#REF!=\"\",\"\",Data!#REF!)","v":{"$error":"#REF!"}},{"$f":"IF(Data!#REF!=\"\",\"\",Data!#REF!)","v":{"$error":"#REF!"}},{"$f":"IF(Data!#REF!=\"\",\"\",Data!#REF!)","v":{"$error":"#REF!"}},{"$f":"IF(Data!#REF!=\"\",\"\",Data!#REF!)","v":{"$error":"#REF!"}},{"$f":"IF(Data!#REF!=\"\",\"\",Data!#REF!)","v":{"$error":"#REF!"}},{"$error":"#REF!"},{"$error":"#REF!"},{"$error":"#REF!"}]
[{"$f":"IF(Data!#REF!=\"\",\"\",Data!#REF!)","v":{"$error":"#REF!"}},{"$f":"IF(Data!#REF!=\"\",\"\",Data!#REF!)","v":{"$error":"#REF!"}},{"$f":"IF(Data!#REF!=\"\",\"\",Data!#REF!)","v":{"$error":"#REF!"}},{"$f":"IF(Data!#REF!=\"\",\"\",Data!#REF!)","v":{"$error":"#REF!"}},{"$f":"IF(Data!#REF!=\"\",\"\",Data!#REF!)","v":{"$error":"#REF!"}},{"$error":"#REF!"},{"$error":"#REF!"},{"$error":"#REF!"}]
[{"$f":"IF(Data!#REF!=\"\",\"\",Data!#REF!)","v":{"$error":"#REF!"}},{"$f":"IF(Data!#REF!=\"\",\"\",Data!#REF!)","v":{"$error":"#REF!"}},{"$f":"IF(Data!#REF!=\"\",\"\",Data!#REF!)","v":{"$error":"#REF!"}},{"$f":"IF(Data!#REF!=\"\",\"\",Data!#REF!)","v":{"$error":"#REF!"}},{"$f":"IF(Data!#REF!=\"\",\"\",Data!#REF!)","v":{"$error":"#REF!"}},{"$error":"#REF!"},{"$error":"#REF!"},{"$error":"#REF!"}]
[{"$f":"IF(Data!#REF!=\"\",\"\",Data!#REF!)","v":{"$error":"#REF!"}},{"$f":"IF(Data!#REF!=\"\",\"\",Data!#REF!)","v":{"$error":"#REF!"}},{"$f":"IF(Data!#REF!=\"\",\"\",Data!#REF!)","v":{"$error":"#REF!"}},{"$f":"IF(Data!#REF!=\"\",\"\",Data!#REF!)","v":{"$error":"#REF!"}},{"$f":"IF(Data!#REF!=\"\",\"\",Data!#REF!)","v":{"$error":"#REF!"}},{"$error":"#REF!"},{"$error":"#REF!"},{"$error":"#REF!"}]
[{"$f":"IF(Data!#REF!=\"\",\"\",Data!#REF!)","v":{"$error":"#REF!"}},{"$f":"IF(Data!#REF!=\"\",\"\",Data!#REF!)","v":{"$error":"#REF!"}},{"$f":"IF(Data!#REF!=\"\",\"\",Data!#REF!)","v":{"$error":"#REF!"}},{"$f":"IF(Data!#REF!=\"\",\"\",Data!#REF!)","v":{"$error":"#REF!"}},{"$f":"IF(Data!#REF!=\"\",\"\",Data!#REF!)","v":{"$error":"#REF!"}},{"$f":"IF(E1091>0,MONTH(E1091),\"\")","v":{"$error":"#REF!"}},{"$f":"IF(E1091>0,WEEKNUM(E1091),\"0\")","v":{"$error":"#REF!"}},{"$f":"IF(G1091>=($G$2-3),\"Ano\",\"Nie\")","v":{"$error":"#REF!"}}]
[{"$f":"IF(Data!#REF!=\"\",\"\",Data!#REF!)","v":{"$error":"#REF!"}},{"$f":"IF(Data!#REF!=\"\",\"\",Data!#REF!)","v":{"$error":"#REF!"}},{"$f":"IF(Data!#REF!=\"\",\"\",Data!#REF!)","v":{"$error":"#REF!"}},{"$f":"IF(Data!#REF!=\"\",\"\",Data!#REF!)","v":{"$error":"#REF!"}},{"$f":"IF(Data!#REF!=\"\",\"\",Data!#REF!)","v":{"$error":"#REF!"}},{"$error":"#REF!"},{"$error":"#REF!"},{"$error":"#REF!"}]
[{"$f":"IF(Data!#REF!=\"\",\"\",Data!#REF!)","v":{"$error":"#REF!"}},{"$f":"IF(Data!#REF!=\"\",\"\",Data!#REF!)","v":{"$error":"#REF!"}},{"$f":"IF(Data!#REF!=\"\",\"\",Data!#REF!)","v":{"$error":"#REF!"}},{"$f":"IF(Data!#REF!=\"\",\"\",Data!#REF!)","v":{"$error":"#REF!"}},{"$f":"IF(Data!#REF!=\"\",\"\",Data!#REF!)","v":{"$error":"#REF!"}},{"$error":"#REF!"},{"$error":"#REF!"},{"$error":"#REF!"}]
[{"$f":"IF(Data!#REF!=\"\",\"\",Data!#REF!)","v":{"$error":"#REF!"}},{"$f":"IF(Data!#REF!=\"\",\"\",Data!#REF!)","v":{"$error":"#REF!"}},{"$f":"IF(Data!#REF!=\"\",\"\",Data!#REF!)","v":{"$error":"#REF!"}},{"$f":"IF(Data!#REF!=\"\",\"\",Data!#REF!)","v":{"$error":"#REF!"}},{"$f":"IF(Data!#REF!=\"\",\"\",Data!#REF!)","v":{"$error":"#REF!"}},{"$error":"#REF!"},{"$error":"#REF!"},{"$error":"#REF!"}]
[{"$f":"IF(Data!#REF!=\"\",\"\",Data!#REF!)","v":{"$error":"#REF!"}},{"$f":"IF(Data!#REF!=\"\",\"\",Data!#REF!)","v":{"$error":"#REF!"}},{"$f":"IF(Data!#REF!=\"\",\"\",Data!#REF!)","v":{"$error":"#REF!"}},{"$f":"IF(Data!#REF!=\"\",\"\",Data!#REF!)","v":{"$error":"#REF!"}},{"$f":"IF(Data!#REF!=\"\",\"\",Data!#REF!)","v":{"$error":"#REF!"}},{"$error":"#REF!"},{"$error":"#REF!"},{"$error":"#REF!"}]
[{"$f":"IF(Data!#REF!=\"\",\"\",Data!#REF!)","v":{"$error":"#REF!"}},{"$f":"IF(Data!#REF!=\"\",\"\",Data!#REF!)","v":{"$error":"#REF!"}},{"$f":"IF(Data!#REF!=\"\",\"\",Data!#REF!)","v":{"$error":"#REF!"}},{"$f":"IF(Data!#REF!=\"\",\"\",Data!#REF!)","v":{"$error":"#REF!"}},{"$f":"IF(Data!#REF!=\"\",\"\",Data!#REF!)","v":{"$error":"#REF!"}},{"$error":"#REF!"},{"$error":"#REF!"},{"$error":"#REF!"}]
[{"$f":"IF(Data!#REF!=\"\",\"\",Data!#REF!)","v":{"$error":"#REF!"}},{"$f":"IF(Data!#REF!=\"\",\"\",Data!#REF!)","v":{"$error":"#REF!"}},{"$f":"IF(Data!#REF!=\"\",\"\",Data!#REF!)","v":{"$error":"#REF!"}},{"$f":"IF(Data!#REF!=\"\",\"\",Data!#REF!)","v":{"$error":"#REF!"}},{"$f":"IF(Data!#REF!=\"\",\"\",Data!#REF!)","v":{"$error":"#REF!"}},{"$error":"#REF!"},{"$error":"#REF!"},{"$error":"#REF!"}]
[{"$f":"IF(Data!#REF!=\"\",\"\",Data!#REF!)","v":{"$error":"#REF!"}},{"$f":"IF(Data!#REF!=\"\",\"\",Data!#REF!)","v":{"$error":"#REF!"}},{"$f":"IF(Data!#REF!=\"\",\"\",Data!#REF!)","v":{"$error":"#REF!"}},{"$f":"IF(Data!#REF!=\"\",\"\",Data!#REF!)","v":{"$error":"#REF!"}},{"$f":"IF(Data!#REF!=\"\",\"\",Data!#REF!)","v":{"$error":"#REF!"}},{"$error":"#REF!"},{"$error":"#REF!"},{"$error":"#REF!"}]
[{"$f":"IF(Data!#REF!=\"\",\"\",Data!#REF!)","v":{"$error":"#REF!"}},{"$f":"IF(Data!#REF!=\"\",\"\",Data!#REF!)","v":{"$error":"#REF!"}},{"$f":"IF(Data!#REF!=\"\",\"\",Data!#REF!)","v":{"$error":"#REF!"}},{"$f":"IF(Data!#REF!=\"\",\"\",Data!#REF!)","v":{"$error":"#REF!"}},{"$f":"IF(Data!#REF!=\"\",\"\",Data!#REF!)","v":{"$error":"#REF!"}},{"$error":"#REF!"},{"$error":"#REF!"},{"$error":"#REF!"}]
[{"$f":"IF(Data!#REF!=\"\",\"\",Data!#REF!)","v":{"$error":"#REF!"}},{"$f":"IF(Data!#REF!=\"\",\"\",Data!#REF!)","v":{"$error":"#REF!"}},{"$f":"IF(Data!#REF!=\"\",\"\",Data!#REF!)","v":{"$error":"#REF!"}},{"$f":"IF(Data!#REF!=\"\",\"\",Data!#REF!)","v":{"$error":"#REF!"}},{"$f":"IF(Data!#REF!=\"\",\"\",Data!#REF!)","v":{"$error":"#REF!"}},{"$error":"#REF!"},{"$error":"#REF!"},{"$error":"#REF!"}]
[{"$f":"IF(Data!#REF!=\"\",\"\",Data!#REF!)","v":{"$error":"#REF!"}},{"$f":"IF(Data!#REF!=\"\",\"\",Data!#REF!)","v":{"$error":"#REF!"}},{"$f":"IF(Data!#REF!=\"\",\"\",Data!#REF!)","v":{"$error":"#REF!"}},{"$f":"IF(Data!#REF!=\"\",\"\",Data!#REF!)","v":{"$error":"#REF!"}},{"$f":"IF(Data!#REF!=\"\",\"\",Data!#REF!)","v":{"$error":"#REF!"}},{"$error":"#REF!"},{"$error":"#REF!"},{"$error":"#REF!"}]
[{"$f":"IF(Data!#REF!=\"\",\"\",Data!#REF!)","v":{"$error":"#REF!"}},{"$f":"IF(Data!#REF!=\"\",\"\",Data!#REF!)","v":{"$error":"#REF!"}},{"$f":"IF(Data!#REF!=\"\",\"\",Data!#REF!)","v":{"$error":"#REF!"}},{"$f":"IF(Data!#REF!=\"\",\"\",Data!#REF!)","v":{"$error":"#REF!"}},{"$f":"IF(Data!#REF!=\"\",\"\",Data!#REF!)","v":{"$error":"#REF!"}},{"$error":"#REF!"},{"$error":"#REF!"},{"$error":"#REF!"}]
[{"$f":"IF(Data!#REF!=\"\",\"\",Data!#REF!)","v":{"$error":"#REF!"}},{"$f":"IF(Data!#REF!=\"\",\"\",Data!#REF!)","v":{"$error":"#REF!"}},{"$f":"IF(Data!#REF!=\"\",\"\",Data!#REF!)","v":{"$error":"#REF!"}},{"$f":"IF(Data!#REF!=\"\",\"\",Data!#REF!)","v":{"$error":"#REF!"}},{"$f":"IF(Data!#REF!=\"\",\"\",Data!#REF!)","v":{"$error":"#REF!"}},{"$error":"#REF!"},{"$error":"#REF!"},{"$error":"#REF!"}]
[{"$f":"IF(Data!#REF!=\"\",\"\",Data!#REF!)","v":{"$error":"#REF!"}},{"$f":"IF(Data!#REF!=\"\",\"\",Data!#REF!)","v":{"$error":"#REF!"}},{"$f":"IF(Data!#REF!=\"\",\"\",Data!#REF!)","v":{"$error":"#REF!"}},{"$f":"IF(Data!#REF!=\"\",\"\",Data!#REF!)","v":{"$error":"#REF!"}},{"$f":"IF(Data!#REF!=\"\",\"\",Data!#REF!)","v":{"$error":"#REF!"}},{"$error":"#REF!"},{"$error":"#REF!"},{"$error":"#REF!"}]
[{"$f":"IF(Data!#REF!=\"\",\"\",Data!#REF!)","v":{"$error":"#REF!"}},{"$f":"IF(Data!#REF!=\"\",\"\",Data!#REF!)","v":{"$error":"#REF!"}},{"$f":"IF(Data!#REF!=\"\",\"\",Data!#REF!)","v":{"$error":"#REF!"}},{"$f":"IF(Data!#REF!=\"\",\"\",Data!#REF!)","v":{"$error":"#REF!"}},{"$f":"IF(Data!#REF!=\"\",\"\",Data!#REF!)","v":{"$error":"#REF!"}},{"$error":"#REF!"},{"$error":"#REF!"},{"$error":"#REF!"}]
[{"$f":"IF(Data!#REF!=\"\",\"\",Data!#REF!)","v":{"$error":"#REF!"}},{"$f":"IF(Data!#REF!=\"\",\"\",Data!#REF!)","v":{"$error":"#REF!"}},{"$f":"IF(Data!#REF!=\"\",\"\",Data!#REF!)","v":{"$error":"#REF!"}},{"$f":"IF(Data!#REF!=\"\",\"\",Data!#REF!)","v":{"$error":"#REF!"}},{"$f":"IF(Data!#REF!=\"\",\"\",Data!#REF!)","v":{"$error":"#REF!"}},{"$error":"#REF!"},{"$error":"#REF!"},{"$error":"#REF!"}]
[{"$f":"IF(Data!#REF!=\"\",\"\",Data!#REF!)","v":{"$error":"#REF!"}},{"$f":"IF(Data!#REF!=\"\",\"\",Data!#REF!)","v":{"$error":"#REF!"}},{"$f":"IF(Data!#REF!=\"\",\"\",Data!#REF!)","v":{"$error":"#REF!"}},{"$f":"IF(Data!#REF!=\"\",\"\",Data!#REF!)","v":{"$error":"#REF!"}},{"$f":"IF(Data!#REF!=\"\",\"\",Data!#REF!)","v":{"$error":"#REF!"}},{"$error":"#REF!"},{"$error":"#REF!"},{"$error":"#REF!"}]
[{"$f":"IF(Data!#REF!=\"\",\"\",Data!#REF!)","v":{"$error":"#REF!"}},{"$f":"IF(Data!#REF!=\"\",\"\",Data!#REF!)","v":{"$error":"#REF!"}},{"$f":"IF(Data!#REF!=\"\",\"\",Data!#REF!)","v":{"$error":"#REF!"}},{"$f":"IF(Data!#REF!=\"\",\"\",Data!#REF!)","v":{"$error":"#REF!"}},{"$f":"IF(Data!#REF!=\"\",\"\",Data!#REF!)","v":{"$error":"#REF!"}},{"$error":"#REF!"},{"$error":"#REF!"},{"$error":"#REF!"}]
[{"$f":"IF(Data!#REF!=\"\",\"\",Data!#REF!)","v":{"$error":"#REF!"}},{"$f":"IF(Data!#REF!=\"\",\"\",Data!#REF!)","v":{"$error":"#REF!"}},{"$f":"IF(Data!#REF!=\"\",\"\",Data!#REF!)","v":{"$error":"#REF!"}},{"$f":"IF(Data!#REF!=\"\",\"\",Data!#REF!)","v":{"$error":"#REF!"}},{"$f":"IF(Data!#REF!=\"\",\"\",Data!#REF!)","v":{"$error":"#REF!"}},{"$error":"#REF!"},{"$error":"#REF!"},{"$error":"#REF!"}]
[{"$f":"IF(Data!#REF!=\"\",\"\",Data!#REF!)","v":{"$error":"#REF!"}},{"$f":"IF(Data!#REF!=\"\",\"\",Data!#REF!)","v":{"$error":"#REF!"}},{"$f":"IF(Data!#REF!=\"\",\"\",Data!#REF!)","v":{"$error":"#REF!"}},{"$f":"IF(Data!#REF!=\"\",\"\",Data!#REF!)","v":{"$error":"#REF!"}},{"$f":"IF(Data!#REF!=\"\",\"\",Data!#REF!)","v":{"$error":"#REF!"}},{"$error":"#REF!"},{"$error":"#REF!"},{"$error":"#REF!"}]
[{"$f":"IF(Data!#REF!=\"\",\"\",Data!#REF!)","v":{"$error":"#REF!"}},{"$f":"IF(Data!#REF!=\"\",\"\",Data!#REF!)","v":{"$error":"#REF!"}},{"$f":"IF(Data!#REF!=\"\",\"\",Data!#REF!)","v":{"$error":"#REF!"}},{"$f":"IF(Data!#REF!=\"\",\"\",Data!#REF!)","v":{"$error":"#REF!"}},{"$f":"IF(Data!#REF!=\"\",\"\",Data!#REF!)","v":{"$error":"#REF!"}},{"$error":"#REF!"},{"$error":"#REF!"},{"$error":"#REF!"}]
[{"$f":"IF(Data!#REF!=\"\",\"\",Data!#REF!)","v":{"$error":"#REF!"}},{"$f":"IF(Data!#REF!=\"\",\"\",Data!#REF!)","v":{"$error":"#REF!"}},{"$f":"IF(Data!#REF!=\"\",\"\",Data!#REF!)","v":{"$error":"#REF!"}},{"$f":"IF(Data!#REF!=\"\",\"\",Data!#REF!)","v":{"$error":"#REF!"}},{"$f":"IF(Data!#REF!=\"\",\"\",Data!#REF!)","v":{"$error":"#REF!"}},{"$error":"#REF!"},{"$error":"#REF!"},{"$error":"#REF!"}]
[{"$f":"IF(Data!#REF!=\"\",\"\",Data!#REF!)","v":{"$error":"#REF!"}},{"$f":"IF(Data!#REF!=\"\",\"\",Data!#REF!)","v":{"$error":"#REF!"}},{"$f":"IF(Data!#REF!=\"\",\"\",Data!#REF!)","v":{"$error":"#REF!"}},{"$f":"IF(Data!#REF!=\"\",\"\",Data!#REF!)","v":{"$error":"#REF!"}},{"$f":"IF(Data!#REF!=\"\",\"\",Data!#REF!)","v":{"$error":"#REF!"}},{"$error":"#REF!"},{"$error":"#REF!"},{"$error":"#REF!"}]
[{"$f":"IF(Data!#REF!=\"\",\"\",Data!#REF!)","v":{"$error":"#REF!"}},{"$f":"IF(Data!#REF!=\"\",\"\",Data!#REF!)","v":{"$error":"#REF!"}},{"$f":"IF(Data!#REF!=\"\",\"\",Data!#REF!)","v":{"$error":"#REF!"}},{"$f":"IF(Data!#REF!=\"\",\"\",Data!#REF!)","v":{"$error":"#REF!"}},{"$f":"IF(Data!#REF!=\"\",\"\",Data!#REF!)","v":{"$error":"#REF!"}},{"$error":"#REF!"},{"$error":"#REF!"},{"$error":"#REF!"}]
[{"$f":"IF(Data!#REF!=\"\",\"\",Data!#REF!)","v":{"$error":"#REF!"}},{"$f":"IF(Data!#REF!=\"\",\"\",Data!#REF!)","v":{"$error":"#REF!"}},{"$f":"IF(Data!#REF!=\"\",\"\",Data!#REF!)","v":{"$error":"#REF!"}},{"$f":"IF(Data!#REF!=\"\",\"\",Data!#REF!)","v":{"$error":"#REF!"}},{"$f":"IF(Data!#REF!=\"\",\"\",Data!#REF!)","v":{"$error":"#REF!"}},{"$error":"#REF!"},{"$error":"#REF!"},{"$error":"#REF!"}]
[{"$f":"IF(Data!#REF!=\"\",\"\",Data!#REF!)","v":{"$error":"#REF!"}},{"$f":"IF(Data!#REF!=\"\",\"\",Data!#REF!)","v":{"$error":"#REF!"}},{"$f":"IF(Data!#REF!=\"\",\"\",Data!#REF!)","v":{"$error":"#REF!"}},{"$f":"IF(Data!#REF!=\"\",\"\",Data!#REF!)","v":{"$error":"#REF!"}},{"$f":"IF(Data!#REF!=\"\",\"\",Data!#REF!)","v":{"$error":"#REF!"}},{"$error":"#REF!"},{"$error":"#REF!"},{"$error":"#REF!"}]
[{"$f":"IF(Data!#REF!=\"\",\"\",Data!#REF!)","v":{"$error":"#REF!"}},{"$f":"IF(Data!#REF!=\"\",\"\",Data!#REF!)","v":{"$error":"#REF!"}},{"$f":"IF(Data!#REF!=\"\",\"\",Data!#REF!)","v":{"$error":"#REF!"}},{"$f":"IF(Data!#REF!=\"\",\"\",Data!#REF!)","v":{"$error":"#REF!"}},{"$f":"IF(Data!#REF!=\"\",\"\",Data!#REF!)","v":{"$error":"#REF!"}},{"$error":"#REF!"},{"$error":"#REF!"},{"$error":"#REF!"}]
[{"$f":"IF(Data!#REF!=\"\",\"\",Data!#REF!)","v":{"$error":"#REF!"}},{"$f":"IF(Data!#REF!=\"\",\"\",Data!#REF!)","v":{"$error":"#REF!"}},{"$f":"IF(Data!#REF!=\"\",\"\",Data!#REF!)","v":{"$error":"#REF!"}},{"$f":"IF(Data!#REF!=\"\",\"\",Data!#REF!)","v":{"$error":"#REF!"}},{"$f":"IF(Data!#REF!=\"\",\"\",Data!#REF!)","v":{"$error":"#REF!"}},{"$error":"#REF!"},{"$error":"#REF!"},{"$error":"#REF!"}]
[{"$f":"IF(Data!#REF!=\"\",\"\",Data!#REF!)","v":{"$error":"#REF!"}},{"$f":"IF(Data!#REF!=\"\",\"\",Data!#REF!)","v":{"$error":"#REF!"}},{"$f":"IF(Data!#REF!=\"\",\"\",Data!#REF!)","v":{"$error":"#REF!"}},{"$f":"IF(Data!#REF!=\"\",\"\",Data!#REF!)","v":{"$error":"#REF!"}},{"$f":"IF(Data!#REF!=\"\",\"\",Data!#REF!)","v":{"$error":"#REF!"}},{"$error":"#REF!"},{"$error":"#REF!"},{"$error":"#REF!"}]
[{"$f":"IF(Data!#REF!=\"\",\"\",Data!#REF!)","v":{"$error":"#REF!"}},{"$f":"IF(Data!#REF!=\"\",\"\",Data!#REF!)","v":{"$error":"#REF!"}},{"$f":"IF(Data!#REF!=\"\",\"\",Data!#REF!)","v":{"$error":"#REF!"}},{"$f":"IF(Data!#REF!=\"\",\"\",Data!#REF!)","v":{"$error":"#REF!"}},{"$f":"IF(Data!#REF!=\"\",\"\",Data!#REF!)","v":{"$error":"#REF!"}},{"$error":"#REF!"},{"$error":"#REF!"},{"$error":"#REF!"}]
[{"$f":"IF(Data!#REF!=\"\",\"\",Data!#REF!)","v":{"$error":"#REF!"}},{"$f":"IF(Data!#REF!=\"\",\"\",Data!#REF!)","v":{"$error":"#REF!"}},{"$f":"IF(Data!#REF!=\"\",\"\",Data!#REF!)","v":{"$error":"#REF!"}},{"$f":"IF(Data!#REF!=\"\",\"\",Data!#REF!)","v":{"$error":"#REF!"}},{"$f":"IF(Data!#REF!=\"\",\"\",Data!#REF!)","v":{"$error":"#REF!"}},{"$error":"#REF!"},{"$error":"#REF!"},{"$error":"#REF!"}]
[{"$f":"IF(Data!#REF!=\"\",\"\",Data!#REF!)","v":{"$error":"#REF!"}},{"$f":"IF(Data!#REF!=\"\",\"\",Data!#REF!)","v":{"$error":"#REF!"}},{"$f":"IF(Data!#REF!=\"\",\"\",Data!#REF!)","v":{"$error":"#REF!"}},{"$f":"IF(Data!#REF!=\"\",\"\",Data!#REF!)","v":{"$error":"#REF!"}},{"$f":"IF(Data!#REF!=\"\",\"\",Data!#REF!)","v":{"$error":"#REF!"}},{"$error":"#REF!"},{"$error":"#REF!"},{"$error":"#REF!"}]
[{"$f":"IF(Data!#REF!=\"\",\"\",Data!#REF!)","v":{"$error":"#REF!"}},{"$f":"IF(Data!#REF!=\"\",\"\",Data!#REF!)","v":{"$error":"#REF!"}},{"$f":"IF(Data!#REF!=\"\",\"\",Data!#REF!)","v":{"$error":"#REF!"}},{"$f":"IF(Data!#REF!=\"\",\"\",Data!#REF!)","v":{"$error":"#REF!"}},{"$f":"IF(Data!#REF!=\"\",\"\",Data!#REF!)","v":{"$error":"#REF!"}},{"$error":"#REF!"},{"$error":"#REF!"},{"$error":"#REF!"}]
[{"$f":"IF(Data!#REF!=\"\",\"\",Data!#REF!)","v":{"$error":"#REF!"}},{"$f":"IF(Data!#REF!=\"\",\"\",Data!#REF!)","v":{"$error":"#REF!"}},{"$f":"IF(Data!#REF!=\"\",\"\",Data!#REF!)","v":{"$error":"#REF!"}},{"$f":"IF(Data!#REF!=\"\",\"\",Data!#REF!)","v":{"$error":"#REF!"}},{"$f":"IF(Data!#REF!=\"\",\"\",Data!#REF!)","v":{"$error":"#REF!"}},{"$error":"#REF!"},{"$error":"#REF!"},{"$error":"#REF!"}]
[{"$f":"IF(Data!#REF!=\"\",\"\",Data!#REF!)","v":{"$error":"#REF!"}},{"$f":"IF(Data!#REF!=\"\",\"\",Data!#REF!)","v":{"$error":"#REF!"}},{"$f":"IF(Data!#REF!=\"\",\"\",Data!#REF!)","v":{"$error":"#REF!"}},{"$f":"IF(Data!#REF!=\"\",\"\",Data!#REF!)","v":{"$error":"#REF!"}},{"$f":"IF(Data!#REF!=\"\",\"\",Data!#REF!)","v":{"$error":"#REF!"}},{"$error":"#REF!"},{"$error":"#REF!"},{"$error":"#REF!"}]
[{"$f":"IF(Data!#REF!=\"\",\"\",Data!#REF!)","v":{"$error":"#REF!"}},{"$f":"IF(Data!#REF!=\"\",\"\",Data!#REF!)","v":{"$error":"#REF!"}},{"$f":"IF(Data!#REF!=\"\",\"\",Data!#REF!)","v":{"$error":"#REF!"}},{"$f":"IF(Data!#REF!=\"\",\"\",Data!#REF!)","v":{"$error":"#REF!"}},{"$f":"IF(Data!#REF!=\"\",\"\",Data!#REF!)","v":{"$error":"#REF!"}},{"$error":"#REF!"},{"$error":"#REF!"},{"$error":"#REF!"}]
[{"$f":"IF(Data!#REF!=\"\",\"\",Data!#REF!)","v":{"$error":"#REF!"}},{"$f":"IF(Data!#REF!=\"\",\"\",Data!#REF!)","v":{"$error":"#REF!"}},{"$f":"IF(Data!#REF!=\"\",\"\",Data!#REF!)","v":{"$error":"#REF!"}},{"$f":"IF(Data!#REF!=\"\",\"\",Data!#REF!)","v":{"$error":"#REF!"}},{"$f":"IF(Data!#REF!=\"\",\"\",Data!#REF!)","v":{"$error":"#REF!"}},{"$error":"#REF!"},{"$error":"#REF!"},{"$error":"#REF!"}]
[{"$f":"IF(Data!#REF!=\"\",\"\",Data!#REF!)","v":{"$error":"#REF!"}},{"$f":"IF(Data!#REF!=\"\",\"\",Data!#REF!)","v":{"$error":"#REF!"}},{"$f":"IF(Data!#REF!=\"\",\"\",Data!#REF!)","v":{"$error":"#REF!"}},{"$f":"IF(Data!#REF!=\"\",\"\",Data!#REF!)","v":{"$error":"#REF!"}},{"$f":"IF(Data!#REF!=\"\",\"\",Data!#REF!)","v":{"$error":"#REF!"}},{"$error":"#REF!"},{"$error":"#REF!"},{"$error":"#REF!"}]
[{"$f":"IF(Data!#REF!=\"\",\"\",Data!#REF!)","v":{"$error":"#REF!"}},{"$f":"IF(Data!#REF!=\"\",\"\",Data!#REF!)","v":{"$error":"#REF!"}},{"$f":"IF(Data!#REF!=\"\",\"\",Data!#REF!)","v":{"$error":"#REF!"}},{"$f":"IF(Data!#REF!=\"\",\"\",Data!#REF!)","v":{"$error":"#REF!"}},{"$f":"IF(Data!#REF!=\"\",\"\",Data!#REF!)","v":{"$error":"#REF!"}},{"$error":"#REF!"},{"$error":"#REF!"},{"$error":"#REF!"}]
[{"$f":"IF(Data!#REF!=\"\",\"\",Data!#REF!)","v":{"$error":"#REF!"}},{"$f":"IF(Data!#REF!=\"\",\"\",Data!#REF!)","v":{"$error":"#REF!"}},{"$f":"IF(Data!#REF!=\"\",\"\",Data!#REF!)","v":{"$error":"#REF!"}},{"$f":"IF(Data!#REF!=\"\",\"\",Data!#REF!)","v":{"$error":"#REF!"}},{"$f":"IF(Data!#REF!=\"\",\"\",Data!#REF!)","v":{"$error":"#REF!"}},{"$error":"#REF!"},{"$error":"#REF!"},{"$error":"#REF!"}]
[{"$f":"IF(Data!#REF!=\"\",\"\",Data!#REF!)","v":{"$error":"#REF!"}},{"$f":"IF(Data!#REF!=\"\",\"\",Data!#REF!)","v":{"$error":"#REF!"}},{"$f":"IF(Data!#REF!=\"\",\"\",Data!#REF!)","v":{"$error":"#REF!"}},{"$f":"IF(Data!#REF!=\"\",\"\",Data!#REF!)","v":{"$error":"#REF!"}},{"$f":"IF(Data!#REF!=\"\",\"\",Data!#REF!)","v":{"$error":"#REF!"}},{"$error":"#REF!"},{"$error":"#REF!"},{"$error":"#REF!"}]
[{"$f":"IF(Data!#REF!=\"\",\"\",Data!#REF!)","v":{"$error":"#REF!"}},{"$f":"IF(Data!#REF!=\"\",\"\",Data!#REF!)","v":{"$error":"#REF!"}},{"$f":"IF(Data!#REF!=\"\",\"\",Data!#REF!)","v":{"$error":"#REF!"}},{"$f":"IF(Data!#REF!=\"\",\"\",Data!#REF!)","v":{"$error":"#REF!"}},{"$f":"IF(Data!#REF!=\"\",\"\",Data!#REF!)","v":{"$error":"#REF!"}},{"$error":"#REF!"},{"$error":"#REF!"},{"$error":"#REF!"}]
[{"$f":"IF(Data!#REF!=\"\",\"\",Data!#REF!)","v":{"$error":"#REF!"}},{"$f":"IF(Data!#REF!=\"\",\"\",Data!#REF!)","v":{"$error":"#REF!"}},{"$f":"IF(Data!#REF!=\"\",\"\",Data!#REF!)","v":{"$error":"#REF!"}},{"$f":"IF(Data!#REF!=\"\",\"\",Data!#REF!)","v":{"$error":"#REF!"}},{"$f":"IF(Data!#REF!=\"\",\"\",Data!#REF!)","v":{"$error":"#REF!"}},{"$error":"#REF!"},{"$error":"#REF!"},{"$error":"#REF!"}]
[{"$f":"IF(Data!#REF!=\"\",\"\",Data!#REF!)","v":{"$error":"#REF!"}},{"$f":"IF(Data!#REF!=\"\",\"\",Data!#REF!)","v":{"$error":"#REF!"}},{"$f":"IF(Data!#REF!=\"\",\"\",Data!#REF!)","v":{"$error":"#REF!"}},{"$f":"IF(Data!#REF!=\"\",\"\",Data!#REF!)","v":{"$error":"#REF!"}},{"$f":"IF(Data!#REF!=\"\",\"\",Data!#REF!)","v":{"$error":"#REF!"}},{"$error":"#REF!"},{"$error":"#REF!"},{"$error":"#REF!"}]
[{"$f":"IF(Data!#REF!=\"\",\"\",Data!#REF!)","v":{"$error":"#REF!"}},{"$f":"IF(Data!#REF!=\"\",\"\",Data!#REF!)","v":{"$error":"#REF!"}},{"$f":"IF(Data!#REF!=\"\",\"\",Data!#REF!)","v":{"$error":"#REF!"}},{"$f":"IF(Data!#REF!=\"\",\"\",Data!#REF!)","v":{"$error":"#REF!"}},{"$f":"IF(Data!#REF!=\"\",\"\",Data!#REF!)","v":{"$error":"#REF!"}},{"$error":"#REF!"},{"$error":"#REF!"},{"$error":"#REF!"}]
[{"$f":"IF(Data!#REF!=\"\",\"\",Data!#REF!)","v":{"$error":"#REF!"}},{"$f":"IF(Data!#REF!=\"\",\"\",Data!#REF!)","v":{"$error":"#REF!"}},{"$f":"IF(Data!#REF!=\"\",\"\",Data!#REF!)","v":{"$error":"#REF!"}},{"$f":"IF(Data!#REF!=\"\",\"\",Data!#REF!)","v":{"$error":"#REF!"}},{"$f":"IF(Data!#REF!=\"\",\"\",Data!#REF!)","v":{"$error":"#REF!"}},{"$error":"#REF!"},{"$error":"#REF!"},{"$error":"#REF!"}]
[{"$f":"IF(Data!#REF!=\"\",\"\",Data!#REF!)","v":{"$error":"#REF!"}},{"$f":"IF(Data!#REF!=\"\",\"\",Data!#REF!)","v":{"$error":"#REF!"}},{"$f":"IF(Data!#REF!=\"\",\"\",Data!#REF!)","v":{"$error":"#REF!"}},{"$f":"IF(Data!#REF!=\"\",\"\",Data!#REF!)","v":{"$error":"#REF!"}},{"$f":"IF(Data!#REF!=\"\",\"\",Data!#REF!)","v":{"$error":"#REF!"}},{"$error":"#REF!"},{"$error":"#REF!"},{"$error":"#REF!"}]
[{"$f":"IF(Data!#REF!=\"\",\"\",Data!#REF!)","v":{"$error":"#REF!"}},{"$f":"IF(Data!#REF!=\"\",\"\",Data!#REF!)","v":{"$error":"#REF!"}},{"$f":"IF(Data!#REF!=\"\",\"\",Data!#REF!)","v":{"$error":"#REF!"}},{"$f":"IF(Data!#REF!=\"\",\"\",Data!#REF!)","v":{"$error":"#REF!"}},{"$f":"IF(Data!#REF!=\"\",\"\",Data!#REF!)","v":{"$error":"#REF!"}},{"$error":"#REF!"},{"$error":"#REF!"},{"$error":"#REF!"}]
[{"$f":"IF(Data!#REF!=\"\",\"\",Data!#REF!)","v":{"$error":"#REF!"}},{"$f":"IF(Data!#REF!=\"\",\"\",Data!#REF!)","v":{"$error":"#REF!"}},{"$f":"IF(Data!#REF!=\"\",\"\",Data!#REF!)","v":{"$error":"#REF!"}},{"$f":"IF(Data!#REF!=\"\",\"\",Data!#REF!)","v":{"$error":"#REF!"}},{"$f":"IF(Data!#REF!=\"\",\"\",Data!#REF!)","v":{"$error":"#REF!"}},{"$error":"#REF!"},{"$error":"#REF!"},{"$error":"#REF!"}]
[{"$f":"IF(Data!#REF!=\"\",\"\",Data!#REF!)","v":{"$error":"#REF!"}},{"$f":"IF(Data!#REF!=\"\",\"\",Data!#REF!)","v":{"$error":"#REF!"}},{"$f":"IF(Data!#REF!=\"\",\"\",Data!#REF!)","v":{"$error":"#REF!"}},{"$f":"IF(Data!#REF!=\"\",\"\",Data!#REF!)","v":{"$error":"#REF!"}},{"$f":"IF(Data!#REF!=\"\",\"\",Data!#REF!)","v":{"$error":"#REF!"}},{"$error":"#REF!"},{"$error":"#REF!"},{"$error":"#REF!"}]
[{"$f":"IF(Data!#REF!=\"\",\"\",Data!#REF!)","v":{"$error":"#REF!"}},{"$f":"IF(Data!#REF!=\"\",\"\",Data!#REF!)","v":{"$error":"#REF!"}},{"$f":"IF(Data!#REF!=\"\",\"\",Data!#REF!)","v":{"$error":"#REF!"}},{"$f":"IF(Data!#REF!=\"\",\"\",Data!#REF!)","v":{"$error":"#REF!"}},{"$f":"IF(Data!#REF!=\"\",\"\",Data!#REF!)","v":{"$error":"#REF!"}},{"$error":"#REF!"},{"$error":"#REF!"},{"$error":"#REF!"}]
[{"$f":"IF(Data!#REF!=\"\",\"\",Data!#REF!)","v":{"$error":"#REF!"}},{"$f":"IF(Data!#REF!=\"\",\"\",Data!#REF!)","v":{"$error":"#REF!"}},{"$f":"IF(Data!#REF!=\"\",\"\",Data!#REF!)","v":{"$error":"#REF!"}},{"$f":"IF(Data!#REF!=\"\",\"\",Data!#REF!)","v":{"$error":"#REF!"}},{"$f":"IF(Data!#REF!=\"\",\"\",Data!#REF!)","v":{"$error":"#REF!"}},{"$error":"#REF!"},{"$error":"#REF!"},{"$error":"#REF!"}]
[{"$f":"IF(Data!#REF!=\"\",\"\",Data!#REF!)","v":{"$error":"#REF!"}},{"$f":"IF(Data!#REF!=\"\",\"\",Data!#REF!)","v":{"$error":"#REF!"}},{"$f":"IF(Data!#REF!=\"\",\"\",Data!#REF!)","v":{"$error":"#REF!"}},{"$f":"IF(Data!#REF!=\"\",\"\",Data!#REF!)","v":{"$error":"#REF!"}},{"$f":"IF(Data!#REF!=\"\",\"\",Data!#REF!)","v":{"$error":"#REF!"}},{"$error":"#REF!"},{"$error":"#REF!"},{"$error":"#REF!"}]
[{"$f":"IF(Data!#REF!=\"\",\"\",Data!#REF!)","v":{"$error":"#REF!"}},{"$f":"IF(Data!#REF!=\"\",\"\",Data!#REF!)","v":{"$error":"#REF!"}},{"$f":"IF(Data!#REF!=\"\",\"\",Data!#REF!)","v":{"$error":"#REF!"}},{"$f":"IF(Data!#REF!=\"\",\"\",Data!#REF!)","v":{"$error":"#REF!"}},{"$f":"IF(Data!#REF!=\"\",\"\",Data!#REF!)","v":{"$error":"#REF!"}},{"$error":"#REF!"},{"$error":"#REF!"},{"$error":"#REF!"}]
[{"$f":"IF(Data!#REF!=\"\",\"\",Data!#REF!)","v":{"$error":"#REF!"}},{"$f":"IF(Data!#REF!=\"\",\"\",Data!#REF!)","v":{"$error":"#REF!"}},{"$f":"IF(Data!#REF!=\"\",\"\",Data!#REF!)","v":{"$error":"#REF!"}},{"$f":"IF(Data!#REF!=\"\",\"\",Data!#REF!)","v":{"$error":"#REF!"}},{"$f":"IF(Data!#REF!=\"\",\"\",Data!#REF!)","v":{"$error":"#REF!"}},{"$error":"#REF!"},{"$error":"#REF!"},{"$error":"#REF!"}]
[{"$f":"IF(Data!#REF!=\"\",\"\",Data!#REF!)","v":{"$error":"#REF!"}},{"$f":"IF(Data!#REF!=\"\",\"\",Data!#REF!)","v":{"$error":"#REF!"}},{"$f":"IF(Data!#REF!=\"\",\"\",Data!#REF!)","v":{"$error":"#REF!"}},{"$f":"IF(Data!#REF!=\"\",\"\",Data!#REF!)","v":{"$error":"#REF!"}},{"$f":"IF(Data!#REF!=\"\",\"\",Data!#REF!)","v":{"$error":"#REF!"}},{"$error":"#REF!"},{"$error":"#REF!"},{"$error":"#REF!"}]
[{"$f":"IF(Data!#REF!=\"\",\"\",Data!#REF!)","v":{"$error":"#REF!"}},{"$f":"IF(Data!#REF!=\"\",\"\",Data!#REF!)","v":{"$error":"#REF!"}},{"$f":"IF(Data!#REF!=\"\",\"\",Data!#REF!)","v":{"$error":"#REF!"}},{"$f":"IF(Data!#REF!=\"\",\"\",Data!#REF!)","v":{"$error":"#REF!"}},{"$f":"IF(Data!#REF!=\"\",\"\",Data!#REF!)","v":{"$error":"#REF!"}},{"$error":"#REF!"},{"$error":"#REF!"},{"$error":"#REF!"}]
[{"$f":"IF(Data!#REF!=\"\",\"\",Data!#REF!)","v":{"$error":"#REF!"}},{"$f":"IF(Data!#REF!=\"\",\"\",Data!#REF!)","v":{"$error":"#REF!"}},{"$f":"IF(Data!#REF!=\"\",\"\",Data!#REF!)","v":{"$error":"#REF!"}},{"$f":"IF(Data!#REF!=\"\",\"\",Data!#REF!)","v":{"$error":"#REF!"}},{"$f":"IF(Data!#REF!=\"\",\"\",Data!#REF!)","v":{"$error":"#REF!"}},{"$error":"#REF!"},{"$error":"#REF!"},{"$error":"#REF!"}]
[{"$f":"IF(Data!#REF!=\"\",\"\",Data!#REF!)","v":{"$error":"#REF!"}},{"$f":"IF(Data!#REF!=\"\",\"\",Data!#REF!)","v":{"$error":"#REF!"}},{"$f":"IF(Data!#REF!=\"\",\"\",Data!#REF!)","v":{"$error":"#REF!"}},{"$f":"IF(Data!#REF!=\"\",\"\",Data!#REF!)","v":{"$error":"#REF!"}},{"$f":"IF(Data!#REF!=\"\",\"\",Data!#REF!)","v":{"$error":"#REF!"}},{"$error":"#REF!"},{"$error":"#REF!"},{"$error":"#REF!"}]
[{"$f":"IF(Data!#REF!=\"\",\"\",Data!#REF!)","v":{"$error":"#REF!"}},{"$f":"IF(Data!#REF!=\"\",\"\",Data!#REF!)","v":{"$error":"#REF!"}},{"$f":"IF(Data!#REF!=\"\",\"\",Data!#REF!)","v":{"$error":"#REF!"}},{"$f":"IF(Data!#REF!=\"\",\"\",Data!#REF!)","v":{"$error":"#REF!"}},{"$f":"IF(Data!#REF!=\"\",\"\",Data!#REF!)","v":{"$error":"#REF!"}},{"$error":"#REF!"},{"$error":"#REF!"},{"$error":"#REF!"}]
[{"$f":"IF(Data!#REF!=\"\",\"\",Data!#REF!)","v":{"$error":"#REF!"}},{"$f":"IF(Data!#REF!=\"\",\"\",Data!#REF!)","v":{"$error":"#REF!"}},{"$f":"IF(Data!#REF!=\"\",\"\",Data!#REF!)","v":{"$error":"#REF!"}},{"$f":"IF(Data!#REF!=\"\",\"\",Data!#REF!)","v":{"$error":"#REF!"}},{"$f":"IF(Data!#REF!=\"\",\"\",Data!#REF!)","v":{"$error":"#REF!"}},{"$error":"#REF!"},{"$error":"#REF!"},{"$error":"#REF!"}]
[{"$f":"IF(Data!#REF!=\"\",\"\",Data!#REF!)","v":{"$error":"#REF!"}},{"$f":"IF(Data!#REF!=\"\",\"\",Data!#REF!)","v":{"$error":"#REF!"}},{"$f":"IF(Data!#REF!=\"\",\"\",Data!#REF!)","v":{"$error":"#REF!"}},{"$f":"IF(Data!#REF!=\"\",\"\",Data!#REF!)","v":{"$error":"#REF!"}},{"$f":"IF(Data!#REF!=\"\",\"\",Data!#REF!)","v":{"$error":"#REF!"}},{"$error":"#REF!"},{"$error":"#REF!"},{"$error":"#REF!"}]
[{"$f":"IF(Data!#REF!=\"\",\"\",Data!#REF!)","v":{"$error":"#REF!"}},{"$f":"IF(Data!#REF!=\"\",\"\",Data!#REF!)","v":{"$error":"#REF!"}},{"$f":"IF(Data!#REF!=\"\",\"\",Data!#REF!)","v":{"$error":"#REF!"}},{"$f":"IF(Data!#REF!=\"\",\"\",Data!#REF!)","v":{"$error":"#REF!"}},{"$f":"IF(Data!#REF!=\"\",\"\",Data!#REF!)","v":{"$error":"#REF!"}},{"$error":"#REF!"},{"$error":"#REF!"},{"$error":"#REF!"}]
[{"$f":"IF(Data!#REF!=\"\",\"\",Data!#REF!)","v":{"$error":"#REF!"}},{"$f":"IF(Data!#REF!=\"\",\"\",Data!#REF!)","v":{"$error":"#REF!"}},{"$f":"IF(Data!#REF!=\"\",\"\",Data!#REF!)","v":{"$error":"#REF!"}},{"$f":"IF(Data!#REF!=\"\",\"\",Data!#REF!)","v":{"$error":"#REF!"}},{"$f":"IF(Data!#REF!=\"\",\"\",Data!#REF!)","v":{"$error":"#REF!"}},{"$error":"#REF!"},{"$error":"#REF!"},{"$error":"#REF!"}]
[{"$f":"IF(Data!#REF!=\"\",\"\",Data!#REF!)","v":{"$error":"#REF!"}},{"$f":"IF(Data!#REF!=\"\",\"\",Data!#REF!)","v":{"$error":"#REF!"}},{"$f":"IF(Data!#REF!=\"\",\"\",Data!#REF!)","v":{"$error":"#REF!"}},{"$f":"IF(Data!#REF!=\"\",\"\",Data!#REF!)","v":{"$error":"#REF!"}},{"$f":"IF(Data!#REF!=\"\",\"\",Data!#REF!)","v":{"$error":"#REF!"}},{"$f":"IF(E1155>0,MONTH(E1155),\"\")","v":{"$error":"#REF!"}},{"$f":"IF(E1155>0,WEEKNUM(E1155),\"0\")","v":{"$error":"#REF!"}},{"$f":"IF(G1155>=($G$2-3),\"Ano\",\"Nie\")","v":{"$error":"#REF!"}}]
[{"$f":"IF(Data!#REF!=\"\",\"\",Data!#REF!)","v":{"$error":"#REF!"}},{"$f":"IF(Data!#REF!=\"\",\"\",Data!#REF!)","v":{"$error":"#REF!"}},{"$f":"IF(Data!#REF!=\"\",\"\",Data!#REF!)","v":{"$error":"#REF!"}},{"$f":"IF(Data!#REF!=\"\",\"\",Data!#REF!)","v":{"$error":"#REF!"}},{"$f":"IF(Data!#REF!=\"\",\"\",Data!#REF!)","v":{"$error":"#REF!"}},{"$error":"#REF!"},{"$error":"#REF!"},{"$error":"#REF!"}]
[{"$f":"IF(Data!#REF!=\"\",\"\",Data!#REF!)","v":{"$error":"#REF!"}},{"$f":"IF(Data!#REF!=\"\",\"\",Data!#REF!)","v":{"$error":"#REF!"}},{"$f":"IF(Data!#REF!=\"\",\"\",Data!#REF!)","v":{"$error":"#REF!"}},{"$f":"IF(Data!#REF!=\"\",\"\",Data!#REF!)","v":{"$error":"#REF!"}},{"$f":"IF(Data!#REF!=\"\",\"\",Data!#REF!)","v":{"$error":"#REF!"}},{"$error":"#REF!"},{"$error":"#REF!"},{"$error":"#REF!"}]
[{"$f":"IF(Data!#REF!=\"\",\"\",Data!#REF!)","v":{"$error":"#REF!"}},{"$f":"IF(Data!#REF!=\"\",\"\",Data!#REF!)","v":{"$error":"#REF!"}},{"$f":"IF(Data!#REF!=\"\",\"\",Data!#REF!)","v":{"$error":"#REF!"}},{"$f":"IF(Data!#REF!=\"\",\"\",Data!#REF!)","v":{"$error":"#REF!"}},{"$f":"IF(Data!#REF!=\"\",\"\",Data!#REF!)","v":{"$error":"#REF!"}},{"$error":"#REF!"},{"$error":"#REF!"},{"$error":"#REF!"}]
[{"$f":"IF(Data!#REF!=\"\",\"\",Data!#REF!)","v":{"$error":"#REF!"}},{"$f":"IF(Data!#REF!=\"\",\"\",Data!#REF!)","v":{"$error":"#REF!"}},{"$f":"IF(Data!#REF!=\"\",\"\",Data!#REF!)","v":{"$error":"#REF!"}},{"$f":"IF(Data!#REF!=\"\",\"\",Data!#REF!)","v":{"$error":"#REF!"}},{"$f":"IF(Data!#REF!=\"\",\"\",Data!#REF!)","v":{"$error":"#REF!"}},{"$error":"#REF!"},{"$error":"#REF!"},{"$error":"#REF!"}]
[{"$f":"IF(Data!#REF!=\"\",\"\",Data!#REF!)","v":{"$error":"#REF!"}},{"$f":"IF(Data!#REF!=\"\",\"\",Data!#REF!)","v":{"$error":"#REF!"}},{"$f":"IF(Data!#REF!=\"\",\"\",Data!#REF!)","v":{"$error":"#REF!"}},{"$f":"IF(Data!#REF!=\"\",\"\",Data!#REF!)","v":{"$error":"#REF!"}},{"$f":"IF(Data!#REF!=\"\",\"\",Data!#REF!)","v":{"$error":"#REF!"}},{"$error":"#REF!"},{"$error":"#REF!"},{"$error":"#REF!"}]
[{"$f":"IF(Data!#REF!=\"\",\"\",Data!#REF!)","v":{"$error":"#REF!"}},{"$f":"IF(Data!#REF!=\"\",\"\",Data!#REF!)","v":{"$error":"#REF!"}},{"$f":"IF(Data!#REF!=\"\",\"\",Data!#REF!)","v":{"$error":"#REF!"}},{"$f":"IF(Data!#REF!=\"\",\"\",Data!#REF!)","v":{"$error":"#REF!"}},{"$f":"IF(Data!#REF!=\"\",\"\",Data!#REF!)","v":{"$error":"#REF!"}},{"$error":"#REF!"},{"$error":"#REF!"},{"$error":"#REF!"}]
[{"$f":"IF(Data!#REF!=\"\",\"\",Data!#REF!)","v":{"$error":"#REF!"}},{"$f":"IF(Data!#REF!=\"\",\"\",Data!#REF!)","v":{"$error":"#REF!"}},{"$f":"IF(Data!#REF!=\"\",\"\",Data!#REF!)","v":{"$error":"#REF!"}},{"$f":"IF(Data!#REF!=\"\",\"\",Data!#REF!)","v":{"$error":"#REF!"}},{"$f":"IF(Data!#REF!=\"\",\"\",Data!#REF!)","v":{"$error":"#REF!"}},{"$error":"#REF!"},{"$error":"#REF!"},{"$error":"#REF!"}]
[{"$f":"IF(Data!#REF!=\"\",\"\",Data!#REF!)","v":{"$error":"#REF!"}},{"$f":"IF(Data!#REF!=\"\",\"\",Data!#REF!)","v":{"$error":"#REF!"}},{"$f":"IF(Data!#REF!=\"\",\"\",Data!#REF!)","v":{"$error":"#REF!"}},{"$f":"IF(Data!#REF!=\"\",\"\",Data!#REF!)","v":{"$error":"#REF!"}},{"$f":"IF(Data!#REF!=\"\",\"\",Data!#REF!)","v":{"$error":"#REF!"}},{"$error":"#REF!"},{"$error":"#REF!"},{"$error":"#REF!"}]
[{"$f":"IF(Data!#REF!=\"\",\"\",Data!#REF!)","v":{"$error":"#REF!"}},{"$f":"IF(Data!#REF!=\"\",\"\",Data!#REF!)","v":{"$error":"#REF!"}},{"$f":"IF(Data!#REF!=\"\",\"\",Data!#REF!)","v":{"$error":"#REF!"}},{"$f":"IF(Data!#REF!=\"\",\"\",Data!#REF!)","v":{"$error":"#REF!"}},{"$f":"IF(Data!#REF!=\"\",\"\",Data!#REF!)","v":{"$error":"#REF!"}},{"$error":"#REF!"},{"$error":"#REF!"},{"$error":"#REF!"}]
[{"$f":"IF(Data!#REF!=\"\",\"\",Data!#REF!)","v":{"$error":"#REF!"}},{"$f":"IF(Data!#REF!=\"\",\"\",Data!#REF!)","v":{"$error":"#REF!"}},{"$f":"IF(Data!#REF!=\"\",\"\",Data!#REF!)","v":{"$error":"#REF!"}},{"$f":"IF(Data!#REF!=\"\",\"\",Data!#REF!)","v":{"$error":"#REF!"}},{"$f":"IF(Data!#REF!=\"\",\"\",Data!#REF!)","v":{"$error":"#REF!"}},{"$error":"#REF!"},{"$error":"#REF!"},{"$error":"#REF!"}]
[{"$f":"IF(Data!#REF!=\"\",\"\",Data!#REF!)","v":{"$error":"#REF!"}},{"$f":"IF(Data!#REF!=\"\",\"\",Data!#REF!)","v":{"$error":"#REF!"}},{"$f":"IF(Data!#REF!=\"\",\"\",Data!#REF!)","v":{"$error":"#REF!"}},{"$f":"IF(Data!#REF!=\"\",\"\",Data!#REF!)","v":{"$error":"#REF!"}},{"$f":"IF(Data!#REF!=\"\",\"\",Data!#REF!)","v":{"$error":"#REF!"}},{"$error":"#REF!"},{"$error":"#REF!"},{"$error":"#REF!"}]
[{"$f":"IF(Data!#REF!=\"\",\"\",Data!#REF!)","v":{"$error":"#REF!"}},{"$f":"IF(Data!#REF!=\"\",\"\",Data!#REF!)","v":{"$error":"#REF!"}},{"$f":"IF(Data!#REF!=\"\",\"\",Data!#REF!)","v":{"$error":"#REF!"}},{"$f":"IF(Data!#REF!=\"\",\"\",Data!#REF!)","v":{"$error":"#REF!"}},{"$f":"IF(Data!#REF!=\"\",\"\",Data!#REF!)","v":{"$error":"#REF!"}},{"$error":"#REF!"},{"$error":"#REF!"},{"$error":"#REF!"}]
[{"$f":"IF(Data!#REF!=\"\",\"\",Data!#REF!)","v":{"$error":"#REF!"}},{"$f":"IF(Data!#REF!=\"\",\"\",Data!#REF!)","v":{"$error":"#REF!"}},{"$f":"IF(Data!#REF!=\"\",\"\",Data!#REF!)","v":{"$error":"#REF!"}},{"$f":"IF(Data!#REF!=\"\",\"\",Data!#REF!)","v":{"$error":"#REF!"}},{"$f":"IF(Data!#REF!=\"\",\"\",Data!#REF!)","v":{"$error":"#REF!"}},{"$error":"#REF!"},{"$error":"#REF!"},{"$error":"#REF!"}]
[{"$f":"IF(Data!#REF!=\"\",\"\",Data!#REF!)","v":{"$error":"#REF!"}},{"$f":"IF(Data!#REF!=\"\",\"\",Data!#REF!)","v":{"$error":"#REF!"}},{"$f":"IF(Data!#REF!=\"\",\"\",Data!#REF!)","v":{"$error":"#REF!"}},{"$f":"IF(Data!#REF!=\"\",\"\",Data!#REF!)","v":{"$error":"#REF!"}},{"$f":"IF(Data!#REF!=\"\",\"\",Data!#REF!)","v":{"$error":"#REF!"}},{"$error":"#REF!"},{"$error":"#REF!"},{"$error":"#REF!"}]
[{"$f":"IF(Data!#REF!=\"\",\"\",Data!#REF!)","v":{"$error":"#REF!"}},{"$f":"IF(Data!#REF!=\"\",\"\",Data!#REF!)","v":{"$error":"#REF!"}},{"$f":"IF(Data!#REF!=\"\",\"\",Data!#REF!)","v":{"$error":"#REF!"}},{"$f":"IF(Data!#REF!=\"\",\"\",Data!#REF!)","v":{"$error":"#REF!"}},{"$f":"IF(Data!#REF!=\"\",\"\",Data!#REF!)","v":{"$error":"#REF!"}},{"$error":"#REF!"},{"$error":"#REF!"},{"$error":"#REF!"}]
[{"$f":"IF(Data!#REF!=\"\",\"\",Data!#REF!)","v":{"$error":"#REF!"}},{"$f":"IF(Data!#REF!=\"\",\"\",Data!#REF!)","v":{"$error":"#REF!"}},{"$f":"IF(Data!#REF!=\"\",\"\",Data!#REF!)","v":{"$error":"#REF!"}},{"$f":"IF(Data!#REF!=\"\",\"\",Data!#REF!)","v":{"$error":"#REF!"}},{"$f":"IF(Data!#REF!=\"\",\"\",Data!#REF!)","v":{"$error":"#REF!"}},{"$error":"#REF!"},{"$error":"#REF!"},{"$error":"#REF!"}]
[{"$f":"IF(Data!#REF!=\"\",\"\",Data!#REF!)","v":{"$error":"#REF!"}},{"$f":"IF(Data!#REF!=\"\",\"\",Data!#REF!)","v":{"$error":"#REF!"}},{"$f":"IF(Data!#REF!=\"\",\"\",Data!#REF!)","v":{"$error":"#REF!"}},{"$f":"IF(Data!#REF!=\"\",\"\",Data!#REF!)","v":{"$error":"#REF!"}},{"$f":"IF(Data!#REF!=\"\",\"\",Data!#REF!)","v":{"$error":"#REF!"}},{"$error":"#REF!"},{"$error":"#REF!"},{"$error":"#REF!"}]
[{"$f":"IF(Data!#REF!=\"\",\"\",Data!#REF!)","v":{"$error":"#REF!"}},{"$f":"IF(Data!#REF!=\"\",\"\",Data!#REF!)","v":{"$error":"#REF!"}},{"$f":"IF(Data!#REF!=\"\",\"\",Data!#REF!)","v":{"$error":"#REF!"}},{"$f":"IF(Data!#REF!=\"\",\"\",Data!#REF!)","v":{"$error":"#REF!"}},{"$f":"IF(Data!#REF!=\"\",\"\",Data!#REF!)","v":{"$error":"#REF!"}},{"$error":"#REF!"},{"$error":"#REF!"},{"$error":"#REF!"}]
[{"$f":"IF(Data!#REF!=\"\",\"\",Data!#REF!)","v":{"$error":"#REF!"}},{"$f":"IF(Data!#REF!=\"\",\"\",Data!#REF!)","v":{"$error":"#REF!"}},{"$f":"IF(Data!#REF!=\"\",\"\",Data!#REF!)","v":{"$error":"#REF!"}},{"$f":"IF(Data!#REF!=\"\",\"\",Data!#REF!)","v":{"$error":"#REF!"}},{"$f":"IF(Data!#REF!=\"\",\"\",Data!#REF!)","v":{"$error":"#REF!"}},{"$error":"#REF!"},{"$error":"#REF!"},{"$error":"#REF!"}]
[{"$f":"IF(Data!#REF!=\"\",\"\",Data!#REF!)","v":{"$error":"#REF!"}},{"$f":"IF(Data!#REF!=\"\",\"\",Data!#REF!)","v":{"$error":"#REF!"}},{"$f":"IF(Data!#REF!=\"\",\"\",Data!#REF!)","v":{"$error":"#REF!"}},{"$f":"IF(Data!#REF!=\"\",\"\",Data!#REF!)","v":{"$error":"#REF!"}},{"$f":"IF(Data!#REF!=\"\",\"\",Data!#REF!)","v":{"$error":"#REF!"}},{"$error":"#REF!"},{"$error":"#REF!"},{"$error":"#REF!"}]
[{"$f":"IF(Data!#REF!=\"\",\"\",Data!#REF!)","v":{"$error":"#REF!"}},{"$f":"IF(Data!#REF!=\"\",\"\",Data!#REF!)","v":{"$error":"#REF!"}},{"$f":"IF(Data!#REF!=\"\",\"\",Data!#REF!)","v":{"$error":"#REF!"}},{"$f":"IF(Data!#REF!=\"\",\"\",Data!#REF!)","v":{"$error":"#REF!"}},{"$f":"IF(Data!#REF!=\"\",\"\",Data!#REF!)","v":{"$error":"#REF!"}},{"$error":"#REF!"},{"$error":"#REF!"},{"$error":"#REF!"}]
[{"$f":"IF(Data!#REF!=\"\",\"\",Data!#REF!)","v":{"$error":"#REF!"}},{"$f":"IF(Data!#REF!=\"\",\"\",Data!#REF!)","v":{"$error":"#REF!"}},{"$f":"IF(Data!#REF!=\"\",\"\",Data!#REF!)","v":{"$error":"#REF!"}},{"$f":"IF(Data!#REF!=\"\",\"\",Data!#REF!)","v":{"$error":"#REF!"}},{"$f":"IF(Data!#REF!=\"\",\"\",Data!#REF!)","v":{"$error":"#REF!"}},{"$error":"#REF!"},{"$error":"#REF!"},{"$error":"#REF!"}]
[{"$f":"IF(Data!#REF!=\"\",\"\",Data!#REF!)","v":{"$error":"#REF!"}},{"$f":"IF(Data!#REF!=\"\",\"\",Data!#REF!)","v":{"$error":"#REF!"}},{"$f":"IF(Data!#REF!=\"\",\"\",Data!#REF!)","v":{"$error":"#REF!"}},{"$f":"IF(Data!#REF!=\"\",\"\",Data!#REF!)","v":{"$error":"#REF!"}},{"$f":"IF(Data!#REF!=\"\",\"\",Data!#REF!)","v":{"$error":"#REF!"}},{"$error":"#REF!"},{"$error":"#REF!"},{"$error":"#REF!"}]
[{"$f":"IF(Data!#REF!=\"\",\"\",Data!#REF!)","v":{"$error":"#REF!"}},{"$f":"IF(Data!#REF!=\"\",\"\",Data!#REF!)","v":{"$error":"#REF!"}},{"$f":"IF(Data!#REF!=\"\",\"\",Data!#REF!)","v":{"$error":"#REF!"}},{"$f":"IF(Data!#REF!=\"\",\"\",Data!#REF!)","v":{"$error":"#REF!"}},{"$f":"IF(Data!#REF!=\"\",\"\",Data!#REF!)","v":{"$error":"#REF!"}},{"$error":"#REF!"},{"$error":"#REF!"},{"$error":"#REF!"}]
[{"$f":"IF(Data!#REF!=\"\",\"\",Data!#REF!)","v":{"$error":"#REF!"}},{"$f":"IF(Data!#REF!=\"\",\"\",Data!#REF!)","v":{"$error":"#REF!"}},{"$f":"IF(Data!#REF!=\"\",\"\",Data!#REF!)","v":{"$error":"#REF!"}},{"$f":"IF(Data!#REF!=\"\",\"\",Data!#REF!)","v":{"$error":"#REF!"}},{"$f":"IF(Data!#REF!=\"\",\"\",Data!#REF!)","v":{"$error":"#REF!"}},{"$error":"#REF!"},{"$error":"#REF!"},{"$error":"#REF!"}]
[{"$f":"IF(Data!#REF!=\"\",\"\",Data!#REF!)","v":{"$error":"#REF!"}},{"$f":"IF(Data!#REF!=\"\",\"\",Data!#REF!)","v":{"$error":"#REF!"}},{"$f":"IF(Data!#REF!=\"\",\"\",Data!#REF!)","v":{"$error":"#REF!"}},{"$f":"IF(Data!#REF!=\"\",\"\",Data!#REF!)","v":{"$error":"#REF!"}},{"$f":"IF(Data!#REF!=\"\",\"\",Data!#REF!)","v":{"$error":"#REF!"}},{"$error":"#REF!"},{"$error":"#REF!"},{"$error":"#REF!"}]
[{"$f":"IF(Data!#REF!=\"\",\"\",Data!#REF!)","v":{"$error":"#REF!"}},{"$f":"IF(Data!#REF!=\"\",\"\",Data!#REF!)","v":{"$error":"#REF!"}},{"$f":"IF(Data!#REF!=\"\",\"\",Data!#REF!)","v":{"$error":"#REF!"}},{"$f":"IF(Data!#REF!=\"\",\"\",Data!#REF!)","v":{"$error":"#REF!"}},{"$f":"IF(Data!#REF!=\"\",\"\",Data!#REF!)","v":{"$error":"#REF!"}},{"$error":"#REF!"},{"$error":"#REF!"},{"$error":"#REF!"}]
[{"$f":"IF(Data!#REF!=\"\",\"\",Data!#REF!)","v":{"$error":"#REF!"}},{"$f":"IF(Data!#REF!=\"\",\"\",Data!#REF!)","v":{"$error":"#REF!"}},{"$f":"IF(Data!#REF!=\"\",\"\",Data!#REF!)","v":{"$error":"#REF!"}},{"$f":"IF(Data!#REF!=\"\",\"\",Data!#REF!)","v":{"$error":"#REF!"}},{"$f":"IF(Data!#REF!=\"\",\"\",Data!#REF!)","v":{"$error":"#REF!"}},{"$error":"#REF!"},{"$error":"#REF!"},{"$error":"#REF!"}]
[{"$f":"IF(Data!#REF!=\"\",\"\",Data!#REF!)","v":{"$error":"#REF!"}},{"$f":"IF(Data!#REF!=\"\",\"\",Data!#REF!)","v":{"$error":"#REF!"}},{"$f":"IF(Data!#REF!=\"\",\"\",Data!#REF!)","v":{"$error":"#REF!"}},{"$f":"IF(Data!#REF!=\"\",\"\",Data!#REF!)","v":{"$error":"#REF!"}},{"$f":"IF(Data!#REF!=\"\",\"\",Data!#REF!)","v":{"$error":"#REF!"}},{"$error":"#REF!"},{"$error":"#REF!"},{"$error":"#REF!"}]
[{"$f":"IF(Data!#REF!=\"\",\"\",Data!#REF!)","v":{"$error":"#REF!"}},{"$f":"IF(Data!#REF!=\"\",\"\",Data!#REF!)","v":{"$error":"#REF!"}},{"$f":"IF(Data!#REF!=\"\",\"\",Data!#REF!)","v":{"$error":"#REF!"}},{"$f":"IF(Data!#REF!=\"\",\"\",Data!#REF!)","v":{"$error":"#REF!"}},{"$f":"IF(Data!#REF!=\"\",\"\",Data!#REF!)","v":{"$error":"#REF!"}},{"$error":"#REF!"},{"$error":"#REF!"},{"$error":"#REF!"}]
[{"$f":"IF(Data!#REF!=\"\",\"\",Data!#REF!)","v":{"$error":"#REF!"}},{"$f":"IF(Data!#REF!=\"\",\"\",Data!#REF!)","v":{"$error":"#REF!"}},{"$f":"IF(Data!#REF!=\"\",\"\",Data!#REF!)","v":{"$error":"#REF!"}},{"$f":"IF(Data!#REF!=\"\",\"\",Data!#REF!)","v":{"$error":"#REF!"}},{"$f":"IF(Data!#REF!=\"\",\"\",Data!#REF!)","v":{"$error":"#REF!"}},{"$error":"#REF!"},{"$error":"#REF!"},{"$error":"#REF!"}]
[{"$f":"IF(Data!#REF!=\"\",\"\",Data!#REF!)","v":{"$error":"#REF!"}},{"$f":"IF(Data!#REF!=\"\",\"\",Data!#REF!)","v":{"$error":"#REF!"}},{"$f":"IF(Data!#REF!=\"\",\"\",Data!#REF!)","v":{"$error":"#REF!"}},{"$f":"IF(Data!#REF!=\"\",\"\",Data!#REF!)","v":{"$error":"#REF!"}},{"$f":"IF(Data!#REF!=\"\",\"\",Data!#REF!)","v":{"$error":"#REF!"}},{"$error":"#REF!"},{"$error":"#REF!"},{"$error":"#REF!"}]
[{"$f":"IF(Data!#REF!=\"\",\"\",Data!#REF!)","v":{"$error":"#REF!"}},{"$f":"IF(Data!#REF!=\"\",\"\",Data!#REF!)","v":{"$error":"#REF!"}},{"$f":"IF(Data!#REF!=\"\",\"\",Data!#REF!)","v":{"$error":"#REF!"}},{"$f":"IF(Data!#REF!=\"\",\"\",Data!#REF!)","v":{"$error":"#REF!"}},{"$f":"IF(Data!#REF!=\"\",\"\",Data!#REF!)","v":{"$error":"#REF!"}},{"$error":"#REF!"},{"$error":"#REF!"},{"$error":"#REF!"}]
[{"$f":"IF(Data!#REF!=\"\",\"\",Data!#REF!)","v":{"$error":"#REF!"}},{"$f":"IF(Data!#REF!=\"\",\"\",Data!#REF!)","v":{"$error":"#REF!"}},{"$f":"IF(Data!#REF!=\"\",\"\",Data!#REF!)","v":{"$error":"#REF!"}},{"$f":"IF(Data!#REF!=\"\",\"\",Data!#REF!)","v":{"$error":"#REF!"}},{"$f":"IF(Data!#REF!=\"\",\"\",Data!#REF!)","v":{"$error":"#REF!"}},{"$error":"#REF!"},{"$error":"#REF!"},{"$error":"#REF!"}]
[{"$f":"IF(Data!#REF!=\"\",\"\",Data!#REF!)","v":{"$error":"#REF!"}},{"$f":"IF(Data!#REF!=\"\",\"\",Data!#REF!)","v":{"$error":"#REF!"}},{"$f":"IF(Data!#REF!=\"\",\"\",Data!#REF!)","v":{"$error":"#REF!"}},{"$f":"IF(Data!#REF!=\"\",\"\",Data!#REF!)","v":{"$error":"#REF!"}},{"$f":"IF(Data!#REF!=\"\",\"\",Data!#REF!)","v":{"$error":"#REF!"}},{"$error":"#REF!"},{"$error":"#REF!"},{"$error":"#REF!"}]
[{"$f":"IF(Data!#REF!=\"\",\"\",Data!#REF!)","v":{"$error":"#REF!"}},{"$f":"IF(Data!#REF!=\"\",\"\",Data!#REF!)","v":{"$error":"#REF!"}},{"$f":"IF(Data!#REF!=\"\",\"\",Data!#REF!)","v":{"$error":"#REF!"}},{"$f":"IF(Data!#REF!=\"\",\"\",Data!#REF!)","v":{"$error":"#REF!"}},{"$f":"IF(Data!#REF!=\"\",\"\",Data!#REF!)","v":{"$error":"#REF!"}},{"$error":"#REF!"},{"$error":"#REF!"},{"$error":"#REF!"}]
[{"$f":"IF(Data!#REF!=\"\",\"\",Data!#REF!)","v":{"$error":"#REF!"}},{"$f":"IF(Data!#REF!=\"\",\"\",Data!#REF!)","v":{"$error":"#REF!"}},{"$f":"IF(Data!#REF!=\"\",\"\",Data!#REF!)","v":{"$error":"#REF!"}},{"$f":"IF(Data!#REF!=\"\",\"\",Data!#REF!)","v":{"$error":"#REF!"}},{"$f":"IF(Data!#REF!=\"\",\"\",Data!#REF!)","v":{"$error":"#REF!"}},{"$error":"#REF!"},{"$error":"#REF!"},{"$error":"#REF!"}]
[{"$f":"IF(Data!#REF!=\"\",\"\",Data!#REF!)","v":{"$error":"#REF!"}},{"$f":"IF(Data!#REF!=\"\",\"\",Data!#REF!)","v":{"$error":"#REF!"}},{"$f":"IF(Data!#REF!=\"\",\"\",Data!#REF!)","v":{"$error":"#REF!"}},{"$f":"IF(Data!#REF!=\"\",\"\",Data!#REF!)","v":{"$error":"#REF!"}},{"$f":"IF(Data!#REF!=\"\",\"\",Data!#REF!)","v":{"$error":"#REF!"}},{"$error":"#REF!"},{"$error":"#REF!"},{"$error":"#REF!"}]
[{"$f":"IF(Data!#REF!=\"\",\"\",Data!#REF!)","v":{"$error":"#REF!"}},{"$f":"IF(Data!#REF!=\"\",\"\",Data!#REF!)","v":{"$error":"#REF!"}},{"$f":"IF(Data!#REF!=\"\",\"\",Data!#REF!)","v":{"$error":"#REF!"}},{"$f":"IF(Data!#REF!=\"\",\"\",Data!#REF!)","v":{"$error":"#REF!"}},{"$f":"IF(Data!#REF!=\"\",\"\",Data!#REF!)","v":{"$error":"#REF!"}},{"$error":"#REF!"},{"$error":"#REF!"},{"$error":"#REF!"}]
[{"$f":"IF(Data!#REF!=\"\",\"\",Data!#REF!)","v":{"$error":"#REF!"}},{"$f":"IF(Data!#REF!=\"\",\"\",Data!#REF!)","v":{"$error":"#REF!"}},{"$f":"IF(Data!#REF!=\"\",\"\",Data!#REF!)","v":{"$error":"#REF!"}},{"$f":"IF(Data!#REF!=\"\",\"\",Data!#REF!)","v":{"$error":"#REF!"}},{"$f":"IF(Data!#REF!=\"\",\"\",Data!#REF!)","v":{"$error":"#REF!"}},{"$error":"#REF!"},{"$error":"#REF!"},{"$error":"#REF!"}]
[{"$f":"IF(Data!#REF!=\"\",\"\",Data!#REF!)","v":{"$error":"#REF!"}},{"$f":"IF(Data!#REF!=\"\",\"\",Data!#REF!)","v":{"$error":"#REF!"}},{"$f":"IF(Data!#REF!=\"\",\"\",Data!#REF!)","v":{"$error":"#REF!"}},{"$f":"IF(Data!#REF!=\"\",\"\",Data!#REF!)","v":{"$error":"#REF!"}},{"$f":"IF(Data!#REF!=\"\",\"\",Data!#REF!)","v":{"$error":"#REF!"}},{"$error":"#REF!"},{"$error":"#REF!"},{"$error":"#REF!"}]
[{"$f":"IF(Data!#REF!=\"\",\"\",Data!#REF!)","v":{"$error":"#REF!"}},{"$f":"IF(Data!#REF!=\"\",\"\",Data!#REF!)","v":{"$error":"#REF!"}},{"$f":"IF(Data!#REF!=\"\",\"\",Data!#REF!)","v":{"$error":"#REF!"}},{"$f":"IF(Data!#REF!=\"\",\"\",Data!#REF!)","v":{"$error":"#REF!"}},{"$f":"IF(Data!#REF!=\"\",\"\",Data!#REF!)","v":{"$error":"#REF!"}},{"$error":"#REF!"},{"$error":"#REF!"},{"$error":"#REF!"}]
[{"$f":"IF(Data!#REF!=\"\",\"\",Data!#REF!)","v":{"$error":"#REF!"}},{"$f":"IF(Data!#REF!=\"\",\"\",Data!#REF!)","v":{"$error":"#REF!"}},{"$f":"IF(Data!#REF!=\"\",\"\",Data!#REF!)","v":{"$error":"#REF!"}},{"$f":"IF(Data!#REF!=\"\",\"\",Data!#REF!)","v":{"$error":"#REF!"}},{"$f":"IF(Data!#REF!=\"\",\"\",Data!#REF!)","v":{"$error":"#REF!"}},{"$error":"#REF!"},{"$error":"#REF!"},{"$error":"#REF!"}]
[{"$f":"IF(Data!#REF!=\"\",\"\",Data!#REF!)","v":{"$error":"#REF!"}},{"$f":"IF(Data!#REF!=\"\",\"\",Data!#REF!)","v":{"$error":"#REF!"}},{"$f":"IF(Data!#REF!=\"\",\"\",Data!#REF!)","v":{"$error":"#REF!"}},{"$f":"IF(Data!#REF!=\"\",\"\",Data!#REF!)","v":{"$error":"#REF!"}},{"$f":"IF(Data!#REF!=\"\",\"\",Data!#REF!)","v":{"$error":"#REF!"}},{"$error":"#REF!"},{"$error":"#REF!"},{"$error":"#REF!"}]
[{"$f":"IF(Data!#REF!=\"\",\"\",Data!#REF!)","v":{"$error":"#REF!"}},{"$f":"IF(Data!#REF!=\"\",\"\",Data!#REF!)","v":{"$error":"#REF!"}},{"$f":"IF(Data!#REF!=\"\",\"\",Data!#REF!)","v":{"$error":"#REF!"}},{"$f":"IF(Data!#REF!=\"\",\"\",Data!#REF!)","v":{"$error":"#REF!"}},{"$f":"IF(Data!#REF!=\"\",\"\",Data!#REF!)","v":{"$error":"#REF!"}},{"$error":"#REF!"},{"$error":"#REF!"},{"$error":"#REF!"}]
[{"$f":"IF(Data!#REF!=\"\",\"\",Data!#REF!)","v":{"$error":"#REF!"}},{"$f":"IF(Data!#REF!=\"\",\"\",Data!#REF!)","v":{"$error":"#REF!"}},{"$f":"IF(Data!#REF!=\"\",\"\",Data!#REF!)","v":{"$error":"#REF!"}},{"$f":"IF(Data!#REF!=\"\",\"\",Data!#REF!)","v":{"$error":"#REF!"}},{"$f":"IF(Data!#REF!=\"\",\"\",Data!#REF!)","v":{"$error":"#REF!"}},{"$error":"#REF!"},{"$error":"#REF!"},{"$error":"#REF!"}]
[{"$f":"IF(Data!#REF!=\"\",\"\",Data!#REF!)","v":{"$error":"#REF!"}},{"$f":"IF(Data!#REF!=\"\",\"\",Data!#REF!)","v":{"$error":"#REF!"}},{"$f":"IF(Data!#REF!=\"\",\"\",Data!#REF!)","v":{"$error":"#REF!"}},{"$f":"IF(Data!#REF!=\"\",\"\",Data!#REF!)","v":{"$error":"#REF!"}},{"$f":"IF(Data!#REF!=\"\",\"\",Data!#REF!)","v":{"$error":"#REF!"}},{"$error":"#REF!"},{"$error":"#REF!"},{"$error":"#REF!"}]
[{"$f":"IF(Data!#REF!=\"\",\"\",Data!#REF!)","v":{"$error":"#REF!"}},{"$f":"IF(Data!#REF!=\"\",\"\",Data!#REF!)","v":{"$error":"#REF!"}},{"$f":"IF(Data!#REF!=\"\",\"\",Data!#REF!)","v":{"$error":"#REF!"}},{"$f":"IF(Data!#REF!=\"\",\"\",Data!#REF!)","v":{"$error":"#REF!"}},{"$f":"IF(Data!#REF!=\"\",\"\",Data!#REF!)","v":{"$error":"#REF!"}},{"$error":"#REF!"},{"$error":"#REF!"},{"$error":"#REF!"}]
[{"$f":"IF(Data!#REF!=\"\",\"\",Data!#REF!)","v":{"$error":"#REF!"}},{"$f":"IF(Data!#REF!=\"\",\"\",Data!#REF!)","v":{"$error":"#REF!"}},{"$f":"IF(Data!#REF!=\"\",\"\",Data!#REF!)","v":{"$error":"#REF!"}},{"$f":"IF(Data!#REF!=\"\",\"\",Data!#REF!)","v":{"$error":"#REF!"}},{"$f":"IF(Data!#REF!=\"\",\"\",Data!#REF!)","v":{"$error":"#REF!"}},{"$error":"#REF!"},{"$error":"#REF!"},{"$error":"#REF!"}]
[{"$f":"IF(Data!#REF!=\"\",\"\",Data!#REF!)","v":{"$error":"#REF!"}},{"$f":"IF(Data!#REF!=\"\",\"\",Data!#REF!)","v":{"$error":"#REF!"}},{"$f":"IF(Data!#REF!=\"\",\"\",Data!#REF!)","v":{"$error":"#REF!"}},{"$f":"IF(Data!#REF!=\"\",\"\",Data!#REF!)","v":{"$error":"#REF!"}},{"$f":"IF(Data!#REF!=\"\",\"\",Data!#REF!)","v":{"$error":"#REF!"}},{"$error":"#REF!"},{"$error":"#REF!"},{"$error":"#REF!"}]
[{"$f":"IF(Data!#REF!=\"\",\"\",Data!#REF!)","v":{"$error":"#REF!"}},{"$f":"IF(Data!#REF!=\"\",\"\",Data!#REF!)","v":{"$error":"#REF!"}},{"$f":"IF(Data!#REF!=\"\",\"\",Data!#REF!)","v":{"$error":"#REF!"}},{"$f":"IF(Data!#REF!=\"\",\"\",Data!#REF!)","v":{"$error":"#REF!"}},{"$f":"IF(Data!#REF!=\"\",\"\",Data!#REF!)","v":{"$error":"#REF!"}},{"$error":"#REF!"},{"$error":"#REF!"},{"$error":"#REF!"}]
[{"$f":"IF(Data!#REF!=\"\",\"\",Data!#REF!)","v":{"$error":"#REF!"}},{"$f":"IF(Data!#REF!=\"\",\"\",Data!#REF!)","v":{"$error":"#REF!"}},{"$f":"IF(Data!#REF!=\"\",\"\",Data!#REF!)","v":{"$error":"#REF!"}},{"$f":"IF(Data!#REF!=\"\",\"\",Data!#REF!)","v":{"$error":"#REF!"}},{"$f":"IF(Data!#REF!=\"\",\"\",Data!#REF!)","v":{"$error":"#REF!"}},{"$error":"#REF!"},{"$error":"#REF!"},{"$error":"#REF!"}]
[{"$f":"IF(Data!#REF!=\"\",\"\",Data!#REF!)","v":{"$error":"#REF!"}},{"$f":"IF(Data!#REF!=\"\",\"\",Data!#REF!)","v":{"$error":"#REF!"}},{"$f":"IF(Data!#REF!=\"\",\"\",Data!#REF!)","v":{"$error":"#REF!"}},{"$f":"IF(Data!#REF!=\"\",\"\",Data!#REF!)","v":{"$error":"#REF!"}},{"$f":"IF(Data!#REF!=\"\",\"\",Data!#REF!)","v":{"$error":"#REF!"}},{"$error":"#REF!"},{"$error":"#REF!"},{"$error":"#REF!"}]
[{"$f":"IF(Data!#REF!=\"\",\"\",Data!#REF!)","v":{"$error":"#REF!"}},{"$f":"IF(Data!#REF!=\"\",\"\",Data!#REF!)","v":{"$error":"#REF!"}},{"$f":"IF(Data!#REF!=\"\",\"\",Data!#REF!)","v":{"$error":"#REF!"}},{"$f":"IF(Data!#REF!=\"\",\"\",Data!#REF!)","v":{"$error":"#REF!"}},{"$f":"IF(Data!#REF!=\"\",\"\",Data!#REF!)","v":{"$error":"#REF!"}},{"$error":"#REF!"},{"$error":"#REF!"},{"$error":"#REF!"}]
[{"$f":"IF(Data!#REF!=\"\",\"\",Data!#REF!)","v":{"$error":"#REF!"}},{"$f":"IF(Data!#REF!=\"\",\"\",Data!#REF!)","v":{"$error":"#REF!"}},{"$f":"IF(Data!#REF!=\"\",\"\",Data!#REF!)","v":{"$error":"#REF!"}},{"$f":"IF(Data!#REF!=\"\",\"\",Data!#REF!)","v":{"$error":"#REF!"}},{"$f":"IF(Data!#REF!=\"\",\"\",Data!#REF!)","v":{"$error":"#REF!"}},{"$error":"#REF!"},{"$error":"#REF!"},{"$error":"#REF!"}]
[{"$f":"IF(Data!#REF!=\"\",\"\",Data!#REF!)","v":{"$error":"#REF!"}},{"$f":"IF(Data!#REF!=\"\",\"\",Data!#REF!)","v":{"$error":"#REF!"}},{"$f":"IF(Data!#REF!=\"\",\"\",Data!#REF!)","v":{"$error":"#REF!"}},{"$f":"IF(Data!#REF!=\"\",\"\",Data!#REF!)","v":{"$error":"#REF!"}},{"$f":"IF(Data!#REF!=\"\",\"\",Data!#REF!)","v":{"$error":"#REF!"}},{"$error":"#REF!"},{"$error":"#REF!"},{"$error":"#REF!"}]
[{"$f":"IF(Data!#REF!=\"\",\"\",Data!#REF!)","v":{"$error":"#REF!"}},{"$f":"IF(Data!#REF!=\"\",\"\",Data!#REF!)","v":{"$error":"#REF!"}},{"$f":"IF(Data!#REF!=\"\",\"\",Data!#REF!)","v":{"$error":"#REF!"}},{"$f":"IF(Data!#REF!=\"\",\"\",Data!#REF!)","v":{"$error":"#REF!"}},{"$f":"IF(Data!#REF!=\"\",\"\",Data!#REF!)","v":{"$error":"#REF!"}},{"$error":"#REF!"},{"$error":"#REF!"},{"$error":"#REF!"}]
[{"$f":"IF(Data!#REF!=\"\",\"\",Data!#REF!)","v":{"$error":"#REF!"}},{"$f":"IF(Data!#REF!=\"\",\"\",Data!#REF!)","v":{"$error":"#REF!"}},{"$f":"IF(Data!#REF!=\"\",\"\",Data!#REF!)","v":{"$error":"#REF!"}},{"$f":"IF(Data!#REF!=\"\",\"\",Data!#REF!)","v":{"$error":"#REF!"}},{"$f":"IF(Data!#REF!=\"\",\"\",Data!#REF!)","v":{"$error":"#REF!"}},{"$error":"#REF!"},{"$error":"#REF!"},{"$error":"#REF!"}]
[{"$f":"IF(Data!#REF!=\"\",\"\",Data!#REF!)","v":{"$error":"#REF!"}},{"$f":"IF(Data!#REF!=\"\",\"\",Data!#REF!)","v":{"$error":"#REF!"}},{"$f":"IF(Data!#REF!=\"\",\"\",Data!#REF!)","v":{"$error":"#REF!"}},{"$f":"IF(Data!#REF!=\"\",\"\",Data!#REF!)","v":{"$error":"#REF!"}},{"$f":"IF(Data!#REF!=\"\",\"\",Data!#REF!)","v":{"$error":"#REF!"}},{"$error":"#REF!"},{"$error":"#REF!"},{"$error":"#REF!"}]
[{"$f":"IF(Data!#REF!=\"\",\"\",Data!#REF!)","v":{"$error":"#REF!"}},{"$f":"IF(Data!#REF!=\"\",\"\",Data!#REF!)","v":{"$error":"#REF!"}},{"$f":"IF(Data!#REF!=\"\",\"\",Data!#REF!)","v":{"$error":"#REF!"}},{"$f":"IF(Data!#REF!=\"\",\"\",Data!#REF!)","v":{"$error":"#REF!"}},{"$f":"IF(Data!#REF!=\"\",\"\",Data!#REF!)","v":{"$error":"#REF!"}},{"$error":"#REF!"},{"$error":"#REF!"},{"$error":"#REF!"}]
[{"$f":"IF(Data!#REF!=\"\",\"\",Data!#REF!)","v":{"$error":"#REF!"}},{"$f":"IF(Data!#REF!=\"\",\"\",Data!#REF!)","v":{"$error":"#REF!"}},{"$f":"IF(Data!#REF!=\"\",\"\",Data!#REF!)","v":{"$error":"#REF!"}},{"$f":"IF(Data!#REF!=\"\",\"\",Data!#REF!)","v":{"$error":"#REF!"}},{"$f":"IF(Data!#REF!=\"\",\"\",Data!#REF!)","v":{"$error":"#REF!"}},{"$error":"#REF!"},{"$error":"#REF!"},{"$error":"#REF!"}]
[{"$f":"IF(Data!#REF!=\"\",\"\",Data!#REF!)","v":{"$error":"#REF!"}},{"$f":"IF(Data!#REF!=\"\",\"\",Data!#REF!)","v":{"$error":"#REF!"}},{"$f":"IF(Data!#REF!=\"\",\"\",Data!#REF!)","v":{"$error":"#REF!"}},{"$f":"IF(Data!#REF!=\"\",\"\",Data!#REF!)","v":{"$error":"#REF!"}},{"$f":"IF(Data!#REF!=\"\",\"\",Data!#REF!)","v":{"$error":"#REF!"}},{"$error":"#REF!"},{"$error":"#REF!"},{"$error":"#REF!"}]
[{"$f":"IF(Data!#REF!=\"\",\"\",Data!#REF!)","v":{"$error":"#REF!"}},{"$f":"IF(Data!#REF!=\"\",\"\",Data!#REF!)","v":{"$error":"#REF!"}},{"$f":"IF(Data!#REF!=\"\",\"\",Data!#REF!)","v":{"$error":"#REF!"}},{"$f":"IF(Data!#REF!=\"\",\"\",Data!#REF!)","v":{"$error":"#REF!"}},{"$f":"IF(Data!#REF!=\"\",\"\",Data!#REF!)","v":{"$error":"#REF!"}},{"$error":"#REF!"},{"$error":"#REF!"},{"$error":"#REF!"}]
[{"$f":"IF(Data!#REF!=\"\",\"\",Data!#REF!)","v":{"$error":"#REF!"}},{"$f":"IF(Data!#REF!=\"\",\"\",Data!#REF!)","v":{"$error":"#REF!"}},{"$f":"IF(Data!#REF!=\"\",\"\",Data!#REF!)","v":{"$error":"#REF!"}},{"$f":"IF(Data!#REF!=\"\",\"\",Data!#REF!)","v":{"$error":"#REF!"}},{"$f":"IF(Data!#REF!=\"\",\"\",Data!#REF!)","v":{"$error":"#REF!"}},{"$f":"IF(E1219>0,MONTH(E1219),\"\")","v":{"$error":"#REF!"}},{"$f":"IF(E1219>0,WEEKNUM(E1219),\"0\")","v":{"$error":"#REF!"}},{"$f":"IF(G1219>=($G$2-3),\"Ano\",\"Nie\")","v":{"$error":"#REF!"}}]
[{"$f":"IF(Data!#REF!=\"\",\"\",Data!#REF!)","v":{"$error":"#REF!"}},{"$f":"IF(Data!#REF!=\"\",\"\",Data!#REF!)","v":{"$error":"#REF!"}},{"$f":"IF(Data!#REF!=\"\",\"\",Data!#REF!)","v":{"$error":"#REF!"}},{"$f":"IF(Data!#REF!=\"\",\"\",Data!#REF!)","v":{"$error":"#REF!"}},{"$f":"IF(Data!#REF!=\"\",\"\",Data!#REF!)","v":{"$error":"#REF!"}},{"$error":"#REF!"},{"$error":"#REF!"},{"$error":"#REF!"}]
[{"$f":"IF(Data!#REF!=\"\",\"\",Data!#REF!)","v":{"$error":"#REF!"}},{"$f":"IF(Data!#REF!=\"\",\"\",Data!#REF!)","v":{"$error":"#REF!"}},{"$f":"IF(Data!#REF!=\"\",\"\",Data!#REF!)","v":{"$error":"#REF!"}},{"$f":"IF(Data!#REF!=\"\",\"\",Data!#REF!)","v":{"$error":"#REF!"}},{"$f":"IF(Data!#REF!=\"\",\"\",Data!#REF!)","v":{"$error":"#REF!"}},{"$error":"#REF!"},{"$error":"#REF!"},{"$error":"#REF!"}]
[{"$f":"IF(Data!#REF!=\"\",\"\",Data!#REF!)","v":{"$error":"#REF!"}},{"$f":"IF(Data!#REF!=\"\",\"\",Data!#REF!)","v":{"$error":"#REF!"}},{"$f":"IF(Data!#REF!=\"\",\"\",Data!#REF!)","v":{"$error":"#REF!"}},{"$f":"IF(Data!#REF!=\"\",\"\",Data!#REF!)","v":{"$error":"#REF!"}},{"$f":"IF(Data!#REF!=\"\",\"\",Data!#REF!)","v":{"$error":"#REF!"}},{"$error":"#REF!"},{"$error":"#REF!"},{"$error":"#REF!"}]
[{"$f":"IF(Data!#REF!=\"\",\"\",Data!#REF!)","v":{"$error":"#REF!"}},{"$f":"IF(Data!#REF!=\"\",\"\",Data!#REF!)","v":{"$error":"#REF!"}},{"$f":"IF(Data!#REF!=\"\",\"\",Data!#REF!)","v":{"$error":"#REF!"}},{"$f":"IF(Data!#REF!=\"\",\"\",Data!#REF!)","v":{"$error":"#REF!"}},{"$f":"IF(Data!#REF!=\"\",\"\",Data!#REF!)","v":{"$error":"#REF!"}},{"$error":"#REF!"},{"$error":"#REF!"},{"$error":"#REF!"}]
[{"$f":"IF(Data!#REF!=\"\",\"\",Data!#REF!)","v":{"$error":"#REF!"}},{"$f":"IF(Data!#REF!=\"\",\"\",Data!#REF!)","v":{"$error":"#REF!"}},{"$f":"IF(Data!#REF!=\"\",\"\",Data!#REF!)","v":{"$error":"#REF!"}},{"$f":"IF(Data!#REF!=\"\",\"\",Data!#REF!)","v":{"$error":"#REF!"}},{"$f":"IF(Data!#REF!=\"\",\"\",Data!#REF!)","v":{"$error":"#REF!"}},{"$error":"#REF!"},{"$error":"#REF!"},{"$error":"#REF!"}]
[{"$f":"IF(Data!#REF!=\"\",\"\",Data!#REF!)","v":{"$error":"#REF!"}},{"$f":"IF(Data!#REF!=\"\",\"\",Data!#REF!)","v":{"$error":"#REF!"}},{"$f":"IF(Data!#REF!=\"\",\"\",Data!#REF!)","v":{"$error":"#REF!"}},{"$f":"IF(Data!#REF!=\"\",\"\",Data!#REF!)","v":{"$error":"#REF!"}},{"$f":"IF(Data!#REF!=\"\",\"\",Data!#REF!)","v":{"$error":"#REF!"}},{"$error":"#REF!"},{"$error":"#REF!"},{"$error":"#REF!"}]
[{"$f":"IF(Data!#REF!=\"\",\"\",Data!#REF!)","v":{"$error":"#REF!"}},{"$f":"IF(Data!#REF!=\"\",\"\",Data!#REF!)","v":{"$error":"#REF!"}},{"$f":"IF(Data!#REF!=\"\",\"\",Data!#REF!)","v":{"$error":"#REF!"}},{"$f":"IF(Data!#REF!=\"\",\"\",Data!#REF!)","v":{"$error":"#REF!"}},{"$f":"IF(Data!#REF!=\"\",\"\",Data!#REF!)","v":{"$error":"#REF!"}},{"$error":"#REF!"},{"$error":"#REF!"},{"$error":"#REF!"}]
[{"$f":"IF(Data!#REF!=\"\",\"\",Data!#REF!)","v":{"$error":"#REF!"}},{"$f":"IF(Data!#REF!=\"\",\"\",Data!#REF!)","v":{"$error":"#REF!"}},{"$f":"IF(Data!#REF!=\"\",\"\",Data!#REF!)","v":{"$error":"#REF!"}},{"$f":"IF(Data!#REF!=\"\",\"\",Data!#REF!)","v":{"$error":"#REF!"}},{"$f":"IF(Data!#REF!=\"\",\"\",Data!#REF!)","v":{"$error":"#REF!"}},{"$error":"#REF!"},{"$error":"#REF!"},{"$error":"#REF!"}]
[{"$f":"IF(Data!#REF!=\"\",\"\",Data!#REF!)","v":{"$error":"#REF!"}},{"$f":"IF(Data!#REF!=\"\",\"\",Data!#REF!)","v":{"$error":"#REF!"}},{"$f":"IF(Data!#REF!=\"\",\"\",Data!#REF!)","v":{"$error":"#REF!"}},{"$f":"IF(Data!#REF!=\"\",\"\",Data!#REF!)","v":{"$error":"#REF!"}},{"$f":"IF(Data!#REF!=\"\",\"\",Data!#REF!)","v":{"$error":"#REF!"}},{"$error":"#REF!"},{"$error":"#REF!"},{"$error":"#REF!"}]
[{"$f":"IF(Data!#REF!=\"\",\"\",Data!#REF!)","v":{"$error":"#REF!"}},{"$f":"IF(Data!#REF!=\"\",\"\",Data!#REF!)","v":{"$error":"#REF!"}},{"$f":"IF(Data!#REF!=\"\",\"\",Data!#REF!)","v":{"$error":"#REF!"}},{"$f":"IF(Data!#REF!=\"\",\"\",Data!#REF!)","v":{"$error":"#REF!"}},{"$f":"IF(Data!#REF!=\"\",\"\",Data!#REF!)","v":{"$error":"#REF!"}},{"$error":"#REF!"},{"$error":"#REF!"},{"$error":"#REF!"}]
[{"$f":"IF(Data!#REF!=\"\",\"\",Data!#REF!)","v":{"$error":"#REF!"}},{"$f":"IF(Data!#REF!=\"\",\"\",Data!#REF!)","v":{"$error":"#REF!"}},{"$f":"IF(Data!#REF!=\"\",\"\",Data!#REF!)","v":{"$error":"#REF!"}},{"$f":"IF(Data!#REF!=\"\",\"\",Data!#REF!)","v":{"$error":"#REF!"}},{"$f":"IF(Data!#REF!=\"\",\"\",Data!#REF!)","v":{"$error":"#REF!"}},{"$error":"#REF!"},{"$error":"#REF!"},{"$error":"#REF!"}]
[{"$f":"IF(Data!#REF!=\"\",\"\",Data!#REF!)","v":{"$error":"#REF!"}},{"$f":"IF(Data!#REF!=\"\",\"\",Data!#REF!)","v":{"$error":"#REF!"}},{"$f":"IF(Data!#REF!=\"\",\"\",Data!#REF!)","v":{"$error":"#REF!"}},{"$f":"IF(Data!#REF!=\"\",\"\",Data!#REF!)","v":{"$error":"#REF!"}},{"$f":"IF(Data!#REF!=\"\",\"\",Data!#REF!)","v":{"$error":"#REF!"}},{"$error":"#REF!"},{"$error":"#REF!"},{"$error":"#REF!"}]
[{"$f":"IF(Data!#REF!=\"\",\"\",Data!#REF!)","v":{"$error":"#REF!"}},{"$f":"IF(Data!#REF!=\"\",\"\",Data!#REF!)","v":{"$error":"#REF!"}},{"$f":"IF(Data!#REF!=\"\",\"\",Data!#REF!)","v":{"$error":"#REF!"}},{"$f":"IF(Data!#REF!=\"\",\"\",Data!#REF!)","v":{"$error":"#REF!"}},{"$f":"IF(Data!#REF!=\"\",\"\",Data!#REF!)","v":{"$error":"#REF!"}},{"$error":"#REF!"},{"$error":"#REF!"},{"$error":"#REF!"}]
[{"$f":"IF(Data!#REF!=\"\",\"\",Data!#REF!)","v":{"$error":"#REF!"}},{"$f":"IF(Data!#REF!=\"\",\"\",Data!#REF!)","v":{"$error":"#REF!"}},{"$f":"IF(Data!#REF!=\"\",\"\",Data!#REF!)","v":{"$error":"#REF!"}},{"$f":"IF(Data!#REF!=\"\",\"\",Data!#REF!)","v":{"$error":"#REF!"}},{"$f":"IF(Data!#REF!=\"\",\"\",Data!#REF!)","v":{"$error":"#REF!"}},{"$error":"#REF!"},{"$error":"#REF!"},{"$error":"#REF!"}]
[{"$f":"IF(Data!#REF!=\"\",\"\",Data!#REF!)","v":{"$error":"#REF!"}},{"$f":"IF(Data!#REF!=\"\",\"\",Data!#REF!)","v":{"$error":"#REF!"}},{"$f":"IF(Data!#REF!=\"\",\"\",Data!#REF!)","v":{"$error":"#REF!"}},{"$f":"IF(Data!#REF!=\"\",\"\",Data!#REF!)","v":{"$error":"#REF!"}},{"$f":"IF(Data!#REF!=\"\",\"\",Data!#REF!)","v":{"$error":"#REF!"}},{"$error":"#REF!"},{"$error":"#REF!"},{"$error":"#REF!"}]
[{"$f":"IF(Data!#REF!=\"\",\"\",Data!#REF!)","v":{"$error":"#REF!"}},{"$f":"IF(Data!#REF!=\"\",\"\",Data!#REF!)","v":{"$error":"#REF!"}},{"$f":"IF(Data!#REF!=\"\",\"\",Data!#REF!)","v":{"$error":"#REF!"}},{"$f":"IF(Data!#REF!=\"\",\"\",Data!#REF!)","v":{"$error":"#REF!"}},{"$f":"IF(Data!#REF!=\"\",\"\",Data!#REF!)","v":{"$error":"#REF!"}},{"$error":"#REF!"},{"$error":"#REF!"},{"$error":"#REF!"}]
[{"$f":"IF(Data!#REF!=\"\",\"\",Data!#REF!)","v":{"$error":"#REF!"}},{"$f":"IF(Data!#REF!=\"\",\"\",Data!#REF!)","v":{"$error":"#REF!"}},{"$f":"IF(Data!#REF!=\"\",\"\",Data!#REF!)","v":{"$error":"#REF!"}},{"$f":"IF(Data!#REF!=\"\",\"\",Data!#REF!)","v":{"$error":"#REF!"}},{"$f":"IF(Data!#REF!=\"\",\"\",Data!#REF!)","v":{"$error":"#REF!"}},{"$error":"#REF!"},{"$error":"#REF!"},{"$error":"#REF!"}]
[{"$f":"IF(Data!#REF!=\"\",\"\",Data!#REF!)","v":{"$error":"#REF!"}},{"$f":"IF(Data!#REF!=\"\",\"\",Data!#REF!)","v":{"$error":"#REF!"}},{"$f":"IF(Data!#REF!=\"\",\"\",Data!#REF!)","v":{"$error":"#REF!"}},{"$f":"IF(Data!#REF!=\"\",\"\",Data!#REF!)","v":{"$error":"#REF!"}},{"$f":"IF(Data!#REF!=\"\",\"\",Data!#REF!)","v":{"$error":"#REF!"}},{"$error":"#REF!"},{"$error":"#REF!"},{"$error":"#REF!"}]
[{"$f":"IF(Data!#REF!=\"\",\"\",Data!#REF!)","v":{"$error":"#REF!"}},{"$f":"IF(Data!#REF!=\"\",\"\",Data!#REF!)","v":{"$error":"#REF!"}},{"$f":"IF(Data!#REF!=\"\",\"\",Data!#REF!)","v":{"$error":"#REF!"}},{"$f":"IF(Data!#REF!=\"\",\"\",Data!#REF!)","v":{"$error":"#REF!"}},{"$f":"IF(Data!#REF!=\"\",\"\",Data!#REF!)","v":{"$error":"#REF!"}},{"$error":"#REF!"},{"$error":"#REF!"},{"$error":"#REF!"}]
[{"$f":"IF(Data!#REF!=\"\",\"\",Data!#REF!)","v":{"$error":"#REF!"}},{"$f":"IF(Data!#REF!=\"\",\"\",Data!#REF!)","v":{"$error":"#REF!"}},{"$f":"IF(Data!#REF!=\"\",\"\",Data!#REF!)","v":{"$error":"#REF!"}},{"$f":"IF(Data!#REF!=\"\",\"\",Data!#REF!)","v":{"$error":"#REF!"}},{"$f":"IF(Data!#REF!=\"\",\"\",Data!#REF!)","v":{"$error":"#REF!"}},{"$error":"#REF!"},{"$error":"#REF!"},{"$error":"#REF!"}]
[{"$f":"IF(Data!#REF!=\"\",\"\",Data!#REF!)","v":{"$error":"#REF!"}},{"$f":"IF(Data!#REF!=\"\",\"\",Data!#REF!)","v":{"$error":"#REF!"}},{"$f":"IF(Data!#REF!=\"\",\"\",Data!#REF!)","v":{"$error":"#REF!"}},{"$f":"IF(Data!#REF!=\"\",\"\",Data!#REF!)","v":{"$error":"#REF!"}},{"$f":"IF(Data!#REF!=\"\",\"\",Data!#REF!)","v":{"$error":"#REF!"}},{"$error":"#REF!"},{"$error":"#REF!"},{"$error":"#REF!"}]
[{"$f":"IF(Data!#REF!=\"\",\"\",Data!#REF!)","v":{"$error":"#REF!"}},{"$f":"IF(Data!#REF!=\"\",\"\",Data!#REF!)","v":{"$error":"#REF!"}},{"$f":"IF(Data!#REF!=\"\",\"\",Data!#REF!)","v":{"$error":"#REF!"}},{"$f":"IF(Data!#REF!=\"\",\"\",Data!#REF!)","v":{"$error":"#REF!"}},{"$f":"IF(Data!#REF!=\"\",\"\",Data!#REF!)","v":{"$error":"#REF!"}},{"$error":"#REF!"},{"$error":"#REF!"},{"$error":"#REF!"}]
[{"$f":"IF(Data!#REF!=\"\",\"\",Data!#REF!)","v":{"$error":"#REF!"}},{"$f":"IF(Data!#REF!=\"\",\"\",Data!#REF!)","v":{"$error":"#REF!"}},{"$f":"IF(Data!#REF!=\"\",\"\",Data!#REF!)","v":{"$error":"#REF!"}},{"$f":"IF(Data!#REF!=\"\",\"\",Data!#REF!)","v":{"$error":"#REF!"}},{"$f":"IF(Data!#REF!=\"\",\"\",Data!#REF!)","v":{"$error":"#REF!"}},{"$error":"#REF!"},{"$error":"#REF!"},{"$error":"#REF!"}]
[{"$f":"IF(Data!#REF!=\"\",\"\",Data!#REF!)","v":{"$error":"#REF!"}},{"$f":"IF(Data!#REF!=\"\",\"\",Data!#REF!)","v":{"$error":"#REF!"}},{"$f":"IF(Data!#REF!=\"\",\"\",Data!#REF!)","v":{"$error":"#REF!"}},{"$f":"IF(Data!#REF!=\"\",\"\",Data!#REF!)","v":{"$error":"#REF!"}},{"$f":"IF(Data!#REF!=\"\",\"\",Data!#REF!)","v":{"$error":"#REF!"}},{"$error":"#REF!"},{"$error":"#REF!"},{"$error":"#REF!"}]
[{"$f":"IF(Data!#REF!=\"\",\"\",Data!#REF!)","v":{"$error":"#REF!"}},{"$f":"IF(Data!#REF!=\"\",\"\",Data!#REF!)","v":{"$error":"#REF!"}},{"$f":"IF(Data!#REF!=\"\",\"\",Data!#REF!)","v":{"$error":"#REF!"}},{"$f":"IF(Data!#REF!=\"\",\"\",Data!#REF!)","v":{"$error":"#REF!"}},{"$f":"IF(Data!#REF!=\"\",\"\",Data!#REF!)","v":{"$error":"#REF!"}},{"$error":"#REF!"},{"$error":"#REF!"},{"$error":"#REF!"}]
[{"$f":"IF(Data!#REF!=\"\",\"\",Data!#REF!)","v":{"$error":"#REF!"}},{"$f":"IF(Data!#REF!=\"\",\"\",Data!#REF!)","v":{"$error":"#REF!"}},{"$f":"IF(Data!#REF!=\"\",\"\",Data!#REF!)","v":{"$error":"#REF!"}},{"$f":"IF(Data!#REF!=\"\",\"\",Data!#REF!)","v":{"$error":"#REF!"}},{"$f":"IF(Data!#REF!=\"\",\"\",Data!#REF!)","v":{"$error":"#REF!"}},{"$error":"#REF!"},{"$error":"#REF!"},{"$error":"#REF!"}]
[{"$f":"IF(Data!#REF!=\"\",\"\",Data!#REF!)","v":{"$error":"#REF!"}},{"$f":"IF(Data!#REF!=\"\",\"\",Data!#REF!)","v":{"$error":"#REF!"}},{"$f":"IF(Data!#REF!=\"\",\"\",Data!#REF!)","v":{"$error":"#REF!"}},{"$f":"IF(Data!#REF!=\"\",\"\",Data!#REF!)","v":{"$error":"#REF!"}},{"$f":"IF(Data!#REF!=\"\",\"\",Data!#REF!)","v":{"$error":"#REF!"}},{"$error":"#REF!"},{"$error":"#REF!"},{"$error":"#REF!"}]
[{"$f":"IF(Data!#REF!=\"\",\"\",Data!#REF!)","v":{"$error":"#REF!"}},{"$f":"IF(Data!#REF!=\"\",\"\",Data!#REF!)","v":{"$error":"#REF!"}},{"$f":"IF(Data!#REF!=\"\",\"\",Data!#REF!)","v":{"$error":"#REF!"}},{"$f":"IF(Data!#REF!=\"\",\"\",Data!#REF!)","v":{"$error":"#REF!"}},{"$f":"IF(Data!#REF!=\"\",\"\",Data!#REF!)","v":{"$error":"#REF!"}},{"$error":"#REF!"},{"$error":"#REF!"},{"$error":"#REF!"}]
[{"$f":"IF(Data!#REF!=\"\",\"\",Data!#REF!)","v":{"$error":"#REF!"}},{"$f":"IF(Data!#REF!=\"\",\"\",Data!#REF!)","v":{"$error":"#REF!"}},{"$f":"IF(Data!#REF!=\"\",\"\",Data!#REF!)","v":{"$error":"#REF!"}},{"$f":"IF(Data!#REF!=\"\",\"\",Data!#REF!)","v":{"$error":"#REF!"}},{"$f":"IF(Data!#REF!=\"\",\"\",Data!#REF!)","v":{"$error":"#REF!"}},{"$error":"#REF!"},{"$error":"#REF!"},{"$error":"#REF!"}]
[{"$f":"IF(Data!#REF!=\"\",\"\",Data!#REF!)","v":{"$error":"#REF!"}},{"$f":"IF(Data!#REF!=\"\",\"\",Data!#REF!)","v":{"$error":"#REF!"}},{"$f":"IF(Data!#REF!=\"\",\"\",Data!#REF!)","v":{"$error":"#REF!"}},{"$f":"IF(Data!#REF!=\"\",\"\",Data!#REF!)","v":{"$error":"#REF!"}},{"$f":"IF(Data!#REF!=\"\",\"\",Data!#REF!)","v":{"$error":"#REF!"}},{"$error":"#REF!"},{"$error":"#REF!"},{"$error":"#REF!"}]
[{"$f":"IF(Data!#REF!=\"\",\"\",Data!#REF!)","v":{"$error":"#REF!"}},{"$f":"IF(Data!#REF!=\"\",\"\",Data!#REF!)","v":{"$error":"#REF!"}},{"$f":"IF(Data!#REF!=\"\",\"\",Data!#REF!)","v":{"$error":"#REF!"}},{"$f":"IF(Data!#REF!=\"\",\"\",Data!#REF!)","v":{"$error":"#REF!"}},{"$f":"IF(Data!#REF!=\"\",\"\",Data!#REF!)","v":{"$error":"#REF!"}},{"$error":"#REF!"},{"$error":"#REF!"},{"$error":"#REF!"}]
[{"$f":"IF(Data!#REF!=\"\",\"\",Data!#REF!)","v":{"$error":"#REF!"}},{"$f":"IF(Data!#REF!=\"\",\"\",Data!#REF!)","v":{"$error":"#REF!"}},{"$f":"IF(Data!#REF!=\"\",\"\",Data!#REF!)","v":{"$error":"#REF!"}},{"$f":"IF(Data!#REF!=\"\",\"\",Data!#REF!)","v":{"$error":"#REF!"}},{"$f":"IF(Data!#REF!=\"\",\"\",Data!#REF!)","v":{"$error":"#REF!"}},{"$error":"#REF!"},{"$error":"#REF!"},{"$error":"#REF!"}]
[{"$f":"IF(Data!#REF!=\"\",\"\",Data!#REF!)","v":{"$error":"#REF!"}},{"$f":"IF(Data!#REF!=\"\",\"\",Data!#REF!)","v":{"$error":"#REF!"}},{"$f":"IF(Data!#REF!=\"\",\"\",Data!#REF!)","v":{"$error":"#REF!"}},{"$f":"IF(Data!#REF!=\"\",\"\",Data!#REF!)","v":{"$error":"#REF!"}},{"$f":"IF(Data!#REF!=\"\",\"\",Data!#REF!)","v":{"$error":"#REF!"}},{"$error":"#REF!"},{"$error":"#REF!"},{"$error":"#REF!"}]
[{"$f":"IF(Data!#REF!=\"\",\"\",Data!#REF!)","v":{"$error":"#REF!"}},{"$f":"IF(Data!#REF!=\"\",\"\",Data!#REF!)","v":{"$error":"#REF!"}},{"$f":"IF(Data!#REF!=\"\",\"\",Data!#REF!)","v":{"$error":"#REF!"}},{"$f":"IF(Data!#REF!=\"\",\"\",Data!#REF!)","v":{"$error":"#REF!"}},{"$f":"IF(Data!#REF!=\"\",\"\",Data!#REF!)","v":{"$error":"#REF!"}},{"$error":"#REF!"},{"$error":"#REF!"},{"$error":"#REF!"}]
[{"$f":"IF(Data!#REF!=\"\",\"\",Data!#REF!)","v":{"$error":"#REF!"}},{"$f":"IF(Data!#REF!=\"\",\"\",Data!#REF!)","v":{"$error":"#REF!"}},{"$f":"IF(Data!#REF!=\"\",\"\",Data!#REF!)","v":{"$error":"#REF!"}},{"$f":"IF(Data!#REF!=\"\",\"\",Data!#REF!)","v":{"$error":"#REF!"}},{"$f":"IF(Data!#REF!=\"\",\"\",Data!#REF!)","v":{"$error":"#REF!"}},{"$error":"#REF!"},{"$error":"#REF!"},{"$error":"#REF!"}]
[{"$f":"IF(Data!#REF!=\"\",\"\",Data!#REF!)","v":{"$error":"#REF!"}},{"$f":"IF(Data!#REF!=\"\",\"\",Data!#REF!)","v":{"$error":"#REF!"}},{"$f":"IF(Data!#REF!=\"\",\"\",Data!#REF!)","v":{"$error":"#REF!"}},{"$f":"IF(Data!#REF!=\"\",\"\",Data!#REF!)","v":{"$error":"#REF!"}},{"$f":"IF(Data!#REF!=\"\",\"\",Data!#REF!)","v":{"$error":"#REF!"}},{"$error":"#REF!"},{"$error":"#REF!"},{"$error":"#REF!"}]
[{"$f":"IF(Data!#REF!=\"\",\"\",Data!#REF!)","v":{"$error":"#REF!"}},{"$f":"IF(Data!#REF!=\"\",\"\",Data!#REF!)","v":{"$error":"#REF!"}},{"$f":"IF(Data!#REF!=\"\",\"\",Data!#REF!)","v":{"$error":"#REF!"}},{"$f":"IF(Data!#REF!=\"\",\"\",Data!#REF!)","v":{"$error":"#REF!"}},{"$f":"IF(Data!#REF!=\"\",\"\",Data!#REF!)","v":{"$error":"#REF!"}},{"$error":"#REF!"},{"$error":"#REF!"},{"$error":"#REF!"}]
[{"$f":"IF(Data!#REF!=\"\",\"\",Data!#REF!)","v":{"$error":"#REF!"}},{"$f":"IF(Data!#REF!=\"\",\"\",Data!#REF!)","v":{"$error":"#REF!"}},{"$f":"IF(Data!#REF!=\"\",\"\",Data!#REF!)","v":{"$error":"#REF!"}},{"$f":"IF(Data!#REF!=\"\",\"\",Data!#REF!)","v":{"$error":"#REF!"}},{"$f":"IF(Data!#REF!=\"\",\"\",Data!#REF!)","v":{"$error":"#REF!"}},{"$error":"#REF!"},{"$error":"#REF!"},{"$error":"#REF!"}]
[{"$f":"IF(Data!#REF!=\"\",\"\",Data!#REF!)","v":{"$error":"#REF!"}},{"$f":"IF(Data!#REF!=\"\",\"\",Data!#REF!)","v":{"$error":"#REF!"}},{"$f":"IF(Data!#REF!=\"\",\"\",Data!#REF!)","v":{"$error":"#REF!"}},{"$f":"IF(Data!#REF!=\"\",\"\",Data!#REF!)","v":{"$error":"#REF!"}},{"$f":"IF(Data!#REF!=\"\",\"\",Data!#REF!)","v":{"$error":"#REF!"}},{"$error":"#REF!"},{"$error":"#REF!"},{"$error":"#REF!"}]
[{"$f":"IF(Data!#REF!=\"\",\"\",Data!#REF!)","v":{"$error":"#REF!"}},{"$f":"IF(Data!#REF!=\"\",\"\",Data!#REF!)","v":{"$error":"#REF!"}},{"$f":"IF(Data!#REF!=\"\",\"\",Data!#REF!)","v":{"$error":"#REF!"}},{"$f":"IF(Data!#REF!=\"\",\"\",Data!#REF!)","v":{"$error":"#REF!"}},{"$f":"IF(Data!#REF!=\"\",\"\",Data!#REF!)","v":{"$error":"#REF!"}},{"$error":"#REF!"},{"$error":"#REF!"},{"$error":"#REF!"}]
[{"$f":"IF(Data!#REF!=\"\",\"\",Data!#REF!)","v":{"$error":"#REF!"}},{"$f":"IF(Data!#REF!=\"\",\"\",Data!#REF!)","v":{"$error":"#REF!"}},{"$f":"IF(Data!#REF!=\"\",\"\",Data!#REF!)","v":{"$error":"#REF!"}},{"$f":"IF(Data!#REF!=\"\",\"\",Data!#REF!)","v":{"$error":"#REF!"}},{"$f":"IF(Data!#REF!=\"\",\"\",Data!#REF!)","v":{"$error":"#REF!"}},{"$error":"#REF!"},{"$error":"#REF!"},{"$error":"#REF!"}]
[{"$f":"IF(Data!#REF!=\"\",\"\",Data!#REF!)","v":{"$error":"#REF!"}},{"$f":"IF(Data!#REF!=\"\",\"\",Data!#REF!)","v":{"$error":"#REF!"}},{"$f":"IF(Data!#REF!=\"\",\"\",Data!#REF!)","v":{"$error":"#REF!"}},{"$f":"IF(Data!#REF!=\"\",\"\",Data!#REF!)","v":{"$error":"#REF!"}},{"$f":"IF(Data!#REF!=\"\",\"\",Data!#REF!)","v":{"$error":"#REF!"}},{"$error":"#REF!"},{"$error":"#REF!"},{"$error":"#REF!"}]
[{"$f":"IF(Data!#REF!=\"\",\"\",Data!#REF!)","v":{"$error":"#REF!"}},{"$f":"IF(Data!#REF!=\"\",\"\",Data!#REF!)","v":{"$error":"#REF!"}},{"$f":"IF(Data!#REF!=\"\",\"\",Data!#REF!)","v":{"$error":"#REF!"}},{"$f":"IF(Data!#REF!=\"\",\"\",Data!#REF!)","v":{"$error":"#REF!"}},{"$f":"IF(Data!#REF!=\"\",\"\",Data!#REF!)","v":{"$error":"#REF!"}},{"$error":"#REF!"},{"$error":"#REF!"},{"$error":"#REF!"}]
[{"$f":"IF(Data!#REF!=\"\",\"\",Data!#REF!)","v":{"$error":"#REF!"}},{"$f":"IF(Data!#REF!=\"\",\"\",Data!#REF!)","v":{"$error":"#REF!"}},{"$f":"IF(Data!#REF!=\"\",\"\",Data!#REF!)","v":{"$error":"#REF!"}},{"$f":"IF(Data!#REF!=\"\",\"\",Data!#REF!)","v":{"$error":"#REF!"}},{"$f":"IF(Data!#REF!=\"\",\"\",Data!#REF!)","v":{"$error":"#REF!"}},{"$error":"#REF!"},{"$error":"#REF!"},{"$error":"#REF!"}]
[{"$f":"IF(Data!#REF!=\"\",\"\",Data!#REF!)","v":{"$error":"#REF!"}},{"$f":"IF(Data!#REF!=\"\",\"\",Data!#REF!)","v":{"$error":"#REF!"}},{"$f":"IF(Data!#REF!=\"\",\"\",Data!#REF!)","v":{"$error":"#REF!"}},{"$f":"IF(Data!#REF!=\"\",\"\",Data!#REF!)","v":{"$error":"#REF!"}},{"$f":"IF(Data!#REF!=\"\",\"\",Data!#REF!)","v":{"$error":"#REF!"}},{"$error":"#REF!"},{"$error":"#REF!"},{"$error":"#REF!"}]
[{"$f":"IF(Data!#REF!=\"\",\"\",Data!#REF!)","v":{"$error":"#REF!"}},{"$f":"IF(Data!#REF!=\"\",\"\",Data!#REF!)","v":{"$error":"#REF!"}},{"$f":"IF(Data!#REF!=\"\",\"\",Data!#REF!)","v":{"$error":"#REF!"}},{"$f":"IF(Data!#REF!=\"\",\"\",Data!#REF!)","v":{"$error":"#REF!"}},{"$f":"IF(Data!#REF!=\"\",\"\",Data!#REF!)","v":{"$error":"#REF!"}},{"$error":"#REF!"},{"$error":"#REF!"},{"$error":"#REF!"}]
[{"$f":"IF(Data!#REF!=\"\",\"\",Data!#REF!)","v":{"$error":"#REF!"}},{"$f":"IF(Data!#REF!=\"\",\"\",Data!#REF!)","v":{"$error":"#REF!"}},{"$f":"IF(Data!#REF!=\"\",\"\",Data!#REF!)","v":{"$error":"#REF!"}},{"$f":"IF(Data!#REF!=\"\",\"\",Data!#REF!)","v":{"$error":"#REF!"}},{"$f":"IF(Data!#REF!=\"\",\"\",Data!#REF!)","v":{"$error":"#REF!"}},{"$error":"#REF!"},{"$error":"#REF!"},{"$error":"#REF!"}]
[{"$f":"IF(Data!#REF!=\"\",\"\",Data!#REF!)","v":{"$error":"#REF!"}},{"$f":"IF(Data!#REF!=\"\",\"\",Data!#REF!)","v":{"$error":"#REF!"}},{"$f":"IF(Data!#REF!=\"\",\"\",Data!#REF!)","v":{"$error":"#REF!"}},{"$f":"IF(Data!#REF!=\"\",\"\",Data!#REF!)","v":{"$error":"#REF!"}},{"$f":"IF(Data!#REF!=\"\",\"\",Data!#REF!)","v":{"$error":"#REF!"}},{"$error":"#REF!"},{"$error":"#REF!"},{"$error":"#REF!"}]
[{"$f":"IF(Data!#REF!=\"\",\"\",Data!#REF!)","v":{"$error":"#REF!"}},{"$f":"IF(Data!#REF!=\"\",\"\",Data!#REF!)","v":{"$error":"#REF!"}},{"$f":"IF(Data!#REF!=\"\",\"\",Data!#REF!)","v":{"$error":"#REF!"}},{"$f":"IF(Data!#REF!=\"\",\"\",Data!#REF!)","v":{"$error":"#REF!"}},{"$f":"IF(Data!#REF!=\"\",\"\",Data!#REF!)","v":{"$error":"#REF!"}},{"$error":"#REF!"},{"$error":"#REF!"},{"$error":"#REF!"}]
[{"$f":"IF(Data!#REF!=\"\",\"\",Data!#REF!)","v":{"$error":"#REF!"}},{"$f":"IF(Data!#REF!=\"\",\"\",Data!#REF!)","v":{"$error":"#REF!"}},{"$f":"IF(Data!#REF!=\"\",\"\",Data!#REF!)","v":{"$error":"#REF!"}},{"$f":"IF(Data!#REF!=\"\",\"\",Data!#REF!)","v":{"$error":"#REF!"}},{"$f":"IF(Data!#REF!=\"\",\"\",Data!#REF!)","v":{"$error":"#REF!"}},{"$error":"#REF!"},{"$error":"#REF!"},{"$error":"#REF!"}]
[{"$f":"IF(Data!#REF!=\"\",\"\",Data!#REF!)","v":{"$error":"#REF!"}},{"$f":"IF(Data!#REF!=\"\",\"\",Data!#REF!)","v":{"$error":"#REF!"}},{"$f":"IF(Data!#REF!=\"\",\"\",Data!#REF!)","v":{"$error":"#REF!"}},{"$f":"IF(Data!#REF!=\"\",\"\",Data!#REF!)","v":{"$error":"#REF!"}},{"$f":"IF(Data!#REF!=\"\",\"\",Data!#REF!)","v":{"$error":"#REF!"}},{"$error":"#REF!"},{"$error":"#REF!"},{"$error":"#REF!"}]
[{"$f":"IF(Data!#REF!=\"\",\"\",Data!#REF!)","v":{"$error":"#REF!"}},{"$f":"IF(Data!#REF!=\"\",\"\",Data!#REF!)","v":{"$error":"#REF!"}},{"$f":"IF(Data!#REF!=\"\",\"\",Data!#REF!)","v":{"$error":"#REF!"}},{"$f":"IF(Data!#REF!=\"\",\"\",Data!#REF!)","v":{"$error":"#REF!"}},{"$f":"IF(Data!#REF!=\"\",\"\",Data!#REF!)","v":{"$error":"#REF!"}},{"$error":"#REF!"},{"$error":"#REF!"},{"$error":"#REF!"}]
[{"$f":"IF(Data!#REF!=\"\",\"\",Data!#REF!)","v":{"$error":"#REF!"}},{"$f":"IF(Data!#REF!=\"\",\"\",Data!#REF!)","v":{"$error":"#REF!"}},{"$f":"IF(Data!#REF!=\"\",\"\",Data!#REF!)","v":{"$error":"#REF!"}},{"$f":"IF(Data!#REF!=\"\",\"\",Data!#REF!)","v":{"$error":"#REF!"}},{"$f":"IF(Data!#REF!=\"\",\"\",Data!#REF!)","v":{"$error":"#REF!"}},{"$error":"#REF!"},{"$error":"#REF!"},{"$error":"#REF!"}]
[{"$f":"IF(Data!#REF!=\"\",\"\",Data!#REF!)","v":{"$error":"#REF!"}},{"$f":"IF(Data!#REF!=\"\",\"\",Data!#REF!)","v":{"$error":"#REF!"}},{"$f":"IF(Data!#REF!=\"\",\"\",Data!#REF!)","v":{"$error":"#REF!"}},{"$f":"IF(Data!#REF!=\"\",\"\",Data!#REF!)","v":{"$error":"#REF!"}},{"$f":"IF(Data!#REF!=\"\",\"\",Data!#REF!)","v":{"$error":"#REF!"}},{"$error":"#REF!"},{"$error":"#REF!"},{"$error":"#REF!"}]
[{"$f":"IF(Data!#REF!=\"\",\"\",Data!#REF!)","v":{"$error":"#REF!"}},{"$f":"IF(Data!#REF!=\"\",\"\",Data!#REF!)","v":{"$error":"#REF!"}},{"$f":"IF(Data!#REF!=\"\",\"\",Data!#REF!)","v":{"$error":"#REF!"}},{"$f":"IF(Data!#REF!=\"\",\"\",Data!#REF!)","v":{"$error":"#REF!"}},{"$f":"IF(Data!#REF!=\"\",\"\",Data!#REF!)","v":{"$error":"#REF!"}},{"$error":"#REF!"},{"$error":"#REF!"},{"$error":"#REF!"}]
[{"$f":"IF(Data!#REF!=\"\",\"\",Data!#REF!)","v":{"$error":"#REF!"}},{"$f":"IF(Data!#REF!=\"\",\"\",Data!#REF!)","v":{"$error":"#REF!"}},{"$f":"IF(Data!#REF!=\"\",\"\",Data!#REF!)","v":{"$error":"#REF!"}},{"$f":"IF(Data!#REF!=\"\",\"\",Data!#REF!)","v":{"$error":"#REF!"}},{"$f":"IF(Data!#REF!=\"\",\"\",Data!#REF!)","v":{"$error":"#REF!"}},{"$error":"#REF!"},{"$error":"#REF!"},{"$error":"#REF!"}]
[{"$f":"IF(Data!#REF!=\"\",\"\",Data!#REF!)","v":{"$error":"#REF!"}},{"$f":"IF(Data!#REF!=\"\",\"\",Data!#REF!)","v":{"$error":"#REF!"}},{"$f":"IF(Data!#REF!=\"\",\"\",Data!#REF!)","v":{"$error":"#REF!"}},{"$f":"IF(Data!#REF!=\"\",\"\",Data!#REF!)","v":{"$error":"#REF!"}},{"$f":"IF(Data!#REF!=\"\",\"\",Data!#REF!)","v":{"$error":"#REF!"}},{"$error":"#REF!"},{"$error":"#REF!"},{"$error":"#REF!"}]
[{"$f":"IF(Data!#REF!=\"\",\"\",Data!#REF!)","v":{"$error":"#REF!"}},{"$f":"IF(Data!#REF!=\"\",\"\",Data!#REF!)","v":{"$error":"#REF!"}},{"$f":"IF(Data!#REF!=\"\",\"\",Data!#REF!)","v":{"$error":"#REF!"}},{"$f":"IF(Data!#REF!=\"\",\"\",Data!#REF!)","v":{"$error":"#REF!"}},{"$f":"IF(Data!#REF!=\"\",\"\",Data!#REF!)","v":{"$error":"#REF!"}},{"$error":"#REF!"},{"$error":"#REF!"},{"$error":"#REF!"}]
[{"$f":"IF(Data!#REF!=\"\",\"\",Data!#REF!)","v":{"$error":"#REF!"}},{"$f":"IF(Data!#REF!=\"\",\"\",Data!#REF!)","v":{"$error":"#REF!"}},{"$f":"IF(Data!#REF!=\"\",\"\",Data!#REF!)","v":{"$error":"#REF!"}},{"$f":"IF(Data!#REF!=\"\",\"\",Data!#REF!)","v":{"$error":"#REF!"}},{"$f":"IF(Data!#REF!=\"\",\"\",Data!#REF!)","v":{"$error":"#REF!"}},{"$error":"#REF!"},{"$error":"#REF!"},{"$error":"#REF!"}]
[{"$f":"IF(Data!#REF!=\"\",\"\",Data!#REF!)","v":{"$error":"#REF!"}},{"$f":"IF(Data!#REF!=\"\",\"\",Data!#REF!)","v":{"$error":"#REF!"}},{"$f":"IF(Data!#REF!=\"\",\"\",Data!#REF!)","v":{"$error":"#REF!"}},{"$f":"IF(Data!#REF!=\"\",\"\",Data!#REF!)","v":{"$error":"#REF!"}},{"$f":"IF(Data!#REF!=\"\",\"\",Data!#REF!)","v":{"$error":"#REF!"}},{"$error":"#REF!"},{"$error":"#REF!"},{"$error":"#REF!"}]
[{"$f":"IF(Data!#REF!=\"\",\"\",Data!#REF!)","v":{"$error":"#REF!"}},{"$f":"IF(Data!#REF!=\"\",\"\",Data!#REF!)","v":{"$error":"#REF!"}},{"$f":"IF(Data!#REF!=\"\",\"\",Data!#REF!)","v":{"$error":"#REF!"}},{"$f":"IF(Data!#REF!=\"\",\"\",Data!#REF!)","v":{"$error":"#REF!"}},{"$f":"IF(Data!#REF!=\"\",\"\",Data!#REF!)","v":{"$error":"#REF!"}},{"$error":"#REF!"},{"$error":"#REF!"},{"$error":"#REF!"}]
[{"$f":"IF(Data!#REF!=\"\",\"\",Data!#REF!)","v":{"$error":"#REF!"}},{"$f":"IF(Data!#REF!=\"\",\"\",Data!#REF!)","v":{"$error":"#REF!"}},{"$f":"IF(Data!#REF!=\"\",\"\",Data!#REF!)","v":{"$error":"#REF!"}},{"$f":"IF(Data!#REF!=\"\",\"\",Data!#REF!)","v":{"$error":"#REF!"}},{"$f":"IF(Data!#REF!=\"\",\"\",Data!#REF!)","v":{"$error":"#REF!"}},{"$error":"#REF!"},{"$error":"#REF!"},{"$error":"#REF!"}]
[{"$f":"IF(Data!#REF!=\"\",\"\",Data!#REF!)","v":{"$error":"#REF!"}},{"$f":"IF(Data!#REF!=\"\",\"\",Data!#REF!)","v":{"$error":"#REF!"}},{"$f":"IF(Data!#REF!=\"\",\"\",Data!#REF!)","v":{"$error":"#REF!"}},{"$f":"IF(Data!#REF!=\"\",\"\",Data!#REF!)","v":{"$error":"#REF!"}},{"$f":"IF(Data!#REF!=\"\",\"\",Data!#REF!)","v":{"$error":"#REF!"}},{"$error":"#REF!"},{"$error":"#REF!"},{"$error":"#REF!"}]
[{"$f":"IF(Data!#REF!=\"\",\"\",Data!#REF!)","v":{"$error":"#REF!"}},{"$f":"IF(Data!#REF!=\"\",\"\",Data!#REF!)","v":{"$error":"#REF!"}},{"$f":"IF(Data!#REF!=\"\",\"\",Data!#REF!)","v":{"$error":"#REF!"}},{"$f":"IF(Data!#REF!=\"\",\"\",Data!#REF!)","v":{"$error":"#REF!"}},{"$f":"IF(Data!#REF!=\"\",\"\",Data!#REF!)","v":{"$error":"#REF!"}},{"$f":"IF(E1283>0,MONTH(E1283),\"\")","v":{"$error":"#REF!"}},{"$f":"IF(E1283>0,WEEKNUM(E1283),\"0\")","v":{"$error":"#REF!"}},{"$f":"IF(G1283>=($G$2-3),\"Ano\",\"Nie\")","v":{"$error":"#REF!"}}]
[{"$f":"IF(Data!#REF!=\"\",\"\",Data!#REF!)","v":{"$error":"#REF!"}},{"$f":"IF(Data!#REF!=\"\",\"\",Data!#REF!)","v":{"$error":"#REF!"}},{"$f":"IF(Data!#REF!=\"\",\"\",Data!#REF!)","v":{"$error":"#REF!"}},{"$f":"IF(Data!#REF!=\"\",\"\",Data!#REF!)","v":{"$error":"#REF!"}},{"$f":"IF(Data!#REF!=\"\",\"\",Data!#REF!)","v":{"$error":"#REF!"}},{"$error":"#REF!"},{"$error":"#REF!"},{"$error":"#REF!"}]
[{"$f":"IF(Data!#REF!=\"\",\"\",Data!#REF!)","v":{"$error":"#REF!"}},{"$f":"IF(Data!#REF!=\"\",\"\",Data!#REF!)","v":{"$error":"#REF!"}},{"$f":"IF(Data!#REF!=\"\",\"\",Data!#REF!)","v":{"$error":"#REF!"}},{"$f":"IF(Data!#REF!=\"\",\"\",Data!#REF!)","v":{"$error":"#REF!"}},{"$f":"IF(Data!#REF!=\"\",\"\",Data!#REF!)","v":{"$error":"#REF!"}},{"$error":"#REF!"},{"$error":"#REF!"},{"$error":"#REF!"}]
[{"$f":"IF(Data!#REF!=\"\",\"\",Data!#REF!)","v":{"$error":"#REF!"}},{"$f":"IF(Data!#REF!=\"\",\"\",Data!#REF!)","v":{"$error":"#REF!"}},{"$f":"IF(Data!#REF!=\"\",\"\",Data!#REF!)","v":{"$error":"#REF!"}},{"$f":"IF(Data!#REF!=\"\",\"\",Data!#REF!)","v":{"$error":"#REF!"}},{"$f":"IF(Data!#REF!=\"\",\"\",Data!#REF!)","v":{"$error":"#REF!"}},{"$error":"#REF!"},{"$error":"#REF!"},{"$error":"#REF!"}]
[{"$f":"IF(Data!#REF!=\"\",\"\",Data!#REF!)","v":{"$error":"#REF!"}},{"$f":"IF(Data!#REF!=\"\",\"\",Data!#REF!)","v":{"$error":"#REF!"}},{"$f":"IF(Data!#REF!=\"\",\"\",Data!#REF!)","v":{"$error":"#REF!"}},{"$f":"IF(Data!#REF!=\"\",\"\",Data!#REF!)","v":{"$error":"#REF!"}},{"$f":"IF(Data!#REF!=\"\",\"\",Data!#REF!)","v":{"$error":"#REF!"}},{"$error":"#REF!"},{"$error":"#REF!"},{"$error":"#REF!"}]
[{"$f":"IF(Data!#REF!=\"\",\"\",Data!#REF!)","v":{"$error":"#REF!"}},{"$f":"IF(Data!#REF!=\"\",\"\",Data!#REF!)","v":{"$error":"#REF!"}},{"$f":"IF(Data!#REF!=\"\",\"\",Data!#REF!)","v":{"$error":"#REF!"}},{"$f":"IF(Data!#REF!=\"\",\"\",Data!#REF!)","v":{"$error":"#REF!"}},{"$f":"IF(Data!#REF!=\"\",\"\",Data!#REF!)","v":{"$error":"#REF!"}},{"$error":"#REF!"},{"$error":"#REF!"},{"$error":"#REF!"}]
[{"$f":"IF(Data!#REF!=\"\",\"\",Data!#REF!)","v":{"$error":"#REF!"}},{"$f":"IF(Data!#REF!=\"\",\"\",Data!#REF!)","v":{"$error":"#REF!"}},{"$f":"IF(Data!#REF!=\"\",\"\",Data!#REF!)","v":{"$error":"#REF!"}},{"$f":"IF(Data!#REF!=\"\",\"\",Data!#REF!)","v":{"$error":"#REF!"}},{"$f":"IF(Data!#REF!=\"\",\"\",Data!#REF!)","v":{"$error":"#REF!"}},{"$error":"#REF!"},{"$error":"#REF!"},{"$error":"#REF!"}]
[{"$f":"IF(Data!#REF!=\"\",\"\",Data!#REF!)","v":{"$error":"#REF!"}},{"$f":"IF(Data!#REF!=\"\",\"\",Data!#REF!)","v":{"$error":"#REF!"}},{"$f":"IF(Data!#REF!=\"\",\"\",Data!#REF!)","v":{"$error":"#REF!"}},{"$f":"IF(Data!#REF!=\"\",\"\",Data!#REF!)","v":{"$error":"#REF!"}},{"$f":"IF(Data!#REF!=\"\",\"\",Data!#REF!)","v":{"$error":"#REF!"}},{"$error":"#REF!"},{"$error":"#REF!"},{"$error":"#REF!"}]
[{"$f":"IF(Data!#REF!=\"\",\"\",Data!#REF!)","v":{"$error":"#REF!"}},{"$f":"IF(Data!#REF!=\"\",\"\",Data!#REF!)","v":{"$error":"#REF!"}},{"$f":"IF(Data!#REF!=\"\",\"\",Data!#REF!)","v":{"$error":"#REF!"}},{"$f":"IF(Data!#REF!=\"\",\"\",Data!#REF!)","v":{"$error":"#REF!"}},{"$f":"IF(Data!#REF!=\"\",\"\",Data!#REF!)","v":{"$error":"#REF!"}},{"$error":"#REF!"},{"$error":"#REF!"},{"$error":"#REF!"}]
[{"$f":"IF(Data!#REF!=\"\",\"\",Data!#REF!)","v":{"$error":"#REF!"}},{"$f":"IF(Data!#REF!=\"\",\"\",Data!#REF!)","v":{"$error":"#REF!"}},{"$f":"IF(Data!#REF!=\"\",\"\",Data!#REF!)","v":{"$error":"#REF!"}},{"$f":"IF(Data!#REF!=\"\",\"\",Data!#REF!)","v":{"$error":"#REF!"}},{"$f":"IF(Data!#REF!=\"\",\"\",Data!#REF!)","v":{"$error":"#REF!"}},{"$error":"#REF!"},{"$error":"#REF!"},{"$error":"#REF!"}]
[{"$f":"IF(Data!#REF!=\"\",\"\",Data!#REF!)","v":{"$error":"#REF!"}},{"$f":"IF(Data!#REF!=\"\",\"\",Data!#REF!)","v":{"$error":"#REF!"}},{"$f":"IF(Data!#REF!=\"\",\"\",Data!#REF!)","v":{"$error":"#REF!"}},{"$f":"IF(Data!#REF!=\"\",\"\",Data!#REF!)","v":{"$error":"#REF!"}},{"$f":"IF(Data!#REF!=\"\",\"\",Data!#REF!)","v":{"$error":"#REF!"}},{"$error":"#REF!"},{"$error":"#REF!"},{"$error":"#REF!"}]
[{"$f":"IF(Data!#REF!=\"\",\"\",Data!#REF!)","v":{"$error":"#REF!"}},{"$f":"IF(Data!#REF!=\"\",\"\",Data!#REF!)","v":{"$error":"#REF!"}},{"$f":"IF(Data!#REF!=\"\",\"\",Data!#REF!)","v":{"$error":"#REF!"}},{"$f":"IF(Data!#REF!=\"\",\"\",Data!#REF!)","v":{"$error":"#REF!"}},{"$f":"IF(Data!#REF!=\"\",\"\",Data!#REF!)","v":{"$error":"#REF!"}},{"$error":"#REF!"},{"$error":"#REF!"},{"$error":"#REF!"}]
[{"$f":"IF(Data!#REF!=\"\",\"\",Data!#REF!)","v":{"$error":"#REF!"}},{"$f":"IF(Data!#REF!=\"\",\"\",Data!#REF!)","v":{"$error":"#REF!"}},{"$f":"IF(Data!#REF!=\"\",\"\",Data!#REF!)","v":{"$error":"#REF!"}},{"$f":"IF(Data!#REF!=\"\",\"\",Data!#REF!)","v":{"$error":"#REF!"}},{"$f":"IF(Data!#REF!=\"\",\"\",Data!#REF!)","v":{"$error":"#REF!"}},{"$error":"#REF!"},{"$error":"#REF!"},{"$error":"#REF!"}]
[{"$f":"IF(Data!#REF!=\"\",\"\",Data!#REF!)","v":{"$error":"#REF!"}},{"$f":"IF(Data!#REF!=\"\",\"\",Data!#REF!)","v":{"$error":"#REF!"}},{"$f":"IF(Data!#REF!=\"\",\"\",Data!#REF!)","v":{"$error":"#REF!"}},{"$f":"IF(Data!#REF!=\"\",\"\",Data!#REF!)","v":{"$error":"#REF!"}},{"$f":"IF(Data!#REF!=\"\",\"\",Data!#REF!)","v":{"$error":"#REF!"}},{"$error":"#REF!"},{"$error":"#REF!"},{"$error":"#REF!"}]
[{"$f":"IF(Data!#REF!=\"\",\"\",Data!#REF!)","v":{"$error":"#REF!"}},{"$f":"IF(Data!#REF!=\"\",\"\",Data!#REF!)","v":{"$error":"#REF!"}},{"$f":"IF(Data!#REF!=\"\",\"\",Data!#REF!)","v":{"$error":"#REF!"}},{"$f":"IF(Data!#REF!=\"\",\"\",Data!#REF!)","v":{"$error":"#REF!"}},{"$f":"IF(Data!#REF!=\"\",\"\",Data!#REF!)","v":{"$error":"#REF!"}},{"$error":"#REF!"},{"$error":"#REF!"},{"$error":"#REF!"}]
[{"$f":"IF(Data!#REF!=\"\",\"\",Data!#REF!)","v":{"$error":"#REF!"}},{"$f":"IF(Data!#REF!=\"\",\"\",Data!#REF!)","v":{"$error":"#REF!"}},{"$f":"IF(Data!#REF!=\"\",\"\",Data!#REF!)","v":{"$error":"#REF!"}},{"$f":"IF(Data!#REF!=\"\",\"\",Data!#REF!)","v":{"$error":"#REF!"}},{"$f":"IF(Data!#REF!=\"\",\"\",Data!#REF!)","v":{"$error":"#REF!"}},{"$error":"#REF!"},{"$error":"#REF!"},{"$error":"#REF!"}]
[{"$f":"IF(Data!#REF!=\"\",\"\",Data!#REF!)","v":{"$error":"#REF!"}},{"$f":"IF(Data!#REF!=\"\",\"\",Data!#REF!)","v":{"$error":"#REF!"}},{"$f":"IF(Data!#REF!=\"\",\"\",Data!#REF!)","v":{"$error":"#REF!"}},{"$f":"IF(Data!#REF!=\"\",\"\",Data!#REF!)","v":{"$error":"#REF!"}},{"$f":"IF(Data!#REF!=\"\",\"\",Data!#REF!)","v":{"$error":"#REF!"}},{"$error":"#REF!"},{"$error":"#REF!"},{"$error":"#REF!"}]
[{"$f":"IF(Data!#REF!=\"\",\"\",Data!#REF!)","v":{"$error":"#REF!"}},{"$f":"IF(Data!#REF!=\"\",\"\",Data!#REF!)","v":{"$error":"#REF!"}},{"$f":"IF(Data!#REF!=\"\",\"\",Data!#REF!)","v":{"$error":"#REF!"}},{"$f":"IF(Data!#REF!=\"\",\"\",Data!#REF!)","v":{"$error":"#REF!"}},{"$f":"IF(Data!#REF!=\"\",\"\",Data!#REF!)","v":{"$error":"#REF!"}},{"$error":"#REF!"},{"$error":"#REF!"},{"$error":"#REF!"}]
[{"$f":"IF(Data!#REF!=\"\",\"\",Data!#REF!)","v":{"$error":"#REF!"}},{"$f":"IF(Data!#REF!=\"\",\"\",Data!#REF!)","v":{"$error":"#REF!"}},{"$f":"IF(Data!#REF!=\"\",\"\",Data!#REF!)","v":{"$error":"#REF!"}},{"$f":"IF(Data!#REF!=\"\",\"\",Data!#REF!)","v":{"$error":"#REF!"}},{"$f":"IF(Data!#REF!=\"\",\"\",Data!#REF!)","v":{"$error":"#REF!"}},{"$error":"#REF!"},{"$error":"#REF!"},{"$error":"#REF!"}]
[{"$f":"IF(Data!#REF!=\"\",\"\",Data!#REF!)","v":{"$error":"#REF!"}},{"$f":"IF(Data!#REF!=\"\",\"\",Data!#REF!)","v":{"$error":"#REF!"}},{"$f":"IF(Data!#REF!=\"\",\"\",Data!#REF!)","v":{"$error":"#REF!"}},{"$f":"IF(Data!#REF!=\"\",\"\",Data!#REF!)","v":{"$error":"#REF!"}},{"$f":"IF(Data!#REF!=\"\",\"\",Data!#REF!)","v":{"$error":"#REF!"}},{"$error":"#REF!"},{"$error":"#REF!"},{"$error":"#REF!"}]
[{"$f":"IF(Data!#REF!=\"\",\"\",Data!#REF!)","v":{"$error":"#REF!"}},{"$f":"IF(Data!#REF!=\"\",\"\",Data!#REF!)","v":{"$error":"#REF!"}},{"$f":"IF(Data!#REF!=\"\",\"\",Data!#REF!)","v":{"$error":"#REF!"}},{"$f":"IF(Data!#REF!=\"\",\"\",Data!#REF!)","v":{"$error":"#REF!"}},{"$f":"IF(Data!#REF!=\"\",\"\",Data!#REF!)","v":{"$error":"#REF!"}},{"$error":"#REF!"},{"$error":"#REF!"},{"$error":"#REF!"}]
[{"$f":"IF(Data!#REF!=\"\",\"\",Data!#REF!)","v":{"$error":"#REF!"}},{"$f":"IF(Data!#REF!=\"\",\"\",Data!#REF!)","v":{"$error":"#REF!"}},{"$f":"IF(Data!#REF!=\"\",\"\",Data!#REF!)","v":{"$error":"#REF!"}},{"$f":"IF(Data!#REF!=\"\",\"\",Data!#REF!)","v":{"$error":"#REF!"}},{"$f":"IF(Data!#REF!=\"\",\"\",Data!#REF!)","v":{"$error":"#REF!"}},{"$error":"#REF!"},{"$error":"#REF!"},{"$error":"#REF!"}]
[{"$f":"IF(Data!#REF!=\"\",\"\",Data!#REF!)","v":{"$error":"#REF!"}},{"$f":"IF(Data!#REF!=\"\",\"\",Data!#REF!)","v":{"$error":"#REF!"}},{"$f":"IF(Data!#REF!=\"\",\"\",Data!#REF!)","v":{"$error":"#REF!"}},{"$f":"IF(Data!#REF!=\"\",\"\",Data!#REF!)","v":{"$error":"#REF!"}},{"$f":"IF(Data!#REF!=\"\",\"\",Data!#REF!)","v":{"$error":"#REF!"}},{"$error":"#REF!"},{"$error":"#REF!"},{"$error":"#REF!"}]
[{"$f":"IF(Data!#REF!=\"\",\"\",Data!#REF!)","v":{"$error":"#REF!"}},{"$f":"IF(Data!#REF!=\"\",\"\",Data!#REF!)","v":{"$error":"#REF!"}},{"$f":"IF(Data!#REF!=\"\",\"\",Data!#REF!)","v":{"$error":"#REF!"}},{"$f":"IF(Data!#REF!=\"\",\"\",Data!#REF!)","v":{"$error":"#REF!"}},{"$f":"IF(Data!#REF!=\"\",\"\",Data!#REF!)","v":{"$error":"#REF!"}},{"$error":"#REF!"},{"$error":"#REF!"},{"$error":"#REF!"}]
[{"$f":"IF(Data!#REF!=\"\",\"\",Data!#REF!)","v":{"$error":"#REF!"}},{"$f":"IF(Data!#REF!=\"\",\"\",Data!#REF!)","v":{"$error":"#REF!"}},{"$f":"IF(Data!#REF!=\"\",\"\",Data!#REF!)","v":{"$error":"#REF!"}},{"$f":"IF(Data!#REF!=\"\",\"\",Data!#REF!)","v":{"$error":"#REF!"}},{"$f":"IF(Data!#REF!=\"\",\"\",Data!#REF!)","v":{"$error":"#REF!"}},{"$error":"#REF!"},{"$error":"#REF!"},{"$error":"#REF!"}]
[{"$f":"IF(Data!#REF!=\"\",\"\",Data!#REF!)","v":{"$error":"#REF!"}},{"$f":"IF(Data!#REF!=\"\",\"\",Data!#REF!)","v":{"$error":"#REF!"}},{"$f":"IF(Data!#REF!=\"\",\"\",Data!#REF!)","v":{"$error":"#REF!"}},{"$f":"IF(Data!#REF!=\"\",\"\",Data!#REF!)","v":{"$error":"#REF!"}},{"$f":"IF(Data!#REF!=\"\",\"\",Data!#REF!)","v":{"$error":"#REF!"}},{"$error":"#REF!"},{"$error":"#REF!"},{"$error":"#REF!"}]
[{"$f":"IF(Data!#REF!=\"\",\"\",Data!#REF!)","v":{"$error":"#REF!"}},{"$f":"IF(Data!#REF!=\"\",\"\",Data!#REF!)","v":{"$error":"#REF!"}},{"$f":"IF(Data!#REF!=\"\",\"\",Data!#REF!)","v":{"$error":"#REF!"}},{"$f":"IF(Data!#REF!=\"\",\"\",Data!#REF!)","v":{"$error":"#REF!"}},{"$f":"IF(Data!#REF!=\"\",\"\",Data!#REF!)","v":{"$error":"#REF!"}},{"$error":"#REF!"},{"$error":"#REF!"},{"$error":"#REF!"}]
[{"$f":"IF(Data!#REF!=\"\",\"\",Data!#REF!)","v":{"$error":"#REF!"}},{"$f":"IF(Data!#REF!=\"\",\"\",Data!#REF!)","v":{"$error":"#REF!"}},{"$f":"IF(Data!#REF!=\"\",\"\",Data!#REF!)","v":{"$error":"#REF!"}},{"$f":"IF(Data!#REF!=\"\",\"\",Data!#REF!)","v":{"$error":"#REF!"}},{"$f":"IF(Data!#REF!=\"\",\"\",Data!#REF!)","v":{"$error":"#REF!"}},{"$error":"#REF!"},{"$error":"#REF!"},{"$error":"#REF!"}]
[{"$f":"IF(Data!#REF!=\"\",\"\",Data!#REF!)","v":{"$error":"#REF!"}},{"$f":"IF(Data!#REF!=\"\",\"\",Data!#REF!)","v":{"$error":"#REF!"}},{"$f":"IF(Data!#REF!=\"\",\"\",Data!#REF!)","v":{"$error":"#REF!"}},{"$f":"IF(Data!#REF!=\"\",\"\",Data!#REF!)","v":{"$error":"#REF!"}},{"$f":"IF(Data!#REF!=\"\",\"\",Data!#REF!)","v":{"$error":"#REF!"}},{"$error":"#REF!"},{"$error":"#REF!"},{"$error":"#REF!"}]
[{"$f":"IF(Data!#REF!=\"\",\"\",Data!#REF!)","v":{"$error":"#REF!"}},{"$f":"IF(Data!#REF!=\"\",\"\",Data!#REF!)","v":{"$error":"#REF!"}},{"$f":"IF(Data!#REF!=\"\",\"\",Data!#REF!)","v":{"$error":"#REF!"}},{"$f":"IF(Data!#REF!=\"\",\"\",Data!#REF!)","v":{"$error":"#REF!"}},{"$f":"IF(Data!#REF!=\"\",\"\",Data!#REF!)","v":{"$error":"#REF!"}},{"$error":"#REF!"},{"$error":"#REF!"},{"$error":"#REF!"}]
[{"$f":"IF(Data!#REF!=\"\",\"\",Data!#REF!)","v":{"$error":"#REF!"}},{"$f":"IF(Data!#REF!=\"\",\"\",Data!#REF!)","v":{"$error":"#REF!"}},{"$f":"IF(Data!#REF!=\"\",\"\",Data!#REF!)","v":{"$error":"#REF!"}},{"$f":"IF(Data!#REF!=\"\",\"\",Data!#REF!)","v":{"$error":"#REF!"}},{"$f":"IF(Data!#REF!=\"\",\"\",Data!#REF!)","v":{"$error":"#REF!"}},{"$error":"#REF!"},{"$error":"#REF!"},{"$error":"#REF!"}]
[{"$f":"IF(Data!#REF!=\"\",\"\",Data!#REF!)","v":{"$error":"#REF!"}},{"$f":"IF(Data!#REF!=\"\",\"\",Data!#REF!)","v":{"$error":"#REF!"}},{"$f":"IF(Data!#REF!=\"\",\"\",Data!#REF!)","v":{"$error":"#REF!"}},{"$f":"IF(Data!#REF!=\"\",\"\",Data!#REF!)","v":{"$error":"#REF!"}},{"$f":"IF(Data!#REF!=\"\",\"\",Data!#REF!)","v":{"$error":"#REF!"}},{"$error":"#REF!"},{"$error":"#REF!"},{"$error":"#REF!"}]
[{"$f":"IF(Data!#REF!=\"\",\"\",Data!#REF!)","v":{"$error":"#REF!"}},{"$f":"IF(Data!#REF!=\"\",\"\",Data!#REF!)","v":{"$error":"#REF!"}},{"$f":"IF(Data!#REF!=\"\",\"\",Data!#REF!)","v":{"$error":"#REF!"}},{"$f":"IF(Data!#REF!=\"\",\"\",Data!#REF!)","v":{"$error":"#REF!"}},{"$f":"IF(Data!#REF!=\"\",\"\",Data!#REF!)","v":{"$error":"#REF!"}},{"$error":"#REF!"},{"$error":"#REF!"},{"$error":"#REF!"}]
[{"$f":"IF(Data!#REF!=\"\",\"\",Data!#REF!)","v":{"$error":"#REF!"}},{"$f":"IF(Data!#REF!=\"\",\"\",Data!#REF!)","v":{"$error":"#REF!"}},{"$f":"IF(Data!#REF!=\"\",\"\",Data!#REF!)","v":{"$error":"#REF!"}},{"$f":"IF(Data!#REF!=\"\",\"\",Data!#REF!)","v":{"$error":"#REF!"}},{"$f":"IF(Data!#REF!=\"\",\"\",Data!#REF!)","v":{"$error":"#REF!"}},{"$error":"#REF!"},{"$error":"#REF!"},{"$error":"#REF!"}]
[{"$f":"IF(Data!#REF!=\"\",\"\",Data!#REF!)","v":{"$error":"#REF!"}},{"$f":"IF(Data!#REF!=\"\",\"\",Data!#REF!)","v":{"$error":"#REF!"}},{"$f":"IF(Data!#REF!=\"\",\"\",Data!#REF!)","v":{"$error":"#REF!"}},{"$f":"IF(Data!#REF!=\"\",\"\",Data!#REF!)","v":{"$error":"#REF!"}},{"$f":"IF(Data!#REF!=\"\",\"\",Data!#REF!)","v":{"$error":"#REF!"}},{"$error":"#REF!"},{"$error":"#REF!"},{"$error":"#REF!"}]
[{"$f":"IF(Data!#REF!=\"\",\"\",Data!#REF!)","v":{"$error":"#REF!"}},{"$f":"IF(Data!#REF!=\"\",\"\",Data!#REF!)","v":{"$error":"#REF!"}},{"$f":"IF(Data!#REF!=\"\",\"\",Data!#REF!)","v":{"$error":"#REF!"}},{"$f":"IF(Data!#REF!=\"\",\"\",Data!#REF!)","v":{"$error":"#REF!"}},{"$f":"IF(Data!#REF!=\"\",\"\",Data!#REF!)","v":{"$error":"#REF!"}},{"$error":"#REF!"},{"$error":"#REF!"},{"$error":"#REF!"}]
[{"$f":"IF(Data!#REF!=\"\",\"\",Data!#REF!)","v":{"$error":"#REF!"}},{"$f":"IF(Data!#REF!=\"\",\"\",Data!#REF!)","v":{"$error":"#REF!"}},{"$f":"IF(Data!#REF!=\"\",\"\",Data!#REF!)","v":{"$error":"#REF!"}},{"$f":"IF(Data!#REF!=\"\",\"\",Data!#REF!)","v":{"$error":"#REF!"}},{"$f":"IF(Data!#REF!=\"\",\"\",Data!#REF!)","v":{"$error":"#REF!"}},{"$error":"#REF!"},{"$error":"#REF!"},{"$error":"#REF!"}]
[{"$f":"IF(Data!#REF!=\"\",\"\",Data!#REF!)","v":{"$error":"#REF!"}},{"$f":"IF(Data!#REF!=\"\",\"\",Data!#REF!)","v":{"$error":"#REF!"}},{"$f":"IF(Data!#REF!=\"\",\"\",Data!#REF!)","v":{"$error":"#REF!"}},{"$f":"IF(Data!#REF!=\"\",\"\",Data!#REF!)","v":{"$error":"#REF!"}},{"$f":"IF(Data!#REF!=\"\",\"\",Data!#REF!)","v":{"$error":"#REF!"}},{"$error":"#REF!"},{"$error":"#REF!"},{"$error":"#REF!"}]
[{"$f":"IF(Data!#REF!=\"\",\"\",Data!#REF!)","v":{"$error":"#REF!"}},{"$f":"IF(Data!#REF!=\"\",\"\",Data!#REF!)","v":{"$error":"#REF!"}},{"$f":"IF(Data!#REF!=\"\",\"\",Data!#REF!)","v":{"$error":"#REF!"}},{"$f":"IF(Data!#REF!=\"\",\"\",Data!#REF!)","v":{"$error":"#REF!"}},{"$f":"IF(Data!#REF!=\"\",\"\",Data!#REF!)","v":{"$error":"#REF!"}},{"$error":"#REF!"},{"$error":"#REF!"},{"$error":"#REF!"}]
[{"$f":"IF(Data!#REF!=\"\",\"\",Data!#REF!)","v":{"$error":"#REF!"}},{"$f":"IF(Data!#REF!=\"\",\"\",Data!#REF!)","v":{"$error":"#REF!"}},{"$f":"IF(Data!#REF!=\"\",\"\",Data!#REF!)","v":{"$error":"#REF!"}},{"$f":"IF(Data!#REF!=\"\",\"\",Data!#REF!)","v":{"$error":"#REF!"}},{"$f":"IF(Data!#REF!=\"\",\"\",Data!#REF!)","v":{"$error":"#REF!"}},{"$error":"#REF!"},{"$error":"#REF!"},{"$error":"#REF!"}]
[{"$f":"IF(Data!#REF!=\"\",\"\",Data!#REF!)","v":{"$error":"#REF!"}},{"$f":"IF(Data!#REF!=\"\",\"\",Data!#REF!)","v":{"$error":"#REF!"}},{"$f":"IF(Data!#REF!=\"\",\"\",Data!#REF!)","v":{"$error":"#REF!"}},{"$f":"IF(Data!#REF!=\"\",\"\",Data!#REF!)","v":{"$error":"#REF!"}},{"$f":"IF(Data!#REF!=\"\",\"\",Data!#REF!)","v":{"$error":"#REF!"}},{"$error":"#REF!"},{"$error":"#REF!"},{"$error":"#REF!"}]
[{"$f":"IF(Data!#REF!=\"\",\"\",Data!#REF!)","v":{"$error":"#REF!"}},{"$f":"IF(Data!#REF!=\"\",\"\",Data!#REF!)","v":{"$error":"#REF!"}},{"$f":"IF(Data!#REF!=\"\",\"\",Data!#REF!)","v":{"$error":"#REF!"}},{"$f":"IF(Data!#REF!=\"\",\"\",Data!#REF!)","v":{"$error":"#REF!"}},{"$f":"IF(Data!#REF!=\"\",\"\",Data!#REF!)","v":{"$error":"#REF!"}},{"$error":"#REF!"},{"$error":"#REF!"},{"$error":"#REF!"}]
[{"$f":"IF(Data!#REF!=\"\",\"\",Data!#REF!)","v":{"$error":"#REF!"}},{"$f":"IF(Data!#REF!=\"\",\"\",Data!#REF!)","v":{"$error":"#REF!"}},{"$f":"IF(Data!#REF!=\"\",\"\",Data!#REF!)","v":{"$error":"#REF!"}},{"$f":"IF(Data!#REF!=\"\",\"\",Data!#REF!)","v":{"$error":"#REF!"}},{"$f":"IF(Data!#REF!=\"\",\"\",Data!#REF!)","v":{"$error":"#REF!"}},{"$error":"#REF!"},{"$error":"#REF!"},{"$error":"#REF!"}]
[{"$f":"IF(Data!#REF!=\"\",\"\",Data!#REF!)","v":{"$error":"#REF!"}},{"$f":"IF(Data!#REF!=\"\",\"\",Data!#REF!)","v":{"$error":"#REF!"}},{"$f":"IF(Data!#REF!=\"\",\"\",Data!#REF!)","v":{"$error":"#REF!"}},{"$f":"IF(Data!#REF!=\"\",\"\",Data!#REF!)","v":{"$error":"#REF!"}},{"$f":"IF(Data!#REF!=\"\",\"\",Data!#REF!)","v":{"$error":"#REF!"}},{"$error":"#REF!"},{"$error":"#REF!"},{"$error":"#REF!"}]
[{"$f":"IF(Data!#REF!=\"\",\"\",Data!#REF!)","v":{"$error":"#REF!"}},{"$f":"IF(Data!#REF!=\"\",\"\",Data!#REF!)","v":{"$error":"#REF!"}},{"$f":"IF(Data!#REF!=\"\",\"\",Data!#REF!)","v":{"$error":"#REF!"}},{"$f":"IF(Data!#REF!=\"\",\"\",Data!#REF!)","v":{"$error":"#REF!"}},{"$f":"IF(Data!#REF!=\"\",\"\",Data!#REF!)","v":{"$error":"#REF!"}},{"$error":"#REF!"},{"$error":"#REF!"},{"$error":"#REF!"}]
[{"$f":"IF(Data!#REF!=\"\",\"\",Data!#REF!)","v":{"$error":"#REF!"}},{"$f":"IF(Data!#REF!=\"\",\"\",Data!#REF!)","v":{"$error":"#REF!"}},{"$f":"IF(Data!#REF!=\"\",\"\",Data!#REF!)","v":{"$error":"#REF!"}},{"$f":"IF(Data!#REF!=\"\",\"\",Data!#REF!)","v":{"$error":"#REF!"}},{"$f":"IF(Data!#REF!=\"\",\"\",Data!#REF!)","v":{"$error":"#REF!"}},{"$error":"#REF!"},{"$error":"#REF!"},{"$error":"#REF!"}]
[{"$f":"IF(Data!#REF!=\"\",\"\",Data!#REF!)","v":{"$error":"#REF!"}},{"$f":"IF(Data!#REF!=\"\",\"\",Data!#REF!)","v":{"$error":"#REF!"}},{"$f":"IF(Data!#REF!=\"\",\"\",Data!#REF!)","v":{"$error":"#REF!"}},{"$f":"IF(Data!#REF!=\"\",\"\",Data!#REF!)","v":{"$error":"#REF!"}},{"$f":"IF(Data!#REF!=\"\",\"\",Data!#REF!)","v":{"$error":"#REF!"}},{"$error":"#REF!"},{"$error":"#REF!"},{"$error":"#REF!"}]
[{"$f":"IF(Data!#REF!=\"\",\"\",Data!#REF!)","v":{"$error":"#REF!"}},{"$f":"IF(Data!#REF!=\"\",\"\",Data!#REF!)","v":{"$error":"#REF!"}},{"$f":"IF(Data!#REF!=\"\",\"\",Data!#REF!)","v":{"$error":"#REF!"}},{"$f":"IF(Data!#REF!=\"\",\"\",Data!#REF!)","v":{"$error":"#REF!"}},{"$f":"IF(Data!#REF!=\"\",\"\",Data!#REF!)","v":{"$error":"#REF!"}},{"$error":"#REF!"},{"$error":"#REF!"},{"$error":"#REF!"}]
[{"$f":"IF(Data!#REF!=\"\",\"\",Data!#REF!)","v":{"$error":"#REF!"}},{"$f":"IF(Data!#REF!=\"\",\"\",Data!#REF!)","v":{"$error":"#REF!"}},{"$f":"IF(Data!#REF!=\"\",\"\",Data!#REF!)","v":{"$error":"#REF!"}},{"$f":"IF(Data!#REF!=\"\",\"\",Data!#REF!)","v":{"$error":"#REF!"}},{"$f":"IF(Data!#REF!=\"\",\"\",Data!#REF!)","v":{"$error":"#REF!"}},{"$error":"#REF!"},{"$error":"#REF!"},{"$error":"#REF!"}]
[{"$f":"IF(Data!#REF!=\"\",\"\",Data!#REF!)","v":{"$error":"#REF!"}},{"$f":"IF(Data!#REF!=\"\",\"\",Data!#REF!)","v":{"$error":"#REF!"}},{"$f":"IF(Data!#REF!=\"\",\"\",Data!#REF!)","v":{"$error":"#REF!"}},{"$f":"IF(Data!#REF!=\"\",\"\",Data!#REF!)","v":{"$error":"#REF!"}},{"$f":"IF(Data!#REF!=\"\",\"\",Data!#REF!)","v":{"$error":"#REF!"}},{"$error":"#REF!"},{"$error":"#REF!"},{"$error":"#REF!"}]
[{"$f":"IF(Data!#REF!=\"\",\"\",Data!#REF!)","v":{"$error":"#REF!"}},{"$f":"IF(Data!#REF!=\"\",\"\",Data!#REF!)","v":{"$error":"#REF!"}},{"$f":"IF(Data!#REF!=\"\",\"\",Data!#REF!)","v":{"$error":"#REF!"}},{"$f":"IF(Data!#REF!=\"\",\"\",Data!#REF!)","v":{"$error":"#REF!"}},{"$f":"IF(Data!#REF!=\"\",\"\",Data!#REF!)","v":{"$error":"#REF!"}},{"$error":"#REF!"},{"$error":"#REF!"},{"$error":"#REF!"}]
[{"$f":"IF(Data!#REF!=\"\",\"\",Data!#REF!)","v":{"$error":"#REF!"}},{"$f":"IF(Data!#REF!=\"\",\"\",Data!#REF!)","v":{"$error":"#REF!"}},{"$f":"IF(Data!#REF!=\"\",\"\",Data!#REF!)","v":{"$error":"#REF!"}},{"$f":"IF(Data!#REF!=\"\",\"\",Data!#REF!)","v":{"$error":"#REF!"}},{"$f":"IF(Data!#REF!=\"\",\"\",Data!#REF!)","v":{"$error":"#REF!"}},{"$error":"#REF!"},{"$error":"#REF!"},{"$error":"#REF!"}]
[{"$f":"IF(Data!#REF!=\"\",\"\",Data!#REF!)","v":{"$error":"#REF!"}},{"$f":"IF(Data!#REF!=\"\",\"\",Data!#REF!)","v":{"$error":"#REF!"}},{"$f":"IF(Data!#REF!=\"\",\"\",Data!#REF!)","v":{"$error":"#REF!"}},{"$f":"IF(Data!#REF!=\"\",\"\",Data!#REF!)","v":{"$error":"#REF!"}},{"$f":"IF(Data!#REF!=\"\",\"\",Data!#REF!)","v":{"$error":"#REF!"}},{"$error":"#REF!"},{"$error":"#REF!"},{"$error":"#REF!"}]
[{"$f":"IF(Data!#REF!=\"\",\"\",Data!#REF!)","v":{"$error":"#REF!"}},{"$f":"IF(Data!#REF!=\"\",\"\",Data!#REF!)","v":{"$error":"#REF!"}},{"$f":"IF(Data!#REF!=\"\",\"\",Data!#REF!)","v":{"$error":"#REF!"}},{"$f":"IF(Data!#REF!=\"\",\"\",Data!#REF!)","v":{"$error":"#REF!"}},{"$f":"IF(Data!#REF!=\"\",\"\",Data!#REF!)","v":{"$error":"#REF!"}},{"$error":"#REF!"},{"$error":"#REF!"},{"$error":"#REF!"}]
[{"$f":"IF(Data!#REF!=\"\",\"\",Data!#REF!)","v":{"$error":"#REF!"}},{"$f":"IF(Data!#REF!=\"\",\"\",Data!#REF!)","v":{"$error":"#REF!"}},{"$f":"IF(Data!#REF!=\"\",\"\",Data!#REF!)","v":{"$error":"#REF!"}},{"$f":"IF(Data!#REF!=\"\",\"\",Data!#REF!)","v":{"$error":"#REF!"}},{"$f":"IF(Data!#REF!=\"\",\"\",Data!#REF!)","v":{"$error":"#REF!"}},{"$error":"#REF!"},{"$error":"#REF!"},{"$error":"#REF!"}]
[{"$f":"IF(Data!#REF!=\"\",\"\",Data!#REF!)","v":{"$error":"#REF!"}},{"$f":"IF(Data!#REF!=\"\",\"\",Data!#REF!)","v":{"$error":"#REF!"}},{"$f":"IF(Data!#REF!=\"\",\"\",Data!#REF!)","v":{"$error":"#REF!"}},{"$f":"IF(Data!#REF!=\"\",\"\",Data!#REF!)","v":{"$error":"#REF!"}},{"$f":"IF(Data!#REF!=\"\",\"\",Data!#REF!)","v":{"$error":"#REF!"}},{"$error":"#REF!"},{"$error":"#REF!"},{"$error":"#REF!"}]
[{"$f":"IF(Data!#REF!=\"\",\"\",Data!#REF!)","v":{"$error":"#REF!"}},{"$f":"IF(Data!#REF!=\"\",\"\",Data!#REF!)","v":{"$error":"#REF!"}},{"$f":"IF(Data!#REF!=\"\",\"\",Data!#REF!)","v":{"$error":"#REF!"}},{"$f":"IF(Data!#REF!=\"\",\"\",Data!#REF!)","v":{"$error":"#REF!"}},{"$f":"IF(Data!#REF!=\"\",\"\",Data!#REF!)","v":{"$error":"#REF!"}},{"$error":"#REF!"},{"$error":"#REF!"},{"$error":"#REF!"}]
[{"$f":"IF(Data!#REF!=\"\",\"\",Data!#REF!)","v":{"$error":"#REF!"}},{"$f":"IF(Data!#REF!=\"\",\"\",Data!#REF!)","v":{"$error":"#REF!"}},{"$f":"IF(Data!#REF!=\"\",\"\",Data!#REF!)","v":{"$error":"#REF!"}},{"$f":"IF(Data!#REF!=\"\",\"\",Data!#REF!)","v":{"$error":"#REF!"}},{"$f":"IF(Data!#REF!=\"\",\"\",Data!#REF!)","v":{"$error":"#REF!"}},{"$error":"#REF!"},{"$error":"#REF!"},{"$error":"#REF!"}]
[{"$f":"IF(Data!#REF!=\"\",\"\",Data!#REF!)","v":{"$error":"#REF!"}},{"$f":"IF(Data!#REF!=\"\",\"\",Data!#REF!)","v":{"$error":"#REF!"}},{"$f":"IF(Data!#REF!=\"\",\"\",Data!#REF!)","v":{"$error":"#REF!"}},{"$f":"IF(Data!#REF!=\"\",\"\",Data!#REF!)","v":{"$error":"#REF!"}},{"$f":"IF(Data!#REF!=\"\",\"\",Data!#REF!)","v":{"$error":"#REF!"}},{"$error":"#REF!"},{"$error":"#REF!"},{"$error":"#REF!"}]
[{"$f":"IF(Data!#REF!=\"\",\"\",Data!#REF!)","v":{"$error":"#REF!"}},{"$f":"IF(Data!#REF!=\"\",\"\",Data!#REF!)","v":{"$error":"#REF!"}},{"$f":"IF(Data!#REF!=\"\",\"\",Data!#REF!)","v":{"$error":"#REF!"}},{"$f":"IF(Data!#REF!=\"\",\"\",Data!#REF!)","v":{"$error":"#REF!"}},{"$f":"IF(Data!#REF!=\"\",\"\",Data!#REF!)","v":{"$error":"#REF!"}},{"$error":"#REF!"},{"$error":"#REF!"},{"$error":"#REF!"}]
[{"$f":"IF(Data!#REF!=\"\",\"\",Data!#REF!)","v":{"$error":"#REF!"}},{"$f":"IF(Data!#REF!=\"\",\"\",Data!#REF!)","v":{"$error":"#REF!"}},{"$f":"IF(Data!#REF!=\"\",\"\",Data!#REF!)","v":{"$error":"#REF!"}},{"$f":"IF(Data!#REF!=\"\",\"\",Data!#REF!)","v":{"$error":"#REF!"}},{"$f":"IF(Data!#REF!=\"\",\"\",Data!#REF!)","v":{"$error":"#REF!"}},{"$error":"#REF!"},{"$error":"#REF!"},{"$error":"#REF!"}]
[{"$f":"IF(Data!#REF!=\"\",\"\",Data!#REF!)","v":{"$error":"#REF!"}},{"$f":"IF(Data!#REF!=\"\",\"\",Data!#REF!)","v":{"$error":"#REF!"}},{"$f":"IF(Data!#REF!=\"\",\"\",Data!#REF!)","v":{"$error":"#REF!"}},{"$f":"IF(Data!#REF!=\"\",\"\",Data!#REF!)","v":{"$error":"#REF!"}},{"$f":"IF(Data!#REF!=\"\",\"\",Data!#REF!)","v":{"$error":"#REF!"}},{"$error":"#REF!"},{"$error":"#REF!"},{"$error":"#REF!"}]
[{"$f":"IF(Data!#REF!=\"\",\"\",Data!#REF!)","v":{"$error":"#REF!"}},{"$f":"IF(Data!#REF!=\"\",\"\",Data!#REF!)","v":{"$error":"#REF!"}},{"$f":"IF(Data!#REF!=\"\",\"\",Data!#REF!)","v":{"$error":"#REF!"}},{"$f":"IF(Data!#REF!=\"\",\"\",Data!#REF!)","v":{"$error":"#REF!"}},{"$f":"IF(Data!#REF!=\"\",\"\",Data!#REF!)","v":{"$error":"#REF!"}},{"$error":"#REF!"},{"$error":"#REF!"},{"$error":"#REF!"}]
[{"$f":"IF(Data!#REF!=\"\",\"\",Data!#REF!)","v":{"$error":"#REF!"}},{"$f":"IF(Data!#REF!=\"\",\"\",Data!#REF!)","v":{"$error":"#REF!"}},{"$f":"IF(Data!#REF!=\"\",\"\",Data!#REF!)","v":{"$error":"#REF!"}},{"$f":"IF(Data!#REF!=\"\",\"\",Data!#REF!)","v":{"$error":"#REF!"}},{"$f":"IF(Data!#REF!=\"\",\"\",Data!#REF!)","v":{"$error":"#REF!"}},{"$error":"#REF!"},{"$error":"#REF!"},{"$error":"#REF!"}]
[{"$f":"IF(Data!#REF!=\"\",\"\",Data!#REF!)","v":{"$error":"#REF!"}},{"$f":"IF(Data!#REF!=\"\",\"\",Data!#REF!)","v":{"$error":"#REF!"}},{"$f":"IF(Data!#REF!=\"\",\"\",Data!#REF!)","v":{"$error":"#REF!"}},{"$f":"IF(Data!#REF!=\"\",\"\",Data!#REF!)","v":{"$error":"#REF!"}},{"$f":"IF(Data!#REF!=\"\",\"\",Data!#REF!)","v":{"$error":"#REF!"}},{"$f":"IF(E1347>0,MONTH(E1347),\"\")","v":{"$error":"#REF!"}},{"$f":"IF(E1347>0,WEEKNUM(E1347),\"0\")","v":{"$error":"#REF!"}},{"$f":"IF(G1347>=($G$2-3),\"Ano\",\"Nie\")","v":{"$error":"#REF!"}}]
[{"$f":"IF(Data!#REF!=\"\",\"\",Data!#REF!)","v":{"$error":"#REF!"}},{"$f":"IF(Data!#REF!=\"\",\"\",Data!#REF!)","v":{"$error":"#REF!"}},{"$f":"IF(Data!#REF!=\"\",\"\",Data!#REF!)","v":{"$error":"#REF!"}},{"$f":"IF(Data!#REF!=\"\",\"\",Data!#REF!)","v":{"$error":"#REF!"}},{"$f":"IF(Data!#REF!=\"\",\"\",Data!#REF!)","v":{"$error":"#REF!"}},{"$error":"#REF!"},{"$error":"#REF!"},{"$error":"#REF!"}]
[{"$f":"IF(Data!#REF!=\"\",\"\",Data!#REF!)","v":{"$error":"#REF!"}},{"$f":"IF(Data!#REF!=\"\",\"\",Data!#REF!)","v":{"$error":"#REF!"}},{"$f":"IF(Data!#REF!=\"\",\"\",Data!#REF!)","v":{"$error":"#REF!"}},{"$f":"IF(Data!#REF!=\"\",\"\",Data!#REF!)","v":{"$error":"#REF!"}},{"$f":"IF(Data!#REF!=\"\",\"\",Data!#REF!)","v":{"$error":"#REF!"}},{"$error":"#REF!"},{"$error":"#REF!"},{"$error":"#REF!"}]
[{"$f":"IF(Data!#REF!=\"\",\"\",Data!#REF!)","v":{"$error":"#REF!"}},{"$f":"IF(Data!#REF!=\"\",\"\",Data!#REF!)","v":{"$error":"#REF!"}},{"$f":"IF(Data!#REF!=\"\",\"\",Data!#REF!)","v":{"$error":"#REF!"}},{"$f":"IF(Data!#REF!=\"\",\"\",Data!#REF!)","v":{"$error":"#REF!"}},{"$f":"IF(Data!#REF!=\"\",\"\",Data!#REF!)","v":{"$error":"#REF!"}},{"$error":"#REF!"},{"$error":"#REF!"},{"$error":"#REF!"}]
[{"$f":"IF(Data!#REF!=\"\",\"\",Data!#REF!)","v":{"$error":"#REF!"}},{"$f":"IF(Data!#REF!=\"\",\"\",Data!#REF!)","v":{"$error":"#REF!"}},{"$f":"IF(Data!#REF!=\"\",\"\",Data!#REF!)","v":{"$error":"#REF!"}},{"$f":"IF(Data!#REF!=\"\",\"\",Data!#REF!)","v":{"$error":"#REF!"}},{"$f":"IF(Data!#REF!=\"\",\"\",Data!#REF!)","v":{"$error":"#REF!"}},{"$error":"#REF!"},{"$error":"#REF!"},{"$error":"#REF!"}]
[{"$f":"IF(Data!#REF!=\"\",\"\",Data!#REF!)","v":{"$error":"#REF!"}},{"$f":"IF(Data!#REF!=\"\",\"\",Data!#REF!)","v":{"$error":"#REF!"}},{"$f":"IF(Data!#REF!=\"\",\"\",Data!#REF!)","v":{"$error":"#REF!"}},{"$f":"IF(Data!#REF!=\"\",\"\",Data!#REF!)","v":{"$error":"#REF!"}},{"$f":"IF(Data!#REF!=\"\",\"\",Data!#REF!)","v":{"$error":"#REF!"}},{"$error":"#REF!"},{"$error":"#REF!"},{"$error":"#REF!"}]
[{"$f":"IF(Data!#REF!=\"\",\"\",Data!#REF!)","v":{"$error":"#REF!"}},{"$f":"IF(Data!#REF!=\"\",\"\",Data!#REF!)","v":{"$error":"#REF!"}},{"$f":"IF(Data!#REF!=\"\",\"\",Data!#REF!)","v":{"$error":"#REF!"}},{"$f":"IF(Data!#REF!=\"\",\"\",Data!#REF!)","v":{"$error":"#REF!"}},{"$f":"IF(Data!#REF!=\"\",\"\",Data!#REF!)","v":{"$error":"#REF!"}},{"$error":"#REF!"},{"$error":"#REF!"},{"$error":"#REF!"}]
[{"$f":"IF(Data!#REF!=\"\",\"\",Data!#REF!)","v":{"$error":"#REF!"}},{"$f":"IF(Data!#REF!=\"\",\"\",Data!#REF!)","v":{"$error":"#REF!"}},{"$f":"IF(Data!#REF!=\"\",\"\",Data!#REF!)","v":{"$error":"#REF!"}},{"$f":"IF(Data!#REF!=\"\",\"\",Data!#REF!)","v":{"$error":"#REF!"}},{"$f":"IF(Data!#REF!=\"\",\"\",Data!#REF!)","v":{"$error":"#REF!"}},{"$error":"#REF!"},{"$error":"#REF!"},{"$error":"#REF!"}]
[{"$f":"IF(Data!#REF!=\"\",\"\",Data!#REF!)","v":{"$error":"#REF!"}},{"$f":"IF(Data!#REF!=\"\",\"\",Data!#REF!)","v":{"$error":"#REF!"}},{"$f":"IF(Data!#REF!=\"\",\"\",Data!#REF!)","v":{"$error":"#REF!"}},{"$f":"IF(Data!#REF!=\"\",\"\",Data!#REF!)","v":{"$error":"#REF!"}},{"$f":"IF(Data!#REF!=\"\",\"\",Data!#REF!)","v":{"$error":"#REF!"}},{"$error":"#REF!"},{"$error":"#REF!"},{"$error":"#REF!"}]
[{"$f":"IF(Data!#REF!=\"\",\"\",Data!#REF!)","v":{"$error":"#REF!"}},{"$f":"IF(Data!#REF!=\"\",\"\",Data!#REF!)","v":{"$error":"#REF!"}},{"$f":"IF(Data!#REF!=\"\",\"\",Data!#REF!)","v":{"$error":"#REF!"}},{"$f":"IF(Data!#REF!=\"\",\"\",Data!#REF!)","v":{"$error":"#REF!"}},{"$f":"IF(Data!#REF!=\"\",\"\",Data!#REF!)","v":{"$error":"#REF!"}},{"$error":"#REF!"},{"$error":"#REF!"},{"$error":"#REF!"}]
[{"$f":"IF(Data!#REF!=\"\",\"\",Data!#REF!)","v":{"$error":"#REF!"}},{"$f":"IF(Data!#REF!=\"\",\"\",Data!#REF!)","v":{"$error":"#REF!"}},{"$f":"IF(Data!#REF!=\"\",\"\",Data!#REF!)","v":{"$error":"#REF!"}},{"$f":"IF(Data!#REF!=\"\",\"\",Data!#REF!)","v":{"$error":"#REF!"}},{"$f":"IF(Data!#REF!=\"\",\"\",Data!#REF!)","v":{"$error":"#REF!"}},{"$error":"#REF!"},{"$error":"#REF!"},{"$error":"#REF!"}]
[{"$f":"IF(Data!#REF!=\"\",\"\",Data!#REF!)","v":{"$error":"#REF!"}},{"$f":"IF(Data!#REF!=\"\",\"\",Data!#REF!)","v":{"$error":"#REF!"}},{"$f":"IF(Data!#REF!=\"\",\"\",Data!#REF!)","v":{"$error":"#REF!"}},{"$f":"IF(Data!#REF!=\"\",\"\",Data!#REF!)","v":{"$error":"#REF!"}},{"$f":"IF(Data!#REF!=\"\",\"\",Data!#REF!)","v":{"$error":"#REF!"}},{"$error":"#REF!"},{"$error":"#REF!"},{"$error":"#REF!"}]
[{"$f":"IF(Data!#REF!=\"\",\"\",Data!#REF!)","v":{"$error":"#REF!"}},{"$f":"IF(Data!#REF!=\"\",\"\",Data!#REF!)","v":{"$error":"#REF!"}},{"$f":"IF(Data!#REF!=\"\",\"\",Data!#REF!)","v":{"$error":"#REF!"}},{"$f":"IF(Data!#REF!=\"\",\"\",Data!#REF!)","v":{"$error":"#REF!"}},{"$f":"IF(Data!#REF!=\"\",\"\",Data!#REF!)","v":{"$error":"#REF!"}},{"$error":"#REF!"},{"$error":"#REF!"},{"$error":"#REF!"}]
[{"$f":"IF(Data!#REF!=\"\",\"\",Data!#REF!)","v":{"$error":"#REF!"}},{"$f":"IF(Data!#REF!=\"\",\"\",Data!#REF!)","v":{"$error":"#REF!"}},{"$f":"IF(Data!#REF!=\"\",\"\",Data!#REF!)","v":{"$error":"#REF!"}},{"$f":"IF(Data!#REF!=\"\",\"\",Data!#REF!)","v":{"$error":"#REF!"}},{"$f":"IF(Data!#REF!=\"\",\"\",Data!#REF!)","v":{"$error":"#REF!"}},{"$error":"#REF!"},{"$error":"#REF!"},{"$error":"#REF!"}]
[{"$f":"IF(Data!#REF!=\"\",\"\",Data!#REF!)","v":{"$error":"#REF!"}},{"$f":"IF(Data!#REF!=\"\",\"\",Data!#REF!)","v":{"$error":"#REF!"}},{"$f":"IF(Data!#REF!=\"\",\"\",Data!#REF!)","v":{"$error":"#REF!"}},{"$f":"IF(Data!#REF!=\"\",\"\",Data!#REF!)","v":{"$error":"#REF!"}},{"$f":"IF(Data!#REF!=\"\",\"\",Data!#REF!)","v":{"$error":"#REF!"}},{"$error":"#REF!"},{"$error":"#REF!"},{"$error":"#REF!"}]
[{"$f":"IF(Data!#REF!=\"\",\"\",Data!#REF!)","v":{"$error":"#REF!"}},{"$f":"IF(Data!#REF!=\"\",\"\",Data!#REF!)","v":{"$error":"#REF!"}},{"$f":"IF(Data!#REF!=\"\",\"\",Data!#REF!)","v":{"$error":"#REF!"}},{"$f":"IF(Data!#REF!=\"\",\"\",Data!#REF!)","v":{"$error":"#REF!"}},{"$f":"IF(Data!#REF!=\"\",\"\",Data!#REF!)","v":{"$error":"#REF!"}},{"$error":"#REF!"},{"$error":"#REF!"},{"$error":"#REF!"}]
[{"$f":"IF(Data!#REF!=\"\",\"\",Data!#REF!)","v":{"$error":"#REF!"}},{"$f":"IF(Data!#REF!=\"\",\"\",Data!#REF!)","v":{"$error":"#REF!"}},{"$f":"IF(Data!#REF!=\"\",\"\",Data!#REF!)","v":{"$error":"#REF!"}},{"$f":"IF(Data!#REF!=\"\",\"\",Data!#REF!)","v":{"$error":"#REF!"}},{"$f":"IF(Data!#REF!=\"\",\"\",Data!#REF!)","v":{"$error":"#REF!"}},{"$error":"#REF!"},{"$error":"#REF!"},{"$error":"#REF!"}]
[{"$f":"IF(Data!#REF!=\"\",\"\",Data!#REF!)","v":{"$error":"#REF!"}},{"$f":"IF(Data!#REF!=\"\",\"\",Data!#REF!)","v":{"$error":"#REF!"}},{"$f":"IF(Data!#REF!=\"\",\"\",Data!#REF!)","v":{"$error":"#REF!"}},{"$f":"IF(Data!#REF!=\"\",\"\",Data!#REF!)","v":{"$error":"#REF!"}},{"$f":"IF(Data!#REF!=\"\",\"\",Data!#REF!)","v":{"$error":"#REF!"}},{"$error":"#REF!"},{"$error":"#REF!"},{"$error":"#REF!"}]
[{"$f":"IF(Data!#REF!=\"\",\"\",Data!#REF!)","v":{"$error":"#REF!"}},{"$f":"IF(Data!#REF!=\"\",\"\",Data!#REF!)","v":{"$error":"#REF!"}},{"$f":"IF(Data!#REF!=\"\",\"\",Data!#REF!)","v":{"$error":"#REF!"}},{"$f":"IF(Data!#REF!=\"\",\"\",Data!#REF!)","v":{"$error":"#REF!"}},{"$f":"IF(Data!#REF!=\"\",\"\",Data!#REF!)","v":{"$error":"#REF!"}},{"$error":"#REF!"},{"$error":"#REF!"},{"$error":"#REF!"}]
[{"$f":"IF(Data!#REF!=\"\",\"\",Data!#REF!)","v":{"$error":"#REF!"}},{"$f":"IF(Data!#REF!=\"\",\"\",Data!#REF!)","v":{"$error":"#REF!"}},{"$f":"IF(Data!#REF!=\"\",\"\",Data!#REF!)","v":{"$error":"#REF!"}},{"$f":"IF(Data!#REF!=\"\",\"\",Data!#REF!)","v":{"$error":"#REF!"}},{"$f":"IF(Data!#REF!=\"\",\"\",Data!#REF!)","v":{"$error":"#REF!"}},{"$error":"#REF!"},{"$error":"#REF!"},{"$error":"#REF!"}]
[{"$f":"IF(Data!#REF!=\"\",\"\",Data!#REF!)","v":{"$error":"#REF!"}},{"$f":"IF(Data!#REF!=\"\",\"\",Data!#REF!)","v":{"$error":"#REF!"}},{"$f":"IF(Data!#REF!=\"\",\"\",Data!#REF!)","v":{"$error":"#REF!"}},{"$f":"IF(Data!#REF!=\"\",\"\",Data!#REF!)","v":{"$error":"#REF!"}},{"$f":"IF(Data!#REF!=\"\",\"\",Data!#REF!)","v":{"$error":"#REF!"}},{"$error":"#REF!"},{"$error":"#REF!"},{"$error":"#REF!"}]
[{"$f":"IF(Data!#REF!=\"\",\"\",Data!#REF!)","v":{"$error":"#REF!"}},{"$f":"IF(Data!#REF!=\"\",\"\",Data!#REF!)","v":{"$error":"#REF!"}},{"$f":"IF(Data!#REF!=\"\",\"\",Data!#REF!)","v":{"$error":"#REF!"}},{"$f":"IF(Data!#REF!=\"\",\"\",Data!#REF!)","v":{"$error":"#REF!"}},{"$f":"IF(Data!#REF!=\"\",\"\",Data!#REF!)","v":{"$error":"#REF!"}},{"$error":"#REF!"},{"$error":"#REF!"},{"$error":"#REF!"}]
[{"$f":"IF(Data!#REF!=\"\",\"\",Data!#REF!)","v":{"$error":"#REF!"}},{"$f":"IF(Data!#REF!=\"\",\"\",Data!#REF!)","v":{"$error":"#REF!"}},{"$f":"IF(Data!#REF!=\"\",\"\",Data!#REF!)","v":{"$error":"#REF!"}},{"$f":"IF(Data!#REF!=\"\",\"\",Data!#REF!)","v":{"$error":"#REF!"}},{"$f":"IF(Data!#REF!=\"\",\"\",Data!#REF!)","v":{"$error":"#REF!"}},{"$error":"#REF!"},{"$error":"#REF!"},{"$error":"#REF!"}]
[{"$f":"IF(Data!#REF!=\"\",\"\",Data!#REF!)","v":{"$error":"#REF!"}},{"$f":"IF(Data!#REF!=\"\",\"\",Data!#REF!)","v":{"$error":"#REF!"}},{"$f":"IF(Data!#REF!=\"\",\"\",Data!#REF!)","v":{"$error":"#REF!"}},{"$f":"IF(Data!#REF!=\"\",\"\",Data!#REF!)","v":{"$error":"#REF!"}},{"$f":"IF(Data!#REF!=\"\",\"\",Data!#REF!)","v":{"$error":"#REF!"}},{"$error":"#REF!"},{"$error":"#REF!"},{"$error":"#REF!"}]
[{"$f":"IF(Data!#REF!=\"\",\"\",Data!#REF!)","v":{"$error":"#REF!"}},{"$f":"IF(Data!#REF!=\"\",\"\",Data!#REF!)","v":{"$error":"#REF!"}},{"$f":"IF(Data!#REF!=\"\",\"\",Data!#REF!)","v":{"$error":"#REF!"}},{"$f":"IF(Data!#REF!=\"\",\"\",Data!#REF!)","v":{"$error":"#REF!"}},{"$f":"IF(Data!#REF!=\"\",\"\",Data!#REF!)","v":{"$error":"#REF!"}},{"$error":"#REF!"},{"$error":"#REF!"},{"$error":"#REF!"}]
[{"$f":"IF(Data!#REF!=\"\",\"\",Data!#REF!)","v":{"$error":"#REF!"}},{"$f":"IF(Data!#REF!=\"\",\"\",Data!#REF!)","v":{"$error":"#REF!"}},{"$f":"IF(Data!#REF!=\"\",\"\",Data!#REF!)","v":{"$error":"#REF!"}},{"$f":"IF(Data!#REF!=\"\",\"\",Data!#REF!)","v":{"$error":"#REF!"}},{"$f":"IF(Data!#REF!=\"\",\"\",Data!#REF!)","v":{"$error":"#REF!"}},{"$error":"#REF!"},{"$error":"#REF!"},{"$error":"#REF!"}]
[{"$f":"IF(Data!#REF!=\"\",\"\",Data!#REF!)","v":{"$error":"#REF!"}},{"$f":"IF(Data!#REF!=\"\",\"\",Data!#REF!)","v":{"$error":"#REF!"}},{"$f":"IF(Data!#REF!=\"\",\"\",Data!#REF!)","v":{"$error":"#REF!"}},{"$f":"IF(Data!#REF!=\"\",\"\",Data!#REF!)","v":{"$error":"#REF!"}},{"$f":"IF(Data!#REF!=\"\",\"\",Data!#REF!)","v":{"$error":"#REF!"}},{"$error":"#REF!"},{"$error":"#REF!"},{"$error":"#REF!"}]
[{"$f":"IF(Data!#REF!=\"\",\"\",Data!#REF!)","v":{"$error":"#REF!"}},{"$f":"IF(Data!#REF!=\"\",\"\",Data!#REF!)","v":{"$error":"#REF!"}},{"$f":"IF(Data!#REF!=\"\",\"\",Data!#REF!)","v":{"$error":"#REF!"}},{"$f":"IF(Data!#REF!=\"\",\"\",Data!#REF!)","v":{"$error":"#REF!"}},{"$f":"IF(Data!#REF!=\"\",\"\",Data!#REF!)","v":{"$error":"#REF!"}},{"$error":"#REF!"},{"$error":"#REF!"},{"$error":"#REF!"}]
[{"$f":"IF(Data!#REF!=\"\",\"\",Data!#REF!)","v":{"$error":"#REF!"}},{"$f":"IF(Data!#REF!=\"\",\"\",Data!#REF!)","v":{"$error":"#REF!"}},{"$f":"IF(Data!#REF!=\"\",\"\",Data!#REF!)","v":{"$error":"#REF!"}},{"$f":"IF(Data!#REF!=\"\",\"\",Data!#REF!)","v":{"$error":"#REF!"}},{"$f":"IF(Data!#REF!=\"\",\"\",Data!#REF!)","v":{"$error":"#REF!"}},{"$error":"#REF!"},{"$error":"#REF!"},{"$error":"#REF!"}]
[{"$f":"IF(Data!#REF!=\"\",\"\",Data!#REF!)","v":{"$error":"#REF!"}},{"$f":"IF(Data!#REF!=\"\",\"\",Data!#REF!)","v":{"$error":"#REF!"}},{"$f":"IF(Data!#REF!=\"\",\"\",Data!#REF!)","v":{"$error":"#REF!"}},{"$f":"IF(Data!#REF!=\"\",\"\",Data!#REF!)","v":{"$error":"#REF!"}},{"$f":"IF(Data!#REF!=\"\",\"\",Data!#REF!)","v":{"$error":"#REF!"}},{"$error":"#REF!"},{"$error":"#REF!"},{"$error":"#REF!"}]
[{"$f":"IF(Data!#REF!=\"\",\"\",Data!#REF!)","v":{"$error":"#REF!"}},{"$f":"IF(Data!#REF!=\"\",\"\",Data!#REF!)","v":{"$error":"#REF!"}},{"$f":"IF(Data!#REF!=\"\",\"\",Data!#REF!)","v":{"$error":"#REF!"}},{"$f":"IF(Data!#REF!=\"\",\"\",Data!#REF!)","v":{"$error":"#REF!"}},{"$f":"IF(Data!#REF!=\"\",\"\",Data!#REF!)","v":{"$error":"#REF!"}},{"$error":"#REF!"},{"$error":"#REF!"},{"$error":"#REF!"}]
[{"$f":"IF(Data!#REF!=\"\",\"\",Data!#REF!)","v":{"$error":"#REF!"}},{"$f":"IF(Data!#REF!=\"\",\"\",Data!#REF!)","v":{"$error":"#REF!"}},{"$f":"IF(Data!#REF!=\"\",\"\",Data!#REF!)","v":{"$error":"#REF!"}},{"$f":"IF(Data!#REF!=\"\",\"\",Data!#REF!)","v":{"$error":"#REF!"}},{"$f":"IF(Data!#REF!=\"\",\"\",Data!#REF!)","v":{"$error":"#REF!"}},{"$error":"#REF!"},{"$error":"#REF!"},{"$error":"#REF!"}]
[{"$f":"IF(Data!#REF!=\"\",\"\",Data!#REF!)","v":{"$error":"#REF!"}},{"$f":"IF(Data!#REF!=\"\",\"\",Data!#REF!)","v":{"$error":"#REF!"}},{"$f":"IF(Data!#REF!=\"\",\"\",Data!#REF!)","v":{"$error":"#REF!"}},{"$f":"IF(Data!#REF!=\"\",\"\",Data!#REF!)","v":{"$error":"#REF!"}},{"$f":"IF(Data!#REF!=\"\",\"\",Data!#REF!)","v":{"$error":"#REF!"}},{"$error":"#REF!"},{"$error":"#REF!"},{"$error":"#REF!"}]
[{"$f":"IF(Data!#REF!=\"\",\"\",Data!#REF!)","v":{"$error":"#REF!"}},{"$f":"IF(Data!#REF!=\"\",\"\",Data!#REF!)","v":{"$error":"#REF!"}},{"$f":"IF(Data!#REF!=\"\",\"\",Data!#REF!)","v":{"$error":"#REF!"}},{"$f":"IF(Data!#REF!=\"\",\"\",Data!#REF!)","v":{"$error":"#REF!"}},{"$f":"IF(Data!#REF!=\"\",\"\",Data!#REF!)","v":{"$error":"#REF!"}},{"$error":"#REF!"},{"$error":"#REF!"},{"$error":"#REF!"}]
[{"$f":"IF(Data!#REF!=\"\",\"\",Data!#REF!)","v":{"$error":"#REF!"}},{"$f":"IF(Data!#REF!=\"\",\"\",Data!#REF!)","v":{"$error":"#REF!"}},{"$f":"IF(Data!#REF!=\"\",\"\",Data!#REF!)","v":{"$error":"#REF!"}},{"$f":"IF(Data!#REF!=\"\",\"\",Data!#REF!)","v":{"$error":"#REF!"}},{"$f":"IF(Data!#REF!=\"\",\"\",Data!#REF!)","v":{"$error":"#REF!"}},{"$error":"#REF!"},{"$error":"#REF!"},{"$error":"#REF!"}]
[{"$f":"IF(Data!#REF!=\"\",\"\",Data!#REF!)","v":{"$error":"#REF!"}},{"$f":"IF(Data!#REF!=\"\",\"\",Data!#REF!)","v":{"$error":"#REF!"}},{"$f":"IF(Data!#REF!=\"\",\"\",Data!#REF!)","v":{"$error":"#REF!"}},{"$f":"IF(Data!#REF!=\"\",\"\",Data!#REF!)","v":{"$error":"#REF!"}},{"$f":"IF(Data!#REF!=\"\",\"\",Data!#REF!)","v":{"$error":"#REF!"}},{"$error":"#REF!"},{"$error":"#REF!"},{"$error":"#REF!"}]
[{"$f":"IF(Data!#REF!=\"\",\"\",Data!#REF!)","v":{"$error":"#REF!"}},{"$f":"IF(Data!#REF!=\"\",\"\",Data!#REF!)","v":{"$error":"#REF!"}},{"$f":"IF(Data!#REF!=\"\",\"\",Data!#REF!)","v":{"$error":"#REF!"}},{"$f":"IF(Data!#REF!=\"\",\"\",Data!#REF!)","v":{"$error":"#REF!"}},{"$f":"IF(Data!#REF!=\"\",\"\",Data!#REF!)","v":{"$error":"#REF!"}},{"$error":"#REF!"},{"$error":"#REF!"},{"$error":"#REF!"}]
[{"$f":"IF(Data!#REF!=\"\",\"\",Data!#REF!)","v":{"$error":"#REF!"}},{"$f":"IF(Data!#REF!=\"\",\"\",Data!#REF!)","v":{"$error":"#REF!"}},{"$f":"IF(Data!#REF!=\"\",\"\",Data!#REF!)","v":{"$error":"#REF!"}},{"$f":"IF(Data!#REF!=\"\",\"\",Data!#REF!)","v":{"$error":"#REF!"}},{"$f":"IF(Data!#REF!=\"\",\"\",Data!#REF!)","v":{"$error":"#REF!"}},{"$error":"#REF!"},{"$error":"#REF!"},{"$error":"#REF!"}]
[{"$f":"IF(Data!#REF!=\"\",\"\",Data!#REF!)","v":{"$error":"#REF!"}},{"$f":"IF(Data!#REF!=\"\",\"\",Data!#REF!)","v":{"$error":"#REF!"}},{"$f":"IF(Data!#REF!=\"\",\"\",Data!#REF!)","v":{"$error":"#REF!"}},{"$f":"IF(Data!#REF!=\"\",\"\",Data!#REF!)","v":{"$error":"#REF!"}},{"$f":"IF(Data!#REF!=\"\",\"\",Data!#REF!)","v":{"$error":"#REF!"}},{"$error":"#REF!"},{"$error":"#REF!"},{"$error":"#REF!"}]
[{"$f":"IF(Data!#REF!=\"\",\"\",Data!#REF!)","v":{"$error":"#REF!"}},{"$f":"IF(Data!#REF!=\"\",\"\",Data!#REF!)","v":{"$error":"#REF!"}},{"$f":"IF(Data!#REF!=\"\",\"\",Data!#REF!)","v":{"$error":"#REF!"}},{"$f":"IF(Data!#REF!=\"\",\"\",Data!#REF!)","v":{"$error":"#REF!"}},{"$f":"IF(Data!#REF!=\"\",\"\",Data!#REF!)","v":{"$error":"#REF!"}},{"$error":"#REF!"},{"$error":"#REF!"},{"$error":"#REF!"}]
[{"$f":"IF(Data!#REF!=\"\",\"\",Data!#REF!)","v":{"$error":"#REF!"}},{"$f":"IF(Data!#REF!=\"\",\"\",Data!#REF!)","v":{"$error":"#REF!"}},{"$f":"IF(Data!#REF!=\"\",\"\",Data!#REF!)","v":{"$error":"#REF!"}},{"$f":"IF(Data!#REF!=\"\",\"\",Data!#REF!)","v":{"$error":"#REF!"}},{"$f":"IF(Data!#REF!=\"\",\"\",Data!#REF!)","v":{"$error":"#REF!"}},{"$error":"#REF!"},{"$error":"#REF!"},{"$error":"#REF!"}]
[{"$f":"IF(Data!#REF!=\"\",\"\",Data!#REF!)","v":{"$error":"#REF!"}},{"$f":"IF(Data!#REF!=\"\",\"\",Data!#REF!)","v":{"$error":"#REF!"}},{"$f":"IF(Data!#REF!=\"\",\"\",Data!#REF!)","v":{"$error":"#REF!"}},{"$f":"IF(Data!#REF!=\"\",\"\",Data!#REF!)","v":{"$error":"#REF!"}},{"$f":"IF(Data!#REF!=\"\",\"\",Data!#REF!)","v":{"$error":"#REF!"}},{"$error":"#REF!"},{"$error":"#REF!"},{"$error":"#REF!"}]
[{"$f":"IF(Data!#REF!=\"\",\"\",Data!#REF!)","v":{"$error":"#REF!"}},{"$f":"IF(Data!#REF!=\"\",\"\",Data!#REF!)","v":{"$error":"#REF!"}},{"$f":"IF(Data!#REF!=\"\",\"\",Data!#REF!)","v":{"$error":"#REF!"}},{"$f":"IF(Data!#REF!=\"\",\"\",Data!#REF!)","v":{"$error":"#REF!"}},{"$f":"IF(Data!#REF!=\"\",\"\",Data!#REF!)","v":{"$error":"#REF!"}},{"$error":"#REF!"},{"$error":"#REF!"},{"$error":"#REF!"}]
[{"$f":"IF(Data!#REF!=\"\",\"\",Data!#REF!)","v":{"$error":"#REF!"}},{"$f":"IF(Data!#REF!=\"\",\"\",Data!#REF!)","v":{"$error":"#REF!"}},{"$f":"IF(Data!#REF!=\"\",\"\",Data!#REF!)","v":{"$error":"#REF!"}},{"$f":"IF(Data!#REF!=\"\",\"\",Data!#REF!)","v":{"$error":"#REF!"}},{"$f":"IF(Data!#REF!=\"\",\"\",Data!#REF!)","v":{"$error":"#REF!"}},{"$error":"#REF!"},{"$error":"#REF!"},{"$error":"#REF!"}]
[{"$f":"IF(Data!#REF!=\"\",\"\",Data!#REF!)","v":{"$error":"#REF!"}},{"$f":"IF(Data!#REF!=\"\",\"\",Data!#REF!)","v":{"$error":"#REF!"}},{"$f":"IF(Data!#REF!=\"\",\"\",Data!#REF!)","v":{"$error":"#REF!"}},{"$f":"IF(Data!#REF!=\"\",\"\",Data!#REF!)","v":{"$error":"#REF!"}},{"$f":"IF(Data!#REF!=\"\",\"\",Data!#REF!)","v":{"$error":"#REF!"}},{"$error":"#REF!"},{"$error":"#REF!"},{"$error":"#REF!"}]
[{"$f":"IF(Data!#REF!=\"\",\"\",Data!#REF!)","v":{"$error":"#REF!"}},{"$f":"IF(Data!#REF!=\"\",\"\",Data!#REF!)","v":{"$error":"#REF!"}},{"$f":"IF(Data!#REF!=\"\",\"\",Data!#REF!)","v":{"$error":"#REF!"}},{"$f":"IF(Data!#REF!=\"\",\"\",Data!#REF!)","v":{"$error":"#REF!"}},{"$f":"IF(Data!#REF!=\"\",\"\",Data!#REF!)","v":{"$error":"#REF!"}},{"$error":"#REF!"},{"$error":"#REF!"},{"$error":"#REF!"}]
[{"$f":"IF(Data!#REF!=\"\",\"\",Data!#REF!)","v":{"$error":"#REF!"}},{"$f":"IF(Data!#REF!=\"\",\"\",Data!#REF!)","v":{"$error":"#REF!"}},{"$f":"IF(Data!#REF!=\"\",\"\",Data!#REF!)","v":{"$error":"#REF!"}},{"$f":"IF(Data!#REF!=\"\",\"\",Data!#REF!)","v":{"$error":"#REF!"}},{"$f":"IF(Data!#REF!=\"\",\"\",Data!#REF!)","v":{"$error":"#REF!"}},{"$error":"#REF!"},{"$error":"#REF!"},{"$error":"#REF!"}]
[{"$f":"IF(Data!#REF!=\"\",\"\",Data!#REF!)","v":{"$error":"#REF!"}},{"$f":"IF(Data!#REF!=\"\",\"\",Data!#REF!)","v":{"$error":"#REF!"}},{"$f":"IF(Data!#REF!=\"\",\"\",Data!#REF!)","v":{"$error":"#REF!"}},{"$f":"IF(Data!#REF!=\"\",\"\",Data!#REF!)","v":{"$error":"#REF!"}},{"$f":"IF(Data!#REF!=\"\",\"\",Data!#REF!)","v":{"$error":"#REF!"}},{"$error":"#REF!"},{"$error":"#REF!"},{"$error":"#REF!"}]
[{"$f":"IF(Data!#REF!=\"\",\"\",Data!#REF!)","v":{"$error":"#REF!"}},{"$f":"IF(Data!#REF!=\"\",\"\",Data!#REF!)","v":{"$error":"#REF!"}},{"$f":"IF(Data!#REF!=\"\",\"\",Data!#REF!)","v":{"$error":"#REF!"}},{"$f":"IF(Data!#REF!=\"\",\"\",Data!#REF!)","v":{"$error":"#REF!"}},{"$f":"IF(Data!#REF!=\"\",\"\",Data!#REF!)","v":{"$error":"#REF!"}},{"$error":"#REF!"},{"$error":"#REF!"},{"$error":"#REF!"}]
[{"$f":"IF(Data!#REF!=\"\",\"\",Data!#REF!)","v":{"$error":"#REF!"}},{"$f":"IF(Data!#REF!=\"\",\"\",Data!#REF!)","v":{"$error":"#REF!"}},{"$f":"IF(Data!#REF!=\"\",\"\",Data!#REF!)","v":{"$error":"#REF!"}},{"$f":"IF(Data!#REF!=\"\",\"\",Data!#REF!)","v":{"$error":"#REF!"}},{"$f":"IF(Data!#REF!=\"\",\"\",Data!#REF!)","v":{"$error":"#REF!"}},{"$error":"#REF!"},{"$error":"#REF!"},{"$error":"#REF!"}]
[{"$f":"IF(Data!#REF!=\"\",\"\",Data!#REF!)","v":{"$error":"#REF!"}},{"$f":"IF(Data!#REF!=\"\",\"\",Data!#REF!)","v":{"$error":"#REF!"}},{"$f":"IF(Data!#REF!=\"\",\"\",Data!#REF!)","v":{"$error":"#REF!"}},{"$f":"IF(Data!#REF!=\"\",\"\",Data!#REF!)","v":{"$error":"#REF!"}},{"$f":"IF(Data!#REF!=\"\",\"\",Data!#REF!)","v":{"$error":"#REF!"}},{"$error":"#REF!"},{"$error":"#REF!"},{"$error":"#REF!"}]
[{"$f":"IF(Data!#REF!=\"\",\"\",Data!#REF!)","v":{"$error":"#REF!"}},{"$f":"IF(Data!#REF!=\"\",\"\",Data!#REF!)","v":{"$error":"#REF!"}},{"$f":"IF(Data!#REF!=\"\",\"\",Data!#REF!)","v":{"$error":"#REF!"}},{"$f":"IF(Data!#REF!=\"\",\"\",Data!#REF!)","v":{"$error":"#REF!"}},{"$f":"IF(Data!#REF!=\"\",\"\",Data!#REF!)","v":{"$error":"#REF!"}},{"$error":"#REF!"},{"$error":"#REF!"},{"$error":"#REF!"}]
[{"$f":"IF(Data!#REF!=\"\",\"\",Data!#REF!)","v":{"$error":"#REF!"}},{"$f":"IF(Data!#REF!=\"\",\"\",Data!#REF!)","v":{"$error":"#REF!"}},{"$f":"IF(Data!#REF!=\"\",\"\",Data!#REF!)","v":{"$error":"#REF!"}},{"$f":"IF(Data!#REF!=\"\",\"\",Data!#REF!)","v":{"$error":"#REF!"}},{"$f":"IF(Data!#REF!=\"\",\"\",Data!#REF!)","v":{"$error":"#REF!"}},{"$error":"#REF!"},{"$error":"#REF!"},{"$error":"#REF!"}]
[{"$f":"IF(Data!#REF!=\"\",\"\",Data!#REF!)","v":{"$error":"#REF!"}},{"$f":"IF(Data!#REF!=\"\",\"\",Data!#REF!)","v":{"$error":"#REF!"}},{"$f":"IF(Data!#REF!=\"\",\"\",Data!#REF!)","v":{"$error":"#REF!"}},{"$f":"IF(Data!#REF!=\"\",\"\",Data!#REF!)","v":{"$error":"#REF!"}},{"$f":"IF(Data!#REF!=\"\",\"\",Data!#REF!)","v":{"$error":"#REF!"}},{"$error":"#REF!"},{"$error":"#REF!"},{"$error":"#REF!"}]
[{"$f":"IF(Data!#REF!=\"\",\"\",Data!#REF!)","v":{"$error":"#REF!"}},{"$f":"IF(Data!#REF!=\"\",\"\",Data!#REF!)","v":{"$error":"#REF!"}},{"$f":"IF(Data!#REF!=\"\",\"\",Data!#REF!)","v":{"$error":"#REF!"}},{"$f":"IF(Data!#REF!=\"\",\"\",Data!#REF!)","v":{"$error":"#REF!"}},{"$f":"IF(Data!#REF!=\"\",\"\",Data!#REF!)","v":{"$error":"#REF!"}},{"$error":"#REF!"},{"$error":"#REF!"},{"$error":"#REF!"}]
[{"$f":"IF(Data!#REF!=\"\",\"\",Data!#REF!)","v":{"$error":"#REF!"}},{"$f":"IF(Data!#REF!=\"\",\"\",Data!#REF!)","v":{"$error":"#REF!"}},{"$f":"IF(Data!#REF!=\"\",\"\",Data!#REF!)","v":{"$error":"#REF!"}},{"$f":"IF(Data!#REF!=\"\",\"\",Data!#REF!)","v":{"$error":"#REF!"}},{"$f":"IF(Data!#REF!=\"\",\"\",Data!#REF!)","v":{"$error":"#REF!"}},{"$error":"#REF!"},{"$error":"#REF!"},{"$error":"#REF!"}]
[{"$f":"IF(Data!#REF!=\"\",\"\",Data!#REF!)","v":{"$error":"#REF!"}},{"$f":"IF(Data!#REF!=\"\",\"\",Data!#REF!)","v":{"$error":"#REF!"}},{"$f":"IF(Data!#REF!=\"\",\"\",Data!#REF!)","v":{"$error":"#REF!"}},{"$f":"IF(Data!#REF!=\"\",\"\",Data!#REF!)","v":{"$error":"#REF!"}},{"$f":"IF(Data!#REF!=\"\",\"\",Data!#REF!)","v":{"$error":"#REF!"}},{"$error":"#REF!"},{"$error":"#REF!"},{"$error":"#REF!"}]
[{"$f":"IF(Data!#REF!=\"\",\"\",Data!#REF!)","v":{"$error":"#REF!"}},{"$f":"IF(Data!#REF!=\"\",\"\",Data!#REF!)","v":{"$error":"#REF!"}},{"$f":"IF(Data!#REF!=\"\",\"\",Data!#REF!)","v":{"$error":"#REF!"}},{"$f":"IF(Data!#REF!=\"\",\"\",Data!#REF!)","v":{"$error":"#REF!"}},{"$f":"IF(Data!#REF!=\"\",\"\",Data!#REF!)","v":{"$error":"#REF!"}},{"$error":"#REF!"},{"$error":"#REF!"},{"$error":"#REF!"}]
[{"$f":"IF(Data!#REF!=\"\",\"\",Data!#REF!)","v":{"$error":"#REF!"}},{"$f":"IF(Data!#REF!=\"\",\"\",Data!#REF!)","v":{"$error":"#REF!"}},{"$f":"IF(Data!#REF!=\"\",\"\",Data!#REF!)","v":{"$error":"#REF!"}},{"$f":"IF(Data!#REF!=\"\",\"\",Data!#REF!)","v":{"$error":"#REF!"}},{"$f":"IF(Data!#REF!=\"\",\"\",Data!#REF!)","v":{"$error":"#REF!"}},{"$error":"#REF!"},{"$error":"#REF!"},{"$error":"#REF!"}]
[{"$f":"IF(Data!#REF!=\"\",\"\",Data!#REF!)","v":{"$error":"#REF!"}},{"$f":"IF(Data!#REF!=\"\",\"\",Data!#REF!)","v":{"$error":"#REF!"}},{"$f":"IF(Data!#REF!=\"\",\"\",Data!#REF!)","v":{"$error":"#REF!"}},{"$f":"IF(Data!#REF!=\"\",\"\",Data!#REF!)","v":{"$error":"#REF!"}},{"$f":"IF(Data!#REF!=\"\",\"\",Data!#REF!)","v":{"$error":"#REF!"}},{"$error":"#REF!"},{"$error":"#REF!"},{"$error":"#REF!"}]
[{"$f":"IF(Data!#REF!=\"\",\"\",Data!#REF!)","v":{"$error":"#REF!"}},{"$f":"IF(Data!#REF!=\"\",\"\",Data!#REF!)","v":{"$error":"#REF!"}},{"$f":"IF(Data!#REF!=\"\",\"\",Data!#REF!)","v":{"$error":"#REF!"}},{"$f":"IF(Data!#REF!=\"\",\"\",Data!#REF!)","v":{"$error":"#REF!"}},{"$f":"IF(Data!#REF!=\"\",\"\",Data!#REF!)","v":{"$error":"#REF!"}},{"$error":"#REF!"},{"$error":"#REF!"},{"$error":"#REF!"}]
[{"$f":"IF(Data!#REF!=\"\",\"\",Data!#REF!)","v":{"$error":"#REF!"}},{"$f":"IF(Data!#REF!=\"\",\"\",Data!#REF!)","v":{"$error":"#REF!"}},{"$f":"IF(Data!#REF!=\"\",\"\",Data!#REF!)","v":{"$error":"#REF!"}},{"$f":"IF(Data!#REF!=\"\",\"\",Data!#REF!)","v":{"$error":"#REF!"}},{"$f":"IF(Data!#REF!=\"\",\"\",Data!#REF!)","v":{"$error":"#REF!"}},{"$error":"#REF!"},{"$error":"#REF!"},{"$error":"#REF!"}]
[{"$f":"IF(Data!#REF!=\"\",\"\",Data!#REF!)","v":{"$error":"#REF!"}},{"$f":"IF(Data!#REF!=\"\",\"\",Data!#REF!)","v":{"$error":"#REF!"}},{"$f":"IF(Data!#REF!=\"\",\"\",Data!#REF!)","v":{"$error":"#REF!"}},{"$f":"IF(Data!#REF!=\"\",\"\",Data!#REF!)","v":{"$error":"#REF!"}},{"$f":"IF(Data!#REF!=\"\",\"\",Data!#REF!)","v":{"$error":"#REF!"}},{"$error":"#REF!"},{"$error":"#REF!"},{"$error":"#REF!"}]
[{"$f":"IF(Data!#REF!=\"\",\"\",Data!#REF!)","v":{"$error":"#REF!"}},{"$f":"IF(Data!#REF!=\"\",\"\",Data!#REF!)","v":{"$error":"#REF!"}},{"$f":"IF(Data!#REF!=\"\",\"\",Data!#REF!)","v":{"$error":"#REF!"}},{"$f":"IF(Data!#REF!=\"\",\"\",Data!#REF!)","v":{"$error":"#REF!"}},{"$f":"IF(Data!#REF!=\"\",\"\",Data!#REF!)","v":{"$error":"#REF!"}},{"$error":"#REF!"},{"$error":"#REF!"},{"$error":"#REF!"}]
[{"$f":"IF(Data!#REF!=\"\",\"\",Data!#REF!)","v":{"$error":"#REF!"}},{"$f":"IF(Data!#REF!=\"\",\"\",Data!#REF!)","v":{"$error":"#REF!"}},{"$f":"IF(Data!#REF!=\"\",\"\",Data!#REF!)","v":{"$error":"#REF!"}},{"$f":"IF(Data!#REF!=\"\",\"\",Data!#REF!)","v":{"$error":"#REF!"}},{"$f":"IF(Data!#REF!=\"\",\"\",Data!#REF!)","v":{"$error":"#REF!"}},{"$f":"IF(E1411>0,MONTH(E1411),\"\")","v":{"$error":"#REF!"}},{"$f":"IF(E1411>0,WEEKNUM(E1411),\"0\")","v":{"$error":"#REF!"}},{"$f":"IF(G1411>=($G$2-3),\"Ano\",\"Nie\")","v":{"$error":"#REF!"}}]
[{"$f":"IF(Data!#REF!=\"\",\"\",Data!#REF!)","v":{"$error":"#REF!"}},{"$f":"IF(Data!#REF!=\"\",\"\",Data!#REF!)","v":{"$error":"#REF!"}},{"$f":"IF(Data!#REF!=\"\",\"\",Data!#REF!)","v":{"$error":"#REF!"}},{"$f":"IF(Data!#REF!=\"\",\"\",Data!#REF!)","v":{"$error":"#REF!"}},{"$f":"IF(Data!#REF!=\"\",\"\",Data!#REF!)","v":{"$error":"#REF!"}},{"$error":"#REF!"},{"$error":"#REF!"},{"$error":"#REF!"}]
[{"$f":"IF(Data!#REF!=\"\",\"\",Data!#REF!)","v":{"$error":"#REF!"}},{"$f":"IF(Data!#REF!=\"\",\"\",Data!#REF!)","v":{"$error":"#REF!"}},{"$f":"IF(Data!#REF!=\"\",\"\",Data!#REF!)","v":{"$error":"#REF!"}},{"$f":"IF(Data!#REF!=\"\",\"\",Data!#REF!)","v":{"$error":"#REF!"}},{"$f":"IF(Data!#REF!=\"\",\"\",Data!#REF!)","v":{"$error":"#REF!"}},{"$error":"#REF!"},{"$error":"#REF!"},{"$error":"#REF!"}]
[{"$f":"IF(Data!#REF!=\"\",\"\",Data!#REF!)","v":{"$error":"#REF!"}},{"$f":"IF(Data!#REF!=\"\",\"\",Data!#REF!)","v":{"$error":"#REF!"}},{"$f":"IF(Data!#REF!=\"\",\"\",Data!#REF!)","v":{"$error":"#REF!"}},{"$f":"IF(Data!#REF!=\"\",\"\",Data!#REF!)","v":{"$error":"#REF!"}},{"$f":"IF(Data!#REF!=\"\",\"\",Data!#REF!)","v":{"$error":"#REF!"}},{"$error":"#REF!"},{"$error":"#REF!"},{"$error":"#REF!"}]
[{"$f":"IF(Data!#REF!=\"\",\"\",Data!#REF!)","v":{"$error":"#REF!"}},{"$f":"IF(Data!#REF!=\"\",\"\",Data!#REF!)","v":{"$error":"#REF!"}},{"$f":"IF(Data!#REF!=\"\",\"\",Data!#REF!)","v":{"$error":"#REF!"}},{"$f":"IF(Data!#REF!=\"\",\"\",Data!#REF!)","v":{"$error":"#REF!"}},{"$f":"IF(Data!#REF!=\"\",\"\",Data!#REF!)","v":{"$error":"#REF!"}},{"$error":"#REF!"},{"$error":"#REF!"},{"$error":"#REF!"}]
[{"$f":"IF(Data!#REF!=\"\",\"\",Data!#REF!)","v":{"$error":"#REF!"}},{"$f":"IF(Data!#REF!=\"\",\"\",Data!#REF!)","v":{"$error":"#REF!"}},{"$f":"IF(Data!#REF!=\"\",\"\",Data!#REF!)","v":{"$error":"#REF!"}},{"$f":"IF(Data!#REF!=\"\",\"\",Data!#REF!)","v":{"$error":"#REF!"}},{"$f":"IF(Data!#REF!=\"\",\"\",Data!#REF!)","v":{"$error":"#REF!"}},{"$error":"#REF!"},{"$error":"#REF!"},{"$error":"#REF!"}]
[{"$f":"IF(Data!#REF!=\"\",\"\",Data!#REF!)","v":{"$error":"#REF!"}},{"$f":"IF(Data!#REF!=\"\",\"\",Data!#REF!)","v":{"$error":"#REF!"}},{"$f":"IF(Data!#REF!=\"\",\"\",Data!#REF!)","v":{"$error":"#REF!"}},{"$f":"IF(Data!#REF!=\"\",\"\",Data!#REF!)","v":{"$error":"#REF!"}},{"$f":"IF(Data!#REF!=\"\",\"\",Data!#REF!)","v":{"$error":"#REF!"}},{"$error":"#REF!"},{"$error":"#REF!"},{"$error":"#REF!"}]
[{"$f":"IF(Data!#REF!=\"\",\"\",Data!#REF!)","v":{"$error":"#REF!"}},{"$f":"IF(Data!#REF!=\"\",\"\",Data!#REF!)","v":{"$error":"#REF!"}},{"$f":"IF(Data!#REF!=\"\",\"\",Data!#REF!)","v":{"$error":"#REF!"}},{"$f":"IF(Data!#REF!=\"\",\"\",Data!#REF!)","v":{"$error":"#REF!"}},{"$f":"IF(Data!#REF!=\"\",\"\",Data!#REF!)","v":{"$error":"#REF!"}},{"$error":"#REF!"},{"$error":"#REF!"},{"$error":"#REF!"}]
[{"$f":"IF(Data!#REF!=\"\",\"\",Data!#REF!)","v":{"$error":"#REF!"}},{"$f":"IF(Data!#REF!=\"\",\"\",Data!#REF!)","v":{"$error":"#REF!"}},{"$f":"IF(Data!#REF!=\"\",\"\",Data!#REF!)","v":{"$error":"#REF!"}},{"$f":"IF(Data!#REF!=\"\",\"\",Data!#REF!)","v":{"$error":"#REF!"}},{"$f":"IF(Data!#REF!=\"\",\"\",Data!#REF!)","v":{"$error":"#REF!"}},{"$error":"#REF!"},{"$error":"#REF!"},{"$error":"#REF!"}]
[{"$f":"IF(Data!#REF!=\"\",\"\",Data!#REF!)","v":{"$error":"#REF!"}},{"$f":"IF(Data!#REF!=\"\",\"\",Data!#REF!)","v":{"$error":"#REF!"}},{"$f":"IF(Data!#REF!=\"\",\"\",Data!#REF!)","v":{"$error":"#REF!"}},{"$f":"IF(Data!#REF!=\"\",\"\",Data!#REF!)","v":{"$error":"#REF!"}},{"$f":"IF(Data!#REF!=\"\",\"\",Data!#REF!)","v":{"$error":"#REF!"}},{"$error":"#REF!"},{"$error":"#REF!"},{"$error":"#REF!"}]
[{"$f":"IF(Data!#REF!=\"\",\"\",Data!#REF!)","v":{"$error":"#REF!"}},{"$f":"IF(Data!#REF!=\"\",\"\",Data!#REF!)","v":{"$error":"#REF!"}},{"$f":"IF(Data!#REF!=\"\",\"\",Data!#REF!)","v":{"$error":"#REF!"}},{"$f":"IF(Data!#REF!=\"\",\"\",Data!#REF!)","v":{"$error":"#REF!"}},{"$f":"IF(Data!#REF!=\"\",\"\",Data!#REF!)","v":{"$error":"#REF!"}},{"$error":"#REF!"},{"$error":"#REF!"},{"$error":"#REF!"}]
[{"$f":"IF(Data!#REF!=\"\",\"\",Data!#REF!)","v":{"$error":"#REF!"}},{"$f":"IF(Data!#REF!=\"\",\"\",Data!#REF!)","v":{"$error":"#REF!"}},{"$f":"IF(Data!#REF!=\"\",\"\",Data!#REF!)","v":{"$error":"#REF!"}},{"$f":"IF(Data!#REF!=\"\",\"\",Data!#REF!)","v":{"$error":"#REF!"}},{"$f":"IF(Data!#REF!=\"\",\"\",Data!#REF!)","v":{"$error":"#REF!"}},{"$error":"#REF!"},{"$error":"#REF!"},{"$error":"#REF!"}]
[{"$f":"IF(Data!#REF!=\"\",\"\",Data!#REF!)","v":{"$error":"#REF!"}},{"$f":"IF(Data!#REF!=\"\",\"\",Data!#REF!)","v":{"$error":"#REF!"}},{"$f":"IF(Data!#REF!=\"\",\"\",Data!#REF!)","v":{"$error":"#REF!"}},{"$f":"IF(Data!#REF!=\"\",\"\",Data!#REF!)","v":{"$error":"#REF!"}},{"$f":"IF(Data!#REF!=\"\",\"\",Data!#REF!)","v":{"$error":"#REF!"}},{"$error":"#REF!"},{"$error":"#REF!"},{"$error":"#REF!"}]
[{"$f":"IF(Data!#REF!=\"\",\"\",Data!#REF!)","v":{"$error":"#REF!"}},{"$f":"IF(Data!#REF!=\"\",\"\",Data!#REF!)","v":{"$error":"#REF!"}},{"$f":"IF(Data!#REF!=\"\",\"\",Data!#REF!)","v":{"$error":"#REF!"}},{"$f":"IF(Data!#REF!=\"\",\"\",Data!#REF!)","v":{"$error":"#REF!"}},{"$f":"IF(Data!#REF!=\"\",\"\",Data!#REF!)","v":{"$error":"#REF!"}},{"$error":"#REF!"},{"$error":"#REF!"},{"$error":"#REF!"}]
[{"$f":"IF(Data!#REF!=\"\",\"\",Data!#REF!)","v":{"$error":"#REF!"}},{"$f":"IF(Data!#REF!=\"\",\"\",Data!#REF!)","v":{"$error":"#REF!"}},{"$f":"IF(Data!#REF!=\"\",\"\",Data!#REF!)","v":{"$error":"#REF!"}},{"$f":"IF(Data!#REF!=\"\",\"\",Data!#REF!)","v":{"$error":"#REF!"}},{"$f":"IF(Data!#REF!=\"\",\"\",Data!#REF!)","v":{"$error":"#REF!"}},{"$error":"#REF!"},{"$error":"#REF!"},{"$error":"#REF!"}]
[{"$f":"IF(Data!#REF!=\"\",\"\",Data!#REF!)","v":{"$error":"#REF!"}},{"$f":"IF(Data!#REF!=\"\",\"\",Data!#REF!)","v":{"$error":"#REF!"}},{"$f":"IF(Data!#REF!=\"\",\"\",Data!#REF!)","v":{"$error":"#REF!"}},{"$f":"IF(Data!#REF!=\"\",\"\",Data!#REF!)","v":{"$error":"#REF!"}},{"$f":"IF(Data!#REF!=\"\",\"\",Data!#REF!)","v":{"$error":"#REF!"}},{"$error":"#REF!"},{"$error":"#REF!"},{"$error":"#REF!"}]
[{"$f":"IF(Data!#REF!=\"\",\"\",Data!#REF!)","v":{"$error":"#REF!"}},{"$f":"IF(Data!#REF!=\"\",\"\",Data!#REF!)","v":{"$error":"#REF!"}},{"$f":"IF(Data!#REF!=\"\",\"\",Data!#REF!)","v":{"$error":"#REF!"}},{"$f":"IF(Data!#REF!=\"\",\"\",Data!#REF!)","v":{"$error":"#REF!"}},{"$f":"IF(Data!#REF!=\"\",\"\",Data!#REF!)","v":{"$error":"#REF!"}},{"$error":"#REF!"},{"$error":"#REF!"},{"$error":"#REF!"}]
[{"$f":"IF(Data!#REF!=\"\",\"\",Data!#REF!)","v":{"$error":"#REF!"}},{"$f":"IF(Data!#REF!=\"\",\"\",Data!#REF!)","v":{"$error":"#REF!"}},{"$f":"IF(Data!#REF!=\"\",\"\",Data!#REF!)","v":{"$error":"#REF!"}},{"$f":"IF(Data!#REF!=\"\",\"\",Data!#REF!)","v":{"$error":"#REF!"}},{"$f":"IF(Data!#REF!=\"\",\"\",Data!#REF!)","v":{"$error":"#REF!"}},{"$error":"#REF!"},{"$error":"#REF!"},{"$error":"#REF!"}]
[{"$f":"IF(Data!#REF!=\"\",\"\",Data!#REF!)","v":{"$error":"#REF!"}},{"$f":"IF(Data!#REF!=\"\",\"\",Data!#REF!)","v":{"$error":"#REF!"}},{"$f":"IF(Data!#REF!=\"\",\"\",Data!#REF!)","v":{"$error":"#REF!"}},{"$f":"IF(Data!#REF!=\"\",\"\",Data!#REF!)","v":{"$error":"#REF!"}},{"$f":"IF(Data!#REF!=\"\",\"\",Data!#REF!)","v":{"$error":"#REF!"}},{"$error":"#REF!"},{"$error":"#REF!"},{"$error":"#REF!"}]
[{"$f":"IF(Data!#REF!=\"\",\"\",Data!#REF!)","v":{"$error":"#REF!"}},{"$f":"IF(Data!#REF!=\"\",\"\",Data!#REF!)","v":{"$error":"#REF!"}},{"$f":"IF(Data!#REF!=\"\",\"\",Data!#REF!)","v":{"$error":"#REF!"}},{"$f":"IF(Data!#REF!=\"\",\"\",Data!#REF!)","v":{"$error":"#REF!"}},{"$f":"IF(Data!#REF!=\"\",\"\",Data!#REF!)","v":{"$error":"#REF!"}},{"$error":"#REF!"},{"$error":"#REF!"},{"$error":"#REF!"}]
[{"$f":"IF(Data!#REF!=\"\",\"\",Data!#REF!)","v":{"$error":"#REF!"}},{"$f":"IF(Data!#REF!=\"\",\"\",Data!#REF!)","v":{"$error":"#REF!"}},{"$f":"IF(Data!#REF!=\"\",\"\",Data!#REF!)","v":{"$error":"#REF!"}},{"$f":"IF(Data!#REF!=\"\",\"\",Data!#REF!)","v":{"$error":"#REF!"}},{"$f":"IF(Data!#REF!=\"\",\"\",Data!#REF!)","v":{"$error":"#REF!"}},{"$error":"#REF!"},{"$error":"#REF!"},{"$error":"#REF!"}]
[{"$f":"IF(Data!#REF!=\"\",\"\",Data!#REF!)","v":{"$error":"#REF!"}},{"$f":"IF(Data!#REF!=\"\",\"\",Data!#REF!)","v":{"$error":"#REF!"}},{"$f":"IF(Data!#REF!=\"\",\"\",Data!#REF!)","v":{"$error":"#REF!"}},{"$f":"IF(Data!#REF!=\"\",\"\",Data!#REF!)","v":{"$error":"#REF!"}},{"$f":"IF(Data!#REF!=\"\",\"\",Data!#REF!)","v":{"$error":"#REF!"}},{"$error":"#REF!"},{"$error":"#REF!"},{"$error":"#REF!"}]
[{"$f":"IF(Data!#REF!=\"\",\"\",Data!#REF!)","v":{"$error":"#REF!"}},{"$f":"IF(Data!#REF!=\"\",\"\",Data!#REF!)","v":{"$error":"#REF!"}},{"$f":"IF(Data!#REF!=\"\",\"\",Data!#REF!)","v":{"$error":"#REF!"}},{"$f":"IF(Data!#REF!=\"\",\"\",Data!#REF!)","v":{"$error":"#REF!"}},{"$f":"IF(Data!#REF!=\"\",\"\",Data!#REF!)","v":{"$error":"#REF!"}},{"$error":"#REF!"},{"$error":"#REF!"},{"$error":"#REF!"}]
[{"$f":"IF(Data!#REF!=\"\",\"\",Data!#REF!)","v":{"$error":"#REF!"}},{"$f":"IF(Data!#REF!=\"\",\"\",Data!#REF!)","v":{"$error":"#REF!"}},{"$f":"IF(Data!#REF!=\"\",\"\",Data!#REF!)","v":{"$error":"#REF!"}},{"$f":"IF(Data!#REF!=\"\",\"\",Data!#REF!)","v":{"$error":"#REF!"}},{"$f":"IF(Data!#REF!=\"\",\"\",Data!#REF!)","v":{"$error":"#REF!"}},{"$error":"#REF!"},{"$error":"#REF!"},{"$error":"#REF!"}]
[{"$f":"IF(Data!#REF!=\"\",\"\",Data!#REF!)","v":{"$error":"#REF!"}},{"$f":"IF(Data!#REF!=\"\",\"\",Data!#REF!)","v":{"$error":"#REF!"}},{"$f":"IF(Data!#REF!=\"\",\"\",Data!#REF!)","v":{"$error":"#REF!"}},{"$f":"IF(Data!#REF!=\"\",\"\",Data!#REF!)","v":{"$error":"#REF!"}},{"$f":"IF(Data!#REF!=\"\",\"\",Data!#REF!)","v":{"$error":"#REF!"}},{"$error":"#REF!"},{"$error":"#REF!"},{"$error":"#REF!"}]
[{"$f":"IF(Data!#REF!=\"\",\"\",Data!#REF!)","v":{"$error":"#REF!"}},{"$f":"IF(Data!#REF!=\"\",\"\",Data!#REF!)","v":{"$error":"#REF!"}},{"$f":"IF(Data!#REF!=\"\",\"\",Data!#REF!)","v":{"$error":"#REF!"}},{"$f":"IF(Data!#REF!=\"\",\"\",Data!#REF!)","v":{"$error":"#REF!"}},{"$f":"IF(Data!#REF!=\"\",\"\",Data!#REF!)","v":{"$error":"#REF!"}},{"$error":"#REF!"},{"$error":"#REF!"},{"$error":"#REF!"}]
[{"$f":"IF(Data!#REF!=\"\",\"\",Data!#REF!)","v":{"$error":"#REF!"}},{"$f":"IF(Data!#REF!=\"\",\"\",Data!#REF!)","v":{"$error":"#REF!"}},{"$f":"IF(Data!#REF!=\"\",\"\",Data!#REF!)","v":{"$error":"#REF!"}},{"$f":"IF(Data!#REF!=\"\",\"\",Data!#REF!)","v":{"$error":"#REF!"}},{"$f":"IF(Data!#REF!=\"\",\"\",Data!#REF!)","v":{"$error":"#REF!"}},{"$error":"#REF!"},{"$error":"#REF!"},{"$error":"#REF!"}]
[{"$f":"IF(Data!#REF!=\"\",\"\",Data!#REF!)","v":{"$error":"#REF!"}},{"$f":"IF(Data!#REF!=\"\",\"\",Data!#REF!)","v":{"$error":"#REF!"}},{"$f":"IF(Data!#REF!=\"\",\"\",Data!#REF!)","v":{"$error":"#REF!"}},{"$f":"IF(Data!#REF!=\"\",\"\",Data!#REF!)","v":{"$error":"#REF!"}},{"$f":"IF(Data!#REF!=\"\",\"\",Data!#REF!)","v":{"$error":"#REF!"}},{"$error":"#REF!"},{"$error":"#REF!"},{"$error":"#REF!"}]
[{"$f":"IF(Data!#REF!=\"\",\"\",Data!#REF!)","v":{"$error":"#REF!"}},{"$f":"IF(Data!#REF!=\"\",\"\",Data!#REF!)","v":{"$error":"#REF!"}},{"$f":"IF(Data!#REF!=\"\",\"\",Data!#REF!)","v":{"$error":"#REF!"}},{"$f":"IF(Data!#REF!=\"\",\"\",Data!#REF!)","v":{"$error":"#REF!"}},{"$f":"IF(Data!#REF!=\"\",\"\",Data!#REF!)","v":{"$error":"#REF!"}},{"$error":"#REF!"},{"$error":"#REF!"},{"$error":"#REF!"}]
[{"$f":"IF(Data!#REF!=\"\",\"\",Data!#REF!)","v":{"$error":"#REF!"}},{"$f":"IF(Data!#REF!=\"\",\"\",Data!#REF!)","v":{"$error":"#REF!"}},{"$f":"IF(Data!#REF!=\"\",\"\",Data!#REF!)","v":{"$error":"#REF!"}},{"$f":"IF(Data!#REF!=\"\",\"\",Data!#REF!)","v":{"$error":"#REF!"}},{"$f":"IF(Data!#REF!=\"\",\"\",Data!#REF!)","v":{"$error":"#REF!"}},{"$error":"#REF!"},{"$error":"#REF!"},{"$error":"#REF!"}]
[{"$f":"IF(Data!#REF!=\"\",\"\",Data!#REF!)","v":{"$error":"#REF!"}},{"$f":"IF(Data!#REF!=\"\",\"\",Data!#REF!)","v":{"$error":"#REF!"}},{"$f":"IF(Data!#REF!=\"\",\"\",Data!#REF!)","v":{"$error":"#REF!"}},{"$f":"IF(Data!#REF!=\"\",\"\",Data!#REF!)","v":{"$error":"#REF!"}},{"$f":"IF(Data!#REF!=\"\",\"\",Data!#REF!)","v":{"$error":"#REF!"}},{"$error":"#REF!"},{"$error":"#REF!"},{"$error":"#REF!"}]
[{"$f":"IF(Data!#REF!=\"\",\"\",Data!#REF!)","v":{"$error":"#REF!"}},{"$f":"IF(Data!#REF!=\"\",\"\",Data!#REF!)","v":{"$error":"#REF!"}},{"$f":"IF(Data!#REF!=\"\",\"\",Data!#REF!)","v":{"$error":"#REF!"}},{"$f":"IF(Data!#REF!=\"\",\"\",Data!#REF!)","v":{"$error":"#REF!"}},{"$f":"IF(Data!#REF!=\"\",\"\",Data!#REF!)","v":{"$error":"#REF!"}},{"$error":"#REF!"},{"$error":"#REF!"},{"$error":"#REF!"}]
[{"$f":"IF(Data!#REF!=\"\",\"\",Data!#REF!)","v":{"$error":"#REF!"}},{"$f":"IF(Data!#REF!=\"\",\"\",Data!#REF!)","v":{"$error":"#REF!"}},{"$f":"IF(Data!#REF!=\"\",\"\",Data!#REF!)","v":{"$error":"#REF!"}},{"$f":"IF(Data!#REF!=\"\",\"\",Data!#REF!)","v":{"$error":"#REF!"}},{"$f":"IF(Data!#REF!=\"\",\"\",Data!#REF!)","v":{"$error":"#REF!"}},{"$error":"#REF!"},{"$error":"#REF!"},{"$error":"#REF!"}]
[{"$f":"IF(Data!#REF!=\"\",\"\",Data!#REF!)","v":{"$error":"#REF!"}},{"$f":"IF(Data!#REF!=\"\",\"\",Data!#REF!)","v":{"$error":"#REF!"}},{"$f":"IF(Data!#REF!=\"\",\"\",Data!#REF!)","v":{"$error":"#REF!"}},{"$f":"IF(Data!#REF!=\"\",\"\",Data!#REF!)","v":{"$error":"#REF!"}},{"$f":"IF(Data!#REF!=\"\",\"\",Data!#REF!)","v":{"$error":"#REF!"}},{"$error":"#REF!"},{"$error":"#REF!"},{"$error":"#REF!"}]
[{"$f":"IF(Data!#REF!=\"\",\"\",Data!#REF!)","v":{"$error":"#REF!"}},{"$f":"IF(Data!#REF!=\"\",\"\",Data!#REF!)","v":{"$error":"#REF!"}},{"$f":"IF(Data!#REF!=\"\",\"\",Data!#REF!)","v":{"$error":"#REF!"}},{"$f":"IF(Data!#REF!=\"\",\"\",Data!#REF!)","v":{"$error":"#REF!"}},{"$f":"IF(Data!#REF!=\"\",\"\",Data!#REF!)","v":{"$error":"#REF!"}},{"$error":"#REF!"},{"$error":"#REF!"},{"$error":"#REF!"}]
[{"$f":"IF(Data!#REF!=\"\",\"\",Data!#REF!)","v":{"$error":"#REF!"}},{"$f":"IF(Data!#REF!=\"\",\"\",Data!#REF!)","v":{"$error":"#REF!"}},{"$f":"IF(Data!#REF!=\"\",\"\",Data!#REF!)","v":{"$error":"#REF!"}},{"$f":"IF(Data!#REF!=\"\",\"\",Data!#REF!)","v":{"$error":"#REF!"}},{"$f":"IF(Data!#REF!=\"\",\"\",Data!#REF!)","v":{"$error":"#REF!"}},{"$error":"#REF!"},{"$error":"#REF!"},{"$error":"#REF!"}]
[{"$f":"IF(Data!#REF!=\"\",\"\",Data!#REF!)","v":{"$error":"#REF!"}},{"$f":"IF(Data!#REF!=\"\",\"\",Data!#REF!)","v":{"$error":"#REF!"}},{"$f":"IF(Data!#REF!=\"\",\"\",Data!#REF!)","v":{"$error":"#REF!"}},{"$f":"IF(Data!#REF!=\"\",\"\",Data!#REF!)","v":{"$error":"#REF!"}},{"$f":"IF(Data!#REF!=\"\",\"\",Data!#REF!)","v":{"$error":"#REF!"}},{"$error":"#REF!"},{"$error":"#REF!"},{"$error":"#REF!"}]
[{"$f":"IF(Data!#REF!=\"\",\"\",Data!#REF!)","v":{"$error":"#REF!"}},{"$f":"IF(Data!#REF!=\"\",\"\",Data!#REF!)","v":{"$error":"#REF!"}},{"$f":"IF(Data!#REF!=\"\",\"\",Data!#REF!)","v":{"$error":"#REF!"}},{"$f":"IF(Data!#REF!=\"\",\"\",Data!#REF!)","v":{"$error":"#REF!"}},{"$f":"IF(Data!#REF!=\"\",\"\",Data!#REF!)","v":{"$error":"#REF!"}},{"$error":"#REF!"},{"$error":"#REF!"},{"$error":"#REF!"}]
[{"$f":"IF(Data!#REF!=\"\",\"\",Data!#REF!)","v":{"$error":"#REF!"}},{"$f":"IF(Data!#REF!=\"\",\"\",Data!#REF!)","v":{"$error":"#REF!"}},{"$f":"IF(Data!#REF!=\"\",\"\",Data!#REF!)","v":{"$error":"#REF!"}},{"$f":"IF(Data!#REF!=\"\",\"\",Data!#REF!)","v":{"$error":"#REF!"}},{"$f":"IF(Data!#REF!=\"\",\"\",Data!#REF!)","v":{"$error":"#REF!"}},{"$error":"#REF!"},{"$error":"#REF!"},{"$error":"#REF!"}]
[{"$f":"IF(Data!#REF!=\"\",\"\",Data!#REF!)","v":{"$error":"#REF!"}},{"$f":"IF(Data!#REF!=\"\",\"\",Data!#REF!)","v":{"$error":"#REF!"}},{"$f":"IF(Data!#REF!=\"\",\"\",Data!#REF!)","v":{"$error":"#REF!"}},{"$f":"IF(Data!#REF!=\"\",\"\",Data!#REF!)","v":{"$error":"#REF!"}},{"$f":"IF(Data!#REF!=\"\",\"\",Data!#REF!)","v":{"$error":"#REF!"}},{"$error":"#REF!"},{"$error":"#REF!"},{"$error":"#REF!"}]
[{"$f":"IF(Data!#REF!=\"\",\"\",Data!#REF!)","v":{"$error":"#REF!"}},{"$f":"IF(Data!#REF!=\"\",\"\",Data!#REF!)","v":{"$error":"#REF!"}},{"$f":"IF(Data!#REF!=\"\",\"\",Data!#REF!)","v":{"$error":"#REF!"}},{"$f":"IF(Data!#REF!=\"\",\"\",Data!#REF!)","v":{"$error":"#REF!"}},{"$f":"IF(Data!#REF!=\"\",\"\",Data!#REF!)","v":{"$error":"#REF!"}},{"$error":"#REF!"},{"$error":"#REF!"},{"$error":"#REF!"}]
[{"$f":"IF(Data!#REF!=\"\",\"\",Data!#REF!)","v":{"$error":"#REF!"}},{"$f":"IF(Data!#REF!=\"\",\"\",Data!#REF!)","v":{"$error":"#REF!"}},{"$f":"IF(Data!#REF!=\"\",\"\",Data!#REF!)","v":{"$error":"#REF!"}},{"$f":"IF(Data!#REF!=\"\",\"\",Data!#REF!)","v":{"$error":"#REF!"}},{"$f":"IF(Data!#REF!=\"\",\"\",Data!#REF!)","v":{"$error":"#REF!"}},{"$error":"#REF!"},{"$error":"#REF!"},{"$error":"#REF!"}]
[{"$f":"IF(Data!#REF!=\"\",\"\",Data!#REF!)","v":{"$error":"#REF!"}},{"$f":"IF(Data!#REF!=\"\",\"\",Data!#REF!)","v":{"$error":"#REF!"}},{"$f":"IF(Data!#REF!=\"\",\"\",Data!#REF!)","v":{"$error":"#REF!"}},{"$f":"IF(Data!#REF!=\"\",\"\",Data!#REF!)","v":{"$error":"#REF!"}},{"$f":"IF(Data!#REF!=\"\",\"\",Data!#REF!)","v":{"$error":"#REF!"}},{"$error":"#REF!"},{"$error":"#REF!"},{"$error":"#REF!"}]
[{"$f":"IF(Data!#REF!=\"\",\"\",Data!#REF!)","v":{"$error":"#REF!"}},{"$f":"IF(Data!#REF!=\"\",\"\",Data!#REF!)","v":{"$error":"#REF!"}},{"$f":"IF(Data!#REF!=\"\",\"\",Data!#REF!)","v":{"$error":"#REF!"}},{"$f":"IF(Data!#REF!=\"\",\"\",Data!#REF!)","v":{"$error":"#REF!"}},{"$f":"IF(Data!#REF!=\"\",\"\",Data!#REF!)","v":{"$error":"#REF!"}},{"$error":"#REF!"},{"$error":"#REF!"},{"$error":"#REF!"}]
[{"$f":"IF(Data!#REF!=\"\",\"\",Data!#REF!)","v":{"$error":"#REF!"}},{"$f":"IF(Data!#REF!=\"\",\"\",Data!#REF!)","v":{"$error":"#REF!"}},{"$f":"IF(Data!#REF!=\"\",\"\",Data!#REF!)","v":{"$error":"#REF!"}},{"$f":"IF(Data!#REF!=\"\",\"\",Data!#REF!)","v":{"$error":"#REF!"}},{"$f":"IF(Data!#REF!=\"\",\"\",Data!#REF!)","v":{"$error":"#REF!"}},{"$error":"#REF!"},{"$error":"#REF!"},{"$error":"#REF!"}]
[{"$f":"IF(Data!#REF!=\"\",\"\",Data!#REF!)","v":{"$error":"#REF!"}},{"$f":"IF(Data!#REF!=\"\",\"\",Data!#REF!)","v":{"$error":"#REF!"}},{"$f":"IF(Data!#REF!=\"\",\"\",Data!#REF!)","v":{"$error":"#REF!"}},{"$f":"IF(Data!#REF!=\"\",\"\",Data!#REF!)","v":{"$error":"#REF!"}},{"$f":"IF(Data!#REF!=\"\",\"\",Data!#REF!)","v":{"$error":"#REF!"}},{"$error":"#REF!"},{"$error":"#REF!"},{"$error":"#REF!"}]
[{"$f":"IF(Data!#REF!=\"\",\"\",Data!#REF!)","v":{"$error":"#REF!"}},{"$f":"IF(Data!#REF!=\"\",\"\",Data!#REF!)","v":{"$error":"#REF!"}},{"$f":"IF(Data!#REF!=\"\",\"\",Data!#REF!)","v":{"$error":"#REF!"}},{"$f":"IF(Data!#REF!=\"\",\"\",Data!#REF!)","v":{"$error":"#REF!"}},{"$f":"IF(Data!#REF!=\"\",\"\",Data!#REF!)","v":{"$error":"#REF!"}},{"$error":"#REF!"},{"$error":"#REF!"},{"$error":"#REF!"}]
[{"$f":"IF(Data!#REF!=\"\",\"\",Data!#REF!)","v":{"$error":"#REF!"}},{"$f":"IF(Data!#REF!=\"\",\"\",Data!#REF!)","v":{"$error":"#REF!"}},{"$f":"IF(Data!#REF!=\"\",\"\",Data!#REF!)","v":{"$error":"#REF!"}},{"$f":"IF(Data!#REF!=\"\",\"\",Data!#REF!)","v":{"$error":"#REF!"}},{"$f":"IF(Data!#REF!=\"\",\"\",Data!#REF!)","v":{"$error":"#REF!"}},{"$error":"#REF!"},{"$error":"#REF!"},{"$error":"#REF!"}]
[{"$f":"IF(Data!#REF!=\"\",\"\",Data!#REF!)","v":{"$error":"#REF!"}},{"$f":"IF(Data!#REF!=\"\",\"\",Data!#REF!)","v":{"$error":"#REF!"}},{"$f":"IF(Data!#REF!=\"\",\"\",Data!#REF!)","v":{"$error":"#REF!"}},{"$f":"IF(Data!#REF!=\"\",\"\",Data!#REF!)","v":{"$error":"#REF!"}},{"$f":"IF(Data!#REF!=\"\",\"\",Data!#REF!)","v":{"$error":"#REF!"}},{"$error":"#REF!"},{"$error":"#REF!"},{"$error":"#REF!"}]
[{"$f":"IF(Data!#REF!=\"\",\"\",Data!#REF!)","v":{"$error":"#REF!"}},{"$f":"IF(Data!#REF!=\"\",\"\",Data!#REF!)","v":{"$error":"#REF!"}},{"$f":"IF(Data!#REF!=\"\",\"\",Data!#REF!)","v":{"$error":"#REF!"}},{"$f":"IF(Data!#REF!=\"\",\"\",Data!#REF!)","v":{"$error":"#REF!"}},{"$f":"IF(Data!#REF!=\"\",\"\",Data!#REF!)","v":{"$error":"#REF!"}},{"$error":"#REF!"},{"$error":"#REF!"},{"$error":"#REF!"}]
[{"$f":"IF(Data!#REF!=\"\",\"\",Data!#REF!)","v":{"$error":"#REF!"}},{"$f":"IF(Data!#REF!=\"\",\"\",Data!#REF!)","v":{"$error":"#REF!"}},{"$f":"IF(Data!#REF!=\"\",\"\",Data!#REF!)","v":{"$error":"#REF!"}},{"$f":"IF(Data!#REF!=\"\",\"\",Data!#REF!)","v":{"$error":"#REF!"}},{"$f":"IF(Data!#REF!=\"\",\"\",Data!#REF!)","v":{"$error":"#REF!"}},{"$error":"#REF!"},{"$error":"#REF!"},{"$error":"#REF!"}]
[{"$f":"IF(Data!#REF!=\"\",\"\",Data!#REF!)","v":{"$error":"#REF!"}},{"$f":"IF(Data!#REF!=\"\",\"\",Data!#REF!)","v":{"$error":"#REF!"}},{"$f":"IF(Data!#REF!=\"\",\"\",Data!#REF!)","v":{"$error":"#REF!"}},{"$f":"IF(Data!#REF!=\"\",\"\",Data!#REF!)","v":{"$error":"#REF!"}},{"$f":"IF(Data!#REF!=\"\",\"\",Data!#REF!)","v":{"$error":"#REF!"}},{"$error":"#REF!"},{"$error":"#REF!"},{"$error":"#REF!"}]
[{"$f":"IF(Data!#REF!=\"\",\"\",Data!#REF!)","v":{"$error":"#REF!"}},{"$f":"IF(Data!#REF!=\"\",\"\",Data!#REF!)","v":{"$error":"#REF!"}},{"$f":"IF(Data!#REF!=\"\",\"\",Data!#REF!)","v":{"$error":"#REF!"}},{"$f":"IF(Data!#REF!=\"\",\"\",Data!#REF!)","v":{"$error":"#REF!"}},{"$f":"IF(Data!#REF!=\"\",\"\",Data!#REF!)","v":{"$error":"#REF!"}},{"$error":"#REF!"},{"$error":"#REF!"},{"$error":"#REF!"}]
[{"$f":"IF(Data!#REF!=\"\",\"\",Data!#REF!)","v":{"$error":"#REF!"}},{"$f":"IF(Data!#REF!=\"\",\"\",Data!#REF!)","v":{"$error":"#REF!"}},{"$f":"IF(Data!#REF!=\"\",\"\",Data!#REF!)","v":{"$error":"#REF!"}},{"$f":"IF(Data!#REF!=\"\",\"\",Data!#REF!)","v":{"$error":"#REF!"}},{"$f":"IF(Data!#REF!=\"\",\"\",Data!#REF!)","v":{"$error":"#REF!"}},{"$error":"#REF!"},{"$error":"#REF!"},{"$error":"#REF!"}]
[{"$f":"IF(Data!#REF!=\"\",\"\",Data!#REF!)","v":{"$error":"#REF!"}},{"$f":"IF(Data!#REF!=\"\",\"\",Data!#REF!)","v":{"$error":"#REF!"}},{"$f":"IF(Data!#REF!=\"\",\"\",Data!#REF!)","v":{"$error":"#REF!"}},{"$f":"IF(Data!#REF!=\"\",\"\",Data!#REF!)","v":{"$error":"#REF!"}},{"$f":"IF(Data!#REF!=\"\",\"\",Data!#REF!)","v":{"$error":"#REF!"}},{"$error":"#REF!"},{"$error":"#REF!"},{"$error":"#REF!"}]
[{"$f":"IF(Data!#REF!=\"\",\"\",Data!#REF!)","v":{"$error":"#REF!"}},{"$f":"IF(Data!#REF!=\"\",\"\",Data!#REF!)","v":{"$error":"#REF!"}},{"$f":"IF(Data!#REF!=\"\",\"\",Data!#REF!)","v":{"$error":"#REF!"}},{"$f":"IF(Data!#REF!=\"\",\"\",Data!#REF!)","v":{"$error":"#REF!"}},{"$f":"IF(Data!#REF!=\"\",\"\",Data!#REF!)","v":{"$error":"#REF!"}},{"$error":"#REF!"},{"$error":"#REF!"},{"$error":"#REF!"}]
[{"$f":"IF(Data!#REF!=\"\",\"\",Data!#REF!)","v":{"$error":"#REF!"}},{"$f":"IF(Data!#REF!=\"\",\"\",Data!#REF!)","v":{"$error":"#REF!"}},{"$f":"IF(Data!#REF!=\"\",\"\",Data!#REF!)","v":{"$error":"#REF!"}},{"$f":"IF(Data!#REF!=\"\",\"\",Data!#REF!)","v":{"$error":"#REF!"}},{"$f":"IF(Data!#REF!=\"\",\"\",Data!#REF!)","v":{"$error":"#REF!"}},{"$error":"#REF!"},{"$error":"#REF!"},{"$error":"#REF!"}]
[{"$f":"IF(Data!#REF!=\"\",\"\",Data!#REF!)","v":{"$error":"#REF!"}},{"$f":"IF(Data!#REF!=\"\",\"\",Data!#REF!)","v":{"$error":"#REF!"}},{"$f":"IF(Data!#REF!=\"\",\"\",Data!#REF!)","v":{"$error":"#REF!"}},{"$f":"IF(Data!#REF!=\"\",\"\",Data!#REF!)","v":{"$error":"#REF!"}},{"$f":"IF(Data!#REF!=\"\",\"\",Data!#REF!)","v":{"$error":"#REF!"}},{"$error":"#REF!"},{"$error":"#REF!"},{"$error":"#REF!"}]
[{"$f":"IF(Data!#REF!=\"\",\"\",Data!#REF!)","v":{"$error":"#REF!"}},{"$f":"IF(Data!#REF!=\"\",\"\",Data!#REF!)","v":{"$error":"#REF!"}},{"$f":"IF(Data!#REF!=\"\",\"\",Data!#REF!)","v":{"$error":"#REF!"}},{"$f":"IF(Data!#REF!=\"\",\"\",Data!#REF!)","v":{"$error":"#REF!"}},{"$f":"IF(Data!#REF!=\"\",\"\",Data!#REF!)","v":{"$error":"#REF!"}},{"$error":"#REF!"},{"$error":"#REF!"},{"$error":"#REF!"}]
[{"$f":"IF(Data!#REF!=\"\",\"\",Data!#REF!)","v":{"$error":"#REF!"}},{"$f":"IF(Data!#REF!=\"\",\"\",Data!#REF!)","v":{"$error":"#REF!"}},{"$f":"IF(Data!#REF!=\"\",\"\",Data!#REF!)","v":{"$error":"#REF!"}},{"$f":"IF(Data!#REF!=\"\",\"\",Data!#REF!)","v":{"$error":"#REF!"}},{"$f":"IF(Data!#REF!=\"\",\"\",Data!#REF!)","v":{"$error":"#REF!"}},{"$error":"#REF!"},{"$error":"#REF!"},{"$error":"#REF!"}]
[{"$f":"IF(Data!#REF!=\"\",\"\",Data!#REF!)","v":{"$error":"#REF!"}},{"$f":"IF(Data!#REF!=\"\",\"\",Data!#REF!)","v":{"$error":"#REF!"}},{"$f":"IF(Data!#REF!=\"\",\"\",Data!#REF!)","v":{"$error":"#REF!"}},{"$f":"IF(Data!#REF!=\"\",\"\",Data!#REF!)","v":{"$error":"#REF!"}},{"$f":"IF(Data!#REF!=\"\",\"\",Data!#REF!)","v":{"$error":"#REF!"}},{"$error":"#REF!"},{"$error":"#REF!"},{"$error":"#REF!"}]
[{"$f":"IF(Data!#REF!=\"\",\"\",Data!#REF!)","v":{"$error":"#REF!"}},{"$f":"IF(Data!#REF!=\"\",\"\",Data!#REF!)","v":{"$error":"#REF!"}},{"$f":"IF(Data!#REF!=\"\",\"\",Data!#REF!)","v":{"$error":"#REF!"}},{"$f":"IF(Data!#REF!=\"\",\"\",Data!#REF!)","v":{"$error":"#REF!"}},{"$f":"IF(Data!#REF!=\"\",\"\",Data!#REF!)","v":{"$error":"#REF!"}},{"$error":"#REF!"},{"$error":"#REF!"},{"$error":"#REF!"}]
[{"$f":"IF(Data!#REF!=\"\",\"\",Data!#REF!)","v":{"$error":"#REF!"}},{"$f":"IF(Data!#REF!=\"\",\"\",Data!#REF!)","v":{"$error":"#REF!"}},{"$f":"IF(Data!#REF!=\"\",\"\",Data!#REF!)","v":{"$error":"#REF!"}},{"$f":"IF(Data!#REF!=\"\",\"\",Data!#REF!)","v":{"$error":"#REF!"}},{"$f":"IF(Data!#REF!=\"\",\"\",Data!#REF!)","v":{"$error":"#REF!"}},{"$error":"#REF!"},{"$error":"#REF!"},{"$error":"#REF!"}]
[{"$f":"IF(Data!#REF!=\"\",\"\",Data!#REF!)","v":{"$error":"#REF!"}},{"$f":"IF(Data!#REF!=\"\",\"\",Data!#REF!)","v":{"$error":"#REF!"}},{"$f":"IF(Data!#REF!=\"\",\"\",Data!#REF!)","v":{"$error":"#REF!"}},{"$f":"IF(Data!#REF!=\"\",\"\",Data!#REF!)","v":{"$error":"#REF!"}},{"$f":"IF(Data!#REF!=\"\",\"\",Data!#REF!)","v":{"$error":"#REF!"}},{"$error":"#REF!"},{"$error":"#REF!"},{"$error":"#REF!"}]
[{"$f":"IF(Data!#REF!=\"\",\"\",Data!#REF!)","v":{"$error":"#REF!"}},{"$f":"IF(Data!#REF!=\"\",\"\",Data!#REF!)","v":{"$error":"#REF!"}},{"$f":"IF(Data!#REF!=\"\",\"\",Data!#REF!)","v":{"$error":"#REF!"}},{"$f":"IF(Data!#REF!=\"\",\"\",Data!#REF!)","v":{"$error":"#REF!"}},{"$f":"IF(Data!#REF!=\"\",\"\",Data!#REF!)","v":{"$error":"#REF!"}},{"$f":"IF(E1475>0,MONTH(E1475),\"\")","v":{"$error":"#REF!"}},{"$f":"IF(E1475>0,WEEKNUM(E1475),\"0\")","v":{"$error":"#REF!"}},{"$f":"IF(G1475>=($G$2-3),\"Ano\",\"Nie\")","v":{"$error":"#REF!"}}]
[{"$f":"IF(Data!#REF!=\"\",\"\",Data!#REF!)","v":{"$error":"#REF!"}},{"$f":"IF(Data!#REF!=\"\",\"\",Data!#REF!)","v":{"$error":"#REF!"}},{"$f":"IF(Data!#REF!=\"\",\"\",Data!#REF!)","v":{"$error":"#REF!"}},{"$f":"IF(Data!#REF!=\"\",\"\",Data!#REF!)","v":{"$error":"#REF!"}},{"$f":"IF(Data!#REF!=\"\",\"\",Data!#REF!)","v":{"$error":"#REF!"}},{"$error":"#REF!"},{"$error":"#REF!"},{"$error":"#REF!"}]
[{"$f":"IF(Data!#REF!=\"\",\"\",Data!#REF!)","v":{"$error":"#REF!"}},{"$f":"IF(Data!#REF!=\"\",\"\",Data!#REF!)","v":{"$error":"#REF!"}},{"$f":"IF(Data!#REF!=\"\",\"\",Data!#REF!)","v":{"$error":"#REF!"}},{"$f":"IF(Data!#REF!=\"\",\"\",Data!#REF!)","v":{"$error":"#REF!"}},{"$f":"IF(Data!#REF!=\"\",\"\",Data!#REF!)","v":{"$error":"#REF!"}},{"$error":"#REF!"},{"$error":"#REF!"},{"$error":"#REF!"}]
[{"$f":"IF(Data!#REF!=\"\",\"\",Data!#REF!)","v":{"$error":"#REF!"}},{"$f":"IF(Data!#REF!=\"\",\"\",Data!#REF!)","v":{"$error":"#REF!"}},{"$f":"IF(Data!#REF!=\"\",\"\",Data!#REF!)","v":{"$error":"#REF!"}},{"$f":"IF(Data!#REF!=\"\",\"\",Data!#REF!)","v":{"$error":"#REF!"}},{"$f":"IF(Data!#REF!=\"\",\"\",Data!#REF!)","v":{"$error":"#REF!"}},{"$error":"#REF!"},{"$error":"#REF!"},{"$error":"#REF!"}]
[{"$f":"IF(Data!#REF!=\"\",\"\",Data!#REF!)","v":{"$error":"#REF!"}},{"$f":"IF(Data!#REF!=\"\",\"\",Data!#REF!)","v":{"$error":"#REF!"}},{"$f":"IF(Data!#REF!=\"\",\"\",Data!#REF!)","v":{"$error":"#REF!"}},{"$f":"IF(Data!#REF!=\"\",\"\",Data!#REF!)","v":{"$error":"#REF!"}},{"$f":"IF(Data!#REF!=\"\",\"\",Data!#REF!)","v":{"$error":"#REF!"}},{"$error":"#REF!"},{"$error":"#REF!"},{"$error":"#REF!"}]
[{"$f":"IF(Data!#REF!=\"\",\"\",Data!#REF!)","v":{"$error":"#REF!"}},{"$f":"IF(Data!#REF!=\"\",\"\",Data!#REF!)","v":{"$error":"#REF!"}},{"$f":"IF(Data!#REF!=\"\",\"\",Data!#REF!)","v":{"$error":"#REF!"}},{"$f":"IF(Data!#REF!=\"\",\"\",Data!#REF!)","v":{"$error":"#REF!"}},{"$f":"IF(Data!#REF!=\"\",\"\",Data!#REF!)","v":{"$error":"#REF!"}},{"$error":"#REF!"},{"$error":"#REF!"},{"$error":"#REF!"}]
[{"$f":"IF(Data!#REF!=\"\",\"\",Data!#REF!)","v":{"$error":"#REF!"}},{"$f":"IF(Data!#REF!=\"\",\"\",Data!#REF!)","v":{"$error":"#REF!"}},{"$f":"IF(Data!#REF!=\"\",\"\",Data!#REF!)","v":{"$error":"#REF!"}},{"$f":"IF(Data!#REF!=\"\",\"\",Data!#REF!)","v":{"$error":"#REF!"}},{"$f":"IF(Data!#REF!=\"\",\"\",Data!#REF!)","v":{"$error":"#REF!"}},{"$error":"#REF!"},{"$error":"#REF!"},{"$error":"#REF!"}]
[{"$f":"IF(Data!#REF!=\"\",\"\",Data!#REF!)","v":{"$error":"#REF!"}},{"$f":"IF(Data!#REF!=\"\",\"\",Data!#REF!)","v":{"$error":"#REF!"}},{"$f":"IF(Data!#REF!=\"\",\"\",Data!#REF!)","v":{"$error":"#REF!"}},{"$f":"IF(Data!#REF!=\"\",\"\",Data!#REF!)","v":{"$error":"#REF!"}},{"$f":"IF(Data!#REF!=\"\",\"\",Data!#REF!)","v":{"$error":"#REF!"}},{"$error":"#REF!"},{"$error":"#REF!"},{"$error":"#REF!"}]
[{"$f":"IF(Data!#REF!=\"\",\"\",Data!#REF!)","v":{"$error":"#REF!"}},{"$f":"IF(Data!#REF!=\"\",\"\",Data!#REF!)","v":{"$error":"#REF!"}},{"$f":"IF(Data!#REF!=\"\",\"\",Data!#REF!)","v":{"$error":"#REF!"}},{"$f":"IF(Data!#REF!=\"\",\"\",Data!#REF!)","v":{"$error":"#REF!"}},{"$f":"IF(Data!#REF!=\"\",\"\",Data!#REF!)","v":{"$error":"#REF!"}},{"$error":"#REF!"},{"$error":"#REF!"},{"$error":"#REF!"}]
[{"$f":"IF(Data!#REF!=\"\",\"\",Data!#REF!)","v":{"$error":"#REF!"}},{"$f":"IF(Data!#REF!=\"\",\"\",Data!#REF!)","v":{"$error":"#REF!"}},{"$f":"IF(Data!#REF!=\"\",\"\",Data!#REF!)","v":{"$error":"#REF!"}},{"$f":"IF(Data!#REF!=\"\",\"\",Data!#REF!)","v":{"$error":"#REF!"}},{"$f":"IF(Data!#REF!=\"\",\"\",Data!#REF!)","v":{"$error":"#REF!"}},{"$error":"#REF!"},{"$error":"#REF!"},{"$error":"#REF!"}]
[{"$f":"IF(Data!#REF!=\"\",\"\",Data!#REF!)","v":{"$error":"#REF!"}},{"$f":"IF(Data!#REF!=\"\",\"\",Data!#REF!)","v":{"$error":"#REF!"}},{"$f":"IF(Data!#REF!=\"\",\"\",Data!#REF!)","v":{"$error":"#REF!"}},{"$f":"IF(Data!#REF!=\"\",\"\",Data!#REF!)","v":{"$error":"#REF!"}},{"$f":"IF(Data!#REF!=\"\",\"\",Data!#REF!)","v":{"$error":"#REF!"}},{"$error":"#REF!"},{"$error":"#REF!"},{"$error":"#REF!"}]
[{"$f":"IF(Data!#REF!=\"\",\"\",Data!#REF!)","v":{"$error":"#REF!"}},{"$f":"IF(Data!#REF!=\"\",\"\",Data!#REF!)","v":{"$error":"#REF!"}},{"$f":"IF(Data!#REF!=\"\",\"\",Data!#REF!)","v":{"$error":"#REF!"}},{"$f":"IF(Data!#REF!=\"\",\"\",Data!#REF!)","v":{"$error":"#REF!"}},{"$f":"IF(Data!#REF!=\"\",\"\",Data!#REF!)","v":{"$error":"#REF!"}},{"$error":"#REF!"},{"$error":"#REF!"},{"$error":"#REF!"}]
[{"$f":"IF(Data!#REF!=\"\",\"\",Data!#REF!)","v":{"$error":"#REF!"}},{"$f":"IF(Data!#REF!=\"\",\"\",Data!#REF!)","v":{"$error":"#REF!"}},{"$f":"IF(Data!#REF!=\"\",\"\",Data!#REF!)","v":{"$error":"#REF!"}},{"$f":"IF(Data!#REF!=\"\",\"\",Data!#REF!)","v":{"$error":"#REF!"}},{"$f":"IF(Data!#REF!=\"\",\"\",Data!#REF!)","v":{"$error":"#REF!"}},{"$error":"#REF!"},{"$error":"#REF!"},{"$error":"#REF!"}]
[{"$f":"IF(Data!#REF!=\"\",\"\",Data!#REF!)","v":{"$error":"#REF!"}},{"$f":"IF(Data!#REF!=\"\",\"\",Data!#REF!)","v":{"$error":"#REF!"}},{"$f":"IF(Data!#REF!=\"\",\"\",Data!#REF!)","v":{"$error":"#REF!"}},{"$f":"IF(Data!#REF!=\"\",\"\",Data!#REF!)","v":{"$error":"#REF!"}},{"$f":"IF(Data!#REF!=\"\",\"\",Data!#REF!)","v":{"$error":"#REF!"}},{"$error":"#REF!"},{"$error":"#REF!"},{"$error":"#REF!"}]
[{"$f":"IF(Data!#REF!=\"\",\"\",Data!#REF!)","v":{"$error":"#REF!"}},{"$f":"IF(Data!#REF!=\"\",\"\",Data!#REF!)","v":{"$error":"#REF!"}},{"$f":"IF(Data!#REF!=\"\",\"\",Data!#REF!)","v":{"$error":"#REF!"}},{"$f":"IF(Data!#REF!=\"\",\"\",Data!#REF!)","v":{"$error":"#REF!"}},{"$f":"IF(Data!#REF!=\"\",\"\",Data!#REF!)","v":{"$error":"#REF!"}},{"$error":"#REF!"},{"$error":"#REF!"},{"$error":"#REF!"}]
[{"$f":"IF(Data!#REF!=\"\",\"\",Data!#REF!)","v":{"$error":"#REF!"}},{"$f":"IF(Data!#REF!=\"\",\"\",Data!#REF!)","v":{"$error":"#REF!"}},{"$f":"IF(Data!#REF!=\"\",\"\",Data!#REF!)","v":{"$error":"#REF!"}},{"$f":"IF(Data!#REF!=\"\",\"\",Data!#REF!)","v":{"$error":"#REF!"}},{"$f":"IF(Data!#REF!=\"\",\"\",Data!#REF!)","v":{"$error":"#REF!"}},{"$error":"#REF!"},{"$error":"#REF!"},{"$error":"#REF!"}]
[{"$f":"IF(Data!#REF!=\"\",\"\",Data!#REF!)","v":{"$error":"#REF!"}},{"$f":"IF(Data!#REF!=\"\",\"\",Data!#REF!)","v":{"$error":"#REF!"}},{"$f":"IF(Data!#REF!=\"\",\"\",Data!#REF!)","v":{"$error":"#REF!"}},{"$f":"IF(Data!#REF!=\"\",\"\",Data!#REF!)","v":{"$error":"#REF!"}},{"$f":"IF(Data!#REF!=\"\",\"\",Data!#REF!)","v":{"$error":"#REF!"}},{"$error":"#REF!"},{"$error":"#REF!"},{"$error":"#REF!"}]
[{"$f":"IF(Data!#REF!=\"\",\"\",Data!#REF!)","v":{"$error":"#REF!"}},{"$f":"IF(Data!#REF!=\"\",\"\",Data!#REF!)","v":{"$error":"#REF!"}},{"$f":"IF(Data!#REF!=\"\",\"\",Data!#REF!)","v":{"$error":"#REF!"}},{"$f":"IF(Data!#REF!=\"\",\"\",Data!#REF!)","v":{"$error":"#REF!"}},{"$f":"IF(Data!#REF!=\"\",\"\",Data!#REF!)","v":{"$error":"#REF!"}},{"$error":"#REF!"},{"$error":"#REF!"},{"$error":"#REF!"}]
[{"$f":"IF(Data!#REF!=\"\",\"\",Data!#REF!)","v":{"$error":"#REF!"}},{"$f":"IF(Data!#REF!=\"\",\"\",Data!#REF!)","v":{"$error":"#REF!"}},{"$f":"IF(Data!#REF!=\"\",\"\",Data!#REF!)","v":{"$error":"#REF!"}},{"$f":"IF(Data!#REF!=\"\",\"\",Data!#REF!)","v":{"$error":"#REF!"}},{"$f":"IF(Data!#REF!=\"\",\"\",Data!#REF!)","v":{"$error":"#REF!"}},{"$error":"#REF!"},{"$error":"#REF!"},{"$error":"#REF!"}]
[{"$f":"IF(Data!#REF!=\"\",\"\",Data!#REF!)","v":{"$error":"#REF!"}},{"$f":"IF(Data!#REF!=\"\",\"\",Data!#REF!)","v":{"$error":"#REF!"}},{"$f":"IF(Data!#REF!=\"\",\"\",Data!#REF!)","v":{"$error":"#REF!"}},{"$f":"IF(Data!#REF!=\"\",\"\",Data!#REF!)","v":{"$error":"#REF!"}},{"$f":"IF(Data!#REF!=\"\",\"\",Data!#REF!)","v":{"$error":"#REF!"}},{"$error":"#REF!"},{"$error":"#REF!"},{"$error":"#REF!"}]
[{"$f":"IF(Data!#REF!=\"\",\"\",Data!#REF!)","v":{"$error":"#REF!"}},{"$f":"IF(Data!#REF!=\"\",\"\",Data!#REF!)","v":{"$error":"#REF!"}},{"$f":"IF(Data!#REF!=\"\",\"\",Data!#REF!)","v":{"$error":"#REF!"}},{"$f":"IF(Data!#REF!=\"\",\"\",Data!#REF!)","v":{"$error":"#REF!"}},{"$f":"IF(Data!#REF!=\"\",\"\",Data!#REF!)","v":{"$error":"#REF!"}},{"$error":"#REF!"},{"$error":"#REF!"},{"$error":"#REF!"}]
[{"$f":"IF(Data!#REF!=\"\",\"\",Data!#REF!)","v":{"$error":"#REF!"}},{"$f":"IF(Data!#REF!=\"\",\"\",Data!#REF!)","v":{"$error":"#REF!"}},{"$f":"IF(Data!#REF!=\"\",\"\",Data!#REF!)","v":{"$error":"#REF!"}},{"$f":"IF(Data!#REF!=\"\",\"\",Data!#REF!)","v":{"$error":"#REF!"}},{"$f":"IF(Data!#REF!=\"\",\"\",Data!#REF!)","v":{"$error":"#REF!"}},{"$error":"#REF!"},{"$error":"#REF!"},{"$error":"#REF!"}]
[{"$f":"IF(Data!#REF!=\"\",\"\",Data!#REF!)","v":{"$error":"#REF!"}},{"$f":"IF(Data!#REF!=\"\",\"\",Data!#REF!)","v":{"$error":"#REF!"}},{"$f":"IF(Data!#REF!=\"\",\"\",Data!#REF!)","v":{"$error":"#REF!"}},{"$f":"IF(Data!#REF!=\"\",\"\",Data!#REF!)","v":{"$error":"#REF!"}},{"$f":"IF(Data!#REF!=\"\",\"\",Data!#REF!)","v":{"$error":"#REF!"}},{"$error":"#REF!"},{"$error":"#REF!"},{"$error":"#REF!"}]
[{"$f":"IF(Data!#REF!=\"\",\"\",Data!#REF!)","v":{"$error":"#REF!"}},{"$f":"IF(Data!#REF!=\"\",\"\",Data!#REF!)","v":{"$error":"#REF!"}},{"$f":"IF(Data!#REF!=\"\",\"\",Data!#REF!)","v":{"$error":"#REF!"}},{"$f":"IF(Data!#REF!=\"\",\"\",Data!#REF!)","v":{"$error":"#REF!"}},{"$f":"IF(Data!#REF!=\"\",\"\",Data!#REF!)","v":{"$error":"#REF!"}},{"$error":"#REF!"},{"$error":"#REF!"},{"$error":"#REF!"}]
[{"$f":"IF(Data!#REF!=\"\",\"\",Data!#REF!)","v":{"$error":"#REF!"}},{"$f":"IF(Data!#REF!=\"\",\"\",Data!#REF!)","v":{"$error":"#REF!"}},{"$f":"IF(Data!#REF!=\"\",\"\",Data!#REF!)","v":{"$error":"#REF!"}},{"$f":"IF(Data!#REF!=\"\",\"\",Data!#REF!)","v":{"$error":"#REF!"}},{"$f":"IF(Data!#REF!=\"\",\"\",Data!#REF!)","v":{"$error":"#REF!"}},{"$error":"#REF!"},{"$error":"#REF!"},{"$error":"#REF!"}]
[{"$f":"IF(Data!#REF!=\"\",\"\",Data!#REF!)","v":{"$error":"#REF!"}},{"$f":"IF(Data!#REF!=\"\",\"\",Data!#REF!)","v":{"$error":"#REF!"}},{"$f":"IF(Data!#REF!=\"\",\"\",Data!#REF!)","v":{"$error":"#REF!"}},{"$f":"IF(Data!#REF!=\"\",\"\",Data!#REF!)","v":{"$error":"#REF!"}},{"$f":"IF(Data!#REF!=\"\",\"\",Data!#REF!)","v":{"$error":"#REF!"}},{"$error":"#REF!"},{"$error":"#REF!"},{"$error":"#REF!"}]
[{"$f":"IF(Data!#REF!=\"\",\"\",Data!#REF!)","v":{"$error":"#REF!"}},{"$f":"IF(Data!#REF!=\"\",\"\",Data!#REF!)","v":{"$error":"#REF!"}},{"$f":"IF(Data!#REF!=\"\",\"\",Data!#REF!)","v":{"$error":"#REF!"}},{"$f":"IF(Data!#REF!=\"\",\"\",Data!#REF!)","v":{"$error":"#REF!"}},{"$f":"IF(Data!#REF!=\"\",\"\",Data!#REF!)","v":{"$error":"#REF!"}},{"$error":"#REF!"},{"$error":"#REF!"},{"$error":"#REF!"}]
[{"$f":"IF(Data!#REF!=\"\",\"\",Data!#REF!)","v":{"$error":"#REF!"}},{"$f":"IF(Data!#REF!=\"\",\"\",Data!#REF!)","v":{"$error":"#REF!"}},{"$f":"IF(Data!#REF!=\"\",\"\",Data!#REF!)","v":{"$error":"#REF!"}},{"$f":"IF(Data!#REF!=\"\",\"\",Data!#REF!)","v":{"$error":"#REF!"}},{"$f":"IF(Data!#REF!=\"\",\"\",Data!#REF!)","v":{"$error":"#REF!"}},{"$error":"#REF!"},{"$error":"#REF!"},{"$error":"#REF!"}]
[{"$f":"IF(Data!#REF!=\"\",\"\",Data!#REF!)","v":{"$error":"#REF!"}},{"$f":"IF(Data!#REF!=\"\",\"\",Data!#REF!)","v":{"$error":"#REF!"}},{"$f":"IF(Data!#REF!=\"\",\"\",Data!#REF!)","v":{"$error":"#REF!"}},{"$f":"IF(Data!#REF!=\"\",\"\",Data!#REF!)","v":{"$error":"#REF!"}},{"$f":"IF(Data!#REF!=\"\",\"\",Data!#REF!)","v":{"$error":"#REF!"}},{"$error":"#REF!"},{"$error":"#REF!"},{"$error":"#REF!"}]
[{"$f":"IF(Data!#REF!=\"\",\"\",Data!#REF!)","v":{"$error":"#REF!"}},{"$f":"IF(Data!#REF!=\"\",\"\",Data!#REF!)","v":{"$error":"#REF!"}},{"$f":"IF(Data!#REF!=\"\",\"\",Data!#REF!)","v":{"$error":"#REF!"}},{"$f":"IF(Data!#REF!=\"\",\"\",Data!#REF!)","v":{"$error":"#REF!"}},{"$f":"IF(Data!#REF!=\"\",\"\",Data!#REF!)","v":{"$error":"#REF!"}},{"$error":"#REF!"},{"$error":"#REF!"},{"$error":"#REF!"}]
[{"$f":"IF(Data!#REF!=\"\",\"\",Data!#REF!)","v":{"$error":"#REF!"}},{"$f":"IF(Data!#REF!=\"\",\"\",Data!#REF!)","v":{"$error":"#REF!"}},{"$f":"IF(Data!#REF!=\"\",\"\",Data!#REF!)","v":{"$error":"#REF!"}},{"$f":"IF(Data!#REF!=\"\",\"\",Data!#REF!)","v":{"$error":"#REF!"}},{"$f":"IF(Data!#REF!=\"\",\"\",Data!#REF!)","v":{"$error":"#REF!"}},{"$error":"#REF!"},{"$error":"#REF!"},{"$error":"#REF!"}]
[{"$f":"IF(Data!#REF!=\"\",\"\",Data!#REF!)","v":{"$error":"#REF!"}},{"$f":"IF(Data!#REF!=\"\",\"\",Data!#REF!)","v":{"$error":"#REF!"}},{"$f":"IF(Data!#REF!=\"\",\"\",Data!#REF!)","v":{"$error":"#REF!"}},{"$f":"IF(Data!#REF!=\"\",\"\",Data!#REF!)","v":{"$error":"#REF!"}},{"$f":"IF(Data!#REF!=\"\",\"\",Data!#REF!)","v":{"$error":"#REF!"}},{"$error":"#REF!"},{"$error":"#REF!"},{"$error":"#REF!"}]
[{"$f":"IF(Data!#REF!=\"\",\"\",Data!#REF!)","v":{"$error":"#REF!"}},{"$f":"IF(Data!#REF!=\"\",\"\",Data!#REF!)","v":{"$error":"#REF!"}},{"$f":"IF(Data!#REF!=\"\",\"\",Data!#REF!)","v":{"$error":"#REF!"}},{"$f":"IF(Data!#REF!=\"\",\"\",Data!#REF!)","v":{"$error":"#REF!"}},{"$f":"IF(Data!#REF!=\"\",\"\",Data!#REF!)","v":{"$error":"#REF!"}},{"$error":"#REF!"},{"$error":"#REF!"},{"$error":"#REF!"}]
[{"$f":"IF(Data!#REF!=\"\",\"\",Data!#REF!)","v":{"$error":"#REF!"}},{"$f":"IF(Data!#REF!=\"\",\"\",Data!#REF!)","v":{"$error":"#REF!"}},{"$f":"IF(Data!#REF!=\"\",\"\",Data!#REF!)","v":{"$error":"#REF!"}},{"$f":"IF(Data!#REF!=\"\",\"\",Data!#REF!)","v":{"$error":"#REF!"}},{"$f":"IF(Data!#REF!=\"\",\"\",Data!#REF!)","v":{"$error":"#REF!"}},{"$error":"#REF!"},{"$error":"#REF!"},{"$error":"#REF!"}]
[{"$f":"IF(Data!#REF!=\"\",\"\",Data!#REF!)","v":{"$error":"#REF!"}},{"$f":"IF(Data!#REF!=\"\",\"\",Data!#REF!)","v":{"$error":"#REF!"}},{"$f":"IF(Data!#REF!=\"\",\"\",Data!#REF!)","v":{"$error":"#REF!"}},{"$f":"IF(Data!#REF!=\"\",\"\",Data!#REF!)","v":{"$error":"#REF!"}},{"$f":"IF(Data!#REF!=\"\",\"\",Data!#REF!)","v":{"$error":"#REF!"}},{"$error":"#REF!"},{"$error":"#REF!"},{"$error":"#REF!"}]
[{"$f":"IF(Data!#REF!=\"\",\"\",Data!#REF!)","v":{"$error":"#REF!"}},{"$f":"IF(Data!#REF!=\"\",\"\",Data!#REF!)","v":{"$error":"#REF!"}},{"$f":"IF(Data!#REF!=\"\",\"\",Data!#REF!)","v":{"$error":"#REF!"}},{"$f":"IF(Data!#REF!=\"\",\"\",Data!#REF!)","v":{"$error":"#REF!"}},{"$f":"IF(Data!#REF!=\"\",\"\",Data!#REF!)","v":{"$error":"#REF!"}},{"$error":"#REF!"},{"$error":"#REF!"},{"$error":"#REF!"}]
[{"$f":"IF(Data!#REF!=\"\",\"\",Data!#REF!)","v":{"$error":"#REF!"}},{"$f":"IF(Data!#REF!=\"\",\"\",Data!#REF!)","v":{"$error":"#REF!"}},{"$f":"IF(Data!#REF!=\"\",\"\",Data!#REF!)","v":{"$error":"#REF!"}},{"$f":"IF(Data!#REF!=\"\",\"\",Data!#REF!)","v":{"$error":"#REF!"}},{"$f":"IF(Data!#REF!=\"\",\"\",Data!#REF!)","v":{"$error":"#REF!"}},{"$error":"#REF!"},{"$error":"#REF!"},{"$error":"#REF!"}]
[{"$f":"IF(Data!#REF!=\"\",\"\",Data!#REF!)","v":{"$error":"#REF!"}},{"$f":"IF(Data!#REF!=\"\",\"\",Data!#REF!)","v":{"$error":"#REF!"}},{"$f":"IF(Data!#REF!=\"\",\"\",Data!#REF!)","v":{"$error":"#REF!"}},{"$f":"IF(Data!#REF!=\"\",\"\",Data!#REF!)","v":{"$error":"#REF!"}},{"$f":"IF(Data!#REF!=\"\",\"\",Data!#REF!)","v":{"$error":"#REF!"}},{"$error":"#REF!"},{"$error":"#REF!"},{"$error":"#REF!"}]
[{"$f":"IF(Data!#REF!=\"\",\"\",Data!#REF!)","v":{"$error":"#REF!"}},{"$f":"IF(Data!#REF!=\"\",\"\",Data!#REF!)","v":{"$error":"#REF!"}},{"$f":"IF(Data!#REF!=\"\",\"\",Data!#REF!)","v":{"$error":"#REF!"}},{"$f":"IF(Data!#REF!=\"\",\"\",Data!#REF!)","v":{"$error":"#REF!"}},{"$f":"IF(Data!#REF!=\"\",\"\",Data!#REF!)","v":{"$error":"#REF!"}},{"$error":"#REF!"},{"$error":"#REF!"},{"$error":"#REF!"}]
[{"$f":"IF(Data!#REF!=\"\",\"\",Data!#REF!)","v":{"$error":"#REF!"}},{"$f":"IF(Data!#REF!=\"\",\"\",Data!#REF!)","v":{"$error":"#REF!"}},{"$f":"IF(Data!#REF!=\"\",\"\",Data!#REF!)","v":{"$error":"#REF!"}},{"$f":"IF(Data!#REF!=\"\",\"\",Data!#REF!)","v":{"$error":"#REF!"}},{"$f":"IF(Data!#REF!=\"\",\"\",Data!#REF!)","v":{"$error":"#REF!"}},{"$error":"#REF!"},{"$error":"#REF!"},{"$error":"#REF!"}]
[{"$f":"IF(Data!#REF!=\"\",\"\",Data!#REF!)","v":{"$error":"#REF!"}},{"$f":"IF(Data!#REF!=\"\",\"\",Data!#REF!)","v":{"$error":"#REF!"}},{"$f":"IF(Data!#REF!=\"\",\"\",Data!#REF!)","v":{"$error":"#REF!"}},{"$f":"IF(Data!#REF!=\"\",\"\",Data!#REF!)","v":{"$error":"#REF!"}},{"$f":"IF(Data!#REF!=\"\",\"\",Data!#REF!)","v":{"$error":"#REF!"}},{"$error":"#REF!"},{"$error":"#REF!"},{"$error":"#REF!"}]
[{"$f":"IF(Data!#REF!=\"\",\"\",Data!#REF!)","v":{"$error":"#REF!"}},{"$f":"IF(Data!#REF!=\"\",\"\",Data!#REF!)","v":{"$error":"#REF!"}},{"$f":"IF(Data!#REF!=\"\",\"\",Data!#REF!)","v":{"$error":"#REF!"}},{"$f":"IF(Data!#REF!=\"\",\"\",Data!#REF!)","v":{"$error":"#REF!"}},{"$f":"IF(Data!#REF!=\"\",\"\",Data!#REF!)","v":{"$error":"#REF!"}},{"$error":"#REF!"},{"$error":"#REF!"},{"$error":"#REF!"}]
[{"$f":"IF(Data!#REF!=\"\",\"\",Data!#REF!)","v":{"$error":"#REF!"}},{"$f":"IF(Data!#REF!=\"\",\"\",Data!#REF!)","v":{"$error":"#REF!"}},{"$f":"IF(Data!#REF!=\"\",\"\",Data!#REF!)","v":{"$error":"#REF!"}},{"$f":"IF(Data!#REF!=\"\",\"\",Data!#REF!)","v":{"$error":"#REF!"}},{"$f":"IF(Data!#REF!=\"\",\"\",Data!#REF!)","v":{"$error":"#REF!"}},{"$error":"#REF!"},{"$error":"#REF!"},{"$error":"#REF!"}]
[{"$f":"IF(Data!#REF!=\"\",\"\",Data!#REF!)","v":{"$error":"#REF!"}},{"$f":"IF(Data!#REF!=\"\",\"\",Data!#REF!)","v":{"$error":"#REF!"}},{"$f":"IF(Data!#REF!=\"\",\"\",Data!#REF!)","v":{"$error":"#REF!"}},{"$f":"IF(Data!#REF!=\"\",\"\",Data!#REF!)","v":{"$error":"#REF!"}},{"$f":"IF(Data!#REF!=\"\",\"\",Data!#REF!)","v":{"$error":"#REF!"}},{"$error":"#REF!"},{"$error":"#REF!"},{"$error":"#REF!"}]
[{"$f":"IF(Data!#REF!=\"\",\"\",Data!#REF!)","v":{"$error":"#REF!"}},{"$f":"IF(Data!#REF!=\"\",\"\",Data!#REF!)","v":{"$error":"#REF!"}},{"$f":"IF(Data!#REF!=\"\",\"\",Data!#REF!)","v":{"$error":"#REF!"}},{"$f":"IF(Data!#REF!=\"\",\"\",Data!#REF!)","v":{"$error":"#REF!"}},{"$f":"IF(Data!#REF!=\"\",\"\",Data!#REF!)","v":{"$error":"#REF!"}},{"$error":"#REF!"},{"$error":"#REF!"},{"$error":"#REF!"}]
[{"$f":"IF(Data!#REF!=\"\",\"\",Data!#REF!)","v":{"$error":"#REF!"}},{"$f":"IF(Data!#REF!=\"\",\"\",Data!#REF!)","v":{"$error":"#REF!"}},{"$f":"IF(Data!#REF!=\"\",\"\",Data!#REF!)","v":{"$error":"#REF!"}},{"$f":"IF(Data!#REF!=\"\",\"\",Data!#REF!)","v":{"$error":"#REF!"}},{"$f":"IF(Data!#REF!=\"\",\"\",Data!#REF!)","v":{"$error":"#REF!"}},{"$error":"#REF!"},{"$error":"#REF!"},{"$error":"#REF!"}]
[{"$f":"IF(Data!#REF!=\"\",\"\",Data!#REF!)","v":{"$error":"#REF!"}},{"$f":"IF(Data!#REF!=\"\",\"\",Data!#REF!)","v":{"$error":"#REF!"}},{"$f":"IF(Data!#REF!=\"\",\"\",Data!#REF!)","v":{"$error":"#REF!"}},{"$f":"IF(Data!#REF!=\"\",\"\",Data!#REF!)","v":{"$error":"#REF!"}},{"$f":"IF(Data!#REF!=\"\",\"\",Data!#REF!)","v":{"$error":"#REF!"}},{"$error":"#REF!"},{"$error":"#REF!"},{"$error":"#REF!"}]
[{"$f":"IF(Data!#REF!=\"\",\"\",Data!#REF!)","v":{"$error":"#REF!"}},{"$f":"IF(Data!#REF!=\"\",\"\",Data!#REF!)","v":{"$error":"#REF!"}},{"$f":"IF(Data!#REF!=\"\",\"\",Data!#REF!)","v":{"$error":"#REF!"}},{"$f":"IF(Data!#REF!=\"\",\"\",Data!#REF!)","v":{"$error":"#REF!"}},{"$f":"IF(Data!#REF!=\"\",\"\",Data!#REF!)","v":{"$error":"#REF!"}},{"$error":"#REF!"},{"$error":"#REF!"},{"$error":"#REF!"}]
[{"$f":"IF(Data!#REF!=\"\",\"\",Data!#REF!)","v":{"$error":"#REF!"}},{"$f":"IF(Data!#REF!=\"\",\"\",Data!#REF!)","v":{"$error":"#REF!"}},{"$f":"IF(Data!#REF!=\"\",\"\",Data!#REF!)","v":{"$error":"#REF!"}},{"$f":"IF(Data!#REF!=\"\",\"\",Data!#REF!)","v":{"$error":"#REF!"}},{"$f":"IF(Data!#REF!=\"\",\"\",Data!#REF!)","v":{"$error":"#REF!"}},{"$error":"#REF!"},{"$error":"#REF!"},{"$error":"#REF!"}]
[{"$f":"IF(Data!#REF!=\"\",\"\",Data!#REF!)","v":{"$error":"#REF!"}},{"$f":"IF(Data!#REF!=\"\",\"\",Data!#REF!)","v":{"$error":"#REF!"}},{"$f":"IF(Data!#REF!=\"\",\"\",Data!#REF!)","v":{"$error":"#REF!"}},{"$f":"IF(Data!#REF!=\"\",\"\",Data!#REF!)","v":{"$error":"#REF!"}},{"$f":"IF(Data!#REF!=\"\",\"\",Data!#REF!)","v":{"$error":"#REF!"}},{"$error":"#REF!"},{"$error":"#REF!"},{"$error":"#REF!"}]
[{"$f":"IF(Data!#REF!=\"\",\"\",Data!#REF!)","v":{"$error":"#REF!"}},{"$f":"IF(Data!#REF!=\"\",\"\",Data!#REF!)","v":{"$error":"#REF!"}},{"$f":"IF(Data!#REF!=\"\",\"\",Data!#REF!)","v":{"$error":"#REF!"}},{"$f":"IF(Data!#REF!=\"\",\"\",Data!#REF!)","v":{"$error":"#REF!"}},{"$f":"IF(Data!#REF!=\"\",\"\",Data!#REF!)","v":{"$error":"#REF!"}},{"$error":"#REF!"},{"$error":"#REF!"},{"$error":"#REF!"}]
[{"$f":"IF(Data!#REF!=\"\",\"\",Data!#REF!)","v":{"$error":"#REF!"}},{"$f":"IF(Data!#REF!=\"\",\"\",Data!#REF!)","v":{"$error":"#REF!"}},{"$f":"IF(Data!#REF!=\"\",\"\",Data!#REF!)","v":{"$error":"#REF!"}},{"$f":"IF(Data!#REF!=\"\",\"\",Data!#REF!)","v":{"$error":"#REF!"}},{"$f":"IF(Data!#REF!=\"\",\"\",Data!#REF!)","v":{"$error":"#REF!"}},{"$error":"#REF!"},{"$error":"#REF!"},{"$error":"#REF!"}]
[{"$f":"IF(Data!#REF!=\"\",\"\",Data!#REF!)","v":{"$error":"#REF!"}},{"$f":"IF(Data!#REF!=\"\",\"\",Data!#REF!)","v":{"$error":"#REF!"}},{"$f":"IF(Data!#REF!=\"\",\"\",Data!#REF!)","v":{"$error":"#REF!"}},{"$f":"IF(Data!#REF!=\"\",\"\",Data!#REF!)","v":{"$error":"#REF!"}},{"$f":"IF(Data!#REF!=\"\",\"\",Data!#REF!)","v":{"$error":"#REF!"}},{"$error":"#REF!"},{"$error":"#REF!"},{"$error":"#REF!"}]
[{"$f":"IF(Data!#REF!=\"\",\"\",Data!#REF!)","v":{"$error":"#REF!"}},{"$f":"IF(Data!#REF!=\"\",\"\",Data!#REF!)","v":{"$error":"#REF!"}},{"$f":"IF(Data!#REF!=\"\",\"\",Data!#REF!)","v":{"$error":"#REF!"}},{"$f":"IF(Data!#REF!=\"\",\"\",Data!#REF!)","v":{"$error":"#REF!"}},{"$f":"IF(Data!#REF!=\"\",\"\",Data!#REF!)","v":{"$error":"#REF!"}},{"$error":"#REF!"},{"$error":"#REF!"},{"$error":"#REF!"}]
[{"$f":"IF(Data!#REF!=\"\",\"\",Data!#REF!)","v":{"$error":"#REF!"}},{"$f":"IF(Data!#REF!=\"\",\"\",Data!#REF!)","v":{"$error":"#REF!"}},{"$f":"IF(Data!#REF!=\"\",\"\",Data!#REF!)","v":{"$error":"#REF!"}},{"$f":"IF(Data!#REF!=\"\",\"\",Data!#REF!)","v":{"$error":"#REF!"}},{"$f":"IF(Data!#REF!=\"\",\"\",Data!#REF!)","v":{"$error":"#REF!"}},{"$error":"#REF!"},{"$error":"#REF!"},{"$error":"#REF!"}]
[{"$f":"IF(Data!#REF!=\"\",\"\",Data!#REF!)","v":{"$error":"#REF!"}},{"$f":"IF(Data!#REF!=\"\",\"\",Data!#REF!)","v":{"$error":"#REF!"}},{"$f":"IF(Data!#REF!=\"\",\"\",Data!#REF!)","v":{"$error":"#REF!"}},{"$f":"IF(Data!#REF!=\"\",\"\",Data!#REF!)","v":{"$error":"#REF!"}},{"$f":"IF(Data!#REF!=\"\",\"\",Data!#REF!)","v":{"$error":"#REF!"}},{"$error":"#REF!"},{"$error":"#REF!"},{"$error":"#REF!"}]
[{"$f":"IF(Data!#REF!=\"\",\"\",Data!#REF!)","v":{"$error":"#REF!"}},{"$f":"IF(Data!#REF!=\"\",\"\",Data!#REF!)","v":{"$error":"#REF!"}},{"$f":"IF(Data!#REF!=\"\",\"\",Data!#REF!)","v":{"$error":"#REF!"}},{"$f":"IF(Data!#REF!=\"\",\"\",Data!#REF!)","v":{"$error":"#REF!"}},{"$f":"IF(Data!#REF!=\"\",\"\",Data!#REF!)","v":{"$error":"#REF!"}},{"$error":"#REF!"},{"$error":"#REF!"},{"$error":"#REF!"}]
[{"$f":"IF(Data!#REF!=\"\",\"\",Data!#REF!)","v":{"$error":"#REF!"}},{"$f":"IF(Data!#REF!=\"\",\"\",Data!#REF!)","v":{"$error":"#REF!"}},{"$f":"IF(Data!#REF!=\"\",\"\",Data!#REF!)","v":{"$error":"#REF!"}},{"$f":"IF(Data!#REF!=\"\",\"\",Data!#REF!)","v":{"$error":"#REF!"}},{"$f":"IF(Data!#REF!=\"\",\"\",Data!#REF!)","v":{"$error":"#REF!"}},{"$error":"#REF!"},{"$error":"#REF!"},{"$error":"#REF!"}]
[{"$f":"IF(Data!#REF!=\"\",\"\",Data!#REF!)","v":{"$error":"#REF!"}},{"$f":"IF(Data!#REF!=\"\",\"\",Data!#REF!)","v":{"$error":"#REF!"}},{"$f":"IF(Data!#REF!=\"\",\"\",Data!#REF!)","v":{"$error":"#REF!"}},{"$f":"IF(Data!#REF!=\"\",\"\",Data!#REF!)","v":{"$error":"#REF!"}},{"$f":"IF(Data!#REF!=\"\",\"\",Data!#REF!)","v":{"$error":"#REF!"}},{"$error":"#REF!"},{"$error":"#REF!"},{"$error":"#REF!"}]
[{"$f":"IF(Data!#REF!=\"\",\"\",Data!#REF!)","v":{"$error":"#REF!"}},{"$f":"IF(Data!#REF!=\"\",\"\",Data!#REF!)","v":{"$error":"#REF!"}},{"$f":"IF(Data!#REF!=\"\",\"\",Data!#REF!)","v":{"$error":"#REF!"}},{"$f":"IF(Data!#REF!=\"\",\"\",Data!#REF!)","v":{"$error":"#REF!"}},{"$f":"IF(Data!#REF!=\"\",\"\",Data!#REF!)","v":{"$error":"#REF!"}},{"$error":"#REF!"},{"$error":"#REF!"},{"$error":"#REF!"}]
[{"$f":"IF(Data!#REF!=\"\",\"\",Data!#REF!)","v":{"$error":"#REF!"}},{"$f":"IF(Data!#REF!=\"\",\"\",Data!#REF!)","v":{"$error":"#REF!"}},{"$f":"IF(Data!#REF!=\"\",\"\",Data!#REF!)","v":{"$error":"#REF!"}},{"$f":"IF(Data!#REF!=\"\",\"\",Data!#REF!)","v":{"$error":"#REF!"}},{"$f":"IF(Data!#REF!=\"\",\"\",Data!#REF!)","v":{"$error":"#REF!"}},{"$error":"#REF!"},{"$error":"#REF!"},{"$error":"#REF!"}]
[{"$f":"IF(Data!#REF!=\"\",\"\",Data!#REF!)","v":{"$error":"#REF!"}},{"$f":"IF(Data!#REF!=\"\",\"\",Data!#REF!)","v":{"$error":"#REF!"}},{"$f":"IF(Data!#REF!=\"\",\"\",Data!#REF!)","v":{"$error":"#REF!"}},{"$f":"IF(Data!#REF!=\"\",\"\",Data!#REF!)","v":{"$error":"#REF!"}},{"$f":"IF(Data!#REF!=\"\",\"\",Data!#REF!)","v":{"$error":"#REF!"}},{"$error":"#REF!"},{"$error":"#REF!"},{"$error":"#REF!"}]
[{"$f":"IF(Data!#REF!=\"\",\"\",Data!#REF!)","v":{"$error":"#REF!"}},{"$f":"IF(Data!#REF!=\"\",\"\",Data!#REF!)","v":{"$error":"#REF!"}},{"$f":"IF(Data!#REF!=\"\",\"\",Data!#REF!)","v":{"$error":"#REF!"}},{"$f":"IF(Data!#REF!=\"\",\"\",Data!#REF!)","v":{"$error":"#REF!"}},{"$f":"IF(Data!#REF!=\"\",\"\",Data!#REF!)","v":{"$error":"#REF!"}},{"$error":"#REF!"},{"$error":"#REF!"},{"$error":"#REF!"}]
[{"$f":"IF(Data!#REF!=\"\",\"\",Data!#REF!)","v":{"$error":"#REF!"}},{"$f":"IF(Data!#REF!=\"\",\"\",Data!#REF!)","v":{"$error":"#REF!"}},{"$f":"IF(Data!#REF!=\"\",\"\",Data!#REF!)","v":{"$error":"#REF!"}},{"$f":"IF(Data!#REF!=\"\",\"\",Data!#REF!)","v":{"$error":"#REF!"}},{"$f":"IF(Data!#REF!=\"\",\"\",Data!#REF!)","v":{"$error":"#REF!"}},{"$error":"#REF!"},{"$error":"#REF!"},{"$error":"#REF!"}]
[{"$f":"IF(Data!#REF!=\"\",\"\",Data!#REF!)","v":{"$error":"#REF!"}},{"$f":"IF(Data!#REF!=\"\",\"\",Data!#REF!)","v":{"$error":"#REF!"}},{"$f":"IF(Data!#REF!=\"\",\"\",Data!#REF!)","v":{"$error":"#REF!"}},{"$f":"IF(Data!#REF!=\"\",\"\",Data!#REF!)","v":{"$error":"#REF!"}},{"$f":"IF(Data!#REF!=\"\",\"\",Data!#REF!)","v":{"$error":"#REF!"}},{"$f":"IF(E1539>0,MONTH(E1539),\"\")","v":{"$error":"#REF!"}},{"$f":"IF(E1539>0,WEEKNUM(E1539),\"0\")","v":{"$error":"#REF!"}},{"$f":"IF(G1539>=($G$2-3),\"Ano\",\"Nie\")","v":{"$error":"#REF!"}}]
[{"$f":"IF(Data!#REF!=\"\",\"\",Data!#REF!)","v":{"$error":"#REF!"}},{"$f":"IF(Data!#REF!=\"\",\"\",Data!#REF!)","v":{"$error":"#REF!"}},{"$f":"IF(Data!#REF!=\"\",\"\",Data!#REF!)","v":{"$error":"#REF!"}},{"$f":"IF(Data!#REF!=\"\",\"\",Data!#REF!)","v":{"$error":"#REF!"}},{"$f":"IF(Data!#REF!=\"\",\"\",Data!#REF!)","v":{"$error":"#REF!"}},{"$error":"#REF!"},{"$error":"#REF!"},{"$error":"#REF!"}]
[{"$f":"IF(Data!#REF!=\"\",\"\",Data!#REF!)","v":{"$error":"#REF!"}},{"$f":"IF(Data!#REF!=\"\",\"\",Data!#REF!)","v":{"$error":"#REF!"}},{"$f":"IF(Data!#REF!=\"\",\"\",Data!#REF!)","v":{"$error":"#REF!"}},{"$f":"IF(Data!#REF!=\"\",\"\",Data!#REF!)","v":{"$error":"#REF!"}},{"$f":"IF(Data!#REF!=\"\",\"\",Data!#REF!)","v":{"$error":"#REF!"}},{"$error":"#REF!"},{"$error":"#REF!"},{"$error":"#REF!"}]
[{"$f":"IF(Data!#REF!=\"\",\"\",Data!#REF!)","v":{"$error":"#REF!"}},{"$f":"IF(Data!#REF!=\"\",\"\",Data!#REF!)","v":{"$error":"#REF!"}},{"$f":"IF(Data!#REF!=\"\",\"\",Data!#REF!)","v":{"$error":"#REF!"}},{"$f":"IF(Data!#REF!=\"\",\"\",Data!#REF!)","v":{"$error":"#REF!"}},{"$f":"IF(Data!#REF!=\"\",\"\",Data!#REF!)","v":{"$error":"#REF!"}},{"$error":"#REF!"},{"$error":"#REF!"},{"$error":"#REF!"}]
[{"$f":"IF(Data!#REF!=\"\",\"\",Data!#REF!)","v":{"$error":"#REF!"}},{"$f":"IF(Data!#REF!=\"\",\"\",Data!#REF!)","v":{"$error":"#REF!"}},{"$f":"IF(Data!#REF!=\"\",\"\",Data!#REF!)","v":{"$error":"#REF!"}},{"$f":"IF(Data!#REF!=\"\",\"\",Data!#REF!)","v":{"$error":"#REF!"}},{"$f":"IF(Data!#REF!=\"\",\"\",Data!#REF!)","v":{"$error":"#REF!"}},{"$error":"#REF!"},{"$error":"#REF!"},{"$error":"#REF!"}]
[{"$f":"IF(Data!#REF!=\"\",\"\",Data!#REF!)","v":{"$error":"#REF!"}},{"$f":"IF(Data!#REF!=\"\",\"\",Data!#REF!)","v":{"$error":"#REF!"}},{"$f":"IF(Data!#REF!=\"\",\"\",Data!#REF!)","v":{"$error":"#REF!"}},{"$f":"IF(Data!#REF!=\"\",\"\",Data!#REF!)","v":{"$error":"#REF!"}},{"$f":"IF(Data!#REF!=\"\",\"\",Data!#REF!)","v":{"$error":"#REF!"}},{"$error":"#REF!"},{"$error":"#REF!"},{"$error":"#REF!"}]
[{"$f":"IF(Data!#REF!=\"\",\"\",Data!#REF!)","v":{"$error":"#REF!"}},{"$f":"IF(Data!#REF!=\"\",\"\",Data!#REF!)","v":{"$error":"#REF!"}},{"$f":"IF(Data!#REF!=\"\",\"\",Data!#REF!)","v":{"$error":"#REF!"}},{"$f":"IF(Data!#REF!=\"\",\"\",Data!#REF!)","v":{"$error":"#REF!"}},{"$f":"IF(Data!#REF!=\"\",\"\",Data!#REF!)","v":{"$error":"#REF!"}},{"$error":"#REF!"},{"$error":"#REF!"},{"$error":"#REF!"}]
[{"$f":"IF(Data!#REF!=\"\",\"\",Data!#REF!)","v":{"$error":"#REF!"}},{"$f":"IF(Data!#REF!=\"\",\"\",Data!#REF!)","v":{"$error":"#REF!"}},{"$f":"IF(Data!#REF!=\"\",\"\",Data!#REF!)","v":{"$error":"#REF!"}},{"$f":"IF(Data!#REF!=\"\",\"\",Data!#REF!)","v":{"$error":"#REF!"}},{"$f":"IF(Data!#REF!=\"\",\"\",Data!#REF!)","v":{"$error":"#REF!"}},{"$error":"#REF!"},{"$error":"#REF!"},{"$error":"#REF!"}]
[{"$f":"IF(Data!#REF!=\"\",\"\",Data!#REF!)","v":{"$error":"#REF!"}},{"$f":"IF(Data!#REF!=\"\",\"\",Data!#REF!)","v":{"$error":"#REF!"}},{"$f":"IF(Data!#REF!=\"\",\"\",Data!#REF!)","v":{"$error":"#REF!"}},{"$f":"IF(Data!#REF!=\"\",\"\",Data!#REF!)","v":{"$error":"#REF!"}},{"$f":"IF(Data!#REF!=\"\",\"\",Data!#REF!)","v":{"$error":"#REF!"}},{"$error":"#REF!"},{"$error":"#REF!"},{"$error":"#REF!"}]
[{"$f":"IF(Data!#REF!=\"\",\"\",Data!#REF!)","v":{"$error":"#REF!"}},{"$f":"IF(Data!#REF!=\"\",\"\",Data!#REF!)","v":{"$error":"#REF!"}},{"$f":"IF(Data!#REF!=\"\",\"\",Data!#REF!)","v":{"$error":"#REF!"}},{"$f":"IF(Data!#REF!=\"\",\"\",Data!#REF!)","v":{"$error":"#REF!"}},{"$f":"IF(Data!#REF!=\"\",\"\",Data!#REF!)","v":{"$error":"#REF!"}},{"$error":"#REF!"},{"$error":"#REF!"},{"$error":"#REF!"}]
[{"$f":"IF(Data!#REF!=\"\",\"\",Data!#REF!)","v":{"$error":"#REF!"}},{"$f":"IF(Data!#REF!=\"\",\"\",Data!#REF!)","v":{"$error":"#REF!"}},{"$f":"IF(Data!#REF!=\"\",\"\",Data!#REF!)","v":{"$error":"#REF!"}},{"$f":"IF(Data!#REF!=\"\",\"\",Data!#REF!)","v":{"$error":"#REF!"}},{"$f":"IF(Data!#REF!=\"\",\"\",Data!#REF!)","v":{"$error":"#REF!"}},{"$error":"#REF!"},{"$error":"#REF!"},{"$error":"#REF!"}]
[{"$f":"IF(Data!#REF!=\"\",\"\",Data!#REF!)","v":{"$error":"#REF!"}},{"$f":"IF(Data!#REF!=\"\",\"\",Data!#REF!)","v":{"$error":"#REF!"}},{"$f":"IF(Data!#REF!=\"\",\"\",Data!#REF!)","v":{"$error":"#REF!"}},{"$f":"IF(Data!#REF!=\"\",\"\",Data!#REF!)","v":{"$error":"#REF!"}},{"$f":"IF(Data!#REF!=\"\",\"\",Data!#REF!)","v":{"$error":"#REF!"}},{"$error":"#REF!"},{"$error":"#REF!"},{"$error":"#REF!"}]
[{"$f":"IF(Data!#REF!=\"\",\"\",Data!#REF!)","v":{"$error":"#REF!"}},{"$f":"IF(Data!#REF!=\"\",\"\",Data!#REF!)","v":{"$error":"#REF!"}},{"$f":"IF(Data!#REF!=\"\",\"\",Data!#REF!)","v":{"$error":"#REF!"}},{"$f":"IF(Data!#REF!=\"\",\"\",Data!#REF!)","v":{"$error":"#REF!"}},{"$f":"IF(Data!#REF!=\"\",\"\",Data!#REF!)","v":{"$error":"#REF!"}},{"$error":"#REF!"},{"$error":"#REF!"},{"$error":"#REF!"}]
[{"$f":"IF(Data!#REF!=\"\",\"\",Data!#REF!)","v":{"$error":"#REF!"}},{"$f":"IF(Data!#REF!=\"\",\"\",Data!#REF!)","v":{"$error":"#REF!"}},{"$f":"IF(Data!#REF!=\"\",\"\",Data!#REF!)","v":{"$error":"#REF!"}},{"$f":"IF(Data!#REF!=\"\",\"\",Data!#REF!)","v":{"$error":"#REF!"}},{"$f":"IF(Data!#REF!=\"\",\"\",Data!#REF!)","v":{"$error":"#REF!"}},{"$error":"#REF!"},{"$error":"#REF!"},{"$error":"#REF!"}]
[{"$f":"IF(Data!#REF!=\"\",\"\",Data!#REF!)","v":{"$error":"#REF!"}},{"$f":"IF(Data!#REF!=\"\",\"\",Data!#REF!)","v":{"$error":"#REF!"}},{"$f":"IF(Data!#REF!=\"\",\"\",Data!#REF!)","v":{"$error":"#REF!"}},{"$f":"IF(Data!#REF!=\"\",\"\",Data!#REF!)","v":{"$error":"#REF!"}},{"$f":"IF(Data!#REF!=\"\",\"\",Data!#REF!)","v":{"$error":"#REF!"}},{"$error":"#REF!"},{"$error":"#REF!"},{"$error":"#REF!"}]
[{"$f":"IF(Data!#REF!=\"\",\"\",Data!#REF!)","v":{"$error":"#REF!"}},{"$f":"IF(Data!#REF!=\"\",\"\",Data!#REF!)","v":{"$error":"#REF!"}},{"$f":"IF(Data!#REF!=\"\",\"\",Data!#REF!)","v":{"$error":"#REF!"}},{"$f":"IF(Data!#REF!=\"\",\"\",Data!#REF!)","v":{"$error":"#REF!"}},{"$f":"IF(Data!#REF!=\"\",\"\",Data!#REF!)","v":{"$error":"#REF!"}},{"$error":"#REF!"},{"$error":"#REF!"},{"$error":"#REF!"}]
[{"$f":"IF(Data!#REF!=\"\",\"\",Data!#REF!)","v":{"$error":"#REF!"}},{"$f":"IF(Data!#REF!=\"\",\"\",Data!#REF!)","v":{"$error":"#REF!"}},{"$f":"IF(Data!#REF!=\"\",\"\",Data!#REF!)","v":{"$error":"#REF!"}},{"$f":"IF(Data!#REF!=\"\",\"\",Data!#REF!)","v":{"$error":"#REF!"}},{"$f":"IF(Data!#REF!=\"\",\"\",Data!#REF!)","v":{"$error":"#REF!"}},{"$error":"#REF!"},{"$error":"#REF!"},{"$error":"#REF!"}]
[{"$f":"IF(Data!#REF!=\"\",\"\",Data!#REF!)","v":{"$error":"#REF!"}},{"$f":"IF(Data!#REF!=\"\",\"\",Data!#REF!)","v":{"$error":"#REF!"}},{"$f":"IF(Data!#REF!=\"\",\"\",Data!#REF!)","v":{"$error":"#REF!"}},{"$f":"IF(Data!#REF!=\"\",\"\",Data!#REF!)","v":{"$error":"#REF!"}},{"$f":"IF(Data!#REF!=\"\",\"\",Data!#REF!)","v":{"$error":"#REF!"}},{"$error":"#REF!"},{"$error":"#REF!"},{"$error":"#REF!"}]
[{"$f":"IF(Data!#REF!=\"\",\"\",Data!#REF!)","v":{"$error":"#REF!"}},{"$f":"IF(Data!#REF!=\"\",\"\",Data!#REF!)","v":{"$error":"#REF!"}},{"$f":"IF(Data!#REF!=\"\",\"\",Data!#REF!)","v":{"$error":"#REF!"}},{"$f":"IF(Data!#REF!=\"\",\"\",Data!#REF!)","v":{"$error":"#REF!"}},{"$f":"IF(Data!#REF!=\"\",\"\",Data!#REF!)","v":{"$error":"#REF!"}},{"$error":"#REF!"},{"$error":"#REF!"},{"$error":"#REF!"}]
[{"$f":"IF(Data!#REF!=\"\",\"\",Data!#REF!)","v":{"$error":"#REF!"}},{"$f":"IF(Data!#REF!=\"\",\"\",Data!#REF!)","v":{"$error":"#REF!"}},{"$f":"IF(Data!#REF!=\"\",\"\",Data!#REF!)","v":{"$error":"#REF!"}},{"$f":"IF(Data!#REF!=\"\",\"\",Data!#REF!)","v":{"$error":"#REF!"}},{"$f":"IF(Data!#REF!=\"\",\"\",Data!#REF!)","v":{"$error":"#REF!"}},{"$error":"#REF!"},{"$error":"#REF!"},{"$error":"#REF!"}]
[{"$f":"IF(Data!#REF!=\"\",\"\",Data!#REF!)","v":{"$error":"#REF!"}},{"$f":"IF(Data!#REF!=\"\",\"\",Data!#REF!)","v":{"$error":"#REF!"}},{"$f":"IF(Data!#REF!=\"\",\"\",Data!#REF!)","v":{"$error":"#REF!"}},{"$f":"IF(Data!#REF!=\"\",\"\",Data!#REF!)","v":{"$error":"#REF!"}},{"$f":"IF(Data!#REF!=\"\",\"\",Data!#REF!)","v":{"$error":"#REF!"}},{"$error":"#REF!"},{"$error":"#REF!"},{"$error":"#REF!"}]
[{"$f":"IF(Data!#REF!=\"\",\"\",Data!#REF!)","v":{"$error":"#REF!"}},{"$f":"IF(Data!#REF!=\"\",\"\",Data!#REF!)","v":{"$error":"#REF!"}},{"$f":"IF(Data!#REF!=\"\",\"\",Data!#REF!)","v":{"$error":"#REF!"}},{"$f":"IF(Data!#REF!=\"\",\"\",Data!#REF!)","v":{"$error":"#REF!"}},{"$f":"IF(Data!#REF!=\"\",\"\",Data!#REF!)","v":{"$error":"#REF!"}},{"$error":"#REF!"},{"$error":"#REF!"},{"$error":"#REF!"}]
[{"$f":"IF(Data!#REF!=\"\",\"\",Data!#REF!)","v":{"$error":"#REF!"}},{"$f":"IF(Data!#REF!=\"\",\"\",Data!#REF!)","v":{"$error":"#REF!"}},{"$f":"IF(Data!#REF!=\"\",\"\",Data!#REF!)","v":{"$error":"#REF!"}},{"$f":"IF(Data!#REF!=\"\",\"\",Data!#REF!)","v":{"$error":"#REF!"}},{"$f":"IF(Data!#REF!=\"\",\"\",Data!#REF!)","v":{"$error":"#REF!"}},{"$error":"#REF!"},{"$error":"#REF!"},{"$error":"#REF!"}]
[{"$f":"IF(Data!#REF!=\"\",\"\",Data!#REF!)","v":{"$error":"#REF!"}},{"$f":"IF(Data!#REF!=\"\",\"\",Data!#REF!)","v":{"$error":"#REF!"}},{"$f":"IF(Data!#REF!=\"\",\"\",Data!#REF!)","v":{"$error":"#REF!"}},{"$f":"IF(Data!#REF!=\"\",\"\",Data!#REF!)","v":{"$error":"#REF!"}},{"$f":"IF(Data!#REF!=\"\",\"\",Data!#REF!)","v":{"$error":"#REF!"}},{"$error":"#REF!"},{"$error":"#REF!"},{"$error":"#REF!"}]
[{"$f":"IF(Data!#REF!=\"\",\"\",Data!#REF!)","v":{"$error":"#REF!"}},{"$f":"IF(Data!#REF!=\"\",\"\",Data!#REF!)","v":{"$error":"#REF!"}},{"$f":"IF(Data!#REF!=\"\",\"\",Data!#REF!)","v":{"$error":"#REF!"}},{"$f":"IF(Data!#REF!=\"\",\"\",Data!#REF!)","v":{"$error":"#REF!"}},{"$f":"IF(Data!#REF!=\"\",\"\",Data!#REF!)","v":{"$error":"#REF!"}},{"$error":"#REF!"},{"$error":"#REF!"},{"$error":"#REF!"}]
[{"$f":"IF(Data!#REF!=\"\",\"\",Data!#REF!)","v":{"$error":"#REF!"}},{"$f":"IF(Data!#REF!=\"\",\"\",Data!#REF!)","v":{"$error":"#REF!"}},{"$f":"IF(Data!#REF!=\"\",\"\",Data!#REF!)","v":{"$error":"#REF!"}},{"$f":"IF(Data!#REF!=\"\",\"\",Data!#REF!)","v":{"$error":"#REF!"}},{"$f":"IF(Data!#REF!=\"\",\"\",Data!#REF!)","v":{"$error":"#REF!"}},{"$error":"#REF!"},{"$error":"#REF!"},{"$error":"#REF!"}]
[{"$f":"IF(Data!#REF!=\"\",\"\",Data!#REF!)","v":{"$error":"#REF!"}},{"$f":"IF(Data!#REF!=\"\",\"\",Data!#REF!)","v":{"$error":"#REF!"}},{"$f":"IF(Data!#REF!=\"\",\"\",Data!#REF!)","v":{"$error":"#REF!"}},{"$f":"IF(Data!#REF!=\"\",\"\",Data!#REF!)","v":{"$error":"#REF!"}},{"$f":"IF(Data!#REF!=\"\",\"\",Data!#REF!)","v":{"$error":"#REF!"}},{"$error":"#REF!"},{"$error":"#REF!"},{"$error":"#REF!"}]
[{"$f":"IF(Data!#REF!=\"\",\"\",Data!#REF!)","v":{"$error":"#REF!"}},{"$f":"IF(Data!#REF!=\"\",\"\",Data!#REF!)","v":{"$error":"#REF!"}},{"$f":"IF(Data!#REF!=\"\",\"\",Data!#REF!)","v":{"$error":"#REF!"}},{"$f":"IF(Data!#REF!=\"\",\"\",Data!#REF!)","v":{"$error":"#REF!"}},{"$f":"IF(Data!#REF!=\"\",\"\",Data!#REF!)","v":{"$error":"#REF!"}},{"$error":"#REF!"},{"$error":"#REF!"},{"$error":"#REF!"}]
[{"$f":"IF(Data!#REF!=\"\",\"\",Data!#REF!)","v":{"$error":"#REF!"}},{"$f":"IF(Data!#REF!=\"\",\"\",Data!#REF!)","v":{"$error":"#REF!"}},{"$f":"IF(Data!#REF!=\"\",\"\",Data!#REF!)","v":{"$error":"#REF!"}},{"$f":"IF(Data!#REF!=\"\",\"\",Data!#REF!)","v":{"$error":"#REF!"}},{"$f":"IF(Data!#REF!=\"\",\"\",Data!#REF!)","v":{"$error":"#REF!"}},{"$error":"#REF!"},{"$error":"#REF!"},{"$error":"#REF!"}]
[{"$f":"IF(Data!#REF!=\"\",\"\",Data!#REF!)","v":{"$error":"#REF!"}},{"$f":"IF(Data!#REF!=\"\",\"\",Data!#REF!)","v":{"$error":"#REF!"}},{"$f":"IF(Data!#REF!=\"\",\"\",Data!#REF!)","v":{"$error":"#REF!"}},{"$f":"IF(Data!#REF!=\"\",\"\",Data!#REF!)","v":{"$error":"#REF!"}},{"$f":"IF(Data!#REF!=\"\",\"\",Data!#REF!)","v":{"$error":"#REF!"}},{"$error":"#REF!"},{"$error":"#REF!"},{"$error":"#REF!"}]
[{"$f":"IF(Data!#REF!=\"\",\"\",Data!#REF!)","v":{"$error":"#REF!"}},{"$f":"IF(Data!#REF!=\"\",\"\",Data!#REF!)","v":{"$error":"#REF!"}},{"$f":"IF(Data!#REF!=\"\",\"\",Data!#REF!)","v":{"$error":"#REF!"}},{"$f":"IF(Data!#REF!=\"\",\"\",Data!#REF!)","v":{"$error":"#REF!"}},{"$f":"IF(Data!#REF!=\"\",\"\",Data!#REF!)","v":{"$error":"#REF!"}},{"$error":"#REF!"},{"$error":"#REF!"},{"$error":"#REF!"}]
[{"$f":"IF(Data!#REF!=\"\",\"\",Data!#REF!)","v":{"$error":"#REF!"}},{"$f":"IF(Data!#REF!=\"\",\"\",Data!#REF!)","v":{"$error":"#REF!"}},{"$f":"IF(Data!#REF!=\"\",\"\",Data!#REF!)","v":{"$error":"#REF!"}},{"$f":"IF(Data!#REF!=\"\",\"\",Data!#REF!)","v":{"$error":"#REF!"}},{"$f":"IF(Data!#REF!=\"\",\"\",Data!#REF!)","v":{"$error":"#REF!"}},{"$error":"#REF!"},{"$error":"#REF!"},{"$error":"#REF!"}]
[{"$f":"IF(Data!#REF!=\"\",\"\",Data!#REF!)","v":{"$error":"#REF!"}},{"$f":"IF(Data!#REF!=\"\",\"\",Data!#REF!)","v":{"$error":"#REF!"}},{"$f":"IF(Data!#REF!=\"\",\"\",Data!#REF!)","v":{"$error":"#REF!"}},{"$f":"IF(Data!#REF!=\"\",\"\",Data!#REF!)","v":{"$error":"#REF!"}},{"$f":"IF(Data!#REF!=\"\",\"\",Data!#REF!)","v":{"$error":"#REF!"}},{"$error":"#REF!"},{"$error":"#REF!"},{"$error":"#REF!"}]
[{"$f":"IF(Data!#REF!=\"\",\"\",Data!#REF!)","v":{"$error":"#REF!"}},{"$f":"IF(Data!#REF!=\"\",\"\",Data!#REF!)","v":{"$error":"#REF!"}},{"$f":"IF(Data!#REF!=\"\",\"\",Data!#REF!)","v":{"$error":"#REF!"}},{"$f":"IF(Data!#REF!=\"\",\"\",Data!#REF!)","v":{"$error":"#REF!"}},{"$f":"IF(Data!#REF!=\"\",\"\",Data!#REF!)","v":{"$error":"#REF!"}},{"$error":"#REF!"},{"$error":"#REF!"},{"$error":"#REF!"}]
[{"$f":"IF(Data!#REF!=\"\",\"\",Data!#REF!)","v":{"$error":"#REF!"}},{"$f":"IF(Data!#REF!=\"\",\"\",Data!#REF!)","v":{"$error":"#REF!"}},{"$f":"IF(Data!#REF!=\"\",\"\",Data!#REF!)","v":{"$error":"#REF!"}},{"$f":"IF(Data!#REF!=\"\",\"\",Data!#REF!)","v":{"$error":"#REF!"}},{"$f":"IF(Data!#REF!=\"\",\"\",Data!#REF!)","v":{"$error":"#REF!"}},{"$error":"#REF!"},{"$error":"#REF!"},{"$error":"#REF!"}]
[{"$f":"IF(Data!#REF!=\"\",\"\",Data!#REF!)","v":{"$error":"#REF!"}},{"$f":"IF(Data!#REF!=\"\",\"\",Data!#REF!)","v":{"$error":"#REF!"}},{"$f":"IF(Data!#REF!=\"\",\"\",Data!#REF!)","v":{"$error":"#REF!"}},{"$f":"IF(Data!#REF!=\"\",\"\",Data!#REF!)","v":{"$error":"#REF!"}},{"$f":"IF(Data!#REF!=\"\",\"\",Data!#REF!)","v":{"$error":"#REF!"}},{"$error":"#REF!"},{"$error":"#REF!"},{"$error":"#REF!"}]
[{"$f":"IF(Data!#REF!=\"\",\"\",Data!#REF!)","v":{"$error":"#REF!"}},{"$f":"IF(Data!#REF!=\"\",\"\",Data!#REF!)","v":{"$error":"#REF!"}},{"$f":"IF(Data!#REF!=\"\",\"\",Data!#REF!)","v":{"$error":"#REF!"}},{"$f":"IF(Data!#REF!=\"\",\"\",Data!#REF!)","v":{"$error":"#REF!"}},{"$f":"IF(Data!#REF!=\"\",\"\",Data!#REF!)","v":{"$error":"#REF!"}},{"$error":"#REF!"},{"$error":"#REF!"},{"$error":"#REF!"}]
[{"$f":"IF(Data!#REF!=\"\",\"\",Data!#REF!)","v":{"$error":"#REF!"}},{"$f":"IF(Data!#REF!=\"\",\"\",Data!#REF!)","v":{"$error":"#REF!"}},{"$f":"IF(Data!#REF!=\"\",\"\",Data!#REF!)","v":{"$error":"#REF!"}},{"$f":"IF(Data!#REF!=\"\",\"\",Data!#REF!)","v":{"$error":"#REF!"}},{"$f":"IF(Data!#REF!=\"\",\"\",Data!#REF!)","v":{"$error":"#REF!"}},{"$error":"#REF!"},{"$error":"#REF!"},{"$error":"#REF!"}]
[{"$f":"IF(Data!#REF!=\"\",\"\",Data!#REF!)","v":{"$error":"#REF!"}},{"$f":"IF(Data!#REF!=\"\",\"\",Data!#REF!)","v":{"$error":"#REF!"}},{"$f":"IF(Data!#REF!=\"\",\"\",Data!#REF!)","v":{"$error":"#REF!"}},{"$f":"IF(Data!#REF!=\"\",\"\",Data!#REF!)","v":{"$error":"#REF!"}},{"$f":"IF(Data!#REF!=\"\",\"\",Data!#REF!)","v":{"$error":"#REF!"}},{"$error":"#REF!"},{"$error":"#REF!"},{"$error":"#REF!"}]
[{"$f":"IF(Data!#REF!=\"\",\"\",Data!#REF!)","v":{"$error":"#REF!"}},{"$f":"IF(Data!#REF!=\"\",\"\",Data!#REF!)","v":{"$error":"#REF!"}},{"$f":"IF(Data!#REF!=\"\",\"\",Data!#REF!)","v":{"$error":"#REF!"}},{"$f":"IF(Data!#REF!=\"\",\"\",Data!#REF!)","v":{"$error":"#REF!"}},{"$f":"IF(Data!#REF!=\"\",\"\",Data!#REF!)","v":{"$error":"#REF!"}},{"$error":"#REF!"},{"$error":"#REF!"},{"$error":"#REF!"}]
[{"$f":"IF(Data!#REF!=\"\",\"\",Data!#REF!)","v":{"$error":"#REF!"}},{"$f":"IF(Data!#REF!=\"\",\"\",Data!#REF!)","v":{"$error":"#REF!"}},{"$f":"IF(Data!#REF!=\"\",\"\",Data!#REF!)","v":{"$error":"#REF!"}},{"$f":"IF(Data!#REF!=\"\",\"\",Data!#REF!)","v":{"$error":"#REF!"}},{"$f":"IF(Data!#REF!=\"\",\"\",Data!#REF!)","v":{"$error":"#REF!"}},{"$error":"#REF!"},{"$error":"#REF!"},{"$error":"#REF!"}]
[{"$f":"IF(Data!#REF!=\"\",\"\",Data!#REF!)","v":{"$error":"#REF!"}},{"$f":"IF(Data!#REF!=\"\",\"\",Data!#REF!)","v":{"$error":"#REF!"}},{"$f":"IF(Data!#REF!=\"\",\"\",Data!#REF!)","v":{"$error":"#REF!"}},{"$f":"IF(Data!#REF!=\"\",\"\",Data!#REF!)","v":{"$error":"#REF!"}},{"$f":"IF(Data!#REF!=\"\",\"\",Data!#REF!)","v":{"$error":"#REF!"}},{"$error":"#REF!"},{"$error":"#REF!"},{"$error":"#REF!"}]
[{"$f":"IF(Data!#REF!=\"\",\"\",Data!#REF!)","v":{"$error":"#REF!"}},{"$f":"IF(Data!#REF!=\"\",\"\",Data!#REF!)","v":{"$error":"#REF!"}},{"$f":"IF(Data!#REF!=\"\",\"\",Data!#REF!)","v":{"$error":"#REF!"}},{"$f":"IF(Data!#REF!=\"\",\"\",Data!#REF!)","v":{"$error":"#REF!"}},{"$f":"IF(Data!#REF!=\"\",\"\",Data!#REF!)","v":{"$error":"#REF!"}},{"$error":"#REF!"},{"$error":"#REF!"},{"$error":"#REF!"}]
[{"$f":"IF(Data!#REF!=\"\",\"\",Data!#REF!)","v":{"$error":"#REF!"}},{"$f":"IF(Data!#REF!=\"\",\"\",Data!#REF!)","v":{"$error":"#REF!"}},{"$f":"IF(Data!#REF!=\"\",\"\",Data!#REF!)","v":{"$error":"#REF!"}},{"$f":"IF(Data!#REF!=\"\",\"\",Data!#REF!)","v":{"$error":"#REF!"}},{"$f":"IF(Data!#REF!=\"\",\"\",Data!#REF!)","v":{"$error":"#REF!"}},{"$error":"#REF!"},{"$error":"#REF!"},{"$error":"#REF!"}]
[{"$f":"IF(Data!#REF!=\"\",\"\",Data!#REF!)","v":{"$error":"#REF!"}},{"$f":"IF(Data!#REF!=\"\",\"\",Data!#REF!)","v":{"$error":"#REF!"}},{"$f":"IF(Data!#REF!=\"\",\"\",Data!#REF!)","v":{"$error":"#REF!"}},{"$f":"IF(Data!#REF!=\"\",\"\",Data!#REF!)","v":{"$error":"#REF!"}},{"$f":"IF(Data!#REF!=\"\",\"\",Data!#REF!)","v":{"$error":"#REF!"}},{"$error":"#REF!"},{"$error":"#REF!"},{"$error":"#REF!"}]
[{"$f":"IF(Data!#REF!=\"\",\"\",Data!#REF!)","v":{"$error":"#REF!"}},{"$f":"IF(Data!#REF!=\"\",\"\",Data!#REF!)","v":{"$error":"#REF!"}},{"$f":"IF(Data!#REF!=\"\",\"\",Data!#REF!)","v":{"$error":"#REF!"}},{"$f":"IF(Data!#REF!=\"\",\"\",Data!#REF!)","v":{"$error":"#REF!"}},{"$f":"IF(Data!#REF!=\"\",\"\",Data!#REF!)","v":{"$error":"#REF!"}},{"$error":"#REF!"},{"$error":"#REF!"},{"$error":"#REF!"}]
[{"$f":"IF(Data!#REF!=\"\",\"\",Data!#REF!)","v":{"$error":"#REF!"}},{"$f":"IF(Data!#REF!=\"\",\"\",Data!#REF!)","v":{"$error":"#REF!"}},{"$f":"IF(Data!#REF!=\"\",\"\",Data!#REF!)","v":{"$error":"#REF!"}},{"$f":"IF(Data!#REF!=\"\",\"\",Data!#REF!)","v":{"$error":"#REF!"}},{"$f":"IF(Data!#REF!=\"\",\"\",Data!#REF!)","v":{"$error":"#REF!"}},{"$error":"#REF!"},{"$error":"#REF!"},{"$error":"#REF!"}]
[{"$f":"IF(Data!#REF!=\"\",\"\",Data!#REF!)","v":{"$error":"#REF!"}},{"$f":"IF(Data!#REF!=\"\",\"\",Data!#REF!)","v":{"$error":"#REF!"}},{"$f":"IF(Data!#REF!=\"\",\"\",Data!#REF!)","v":{"$error":"#REF!"}},{"$f":"IF(Data!#REF!=\"\",\"\",Data!#REF!)","v":{"$error":"#REF!"}},{"$f":"IF(Data!#REF!=\"\",\"\",Data!#REF!)","v":{"$error":"#REF!"}},{"$error":"#REF!"},{"$error":"#REF!"},{"$error":"#REF!"}]
[{"$f":"IF(Data!#REF!=\"\",\"\",Data!#REF!)","v":{"$error":"#REF!"}},{"$f":"IF(Data!#REF!=\"\",\"\",Data!#REF!)","v":{"$error":"#REF!"}},{"$f":"IF(Data!#REF!=\"\",\"\",Data!#REF!)","v":{"$error":"#REF!"}},{"$f":"IF(Data!#REF!=\"\",\"\",Data!#REF!)","v":{"$error":"#REF!"}},{"$f":"IF(Data!#REF!=\"\",\"\",Data!#REF!)","v":{"$error":"#REF!"}},{"$error":"#REF!"},{"$error":"#REF!"},{"$error":"#REF!"}]
[{"$f":"IF(Data!#REF!=\"\",\"\",Data!#REF!)","v":{"$error":"#REF!"}},{"$f":"IF(Data!#REF!=\"\",\"\",Data!#REF!)","v":{"$error":"#REF!"}},{"$f":"IF(Data!#REF!=\"\",\"\",Data!#REF!)","v":{"$error":"#REF!"}},{"$f":"IF(Data!#REF!=\"\",\"\",Data!#REF!)","v":{"$error":"#REF!"}},{"$f":"IF(Data!#REF!=\"\",\"\",Data!#REF!)","v":{"$error":"#REF!"}},{"$error":"#REF!"},{"$error":"#REF!"},{"$error":"#REF!"}]
[{"$f":"IF(Data!#REF!=\"\",\"\",Data!#REF!)","v":{"$error":"#REF!"}},{"$f":"IF(Data!#REF!=\"\",\"\",Data!#REF!)","v":{"$error":"#REF!"}},{"$f":"IF(Data!#REF!=\"\",\"\",Data!#REF!)","v":{"$error":"#REF!"}},{"$f":"IF(Data!#REF!=\"\",\"\",Data!#REF!)","v":{"$error":"#REF!"}},{"$f":"IF(Data!#REF!=\"\",\"\",Data!#REF!)","v":{"$error":"#REF!"}},{"$error":"#REF!"},{"$error":"#REF!"},{"$error":"#REF!"}]
[{"$f":"IF(Data!#REF!=\"\",\"\",Data!#REF!)","v":{"$error":"#REF!"}},{"$f":"IF(Data!#REF!=\"\",\"\",Data!#REF!)","v":{"$error":"#REF!"}},{"$f":"IF(Data!#REF!=\"\",\"\",Data!#REF!)","v":{"$error":"#REF!"}},{"$f":"IF(Data!#REF!=\"\",\"\",Data!#REF!)","v":{"$error":"#REF!"}},{"$f":"IF(Data!#REF!=\"\",\"\",Data!#REF!)","v":{"$error":"#REF!"}},{"$error":"#REF!"},{"$error":"#REF!"},{"$error":"#REF!"}]
[{"$f":"IF(Data!#REF!=\"\",\"\",Data!#REF!)","v":{"$error":"#REF!"}},{"$f":"IF(Data!#REF!=\"\",\"\",Data!#REF!)","v":{"$error":"#REF!"}},{"$f":"IF(Data!#REF!=\"\",\"\",Data!#REF!)","v":{"$error":"#REF!"}},{"$f":"IF(Data!#REF!=\"\",\"\",Data!#REF!)","v":{"$error":"#REF!"}},{"$f":"IF(Data!#REF!=\"\",\"\",Data!#REF!)","v":{"$error":"#REF!"}},{"$error":"#REF!"},{"$error":"#REF!"},{"$error":"#REF!"}]
[{"$f":"IF(Data!#REF!=\"\",\"\",Data!#REF!)","v":{"$error":"#REF!"}},{"$f":"IF(Data!#REF!=\"\",\"\",Data!#REF!)","v":{"$error":"#REF!"}},{"$f":"IF(Data!#REF!=\"\",\"\",Data!#REF!)","v":{"$error":"#REF!"}},{"$f":"IF(Data!#REF!=\"\",\"\",Data!#REF!)","v":{"$error":"#REF!"}},{"$f":"IF(Data!#REF!=\"\",\"\",Data!#REF!)","v":{"$error":"#REF!"}},{"$error":"#REF!"},{"$error":"#REF!"},{"$error":"#REF!"}]
[{"$f":"IF(Data!#REF!=\"\",\"\",Data!#REF!)","v":{"$error":"#REF!"}},{"$f":"IF(Data!#REF!=\"\",\"\",Data!#REF!)","v":{"$error":"#REF!"}},{"$f":"IF(Data!#REF!=\"\",\"\",Data!#REF!)","v":{"$error":"#REF!"}},{"$f":"IF(Data!#REF!=\"\",\"\",Data!#REF!)","v":{"$error":"#REF!"}},{"$f":"IF(Data!#REF!=\"\",\"\",Data!#REF!)","v":{"$error":"#REF!"}},{"$error":"#REF!"},{"$error":"#REF!"},{"$error":"#REF!"}]
[{"$f":"IF(Data!#REF!=\"\",\"\",Data!#REF!)","v":{"$error":"#REF!"}},{"$f":"IF(Data!#REF!=\"\",\"\",Data!#REF!)","v":{"$error":"#REF!"}},{"$f":"IF(Data!#REF!=\"\",\"\",Data!#REF!)","v":{"$error":"#REF!"}},{"$f":"IF(Data!#REF!=\"\",\"\",Data!#REF!)","v":{"$error":"#REF!"}},{"$f":"IF(Data!#REF!=\"\",\"\",Data!#REF!)","v":{"$error":"#REF!"}},{"$error":"#REF!"},{"$error":"#REF!"},{"$error":"#REF!"}]
[{"$f":"IF(Data!#REF!=\"\",\"\",Data!#REF!)","v":{"$error":"#REF!"}},{"$f":"IF(Data!#REF!=\"\",\"\",Data!#REF!)","v":{"$error":"#REF!"}},{"$f":"IF(Data!#REF!=\"\",\"\",Data!#REF!)","v":{"$error":"#REF!"}},{"$f":"IF(Data!#REF!=\"\",\"\",Data!#REF!)","v":{"$error":"#REF!"}},{"$f":"IF(Data!#REF!=\"\",\"\",Data!#REF!)","v":{"$error":"#REF!"}},{"$error":"#REF!"},{"$error":"#REF!"},{"$error":"#REF!"}]
[{"$f":"IF(Data!#REF!=\"\",\"\",Data!#REF!)","v":{"$error":"#REF!"}},{"$f":"IF(Data!#REF!=\"\",\"\",Data!#REF!)","v":{"$error":"#REF!"}},{"$f":"IF(Data!#REF!=\"\",\"\",Data!#REF!)","v":{"$error":"#REF!"}},{"$f":"IF(Data!#REF!=\"\",\"\",Data!#REF!)","v":{"$error":"#REF!"}},{"$f":"IF(Data!#REF!=\"\",\"\",Data!#REF!)","v":{"$error":"#REF!"}},{"$error":"#REF!"},{"$error":"#REF!"},{"$error":"#REF!"}]
[{"$f":"IF(Data!#REF!=\"\",\"\",Data!#REF!)","v":{"$error":"#REF!"}},{"$f":"IF(Data!#REF!=\"\",\"\",Data!#REF!)","v":{"$error":"#REF!"}},{"$f":"IF(Data!#REF!=\"\",\"\",Data!#REF!)","v":{"$error":"#REF!"}},{"$f":"IF(Data!#REF!=\"\",\"\",Data!#REF!)","v":{"$error":"#REF!"}},{"$f":"IF(Data!#REF!=\"\",\"\",Data!#REF!)","v":{"$error":"#REF!"}},{"$error":"#REF!"},{"$error":"#REF!"},{"$error":"#REF!"}]
[{"$f":"IF(Data!#REF!=\"\",\"\",Data!#REF!)","v":{"$error":"#REF!"}},{"$f":"IF(Data!#REF!=\"\",\"\",Data!#REF!)","v":{"$error":"#REF!"}},{"$f":"IF(Data!#REF!=\"\",\"\",Data!#REF!)","v":{"$error":"#REF!"}},{"$f":"IF(Data!#REF!=\"\",\"\",Data!#REF!)","v":{"$error":"#REF!"}},{"$f":"IF(Data!#REF!=\"\",\"\",Data!#REF!)","v":{"$error":"#REF!"}},{"$error":"#REF!"},{"$error":"#REF!"},{"$error":"#REF!"}]
[{"$f":"IF(Data!#REF!=\"\",\"\",Data!#REF!)","v":{"$error":"#REF!"}},{"$f":"IF(Data!#REF!=\"\",\"\",Data!#REF!)","v":{"$error":"#REF!"}},{"$f":"IF(Data!#REF!=\"\",\"\",Data!#REF!)","v":{"$error":"#REF!"}},{"$f":"IF(Data!#REF!=\"\",\"\",Data!#REF!)","v":{"$error":"#REF!"}},{"$f":"IF(Data!#REF!=\"\",\"\",Data!#REF!)","v":{"$error":"#REF!"}},{"$error":"#REF!"},{"$error":"#REF!"},{"$error":"#REF!"}]
[{"$f":"IF(Data!#REF!=\"\",\"\",Data!#REF!)","v":{"$error":"#REF!"}},{"$f":"IF(Data!#REF!=\"\",\"\",Data!#REF!)","v":{"$error":"#REF!"}},{"$f":"IF(Data!#REF!=\"\",\"\",Data!#REF!)","v":{"$error":"#REF!"}},{"$f":"IF(Data!#REF!=\"\",\"\",Data!#REF!)","v":{"$error":"#REF!"}},{"$f":"IF(Data!#REF!=\"\",\"\",Data!#REF!)","v":{"$error":"#REF!"}},{"$error":"#REF!"},{"$error":"#REF!"},{"$error":"#REF!"}]
[{"$f":"IF(Data!#REF!=\"\",\"\",Data!#REF!)","v":{"$error":"#REF!"}},{"$f":"IF(Data!#REF!=\"\",\"\",Data!#REF!)","v":{"$error":"#REF!"}},{"$f":"IF(Data!#REF!=\"\",\"\",Data!#REF!)","v":{"$error":"#REF!"}},{"$f":"IF(Data!#REF!=\"\",\"\",Data!#REF!)","v":{"$error":"#REF!"}},{"$f":"IF(Data!#REF!=\"\",\"\",Data!#REF!)","v":{"$error":"#REF!"}},{"$error":"#REF!"},{"$error":"#REF!"},{"$error":"#REF!"}]
[{"$f":"IF(Data!#REF!=\"\",\"\",Data!#REF!)","v":{"$error":"#REF!"}},{"$f":"IF(Data!#REF!=\"\",\"\",Data!#REF!)","v":{"$error":"#REF!"}},{"$f":"IF(Data!#REF!=\"\",\"\",Data!#REF!)","v":{"$error":"#REF!"}},{"$f":"IF(Data!#REF!=\"\",\"\",Data!#REF!)","v":{"$error":"#REF!"}},{"$f":"IF(Data!#REF!=\"\",\"\",Data!#REF!)","v":{"$error":"#REF!"}},{"$error":"#REF!"},{"$error":"#REF!"},{"$error":"#REF!"}]
[{"$f":"IF(Data!#REF!=\"\",\"\",Data!#REF!)","v":{"$error":"#REF!"}},{"$f":"IF(Data!#REF!=\"\",\"\",Data!#REF!)","v":{"$error":"#REF!"}},{"$f":"IF(Data!#REF!=\"\",\"\",Data!#REF!)","v":{"$error":"#REF!"}},{"$f":"IF(Data!#REF!=\"\",\"\",Data!#REF!)","v":{"$error":"#REF!"}},{"$f":"IF(Data!#REF!=\"\",\"\",Data!#REF!)","v":{"$error":"#REF!"}},{"$f":"IF(E1603>0,MONTH(E1603),\"\")","v":{"$error":"#REF!"}},{"$f":"IF(E1603>0,WEEKNUM(E1603),\"0\")","v":{"$error":"#REF!"}},{"$f":"IF(G1603>=($G$2-3),\"Ano\",\"Nie\")","v":{"$error":"#REF!"}}]
[{"$f":"IF(Data!#REF!=\"\",\"\",Data!#REF!)","v":{"$error":"#REF!"}},{"$f":"IF(Data!#REF!=\"\",\"\",Data!#REF!)","v":{"$error":"#REF!"}},{"$f":"IF(Data!#REF!=\"\",\"\",Data!#REF!)","v":{"$error":"#REF!"}},{"$f":"IF(Data!#REF!=\"\",\"\",Data!#REF!)","v":{"$error":"#REF!"}},{"$f":"IF(Data!#REF!=\"\",\"\",Data!#REF!)","v":{"$error":"#REF!"}},{"$error":"#REF!"},{"$error":"#REF!"},{"$error":"#REF!"}]
[{"$f":"IF(Data!#REF!=\"\",\"\",Data!#REF!)","v":{"$error":"#REF!"}},{"$f":"IF(Data!#REF!=\"\",\"\",Data!#REF!)","v":{"$error":"#REF!"}},{"$f":"IF(Data!#REF!=\"\",\"\",Data!#REF!)","v":{"$error":"#REF!"}},{"$f":"IF(Data!#REF!=\"\",\"\",Data!#REF!)","v":{"$error":"#REF!"}},{"$f":"IF(Data!#REF!=\"\",\"\",Data!#REF!)","v":{"$error":"#REF!"}},{"$error":"#REF!"},{"$error":"#REF!"},{"$error":"#REF!"}]
[{"$f":"IF(Data!#REF!=\"\",\"\",Data!#REF!)","v":{"$error":"#REF!"}},{"$f":"IF(Data!#REF!=\"\",\"\",Data!#REF!)","v":{"$error":"#REF!"}},{"$f":"IF(Data!#REF!=\"\",\"\",Data!#REF!)","v":{"$error":"#REF!"}},{"$f":"IF(Data!#REF!=\"\",\"\",Data!#REF!)","v":{"$error":"#REF!"}},{"$f":"IF(Data!#REF!=\"\",\"\",Data!#REF!)","v":{"$error":"#REF!"}},{"$error":"#REF!"},{"$error":"#REF!"},{"$error":"#REF!"}]
[{"$f":"IF(Data!#REF!=\"\",\"\",Data!#REF!)","v":{"$error":"#REF!"}},{"$f":"IF(Data!#REF!=\"\",\"\",Data!#REF!)","v":{"$error":"#REF!"}},{"$f":"IF(Data!#REF!=\"\",\"\",Data!#REF!)","v":{"$error":"#REF!"}},{"$f":"IF(Data!#REF!=\"\",\"\",Data!#REF!)","v":{"$error":"#REF!"}},{"$f":"IF(Data!#REF!=\"\",\"\",Data!#REF!)","v":{"$error":"#REF!"}},{"$error":"#REF!"},{"$error":"#REF!"},{"$error":"#REF!"}]
[{"$f":"IF(Data!#REF!=\"\",\"\",Data!#REF!)","v":{"$error":"#REF!"}},{"$f":"IF(Data!#REF!=\"\",\"\",Data!#REF!)","v":{"$error":"#REF!"}},{"$f":"IF(Data!#REF!=\"\",\"\",Data!#REF!)","v":{"$error":"#REF!"}},{"$f":"IF(Data!#REF!=\"\",\"\",Data!#REF!)","v":{"$error":"#REF!"}},{"$f":"IF(Data!#REF!=\"\",\"\",Data!#REF!)","v":{"$error":"#REF!"}},{"$error":"#REF!"},{"$error":"#REF!"},{"$error":"#REF!"}]
[{"$f":"IF(Data!#REF!=\"\",\"\",Data!#REF!)","v":{"$error":"#REF!"}},{"$f":"IF(Data!#REF!=\"\",\"\",Data!#REF!)","v":{"$error":"#REF!"}},{"$f":"IF(Data!#REF!=\"\",\"\",Data!#REF!)","v":{"$error":"#REF!"}},{"$f":"IF(Data!#REF!=\"\",\"\",Data!#REF!)","v":{"$error":"#REF!"}},{"$f":"IF(Data!#REF!=\"\",\"\",Data!#REF!)","v":{"$error":"#REF!"}},{"$error":"#REF!"},{"$error":"#REF!"},{"$error":"#REF!"}]
[{"$f":"IF(Data!#REF!=\"\",\"\",Data!#REF!)","v":{"$error":"#REF!"}},{"$f":"IF(Data!#REF!=\"\",\"\",Data!#REF!)","v":{"$error":"#REF!"}},{"$f":"IF(Data!#REF!=\"\",\"\",Data!#REF!)","v":{"$error":"#REF!"}},{"$f":"IF(Data!#REF!=\"\",\"\",Data!#REF!)","v":{"$error":"#REF!"}},{"$f":"IF(Data!#REF!=\"\",\"\",Data!#REF!)","v":{"$error":"#REF!"}},{"$error":"#REF!"},{"$error":"#REF!"},{"$error":"#REF!"}]
[{"$f":"IF(Data!#REF!=\"\",\"\",Data!#REF!)","v":{"$error":"#REF!"}},{"$f":"IF(Data!#REF!=\"\",\"\",Data!#REF!)","v":{"$error":"#REF!"}},{"$f":"IF(Data!#REF!=\"\",\"\",Data!#REF!)","v":{"$error":"#REF!"}},{"$f":"IF(Data!#REF!=\"\",\"\",Data!#REF!)","v":{"$error":"#REF!"}},{"$f":"IF(Data!#REF!=\"\",\"\",Data!#REF!)","v":{"$error":"#REF!"}},{"$error":"#REF!"},{"$error":"#REF!"},{"$error":"#REF!"}]
[{"$f":"IF(Data!#REF!=\"\",\"\",Data!#REF!)","v":{"$error":"#REF!"}},{"$f":"IF(Data!#REF!=\"\",\"\",Data!#REF!)","v":{"$error":"#REF!"}},{"$f":"IF(Data!#REF!=\"\",\"\",Data!#REF!)","v":{"$error":"#REF!"}},{"$f":"IF(Data!#REF!=\"\",\"\",Data!#REF!)","v":{"$error":"#REF!"}},{"$f":"IF(Data!#REF!=\"\",\"\",Data!#REF!)","v":{"$error":"#REF!"}},{"$error":"#REF!"},{"$error":"#REF!"},{"$error":"#REF!"}]
[{"$f":"IF(Data!#REF!=\"\",\"\",Data!#REF!)","v":{"$error":"#REF!"}},{"$f":"IF(Data!#REF!=\"\",\"\",Data!#REF!)","v":{"$error":"#REF!"}},{"$f":"IF(Data!#REF!=\"\",\"\",Data!#REF!)","v":{"$error":"#REF!"}},{"$f":"IF(Data!#REF!=\"\",\"\",Data!#REF!)","v":{"$error":"#REF!"}},{"$f":"IF(Data!#REF!=\"\",\"\",Data!#REF!)","v":{"$error":"#REF!"}},{"$error":"#REF!"},{"$error":"#REF!"},{"$error":"#REF!"}]
[{"$f":"IF(Data!#REF!=\"\",\"\",Data!#REF!)","v":{"$error":"#REF!"}},{"$f":"IF(Data!#REF!=\"\",\"\",Data!#REF!)","v":{"$error":"#REF!"}},{"$f":"IF(Data!#REF!=\"\",\"\",Data!#REF!)","v":{"$error":"#REF!"}},{"$f":"IF(Data!#REF!=\"\",\"\",Data!#REF!)","v":{"$error":"#REF!"}},{"$f":"IF(Data!#REF!=\"\",\"\",Data!#REF!)","v":{"$error":"#REF!"}},{"$error":"#REF!"},{"$error":"#REF!"},{"$error":"#REF!"}]
[{"$f":"IF(Data!#REF!=\"\",\"\",Data!#REF!)","v":{"$error":"#REF!"}},{"$f":"IF(Data!#REF!=\"\",\"\",Data!#REF!)","v":{"$error":"#REF!"}},{"$f":"IF(Data!#REF!=\"\",\"\",Data!#REF!)","v":{"$error":"#REF!"}},{"$f":"IF(Data!#REF!=\"\",\"\",Data!#REF!)","v":{"$error":"#REF!"}},{"$f":"IF(Data!#REF!=\"\",\"\",Data!#REF!)","v":{"$error":"#REF!"}},{"$error":"#REF!"},{"$error":"#REF!"},{"$error":"#REF!"}]
[{"$f":"IF(Data!#REF!=\"\",\"\",Data!#REF!)","v":{"$error":"#REF!"}},{"$f":"IF(Data!#REF!=\"\",\"\",Data!#REF!)","v":{"$error":"#REF!"}},{"$f":"IF(Data!#REF!=\"\",\"\",Data!#REF!)","v":{"$error":"#REF!"}},{"$f":"IF(Data!#REF!=\"\",\"\",Data!#REF!)","v":{"$error":"#REF!"}},{"$f":"IF(Data!#REF!=\"\",\"\",Data!#REF!)","v":{"$error":"#REF!"}},{"$error":"#REF!"},{"$error":"#REF!"},{"$error":"#REF!"}]
[{"$f":"IF(Data!#REF!=\"\",\"\",Data!#REF!)","v":{"$error":"#REF!"}},{"$f":"IF(Data!#REF!=\"\",\"\",Data!#REF!)","v":{"$error":"#REF!"}},{"$f":"IF(Data!#REF!=\"\",\"\",Data!#REF!)","v":{"$error":"#REF!"}},{"$f":"IF(Data!#REF!=\"\",\"\",Data!#REF!)","v":{"$error":"#REF!"}},{"$f":"IF(Data!#REF!=\"\",\"\",Data!#REF!)","v":{"$error":"#REF!"}},{"$error":"#REF!"},{"$error":"#REF!"},{"$error":"#REF!"}]
[{"$f":"IF(Data!#REF!=\"\",\"\",Data!#REF!)","v":{"$error":"#REF!"}},{"$f":"IF(Data!#REF!=\"\",\"\",Data!#REF!)","v":{"$error":"#REF!"}},{"$f":"IF(Data!#REF!=\"\",\"\",Data!#REF!)","v":{"$error":"#REF!"}},{"$f":"IF(Data!#REF!=\"\",\"\",Data!#REF!)","v":{"$error":"#REF!"}},{"$f":"IF(Data!#REF!=\"\",\"\",Data!#REF!)","v":{"$error":"#REF!"}},{"$error":"#REF!"},{"$error":"#REF!"},{"$error":"#REF!"}]
[{"$f":"IF(Data!#REF!=\"\",\"\",Data!#REF!)","v":{"$error":"#REF!"}},{"$f":"IF(Data!#REF!=\"\",\"\",Data!#REF!)","v":{"$error":"#REF!"}},{"$f":"IF(Data!#REF!=\"\",\"\",Data!#REF!)","v":{"$error":"#REF!"}},{"$f":"IF(Data!#REF!=\"\",\"\",Data!#REF!)","v":{"$error":"#REF!"}},{"$f":"IF(Data!#REF!=\"\",\"\",Data!#REF!)","v":{"$error":"#REF!"}},{"$error":"#REF!"},{"$error":"#REF!"},{"$error":"#REF!"}]
[{"$f":"IF(Data!#REF!=\"\",\"\",Data!#REF!)","v":{"$error":"#REF!"}},{"$f":"IF(Data!#REF!=\"\",\"\",Data!#REF!)","v":{"$error":"#REF!"}},{"$f":"IF(Data!#REF!=\"\",\"\",Data!#REF!)","v":{"$error":"#REF!"}},{"$f":"IF(Data!#REF!=\"\",\"\",Data!#REF!)","v":{"$error":"#REF!"}},{"$f":"IF(Data!#REF!=\"\",\"\",Data!#REF!)","v":{"$error":"#REF!"}},{"$error":"#REF!"},{"$error":"#REF!"},{"$error":"#REF!"}]
[{"$f":"IF(Data!#REF!=\"\",\"\",Data!#REF!)","v":{"$error":"#REF!"}},{"$f":"IF(Data!#REF!=\"\",\"\",Data!#REF!)","v":{"$error":"#REF!"}},{"$f":"IF(Data!#REF!=\"\",\"\",Data!#REF!)","v":{"$error":"#REF!"}},{"$f":"IF(Data!#REF!=\"\",\"\",Data!#REF!)","v":{"$error":"#REF!"}},{"$f":"IF(Data!#REF!=\"\",\"\",Data!#REF!)","v":{"$error":"#REF!"}},{"$error":"#REF!"},{"$error":"#REF!"},{"$error":"#REF!"}]
[{"$f":"IF(Data!#REF!=\"\",\"\",Data!#REF!)","v":{"$error":"#REF!"}},{"$f":"IF(Data!#REF!=\"\",\"\",Data!#REF!)","v":{"$error":"#REF!"}},{"$f":"IF(Data!#REF!=\"\",\"\",Data!#REF!)","v":{"$error":"#REF!"}},{"$f":"IF(Data!#REF!=\"\",\"\",Data!#REF!)","v":{"$error":"#REF!"}},{"$f":"IF(Data!#REF!=\"\",\"\",Data!#REF!)","v":{"$error":"#REF!"}},{"$error":"#REF!"},{"$error":"#REF!"},{"$error":"#REF!"}]
[{"$f":"IF(Data!#REF!=\"\",\"\",Data!#REF!)","v":{"$error":"#REF!"}},{"$f":"IF(Data!#REF!=\"\",\"\",Data!#REF!)","v":{"$error":"#REF!"}},{"$f":"IF(Data!#REF!=\"\",\"\",Data!#REF!)","v":{"$error":"#REF!"}},{"$f":"IF(Data!#REF!=\"\",\"\",Data!#REF!)","v":{"$error":"#REF!"}},{"$f":"IF(Data!#REF!=\"\",\"\",Data!#REF!)","v":{"$error":"#REF!"}},{"$error":"#REF!"},{"$error":"#REF!"},{"$error":"#REF!"}]
[{"$f":"IF(Data!#REF!=\"\",\"\",Data!#REF!)","v":{"$error":"#REF!"}},{"$f":"IF(Data!#REF!=\"\",\"\",Data!#REF!)","v":{"$error":"#REF!"}},{"$f":"IF(Data!#REF!=\"\",\"\",Data!#REF!)","v":{"$error":"#REF!"}},{"$f":"IF(Data!#REF!=\"\",\"\",Data!#REF!)","v":{"$error":"#REF!"}},{"$f":"IF(Data!#REF!=\"\",\"\",Data!#REF!)","v":{"$error":"#REF!"}},{"$error":"#REF!"},{"$error":"#REF!"},{"$error":"#REF!"}]
[{"$f":"IF(Data!#REF!=\"\",\"\",Data!#REF!)","v":{"$error":"#REF!"}},{"$f":"IF(Data!#REF!=\"\",\"\",Data!#REF!)","v":{"$error":"#REF!"}},{"$f":"IF(Data!#REF!=\"\",\"\",Data!#REF!)","v":{"$error":"#REF!"}},{"$f":"IF(Data!#REF!=\"\",\"\",Data!#REF!)","v":{"$error":"#REF!"}},{"$f":"IF(Data!#REF!=\"\",\"\",Data!#REF!)","v":{"$error":"#REF!"}},{"$error":"#REF!"},{"$error":"#REF!"},{"$error":"#REF!"}]
[{"$f":"IF(Data!#REF!=\"\",\"\",Data!#REF!)","v":{"$error":"#REF!"}},{"$f":"IF(Data!#REF!=\"\",\"\",Data!#REF!)","v":{"$error":"#REF!"}},{"$f":"IF(Data!#REF!=\"\",\"\",Data!#REF!)","v":{"$error":"#REF!"}},{"$f":"IF(Data!#REF!=\"\",\"\",Data!#REF!)","v":{"$error":"#REF!"}},{"$f":"IF(Data!#REF!=\"\",\"\",Data!#REF!)","v":{"$error":"#REF!"}},{"$error":"#REF!"},{"$error":"#REF!"},{"$error":"#REF!"}]
[{"$f":"IF(Data!#REF!=\"\",\"\",Data!#REF!)","v":{"$error":"#REF!"}},{"$f":"IF(Data!#REF!=\"\",\"\",Data!#REF!)","v":{"$error":"#REF!"}},{"$f":"IF(Data!#REF!=\"\",\"\",Data!#REF!)","v":{"$error":"#REF!"}},{"$f":"IF(Data!#REF!=\"\",\"\",Data!#REF!)","v":{"$error":"#REF!"}},{"$f":"IF(Data!#REF!=\"\",\"\",Data!#REF!)","v":{"$error":"#REF!"}},{"$error":"#REF!"},{"$error":"#REF!"},{"$error":"#REF!"}]
[{"$f":"IF(Data!#REF!=\"\",\"\",Data!#REF!)","v":{"$error":"#REF!"}},{"$f":"IF(Data!#REF!=\"\",\"\",Data!#REF!)","v":{"$error":"#REF!"}},{"$f":"IF(Data!#REF!=\"\",\"\",Data!#REF!)","v":{"$error":"#REF!"}},{"$f":"IF(Data!#REF!=\"\",\"\",Data!#REF!)","v":{"$error":"#REF!"}},{"$f":"IF(Data!#REF!=\"\",\"\",Data!#REF!)","v":{"$error":"#REF!"}},{"$error":"#REF!"},{"$error":"#REF!"},{"$error":"#REF!"}]
[{"$f":"IF(Data!#REF!=\"\",\"\",Data!#REF!)","v":{"$error":"#REF!"}},{"$f":"IF(Data!#REF!=\"\",\"\",Data!#REF!)","v":{"$error":"#REF!"}},{"$f":"IF(Data!#REF!=\"\",\"\",Data!#REF!)","v":{"$error":"#REF!"}},{"$f":"IF(Data!#REF!=\"\",\"\",Data!#REF!)","v":{"$error":"#REF!"}},{"$f":"IF(Data!#REF!=\"\",\"\",Data!#REF!)","v":{"$error":"#REF!"}},{"$error":"#REF!"},{"$error":"#REF!"},{"$error":"#REF!"}]
[{"$f":"IF(Data!#REF!=\"\",\"\",Data!#REF!)","v":{"$error":"#REF!"}},{"$f":"IF(Data!#REF!=\"\",\"\",Data!#REF!)","v":{"$error":"#REF!"}},{"$f":"IF(Data!#REF!=\"\",\"\",Data!#REF!)","v":{"$error":"#REF!"}},{"$f":"IF(Data!#REF!=\"\",\"\",Data!#REF!)","v":{"$error":"#REF!"}},{"$f":"IF(Data!#REF!=\"\",\"\",Data!#REF!)","v":{"$error":"#REF!"}},{"$error":"#REF!"},{"$error":"#REF!"},{"$error":"#REF!"}]
[{"$f":"IF(Data!#REF!=\"\",\"\",Data!#REF!)","v":{"$error":"#REF!"}},{"$f":"IF(Data!#REF!=\"\",\"\",Data!#REF!)","v":{"$error":"#REF!"}},{"$f":"IF(Data!#REF!=\"\",\"\",Data!#REF!)","v":{"$error":"#REF!"}},{"$f":"IF(Data!#REF!=\"\",\"\",Data!#REF!)","v":{"$error":"#REF!"}},{"$f":"IF(Data!#REF!=\"\",\"\",Data!#REF!)","v":{"$error":"#REF!"}},{"$error":"#REF!"},{"$error":"#REF!"},{"$error":"#REF!"}]
[{"$f":"IF(Data!#REF!=\"\",\"\",Data!#REF!)","v":{"$error":"#REF!"}},{"$f":"IF(Data!#REF!=\"\",\"\",Data!#REF!)","v":{"$error":"#REF!"}},{"$f":"IF(Data!#REF!=\"\",\"\",Data!#REF!)","v":{"$error":"#REF!"}},{"$f":"IF(Data!#REF!=\"\",\"\",Data!#REF!)","v":{"$error":"#REF!"}},{"$f":"IF(Data!#REF!=\"\",\"\",Data!#REF!)","v":{"$error":"#REF!"}},{"$error":"#REF!"},{"$error":"#REF!"},{"$error":"#REF!"}]
[{"$f":"IF(Data!#REF!=\"\",\"\",Data!#REF!)","v":{"$error":"#REF!"}},{"$f":"IF(Data!#REF!=\"\",\"\",Data!#REF!)","v":{"$error":"#REF!"}},{"$f":"IF(Data!#REF!=\"\",\"\",Data!#REF!)","v":{"$error":"#REF!"}},{"$f":"IF(Data!#REF!=\"\",\"\",Data!#REF!)","v":{"$error":"#REF!"}},{"$f":"IF(Data!#REF!=\"\",\"\",Data!#REF!)","v":{"$error":"#REF!"}},{"$error":"#REF!"},{"$error":"#REF!"},{"$error":"#REF!"}]
[{"$f":"IF(Data!#REF!=\"\",\"\",Data!#REF!)","v":{"$error":"#REF!"}},{"$f":"IF(Data!#REF!=\"\",\"\",Data!#REF!)","v":{"$error":"#REF!"}},{"$f":"IF(Data!#REF!=\"\",\"\",Data!#REF!)","v":{"$error":"#REF!"}},{"$f":"IF(Data!#REF!=\"\",\"\",Data!#REF!)","v":{"$error":"#REF!"}},{"$f":"IF(Data!#REF!=\"\",\"\",Data!#REF!)","v":{"$error":"#REF!"}},{"$error":"#REF!"},{"$error":"#REF!"},{"$error":"#REF!"}]
[{"$f":"IF(Data!#REF!=\"\",\"\",Data!#REF!)","v":{"$error":"#REF!"}},{"$f":"IF(Data!#REF!=\"\",\"\",Data!#REF!)","v":{"$error":"#REF!"}},{"$f":"IF(Data!#REF!=\"\",\"\",Data!#REF!)","v":{"$error":"#REF!"}},{"$f":"IF(Data!#REF!=\"\",\"\",Data!#REF!)","v":{"$error":"#REF!"}},{"$f":"IF(Data!#REF!=\"\",\"\",Data!#REF!)","v":{"$error":"#REF!"}},{"$error":"#REF!"},{"$error":"#REF!"},{"$error":"#REF!"}]
[{"$f":"IF(Data!#REF!=\"\",\"\",Data!#REF!)","v":{"$error":"#REF!"}},{"$f":"IF(Data!#REF!=\"\",\"\",Data!#REF!)","v":{"$error":"#REF!"}},{"$f":"IF(Data!#REF!=\"\",\"\",Data!#REF!)","v":{"$error":"#REF!"}},{"$f":"IF(Data!#REF!=\"\",\"\",Data!#REF!)","v":{"$error":"#REF!"}},{"$f":"IF(Data!#REF!=\"\",\"\",Data!#REF!)","v":{"$error":"#REF!"}},{"$error":"#REF!"},{"$error":"#REF!"},{"$error":"#REF!"}]
[{"$f":"IF(Data!#REF!=\"\",\"\",Data!#REF!)","v":{"$error":"#REF!"}},{"$f":"IF(Data!#REF!=\"\",\"\",Data!#REF!)","v":{"$error":"#REF!"}},{"$f":"IF(Data!#REF!=\"\",\"\",Data!#REF!)","v":{"$error":"#REF!"}},{"$f":"IF(Data!#REF!=\"\",\"\",Data!#REF!)","v":{"$error":"#REF!"}},{"$f":"IF(Data!#REF!=\"\",\"\",Data!#REF!)","v":{"$error":"#REF!"}},{"$error":"#REF!"},{"$error":"#REF!"},{"$error":"#REF!"}]
[{"$f":"IF(Data!#REF!=\"\",\"\",Data!#REF!)","v":{"$error":"#REF!"}},{"$f":"IF(Data!#REF!=\"\",\"\",Data!#REF!)","v":{"$error":"#REF!"}},{"$f":"IF(Data!#REF!=\"\",\"\",Data!#REF!)","v":{"$error":"#REF!"}},{"$f":"IF(Data!#REF!=\"\",\"\",Data!#REF!)","v":{"$error":"#REF!"}},{"$f":"IF(Data!#REF!=\"\",\"\",Data!#REF!)","v":{"$error":"#REF!"}},{"$error":"#REF!"},{"$error":"#REF!"},{"$error":"#REF!"}]
[{"$f":"IF(Data!#REF!=\"\",\"\",Data!#REF!)","v":{"$error":"#REF!"}},{"$f":"IF(Data!#REF!=\"\",\"\",Data!#REF!)","v":{"$error":"#REF!"}},{"$f":"IF(Data!#REF!=\"\",\"\",Data!#REF!)","v":{"$error":"#REF!"}},{"$f":"IF(Data!#REF!=\"\",\"\",Data!#REF!)","v":{"$error":"#REF!"}},{"$f":"IF(Data!#REF!=\"\",\"\",Data!#REF!)","v":{"$error":"#REF!"}},{"$error":"#REF!"},{"$error":"#REF!"},{"$error":"#REF!"}]
[{"$f":"IF(Data!#REF!=\"\",\"\",Data!#REF!)","v":{"$error":"#REF!"}},{"$f":"IF(Data!#REF!=\"\",\"\",Data!#REF!)","v":{"$error":"#REF!"}},{"$f":"IF(Data!#REF!=\"\",\"\",Data!#REF!)","v":{"$error":"#REF!"}},{"$f":"IF(Data!#REF!=\"\",\"\",Data!#REF!)","v":{"$error":"#REF!"}},{"$f":"IF(Data!#REF!=\"\",\"\",Data!#REF!)","v":{"$error":"#REF!"}},{"$error":"#REF!"},{"$error":"#REF!"},{"$error":"#REF!"}]
[{"$f":"IF(Data!#REF!=\"\",\"\",Data!#REF!)","v":{"$error":"#REF!"}},{"$f":"IF(Data!#REF!=\"\",\"\",Data!#REF!)","v":{"$error":"#REF!"}},{"$f":"IF(Data!#REF!=\"\",\"\",Data!#REF!)","v":{"$error":"#REF!"}},{"$f":"IF(Data!#REF!=\"\",\"\",Data!#REF!)","v":{"$error":"#REF!"}},{"$f":"IF(Data!#REF!=\"\",\"\",Data!#REF!)","v":{"$error":"#REF!"}},{"$error":"#REF!"},{"$error":"#REF!"},{"$error":"#REF!"}]
[{"$f":"IF(Data!#REF!=\"\",\"\",Data!#REF!)","v":{"$error":"#REF!"}},{"$f":"IF(Data!#REF!=\"\",\"\",Data!#REF!)","v":{"$error":"#REF!"}},{"$f":"IF(Data!#REF!=\"\",\"\",Data!#REF!)","v":{"$error":"#REF!"}},{"$f":"IF(Data!#REF!=\"\",\"\",Data!#REF!)","v":{"$error":"#REF!"}},{"$f":"IF(Data!#REF!=\"\",\"\",Data!#REF!)","v":{"$error":"#REF!"}},{"$error":"#REF!"},{"$error":"#REF!"},{"$error":"#REF!"}]
[{"$f":"IF(Data!#REF!=\"\",\"\",Data!#REF!)","v":{"$error":"#REF!"}},{"$f":"IF(Data!#REF!=\"\",\"\",Data!#REF!)","v":{"$error":"#REF!"}},{"$f":"IF(Data!#REF!=\"\",\"\",Data!#REF!)","v":{"$error":"#REF!"}},{"$f":"IF(Data!#REF!=\"\",\"\",Data!#REF!)","v":{"$error":"#REF!"}},{"$f":"IF(Data!#REF!=\"\",\"\",Data!#REF!)","v":{"$error":"#REF!"}},{"$error":"#REF!"},{"$error":"#REF!"},{"$error":"#REF!"}]
[{"$f":"IF(Data!#REF!=\"\",\"\",Data!#REF!)","v":{"$error":"#REF!"}},{"$f":"IF(Data!#REF!=\"\",\"\",Data!#REF!)","v":{"$error":"#REF!"}},{"$f":"IF(Data!#REF!=\"\",\"\",Data!#REF!)","v":{"$error":"#REF!"}},{"$f":"IF(Data!#REF!=\"\",\"\",Data!#REF!)","v":{"$error":"#REF!"}},{"$f":"IF(Data!#REF!=\"\",\"\",Data!#REF!)","v":{"$error":"#REF!"}},{"$error":"#REF!"},{"$error":"#REF!"},{"$error":"#REF!"}]
[{"$f":"IF(Data!#REF!=\"\",\"\",Data!#REF!)","v":{"$error":"#REF!"}},{"$f":"IF(Data!#REF!=\"\",\"\",Data!#REF!)","v":{"$error":"#REF!"}},{"$f":"IF(Data!#REF!=\"\",\"\",Data!#REF!)","v":{"$error":"#REF!"}},{"$f":"IF(Data!#REF!=\"\",\"\",Data!#REF!)","v":{"$error":"#REF!"}},{"$f":"IF(Data!#REF!=\"\",\"\",Data!#REF!)","v":{"$error":"#REF!"}},{"$error":"#REF!"},{"$error":"#REF!"},{"$error":"#REF!"}]
[{"$f":"IF(Data!#REF!=\"\",\"\",Data!#REF!)","v":{"$error":"#REF!"}},{"$f":"IF(Data!#REF!=\"\",\"\",Data!#REF!)","v":{"$error":"#REF!"}},{"$f":"IF(Data!#REF!=\"\",\"\",Data!#REF!)","v":{"$error":"#REF!"}},{"$f":"IF(Data!#REF!=\"\",\"\",Data!#REF!)","v":{"$error":"#REF!"}},{"$f":"IF(Data!#REF!=\"\",\"\",Data!#REF!)","v":{"$error":"#REF!"}},{"$error":"#REF!"},{"$error":"#REF!"},{"$error":"#REF!"}]
[{"$f":"IF(Data!#REF!=\"\",\"\",Data!#REF!)","v":{"$error":"#REF!"}},{"$f":"IF(Data!#REF!=\"\",\"\",Data!#REF!)","v":{"$error":"#REF!"}},{"$f":"IF(Data!#REF!=\"\",\"\",Data!#REF!)","v":{"$error":"#REF!"}},{"$f":"IF(Data!#REF!=\"\",\"\",Data!#REF!)","v":{"$error":"#REF!"}},{"$f":"IF(Data!#REF!=\"\",\"\",Data!#REF!)","v":{"$error":"#REF!"}},{"$error":"#REF!"},{"$error":"#REF!"},{"$error":"#REF!"}]
[{"$f":"IF(Data!#REF!=\"\",\"\",Data!#REF!)","v":{"$error":"#REF!"}},{"$f":"IF(Data!#REF!=\"\",\"\",Data!#REF!)","v":{"$error":"#REF!"}},{"$f":"IF(Data!#REF!=\"\",\"\",Data!#REF!)","v":{"$error":"#REF!"}},{"$f":"IF(Data!#REF!=\"\",\"\",Data!#REF!)","v":{"$error":"#REF!"}},{"$f":"IF(Data!#REF!=\"\",\"\",Data!#REF!)","v":{"$error":"#REF!"}},{"$error":"#REF!"},{"$error":"#REF!"},{"$error":"#REF!"}]
[{"$f":"IF(Data!#REF!=\"\",\"\",Data!#REF!)","v":{"$error":"#REF!"}},{"$f":"IF(Data!#REF!=\"\",\"\",Data!#REF!)","v":{"$error":"#REF!"}},{"$f":"IF(Data!#REF!=\"\",\"\",Data!#REF!)","v":{"$error":"#REF!"}},{"$f":"IF(Data!#REF!=\"\",\"\",Data!#REF!)","v":{"$error":"#REF!"}},{"$f":"IF(Data!#REF!=\"\",\"\",Data!#REF!)","v":{"$error":"#REF!"}},{"$error":"#REF!"},{"$error":"#REF!"},{"$error":"#REF!"}]
[{"$f":"IF(Data!#REF!=\"\",\"\",Data!#REF!)","v":{"$error":"#REF!"}},{"$f":"IF(Data!#REF!=\"\",\"\",Data!#REF!)","v":{"$error":"#REF!"}},{"$f":"IF(Data!#REF!=\"\",\"\",Data!#REF!)","v":{"$error":"#REF!"}},{"$f":"IF(Data!#REF!=\"\",\"\",Data!#REF!)","v":{"$error":"#REF!"}},{"$f":"IF(Data!#REF!=\"\",\"\",Data!#REF!)","v":{"$error":"#REF!"}},{"$error":"#REF!"},{"$error":"#REF!"},{"$error":"#REF!"}]
[{"$f":"IF(Data!#REF!=\"\",\"\",Data!#REF!)","v":{"$error":"#REF!"}},{"$f":"IF(Data!#REF!=\"\",\"\",Data!#REF!)","v":{"$error":"#REF!"}},{"$f":"IF(Data!#REF!=\"\",\"\",Data!#REF!)","v":{"$error":"#REF!"}},{"$f":"IF(Data!#REF!=\"\",\"\",Data!#REF!)","v":{"$error":"#REF!"}},{"$f":"IF(Data!#REF!=\"\",\"\",Data!#REF!)","v":{"$error":"#REF!"}},{"$error":"#REF!"},{"$error":"#REF!"},{"$error":"#REF!"}]
[{"$f":"IF(Data!#REF!=\"\",\"\",Data!#REF!)","v":{"$error":"#REF!"}},{"$f":"IF(Data!#REF!=\"\",\"\",Data!#REF!)","v":{"$error":"#REF!"}},{"$f":"IF(Data!#REF!=\"\",\"\",Data!#REF!)","v":{"$error":"#REF!"}},{"$f":"IF(Data!#REF!=\"\",\"\",Data!#REF!)","v":{"$error":"#REF!"}},{"$f":"IF(Data!#REF!=\"\",\"\",Data!#REF!)","v":{"$error":"#REF!"}},{"$error":"#REF!"},{"$error":"#REF!"},{"$error":"#REF!"}]
[{"$f":"IF(Data!#REF!=\"\",\"\",Data!#REF!)","v":{"$error":"#REF!"}},{"$f":"IF(Data!#REF!=\"\",\"\",Data!#REF!)","v":{"$error":"#REF!"}},{"$f":"IF(Data!#REF!=\"\",\"\",Data!#REF!)","v":{"$error":"#REF!"}},{"$f":"IF(Data!#REF!=\"\",\"\",Data!#REF!)","v":{"$error":"#REF!"}},{"$f":"IF(Data!#REF!=\"\",\"\",Data!#REF!)","v":{"$error":"#REF!"}},{"$error":"#REF!"},{"$error":"#REF!"},{"$error":"#REF!"}]
[{"$f":"IF(Data!#REF!=\"\",\"\",Data!#REF!)","v":{"$error":"#REF!"}},{"$f":"IF(Data!#REF!=\"\",\"\",Data!#REF!)","v":{"$error":"#REF!"}},{"$f":"IF(Data!#REF!=\"\",\"\",Data!#REF!)","v":{"$error":"#REF!"}},{"$f":"IF(Data!#REF!=\"\",\"\",Data!#REF!)","v":{"$error":"#REF!"}},{"$f":"IF(Data!#REF!=\"\",\"\",Data!#REF!)","v":{"$error":"#REF!"}},{"$error":"#REF!"},{"$error":"#REF!"},{"$error":"#REF!"}]
[{"$f":"IF(Data!#REF!=\"\",\"\",Data!#REF!)","v":{"$error":"#REF!"}},{"$f":"IF(Data!#REF!=\"\",\"\",Data!#REF!)","v":{"$error":"#REF!"}},{"$f":"IF(Data!#REF!=\"\",\"\",Data!#REF!)","v":{"$error":"#REF!"}},{"$f":"IF(Data!#REF!=\"\",\"\",Data!#REF!)","v":{"$error":"#REF!"}},{"$f":"IF(Data!#REF!=\"\",\"\",Data!#REF!)","v":{"$error":"#REF!"}},{"$error":"#REF!"},{"$error":"#REF!"},{"$error":"#REF!"}]
[{"$f":"IF(Data!#REF!=\"\",\"\",Data!#REF!)","v":{"$error":"#REF!"}},{"$f":"IF(Data!#REF!=\"\",\"\",Data!#REF!)","v":{"$error":"#REF!"}},{"$f":"IF(Data!#REF!=\"\",\"\",Data!#REF!)","v":{"$error":"#REF!"}},{"$f":"IF(Data!#REF!=\"\",\"\",Data!#REF!)","v":{"$error":"#REF!"}},{"$f":"IF(Data!#REF!=\"\",\"\",Data!#REF!)","v":{"$error":"#REF!"}},{"$error":"#REF!"},{"$error":"#REF!"},{"$error":"#REF!"}]
[{"$f":"IF(Data!#REF!=\"\",\"\",Data!#REF!)","v":{"$error":"#REF!"}},{"$f":"IF(Data!#REF!=\"\",\"\",Data!#REF!)","v":{"$error":"#REF!"}},{"$f":"IF(Data!#REF!=\"\",\"\",Data!#REF!)","v":{"$error":"#REF!"}},{"$f":"IF(Data!#REF!=\"\",\"\",Data!#REF!)","v":{"$error":"#REF!"}},{"$f":"IF(Data!#REF!=\"\",\"\",Data!#REF!)","v":{"$error":"#REF!"}},{"$error":"#REF!"},{"$error":"#REF!"},{"$error":"#REF!"}]
[{"$f":"IF(Data!#REF!=\"\",\"\",Data!#REF!)","v":{"$error":"#REF!"}},{"$f":"IF(Data!#REF!=\"\",\"\",Data!#REF!)","v":{"$error":"#REF!"}},{"$f":"IF(Data!#REF!=\"\",\"\",Data!#REF!)","v":{"$error":"#REF!"}},{"$f":"IF(Data!#REF!=\"\",\"\",Data!#REF!)","v":{"$error":"#REF!"}},{"$f":"IF(Data!#REF!=\"\",\"\",Data!#REF!)","v":{"$error":"#REF!"}},{"$error":"#REF!"},{"$error":"#REF!"},{"$error":"#REF!"}]
[{"$f":"IF(Data!#REF!=\"\",\"\",Data!#REF!)","v":{"$error":"#REF!"}},{"$f":"IF(Data!#REF!=\"\",\"\",Data!#REF!)","v":{"$error":"#REF!"}},{"$f":"IF(Data!#REF!=\"\",\"\",Data!#REF!)","v":{"$error":"#REF!"}},{"$f":"IF(Data!#REF!=\"\",\"\",Data!#REF!)","v":{"$error":"#REF!"}},{"$f":"IF(Data!#REF!=\"\",\"\",Data!#REF!)","v":{"$error":"#REF!"}},{"$error":"#REF!"},{"$error":"#REF!"},{"$error":"#REF!"}]
[{"$f":"IF(Data!#REF!=\"\",\"\",Data!#REF!)","v":{"$error":"#REF!"}},{"$f":"IF(Data!#REF!=\"\",\"\",Data!#REF!)","v":{"$error":"#REF!"}},{"$f":"IF(Data!#REF!=\"\",\"\",Data!#REF!)","v":{"$error":"#REF!"}},{"$f":"IF(Data!#REF!=\"\",\"\",Data!#REF!)","v":{"$error":"#REF!"}},{"$f":"IF(Data!#REF!=\"\",\"\",Data!#REF!)","v":{"$error":"#REF!"}},{"$error":"#REF!"},{"$error":"#REF!"},{"$error":"#REF!"}]
[{"$f":"IF(Data!#REF!=\"\",\"\",Data!#REF!)","v":{"$error":"#REF!"}},{"$f":"IF(Data!#REF!=\"\",\"\",Data!#REF!)","v":{"$error":"#REF!"}},{"$f":"IF(Data!#REF!=\"\",\"\",Data!#REF!)","v":{"$error":"#REF!"}},{"$f":"IF(Data!#REF!=\"\",\"\",Data!#REF!)","v":{"$error":"#REF!"}},{"$f":"IF(Data!#REF!=\"\",\"\",Data!#REF!)","v":{"$error":"#REF!"}},{"$error":"#REF!"},{"$error":"#REF!"},{"$error":"#REF!"}]
[{"$f":"IF(Data!#REF!=\"\",\"\",Data!#REF!)","v":{"$error":"#REF!"}},{"$f":"IF(Data!#REF!=\"\",\"\",Data!#REF!)","v":{"$error":"#REF!"}},{"$f":"IF(Data!#REF!=\"\",\"\",Data!#REF!)","v":{"$error":"#REF!"}},{"$f":"IF(Data!#REF!=\"\",\"\",Data!#REF!)","v":{"$error":"#REF!"}},{"$f":"IF(Data!#REF!=\"\",\"\",Data!#REF!)","v":{"$error":"#REF!"}},{"$error":"#REF!"},{"$error":"#REF!"},{"$error":"#REF!"}]
[{"$f":"IF(Data!#REF!=\"\",\"\",Data!#REF!)","v":{"$error":"#REF!"}},{"$f":"IF(Data!#REF!=\"\",\"\",Data!#REF!)","v":{"$error":"#REF!"}},{"$f":"IF(Data!#REF!=\"\",\"\",Data!#REF!)","v":{"$error":"#REF!"}},{"$f":"IF(Data!#REF!=\"\",\"\",Data!#REF!)","v":{"$error":"#REF!"}},{"$f":"IF(Data!#REF!=\"\",\"\",Data!#REF!)","v":{"$error":"#REF!"}},{"$error":"#REF!"},{"$error":"#REF!"},{"$error":"#REF!"}]
[{"$f":"IF(Data!#REF!=\"\",\"\",Data!#REF!)","v":{"$error":"#REF!"}},{"$f":"IF(Data!#REF!=\"\",\"\",Data!#REF!)","v":{"$error":"#REF!"}},{"$f":"IF(Data!#REF!=\"\",\"\",Data!#REF!)","v":{"$error":"#REF!"}},{"$f":"IF(Data!#REF!=\"\",\"\",Data!#REF!)","v":{"$error":"#REF!"}},{"$f":"IF(Data!#REF!=\"\",\"\",Data!#REF!)","v":{"$error":"#REF!"}},{"$error":"#REF!"},{"$error":"#REF!"},{"$error":"#REF!"}]
[{"$f":"IF(Data!#REF!=\"\",\"\",Data!#REF!)","v":{"$error":"#REF!"}},{"$f":"IF(Data!#REF!=\"\",\"\",Data!#REF!)","v":{"$error":"#REF!"}},{"$f":"IF(Data!#REF!=\"\",\"\",Data!#REF!)","v":{"$error":"#REF!"}},{"$f":"IF(Data!#REF!=\"\",\"\",Data!#REF!)","v":{"$error":"#REF!"}},{"$f":"IF(Data!#REF!=\"\",\"\",Data!#REF!)","v":{"$error":"#REF!"}},{"$error":"#REF!"},{"$error":"#REF!"},{"$error":"#REF!"}]
[{"$f":"IF(Data!#REF!=\"\",\"\",Data!#REF!)","v":{"$error":"#REF!"}},{"$f":"IF(Data!#REF!=\"\",\"\",Data!#REF!)","v":{"$error":"#REF!"}},{"$f":"IF(Data!#REF!=\"\",\"\",Data!#REF!)","v":{"$error":"#REF!"}},{"$f":"IF(Data!#REF!=\"\",\"\",Data!#REF!)","v":{"$error":"#REF!"}},{"$f":"IF(Data!#REF!=\"\",\"\",Data!#REF!)","v":{"$error":"#REF!"}},{"$error":"#REF!"},{"$error":"#REF!"},{"$error":"#REF!"}]
[{"$f":"IF(Data!#REF!=\"\",\"\",Data!#REF!)","v":{"$error":"#REF!"}},{"$f":"IF(Data!#REF!=\"\",\"\",Data!#REF!)","v":{"$error":"#REF!"}},{"$f":"IF(Data!#REF!=\"\",\"\",Data!#REF!)","v":{"$error":"#REF!"}},{"$f":"IF(Data!#REF!=\"\",\"\",Data!#REF!)","v":{"$error":"#REF!"}},{"$f":"IF(Data!#REF!=\"\",\"\",Data!#REF!)","v":{"$error":"#REF!"}},{"$f":"IF(E1667>0,MONTH(E1667),\"\")","v":{"$error":"#REF!"}},{"$f":"IF(E1667>0,WEEKNUM(E1667),\"0\")","v":{"$error":"#REF!"}},{"$f":"IF(G1667>=($G$2-3),\"Ano\",\"Nie\")","v":{"$error":"#REF!"}}]
[{"$f":"IF(Data!#REF!=\"\",\"\",Data!#REF!)","v":{"$error":"#REF!"}},{"$f":"IF(Data!#REF!=\"\",\"\",Data!#REF!)","v":{"$error":"#REF!"}},{"$f":"IF(Data!#REF!=\"\",\"\",Data!#REF!)","v":{"$error":"#REF!"}},{"$f":"IF(Data!#REF!=\"\",\"\",Data!#REF!)","v":{"$error":"#REF!"}},{"$f":"IF(Data!#REF!=\"\",\"\",Data!#REF!)","v":{"$error":"#REF!"}},{"$error":"#REF!"},{"$error":"#REF!"},{"$error":"#REF!"}]
[{"$f":"IF(Data!#REF!=\"\",\"\",Data!#REF!)","v":{"$error":"#REF!"}},{"$f":"IF(Data!#REF!=\"\",\"\",Data!#REF!)","v":{"$error":"#REF!"}},{"$f":"IF(Data!#REF!=\"\",\"\",Data!#REF!)","v":{"$error":"#REF!"}},{"$f":"IF(Data!#REF!=\"\",\"\",Data!#REF!)","v":{"$error":"#REF!"}},{"$f":"IF(Data!#REF!=\"\",\"\",Data!#REF!)","v":{"$error":"#REF!"}},{"$error":"#REF!"},{"$error":"#REF!"},{"$error":"#REF!"}]
[{"$f":"IF(Data!#REF!=\"\",\"\",Data!#REF!)","v":{"$error":"#REF!"}},{"$f":"IF(Data!#REF!=\"\",\"\",Data!#REF!)","v":{"$error":"#REF!"}},{"$f":"IF(Data!#REF!=\"\",\"\",Data!#REF!)","v":{"$error":"#REF!"}},{"$f":"IF(Data!#REF!=\"\",\"\",Data!#REF!)","v":{"$error":"#REF!"}},{"$f":"IF(Data!#REF!=\"\",\"\",Data!#REF!)","v":{"$error":"#REF!"}},{"$error":"#REF!"},{"$error":"#REF!"},{"$error":"#REF!"}]
[{"$f":"IF(Data!#REF!=\"\",\"\",Data!#REF!)","v":{"$error":"#REF!"}},{"$f":"IF(Data!#REF!=\"\",\"\",Data!#REF!)","v":{"$error":"#REF!"}},{"$f":"IF(Data!#REF!=\"\",\"\",Data!#REF!)","v":{"$error":"#REF!"}},{"$f":"IF(Data!#REF!=\"\",\"\",Data!#REF!)","v":{"$error":"#REF!"}},{"$f":"IF(Data!#REF!=\"\",\"\",Data!#REF!)","v":{"$error":"#REF!"}},{"$error":"#REF!"},{"$error":"#REF!"},{"$error":"#REF!"}]
[{"$f":"IF(Data!#REF!=\"\",\"\",Data!#REF!)","v":{"$error":"#REF!"}},{"$f":"IF(Data!#REF!=\"\",\"\",Data!#REF!)","v":{"$error":"#REF!"}},{"$f":"IF(Data!#REF!=\"\",\"\",Data!#REF!)","v":{"$error":"#REF!"}},{"$f":"IF(Data!#REF!=\"\",\"\",Data!#REF!)","v":{"$error":"#REF!"}},{"$f":"IF(Data!#REF!=\"\",\"\",Data!#REF!)","v":{"$error":"#REF!"}},{"$error":"#REF!"},{"$error":"#REF!"},{"$error":"#REF!"}]
[{"$f":"IF(Data!#REF!=\"\",\"\",Data!#REF!)","v":{"$error":"#REF!"}},{"$f":"IF(Data!#REF!=\"\",\"\",Data!#REF!)","v":{"$error":"#REF!"}},{"$f":"IF(Data!#REF!=\"\",\"\",Data!#REF!)","v":{"$error":"#REF!"}},{"$f":"IF(Data!#REF!=\"\",\"\",Data!#REF!)","v":{"$error":"#REF!"}},{"$f":"IF(Data!#REF!=\"\",\"\",Data!#REF!)","v":{"$error":"#REF!"}},{"$error":"#REF!"},{"$error":"#REF!"},{"$error":"#REF!"}]
[{"$f":"IF(Data!#REF!=\"\",\"\",Data!#REF!)","v":{"$error":"#REF!"}},{"$f":"IF(Data!#REF!=\"\",\"\",Data!#REF!)","v":{"$error":"#REF!"}},{"$f":"IF(Data!#REF!=\"\",\"\",Data!#REF!)","v":{"$error":"#REF!"}},{"$f":"IF(Data!#REF!=\"\",\"\",Data!#REF!)","v":{"$error":"#REF!"}},{"$f":"IF(Data!#REF!=\"\",\"\",Data!#REF!)","v":{"$error":"#REF!"}},{"$error":"#REF!"},{"$error":"#REF!"},{"$error":"#REF!"}]
[{"$f":"IF(Data!#REF!=\"\",\"\",Data!#REF!)","v":{"$error":"#REF!"}},{"$f":"IF(Data!#REF!=\"\",\"\",Data!#REF!)","v":{"$error":"#REF!"}},{"$f":"IF(Data!#REF!=\"\",\"\",Data!#REF!)","v":{"$error":"#REF!"}},{"$f":"IF(Data!#REF!=\"\",\"\",Data!#REF!)","v":{"$error":"#REF!"}},{"$f":"IF(Data!#REF!=\"\",\"\",Data!#REF!)","v":{"$error":"#REF!"}},{"$error":"#REF!"},{"$error":"#REF!"},{"$error":"#REF!"}]
[{"$f":"IF(Data!#REF!=\"\",\"\",Data!#REF!)","v":{"$error":"#REF!"}},{"$f":"IF(Data!#REF!=\"\",\"\",Data!#REF!)","v":{"$error":"#REF!"}},{"$f":"IF(Data!#REF!=\"\",\"\",Data!#REF!)","v":{"$error":"#REF!"}},{"$f":"IF(Data!#REF!=\"\",\"\",Data!#REF!)","v":{"$error":"#REF!"}},{"$f":"IF(Data!#REF!=\"\",\"\",Data!#REF!)","v":{"$error":"#REF!"}},{"$error":"#REF!"},{"$error":"#REF!"},{"$error":"#REF!"}]
[{"$f":"IF(Data!#REF!=\"\",\"\",Data!#REF!)","v":{"$error":"#REF!"}},{"$f":"IF(Data!#REF!=\"\",\"\",Data!#REF!)","v":{"$error":"#REF!"}},{"$f":"IF(Data!#REF!=\"\",\"\",Data!#REF!)","v":{"$error":"#REF!"}},{"$f":"IF(Data!#REF!=\"\",\"\",Data!#REF!)","v":{"$error":"#REF!"}},{"$f":"IF(Data!#REF!=\"\",\"\",Data!#REF!)","v":{"$error":"#REF!"}},{"$error":"#REF!"},{"$error":"#REF!"},{"$error":"#REF!"}]
[{"$f":"IF(Data!#REF!=\"\",\"\",Data!#REF!)","v":{"$error":"#REF!"}},{"$f":"IF(Data!#REF!=\"\",\"\",Data!#REF!)","v":{"$error":"#REF!"}},{"$f":"IF(Data!#REF!=\"\",\"\",Data!#REF!)","v":{"$error":"#REF!"}},{"$f":"IF(Data!#REF!=\"\",\"\",Data!#REF!)","v":{"$error":"#REF!"}},{"$f":"IF(Data!#REF!=\"\",\"\",Data!#REF!)","v":{"$error":"#REF!"}},{"$error":"#REF!"},{"$error":"#REF!"},{"$error":"#REF!"}]
[{"$f":"IF(Data!#REF!=\"\",\"\",Data!#REF!)","v":{"$error":"#REF!"}},{"$f":"IF(Data!#REF!=\"\",\"\",Data!#REF!)","v":{"$error":"#REF!"}},{"$f":"IF(Data!#REF!=\"\",\"\",Data!#REF!)","v":{"$error":"#REF!"}},{"$f":"IF(Data!#REF!=\"\",\"\",Data!#REF!)","v":{"$error":"#REF!"}},{"$f":"IF(Data!#REF!=\"\",\"\",Data!#REF!)","v":{"$error":"#REF!"}},{"$error":"#REF!"},{"$error":"#REF!"},{"$error":"#REF!"}]
[{"$f":"IF(Data!#REF!=\"\",\"\",Data!#REF!)","v":{"$error":"#REF!"}},{"$f":"IF(Data!#REF!=\"\",\"\",Data!#REF!)","v":{"$error":"#REF!"}},{"$f":"IF(Data!#REF!=\"\",\"\",Data!#REF!)","v":{"$error":"#REF!"}},{"$f":"IF(Data!#REF!=\"\",\"\",Data!#REF!)","v":{"$error":"#REF!"}},{"$f":"IF(Data!#REF!=\"\",\"\",Data!#REF!)","v":{"$error":"#REF!"}},{"$error":"#REF!"},{"$error":"#REF!"},{"$error":"#REF!"}]
[{"$f":"IF(Data!#REF!=\"\",\"\",Data!#REF!)","v":{"$error":"#REF!"}},{"$f":"IF(Data!#REF!=\"\",\"\",Data!#REF!)","v":{"$error":"#REF!"}},{"$f":"IF(Data!#REF!=\"\",\"\",Data!#REF!)","v":{"$error":"#REF!"}},{"$f":"IF(Data!#REF!=\"\",\"\",Data!#REF!)","v":{"$error":"#REF!"}},{"$f":"IF(Data!#REF!=\"\",\"\",Data!#REF!)","v":{"$error":"#REF!"}},{"$error":"#REF!"},{"$error":"#REF!"},{"$error":"#REF!"}]
[{"$f":"IF(Data!#REF!=\"\",\"\",Data!#REF!)","v":{"$error":"#REF!"}},{"$f":"IF(Data!#REF!=\"\",\"\",Data!#REF!)","v":{"$error":"#REF!"}},{"$f":"IF(Data!#REF!=\"\",\"\",Data!#REF!)","v":{"$error":"#REF!"}},{"$f":"IF(Data!#REF!=\"\",\"\",Data!#REF!)","v":{"$error":"#REF!"}},{"$f":"IF(Data!#REF!=\"\",\"\",Data!#REF!)","v":{"$error":"#REF!"}},{"$error":"#REF!"},{"$error":"#REF!"},{"$error":"#REF!"}]
[{"$f":"IF(Data!#REF!=\"\",\"\",Data!#REF!)","v":{"$error":"#REF!"}},{"$f":"IF(Data!#REF!=\"\",\"\",Data!#REF!)","v":{"$error":"#REF!"}},{"$f":"IF(Data!#REF!=\"\",\"\",Data!#REF!)","v":{"$error":"#REF!"}},{"$f":"IF(Data!#REF!=\"\",\"\",Data!#REF!)","v":{"$error":"#REF!"}},{"$f":"IF(Data!#REF!=\"\",\"\",Data!#REF!)","v":{"$error":"#REF!"}},{"$error":"#REF!"},{"$error":"#REF!"},{"$error":"#REF!"}]
[{"$f":"IF(Data!#REF!=\"\",\"\",Data!#REF!)","v":{"$error":"#REF!"}},{"$f":"IF(Data!#REF!=\"\",\"\",Data!#REF!)","v":{"$error":"#REF!"}},{"$f":"IF(Data!#REF!=\"\",\"\",Data!#REF!)","v":{"$error":"#REF!"}},{"$f":"IF(Data!#REF!=\"\",\"\",Data!#REF!)","v":{"$error":"#REF!"}},{"$f":"IF(Data!#REF!=\"\",\"\",Data!#REF!)","v":{"$error":"#REF!"}},{"$error":"#REF!"},{"$error":"#REF!"},{"$error":"#REF!"}]
[{"$f":"IF(Data!#REF!=\"\",\"\",Data!#REF!)","v":{"$error":"#REF!"}},{"$f":"IF(Data!#REF!=\"\",\"\",Data!#REF!)","v":{"$error":"#REF!"}},{"$f":"IF(Data!#REF!=\"\",\"\",Data!#REF!)","v":{"$error":"#REF!"}},{"$f":"IF(Data!#REF!=\"\",\"\",Data!#REF!)","v":{"$error":"#REF!"}},{"$f":"IF(Data!#REF!=\"\",\"\",Data!#REF!)","v":{"$error":"#REF!"}},{"$error":"#REF!"},{"$error":"#REF!"},{"$error":"#REF!"}]
[{"$f":"IF(Data!#REF!=\"\",\"\",Data!#REF!)","v":{"$error":"#REF!"}},{"$f":"IF(Data!#REF!=\"\",\"\",Data!#REF!)","v":{"$error":"#REF!"}},{"$f":"IF(Data!#REF!=\"\",\"\",Data!#REF!)","v":{"$error":"#REF!"}},{"$f":"IF(Data!#REF!=\"\",\"\",Data!#REF!)","v":{"$error":"#REF!"}},{"$f":"IF(Data!#REF!=\"\",\"\",Data!#REF!)","v":{"$error":"#REF!"}},{"$error":"#REF!"},{"$error":"#REF!"},{"$error":"#REF!"}]
[{"$f":"IF(Data!#REF!=\"\",\"\",Data!#REF!)","v":{"$error":"#REF!"}},{"$f":"IF(Data!#REF!=\"\",\"\",Data!#REF!)","v":{"$error":"#REF!"}},{"$f":"IF(Data!#REF!=\"\",\"\",Data!#REF!)","v":{"$error":"#REF!"}},{"$f":"IF(Data!#REF!=\"\",\"\",Data!#REF!)","v":{"$error":"#REF!"}},{"$f":"IF(Data!#REF!=\"\",\"\",Data!#REF!)","v":{"$error":"#REF!"}},{"$error":"#REF!"},{"$error":"#REF!"},{"$error":"#REF!"}]
[{"$f":"IF(Data!#REF!=\"\",\"\",Data!#REF!)","v":{"$error":"#REF!"}},{"$f":"IF(Data!#REF!=\"\",\"\",Data!#REF!)","v":{"$error":"#REF!"}},{"$f":"IF(Data!#REF!=\"\",\"\",Data!#REF!)","v":{"$error":"#REF!"}},{"$f":"IF(Data!#REF!=\"\",\"\",Data!#REF!)","v":{"$error":"#REF!"}},{"$f":"IF(Data!#REF!=\"\",\"\",Data!#REF!)","v":{"$error":"#REF!"}},{"$error":"#REF!"},{"$error":"#REF!"},{"$error":"#REF!"}]
[{"$f":"IF(Data!#REF!=\"\",\"\",Data!#REF!)","v":{"$error":"#REF!"}},{"$f":"IF(Data!#REF!=\"\",\"\",Data!#REF!)","v":{"$error":"#REF!"}},{"$f":"IF(Data!#REF!=\"\",\"\",Data!#REF!)","v":{"$error":"#REF!"}},{"$f":"IF(Data!#REF!=\"\",\"\",Data!#REF!)","v":{"$error":"#REF!"}},{"$f":"IF(Data!#REF!=\"\",\"\",Data!#REF!)","v":{"$error":"#REF!"}},{"$error":"#REF!"},{"$error":"#REF!"},{"$error":"#REF!"}]
[{"$f":"IF(Data!#REF!=\"\",\"\",Data!#REF!)","v":{"$error":"#REF!"}},{"$f":"IF(Data!#REF!=\"\",\"\",Data!#REF!)","v":{"$error":"#REF!"}},{"$f":"IF(Data!#REF!=\"\",\"\",Data!#REF!)","v":{"$error":"#REF!"}},{"$f":"IF(Data!#REF!=\"\",\"\",Data!#REF!)","v":{"$error":"#REF!"}},{"$f":"IF(Data!#REF!=\"\",\"\",Data!#REF!)","v":{"$error":"#REF!"}},{"$error":"#REF!"},{"$error":"#REF!"},{"$error":"#REF!"}]
[{"$f":"IF(Data!#REF!=\"\",\"\",Data!#REF!)","v":{"$error":"#REF!"}},{"$f":"IF(Data!#REF!=\"\",\"\",Data!#REF!)","v":{"$error":"#REF!"}},{"$f":"IF(Data!#REF!=\"\",\"\",Data!#REF!)","v":{"$error":"#REF!"}},{"$f":"IF(Data!#REF!=\"\",\"\",Data!#REF!)","v":{"$error":"#REF!"}},{"$f":"IF(Data!#REF!=\"\",\"\",Data!#REF!)","v":{"$error":"#REF!"}},{"$error":"#REF!"},{"$error":"#REF!"},{"$error":"#REF!"}]
[{"$f":"IF(Data!#REF!=\"\",\"\",Data!#REF!)","v":{"$error":"#REF!"}},{"$f":"IF(Data!#REF!=\"\",\"\",Data!#REF!)","v":{"$error":"#REF!"}},{"$f":"IF(Data!#REF!=\"\",\"\",Data!#REF!)","v":{"$error":"#REF!"}},{"$f":"IF(Data!#REF!=\"\",\"\",Data!#REF!)","v":{"$error":"#REF!"}},{"$f":"IF(Data!#REF!=\"\",\"\",Data!#REF!)","v":{"$error":"#REF!"}},{"$error":"#REF!"},{"$error":"#REF!"},{"$error":"#REF!"}]
[{"$f":"IF(Data!#REF!=\"\",\"\",Data!#REF!)","v":{"$error":"#REF!"}},{"$f":"IF(Data!#REF!=\"\",\"\",Data!#REF!)","v":{"$error":"#REF!"}},{"$f":"IF(Data!#REF!=\"\",\"\",Data!#REF!)","v":{"$error":"#REF!"}},{"$f":"IF(Data!#REF!=\"\",\"\",Data!#REF!)","v":{"$error":"#REF!"}},{"$f":"IF(Data!#REF!=\"\",\"\",Data!#REF!)","v":{"$error":"#REF!"}},{"$error":"#REF!"},{"$error":"#REF!"},{"$error":"#REF!"}]
[{"$f":"IF(Data!#REF!=\"\",\"\",Data!#REF!)","v":{"$error":"#REF!"}},{"$f":"IF(Data!#REF!=\"\",\"\",Data!#REF!)","v":{"$error":"#REF!"}},{"$f":"IF(Data!#REF!=\"\",\"\",Data!#REF!)","v":{"$error":"#REF!"}},{"$f":"IF(Data!#REF!=\"\",\"\",Data!#REF!)","v":{"$error":"#REF!"}},{"$f":"IF(Data!#REF!=\"\",\"\",Data!#REF!)","v":{"$error":"#REF!"}},{"$error":"#REF!"},{"$error":"#REF!"},{"$error":"#REF!"}]
[{"$f":"IF(Data!#REF!=\"\",\"\",Data!#REF!)","v":{"$error":"#REF!"}},{"$f":"IF(Data!#REF!=\"\",\"\",Data!#REF!)","v":{"$error":"#REF!"}},{"$f":"IF(Data!#REF!=\"\",\"\",Data!#REF!)","v":{"$error":"#REF!"}},{"$f":"IF(Data!#REF!=\"\",\"\",Data!#REF!)","v":{"$error":"#REF!"}},{"$f":"IF(Data!#REF!=\"\",\"\",Data!#REF!)","v":{"$error":"#REF!"}},{"$error":"#REF!"},{"$error":"#REF!"},{"$error":"#REF!"}]
[{"$f":"IF(Data!#REF!=\"\",\"\",Data!#REF!)","v":{"$error":"#REF!"}},{"$f":"IF(Data!#REF!=\"\",\"\",Data!#REF!)","v":{"$error":"#REF!"}},{"$f":"IF(Data!#REF!=\"\",\"\",Data!#REF!)","v":{"$error":"#REF!"}},{"$f":"IF(Data!#REF!=\"\",\"\",Data!#REF!)","v":{"$error":"#REF!"}},{"$f":"IF(Data!#REF!=\"\",\"\",Data!#REF!)","v":{"$error":"#REF!"}},{"$error":"#REF!"},{"$error":"#REF!"},{"$error":"#REF!"}]
[{"$f":"IF(Data!#REF!=\"\",\"\",Data!#REF!)","v":{"$error":"#REF!"}},{"$f":"IF(Data!#REF!=\"\",\"\",Data!#REF!)","v":{"$error":"#REF!"}},{"$f":"IF(Data!#REF!=\"\",\"\",Data!#REF!)","v":{"$error":"#REF!"}},{"$f":"IF(Data!#REF!=\"\",\"\",Data!#REF!)","v":{"$error":"#REF!"}},{"$f":"IF(Data!#REF!=\"\",\"\",Data!#REF!)","v":{"$error":"#REF!"}},{"$error":"#REF!"},{"$error":"#REF!"},{"$error":"#REF!"}]
[{"$f":"IF(Data!#REF!=\"\",\"\",Data!#REF!)","v":{"$error":"#REF!"}},{"$f":"IF(Data!#REF!=\"\",\"\",Data!#REF!)","v":{"$error":"#REF!"}},{"$f":"IF(Data!#REF!=\"\",\"\",Data!#REF!)","v":{"$error":"#REF!"}},{"$f":"IF(Data!#REF!=\"\",\"\",Data!#REF!)","v":{"$error":"#REF!"}},{"$f":"IF(Data!#REF!=\"\",\"\",Data!#REF!)","v":{"$error":"#REF!"}},{"$error":"#REF!"},{"$error":"#REF!"},{"$error":"#REF!"}]
[{"$f":"IF(Data!#REF!=\"\",\"\",Data!#REF!)","v":{"$error":"#REF!"}},{"$f":"IF(Data!#REF!=\"\",\"\",Data!#REF!)","v":{"$error":"#REF!"}},{"$f":"IF(Data!#REF!=\"\",\"\",Data!#REF!)","v":{"$error":"#REF!"}},{"$f":"IF(Data!#REF!=\"\",\"\",Data!#REF!)","v":{"$error":"#REF!"}},{"$f":"IF(Data!#REF!=\"\",\"\",Data!#REF!)","v":{"$error":"#REF!"}},{"$error":"#REF!"},{"$error":"#REF!"},{"$error":"#REF!"}]
[{"$f":"IF(Data!#REF!=\"\",\"\",Data!#REF!)","v":{"$error":"#REF!"}},{"$f":"IF(Data!#REF!=\"\",\"\",Data!#REF!)","v":{"$error":"#REF!"}},{"$f":"IF(Data!#REF!=\"\",\"\",Data!#REF!)","v":{"$error":"#REF!"}},{"$f":"IF(Data!#REF!=\"\",\"\",Data!#REF!)","v":{"$error":"#REF!"}},{"$f":"IF(Data!#REF!=\"\",\"\",Data!#REF!)","v":{"$error":"#REF!"}},{"$error":"#REF!"},{"$error":"#REF!"},{"$error":"#REF!"}]
[{"$f":"IF(Data!#REF!=\"\",\"\",Data!#REF!)","v":{"$error":"#REF!"}},{"$f":"IF(Data!#REF!=\"\",\"\",Data!#REF!)","v":{"$error":"#REF!"}},{"$f":"IF(Data!#REF!=\"\",\"\",Data!#REF!)","v":{"$error":"#REF!"}},{"$f":"IF(Data!#REF!=\"\",\"\",Data!#REF!)","v":{"$error":"#REF!"}},{"$f":"IF(Data!#REF!=\"\",\"\",Data!#REF!)","v":{"$error":"#REF!"}},{"$error":"#REF!"},{"$error":"#REF!"},{"$error":"#REF!"}]
[{"$f":"IF(Data!#REF!=\"\",\"\",Data!#REF!)","v":{"$error":"#REF!"}},{"$f":"IF(Data!#REF!=\"\",\"\",Data!#REF!)","v":{"$error":"#REF!"}},{"$f":"IF(Data!#REF!=\"\",\"\",Data!#REF!)","v":{"$error":"#REF!"}},{"$f":"IF(Data!#REF!=\"\",\"\",Data!#REF!)","v":{"$error":"#REF!"}},{"$f":"IF(Data!#REF!=\"\",\"\",Data!#REF!)","v":{"$error":"#REF!"}},{"$error":"#REF!"},{"$error":"#REF!"},{"$error":"#REF!"}]
[{"$f":"IF(Data!#REF!=\"\",\"\",Data!#REF!)","v":{"$error":"#REF!"}},{"$f":"IF(Data!#REF!=\"\",\"\",Data!#REF!)","v":{"$error":"#REF!"}},{"$f":"IF(Data!#REF!=\"\",\"\",Data!#REF!)","v":{"$error":"#REF!"}},{"$f":"IF(Data!#REF!=\"\",\"\",Data!#REF!)","v":{"$error":"#REF!"}},{"$f":"IF(Data!#REF!=\"\",\"\",Data!#REF!)","v":{"$error":"#REF!"}},{"$error":"#REF!"},{"$error":"#REF!"},{"$error":"#REF!"}]
[{"$f":"IF(Data!#REF!=\"\",\"\",Data!#REF!)","v":{"$error":"#REF!"}},{"$f":"IF(Data!#REF!=\"\",\"\",Data!#REF!)","v":{"$error":"#REF!"}},{"$f":"IF(Data!#REF!=\"\",\"\",Data!#REF!)","v":{"$error":"#REF!"}},{"$f":"IF(Data!#REF!=\"\",\"\",Data!#REF!)","v":{"$error":"#REF!"}},{"$f":"IF(Data!#REF!=\"\",\"\",Data!#REF!)","v":{"$error":"#REF!"}},{"$error":"#REF!"},{"$error":"#REF!"},{"$error":"#REF!"}]
[{"$f":"IF(Data!#REF!=\"\",\"\",Data!#REF!)","v":{"$error":"#REF!"}},{"$f":"IF(Data!#REF!=\"\",\"\",Data!#REF!)","v":{"$error":"#REF!"}},{"$f":"IF(Data!#REF!=\"\",\"\",Data!#REF!)","v":{"$error":"#REF!"}},{"$f":"IF(Data!#REF!=\"\",\"\",Data!#REF!)","v":{"$error":"#REF!"}},{"$f":"IF(Data!#REF!=\"\",\"\",Data!#REF!)","v":{"$error":"#REF!"}},{"$error":"#REF!"},{"$error":"#REF!"},{"$error":"#REF!"}]
[{"$f":"IF(Data!#REF!=\"\",\"\",Data!#REF!)","v":{"$error":"#REF!"}},{"$f":"IF(Data!#REF!=\"\",\"\",Data!#REF!)","v":{"$error":"#REF!"}},{"$f":"IF(Data!#REF!=\"\",\"\",Data!#REF!)","v":{"$error":"#REF!"}},{"$f":"IF(Data!#REF!=\"\",\"\",Data!#REF!)","v":{"$error":"#REF!"}},{"$f":"IF(Data!#REF!=\"\",\"\",Data!#REF!)","v":{"$error":"#REF!"}},{"$error":"#REF!"},{"$error":"#REF!"},{"$error":"#REF!"}]
[{"$f":"IF(Data!#REF!=\"\",\"\",Data!#REF!)","v":{"$error":"#REF!"}},{"$f":"IF(Data!#REF!=\"\",\"\",Data!#REF!)","v":{"$error":"#REF!"}},{"$f":"IF(Data!#REF!=\"\",\"\",Data!#REF!)","v":{"$error":"#REF!"}},{"$f":"IF(Data!#REF!=\"\",\"\",Data!#REF!)","v":{"$error":"#REF!"}},{"$f":"IF(Data!#REF!=\"\",\"\",Data!#REF!)","v":{"$error":"#REF!"}},{"$error":"#REF!"},{"$error":"#REF!"},{"$error":"#REF!"}]
[{"$f":"IF(Data!#REF!=\"\",\"\",Data!#REF!)","v":{"$error":"#REF!"}},{"$f":"IF(Data!#REF!=\"\",\"\",Data!#REF!)","v":{"$error":"#REF!"}},{"$f":"IF(Data!#REF!=\"\",\"\",Data!#REF!)","v":{"$error":"#REF!"}},{"$f":"IF(Data!#REF!=\"\",\"\",Data!#REF!)","v":{"$error":"#REF!"}},{"$f":"IF(Data!#REF!=\"\",\"\",Data!#REF!)","v":{"$error":"#REF!"}},{"$error":"#REF!"},{"$error":"#REF!"},{"$error":"#REF!"}]
[{"$f":"IF(Data!#REF!=\"\",\"\",Data!#REF!)","v":{"$error":"#REF!"}},{"$f":"IF(Data!#REF!=\"\",\"\",Data!#REF!)","v":{"$error":"#REF!"}},{"$f":"IF(Data!#REF!=\"\",\"\",Data!#REF!)","v":{"$error":"#REF!"}},{"$f":"IF(Data!#REF!=\"\",\"\",Data!#REF!)","v":{"$error":"#REF!"}},{"$f":"IF(Data!#REF!=\"\",\"\",Data!#REF!)","v":{"$error":"#REF!"}},{"$error":"#REF!"},{"$error":"#REF!"},{"$error":"#REF!"}]
[{"$f":"IF(Data!#REF!=\"\",\"\",Data!#REF!)","v":{"$error":"#REF!"}},{"$f":"IF(Data!#REF!=\"\",\"\",Data!#REF!)","v":{"$error":"#REF!"}},{"$f":"IF(Data!#REF!=\"\",\"\",Data!#REF!)","v":{"$error":"#REF!"}},{"$f":"IF(Data!#REF!=\"\",\"\",Data!#REF!)","v":{"$error":"#REF!"}},{"$f":"IF(Data!#REF!=\"\",\"\",Data!#REF!)","v":{"$error":"#REF!"}},{"$error":"#REF!"},{"$error":"#REF!"},{"$error":"#REF!"}]
[{"$f":"IF(Data!#REF!=\"\",\"\",Data!#REF!)","v":{"$error":"#REF!"}},{"$f":"IF(Data!#REF!=\"\",\"\",Data!#REF!)","v":{"$error":"#REF!"}},{"$f":"IF(Data!#REF!=\"\",\"\",Data!#REF!)","v":{"$error":"#REF!"}},{"$f":"IF(Data!#REF!=\"\",\"\",Data!#REF!)","v":{"$error":"#REF!"}},{"$f":"IF(Data!#REF!=\"\",\"\",Data!#REF!)","v":{"$error":"#REF!"}},{"$error":"#REF!"},{"$error":"#REF!"},{"$error":"#REF!"}]
[{"$f":"IF(Data!#REF!=\"\",\"\",Data!#REF!)","v":{"$error":"#REF!"}},{"$f":"IF(Data!#REF!=\"\",\"\",Data!#REF!)","v":{"$error":"#REF!"}},{"$f":"IF(Data!#REF!=\"\",\"\",Data!#REF!)","v":{"$error":"#REF!"}},{"$f":"IF(Data!#REF!=\"\",\"\",Data!#REF!)","v":{"$error":"#REF!"}},{"$f":"IF(Data!#REF!=\"\",\"\",Data!#REF!)","v":{"$error":"#REF!"}},{"$error":"#REF!"},{"$error":"#REF!"},{"$error":"#REF!"}]
[{"$f":"IF(Data!#REF!=\"\",\"\",Data!#REF!)","v":{"$error":"#REF!"}},{"$f":"IF(Data!#REF!=\"\",\"\",Data!#REF!)","v":{"$error":"#REF!"}},{"$f":"IF(Data!#REF!=\"\",\"\",Data!#REF!)","v":{"$error":"#REF!"}},{"$f":"IF(Data!#REF!=\"\",\"\",Data!#REF!)","v":{"$error":"#REF!"}},{"$f":"IF(Data!#REF!=\"\",\"\",Data!#REF!)","v":{"$error":"#REF!"}},{"$error":"#REF!"},{"$error":"#REF!"},{"$error":"#REF!"}]
[{"$f":"IF(Data!#REF!=\"\",\"\",Data!#REF!)","v":{"$error":"#REF!"}},{"$f":"IF(Data!#REF!=\"\",\"\",Data!#REF!)","v":{"$error":"#REF!"}},{"$f":"IF(Data!#REF!=\"\",\"\",Data!#REF!)","v":{"$error":"#REF!"}},{"$f":"IF(Data!#REF!=\"\",\"\",Data!#REF!)","v":{"$error":"#REF!"}},{"$f":"IF(Data!#REF!=\"\",\"\",Data!#REF!)","v":{"$error":"#REF!"}},{"$error":"#REF!"},{"$error":"#REF!"},{"$error":"#REF!"}]
[{"$f":"IF(Data!#REF!=\"\",\"\",Data!#REF!)","v":{"$error":"#REF!"}},{"$f":"IF(Data!#REF!=\"\",\"\",Data!#REF!)","v":{"$error":"#REF!"}},{"$f":"IF(Data!#REF!=\"\",\"\",Data!#REF!)","v":{"$error":"#REF!"}},{"$f":"IF(Data!#REF!=\"\",\"\",Data!#REF!)","v":{"$error":"#REF!"}},{"$f":"IF(Data!#REF!=\"\",\"\",Data!#REF!)","v":{"$error":"#REF!"}},{"$error":"#REF!"},{"$error":"#REF!"},{"$error":"#REF!"}]
[{"$f":"IF(Data!#REF!=\"\",\"\",Data!#REF!)","v":{"$error":"#REF!"}},{"$f":"IF(Data!#REF!=\"\",\"\",Data!#REF!)","v":{"$error":"#REF!"}},{"$f":"IF(Data!#REF!=\"\",\"\",Data!#REF!)","v":{"$error":"#REF!"}},{"$f":"IF(Data!#REF!=\"\",\"\",Data!#REF!)","v":{"$error":"#REF!"}},{"$f":"IF(Data!#REF!=\"\",\"\",Data!#REF!)","v":{"$error":"#REF!"}},{"$error":"#REF!"},{"$error":"#REF!"},{"$error":"#REF!"}]
[{"$f":"IF(Data!#REF!=\"\",\"\",Data!#REF!)","v":{"$error":"#REF!"}},{"$f":"IF(Data!#REF!=\"\",\"\",Data!#REF!)","v":{"$error":"#REF!"}},{"$f":"IF(Data!#REF!=\"\",\"\",Data!#REF!)","v":{"$error":"#REF!"}},{"$f":"IF(Data!#REF!=\"\",\"\",Data!#REF!)","v":{"$error":"#REF!"}},{"$f":"IF(Data!#REF!=\"\",\"\",Data!#REF!)","v":{"$error":"#REF!"}},{"$error":"#REF!"},{"$error":"#REF!"},{"$error":"#REF!"}]
[{"$f":"IF(Data!#REF!=\"\",\"\",Data!#REF!)","v":{"$error":"#REF!"}},{"$f":"IF(Data!#REF!=\"\",\"\",Data!#REF!)","v":{"$error":"#REF!"}},{"$f":"IF(Data!#REF!=\"\",\"\",Data!#REF!)","v":{"$error":"#REF!"}},{"$f":"IF(Data!#REF!=\"\",\"\",Data!#REF!)","v":{"$error":"#REF!"}},{"$f":"IF(Data!#REF!=\"\",\"\",Data!#REF!)","v":{"$error":"#REF!"}},{"$error":"#REF!"},{"$error":"#REF!"},{"$error":"#REF!"}]
[{"$f":"IF(Data!#REF!=\"\",\"\",Data!#REF!)","v":{"$error":"#REF!"}},{"$f":"IF(Data!#REF!=\"\",\"\",Data!#REF!)","v":{"$error":"#REF!"}},{"$f":"IF(Data!#REF!=\"\",\"\",Data!#REF!)","v":{"$error":"#REF!"}},{"$f":"IF(Data!#REF!=\"\",\"\",Data!#REF!)","v":{"$error":"#REF!"}},{"$f":"IF(Data!#REF!=\"\",\"\",Data!#REF!)","v":{"$error":"#REF!"}},{"$error":"#REF!"},{"$error":"#REF!"},{"$error":"#REF!"}]
[{"$f":"IF(Data!#REF!=\"\",\"\",Data!#REF!)","v":{"$error":"#REF!"}},{"$f":"IF(Data!#REF!=\"\",\"\",Data!#REF!)","v":{"$error":"#REF!"}},{"$f":"IF(Data!#REF!=\"\",\"\",Data!#REF!)","v":{"$error":"#REF!"}},{"$f":"IF(Data!#REF!=\"\",\"\",Data!#REF!)","v":{"$error":"#REF!"}},{"$f":"IF(Data!#REF!=\"\",\"\",Data!#REF!)","v":{"$error":"#REF!"}},{"$error":"#REF!"},{"$error":"#REF!"},{"$error":"#REF!"}]
[{"$f":"IF(Data!#REF!=\"\",\"\",Data!#REF!)","v":{"$error":"#REF!"}},{"$f":"IF(Data!#REF!=\"\",\"\",Data!#REF!)","v":{"$error":"#REF!"}},{"$f":"IF(Data!#REF!=\"\",\"\",Data!#REF!)","v":{"$error":"#REF!"}},{"$f":"IF(Data!#REF!=\"\",\"\",Data!#REF!)","v":{"$error":"#REF!"}},{"$f":"IF(Data!#REF!=\"\",\"\",Data!#REF!)","v":{"$error":"#REF!"}},{"$error":"#REF!"},{"$error":"#REF!"},{"$error":"#REF!"}]
[{"$f":"IF(Data!#REF!=\"\",\"\",Data!#REF!)","v":{"$error":"#REF!"}},{"$f":"IF(Data!#REF!=\"\",\"\",Data!#REF!)","v":{"$error":"#REF!"}},{"$f":"IF(Data!#REF!=\"\",\"\",Data!#REF!)","v":{"$error":"#REF!"}},{"$f":"IF(Data!#REF!=\"\",\"\",Data!#REF!)","v":{"$error":"#REF!"}},{"$f":"IF(Data!#REF!=\"\",\"\",Data!#REF!)","v":{"$error":"#REF!"}},{"$error":"#REF!"},{"$error":"#REF!"},{"$error":"#REF!"}]
[{"$f":"IF(Data!#REF!=\"\",\"\",Data!#REF!)","v":{"$error":"#REF!"}},{"$f":"IF(Data!#REF!=\"\",\"\",Data!#REF!)","v":{"$error":"#REF!"}},{"$f":"IF(Data!#REF!=\"\",\"\",Data!#REF!)","v":{"$error":"#REF!"}},{"$f":"IF(Data!#REF!=\"\",\"\",Data!#REF!)","v":{"$error":"#REF!"}},{"$f":"IF(Data!#REF!=\"\",\"\",Data!#REF!)","v":{"$error":"#REF!"}},{"$error":"#REF!"},{"$error":"#REF!"},{"$error":"#REF!"}]
[{"$f":"IF(Data!#REF!=\"\",\"\",Data!#REF!)","v":{"$error":"#REF!"}},{"$f":"IF(Data!#REF!=\"\",\"\",Data!#REF!)","v":{"$error":"#REF!"}},{"$f":"IF(Data!#REF!=\"\",\"\",Data!#REF!)","v":{"$error":"#REF!"}},{"$f":"IF(Data!#REF!=\"\",\"\",Data!#REF!)","v":{"$error":"#REF!"}},{"$f":"IF(Data!#REF!=\"\",\"\",Data!#REF!)","v":{"$error":"#REF!"}},{"$error":"#REF!"},{"$error":"#REF!"},{"$error":"#REF!"}]
[{"$f":"IF(Data!#REF!=\"\",\"\",Data!#REF!)","v":{"$error":"#REF!"}},{"$f":"IF(Data!#REF!=\"\",\"\",Data!#REF!)","v":{"$error":"#REF!"}},{"$f":"IF(Data!#REF!=\"\",\"\",Data!#REF!)","v":{"$error":"#REF!"}},{"$f":"IF(Data!#REF!=\"\",\"\",Data!#REF!)","v":{"$error":"#REF!"}},{"$f":"IF(Data!#REF!=\"\",\"\",Data!#REF!)","v":{"$error":"#REF!"}},{"$error":"#REF!"},{"$error":"#REF!"},{"$error":"#REF!"}]
[{"$f":"IF(Data!#REF!=\"\",\"\",Data!#REF!)","v":{"$error":"#REF!"}},{"$f":"IF(Data!#REF!=\"\",\"\",Data!#REF!)","v":{"$error":"#REF!"}},{"$f":"IF(Data!#REF!=\"\",\"\",Data!#REF!)","v":{"$error":"#REF!"}},{"$f":"IF(Data!#REF!=\"\",\"\",Data!#REF!)","v":{"$error":"#REF!"}},{"$f":"IF(Data!#REF!=\"\",\"\",Data!#REF!)","v":{"$error":"#REF!"}},{"$error":"#REF!"},{"$error":"#REF!"},{"$error":"#REF!"}]
[{"$f":"IF(Data!#REF!=\"\",\"\",Data!#REF!)","v":{"$error":"#REF!"}},{"$f":"IF(Data!#REF!=\"\",\"\",Data!#REF!)","v":{"$error":"#REF!"}},{"$f":"IF(Data!#REF!=\"\",\"\",Data!#REF!)","v":{"$error":"#REF!"}},{"$f":"IF(Data!#REF!=\"\",\"\",Data!#REF!)","v":{"$error":"#REF!"}},{"$f":"IF(Data!#REF!=\"\",\"\",Data!#REF!)","v":{"$error":"#REF!"}},{"$error":"#REF!"},{"$error":"#REF!"},{"$error":"#REF!"}]
[{"$f":"IF(Data!#REF!=\"\",\"\",Data!#REF!)","v":{"$error":"#REF!"}},{"$f":"IF(Data!#REF!=\"\",\"\",Data!#REF!)","v":{"$error":"#REF!"}},{"$f":"IF(Data!#REF!=\"\",\"\",Data!#REF!)","v":{"$error":"#REF!"}},{"$f":"IF(Data!#REF!=\"\",\"\",Data!#REF!)","v":{"$error":"#REF!"}},{"$f":"IF(Data!#REF!=\"\",\"\",Data!#REF!)","v":{"$error":"#REF!"}},{"$error":"#REF!"},{"$error":"#REF!"},{"$error":"#REF!"}]
[{"$f":"IF(Data!#REF!=\"\",\"\",Data!#REF!)","v":{"$error":"#REF!"}},{"$f":"IF(Data!#REF!=\"\",\"\",Data!#REF!)","v":{"$error":"#REF!"}},{"$f":"IF(Data!#REF!=\"\",\"\",Data!#REF!)","v":{"$error":"#REF!"}},{"$f":"IF(Data!#REF!=\"\",\"\",Data!#REF!)","v":{"$error":"#REF!"}},{"$f":"IF(Data!#REF!=\"\",\"\",Data!#REF!)","v":{"$error":"#REF!"}},{"$error":"#REF!"},{"$error":"#REF!"},{"$error":"#REF!"}]
[{"$f":"IF(Data!#REF!=\"\",\"\",Data!#REF!)","v":{"$error":"#REF!"}},{"$f":"IF(Data!#REF!=\"\",\"\",Data!#REF!)","v":{"$error":"#REF!"}},{"$f":"IF(Data!#REF!=\"\",\"\",Data!#REF!)","v":{"$error":"#REF!"}},{"$f":"IF(Data!#REF!=\"\",\"\",Data!#REF!)","v":{"$error":"#REF!"}},{"$f":"IF(Data!#REF!=\"\",\"\",Data!#REF!)","v":{"$error":"#REF!"}},{"$error":"#REF!"},{"$error":"#REF!"},{"$error":"#REF!"}]
[{"$f":"IF(Data!#REF!=\"\",\"\",Data!#REF!)","v":{"$error":"#REF!"}},{"$f":"IF(Data!#REF!=\"\",\"\",Data!#REF!)","v":{"$error":"#REF!"}},{"$f":"IF(Data!#REF!=\"\",\"\",Data!#REF!)","v":{"$error":"#REF!"}},{"$f":"IF(Data!#REF!=\"\",\"\",Data!#REF!)","v":{"$error":"#REF!"}},{"$f":"IF(Data!#REF!=\"\",\"\",Data!#REF!)","v":{"$error":"#REF!"}},{"$f":"IF(E1731>0,MONTH(E1731),\"\")","v":{"$error":"#REF!"}},{"$f":"IF(E1731>0,WEEKNUM(E1731),\"0\")","v":{"$error":"#REF!"}},{"$f":"IF(G1731>=($G$2-3),\"Ano\",\"Nie\")","v":{"$error":"#REF!"}}]
[{"$f":"IF(Data!#REF!=\"\",\"\",Data!#REF!)","v":{"$error":"#REF!"}},{"$f":"IF(Data!#REF!=\"\",\"\",Data!#REF!)","v":{"$error":"#REF!"}},{"$f":"IF(Data!#REF!=\"\",\"\",Data!#REF!)","v":{"$error":"#REF!"}},{"$f":"IF(Data!#REF!=\"\",\"\",Data!#REF!)","v":{"$error":"#REF!"}},{"$f":"IF(Data!#REF!=\"\",\"\",Data!#REF!)","v":{"$error":"#REF!"}},{"$error":"#REF!"},{"$error":"#REF!"},{"$error":"#REF!"}]
[{"$f":"IF(Data!#REF!=\"\",\"\",Data!#REF!)","v":{"$error":"#REF!"}},{"$f":"IF(Data!#REF!=\"\",\"\",Data!#REF!)","v":{"$error":"#REF!"}},{"$f":"IF(Data!#REF!=\"\",\"\",Data!#REF!)","v":{"$error":"#REF!"}},{"$f":"IF(Data!#REF!=\"\",\"\",Data!#REF!)","v":{"$error":"#REF!"}},{"$f":"IF(Data!#REF!=\"\",\"\",Data!#REF!)","v":{"$error":"#REF!"}},{"$error":"#REF!"},{"$error":"#REF!"},{"$error":"#REF!"}]
[{"$f":"IF(Data!#REF!=\"\",\"\",Data!#REF!)","v":{"$error":"#REF!"}},{"$f":"IF(Data!#REF!=\"\",\"\",Data!#REF!)","v":{"$error":"#REF!"}},{"$f":"IF(Data!#REF!=\"\",\"\",Data!#REF!)","v":{"$error":"#REF!"}},{"$f":"IF(Data!#REF!=\"\",\"\",Data!#REF!)","v":{"$error":"#REF!"}},{"$f":"IF(Data!#REF!=\"\",\"\",Data!#REF!)","v":{"$error":"#REF!"}},{"$error":"#REF!"},{"$error":"#REF!"},{"$error":"#REF!"}]
[{"$f":"IF(Data!#REF!=\"\",\"\",Data!#REF!)","v":{"$error":"#REF!"}},{"$f":"IF(Data!#REF!=\"\",\"\",Data!#REF!)","v":{"$error":"#REF!"}},{"$f":"IF(Data!#REF!=\"\",\"\",Data!#REF!)","v":{"$error":"#REF!"}},{"$f":"IF(Data!#REF!=\"\",\"\",Data!#REF!)","v":{"$error":"#REF!"}},{"$f":"IF(Data!#REF!=\"\",\"\",Data!#REF!)","v":{"$error":"#REF!"}},{"$error":"#REF!"},{"$error":"#REF!"},{"$error":"#REF!"}]
[{"$f":"IF(Data!#REF!=\"\",\"\",Data!#REF!)","v":{"$error":"#REF!"}},{"$f":"IF(Data!#REF!=\"\",\"\",Data!#REF!)","v":{"$error":"#REF!"}},{"$f":"IF(Data!#REF!=\"\",\"\",Data!#REF!)","v":{"$error":"#REF!"}},{"$f":"IF(Data!#REF!=\"\",\"\",Data!#REF!)","v":{"$error":"#REF!"}},{"$f":"IF(Data!#REF!=\"\",\"\",Data!#REF!)","v":{"$error":"#REF!"}},{"$error":"#REF!"},{"$error":"#REF!"},{"$error":"#REF!"}]
[{"$f":"IF(Data!#REF!=\"\",\"\",Data!#REF!)","v":{"$error":"#REF!"}},{"$f":"IF(Data!#REF!=\"\",\"\",Data!#REF!)","v":{"$error":"#REF!"}},{"$f":"IF(Data!#REF!=\"\",\"\",Data!#REF!)","v":{"$error":"#REF!"}},{"$f":"IF(Data!#REF!=\"\",\"\",Data!#REF!)","v":{"$error":"#REF!"}},{"$f":"IF(Data!#REF!=\"\",\"\",Data!#REF!)","v":{"$error":"#REF!"}},{"$error":"#REF!"},{"$error":"#REF!"},{"$error":"#REF!"}]
[{"$f":"IF(Data!#REF!=\"\",\"\",Data!#REF!)","v":{"$error":"#REF!"}},{"$f":"IF(Data!#REF!=\"\",\"\",Data!#REF!)","v":{"$error":"#REF!"}},{"$f":"IF(Data!#REF!=\"\",\"\",Data!#REF!)","v":{"$error":"#REF!"}},{"$f":"IF(Data!#REF!=\"\",\"\",Data!#REF!)","v":{"$error":"#REF!"}},{"$f":"IF(Data!#REF!=\"\",\"\",Data!#REF!)","v":{"$error":"#REF!"}},{"$error":"#REF!"},{"$error":"#REF!"},{"$error":"#REF!"}]
[{"$f":"IF(Data!#REF!=\"\",\"\",Data!#REF!)","v":{"$error":"#REF!"}},{"$f":"IF(Data!#REF!=\"\",\"\",Data!#REF!)","v":{"$error":"#REF!"}},{"$f":"IF(Data!#REF!=\"\",\"\",Data!#REF!)","v":{"$error":"#REF!"}},{"$f":"IF(Data!#REF!=\"\",\"\",Data!#REF!)","v":{"$error":"#REF!"}},{"$f":"IF(Data!#REF!=\"\",\"\",Data!#REF!)","v":{"$error":"#REF!"}},{"$error":"#REF!"},{"$error":"#REF!"},{"$error":"#REF!"}]
[{"$f":"IF(Data!#REF!=\"\",\"\",Data!#REF!)","v":{"$error":"#REF!"}},{"$f":"IF(Data!#REF!=\"\",\"\",Data!#REF!)","v":{"$error":"#REF!"}},{"$f":"IF(Data!#REF!=\"\",\"\",Data!#REF!)","v":{"$error":"#REF!"}},{"$f":"IF(Data!#REF!=\"\",\"\",Data!#REF!)","v":{"$error":"#REF!"}},{"$f":"IF(Data!#REF!=\"\",\"\",Data!#REF!)","v":{"$error":"#REF!"}},{"$error":"#REF!"},{"$error":"#REF!"},{"$error":"#REF!"}]
[{"$f":"IF(Data!#REF!=\"\",\"\",Data!#REF!)","v":{"$error":"#REF!"}},{"$f":"IF(Data!#REF!=\"\",\"\",Data!#REF!)","v":{"$error":"#REF!"}},{"$f":"IF(Data!#REF!=\"\",\"\",Data!#REF!)","v":{"$error":"#REF!"}},{"$f":"IF(Data!#REF!=\"\",\"\",Data!#REF!)","v":{"$error":"#REF!"}},{"$f":"IF(Data!#REF!=\"\",\"\",Data!#REF!)","v":{"$error":"#REF!"}},{"$error":"#REF!"},{"$error":"#REF!"},{"$error":"#REF!"}]
[{"$f":"IF(Data!#REF!=\"\",\"\",Data!#REF!)","v":{"$error":"#REF!"}},{"$f":"IF(Data!#REF!=\"\",\"\",Data!#REF!)","v":{"$error":"#REF!"}},{"$f":"IF(Data!#REF!=\"\",\"\",Data!#REF!)","v":{"$error":"#REF!"}},{"$f":"IF(Data!#REF!=\"\",\"\",Data!#REF!)","v":{"$error":"#REF!"}},{"$f":"IF(Data!#REF!=\"\",\"\",Data!#REF!)","v":{"$error":"#REF!"}},{"$error":"#REF!"},{"$error":"#REF!"},{"$error":"#REF!"}]
[{"$f":"IF(Data!#REF!=\"\",\"\",Data!#REF!)","v":{"$error":"#REF!"}},{"$f":"IF(Data!#REF!=\"\",\"\",Data!#REF!)","v":{"$error":"#REF!"}},{"$f":"IF(Data!#REF!=\"\",\"\",Data!#REF!)","v":{"$error":"#REF!"}},{"$f":"IF(Data!#REF!=\"\",\"\",Data!#REF!)","v":{"$error":"#REF!"}},{"$f":"IF(Data!#REF!=\"\",\"\",Data!#REF!)","v":{"$error":"#REF!"}},{"$error":"#REF!"},{"$error":"#REF!"},{"$error":"#REF!"}]
[{"$f":"IF(Data!#REF!=\"\",\"\",Data!#REF!)","v":{"$error":"#REF!"}},{"$f":"IF(Data!#REF!=\"\",\"\",Data!#REF!)","v":{"$error":"#REF!"}},{"$f":"IF(Data!#REF!=\"\",\"\",Data!#REF!)","v":{"$error":"#REF!"}},{"$f":"IF(Data!#REF!=\"\",\"\",Data!#REF!)","v":{"$error":"#REF!"}},{"$f":"IF(Data!#REF!=\"\",\"\",Data!#REF!)","v":{"$error":"#REF!"}},{"$error":"#REF!"},{"$error":"#REF!"},{"$error":"#REF!"}]
[{"$f":"IF(Data!#REF!=\"\",\"\",Data!#REF!)","v":{"$error":"#REF!"}},{"$f":"IF(Data!#REF!=\"\",\"\",Data!#REF!)","v":{"$error":"#REF!"}},{"$f":"IF(Data!#REF!=\"\",\"\",Data!#REF!)","v":{"$error":"#REF!"}},{"$f":"IF(Data!#REF!=\"\",\"\",Data!#REF!)","v":{"$error":"#REF!"}},{"$f":"IF(Data!#REF!=\"\",\"\",Data!#REF!)","v":{"$error":"#REF!"}},{"$error":"#REF!"},{"$error":"#REF!"},{"$error":"#REF!"}]
[{"$f":"IF(Data!#REF!=\"\",\"\",Data!#REF!)","v":{"$error":"#REF!"}},{"$f":"IF(Data!#REF!=\"\",\"\",Data!#REF!)","v":{"$error":"#REF!"}},{"$f":"IF(Data!#REF!=\"\",\"\",Data!#REF!)","v":{"$error":"#REF!"}},{"$f":"IF(Data!#REF!=\"\",\"\",Data!#REF!)","v":{"$error":"#REF!"}},{"$f":"IF(Data!#REF!=\"\",\"\",Data!#REF!)","v":{"$error":"#REF!"}},{"$error":"#REF!"},{"$error":"#REF!"},{"$error":"#REF!"}]
[{"$f":"IF(Data!#REF!=\"\",\"\",Data!#REF!)","v":{"$error":"#REF!"}},{"$f":"IF(Data!#REF!=\"\",\"\",Data!#REF!)","v":{"$error":"#REF!"}},{"$f":"IF(Data!#REF!=\"\",\"\",Data!#REF!)","v":{"$error":"#REF!"}},{"$f":"IF(Data!#REF!=\"\",\"\",Data!#REF!)","v":{"$error":"#REF!"}},{"$f":"IF(Data!#REF!=\"\",\"\",Data!#REF!)","v":{"$error":"#REF!"}},{"$error":"#REF!"},{"$error":"#REF!"},{"$error":"#REF!"}]
[{"$f":"IF(Data!#REF!=\"\",\"\",Data!#REF!)","v":{"$error":"#REF!"}},{"$f":"IF(Data!#REF!=\"\",\"\",Data!#REF!)","v":{"$error":"#REF!"}},{"$f":"IF(Data!#REF!=\"\",\"\",Data!#REF!)","v":{"$error":"#REF!"}},{"$f":"IF(Data!#REF!=\"\",\"\",Data!#REF!)","v":{"$error":"#REF!"}},{"$f":"IF(Data!#REF!=\"\",\"\",Data!#REF!)","v":{"$error":"#REF!"}},{"$error":"#REF!"},{"$error":"#REF!"},{"$error":"#REF!"}]
[{"$f":"IF(Data!#REF!=\"\",\"\",Data!#REF!)","v":{"$error":"#REF!"}},{"$f":"IF(Data!#REF!=\"\",\"\",Data!#REF!)","v":{"$error":"#REF!"}},{"$f":"IF(Data!#REF!=\"\",\"\",Data!#REF!)","v":{"$error":"#REF!"}},{"$f":"IF(Data!#REF!=\"\",\"\",Data!#REF!)","v":{"$error":"#REF!"}},{"$f":"IF(Data!#REF!=\"\",\"\",Data!#REF!)","v":{"$error":"#REF!"}},{"$error":"#REF!"},{"$error":"#REF!"},{"$error":"#REF!"}]
[{"$f":"IF(Data!#REF!=\"\",\"\",Data!#REF!)","v":{"$error":"#REF!"}},{"$f":"IF(Data!#REF!=\"\",\"\",Data!#REF!)","v":{"$error":"#REF!"}},{"$f":"IF(Data!#REF!=\"\",\"\",Data!#REF!)","v":{"$error":"#REF!"}},{"$f":"IF(Data!#REF!=\"\",\"\",Data!#REF!)","v":{"$error":"#REF!"}},{"$f":"IF(Data!#REF!=\"\",\"\",Data!#REF!)","v":{"$error":"#REF!"}},{"$error":"#REF!"},{"$error":"#REF!"},{"$error":"#REF!"}]
[{"$f":"IF(Data!#REF!=\"\",\"\",Data!#REF!)","v":{"$error":"#REF!"}},{"$f":"IF(Data!#REF!=\"\",\"\",Data!#REF!)","v":{"$error":"#REF!"}},{"$f":"IF(Data!#REF!=\"\",\"\",Data!#REF!)","v":{"$error":"#REF!"}},{"$f":"IF(Data!#REF!=\"\",\"\",Data!#REF!)","v":{"$error":"#REF!"}},{"$f":"IF(Data!#REF!=\"\",\"\",Data!#REF!)","v":{"$error":"#REF!"}},{"$error":"#REF!"},{"$error":"#REF!"},{"$error":"#REF!"}]
[{"$f":"IF(Data!#REF!=\"\",\"\",Data!#REF!)","v":{"$error":"#REF!"}},{"$f":"IF(Data!#REF!=\"\",\"\",Data!#REF!)","v":{"$error":"#REF!"}},{"$f":"IF(Data!#REF!=\"\",\"\",Data!#REF!)","v":{"$error":"#REF!"}},{"$f":"IF(Data!#REF!=\"\",\"\",Data!#REF!)","v":{"$error":"#REF!"}},{"$f":"IF(Data!#REF!=\"\",\"\",Data!#REF!)","v":{"$error":"#REF!"}},{"$error":"#REF!"},{"$error":"#REF!"},{"$error":"#REF!"}]
[{"$f":"IF(Data!#REF!=\"\",\"\",Data!#REF!)","v":{"$error":"#REF!"}},{"$f":"IF(Data!#REF!=\"\",\"\",Data!#REF!)","v":{"$error":"#REF!"}},{"$f":"IF(Data!#REF!=\"\",\"\",Data!#REF!)","v":{"$error":"#REF!"}},{"$f":"IF(Data!#REF!=\"\",\"\",Data!#REF!)","v":{"$error":"#REF!"}},{"$f":"IF(Data!#REF!=\"\",\"\",Data!#REF!)","v":{"$error":"#REF!"}},{"$error":"#REF!"},{"$error":"#REF!"},{"$error":"#REF!"}]
[{"$f":"IF(Data!#REF!=\"\",\"\",Data!#REF!)","v":{"$error":"#REF!"}},{"$f":"IF(Data!#REF!=\"\",\"\",Data!#REF!)","v":{"$error":"#REF!"}},{"$f":"IF(Data!#REF!=\"\",\"\",Data!#REF!)","v":{"$error":"#REF!"}},{"$f":"IF(Data!#REF!=\"\",\"\",Data!#REF!)","v":{"$error":"#REF!"}},{"$f":"IF(Data!#REF!=\"\",\"\",Data!#REF!)","v":{"$error":"#REF!"}},{"$error":"#REF!"},{"$error":"#REF!"},{"$error":"#REF!"}]
[{"$f":"IF(Data!#REF!=\"\",\"\",Data!#REF!)","v":{"$error":"#REF!"}},{"$f":"IF(Data!#REF!=\"\",\"\",Data!#REF!)","v":{"$error":"#REF!"}},{"$f":"IF(Data!#REF!=\"\",\"\",Data!#REF!)","v":{"$error":"#REF!"}},{"$f":"IF(Data!#REF!=\"\",\"\",Data!#REF!)","v":{"$error":"#REF!"}},{"$f":"IF(Data!#REF!=\"\",\"\",Data!#REF!)","v":{"$error":"#REF!"}},{"$error":"#REF!"},{"$error":"#REF!"},{"$error":"#REF!"}]
[{"$f":"IF(Data!#REF!=\"\",\"\",Data!#REF!)","v":{"$error":"#REF!"}},{"$f":"IF(Data!#REF!=\"\",\"\",Data!#REF!)","v":{"$error":"#REF!"}},{"$f":"IF(Data!#REF!=\"\",\"\",Data!#REF!)","v":{"$error":"#REF!"}},{"$f":"IF(Data!#REF!=\"\",\"\",Data!#REF!)","v":{"$error":"#REF!"}},{"$f":"IF(Data!#REF!=\"\",\"\",Data!#REF!)","v":{"$error":"#REF!"}},{"$error":"#REF!"},{"$error":"#REF!"},{"$error":"#REF!"}]
[{"$f":"IF(Data!#REF!=\"\",\"\",Data!#REF!)","v":{"$error":"#REF!"}},{"$f":"IF(Data!#REF!=\"\",\"\",Data!#REF!)","v":{"$error":"#REF!"}},{"$f":"IF(Data!#REF!=\"\",\"\",Data!#REF!)","v":{"$error":"#REF!"}},{"$f":"IF(Data!#REF!=\"\",\"\",Data!#REF!)","v":{"$error":"#REF!"}},{"$f":"IF(Data!#REF!=\"\",\"\",Data!#REF!)","v":{"$error":"#REF!"}},{"$error":"#REF!"},{"$error":"#REF!"},{"$error":"#REF!"}]
[{"$f":"IF(Data!#REF!=\"\",\"\",Data!#REF!)","v":{"$error":"#REF!"}},{"$f":"IF(Data!#REF!=\"\",\"\",Data!#REF!)","v":{"$error":"#REF!"}},{"$f":"IF(Data!#REF!=\"\",\"\",Data!#REF!)","v":{"$error":"#REF!"}},{"$f":"IF(Data!#REF!=\"\",\"\",Data!#REF!)","v":{"$error":"#REF!"}},{"$f":"IF(Data!#REF!=\"\",\"\",Data!#REF!)","v":{"$error":"#REF!"}},{"$error":"#REF!"},{"$error":"#REF!"},{"$error":"#REF!"}]
[{"$f":"IF(Data!#REF!=\"\",\"\",Data!#REF!)","v":{"$error":"#REF!"}},{"$f":"IF(Data!#REF!=\"\",\"\",Data!#REF!)","v":{"$error":"#REF!"}},{"$f":"IF(Data!#REF!=\"\",\"\",Data!#REF!)","v":{"$error":"#REF!"}},{"$f":"IF(Data!#REF!=\"\",\"\",Data!#REF!)","v":{"$error":"#REF!"}},{"$f":"IF(Data!#REF!=\"\",\"\",Data!#REF!)","v":{"$error":"#REF!"}},{"$error":"#REF!"},{"$error":"#REF!"},{"$error":"#REF!"}]
[{"$f":"IF(Data!#REF!=\"\",\"\",Data!#REF!)","v":{"$error":"#REF!"}},{"$f":"IF(Data!#REF!=\"\",\"\",Data!#REF!)","v":{"$error":"#REF!"}},{"$f":"IF(Data!#REF!=\"\",\"\",Data!#REF!)","v":{"$error":"#REF!"}},{"$f":"IF(Data!#REF!=\"\",\"\",Data!#REF!)","v":{"$error":"#REF!"}},{"$f":"IF(Data!#REF!=\"\",\"\",Data!#REF!)","v":{"$error":"#REF!"}},{"$error":"#REF!"},{"$error":"#REF!"},{"$error":"#REF!"}]
[{"$f":"IF(Data!#REF!=\"\",\"\",Data!#REF!)","v":{"$error":"#REF!"}},{"$f":"IF(Data!#REF!=\"\",\"\",Data!#REF!)","v":{"$error":"#REF!"}},{"$f":"IF(Data!#REF!=\"\",\"\",Data!#REF!)","v":{"$error":"#REF!"}},{"$f":"IF(Data!#REF!=\"\",\"\",Data!#REF!)","v":{"$error":"#REF!"}},{"$f":"IF(Data!#REF!=\"\",\"\",Data!#REF!)","v":{"$error":"#REF!"}},{"$error":"#REF!"},{"$error":"#REF!"},{"$error":"#REF!"}]
[{"$f":"IF(Data!#REF!=\"\",\"\",Data!#REF!)","v":{"$error":"#REF!"}},{"$f":"IF(Data!#REF!=\"\",\"\",Data!#REF!)","v":{"$error":"#REF!"}},{"$f":"IF(Data!#REF!=\"\",\"\",Data!#REF!)","v":{"$error":"#REF!"}},{"$f":"IF(Data!#REF!=\"\",\"\",Data!#REF!)","v":{"$error":"#REF!"}},{"$f":"IF(Data!#REF!=\"\",\"\",Data!#REF!)","v":{"$error":"#REF!"}},{"$error":"#REF!"},{"$error":"#REF!"},{"$error":"#REF!"}]
[{"$f":"IF(Data!#REF!=\"\",\"\",Data!#REF!)","v":{"$error":"#REF!"}},{"$f":"IF(Data!#REF!=\"\",\"\",Data!#REF!)","v":{"$error":"#REF!"}},{"$f":"IF(Data!#REF!=\"\",\"\",Data!#REF!)","v":{"$error":"#REF!"}},{"$f":"IF(Data!#REF!=\"\",\"\",Data!#REF!)","v":{"$error":"#REF!"}},{"$f":"IF(Data!#REF!=\"\",\"\",Data!#REF!)","v":{"$error":"#REF!"}},{"$error":"#REF!"},{"$error":"#REF!"},{"$error":"#REF!"}]
[{"$f":"IF(Data!#REF!=\"\",\"\",Data!#REF!)","v":{"$error":"#REF!"}},{"$f":"IF(Data!#REF!=\"\",\"\",Data!#REF!)","v":{"$error":"#REF!"}},{"$f":"IF(Data!#REF!=\"\",\"\",Data!#REF!)","v":{"$error":"#REF!"}},{"$f":"IF(Data!#REF!=\"\",\"\",Data!#REF!)","v":{"$error":"#REF!"}},{"$f":"IF(Data!#REF!=\"\",\"\",Data!#REF!)","v":{"$error":"#REF!"}},{"$error":"#REF!"},{"$error":"#REF!"},{"$error":"#REF!"}]
[{"$f":"IF(Data!#REF!=\"\",\"\",Data!#REF!)","v":{"$error":"#REF!"}},{"$f":"IF(Data!#REF!=\"\",\"\",Data!#REF!)","v":{"$error":"#REF!"}},{"$f":"IF(Data!#REF!=\"\",\"\",Data!#REF!)","v":{"$error":"#REF!"}},{"$f":"IF(Data!#REF!=\"\",\"\",Data!#REF!)","v":{"$error":"#REF!"}},{"$f":"IF(Data!#REF!=\"\",\"\",Data!#REF!)","v":{"$error":"#REF!"}},{"$error":"#REF!"},{"$error":"#REF!"},{"$error":"#REF!"}]
[{"$f":"IF(Data!#REF!=\"\",\"\",Data!#REF!)","v":{"$error":"#REF!"}},{"$f":"IF(Data!#REF!=\"\",\"\",Data!#REF!)","v":{"$error":"#REF!"}},{"$f":"IF(Data!#REF!=\"\",\"\",Data!#REF!)","v":{"$error":"#REF!"}},{"$f":"IF(Data!#REF!=\"\",\"\",Data!#REF!)","v":{"$error":"#REF!"}},{"$f":"IF(Data!#REF!=\"\",\"\",Data!#REF!)","v":{"$error":"#REF!"}},{"$error":"#REF!"},{"$error":"#REF!"},{"$error":"#REF!"}]
[{"$f":"IF(Data!#REF!=\"\",\"\",Data!#REF!)","v":{"$error":"#REF!"}},{"$f":"IF(Data!#REF!=\"\",\"\",Data!#REF!)","v":{"$error":"#REF!"}},{"$f":"IF(Data!#REF!=\"\",\"\",Data!#REF!)","v":{"$error":"#REF!"}},{"$f":"IF(Data!#REF!=\"\",\"\",Data!#REF!)","v":{"$error":"#REF!"}},{"$f":"IF(Data!#REF!=\"\",\"\",Data!#REF!)","v":{"$error":"#REF!"}},{"$error":"#REF!"},{"$error":"#REF!"},{"$error":"#REF!"}]
[{"$f":"IF(Data!#REF!=\"\",\"\",Data!#REF!)","v":{"$error":"#REF!"}},{"$f":"IF(Data!#REF!=\"\",\"\",Data!#REF!)","v":{"$error":"#REF!"}},{"$f":"IF(Data!#REF!=\"\",\"\",Data!#REF!)","v":{"$error":"#REF!"}},{"$f":"IF(Data!#REF!=\"\",\"\",Data!#REF!)","v":{"$error":"#REF!"}},{"$f":"IF(Data!#REF!=\"\",\"\",Data!#REF!)","v":{"$error":"#REF!"}},{"$error":"#REF!"},{"$error":"#REF!"},{"$error":"#REF!"}]
[{"$f":"IF(Data!#REF!=\"\",\"\",Data!#REF!)","v":{"$error":"#REF!"}},{"$f":"IF(Data!#REF!=\"\",\"\",Data!#REF!)","v":{"$error":"#REF!"}},{"$f":"IF(Data!#REF!=\"\",\"\",Data!#REF!)","v":{"$error":"#REF!"}},{"$f":"IF(Data!#REF!=\"\",\"\",Data!#REF!)","v":{"$error":"#REF!"}},{"$f":"IF(Data!#REF!=\"\",\"\",Data!#REF!)","v":{"$error":"#REF!"}},{"$error":"#REF!"},{"$error":"#REF!"},{"$error":"#REF!"}]
[{"$f":"IF(Data!#REF!=\"\",\"\",Data!#REF!)","v":{"$error":"#REF!"}},{"$f":"IF(Data!#REF!=\"\",\"\",Data!#REF!)","v":{"$error":"#REF!"}},{"$f":"IF(Data!#REF!=\"\",\"\",Data!#REF!)","v":{"$error":"#REF!"}},{"$f":"IF(Data!#REF!=\"\",\"\",Data!#REF!)","v":{"$error":"#REF!"}},{"$f":"IF(Data!#REF!=\"\",\"\",Data!#REF!)","v":{"$error":"#REF!"}},{"$error":"#REF!"},{"$error":"#REF!"},{"$error":"#REF!"}]
[{"$f":"IF(Data!#REF!=\"\",\"\",Data!#REF!)","v":{"$error":"#REF!"}},{"$f":"IF(Data!#REF!=\"\",\"\",Data!#REF!)","v":{"$error":"#REF!"}},{"$f":"IF(Data!#REF!=\"\",\"\",Data!#REF!)","v":{"$error":"#REF!"}},{"$f":"IF(Data!#REF!=\"\",\"\",Data!#REF!)","v":{"$error":"#REF!"}},{"$f":"IF(Data!#REF!=\"\",\"\",Data!#REF!)","v":{"$error":"#REF!"}},{"$error":"#REF!"},{"$error":"#REF!"},{"$error":"#REF!"}]
[{"$f":"IF(Data!#REF!=\"\",\"\",Data!#REF!)","v":{"$error":"#REF!"}},{"$f":"IF(Data!#REF!=\"\",\"\",Data!#REF!)","v":{"$error":"#REF!"}},{"$f":"IF(Data!#REF!=\"\",\"\",Data!#REF!)","v":{"$error":"#REF!"}},{"$f":"IF(Data!#REF!=\"\",\"\",Data!#REF!)","v":{"$error":"#REF!"}},{"$f":"IF(Data!#REF!=\"\",\"\",Data!#REF!)","v":{"$error":"#REF!"}},{"$error":"#REF!"},{"$error":"#REF!"},{"$error":"#REF!"}]
[{"$f":"IF(Data!#REF!=\"\",\"\",Data!#REF!)","v":{"$error":"#REF!"}},{"$f":"IF(Data!#REF!=\"\",\"\",Data!#REF!)","v":{"$error":"#REF!"}},{"$f":"IF(Data!#REF!=\"\",\"\",Data!#REF!)","v":{"$error":"#REF!"}},{"$f":"IF(Data!#REF!=\"\",\"\",Data!#REF!)","v":{"$error":"#REF!"}},{"$f":"IF(Data!#REF!=\"\",\"\",Data!#REF!)","v":{"$error":"#REF!"}},{"$error":"#REF!"},{"$error":"#REF!"},{"$error":"#REF!"}]
[{"$f":"IF(Data!#REF!=\"\",\"\",Data!#REF!)","v":{"$error":"#REF!"}},{"$f":"IF(Data!#REF!=\"\",\"\",Data!#REF!)","v":{"$error":"#REF!"}},{"$f":"IF(Data!#REF!=\"\",\"\",Data!#REF!)","v":{"$error":"#REF!"}},{"$f":"IF(Data!#REF!=\"\",\"\",Data!#REF!)","v":{"$error":"#REF!"}},{"$f":"IF(Data!#REF!=\"\",\"\",Data!#REF!)","v":{"$error":"#REF!"}},{"$error":"#REF!"},{"$error":"#REF!"},{"$error":"#REF!"}]
[{"$f":"IF(Data!#REF!=\"\",\"\",Data!#REF!)","v":{"$error":"#REF!"}},{"$f":"IF(Data!#REF!=\"\",\"\",Data!#REF!)","v":{"$error":"#REF!"}},{"$f":"IF(Data!#REF!=\"\",\"\",Data!#REF!)","v":{"$error":"#REF!"}},{"$f":"IF(Data!#REF!=\"\",\"\",Data!#REF!)","v":{"$error":"#REF!"}},{"$f":"IF(Data!#REF!=\"\",\"\",Data!#REF!)","v":{"$error":"#REF!"}},{"$error":"#REF!"},{"$error":"#REF!"},{"$error":"#REF!"}]
[{"$f":"IF(Data!#REF!=\"\",\"\",Data!#REF!)","v":{"$error":"#REF!"}},{"$f":"IF(Data!#REF!=\"\",\"\",Data!#REF!)","v":{"$error":"#REF!"}},{"$f":"IF(Data!#REF!=\"\",\"\",Data!#REF!)","v":{"$error":"#REF!"}},{"$f":"IF(Data!#REF!=\"\",\"\",Data!#REF!)","v":{"$error":"#REF!"}},{"$f":"IF(Data!#REF!=\"\",\"\",Data!#REF!)","v":{"$error":"#REF!"}},{"$error":"#REF!"},{"$error":"#REF!"},{"$error":"#REF!"}]
[{"$f":"IF(Data!#REF!=\"\",\"\",Data!#REF!)","v":{"$error":"#REF!"}},{"$f":"IF(Data!#REF!=\"\",\"\",Data!#REF!)","v":{"$error":"#REF!"}},{"$f":"IF(Data!#REF!=\"\",\"\",Data!#REF!)","v":{"$error":"#REF!"}},{"$f":"IF(Data!#REF!=\"\",\"\",Data!#REF!)","v":{"$error":"#REF!"}},{"$f":"IF(Data!#REF!=\"\",\"\",Data!#REF!)","v":{"$error":"#REF!"}},{"$error":"#REF!"},{"$error":"#REF!"},{"$error":"#REF!"}]
[{"$f":"IF(Data!#REF!=\"\",\"\",Data!#REF!)","v":{"$error":"#REF!"}},{"$f":"IF(Data!#REF!=\"\",\"\",Data!#REF!)","v":{"$error":"#REF!"}},{"$f":"IF(Data!#REF!=\"\",\"\",Data!#REF!)","v":{"$error":"#REF!"}},{"$f":"IF(Data!#REF!=\"\",\"\",Data!#REF!)","v":{"$error":"#REF!"}},{"$f":"IF(Data!#REF!=\"\",\"\",Data!#REF!)","v":{"$error":"#REF!"}},{"$error":"#REF!"},{"$error":"#REF!"},{"$error":"#REF!"}]
[{"$f":"IF(Data!#REF!=\"\",\"\",Data!#REF!)","v":{"$error":"#REF!"}},{"$f":"IF(Data!#REF!=\"\",\"\",Data!#REF!)","v":{"$error":"#REF!"}},{"$f":"IF(Data!#REF!=\"\",\"\",Data!#REF!)","v":{"$error":"#REF!"}},{"$f":"IF(Data!#REF!=\"\",\"\",Data!#REF!)","v":{"$error":"#REF!"}},{"$f":"IF(Data!#REF!=\"\",\"\",Data!#REF!)","v":{"$error":"#REF!"}},{"$error":"#REF!"},{"$error":"#REF!"},{"$error":"#REF!"}]
[{"$f":"IF(Data!#REF!=\"\",\"\",Data!#REF!)","v":{"$error":"#REF!"}},{"$f":"IF(Data!#REF!=\"\",\"\",Data!#REF!)","v":{"$error":"#REF!"}},{"$f":"IF(Data!#REF!=\"\",\"\",Data!#REF!)","v":{"$error":"#REF!"}},{"$f":"IF(Data!#REF!=\"\",\"\",Data!#REF!)","v":{"$error":"#REF!"}},{"$f":"IF(Data!#REF!=\"\",\"\",Data!#REF!)","v":{"$error":"#REF!"}},{"$error":"#REF!"},{"$error":"#REF!"},{"$error":"#REF!"}]
[{"$f":"IF(Data!#REF!=\"\",\"\",Data!#REF!)","v":{"$error":"#REF!"}},{"$f":"IF(Data!#REF!=\"\",\"\",Data!#REF!)","v":{"$error":"#REF!"}},{"$f":"IF(Data!#REF!=\"\",\"\",Data!#REF!)","v":{"$error":"#REF!"}},{"$f":"IF(Data!#REF!=\"\",\"\",Data!#REF!)","v":{"$error":"#REF!"}},{"$f":"IF(Data!#REF!=\"\",\"\",Data!#REF!)","v":{"$error":"#REF!"}},{"$error":"#REF!"},{"$error":"#REF!"},{"$error":"#REF!"}]
[{"$f":"IF(Data!#REF!=\"\",\"\",Data!#REF!)","v":{"$error":"#REF!"}},{"$f":"IF(Data!#REF!=\"\",\"\",Data!#REF!)","v":{"$error":"#REF!"}},{"$f":"IF(Data!#REF!=\"\",\"\",Data!#REF!)","v":{"$error":"#REF!"}},{"$f":"IF(Data!#REF!=\"\",\"\",Data!#REF!)","v":{"$error":"#REF!"}},{"$f":"IF(Data!#REF!=\"\",\"\",Data!#REF!)","v":{"$error":"#REF!"}},{"$error":"#REF!"},{"$error":"#REF!"},{"$error":"#REF!"}]
[{"$f":"IF(Data!#REF!=\"\",\"\",Data!#REF!)","v":{"$error":"#REF!"}},{"$f":"IF(Data!#REF!=\"\",\"\",Data!#REF!)","v":{"$error":"#REF!"}},{"$f":"IF(Data!#REF!=\"\",\"\",Data!#REF!)","v":{"$error":"#REF!"}},{"$f":"IF(Data!#REF!=\"\",\"\",Data!#REF!)","v":{"$error":"#REF!"}},{"$f":"IF(Data!#REF!=\"\",\"\",Data!#REF!)","v":{"$error":"#REF!"}},{"$error":"#REF!"},{"$error":"#REF!"},{"$error":"#REF!"}]
[{"$f":"IF(Data!#REF!=\"\",\"\",Data!#REF!)","v":{"$error":"#REF!"}},{"$f":"IF(Data!#REF!=\"\",\"\",Data!#REF!)","v":{"$error":"#REF!"}},{"$f":"IF(Data!#REF!=\"\",\"\",Data!#REF!)","v":{"$error":"#REF!"}},{"$f":"IF(Data!#REF!=\"\",\"\",Data!#REF!)","v":{"$error":"#REF!"}},{"$f":"IF(Data!#REF!=\"\",\"\",Data!#REF!)","v":{"$error":"#REF!"}},{"$error":"#REF!"},{"$error":"#REF!"},{"$error":"#REF!"}]
[{"$f":"IF(Data!#REF!=\"\",\"\",Data!#REF!)","v":{"$error":"#REF!"}},{"$f":"IF(Data!#REF!=\"\",\"\",Data!#REF!)","v":{"$error":"#REF!"}},{"$f":"IF(Data!#REF!=\"\",\"\",Data!#REF!)","v":{"$error":"#REF!"}},{"$f":"IF(Data!#REF!=\"\",\"\",Data!#REF!)","v":{"$error":"#REF!"}},{"$f":"IF(Data!#REF!=\"\",\"\",Data!#REF!)","v":{"$error":"#REF!"}},{"$error":"#REF!"},{"$error":"#REF!"},{"$error":"#REF!"}]
[{"$f":"IF(Data!#REF!=\"\",\"\",Data!#REF!)","v":{"$error":"#REF!"}},{"$f":"IF(Data!#REF!=\"\",\"\",Data!#REF!)","v":{"$error":"#REF!"}},{"$f":"IF(Data!#REF!=\"\",\"\",Data!#REF!)","v":{"$error":"#REF!"}},{"$f":"IF(Data!#REF!=\"\",\"\",Data!#REF!)","v":{"$error":"#REF!"}},{"$f":"IF(Data!#REF!=\"\",\"\",Data!#REF!)","v":{"$error":"#REF!"}},{"$error":"#REF!"},{"$error":"#REF!"},{"$error":"#REF!"}]
[{"$f":"IF(Data!#REF!=\"\",\"\",Data!#REF!)","v":{"$error":"#REF!"}},{"$f":"IF(Data!#REF!=\"\",\"\",Data!#REF!)","v":{"$error":"#REF!"}},{"$f":"IF(Data!#REF!=\"\",\"\",Data!#REF!)","v":{"$error":"#REF!"}},{"$f":"IF(Data!#REF!=\"\",\"\",Data!#REF!)","v":{"$error":"#REF!"}},{"$f":"IF(Data!#REF!=\"\",\"\",Data!#REF!)","v":{"$error":"#REF!"}},{"$error":"#REF!"},{"$error":"#REF!"},{"$error":"#REF!"}]
[{"$f":"IF(Data!#REF!=\"\",\"\",Data!#REF!)","v":{"$error":"#REF!"}},{"$f":"IF(Data!#REF!=\"\",\"\",Data!#REF!)","v":{"$error":"#REF!"}},{"$f":"IF(Data!#REF!=\"\",\"\",Data!#REF!)","v":{"$error":"#REF!"}},{"$f":"IF(Data!#REF!=\"\",\"\",Data!#REF!)","v":{"$error":"#REF!"}},{"$f":"IF(Data!#REF!=\"\",\"\",Data!#REF!)","v":{"$error":"#REF!"}},{"$error":"#REF!"},{"$error":"#REF!"},{"$error":"#REF!"}]
[{"$f":"IF(Data!#REF!=\"\",\"\",Data!#REF!)","v":{"$error":"#REF!"}},{"$f":"IF(Data!#REF!=\"\",\"\",Data!#REF!)","v":{"$error":"#REF!"}},{"$f":"IF(Data!#REF!=\"\",\"\",Data!#REF!)","v":{"$error":"#REF!"}},{"$f":"IF(Data!#REF!=\"\",\"\",Data!#REF!)","v":{"$error":"#REF!"}},{"$f":"IF(Data!#REF!=\"\",\"\",Data!#REF!)","v":{"$error":"#REF!"}},{"$error":"#REF!"},{"$error":"#REF!"},{"$error":"#REF!"}]
[{"$f":"IF(Data!#REF!=\"\",\"\",Data!#REF!)","v":{"$error":"#REF!"}},{"$f":"IF(Data!#REF!=\"\",\"\",Data!#REF!)","v":{"$error":"#REF!"}},{"$f":"IF(Data!#REF!=\"\",\"\",Data!#REF!)","v":{"$error":"#REF!"}},{"$f":"IF(Data!#REF!=\"\",\"\",Data!#REF!)","v":{"$error":"#REF!"}},{"$f":"IF(Data!#REF!=\"\",\"\",Data!#REF!)","v":{"$error":"#REF!"}},{"$error":"#REF!"},{"$error":"#REF!"},{"$error":"#REF!"}]
[{"$f":"IF(Data!#REF!=\"\",\"\",Data!#REF!)","v":{"$error":"#REF!"}},{"$f":"IF(Data!#REF!=\"\",\"\",Data!#REF!)","v":{"$error":"#REF!"}},{"$f":"IF(Data!#REF!=\"\",\"\",Data!#REF!)","v":{"$error":"#REF!"}},{"$f":"IF(Data!#REF!=\"\",\"\",Data!#REF!)","v":{"$error":"#REF!"}},{"$f":"IF(Data!#REF!=\"\",\"\",Data!#REF!)","v":{"$error":"#REF!"}},{"$error":"#REF!"},{"$error":"#REF!"},{"$error":"#REF!"}]
[{"$f":"IF(Data!#REF!=\"\",\"\",Data!#REF!)","v":{"$error":"#REF!"}},{"$f":"IF(Data!#REF!=\"\",\"\",Data!#REF!)","v":{"$error":"#REF!"}},{"$f":"IF(Data!#REF!=\"\",\"\",Data!#REF!)","v":{"$error":"#REF!"}},{"$f":"IF(Data!#REF!=\"\",\"\",Data!#REF!)","v":{"$error":"#REF!"}},{"$f":"IF(Data!#REF!=\"\",\"\",Data!#REF!)","v":{"$error":"#REF!"}},{"$error":"#REF!"},{"$error":"#REF!"},{"$error":"#REF!"}]
[{"$f":"IF(Data!#REF!=\"\",\"\",Data!#REF!)","v":{"$error":"#REF!"}},{"$f":"IF(Data!#REF!=\"\",\"\",Data!#REF!)","v":{"$error":"#REF!"}},{"$f":"IF(Data!#REF!=\"\",\"\",Data!#REF!)","v":{"$error":"#REF!"}},{"$f":"IF(Data!#REF!=\"\",\"\",Data!#REF!)","v":{"$error":"#REF!"}},{"$f":"IF(Data!#REF!=\"\",\"\",Data!#REF!)","v":{"$error":"#REF!"}},{"$error":"#REF!"},{"$error":"#REF!"},{"$error":"#REF!"}]
[{"$f":"IF(Data!#REF!=\"\",\"\",Data!#REF!)","v":{"$error":"#REF!"}},{"$f":"IF(Data!#REF!=\"\",\"\",Data!#REF!)","v":{"$error":"#REF!"}},{"$f":"IF(Data!#REF!=\"\",\"\",Data!#REF!)","v":{"$error":"#REF!"}},{"$f":"IF(Data!#REF!=\"\",\"\",Data!#REF!)","v":{"$error":"#REF!"}},{"$f":"IF(Data!#REF!=\"\",\"\",Data!#REF!)","v":{"$error":"#REF!"}},{"$error":"#REF!"},{"$error":"#REF!"},{"$error":"#REF!"}]
[{"$f":"IF(Data!#REF!=\"\",\"\",Data!#REF!)","v":{"$error":"#REF!"}},{"$f":"IF(Data!#REF!=\"\",\"\",Data!#REF!)","v":{"$error":"#REF!"}},{"$f":"IF(Data!#REF!=\"\",\"\",Data!#REF!)","v":{"$error":"#REF!"}},{"$f":"IF(Data!#REF!=\"\",\"\",Data!#REF!)","v":{"$error":"#REF!"}},{"$f":"IF(Data!#REF!=\"\",\"\",Data!#REF!)","v":{"$error":"#REF!"}},{"$f":"IF(E1795>0,MONTH(E1795),\"\")","v":{"$error":"#REF!"}},{"$f":"IF(E1795>0,WEEKNUM(E1795),\"0\")","v":{"$error":"#REF!"}},{"$f":"IF(G1795>=($G$2-3),\"Ano\",\"Nie\")","v":{"$error":"#REF!"}}]
[{"$f":"IF(Data!#REF!=\"\",\"\",Data!#REF!)","v":{"$error":"#REF!"}},{"$f":"IF(Data!#REF!=\"\",\"\",Data!#REF!)","v":{"$error":"#REF!"}},{"$f":"IF(Data!#REF!=\"\",\"\",Data!#REF!)","v":{"$error":"#REF!"}},{"$f":"IF(Data!#REF!=\"\",\"\",Data!#REF!)","v":{"$error":"#REF!"}},{"$f":"IF(Data!#REF!=\"\",\"\",Data!#REF!)","v":{"$error":"#REF!"}},{"$error":"#REF!"},{"$error":"#REF!"},{"$error":"#REF!"}]
[{"$f":"IF(Data!#REF!=\"\",\"\",Data!#REF!)","v":{"$error":"#REF!"}},{"$f":"IF(Data!#REF!=\"\",\"\",Data!#REF!)","v":{"$error":"#REF!"}},{"$f":"IF(Data!#REF!=\"\",\"\",Data!#REF!)","v":{"$error":"#REF!"}},{"$f":"IF(Data!#REF!=\"\",\"\",Data!#REF!)","v":{"$error":"#REF!"}},{"$f":"IF(Data!#REF!=\"\",\"\",Data!#REF!)","v":{"$error":"#REF!"}},{"$error":"#REF!"},{"$error":"#REF!"},{"$error":"#REF!"}]
[{"$f":"IF(Data!#REF!=\"\",\"\",Data!#REF!)","v":{"$error":"#REF!"}},{"$f":"IF(Data!#REF!=\"\",\"\",Data!#REF!)","v":{"$error":"#REF!"}},{"$f":"IF(Data!#REF!=\"\",\"\",Data!#REF!)","v":{"$error":"#REF!"}},{"$f":"IF(Data!#REF!=\"\",\"\",Data!#REF!)","v":{"$error":"#REF!"}},{"$f":"IF(Data!#REF!=\"\",\"\",Data!#REF!)","v":{"$error":"#REF!"}},{"$error":"#REF!"},{"$error":"#REF!"},{"$error":"#REF!"}]
[{"$f":"IF(Data!#REF!=\"\",\"\",Data!#REF!)","v":{"$error":"#REF!"}},{"$f":"IF(Data!#REF!=\"\",\"\",Data!#REF!)","v":{"$error":"#REF!"}},{"$f":"IF(Data!#REF!=\"\",\"\",Data!#REF!)","v":{"$error":"#REF!"}},{"$f":"IF(Data!#REF!=\"\",\"\",Data!#REF!)","v":{"$error":"#REF!"}},{"$f":"IF(Data!#REF!=\"\",\"\",Data!#REF!)","v":{"$error":"#REF!"}},{"$error":"#REF!"},{"$error":"#REF!"},{"$error":"#REF!"}]
[{"$f":"IF(Data!#REF!=\"\",\"\",Data!#REF!)","v":{"$error":"#REF!"}},{"$f":"IF(Data!#REF!=\"\",\"\",Data!#REF!)","v":{"$error":"#REF!"}},{"$f":"IF(Data!#REF!=\"\",\"\",Data!#REF!)","v":{"$error":"#REF!"}},{"$f":"IF(Data!#REF!=\"\",\"\",Data!#REF!)","v":{"$error":"#REF!"}},{"$f":"IF(Data!#REF!=\"\",\"\",Data!#REF!)","v":{"$error":"#REF!"}},{"$error":"#REF!"},{"$error":"#REF!"},{"$error":"#REF!"}]
[{"$f":"IF(Data!#REF!=\"\",\"\",Data!#REF!)","v":{"$error":"#REF!"}},{"$f":"IF(Data!#REF!=\"\",\"\",Data!#REF!)","v":{"$error":"#REF!"}},{"$f":"IF(Data!#REF!=\"\",\"\",Data!#REF!)","v":{"$error":"#REF!"}},{"$f":"IF(Data!#REF!=\"\",\"\",Data!#REF!)","v":{"$error":"#REF!"}},{"$f":"IF(Data!#REF!=\"\",\"\",Data!#REF!)","v":{"$error":"#REF!"}},{"$error":"#REF!"},{"$error":"#REF!"},{"$error":"#REF!"}]
[{"$f":"IF(Data!#REF!=\"\",\"\",Data!#REF!)","v":{"$error":"#REF!"}},{"$f":"IF(Data!#REF!=\"\",\"\",Data!#REF!)","v":{"$error":"#REF!"}},{"$f":"IF(Data!#REF!=\"\",\"\",Data!#REF!)","v":{"$error":"#REF!"}},{"$f":"IF(Data!#REF!=\"\",\"\",Data!#REF!)","v":{"$error":"#REF!"}},{"$f":"IF(Data!#REF!=\"\",\"\",Data!#REF!)","v":{"$error":"#REF!"}},{"$error":"#REF!"},{"$error":"#REF!"},{"$error":"#REF!"}]
[{"$f":"IF(Data!#REF!=\"\",\"\",Data!#REF!)","v":{"$error":"#REF!"}},{"$f":"IF(Data!#REF!=\"\",\"\",Data!#REF!)","v":{"$error":"#REF!"}},{"$f":"IF(Data!#REF!=\"\",\"\",Data!#REF!)","v":{"$error":"#REF!"}},{"$f":"IF(Data!#REF!=\"\",\"\",Data!#REF!)","v":{"$error":"#REF!"}},{"$f":"IF(Data!#REF!=\"\",\"\",Data!#REF!)","v":{"$error":"#REF!"}},{"$error":"#REF!"},{"$error":"#REF!"},{"$error":"#REF!"}]
[{"$f":"IF(Data!#REF!=\"\",\"\",Data!#REF!)","v":{"$error":"#REF!"}},{"$f":"IF(Data!#REF!=\"\",\"\",Data!#REF!)","v":{"$error":"#REF!"}},{"$f":"IF(Data!#REF!=\"\",\"\",Data!#REF!)","v":{"$error":"#REF!"}},{"$f":"IF(Data!#REF!=\"\",\"\",Data!#REF!)","v":{"$error":"#REF!"}},{"$f":"IF(Data!#REF!=\"\",\"\",Data!#REF!)","v":{"$error":"#REF!"}},{"$error":"#REF!"},{"$error":"#REF!"},{"$error":"#REF!"}]
[{"$f":"IF(Data!#REF!=\"\",\"\",Data!#REF!)","v":{"$error":"#REF!"}},{"$f":"IF(Data!#REF!=\"\",\"\",Data!#REF!)","v":{"$error":"#REF!"}},{"$f":"IF(Data!#REF!=\"\",\"\",Data!#REF!)","v":{"$error":"#REF!"}},{"$f":"IF(Data!#REF!=\"\",\"\",Data!#REF!)","v":{"$error":"#REF!"}},{"$f":"IF(Data!#REF!=\"\",\"\",Data!#REF!)","v":{"$error":"#REF!"}},{"$error":"#REF!"},{"$error":"#REF!"},{"$error":"#REF!"}]
[{"$f":"IF(Data!#REF!=\"\",\"\",Data!#REF!)","v":{"$error":"#REF!"}},{"$f":"IF(Data!#REF!=\"\",\"\",Data!#REF!)","v":{"$error":"#REF!"}},{"$f":"IF(Data!#REF!=\"\",\"\",Data!#REF!)","v":{"$error":"#REF!"}},{"$f":"IF(Data!#REF!=\"\",\"\",Data!#REF!)","v":{"$error":"#REF!"}},{"$f":"IF(Data!#REF!=\"\",\"\",Data!#REF!)","v":{"$error":"#REF!"}},{"$error":"#REF!"},{"$error":"#REF!"},{"$error":"#REF!"}]
[{"$f":"IF(Data!#REF!=\"\",\"\",Data!#REF!)","v":{"$error":"#REF!"}},{"$f":"IF(Data!#REF!=\"\",\"\",Data!#REF!)","v":{"$error":"#REF!"}},{"$f":"IF(Data!#REF!=\"\",\"\",Data!#REF!)","v":{"$error":"#REF!"}},{"$f":"IF(Data!#REF!=\"\",\"\",Data!#REF!)","v":{"$error":"#REF!"}},{"$f":"IF(Data!#REF!=\"\",\"\",Data!#REF!)","v":{"$error":"#REF!"}},{"$error":"#REF!"},{"$error":"#REF!"},{"$error":"#REF!"}]
[{"$f":"IF(Data!#REF!=\"\",\"\",Data!#REF!)","v":{"$error":"#REF!"}},{"$f":"IF(Data!#REF!=\"\",\"\",Data!#REF!)","v":{"$error":"#REF!"}},{"$f":"IF(Data!#REF!=\"\",\"\",Data!#REF!)","v":{"$error":"#REF!"}},{"$f":"IF(Data!#REF!=\"\",\"\",Data!#REF!)","v":{"$error":"#REF!"}},{"$f":"IF(Data!#REF!=\"\",\"\",Data!#REF!)","v":{"$error":"#REF!"}},{"$error":"#REF!"},{"$error":"#REF!"},{"$error":"#REF!"}]
[{"$f":"IF(Data!#REF!=\"\",\"\",Data!#REF!)","v":{"$error":"#REF!"}},{"$f":"IF(Data!#REF!=\"\",\"\",Data!#REF!)","v":{"$error":"#REF!"}},{"$f":"IF(Data!#REF!=\"\",\"\",Data!#REF!)","v":{"$error":"#REF!"}},{"$f":"IF(Data!#REF!=\"\",\"\",Data!#REF!)","v":{"$error":"#REF!"}},{"$f":"IF(Data!#REF!=\"\",\"\",Data!#REF!)","v":{"$error":"#REF!"}},{"$error":"#REF!"},{"$error":"#REF!"},{"$error":"#REF!"}]
[{"$f":"IF(Data!#REF!=\"\",\"\",Data!#REF!)","v":{"$error":"#REF!"}},{"$f":"IF(Data!#REF!=\"\",\"\",Data!#REF!)","v":{"$error":"#REF!"}},{"$f":"IF(Data!#REF!=\"\",\"\",Data!#REF!)","v":{"$error":"#REF!"}},{"$f":"IF(Data!#REF!=\"\",\"\",Data!#REF!)","v":{"$error":"#REF!"}},{"$f":"IF(Data!#REF!=\"\",\"\",Data!#REF!)","v":{"$error":"#REF!"}},{"$error":"#REF!"},{"$error":"#REF!"},{"$error":"#REF!"}]
[{"$f":"IF(Data!#REF!=\"\",\"\",Data!#REF!)","v":{"$error":"#REF!"}},{"$f":"IF(Data!#REF!=\"\",\"\",Data!#REF!)","v":{"$error":"#REF!"}},{"$f":"IF(Data!#REF!=\"\",\"\",Data!#REF!)","v":{"$error":"#REF!"}},{"$f":"IF(Data!#REF!=\"\",\"\",Data!#REF!)","v":{"$error":"#REF!"}},{"$f":"IF(Data!#REF!=\"\",\"\",Data!#REF!)","v":{"$error":"#REF!"}},{"$error":"#REF!"},{"$error":"#REF!"},{"$error":"#REF!"}]
[{"$f":"IF(Data!#REF!=\"\",\"\",Data!#REF!)","v":{"$error":"#REF!"}},{"$f":"IF(Data!#REF!=\"\",\"\",Data!#REF!)","v":{"$error":"#REF!"}},{"$f":"IF(Data!#REF!=\"\",\"\",Data!#REF!)","v":{"$error":"#REF!"}},{"$f":"IF(Data!#REF!=\"\",\"\",Data!#REF!)","v":{"$error":"#REF!"}},{"$f":"IF(Data!#REF!=\"\",\"\",Data!#REF!)","v":{"$error":"#REF!"}},{"$error":"#REF!"},{"$error":"#REF!"},{"$error":"#REF!"}]
[{"$f":"IF(Data!#REF!=\"\",\"\",Data!#REF!)","v":{"$error":"#REF!"}},{"$f":"IF(Data!#REF!=\"\",\"\",Data!#REF!)","v":{"$error":"#REF!"}},{"$f":"IF(Data!#REF!=\"\",\"\",Data!#REF!)","v":{"$error":"#REF!"}},{"$f":"IF(Data!#REF!=\"\",\"\",Data!#REF!)","v":{"$error":"#REF!"}},{"$f":"IF(Data!#REF!=\"\",\"\",Data!#REF!)","v":{"$error":"#REF!"}},{"$error":"#REF!"},{"$error":"#REF!"},{"$error":"#REF!"}]
[{"$f":"IF(Data!#REF!=\"\",\"\",Data!#REF!)","v":{"$error":"#REF!"}},{"$f":"IF(Data!#REF!=\"\",\"\",Data!#REF!)","v":{"$error":"#REF!"}},{"$f":"IF(Data!#REF!=\"\",\"\",Data!#REF!)","v":{"$error":"#REF!"}},{"$f":"IF(Data!#REF!=\"\",\"\",Data!#REF!)","v":{"$error":"#REF!"}},{"$f":"IF(Data!#REF!=\"\",\"\",Data!#REF!)","v":{"$error":"#REF!"}},{"$error":"#REF!"},{"$error":"#REF!"},{"$error":"#REF!"}]
[{"$f":"IF(Data!#REF!=\"\",\"\",Data!#REF!)","v":{"$error":"#REF!"}},{"$f":"IF(Data!#REF!=\"\",\"\",Data!#REF!)","v":{"$error":"#REF!"}},{"$f":"IF(Data!#REF!=\"\",\"\",Data!#REF!)","v":{"$error":"#REF!"}},{"$f":"IF(Data!#REF!=\"\",\"\",Data!#REF!)","v":{"$error":"#REF!"}},{"$f":"IF(Data!#REF!=\"\",\"\",Data!#REF!)","v":{"$error":"#REF!"}},{"$error":"#REF!"},{"$error":"#REF!"},{"$error":"#REF!"}]
[{"$f":"IF(Data!#REF!=\"\",\"\",Data!#REF!)","v":{"$error":"#REF!"}},{"$f":"IF(Data!#REF!=\"\",\"\",Data!#REF!)","v":{"$error":"#REF!"}},{"$f":"IF(Data!#REF!=\"\",\"\",Data!#REF!)","v":{"$error":"#REF!"}},{"$f":"IF(Data!#REF!=\"\",\"\",Data!#REF!)","v":{"$error":"#REF!"}},{"$f":"IF(Data!#REF!=\"\",\"\",Data!#REF!)","v":{"$error":"#REF!"}},{"$error":"#REF!"},{"$error":"#REF!"},{"$error":"#REF!"}]
[{"$f":"IF(Data!#REF!=\"\",\"\",Data!#REF!)","v":{"$error":"#REF!"}},{"$f":"IF(Data!#REF!=\"\",\"\",Data!#REF!)","v":{"$error":"#REF!"}},{"$f":"IF(Data!#REF!=\"\",\"\",Data!#REF!)","v":{"$error":"#REF!"}},{"$f":"IF(Data!#REF!=\"\",\"\",Data!#REF!)","v":{"$error":"#REF!"}},{"$f":"IF(Data!#REF!=\"\",\"\",Data!#REF!)","v":{"$error":"#REF!"}},{"$error":"#REF!"},{"$error":"#REF!"},{"$error":"#REF!"}]
[{"$f":"IF(Data!#REF!=\"\",\"\",Data!#REF!)","v":{"$error":"#REF!"}},{"$f":"IF(Data!#REF!=\"\",\"\",Data!#REF!)","v":{"$error":"#REF!"}},{"$f":"IF(Data!#REF!=\"\",\"\",Data!#REF!)","v":{"$error":"#REF!"}},{"$f":"IF(Data!#REF!=\"\",\"\",Data!#REF!)","v":{"$error":"#REF!"}},{"$f":"IF(Data!#REF!=\"\",\"\",Data!#REF!)","v":{"$error":"#REF!"}},{"$error":"#REF!"},{"$error":"#REF!"},{"$error":"#REF!"}]
[{"$f":"IF(Data!#REF!=\"\",\"\",Data!#REF!)","v":{"$error":"#REF!"}},{"$f":"IF(Data!#REF!=\"\",\"\",Data!#REF!)","v":{"$error":"#REF!"}},{"$f":"IF(Data!#REF!=\"\",\"\",Data!#REF!)","v":{"$error":"#REF!"}},{"$f":"IF(Data!#REF!=\"\",\"\",Data!#REF!)","v":{"$error":"#REF!"}},{"$f":"IF(Data!#REF!=\"\",\"\",Data!#REF!)","v":{"$error":"#REF!"}},{"$error":"#REF!"},{"$error":"#REF!"},{"$error":"#REF!"}]
[{"$f":"IF(Data!#REF!=\"\",\"\",Data!#REF!)","v":{"$error":"#REF!"}},{"$f":"IF(Data!#REF!=\"\",\"\",Data!#REF!)","v":{"$error":"#REF!"}},{"$f":"IF(Data!#REF!=\"\",\"\",Data!#REF!)","v":{"$error":"#REF!"}},{"$f":"IF(Data!#REF!=\"\",\"\",Data!#REF!)","v":{"$error":"#REF!"}},{"$f":"IF(Data!#REF!=\"\",\"\",Data!#REF!)","v":{"$error":"#REF!"}},{"$error":"#REF!"},{"$error":"#REF!"},{"$error":"#REF!"}]
[{"$f":"IF(Data!#REF!=\"\",\"\",Data!#REF!)","v":{"$error":"#REF!"}},{"$f":"IF(Data!#REF!=\"\",\"\",Data!#REF!)","v":{"$error":"#REF!"}},{"$f":"IF(Data!#REF!=\"\",\"\",Data!#REF!)","v":{"$error":"#REF!"}},{"$f":"IF(Data!#REF!=\"\",\"\",Data!#REF!)","v":{"$error":"#REF!"}},{"$f":"IF(Data!#REF!=\"\",\"\",Data!#REF!)","v":{"$error":"#REF!"}},{"$error":"#REF!"},{"$error":"#REF!"},{"$error":"#REF!"}]
[{"$f":"IF(Data!#REF!=\"\",\"\",Data!#REF!)","v":{"$error":"#REF!"}},{"$f":"IF(Data!#REF!=\"\",\"\",Data!#REF!)","v":{"$error":"#REF!"}},{"$f":"IF(Data!#REF!=\"\",\"\",Data!#REF!)","v":{"$error":"#REF!"}},{"$f":"IF(Data!#REF!=\"\",\"\",Data!#REF!)","v":{"$error":"#REF!"}},{"$f":"IF(Data!#REF!=\"\",\"\",Data!#REF!)","v":{"$error":"#REF!"}},{"$error":"#REF!"},{"$error":"#REF!"},{"$error":"#REF!"}]
[{"$f":"IF(Data!#REF!=\"\",\"\",Data!#REF!)","v":{"$error":"#REF!"}},{"$f":"IF(Data!#REF!=\"\",\"\",Data!#REF!)","v":{"$error":"#REF!"}},{"$f":"IF(Data!#REF!=\"\",\"\",Data!#REF!)","v":{"$error":"#REF!"}},{"$f":"IF(Data!#REF!=\"\",\"\",Data!#REF!)","v":{"$error":"#REF!"}},{"$f":"IF(Data!#REF!=\"\",\"\",Data!#REF!)","v":{"$error":"#REF!"}},{"$error":"#REF!"},{"$error":"#REF!"},{"$error":"#REF!"}]
[{"$f":"IF(Data!#REF!=\"\",\"\",Data!#REF!)","v":{"$error":"#REF!"}},{"$f":"IF(Data!#REF!=\"\",\"\",Data!#REF!)","v":{"$error":"#REF!"}},{"$f":"IF(Data!#REF!=\"\",\"\",Data!#REF!)","v":{"$error":"#REF!"}},{"$f":"IF(Data!#REF!=\"\",\"\",Data!#REF!)","v":{"$error":"#REF!"}},{"$f":"IF(Data!#REF!=\"\",\"\",Data!#REF!)","v":{"$error":"#REF!"}},{"$error":"#REF!"},{"$error":"#REF!"},{"$error":"#REF!"}]
[{"$f":"IF(Data!#REF!=\"\",\"\",Data!#REF!)","v":{"$error":"#REF!"}},{"$f":"IF(Data!#REF!=\"\",\"\",Data!#REF!)","v":{"$error":"#REF!"}},{"$f":"IF(Data!#REF!=\"\",\"\",Data!#REF!)","v":{"$error":"#REF!"}},{"$f":"IF(Data!#REF!=\"\",\"\",Data!#REF!)","v":{"$error":"#REF!"}},{"$f":"IF(Data!#REF!=\"\",\"\",Data!#REF!)","v":{"$error":"#REF!"}},{"$error":"#REF!"},{"$error":"#REF!"},{"$error":"#REF!"}]
[{"$f":"IF(Data!#REF!=\"\",\"\",Data!#REF!)","v":{"$error":"#REF!"}},{"$f":"IF(Data!#REF!=\"\",\"\",Data!#REF!)","v":{"$error":"#REF!"}},{"$f":"IF(Data!#REF!=\"\",\"\",Data!#REF!)","v":{"$error":"#REF!"}},{"$f":"IF(Data!#REF!=\"\",\"\",Data!#REF!)","v":{"$error":"#REF!"}},{"$f":"IF(Data!#REF!=\"\",\"\",Data!#REF!)","v":{"$error":"#REF!"}},{"$error":"#REF!"},{"$error":"#REF!"},{"$error":"#REF!"}]
[{"$f":"IF(Data!#REF!=\"\",\"\",Data!#REF!)","v":{"$error":"#REF!"}},{"$f":"IF(Data!#REF!=\"\",\"\",Data!#REF!)","v":{"$error":"#REF!"}},{"$f":"IF(Data!#REF!=\"\",\"\",Data!#REF!)","v":{"$error":"#REF!"}},{"$f":"IF(Data!#REF!=\"\",\"\",Data!#REF!)","v":{"$error":"#REF!"}},{"$f":"IF(Data!#REF!=\"\",\"\",Data!#REF!)","v":{"$error":"#REF!"}},{"$error":"#REF!"},{"$error":"#REF!"},{"$error":"#REF!"}]
[{"$f":"IF(Data!#REF!=\"\",\"\",Data!#REF!)","v":{"$error":"#REF!"}},{"$f":"IF(Data!#REF!=\"\",\"\",Data!#REF!)","v":{"$error":"#REF!"}},{"$f":"IF(Data!#REF!=\"\",\"\",Data!#REF!)","v":{"$error":"#REF!"}},{"$f":"IF(Data!#REF!=\"\",\"\",Data!#REF!)","v":{"$error":"#REF!"}},{"$f":"IF(Data!#REF!=\"\",\"\",Data!#REF!)","v":{"$error":"#REF!"}},{"$error":"#REF!"},{"$error":"#REF!"},{"$error":"#REF!"}]
[{"$f":"IF(Data!#REF!=\"\",\"\",Data!#REF!)","v":{"$error":"#REF!"}},{"$f":"IF(Data!#REF!=\"\",\"\",Data!#REF!)","v":{"$error":"#REF!"}},{"$f":"IF(Data!#REF!=\"\",\"\",Data!#REF!)","v":{"$error":"#REF!"}},{"$f":"IF(Data!#REF!=\"\",\"\",Data!#REF!)","v":{"$error":"#REF!"}},{"$f":"IF(Data!#REF!=\"\",\"\",Data!#REF!)","v":{"$error":"#REF!"}},{"$error":"#REF!"},{"$error":"#REF!"},{"$error":"#REF!"}]
[{"$f":"IF(Data!#REF!=\"\",\"\",Data!#REF!)","v":{"$error":"#REF!"}},{"$f":"IF(Data!#REF!=\"\",\"\",Data!#REF!)","v":{"$error":"#REF!"}},{"$f":"IF(Data!#REF!=\"\",\"\",Data!#REF!)","v":{"$error":"#REF!"}},{"$f":"IF(Data!#REF!=\"\",\"\",Data!#REF!)","v":{"$error":"#REF!"}},{"$f":"IF(Data!#REF!=\"\",\"\",Data!#REF!)","v":{"$error":"#REF!"}},{"$error":"#REF!"},{"$error":"#REF!"},{"$error":"#REF!"}]
[{"$f":"IF(Data!#REF!=\"\",\"\",Data!#REF!)","v":{"$error":"#REF!"}},{"$f":"IF(Data!#REF!=\"\",\"\",Data!#REF!)","v":{"$error":"#REF!"}},{"$f":"IF(Data!#REF!=\"\",\"\",Data!#REF!)","v":{"$error":"#REF!"}},{"$f":"IF(Data!#REF!=\"\",\"\",Data!#REF!)","v":{"$error":"#REF!"}},{"$f":"IF(Data!#REF!=\"\",\"\",Data!#REF!)","v":{"$error":"#REF!"}},{"$error":"#REF!"},{"$error":"#REF!"},{"$error":"#REF!"}]
[{"$f":"IF(Data!#REF!=\"\",\"\",Data!#REF!)","v":{"$error":"#REF!"}},{"$f":"IF(Data!#REF!=\"\",\"\",Data!#REF!)","v":{"$error":"#REF!"}},{"$f":"IF(Data!#REF!=\"\",\"\",Data!#REF!)","v":{"$error":"#REF!"}},{"$f":"IF(Data!#REF!=\"\",\"\",Data!#REF!)","v":{"$error":"#REF!"}},{"$f":"IF(Data!#REF!=\"\",\"\",Data!#REF!)","v":{"$error":"#REF!"}},{"$error":"#REF!"},{"$error":"#REF!"},{"$error":"#REF!"}]
[{"$f":"IF(Data!#REF!=\"\",\"\",Data!#REF!)","v":{"$error":"#REF!"}},{"$f":"IF(Data!#REF!=\"\",\"\",Data!#REF!)","v":{"$error":"#REF!"}},{"$f":"IF(Data!#REF!=\"\",\"\",Data!#REF!)","v":{"$error":"#REF!"}},{"$f":"IF(Data!#REF!=\"\",\"\",Data!#REF!)","v":{"$error":"#REF!"}},{"$f":"IF(Data!#REF!=\"\",\"\",Data!#REF!)","v":{"$error":"#REF!"}},{"$error":"#REF!"},{"$error":"#REF!"},{"$error":"#REF!"}]
[{"$f":"IF(Data!#REF!=\"\",\"\",Data!#REF!)","v":{"$error":"#REF!"}},{"$f":"IF(Data!#REF!=\"\",\"\",Data!#REF!)","v":{"$error":"#REF!"}},{"$f":"IF(Data!#REF!=\"\",\"\",Data!#REF!)","v":{"$error":"#REF!"}},{"$f":"IF(Data!#REF!=\"\",\"\",Data!#REF!)","v":{"$error":"#REF!"}},{"$f":"IF(Data!#REF!=\"\",\"\",Data!#REF!)","v":{"$error":"#REF!"}},{"$error":"#REF!"},{"$error":"#REF!"},{"$error":"#REF!"}]
[{"$f":"IF(Data!#REF!=\"\",\"\",Data!#REF!)","v":{"$error":"#REF!"}},{"$f":"IF(Data!#REF!=\"\",\"\",Data!#REF!)","v":{"$error":"#REF!"}},{"$f":"IF(Data!#REF!=\"\",\"\",Data!#REF!)","v":{"$error":"#REF!"}},{"$f":"IF(Data!#REF!=\"\",\"\",Data!#REF!)","v":{"$error":"#REF!"}},{"$f":"IF(Data!#REF!=\"\",\"\",Data!#REF!)","v":{"$error":"#REF!"}},{"$error":"#REF!"},{"$error":"#REF!"},{"$error":"#REF!"}]
[{"$f":"IF(Data!#REF!=\"\",\"\",Data!#REF!)","v":{"$error":"#REF!"}},{"$f":"IF(Data!#REF!=\"\",\"\",Data!#REF!)","v":{"$error":"#REF!"}},{"$f":"IF(Data!#REF!=\"\",\"\",Data!#REF!)","v":{"$error":"#REF!"}},{"$f":"IF(Data!#REF!=\"\",\"\",Data!#REF!)","v":{"$error":"#REF!"}},{"$f":"IF(Data!#REF!=\"\",\"\",Data!#REF!)","v":{"$error":"#REF!"}},{"$error":"#REF!"},{"$error":"#REF!"},{"$error":"#REF!"}]
[{"$f":"IF(Data!#REF!=\"\",\"\",Data!#REF!)","v":{"$error":"#REF!"}},{"$f":"IF(Data!#REF!=\"\",\"\",Data!#REF!)","v":{"$error":"#REF!"}},{"$f":"IF(Data!#REF!=\"\",\"\",Data!#REF!)","v":{"$error":"#REF!"}},{"$f":"IF(Data!#REF!=\"\",\"\",Data!#REF!)","v":{"$error":"#REF!"}},{"$f":"IF(Data!#REF!=\"\",\"\",Data!#REF!)","v":{"$error":"#REF!"}},{"$error":"#REF!"},{"$error":"#REF!"},{"$error":"#REF!"}]
[{"$f":"IF(Data!#REF!=\"\",\"\",Data!#REF!)","v":{"$error":"#REF!"}},{"$f":"IF(Data!#REF!=\"\",\"\",Data!#REF!)","v":{"$error":"#REF!"}},{"$f":"IF(Data!#REF!=\"\",\"\",Data!#REF!)","v":{"$error":"#REF!"}},{"$f":"IF(Data!#REF!=\"\",\"\",Data!#REF!)","v":{"$error":"#REF!"}},{"$f":"IF(Data!#REF!=\"\",\"\",Data!#REF!)","v":{"$error":"#REF!"}},{"$error":"#REF!"},{"$error":"#REF!"},{"$error":"#REF!"}]
[{"$f":"IF(Data!#REF!=\"\",\"\",Data!#REF!)","v":{"$error":"#REF!"}},{"$f":"IF(Data!#REF!=\"\",\"\",Data!#REF!)","v":{"$error":"#REF!"}},{"$f":"IF(Data!#REF!=\"\",\"\",Data!#REF!)","v":{"$error":"#REF!"}},{"$f":"IF(Data!#REF!=\"\",\"\",Data!#REF!)","v":{"$error":"#REF!"}},{"$f":"IF(Data!#REF!=\"\",\"\",Data!#REF!)","v":{"$error":"#REF!"}},{"$error":"#REF!"},{"$error":"#REF!"},{"$error":"#REF!"}]
[{"$f":"IF(Data!#REF!=\"\",\"\",Data!#REF!)","v":{"$error":"#REF!"}},{"$f":"IF(Data!#REF!=\"\",\"\",Data!#REF!)","v":{"$error":"#REF!"}},{"$f":"IF(Data!#REF!=\"\",\"\",Data!#REF!)","v":{"$error":"#REF!"}},{"$f":"IF(Data!#REF!=\"\",\"\",Data!#REF!)","v":{"$error":"#REF!"}},{"$f":"IF(Data!#REF!=\"\",\"\",Data!#REF!)","v":{"$error":"#REF!"}},{"$error":"#REF!"},{"$error":"#REF!"},{"$error":"#REF!"}]
[{"$f":"IF(Data!#REF!=\"\",\"\",Data!#REF!)","v":{"$error":"#REF!"}},{"$f":"IF(Data!#REF!=\"\",\"\",Data!#REF!)","v":{"$error":"#REF!"}},{"$f":"IF(Data!#REF!=\"\",\"\",Data!#REF!)","v":{"$error":"#REF!"}},{"$f":"IF(Data!#REF!=\"\",\"\",Data!#REF!)","v":{"$error":"#REF!"}},{"$f":"IF(Data!#REF!=\"\",\"\",Data!#REF!)","v":{"$error":"#REF!"}},{"$error":"#REF!"},{"$error":"#REF!"},{"$error":"#REF!"}]
[{"$f":"IF(Data!#REF!=\"\",\"\",Data!#REF!)","v":{"$error":"#REF!"}},{"$f":"IF(Data!#REF!=\"\",\"\",Data!#REF!)","v":{"$error":"#REF!"}},{"$f":"IF(Data!#REF!=\"\",\"\",Data!#REF!)","v":{"$error":"#REF!"}},{"$f":"IF(Data!#REF!=\"\",\"\",Data!#REF!)","v":{"$error":"#REF!"}},{"$f":"IF(Data!#REF!=\"\",\"\",Data!#REF!)","v":{"$error":"#REF!"}},{"$error":"#REF!"},{"$error":"#REF!"},{"$error":"#REF!"}]
[{"$f":"IF(Data!#REF!=\"\",\"\",Data!#REF!)","v":{"$error":"#REF!"}},{"$f":"IF(Data!#REF!=\"\",\"\",Data!#REF!)","v":{"$error":"#REF!"}},{"$f":"IF(Data!#REF!=\"\",\"\",Data!#REF!)","v":{"$error":"#REF!"}},{"$f":"IF(Data!#REF!=\"\",\"\",Data!#REF!)","v":{"$error":"#REF!"}},{"$f":"IF(Data!#REF!=\"\",\"\",Data!#REF!)","v":{"$error":"#REF!"}},{"$error":"#REF!"},{"$error":"#REF!"},{"$error":"#REF!"}]
[{"$f":"IF(Data!#REF!=\"\",\"\",Data!#REF!)","v":{"$error":"#REF!"}},{"$f":"IF(Data!#REF!=\"\",\"\",Data!#REF!)","v":{"$error":"#REF!"}},{"$f":"IF(Data!#REF!=\"\",\"\",Data!#REF!)","v":{"$error":"#REF!"}},{"$f":"IF(Data!#REF!=\"\",\"\",Data!#REF!)","v":{"$error":"#REF!"}},{"$f":"IF(Data!#REF!=\"\",\"\",Data!#REF!)","v":{"$error":"#REF!"}},{"$error":"#REF!"},{"$error":"#REF!"},{"$error":"#REF!"}]
[{"$f":"IF(Data!#REF!=\"\",\"\",Data!#REF!)","v":{"$error":"#REF!"}},{"$f":"IF(Data!#REF!=\"\",\"\",Data!#REF!)","v":{"$error":"#REF!"}},{"$f":"IF(Data!#REF!=\"\",\"\",Data!#REF!)","v":{"$error":"#REF!"}},{"$f":"IF(Data!#REF!=\"\",\"\",Data!#REF!)","v":{"$error":"#REF!"}},{"$f":"IF(Data!#REF!=\"\",\"\",Data!#REF!)","v":{"$error":"#REF!"}},{"$error":"#REF!"},{"$error":"#REF!"},{"$error":"#REF!"}]
[{"$f":"IF(Data!#REF!=\"\",\"\",Data!#REF!)","v":{"$error":"#REF!"}},{"$f":"IF(Data!#REF!=\"\",\"\",Data!#REF!)","v":{"$error":"#REF!"}},{"$f":"IF(Data!#REF!=\"\",\"\",Data!#REF!)","v":{"$error":"#REF!"}},{"$f":"IF(Data!#REF!=\"\",\"\",Data!#REF!)","v":{"$error":"#REF!"}},{"$f":"IF(Data!#REF!=\"\",\"\",Data!#REF!)","v":{"$error":"#REF!"}},{"$error":"#REF!"},{"$error":"#REF!"},{"$error":"#REF!"}]
[{"$f":"IF(Data!#REF!=\"\",\"\",Data!#REF!)","v":{"$error":"#REF!"}},{"$f":"IF(Data!#REF!=\"\",\"\",Data!#REF!)","v":{"$error":"#REF!"}},{"$f":"IF(Data!#REF!=\"\",\"\",Data!#REF!)","v":{"$error":"#REF!"}},{"$f":"IF(Data!#REF!=\"\",\"\",Data!#REF!)","v":{"$error":"#REF!"}},{"$f":"IF(Data!#REF!=\"\",\"\",Data!#REF!)","v":{"$error":"#REF!"}},{"$error":"#REF!"},{"$error":"#REF!"},{"$error":"#REF!"}]
[{"$f":"IF(Data!#REF!=\"\",\"\",Data!#REF!)","v":{"$error":"#REF!"}},{"$f":"IF(Data!#REF!=\"\",\"\",Data!#REF!)","v":{"$error":"#REF!"}},{"$f":"IF(Data!#REF!=\"\",\"\",Data!#REF!)","v":{"$error":"#REF!"}},{"$f":"IF(Data!#REF!=\"\",\"\",Data!#REF!)","v":{"$error":"#REF!"}},{"$f":"IF(Data!#REF!=\"\",\"\",Data!#REF!)","v":{"$error":"#REF!"}},{"$error":"#REF!"},{"$error":"#REF!"},{"$error":"#REF!"}]
[{"$f":"IF(Data!#REF!=\"\",\"\",Data!#REF!)","v":{"$error":"#REF!"}},{"$f":"IF(Data!#REF!=\"\",\"\",Data!#REF!)","v":{"$error":"#REF!"}},{"$f":"IF(Data!#REF!=\"\",\"\",Data!#REF!)","v":{"$error":"#REF!"}},{"$f":"IF(Data!#REF!=\"\",\"\",Data!#REF!)","v":{"$error":"#REF!"}},{"$f":"IF(Data!#REF!=\"\",\"\",Data!#REF!)","v":{"$error":"#REF!"}},{"$error":"#REF!"},{"$error":"#REF!"},{"$error":"#REF!"}]
[{"$f":"IF(Data!#REF!=\"\",\"\",Data!#REF!)","v":{"$error":"#REF!"}},{"$f":"IF(Data!#REF!=\"\",\"\",Data!#REF!)","v":{"$error":"#REF!"}},{"$f":"IF(Data!#REF!=\"\",\"\",Data!#REF!)","v":{"$error":"#REF!"}},{"$f":"IF(Data!#REF!=\"\",\"\",Data!#REF!)","v":{"$error":"#REF!"}},{"$f":"IF(Data!#REF!=\"\",\"\",Data!#REF!)","v":{"$error":"#REF!"}},{"$error":"#REF!"},{"$error":"#REF!"},{"$error":"#REF!"}]
[{"$f":"IF(Data!#REF!=\"\",\"\",Data!#REF!)","v":{"$error":"#REF!"}},{"$f":"IF(Data!#REF!=\"\",\"\",Data!#REF!)","v":{"$error":"#REF!"}},{"$f":"IF(Data!#REF!=\"\",\"\",Data!#REF!)","v":{"$error":"#REF!"}},{"$f":"IF(Data!#REF!=\"\",\"\",Data!#REF!)","v":{"$error":"#REF!"}},{"$f":"IF(Data!#REF!=\"\",\"\",Data!#REF!)","v":{"$error":"#REF!"}},{"$error":"#REF!"},{"$error":"#REF!"},{"$error":"#REF!"}]
[{"$f":"IF(Data!#REF!=\"\",\"\",Data!#REF!)","v":{"$error":"#REF!"}},{"$f":"IF(Data!#REF!=\"\",\"\",Data!#REF!)","v":{"$error":"#REF!"}},{"$f":"IF(Data!#REF!=\"\",\"\",Data!#REF!)","v":{"$error":"#REF!"}},{"$f":"IF(Data!#REF!=\"\",\"\",Data!#REF!)","v":{"$error":"#REF!"}},{"$f":"IF(Data!#REF!=\"\",\"\",Data!#REF!)","v":{"$error":"#REF!"}},{"$error":"#REF!"},{"$error":"#REF!"},{"$error":"#REF!"}]
[{"$f":"IF(Data!#REF!=\"\",\"\",Data!#REF!)","v":{"$error":"#REF!"}},{"$f":"IF(Data!#REF!=\"\",\"\",Data!#REF!)","v":{"$error":"#REF!"}},{"$f":"IF(Data!#REF!=\"\",\"\",Data!#REF!)","v":{"$error":"#REF!"}},{"$f":"IF(Data!#REF!=\"\",\"\",Data!#REF!)","v":{"$error":"#REF!"}},{"$f":"IF(Data!#REF!=\"\",\"\",Data!#REF!)","v":{"$error":"#REF!"}},{"$error":"#REF!"},{"$error":"#REF!"},{"$error":"#REF!"}]
[{"$f":"IF(Data!#REF!=\"\",\"\",Data!#REF!)","v":{"$error":"#REF!"}},{"$f":"IF(Data!#REF!=\"\",\"\",Data!#REF!)","v":{"$error":"#REF!"}},{"$f":"IF(Data!#REF!=\"\",\"\",Data!#REF!)","v":{"$error":"#REF!"}},{"$f":"IF(Data!#REF!=\"\",\"\",Data!#REF!)","v":{"$error":"#REF!"}},{"$f":"IF(Data!#REF!=\"\",\"\",Data!#REF!)","v":{"$error":"#REF!"}},{"$error":"#REF!"},{"$error":"#REF!"},{"$error":"#REF!"}]
[{"$f":"IF(Data!#REF!=\"\",\"\",Data!#REF!)","v":{"$error":"#REF!"}},{"$f":"IF(Data!#REF!=\"\",\"\",Data!#REF!)","v":{"$error":"#REF!"}},{"$f":"IF(Data!#REF!=\"\",\"\",Data!#REF!)","v":{"$error":"#REF!"}},{"$f":"IF(Data!#REF!=\"\",\"\",Data!#REF!)","v":{"$error":"#REF!"}},{"$f":"IF(Data!#REF!=\"\",\"\",Data!#REF!)","v":{"$error":"#REF!"}},{"$error":"#REF!"},{"$error":"#REF!"},{"$error":"#REF!"}]
[{"$f":"IF(Data!#REF!=\"\",\"\",Data!#REF!)","v":{"$error":"#REF!"}},{"$f":"IF(Data!#REF!=\"\",\"\",Data!#REF!)","v":{"$error":"#REF!"}},{"$f":"IF(Data!#REF!=\"\",\"\",Data!#REF!)","v":{"$error":"#REF!"}},{"$f":"IF(Data!#REF!=\"\",\"\",Data!#REF!)","v":{"$error":"#REF!"}},{"$f":"IF(Data!#REF!=\"\",\"\",Data!#REF!)","v":{"$error":"#REF!"}},{"$error":"#REF!"},{"$error":"#REF!"},{"$error":"#REF!"}]
[{"$f":"IF(Data!#REF!=\"\",\"\",Data!#REF!)","v":{"$error":"#REF!"}},{"$f":"IF(Data!#REF!=\"\",\"\",Data!#REF!)","v":{"$error":"#REF!"}},{"$f":"IF(Data!#REF!=\"\",\"\",Data!#REF!)","v":{"$error":"#REF!"}},{"$f":"IF(Data!#REF!=\"\",\"\",Data!#REF!)","v":{"$error":"#REF!"}},{"$f":"IF(Data!#REF!=\"\",\"\",Data!#REF!)","v":{"$error":"#REF!"}},{"$error":"#REF!"},{"$error":"#REF!"},{"$error":"#REF!"}]
[{"$f":"IF(Data!#REF!=\"\",\"\",Data!#REF!)","v":{"$error":"#REF!"}},{"$f":"IF(Data!#REF!=\"\",\"\",Data!#REF!)","v":{"$error":"#REF!"}},{"$f":"IF(Data!#REF!=\"\",\"\",Data!#REF!)","v":{"$error":"#REF!"}},{"$f":"IF(Data!#REF!=\"\",\"\",Data!#REF!)","v":{"$error":"#REF!"}},{"$f":"IF(Data!#REF!=\"\",\"\",Data!#REF!)","v":{"$error":"#REF!"}},{"$error":"#REF!"},{"$error":"#REF!"},{"$error":"#REF!"}]
[{"$f":"IF(Data!#REF!=\"\",\"\",Data!#REF!)","v":{"$error":"#REF!"}},{"$f":"IF(Data!#REF!=\"\",\"\",Data!#REF!)","v":{"$error":"#REF!"}},{"$f":"IF(Data!#REF!=\"\",\"\",Data!#REF!)","v":{"$error":"#REF!"}},{"$f":"IF(Data!#REF!=\"\",\"\",Data!#REF!)","v":{"$error":"#REF!"}},{"$f":"IF(Data!#REF!=\"\",\"\",Data!#REF!)","v":{"$error":"#REF!"}},{"$f":"IF(E1859>0,MONTH(E1859),\"\")","v":{"$error":"#REF!"}},{"$f":"IF(E1859>0,WEEKNUM(E1859),\"0\")","v":{"$error":"#REF!"}},{"$f":"IF(G1859>=($G$2-3),\"Ano\",\"Nie\")","v":{"$error":"#REF!"}}]
[{"$f":"IF(Data!#REF!=\"\",\"\",Data!#REF!)","v":{"$error":"#REF!"}},{"$f":"IF(Data!#REF!=\"\",\"\",Data!#REF!)","v":{"$error":"#REF!"}},{"$f":"IF(Data!#REF!=\"\",\"\",Data!#REF!)","v":{"$error":"#REF!"}},{"$f":"IF(Data!#REF!=\"\",\"\",Data!#REF!)","v":{"$error":"#REF!"}},{"$f":"IF(Data!#REF!=\"\",\"\",Data!#REF!)","v":{"$error":"#REF!"}},{"$error":"#REF!"},{"$error":"#REF!"},{"$error":"#REF!"}]
[{"$f":"IF(Data!#REF!=\"\",\"\",Data!#REF!)","v":{"$error":"#REF!"}},{"$f":"IF(Data!#REF!=\"\",\"\",Data!#REF!)","v":{"$error":"#REF!"}},{"$f":"IF(Data!#REF!=\"\",\"\",Data!#REF!)","v":{"$error":"#REF!"}},{"$f":"IF(Data!#REF!=\"\",\"\",Data!#REF!)","v":{"$error":"#REF!"}},{"$f":"IF(Data!#REF!=\"\",\"\",Data!#REF!)","v":{"$error":"#REF!"}},{"$error":"#REF!"},{"$error":"#REF!"},{"$error":"#REF!"}]
[{"$f":"IF(Data!#REF!=\"\",\"\",Data!#REF!)","v":{"$error":"#REF!"}},{"$f":"IF(Data!#REF!=\"\",\"\",Data!#REF!)","v":{"$error":"#REF!"}},{"$f":"IF(Data!#REF!=\"\",\"\",Data!#REF!)","v":{"$error":"#REF!"}},{"$f":"IF(Data!#REF!=\"\",\"\",Data!#REF!)","v":{"$error":"#REF!"}},{"$f":"IF(Data!#REF!=\"\",\"\",Data!#REF!)","v":{"$error":"#REF!"}},{"$error":"#REF!"},{"$error":"#REF!"},{"$error":"#REF!"}]
[{"$f":"IF(Data!#REF!=\"\",\"\",Data!#REF!)","v":{"$error":"#REF!"}},{"$f":"IF(Data!#REF!=\"\",\"\",Data!#REF!)","v":{"$error":"#REF!"}},{"$f":"IF(Data!#REF!=\"\",\"\",Data!#REF!)","v":{"$error":"#REF!"}},{"$f":"IF(Data!#REF!=\"\",\"\",Data!#REF!)","v":{"$error":"#REF!"}},{"$f":"IF(Data!#REF!=\"\",\"\",Data!#REF!)","v":{"$error":"#REF!"}},{"$error":"#REF!"},{"$error":"#REF!"},{"$error":"#REF!"}]
[{"$f":"IF(Data!#REF!=\"\",\"\",Data!#REF!)","v":{"$error":"#REF!"}},{"$f":"IF(Data!#REF!=\"\",\"\",Data!#REF!)","v":{"$error":"#REF!"}},{"$f":"IF(Data!#REF!=\"\",\"\",Data!#REF!)","v":{"$error":"#REF!"}},{"$f":"IF(Data!#REF!=\"\",\"\",Data!#REF!)","v":{"$error":"#REF!"}},{"$f":"IF(Data!#REF!=\"\",\"\",Data!#REF!)","v":{"$error":"#REF!"}},{"$error":"#REF!"},{"$error":"#REF!"},{"$error":"#REF!"}]
[{"$f":"IF(Data!#REF!=\"\",\"\",Data!#REF!)","v":{"$error":"#REF!"}},{"$f":"IF(Data!#REF!=\"\",\"\",Data!#REF!)","v":{"$error":"#REF!"}},{"$f":"IF(Data!#REF!=\"\",\"\",Data!#REF!)","v":{"$error":"#REF!"}},{"$f":"IF(Data!#REF!=\"\",\"\",Data!#REF!)","v":{"$error":"#REF!"}},{"$f":"IF(Data!#REF!=\"\",\"\",Data!#REF!)","v":{"$error":"#REF!"}},{"$error":"#REF!"},{"$error":"#REF!"},{"$error":"#REF!"}]
[{"$f":"IF(Data!#REF!=\"\",\"\",Data!#REF!)","v":{"$error":"#REF!"}},{"$f":"IF(Data!#REF!=\"\",\"\",Data!#REF!)","v":{"$error":"#REF!"}},{"$f":"IF(Data!#REF!=\"\",\"\",Data!#REF!)","v":{"$error":"#REF!"}},{"$f":"IF(Data!#REF!=\"\",\"\",Data!#REF!)","v":{"$error":"#REF!"}},{"$f":"IF(Data!#REF!=\"\",\"\",Data!#REF!)","v":{"$error":"#REF!"}},{"$error":"#REF!"},{"$error":"#REF!"},{"$error":"#REF!"}]
[{"$f":"IF(Data!#REF!=\"\",\"\",Data!#REF!)","v":{"$error":"#REF!"}},{"$f":"IF(Data!#REF!=\"\",\"\",Data!#REF!)","v":{"$error":"#REF!"}},{"$f":"IF(Data!#REF!=\"\",\"\",Data!#REF!)","v":{"$error":"#REF!"}},{"$f":"IF(Data!#REF!=\"\",\"\",Data!#REF!)","v":{"$error":"#REF!"}},{"$f":"IF(Data!#REF!=\"\",\"\",Data!#REF!)","v":{"$error":"#REF!"}},{"$error":"#REF!"},{"$error":"#REF!"},{"$error":"#REF!"}]
[{"$f":"IF(Data!#REF!=\"\",\"\",Data!#REF!)","v":{"$error":"#REF!"}},{"$f":"IF(Data!#REF!=\"\",\"\",Data!#REF!)","v":{"$error":"#REF!"}},{"$f":"IF(Data!#REF!=\"\",\"\",Data!#REF!)","v":{"$error":"#REF!"}},{"$f":"IF(Data!#REF!=\"\",\"\",Data!#REF!)","v":{"$error":"#REF!"}},{"$f":"IF(Data!#REF!=\"\",\"\",Data!#REF!)","v":{"$error":"#REF!"}},{"$error":"#REF!"},{"$error":"#REF!"},{"$error":"#REF!"}]
[{"$f":"IF(Data!#REF!=\"\",\"\",Data!#REF!)","v":{"$error":"#REF!"}},{"$f":"IF(Data!#REF!=\"\",\"\",Data!#REF!)","v":{"$error":"#REF!"}},{"$f":"IF(Data!#REF!=\"\",\"\",Data!#REF!)","v":{"$error":"#REF!"}},{"$f":"IF(Data!#REF!=\"\",\"\",Data!#REF!)","v":{"$error":"#REF!"}},{"$f":"IF(Data!#REF!=\"\",\"\",Data!#REF!)","v":{"$error":"#REF!"}},{"$error":"#REF!"},{"$error":"#REF!"},{"$error":"#REF!"}]
[{"$f":"IF(Data!#REF!=\"\",\"\",Data!#REF!)","v":{"$error":"#REF!"}},{"$f":"IF(Data!#REF!=\"\",\"\",Data!#REF!)","v":{"$error":"#REF!"}},{"$f":"IF(Data!#REF!=\"\",\"\",Data!#REF!)","v":{"$error":"#REF!"}},{"$f":"IF(Data!#REF!=\"\",\"\",Data!#REF!)","v":{"$error":"#REF!"}},{"$f":"IF(Data!#REF!=\"\",\"\",Data!#REF!)","v":{"$error":"#REF!"}},{"$error":"#REF!"},{"$error":"#REF!"},{"$error":"#REF!"}]
[{"$f":"IF(Data!#REF!=\"\",\"\",Data!#REF!)","v":{"$error":"#REF!"}},{"$f":"IF(Data!#REF!=\"\",\"\",Data!#REF!)","v":{"$error":"#REF!"}},{"$f":"IF(Data!#REF!=\"\",\"\",Data!#REF!)","v":{"$error":"#REF!"}},{"$f":"IF(Data!#REF!=\"\",\"\",Data!#REF!)","v":{"$error":"#REF!"}},{"$f":"IF(Data!#REF!=\"\",\"\",Data!#REF!)","v":{"$error":"#REF!"}},{"$error":"#REF!"},{"$error":"#REF!"},{"$error":"#REF!"}]
[{"$f":"IF(Data!#REF!=\"\",\"\",Data!#REF!)","v":{"$error":"#REF!"}},{"$f":"IF(Data!#REF!=\"\",\"\",Data!#REF!)","v":{"$error":"#REF!"}},{"$f":"IF(Data!#REF!=\"\",\"\",Data!#REF!)","v":{"$error":"#REF!"}},{"$f":"IF(Data!#REF!=\"\",\"\",Data!#REF!)","v":{"$error":"#REF!"}},{"$f":"IF(Data!#REF!=\"\",\"\",Data!#REF!)","v":{"$error":"#REF!"}},{"$error":"#REF!"},{"$error":"#REF!"},{"$error":"#REF!"}]
[{"$f":"IF(Data!#REF!=\"\",\"\",Data!#REF!)","v":{"$error":"#REF!"}},{"$f":"IF(Data!#REF!=\"\",\"\",Data!#REF!)","v":{"$error":"#REF!"}},{"$f":"IF(Data!#REF!=\"\",\"\",Data!#REF!)","v":{"$error":"#REF!"}},{"$f":"IF(Data!#REF!=\"\",\"\",Data!#REF!)","v":{"$error":"#REF!"}},{"$f":"IF(Data!#REF!=\"\",\"\",Data!#REF!)","v":{"$error":"#REF!"}},{"$error":"#REF!"},{"$error":"#REF!"},{"$error":"#REF!"}]
[{"$f":"IF(Data!#REF!=\"\",\"\",Data!#REF!)","v":{"$error":"#REF!"}},{"$f":"IF(Data!#REF!=\"\",\"\",Data!#REF!)","v":{"$error":"#REF!"}},{"$f":"IF(Data!#REF!=\"\",\"\",Data!#REF!)","v":{"$error":"#REF!"}},{"$f":"IF(Data!#REF!=\"\",\"\",Data!#REF!)","v":{"$error":"#REF!"}},{"$f":"IF(Data!#REF!=\"\",\"\",Data!#REF!)","v":{"$error":"#REF!"}},{"$error":"#REF!"},{"$error":"#REF!"},{"$error":"#REF!"}]
[{"$f":"IF(Data!#REF!=\"\",\"\",Data!#REF!)","v":{"$error":"#REF!"}},{"$f":"IF(Data!#REF!=\"\",\"\",Data!#REF!)","v":{"$error":"#REF!"}},{"$f":"IF(Data!#REF!=\"\",\"\",Data!#REF!)","v":{"$error":"#REF!"}},{"$f":"IF(Data!#REF!=\"\",\"\",Data!#REF!)","v":{"$error":"#REF!"}},{"$f":"IF(Data!#REF!=\"\",\"\",Data!#REF!)","v":{"$error":"#REF!"}},{"$error":"#REF!"},{"$error":"#REF!"},{"$error":"#REF!"}]
[{"$f":"IF(Data!#REF!=\"\",\"\",Data!#REF!)","v":{"$error":"#REF!"}},{"$f":"IF(Data!#REF!=\"\",\"\",Data!#REF!)","v":{"$error":"#REF!"}},{"$f":"IF(Data!#REF!=\"\",\"\",Data!#REF!)","v":{"$error":"#REF!"}},{"$f":"IF(Data!#REF!=\"\",\"\",Data!#REF!)","v":{"$error":"#REF!"}},{"$f":"IF(Data!#REF!=\"\",\"\",Data!#REF!)","v":{"$error":"#REF!"}},{"$error":"#REF!"},{"$error":"#REF!"},{"$error":"#REF!"}]
[{"$f":"IF(Data!#REF!=\"\",\"\",Data!#REF!)","v":{"$error":"#REF!"}},{"$f":"IF(Data!#REF!=\"\",\"\",Data!#REF!)","v":{"$error":"#REF!"}},{"$f":"IF(Data!#REF!=\"\",\"\",Data!#REF!)","v":{"$error":"#REF!"}},{"$f":"IF(Data!#REF!=\"\",\"\",Data!#REF!)","v":{"$error":"#REF!"}},{"$f":"IF(Data!#REF!=\"\",\"\",Data!#REF!)","v":{"$error":"#REF!"}},{"$error":"#REF!"},{"$error":"#REF!"},{"$error":"#REF!"}]
[{"$f":"IF(Data!#REF!=\"\",\"\",Data!#REF!)","v":{"$error":"#REF!"}},{"$f":"IF(Data!#REF!=\"\",\"\",Data!#REF!)","v":{"$error":"#REF!"}},{"$f":"IF(Data!#REF!=\"\",\"\",Data!#REF!)","v":{"$error":"#REF!"}},{"$f":"IF(Data!#REF!=\"\",\"\",Data!#REF!)","v":{"$error":"#REF!"}},{"$f":"IF(Data!#REF!=\"\",\"\",Data!#REF!)","v":{"$error":"#REF!"}},{"$error":"#REF!"},{"$error":"#REF!"},{"$error":"#REF!"}]
[{"$f":"IF(Data!#REF!=\"\",\"\",Data!#REF!)","v":{"$error":"#REF!"}},{"$f":"IF(Data!#REF!=\"\",\"\",Data!#REF!)","v":{"$error":"#REF!"}},{"$f":"IF(Data!#REF!=\"\",\"\",Data!#REF!)","v":{"$error":"#REF!"}},{"$f":"IF(Data!#REF!=\"\",\"\",Data!#REF!)","v":{"$error":"#REF!"}},{"$f":"IF(Data!#REF!=\"\",\"\",Data!#REF!)","v":{"$error":"#REF!"}},{"$error":"#REF!"},{"$error":"#REF!"},{"$error":"#REF!"}]
[{"$f":"IF(Data!#REF!=\"\",\"\",Data!#REF!)","v":{"$error":"#REF!"}},{"$f":"IF(Data!#REF!=\"\",\"\",Data!#REF!)","v":{"$error":"#REF!"}},{"$f":"IF(Data!#REF!=\"\",\"\",Data!#REF!)","v":{"$error":"#REF!"}},{"$f":"IF(Data!#REF!=\"\",\"\",Data!#REF!)","v":{"$error":"#REF!"}},{"$f":"IF(Data!#REF!=\"\",\"\",Data!#REF!)","v":{"$error":"#REF!"}},{"$error":"#REF!"},{"$error":"#REF!"},{"$error":"#REF!"}]
[{"$f":"IF(Data!#REF!=\"\",\"\",Data!#REF!)","v":{"$error":"#REF!"}},{"$f":"IF(Data!#REF!=\"\",\"\",Data!#REF!)","v":{"$error":"#REF!"}},{"$f":"IF(Data!#REF!=\"\",\"\",Data!#REF!)","v":{"$error":"#REF!"}},{"$f":"IF(Data!#REF!=\"\",\"\",Data!#REF!)","v":{"$error":"#REF!"}},{"$f":"IF(Data!#REF!=\"\",\"\",Data!#REF!)","v":{"$error":"#REF!"}},{"$error":"#REF!"},{"$error":"#REF!"},{"$error":"#REF!"}]
[{"$f":"IF(Data!#REF!=\"\",\"\",Data!#REF!)","v":{"$error":"#REF!"}},{"$f":"IF(Data!#REF!=\"\",\"\",Data!#REF!)","v":{"$error":"#REF!"}},{"$f":"IF(Data!#REF!=\"\",\"\",Data!#REF!)","v":{"$error":"#REF!"}},{"$f":"IF(Data!#REF!=\"\",\"\",Data!#REF!)","v":{"$error":"#REF!"}},{"$f":"IF(Data!#REF!=\"\",\"\",Data!#REF!)","v":{"$error":"#REF!"}},{"$error":"#REF!"},{"$error":"#REF!"},{"$error":"#REF!"}]
[{"$f":"IF(Data!#REF!=\"\",\"\",Data!#REF!)","v":{"$error":"#REF!"}},{"$f":"IF(Data!#REF!=\"\",\"\",Data!#REF!)","v":{"$error":"#REF!"}},{"$f":"IF(Data!#REF!=\"\",\"\",Data!#REF!)","v":{"$error":"#REF!"}},{"$f":"IF(Data!#REF!=\"\",\"\",Data!#REF!)","v":{"$error":"#REF!"}},{"$f":"IF(Data!#REF!=\"\",\"\",Data!#REF!)","v":{"$error":"#REF!"}},{"$error":"#REF!"},{"$error":"#REF!"},{"$error":"#REF!"}]
[{"$f":"IF(Data!#REF!=\"\",\"\",Data!#REF!)","v":{"$error":"#REF!"}},{"$f":"IF(Data!#REF!=\"\",\"\",Data!#REF!)","v":{"$error":"#REF!"}},{"$f":"IF(Data!#REF!=\"\",\"\",Data!#REF!)","v":{"$error":"#REF!"}},{"$f":"IF(Data!#REF!=\"\",\"\",Data!#REF!)","v":{"$error":"#REF!"}},{"$f":"IF(Data!#REF!=\"\",\"\",Data!#REF!)","v":{"$error":"#REF!"}},{"$error":"#REF!"},{"$error":"#REF!"},{"$error":"#REF!"}]
[{"$f":"IF(Data!#REF!=\"\",\"\",Data!#REF!)","v":{"$error":"#REF!"}},{"$f":"IF(Data!#REF!=\"\",\"\",Data!#REF!)","v":{"$error":"#REF!"}},{"$f":"IF(Data!#REF!=\"\",\"\",Data!#REF!)","v":{"$error":"#REF!"}},{"$f":"IF(Data!#REF!=\"\",\"\",Data!#REF!)","v":{"$error":"#REF!"}},{"$f":"IF(Data!#REF!=\"\",\"\",Data!#REF!)","v":{"$error":"#REF!"}},{"$error":"#REF!"},{"$error":"#REF!"},{"$error":"#REF!"}]
[{"$f":"IF(Data!#REF!=\"\",\"\",Data!#REF!)","v":{"$error":"#REF!"}},{"$f":"IF(Data!#REF!=\"\",\"\",Data!#REF!)","v":{"$error":"#REF!"}},{"$f":"IF(Data!#REF!=\"\",\"\",Data!#REF!)","v":{"$error":"#REF!"}},{"$f":"IF(Data!#REF!=\"\",\"\",Data!#REF!)","v":{"$error":"#REF!"}},{"$f":"IF(Data!#REF!=\"\",\"\",Data!#REF!)","v":{"$error":"#REF!"}},{"$error":"#REF!"},{"$error":"#REF!"},{"$error":"#REF!"}]
[{"$f":"IF(Data!#REF!=\"\",\"\",Data!#REF!)","v":{"$error":"#REF!"}},{"$f":"IF(Data!#REF!=\"\",\"\",Data!#REF!)","v":{"$error":"#REF!"}},{"$f":"IF(Data!#REF!=\"\",\"\",Data!#REF!)","v":{"$error":"#REF!"}},{"$f":"IF(Data!#REF!=\"\",\"\",Data!#REF!)","v":{"$error":"#REF!"}},{"$f":"IF(Data!#REF!=\"\",\"\",Data!#REF!)","v":{"$error":"#REF!"}},{"$error":"#REF!"},{"$error":"#REF!"},{"$error":"#REF!"}]
[{"$f":"IF(Data!#REF!=\"\",\"\",Data!#REF!)","v":{"$error":"#REF!"}},{"$f":"IF(Data!#REF!=\"\",\"\",Data!#REF!)","v":{"$error":"#REF!"}},{"$f":"IF(Data!#REF!=\"\",\"\",Data!#REF!)","v":{"$error":"#REF!"}},{"$f":"IF(Data!#REF!=\"\",\"\",Data!#REF!)","v":{"$error":"#REF!"}},{"$f":"IF(Data!#REF!=\"\",\"\",Data!#REF!)","v":{"$error":"#REF!"}},{"$error":"#REF!"},{"$error":"#REF!"},{"$error":"#REF!"}]
[{"$f":"IF(Data!#REF!=\"\",\"\",Data!#REF!)","v":{"$error":"#REF!"}},{"$f":"IF(Data!#REF!=\"\",\"\",Data!#REF!)","v":{"$error":"#REF!"}},{"$f":"IF(Data!#REF!=\"\",\"\",Data!#REF!)","v":{"$error":"#REF!"}},{"$f":"IF(Data!#REF!=\"\",\"\",Data!#REF!)","v":{"$error":"#REF!"}},{"$f":"IF(Data!#REF!=\"\",\"\",Data!#REF!)","v":{"$error":"#REF!"}},{"$error":"#REF!"},{"$error":"#REF!"},{"$error":"#REF!"}]
[{"$f":"IF(Data!#REF!=\"\",\"\",Data!#REF!)","v":{"$error":"#REF!"}},{"$f":"IF(Data!#REF!=\"\",\"\",Data!#REF!)","v":{"$error":"#REF!"}},{"$f":"IF(Data!#REF!=\"\",\"\",Data!#REF!)","v":{"$error":"#REF!"}},{"$f":"IF(Data!#REF!=\"\",\"\",Data!#REF!)","v":{"$error":"#REF!"}},{"$f":"IF(Data!#REF!=\"\",\"\",Data!#REF!)","v":{"$error":"#REF!"}},{"$error":"#REF!"},{"$error":"#REF!"},{"$error":"#REF!"}]
[{"$f":"IF(Data!#REF!=\"\",\"\",Data!#REF!)","v":{"$error":"#REF!"}},{"$f":"IF(Data!#REF!=\"\",\"\",Data!#REF!)","v":{"$error":"#REF!"}},{"$f":"IF(Data!#REF!=\"\",\"\",Data!#REF!)","v":{"$error":"#REF!"}},{"$f":"IF(Data!#REF!=\"\",\"\",Data!#REF!)","v":{"$error":"#REF!"}},{"$f":"IF(Data!#REF!=\"\",\"\",Data!#REF!)","v":{"$error":"#REF!"}},{"$error":"#REF!"},{"$error":"#REF!"},{"$error":"#REF!"}]
[{"$f":"IF(Data!#REF!=\"\",\"\",Data!#REF!)","v":{"$error":"#REF!"}},{"$f":"IF(Data!#REF!=\"\",\"\",Data!#REF!)","v":{"$error":"#REF!"}},{"$f":"IF(Data!#REF!=\"\",\"\",Data!#REF!)","v":{"$error":"#REF!"}},{"$f":"IF(Data!#REF!=\"\",\"\",Data!#REF!)","v":{"$error":"#REF!"}},{"$f":"IF(Data!#REF!=\"\",\"\",Data!#REF!)","v":{"$error":"#REF!"}},{"$error":"#REF!"},{"$error":"#REF!"},{"$error":"#REF!"}]
[{"$f":"IF(Data!#REF!=\"\",\"\",Data!#REF!)","v":{"$error":"#REF!"}},{"$f":"IF(Data!#REF!=\"\",\"\",Data!#REF!)","v":{"$error":"#REF!"}},{"$f":"IF(Data!#REF!=\"\",\"\",Data!#REF!)","v":{"$error":"#REF!"}},{"$f":"IF(Data!#REF!=\"\",\"\",Data!#REF!)","v":{"$error":"#REF!"}},{"$f":"IF(Data!#REF!=\"\",\"\",Data!#REF!)","v":{"$error":"#REF!"}},{"$error":"#REF!"},{"$error":"#REF!"},{"$error":"#REF!"}]
[{"$f":"IF(Data!#REF!=\"\",\"\",Data!#REF!)","v":{"$error":"#REF!"}},{"$f":"IF(Data!#REF!=\"\",\"\",Data!#REF!)","v":{"$error":"#REF!"}},{"$f":"IF(Data!#REF!=\"\",\"\",Data!#REF!)","v":{"$error":"#REF!"}},{"$f":"IF(Data!#REF!=\"\",\"\",Data!#REF!)","v":{"$error":"#REF!"}},{"$f":"IF(Data!#REF!=\"\",\"\",Data!#REF!)","v":{"$error":"#REF!"}},{"$error":"#REF!"},{"$error":"#REF!"},{"$error":"#REF!"}]
[{"$f":"IF(Data!#REF!=\"\",\"\",Data!#REF!)","v":{"$error":"#REF!"}},{"$f":"IF(Data!#REF!=\"\",\"\",Data!#REF!)","v":{"$error":"#REF!"}},{"$f":"IF(Data!#REF!=\"\",\"\",Data!#REF!)","v":{"$error":"#REF!"}},{"$f":"IF(Data!#REF!=\"\",\"\",Data!#REF!)","v":{"$error":"#REF!"}},{"$f":"IF(Data!#REF!=\"\",\"\",Data!#REF!)","v":{"$error":"#REF!"}},{"$error":"#REF!"},{"$error":"#REF!"},{"$error":"#REF!"}]
[{"$f":"IF(Data!#REF!=\"\",\"\",Data!#REF!)","v":{"$error":"#REF!"}},{"$f":"IF(Data!#REF!=\"\",\"\",Data!#REF!)","v":{"$error":"#REF!"}},{"$f":"IF(Data!#REF!=\"\",\"\",Data!#REF!)","v":{"$error":"#REF!"}},{"$f":"IF(Data!#REF!=\"\",\"\",Data!#REF!)","v":{"$error":"#REF!"}},{"$f":"IF(Data!#REF!=\"\",\"\",Data!#REF!)","v":{"$error":"#REF!"}},{"$error":"#REF!"},{"$error":"#REF!"},{"$error":"#REF!"}]
[{"$f":"IF(Data!#REF!=\"\",\"\",Data!#REF!)","v":{"$error":"#REF!"}},{"$f":"IF(Data!#REF!=\"\",\"\",Data!#REF!)","v":{"$error":"#REF!"}},{"$f":"IF(Data!#REF!=\"\",\"\",Data!#REF!)","v":{"$error":"#REF!"}},{"$f":"IF(Data!#REF!=\"\",\"\",Data!#REF!)","v":{"$error":"#REF!"}},{"$f":"IF(Data!#REF!=\"\",\"\",Data!#REF!)","v":{"$error":"#REF!"}},{"$error":"#REF!"},{"$error":"#REF!"},{"$error":"#REF!"}]
[{"$f":"IF(Data!#REF!=\"\",\"\",Data!#REF!)","v":{"$error":"#REF!"}},{"$f":"IF(Data!#REF!=\"\",\"\",Data!#REF!)","v":{"$error":"#REF!"}},{"$f":"IF(Data!#REF!=\"\",\"\",Data!#REF!)","v":{"$error":"#REF!"}},{"$f":"IF(Data!#REF!=\"\",\"\",Data!#REF!)","v":{"$error":"#REF!"}},{"$f":"IF(Data!#REF!=\"\",\"\",Data!#REF!)","v":{"$error":"#REF!"}},{"$error":"#REF!"},{"$error":"#REF!"},{"$error":"#REF!"}]
[{"$f":"IF(Data!#REF!=\"\",\"\",Data!#REF!)","v":{"$error":"#REF!"}},{"$f":"IF(Data!#REF!=\"\",\"\",Data!#REF!)","v":{"$error":"#REF!"}},{"$f":"IF(Data!#REF!=\"\",\"\",Data!#REF!)","v":{"$error":"#REF!"}},{"$f":"IF(Data!#REF!=\"\",\"\",Data!#REF!)","v":{"$error":"#REF!"}},{"$f":"IF(Data!#REF!=\"\",\"\",Data!#REF!)","v":{"$error":"#REF!"}},{"$error":"#REF!"},{"$error":"#REF!"},{"$error":"#REF!"}]
[{"$f":"IF(Data!#REF!=\"\",\"\",Data!#REF!)","v":{"$error":"#REF!"}},{"$f":"IF(Data!#REF!=\"\",\"\",Data!#REF!)","v":{"$error":"#REF!"}},{"$f":"IF(Data!#REF!=\"\",\"\",Data!#REF!)","v":{"$error":"#REF!"}},{"$f":"IF(Data!#REF!=\"\",\"\",Data!#REF!)","v":{"$error":"#REF!"}},{"$f":"IF(Data!#REF!=\"\",\"\",Data!#REF!)","v":{"$error":"#REF!"}},{"$error":"#REF!"},{"$error":"#REF!"},{"$error":"#REF!"}]
[{"$f":"IF(Data!#REF!=\"\",\"\",Data!#REF!)","v":{"$error":"#REF!"}},{"$f":"IF(Data!#REF!=\"\",\"\",Data!#REF!)","v":{"$error":"#REF!"}},{"$f":"IF(Data!#REF!=\"\",\"\",Data!#REF!)","v":{"$error":"#REF!"}},{"$f":"IF(Data!#REF!=\"\",\"\",Data!#REF!)","v":{"$error":"#REF!"}},{"$f":"IF(Data!#REF!=\"\",\"\",Data!#REF!)","v":{"$error":"#REF!"}},{"$error":"#REF!"},{"$error":"#REF!"},{"$error":"#REF!"}]
[{"$f":"IF(Data!#REF!=\"\",\"\",Data!#REF!)","v":{"$error":"#REF!"}},{"$f":"IF(Data!#REF!=\"\",\"\",Data!#REF!)","v":{"$error":"#REF!"}},{"$f":"IF(Data!#REF!=\"\",\"\",Data!#REF!)","v":{"$error":"#REF!"}},{"$f":"IF(Data!#REF!=\"\",\"\",Data!#REF!)","v":{"$error":"#REF!"}},{"$f":"IF(Data!#REF!=\"\",\"\",Data!#REF!)","v":{"$error":"#REF!"}},{"$error":"#REF!"},{"$error":"#REF!"},{"$error":"#REF!"}]
[{"$f":"IF(Data!#REF!=\"\",\"\",Data!#REF!)","v":{"$error":"#REF!"}},{"$f":"IF(Data!#REF!=\"\",\"\",Data!#REF!)","v":{"$error":"#REF!"}},{"$f":"IF(Data!#REF!=\"\",\"\",Data!#REF!)","v":{"$error":"#REF!"}},{"$f":"IF(Data!#REF!=\"\",\"\",Data!#REF!)","v":{"$error":"#REF!"}},{"$f":"IF(Data!#REF!=\"\",\"\",Data!#REF!)","v":{"$error":"#REF!"}},{"$error":"#REF!"},{"$error":"#REF!"},{"$error":"#REF!"}]
[{"$f":"IF(Data!#REF!=\"\",\"\",Data!#REF!)","v":{"$error":"#REF!"}},{"$f":"IF(Data!#REF!=\"\",\"\",Data!#REF!)","v":{"$error":"#REF!"}},{"$f":"IF(Data!#REF!=\"\",\"\",Data!#REF!)","v":{"$error":"#REF!"}},{"$f":"IF(Data!#REF!=\"\",\"\",Data!#REF!)","v":{"$error":"#REF!"}},{"$f":"IF(Data!#REF!=\"\",\"\",Data!#REF!)","v":{"$error":"#REF!"}},{"$error":"#REF!"},{"$error":"#REF!"},{"$error":"#REF!"}]
[{"$f":"IF(Data!#REF!=\"\",\"\",Data!#REF!)","v":{"$error":"#REF!"}},{"$f":"IF(Data!#REF!=\"\",\"\",Data!#REF!)","v":{"$error":"#REF!"}},{"$f":"IF(Data!#REF!=\"\",\"\",Data!#REF!)","v":{"$error":"#REF!"}},{"$f":"IF(Data!#REF!=\"\",\"\",Data!#REF!)","v":{"$error":"#REF!"}},{"$f":"IF(Data!#REF!=\"\",\"\",Data!#REF!)","v":{"$error":"#REF!"}},{"$error":"#REF!"},{"$error":"#REF!"},{"$error":"#REF!"}]
[{"$f":"IF(Data!#REF!=\"\",\"\",Data!#REF!)","v":{"$error":"#REF!"}},{"$f":"IF(Data!#REF!=\"\",\"\",Data!#REF!)","v":{"$error":"#REF!"}},{"$f":"IF(Data!#REF!=\"\",\"\",Data!#REF!)","v":{"$error":"#REF!"}},{"$f":"IF(Data!#REF!=\"\",\"\",Data!#REF!)","v":{"$error":"#REF!"}},{"$f":"IF(Data!#REF!=\"\",\"\",Data!#REF!)","v":{"$error":"#REF!"}},{"$error":"#REF!"},{"$error":"#REF!"},{"$error":"#REF!"}]
[{"$f":"IF(Data!#REF!=\"\",\"\",Data!#REF!)","v":{"$error":"#REF!"}},{"$f":"IF(Data!#REF!=\"\",\"\",Data!#REF!)","v":{"$error":"#REF!"}},{"$f":"IF(Data!#REF!=\"\",\"\",Data!#REF!)","v":{"$error":"#REF!"}},{"$f":"IF(Data!#REF!=\"\",\"\",Data!#REF!)","v":{"$error":"#REF!"}},{"$f":"IF(Data!#REF!=\"\",\"\",Data!#REF!)","v":{"$error":"#REF!"}},{"$error":"#REF!"},{"$error":"#REF!"},{"$error":"#REF!"}]
[{"$f":"IF(Data!#REF!=\"\",\"\",Data!#REF!)","v":{"$error":"#REF!"}},{"$f":"IF(Data!#REF!=\"\",\"\",Data!#REF!)","v":{"$error":"#REF!"}},{"$f":"IF(Data!#REF!=\"\",\"\",Data!#REF!)","v":{"$error":"#REF!"}},{"$f":"IF(Data!#REF!=\"\",\"\",Data!#REF!)","v":{"$error":"#REF!"}},{"$f":"IF(Data!#REF!=\"\",\"\",Data!#REF!)","v":{"$error":"#REF!"}},{"$error":"#REF!"},{"$error":"#REF!"},{"$error":"#REF!"}]
[{"$f":"IF(Data!#REF!=\"\",\"\",Data!#REF!)","v":{"$error":"#REF!"}},{"$f":"IF(Data!#REF!=\"\",\"\",Data!#REF!)","v":{"$error":"#REF!"}},{"$f":"IF(Data!#REF!=\"\",\"\",Data!#REF!)","v":{"$error":"#REF!"}},{"$f":"IF(Data!#REF!=\"\",\"\",Data!#REF!)","v":{"$error":"#REF!"}},{"$f":"IF(Data!#REF!=\"\",\"\",Data!#REF!)","v":{"$error":"#REF!"}},{"$error":"#REF!"},{"$error":"#REF!"},{"$error":"#REF!"}]
[{"$f":"IF(Data!#REF!=\"\",\"\",Data!#REF!)","v":{"$error":"#REF!"}},{"$f":"IF(Data!#REF!=\"\",\"\",Data!#REF!)","v":{"$error":"#REF!"}},{"$f":"IF(Data!#REF!=\"\",\"\",Data!#REF!)","v":{"$error":"#REF!"}},{"$f":"IF(Data!#REF!=\"\",\"\",Data!#REF!)","v":{"$error":"#REF!"}},{"$f":"IF(Data!#REF!=\"\",\"\",Data!#REF!)","v":{"$error":"#REF!"}},{"$error":"#REF!"},{"$error":"#REF!"},{"$error":"#REF!"}]
[{"$f":"IF(Data!#REF!=\"\",\"\",Data!#REF!)","v":{"$error":"#REF!"}},{"$f":"IF(Data!#REF!=\"\",\"\",Data!#REF!)","v":{"$error":"#REF!"}},{"$f":"IF(Data!#REF!=\"\",\"\",Data!#REF!)","v":{"$error":"#REF!"}},{"$f":"IF(Data!#REF!=\"\",\"\",Data!#REF!)","v":{"$error":"#REF!"}},{"$f":"IF(Data!#REF!=\"\",\"\",Data!#REF!)","v":{"$error":"#REF!"}},{"$error":"#REF!"},{"$error":"#REF!"},{"$error":"#REF!"}]
[{"$f":"IF(Data!#REF!=\"\",\"\",Data!#REF!)","v":{"$error":"#REF!"}},{"$f":"IF(Data!#REF!=\"\",\"\",Data!#REF!)","v":{"$error":"#REF!"}},{"$f":"IF(Data!#REF!=\"\",\"\",Data!#REF!)","v":{"$error":"#REF!"}},{"$f":"IF(Data!#REF!=\"\",\"\",Data!#REF!)","v":{"$error":"#REF!"}},{"$f":"IF(Data!#REF!=\"\",\"\",Data!#REF!)","v":{"$error":"#REF!"}},{"$error":"#REF!"},{"$error":"#REF!"},{"$error":"#REF!"}]
[{"$f":"IF(Data!#REF!=\"\",\"\",Data!#REF!)","v":{"$error":"#REF!"}},{"$f":"IF(Data!#REF!=\"\",\"\",Data!#REF!)","v":{"$error":"#REF!"}},{"$f":"IF(Data!#REF!=\"\",\"\",Data!#REF!)","v":{"$error":"#REF!"}},{"$f":"IF(Data!#REF!=\"\",\"\",Data!#REF!)","v":{"$error":"#REF!"}},{"$f":"IF(Data!#REF!=\"\",\"\",Data!#REF!)","v":{"$error":"#REF!"}},{"$error":"#REF!"},{"$error":"#REF!"},{"$error":"#REF!"}]
[{"$f":"IF(Data!#REF!=\"\",\"\",Data!#REF!)","v":{"$error":"#REF!"}},{"$f":"IF(Data!#REF!=\"\",\"\",Data!#REF!)","v":{"$error":"#REF!"}},{"$f":"IF(Data!#REF!=\"\",\"\",Data!#REF!)","v":{"$error":"#REF!"}},{"$f":"IF(Data!#REF!=\"\",\"\",Data!#REF!)","v":{"$error":"#REF!"}},{"$f":"IF(Data!#REF!=\"\",\"\",Data!#REF!)","v":{"$error":"#REF!"}},{"$error":"#REF!"},{"$error":"#REF!"},{"$error":"#REF!"}]
[{"$f":"IF(Data!#REF!=\"\",\"\",Data!#REF!)","v":{"$error":"#REF!"}},{"$f":"IF(Data!#REF!=\"\",\"\",Data!#REF!)","v":{"$error":"#REF!"}},{"$f":"IF(Data!#REF!=\"\",\"\",Data!#REF!)","v":{"$error":"#REF!"}},{"$f":"IF(Data!#REF!=\"\",\"\",Data!#REF!)","v":{"$error":"#REF!"}},{"$f":"IF(Data!#REF!=\"\",\"\",Data!#REF!)","v":{"$error":"#REF!"}},{"$error":"#REF!"},{"$error":"#REF!"},{"$error":"#REF!"}]
[{"$f":"IF(Data!#REF!=\"\",\"\",Data!#REF!)","v":{"$error":"#REF!"}},{"$f":"IF(Data!#REF!=\"\",\"\",Data!#REF!)","v":{"$error":"#REF!"}},{"$f":"IF(Data!#REF!=\"\",\"\",Data!#REF!)","v":{"$error":"#REF!"}},{"$f":"IF(Data!#REF!=\"\",\"\",Data!#REF!)","v":{"$error":"#REF!"}},{"$f":"IF(Data!#REF!=\"\",\"\",Data!#REF!)","v":{"$error":"#REF!"}},{"$error":"#REF!"},{"$error":"#REF!"},{"$error":"#REF!"}]
[{"$f":"IF(Data!#REF!=\"\",\"\",Data!#REF!)","v":{"$error":"#REF!"}},{"$f":"IF(Data!#REF!=\"\",\"\",Data!#REF!)","v":{"$error":"#REF!"}},{"$f":"IF(Data!#REF!=\"\",\"\",Data!#REF!)","v":{"$error":"#REF!"}},{"$f":"IF(Data!#REF!=\"\",\"\",Data!#REF!)","v":{"$error":"#REF!"}},{"$f":"IF(Data!#REF!=\"\",\"\",Data!#REF!)","v":{"$error":"#REF!"}},{"$error":"#REF!"},{"$error":"#REF!"},{"$error":"#REF!"}]
[{"$f":"IF(Data!#REF!=\"\",\"\",Data!#REF!)","v":{"$error":"#REF!"}},{"$f":"IF(Data!#REF!=\"\",\"\",Data!#REF!)","v":{"$error":"#REF!"}},{"$f":"IF(Data!#REF!=\"\",\"\",Data!#REF!)","v":{"$error":"#REF!"}},{"$f":"IF(Data!#REF!=\"\",\"\",Data!#REF!)","v":{"$error":"#REF!"}},{"$f":"IF(Data!#REF!=\"\",\"\",Data!#REF!)","v":{"$error":"#REF!"}},{"$error":"#REF!"},{"$error":"#REF!"},{"$error":"#REF!"}]
[{"$f":"IF(Data!#REF!=\"\",\"\",Data!#REF!)","v":{"$error":"#REF!"}},{"$f":"IF(Data!#REF!=\"\",\"\",Data!#REF!)","v":{"$error":"#REF!"}},{"$f":"IF(Data!#REF!=\"\",\"\",Data!#REF!)","v":{"$error":"#REF!"}},{"$f":"IF(Data!#REF!=\"\",\"\",Data!#REF!)","v":{"$error":"#REF!"}},{"$f":"IF(Data!#REF!=\"\",\"\",Data!#REF!)","v":{"$error":"#REF!"}},{"$error":"#REF!"},{"$error":"#REF!"},{"$error":"#REF!"}]
[{"$f":"IF(Data!#REF!=\"\",\"\",Data!#REF!)","v":{"$error":"#REF!"}},{"$f":"IF(Data!#REF!=\"\",\"\",Data!#REF!)","v":{"$error":"#REF!"}},{"$f":"IF(Data!#REF!=\"\",\"\",Data!#REF!)","v":{"$error":"#REF!"}},{"$f":"IF(Data!#REF!=\"\",\"\",Data!#REF!)","v":{"$error":"#REF!"}},{"$f":"IF(Data!#REF!=\"\",\"\",Data!#REF!)","v":{"$error":"#REF!"}},{"$error":"#REF!"},{"$error":"#REF!"},{"$error":"#REF!"}]
[{"$f":"IF(Data!#REF!=\"\",\"\",Data!#REF!)","v":{"$error":"#REF!"}},{"$f":"IF(Data!#REF!=\"\",\"\",Data!#REF!)","v":{"$error":"#REF!"}},{"$f":"IF(Data!#REF!=\"\",\"\",Data!#REF!)","v":{"$error":"#REF!"}},{"$f":"IF(Data!#REF!=\"\",\"\",Data!#REF!)","v":{"$error":"#REF!"}},{"$f":"IF(Data!#REF!=\"\",\"\",Data!#REF!)","v":{"$error":"#REF!"}},{"$error":"#REF!"},{"$error":"#REF!"},{"$error":"#REF!"}]
[{"$f":"IF(Data!#REF!=\"\",\"\",Data!#REF!)","v":{"$error":"#REF!"}},{"$f":"IF(Data!#REF!=\"\",\"\",Data!#REF!)","v":{"$error":"#REF!"}},{"$f":"IF(Data!#REF!=\"\",\"\",Data!#REF!)","v":{"$error":"#REF!"}},{"$f":"IF(Data!#REF!=\"\",\"\",Data!#REF!)","v":{"$error":"#REF!"}},{"$f":"IF(Data!#REF!=\"\",\"\",Data!#REF!)","v":{"$error":"#REF!"}},{"$error":"#REF!"},{"$error":"#REF!"},{"$error":"#REF!"}]
[{"$f":"IF(Data!#REF!=\"\",\"\",Data!#REF!)","v":{"$error":"#REF!"}},{"$f":"IF(Data!#REF!=\"\",\"\",Data!#REF!)","v":{"$error":"#REF!"}},{"$f":"IF(Data!#REF!=\"\",\"\",Data!#REF!)","v":{"$error":"#REF!"}},{"$f":"IF(Data!#REF!=\"\",\"\",Data!#REF!)","v":{"$error":"#REF!"}},{"$f":"IF(Data!#REF!=\"\",\"\",Data!#REF!)","v":{"$error":"#REF!"}},{"$f":"IF(E1923>0,MONTH(E1923),\"\")","v":{"$error":"#REF!"}},{"$f":"IF(E1923>0,WEEKNUM(E1923),\"0\")","v":{"$error":"#REF!"}},{"$f":"IF(G1923>=($G$2-3),\"Ano\",\"Nie\")","v":{"$error":"#REF!"}}]
[{"$f":"IF(Data!#REF!=\"\",\"\",Data!#REF!)","v":{"$error":"#REF!"}},{"$f":"IF(Data!#REF!=\"\",\"\",Data!#REF!)","v":{"$error":"#REF!"}},{"$f":"IF(Data!#REF!=\"\",\"\",Data!#REF!)","v":{"$error":"#REF!"}},{"$f":"IF(Data!#REF!=\"\",\"\",Data!#REF!)","v":{"$error":"#REF!"}},{"$f":"IF(Data!#REF!=\"\",\"\",Data!#REF!)","v":{"$error":"#REF!"}},{"$error":"#REF!"},{"$error":"#REF!"},{"$error":"#REF!"}]
[{"$f":"IF(Data!#REF!=\"\",\"\",Data!#REF!)","v":{"$error":"#REF!"}},{"$f":"IF(Data!#REF!=\"\",\"\",Data!#REF!)","v":{"$error":"#REF!"}},{"$f":"IF(Data!#REF!=\"\",\"\",Data!#REF!)","v":{"$error":"#REF!"}},{"$f":"IF(Data!#REF!=\"\",\"\",Data!#REF!)","v":{"$error":"#REF!"}},{"$f":"IF(Data!#REF!=\"\",\"\",Data!#REF!)","v":{"$error":"#REF!"}},{"$error":"#REF!"},{"$error":"#REF!"},{"$error":"#REF!"}]
[{"$f":"IF(Data!#REF!=\"\",\"\",Data!#REF!)","v":{"$error":"#REF!"}},{"$f":"IF(Data!#REF!=\"\",\"\",Data!#REF!)","v":{"$error":"#REF!"}},{"$f":"IF(Data!#REF!=\"\",\"\",Data!#REF!)","v":{"$error":"#REF!"}},{"$f":"IF(Data!#REF!=\"\",\"\",Data!#REF!)","v":{"$error":"#REF!"}},{"$f":"IF(Data!#REF!=\"\",\"\",Data!#REF!)","v":{"$error":"#REF!"}},{"$error":"#REF!"},{"$error":"#REF!"},{"$error":"#REF!"}]
[{"$f":"IF(Data!#REF!=\"\",\"\",Data!#REF!)","v":{"$error":"#REF!"}},{"$f":"IF(Data!#REF!=\"\",\"\",Data!#REF!)","v":{"$error":"#REF!"}},{"$f":"IF(Data!#REF!=\"\",\"\",Data!#REF!)","v":{"$error":"#REF!"}},{"$f":"IF(Data!#REF!=\"\",\"\",Data!#REF!)","v":{"$error":"#REF!"}},{"$f":"IF(Data!#REF!=\"\",\"\",Data!#REF!)","v":{"$error":"#REF!"}},{"$error":"#REF!"},{"$error":"#REF!"},{"$error":"#REF!"}]
[{"$f":"IF(Data!#REF!=\"\",\"\",Data!#REF!)","v":{"$error":"#REF!"}},{"$f":"IF(Data!#REF!=\"\",\"\",Data!#REF!)","v":{"$error":"#REF!"}},{"$f":"IF(Data!#REF!=\"\",\"\",Data!#REF!)","v":{"$error":"#REF!"}},{"$f":"IF(Data!#REF!=\"\",\"\",Data!#REF!)","v":{"$error":"#REF!"}},{"$f":"IF(Data!#REF!=\"\",\"\",Data!#REF!)","v":{"$error":"#REF!"}},{"$error":"#REF!"},{"$error":"#REF!"},{"$error":"#REF!"}]
[{"$f":"IF(Data!#REF!=\"\",\"\",Data!#REF!)","v":{"$error":"#REF!"}},{"$f":"IF(Data!#REF!=\"\",\"\",Data!#REF!)","v":{"$error":"#REF!"}},{"$f":"IF(Data!#REF!=\"\",\"\",Data!#REF!)","v":{"$error":"#REF!"}},{"$f":"IF(Data!#REF!=\"\",\"\",Data!#REF!)","v":{"$error":"#REF!"}},{"$f":"IF(Data!#REF!=\"\",\"\",Data!#REF!)","v":{"$error":"#REF!"}},{"$error":"#REF!"},{"$error":"#REF!"},{"$error":"#REF!"}]
[{"$f":"IF(Data!#REF!=\"\",\"\",Data!#REF!)","v":{"$error":"#REF!"}},{"$f":"IF(Data!#REF!=\"\",\"\",Data!#REF!)","v":{"$error":"#REF!"}},{"$f":"IF(Data!#REF!=\"\",\"\",Data!#REF!)","v":{"$error":"#REF!"}},{"$f":"IF(Data!#REF!=\"\",\"\",Data!#REF!)","v":{"$error":"#REF!"}},{"$f":"IF(Data!#REF!=\"\",\"\",Data!#REF!)","v":{"$error":"#REF!"}},{"$error":"#REF!"},{"$error":"#REF!"},{"$error":"#REF!"}]
[{"$f":"IF(Data!#REF!=\"\",\"\",Data!#REF!)","v":{"$error":"#REF!"}},{"$f":"IF(Data!#REF!=\"\",\"\",Data!#REF!)","v":{"$error":"#REF!"}},{"$f":"IF(Data!#REF!=\"\",\"\",Data!#REF!)","v":{"$error":"#REF!"}},{"$f":"IF(Data!#REF!=\"\",\"\",Data!#REF!)","v":{"$error":"#REF!"}},{"$f":"IF(Data!#REF!=\"\",\"\",Data!#REF!)","v":{"$error":"#REF!"}},{"$error":"#REF!"},{"$error":"#REF!"},{"$error":"#REF!"}]
[{"$f":"IF(Data!#REF!=\"\",\"\",Data!#REF!)","v":{"$error":"#REF!"}},{"$f":"IF(Data!#REF!=\"\",\"\",Data!#REF!)","v":{"$error":"#REF!"}},{"$f":"IF(Data!#REF!=\"\",\"\",Data!#REF!)","v":{"$error":"#REF!"}},{"$f":"IF(Data!#REF!=\"\",\"\",Data!#REF!)","v":{"$error":"#REF!"}},{"$f":"IF(Data!#REF!=\"\",\"\",Data!#REF!)","v":{"$error":"#REF!"}},{"$error":"#REF!"},{"$error":"#REF!"},{"$error":"#REF!"}]
[{"$f":"IF(Data!#REF!=\"\",\"\",Data!#REF!)","v":{"$error":"#REF!"}},{"$f":"IF(Data!#REF!=\"\",\"\",Data!#REF!)","v":{"$error":"#REF!"}},{"$f":"IF(Data!#REF!=\"\",\"\",Data!#REF!)","v":{"$error":"#REF!"}},{"$f":"IF(Data!#REF!=\"\",\"\",Data!#REF!)","v":{"$error":"#REF!"}},{"$f":"IF(Data!#REF!=\"\",\"\",Data!#REF!)","v":{"$error":"#REF!"}},{"$error":"#REF!"},{"$error":"#REF!"},{"$error":"#REF!"}]
[{"$f":"IF(Data!#REF!=\"\",\"\",Data!#REF!)","v":{"$error":"#REF!"}},{"$f":"IF(Data!#REF!=\"\",\"\",Data!#REF!)","v":{"$error":"#REF!"}},{"$f":"IF(Data!#REF!=\"\",\"\",Data!#REF!)","v":{"$error":"#REF!"}},{"$f":"IF(Data!#REF!=\"\",\"\",Data!#REF!)","v":{"$error":"#REF!"}},{"$f":"IF(Data!#REF!=\"\",\"\",Data!#REF!)","v":{"$error":"#REF!"}},{"$error":"#REF!"},{"$error":"#REF!"},{"$error":"#REF!"}]
[{"$f":"IF(Data!#REF!=\"\",\"\",Data!#REF!)","v":{"$error":"#REF!"}},{"$f":"IF(Data!#REF!=\"\",\"\",Data!#REF!)","v":{"$error":"#REF!"}},{"$f":"IF(Data!#REF!=\"\",\"\",Data!#REF!)","v":{"$error":"#REF!"}},{"$f":"IF(Data!#REF!=\"\",\"\",Data!#REF!)","v":{"$error":"#REF!"}},{"$f":"IF(Data!#REF!=\"\",\"\",Data!#REF!)","v":{"$error":"#REF!"}},{"$error":"#REF!"},{"$error":"#REF!"},{"$error":"#REF!"}]
[{"$f":"IF(Data!#REF!=\"\",\"\",Data!#REF!)","v":{"$error":"#REF!"}},{"$f":"IF(Data!#REF!=\"\",\"\",Data!#REF!)","v":{"$error":"#REF!"}},{"$f":"IF(Data!#REF!=\"\",\"\",Data!#REF!)","v":{"$error":"#REF!"}},{"$f":"IF(Data!#REF!=\"\",\"\",Data!#REF!)","v":{"$error":"#REF!"}},{"$f":"IF(Data!#REF!=\"\",\"\",Data!#REF!)","v":{"$error":"#REF!"}},{"$error":"#REF!"},{"$error":"#REF!"},{"$error":"#REF!"}]
[{"$f":"IF(Data!#REF!=\"\",\"\",Data!#REF!)","v":{"$error":"#REF!"}},{"$f":"IF(Data!#REF!=\"\",\"\",Data!#REF!)","v":{"$error":"#REF!"}},{"$f":"IF(Data!#REF!=\"\",\"\",Data!#REF!)","v":{"$error":"#REF!"}},{"$f":"IF(Data!#REF!=\"\",\"\",Data!#REF!)","v":{"$error":"#REF!"}},{"$f":"IF(Data!#REF!=\"\",\"\",Data!#REF!)","v":{"$error":"#REF!"}},{"$error":"#REF!"},{"$error":"#REF!"},{"$error":"#REF!"}]
[{"$f":"IF(Data!#REF!=\"\",\"\",Data!#REF!)","v":{"$error":"#REF!"}},{"$f":"IF(Data!#REF!=\"\",\"\",Data!#REF!)","v":{"$error":"#REF!"}},{"$f":"IF(Data!#REF!=\"\",\"\",Data!#REF!)","v":{"$error":"#REF!"}},{"$f":"IF(Data!#REF!=\"\",\"\",Data!#REF!)","v":{"$error":"#REF!"}},{"$f":"IF(Data!#REF!=\"\",\"\",Data!#REF!)","v":{"$error":"#REF!"}},{"$error":"#REF!"},{"$error":"#REF!"},{"$error":"#REF!"}]
[{"$f":"IF(Data!#REF!=\"\",\"\",Data!#REF!)","v":{"$error":"#REF!"}},{"$f":"IF(Data!#REF!=\"\",\"\",Data!#REF!)","v":{"$error":"#REF!"}},{"$f":"IF(Data!#REF!=\"\",\"\",Data!#REF!)","v":{"$error":"#REF!"}},{"$f":"IF(Data!#REF!=\"\",\"\",Data!#REF!)","v":{"$error":"#REF!"}},{"$f":"IF(Data!#REF!=\"\",\"\",Data!#REF!)","v":{"$error":"#REF!"}},{"$error":"#REF!"},{"$error":"#REF!"},{"$error":"#REF!"}]
[{"$f":"IF(Data!#REF!=\"\",\"\",Data!#REF!)","v":{"$error":"#REF!"}},{"$f":"IF(Data!#REF!=\"\",\"\",Data!#REF!)","v":{"$error":"#REF!"}},{"$f":"IF(Data!#REF!=\"\",\"\",Data!#REF!)","v":{"$error":"#REF!"}},{"$f":"IF(Data!#REF!=\"\",\"\",Data!#REF!)","v":{"$error":"#REF!"}},{"$f":"IF(Data!#REF!=\"\",\"\",Data!#REF!)","v":{"$error":"#REF!"}},{"$error":"#REF!"},{"$error":"#REF!"},{"$error":"#REF!"}]
[{"$f":"IF(Data!#REF!=\"\",\"\",Data!#REF!)","v":{"$error":"#REF!"}},{"$f":"IF(Data!#REF!=\"\",\"\",Data!#REF!)","v":{"$error":"#REF!"}},{"$f":"IF(Data!#REF!=\"\",\"\",Data!#REF!)","v":{"$error":"#REF!"}},{"$f":"IF(Data!#REF!=\"\",\"\",Data!#REF!)","v":{"$error":"#REF!"}},{"$f":"IF(Data!#REF!=\"\",\"\",Data!#REF!)","v":{"$error":"#REF!"}},{"$error":"#REF!"},{"$error":"#REF!"},{"$error":"#REF!"}]
[{"$f":"IF(Data!#REF!=\"\",\"\",Data!#REF!)","v":{"$error":"#REF!"}},{"$f":"IF(Data!#REF!=\"\",\"\",Data!#REF!)","v":{"$error":"#REF!"}},{"$f":"IF(Data!#REF!=\"\",\"\",Data!#REF!)","v":{"$error":"#REF!"}},{"$f":"IF(Data!#REF!=\"\",\"\",Data!#REF!)","v":{"$error":"#REF!"}},{"$f":"IF(Data!#REF!=\"\",\"\",Data!#REF!)","v":{"$error":"#REF!"}},{"$error":"#REF!"},{"$error":"#REF!"},{"$error":"#REF!"}]
[{"$f":"IF(Data!#REF!=\"\",\"\",Data!#REF!)","v":{"$error":"#REF!"}},{"$f":"IF(Data!#REF!=\"\",\"\",Data!#REF!)","v":{"$error":"#REF!"}},{"$f":"IF(Data!#REF!=\"\",\"\",Data!#REF!)","v":{"$error":"#REF!"}},{"$f":"IF(Data!#REF!=\"\",\"\",Data!#REF!)","v":{"$error":"#REF!"}},{"$f":"IF(Data!#REF!=\"\",\"\",Data!#REF!)","v":{"$error":"#REF!"}},{"$error":"#REF!"},{"$error":"#REF!"},{"$error":"#REF!"}]
[{"$f":"IF(Data!#REF!=\"\",\"\",Data!#REF!)","v":{"$error":"#REF!"}},{"$f":"IF(Data!#REF!=\"\",\"\",Data!#REF!)","v":{"$error":"#REF!"}},{"$f":"IF(Data!#REF!=\"\",\"\",Data!#REF!)","v":{"$error":"#REF!"}},{"$f":"IF(Data!#REF!=\"\",\"\",Data!#REF!)","v":{"$error":"#REF!"}},{"$f":"IF(Data!#REF!=\"\",\"\",Data!#REF!)","v":{"$error":"#REF!"}},{"$error":"#REF!"},{"$error":"#REF!"},{"$error":"#REF!"}]
[{"$f":"IF(Data!#REF!=\"\",\"\",Data!#REF!)","v":{"$error":"#REF!"}},{"$f":"IF(Data!#REF!=\"\",\"\",Data!#REF!)","v":{"$error":"#REF!"}},{"$f":"IF(Data!#REF!=\"\",\"\",Data!#REF!)","v":{"$error":"#REF!"}},{"$f":"IF(Data!#REF!=\"\",\"\",Data!#REF!)","v":{"$error":"#REF!"}},{"$f":"IF(Data!#REF!=\"\",\"\",Data!#REF!)","v":{"$error":"#REF!"}},{"$error":"#REF!"},{"$error":"#REF!"},{"$error":"#REF!"}]
[{"$f":"IF(Data!#REF!=\"\",\"\",Data!#REF!)","v":{"$error":"#REF!"}},{"$f":"IF(Data!#REF!=\"\",\"\",Data!#REF!)","v":{"$error":"#REF!"}},{"$f":"IF(Data!#REF!=\"\",\"\",Data!#REF!)","v":{"$error":"#REF!"}},{"$f":"IF(Data!#REF!=\"\",\"\",Data!#REF!)","v":{"$error":"#REF!"}},{"$f":"IF(Data!#REF!=\"\",\"\",Data!#REF!)","v":{"$error":"#REF!"}},{"$error":"#REF!"},{"$error":"#REF!"},{"$error":"#REF!"}]
[{"$f":"IF(Data!#REF!=\"\",\"\",Data!#REF!)","v":{"$error":"#REF!"}},{"$f":"IF(Data!#REF!=\"\",\"\",Data!#REF!)","v":{"$error":"#REF!"}},{"$f":"IF(Data!#REF!=\"\",\"\",Data!#REF!)","v":{"$error":"#REF!"}},{"$f":"IF(Data!#REF!=\"\",\"\",Data!#REF!)","v":{"$error":"#REF!"}},{"$f":"IF(Data!#REF!=\"\",\"\",Data!#REF!)","v":{"$error":"#REF!"}},{"$error":"#REF!"},{"$error":"#REF!"},{"$error":"#REF!"}]
[{"$f":"IF(Data!#REF!=\"\",\"\",Data!#REF!)","v":{"$error":"#REF!"}},{"$f":"IF(Data!#REF!=\"\",\"\",Data!#REF!)","v":{"$error":"#REF!"}},{"$f":"IF(Data!#REF!=\"\",\"\",Data!#REF!)","v":{"$error":"#REF!"}},{"$f":"IF(Data!#REF!=\"\",\"\",Data!#REF!)","v":{"$error":"#REF!"}},{"$f":"IF(Data!#REF!=\"\",\"\",Data!#REF!)","v":{"$error":"#REF!"}},{"$error":"#REF!"},{"$error":"#REF!"},{"$error":"#REF!"}]
[{"$f":"IF(Data!#REF!=\"\",\"\",Data!#REF!)","v":{"$error":"#REF!"}},{"$f":"IF(Data!#REF!=\"\",\"\",Data!#REF!)","v":{"$error":"#REF!"}},{"$f":"IF(Data!#REF!=\"\",\"\",Data!#REF!)","v":{"$error":"#REF!"}},{"$f":"IF(Data!#REF!=\"\",\"\",Data!#REF!)","v":{"$error":"#REF!"}},{"$f":"IF(Data!#REF!=\"\",\"\",Data!#REF!)","v":{"$error":"#REF!"}},{"$error":"#REF!"},{"$error":"#REF!"},{"$error":"#REF!"}]
[{"$f":"IF(Data!#REF!=\"\",\"\",Data!#REF!)","v":{"$error":"#REF!"}},{"$f":"IF(Data!#REF!=\"\",\"\",Data!#REF!)","v":{"$error":"#REF!"}},{"$f":"IF(Data!#REF!=\"\",\"\",Data!#REF!)","v":{"$error":"#REF!"}},{"$f":"IF(Data!#REF!=\"\",\"\",Data!#REF!)","v":{"$error":"#REF!"}},{"$f":"IF(Data!#REF!=\"\",\"\",Data!#REF!)","v":{"$error":"#REF!"}},{"$error":"#REF!"},{"$error":"#REF!"},{"$error":"#REF!"}]
[{"$f":"IF(Data!#REF!=\"\",\"\",Data!#REF!)","v":{"$error":"#REF!"}},{"$f":"IF(Data!#REF!=\"\",\"\",Data!#REF!)","v":{"$error":"#REF!"}},{"$f":"IF(Data!#REF!=\"\",\"\",Data!#REF!)","v":{"$error":"#REF!"}},{"$f":"IF(Data!#REF!=\"\",\"\",Data!#REF!)","v":{"$error":"#REF!"}},{"$f":"IF(Data!#REF!=\"\",\"\",Data!#REF!)","v":{"$error":"#REF!"}},{"$error":"#REF!"},{"$error":"#REF!"},{"$error":"#REF!"}]
[{"$f":"IF(Data!#REF!=\"\",\"\",Data!#REF!)","v":{"$error":"#REF!"}},{"$f":"IF(Data!#REF!=\"\",\"\",Data!#REF!)","v":{"$error":"#REF!"}},{"$f":"IF(Data!#REF!=\"\",\"\",Data!#REF!)","v":{"$error":"#REF!"}},{"$f":"IF(Data!#REF!=\"\",\"\",Data!#REF!)","v":{"$error":"#REF!"}},{"$f":"IF(Data!#REF!=\"\",\"\",Data!#REF!)","v":{"$error":"#REF!"}},{"$error":"#REF!"},{"$error":"#REF!"},{"$error":"#REF!"}]
[{"$f":"IF(Data!#REF!=\"\",\"\",Data!#REF!)","v":{"$error":"#REF!"}},{"$f":"IF(Data!#REF!=\"\",\"\",Data!#REF!)","v":{"$error":"#REF!"}},{"$f":"IF(Data!#REF!=\"\",\"\",Data!#REF!)","v":{"$error":"#REF!"}},{"$f":"IF(Data!#REF!=\"\",\"\",Data!#REF!)","v":{"$error":"#REF!"}},{"$f":"IF(Data!#REF!=\"\",\"\",Data!#REF!)","v":{"$error":"#REF!"}},{"$error":"#REF!"},{"$error":"#REF!"},{"$error":"#REF!"}]
[{"$f":"IF(Data!#REF!=\"\",\"\",Data!#REF!)","v":{"$error":"#REF!"}},{"$f":"IF(Data!#REF!=\"\",\"\",Data!#REF!)","v":{"$error":"#REF!"}},{"$f":"IF(Data!#REF!=\"\",\"\",Data!#REF!)","v":{"$error":"#REF!"}},{"$f":"IF(Data!#REF!=\"\",\"\",Data!#REF!)","v":{"$error":"#REF!"}},{"$f":"IF(Data!#REF!=\"\",\"\",Data!#REF!)","v":{"$error":"#REF!"}},{"$error":"#REF!"},{"$error":"#REF!"},{"$error":"#REF!"}]
[{"$f":"IF(Data!#REF!=\"\",\"\",Data!#REF!)","v":{"$error":"#REF!"}},{"$f":"IF(Data!#REF!=\"\",\"\",Data!#REF!)","v":{"$error":"#REF!"}},{"$f":"IF(Data!#REF!=\"\",\"\",Data!#REF!)","v":{"$error":"#REF!"}},{"$f":"IF(Data!#REF!=\"\",\"\",Data!#REF!)","v":{"$error":"#REF!"}},{"$f":"IF(Data!#REF!=\"\",\"\",Data!#REF!)","v":{"$error":"#REF!"}},{"$error":"#REF!"},{"$error":"#REF!"},{"$error":"#REF!"}]
[{"$f":"IF(Data!#REF!=\"\",\"\",Data!#REF!)","v":{"$error":"#REF!"}},{"$f":"IF(Data!#REF!=\"\",\"\",Data!#REF!)","v":{"$error":"#REF!"}},{"$f":"IF(Data!#REF!=\"\",\"\",Data!#REF!)","v":{"$error":"#REF!"}},{"$f":"IF(Data!#REF!=\"\",\"\",Data!#REF!)","v":{"$error":"#REF!"}},{"$f":"IF(Data!#REF!=\"\",\"\",Data!#REF!)","v":{"$error":"#REF!"}},{"$error":"#REF!"},{"$error":"#REF!"},{"$error":"#REF!"}]
[{"$f":"IF(Data!#REF!=\"\",\"\",Data!#REF!)","v":{"$error":"#REF!"}},{"$f":"IF(Data!#REF!=\"\",\"\",Data!#REF!)","v":{"$error":"#REF!"}},{"$f":"IF(Data!#REF!=\"\",\"\",Data!#REF!)","v":{"$error":"#REF!"}},{"$f":"IF(Data!#REF!=\"\",\"\",Data!#REF!)","v":{"$error":"#REF!"}},{"$f":"IF(Data!#REF!=\"\",\"\",Data!#REF!)","v":{"$error":"#REF!"}},{"$error":"#REF!"},{"$error":"#REF!"},{"$error":"#REF!"}]
[{"$f":"IF(Data!#REF!=\"\",\"\",Data!#REF!)","v":{"$error":"#REF!"}},{"$f":"IF(Data!#REF!=\"\",\"\",Data!#REF!)","v":{"$error":"#REF!"}},{"$f":"IF(Data!#REF!=\"\",\"\",Data!#REF!)","v":{"$error":"#REF!"}},{"$f":"IF(Data!#REF!=\"\",\"\",Data!#REF!)","v":{"$error":"#REF!"}},{"$f":"IF(Data!#REF!=\"\",\"\",Data!#REF!)","v":{"$error":"#REF!"}},{"$error":"#REF!"},{"$error":"#REF!"},{"$error":"#REF!"}]
[{"$f":"IF(Data!#REF!=\"\",\"\",Data!#REF!)","v":{"$error":"#REF!"}},{"$f":"IF(Data!#REF!=\"\",\"\",Data!#REF!)","v":{"$error":"#REF!"}},{"$f":"IF(Data!#REF!=\"\",\"\",Data!#REF!)","v":{"$error":"#REF!"}},{"$f":"IF(Data!#REF!=\"\",\"\",Data!#REF!)","v":{"$error":"#REF!"}},{"$f":"IF(Data!#REF!=\"\",\"\",Data!#REF!)","v":{"$error":"#REF!"}},{"$error":"#REF!"},{"$error":"#REF!"},{"$error":"#REF!"}]
[{"$f":"IF(Data!#REF!=\"\",\"\",Data!#REF!)","v":{"$error":"#REF!"}},{"$f":"IF(Data!#REF!=\"\",\"\",Data!#REF!)","v":{"$error":"#REF!"}},{"$f":"IF(Data!#REF!=\"\",\"\",Data!#REF!)","v":{"$error":"#REF!"}},{"$f":"IF(Data!#REF!=\"\",\"\",Data!#REF!)","v":{"$error":"#REF!"}},{"$f":"IF(Data!#REF!=\"\",\"\",Data!#REF!)","v":{"$error":"#REF!"}},{"$error":"#REF!"},{"$error":"#REF!"},{"$error":"#REF!"}]
[{"$f":"IF(Data!#REF!=\"\",\"\",Data!#REF!)","v":{"$error":"#REF!"}},{"$f":"IF(Data!#REF!=\"\",\"\",Data!#REF!)","v":{"$error":"#REF!"}},{"$f":"IF(Data!#REF!=\"\",\"\",Data!#REF!)","v":{"$error":"#REF!"}},{"$f":"IF(Data!#REF!=\"\",\"\",Data!#REF!)","v":{"$error":"#REF!"}},{"$f":"IF(Data!#REF!=\"\",\"\",Data!#REF!)","v":{"$error":"#REF!"}},{"$error":"#REF!"},{"$error":"#REF!"},{"$error":"#REF!"}]
[{"$f":"IF(Data!#REF!=\"\",\"\",Data!#REF!)","v":{"$error":"#REF!"}},{"$f":"IF(Data!#REF!=\"\",\"\",Data!#REF!)","v":{"$error":"#REF!"}},{"$f":"IF(Data!#REF!=\"\",\"\",Data!#REF!)","v":{"$error":"#REF!"}},{"$f":"IF(Data!#REF!=\"\",\"\",Data!#REF!)","v":{"$error":"#REF!"}},{"$f":"IF(Data!#REF!=\"\",\"\",Data!#REF!)","v":{"$error":"#REF!"}},{"$error":"#REF!"},{"$error":"#REF!"},{"$error":"#REF!"}]
[{"$f":"IF(Data!#REF!=\"\",\"\",Data!#REF!)","v":{"$error":"#REF!"}},{"$f":"IF(Data!#REF!=\"\",\"\",Data!#REF!)","v":{"$error":"#REF!"}},{"$f":"IF(Data!#REF!=\"\",\"\",Data!#REF!)","v":{"$error":"#REF!"}},{"$f":"IF(Data!#REF!=\"\",\"\",Data!#REF!)","v":{"$error":"#REF!"}},{"$f":"IF(Data!#REF!=\"\",\"\",Data!#REF!)","v":{"$error":"#REF!"}},{"$error":"#REF!"},{"$error":"#REF!"},{"$error":"#REF!"}]
[{"$f":"IF(Data!#REF!=\"\",\"\",Data!#REF!)","v":{"$error":"#REF!"}},{"$f":"IF(Data!#REF!=\"\",\"\",Data!#REF!)","v":{"$error":"#REF!"}},{"$f":"IF(Data!#REF!=\"\",\"\",Data!#REF!)","v":{"$error":"#REF!"}},{"$f":"IF(Data!#REF!=\"\",\"\",Data!#REF!)","v":{"$error":"#REF!"}},{"$f":"IF(Data!#REF!=\"\",\"\",Data!#REF!)","v":{"$error":"#REF!"}},{"$error":"#REF!"},{"$error":"#REF!"},{"$error":"#REF!"}]
[{"$f":"IF(Data!#REF!=\"\",\"\",Data!#REF!)","v":{"$error":"#REF!"}},{"$f":"IF(Data!#REF!=\"\",\"\",Data!#REF!)","v":{"$error":"#REF!"}},{"$f":"IF(Data!#REF!=\"\",\"\",Data!#REF!)","v":{"$error":"#REF!"}},{"$f":"IF(Data!#REF!=\"\",\"\",Data!#REF!)","v":{"$error":"#REF!"}},{"$f":"IF(Data!#REF!=\"\",\"\",Data!#REF!)","v":{"$error":"#REF!"}},{"$error":"#REF!"},{"$error":"#REF!"},{"$error":"#REF!"}]
[{"$f":"IF(Data!#REF!=\"\",\"\",Data!#REF!)","v":{"$error":"#REF!"}},{"$f":"IF(Data!#REF!=\"\",\"\",Data!#REF!)","v":{"$error":"#REF!"}},{"$f":"IF(Data!#REF!=\"\",\"\",Data!#REF!)","v":{"$error":"#REF!"}},{"$f":"IF(Data!#REF!=\"\",\"\",Data!#REF!)","v":{"$error":"#REF!"}},{"$f":"IF(Data!#REF!=\"\",\"\",Data!#REF!)","v":{"$error":"#REF!"}},{"$error":"#REF!"},{"$error":"#REF!"},{"$error":"#REF!"}]
[{"$f":"IF(Data!#REF!=\"\",\"\",Data!#REF!)","v":{"$error":"#REF!"}},{"$f":"IF(Data!#REF!=\"\",\"\",Data!#REF!)","v":{"$error":"#REF!"}},{"$f":"IF(Data!#REF!=\"\",\"\",Data!#REF!)","v":{"$error":"#REF!"}},{"$f":"IF(Data!#REF!=\"\",\"\",Data!#REF!)","v":{"$error":"#REF!"}},{"$f":"IF(Data!#REF!=\"\",\"\",Data!#REF!)","v":{"$error":"#REF!"}},{"$error":"#REF!"},{"$error":"#REF!"},{"$error":"#REF!"}]
[{"$f":"IF(Data!#REF!=\"\",\"\",Data!#REF!)","v":{"$error":"#REF!"}},{"$f":"IF(Data!#REF!=\"\",\"\",Data!#REF!)","v":{"$error":"#REF!"}},{"$f":"IF(Data!#REF!=\"\",\"\",Data!#REF!)","v":{"$error":"#REF!"}},{"$f":"IF(Data!#REF!=\"\",\"\",Data!#REF!)","v":{"$error":"#REF!"}},{"$f":"IF(Data!#REF!=\"\",\"\",Data!#REF!)","v":{"$error":"#REF!"}},{"$error":"#REF!"},{"$error":"#REF!"},{"$error":"#REF!"}]
[{"$f":"IF(Data!#REF!=\"\",\"\",Data!#REF!)","v":{"$error":"#REF!"}},{"$f":"IF(Data!#REF!=\"\",\"\",Data!#REF!)","v":{"$error":"#REF!"}},{"$f":"IF(Data!#REF!=\"\",\"\",Data!#REF!)","v":{"$error":"#REF!"}},{"$f":"IF(Data!#REF!=\"\",\"\",Data!#REF!)","v":{"$error":"#REF!"}},{"$f":"IF(Data!#REF!=\"\",\"\",Data!#REF!)","v":{"$error":"#REF!"}},{"$error":"#REF!"},{"$error":"#REF!"},{"$error":"#REF!"}]
[{"$f":"IF(Data!#REF!=\"\",\"\",Data!#REF!)","v":{"$error":"#REF!"}},{"$f":"IF(Data!#REF!=\"\",\"\",Data!#REF!)","v":{"$error":"#REF!"}},{"$f":"IF(Data!#REF!=\"\",\"\",Data!#REF!)","v":{"$error":"#REF!"}},{"$f":"IF(Data!#REF!=\"\",\"\",Data!#REF!)","v":{"$error":"#REF!"}},{"$f":"IF(Data!#REF!=\"\",\"\",Data!#REF!)","v":{"$error":"#REF!"}},{"$error":"#REF!"},{"$error":"#REF!"},{"$error":"#REF!"}]
[{"$f":"IF(Data!#REF!=\"\",\"\",Data!#REF!)","v":{"$error":"#REF!"}},{"$f":"IF(Data!#REF!=\"\",\"\",Data!#REF!)","v":{"$error":"#REF!"}},{"$f":"IF(Data!#REF!=\"\",\"\",Data!#REF!)","v":{"$error":"#REF!"}},{"$f":"IF(Data!#REF!=\"\",\"\",Data!#REF!)","v":{"$error":"#REF!"}},{"$f":"IF(Data!#REF!=\"\",\"\",Data!#REF!)","v":{"$error":"#REF!"}},{"$error":"#REF!"},{"$error":"#REF!"},{"$error":"#REF!"}]
[{"$f":"IF(Data!#REF!=\"\",\"\",Data!#REF!)","v":{"$error":"#REF!"}},{"$f":"IF(Data!#REF!=\"\",\"\",Data!#REF!)","v":{"$error":"#REF!"}},{"$f":"IF(Data!#REF!=\"\",\"\",Data!#REF!)","v":{"$error":"#REF!"}},{"$f":"IF(Data!#REF!=\"\",\"\",Data!#REF!)","v":{"$error":"#REF!"}},{"$f":"IF(Data!#REF!=\"\",\"\",Data!#REF!)","v":{"$error":"#REF!"}},{"$error":"#REF!"},{"$error":"#REF!"},{"$error":"#REF!"}]
[{"$f":"IF(Data!#REF!=\"\",\"\",Data!#REF!)","v":{"$error":"#REF!"}},{"$f":"IF(Data!#REF!=\"\",\"\",Data!#REF!)","v":{"$error":"#REF!"}},{"$f":"IF(Data!#REF!=\"\",\"\",Data!#REF!)","v":{"$error":"#REF!"}},{"$f":"IF(Data!#REF!=\"\",\"\",Data!#REF!)","v":{"$error":"#REF!"}},{"$f":"IF(Data!#REF!=\"\",\"\",Data!#REF!)","v":{"$error":"#REF!"}},{"$error":"#REF!"},{"$error":"#REF!"},{"$error":"#REF!"}]
[{"$f":"IF(Data!#REF!=\"\",\"\",Data!#REF!)","v":{"$error":"#REF!"}},{"$f":"IF(Data!#REF!=\"\",\"\",Data!#REF!)","v":{"$error":"#REF!"}},{"$f":"IF(Data!#REF!=\"\",\"\",Data!#REF!)","v":{"$error":"#REF!"}},{"$f":"IF(Data!#REF!=\"\",\"\",Data!#REF!)","v":{"$error":"#REF!"}},{"$f":"IF(Data!#REF!=\"\",\"\",Data!#REF!)","v":{"$error":"#REF!"}},{"$error":"#REF!"},{"$error":"#REF!"},{"$error":"#REF!"}]
[{"$f":"IF(Data!#REF!=\"\",\"\",Data!#REF!)","v":{"$error":"#REF!"}},{"$f":"IF(Data!#REF!=\"\",\"\",Data!#REF!)","v":{"$error":"#REF!"}},{"$f":"IF(Data!#REF!=\"\",\"\",Data!#REF!)","v":{"$error":"#REF!"}},{"$f":"IF(Data!#REF!=\"\",\"\",Data!#REF!)","v":{"$error":"#REF!"}},{"$f":"IF(Data!#REF!=\"\",\"\",Data!#REF!)","v":{"$error":"#REF!"}},{"$error":"#REF!"},{"$error":"#REF!"},{"$error":"#REF!"}]
[{"$f":"IF(Data!#REF!=\"\",\"\",Data!#REF!)","v":{"$error":"#REF!"}},{"$f":"IF(Data!#REF!=\"\",\"\",Data!#REF!)","v":{"$error":"#REF!"}},{"$f":"IF(Data!#REF!=\"\",\"\",Data!#REF!)","v":{"$error":"#REF!"}},{"$f":"IF(Data!#REF!=\"\",\"\",Data!#REF!)","v":{"$error":"#REF!"}},{"$f":"IF(Data!#REF!=\"\",\"\",Data!#REF!)","v":{"$error":"#REF!"}},{"$error":"#REF!"},{"$error":"#REF!"},{"$error":"#REF!"}]
[{"$f":"IF(Data!#REF!=\"\",\"\",Data!#REF!)","v":{"$error":"#REF!"}},{"$f":"IF(Data!#REF!=\"\",\"\",Data!#REF!)","v":{"$error":"#REF!"}},{"$f":"IF(Data!#REF!=\"\",\"\",Data!#REF!)","v":{"$error":"#REF!"}},{"$f":"IF(Data!#REF!=\"\",\"\",Data!#REF!)","v":{"$error":"#REF!"}},{"$f":"IF(Data!#REF!=\"\",\"\",Data!#REF!)","v":{"$error":"#REF!"}},{"$error":"#REF!"},{"$error":"#REF!"},{"$error":"#REF!"}]
[{"$f":"IF(Data!#REF!=\"\",\"\",Data!#REF!)","v":{"$error":"#REF!"}},{"$f":"IF(Data!#REF!=\"\",\"\",Data!#REF!)","v":{"$error":"#REF!"}},{"$f":"IF(Data!#REF!=\"\",\"\",Data!#REF!)","v":{"$error":"#REF!"}},{"$f":"IF(Data!#REF!=\"\",\"\",Data!#REF!)","v":{"$error":"#REF!"}},{"$f":"IF(Data!#REF!=\"\",\"\",Data!#REF!)","v":{"$error":"#REF!"}},{"$error":"#REF!"},{"$error":"#REF!"},{"$error":"#REF!"}]
[{"$f":"IF(Data!#REF!=\"\",\"\",Data!#REF!)","v":{"$error":"#REF!"}},{"$f":"IF(Data!#REF!=\"\",\"\",Data!#REF!)","v":{"$error":"#REF!"}},{"$f":"IF(Data!#REF!=\"\",\"\",Data!#REF!)","v":{"$error":"#REF!"}},{"$f":"IF(Data!#REF!=\"\",\"\",Data!#REF!)","v":{"$error":"#REF!"}},{"$f":"IF(Data!#REF!=\"\",\"\",Data!#REF!)","v":{"$error":"#REF!"}},{"$error":"#REF!"},{"$error":"#REF!"},{"$error":"#REF!"}]
[{"$f":"IF(Data!#REF!=\"\",\"\",Data!#REF!)","v":{"$error":"#REF!"}},{"$f":"IF(Data!#REF!=\"\",\"\",Data!#REF!)","v":{"$error":"#REF!"}},{"$f":"IF(Data!#REF!=\"\",\"\",Data!#REF!)","v":{"$error":"#REF!"}},{"$f":"IF(Data!#REF!=\"\",\"\",Data!#REF!)","v":{"$error":"#REF!"}},{"$f":"IF(Data!#REF!=\"\",\"\",Data!#REF!)","v":{"$error":"#REF!"}},{"$error":"#REF!"},{"$error":"#REF!"},{"$error":"#REF!"}]
[{"$f":"IF(Data!#REF!=\"\",\"\",Data!#REF!)","v":{"$error":"#REF!"}},{"$f":"IF(Data!#REF!=\"\",\"\",Data!#REF!)","v":{"$error":"#REF!"}},{"$f":"IF(Data!#REF!=\"\",\"\",Data!#REF!)","v":{"$error":"#REF!"}},{"$f":"IF(Data!#REF!=\"\",\"\",Data!#REF!)","v":{"$error":"#REF!"}},{"$f":"IF(Data!#REF!=\"\",\"\",Data!#REF!)","v":{"$error":"#REF!"}},{"$error":"#REF!"},{"$error":"#REF!"},{"$error":"#REF!"}]
[{"$f":"IF(Data!#REF!=\"\",\"\",Data!#REF!)","v":{"$error":"#REF!"}},{"$f":"IF(Data!#REF!=\"\",\"\",Data!#REF!)","v":{"$error":"#REF!"}},{"$f":"IF(Data!#REF!=\"\",\"\",Data!#REF!)","v":{"$error":"#REF!"}},{"$f":"IF(Data!#REF!=\"\",\"\",Data!#REF!)","v":{"$error":"#REF!"}},{"$f":"IF(Data!#REF!=\"\",\"\",Data!#REF!)","v":{"$error":"#REF!"}},{"$error":"#REF!"},{"$error":"#REF!"},{"$error":"#REF!"}]
[{"$f":"IF(Data!#REF!=\"\",\"\",Data!#REF!)","v":{"$error":"#REF!"}},{"$f":"IF(Data!#REF!=\"\",\"\",Data!#REF!)","v":{"$error":"#REF!"}},{"$f":"IF(Data!#REF!=\"\",\"\",Data!#REF!)","v":{"$error":"#REF!"}},{"$f":"IF(Data!#REF!=\"\",\"\",Data!#REF!)","v":{"$error":"#REF!"}},{"$f":"IF(Data!#REF!=\"\",\"\",Data!#REF!)","v":{"$error":"#REF!"}},{"$error":"#REF!"},{"$error":"#REF!"},{"$error":"#REF!"}]
[{"$f":"IF(Data!#REF!=\"\",\"\",Data!#REF!)","v":{"$error":"#REF!"}},{"$f":"IF(Data!#REF!=\"\",\"\",Data!#REF!)","v":{"$error":"#REF!"}},{"$f":"IF(Data!#REF!=\"\",\"\",Data!#REF!)","v":{"$error":"#REF!"}},{"$f":"IF(Data!#REF!=\"\",\"\",Data!#REF!)","v":{"$error":"#REF!"}},{"$f":"IF(Data!#REF!=\"\",\"\",Data!#REF!)","v":{"$error":"#REF!"}},{"$error":"#REF!"},{"$error":"#REF!"},{"$error":"#REF!"}]
[{"$f":"IF(Data!#REF!=\"\",\"\",Data!#REF!)","v":{"$error":"#REF!"}},{"$f":"IF(Data!#REF!=\"\",\"\",Data!#REF!)","v":{"$error":"#REF!"}},{"$f":"IF(Data!#REF!=\"\",\"\",Data!#REF!)","v":{"$error":"#REF!"}},{"$f":"IF(Data!#REF!=\"\",\"\",Data!#REF!)","v":{"$error":"#REF!"}},{"$f":"IF(Data!#REF!=\"\",\"\",Data!#REF!)","v":{"$error":"#REF!"}},{"$error":"#REF!"},{"$error":"#REF!"},{"$error":"#REF!"}]
[{"$f":"IF(Data!#REF!=\"\",\"\",Data!#REF!)","v":{"$error":"#REF!"}},{"$f":"IF(Data!#REF!=\"\",\"\",Data!#REF!)","v":{"$error":"#REF!"}},{"$f":"IF(Data!#REF!=\"\",\"\",Data!#REF!)","v":{"$error":"#REF!"}},{"$f":"IF(Data!#REF!=\"\",\"\",Data!#REF!)","v":{"$error":"#REF!"}},{"$f":"IF(Data!#REF!=\"\",\"\",Data!#REF!)","v":{"$error":"#REF!"}},{"$error":"#REF!"},{"$error":"#REF!"},{"$error":"#REF!"}]
[{"$f":"IF(Data!#REF!=\"\",\"\",Data!#REF!)","v":{"$error":"#REF!"}},{"$f":"IF(Data!#REF!=\"\",\"\",Data!#REF!)","v":{"$error":"#REF!"}},{"$f":"IF(Data!#REF!=\"\",\"\",Data!#REF!)","v":{"$error":"#REF!"}},{"$f":"IF(Data!#REF!=\"\",\"\",Data!#REF!)","v":{"$error":"#REF!"}},{"$f":"IF(Data!#REF!=\"\",\"\",Data!#REF!)","v":{"$error":"#REF!"}},{"$f":"IF(E1987>0,MONTH(E1987),\"\")","v":{"$error":"#REF!"}},{"$f":"IF(E1987>0,WEEKNUM(E1987),\"0\")","v":{"$error":"#REF!"}},{"$f":"IF(G1987>=($G$2-3),\"Ano\",\"Nie\")","v":{"$error":"#REF!"}}]
[{"$f":"IF(Data!#REF!=\"\",\"\",Data!#REF!)","v":{"$error":"#REF!"}},{"$f":"IF(Data!#REF!=\"\",\"\",Data!#REF!)","v":{"$error":"#REF!"}},{"$f":"IF(Data!#REF!=\"\",\"\",Data!#REF!)","v":{"$error":"#REF!"}},{"$f":"IF(Data!#REF!=\"\",\"\",Data!#REF!)","v":{"$error":"#REF!"}},{"$f":"IF(Data!#REF!=\"\",\"\",Data!#REF!)","v":{"$error":"#REF!"}},{"$error":"#REF!"},{"$error":"#REF!"},{"$error":"#REF!"}]
[{"$f":"IF(Data!#REF!=\"\",\"\",Data!#REF!)","v":{"$error":"#REF!"}},{"$f":"IF(Data!#REF!=\"\",\"\",Data!#REF!)","v":{"$error":"#REF!"}},{"$f":"IF(Data!#REF!=\"\",\"\",Data!#REF!)","v":{"$error":"#REF!"}},{"$f":"IF(Data!#REF!=\"\",\"\",Data!#REF!)","v":{"$error":"#REF!"}},{"$f":"IF(Data!#REF!=\"\",\"\",Data!#REF!)","v":{"$error":"#REF!"}},{"$error":"#REF!"},{"$error":"#REF!"},{"$error":"#REF!"}]
[{"$f":"IF(Data!#REF!=\"\",\"\",Data!#REF!)","v":{"$error":"#REF!"}},{"$f":"IF(Data!#REF!=\"\",\"\",Data!#REF!)","v":{"$error":"#REF!"}},{"$f":"IF(Data!#REF!=\"\",\"\",Data!#REF!)","v":{"$error":"#REF!"}},{"$f":"IF(Data!#REF!=\"\",\"\",Data!#REF!)","v":{"$error":"#REF!"}},{"$f":"IF(Data!#REF!=\"\",\"\",Data!#REF!)","v":{"$error":"#REF!"}},{"$error":"#REF!"},{"$error":"#REF!"},{"$error":"#REF!"}]
[{"$f":"IF(Data!#REF!=\"\",\"\",Data!#REF!)","v":{"$error":"#REF!"}},{"$f":"IF(Data!#REF!=\"\",\"\",Data!#REF!)","v":{"$error":"#REF!"}},{"$f":"IF(Data!#REF!=\"\",\"\",Data!#REF!)","v":{"$error":"#REF!"}},{"$f":"IF(Data!#REF!=\"\",\"\",Data!#REF!)","v":{"$error":"#REF!"}},{"$f":"IF(Data!#REF!=\"\",\"\",Data!#REF!)","v":{"$error":"#REF!"}},{"$error":"#REF!"},{"$error":"#REF!"},{"$error":"#REF!"}]
[{"$f":"IF(Data!#REF!=\"\",\"\",Data!#REF!)","v":{"$error":"#REF!"}},{"$f":"IF(Data!#REF!=\"\",\"\",Data!#REF!)","v":{"$error":"#REF!"}},{"$f":"IF(Data!#REF!=\"\",\"\",Data!#REF!)","v":{"$error":"#REF!"}},{"$f":"IF(Data!#REF!=\"\",\"\",Data!#REF!)","v":{"$error":"#REF!"}},{"$f":"IF(Data!#REF!=\"\",\"\",Data!#REF!)","v":{"$error":"#REF!"}},{"$error":"#REF!"},{"$error":"#REF!"},{"$error":"#REF!"}]
[{"$f":"IF(Data!#REF!=\"\",\"\",Data!#REF!)","v":{"$error":"#REF!"}},{"$f":"IF(Data!#REF!=\"\",\"\",Data!#REF!)","v":{"$error":"#REF!"}},{"$f":"IF(Data!#REF!=\"\",\"\",Data!#REF!)","v":{"$error":"#REF!"}},{"$f":"IF(Data!#REF!=\"\",\"\",Data!#REF!)","v":{"$error":"#REF!"}},{"$f":"IF(Data!#REF!=\"\",\"\",Data!#REF!)","v":{"$error":"#REF!"}},{"$error":"#REF!"},{"$error":"#REF!"},{"$error":"#REF!"}]
[{"$f":"IF(Data!#REF!=\"\",\"\",Data!#REF!)","v":{"$error":"#REF!"}},{"$f":"IF(Data!#REF!=\"\",\"\",Data!#REF!)","v":{"$error":"#REF!"}},{"$f":"IF(Data!#REF!=\"\",\"\",Data!#REF!)","v":{"$error":"#REF!"}},{"$f":"IF(Data!#REF!=\"\",\"\",Data!#REF!)","v":{"$error":"#REF!"}},{"$f":"IF(Data!#REF!=\"\",\"\",Data!#REF!)","v":{"$error":"#REF!"}},{"$error":"#REF!"},{"$error":"#REF!"},{"$error":"#REF!"}]
[{"$f":"IF(Data!#REF!=\"\",\"\",Data!#REF!)","v":{"$error":"#REF!"}},{"$f":"IF(Data!#REF!=\"\",\"\",Data!#REF!)","v":{"$error":"#REF!"}},{"$f":"IF(Data!#REF!=\"\",\"\",Data!#REF!)","v":{"$error":"#REF!"}},{"$f":"IF(Data!#REF!=\"\",\"\",Data!#REF!)","v":{"$error":"#REF!"}},{"$f":"IF(Data!#REF!=\"\",\"\",Data!#REF!)","v":{"$error":"#REF!"}},{"$error":"#REF!"},{"$error":"#REF!"},{"$error":"#REF!"}]
[{"$f":"IF(Data!#REF!=\"\",\"\",Data!#REF!)","v":{"$error":"#REF!"}},{"$f":"IF(Data!#REF!=\"\",\"\",Data!#REF!)","v":{"$error":"#REF!"}},{"$f":"IF(Data!#REF!=\"\",\"\",Data!#REF!)","v":{"$error":"#REF!"}},{"$f":"IF(Data!#REF!=\"\",\"\",Data!#REF!)","v":{"$error":"#REF!"}},{"$f":"IF(Data!#REF!=\"\",\"\",Data!#REF!)","v":{"$error":"#REF!"}},{"$error":"#REF!"},{"$error":"#REF!"},{"$error":"#REF!"}]
[{"$f":"IF(Data!#REF!=\"\",\"\",Data!#REF!)","v":{"$error":"#REF!"}},{"$f":"IF(Data!#REF!=\"\",\"\",Data!#REF!)","v":{"$error":"#REF!"}},{"$f":"IF(Data!#REF!=\"\",\"\",Data!#REF!)","v":{"$error":"#REF!"}},{"$f":"IF(Data!#REF!=\"\",\"\",Data!#REF!)","v":{"$error":"#REF!"}},{"$f":"IF(Data!#REF!=\"\",\"\",Data!#REF!)","v":{"$error":"#REF!"}},{"$error":"#REF!"},{"$error":"#REF!"},{"$error":"#REF!"}]
[{"$f":"IF(Data!#REF!=\"\",\"\",Data!#REF!)","v":{"$error":"#REF!"}},{"$f":"IF(Data!#REF!=\"\",\"\",Data!#REF!)","v":{"$error":"#REF!"}},{"$f":"IF(Data!#REF!=\"\",\"\",Data!#REF!)","v":{"$error":"#REF!"}},{"$f":"IF(Data!#REF!=\"\",\"\",Data!#REF!)","v":{"$error":"#REF!"}},{"$f":"IF(Data!#REF!=\"\",\"\",Data!#REF!)","v":{"$error":"#REF!"}},{"$error":"#REF!"},{"$error":"#REF!"},{"$error":"#REF!"}]
[{"$f":"IF(Data!#REF!=\"\",\"\",Data!#REF!)","v":{"$error":"#REF!"}},{"$f":"IF(Data!#REF!=\"\",\"\",Data!#REF!)","v":{"$error":"#REF!"}},{"$f":"IF(Data!#REF!=\"\",\"\",Data!#REF!)","v":{"$error":"#REF!"}},{"$f":"IF(Data!#REF!=\"\",\"\",Data!#REF!)","v":{"$error":"#REF!"}},{"$f":"IF(Data!#REF!=\"\",\"\",Data!#REF!)","v":{"$error":"#REF!"}},{"$error":"#REF!"},{"$error":"#REF!"},{"$error":"#REF!"}]
[{"$f":"IF(Data!#REF!=\"\",\"\",Data!#REF!)","v":{"$error":"#REF!"}},{"$f":"IF(Data!#REF!=\"\",\"\",Data!#REF!)","v":{"$error":"#REF!"}},{"$f":"IF(Data!#REF!=\"\",\"\",Data!#REF!)","v":{"$error":"#REF!"}},{"$f":"IF(Data!#REF!=\"\",\"\",Data!#REF!)","v":{"$error":"#REF!"}},{"$f":"IF(Data!#REF!=\"\",\"\",Data!#REF!)","v":{"$error":"#REF!"}},{"$error":"#REF!"},{"$error":"#REF!"},{"$error":"#REF!"}]
[{"$f":"IF(Data!#REF!=\"\",\"\",Data!#REF!)","v":{"$error":"#REF!"}},{"$f":"IF(Data!#REF!=\"\",\"\",Data!#REF!)","v":{"$error":"#REF!"}},{"$f":"IF(Data!#REF!=\"\",\"\",Data!#REF!)","v":{"$error":"#REF!"}},{"$f":"IF(Data!#REF!=\"\",\"\",Data!#REF!)","v":{"$error":"#REF!"}},{"$f":"IF(Data!#REF!=\"\",\"\",Data!#REF!)","v":{"$error":"#REF!"}},{"$error":"#REF!"},{"$error":"#REF!"},{"$error":"#REF!"}]
[{"$f":"IF(Data!#REF!=\"\",\"\",Data!#REF!)","v":{"$error":"#REF!"}},{"$f":"IF(Data!#REF!=\"\",\"\",Data!#REF!)","v":{"$error":"#REF!"}},{"$f":"IF(Data!#REF!=\"\",\"\",Data!#REF!)","v":{"$error":"#REF!"}},{"$f":"IF(Data!#REF!=\"\",\"\",Data!#REF!)","v":{"$error":"#REF!"}},{"$f":"IF(Data!#REF!=\"\",\"\",Data!#REF!)","v":{"$error":"#REF!"}},{"$error":"#REF!"},{"$error":"#REF!"},{"$error":"#REF!"}]
[{"$f":"IF(Data!#REF!=\"\",\"\",Data!#REF!)","v":{"$error":"#REF!"}},{"$f":"IF(Data!#REF!=\"\",\"\",Data!#REF!)","v":{"$error":"#REF!"}},{"$f":"IF(Data!#REF!=\"\",\"\",Data!#REF!)","v":{"$error":"#REF!"}},{"$f":"IF(Data!#REF!=\"\",\"\",Data!#REF!)","v":{"$error":"#REF!"}},{"$f":"IF(Data!#REF!=\"\",\"\",Data!#REF!)","v":{"$error":"#REF!"}},{"$error":"#REF!"},{"$error":"#REF!"},{"$error":"#REF!"}]
[{"$f":"IF(Data!#REF!=\"\",\"\",Data!#REF!)","v":{"$error":"#REF!"}},{"$f":"IF(Data!#REF!=\"\",\"\",Data!#REF!)","v":{"$error":"#REF!"}},{"$f":"IF(Data!#REF!=\"\",\"\",Data!#REF!)","v":{"$error":"#REF!"}},{"$f":"IF(Data!#REF!=\"\",\"\",Data!#REF!)","v":{"$error":"#REF!"}},{"$f":"IF(Data!#REF!=\"\",\"\",Data!#REF!)","v":{"$error":"#REF!"}},{"$error":"#REF!"},{"$error":"#REF!"},{"$error":"#REF!"}]
[{"$f":"IF(Data!#REF!=\"\",\"\",Data!#REF!)","v":{"$error":"#REF!"}},{"$f":"IF(Data!#REF!=\"\",\"\",Data!#REF!)","v":{"$error":"#REF!"}},{"$f":"IF(Data!#REF!=\"\",\"\",Data!#REF!)","v":{"$error":"#REF!"}},{"$f":"IF(Data!#REF!=\"\",\"\",Data!#REF!)","v":{"$error":"#REF!"}},{"$f":"IF(Data!#REF!=\"\",\"\",Data!#REF!)","v":{"$error":"#REF!"}},{"$error":"#REF!"},{"$error":"#REF!"},{"$error":"#REF!"}]
[{"$f":"IF(Data!#REF!=\"\",\"\",Data!#REF!)","v":{"$error":"#REF!"}},{"$f":"IF(Data!#REF!=\"\",\"\",Data!#REF!)","v":{"$error":"#REF!"}},{"$f":"IF(Data!#REF!=\"\",\"\",Data!#REF!)","v":{"$error":"#REF!"}},{"$f":"IF(Data!#REF!=\"\",\"\",Data!#REF!)","v":{"$error":"#REF!"}},{"$f":"IF(Data!#REF!=\"\",\"\",Data!#REF!)","v":{"$error":"#REF!"}},{"$error":"#REF!"},{"$error":"#REF!"},{"$error":"#REF!"}]
[{"$f":"IF(Data!#REF!=\"\",\"\",Data!#REF!)","v":{"$error":"#REF!"}},{"$f":"IF(Data!#REF!=\"\",\"\",Data!#REF!)","v":{"$error":"#REF!"}},{"$f":"IF(Data!#REF!=\"\",\"\",Data!#REF!)","v":{"$error":"#REF!"}},{"$f":"IF(Data!#REF!=\"\",\"\",Data!#REF!)","v":{"$error":"#REF!"}},{"$f":"IF(Data!#REF!=\"\",\"\",Data!#REF!)","v":{"$error":"#REF!"}},{"$error":"#REF!"},{"$error":"#REF!"},{"$error":"#REF!"}]
[{"$f":"IF(Data!#REF!=\"\",\"\",Data!#REF!)","v":{"$error":"#REF!"}},{"$f":"IF(Data!#REF!=\"\",\"\",Data!#REF!)","v":{"$error":"#REF!"}},{"$f":"IF(Data!#REF!=\"\",\"\",Data!#REF!)","v":{"$error":"#REF!"}},{"$f":"IF(Data!#REF!=\"\",\"\",Data!#REF!)","v":{"$error":"#REF!"}},{"$f":"IF(Data!#REF!=\"\",\"\",Data!#REF!)","v":{"$error":"#REF!"}},{"$error":"#REF!"},{"$error":"#REF!"},{"$error":"#REF!"}]
[{"$f":"IF(Data!#REF!=\"\",\"\",Data!#REF!)","v":{"$error":"#REF!"}},{"$f":"IF(Data!#REF!=\"\",\"\",Data!#REF!)","v":{"$error":"#REF!"}},{"$f":"IF(Data!#REF!=\"\",\"\",Data!#REF!)","v":{"$error":"#REF!"}},{"$f":"IF(Data!#REF!=\"\",\"\",Data!#REF!)","v":{"$error":"#REF!"}},{"$f":"IF(Data!#REF!=\"\",\"\",Data!#REF!)","v":{"$error":"#REF!"}},{"$error":"#REF!"},{"$error":"#REF!"},{"$error":"#REF!"}]
[{"$f":"IF(Data!#REF!=\"\",\"\",Data!#REF!)","v":{"$error":"#REF!"}},{"$f":"IF(Data!#REF!=\"\",\"\",Data!#REF!)","v":{"$error":"#REF!"}},{"$f":"IF(Data!#REF!=\"\",\"\",Data!#REF!)","v":{"$error":"#REF!"}},{"$f":"IF(Data!#REF!=\"\",\"\",Data!#REF!)","v":{"$error":"#REF!"}},{"$f":"IF(Data!#REF!=\"\",\"\",Data!#REF!)","v":{"$error":"#REF!"}},{"$error":"#REF!"},{"$error":"#REF!"},{"$error":"#REF!"}]
[{"$f":"IF(Data!#REF!=\"\",\"\",Data!#REF!)","v":{"$error":"#REF!"}},{"$f":"IF(Data!#REF!=\"\",\"\",Data!#REF!)","v":{"$error":"#REF!"}},{"$f":"IF(Data!#REF!=\"\",\"\",Data!#REF!)","v":{"$error":"#REF!"}},{"$f":"IF(Data!#REF!=\"\",\"\",Data!#REF!)","v":{"$error":"#REF!"}},{"$f":"IF(Data!#REF!=\"\",\"\",Data!#REF!)","v":{"$error":"#REF!"}},{"$error":"#REF!"},{"$error":"#REF!"},{"$error":"#REF!"}]
[{"$f":"IF(Data!#REF!=\"\",\"\",Data!#REF!)","v":{"$error":"#REF!"}},{"$f":"IF(Data!#REF!=\"\",\"\",Data!#REF!)","v":{"$error":"#REF!"}},{"$f":"IF(Data!#REF!=\"\",\"\",Data!#REF!)","v":{"$error":"#REF!"}},{"$f":"IF(Data!#REF!=\"\",\"\",Data!#REF!)","v":{"$error":"#REF!"}},{"$f":"IF(Data!#REF!=\"\",\"\",Data!#REF!)","v":{"$error":"#REF!"}},{"$error":"#REF!"},{"$error":"#REF!"},{"$error":"#REF!"}]
[{"$f":"IF(Data!#REF!=\"\",\"\",Data!#REF!)","v":{"$error":"#REF!"}},{"$f":"IF(Data!#REF!=\"\",\"\",Data!#REF!)","v":{"$error":"#REF!"}},{"$f":"IF(Data!#REF!=\"\",\"\",Data!#REF!)","v":{"$error":"#REF!"}},{"$f":"IF(Data!#REF!=\"\",\"\",Data!#REF!)","v":{"$error":"#REF!"}},{"$f":"IF(Data!#REF!=\"\",\"\",Data!#REF!)","v":{"$error":"#REF!"}},{"$error":"#REF!"},{"$error":"#REF!"},{"$error":"#REF!"}]
[{"$f":"IF(Data!#REF!=\"\",\"\",Data!#REF!)","v":{"$error":"#REF!"}},{"$f":"IF(Data!#REF!=\"\",\"\",Data!#REF!)","v":{"$error":"#REF!"}},{"$f":"IF(Data!#REF!=\"\",\"\",Data!#REF!)","v":{"$error":"#REF!"}},{"$f":"IF(Data!#REF!=\"\",\"\",Data!#REF!)","v":{"$error":"#REF!"}},{"$f":"IF(Data!#REF!=\"\",\"\",Data!#REF!)","v":{"$error":"#REF!"}},{"$error":"#REF!"},{"$error":"#REF!"},{"$error":"#REF!"}]
[{"$f":"IF(Data!#REF!=\"\",\"\",Data!#REF!)","v":{"$error":"#REF!"}},{"$f":"IF(Data!#REF!=\"\",\"\",Data!#REF!)","v":{"$error":"#REF!"}},{"$f":"IF(Data!#REF!=\"\",\"\",Data!#REF!)","v":{"$error":"#REF!"}},{"$f":"IF(Data!#REF!=\"\",\"\",Data!#REF!)","v":{"$error":"#REF!"}},{"$f":"IF(Data!#REF!=\"\",\"\",Data!#REF!)","v":{"$error":"#REF!"}},{"$error":"#REF!"},{"$error":"#REF!"},{"$error":"#REF!"}]
[{"$f":"IF(Data!#REF!=\"\",\"\",Data!#REF!)","v":{"$error":"#REF!"}},{"$f":"IF(Data!#REF!=\"\",\"\",Data!#REF!)","v":{"$error":"#REF!"}},{"$f":"IF(Data!#REF!=\"\",\"\",Data!#REF!)","v":{"$error":"#REF!"}},{"$f":"IF(Data!#REF!=\"\",\"\",Data!#REF!)","v":{"$error":"#REF!"}},{"$f":"IF(Data!#REF!=\"\",\"\",Data!#REF!)","v":{"$error":"#REF!"}},{"$error":"#REF!"},{"$error":"#REF!"},{"$error":"#REF!"}]
[{"$f":"IF(Data!#REF!=\"\",\"\",Data!#REF!)","v":{"$error":"#REF!"}},{"$f":"IF(Data!#REF!=\"\",\"\",Data!#REF!)","v":{"$error":"#REF!"}},{"$f":"IF(Data!#REF!=\"\",\"\",Data!#REF!)","v":{"$error":"#REF!"}},{"$f":"IF(Data!#REF!=\"\",\"\",Data!#REF!)","v":{"$error":"#REF!"}},{"$f":"IF(Data!#REF!=\"\",\"\",Data!#REF!)","v":{"$error":"#REF!"}},{"$error":"#REF!"},{"$error":"#REF!"},{"$error":"#REF!"}]
[{"$f":"IF(Data!#REF!=\"\",\"\",Data!#REF!)","v":{"$error":"#REF!"}},{"$f":"IF(Data!#REF!=\"\",\"\",Data!#REF!)","v":{"$error":"#REF!"}},{"$f":"IF(Data!#REF!=\"\",\"\",Data!#REF!)","v":{"$error":"#REF!"}},{"$f":"IF(Data!#REF!=\"\",\"\",Data!#REF!)","v":{"$error":"#REF!"}},{"$f":"IF(Data!#REF!=\"\",\"\",Data!#REF!)","v":{"$error":"#REF!"}},{"$error":"#REF!"},{"$error":"#REF!"},{"$error":"#REF!"}]
[{"$f":"IF(Data!#REF!=\"\",\"\",Data!#REF!)","v":{"$error":"#REF!"}},{"$f":"IF(Data!#REF!=\"\",\"\",Data!#REF!)","v":{"$error":"#REF!"}},{"$f":"IF(Data!#REF!=\"\",\"\",Data!#REF!)","v":{"$error":"#REF!"}},{"$f":"IF(Data!#REF!=\"\",\"\",Data!#REF!)","v":{"$error":"#REF!"}},{"$f":"IF(Data!#REF!=\"\",\"\",Data!#REF!)","v":{"$error":"#REF!"}},{"$error":"#REF!"},{"$error":"#REF!"},{"$error":"#REF!"}]
[{"$f":"IF(Data!#REF!=\"\",\"\",Data!#REF!)","v":{"$error":"#REF!"}},{"$f":"IF(Data!#REF!=\"\",\"\",Data!#REF!)","v":{"$error":"#REF!"}},{"$f":"IF(Data!#REF!=\"\",\"\",Data!#REF!)","v":{"$error":"#REF!"}},{"$f":"IF(Data!#REF!=\"\",\"\",Data!#REF!)","v":{"$error":"#REF!"}},{"$f":"IF(Data!#REF!=\"\",\"\",Data!#REF!)","v":{"$error":"#REF!"}},{"$error":"#REF!"},{"$error":"#REF!"},{"$error":"#REF!"}]
[{"$f":"IF(Data!#REF!=\"\",\"\",Data!#REF!)","v":{"$error":"#REF!"}},{"$f":"IF(Data!#REF!=\"\",\"\",Data!#REF!)","v":{"$error":"#REF!"}},{"$f":"IF(Data!#REF!=\"\",\"\",Data!#REF!)","v":{"$error":"#REF!"}},{"$f":"IF(Data!#REF!=\"\",\"\",Data!#REF!)","v":{"$error":"#REF!"}},{"$f":"IF(Data!#REF!=\"\",\"\",Data!#REF!)","v":{"$error":"#REF!"}},{"$error":"#REF!"},{"$error":"#REF!"},{"$error":"#REF!"}]
[{"$f":"IF(Data!#REF!=\"\",\"\",Data!#REF!)","v":{"$error":"#REF!"}},{"$f":"IF(Data!#REF!=\"\",\"\",Data!#REF!)","v":{"$error":"#REF!"}},{"$f":"IF(Data!#REF!=\"\",\"\",Data!#REF!)","v":{"$error":"#REF!"}},{"$f":"IF(Data!#REF!=\"\",\"\",Data!#REF!)","v":{"$error":"#REF!"}},{"$f":"IF(Data!#REF!=\"\",\"\",Data!#REF!)","v":{"$error":"#REF!"}},{"$error":"#REF!"},{"$error":"#REF!"},{"$error":"#REF!"}]
[{"$f":"IF(Data!#REF!=\"\",\"\",Data!#REF!)","v":{"$error":"#REF!"}},{"$f":"IF(Data!#REF!=\"\",\"\",Data!#REF!)","v":{"$error":"#REF!"}},{"$f":"IF(Data!#REF!=\"\",\"\",Data!#REF!)","v":{"$error":"#REF!"}},{"$f":"IF(Data!#REF!=\"\",\"\",Data!#REF!)","v":{"$error":"#REF!"}},{"$f":"IF(Data!#REF!=\"\",\"\",Data!#REF!)","v":{"$error":"#REF!"}},{"$error":"#REF!"},{"$error":"#REF!"},{"$error":"#REF!"}]
[{"$f":"IF(Data!#REF!=\"\",\"\",Data!#REF!)","v":{"$error":"#REF!"}},{"$f":"IF(Data!#REF!=\"\",\"\",Data!#REF!)","v":{"$error":"#REF!"}},{"$f":"IF(Data!#REF!=\"\",\"\",Data!#REF!)","v":{"$error":"#REF!"}},{"$f":"IF(Data!#REF!=\"\",\"\",Data!#REF!)","v":{"$error":"#REF!"}},{"$f":"IF(Data!#REF!=\"\",\"\",Data!#REF!)","v":{"$error":"#REF!"}},{"$error":"#REF!"},{"$error":"#REF!"},{"$error":"#REF!"}]
[{"$f":"IF(Data!#REF!=\"\",\"\",Data!#REF!)","v":{"$error":"#REF!"}},{"$f":"IF(Data!#REF!=\"\",\"\",Data!#REF!)","v":{"$error":"#REF!"}},{"$f":"IF(Data!#REF!=\"\",\"\",Data!#REF!)","v":{"$error":"#REF!"}},{"$f":"IF(Data!#REF!=\"\",\"\",Data!#REF!)","v":{"$error":"#REF!"}},{"$f":"IF(Data!#REF!=\"\",\"\",Data!#REF!)","v":{"$error":"#REF!"}},{"$error":"#REF!"},{"$error":"#REF!"},{"$error":"#REF!"}]
[{"$f":"IF(Data!#REF!=\"\",\"\",Data!#REF!)","v":{"$error":"#REF!"}},{"$f":"IF(Data!#REF!=\"\",\"\",Data!#REF!)","v":{"$error":"#REF!"}},{"$f":"IF(Data!#REF!=\"\",\"\",Data!#REF!)","v":{"$error":"#REF!"}},{"$f":"IF(Data!#REF!=\"\",\"\",Data!#REF!)","v":{"$error":"#REF!"}},{"$f":"IF(Data!#REF!=\"\",\"\",Data!#REF!)","v":{"$error":"#REF!"}},{"$error":"#REF!"},{"$error":"#REF!"},{"$error":"#REF!"}]
[{"$f":"IF(Data!#REF!=\"\",\"\",Data!#REF!)","v":{"$error":"#REF!"}},{"$f":"IF(Data!#REF!=\"\",\"\",Data!#REF!)","v":{"$error":"#REF!"}},{"$f":"IF(Data!#REF!=\"\",\"\",Data!#REF!)","v":{"$error":"#REF!"}},{"$f":"IF(Data!#REF!=\"\",\"\",Data!#REF!)","v":{"$error":"#REF!"}},{"$f":"IF(Data!#REF!=\"\",\"\",Data!#REF!)","v":{"$error":"#REF!"}},{"$error":"#REF!"},{"$error":"#REF!"},{"$error":"#REF!"}]
[{"$f":"IF(Data!#REF!=\"\",\"\",Data!#REF!)","v":{"$error":"#REF!"}},{"$f":"IF(Data!#REF!=\"\",\"\",Data!#REF!)","v":{"$error":"#REF!"}},{"$f":"IF(Data!#REF!=\"\",\"\",Data!#REF!)","v":{"$error":"#REF!"}},{"$f":"IF(Data!#REF!=\"\",\"\",Data!#REF!)","v":{"$error":"#REF!"}},{"$f":"IF(Data!#REF!=\"\",\"\",Data!#REF!)","v":{"$error":"#REF!"}},{"$error":"#REF!"},{"$error":"#REF!"},{"$error":"#REF!"}]
[{"$f":"IF(Data!#REF!=\"\",\"\",Data!#REF!)","v":{"$error":"#REF!"}},{"$f":"IF(Data!#REF!=\"\",\"\",Data!#REF!)","v":{"$error":"#REF!"}},{"$f":"IF(Data!#REF!=\"\",\"\",Data!#REF!)","v":{"$error":"#REF!"}},{"$f":"IF(Data!#REF!=\"\",\"\",Data!#REF!)","v":{"$error":"#REF!"}},{"$f":"IF(Data!#REF!=\"\",\"\",Data!#REF!)","v":{"$error":"#REF!"}},{"$error":"#REF!"},{"$error":"#REF!"},{"$error":"#REF!"}]
[{"$f":"IF(Data!#REF!=\"\",\"\",Data!#REF!)","v":{"$error":"#REF!"}},{"$f":"IF(Data!#REF!=\"\",\"\",Data!#REF!)","v":{"$error":"#REF!"}},{"$f":"IF(Data!#REF!=\"\",\"\",Data!#REF!)","v":{"$error":"#REF!"}},{"$f":"IF(Data!#REF!=\"\",\"\",Data!#REF!)","v":{"$error":"#REF!"}},{"$f":"IF(Data!#REF!=\"\",\"\",Data!#REF!)","v":{"$error":"#REF!"}},{"$error":"#REF!"},{"$error":"#REF!"},{"$error":"#REF!"}]
[{"$f":"IF(Data!#REF!=\"\",\"\",Data!#REF!)","v":{"$error":"#REF!"}},{"$f":"IF(Data!#REF!=\"\",\"\",Data!#REF!)","v":{"$error":"#REF!"}},{"$f":"IF(Data!#REF!=\"\",\"\",Data!#REF!)","v":{"$error":"#REF!"}},{"$f":"IF(Data!#REF!=\"\",\"\",Data!#REF!)","v":{"$error":"#REF!"}},{"$f":"IF(Data!#REF!=\"\",\"\",Data!#REF!)","v":{"$error":"#REF!"}},{"$error":"#REF!"},{"$error":"#REF!"},{"$error":"#REF!"}]
[{"$f":"IF(Data!#REF!=\"\",\"\",Data!#REF!)","v":{"$error":"#REF!"}},{"$f":"IF(Data!#REF!=\"\",\"\",Data!#REF!)","v":{"$error":"#REF!"}},{"$f":"IF(Data!#REF!=\"\",\"\",Data!#REF!)","v":{"$error":"#REF!"}},{"$f":"IF(Data!#REF!=\"\",\"\",Data!#REF!)","v":{"$error":"#REF!"}},{"$f":"IF(Data!#REF!=\"\",\"\",Data!#REF!)","v":{"$error":"#REF!"}},{"$error":"#REF!"},{"$error":"#REF!"},{"$error":"#REF!"}]
[{"$f":"IF(Data!#REF!=\"\",\"\",Data!#REF!)","v":{"$error":"#REF!"}},{"$f":"IF(Data!#REF!=\"\",\"\",Data!#REF!)","v":{"$error":"#REF!"}},{"$f":"IF(Data!#REF!=\"\",\"\",Data!#REF!)","v":{"$error":"#REF!"}},{"$f":"IF(Data!#REF!=\"\",\"\",Data!#REF!)","v":{"$error":"#REF!"}},{"$f":"IF(Data!#REF!=\"\",\"\",Data!#REF!)","v":{"$error":"#REF!"}},{"$error":"#REF!"},{"$error":"#REF!"},{"$error":"#REF!"}]
[{"$f":"IF(Data!#REF!=\"\",\"\",Data!#REF!)","v":{"$error":"#REF!"}},{"$f":"IF(Data!#REF!=\"\",\"\",Data!#REF!)","v":{"$error":"#REF!"}},{"$f":"IF(Data!#REF!=\"\",\"\",Data!#REF!)","v":{"$error":"#REF!"}},{"$f":"IF(Data!#REF!=\"\",\"\",Data!#REF!)","v":{"$error":"#REF!"}},{"$f":"IF(Data!#REF!=\"\",\"\",Data!#REF!)","v":{"$error":"#REF!"}},{"$error":"#REF!"},{"$error":"#REF!"},{"$error":"#REF!"}]
[{"$f":"IF(Data!#REF!=\"\",\"\",Data!#REF!)","v":{"$error":"#REF!"}},{"$f":"IF(Data!#REF!=\"\",\"\",Data!#REF!)","v":{"$error":"#REF!"}},{"$f":"IF(Data!#REF!=\"\",\"\",Data!#REF!)","v":{"$error":"#REF!"}},{"$f":"IF(Data!#REF!=\"\",\"\",Data!#REF!)","v":{"$error":"#REF!"}},{"$f":"IF(Data!#REF!=\"\",\"\",Data!#REF!)","v":{"$error":"#REF!"}},{"$error":"#REF!"},{"$error":"#REF!"},{"$error":"#REF!"}]
[{"$f":"IF(Data!#REF!=\"\",\"\",Data!#REF!)","v":{"$error":"#REF!"}},{"$f":"IF(Data!#REF!=\"\",\"\",Data!#REF!)","v":{"$error":"#REF!"}},{"$f":"IF(Data!#REF!=\"\",\"\",Data!#REF!)","v":{"$error":"#REF!"}},{"$f":"IF(Data!#REF!=\"\",\"\",Data!#REF!)","v":{"$error":"#REF!"}},{"$f":"IF(Data!#REF!=\"\",\"\",Data!#REF!)","v":{"$error":"#REF!"}},{"$error":"#REF!"},{"$error":"#REF!"},{"$error":"#REF!"}]
[{"$f":"IF(Data!#REF!=\"\",\"\",Data!#REF!)","v":{"$error":"#REF!"}},{"$f":"IF(Data!#REF!=\"\",\"\",Data!#REF!)","v":{"$error":"#REF!"}},{"$f":"IF(Data!#REF!=\"\",\"\",Data!#REF!)","v":{"$error":"#REF!"}},{"$f":"IF(Data!#REF!=\"\",\"\",Data!#REF!)","v":{"$error":"#REF!"}},{"$f":"IF(Data!#REF!=\"\",\"\",Data!#REF!)","v":{"$error":"#REF!"}},{"$error":"#REF!"},{"$error":"#REF!"},{"$error":"#REF!"}]
[{"$f":"IF(Data!#REF!=\"\",\"\",Data!#REF!)","v":{"$error":"#REF!"}},{"$f":"IF(Data!#REF!=\"\",\"\",Data!#REF!)","v":{"$error":"#REF!"}},{"$f":"IF(Data!#REF!=\"\",\"\",Data!#REF!)","v":{"$error":"#REF!"}},{"$f":"IF(Data!#REF!=\"\",\"\",Data!#REF!)","v":{"$error":"#REF!"}},{"$f":"IF(Data!#REF!=\"\",\"\",Data!#REF!)","v":{"$error":"#REF!"}},{"$error":"#REF!"},{"$error":"#REF!"},{"$error":"#REF!"}]
[{"$f":"IF(Data!#REF!=\"\",\"\",Data!#REF!)","v":{"$error":"#REF!"}},{"$f":"IF(Data!#REF!=\"\",\"\",Data!#REF!)","v":{"$error":"#REF!"}},{"$f":"IF(Data!#REF!=\"\",\"\",Data!#REF!)","v":{"$error":"#REF!"}},{"$f":"IF(Data!#REF!=\"\",\"\",Data!#REF!)","v":{"$error":"#REF!"}},{"$f":"IF(Data!#REF!=\"\",\"\",Data!#REF!)","v":{"$error":"#REF!"}},{"$error":"#REF!"},{"$error":"#REF!"},{"$error":"#REF!"}]
[{"$f":"IF(Data!#REF!=\"\",\"\",Data!#REF!)","v":{"$error":"#REF!"}},{"$f":"IF(Data!#REF!=\"\",\"\",Data!#REF!)","v":{"$error":"#REF!"}},{"$f":"IF(Data!#REF!=\"\",\"\",Data!#REF!)","v":{"$error":"#REF!"}},{"$f":"IF(Data!#REF!=\"\",\"\",Data!#REF!)","v":{"$error":"#REF!"}},{"$f":"IF(Data!#REF!=\"\",\"\",Data!#REF!)","v":{"$error":"#REF!"}},{"$error":"#REF!"},{"$error":"#REF!"},{"$error":"#REF!"}]
[{"$f":"IF(Data!#REF!=\"\",\"\",Data!#REF!)","v":{"$error":"#REF!"}},{"$f":"IF(Data!#REF!=\"\",\"\",Data!#REF!)","v":{"$error":"#REF!"}},{"$f":"IF(Data!#REF!=\"\",\"\",Data!#REF!)","v":{"$error":"#REF!"}},{"$f":"IF(Data!#REF!=\"\",\"\",Data!#REF!)","v":{"$error":"#REF!"}},{"$f":"IF(Data!#REF!=\"\",\"\",Data!#REF!)","v":{"$error":"#REF!"}},{"$error":"#REF!"},{"$error":"#REF!"},{"$error":"#REF!"}]
[{"$f":"IF(Data!#REF!=\"\",\"\",Data!#REF!)","v":{"$error":"#REF!"}},{"$f":"IF(Data!#REF!=\"\",\"\",Data!#REF!)","v":{"$error":"#REF!"}},{"$f":"IF(Data!#REF!=\"\",\"\",Data!#REF!)","v":{"$error":"#REF!"}},{"$f":"IF(Data!#REF!=\"\",\"\",Data!#REF!)","v":{"$error":"#REF!"}},{"$f":"IF(Data!#REF!=\"\",\"\",Data!#REF!)","v":{"$error":"#REF!"}},{"$error":"#REF!"},{"$error":"#REF!"},{"$error":"#REF!"}]
[{"$f":"IF(Data!#REF!=\"\",\"\",Data!#REF!)","v":{"$error":"#REF!"}},{"$f":"IF(Data!#REF!=\"\",\"\",Data!#REF!)","v":{"$error":"#REF!"}},{"$f":"IF(Data!#REF!=\"\",\"\",Data!#REF!)","v":{"$error":"#REF!"}},{"$f":"IF(Data!#REF!=\"\",\"\",Data!#REF!)","v":{"$error":"#REF!"}},{"$f":"IF(Data!#REF!=\"\",\"\",Data!#REF!)","v":{"$error":"#REF!"}},{"$error":"#REF!"},{"$error":"#REF!"},{"$error":"#REF!"}]
[{"$f":"IF(Data!#REF!=\"\",\"\",Data!#REF!)","v":{"$error":"#REF!"}},{"$f":"IF(Data!#REF!=\"\",\"\",Data!#REF!)","v":{"$error":"#REF!"}},{"$f":"IF(Data!#REF!=\"\",\"\",Data!#REF!)","v":{"$error":"#REF!"}},{"$f":"IF(Data!#REF!=\"\",\"\",Data!#REF!)","v":{"$error":"#REF!"}},{"$f":"IF(Data!#REF!=\"\",\"\",Data!#REF!)","v":{"$error":"#REF!"}},{"$error":"#REF!"},{"$error":"#REF!"},{"$error":"#REF!"}]
[{"$f":"IF(Data!#REF!=\"\",\"\",Data!#REF!)","v":{"$error":"#REF!"}},{"$f":"IF(Data!#REF!=\"\",\"\",Data!#REF!)","v":{"$error":"#REF!"}},{"$f":"IF(Data!#REF!=\"\",\"\",Data!#REF!)","v":{"$error":"#REF!"}},{"$f":"IF(Data!#REF!=\"\",\"\",Data!#REF!)","v":{"$error":"#REF!"}},{"$f":"IF(Data!#REF!=\"\",\"\",Data!#REF!)","v":{"$error":"#REF!"}},{"$error":"#REF!"},{"$error":"#REF!"},{"$error":"#REF!"}]
[{"$f":"IF(Data!#REF!=\"\",\"\",Data!#REF!)","v":{"$error":"#REF!"}},{"$f":"IF(Data!#REF!=\"\",\"\",Data!#REF!)","v":{"$error":"#REF!"}},{"$f":"IF(Data!#REF!=\"\",\"\",Data!#REF!)","v":{"$error":"#REF!"}},{"$f":"IF(Data!#REF!=\"\",\"\",Data!#REF!)","v":{"$error":"#REF!"}},{"$f":"IF(Data!#REF!=\"\",\"\",Data!#REF!)","v":{"$error":"#REF!"}},{"$error":"#REF!"},{"$error":"#REF!"},{"$error":"#REF!"}]
[{"$f":"IF(Data!#REF!=\"\",\"\",Data!#REF!)","v":{"$error":"#REF!"}},{"$f":"IF(Data!#REF!=\"\",\"\",Data!#REF!)","v":{"$error":"#REF!"}},{"$f":"IF(Data!#REF!=\"\",\"\",Data!#REF!)","v":{"$error":"#REF!"}},{"$f":"IF(Data!#REF!=\"\",\"\",Data!#REF!)","v":{"$error":"#REF!"}},{"$f":"IF(Data!#REF!=\"\",\"\",Data!#REF!)","v":{"$error":"#REF!"}},{"$error":"#REF!"},{"$error":"#REF!"},{"$error":"#REF!"}]
[{"$f":"IF(Data!#REF!=\"\",\"\",Data!#REF!)","v":{"$error":"#REF!"}},{"$f":"IF(Data!#REF!=\"\",\"\",Data!#REF!)","v":{"$error":"#REF!"}},{"$f":"IF(Data!#REF!=\"\",\"\",Data!#REF!)","v":{"$error":"#REF!"}},{"$f":"IF(Data!#REF!=\"\",\"\",Data!#REF!)","v":{"$error":"#REF!"}},{"$f":"IF(Data!#REF!=\"\",\"\",Data!#REF!)","v":{"$error":"#REF!"}},{"$error":"#REF!"},{"$error":"#REF!"},{"$error":"#REF!"}]
[{"$f":"IF(Data!#REF!=\"\",\"\",Data!#REF!)","v":{"$error":"#REF!"}},{"$f":"IF(Data!#REF!=\"\",\"\",Data!#REF!)","v":{"$error":"#REF!"}},{"$f":"IF(Data!#REF!=\"\",\"\",Data!#REF!)","v":{"$error":"#REF!"}},{"$f":"IF(Data!#REF!=\"\",\"\",Data!#REF!)","v":{"$error":"#REF!"}},{"$f":"IF(Data!#REF!=\"\",\"\",Data!#REF!)","v":{"$error":"#REF!"}},{"$error":"#REF!"},{"$error":"#REF!"},{"$error":"#REF!"}]
[{"$f":"IF(Data!#REF!=\"\",\"\",Data!#REF!)","v":{"$error":"#REF!"}},{"$f":"IF(Data!#REF!=\"\",\"\",Data!#REF!)","v":{"$error":"#REF!"}},{"$f":"IF(Data!#REF!=\"\",\"\",Data!#REF!)","v":{"$error":"#REF!"}},{"$f":"IF(Data!#REF!=\"\",\"\",Data!#REF!)","v":{"$error":"#REF!"}},{"$f":"IF(Data!#REF!=\"\",\"\",Data!#REF!)","v":{"$error":"#REF!"}},{"$error":"#REF!"},{"$error":"#REF!"},{"$error":"#REF!"}]
[{"$f":"IF(Data!#REF!=\"\",\"\",Data!#REF!)","v":{"$error":"#REF!"}},{"$f":"IF(Data!#REF!=\"\",\"\",Data!#REF!)","v":{"$error":"#REF!"}},{"$f":"IF(Data!#REF!=\"\",\"\",Data!#REF!)","v":{"$error":"#REF!"}},{"$f":"IF(Data!#REF!=\"\",\"\",Data!#REF!)","v":{"$error":"#REF!"}},{"$f":"IF(Data!#REF!=\"\",\"\",Data!#REF!)","v":{"$error":"#REF!"}},{"$f":"IF(E2051>0,MONTH(E2051),\"\")","v":{"$error":"#REF!"}},{"$f":"IF(E2051>0,WEEKNUM(E2051),\"0\")","v":{"$error":"#REF!"}},{"$f":"IF(G2051>=($G$2-3),\"Ano\",\"Nie\")","v":{"$error":"#REF!"}}]
[{"$f":"IF(Data!#REF!=\"\",\"\",Data!#REF!)","v":{"$error":"#REF!"}},{"$f":"IF(Data!#REF!=\"\",\"\",Data!#REF!)","v":{"$error":"#REF!"}},{"$f":"IF(Data!#REF!=\"\",\"\",Data!#REF!)","v":{"$error":"#REF!"}},{"$f":"IF(Data!#REF!=\"\",\"\",Data!#REF!)","v":{"$error":"#REF!"}},{"$f":"IF(Data!#REF!=\"\",\"\",Data!#REF!)","v":{"$error":"#REF!"}},{"$error":"#REF!"},{"$error":"#REF!"},{"$error":"#REF!"}]
[{"$f":"IF(Data!#REF!=\"\",\"\",Data!#REF!)","v":{"$error":"#REF!"}},{"$f":"IF(Data!#REF!=\"\",\"\",Data!#REF!)","v":{"$error":"#REF!"}},{"$f":"IF(Data!#REF!=\"\",\"\",Data!#REF!)","v":{"$error":"#REF!"}},{"$f":"IF(Data!#REF!=\"\",\"\",Data!#REF!)","v":{"$error":"#REF!"}},{"$f":"IF(Data!#REF!=\"\",\"\",Data!#REF!)","v":{"$error":"#REF!"}},{"$error":"#REF!"},{"$error":"#REF!"},{"$error":"#REF!"}]
[{"$f":"IF(Data!#REF!=\"\",\"\",Data!#REF!)","v":{"$error":"#REF!"}},{"$f":"IF(Data!#REF!=\"\",\"\",Data!#REF!)","v":{"$error":"#REF!"}},{"$f":"IF(Data!#REF!=\"\",\"\",Data!#REF!)","v":{"$error":"#REF!"}},{"$f":"IF(Data!#REF!=\"\",\"\",Data!#REF!)","v":{"$error":"#REF!"}},{"$f":"IF(Data!#REF!=\"\",\"\",Data!#REF!)","v":{"$error":"#REF!"}},{"$error":"#REF!"},{"$error":"#REF!"},{"$error":"#REF!"}]
[{"$f":"IF(Data!#REF!=\"\",\"\",Data!#REF!)","v":{"$error":"#REF!"}},{"$f":"IF(Data!#REF!=\"\",\"\",Data!#REF!)","v":{"$error":"#REF!"}},{"$f":"IF(Data!#REF!=\"\",\"\",Data!#REF!)","v":{"$error":"#REF!"}},{"$f":"IF(Data!#REF!=\"\",\"\",Data!#REF!)","v":{"$error":"#REF!"}},{"$f":"IF(Data!#REF!=\"\",\"\",Data!#REF!)","v":{"$error":"#REF!"}},{"$error":"#REF!"},{"$error":"#REF!"},{"$error":"#REF!"}]
[{"$f":"IF(Data!#REF!=\"\",\"\",Data!#REF!)","v":{"$error":"#REF!"}},{"$f":"IF(Data!#REF!=\"\",\"\",Data!#REF!)","v":{"$error":"#REF!"}},{"$f":"IF(Data!#REF!=\"\",\"\",Data!#REF!)","v":{"$error":"#REF!"}},{"$f":"IF(Data!#REF!=\"\",\"\",Data!#REF!)","v":{"$error":"#REF!"}},{"$f":"IF(Data!#REF!=\"\",\"\",Data!#REF!)","v":{"$error":"#REF!"}},{"$error":"#REF!"},{"$error":"#REF!"},{"$error":"#REF!"}]
[{"$f":"IF(Data!#REF!=\"\",\"\",Data!#REF!)","v":{"$error":"#REF!"}},{"$f":"IF(Data!#REF!=\"\",\"\",Data!#REF!)","v":{"$error":"#REF!"}},{"$f":"IF(Data!#REF!=\"\",\"\",Data!#REF!)","v":{"$error":"#REF!"}},{"$f":"IF(Data!#REF!=\"\",\"\",Data!#REF!)","v":{"$error":"#REF!"}},{"$f":"IF(Data!#REF!=\"\",\"\",Data!#REF!)","v":{"$error":"#REF!"}},{"$error":"#REF!"},{"$error":"#REF!"},{"$error":"#REF!"}]
[{"$f":"IF(Data!#REF!=\"\",\"\",Data!#REF!)","v":{"$error":"#REF!"}},{"$f":"IF(Data!#REF!=\"\",\"\",Data!#REF!)","v":{"$error":"#REF!"}},{"$f":"IF(Data!#REF!=\"\",\"\",Data!#REF!)","v":{"$error":"#REF!"}},{"$f":"IF(Data!#REF!=\"\",\"\",Data!#REF!)","v":{"$error":"#REF!"}},{"$f":"IF(Data!#REF!=\"\",\"\",Data!#REF!)","v":{"$error":"#REF!"}},{"$error":"#REF!"},{"$error":"#REF!"},{"$error":"#REF!"}]
[{"$f":"IF(Data!#REF!=\"\",\"\",Data!#REF!)","v":{"$error":"#REF!"}},{"$f":"IF(Data!#REF!=\"\",\"\",Data!#REF!)","v":{"$error":"#REF!"}},{"$f":"IF(Data!#REF!=\"\",\"\",Data!#REF!)","v":{"$error":"#REF!"}},{"$f":"IF(Data!#REF!=\"\",\"\",Data!#REF!)","v":{"$error":"#REF!"}},{"$f":"IF(Data!#REF!=\"\",\"\",Data!#REF!)","v":{"$error":"#REF!"}},{"$error":"#REF!"},{"$error":"#REF!"},{"$error":"#REF!"}]
[{"$f":"IF(Data!#REF!=\"\",\"\",Data!#REF!)","v":{"$error":"#REF!"}},{"$f":"IF(Data!#REF!=\"\",\"\",Data!#REF!)","v":{"$error":"#REF!"}},{"$f":"IF(Data!#REF!=\"\",\"\",Data!#REF!)","v":{"$error":"#REF!"}},{"$f":"IF(Data!#REF!=\"\",\"\",Data!#REF!)","v":{"$error":"#REF!"}},{"$f":"IF(Data!#REF!=\"\",\"\",Data!#REF!)","v":{"$error":"#REF!"}},{"$error":"#REF!"},{"$error":"#REF!"},{"$error":"#REF!"}]
[{"$f":"IF(Data!#REF!=\"\",\"\",Data!#REF!)","v":{"$error":"#REF!"}},{"$f":"IF(Data!#REF!=\"\",\"\",Data!#REF!)","v":{"$error":"#REF!"}},{"$f":"IF(Data!#REF!=\"\",\"\",Data!#REF!)","v":{"$error":"#REF!"}},{"$f":"IF(Data!#REF!=\"\",\"\",Data!#REF!)","v":{"$error":"#REF!"}},{"$f":"IF(Data!#REF!=\"\",\"\",Data!#REF!)","v":{"$error":"#REF!"}},{"$error":"#REF!"},{"$error":"#REF!"},{"$error":"#REF!"}]
[{"$f":"IF(Data!#REF!=\"\",\"\",Data!#REF!)","v":{"$error":"#REF!"}},{"$f":"IF(Data!#REF!=\"\",\"\",Data!#REF!)","v":{"$error":"#REF!"}},{"$f":"IF(Data!#REF!=\"\",\"\",Data!#REF!)","v":{"$error":"#REF!"}},{"$f":"IF(Data!#REF!=\"\",\"\",Data!#REF!)","v":{"$error":"#REF!"}},{"$f":"IF(Data!#REF!=\"\",\"\",Data!#REF!)","v":{"$error":"#REF!"}},{"$error":"#REF!"},{"$error":"#REF!"},{"$error":"#REF!"}]
[{"$f":"IF(Data!#REF!=\"\",\"\",Data!#REF!)","v":{"$error":"#REF!"}},{"$f":"IF(Data!#REF!=\"\",\"\",Data!#REF!)","v":{"$error":"#REF!"}},{"$f":"IF(Data!#REF!=\"\",\"\",Data!#REF!)","v":{"$error":"#REF!"}},{"$f":"IF(Data!#REF!=\"\",\"\",Data!#REF!)","v":{"$error":"#REF!"}},{"$f":"IF(Data!#REF!=\"\",\"\",Data!#REF!)","v":{"$error":"#REF!"}},{"$error":"#REF!"},{"$error":"#REF!"},{"$error":"#REF!"}]
[{"$f":"IF(Data!#REF!=\"\",\"\",Data!#REF!)","v":{"$error":"#REF!"}},{"$f":"IF(Data!#REF!=\"\",\"\",Data!#REF!)","v":{"$error":"#REF!"}},{"$f":"IF(Data!#REF!=\"\",\"\",Data!#REF!)","v":{"$error":"#REF!"}},{"$f":"IF(Data!#REF!=\"\",\"\",Data!#REF!)","v":{"$error":"#REF!"}},{"$f":"IF(Data!#REF!=\"\",\"\",Data!#REF!)","v":{"$error":"#REF!"}},{"$error":"#REF!"},{"$error":"#REF!"},{"$error":"#REF!"}]
[{"$f":"IF(Data!#REF!=\"\",\"\",Data!#REF!)","v":{"$error":"#REF!"}},{"$f":"IF(Data!#REF!=\"\",\"\",Data!#REF!)","v":{"$error":"#REF!"}},{"$f":"IF(Data!#REF!=\"\",\"\",Data!#REF!)","v":{"$error":"#REF!"}},{"$f":"IF(Data!#REF!=\"\",\"\",Data!#REF!)","v":{"$error":"#REF!"}},{"$f":"IF(Data!#REF!=\"\",\"\",Data!#REF!)","v":{"$error":"#REF!"}},{"$error":"#REF!"},{"$error":"#REF!"},{"$error":"#REF!"}]
[{"$f":"IF(Data!#REF!=\"\",\"\",Data!#REF!)","v":{"$error":"#REF!"}},{"$f":"IF(Data!#REF!=\"\",\"\",Data!#REF!)","v":{"$error":"#REF!"}},{"$f":"IF(Data!#REF!=\"\",\"\",Data!#REF!)","v":{"$error":"#REF!"}},{"$f":"IF(Data!#REF!=\"\",\"\",Data!#REF!)","v":{"$error":"#REF!"}},{"$f":"IF(Data!#REF!=\"\",\"\",Data!#REF!)","v":{"$error":"#REF!"}},{"$error":"#REF!"},{"$error":"#REF!"},{"$error":"#REF!"}]
[{"$f":"IF(Data!#REF!=\"\",\"\",Data!#REF!)","v":{"$error":"#REF!"}},{"$f":"IF(Data!#REF!=\"\",\"\",Data!#REF!)","v":{"$error":"#REF!"}},{"$f":"IF(Data!#REF!=\"\",\"\",Data!#REF!)","v":{"$error":"#REF!"}},{"$f":"IF(Data!#REF!=\"\",\"\",Data!#REF!)","v":{"$error":"#REF!"}},{"$f":"IF(Data!#REF!=\"\",\"\",Data!#REF!)","v":{"$error":"#REF!"}},{"$error":"#REF!"},{"$error":"#REF!"},{"$error":"#REF!"}]
[{"$f":"IF(Data!#REF!=\"\",\"\",Data!#REF!)","v":{"$error":"#REF!"}},{"$f":"IF(Data!#REF!=\"\",\"\",Data!#REF!)","v":{"$error":"#REF!"}},{"$f":"IF(Data!#REF!=\"\",\"\",Data!#REF!)","v":{"$error":"#REF!"}},{"$f":"IF(Data!#REF!=\"\",\"\",Data!#REF!)","v":{"$error":"#REF!"}},{"$f":"IF(Data!#REF!=\"\",\"\",Data!#REF!)","v":{"$error":"#REF!"}},{"$error":"#REF!"},{"$error":"#REF!"},{"$error":"#REF!"}]
[{"$f":"IF(Data!#REF!=\"\",\"\",Data!#REF!)","v":{"$error":"#REF!"}},{"$f":"IF(Data!#REF!=\"\",\"\",Data!#REF!)","v":{"$error":"#REF!"}},{"$f":"IF(Data!#REF!=\"\",\"\",Data!#REF!)","v":{"$error":"#REF!"}},{"$f":"IF(Data!#REF!=\"\",\"\",Data!#REF!)","v":{"$error":"#REF!"}},{"$f":"IF(Data!#REF!=\"\",\"\",Data!#REF!)","v":{"$error":"#REF!"}},{"$error":"#REF!"},{"$error":"#REF!"},{"$error":"#REF!"}]
[{"$f":"IF(Data!#REF!=\"\",\"\",Data!#REF!)","v":{"$error":"#REF!"}},{"$f":"IF(Data!#REF!=\"\",\"\",Data!#REF!)","v":{"$error":"#REF!"}},{"$f":"IF(Data!#REF!=\"\",\"\",Data!#REF!)","v":{"$error":"#REF!"}},{"$f":"IF(Data!#REF!=\"\",\"\",Data!#REF!)","v":{"$error":"#REF!"}},{"$f":"IF(Data!#REF!=\"\",\"\",Data!#REF!)","v":{"$error":"#REF!"}},{"$error":"#REF!"},{"$error":"#REF!"},{"$error":"#REF!"}]
[{"$f":"IF(Data!#REF!=\"\",\"\",Data!#REF!)","v":{"$error":"#REF!"}},{"$f":"IF(Data!#REF!=\"\",\"\",Data!#REF!)","v":{"$error":"#REF!"}},{"$f":"IF(Data!#REF!=\"\",\"\",Data!#REF!)","v":{"$error":"#REF!"}},{"$f":"IF(Data!#REF!=\"\",\"\",Data!#REF!)","v":{"$error":"#REF!"}},{"$f":"IF(Data!#REF!=\"\",\"\",Data!#REF!)","v":{"$error":"#REF!"}},{"$error":"#REF!"},{"$error":"#REF!"},{"$error":"#REF!"}]
[{"$f":"IF(Data!#REF!=\"\",\"\",Data!#REF!)","v":{"$error":"#REF!"}},{"$f":"IF(Data!#REF!=\"\",\"\",Data!#REF!)","v":{"$error":"#REF!"}},{"$f":"IF(Data!#REF!=\"\",\"\",Data!#REF!)","v":{"$error":"#REF!"}},{"$f":"IF(Data!#REF!=\"\",\"\",Data!#REF!)","v":{"$error":"#REF!"}},{"$f":"IF(Data!#REF!=\"\",\"\",Data!#REF!)","v":{"$error":"#REF!"}},{"$error":"#REF!"},{"$error":"#REF!"},{"$error":"#REF!"}]
[{"$f":"IF(Data!#REF!=\"\",\"\",Data!#REF!)","v":{"$error":"#REF!"}},{"$f":"IF(Data!#REF!=\"\",\"\",Data!#REF!)","v":{"$error":"#REF!"}},{"$f":"IF(Data!#REF!=\"\",\"\",Data!#REF!)","v":{"$error":"#REF!"}},{"$f":"IF(Data!#REF!=\"\",\"\",Data!#REF!)","v":{"$error":"#REF!"}},{"$f":"IF(Data!#REF!=\"\",\"\",Data!#REF!)","v":{"$error":"#REF!"}},{"$error":"#REF!"},{"$error":"#REF!"},{"$error":"#REF!"}]
[{"$f":"IF(Data!#REF!=\"\",\"\",Data!#REF!)","v":{"$error":"#REF!"}},{"$f":"IF(Data!#REF!=\"\",\"\",Data!#REF!)","v":{"$error":"#REF!"}},{"$f":"IF(Data!#REF!=\"\",\"\",Data!#REF!)","v":{"$error":"#REF!"}},{"$f":"IF(Data!#REF!=\"\",\"\",Data!#REF!)","v":{"$error":"#REF!"}},{"$f":"IF(Data!#REF!=\"\",\"\",Data!#REF!)","v":{"$error":"#REF!"}},{"$error":"#REF!"},{"$error":"#REF!"},{"$error":"#REF!"}]
[{"$f":"IF(Data!#REF!=\"\",\"\",Data!#REF!)","v":{"$error":"#REF!"}},{"$f":"IF(Data!#REF!=\"\",\"\",Data!#REF!)","v":{"$error":"#REF!"}},{"$f":"IF(Data!#REF!=\"\",\"\",Data!#REF!)","v":{"$error":"#REF!"}},{"$f":"IF(Data!#REF!=\"\",\"\",Data!#REF!)","v":{"$error":"#REF!"}},{"$f":"IF(Data!#REF!=\"\",\"\",Data!#REF!)","v":{"$error":"#REF!"}},{"$error":"#REF!"},{"$error":"#REF!"},{"$error":"#REF!"}]
[{"$f":"IF(Data!#REF!=\"\",\"\",Data!#REF!)","v":{"$error":"#REF!"}},{"$f":"IF(Data!#REF!=\"\",\"\",Data!#REF!)","v":{"$error":"#REF!"}},{"$f":"IF(Data!#REF!=\"\",\"\",Data!#REF!)","v":{"$error":"#REF!"}},{"$f":"IF(Data!#REF!=\"\",\"\",Data!#REF!)","v":{"$error":"#REF!"}},{"$f":"IF(Data!#REF!=\"\",\"\",Data!#REF!)","v":{"$error":"#REF!"}},{"$error":"#REF!"},{"$error":"#REF!"},{"$error":"#REF!"}]
[{"$f":"IF(Data!#REF!=\"\",\"\",Data!#REF!)","v":{"$error":"#REF!"}},{"$f":"IF(Data!#REF!=\"\",\"\",Data!#REF!)","v":{"$error":"#REF!"}},{"$f":"IF(Data!#REF!=\"\",\"\",Data!#REF!)","v":{"$error":"#REF!"}},{"$f":"IF(Data!#REF!=\"\",\"\",Data!#REF!)","v":{"$error":"#REF!"}},{"$f":"IF(Data!#REF!=\"\",\"\",Data!#REF!)","v":{"$error":"#REF!"}},{"$error":"#REF!"},{"$error":"#REF!"},{"$error":"#REF!"}]
[{"$f":"IF(Data!#REF!=\"\",\"\",Data!#REF!)","v":{"$error":"#REF!"}},{"$f":"IF(Data!#REF!=\"\",\"\",Data!#REF!)","v":{"$error":"#REF!"}},{"$f":"IF(Data!#REF!=\"\",\"\",Data!#REF!)","v":{"$error":"#REF!"}},{"$f":"IF(Data!#REF!=\"\",\"\",Data!#REF!)","v":{"$error":"#REF!"}},{"$f":"IF(Data!#REF!=\"\",\"\",Data!#REF!)","v":{"$error":"#REF!"}},{"$error":"#REF!"},{"$error":"#REF!"},{"$error":"#REF!"}]
[{"$f":"IF(Data!#REF!=\"\",\"\",Data!#REF!)","v":{"$error":"#REF!"}},{"$f":"IF(Data!#REF!=\"\",\"\",Data!#REF!)","v":{"$error":"#REF!"}},{"$f":"IF(Data!#REF!=\"\",\"\",Data!#REF!)","v":{"$error":"#REF!"}},{"$f":"IF(Data!#REF!=\"\",\"\",Data!#REF!)","v":{"$error":"#REF!"}},{"$f":"IF(Data!#REF!=\"\",\"\",Data!#REF!)","v":{"$error":"#REF!"}},{"$error":"#REF!"},{"$error":"#REF!"},{"$error":"#REF!"}]
[{"$f":"IF(Data!#REF!=\"\",\"\",Data!#REF!)","v":{"$error":"#REF!"}},{"$f":"IF(Data!#REF!=\"\",\"\",Data!#REF!)","v":{"$error":"#REF!"}},{"$f":"IF(Data!#REF!=\"\",\"\",Data!#REF!)","v":{"$error":"#REF!"}},{"$f":"IF(Data!#REF!=\"\",\"\",Data!#REF!)","v":{"$error":"#REF!"}},{"$f":"IF(Data!#REF!=\"\",\"\",Data!#REF!)","v":{"$error":"#REF!"}},{"$error":"#REF!"},{"$error":"#REF!"},{"$error":"#REF!"}]
[{"$f":"IF(Data!#REF!=\"\",\"\",Data!#REF!)","v":{"$error":"#REF!"}},{"$f":"IF(Data!#REF!=\"\",\"\",Data!#REF!)","v":{"$error":"#REF!"}},{"$f":"IF(Data!#REF!=\"\",\"\",Data!#REF!)","v":{"$error":"#REF!"}},{"$f":"IF(Data!#REF!=\"\",\"\",Data!#REF!)","v":{"$error":"#REF!"}},{"$f":"IF(Data!#REF!=\"\",\"\",Data!#REF!)","v":{"$error":"#REF!"}},{"$error":"#REF!"},{"$error":"#REF!"},{"$error":"#REF!"}]
[{"$f":"IF(Data!#REF!=\"\",\"\",Data!#REF!)","v":{"$error":"#REF!"}},{"$f":"IF(Data!#REF!=\"\",\"\",Data!#REF!)","v":{"$error":"#REF!"}},{"$f":"IF(Data!#REF!=\"\",\"\",Data!#REF!)","v":{"$error":"#REF!"}},{"$f":"IF(Data!#REF!=\"\",\"\",Data!#REF!)","v":{"$error":"#REF!"}},{"$f":"IF(Data!#REF!=\"\",\"\",Data!#REF!)","v":{"$error":"#REF!"}},{"$error":"#REF!"},{"$error":"#REF!"},{"$error":"#REF!"}]
[{"$f":"IF(Data!#REF!=\"\",\"\",Data!#REF!)","v":{"$error":"#REF!"}},{"$f":"IF(Data!#REF!=\"\",\"\",Data!#REF!)","v":{"$error":"#REF!"}},{"$f":"IF(Data!#REF!=\"\",\"\",Data!#REF!)","v":{"$error":"#REF!"}},{"$f":"IF(Data!#REF!=\"\",\"\",Data!#REF!)","v":{"$error":"#REF!"}},{"$f":"IF(Data!#REF!=\"\",\"\",Data!#REF!)","v":{"$error":"#REF!"}},{"$error":"#REF!"},{"$error":"#REF!"},{"$error":"#REF!"}]
[{"$f":"IF(Data!#REF!=\"\",\"\",Data!#REF!)","v":{"$error":"#REF!"}},{"$f":"IF(Data!#REF!=\"\",\"\",Data!#REF!)","v":{"$error":"#REF!"}},{"$f":"IF(Data!#REF!=\"\",\"\",Data!#REF!)","v":{"$error":"#REF!"}},{"$f":"IF(Data!#REF!=\"\",\"\",Data!#REF!)","v":{"$error":"#REF!"}},{"$f":"IF(Data!#REF!=\"\",\"\",Data!#REF!)","v":{"$error":"#REF!"}},{"$error":"#REF!"},{"$error":"#REF!"},{"$error":"#REF!"}]
[{"$f":"IF(Data!#REF!=\"\",\"\",Data!#REF!)","v":{"$error":"#REF!"}},{"$f":"IF(Data!#REF!=\"\",\"\",Data!#REF!)","v":{"$error":"#REF!"}},{"$f":"IF(Data!#REF!=\"\",\"\",Data!#REF!)","v":{"$error":"#REF!"}},{"$f":"IF(Data!#REF!=\"\",\"\",Data!#REF!)","v":{"$error":"#REF!"}},{"$f":"IF(Data!#REF!=\"\",\"\",Data!#REF!)","v":{"$error":"#REF!"}},{"$error":"#REF!"},{"$error":"#REF!"},{"$error":"#REF!"}]
[{"$f":"IF(Data!#REF!=\"\",\"\",Data!#REF!)","v":{"$error":"#REF!"}},{"$f":"IF(Data!#REF!=\"\",\"\",Data!#REF!)","v":{"$error":"#REF!"}},{"$f":"IF(Data!#REF!=\"\",\"\",Data!#REF!)","v":{"$error":"#REF!"}},{"$f":"IF(Data!#REF!=\"\",\"\",Data!#REF!)","v":{"$error":"#REF!"}},{"$f":"IF(Data!#REF!=\"\",\"\",Data!#REF!)","v":{"$error":"#REF!"}},{"$error":"#REF!"},{"$error":"#REF!"},{"$error":"#REF!"}]
[{"$f":"IF(Data!#REF!=\"\",\"\",Data!#REF!)","v":{"$error":"#REF!"}},{"$f":"IF(Data!#REF!=\"\",\"\",Data!#REF!)","v":{"$error":"#REF!"}},{"$f":"IF(Data!#REF!=\"\",\"\",Data!#REF!)","v":{"$error":"#REF!"}},{"$f":"IF(Data!#REF!=\"\",\"\",Data!#REF!)","v":{"$error":"#REF!"}},{"$f":"IF(Data!#REF!=\"\",\"\",Data!#REF!)","v":{"$error":"#REF!"}},{"$error":"#REF!"},{"$error":"#REF!"},{"$error":"#REF!"}]
[{"$f":"IF(Data!#REF!=\"\",\"\",Data!#REF!)","v":{"$error":"#REF!"}},{"$f":"IF(Data!#REF!=\"\",\"\",Data!#REF!)","v":{"$error":"#REF!"}},{"$f":"IF(Data!#REF!=\"\",\"\",Data!#REF!)","v":{"$error":"#REF!"}},{"$f":"IF(Data!#REF!=\"\",\"\",Data!#REF!)","v":{"$error":"#REF!"}},{"$f":"IF(Data!#REF!=\"\",\"\",Data!#REF!)","v":{"$error":"#REF!"}},{"$error":"#REF!"},{"$error":"#REF!"},{"$error":"#REF!"}]
[{"$f":"IF(Data!#REF!=\"\",\"\",Data!#REF!)","v":{"$error":"#REF!"}},{"$f":"IF(Data!#REF!=\"\",\"\",Data!#REF!)","v":{"$error":"#REF!"}},{"$f":"IF(Data!#REF!=\"\",\"\",Data!#REF!)","v":{"$error":"#REF!"}},{"$f":"IF(Data!#REF!=\"\",\"\",Data!#REF!)","v":{"$error":"#REF!"}},{"$f":"IF(Data!#REF!=\"\",\"\",Data!#REF!)","v":{"$error":"#REF!"}},{"$error":"#REF!"},{"$error":"#REF!"},{"$error":"#REF!"}]
[{"$f":"IF(Data!#REF!=\"\",\"\",Data!#REF!)","v":{"$error":"#REF!"}},{"$f":"IF(Data!#REF!=\"\",\"\",Data!#REF!)","v":{"$error":"#REF!"}},{"$f":"IF(Data!#REF!=\"\",\"\",Data!#REF!)","v":{"$error":"#REF!"}},{"$f":"IF(Data!#REF!=\"\",\"\",Data!#REF!)","v":{"$error":"#REF!"}},{"$f":"IF(Data!#REF!=\"\",\"\",Data!#REF!)","v":{"$error":"#REF!"}},{"$error":"#REF!"},{"$error":"#REF!"},{"$error":"#REF!"}]
[{"$f":"IF(Data!#REF!=\"\",\"\",Data!#REF!)","v":{"$error":"#REF!"}},{"$f":"IF(Data!#REF!=\"\",\"\",Data!#REF!)","v":{"$error":"#REF!"}},{"$f":"IF(Data!#REF!=\"\",\"\",Data!#REF!)","v":{"$error":"#REF!"}},{"$f":"IF(Data!#REF!=\"\",\"\",Data!#REF!)","v":{"$error":"#REF!"}},{"$f":"IF(Data!#REF!=\"\",\"\",Data!#REF!)","v":{"$error":"#REF!"}},{"$error":"#REF!"},{"$error":"#REF!"},{"$error":"#REF!"}]
[{"$f":"IF(Data!#REF!=\"\",\"\",Data!#REF!)","v":{"$error":"#REF!"}},{"$f":"IF(Data!#REF!=\"\",\"\",Data!#REF!)","v":{"$error":"#REF!"}},{"$f":"IF(Data!#REF!=\"\",\"\",Data!#REF!)","v":{"$error":"#REF!"}},{"$f":"IF(Data!#REF!=\"\",\"\",Data!#REF!)","v":{"$error":"#REF!"}},{"$f":"IF(Data!#REF!=\"\",\"\",Data!#REF!)","v":{"$error":"#REF!"}},{"$error":"#REF!"},{"$error":"#REF!"},{"$error":"#REF!"}]
[{"$f":"IF(Data!#REF!=\"\",\"\",Data!#REF!)","v":{"$error":"#REF!"}},{"$f":"IF(Data!#REF!=\"\",\"\",Data!#REF!)","v":{"$error":"#REF!"}},{"$f":"IF(Data!#REF!=\"\",\"\",Data!#REF!)","v":{"$error":"#REF!"}},{"$f":"IF(Data!#REF!=\"\",\"\",Data!#REF!)","v":{"$error":"#REF!"}},{"$f":"IF(Data!#REF!=\"\",\"\",Data!#REF!)","v":{"$error":"#REF!"}},{"$error":"#REF!"},{"$error":"#REF!"},{"$error":"#REF!"}]
[{"$f":"IF(Data!#REF!=\"\",\"\",Data!#REF!)","v":{"$error":"#REF!"}},{"$f":"IF(Data!#REF!=\"\",\"\",Data!#REF!)","v":{"$error":"#REF!"}},{"$f":"IF(Data!#REF!=\"\",\"\",Data!#REF!)","v":{"$error":"#REF!"}},{"$f":"IF(Data!#REF!=\"\",\"\",Data!#REF!)","v":{"$error":"#REF!"}},{"$f":"IF(Data!#REF!=\"\",\"\",Data!#REF!)","v":{"$error":"#REF!"}},{"$error":"#REF!"},{"$error":"#REF!"},{"$error":"#REF!"}]
[{"$f":"IF(Data!#REF!=\"\",\"\",Data!#REF!)","v":{"$error":"#REF!"}},{"$f":"IF(Data!#REF!=\"\",\"\",Data!#REF!)","v":{"$error":"#REF!"}},{"$f":"IF(Data!#REF!=\"\",\"\",Data!#REF!)","v":{"$error":"#REF!"}},{"$f":"IF(Data!#REF!=\"\",\"\",Data!#REF!)","v":{"$error":"#REF!"}},{"$f":"IF(Data!#REF!=\"\",\"\",Data!#REF!)","v":{"$error":"#REF!"}},{"$error":"#REF!"},{"$error":"#REF!"},{"$error":"#REF!"}]
[{"$f":"IF(Data!#REF!=\"\",\"\",Data!#REF!)","v":{"$error":"#REF!"}},{"$f":"IF(Data!#REF!=\"\",\"\",Data!#REF!)","v":{"$error":"#REF!"}},{"$f":"IF(Data!#REF!=\"\",\"\",Data!#REF!)","v":{"$error":"#REF!"}},{"$f":"IF(Data!#REF!=\"\",\"\",Data!#REF!)","v":{"$error":"#REF!"}},{"$f":"IF(Data!#REF!=\"\",\"\",Data!#REF!)","v":{"$error":"#REF!"}},{"$error":"#REF!"},{"$error":"#REF!"},{"$error":"#REF!"}]
[{"$f":"IF(Data!#REF!=\"\",\"\",Data!#REF!)","v":{"$error":"#REF!"}},{"$f":"IF(Data!#REF!=\"\",\"\",Data!#REF!)","v":{"$error":"#REF!"}},{"$f":"IF(Data!#REF!=\"\",\"\",Data!#REF!)","v":{"$error":"#REF!"}},{"$f":"IF(Data!#REF!=\"\",\"\",Data!#REF!)","v":{"$error":"#REF!"}},{"$f":"IF(Data!#REF!=\"\",\"\",Data!#REF!)","v":{"$error":"#REF!"}},{"$error":"#REF!"},{"$error":"#REF!"},{"$error":"#REF!"}]
[{"$f":"IF(Data!#REF!=\"\",\"\",Data!#REF!)","v":{"$error":"#REF!"}},{"$f":"IF(Data!#REF!=\"\",\"\",Data!#REF!)","v":{"$error":"#REF!"}},{"$f":"IF(Data!#REF!=\"\",\"\",Data!#REF!)","v":{"$error":"#REF!"}},{"$f":"IF(Data!#REF!=\"\",\"\",Data!#REF!)","v":{"$error":"#REF!"}},{"$f":"IF(Data!#REF!=\"\",\"\",Data!#REF!)","v":{"$error":"#REF!"}},{"$error":"#REF!"},{"$error":"#REF!"},{"$error":"#REF!"}]
[{"$f":"IF(Data!#REF!=\"\",\"\",Data!#REF!)","v":{"$error":"#REF!"}},{"$f":"IF(Data!#REF!=\"\",\"\",Data!#REF!)","v":{"$error":"#REF!"}},{"$f":"IF(Data!#REF!=\"\",\"\",Data!#REF!)","v":{"$error":"#REF!"}},{"$f":"IF(Data!#REF!=\"\",\"\",Data!#REF!)","v":{"$error":"#REF!"}},{"$f":"IF(Data!#REF!=\"\",\"\",Data!#REF!)","v":{"$error":"#REF!"}},{"$error":"#REF!"},{"$error":"#REF!"},{"$error":"#REF!"}]
[{"$f":"IF(Data!#REF!=\"\",\"\",Data!#REF!)","v":{"$error":"#REF!"}},{"$f":"IF(Data!#REF!=\"\",\"\",Data!#REF!)","v":{"$error":"#REF!"}},{"$f":"IF(Data!#REF!=\"\",\"\",Data!#REF!)","v":{"$error":"#REF!"}},{"$f":"IF(Data!#REF!=\"\",\"\",Data!#REF!)","v":{"$error":"#REF!"}},{"$f":"IF(Data!#REF!=\"\",\"\",Data!#REF!)","v":{"$error":"#REF!"}},{"$error":"#REF!"},{"$error":"#REF!"},{"$error":"#REF!"}]
[{"$f":"IF(Data!#REF!=\"\",\"\",Data!#REF!)","v":{"$error":"#REF!"}},{"$f":"IF(Data!#REF!=\"\",\"\",Data!#REF!)","v":{"$error":"#REF!"}},{"$f":"IF(Data!#REF!=\"\",\"\",Data!#REF!)","v":{"$error":"#REF!"}},{"$f":"IF(Data!#REF!=\"\",\"\",Data!#REF!)","v":{"$error":"#REF!"}},{"$f":"IF(Data!#REF!=\"\",\"\",Data!#REF!)","v":{"$error":"#REF!"}},{"$error":"#REF!"},{"$error":"#REF!"},{"$error":"#REF!"}]
[{"$f":"IF(Data!#REF!=\"\",\"\",Data!#REF!)","v":{"$error":"#REF!"}},{"$f":"IF(Data!#REF!=\"\",\"\",Data!#REF!)","v":{"$error":"#REF!"}},{"$f":"IF(Data!#REF!=\"\",\"\",Data!#REF!)","v":{"$error":"#REF!"}},{"$f":"IF(Data!#REF!=\"\",\"\",Data!#REF!)","v":{"$error":"#REF!"}},{"$f":"IF(Data!#REF!=\"\",\"\",Data!#REF!)","v":{"$error":"#REF!"}},{"$error":"#REF!"},{"$error":"#REF!"},{"$error":"#REF!"}]
[{"$f":"IF(Data!#REF!=\"\",\"\",Data!#REF!)","v":{"$error":"#REF!"}},{"$f":"IF(Data!#REF!=\"\",\"\",Data!#REF!)","v":{"$error":"#REF!"}},{"$f":"IF(Data!#REF!=\"\",\"\",Data!#REF!)","v":{"$error":"#REF!"}},{"$f":"IF(Data!#REF!=\"\",\"\",Data!#REF!)","v":{"$error":"#REF!"}},{"$f":"IF(Data!#REF!=\"\",\"\",Data!#REF!)","v":{"$error":"#REF!"}},{"$error":"#REF!"},{"$error":"#REF!"},{"$error":"#REF!"}]
[{"$f":"IF(Data!#REF!=\"\",\"\",Data!#REF!)","v":{"$error":"#REF!"}},{"$f":"IF(Data!#REF!=\"\",\"\",Data!#REF!)","v":{"$error":"#REF!"}},{"$f":"IF(Data!#REF!=\"\",\"\",Data!#REF!)","v":{"$error":"#REF!"}},{"$f":"IF(Data!#REF!=\"\",\"\",Data!#REF!)","v":{"$error":"#REF!"}},{"$f":"IF(Data!#REF!=\"\",\"\",Data!#REF!)","v":{"$error":"#REF!"}},{"$error":"#REF!"},{"$error":"#REF!"},{"$error":"#REF!"}]
[{"$f":"IF(Data!#REF!=\"\",\"\",Data!#REF!)","v":{"$error":"#REF!"}},{"$f":"IF(Data!#REF!=\"\",\"\",Data!#REF!)","v":{"$error":"#REF!"}},{"$f":"IF(Data!#REF!=\"\",\"\",Data!#REF!)","v":{"$error":"#REF!"}},{"$f":"IF(Data!#REF!=\"\",\"\",Data!#REF!)","v":{"$error":"#REF!"}},{"$f":"IF(Data!#REF!=\"\",\"\",Data!#REF!)","v":{"$error":"#REF!"}},{"$error":"#REF!"},{"$error":"#REF!"},{"$error":"#REF!"}]
[{"$f":"IF(Data!#REF!=\"\",\"\",Data!#REF!)","v":{"$error":"#REF!"}},{"$f":"IF(Data!#REF!=\"\",\"\",Data!#REF!)","v":{"$error":"#REF!"}},{"$f":"IF(Data!#REF!=\"\",\"\",Data!#REF!)","v":{"$error":"#REF!"}},{"$f":"IF(Data!#REF!=\"\",\"\",Data!#REF!)","v":{"$error":"#REF!"}},{"$f":"IF(Data!#REF!=\"\",\"\",Data!#REF!)","v":{"$error":"#REF!"}},{"$error":"#REF!"},{"$error":"#REF!"},{"$error":"#REF!"}]
[{"$f":"IF(Data!#REF!=\"\",\"\",Data!#REF!)","v":{"$error":"#REF!"}},{"$f":"IF(Data!#REF!=\"\",\"\",Data!#REF!)","v":{"$error":"#REF!"}},{"$f":"IF(Data!#REF!=\"\",\"\",Data!#REF!)","v":{"$error":"#REF!"}},{"$f":"IF(Data!#REF!=\"\",\"\",Data!#REF!)","v":{"$error":"#REF!"}},{"$f":"IF(Data!#REF!=\"\",\"\",Data!#REF!)","v":{"$error":"#REF!"}},{"$error":"#REF!"},{"$error":"#REF!"},{"$error":"#REF!"}]
[{"$f":"IF(Data!#REF!=\"\",\"\",Data!#REF!)","v":{"$error":"#REF!"}},{"$f":"IF(Data!#REF!=\"\",\"\",Data!#REF!)","v":{"$error":"#REF!"}},{"$f":"IF(Data!#REF!=\"\",\"\",Data!#REF!)","v":{"$error":"#REF!"}},{"$f":"IF(Data!#REF!=\"\",\"\",Data!#REF!)","v":{"$error":"#REF!"}},{"$f":"IF(Data!#REF!=\"\",\"\",Data!#REF!)","v":{"$error":"#REF!"}},{"$error":"#REF!"},{"$error":"#REF!"},{"$error":"#REF!"}]
[{"$f":"IF(Data!#REF!=\"\",\"\",Data!#REF!)","v":{"$error":"#REF!"}},{"$f":"IF(Data!#REF!=\"\",\"\",Data!#REF!)","v":{"$error":"#REF!"}},{"$f":"IF(Data!#REF!=\"\",\"\",Data!#REF!)","v":{"$error":"#REF!"}},{"$f":"IF(Data!#REF!=\"\",\"\",Data!#REF!)","v":{"$error":"#REF!"}},{"$f":"IF(Data!#REF!=\"\",\"\",Data!#REF!)","v":{"$error":"#REF!"}},{"$error":"#REF!"},{"$error":"#REF!"},{"$error":"#REF!"}]
[{"$f":"IF(Data!#REF!=\"\",\"\",Data!#REF!)","v":{"$error":"#REF!"}},{"$f":"IF(Data!#REF!=\"\",\"\",Data!#REF!)","v":{"$error":"#REF!"}},{"$f":"IF(Data!#REF!=\"\",\"\",Data!#REF!)","v":{"$error":"#REF!"}},{"$f":"IF(Data!#REF!=\"\",\"\",Data!#REF!)","v":{"$error":"#REF!"}},{"$f":"IF(Data!#REF!=\"\",\"\",Data!#REF!)","v":{"$error":"#REF!"}},{"$error":"#REF!"},{"$error":"#REF!"},{"$error":"#REF!"}]
[{"$f":"IF(Data!#REF!=\"\",\"\",Data!#REF!)","v":{"$error":"#REF!"}},{"$f":"IF(Data!#REF!=\"\",\"\",Data!#REF!)","v":{"$error":"#REF!"}},{"$f":"IF(Data!#REF!=\"\",\"\",Data!#REF!)","v":{"$error":"#REF!"}},{"$f":"IF(Data!#REF!=\"\",\"\",Data!#REF!)","v":{"$error":"#REF!"}},{"$f":"IF(Data!#REF!=\"\",\"\",Data!#REF!)","v":{"$error":"#REF!"}},{"$error":"#REF!"},{"$error":"#REF!"},{"$error":"#REF!"}]
[{"$f":"IF(Data!#REF!=\"\",\"\",Data!#REF!)","v":{"$error":"#REF!"}},{"$f":"IF(Data!#REF!=\"\",\"\",Data!#REF!)","v":{"$error":"#REF!"}},{"$f":"IF(Data!#REF!=\"\",\"\",Data!#REF!)","v":{"$error":"#REF!"}},{"$f":"IF(Data!#REF!=\"\",\"\",Data!#REF!)","v":{"$error":"#REF!"}},{"$f":"IF(Data!#REF!=\"\",\"\",Data!#REF!)","v":{"$error":"#REF!"}},{"$error":"#REF!"},{"$error":"#REF!"},{"$error":"#REF!"}]
[{"$f":"IF(Data!#REF!=\"\",\"\",Data!#REF!)","v":{"$error":"#REF!"}},{"$f":"IF(Data!#REF!=\"\",\"\",Data!#REF!)","v":{"$error":"#REF!"}},{"$f":"IF(Data!#REF!=\"\",\"\",Data!#REF!)","v":{"$error":"#REF!"}},{"$f":"IF(Data!#REF!=\"\",\"\",Data!#REF!)","v":{"$error":"#REF!"}},{"$f":"IF(Data!#REF!=\"\",\"\",Data!#REF!)","v":{"$error":"#REF!"}},{"$error":"#REF!"},{"$error":"#REF!"},{"$error":"#REF!"}]
[{"$f":"IF(Data!#REF!=\"\",\"\",Data!#REF!)","v":{"$error":"#REF!"}},{"$f":"IF(Data!#REF!=\"\",\"\",Data!#REF!)","v":{"$error":"#REF!"}},{"$f":"IF(Data!#REF!=\"\",\"\",Data!#REF!)","v":{"$error":"#REF!"}},{"$f":"IF(Data!#REF!=\"\",\"\",Data!#REF!)","v":{"$error":"#REF!"}},{"$f":"IF(Data!#REF!=\"\",\"\",Data!#REF!)","v":{"$error":"#REF!"}},{"$error":"#REF!"},{"$error":"#REF!"},{"$error":"#REF!"}]
[{"$f":"IF(Data!#REF!=\"\",\"\",Data!#REF!)","v":{"$error":"#REF!"}},{"$f":"IF(Data!#REF!=\"\",\"\",Data!#REF!)","v":{"$error":"#REF!"}},{"$f":"IF(Data!#REF!=\"\",\"\",Data!#REF!)","v":{"$error":"#REF!"}},{"$f":"IF(Data!#REF!=\"\",\"\",Data!#REF!)","v":{"$error":"#REF!"}},{"$f":"IF(Data!#REF!=\"\",\"\",Data!#REF!)","v":{"$error":"#REF!"}},{"$f":"IF(E2115>0,MONTH(E2115),\"\")","v":{"$error":"#REF!"}},{"$f":"IF(E2115>0,WEEKNUM(E2115),\"0\")","v":{"$error":"#REF!"}},{"$f":"IF(G2115>=($G$2-3),\"Ano\",\"Nie\")","v":{"$error":"#REF!"}}]
[{"$f":"IF(Data!#REF!=\"\",\"\",Data!#REF!)","v":{"$error":"#REF!"}},{"$f":"IF(Data!#REF!=\"\",\"\",Data!#REF!)","v":{"$error":"#REF!"}},{"$f":"IF(Data!#REF!=\"\",\"\",Data!#REF!)","v":{"$error":"#REF!"}},{"$f":"IF(Data!#REF!=\"\",\"\",Data!#REF!)","v":{"$error":"#REF!"}},{"$f":"IF(Data!#REF!=\"\",\"\",Data!#REF!)","v":{"$error":"#REF!"}},{"$error":"#REF!"},{"$error":"#REF!"},{"$error":"#REF!"}]
[{"$f":"IF(Data!#REF!=\"\",\"\",Data!#REF!)","v":{"$error":"#REF!"}},{"$f":"IF(Data!#REF!=\"\",\"\",Data!#REF!)","v":{"$error":"#REF!"}},{"$f":"IF(Data!#REF!=\"\",\"\",Data!#REF!)","v":{"$error":"#REF!"}},{"$f":"IF(Data!#REF!=\"\",\"\",Data!#REF!)","v":{"$error":"#REF!"}},{"$f":"IF(Data!#REF!=\"\",\"\",Data!#REF!)","v":{"$error":"#REF!"}},{"$error":"#REF!"},{"$error":"#REF!"},{"$error":"#REF!"}]
[{"$f":"IF(Data!#REF!=\"\",\"\",Data!#REF!)","v":{"$error":"#REF!"}},{"$f":"IF(Data!#REF!=\"\",\"\",Data!#REF!)","v":{"$error":"#REF!"}},{"$f":"IF(Data!#REF!=\"\",\"\",Data!#REF!)","v":{"$error":"#REF!"}},{"$f":"IF(Data!#REF!=\"\",\"\",Data!#REF!)","v":{"$error":"#REF!"}},{"$f":"IF(Data!#REF!=\"\",\"\",Data!#REF!)","v":{"$error":"#REF!"}},{"$error":"#REF!"},{"$error":"#REF!"},{"$error":"#REF!"}]
[{"$f":"IF(Data!#REF!=\"\",\"\",Data!#REF!)","v":{"$error":"#REF!"}},{"$f":"IF(Data!#REF!=\"\",\"\",Data!#REF!)","v":{"$error":"#REF!"}},{"$f":"IF(Data!#REF!=\"\",\"\",Data!#REF!)","v":{"$error":"#REF!"}},{"$f":"IF(Data!#REF!=\"\",\"\",Data!#REF!)","v":{"$error":"#REF!"}},{"$f":"IF(Data!#REF!=\"\",\"\",Data!#REF!)","v":{"$error":"#REF!"}},{"$error":"#REF!"},{"$error":"#REF!"},{"$error":"#REF!"}]
[{"$f":"IF(Data!#REF!=\"\",\"\",Data!#REF!)","v":{"$error":"#REF!"}},{"$f":"IF(Data!#REF!=\"\",\"\",Data!#REF!)","v":{"$error":"#REF!"}},{"$f":"IF(Data!#REF!=\"\",\"\",Data!#REF!)","v":{"$error":"#REF!"}},{"$f":"IF(Data!#REF!=\"\",\"\",Data!#REF!)","v":{"$error":"#REF!"}},{"$f":"IF(Data!#REF!=\"\",\"\",Data!#REF!)","v":{"$error":"#REF!"}},{"$error":"#REF!"},{"$error":"#REF!"},{"$error":"#REF!"}]
[{"$f":"IF(Data!#REF!=\"\",\"\",Data!#REF!)","v":{"$error":"#REF!"}},{"$f":"IF(Data!#REF!=\"\",\"\",Data!#REF!)","v":{"$error":"#REF!"}},{"$f":"IF(Data!#REF!=\"\",\"\",Data!#REF!)","v":{"$error":"#REF!"}},{"$f":"IF(Data!#REF!=\"\",\"\",Data!#REF!)","v":{"$error":"#REF!"}},{"$f":"IF(Data!#REF!=\"\",\"\",Data!#REF!)","v":{"$error":"#REF!"}},{"$error":"#REF!"},{"$error":"#REF!"},{"$error":"#REF!"}]
[{"$f":"IF(Data!#REF!=\"\",\"\",Data!#REF!)","v":{"$error":"#REF!"}},{"$f":"IF(Data!#REF!=\"\",\"\",Data!#REF!)","v":{"$error":"#REF!"}},{"$f":"IF(Data!#REF!=\"\",\"\",Data!#REF!)","v":{"$error":"#REF!"}},{"$f":"IF(Data!#REF!=\"\",\"\",Data!#REF!)","v":{"$error":"#REF!"}},{"$f":"IF(Data!#REF!=\"\",\"\",Data!#REF!)","v":{"$error":"#REF!"}},{"$error":"#REF!"},{"$error":"#REF!"},{"$error":"#REF!"}]
[{"$f":"IF(Data!#REF!=\"\",\"\",Data!#REF!)","v":{"$error":"#REF!"}},{"$f":"IF(Data!#REF!=\"\",\"\",Data!#REF!)","v":{"$error":"#REF!"}},{"$f":"IF(Data!#REF!=\"\",\"\",Data!#REF!)","v":{"$error":"#REF!"}},{"$f":"IF(Data!#REF!=\"\",\"\",Data!#REF!)","v":{"$error":"#REF!"}},{"$f":"IF(Data!#REF!=\"\",\"\",Data!#REF!)","v":{"$error":"#REF!"}},{"$error":"#REF!"},{"$error":"#REF!"},{"$error":"#REF!"}]
[{"$f":"IF(Data!#REF!=\"\",\"\",Data!#REF!)","v":{"$error":"#REF!"}},{"$f":"IF(Data!#REF!=\"\",\"\",Data!#REF!)","v":{"$error":"#REF!"}},{"$f":"IF(Data!#REF!=\"\",\"\",Data!#REF!)","v":{"$error":"#REF!"}},{"$f":"IF(Data!#REF!=\"\",\"\",Data!#REF!)","v":{"$error":"#REF!"}},{"$f":"IF(Data!#REF!=\"\",\"\",Data!#REF!)","v":{"$error":"#REF!"}},{"$error":"#REF!"},{"$error":"#REF!"},{"$error":"#REF!"}]
[{"$f":"IF(Data!#REF!=\"\",\"\",Data!#REF!)","v":{"$error":"#REF!"}},{"$f":"IF(Data!#REF!=\"\",\"\",Data!#REF!)","v":{"$error":"#REF!"}},{"$f":"IF(Data!#REF!=\"\",\"\",Data!#REF!)","v":{"$error":"#REF!"}},{"$f":"IF(Data!#REF!=\"\",\"\",Data!#REF!)","v":{"$error":"#REF!"}},{"$f":"IF(Data!#REF!=\"\",\"\",Data!#REF!)","v":{"$error":"#REF!"}},{"$error":"#REF!"},{"$error":"#REF!"},{"$error":"#REF!"}]
[{"$f":"IF(Data!#REF!=\"\",\"\",Data!#REF!)","v":{"$error":"#REF!"}},{"$f":"IF(Data!#REF!=\"\",\"\",Data!#REF!)","v":{"$error":"#REF!"}},{"$f":"IF(Data!#REF!=\"\",\"\",Data!#REF!)","v":{"$error":"#REF!"}},{"$f":"IF(Data!#REF!=\"\",\"\",Data!#REF!)","v":{"$error":"#REF!"}},{"$f":"IF(Data!#REF!=\"\",\"\",Data!#REF!)","v":{"$error":"#REF!"}},{"$error":"#REF!"},{"$error":"#REF!"},{"$error":"#REF!"}]
[{"$f":"IF(Data!#REF!=\"\",\"\",Data!#REF!)","v":{"$error":"#REF!"}},{"$f":"IF(Data!#REF!=\"\",\"\",Data!#REF!)","v":{"$error":"#REF!"}},{"$f":"IF(Data!#REF!=\"\",\"\",Data!#REF!)","v":{"$error":"#REF!"}},{"$f":"IF(Data!#REF!=\"\",\"\",Data!#REF!)","v":{"$error":"#REF!"}},{"$f":"IF(Data!#REF!=\"\",\"\",Data!#REF!)","v":{"$error":"#REF!"}},{"$error":"#REF!"},{"$error":"#REF!"},{"$error":"#REF!"}]
[{"$f":"IF(Data!#REF!=\"\",\"\",Data!#REF!)","v":{"$error":"#REF!"}},{"$f":"IF(Data!#REF!=\"\",\"\",Data!#REF!)","v":{"$error":"#REF!"}},{"$f":"IF(Data!#REF!=\"\",\"\",Data!#REF!)","v":{"$error":"#REF!"}},{"$f":"IF(Data!#REF!=\"\",\"\",Data!#REF!)","v":{"$error":"#REF!"}},{"$f":"IF(Data!#REF!=\"\",\"\",Data!#REF!)","v":{"$error":"#REF!"}},{"$error":"#REF!"},{"$error":"#REF!"},{"$error":"#REF!"}]
[{"$f":"IF(Data!#REF!=\"\",\"\",Data!#REF!)","v":{"$error":"#REF!"}},{"$f":"IF(Data!#REF!=\"\",\"\",Data!#REF!)","v":{"$error":"#REF!"}},{"$f":"IF(Data!#REF!=\"\",\"\",Data!#REF!)","v":{"$error":"#REF!"}},{"$f":"IF(Data!#REF!=\"\",\"\",Data!#REF!)","v":{"$error":"#REF!"}},{"$f":"IF(Data!#REF!=\"\",\"\",Data!#REF!)","v":{"$error":"#REF!"}},{"$error":"#REF!"},{"$error":"#REF!"},{"$error":"#REF!"}]
[{"$f":"IF(Data!#REF!=\"\",\"\",Data!#REF!)","v":{"$error":"#REF!"}},{"$f":"IF(Data!#REF!=\"\",\"\",Data!#REF!)","v":{"$error":"#REF!"}},{"$f":"IF(Data!#REF!=\"\",\"\",Data!#REF!)","v":{"$error":"#REF!"}},{"$f":"IF(Data!#REF!=\"\",\"\",Data!#REF!)","v":{"$error":"#REF!"}},{"$f":"IF(Data!#REF!=\"\",\"\",Data!#REF!)","v":{"$error":"#REF!"}},{"$error":"#REF!"},{"$error":"#REF!"},{"$error":"#REF!"}]
[{"$f":"IF(Data!#REF!=\"\",\"\",Data!#REF!)","v":{"$error":"#REF!"}},{"$f":"IF(Data!#REF!=\"\",\"\",Data!#REF!)","v":{"$error":"#REF!"}},{"$f":"IF(Data!#REF!=\"\",\"\",Data!#REF!)","v":{"$error":"#REF!"}},{"$f":"IF(Data!#REF!=\"\",\"\",Data!#REF!)","v":{"$error":"#REF!"}},{"$f":"IF(Data!#REF!=\"\",\"\",Data!#REF!)","v":{"$error":"#REF!"}},{"$error":"#REF!"},{"$error":"#REF!"},{"$error":"#REF!"}]
[{"$f":"IF(Data!#REF!=\"\",\"\",Data!#REF!)","v":{"$error":"#REF!"}},{"$f":"IF(Data!#REF!=\"\",\"\",Data!#REF!)","v":{"$error":"#REF!"}},{"$f":"IF(Data!#REF!=\"\",\"\",Data!#REF!)","v":{"$error":"#REF!"}},{"$f":"IF(Data!#REF!=\"\",\"\",Data!#REF!)","v":{"$error":"#REF!"}},{"$f":"IF(Data!#REF!=\"\",\"\",Data!#REF!)","v":{"$error":"#REF!"}},{"$error":"#REF!"},{"$error":"#REF!"},{"$error":"#REF!"}]
[{"$f":"IF(Data!#REF!=\"\",\"\",Data!#REF!)","v":{"$error":"#REF!"}},{"$f":"IF(Data!#REF!=\"\",\"\",Data!#REF!)","v":{"$error":"#REF!"}},{"$f":"IF(Data!#REF!=\"\",\"\",Data!#REF!)","v":{"$error":"#REF!"}},{"$f":"IF(Data!#REF!=\"\",\"\",Data!#REF!)","v":{"$error":"#REF!"}},{"$f":"IF(Data!#REF!=\"\",\"\",Data!#REF!)","v":{"$error":"#REF!"}},{"$error":"#REF!"},{"$error":"#REF!"},{"$error":"#REF!"}]
[{"$f":"IF(Data!#REF!=\"\",\"\",Data!#REF!)","v":{"$error":"#REF!"}},{"$f":"IF(Data!#REF!=\"\",\"\",Data!#REF!)","v":{"$error":"#REF!"}},{"$f":"IF(Data!#REF!=\"\",\"\",Data!#REF!)","v":{"$error":"#REF!"}},{"$f":"IF(Data!#REF!=\"\",\"\",Data!#REF!)","v":{"$error":"#REF!"}},{"$f":"IF(Data!#REF!=\"\",\"\",Data!#REF!)","v":{"$error":"#REF!"}},{"$error":"#REF!"},{"$error":"#REF!"},{"$error":"#REF!"}]
[{"$f":"IF(Data!#REF!=\"\",\"\",Data!#REF!)","v":{"$error":"#REF!"}},{"$f":"IF(Data!#REF!=\"\",\"\",Data!#REF!)","v":{"$error":"#REF!"}},{"$f":"IF(Data!#REF!=\"\",\"\",Data!#REF!)","v":{"$error":"#REF!"}},{"$f":"IF(Data!#REF!=\"\",\"\",Data!#REF!)","v":{"$error":"#REF!"}},{"$f":"IF(Data!#REF!=\"\",\"\",Data!#REF!)","v":{"$error":"#REF!"}},{"$error":"#REF!"},{"$error":"#REF!"},{"$error":"#REF!"}]
[{"$f":"IF(Data!#REF!=\"\",\"\",Data!#REF!)","v":{"$error":"#REF!"}},{"$f":"IF(Data!#REF!=\"\",\"\",Data!#REF!)","v":{"$error":"#REF!"}},{"$f":"IF(Data!#REF!=\"\",\"\",Data!#REF!)","v":{"$error":"#REF!"}},{"$f":"IF(Data!#REF!=\"\",\"\",Data!#REF!)","v":{"$error":"#REF!"}},{"$f":"IF(Data!#REF!=\"\",\"\",Data!#REF!)","v":{"$error":"#REF!"}},{"$error":"#REF!"},{"$error":"#REF!"},{"$error":"#REF!"}]
[{"$f":"IF(Data!#REF!=\"\",\"\",Data!#REF!)","v":{"$error":"#REF!"}},{"$f":"IF(Data!#REF!=\"\",\"\",Data!#REF!)","v":{"$error":"#REF!"}},{"$f":"IF(Data!#REF!=\"\",\"\",Data!#REF!)","v":{"$error":"#REF!"}},{"$f":"IF(Data!#REF!=\"\",\"\",Data!#REF!)","v":{"$error":"#REF!"}},{"$f":"IF(Data!#REF!=\"\",\"\",Data!#REF!)","v":{"$error":"#REF!"}},{"$error":"#REF!"},{"$error":"#REF!"},{"$error":"#REF!"}]
[{"$f":"IF(Data!#REF!=\"\",\"\",Data!#REF!)","v":{"$error":"#REF!"}},{"$f":"IF(Data!#REF!=\"\",\"\",Data!#REF!)","v":{"$error":"#REF!"}},{"$f":"IF(Data!#REF!=\"\",\"\",Data!#REF!)","v":{"$error":"#REF!"}},{"$f":"IF(Data!#REF!=\"\",\"\",Data!#REF!)","v":{"$error":"#REF!"}},{"$f":"IF(Data!#REF!=\"\",\"\",Data!#REF!)","v":{"$error":"#REF!"}},{"$error":"#REF!"},{"$error":"#REF!"},{"$error":"#REF!"}]
[{"$f":"IF(Data!#REF!=\"\",\"\",Data!#REF!)","v":{"$error":"#REF!"}},{"$f":"IF(Data!#REF!=\"\",\"\",Data!#REF!)","v":{"$error":"#REF!"}},{"$f":"IF(Data!#REF!=\"\",\"\",Data!#REF!)","v":{"$error":"#REF!"}},{"$f":"IF(Data!#REF!=\"\",\"\",Data!#REF!)","v":{"$error":"#REF!"}},{"$f":"IF(Data!#REF!=\"\",\"\",Data!#REF!)","v":{"$error":"#REF!"}},{"$error":"#REF!"},{"$error":"#REF!"},{"$error":"#REF!"}]
[{"$f":"IF(Data!#REF!=\"\",\"\",Data!#REF!)","v":{"$error":"#REF!"}},{"$f":"IF(Data!#REF!=\"\",\"\",Data!#REF!)","v":{"$error":"#REF!"}},{"$f":"IF(Data!#REF!=\"\",\"\",Data!#REF!)","v":{"$error":"#REF!"}},{"$f":"IF(Data!#REF!=\"\",\"\",Data!#REF!)","v":{"$error":"#REF!"}},{"$f":"IF(Data!#REF!=\"\",\"\",Data!#REF!)","v":{"$error":"#REF!"}},{"$error":"#REF!"},{"$error":"#REF!"},{"$error":"#REF!"}]
[{"$f":"IF(Data!#REF!=\"\",\"\",Data!#REF!)","v":{"$error":"#REF!"}},{"$f":"IF(Data!#REF!=\"\",\"\",Data!#REF!)","v":{"$error":"#REF!"}},{"$f":"IF(Data!#REF!=\"\",\"\",Data!#REF!)","v":{"$error":"#REF!"}},{"$f":"IF(Data!#REF!=\"\",\"\",Data!#REF!)","v":{"$error":"#REF!"}},{"$f":"IF(Data!#REF!=\"\",\"\",Data!#REF!)","v":{"$error":"#REF!"}},{"$error":"#REF!"},{"$error":"#REF!"},{"$error":"#REF!"}]
[{"$f":"IF(Data!#REF!=\"\",\"\",Data!#REF!)","v":{"$error":"#REF!"}},{"$f":"IF(Data!#REF!=\"\",\"\",Data!#REF!)","v":{"$error":"#REF!"}},{"$f":"IF(Data!#REF!=\"\",\"\",Data!#REF!)","v":{"$error":"#REF!"}},{"$f":"IF(Data!#REF!=\"\",\"\",Data!#REF!)","v":{"$error":"#REF!"}},{"$f":"IF(Data!#REF!=\"\",\"\",Data!#REF!)","v":{"$error":"#REF!"}},{"$error":"#REF!"},{"$error":"#REF!"},{"$error":"#REF!"}]
[{"$f":"IF(Data!#REF!=\"\",\"\",Data!#REF!)","v":{"$error":"#REF!"}},{"$f":"IF(Data!#REF!=\"\",\"\",Data!#REF!)","v":{"$error":"#REF!"}},{"$f":"IF(Data!#REF!=\"\",\"\",Data!#REF!)","v":{"$error":"#REF!"}},{"$f":"IF(Data!#REF!=\"\",\"\",Data!#REF!)","v":{"$error":"#REF!"}},{"$f":"IF(Data!#REF!=\"\",\"\",Data!#REF!)","v":{"$error":"#REF!"}},{"$error":"#REF!"},{"$error":"#REF!"},{"$error":"#REF!"}]
[{"$f":"IF(Data!#REF!=\"\",\"\",Data!#REF!)","v":{"$error":"#REF!"}},{"$f":"IF(Data!#REF!=\"\",\"\",Data!#REF!)","v":{"$error":"#REF!"}},{"$f":"IF(Data!#REF!=\"\",\"\",Data!#REF!)","v":{"$error":"#REF!"}},{"$f":"IF(Data!#REF!=\"\",\"\",Data!#REF!)","v":{"$error":"#REF!"}},{"$f":"IF(Data!#REF!=\"\",\"\",Data!#REF!)","v":{"$error":"#REF!"}},{"$error":"#REF!"},{"$error":"#REF!"},{"$error":"#REF!"}]
[{"$f":"IF(Data!#REF!=\"\",\"\",Data!#REF!)","v":{"$error":"#REF!"}},{"$f":"IF(Data!#REF!=\"\",\"\",Data!#REF!)","v":{"$error":"#REF!"}},{"$f":"IF(Data!#REF!=\"\",\"\",Data!#REF!)","v":{"$error":"#REF!"}},{"$f":"IF(Data!#REF!=\"\",\"\",Data!#REF!)","v":{"$error":"#REF!"}},{"$f":"IF(Data!#REF!=\"\",\"\",Data!#REF!)","v":{"$error":"#REF!"}},{"$error":"#REF!"},{"$error":"#REF!"},{"$error":"#REF!"}]
[{"$f":"IF(Data!#REF!=\"\",\"\",Data!#REF!)","v":{"$error":"#REF!"}},{"$f":"IF(Data!#REF!=\"\",\"\",Data!#REF!)","v":{"$error":"#REF!"}},{"$f":"IF(Data!#REF!=\"\",\"\",Data!#REF!)","v":{"$error":"#REF!"}},{"$f":"IF(Data!#REF!=\"\",\"\",Data!#REF!)","v":{"$error":"#REF!"}},{"$f":"IF(Data!#REF!=\"\",\"\",Data!#REF!)","v":{"$error":"#REF!"}},{"$error":"#REF!"},{"$error":"#REF!"},{"$error":"#REF!"}]
[{"$f":"IF(Data!#REF!=\"\",\"\",Data!#REF!)","v":{"$error":"#REF!"}},{"$f":"IF(Data!#REF!=\"\",\"\",Data!#REF!)","v":{"$error":"#REF!"}},{"$f":"IF(Data!#REF!=\"\",\"\",Data!#REF!)","v":{"$error":"#REF!"}},{"$f":"IF(Data!#REF!=\"\",\"\",Data!#REF!)","v":{"$error":"#REF!"}},{"$f":"IF(Data!#REF!=\"\",\"\",Data!#REF!)","v":{"$error":"#REF!"}},{"$error":"#REF!"},{"$error":"#REF!"},{"$error":"#REF!"}]
[{"$f":"IF(Data!#REF!=\"\",\"\",Data!#REF!)","v":{"$error":"#REF!"}},{"$f":"IF(Data!#REF!=\"\",\"\",Data!#REF!)","v":{"$error":"#REF!"}},{"$f":"IF(Data!#REF!=\"\",\"\",Data!#REF!)","v":{"$error":"#REF!"}},{"$f":"IF(Data!#REF!=\"\",\"\",Data!#REF!)","v":{"$error":"#REF!"}},{"$f":"IF(Data!#REF!=\"\",\"\",Data!#REF!)","v":{"$error":"#REF!"}},{"$error":"#REF!"},{"$error":"#REF!"},{"$error":"#REF!"}]
[{"$f":"IF(Data!#REF!=\"\",\"\",Data!#REF!)","v":{"$error":"#REF!"}},{"$f":"IF(Data!#REF!=\"\",\"\",Data!#REF!)","v":{"$error":"#REF!"}},{"$f":"IF(Data!#REF!=\"\",\"\",Data!#REF!)","v":{"$error":"#REF!"}},{"$f":"IF(Data!#REF!=\"\",\"\",Data!#REF!)","v":{"$error":"#REF!"}},{"$f":"IF(Data!#REF!=\"\",\"\",Data!#REF!)","v":{"$error":"#REF!"}},{"$error":"#REF!"},{"$error":"#REF!"},{"$error":"#REF!"}]
[{"$f":"IF(Data!#REF!=\"\",\"\",Data!#REF!)","v":{"$error":"#REF!"}},{"$f":"IF(Data!#REF!=\"\",\"\",Data!#REF!)","v":{"$error":"#REF!"}},{"$f":"IF(Data!#REF!=\"\",\"\",Data!#REF!)","v":{"$error":"#REF!"}},{"$f":"IF(Data!#REF!=\"\",\"\",Data!#REF!)","v":{"$error":"#REF!"}},{"$f":"IF(Data!#REF!=\"\",\"\",Data!#REF!)","v":{"$error":"#REF!"}},{"$error":"#REF!"},{"$error":"#REF!"},{"$error":"#REF!"}]
[{"$f":"IF(Data!#REF!=\"\",\"\",Data!#REF!)","v":{"$error":"#REF!"}},{"$f":"IF(Data!#REF!=\"\",\"\",Data!#REF!)","v":{"$error":"#REF!"}},{"$f":"IF(Data!#REF!=\"\",\"\",Data!#REF!)","v":{"$error":"#REF!"}},{"$f":"IF(Data!#REF!=\"\",\"\",Data!#REF!)","v":{"$error":"#REF!"}},{"$f":"IF(Data!#REF!=\"\",\"\",Data!#REF!)","v":{"$error":"#REF!"}},{"$error":"#REF!"},{"$error":"#REF!"},{"$error":"#REF!"}]
[{"$f":"IF(Data!#REF!=\"\",\"\",Data!#REF!)","v":{"$error":"#REF!"}},{"$f":"IF(Data!#REF!=\"\",\"\",Data!#REF!)","v":{"$error":"#REF!"}},{"$f":"IF(Data!#REF!=\"\",\"\",Data!#REF!)","v":{"$error":"#REF!"}},{"$f":"IF(Data!#REF!=\"\",\"\",Data!#REF!)","v":{"$error":"#REF!"}},{"$f":"IF(Data!#REF!=\"\",\"\",Data!#REF!)","v":{"$error":"#REF!"}},{"$error":"#REF!"},{"$error":"#REF!"},{"$error":"#REF!"}]
[{"$f":"IF(Data!#REF!=\"\",\"\",Data!#REF!)","v":{"$error":"#REF!"}},{"$f":"IF(Data!#REF!=\"\",\"\",Data!#REF!)","v":{"$error":"#REF!"}},{"$f":"IF(Data!#REF!=\"\",\"\",Data!#REF!)","v":{"$error":"#REF!"}},{"$f":"IF(Data!#REF!=\"\",\"\",Data!#REF!)","v":{"$error":"#REF!"}},{"$f":"IF(Data!#REF!=\"\",\"\",Data!#REF!)","v":{"$error":"#REF!"}},{"$error":"#REF!"},{"$error":"#REF!"},{"$error":"#REF!"}]
[{"$f":"IF(Data!#REF!=\"\",\"\",Data!#REF!)","v":{"$error":"#REF!"}},{"$f":"IF(Data!#REF!=\"\",\"\",Data!#REF!)","v":{"$error":"#REF!"}},{"$f":"IF(Data!#REF!=\"\",\"\",Data!#REF!)","v":{"$error":"#REF!"}},{"$f":"IF(Data!#REF!=\"\",\"\",Data!#REF!)","v":{"$error":"#REF!"}},{"$f":"IF(Data!#REF!=\"\",\"\",Data!#REF!)","v":{"$error":"#REF!"}},{"$error":"#REF!"},{"$error":"#REF!"},{"$error":"#REF!"}]
[{"$f":"IF(Data!#REF!=\"\",\"\",Data!#REF!)","v":{"$error":"#REF!"}},{"$f":"IF(Data!#REF!=\"\",\"\",Data!#REF!)","v":{"$error":"#REF!"}},{"$f":"IF(Data!#REF!=\"\",\"\",Data!#REF!)","v":{"$error":"#REF!"}},{"$f":"IF(Data!#REF!=\"\",\"\",Data!#REF!)","v":{"$error":"#REF!"}},{"$f":"IF(Data!#REF!=\"\",\"\",Data!#REF!)","v":{"$error":"#REF!"}},{"$error":"#REF!"},{"$error":"#REF!"},{"$error":"#REF!"}]
[{"$f":"IF(Data!#REF!=\"\",\"\",Data!#REF!)","v":{"$error":"#REF!"}},{"$f":"IF(Data!#REF!=\"\",\"\",Data!#REF!)","v":{"$error":"#REF!"}},{"$f":"IF(Data!#REF!=\"\",\"\",Data!#REF!)","v":{"$error":"#REF!"}},{"$f":"IF(Data!#REF!=\"\",\"\",Data!#REF!)","v":{"$error":"#REF!"}},{"$f":"IF(Data!#REF!=\"\",\"\",Data!#REF!)","v":{"$error":"#REF!"}},{"$error":"#REF!"},{"$error":"#REF!"},{"$error":"#REF!"}]
[{"$f":"IF(Data!#REF!=\"\",\"\",Data!#REF!)","v":{"$error":"#REF!"}},{"$f":"IF(Data!#REF!=\"\",\"\",Data!#REF!)","v":{"$error":"#REF!"}},{"$f":"IF(Data!#REF!=\"\",\"\",Data!#REF!)","v":{"$error":"#REF!"}},{"$f":"IF(Data!#REF!=\"\",\"\",Data!#REF!)","v":{"$error":"#REF!"}},{"$f":"IF(Data!#REF!=\"\",\"\",Data!#REF!)","v":{"$error":"#REF!"}},{"$error":"#REF!"},{"$error":"#REF!"},{"$error":"#REF!"}]
[{"$f":"IF(Data!#REF!=\"\",\"\",Data!#REF!)","v":{"$error":"#REF!"}},{"$f":"IF(Data!#REF!=\"\",\"\",Data!#REF!)","v":{"$error":"#REF!"}},{"$f":"IF(Data!#REF!=\"\",\"\",Data!#REF!)","v":{"$error":"#REF!"}},{"$f":"IF(Data!#REF!=\"\",\"\",Data!#REF!)","v":{"$error":"#REF!"}},{"$f":"IF(Data!#REF!=\"\",\"\",Data!#REF!)","v":{"$error":"#REF!"}},{"$error":"#REF!"},{"$error":"#REF!"},{"$error":"#REF!"}]
[{"$f":"IF(Data!#REF!=\"\",\"\",Data!#REF!)","v":{"$error":"#REF!"}},{"$f":"IF(Data!#REF!=\"\",\"\",Data!#REF!)","v":{"$error":"#REF!"}},{"$f":"IF(Data!#REF!=\"\",\"\",Data!#REF!)","v":{"$error":"#REF!"}},{"$f":"IF(Data!#REF!=\"\",\"\",Data!#REF!)","v":{"$error":"#REF!"}},{"$f":"IF(Data!#REF!=\"\",\"\",Data!#REF!)","v":{"$error":"#REF!"}},{"$error":"#REF!"},{"$error":"#REF!"},{"$error":"#REF!"}]
[{"$f":"IF(Data!#REF!=\"\",\"\",Data!#REF!)","v":{"$error":"#REF!"}},{"$f":"IF(Data!#REF!=\"\",\"\",Data!#REF!)","v":{"$error":"#REF!"}},{"$f":"IF(Data!#REF!=\"\",\"\",Data!#REF!)","v":{"$error":"#REF!"}},{"$f":"IF(Data!#REF!=\"\",\"\",Data!#REF!)","v":{"$error":"#REF!"}},{"$f":"IF(Data!#REF!=\"\",\"\",Data!#REF!)","v":{"$error":"#REF!"}},{"$error":"#REF!"},{"$error":"#REF!"},{"$error":"#REF!"}]
[{"$f":"IF(Data!#REF!=\"\",\"\",Data!#REF!)","v":{"$error":"#REF!"}},{"$f":"IF(Data!#REF!=\"\",\"\",Data!#REF!)","v":{"$error":"#REF!"}},{"$f":"IF(Data!#REF!=\"\",\"\",Data!#REF!)","v":{"$error":"#REF!"}},{"$f":"IF(Data!#REF!=\"\",\"\",Data!#REF!)","v":{"$error":"#REF!"}},{"$f":"IF(Data!#REF!=\"\",\"\",Data!#REF!)","v":{"$error":"#REF!"}},{"$error":"#REF!"},{"$error":"#REF!"},{"$error":"#REF!"}]
[{"$f":"IF(Data!#REF!=\"\",\"\",Data!#REF!)","v":{"$error":"#REF!"}},{"$f":"IF(Data!#REF!=\"\",\"\",Data!#REF!)","v":{"$error":"#REF!"}},{"$f":"IF(Data!#REF!=\"\",\"\",Data!#REF!)","v":{"$error":"#REF!"}},{"$f":"IF(Data!#REF!=\"\",\"\",Data!#REF!)","v":{"$error":"#REF!"}},{"$f":"IF(Data!#REF!=\"\",\"\",Data!#REF!)","v":{"$error":"#REF!"}},{"$error":"#REF!"},{"$error":"#REF!"},{"$error":"#REF!"}]
[{"$f":"IF(Data!#REF!=\"\",\"\",Data!#REF!)","v":{"$error":"#REF!"}},{"$f":"IF(Data!#REF!=\"\",\"\",Data!#REF!)","v":{"$error":"#REF!"}},{"$f":"IF(Data!#REF!=\"\",\"\",Data!#REF!)","v":{"$error":"#REF!"}},{"$f":"IF(Data!#REF!=\"\",\"\",Data!#REF!)","v":{"$error":"#REF!"}},{"$f":"IF(Data!#REF!=\"\",\"\",Data!#REF!)","v":{"$error":"#REF!"}},{"$error":"#REF!"},{"$error":"#REF!"},{"$error":"#REF!"}]
[{"$f":"IF(Data!#REF!=\"\",\"\",Data!#REF!)","v":{"$error":"#REF!"}},{"$f":"IF(Data!#REF!=\"\",\"\",Data!#REF!)","v":{"$error":"#REF!"}},{"$f":"IF(Data!#REF!=\"\",\"\",Data!#REF!)","v":{"$error":"#REF!"}},{"$f":"IF(Data!#REF!=\"\",\"\",Data!#REF!)","v":{"$error":"#REF!"}},{"$f":"IF(Data!#REF!=\"\",\"\",Data!#REF!)","v":{"$error":"#REF!"}},{"$error":"#REF!"},{"$error":"#REF!"},{"$error":"#REF!"}]
[{"$f":"IF(Data!#REF!=\"\",\"\",Data!#REF!)","v":{"$error":"#REF!"}},{"$f":"IF(Data!#REF!=\"\",\"\",Data!#REF!)","v":{"$error":"#REF!"}},{"$f":"IF(Data!#REF!=\"\",\"\",Data!#REF!)","v":{"$error":"#REF!"}},{"$f":"IF(Data!#REF!=\"\",\"\",Data!#REF!)","v":{"$error":"#REF!"}},{"$f":"IF(Data!#REF!=\"\",\"\",Data!#REF!)","v":{"$error":"#REF!"}},{"$error":"#REF!"},{"$error":"#REF!"},{"$error":"#REF!"}]
[{"$f":"IF(Data!#REF!=\"\",\"\",Data!#REF!)","v":{"$error":"#REF!"}},{"$f":"IF(Data!#REF!=\"\",\"\",Data!#REF!)","v":{"$error":"#REF!"}},{"$f":"IF(Data!#REF!=\"\",\"\",Data!#REF!)","v":{"$error":"#REF!"}},{"$f":"IF(Data!#REF!=\"\",\"\",Data!#REF!)","v":{"$error":"#REF!"}},{"$f":"IF(Data!#REF!=\"\",\"\",Data!#REF!)","v":{"$error":"#REF!"}},{"$error":"#REF!"},{"$error":"#REF!"},{"$error":"#REF!"}]
[{"$f":"IF(Data!#REF!=\"\",\"\",Data!#REF!)","v":{"$error":"#REF!"}},{"$f":"IF(Data!#REF!=\"\",\"\",Data!#REF!)","v":{"$error":"#REF!"}},{"$f":"IF(Data!#REF!=\"\",\"\",Data!#REF!)","v":{"$error":"#REF!"}},{"$f":"IF(Data!#REF!=\"\",\"\",Data!#REF!)","v":{"$error":"#REF!"}},{"$f":"IF(Data!#REF!=\"\",\"\",Data!#REF!)","v":{"$error":"#REF!"}},{"$error":"#REF!"},{"$error":"#REF!"},{"$error":"#REF!"}]
[{"$f":"IF(Data!#REF!=\"\",\"\",Data!#REF!)","v":{"$error":"#REF!"}},{"$f":"IF(Data!#REF!=\"\",\"\",Data!#REF!)","v":{"$error":"#REF!"}},{"$f":"IF(Data!#REF!=\"\",\"\",Data!#REF!)","v":{"$error":"#REF!"}},{"$f":"IF(Data!#REF!=\"\",\"\",Data!#REF!)","v":{"$error":"#REF!"}},{"$f":"IF(Data!#REF!=\"\",\"\",Data!#REF!)","v":{"$error":"#REF!"}},{"$error":"#REF!"},{"$error":"#REF!"},{"$error":"#REF!"}]
[{"$f":"IF(Data!#REF!=\"\",\"\",Data!#REF!)","v":{"$error":"#REF!"}},{"$f":"IF(Data!#REF!=\"\",\"\",Data!#REF!)","v":{"$error":"#REF!"}},{"$f":"IF(Data!#REF!=\"\",\"\",Data!#REF!)","v":{"$error":"#REF!"}},{"$f":"IF(Data!#REF!=\"\",\"\",Data!#REF!)","v":{"$error":"#REF!"}},{"$f":"IF(Data!#REF!=\"\",\"\",Data!#REF!)","v":{"$error":"#REF!"}},{"$error":"#REF!"},{"$error":"#REF!"},{"$error":"#REF!"}]
[{"$f":"IF(Data!#REF!=\"\",\"\",Data!#REF!)","v":{"$error":"#REF!"}},{"$f":"IF(Data!#REF!=\"\",\"\",Data!#REF!)","v":{"$error":"#REF!"}},{"$f":"IF(Data!#REF!=\"\",\"\",Data!#REF!)","v":{"$error":"#REF!"}},{"$f":"IF(Data!#REF!=\"\",\"\",Data!#REF!)","v":{"$error":"#REF!"}},{"$f":"IF(Data!#REF!=\"\",\"\",Data!#REF!)","v":{"$error":"#REF!"}},{"$error":"#REF!"},{"$error":"#REF!"},{"$error":"#REF!"}]
[{"$f":"IF(Data!#REF!=\"\",\"\",Data!#REF!)","v":{"$error":"#REF!"}},{"$f":"IF(Data!#REF!=\"\",\"\",Data!#REF!)","v":{"$error":"#REF!"}},{"$f":"IF(Data!#REF!=\"\",\"\",Data!#REF!)","v":{"$error":"#REF!"}},{"$f":"IF(Data!#REF!=\"\",\"\",Data!#REF!)","v":{"$error":"#REF!"}},{"$f":"IF(Data!#REF!=\"\",\"\",Data!#REF!)","v":{"$error":"#REF!"}},{"$error":"#REF!"},{"$error":"#REF!"},{"$error":"#REF!"}]
[{"$f":"IF(Data!#REF!=\"\",\"\",Data!#REF!)","v":{"$error":"#REF!"}},{"$f":"IF(Data!#REF!=\"\",\"\",Data!#REF!)","v":{"$error":"#REF!"}},{"$f":"IF(Data!#REF!=\"\",\"\",Data!#REF!)","v":{"$error":"#REF!"}},{"$f":"IF(Data!#REF!=\"\",\"\",Data!#REF!)","v":{"$error":"#REF!"}},{"$f":"IF(Data!#REF!=\"\",\"\",Data!#REF!)","v":{"$error":"#REF!"}},{"$error":"#REF!"},{"$error":"#REF!"},{"$error":"#REF!"}]
[{"$f":"IF(Data!#REF!=\"\",\"\",Data!#REF!)","v":{"$error":"#REF!"}},{"$f":"IF(Data!#REF!=\"\",\"\",Data!#REF!)","v":{"$error":"#REF!"}},{"$f":"IF(Data!#REF!=\"\",\"\",Data!#REF!)","v":{"$error":"#REF!"}},{"$f":"IF(Data!#REF!=\"\",\"\",Data!#REF!)","v":{"$error":"#REF!"}},{"$f":"IF(Data!#REF!=\"\",\"\",Data!#REF!)","v":{"$error":"#REF!"}},{"$error":"#REF!"},{"$error":"#REF!"},{"$error":"#REF!"}]
[{"$f":"IF(Data!#REF!=\"\",\"\",Data!#REF!)","v":{"$error":"#REF!"}},{"$f":"IF(Data!#REF!=\"\",\"\",Data!#REF!)","v":{"$error":"#REF!"}},{"$f":"IF(Data!#REF!=\"\",\"\",Data!#REF!)","v":{"$error":"#REF!"}},{"$f":"IF(Data!#REF!=\"\",\"\",Data!#REF!)","v":{"$error":"#REF!"}},{"$f":"IF(Data!#REF!=\"\",\"\",Data!#REF!)","v":{"$error":"#REF!"}},{"$error":"#REF!"},{"$error":"#REF!"},{"$error":"#REF!"}]
[{"$f":"IF(Data!#REF!=\"\",\"\",Data!#REF!)","v":{"$error":"#REF!"}},{"$f":"IF(Data!#REF!=\"\",\"\",Data!#REF!)","v":{"$error":"#REF!"}},{"$f":"IF(Data!#REF!=\"\",\"\",Data!#REF!)","v":{"$error":"#REF!"}},{"$f":"IF(Data!#REF!=\"\",\"\",Data!#REF!)","v":{"$error":"#REF!"}},{"$f":"IF(Data!#REF!=\"\",\"\",Data!#REF!)","v":{"$error":"#REF!"}},{"$error":"#REF!"},{"$error":"#REF!"},{"$error":"#REF!"}]
[{"$f":"IF(Data!#REF!=\"\",\"\",Data!#REF!)","v":{"$error":"#REF!"}},{"$f":"IF(Data!#REF!=\"\",\"\",Data!#REF!)","v":{"$error":"#REF!"}},{"$f":"IF(Data!#REF!=\"\",\"\",Data!#REF!)","v":{"$error":"#REF!"}},{"$f":"IF(Data!#REF!=\"\",\"\",Data!#REF!)","v":{"$error":"#REF!"}},{"$f":"IF(Data!#REF!=\"\",\"\",Data!#REF!)","v":{"$error":"#REF!"}},{"$error":"#REF!"},{"$error":"#REF!"},{"$error":"#REF!"}]
[{"$f":"IF(Data!#REF!=\"\",\"\",Data!#REF!)","v":{"$error":"#REF!"}},{"$f":"IF(Data!#REF!=\"\",\"\",Data!#REF!)","v":{"$error":"#REF!"}},{"$f":"IF(Data!#REF!=\"\",\"\",Data!#REF!)","v":{"$error":"#REF!"}},{"$f":"IF(Data!#REF!=\"\",\"\",Data!#REF!)","v":{"$error":"#REF!"}},{"$f":"IF(Data!#REF!=\"\",\"\",Data!#REF!)","v":{"$error":"#REF!"}},{"$error":"#REF!"},{"$error":"#REF!"},{"$error":"#REF!"}]
[{"$f":"IF(Data!#REF!=\"\",\"\",Data!#REF!)","v":{"$error":"#REF!"}},{"$f":"IF(Data!#REF!=\"\",\"\",Data!#REF!)","v":{"$error":"#REF!"}},{"$f":"IF(Data!#REF!=\"\",\"\",Data!#REF!)","v":{"$error":"#REF!"}},{"$f":"IF(Data!#REF!=\"\",\"\",Data!#REF!)","v":{"$error":"#REF!"}},{"$f":"IF(Data!#REF!=\"\",\"\",Data!#REF!)","v":{"$error":"#REF!"}},{"$error":"#REF!"},{"$error":"#REF!"},{"$error":"#REF!"}]
[{"$f":"IF(Data!#REF!=\"\",\"\",Data!#REF!)","v":{"$error":"#REF!"}},{"$f":"IF(Data!#REF!=\"\",\"\",Data!#REF!)","v":{"$error":"#REF!"}},{"$f":"IF(Data!#REF!=\"\",\"\",Data!#REF!)","v":{"$error":"#REF!"}},{"$f":"IF(Data!#REF!=\"\",\"\",Data!#REF!)","v":{"$error":"#REF!"}},{"$f":"IF(Data!#REF!=\"\",\"\",Data!#REF!)","v":{"$error":"#REF!"}},{"$f":"IF(E2179>0,MONTH(E2179),\"\")","v":{"$error":"#REF!"}},{"$f":"IF(E2179>0,WEEKNUM(E2179),\"0\")","v":{"$error":"#REF!"}},{"$f":"IF(G2179>=($G$2-3),\"Ano\",\"Nie\")","v":{"$error":"#REF!"}}]
[{"$f":"IF(Data!#REF!=\"\",\"\",Data!#REF!)","v":{"$error":"#REF!"}},{"$f":"IF(Data!#REF!=\"\",\"\",Data!#REF!)","v":{"$error":"#REF!"}},{"$f":"IF(Data!#REF!=\"\",\"\",Data!#REF!)","v":{"$error":"#REF!"}},{"$f":"IF(Data!#REF!=\"\",\"\",Data!#REF!)","v":{"$error":"#REF!"}},{"$f":"IF(Data!#REF!=\"\",\"\",Data!#REF!)","v":{"$error":"#REF!"}},{"$error":"#REF!"},{"$error":"#REF!"},{"$error":"#REF!"}]
[{"$f":"IF(Data!#REF!=\"\",\"\",Data!#REF!)","v":{"$error":"#REF!"}},{"$f":"IF(Data!#REF!=\"\",\"\",Data!#REF!)","v":{"$error":"#REF!"}},{"$f":"IF(Data!#REF!=\"\",\"\",Data!#REF!)","v":{"$error":"#REF!"}},{"$f":"IF(Data!#REF!=\"\",\"\",Data!#REF!)","v":{"$error":"#REF!"}},{"$f":"IF(Data!#REF!=\"\",\"\",Data!#REF!)","v":{"$error":"#REF!"}},{"$error":"#REF!"},{"$error":"#REF!"},{"$error":"#REF!"}]
[{"$f":"IF(Data!#REF!=\"\",\"\",Data!#REF!)","v":{"$error":"#REF!"}},{"$f":"IF(Data!#REF!=\"\",\"\",Data!#REF!)","v":{"$error":"#REF!"}},{"$f":"IF(Data!#REF!=\"\",\"\",Data!#REF!)","v":{"$error":"#REF!"}},{"$f":"IF(Data!#REF!=\"\",\"\",Data!#REF!)","v":{"$error":"#REF!"}},{"$f":"IF(Data!#REF!=\"\",\"\",Data!#REF!)","v":{"$error":"#REF!"}},{"$error":"#REF!"},{"$error":"#REF!"},{"$error":"#REF!"}]
[{"$f":"IF(Data!#REF!=\"\",\"\",Data!#REF!)","v":{"$error":"#REF!"}},{"$f":"IF(Data!#REF!=\"\",\"\",Data!#REF!)","v":{"$error":"#REF!"}},{"$f":"IF(Data!#REF!=\"\",\"\",Data!#REF!)","v":{"$error":"#REF!"}},{"$f":"IF(Data!#REF!=\"\",\"\",Data!#REF!)","v":{"$error":"#REF!"}},{"$f":"IF(Data!#REF!=\"\",\"\",Data!#REF!)","v":{"$error":"#REF!"}},{"$error":"#REF!"},{"$error":"#REF!"},{"$error":"#REF!"}]
[{"$f":"IF(Data!#REF!=\"\",\"\",Data!#REF!)","v":{"$error":"#REF!"}},{"$f":"IF(Data!#REF!=\"\",\"\",Data!#REF!)","v":{"$error":"#REF!"}},{"$f":"IF(Data!#REF!=\"\",\"\",Data!#REF!)","v":{"$error":"#REF!"}},{"$f":"IF(Data!#REF!=\"\",\"\",Data!#REF!)","v":{"$error":"#REF!"}},{"$f":"IF(Data!#REF!=\"\",\"\",Data!#REF!)","v":{"$error":"#REF!"}},{"$error":"#REF!"},{"$error":"#REF!"},{"$error":"#REF!"}]
[{"$f":"IF(Data!#REF!=\"\",\"\",Data!#REF!)","v":{"$error":"#REF!"}},{"$f":"IF(Data!#REF!=\"\",\"\",Data!#REF!)","v":{"$error":"#REF!"}},{"$f":"IF(Data!#REF!=\"\",\"\",Data!#REF!)","v":{"$error":"#REF!"}},{"$f":"IF(Data!#REF!=\"\",\"\",Data!#REF!)","v":{"$error":"#REF!"}},{"$f":"IF(Data!#REF!=\"\",\"\",Data!#REF!)","v":{"$error":"#REF!"}},{"$error":"#REF!"},{"$error":"#REF!"},{"$error":"#REF!"}]
[{"$f":"IF(Data!#REF!=\"\",\"\",Data!#REF!)","v":{"$error":"#REF!"}},{"$f":"IF(Data!#REF!=\"\",\"\",Data!#REF!)","v":{"$error":"#REF!"}},{"$f":"IF(Data!#REF!=\"\",\"\",Data!#REF!)","v":{"$error":"#REF!"}},{"$f":"IF(Data!#REF!=\"\",\"\",Data!#REF!)","v":{"$error":"#REF!"}},{"$f":"IF(Data!#REF!=\"\",\"\",Data!#REF!)","v":{"$error":"#REF!"}},{"$error":"#REF!"},{"$error":"#REF!"},{"$error":"#REF!"}]
[{"$f":"IF(Data!#REF!=\"\",\"\",Data!#REF!)","v":{"$error":"#REF!"}},{"$f":"IF(Data!#REF!=\"\",\"\",Data!#REF!)","v":{"$error":"#REF!"}},{"$f":"IF(Data!#REF!=\"\",\"\",Data!#REF!)","v":{"$error":"#REF!"}},{"$f":"IF(Data!#REF!=\"\",\"\",Data!#REF!)","v":{"$error":"#REF!"}},{"$f":"IF(Data!#REF!=\"\",\"\",Data!#REF!)","v":{"$error":"#REF!"}},{"$error":"#REF!"},{"$error":"#REF!"},{"$error":"#REF!"}]
[{"$f":"IF(Data!#REF!=\"\",\"\",Data!#REF!)","v":{"$error":"#REF!"}},{"$f":"IF(Data!#REF!=\"\",\"\",Data!#REF!)","v":{"$error":"#REF!"}},{"$f":"IF(Data!#REF!=\"\",\"\",Data!#REF!)","v":{"$error":"#REF!"}},{"$f":"IF(Data!#REF!=\"\",\"\",Data!#REF!)","v":{"$error":"#REF!"}},{"$f":"IF(Data!#REF!=\"\",\"\",Data!#REF!)","v":{"$error":"#REF!"}},{"$error":"#REF!"},{"$error":"#REF!"},{"$error":"#REF!"}]
[{"$f":"IF(Data!#REF!=\"\",\"\",Data!#REF!)","v":{"$error":"#REF!"}},{"$f":"IF(Data!#REF!=\"\",\"\",Data!#REF!)","v":{"$error":"#REF!"}},{"$f":"IF(Data!#REF!=\"\",\"\",Data!#REF!)","v":{"$error":"#REF!"}},{"$f":"IF(Data!#REF!=\"\",\"\",Data!#REF!)","v":{"$error":"#REF!"}},{"$f":"IF(Data!#REF!=\"\",\"\",Data!#REF!)","v":{"$error":"#REF!"}},{"$error":"#REF!"},{"$error":"#REF!"},{"$error":"#REF!"}]
[{"$f":"IF(Data!#REF!=\"\",\"\",Data!#REF!)","v":{"$error":"#REF!"}},{"$f":"IF(Data!#REF!=\"\",\"\",Data!#REF!)","v":{"$error":"#REF!"}},{"$f":"IF(Data!#REF!=\"\",\"\",Data!#REF!)","v":{"$error":"#REF!"}},{"$f":"IF(Data!#REF!=\"\",\"\",Data!#REF!)","v":{"$error":"#REF!"}},{"$f":"IF(Data!#REF!=\"\",\"\",Data!#REF!)","v":{"$error":"#REF!"}},{"$error":"#REF!"},{"$error":"#REF!"},{"$error":"#REF!"}]
[{"$f":"IF(Data!#REF!=\"\",\"\",Data!#REF!)","v":{"$error":"#REF!"}},{"$f":"IF(Data!#REF!=\"\",\"\",Data!#REF!)","v":{"$error":"#REF!"}},{"$f":"IF(Data!#REF!=\"\",\"\",Data!#REF!)","v":{"$error":"#REF!"}},{"$f":"IF(Data!#REF!=\"\",\"\",Data!#REF!)","v":{"$error":"#REF!"}},{"$f":"IF(Data!#REF!=\"\",\"\",Data!#REF!)","v":{"$error":"#REF!"}},{"$error":"#REF!"},{"$error":"#REF!"},{"$error":"#REF!"}]
[{"$f":"IF(Data!#REF!=\"\",\"\",Data!#REF!)","v":{"$error":"#REF!"}},{"$f":"IF(Data!#REF!=\"\",\"\",Data!#REF!)","v":{"$error":"#REF!"}},{"$f":"IF(Data!#REF!=\"\",\"\",Data!#REF!)","v":{"$error":"#REF!"}},{"$f":"IF(Data!#REF!=\"\",\"\",Data!#REF!)","v":{"$error":"#REF!"}},{"$f":"IF(Data!#REF!=\"\",\"\",Data!#REF!)","v":{"$error":"#REF!"}},{"$error":"#REF!"},{"$error":"#REF!"},{"$error":"#REF!"}]
[{"$f":"IF(Data!#REF!=\"\",\"\",Data!#REF!)","v":{"$error":"#REF!"}},{"$f":"IF(Data!#REF!=\"\",\"\",Data!#REF!)","v":{"$error":"#REF!"}},{"$f":"IF(Data!#REF!=\"\",\"\",Data!#REF!)","v":{"$error":"#REF!"}},{"$f":"IF(Data!#REF!=\"\",\"\",Data!#REF!)","v":{"$error":"#REF!"}},{"$f":"IF(Data!#REF!=\"\",\"\",Data!#REF!)","v":{"$error":"#REF!"}},{"$error":"#REF!"},{"$error":"#REF!"},{"$error":"#REF!"}]
[{"$f":"IF(Data!#REF!=\"\",\"\",Data!#REF!)","v":{"$error":"#REF!"}},{"$f":"IF(Data!#REF!=\"\",\"\",Data!#REF!)","v":{"$error":"#REF!"}},{"$f":"IF(Data!#REF!=\"\",\"\",Data!#REF!)","v":{"$error":"#REF!"}},{"$f":"IF(Data!#REF!=\"\",\"\",Data!#REF!)","v":{"$error":"#REF!"}},{"$f":"IF(Data!#REF!=\"\",\"\",Data!#REF!)","v":{"$error":"#REF!"}},{"$error":"#REF!"},{"$error":"#REF!"},{"$error":"#REF!"}]
[{"$f":"IF(Data!#REF!=\"\",\"\",Data!#REF!)","v":{"$error":"#REF!"}},{"$f":"IF(Data!#REF!=\"\",\"\",Data!#REF!)","v":{"$error":"#REF!"}},{"$f":"IF(Data!#REF!=\"\",\"\",Data!#REF!)","v":{"$error":"#REF!"}},{"$f":"IF(Data!#REF!=\"\",\"\",Data!#REF!)","v":{"$error":"#REF!"}},{"$f":"IF(Data!#REF!=\"\",\"\",Data!#REF!)","v":{"$error":"#REF!"}},{"$error":"#REF!"},{"$error":"#REF!"},{"$error":"#REF!"}]
[{"$f":"IF(Data!#REF!=\"\",\"\",Data!#REF!)","v":{"$error":"#REF!"}},{"$f":"IF(Data!#REF!=\"\",\"\",Data!#REF!)","v":{"$error":"#REF!"}},{"$f":"IF(Data!#REF!=\"\",\"\",Data!#REF!)","v":{"$error":"#REF!"}},{"$f":"IF(Data!#REF!=\"\",\"\",Data!#REF!)","v":{"$error":"#REF!"}},{"$f":"IF(Data!#REF!=\"\",\"\",Data!#REF!)","v":{"$error":"#REF!"}},{"$error":"#REF!"},{"$error":"#REF!"},{"$error":"#REF!"}]
[{"$f":"IF(Data!#REF!=\"\",\"\",Data!#REF!)","v":{"$error":"#REF!"}},{"$f":"IF(Data!#REF!=\"\",\"\",Data!#REF!)","v":{"$error":"#REF!"}},{"$f":"IF(Data!#REF!=\"\",\"\",Data!#REF!)","v":{"$error":"#REF!"}},{"$f":"IF(Data!#REF!=\"\",\"\",Data!#REF!)","v":{"$error":"#REF!"}},{"$f":"IF(Data!#REF!=\"\",\"\",Data!#REF!)","v":{"$error":"#REF!"}},{"$error":"#REF!"},{"$error":"#REF!"},{"$error":"#REF!"}]
[{"$f":"IF(Data!#REF!=\"\",\"\",Data!#REF!)","v":{"$error":"#REF!"}},{"$f":"IF(Data!#REF!=\"\",\"\",Data!#REF!)","v":{"$error":"#REF!"}},{"$f":"IF(Data!#REF!=\"\",\"\",Data!#REF!)","v":{"$error":"#REF!"}},{"$f":"IF(Data!#REF!=\"\",\"\",Data!#REF!)","v":{"$error":"#REF!"}},{"$f":"IF(Data!#REF!=\"\",\"\",Data!#REF!)","v":{"$error":"#REF!"}},{"$error":"#REF!"},{"$error":"#REF!"},{"$error":"#REF!"}]
[{"$f":"IF(Data!#REF!=\"\",\"\",Data!#REF!)","v":{"$error":"#REF!"}},{"$f":"IF(Data!#REF!=\"\",\"\",Data!#REF!)","v":{"$error":"#REF!"}},{"$f":"IF(Data!#REF!=\"\",\"\",Data!#REF!)","v":{"$error":"#REF!"}},{"$f":"IF(Data!#REF!=\"\",\"\",Data!#REF!)","v":{"$error":"#REF!"}},{"$f":"IF(Data!#REF!=\"\",\"\",Data!#REF!)","v":{"$error":"#REF!"}},{"$error":"#REF!"},{"$error":"#REF!"},{"$error":"#REF!"}]
[{"$f":"IF(Data!#REF!=\"\",\"\",Data!#REF!)","v":{"$error":"#REF!"}},{"$f":"IF(Data!#REF!=\"\",\"\",Data!#REF!)","v":{"$error":"#REF!"}},{"$f":"IF(Data!#REF!=\"\",\"\",Data!#REF!)","v":{"$error":"#REF!"}},{"$f":"IF(Data!#REF!=\"\",\"\",Data!#REF!)","v":{"$error":"#REF!"}},{"$f":"IF(Data!#REF!=\"\",\"\",Data!#REF!)","v":{"$error":"#REF!"}},{"$error":"#REF!"},{"$error":"#REF!"},{"$error":"#REF!"}]
[{"$f":"IF(Data!#REF!=\"\",\"\",Data!#REF!)","v":{"$error":"#REF!"}},{"$f":"IF(Data!#REF!=\"\",\"\",Data!#REF!)","v":{"$error":"#REF!"}},{"$f":"IF(Data!#REF!=\"\",\"\",Data!#REF!)","v":{"$error":"#REF!"}},{"$f":"IF(Data!#REF!=\"\",\"\",Data!#REF!)","v":{"$error":"#REF!"}},{"$f":"IF(Data!#REF!=\"\",\"\",Data!#REF!)","v":{"$error":"#REF!"}},{"$error":"#REF!"},{"$error":"#REF!"},{"$error":"#REF!"}]
[{"$f":"IF(Data!#REF!=\"\",\"\",Data!#REF!)","v":{"$error":"#REF!"}},{"$f":"IF(Data!#REF!=\"\",\"\",Data!#REF!)","v":{"$error":"#REF!"}},{"$f":"IF(Data!#REF!=\"\",\"\",Data!#REF!)","v":{"$error":"#REF!"}},{"$f":"IF(Data!#REF!=\"\",\"\",Data!#REF!)","v":{"$error":"#REF!"}},{"$f":"IF(Data!#REF!=\"\",\"\",Data!#REF!)","v":{"$error":"#REF!"}},{"$error":"#REF!"},{"$error":"#REF!"},{"$error":"#REF!"}]
[{"$f":"IF(Data!#REF!=\"\",\"\",Data!#REF!)","v":{"$error":"#REF!"}},{"$f":"IF(Data!#REF!=\"\",\"\",Data!#REF!)","v":{"$error":"#REF!"}},{"$f":"IF(Data!#REF!=\"\",\"\",Data!#REF!)","v":{"$error":"#REF!"}},{"$f":"IF(Data!#REF!=\"\",\"\",Data!#REF!)","v":{"$error":"#REF!"}},{"$f":"IF(Data!#REF!=\"\",\"\",Data!#REF!)","v":{"$error":"#REF!"}},{"$error":"#REF!"},{"$error":"#REF!"},{"$error":"#REF!"}]
[{"$f":"IF(Data!#REF!=\"\",\"\",Data!#REF!)","v":{"$error":"#REF!"}},{"$f":"IF(Data!#REF!=\"\",\"\",Data!#REF!)","v":{"$error":"#REF!"}},{"$f":"IF(Data!#REF!=\"\",\"\",Data!#REF!)","v":{"$error":"#REF!"}},{"$f":"IF(Data!#REF!=\"\",\"\",Data!#REF!)","v":{"$error":"#REF!"}},{"$f":"IF(Data!#REF!=\"\",\"\",Data!#REF!)","v":{"$error":"#REF!"}},{"$error":"#REF!"},{"$error":"#REF!"},{"$error":"#REF!"}]
[{"$f":"IF(Data!#REF!=\"\",\"\",Data!#REF!)","v":{"$error":"#REF!"}},{"$f":"IF(Data!#REF!=\"\",\"\",Data!#REF!)","v":{"$error":"#REF!"}},{"$f":"IF(Data!#REF!=\"\",\"\",Data!#REF!)","v":{"$error":"#REF!"}},{"$f":"IF(Data!#REF!=\"\",\"\",Data!#REF!)","v":{"$error":"#REF!"}},{"$f":"IF(Data!#REF!=\"\",\"\",Data!#REF!)","v":{"$error":"#REF!"}},{"$error":"#REF!"},{"$error":"#REF!"},{"$error":"#REF!"}]
[{"$f":"IF(Data!#REF!=\"\",\"\",Data!#REF!)","v":{"$error":"#REF!"}},{"$f":"IF(Data!#REF!=\"\",\"\",Data!#REF!)","v":{"$error":"#REF!"}},{"$f":"IF(Data!#REF!=\"\",\"\",Data!#REF!)","v":{"$error":"#REF!"}},{"$f":"IF(Data!#REF!=\"\",\"\",Data!#REF!)","v":{"$error":"#REF!"}},{"$f":"IF(Data!#REF!=\"\",\"\",Data!#REF!)","v":{"$error":"#REF!"}},{"$error":"#REF!"},{"$error":"#REF!"},{"$error":"#REF!"}]
[{"$f":"IF(Data!#REF!=\"\",\"\",Data!#REF!)","v":{"$error":"#REF!"}},{"$f":"IF(Data!#REF!=\"\",\"\",Data!#REF!)","v":{"$error":"#REF!"}},{"$f":"IF(Data!#REF!=\"\",\"\",Data!#REF!)","v":{"$error":"#REF!"}},{"$f":"IF(Data!#REF!=\"\",\"\",Data!#REF!)","v":{"$error":"#REF!"}},{"$f":"IF(Data!#REF!=\"\",\"\",Data!#REF!)","v":{"$error":"#REF!"}},{"$error":"#REF!"},{"$error":"#REF!"},{"$error":"#REF!"}]
[{"$f":"IF(Data!#REF!=\"\",\"\",Data!#REF!)","v":{"$error":"#REF!"}},{"$f":"IF(Data!#REF!=\"\",\"\",Data!#REF!)","v":{"$error":"#REF!"}},{"$f":"IF(Data!#REF!=\"\",\"\",Data!#REF!)","v":{"$error":"#REF!"}},{"$f":"IF(Data!#REF!=\"\",\"\",Data!#REF!)","v":{"$error":"#REF!"}},{"$f":"IF(Data!#REF!=\"\",\"\",Data!#REF!)","v":{"$error":"#REF!"}},{"$error":"#REF!"},{"$error":"#REF!"},{"$error":"#REF!"}]
[{"$f":"IF(Data!#REF!=\"\",\"\",Data!#REF!)","v":{"$error":"#REF!"}},{"$f":"IF(Data!#REF!=\"\",\"\",Data!#REF!)","v":{"$error":"#REF!"}},{"$f":"IF(Data!#REF!=\"\",\"\",Data!#REF!)","v":{"$error":"#REF!"}},{"$f":"IF(Data!#REF!=\"\",\"\",Data!#REF!)","v":{"$error":"#REF!"}},{"$f":"IF(Data!#REF!=\"\",\"\",Data!#REF!)","v":{"$error":"#REF!"}},{"$error":"#REF!"},{"$error":"#REF!"},{"$error":"#REF!"}]
[{"$f":"IF(Data!#REF!=\"\",\"\",Data!#REF!)","v":{"$error":"#REF!"}},{"$f":"IF(Data!#REF!=\"\",\"\",Data!#REF!)","v":{"$error":"#REF!"}},{"$f":"IF(Data!#REF!=\"\",\"\",Data!#REF!)","v":{"$error":"#REF!"}},{"$f":"IF(Data!#REF!=\"\",\"\",Data!#REF!)","v":{"$error":"#REF!"}},{"$f":"IF(Data!#REF!=\"\",\"\",Data!#REF!)","v":{"$error":"#REF!"}},{"$error":"#REF!"},{"$error":"#REF!"},{"$error":"#REF!"}]
[{"$f":"IF(Data!#REF!=\"\",\"\",Data!#REF!)","v":{"$error":"#REF!"}},{"$f":"IF(Data!#REF!=\"\",\"\",Data!#REF!)","v":{"$error":"#REF!"}},{"$f":"IF(Data!#REF!=\"\",\"\",Data!#REF!)","v":{"$error":"#REF!"}},{"$f":"IF(Data!#REF!=\"\",\"\",Data!#REF!)","v":{"$error":"#REF!"}},{"$f":"IF(Data!#REF!=\"\",\"\",Data!#REF!)","v":{"$error":"#REF!"}},{"$error":"#REF!"},{"$error":"#REF!"},{"$error":"#REF!"}]
[{"$f":"IF(Data!#REF!=\"\",\"\",Data!#REF!)","v":{"$error":"#REF!"}},{"$f":"IF(Data!#REF!=\"\",\"\",Data!#REF!)","v":{"$error":"#REF!"}},{"$f":"IF(Data!#REF!=\"\",\"\",Data!#REF!)","v":{"$error":"#REF!"}},{"$f":"IF(Data!#REF!=\"\",\"\",Data!#REF!)","v":{"$error":"#REF!"}},{"$f":"IF(Data!#REF!=\"\",\"\",Data!#REF!)","v":{"$error":"#REF!"}},{"$error":"#REF!"},{"$error":"#REF!"},{"$error":"#REF!"}]
[{"$f":"IF(Data!#REF!=\"\",\"\",Data!#REF!)","v":{"$error":"#REF!"}},{"$f":"IF(Data!#REF!=\"\",\"\",Data!#REF!)","v":{"$error":"#REF!"}},{"$f":"IF(Data!#REF!=\"\",\"\",Data!#REF!)","v":{"$error":"#REF!"}},{"$f":"IF(Data!#REF!=\"\",\"\",Data!#REF!)","v":{"$error":"#REF!"}},{"$f":"IF(Data!#REF!=\"\",\"\",Data!#REF!)","v":{"$error":"#REF!"}},{"$error":"#REF!"},{"$error":"#REF!"},{"$error":"#REF!"}]
[{"$f":"IF(Data!#REF!=\"\",\"\",Data!#REF!)","v":{"$error":"#REF!"}},{"$f":"IF(Data!#REF!=\"\",\"\",Data!#REF!)","v":{"$error":"#REF!"}},{"$f":"IF(Data!#REF!=\"\",\"\",Data!#REF!)","v":{"$error":"#REF!"}},{"$f":"IF(Data!#REF!=\"\",\"\",Data!#REF!)","v":{"$error":"#REF!"}},{"$f":"IF(Data!#REF!=\"\",\"\",Data!#REF!)","v":{"$error":"#REF!"}},{"$error":"#REF!"},{"$error":"#REF!"},{"$error":"#REF!"}]
[{"$f":"IF(Data!#REF!=\"\",\"\",Data!#REF!)","v":{"$error":"#REF!"}},{"$f":"IF(Data!#REF!=\"\",\"\",Data!#REF!)","v":{"$error":"#REF!"}},{"$f":"IF(Data!#REF!=\"\",\"\",Data!#REF!)","v":{"$error":"#REF!"}},{"$f":"IF(Data!#REF!=\"\",\"\",Data!#REF!)","v":{"$error":"#REF!"}},{"$f":"IF(Data!#REF!=\"\",\"\",Data!#REF!)","v":{"$error":"#REF!"}},{"$error":"#REF!"},{"$error":"#REF!"},{"$error":"#REF!"}]
[{"$f":"IF(Data!#REF!=\"\",\"\",Data!#REF!)","v":{"$error":"#REF!"}},{"$f":"IF(Data!#REF!=\"\",\"\",Data!#REF!)","v":{"$error":"#REF!"}},{"$f":"IF(Data!#REF!=\"\",\"\",Data!#REF!)","v":{"$error":"#REF!"}},{"$f":"IF(Data!#REF!=\"\",\"\",Data!#REF!)","v":{"$error":"#REF!"}},{"$f":"IF(Data!#REF!=\"\",\"\",Data!#REF!)","v":{"$error":"#REF!"}},{"$error":"#REF!"},{"$error":"#REF!"},{"$error":"#REF!"}]
[{"$f":"IF(Data!#REF!=\"\",\"\",Data!#REF!)","v":{"$error":"#REF!"}},{"$f":"IF(Data!#REF!=\"\",\"\",Data!#REF!)","v":{"$error":"#REF!"}},{"$f":"IF(Data!#REF!=\"\",\"\",Data!#REF!)","v":{"$error":"#REF!"}},{"$f":"IF(Data!#REF!=\"\",\"\",Data!#REF!)","v":{"$error":"#REF!"}},{"$f":"IF(Data!#REF!=\"\",\"\",Data!#REF!)","v":{"$error":"#REF!"}},{"$error":"#REF!"},{"$error":"#REF!"},{"$error":"#REF!"}]
[{"$f":"IF(Data!#REF!=\"\",\"\",Data!#REF!)","v":{"$error":"#REF!"}},{"$f":"IF(Data!#REF!=\"\",\"\",Data!#REF!)","v":{"$error":"#REF!"}},{"$f":"IF(Data!#REF!=\"\",\"\",Data!#REF!)","v":{"$error":"#REF!"}},{"$f":"IF(Data!#REF!=\"\",\"\",Data!#REF!)","v":{"$error":"#REF!"}},{"$f":"IF(Data!#REF!=\"\",\"\",Data!#REF!)","v":{"$error":"#REF!"}},{"$error":"#REF!"},{"$error":"#REF!"},{"$error":"#REF!"}]
[{"$f":"IF(Data!#REF!=\"\",\"\",Data!#REF!)","v":{"$error":"#REF!"}},{"$f":"IF(Data!#REF!=\"\",\"\",Data!#REF!)","v":{"$error":"#REF!"}},{"$f":"IF(Data!#REF!=\"\",\"\",Data!#REF!)","v":{"$error":"#REF!"}},{"$f":"IF(Data!#REF!=\"\",\"\",Data!#REF!)","v":{"$error":"#REF!"}},{"$f":"IF(Data!#REF!=\"\",\"\",Data!#REF!)","v":{"$error":"#REF!"}},{"$error":"#REF!"},{"$error":"#REF!"},{"$error":"#REF!"}]
[{"$f":"IF(Data!#REF!=\"\",\"\",Data!#REF!)","v":{"$error":"#REF!"}},{"$f":"IF(Data!#REF!=\"\",\"\",Data!#REF!)","v":{"$error":"#REF!"}},{"$f":"IF(Data!#REF!=\"\",\"\",Data!#REF!)","v":{"$error":"#REF!"}},{"$f":"IF(Data!#REF!=\"\",\"\",Data!#REF!)","v":{"$error":"#REF!"}},{"$f":"IF(Data!#REF!=\"\",\"\",Data!#REF!)","v":{"$error":"#REF!"}},{"$error":"#REF!"},{"$error":"#REF!"},{"$error":"#REF!"}]
[{"$f":"IF(Data!#REF!=\"\",\"\",Data!#REF!)","v":{"$error":"#REF!"}},{"$f":"IF(Data!#REF!=\"\",\"\",Data!#REF!)","v":{"$error":"#REF!"}},{"$f":"IF(Data!#REF!=\"\",\"\",Data!#REF!)","v":{"$error":"#REF!"}},{"$f":"IF(Data!#REF!=\"\",\"\",Data!#REF!)","v":{"$error":"#REF!"}},{"$f":"IF(Data!#REF!=\"\",\"\",Data!#REF!)","v":{"$error":"#REF!"}},{"$error":"#REF!"},{"$error":"#REF!"},{"$error":"#REF!"}]
[{"$f":"IF(Data!#REF!=\"\",\"\",Data!#REF!)","v":{"$error":"#REF!"}},{"$f":"IF(Data!#REF!=\"\",\"\",Data!#REF!)","v":{"$error":"#REF!"}},{"$f":"IF(Data!#REF!=\"\",\"\",Data!#REF!)","v":{"$error":"#REF!"}},{"$f":"IF(Data!#REF!=\"\",\"\",Data!#REF!)","v":{"$error":"#REF!"}},{"$f":"IF(Data!#REF!=\"\",\"\",Data!#REF!)","v":{"$error":"#REF!"}},{"$error":"#REF!"},{"$error":"#REF!"},{"$error":"#REF!"}]
[{"$f":"IF(Data!#REF!=\"\",\"\",Data!#REF!)","v":{"$error":"#REF!"}},{"$f":"IF(Data!#REF!=\"\",\"\",Data!#REF!)","v":{"$error":"#REF!"}},{"$f":"IF(Data!#REF!=\"\",\"\",Data!#REF!)","v":{"$error":"#REF!"}},{"$f":"IF(Data!#REF!=\"\",\"\",Data!#REF!)","v":{"$error":"#REF!"}},{"$f":"IF(Data!#REF!=\"\",\"\",Data!#REF!)","v":{"$error":"#REF!"}},{"$error":"#REF!"},{"$error":"#REF!"},{"$error":"#REF!"}]
[{"$f":"IF(Data!#REF!=\"\",\"\",Data!#REF!)","v":{"$error":"#REF!"}},{"$f":"IF(Data!#REF!=\"\",\"\",Data!#REF!)","v":{"$error":"#REF!"}},{"$f":"IF(Data!#REF!=\"\",\"\",Data!#REF!)","v":{"$error":"#REF!"}},{"$f":"IF(Data!#REF!=\"\",\"\",Data!#REF!)","v":{"$error":"#REF!"}},{"$f":"IF(Data!#REF!=\"\",\"\",Data!#REF!)","v":{"$error":"#REF!"}},{"$error":"#REF!"},{"$error":"#REF!"},{"$error":"#REF!"}]
[{"$f":"IF(Data!#REF!=\"\",\"\",Data!#REF!)","v":{"$error":"#REF!"}},{"$f":"IF(Data!#REF!=\"\",\"\",Data!#REF!)","v":{"$error":"#REF!"}},{"$f":"IF(Data!#REF!=\"\",\"\",Data!#REF!)","v":{"$error":"#REF!"}},{"$f":"IF(Data!#REF!=\"\",\"\",Data!#REF!)","v":{"$error":"#REF!"}},{"$f":"IF(Data!#REF!=\"\",\"\",Data!#REF!)","v":{"$error":"#REF!"}},{"$error":"#REF!"},{"$error":"#REF!"},{"$error":"#REF!"}]
[{"$f":"IF(Data!#REF!=\"\",\"\",Data!#REF!)","v":{"$error":"#REF!"}},{"$f":"IF(Data!#REF!=\"\",\"\",Data!#REF!)","v":{"$error":"#REF!"}},{"$f":"IF(Data!#REF!=\"\",\"\",Data!#REF!)","v":{"$error":"#REF!"}},{"$f":"IF(Data!#REF!=\"\",\"\",Data!#REF!)","v":{"$error":"#REF!"}},{"$f":"IF(Data!#REF!=\"\",\"\",Data!#REF!)","v":{"$error":"#REF!"}},{"$error":"#REF!"},{"$error":"#REF!"},{"$error":"#REF!"}]
[{"$f":"IF(Data!#REF!=\"\",\"\",Data!#REF!)","v":{"$error":"#REF!"}},{"$f":"IF(Data!#REF!=\"\",\"\",Data!#REF!)","v":{"$error":"#REF!"}},{"$f":"IF(Data!#REF!=\"\",\"\",Data!#REF!)","v":{"$error":"#REF!"}},{"$f":"IF(Data!#REF!=\"\",\"\",Data!#REF!)","v":{"$error":"#REF!"}},{"$f":"IF(Data!#REF!=\"\",\"\",Data!#REF!)","v":{"$error":"#REF!"}},{"$error":"#REF!"},{"$error":"#REF!"},{"$error":"#REF!"}]
[{"$f":"IF(Data!#REF!=\"\",\"\",Data!#REF!)","v":{"$error":"#REF!"}},{"$f":"IF(Data!#REF!=\"\",\"\",Data!#REF!)","v":{"$error":"#REF!"}},{"$f":"IF(Data!#REF!=\"\",\"\",Data!#REF!)","v":{"$error":"#REF!"}},{"$f":"IF(Data!#REF!=\"\",\"\",Data!#REF!)","v":{"$error":"#REF!"}},{"$f":"IF(Data!#REF!=\"\",\"\",Data!#REF!)","v":{"$error":"#REF!"}},{"$error":"#REF!"},{"$error":"#REF!"},{"$error":"#REF!"}]
[{"$f":"IF(Data!#REF!=\"\",\"\",Data!#REF!)","v":{"$error":"#REF!"}},{"$f":"IF(Data!#REF!=\"\",\"\",Data!#REF!)","v":{"$error":"#REF!"}},{"$f":"IF(Data!#REF!=\"\",\"\",Data!#REF!)","v":{"$error":"#REF!"}},{"$f":"IF(Data!#REF!=\"\",\"\",Data!#REF!)","v":{"$error":"#REF!"}},{"$f":"IF(Data!#REF!=\"\",\"\",Data!#REF!)","v":{"$error":"#REF!"}},{"$error":"#REF!"},{"$error":"#REF!"},{"$error":"#REF!"}]
[{"$f":"IF(Data!#REF!=\"\",\"\",Data!#REF!)","v":{"$error":"#REF!"}},{"$f":"IF(Data!#REF!=\"\",\"\",Data!#REF!)","v":{"$error":"#REF!"}},{"$f":"IF(Data!#REF!=\"\",\"\",Data!#REF!)","v":{"$error":"#REF!"}},{"$f":"IF(Data!#REF!=\"\",\"\",Data!#REF!)","v":{"$error":"#REF!"}},{"$f":"IF(Data!#REF!=\"\",\"\",Data!#REF!)","v":{"$error":"#REF!"}},{"$error":"#REF!"},{"$error":"#REF!"},{"$error":"#REF!"}]
[{"$f":"IF(Data!#REF!=\"\",\"\",Data!#REF!)","v":{"$error":"#REF!"}},{"$f":"IF(Data!#REF!=\"\",\"\",Data!#REF!)","v":{"$error":"#REF!"}},{"$f":"IF(Data!#REF!=\"\",\"\",Data!#REF!)","v":{"$error":"#REF!"}},{"$f":"IF(Data!#REF!=\"\",\"\",Data!#REF!)","v":{"$error":"#REF!"}},{"$f":"IF(Data!#REF!=\"\",\"\",Data!#REF!)","v":{"$error":"#REF!"}},{"$error":"#REF!"},{"$error":"#REF!"},{"$error":"#REF!"}]
[{"$f":"IF(Data!#REF!=\"\",\"\",Data!#REF!)","v":{"$error":"#REF!"}},{"$f":"IF(Data!#REF!=\"\",\"\",Data!#REF!)","v":{"$error":"#REF!"}},{"$f":"IF(Data!#REF!=\"\",\"\",Data!#REF!)","v":{"$error":"#REF!"}},{"$f":"IF(Data!#REF!=\"\",\"\",Data!#REF!)","v":{"$error":"#REF!"}},{"$f":"IF(Data!#REF!=\"\",\"\",Data!#REF!)","v":{"$error":"#REF!"}},{"$error":"#REF!"},{"$error":"#REF!"},{"$error":"#REF!"}]
[{"$f":"IF(Data!#REF!=\"\",\"\",Data!#REF!)","v":{"$error":"#REF!"}},{"$f":"IF(Data!#REF!=\"\",\"\",Data!#REF!)","v":{"$error":"#REF!"}},{"$f":"IF(Data!#REF!=\"\",\"\",Data!#REF!)","v":{"$error":"#REF!"}},{"$f":"IF(Data!#REF!=\"\",\"\",Data!#REF!)","v":{"$error":"#REF!"}},{"$f":"IF(Data!#REF!=\"\",\"\",Data!#REF!)","v":{"$error":"#REF!"}},{"$error":"#REF!"},{"$error":"#REF!"},{"$error":"#REF!"}]
[{"$f":"IF(Data!#REF!=\"\",\"\",Data!#REF!)","v":{"$error":"#REF!"}},{"$f":"IF(Data!#REF!=\"\",\"\",Data!#REF!)","v":{"$error":"#REF!"}},{"$f":"IF(Data!#REF!=\"\",\"\",Data!#REF!)","v":{"$error":"#REF!"}},{"$f":"IF(Data!#REF!=\"\",\"\",Data!#REF!)","v":{"$error":"#REF!"}},{"$f":"IF(Data!#REF!=\"\",\"\",Data!#REF!)","v":{"$error":"#REF!"}},{"$error":"#REF!"},{"$error":"#REF!"},{"$error":"#REF!"}]
[{"$f":"IF(Data!#REF!=\"\",\"\",Data!#REF!)","v":{"$error":"#REF!"}},{"$f":"IF(Data!#REF!=\"\",\"\",Data!#REF!)","v":{"$error":"#REF!"}},{"$f":"IF(Data!#REF!=\"\",\"\",Data!#REF!)","v":{"$error":"#REF!"}},{"$f":"IF(Data!#REF!=\"\",\"\",Data!#REF!)","v":{"$error":"#REF!"}},{"$f":"IF(Data!#REF!=\"\",\"\",Data!#REF!)","v":{"$error":"#REF!"}},{"$error":"#REF!"},{"$error":"#REF!"},{"$error":"#REF!"}]
[{"$f":"IF(Data!#REF!=\"\",\"\",Data!#REF!)","v":{"$error":"#REF!"}},{"$f":"IF(Data!#REF!=\"\",\"\",Data!#REF!)","v":{"$error":"#REF!"}},{"$f":"IF(Data!#REF!=\"\",\"\",Data!#REF!)","v":{"$error":"#REF!"}},{"$f":"IF(Data!#REF!=\"\",\"\",Data!#REF!)","v":{"$error":"#REF!"}},{"$f":"IF(Data!#REF!=\"\",\"\",Data!#REF!)","v":{"$error":"#REF!"}},{"$error":"#REF!"},{"$error":"#REF!"},{"$error":"#REF!"}]
[{"$f":"IF(Data!#REF!=\"\",\"\",Data!#REF!)","v":{"$error":"#REF!"}},{"$f":"IF(Data!#REF!=\"\",\"\",Data!#REF!)","v":{"$error":"#REF!"}},{"$f":"IF(Data!#REF!=\"\",\"\",Data!#REF!)","v":{"$error":"#REF!"}},{"$f":"IF(Data!#REF!=\"\",\"\",Data!#REF!)","v":{"$error":"#REF!"}},{"$f":"IF(Data!#REF!=\"\",\"\",Data!#REF!)","v":{"$error":"#REF!"}},{"$error":"#REF!"},{"$error":"#REF!"},{"$error":"#REF!"}]
[{"$f":"IF(Data!#REF!=\"\",\"\",Data!#REF!)","v":{"$error":"#REF!"}},{"$f":"IF(Data!#REF!=\"\",\"\",Data!#REF!)","v":{"$error":"#REF!"}},{"$f":"IF(Data!#REF!=\"\",\"\",Data!#REF!)","v":{"$error":"#REF!"}},{"$f":"IF(Data!#REF!=\"\",\"\",Data!#REF!)","v":{"$error":"#REF!"}},{"$f":"IF(Data!#REF!=\"\",\"\",Data!#REF!)","v":{"$error":"#REF!"}},{"$error":"#REF!"},{"$error":"#REF!"},{"$error":"#REF!"}]
[{"$f":"IF(Data!#REF!=\"\",\"\",Data!#REF!)","v":{"$error":"#REF!"}},{"$f":"IF(Data!#REF!=\"\",\"\",Data!#REF!)","v":{"$error":"#REF!"}},{"$f":"IF(Data!#REF!=\"\",\"\",Data!#REF!)","v":{"$error":"#REF!"}},{"$f":"IF(Data!#REF!=\"\",\"\",Data!#REF!)","v":{"$error":"#REF!"}},{"$f":"IF(Data!#REF!=\"\",\"\",Data!#REF!)","v":{"$error":"#REF!"}},{"$error":"#REF!"},{"$error":"#REF!"},{"$error":"#REF!"}]
[{"$f":"IF(Data!#REF!=\"\",\"\",Data!#REF!)","v":{"$error":"#REF!"}},{"$f":"IF(Data!#REF!=\"\",\"\",Data!#REF!)","v":{"$error":"#REF!"}},{"$f":"IF(Data!#REF!=\"\",\"\",Data!#REF!)","v":{"$error":"#REF!"}},{"$f":"IF(Data!#REF!=\"\",\"\",Data!#REF!)","v":{"$error":"#REF!"}},{"$f":"IF(Data!#REF!=\"\",\"\",Data!#REF!)","v":{"$error":"#REF!"}},{"$error":"#REF!"},{"$error":"#REF!"},{"$error":"#REF!"}]
[{"$f":"IF(Data!#REF!=\"\",\"\",Data!#REF!)","v":{"$error":"#REF!"}},{"$f":"IF(Data!#REF!=\"\",\"\",Data!#REF!)","v":{"$error":"#REF!"}},{"$f":"IF(Data!#REF!=\"\",\"\",Data!#REF!)","v":{"$error":"#REF!"}},{"$f":"IF(Data!#REF!=\"\",\"\",Data!#REF!)","v":{"$error":"#REF!"}},{"$f":"IF(Data!#REF!=\"\",\"\",Data!#REF!)","v":{"$error":"#REF!"}},{"$error":"#REF!"},{"$error":"#REF!"},{"$error":"#REF!"}]
[{"$f":"IF(Data!#REF!=\"\",\"\",Data!#REF!)","v":{"$error":"#REF!"}},{"$f":"IF(Data!#REF!=\"\",\"\",Data!#REF!)","v":{"$error":"#REF!"}},{"$f":"IF(Data!#REF!=\"\",\"\",Data!#REF!)","v":{"$error":"#REF!"}},{"$f":"IF(Data!#REF!=\"\",\"\",Data!#REF!)","v":{"$error":"#REF!"}},{"$f":"IF(Data!#REF!=\"\",\"\",Data!#REF!)","v":{"$error":"#REF!"}},{"$error":"#REF!"},{"$error":"#REF!"},{"$error":"#REF!"}]
[{"$f":"IF(Data!#REF!=\"\",\"\",Data!#REF!)","v":{"$error":"#REF!"}},{"$f":"IF(Data!#REF!=\"\",\"\",Data!#REF!)","v":{"$error":"#REF!"}},{"$f":"IF(Data!#REF!=\"\",\"\",Data!#REF!)","v":{"$error":"#REF!"}},{"$f":"IF(Data!#REF!=\"\",\"\",Data!#REF!)","v":{"$error":"#REF!"}},{"$f":"IF(Data!#REF!=\"\",\"\",Data!#REF!)","v":{"$error":"#REF!"}},{"$f":"IF(E2243>0,MONTH(E2243),\"\")","v":{"$error":"#REF!"}},{"$f":"IF(E2243>0,WEEKNUM(E2243),\"0\")","v":{"$error":"#REF!"}},{"$f":"IF(G2243>=($G$2-3),\"Ano\",\"Nie\")","v":{"$error":"#REF!"}}]
[{"$f":"IF(Data!#REF!=\"\",\"\",Data!#REF!)","v":{"$error":"#REF!"}},{"$f":"IF(Data!#REF!=\"\",\"\",Data!#REF!)","v":{"$error":"#REF!"}},{"$f":"IF(Data!#REF!=\"\",\"\",Data!#REF!)","v":{"$error":"#REF!"}},{"$f":"IF(Data!#REF!=\"\",\"\",Data!#REF!)","v":{"$error":"#REF!"}},{"$f":"IF(Data!#REF!=\"\",\"\",Data!#REF!)","v":{"$error":"#REF!"}},{"$error":"#REF!"},{"$error":"#REF!"},{"$error":"#REF!"}]
[{"$f":"IF(Data!#REF!=\"\",\"\",Data!#REF!)","v":{"$error":"#REF!"}},{"$f":"IF(Data!#REF!=\"\",\"\",Data!#REF!)","v":{"$error":"#REF!"}},{"$f":"IF(Data!#REF!=\"\",\"\",Data!#REF!)","v":{"$error":"#REF!"}},{"$f":"IF(Data!#REF!=\"\",\"\",Data!#REF!)","v":{"$error":"#REF!"}},{"$f":"IF(Data!#REF!=\"\",\"\",Data!#REF!)","v":{"$error":"#REF!"}},{"$error":"#REF!"},{"$error":"#REF!"},{"$error":"#REF!"}]
[{"$f":"IF(Data!#REF!=\"\",\"\",Data!#REF!)","v":{"$error":"#REF!"}},{"$f":"IF(Data!#REF!=\"\",\"\",Data!#REF!)","v":{"$error":"#REF!"}},{"$f":"IF(Data!#REF!=\"\",\"\",Data!#REF!)","v":{"$error":"#REF!"}},{"$f":"IF(Data!#REF!=\"\",\"\",Data!#REF!)","v":{"$error":"#REF!"}},{"$f":"IF(Data!#REF!=\"\",\"\",Data!#REF!)","v":{"$error":"#REF!"}},{"$error":"#REF!"},{"$error":"#REF!"},{"$error":"#REF!"}]
[{"$f":"IF(Data!#REF!=\"\",\"\",Data!#REF!)","v":{"$error":"#REF!"}},{"$f":"IF(Data!#REF!=\"\",\"\",Data!#REF!)","v":{"$error":"#REF!"}},{"$f":"IF(Data!#REF!=\"\",\"\",Data!#REF!)","v":{"$error":"#REF!"}},{"$f":"IF(Data!#REF!=\"\",\"\",Data!#REF!)","v":{"$error":"#REF!"}},{"$f":"IF(Data!#REF!=\"\",\"\",Data!#REF!)","v":{"$error":"#REF!"}},{"$error":"#REF!"},{"$error":"#REF!"},{"$error":"#REF!"}]
[{"$f":"IF(Data!#REF!=\"\",\"\",Data!#REF!)","v":{"$error":"#REF!"}},{"$f":"IF(Data!#REF!=\"\",\"\",Data!#REF!)","v":{"$error":"#REF!"}},{"$f":"IF(Data!#REF!=\"\",\"\",Data!#REF!)","v":{"$error":"#REF!"}},{"$f":"IF(Data!#REF!=\"\",\"\",Data!#REF!)","v":{"$error":"#REF!"}},{"$f":"IF(Data!#REF!=\"\",\"\",Data!#REF!)","v":{"$error":"#REF!"}},{"$error":"#REF!"},{"$error":"#REF!"},{"$error":"#REF!"}]
[{"$f":"IF(Data!#REF!=\"\",\"\",Data!#REF!)","v":{"$error":"#REF!"}},{"$f":"IF(Data!#REF!=\"\",\"\",Data!#REF!)","v":{"$error":"#REF!"}},{"$f":"IF(Data!#REF!=\"\",\"\",Data!#REF!)","v":{"$error":"#REF!"}},{"$f":"IF(Data!#REF!=\"\",\"\",Data!#REF!)","v":{"$error":"#REF!"}},{"$f":"IF(Data!#REF!=\"\",\"\",Data!#REF!)","v":{"$error":"#REF!"}},{"$error":"#REF!"},{"$error":"#REF!"},{"$error":"#REF!"}]
[{"$f":"IF(Data!#REF!=\"\",\"\",Data!#REF!)","v":{"$error":"#REF!"}},{"$f":"IF(Data!#REF!=\"\",\"\",Data!#REF!)","v":{"$error":"#REF!"}},{"$f":"IF(Data!#REF!=\"\",\"\",Data!#REF!)","v":{"$error":"#REF!"}},{"$f":"IF(Data!#REF!=\"\",\"\",Data!#REF!)","v":{"$error":"#REF!"}},{"$f":"IF(Data!#REF!=\"\",\"\",Data!#REF!)","v":{"$error":"#REF!"}},{"$error":"#REF!"},{"$error":"#REF!"},{"$error":"#REF!"}]
[{"$f":"IF(Data!#REF!=\"\",\"\",Data!#REF!)","v":{"$error":"#REF!"}},{"$f":"IF(Data!#REF!=\"\",\"\",Data!#REF!)","v":{"$error":"#REF!"}},{"$f":"IF(Data!#REF!=\"\",\"\",Data!#REF!)","v":{"$error":"#REF!"}},{"$f":"IF(Data!#REF!=\"\",\"\",Data!#REF!)","v":{"$error":"#REF!"}},{"$f":"IF(Data!#REF!=\"\",\"\",Data!#REF!)","v":{"$error":"#REF!"}},{"$error":"#REF!"},{"$error":"#REF!"},{"$error":"#REF!"}]
[{"$f":"IF(Data!#REF!=\"\",\"\",Data!#REF!)","v":{"$error":"#REF!"}},{"$f":"IF(Data!#REF!=\"\",\"\",Data!#REF!)","v":{"$error":"#REF!"}},{"$f":"IF(Data!#REF!=\"\",\"\",Data!#REF!)","v":{"$error":"#REF!"}},{"$f":"IF(Data!#REF!=\"\",\"\",Data!#REF!)","v":{"$error":"#REF!"}},{"$f":"IF(Data!#REF!=\"\",\"\",Data!#REF!)","v":{"$error":"#REF!"}},{"$error":"#REF!"},{"$error":"#REF!"},{"$error":"#REF!"}]
[{"$f":"IF(Data!#REF!=\"\",\"\",Data!#REF!)","v":{"$error":"#REF!"}},{"$f":"IF(Data!#REF!=\"\",\"\",Data!#REF!)","v":{"$error":"#REF!"}},{"$f":"IF(Data!#REF!=\"\",\"\",Data!#REF!)","v":{"$error":"#REF!"}},{"$f":"IF(Data!#REF!=\"\",\"\",Data!#REF!)","v":{"$error":"#REF!"}},{"$f":"IF(Data!#REF!=\"\",\"\",Data!#REF!)","v":{"$error":"#REF!"}},{"$error":"#REF!"},{"$error":"#REF!"},{"$error":"#REF!"}]
[{"$f":"IF(Data!#REF!=\"\",\"\",Data!#REF!)","v":{"$error":"#REF!"}},{"$f":"IF(Data!#REF!=\"\",\"\",Data!#REF!)","v":{"$error":"#REF!"}},{"$f":"IF(Data!#REF!=\"\",\"\",Data!#REF!)","v":{"$error":"#REF!"}},{"$f":"IF(Data!#REF!=\"\",\"\",Data!#REF!)","v":{"$error":"#REF!"}},{"$f":"IF(Data!#REF!=\"\",\"\",Data!#REF!)","v":{"$error":"#REF!"}},{"$error":"#REF!"},{"$error":"#REF!"},{"$error":"#REF!"}]
[{"$f":"IF(Data!#REF!=\"\",\"\",Data!#REF!)","v":{"$error":"#REF!"}},{"$f":"IF(Data!#REF!=\"\",\"\",Data!#REF!)","v":{"$error":"#REF!"}},{"$f":"IF(Data!#REF!=\"\",\"\",Data!#REF!)","v":{"$error":"#REF!"}},{"$f":"IF(Data!#REF!=\"\",\"\",Data!#REF!)","v":{"$error":"#REF!"}},{"$f":"IF(Data!#REF!=\"\",\"\",Data!#REF!)","v":{"$error":"#REF!"}},{"$error":"#REF!"},{"$error":"#REF!"},{"$error":"#REF!"}]
[{"$f":"IF(Data!#REF!=\"\",\"\",Data!#REF!)","v":{"$error":"#REF!"}},{"$f":"IF(Data!#REF!=\"\",\"\",Data!#REF!)","v":{"$error":"#REF!"}},{"$f":"IF(Data!#REF!=\"\",\"\",Data!#REF!)","v":{"$error":"#REF!"}},{"$f":"IF(Data!#REF!=\"\",\"\",Data!#REF!)","v":{"$error":"#REF!"}},{"$f":"IF(Data!#REF!=\"\",\"\",Data!#REF!)","v":{"$error":"#REF!"}},{"$error":"#REF!"},{"$error":"#REF!"},{"$error":"#REF!"}]
[{"$f":"IF(Data!#REF!=\"\",\"\",Data!#REF!)","v":{"$error":"#REF!"}},{"$f":"IF(Data!#REF!=\"\",\"\",Data!#REF!)","v":{"$error":"#REF!"}},{"$f":"IF(Data!#REF!=\"\",\"\",Data!#REF!)","v":{"$error":"#REF!"}},{"$f":"IF(Data!#REF!=\"\",\"\",Data!#REF!)","v":{"$error":"#REF!"}},{"$f":"IF(Data!#REF!=\"\",\"\",Data!#REF!)","v":{"$error":"#REF!"}},{"$error":"#REF!"},{"$error":"#REF!"},{"$error":"#REF!"}]
[{"$f":"IF(Data!#REF!=\"\",\"\",Data!#REF!)","v":{"$error":"#REF!"}},{"$f":"IF(Data!#REF!=\"\",\"\",Data!#REF!)","v":{"$error":"#REF!"}},{"$f":"IF(Data!#REF!=\"\",\"\",Data!#REF!)","v":{"$error":"#REF!"}},{"$f":"IF(Data!#REF!=\"\",\"\",Data!#REF!)","v":{"$error":"#REF!"}},{"$f":"IF(Data!#REF!=\"\",\"\",Data!#REF!)","v":{"$error":"#REF!"}},{"$error":"#REF!"},{"$error":"#REF!"},{"$error":"#REF!"}]
[{"$f":"IF(Data!#REF!=\"\",\"\",Data!#REF!)","v":{"$error":"#REF!"}},{"$f":"IF(Data!#REF!=\"\",\"\",Data!#REF!)","v":{"$error":"#REF!"}},{"$f":"IF(Data!#REF!=\"\",\"\",Data!#REF!)","v":{"$error":"#REF!"}},{"$f":"IF(Data!#REF!=\"\",\"\",Data!#REF!)","v":{"$error":"#REF!"}},{"$f":"IF(Data!#REF!=\"\",\"\",Data!#REF!)","v":{"$error":"#REF!"}},{"$error":"#REF!"},{"$error":"#REF!"},{"$error":"#REF!"}]
[{"$f":"IF(Data!#REF!=\"\",\"\",Data!#REF!)","v":{"$error":"#REF!"}},{"$f":"IF(Data!#REF!=\"\",\"\",Data!#REF!)","v":{"$error":"#REF!"}},{"$f":"IF(Data!#REF!=\"\",\"\",Data!#REF!)","v":{"$error":"#REF!"}},{"$f":"IF(Data!#REF!=\"\",\"\",Data!#REF!)","v":{"$error":"#REF!"}},{"$f":"IF(Data!#REF!=\"\",\"\",Data!#REF!)","v":{"$error":"#REF!"}},{"$error":"#REF!"},{"$error":"#REF!"},{"$error":"#REF!"}]
[{"$f":"IF(Data!#REF!=\"\",\"\",Data!#REF!)","v":{"$error":"#REF!"}},{"$f":"IF(Data!#REF!=\"\",\"\",Data!#REF!)","v":{"$error":"#REF!"}},{"$f":"IF(Data!#REF!=\"\",\"\",Data!#REF!)","v":{"$error":"#REF!"}},{"$f":"IF(Data!#REF!=\"\",\"\",Data!#REF!)","v":{"$error":"#REF!"}},{"$f":"IF(Data!#REF!=\"\",\"\",Data!#REF!)","v":{"$error":"#REF!"}},{"$error":"#REF!"},{"$error":"#REF!"},{"$error":"#REF!"}]
[{"$f":"IF(Data!#REF!=\"\",\"\",Data!#REF!)","v":{"$error":"#REF!"}},{"$f":"IF(Data!#REF!=\"\",\"\",Data!#REF!)","v":{"$error":"#REF!"}},{"$f":"IF(Data!#REF!=\"\",\"\",Data!#REF!)","v":{"$error":"#REF!"}},{"$f":"IF(Data!#REF!=\"\",\"\",Data!#REF!)","v":{"$error":"#REF!"}},{"$f":"IF(Data!#REF!=\"\",\"\",Data!#REF!)","v":{"$error":"#REF!"}},{"$error":"#REF!"},{"$error":"#REF!"},{"$error":"#REF!"}]
[{"$f":"IF(Data!#REF!=\"\",\"\",Data!#REF!)","v":{"$error":"#REF!"}},{"$f":"IF(Data!#REF!=\"\",\"\",Data!#REF!)","v":{"$error":"#REF!"}},{"$f":"IF(Data!#REF!=\"\",\"\",Data!#REF!)","v":{"$error":"#REF!"}},{"$f":"IF(Data!#REF!=\"\",\"\",Data!#REF!)","v":{"$error":"#REF!"}},{"$f":"IF(Data!#REF!=\"\",\"\",Data!#REF!)","v":{"$error":"#REF!"}},{"$error":"#REF!"},{"$error":"#REF!"},{"$error":"#REF!"}]
[{"$f":"IF(Data!#REF!=\"\",\"\",Data!#REF!)","v":{"$error":"#REF!"}},{"$f":"IF(Data!#REF!=\"\",\"\",Data!#REF!)","v":{"$error":"#REF!"}},{"$f":"IF(Data!#REF!=\"\",\"\",Data!#REF!)","v":{"$error":"#REF!"}},{"$f":"IF(Data!#REF!=\"\",\"\",Data!#REF!)","v":{"$error":"#REF!"}},{"$f":"IF(Data!#REF!=\"\",\"\",Data!#REF!)","v":{"$error":"#REF!"}},{"$error":"#REF!"},{"$error":"#REF!"},{"$error":"#REF!"}]
[{"$f":"IF(Data!#REF!=\"\",\"\",Data!#REF!)","v":{"$error":"#REF!"}},{"$f":"IF(Data!#REF!=\"\",\"\",Data!#REF!)","v":{"$error":"#REF!"}},{"$f":"IF(Data!#REF!=\"\",\"\",Data!#REF!)","v":{"$error":"#REF!"}},{"$f":"IF(Data!#REF!=\"\",\"\",Data!#REF!)","v":{"$error":"#REF!"}},{"$f":"IF(Data!#REF!=\"\",\"\",Data!#REF!)","v":{"$error":"#REF!"}},{"$error":"#REF!"},{"$error":"#REF!"},{"$error":"#REF!"}]
[{"$f":"IF(Data!#REF!=\"\",\"\",Data!#REF!)","v":{"$error":"#REF!"}},{"$f":"IF(Data!#REF!=\"\",\"\",Data!#REF!)","v":{"$error":"#REF!"}},{"$f":"IF(Data!#REF!=\"\",\"\",Data!#REF!)","v":{"$error":"#REF!"}},{"$f":"IF(Data!#REF!=\"\",\"\",Data!#REF!)","v":{"$error":"#REF!"}},{"$f":"IF(Data!#REF!=\"\",\"\",Data!#REF!)","v":{"$error":"#REF!"}},{"$error":"#REF!"},{"$error":"#REF!"},{"$error":"#REF!"}]
[{"$f":"IF(Data!#REF!=\"\",\"\",Data!#REF!)","v":{"$error":"#REF!"}},{"$f":"IF(Data!#REF!=\"\",\"\",Data!#REF!)","v":{"$error":"#REF!"}},{"$f":"IF(Data!#REF!=\"\",\"\",Data!#REF!)","v":{"$error":"#REF!"}},{"$f":"IF(Data!#REF!=\"\",\"\",Data!#REF!)","v":{"$error":"#REF!"}},{"$f":"IF(Data!#REF!=\"\",\"\",Data!#REF!)","v":{"$error":"#REF!"}},{"$error":"#REF!"},{"$error":"#REF!"},{"$error":"#REF!"}]
[{"$f":"IF(Data!#REF!=\"\",\"\",Data!#REF!)","v":{"$error":"#REF!"}},{"$f":"IF(Data!#REF!=\"\",\"\",Data!#REF!)","v":{"$error":"#REF!"}},{"$f":"IF(Data!#REF!=\"\",\"\",Data!#REF!)","v":{"$error":"#REF!"}},{"$f":"IF(Data!#REF!=\"\",\"\",Data!#REF!)","v":{"$error":"#REF!"}},{"$f":"IF(Data!#REF!=\"\",\"\",Data!#REF!)","v":{"$error":"#REF!"}},{"$error":"#REF!"},{"$error":"#REF!"},{"$error":"#REF!"}]
[{"$f":"IF(Data!#REF!=\"\",\"\",Data!#REF!)","v":{"$error":"#REF!"}},{"$f":"IF(Data!#REF!=\"\",\"\",Data!#REF!)","v":{"$error":"#REF!"}},{"$f":"IF(Data!#REF!=\"\",\"\",Data!#REF!)","v":{"$error":"#REF!"}},{"$f":"IF(Data!#REF!=\"\",\"\",Data!#REF!)","v":{"$error":"#REF!"}},{"$f":"IF(Data!#REF!=\"\",\"\",Data!#REF!)","v":{"$error":"#REF!"}},{"$error":"#REF!"},{"$error":"#REF!"},{"$error":"#REF!"}]
[{"$f":"IF(Data!#REF!=\"\",\"\",Data!#REF!)","v":{"$error":"#REF!"}},{"$f":"IF(Data!#REF!=\"\",\"\",Data!#REF!)","v":{"$error":"#REF!"}},{"$f":"IF(Data!#REF!=\"\",\"\",Data!#REF!)","v":{"$error":"#REF!"}},{"$f":"IF(Data!#REF!=\"\",\"\",Data!#REF!)","v":{"$error":"#REF!"}},{"$f":"IF(Data!#REF!=\"\",\"\",Data!#REF!)","v":{"$error":"#REF!"}},{"$error":"#REF!"},{"$error":"#REF!"},{"$error":"#REF!"}]
[{"$f":"IF(Data!#REF!=\"\",\"\",Data!#REF!)","v":{"$error":"#REF!"}},{"$f":"IF(Data!#REF!=\"\",\"\",Data!#REF!)","v":{"$error":"#REF!"}},{"$f":"IF(Data!#REF!=\"\",\"\",Data!#REF!)","v":{"$error":"#REF!"}},{"$f":"IF(Data!#REF!=\"\",\"\",Data!#REF!)","v":{"$error":"#REF!"}},{"$f":"IF(Data!#REF!=\"\",\"\",Data!#REF!)","v":{"$error":"#REF!"}},{"$error":"#REF!"},{"$error":"#REF!"},{"$error":"#REF!"}]
[{"$f":"IF(Data!#REF!=\"\",\"\",Data!#REF!)","v":{"$error":"#REF!"}},{"$f":"IF(Data!#REF!=\"\",\"\",Data!#REF!)","v":{"$error":"#REF!"}},{"$f":"IF(Data!#REF!=\"\",\"\",Data!#REF!)","v":{"$error":"#REF!"}},{"$f":"IF(Data!#REF!=\"\",\"\",Data!#REF!)","v":{"$error":"#REF!"}},{"$f":"IF(Data!#REF!=\"\",\"\",Data!#REF!)","v":{"$error":"#REF!"}},{"$error":"#REF!"},{"$error":"#REF!"},{"$error":"#REF!"}]
[{"$f":"IF(Data!#REF!=\"\",\"\",Data!#REF!)","v":{"$error":"#REF!"}},{"$f":"IF(Data!#REF!=\"\",\"\",Data!#REF!)","v":{"$error":"#REF!"}},{"$f":"IF(Data!#REF!=\"\",\"\",Data!#REF!)","v":{"$error":"#REF!"}},{"$f":"IF(Data!#REF!=\"\",\"\",Data!#REF!)","v":{"$error":"#REF!"}},{"$f":"IF(Data!#REF!=\"\",\"\",Data!#REF!)","v":{"$error":"#REF!"}},{"$error":"#REF!"},{"$error":"#REF!"},{"$error":"#REF!"}]
[{"$f":"IF(Data!#REF!=\"\",\"\",Data!#REF!)","v":{"$error":"#REF!"}},{"$f":"IF(Data!#REF!=\"\",\"\",Data!#REF!)","v":{"$error":"#REF!"}},{"$f":"IF(Data!#REF!=\"\",\"\",Data!#REF!)","v":{"$error":"#REF!"}},{"$f":"IF(Data!#REF!=\"\",\"\",Data!#REF!)","v":{"$error":"#REF!"}},{"$f":"IF(Data!#REF!=\"\",\"\",Data!#REF!)","v":{"$error":"#REF!"}},{"$error":"#REF!"},{"$error":"#REF!"},{"$error":"#REF!"}]
[{"$f":"IF(Data!#REF!=\"\",\"\",Data!#REF!)","v":{"$error":"#REF!"}},{"$f":"IF(Data!#REF!=\"\",\"\",Data!#REF!)","v":{"$error":"#REF!"}},{"$f":"IF(Data!#REF!=\"\",\"\",Data!#REF!)","v":{"$error":"#REF!"}},{"$f":"IF(Data!#REF!=\"\",\"\",Data!#REF!)","v":{"$error":"#REF!"}},{"$f":"IF(Data!#REF!=\"\",\"\",Data!#REF!)","v":{"$error":"#REF!"}},{"$error":"#REF!"},{"$error":"#REF!"},{"$error":"#REF!"}]
[{"$f":"IF(Data!#REF!=\"\",\"\",Data!#REF!)","v":{"$error":"#REF!"}},{"$f":"IF(Data!#REF!=\"\",\"\",Data!#REF!)","v":{"$error":"#REF!"}},{"$f":"IF(Data!#REF!=\"\",\"\",Data!#REF!)","v":{"$error":"#REF!"}},{"$f":"IF(Data!#REF!=\"\",\"\",Data!#REF!)","v":{"$error":"#REF!"}},{"$f":"IF(Data!#REF!=\"\",\"\",Data!#REF!)","v":{"$error":"#REF!"}},{"$error":"#REF!"},{"$error":"#REF!"},{"$error":"#REF!"}]
[{"$f":"IF(Data!#REF!=\"\",\"\",Data!#REF!)","v":{"$error":"#REF!"}},{"$f":"IF(Data!#REF!=\"\",\"\",Data!#REF!)","v":{"$error":"#REF!"}},{"$f":"IF(Data!#REF!=\"\",\"\",Data!#REF!)","v":{"$error":"#REF!"}},{"$f":"IF(Data!#REF!=\"\",\"\",Data!#REF!)","v":{"$error":"#REF!"}},{"$f":"IF(Data!#REF!=\"\",\"\",Data!#REF!)","v":{"$error":"#REF!"}},{"$error":"#REF!"},{"$error":"#REF!"},{"$error":"#REF!"}]
[{"$f":"IF(Data!#REF!=\"\",\"\",Data!#REF!)","v":{"$error":"#REF!"}},{"$f":"IF(Data!#REF!=\"\",\"\",Data!#REF!)","v":{"$error":"#REF!"}},{"$f":"IF(Data!#REF!=\"\",\"\",Data!#REF!)","v":{"$error":"#REF!"}},{"$f":"IF(Data!#REF!=\"\",\"\",Data!#REF!)","v":{"$error":"#REF!"}},{"$f":"IF(Data!#REF!=\"\",\"\",Data!#REF!)","v":{"$error":"#REF!"}},{"$error":"#REF!"},{"$error":"#REF!"},{"$error":"#REF!"}]
[{"$f":"IF(Data!#REF!=\"\",\"\",Data!#REF!)","v":{"$error":"#REF!"}},{"$f":"IF(Data!#REF!=\"\",\"\",Data!#REF!)","v":{"$error":"#REF!"}},{"$f":"IF(Data!#REF!=\"\",\"\",Data!#REF!)","v":{"$error":"#REF!"}},{"$f":"IF(Data!#REF!=\"\",\"\",Data!#REF!)","v":{"$error":"#REF!"}},{"$f":"IF(Data!#REF!=\"\",\"\",Data!#REF!)","v":{"$error":"#REF!"}},{"$error":"#REF!"},{"$error":"#REF!"},{"$error":"#REF!"}]
[{"$f":"IF(Data!#REF!=\"\",\"\",Data!#REF!)","v":{"$error":"#REF!"}},{"$f":"IF(Data!#REF!=\"\",\"\",Data!#REF!)","v":{"$error":"#REF!"}},{"$f":"IF(Data!#REF!=\"\",\"\",Data!#REF!)","v":{"$error":"#REF!"}},{"$f":"IF(Data!#REF!=\"\",\"\",Data!#REF!)","v":{"$error":"#REF!"}},{"$f":"IF(Data!#REF!=\"\",\"\",Data!#REF!)","v":{"$error":"#REF!"}},{"$error":"#REF!"},{"$error":"#REF!"},{"$error":"#REF!"}]
[{"$f":"IF(Data!#REF!=\"\",\"\",Data!#REF!)","v":{"$error":"#REF!"}},{"$f":"IF(Data!#REF!=\"\",\"\",Data!#REF!)","v":{"$error":"#REF!"}},{"$f":"IF(Data!#REF!=\"\",\"\",Data!#REF!)","v":{"$error":"#REF!"}},{"$f":"IF(Data!#REF!=\"\",\"\",Data!#REF!)","v":{"$error":"#REF!"}},{"$f":"IF(Data!#REF!=\"\",\"\",Data!#REF!)","v":{"$error":"#REF!"}},{"$error":"#REF!"},{"$error":"#REF!"},{"$error":"#REF!"}]
[{"$f":"IF(Data!#REF!=\"\",\"\",Data!#REF!)","v":{"$error":"#REF!"}},{"$f":"IF(Data!#REF!=\"\",\"\",Data!#REF!)","v":{"$error":"#REF!"}},{"$f":"IF(Data!#REF!=\"\",\"\",Data!#REF!)","v":{"$error":"#REF!"}},{"$f":"IF(Data!#REF!=\"\",\"\",Data!#REF!)","v":{"$error":"#REF!"}},{"$f":"IF(Data!#REF!=\"\",\"\",Data!#REF!)","v":{"$error":"#REF!"}},{"$error":"#REF!"},{"$error":"#REF!"},{"$error":"#REF!"}]
[{"$f":"IF(Data!#REF!=\"\",\"\",Data!#REF!)","v":{"$error":"#REF!"}},{"$f":"IF(Data!#REF!=\"\",\"\",Data!#REF!)","v":{"$error":"#REF!"}},{"$f":"IF(Data!#REF!=\"\",\"\",Data!#REF!)","v":{"$error":"#REF!"}},{"$f":"IF(Data!#REF!=\"\",\"\",Data!#REF!)","v":{"$error":"#REF!"}},{"$f":"IF(Data!#REF!=\"\",\"\",Data!#REF!)","v":{"$error":"#REF!"}},{"$error":"#REF!"},{"$error":"#REF!"},{"$error":"#REF!"}]
[{"$f":"IF(Data!#REF!=\"\",\"\",Data!#REF!)","v":{"$error":"#REF!"}},{"$f":"IF(Data!#REF!=\"\",\"\",Data!#REF!)","v":{"$error":"#REF!"}},{"$f":"IF(Data!#REF!=\"\",\"\",Data!#REF!)","v":{"$error":"#REF!"}},{"$f":"IF(Data!#REF!=\"\",\"\",Data!#REF!)","v":{"$error":"#REF!"}},{"$f":"IF(Data!#REF!=\"\",\"\",Data!#REF!)","v":{"$error":"#REF!"}},{"$error":"#REF!"},{"$error":"#REF!"},{"$error":"#REF!"}]
[{"$f":"IF(Data!#REF!=\"\",\"\",Data!#REF!)","v":{"$error":"#REF!"}},{"$f":"IF(Data!#REF!=\"\",\"\",Data!#REF!)","v":{"$error":"#REF!"}},{"$f":"IF(Data!#REF!=\"\",\"\",Data!#REF!)","v":{"$error":"#REF!"}},{"$f":"IF(Data!#REF!=\"\",\"\",Data!#REF!)","v":{"$error":"#REF!"}},{"$f":"IF(Data!#REF!=\"\",\"\",Data!#REF!)","v":{"$error":"#REF!"}},{"$error":"#REF!"},{"$error":"#REF!"},{"$error":"#REF!"}]
[{"$f":"IF(Data!#REF!=\"\",\"\",Data!#REF!)","v":{"$error":"#REF!"}},{"$f":"IF(Data!#REF!=\"\",\"\",Data!#REF!)","v":{"$error":"#REF!"}},{"$f":"IF(Data!#REF!=\"\",\"\",Data!#REF!)","v":{"$error":"#REF!"}},{"$f":"IF(Data!#REF!=\"\",\"\",Data!#REF!)","v":{"$error":"#REF!"}},{"$f":"IF(Data!#REF!=\"\",\"\",Data!#REF!)","v":{"$error":"#REF!"}},{"$error":"#REF!"},{"$error":"#REF!"},{"$error":"#REF!"}]
[{"$f":"IF(Data!#REF!=\"\",\"\",Data!#REF!)","v":{"$error":"#REF!"}},{"$f":"IF(Data!#REF!=\"\",\"\",Data!#REF!)","v":{"$error":"#REF!"}},{"$f":"IF(Data!#REF!=\"\",\"\",Data!#REF!)","v":{"$error":"#REF!"}},{"$f":"IF(Data!#REF!=\"\",\"\",Data!#REF!)","v":{"$error":"#REF!"}},{"$f":"IF(Data!#REF!=\"\",\"\",Data!#REF!)","v":{"$error":"#REF!"}},{"$error":"#REF!"},{"$error":"#REF!"},{"$error":"#REF!"}]
[{"$f":"IF(Data!#REF!=\"\",\"\",Data!#REF!)","v":{"$error":"#REF!"}},{"$f":"IF(Data!#REF!=\"\",\"\",Data!#REF!)","v":{"$error":"#REF!"}},{"$f":"IF(Data!#REF!=\"\",\"\",Data!#REF!)","v":{"$error":"#REF!"}},{"$f":"IF(Data!#REF!=\"\",\"\",Data!#REF!)","v":{"$error":"#REF!"}},{"$f":"IF(Data!#REF!=\"\",\"\",Data!#REF!)","v":{"$error":"#REF!"}},{"$error":"#REF!"},{"$error":"#REF!"},{"$error":"#REF!"}]
[{"$f":"IF(Data!#REF!=\"\",\"\",Data!#REF!)","v":{"$error":"#REF!"}},{"$f":"IF(Data!#REF!=\"\",\"\",Data!#REF!)","v":{"$error":"#REF!"}},{"$f":"IF(Data!#REF!=\"\",\"\",Data!#REF!)","v":{"$error":"#REF!"}},{"$f":"IF(Data!#REF!=\"\",\"\",Data!#REF!)","v":{"$error":"#REF!"}},{"$f":"IF(Data!#REF!=\"\",\"\",Data!#REF!)","v":{"$error":"#REF!"}},{"$error":"#REF!"},{"$error":"#REF!"},{"$error":"#REF!"}]
[{"$f":"IF(Data!#REF!=\"\",\"\",Data!#REF!)","v":{"$error":"#REF!"}},{"$f":"IF(Data!#REF!=\"\",\"\",Data!#REF!)","v":{"$error":"#REF!"}},{"$f":"IF(Data!#REF!=\"\",\"\",Data!#REF!)","v":{"$error":"#REF!"}},{"$f":"IF(Data!#REF!=\"\",\"\",Data!#REF!)","v":{"$error":"#REF!"}},{"$f":"IF(Data!#REF!=\"\",\"\",Data!#REF!)","v":{"$error":"#REF!"}},{"$error":"#REF!"},{"$error":"#REF!"},{"$error":"#REF!"}]
[{"$f":"IF(Data!#REF!=\"\",\"\",Data!#REF!)","v":{"$error":"#REF!"}},{"$f":"IF(Data!#REF!=\"\",\"\",Data!#REF!)","v":{"$error":"#REF!"}},{"$f":"IF(Data!#REF!=\"\",\"\",Data!#REF!)","v":{"$error":"#REF!"}},{"$f":"IF(Data!#REF!=\"\",\"\",Data!#REF!)","v":{"$error":"#REF!"}},{"$f":"IF(Data!#REF!=\"\",\"\",Data!#REF!)","v":{"$error":"#REF!"}},{"$error":"#REF!"},{"$error":"#REF!"},{"$error":"#REF!"}]
[{"$f":"IF(Data!#REF!=\"\",\"\",Data!#REF!)","v":{"$error":"#REF!"}},{"$f":"IF(Data!#REF!=\"\",\"\",Data!#REF!)","v":{"$error":"#REF!"}},{"$f":"IF(Data!#REF!=\"\",\"\",Data!#REF!)","v":{"$error":"#REF!"}},{"$f":"IF(Data!#REF!=\"\",\"\",Data!#REF!)","v":{"$error":"#REF!"}},{"$f":"IF(Data!#REF!=\"\",\"\",Data!#REF!)","v":{"$error":"#REF!"}},{"$error":"#REF!"},{"$error":"#REF!"},{"$error":"#REF!"}]
[{"$f":"IF(Data!#REF!=\"\",\"\",Data!#REF!)","v":{"$error":"#REF!"}},{"$f":"IF(Data!#REF!=\"\",\"\",Data!#REF!)","v":{"$error":"#REF!"}},{"$f":"IF(Data!#REF!=\"\",\"\",Data!#REF!)","v":{"$error":"#REF!"}},{"$f":"IF(Data!#REF!=\"\",\"\",Data!#REF!)","v":{"$error":"#REF!"}},{"$f":"IF(Data!#REF!=\"\",\"\",Data!#REF!)","v":{"$error":"#REF!"}},{"$error":"#REF!"},{"$error":"#REF!"},{"$error":"#REF!"}]
[{"$f":"IF(Data!#REF!=\"\",\"\",Data!#REF!)","v":{"$error":"#REF!"}},{"$f":"IF(Data!#REF!=\"\",\"\",Data!#REF!)","v":{"$error":"#REF!"}},{"$f":"IF(Data!#REF!=\"\",\"\",Data!#REF!)","v":{"$error":"#REF!"}},{"$f":"IF(Data!#REF!=\"\",\"\",Data!#REF!)","v":{"$error":"#REF!"}},{"$f":"IF(Data!#REF!=\"\",\"\",Data!#REF!)","v":{"$error":"#REF!"}},{"$error":"#REF!"},{"$error":"#REF!"},{"$error":"#REF!"}]
[{"$f":"IF(Data!#REF!=\"\",\"\",Data!#REF!)","v":{"$error":"#REF!"}},{"$f":"IF(Data!#REF!=\"\",\"\",Data!#REF!)","v":{"$error":"#REF!"}},{"$f":"IF(Data!#REF!=\"\",\"\",Data!#REF!)","v":{"$error":"#REF!"}},{"$f":"IF(Data!#REF!=\"\",\"\",Data!#REF!)","v":{"$error":"#REF!"}},{"$f":"IF(Data!#REF!=\"\",\"\",Data!#REF!)","v":{"$error":"#REF!"}},{"$error":"#REF!"},{"$error":"#REF!"},{"$error":"#REF!"}]
[{"$f":"IF(Data!#REF!=\"\",\"\",Data!#REF!)","v":{"$error":"#REF!"}},{"$f":"IF(Data!#REF!=\"\",\"\",Data!#REF!)","v":{"$error":"#REF!"}},{"$f":"IF(Data!#REF!=\"\",\"\",Data!#REF!)","v":{"$error":"#REF!"}},{"$f":"IF(Data!#REF!=\"\",\"\",Data!#REF!)","v":{"$error":"#REF!"}},{"$f":"IF(Data!#REF!=\"\",\"\",Data!#REF!)","v":{"$error":"#REF!"}},{"$error":"#REF!"},{"$error":"#REF!"},{"$error":"#REF!"}]
[{"$f":"IF(Data!#REF!=\"\",\"\",Data!#REF!)","v":{"$error":"#REF!"}},{"$f":"IF(Data!#REF!=\"\",\"\",Data!#REF!)","v":{"$error":"#REF!"}},{"$f":"IF(Data!#REF!=\"\",\"\",Data!#REF!)","v":{"$error":"#REF!"}},{"$f":"IF(Data!#REF!=\"\",\"\",Data!#REF!)","v":{"$error":"#REF!"}},{"$f":"IF(Data!#REF!=\"\",\"\",Data!#REF!)","v":{"$error":"#REF!"}},{"$error":"#REF!"},{"$error":"#REF!"},{"$error":"#REF!"}]
[{"$f":"IF(Data!#REF!=\"\",\"\",Data!#REF!)","v":{"$error":"#REF!"}},{"$f":"IF(Data!#REF!=\"\",\"\",Data!#REF!)","v":{"$error":"#REF!"}},{"$f":"IF(Data!#REF!=\"\",\"\",Data!#REF!)","v":{"$error":"#REF!"}},{"$f":"IF(Data!#REF!=\"\",\"\",Data!#REF!)","v":{"$error":"#REF!"}},{"$f":"IF(Data!#REF!=\"\",\"\",Data!#REF!)","v":{"$error":"#REF!"}},{"$error":"#REF!"},{"$error":"#REF!"},{"$error":"#REF!"}]
[{"$f":"IF(Data!#REF!=\"\",\"\",Data!#REF!)","v":{"$error":"#REF!"}},{"$f":"IF(Data!#REF!=\"\",\"\",Data!#REF!)","v":{"$error":"#REF!"}},{"$f":"IF(Data!#REF!=\"\",\"\",Data!#REF!)","v":{"$error":"#REF!"}},{"$f":"IF(Data!#REF!=\"\",\"\",Data!#REF!)","v":{"$error":"#REF!"}},{"$f":"IF(Data!#REF!=\"\",\"\",Data!#REF!)","v":{"$error":"#REF!"}},{"$error":"#REF!"},{"$error":"#REF!"},{"$error":"#REF!"}]
[{"$f":"IF(Data!#REF!=\"\",\"\",Data!#REF!)","v":{"$error":"#REF!"}},{"$f":"IF(Data!#REF!=\"\",\"\",Data!#REF!)","v":{"$error":"#REF!"}},{"$f":"IF(Data!#REF!=\"\",\"\",Data!#REF!)","v":{"$error":"#REF!"}},{"$f":"IF(Data!#REF!=\"\",\"\",Data!#REF!)","v":{"$error":"#REF!"}},{"$f":"IF(Data!#REF!=\"\",\"\",Data!#REF!)","v":{"$error":"#REF!"}},{"$error":"#REF!"},{"$error":"#REF!"},{"$error":"#REF!"}]
[{"$f":"IF(Data!#REF!=\"\",\"\",Data!#REF!)","v":{"$error":"#REF!"}},{"$f":"IF(Data!#REF!=\"\",\"\",Data!#REF!)","v":{"$error":"#REF!"}},{"$f":"IF(Data!#REF!=\"\",\"\",Data!#REF!)","v":{"$error":"#REF!"}},{"$f":"IF(Data!#REF!=\"\",\"\",Data!#REF!)","v":{"$error":"#REF!"}},{"$f":"IF(Data!#REF!=\"\",\"\",Data!#REF!)","v":{"$error":"#REF!"}},{"$error":"#REF!"},{"$error":"#REF!"},{"$error":"#REF!"}]
[{"$f":"IF(Data!#REF!=\"\",\"\",Data!#REF!)","v":{"$error":"#REF!"}},{"$f":"IF(Data!#REF!=\"\",\"\",Data!#REF!)","v":{"$error":"#REF!"}},{"$f":"IF(Data!#REF!=\"\",\"\",Data!#REF!)","v":{"$error":"#REF!"}},{"$f":"IF(Data!#REF!=\"\",\"\",Data!#REF!)","v":{"$error":"#REF!"}},{"$f":"IF(Data!#REF!=\"\",\"\",Data!#REF!)","v":{"$error":"#REF!"}},{"$error":"#REF!"},{"$error":"#REF!"},{"$error":"#REF!"}]
[{"$f":"IF(Data!#REF!=\"\",\"\",Data!#REF!)","v":{"$error":"#REF!"}},{"$f":"IF(Data!#REF!=\"\",\"\",Data!#REF!)","v":{"$error":"#REF!"}},{"$f":"IF(Data!#REF!=\"\",\"\",Data!#REF!)","v":{"$error":"#REF!"}},{"$f":"IF(Data!#REF!=\"\",\"\",Data!#REF!)","v":{"$error":"#REF!"}},{"$f":"IF(Data!#REF!=\"\",\"\",Data!#REF!)","v":{"$error":"#REF!"}},{"$error":"#REF!"},{"$error":"#REF!"},{"$error":"#REF!"}]
[{"$f":"IF(Data!#REF!=\"\",\"\",Data!#REF!)","v":{"$error":"#REF!"}},{"$f":"IF(Data!#REF!=\"\",\"\",Data!#REF!)","v":{"$error":"#REF!"}},{"$f":"IF(Data!#REF!=\"\",\"\",Data!#REF!)","v":{"$error":"#REF!"}},{"$f":"IF(Data!#REF!=\"\",\"\",Data!#REF!)","v":{"$error":"#REF!"}},{"$f":"IF(Data!#REF!=\"\",\"\",Data!#REF!)","v":{"$error":"#REF!"}},{"$error":"#REF!"},{"$error":"#REF!"},{"$error":"#REF!"}]
[{"$f":"IF(Data!#REF!=\"\",\"\",Data!#REF!)","v":{"$error":"#REF!"}},{"$f":"IF(Data!#REF!=\"\",\"\",Data!#REF!)","v":{"$error":"#REF!"}},{"$f":"IF(Data!#REF!=\"\",\"\",Data!#REF!)","v":{"$error":"#REF!"}},{"$f":"IF(Data!#REF!=\"\",\"\",Data!#REF!)","v":{"$error":"#REF!"}},{"$f":"IF(Data!#REF!=\"\",\"\",Data!#REF!)","v":{"$error":"#REF!"}},{"$error":"#REF!"},{"$error":"#REF!"},{"$error":"#REF!"}]
[{"$f":"IF(Data!#REF!=\"\",\"\",Data!#REF!)","v":{"$error":"#REF!"}},{"$f":"IF(Data!#REF!=\"\",\"\",Data!#REF!)","v":{"$error":"#REF!"}},{"$f":"IF(Data!#REF!=\"\",\"\",Data!#REF!)","v":{"$error":"#REF!"}},{"$f":"IF(Data!#REF!=\"\",\"\",Data!#REF!)","v":{"$error":"#REF!"}},{"$f":"IF(Data!#REF!=\"\",\"\",Data!#REF!)","v":{"$error":"#REF!"}},{"$error":"#REF!"},{"$error":"#REF!"},{"$error":"#REF!"}]
[{"$f":"IF(Data!#REF!=\"\",\"\",Data!#REF!)","v":{"$error":"#REF!"}},{"$f":"IF(Data!#REF!=\"\",\"\",Data!#REF!)","v":{"$error":"#REF!"}},{"$f":"IF(Data!#REF!=\"\",\"\",Data!#REF!)","v":{"$error":"#REF!"}},{"$f":"IF(Data!#REF!=\"\",\"\",Data!#REF!)","v":{"$error":"#REF!"}},{"$f":"IF(Data!#REF!=\"\",\"\",Data!#REF!)","v":{"$error":"#REF!"}},{"$f":"IF(E2307>0,MONTH(E2307),\"\")","v":{"$error":"#REF!"}},{"$f":"IF(E2307>0,WEEKNUM(E2307),\"0\")","v":{"$error":"#REF!"}},{"$f":"IF(G2307>=($G$2-3),\"Ano\",\"Nie\")","v":{"$error":"#REF!"}}]
[{"$f":"IF(Data!#REF!=\"\",\"\",Data!#REF!)","v":{"$error":"#REF!"}},{"$f":"IF(Data!#REF!=\"\",\"\",Data!#REF!)","v":{"$error":"#REF!"}},{"$f":"IF(Data!#REF!=\"\",\"\",Data!#REF!)","v":{"$error":"#REF!"}},{"$f":"IF(Data!#REF!=\"\",\"\",Data!#REF!)","v":{"$error":"#REF!"}},{"$f":"IF(Data!#REF!=\"\",\"\",Data!#REF!)","v":{"$error":"#REF!"}},{"$error":"#REF!"},{"$error":"#REF!"},{"$error":"#REF!"}]
[{"$f":"IF(Data!#REF!=\"\",\"\",Data!#REF!)","v":{"$error":"#REF!"}},{"$f":"IF(Data!#REF!=\"\",\"\",Data!#REF!)","v":{"$error":"#REF!"}},{"$f":"IF(Data!#REF!=\"\",\"\",Data!#REF!)","v":{"$error":"#REF!"}},{"$f":"IF(Data!#REF!=\"\",\"\",Data!#REF!)","v":{"$error":"#REF!"}},{"$f":"IF(Data!#REF!=\"\",\"\",Data!#REF!)","v":{"$error":"#REF!"}},{"$error":"#REF!"},{"$error":"#REF!"},{"$error":"#REF!"}]
[{"$f":"IF(Data!#REF!=\"\",\"\",Data!#REF!)","v":{"$error":"#REF!"}},{"$f":"IF(Data!#REF!=\"\",\"\",Data!#REF!)","v":{"$error":"#REF!"}},{"$f":"IF(Data!#REF!=\"\",\"\",Data!#REF!)","v":{"$error":"#REF!"}},{"$f":"IF(Data!#REF!=\"\",\"\",Data!#REF!)","v":{"$error":"#REF!"}},{"$f":"IF(Data!#REF!=\"\",\"\",Data!#REF!)","v":{"$error":"#REF!"}},{"$error":"#REF!"},{"$error":"#REF!"},{"$error":"#REF!"}]
[{"$f":"IF(Data!#REF!=\"\",\"\",Data!#REF!)","v":{"$error":"#REF!"}},{"$f":"IF(Data!#REF!=\"\",\"\",Data!#REF!)","v":{"$error":"#REF!"}},{"$f":"IF(Data!#REF!=\"\",\"\",Data!#REF!)","v":{"$error":"#REF!"}},{"$f":"IF(Data!#REF!=\"\",\"\",Data!#REF!)","v":{"$error":"#REF!"}},{"$f":"IF(Data!#REF!=\"\",\"\",Data!#REF!)","v":{"$error":"#REF!"}},{"$error":"#REF!"},{"$error":"#REF!"},{"$error":"#REF!"}]
[{"$f":"IF(Data!#REF!=\"\",\"\",Data!#REF!)","v":{"$error":"#REF!"}},{"$f":"IF(Data!#REF!=\"\",\"\",Data!#REF!)","v":{"$error":"#REF!"}},{"$f":"IF(Data!#REF!=\"\",\"\",Data!#REF!)","v":{"$error":"#REF!"}},{"$f":"IF(Data!#REF!=\"\",\"\",Data!#REF!)","v":{"$error":"#REF!"}},{"$f":"IF(Data!#REF!=\"\",\"\",Data!#REF!)","v":{"$error":"#REF!"}},{"$error":"#REF!"},{"$error":"#REF!"},{"$error":"#REF!"}]
[{"$f":"IF(Data!#REF!=\"\",\"\",Data!#REF!)","v":{"$error":"#REF!"}},{"$f":"IF(Data!#REF!=\"\",\"\",Data!#REF!)","v":{"$error":"#REF!"}},{"$f":"IF(Data!#REF!=\"\",\"\",Data!#REF!)","v":{"$error":"#REF!"}},{"$f":"IF(Data!#REF!=\"\",\"\",Data!#REF!)","v":{"$error":"#REF!"}},{"$f":"IF(Data!#REF!=\"\",\"\",Data!#REF!)","v":{"$error":"#REF!"}},{"$error":"#REF!"},{"$error":"#REF!"},{"$error":"#REF!"}]
[{"$f":"IF(Data!#REF!=\"\",\"\",Data!#REF!)","v":{"$error":"#REF!"}},{"$f":"IF(Data!#REF!=\"\",\"\",Data!#REF!)","v":{"$error":"#REF!"}},{"$f":"IF(Data!#REF!=\"\",\"\",Data!#REF!)","v":{"$error":"#REF!"}},{"$f":"IF(Data!#REF!=\"\",\"\",Data!#REF!)","v":{"$error":"#REF!"}},{"$f":"IF(Data!#REF!=\"\",\"\",Data!#REF!)","v":{"$error":"#REF!"}},{"$error":"#REF!"},{"$error":"#REF!"},{"$error":"#REF!"}]
[{"$f":"IF(Data!#REF!=\"\",\"\",Data!#REF!)","v":{"$error":"#REF!"}},{"$f":"IF(Data!#REF!=\"\",\"\",Data!#REF!)","v":{"$error":"#REF!"}},{"$f":"IF(Data!#REF!=\"\",\"\",Data!#REF!)","v":{"$error":"#REF!"}},{"$f":"IF(Data!#REF!=\"\",\"\",Data!#REF!)","v":{"$error":"#REF!"}},{"$f":"IF(Data!#REF!=\"\",\"\",Data!#REF!)","v":{"$error":"#REF!"}},{"$error":"#REF!"},{"$error":"#REF!"},{"$error":"#REF!"}]
[{"$f":"IF(Data!#REF!=\"\",\"\",Data!#REF!)","v":{"$error":"#REF!"}},{"$f":"IF(Data!#REF!=\"\",\"\",Data!#REF!)","v":{"$error":"#REF!"}},{"$f":"IF(Data!#REF!=\"\",\"\",Data!#REF!)","v":{"$error":"#REF!"}},{"$f":"IF(Data!#REF!=\"\",\"\",Data!#REF!)","v":{"$error":"#REF!"}},{"$f":"IF(Data!#REF!=\"\",\"\",Data!#REF!)","v":{"$error":"#REF!"}},{"$error":"#REF!"},{"$error":"#REF!"},{"$error":"#REF!"}]
[{"$f":"IF(Data!#REF!=\"\",\"\",Data!#REF!)","v":{"$error":"#REF!"}},{"$f":"IF(Data!#REF!=\"\",\"\",Data!#REF!)","v":{"$error":"#REF!"}},{"$f":"IF(Data!#REF!=\"\",\"\",Data!#REF!)","v":{"$error":"#REF!"}},{"$f":"IF(Data!#REF!=\"\",\"\",Data!#REF!)","v":{"$error":"#REF!"}},{"$f":"IF(Data!#REF!=\"\",\"\",Data!#REF!)","v":{"$error":"#REF!"}},{"$error":"#REF!"},{"$error":"#REF!"},{"$error":"#REF!"}]
[{"$f":"IF(Data!#REF!=\"\",\"\",Data!#REF!)","v":{"$error":"#REF!"}},{"$f":"IF(Data!#REF!=\"\",\"\",Data!#REF!)","v":{"$error":"#REF!"}},{"$f":"IF(Data!#REF!=\"\",\"\",Data!#REF!)","v":{"$error":"#REF!"}},{"$f":"IF(Data!#REF!=\"\",\"\",Data!#REF!)","v":{"$error":"#REF!"}},{"$f":"IF(Data!#REF!=\"\",\"\",Data!#REF!)","v":{"$error":"#REF!"}},{"$error":"#REF!"},{"$error":"#REF!"},{"$error":"#REF!"}]
[{"$f":"IF(Data!#REF!=\"\",\"\",Data!#REF!)","v":{"$error":"#REF!"}},{"$f":"IF(Data!#REF!=\"\",\"\",Data!#REF!)","v":{"$error":"#REF!"}},{"$f":"IF(Data!#REF!=\"\",\"\",Data!#REF!)","v":{"$error":"#REF!"}},{"$f":"IF(Data!#REF!=\"\",\"\",Data!#REF!)","v":{"$error":"#REF!"}},{"$f":"IF(Data!#REF!=\"\",\"\",Data!#REF!)","v":{"$error":"#REF!"}},{"$error":"#REF!"},{"$error":"#REF!"},{"$error":"#REF!"}]
[{"$f":"IF(Data!#REF!=\"\",\"\",Data!#REF!)","v":{"$error":"#REF!"}},{"$f":"IF(Data!#REF!=\"\",\"\",Data!#REF!)","v":{"$error":"#REF!"}},{"$f":"IF(Data!#REF!=\"\",\"\",Data!#REF!)","v":{"$error":"#REF!"}},{"$f":"IF(Data!#REF!=\"\",\"\",Data!#REF!)","v":{"$error":"#REF!"}},{"$f":"IF(Data!#REF!=\"\",\"\",Data!#REF!)","v":{"$error":"#REF!"}},{"$error":"#REF!"},{"$error":"#REF!"},{"$error":"#REF!"}]
[{"$f":"IF(Data!#REF!=\"\",\"\",Data!#REF!)","v":{"$error":"#REF!"}},{"$f":"IF(Data!#REF!=\"\",\"\",Data!#REF!)","v":{"$error":"#REF!"}},{"$f":"IF(Data!#REF!=\"\",\"\",Data!#REF!)","v":{"$error":"#REF!"}},{"$f":"IF(Data!#REF!=\"\",\"\",Data!#REF!)","v":{"$error":"#REF!"}},{"$f":"IF(Data!#REF!=\"\",\"\",Data!#REF!)","v":{"$error":"#REF!"}},{"$error":"#REF!"},{"$error":"#REF!"},{"$error":"#REF!"}]
[{"$f":"IF(Data!#REF!=\"\",\"\",Data!#REF!)","v":{"$error":"#REF!"}},{"$f":"IF(Data!#REF!=\"\",\"\",Data!#REF!)","v":{"$error":"#REF!"}},{"$f":"IF(Data!#REF!=\"\",\"\",Data!#REF!)","v":{"$error":"#REF!"}},{"$f":"IF(Data!#REF!=\"\",\"\",Data!#REF!)","v":{"$error":"#REF!"}},{"$f":"IF(Data!#REF!=\"\",\"\",Data!#REF!)","v":{"$error":"#REF!"}},{"$error":"#REF!"},{"$error":"#REF!"},{"$error":"#REF!"}]
[{"$f":"IF(Data!#REF!=\"\",\"\",Data!#REF!)","v":{"$error":"#REF!"}},{"$f":"IF(Data!#REF!=\"\",\"\",Data!#REF!)","v":{"$error":"#REF!"}},{"$f":"IF(Data!#REF!=\"\",\"\",Data!#REF!)","v":{"$error":"#REF!"}},{"$f":"IF(Data!#REF!=\"\",\"\",Data!#REF!)","v":{"$error":"#REF!"}},{"$f":"IF(Data!#REF!=\"\",\"\",Data!#REF!)","v":{"$error":"#REF!"}},{"$error":"#REF!"},{"$error":"#REF!"},{"$error":"#REF!"}]
[{"$f":"IF(Data!#REF!=\"\",\"\",Data!#REF!)","v":{"$error":"#REF!"}},{"$f":"IF(Data!#REF!=\"\",\"\",Data!#REF!)","v":{"$error":"#REF!"}},{"$f":"IF(Data!#REF!=\"\",\"\",Data!#REF!)","v":{"$error":"#REF!"}},{"$f":"IF(Data!#REF!=\"\",\"\",Data!#REF!)","v":{"$error":"#REF!"}},{"$f":"IF(Data!#REF!=\"\",\"\",Data!#REF!)","v":{"$error":"#REF!"}},{"$error":"#REF!"},{"$error":"#REF!"},{"$error":"#REF!"}]
[{"$f":"IF(Data!#REF!=\"\",\"\",Data!#REF!)","v":{"$error":"#REF!"}},{"$f":"IF(Data!#REF!=\"\",\"\",Data!#REF!)","v":{"$error":"#REF!"}},{"$f":"IF(Data!#REF!=\"\",\"\",Data!#REF!)","v":{"$error":"#REF!"}},{"$f":"IF(Data!#REF!=\"\",\"\",Data!#REF!)","v":{"$error":"#REF!"}},{"$f":"IF(Data!#REF!=\"\",\"\",Data!#REF!)","v":{"$error":"#REF!"}},{"$error":"#REF!"},{"$error":"#REF!"},{"$error":"#REF!"}]
[{"$f":"IF(Data!#REF!=\"\",\"\",Data!#REF!)","v":{"$error":"#REF!"}},{"$f":"IF(Data!#REF!=\"\",\"\",Data!#REF!)","v":{"$error":"#REF!"}},{"$f":"IF(Data!#REF!=\"\",\"\",Data!#REF!)","v":{"$error":"#REF!"}},{"$f":"IF(Data!#REF!=\"\",\"\",Data!#REF!)","v":{"$error":"#REF!"}},{"$f":"IF(Data!#REF!=\"\",\"\",Data!#REF!)","v":{"$error":"#REF!"}},{"$error":"#REF!"},{"$error":"#REF!"},{"$error":"#REF!"}]
[{"$f":"IF(Data!#REF!=\"\",\"\",Data!#REF!)","v":{"$error":"#REF!"}},{"$f":"IF(Data!#REF!=\"\",\"\",Data!#REF!)","v":{"$error":"#REF!"}},{"$f":"IF(Data!#REF!=\"\",\"\",Data!#REF!)","v":{"$error":"#REF!"}},{"$f":"IF(Data!#REF!=\"\",\"\",Data!#REF!)","v":{"$error":"#REF!"}},{"$f":"IF(Data!#REF!=\"\",\"\",Data!#REF!)","v":{"$error":"#REF!"}},{"$error":"#REF!"},{"$error":"#REF!"},{"$error":"#REF!"}]
[{"$f":"IF(Data!#REF!=\"\",\"\",Data!#REF!)","v":{"$error":"#REF!"}},{"$f":"IF(Data!#REF!=\"\",\"\",Data!#REF!)","v":{"$error":"#REF!"}},{"$f":"IF(Data!#REF!=\"\",\"\",Data!#REF!)","v":{"$error":"#REF!"}},{"$f":"IF(Data!#REF!=\"\",\"\",Data!#REF!)","v":{"$error":"#REF!"}},{"$f":"IF(Data!#REF!=\"\",\"\",Data!#REF!)","v":{"$error":"#REF!"}},{"$error":"#REF!"},{"$error":"#REF!"},{"$error":"#REF!"}]
[{"$f":"IF(Data!#REF!=\"\",\"\",Data!#REF!)","v":{"$error":"#REF!"}},{"$f":"IF(Data!#REF!=\"\",\"\",Data!#REF!)","v":{"$error":"#REF!"}},{"$f":"IF(Data!#REF!=\"\",\"\",Data!#REF!)","v":{"$error":"#REF!"}},{"$f":"IF(Data!#REF!=\"\",\"\",Data!#REF!)","v":{"$error":"#REF!"}},{"$f":"IF(Data!#REF!=\"\",\"\",Data!#REF!)","v":{"$error":"#REF!"}},{"$error":"#REF!"},{"$error":"#REF!"},{"$error":"#REF!"}]
[{"$f":"IF(Data!#REF!=\"\",\"\",Data!#REF!)","v":{"$error":"#REF!"}},{"$f":"IF(Data!#REF!=\"\",\"\",Data!#REF!)","v":{"$error":"#REF!"}},{"$f":"IF(Data!#REF!=\"\",\"\",Data!#REF!)","v":{"$error":"#REF!"}},{"$f":"IF(Data!#REF!=\"\",\"\",Data!#REF!)","v":{"$error":"#REF!"}},{"$f":"IF(Data!#REF!=\"\",\"\",Data!#REF!)","v":{"$error":"#REF!"}},{"$error":"#REF!"},{"$error":"#REF!"},{"$error":"#REF!"}]
[{"$f":"IF(Data!#REF!=\"\",\"\",Data!#REF!)","v":{"$error":"#REF!"}},{"$f":"IF(Data!#REF!=\"\",\"\",Data!#REF!)","v":{"$error":"#REF!"}},{"$f":"IF(Data!#REF!=\"\",\"\",Data!#REF!)","v":{"$error":"#REF!"}},{"$f":"IF(Data!#REF!=\"\",\"\",Data!#REF!)","v":{"$error":"#REF!"}},{"$f":"IF(Data!#REF!=\"\",\"\",Data!#REF!)","v":{"$error":"#REF!"}},{"$error":"#REF!"},{"$error":"#REF!"},{"$error":"#REF!"}]
[{"$f":"IF(Data!#REF!=\"\",\"\",Data!#REF!)","v":{"$error":"#REF!"}},{"$f":"IF(Data!#REF!=\"\",\"\",Data!#REF!)","v":{"$error":"#REF!"}},{"$f":"IF(Data!#REF!=\"\",\"\",Data!#REF!)","v":{"$error":"#REF!"}},{"$f":"IF(Data!#REF!=\"\",\"\",Data!#REF!)","v":{"$error":"#REF!"}},{"$f":"IF(Data!#REF!=\"\",\"\",Data!#REF!)","v":{"$error":"#REF!"}},{"$error":"#REF!"},{"$error":"#REF!"},{"$error":"#REF!"}]
[{"$f":"IF(Data!#REF!=\"\",\"\",Data!#REF!)","v":{"$error":"#REF!"}},{"$f":"IF(Data!#REF!=\"\",\"\",Data!#REF!)","v":{"$error":"#REF!"}},{"$f":"IF(Data!#REF!=\"\",\"\",Data!#REF!)","v":{"$error":"#REF!"}},{"$f":"IF(Data!#REF!=\"\",\"\",Data!#REF!)","v":{"$error":"#REF!"}},{"$f":"IF(Data!#REF!=\"\",\"\",Data!#REF!)","v":{"$error":"#REF!"}},{"$error":"#REF!"},{"$error":"#REF!"},{"$error":"#REF!"}]
[{"$f":"IF(Data!#REF!=\"\",\"\",Data!#REF!)","v":{"$error":"#REF!"}},{"$f":"IF(Data!#REF!=\"\",\"\",Data!#REF!)","v":{"$error":"#REF!"}},{"$f":"IF(Data!#REF!=\"\",\"\",Data!#REF!)","v":{"$error":"#REF!"}},{"$f":"IF(Data!#REF!=\"\",\"\",Data!#REF!)","v":{"$error":"#REF!"}},{"$f":"IF(Data!#REF!=\"\",\"\",Data!#REF!)","v":{"$error":"#REF!"}},{"$error":"#REF!"},{"$error":"#REF!"},{"$error":"#REF!"}]
[{"$f":"IF(Data!#REF!=\"\",\"\",Data!#REF!)","v":{"$error":"#REF!"}},{"$f":"IF(Data!#REF!=\"\",\"\",Data!#REF!)","v":{"$error":"#REF!"}},{"$f":"IF(Data!#REF!=\"\",\"\",Data!#REF!)","v":{"$error":"#REF!"}},{"$f":"IF(Data!#REF!=\"\",\"\",Data!#REF!)","v":{"$error":"#REF!"}},{"$f":"IF(Data!#REF!=\"\",\"\",Data!#REF!)","v":{"$error":"#REF!"}},{"$error":"#REF!"},{"$error":"#REF!"},{"$error":"#REF!"}]
[{"$f":"IF(Data!#REF!=\"\",\"\",Data!#REF!)","v":{"$error":"#REF!"}},{"$f":"IF(Data!#REF!=\"\",\"\",Data!#REF!)","v":{"$error":"#REF!"}},{"$f":"IF(Data!#REF!=\"\",\"\",Data!#REF!)","v":{"$error":"#REF!"}},{"$f":"IF(Data!#REF!=\"\",\"\",Data!#REF!)","v":{"$error":"#REF!"}},{"$f":"IF(Data!#REF!=\"\",\"\",Data!#REF!)","v":{"$error":"#REF!"}},{"$error":"#REF!"},{"$error":"#REF!"},{"$error":"#REF!"}]
[{"$f":"IF(Data!#REF!=\"\",\"\",Data!#REF!)","v":{"$error":"#REF!"}},{"$f":"IF(Data!#REF!=\"\",\"\",Data!#REF!)","v":{"$error":"#REF!"}},{"$f":"IF(Data!#REF!=\"\",\"\",Data!#REF!)","v":{"$error":"#REF!"}},{"$f":"IF(Data!#REF!=\"\",\"\",Data!#REF!)","v":{"$error":"#REF!"}},{"$f":"IF(Data!#REF!=\"\",\"\",Data!#REF!)","v":{"$error":"#REF!"}},{"$error":"#REF!"},{"$error":"#REF!"},{"$error":"#REF!"}]
[{"$f":"IF(Data!#REF!=\"\",\"\",Data!#REF!)","v":{"$error":"#REF!"}},{"$f":"IF(Data!#REF!=\"\",\"\",Data!#REF!)","v":{"$error":"#REF!"}},{"$f":"IF(Data!#REF!=\"\",\"\",Data!#REF!)","v":{"$error":"#REF!"}},{"$f":"IF(Data!#REF!=\"\",\"\",Data!#REF!)","v":{"$error":"#REF!"}},{"$f":"IF(Data!#REF!=\"\",\"\",Data!#REF!)","v":{"$error":"#REF!"}},{"$error":"#REF!"},{"$error":"#REF!"},{"$error":"#REF!"}]
[{"$f":"IF(Data!#REF!=\"\",\"\",Data!#REF!)","v":{"$error":"#REF!"}},{"$f":"IF(Data!#REF!=\"\",\"\",Data!#REF!)","v":{"$error":"#REF!"}},{"$f":"IF(Data!#REF!=\"\",\"\",Data!#REF!)","v":{"$error":"#REF!"}},{"$f":"IF(Data!#REF!=\"\",\"\",Data!#REF!)","v":{"$error":"#REF!"}},{"$f":"IF(Data!#REF!=\"\",\"\",Data!#REF!)","v":{"$error":"#REF!"}},{"$error":"#REF!"},{"$error":"#REF!"},{"$error":"#REF!"}]
[{"$f":"IF(Data!#REF!=\"\",\"\",Data!#REF!)","v":{"$error":"#REF!"}},{"$f":"IF(Data!#REF!=\"\",\"\",Data!#REF!)","v":{"$error":"#REF!"}},{"$f":"IF(Data!#REF!=\"\",\"\",Data!#REF!)","v":{"$error":"#REF!"}},{"$f":"IF(Data!#REF!=\"\",\"\",Data!#REF!)","v":{"$error":"#REF!"}},{"$f":"IF(Data!#REF!=\"\",\"\",Data!#REF!)","v":{"$error":"#REF!"}},{"$error":"#REF!"},{"$error":"#REF!"},{"$error":"#REF!"}]
[{"$f":"IF(Data!#REF!=\"\",\"\",Data!#REF!)","v":{"$error":"#REF!"}},{"$f":"IF(Data!#REF!=\"\",\"\",Data!#REF!)","v":{"$error":"#REF!"}},{"$f":"IF(Data!#REF!=\"\",\"\",Data!#REF!)","v":{"$error":"#REF!"}},{"$f":"IF(Data!#REF!=\"\",\"\",Data!#REF!)","v":{"$error":"#REF!"}},{"$f":"IF(Data!#REF!=\"\",\"\",Data!#REF!)","v":{"$error":"#REF!"}},{"$error":"#REF!"},{"$error":"#REF!"},{"$error":"#REF!"}]
[{"$f":"IF(Data!#REF!=\"\",\"\",Data!#REF!)","v":{"$error":"#REF!"}},{"$f":"IF(Data!#REF!=\"\",\"\",Data!#REF!)","v":{"$error":"#REF!"}},{"$f":"IF(Data!#REF!=\"\",\"\",Data!#REF!)","v":{"$error":"#REF!"}},{"$f":"IF(Data!#REF!=\"\",\"\",Data!#REF!)","v":{"$error":"#REF!"}},{"$f":"IF(Data!#REF!=\"\",\"\",Data!#REF!)","v":{"$error":"#REF!"}},{"$error":"#REF!"},{"$error":"#REF!"},{"$error":"#REF!"}]
[{"$f":"IF(Data!#REF!=\"\",\"\",Data!#REF!)","v":{"$error":"#REF!"}},{"$f":"IF(Data!#REF!=\"\",\"\",Data!#REF!)","v":{"$error":"#REF!"}},{"$f":"IF(Data!#REF!=\"\",\"\",Data!#REF!)","v":{"$error":"#REF!"}},{"$f":"IF(Data!#REF!=\"\",\"\",Data!#REF!)","v":{"$error":"#REF!"}},{"$f":"IF(Data!#REF!=\"\",\"\",Data!#REF!)","v":{"$error":"#REF!"}},{"$error":"#REF!"},{"$error":"#REF!"},{"$error":"#REF!"}]
[{"$f":"IF(Data!#REF!=\"\",\"\",Data!#REF!)","v":{"$error":"#REF!"}},{"$f":"IF(Data!#REF!=\"\",\"\",Data!#REF!)","v":{"$error":"#REF!"}},{"$f":"IF(Data!#REF!=\"\",\"\",Data!#REF!)","v":{"$error":"#REF!"}},{"$f":"IF(Data!#REF!=\"\",\"\",Data!#REF!)","v":{"$error":"#REF!"}},{"$f":"IF(Data!#REF!=\"\",\"\",Data!#REF!)","v":{"$error":"#REF!"}},{"$error":"#REF!"},{"$error":"#REF!"},{"$error":"#REF!"}]
[{"$f":"IF(Data!#REF!=\"\",\"\",Data!#REF!)","v":{"$error":"#REF!"}},{"$f":"IF(Data!#REF!=\"\",\"\",Data!#REF!)","v":{"$error":"#REF!"}},{"$f":"IF(Data!#REF!=\"\",\"\",Data!#REF!)","v":{"$error":"#REF!"}},{"$f":"IF(Data!#REF!=\"\",\"\",Data!#REF!)","v":{"$error":"#REF!"}},{"$f":"IF(Data!#REF!=\"\",\"\",Data!#REF!)","v":{"$error":"#REF!"}},{"$error":"#REF!"},{"$error":"#REF!"},{"$error":"#REF!"}]
[{"$f":"IF(Data!#REF!=\"\",\"\",Data!#REF!)","v":{"$error":"#REF!"}},{"$f":"IF(Data!#REF!=\"\",\"\",Data!#REF!)","v":{"$error":"#REF!"}},{"$f":"IF(Data!#REF!=\"\",\"\",Data!#REF!)","v":{"$error":"#REF!"}},{"$f":"IF(Data!#REF!=\"\",\"\",Data!#REF!)","v":{"$error":"#REF!"}},{"$f":"IF(Data!#REF!=\"\",\"\",Data!#REF!)","v":{"$error":"#REF!"}},{"$error":"#REF!"},{"$error":"#REF!"},{"$error":"#REF!"}]
[{"$f":"IF(Data!#REF!=\"\",\"\",Data!#REF!)","v":{"$error":"#REF!"}},{"$f":"IF(Data!#REF!=\"\",\"\",Data!#REF!)","v":{"$error":"#REF!"}},{"$f":"IF(Data!#REF!=\"\",\"\",Data!#REF!)","v":{"$error":"#REF!"}},{"$f":"IF(Data!#REF!=\"\",\"\",Data!#REF!)","v":{"$error":"#REF!"}},{"$f":"IF(Data!#REF!=\"\",\"\",Data!#REF!)","v":{"$error":"#REF!"}},{"$error":"#REF!"},{"$error":"#REF!"},{"$error":"#REF!"}]
[{"$f":"IF(Data!#REF!=\"\",\"\",Data!#REF!)","v":{"$error":"#REF!"}},{"$f":"IF(Data!#REF!=\"\",\"\",Data!#REF!)","v":{"$error":"#REF!"}},{"$f":"IF(Data!#REF!=\"\",\"\",Data!#REF!)","v":{"$error":"#REF!"}},{"$f":"IF(Data!#REF!=\"\",\"\",Data!#REF!)","v":{"$error":"#REF!"}},{"$f":"IF(Data!#REF!=\"\",\"\",Data!#REF!)","v":{"$error":"#REF!"}},{"$error":"#REF!"},{"$error":"#REF!"},{"$error":"#REF!"}]
[{"$f":"IF(Data!#REF!=\"\",\"\",Data!#REF!)","v":{"$error":"#REF!"}},{"$f":"IF(Data!#REF!=\"\",\"\",Data!#REF!)","v":{"$error":"#REF!"}},{"$f":"IF(Data!#REF!=\"\",\"\",Data!#REF!)","v":{"$error":"#REF!"}},{"$f":"IF(Data!#REF!=\"\",\"\",Data!#REF!)","v":{"$error":"#REF!"}},{"$f":"IF(Data!#REF!=\"\",\"\",Data!#REF!)","v":{"$error":"#REF!"}},{"$error":"#REF!"},{"$error":"#REF!"},{"$error":"#REF!"}]
[{"$f":"IF(Data!#REF!=\"\",\"\",Data!#REF!)","v":{"$error":"#REF!"}},{"$f":"IF(Data!#REF!=\"\",\"\",Data!#REF!)","v":{"$error":"#REF!"}},{"$f":"IF(Data!#REF!=\"\",\"\",Data!#REF!)","v":{"$error":"#REF!"}},{"$f":"IF(Data!#REF!=\"\",\"\",Data!#REF!)","v":{"$error":"#REF!"}},{"$f":"IF(Data!#REF!=\"\",\"\",Data!#REF!)","v":{"$error":"#REF!"}},{"$error":"#REF!"},{"$error":"#REF!"},{"$error":"#REF!"}]
[{"$f":"IF(Data!#REF!=\"\",\"\",Data!#REF!)","v":{"$error":"#REF!"}},{"$f":"IF(Data!#REF!=\"\",\"\",Data!#REF!)","v":{"$error":"#REF!"}},{"$f":"IF(Data!#REF!=\"\",\"\",Data!#REF!)","v":{"$error":"#REF!"}},{"$f":"IF(Data!#REF!=\"\",\"\",Data!#REF!)","v":{"$error":"#REF!"}},{"$f":"IF(Data!#REF!=\"\",\"\",Data!#REF!)","v":{"$error":"#REF!"}},{"$error":"#REF!"},{"$error":"#REF!"},{"$error":"#REF!"}]
[{"$f":"IF(Data!#REF!=\"\",\"\",Data!#REF!)","v":{"$error":"#REF!"}},{"$f":"IF(Data!#REF!=\"\",\"\",Data!#REF!)","v":{"$error":"#REF!"}},{"$f":"IF(Data!#REF!=\"\",\"\",Data!#REF!)","v":{"$error":"#REF!"}},{"$f":"IF(Data!#REF!=\"\",\"\",Data!#REF!)","v":{"$error":"#REF!"}},{"$f":"IF(Data!#REF!=\"\",\"\",Data!#REF!)","v":{"$error":"#REF!"}},{"$error":"#REF!"},{"$error":"#REF!"},{"$error":"#REF!"}]
[{"$f":"IF(Data!#REF!=\"\",\"\",Data!#REF!)","v":{"$error":"#REF!"}},{"$f":"IF(Data!#REF!=\"\",\"\",Data!#REF!)","v":{"$error":"#REF!"}},{"$f":"IF(Data!#REF!=\"\",\"\",Data!#REF!)","v":{"$error":"#REF!"}},{"$f":"IF(Data!#REF!=\"\",\"\",Data!#REF!)","v":{"$error":"#REF!"}},{"$f":"IF(Data!#REF!=\"\",\"\",Data!#REF!)","v":{"$error":"#REF!"}},{"$error":"#REF!"},{"$error":"#REF!"},{"$error":"#REF!"}]
[{"$f":"IF(Data!#REF!=\"\",\"\",Data!#REF!)","v":{"$error":"#REF!"}},{"$f":"IF(Data!#REF!=\"\",\"\",Data!#REF!)","v":{"$error":"#REF!"}},{"$f":"IF(Data!#REF!=\"\",\"\",Data!#REF!)","v":{"$error":"#REF!"}},{"$f":"IF(Data!#REF!=\"\",\"\",Data!#REF!)","v":{"$error":"#REF!"}},{"$f":"IF(Data!#REF!=\"\",\"\",Data!#REF!)","v":{"$error":"#REF!"}},{"$error":"#REF!"},{"$error":"#REF!"},{"$error":"#REF!"}]
[{"$f":"IF(Data!#REF!=\"\",\"\",Data!#REF!)","v":{"$error":"#REF!"}},{"$f":"IF(Data!#REF!=\"\",\"\",Data!#REF!)","v":{"$error":"#REF!"}},{"$f":"IF(Data!#REF!=\"\",\"\",Data!#REF!)","v":{"$error":"#REF!"}},{"$f":"IF(Data!#REF!=\"\",\"\",Data!#REF!)","v":{"$error":"#REF!"}},{"$f":"IF(Data!#REF!=\"\",\"\",Data!#REF!)","v":{"$error":"#REF!"}},{"$error":"#REF!"},{"$error":"#REF!"},{"$error":"#REF!"}]
[{"$f":"IF(Data!#REF!=\"\",\"\",Data!#REF!)","v":{"$error":"#REF!"}},{"$f":"IF(Data!#REF!=\"\",\"\",Data!#REF!)","v":{"$error":"#REF!"}},{"$f":"IF(Data!#REF!=\"\",\"\",Data!#REF!)","v":{"$error":"#REF!"}},{"$f":"IF(Data!#REF!=\"\",\"\",Data!#REF!)","v":{"$error":"#REF!"}},{"$f":"IF(Data!#REF!=\"\",\"\",Data!#REF!)","v":{"$error":"#REF!"}},{"$error":"#REF!"},{"$error":"#REF!"},{"$error":"#REF!"}]
[{"$f":"IF(Data!#REF!=\"\",\"\",Data!#REF!)","v":{"$error":"#REF!"}},{"$f":"IF(Data!#REF!=\"\",\"\",Data!#REF!)","v":{"$error":"#REF!"}},{"$f":"IF(Data!#REF!=\"\",\"\",Data!#REF!)","v":{"$error":"#REF!"}},{"$f":"IF(Data!#REF!=\"\",\"\",Data!#REF!)","v":{"$error":"#REF!"}},{"$f":"IF(Data!#REF!=\"\",\"\",Data!#REF!)","v":{"$error":"#REF!"}},{"$error":"#REF!"},{"$error":"#REF!"},{"$error":"#REF!"}]
[{"$f":"IF(Data!#REF!=\"\",\"\",Data!#REF!)","v":{"$error":"#REF!"}},{"$f":"IF(Data!#REF!=\"\",\"\",Data!#REF!)","v":{"$error":"#REF!"}},{"$f":"IF(Data!#REF!=\"\",\"\",Data!#REF!)","v":{"$error":"#REF!"}},{"$f":"IF(Data!#REF!=\"\",\"\",Data!#REF!)","v":{"$error":"#REF!"}},{"$f":"IF(Data!#REF!=\"\",\"\",Data!#REF!)","v":{"$error":"#REF!"}},{"$error":"#REF!"},{"$error":"#REF!"},{"$error":"#REF!"}]
[{"$f":"IF(Data!#REF!=\"\",\"\",Data!#REF!)","v":{"$error":"#REF!"}},{"$f":"IF(Data!#REF!=\"\",\"\",Data!#REF!)","v":{"$error":"#REF!"}},{"$f":"IF(Data!#REF!=\"\",\"\",Data!#REF!)","v":{"$error":"#REF!"}},{"$f":"IF(Data!#REF!=\"\",\"\",Data!#REF!)","v":{"$error":"#REF!"}},{"$f":"IF(Data!#REF!=\"\",\"\",Data!#REF!)","v":{"$error":"#REF!"}},{"$error":"#REF!"},{"$error":"#REF!"},{"$error":"#REF!"}]
[{"$f":"IF(Data!#REF!=\"\",\"\",Data!#REF!)","v":{"$error":"#REF!"}},{"$f":"IF(Data!#REF!=\"\",\"\",Data!#REF!)","v":{"$error":"#REF!"}},{"$f":"IF(Data!#REF!=\"\",\"\",Data!#REF!)","v":{"$error":"#REF!"}},{"$f":"IF(Data!#REF!=\"\",\"\",Data!#REF!)","v":{"$error":"#REF!"}},{"$f":"IF(Data!#REF!=\"\",\"\",Data!#REF!)","v":{"$error":"#REF!"}},{"$error":"#REF!"},{"$error":"#REF!"},{"$error":"#REF!"}]
[{"$f":"IF(Data!#REF!=\"\",\"\",Data!#REF!)","v":{"$error":"#REF!"}},{"$f":"IF(Data!#REF!=\"\",\"\",Data!#REF!)","v":{"$error":"#REF!"}},{"$f":"IF(Data!#REF!=\"\",\"\",Data!#REF!)","v":{"$error":"#REF!"}},{"$f":"IF(Data!#REF!=\"\",\"\",Data!#REF!)","v":{"$error":"#REF!"}},{"$f":"IF(Data!#REF!=\"\",\"\",Data!#REF!)","v":{"$error":"#REF!"}},{"$error":"#REF!"},{"$error":"#REF!"},{"$error":"#REF!"}]
[{"$f":"IF(Data!#REF!=\"\",\"\",Data!#REF!)","v":{"$error":"#REF!"}},{"$f":"IF(Data!#REF!=\"\",\"\",Data!#REF!)","v":{"$error":"#REF!"}},{"$f":"IF(Data!#REF!=\"\",\"\",Data!#REF!)","v":{"$error":"#REF!"}},{"$f":"IF(Data!#REF!=\"\",\"\",Data!#REF!)","v":{"$error":"#REF!"}},{"$f":"IF(Data!#REF!=\"\",\"\",Data!#REF!)","v":{"$error":"#REF!"}},{"$error":"#REF!"},{"$error":"#REF!"},{"$error":"#REF!"}]
[{"$f":"IF(Data!#REF!=\"\",\"\",Data!#REF!)","v":{"$error":"#REF!"}},{"$f":"IF(Data!#REF!=\"\",\"\",Data!#REF!)","v":{"$error":"#REF!"}},{"$f":"IF(Data!#REF!=\"\",\"\",Data!#REF!)","v":{"$error":"#REF!"}},{"$f":"IF(Data!#REF!=\"\",\"\",Data!#REF!)","v":{"$error":"#REF!"}},{"$f":"IF(Data!#REF!=\"\",\"\",Data!#REF!)","v":{"$error":"#REF!"}},{"$error":"#REF!"},{"$error":"#REF!"},{"$error":"#REF!"}]
[{"$f":"IF(Data!#REF!=\"\",\"\",Data!#REF!)","v":{"$error":"#REF!"}},{"$f":"IF(Data!#REF!=\"\",\"\",Data!#REF!)","v":{"$error":"#REF!"}},{"$f":"IF(Data!#REF!=\"\",\"\",Data!#REF!)","v":{"$error":"#REF!"}},{"$f":"IF(Data!#REF!=\"\",\"\",Data!#REF!)","v":{"$error":"#REF!"}},{"$f":"IF(Data!#REF!=\"\",\"\",Data!#REF!)","v":{"$error":"#REF!"}},{"$error":"#REF!"},{"$error":"#REF!"},{"$error":"#REF!"}]
[{"$f":"IF(Data!#REF!=\"\",\"\",Data!#REF!)","v":{"$error":"#REF!"}},{"$f":"IF(Data!#REF!=\"\",\"\",Data!#REF!)","v":{"$error":"#REF!"}},{"$f":"IF(Data!#REF!=\"\",\"\",Data!#REF!)","v":{"$error":"#REF!"}},{"$f":"IF(Data!#REF!=\"\",\"\",Data!#REF!)","v":{"$error":"#REF!"}},{"$f":"IF(Data!#REF!=\"\",\"\",Data!#REF!)","v":{"$error":"#REF!"}},{"$error":"#REF!"},{"$error":"#REF!"},{"$error":"#REF!"}]
[{"$f":"IF(Data!#REF!=\"\",\"\",Data!#REF!)","v":{"$error":"#REF!"}},{"$f":"IF(Data!#REF!=\"\",\"\",Data!#REF!)","v":{"$error":"#REF!"}},{"$f":"IF(Data!#REF!=\"\",\"\",Data!#REF!)","v":{"$error":"#REF!"}},{"$f":"IF(Data!#REF!=\"\",\"\",Data!#REF!)","v":{"$error":"#REF!"}},{"$f":"IF(Data!#REF!=\"\",\"\",Data!#REF!)","v":{"$error":"#REF!"}},{"$error":"#REF!"},{"$error":"#REF!"},{"$error":"#REF!"}]
[{"$f":"IF(Data!#REF!=\"\",\"\",Data!#REF!)","v":{"$error":"#REF!"}},{"$f":"IF(Data!#REF!=\"\",\"\",Data!#REF!)","v":{"$error":"#REF!"}},{"$f":"IF(Data!#REF!=\"\",\"\",Data!#REF!)","v":{"$error":"#REF!"}},{"$f":"IF(Data!#REF!=\"\",\"\",Data!#REF!)","v":{"$error":"#REF!"}},{"$f":"IF(Data!#REF!=\"\",\"\",Data!#REF!)","v":{"$error":"#REF!"}},{"$error":"#REF!"},{"$error":"#REF!"},{"$error":"#REF!"}]
[{"$f":"IF(Data!#REF!=\"\",\"\",Data!#REF!)","v":{"$error":"#REF!"}},{"$f":"IF(Data!#REF!=\"\",\"\",Data!#REF!)","v":{"$error":"#REF!"}},{"$f":"IF(Data!#REF!=\"\",\"\",Data!#REF!)","v":{"$error":"#REF!"}},{"$f":"IF(Data!#REF!=\"\",\"\",Data!#REF!)","v":{"$error":"#REF!"}},{"$f":"IF(Data!#REF!=\"\",\"\",Data!#REF!)","v":{"$error":"#REF!"}},{"$error":"#REF!"},{"$error":"#REF!"},{"$error":"#REF!"}]
[{"$f":"IF(Data!#REF!=\"\",\"\",Data!#REF!)","v":{"$error":"#REF!"}},{"$f":"IF(Data!#REF!=\"\",\"\",Data!#REF!)","v":{"$error":"#REF!"}},{"$f":"IF(Data!#REF!=\"\",\"\",Data!#REF!)","v":{"$error":"#REF!"}},{"$f":"IF(Data!#REF!=\"\",\"\",Data!#REF!)","v":{"$error":"#REF!"}},{"$f":"IF(Data!#REF!=\"\",\"\",Data!#REF!)","v":{"$error":"#REF!"}},{"$error":"#REF!"},{"$error":"#REF!"},{"$error":"#REF!"}]
[{"$f":"IF(Data!#REF!=\"\",\"\",Data!#REF!)","v":{"$error":"#REF!"}},{"$f":"IF(Data!#REF!=\"\",\"\",Data!#REF!)","v":{"$error":"#REF!"}},{"$f":"IF(Data!#REF!=\"\",\"\",Data!#REF!)","v":{"$error":"#REF!"}},{"$f":"IF(Data!#REF!=\"\",\"\",Data!#REF!)","v":{"$error":"#REF!"}},{"$f":"IF(Data!#REF!=\"\",\"\",Data!#REF!)","v":{"$error":"#REF!"}},{"$error":"#REF!"},{"$error":"#REF!"},{"$error":"#REF!"}]
[{"$f":"IF(Data!#REF!=\"\",\"\",Data!#REF!)","v":{"$error":"#REF!"}},{"$f":"IF(Data!#REF!=\"\",\"\",Data!#REF!)","v":{"$error":"#REF!"}},{"$f":"IF(Data!#REF!=\"\",\"\",Data!#REF!)","v":{"$error":"#REF!"}},{"$f":"IF(Data!#REF!=\"\",\"\",Data!#REF!)","v":{"$error":"#REF!"}},{"$f":"IF(Data!#REF!=\"\",\"\",Data!#REF!)","v":{"$error":"#REF!"}},{"$f":"IF(E2371>0,MONTH(E2371),\"\")","v":{"$error":"#REF!"}},{"$f":"IF(E2371>0,WEEKNUM(E2371),\"0\")","v":{"$error":"#REF!"}},{"$f":"IF(G2371>=($G$2-3),\"Ano\",\"Nie\")","v":{"$error":"#REF!"}}]
[{"$f":"IF(Data!#REF!=\"\",\"\",Data!#REF!)","v":{"$error":"#REF!"}},{"$f":"IF(Data!#REF!=\"\",\"\",Data!#REF!)","v":{"$error":"#REF!"}},{"$f":"IF(Data!#REF!=\"\",\"\",Data!#REF!)","v":{"$error":"#REF!"}},{"$f":"IF(Data!#REF!=\"\",\"\",Data!#REF!)","v":{"$error":"#REF!"}},{"$f":"IF(Data!#REF!=\"\",\"\",Data!#REF!)","v":{"$error":"#REF!"}},{"$error":"#REF!"},{"$error":"#REF!"},{"$error":"#REF!"}]
[{"$f":"IF(Data!#REF!=\"\",\"\",Data!#REF!)","v":{"$error":"#REF!"}},{"$f":"IF(Data!#REF!=\"\",\"\",Data!#REF!)","v":{"$error":"#REF!"}},{"$f":"IF(Data!#REF!=\"\",\"\",Data!#REF!)","v":{"$error":"#REF!"}},{"$f":"IF(Data!#REF!=\"\",\"\",Data!#REF!)","v":{"$error":"#REF!"}},{"$f":"IF(Data!#REF!=\"\",\"\",Data!#REF!)","v":{"$error":"#REF!"}},{"$error":"#REF!"},{"$error":"#REF!"},{"$error":"#REF!"}]
[{"$f":"IF(Data!#REF!=\"\",\"\",Data!#REF!)","v":{"$error":"#REF!"}},{"$f":"IF(Data!#REF!=\"\",\"\",Data!#REF!)","v":{"$error":"#REF!"}},{"$f":"IF(Data!#REF!=\"\",\"\",Data!#REF!)","v":{"$error":"#REF!"}},{"$f":"IF(Data!#REF!=\"\",\"\",Data!#REF!)","v":{"$error":"#REF!"}},{"$f":"IF(Data!#REF!=\"\",\"\",Data!#REF!)","v":{"$error":"#REF!"}},{"$error":"#REF!"},{"$error":"#REF!"},{"$error":"#REF!"}]
[{"$f":"IF(Data!#REF!=\"\",\"\",Data!#REF!)","v":{"$error":"#REF!"}},{"$f":"IF(Data!#REF!=\"\",\"\",Data!#REF!)","v":{"$error":"#REF!"}},{"$f":"IF(Data!#REF!=\"\",\"\",Data!#REF!)","v":{"$error":"#REF!"}},{"$f":"IF(Data!#REF!=\"\",\"\",Data!#REF!)","v":{"$error":"#REF!"}},{"$f":"IF(Data!#REF!=\"\",\"\",Data!#REF!)","v":{"$error":"#REF!"}},{"$error":"#REF!"},{"$error":"#REF!"},{"$error":"#REF!"}]
[{"$f":"IF(Data!#REF!=\"\",\"\",Data!#REF!)","v":{"$error":"#REF!"}},{"$f":"IF(Data!#REF!=\"\",\"\",Data!#REF!)","v":{"$error":"#REF!"}},{"$f":"IF(Data!#REF!=\"\",\"\",Data!#REF!)","v":{"$error":"#REF!"}},{"$f":"IF(Data!#REF!=\"\",\"\",Data!#REF!)","v":{"$error":"#REF!"}},{"$f":"IF(Data!#REF!=\"\",\"\",Data!#REF!)","v":{"$error":"#REF!"}},{"$error":"#REF!"},{"$error":"#REF!"},{"$error":"#REF!"}]
[{"$f":"IF(Data!#REF!=\"\",\"\",Data!#REF!)","v":{"$error":"#REF!"}},{"$f":"IF(Data!#REF!=\"\",\"\",Data!#REF!)","v":{"$error":"#REF!"}},{"$f":"IF(Data!#REF!=\"\",\"\",Data!#REF!)","v":{"$error":"#REF!"}},{"$f":"IF(Data!#REF!=\"\",\"\",Data!#REF!)","v":{"$error":"#REF!"}},{"$f":"IF(Data!#REF!=\"\",\"\",Data!#REF!)","v":{"$error":"#REF!"}},{"$error":"#REF!"},{"$error":"#REF!"},{"$error":"#REF!"}]
[{"$f":"IF(Data!#REF!=\"\",\"\",Data!#REF!)","v":{"$error":"#REF!"}},{"$f":"IF(Data!#REF!=\"\",\"\",Data!#REF!)","v":{"$error":"#REF!"}},{"$f":"IF(Data!#REF!=\"\",\"\",Data!#REF!)","v":{"$error":"#REF!"}},{"$f":"IF(Data!#REF!=\"\",\"\",Data!#REF!)","v":{"$error":"#REF!"}},{"$f":"IF(Data!#REF!=\"\",\"\",Data!#REF!)","v":{"$error":"#REF!"}},{"$error":"#REF!"},{"$error":"#REF!"},{"$error":"#REF!"}]
[{"$f":"IF(Data!#REF!=\"\",\"\",Data!#REF!)","v":{"$error":"#REF!"}},{"$f":"IF(Data!#REF!=\"\",\"\",Data!#REF!)","v":{"$error":"#REF!"}},{"$f":"IF(Data!#REF!=\"\",\"\",Data!#REF!)","v":{"$error":"#REF!"}},{"$f":"IF(Data!#REF!=\"\",\"\",Data!#REF!)","v":{"$error":"#REF!"}},{"$f":"IF(Data!#REF!=\"\",\"\",Data!#REF!)","v":{"$error":"#REF!"}},{"$error":"#REF!"},{"$error":"#REF!"},{"$error":"#REF!"}]
[{"$f":"IF(Data!#REF!=\"\",\"\",Data!#REF!)","v":{"$error":"#REF!"}},{"$f":"IF(Data!#REF!=\"\",\"\",Data!#REF!)","v":{"$error":"#REF!"}},{"$f":"IF(Data!#REF!=\"\",\"\",Data!#REF!)","v":{"$error":"#REF!"}},{"$f":"IF(Data!#REF!=\"\",\"\",Data!#REF!)","v":{"$error":"#REF!"}},{"$f":"IF(Data!#REF!=\"\",\"\",Data!#REF!)","v":{"$error":"#REF!"}},{"$error":"#REF!"},{"$error":"#REF!"},{"$error":"#REF!"}]
[{"$f":"IF(Data!#REF!=\"\",\"\",Data!#REF!)","v":{"$error":"#REF!"}},{"$f":"IF(Data!#REF!=\"\",\"\",Data!#REF!)","v":{"$error":"#REF!"}},{"$f":"IF(Data!#REF!=\"\",\"\",Data!#REF!)","v":{"$error":"#REF!"}},{"$f":"IF(Data!#REF!=\"\",\"\",Data!#REF!)","v":{"$error":"#REF!"}},{"$f":"IF(Data!#REF!=\"\",\"\",Data!#REF!)","v":{"$error":"#REF!"}},{"$error":"#REF!"},{"$error":"#REF!"},{"$error":"#REF!"}]
[{"$f":"IF(Data!#REF!=\"\",\"\",Data!#REF!)","v":{"$error":"#REF!"}},{"$f":"IF(Data!#REF!=\"\",\"\",Data!#REF!)","v":{"$error":"#REF!"}},{"$f":"IF(Data!#REF!=\"\",\"\",Data!#REF!)","v":{"$error":"#REF!"}},{"$f":"IF(Data!#REF!=\"\",\"\",Data!#REF!)","v":{"$error":"#REF!"}},{"$f":"IF(Data!#REF!=\"\",\"\",Data!#REF!)","v":{"$error":"#REF!"}},{"$error":"#REF!"},{"$error":"#REF!"},{"$error":"#REF!"}]
[{"$f":"IF(Data!#REF!=\"\",\"\",Data!#REF!)","v":{"$error":"#REF!"}},{"$f":"IF(Data!#REF!=\"\",\"\",Data!#REF!)","v":{"$error":"#REF!"}},{"$f":"IF(Data!#REF!=\"\",\"\",Data!#REF!)","v":{"$error":"#REF!"}},{"$f":"IF(Data!#REF!=\"\",\"\",Data!#REF!)","v":{"$error":"#REF!"}},{"$f":"IF(Data!#REF!=\"\",\"\",Data!#REF!)","v":{"$error":"#REF!"}},{"$error":"#REF!"},{"$error":"#REF!"},{"$error":"#REF!"}]
[{"$f":"IF(Data!#REF!=\"\",\"\",Data!#REF!)","v":{"$error":"#REF!"}},{"$f":"IF(Data!#REF!=\"\",\"\",Data!#REF!)","v":{"$error":"#REF!"}},{"$f":"IF(Data!#REF!=\"\",\"\",Data!#REF!)","v":{"$error":"#REF!"}},{"$f":"IF(Data!#REF!=\"\",\"\",Data!#REF!)","v":{"$error":"#REF!"}},{"$f":"IF(Data!#REF!=\"\",\"\",Data!#REF!)","v":{"$error":"#REF!"}},{"$error":"#REF!"},{"$error":"#REF!"},{"$error":"#REF!"}]
[{"$f":"IF(Data!#REF!=\"\",\"\",Data!#REF!)","v":{"$error":"#REF!"}},{"$f":"IF(Data!#REF!=\"\",\"\",Data!#REF!)","v":{"$error":"#REF!"}},{"$f":"IF(Data!#REF!=\"\",\"\",Data!#REF!)","v":{"$error":"#REF!"}},{"$f":"IF(Data!#REF!=\"\",\"\",Data!#REF!)","v":{"$error":"#REF!"}},{"$f":"IF(Data!#REF!=\"\",\"\",Data!#REF!)","v":{"$error":"#REF!"}},{"$error":"#REF!"},{"$error":"#REF!"},{"$error":"#REF!"}]
[{"$f":"IF(Data!#REF!=\"\",\"\",Data!#REF!)","v":{"$error":"#REF!"}},{"$f":"IF(Data!#REF!=\"\",\"\",Data!#REF!)","v":{"$error":"#REF!"}},{"$f":"IF(Data!#REF!=\"\",\"\",Data!#REF!)","v":{"$error":"#REF!"}},{"$f":"IF(Data!#REF!=\"\",\"\",Data!#REF!)","v":{"$error":"#REF!"}},{"$f":"IF(Data!#REF!=\"\",\"\",Data!#REF!)","v":{"$error":"#REF!"}},{"$error":"#REF!"},{"$error":"#REF!"},{"$error":"#REF!"}]
[{"$f":"IF(Data!#REF!=\"\",\"\",Data!#REF!)","v":{"$error":"#REF!"}},{"$f":"IF(Data!#REF!=\"\",\"\",Data!#REF!)","v":{"$error":"#REF!"}},{"$f":"IF(Data!#REF!=\"\",\"\",Data!#REF!)","v":{"$error":"#REF!"}},{"$f":"IF(Data!#REF!=\"\",\"\",Data!#REF!)","v":{"$error":"#REF!"}},{"$f":"IF(Data!#REF!=\"\",\"\",Data!#REF!)","v":{"$error":"#REF!"}},{"$error":"#REF!"},{"$error":"#REF!"},{"$error":"#REF!"}]
[{"$f":"IF(Data!#REF!=\"\",\"\",Data!#REF!)","v":{"$error":"#REF!"}},{"$f":"IF(Data!#REF!=\"\",\"\",Data!#REF!)","v":{"$error":"#REF!"}},{"$f":"IF(Data!#REF!=\"\",\"\",Data!#REF!)","v":{"$error":"#REF!"}},{"$f":"IF(Data!#REF!=\"\",\"\",Data!#REF!)","v":{"$error":"#REF!"}},{"$f":"IF(Data!#REF!=\"\",\"\",Data!#REF!)","v":{"$error":"#REF!"}},{"$error":"#REF!"},{"$error":"#REF!"},{"$error":"#REF!"}]
[{"$f":"IF(Data!#REF!=\"\",\"\",Data!#REF!)","v":{"$error":"#REF!"}},{"$f":"IF(Data!#REF!=\"\",\"\",Data!#REF!)","v":{"$error":"#REF!"}},{"$f":"IF(Data!#REF!=\"\",\"\",Data!#REF!)","v":{"$error":"#REF!"}},{"$f":"IF(Data!#REF!=\"\",\"\",Data!#REF!)","v":{"$error":"#REF!"}},{"$f":"IF(Data!#REF!=\"\",\"\",Data!#REF!)","v":{"$error":"#REF!"}},{"$error":"#REF!"},{"$error":"#REF!"},{"$error":"#REF!"}]
[{"$f":"IF(Data!#REF!=\"\",\"\",Data!#REF!)","v":{"$error":"#REF!"}},{"$f":"IF(Data!#REF!=\"\",\"\",Data!#REF!)","v":{"$error":"#REF!"}},{"$f":"IF(Data!#REF!=\"\",\"\",Data!#REF!)","v":{"$error":"#REF!"}},{"$f":"IF(Data!#REF!=\"\",\"\",Data!#REF!)","v":{"$error":"#REF!"}},{"$f":"IF(Data!#REF!=\"\",\"\",Data!#REF!)","v":{"$error":"#REF!"}},{"$error":"#REF!"},{"$error":"#REF!"},{"$error":"#REF!"}]
[{"$f":"IF(Data!#REF!=\"\",\"\",Data!#REF!)","v":{"$error":"#REF!"}},{"$f":"IF(Data!#REF!=\"\",\"\",Data!#REF!)","v":{"$error":"#REF!"}},{"$f":"IF(Data!#REF!=\"\",\"\",Data!#REF!)","v":{"$error":"#REF!"}},{"$f":"IF(Data!#REF!=\"\",\"\",Data!#REF!)","v":{"$error":"#REF!"}},{"$f":"IF(Data!#REF!=\"\",\"\",Data!#REF!)","v":{"$error":"#REF!"}},{"$error":"#REF!"},{"$error":"#REF!"},{"$error":"#REF!"}]
[{"$f":"IF(Data!#REF!=\"\",\"\",Data!#REF!)","v":{"$error":"#REF!"}},{"$f":"IF(Data!#REF!=\"\",\"\",Data!#REF!)","v":{"$error":"#REF!"}},{"$f":"IF(Data!#REF!=\"\",\"\",Data!#REF!)","v":{"$error":"#REF!"}},{"$f":"IF(Data!#REF!=\"\",\"\",Data!#REF!)","v":{"$error":"#REF!"}},{"$f":"IF(Data!#REF!=\"\",\"\",Data!#REF!)","v":{"$error":"#REF!"}},{"$error":"#REF!"},{"$error":"#REF!"},{"$error":"#REF!"}]
[{"$f":"IF(Data!#REF!=\"\",\"\",Data!#REF!)","v":{"$error":"#REF!"}},{"$f":"IF(Data!#REF!=\"\",\"\",Data!#REF!)","v":{"$error":"#REF!"}},{"$f":"IF(Data!#REF!=\"\",\"\",Data!#REF!)","v":{"$error":"#REF!"}},{"$f":"IF(Data!#REF!=\"\",\"\",Data!#REF!)","v":{"$error":"#REF!"}},{"$f":"IF(Data!#REF!=\"\",\"\",Data!#REF!)","v":{"$error":"#REF!"}},{"$error":"#REF!"},{"$error":"#REF!"},{"$error":"#REF!"}]
[{"$f":"IF(Data!#REF!=\"\",\"\",Data!#REF!)","v":{"$error":"#REF!"}},{"$f":"IF(Data!#REF!=\"\",\"\",Data!#REF!)","v":{"$error":"#REF!"}},{"$f":"IF(Data!#REF!=\"\",\"\",Data!#REF!)","v":{"$error":"#REF!"}},{"$f":"IF(Data!#REF!=\"\",\"\",Data!#REF!)","v":{"$error":"#REF!"}},{"$f":"IF(Data!#REF!=\"\",\"\",Data!#REF!)","v":{"$error":"#REF!"}},{"$error":"#REF!"},{"$error":"#REF!"},{"$error":"#REF!"}]
[{"$f":"IF(Data!#REF!=\"\",\"\",Data!#REF!)","v":{"$error":"#REF!"}},{"$f":"IF(Data!#REF!=\"\",\"\",Data!#REF!)","v":{"$error":"#REF!"}},{"$f":"IF(Data!#REF!=\"\",\"\",Data!#REF!)","v":{"$error":"#REF!"}},{"$f":"IF(Data!#REF!=\"\",\"\",Data!#REF!)","v":{"$error":"#REF!"}},{"$f":"IF(Data!#REF!=\"\",\"\",Data!#REF!)","v":{"$error":"#REF!"}},{"$error":"#REF!"},{"$error":"#REF!"},{"$error":"#REF!"}]
[{"$f":"IF(Data!#REF!=\"\",\"\",Data!#REF!)","v":{"$error":"#REF!"}},{"$f":"IF(Data!#REF!=\"\",\"\",Data!#REF!)","v":{"$error":"#REF!"}},{"$f":"IF(Data!#REF!=\"\",\"\",Data!#REF!)","v":{"$error":"#REF!"}},{"$f":"IF(Data!#REF!=\"\",\"\",Data!#REF!)","v":{"$error":"#REF!"}},{"$f":"IF(Data!#REF!=\"\",\"\",Data!#REF!)","v":{"$error":"#REF!"}},{"$error":"#REF!"},{"$error":"#REF!"},{"$error":"#REF!"}]
[{"$f":"IF(Data!#REF!=\"\",\"\",Data!#REF!)","v":{"$error":"#REF!"}},{"$f":"IF(Data!#REF!=\"\",\"\",Data!#REF!)","v":{"$error":"#REF!"}},{"$f":"IF(Data!#REF!=\"\",\"\",Data!#REF!)","v":{"$error":"#REF!"}},{"$f":"IF(Data!#REF!=\"\",\"\",Data!#REF!)","v":{"$error":"#REF!"}},{"$f":"IF(Data!#REF!=\"\",\"\",Data!#REF!)","v":{"$error":"#REF!"}},{"$error":"#REF!"},{"$error":"#REF!"},{"$error":"#REF!"}]
[{"$f":"IF(Data!#REF!=\"\",\"\",Data!#REF!)","v":{"$error":"#REF!"}},{"$f":"IF(Data!#REF!=\"\",\"\",Data!#REF!)","v":{"$error":"#REF!"}},{"$f":"IF(Data!#REF!=\"\",\"\",Data!#REF!)","v":{"$error":"#REF!"}},{"$f":"IF(Data!#REF!=\"\",\"\",Data!#REF!)","v":{"$error":"#REF!"}},{"$f":"IF(Data!#REF!=\"\",\"\",Data!#REF!)","v":{"$error":"#REF!"}},{"$error":"#REF!"},{"$error":"#REF!"},{"$error":"#REF!"}]
[{"$f":"IF(Data!#REF!=\"\",\"\",Data!#REF!)","v":{"$error":"#REF!"}},{"$f":"IF(Data!#REF!=\"\",\"\",Data!#REF!)","v":{"$error":"#REF!"}},{"$f":"IF(Data!#REF!=\"\",\"\",Data!#REF!)","v":{"$error":"#REF!"}},{"$f":"IF(Data!#REF!=\"\",\"\",Data!#REF!)","v":{"$error":"#REF!"}},{"$f":"IF(Data!#REF!=\"\",\"\",Data!#REF!)","v":{"$error":"#REF!"}},{"$error":"#REF!"},{"$error":"#REF!"},{"$error":"#REF!"}]
[{"$f":"IF(Data!#REF!=\"\",\"\",Data!#REF!)","v":{"$error":"#REF!"}},{"$f":"IF(Data!#REF!=\"\",\"\",Data!#REF!)","v":{"$error":"#REF!"}},{"$f":"IF(Data!#REF!=\"\",\"\",Data!#REF!)","v":{"$error":"#REF!"}},{"$f":"IF(Data!#REF!=\"\",\"\",Data!#REF!)","v":{"$error":"#REF!"}},{"$f":"IF(Data!#REF!=\"\",\"\",Data!#REF!)","v":{"$error":"#REF!"}},{"$error":"#REF!"},{"$error":"#REF!"},{"$error":"#REF!"}]
[{"$f":"IF(Data!#REF!=\"\",\"\",Data!#REF!)","v":{"$error":"#REF!"}},{"$f":"IF(Data!#REF!=\"\",\"\",Data!#REF!)","v":{"$error":"#REF!"}},{"$f":"IF(Data!#REF!=\"\",\"\",Data!#REF!)","v":{"$error":"#REF!"}},{"$f":"IF(Data!#REF!=\"\",\"\",Data!#REF!)","v":{"$error":"#REF!"}},{"$f":"IF(Data!#REF!=\"\",\"\",Data!#REF!)","v":{"$error":"#REF!"}},{"$error":"#REF!"},{"$error":"#REF!"},{"$error":"#REF!"}]
[{"$f":"IF(Data!#REF!=\"\",\"\",Data!#REF!)","v":{"$error":"#REF!"}},{"$f":"IF(Data!#REF!=\"\",\"\",Data!#REF!)","v":{"$error":"#REF!"}},{"$f":"IF(Data!#REF!=\"\",\"\",Data!#REF!)","v":{"$error":"#REF!"}},{"$f":"IF(Data!#REF!=\"\",\"\",Data!#REF!)","v":{"$error":"#REF!"}},{"$f":"IF(Data!#REF!=\"\",\"\",Data!#REF!)","v":{"$error":"#REF!"}},{"$error":"#REF!"},{"$error":"#REF!"},{"$error":"#REF!"}]
[{"$f":"IF(Data!#REF!=\"\",\"\",Data!#REF!)","v":{"$error":"#REF!"}},{"$f":"IF(Data!#REF!=\"\",\"\",Data!#REF!)","v":{"$error":"#REF!"}},{"$f":"IF(Data!#REF!=\"\",\"\",Data!#REF!)","v":{"$error":"#REF!"}},{"$f":"IF(Data!#REF!=\"\",\"\",Data!#REF!)","v":{"$error":"#REF!"}},{"$f":"IF(Data!#REF!=\"\",\"\",Data!#REF!)","v":{"$error":"#REF!"}},{"$error":"#REF!"},{"$error":"#REF!"},{"$error":"#REF!"}]
[{"$f":"IF(Data!#REF!=\"\",\"\",Data!#REF!)","v":{"$error":"#REF!"}},{"$f":"IF(Data!#REF!=\"\",\"\",Data!#REF!)","v":{"$error":"#REF!"}},{"$f":"IF(Data!#REF!=\"\",\"\",Data!#REF!)","v":{"$error":"#REF!"}},{"$f":"IF(Data!#REF!=\"\",\"\",Data!#REF!)","v":{"$error":"#REF!"}},{"$f":"IF(Data!#REF!=\"\",\"\",Data!#REF!)","v":{"$error":"#REF!"}},{"$error":"#REF!"},{"$error":"#REF!"},{"$error":"#REF!"}]
[{"$f":"IF(Data!#REF!=\"\",\"\",Data!#REF!)","v":{"$error":"#REF!"}},{"$f":"IF(Data!#REF!=\"\",\"\",Data!#REF!)","v":{"$error":"#REF!"}},{"$f":"IF(Data!#REF!=\"\",\"\",Data!#REF!)","v":{"$error":"#REF!"}},{"$f":"IF(Data!#REF!=\"\",\"\",Data!#REF!)","v":{"$error":"#REF!"}},{"$f":"IF(Data!#REF!=\"\",\"\",Data!#REF!)","v":{"$error":"#REF!"}},{"$error":"#REF!"},{"$error":"#REF!"},{"$error":"#REF!"}]
[{"$f":"IF(Data!#REF!=\"\",\"\",Data!#REF!)","v":{"$error":"#REF!"}},{"$f":"IF(Data!#REF!=\"\",\"\",Data!#REF!)","v":{"$error":"#REF!"}},{"$f":"IF(Data!#REF!=\"\",\"\",Data!#REF!)","v":{"$error":"#REF!"}},{"$f":"IF(Data!#REF!=\"\",\"\",Data!#REF!)","v":{"$error":"#REF!"}},{"$f":"IF(Data!#REF!=\"\",\"\",Data!#REF!)","v":{"$error":"#REF!"}},{"$error":"#REF!"},{"$error":"#REF!"},{"$error":"#REF!"}]
[{"$f":"IF(Data!#REF!=\"\",\"\",Data!#REF!)","v":{"$error":"#REF!"}},{"$f":"IF(Data!#REF!=\"\",\"\",Data!#REF!)","v":{"$error":"#REF!"}},{"$f":"IF(Data!#REF!=\"\",\"\",Data!#REF!)","v":{"$error":"#REF!"}},{"$f":"IF(Data!#REF!=\"\",\"\",Data!#REF!)","v":{"$error":"#REF!"}},{"$f":"IF(Data!#REF!=\"\",\"\",Data!#REF!)","v":{"$error":"#REF!"}},{"$error":"#REF!"},{"$error":"#REF!"},{"$error":"#REF!"}]
[{"$f":"IF(Data!#REF!=\"\",\"\",Data!#REF!)","v":{"$error":"#REF!"}},{"$f":"IF(Data!#REF!=\"\",\"\",Data!#REF!)","v":{"$error":"#REF!"}},{"$f":"IF(Data!#REF!=\"\",\"\",Data!#REF!)","v":{"$error":"#REF!"}},{"$f":"IF(Data!#REF!=\"\",\"\",Data!#REF!)","v":{"$error":"#REF!"}},{"$f":"IF(Data!#REF!=\"\",\"\",Data!#REF!)","v":{"$error":"#REF!"}},{"$error":"#REF!"},{"$error":"#REF!"},{"$error":"#REF!"}]
[{"$f":"IF(Data!#REF!=\"\",\"\",Data!#REF!)","v":{"$error":"#REF!"}},{"$f":"IF(Data!#REF!=\"\",\"\",Data!#REF!)","v":{"$error":"#REF!"}},{"$f":"IF(Data!#REF!=\"\",\"\",Data!#REF!)","v":{"$error":"#REF!"}},{"$f":"IF(Data!#REF!=\"\",\"\",Data!#REF!)","v":{"$error":"#REF!"}},{"$f":"IF(Data!#REF!=\"\",\"\",Data!#REF!)","v":{"$error":"#REF!"}},{"$error":"#REF!"},{"$error":"#REF!"},{"$error":"#REF!"}]
[{"$f":"IF(Data!#REF!=\"\",\"\",Data!#REF!)","v":{"$error":"#REF!"}},{"$f":"IF(Data!#REF!=\"\",\"\",Data!#REF!)","v":{"$error":"#REF!"}},{"$f":"IF(Data!#REF!=\"\",\"\",Data!#REF!)","v":{"$error":"#REF!"}},{"$f":"IF(Data!#REF!=\"\",\"\",Data!#REF!)","v":{"$error":"#REF!"}},{"$f":"IF(Data!#REF!=\"\",\"\",Data!#REF!)","v":{"$error":"#REF!"}},{"$error":"#REF!"},{"$error":"#REF!"},{"$error":"#REF!"}]
[{"$f":"IF(Data!#REF!=\"\",\"\",Data!#REF!)","v":{"$error":"#REF!"}},{"$f":"IF(Data!#REF!=\"\",\"\",Data!#REF!)","v":{"$error":"#REF!"}},{"$f":"IF(Data!#REF!=\"\",\"\",Data!#REF!)","v":{"$error":"#REF!"}},{"$f":"IF(Data!#REF!=\"\",\"\",Data!#REF!)","v":{"$error":"#REF!"}},{"$f":"IF(Data!#REF!=\"\",\"\",Data!#REF!)","v":{"$error":"#REF!"}},{"$error":"#REF!"},{"$error":"#REF!"},{"$error":"#REF!"}]
[{"$f":"IF(Data!#REF!=\"\",\"\",Data!#REF!)","v":{"$error":"#REF!"}},{"$f":"IF(Data!#REF!=\"\",\"\",Data!#REF!)","v":{"$error":"#REF!"}},{"$f":"IF(Data!#REF!=\"\",\"\",Data!#REF!)","v":{"$error":"#REF!"}},{"$f":"IF(Data!#REF!=\"\",\"\",Data!#REF!)","v":{"$error":"#REF!"}},{"$f":"IF(Data!#REF!=\"\",\"\",Data!#REF!)","v":{"$error":"#REF!"}},{"$error":"#REF!"},{"$error":"#REF!"},{"$error":"#REF!"}]
[{"$f":"IF(Data!#REF!=\"\",\"\",Data!#REF!)","v":{"$error":"#REF!"}},{"$f":"IF(Data!#REF!=\"\",\"\",Data!#REF!)","v":{"$error":"#REF!"}},{"$f":"IF(Data!#REF!=\"\",\"\",Data!#REF!)","v":{"$error":"#REF!"}},{"$f":"IF(Data!#REF!=\"\",\"\",Data!#REF!)","v":{"$error":"#REF!"}},{"$f":"IF(Data!#REF!=\"\",\"\",Data!#REF!)","v":{"$error":"#REF!"}},{"$error":"#REF!"},{"$error":"#REF!"},{"$error":"#REF!"}]
[{"$f":"IF(Data!#REF!=\"\",\"\",Data!#REF!)","v":{"$error":"#REF!"}},{"$f":"IF(Data!#REF!=\"\",\"\",Data!#REF!)","v":{"$error":"#REF!"}},{"$f":"IF(Data!#REF!=\"\",\"\",Data!#REF!)","v":{"$error":"#REF!"}},{"$f":"IF(Data!#REF!=\"\",\"\",Data!#REF!)","v":{"$error":"#REF!"}},{"$f":"IF(Data!#REF!=\"\",\"\",Data!#REF!)","v":{"$error":"#REF!"}},{"$error":"#REF!"},{"$error":"#REF!"},{"$error":"#REF!"}]
[{"$f":"IF(Data!#REF!=\"\",\"\",Data!#REF!)","v":{"$error":"#REF!"}},{"$f":"IF(Data!#REF!=\"\",\"\",Data!#REF!)","v":{"$error":"#REF!"}},{"$f":"IF(Data!#REF!=\"\",\"\",Data!#REF!)","v":{"$error":"#REF!"}},{"$f":"IF(Data!#REF!=\"\",\"\",Data!#REF!)","v":{"$error":"#REF!"}},{"$f":"IF(Data!#REF!=\"\",\"\",Data!#REF!)","v":{"$error":"#REF!"}},{"$error":"#REF!"},{"$error":"#REF!"},{"$error":"#REF!"}]
[{"$f":"IF(Data!#REF!=\"\",\"\",Data!#REF!)","v":{"$error":"#REF!"}},{"$f":"IF(Data!#REF!=\"\",\"\",Data!#REF!)","v":{"$error":"#REF!"}},{"$f":"IF(Data!#REF!=\"\",\"\",Data!#REF!)","v":{"$error":"#REF!"}},{"$f":"IF(Data!#REF!=\"\",\"\",Data!#REF!)","v":{"$error":"#REF!"}},{"$f":"IF(Data!#REF!=\"\",\"\",Data!#REF!)","v":{"$error":"#REF!"}},{"$error":"#REF!"},{"$error":"#REF!"},{"$error":"#REF!"}]
[{"$f":"IF(Data!#REF!=\"\",\"\",Data!#REF!)","v":{"$error":"#REF!"}},{"$f":"IF(Data!#REF!=\"\",\"\",Data!#REF!)","v":{"$error":"#REF!"}},{"$f":"IF(Data!#REF!=\"\",\"\",Data!#REF!)","v":{"$error":"#REF!"}},{"$f":"IF(Data!#REF!=\"\",\"\",Data!#REF!)","v":{"$error":"#REF!"}},{"$f":"IF(Data!#REF!=\"\",\"\",Data!#REF!)","v":{"$error":"#REF!"}},{"$error":"#REF!"},{"$error":"#REF!"},{"$error":"#REF!"}]
[{"$f":"IF(Data!#REF!=\"\",\"\",Data!#REF!)","v":{"$error":"#REF!"}},{"$f":"IF(Data!#REF!=\"\",\"\",Data!#REF!)","v":{"$error":"#REF!"}},{"$f":"IF(Data!#REF!=\"\",\"\",Data!#REF!)","v":{"$error":"#REF!"}},{"$f":"IF(Data!#REF!=\"\",\"\",Data!#REF!)","v":{"$error":"#REF!"}},{"$f":"IF(Data!#REF!=\"\",\"\",Data!#REF!)","v":{"$error":"#REF!"}},{"$error":"#REF!"},{"$error":"#REF!"},{"$error":"#REF!"}]
[{"$f":"IF(Data!#REF!=\"\",\"\",Data!#REF!)","v":{"$error":"#REF!"}},{"$f":"IF(Data!#REF!=\"\",\"\",Data!#REF!)","v":{"$error":"#REF!"}},{"$f":"IF(Data!#REF!=\"\",\"\",Data!#REF!)","v":{"$error":"#REF!"}},{"$f":"IF(Data!#REF!=\"\",\"\",Data!#REF!)","v":{"$error":"#REF!"}},{"$f":"IF(Data!#REF!=\"\",\"\",Data!#REF!)","v":{"$error":"#REF!"}},{"$error":"#REF!"},{"$error":"#REF!"},{"$error":"#REF!"}]
[{"$f":"IF(Data!#REF!=\"\",\"\",Data!#REF!)","v":{"$error":"#REF!"}},{"$f":"IF(Data!#REF!=\"\",\"\",Data!#REF!)","v":{"$error":"#REF!"}},{"$f":"IF(Data!#REF!=\"\",\"\",Data!#REF!)","v":{"$error":"#REF!"}},{"$f":"IF(Data!#REF!=\"\",\"\",Data!#REF!)","v":{"$error":"#REF!"}},{"$f":"IF(Data!#REF!=\"\",\"\",Data!#REF!)","v":{"$error":"#REF!"}},{"$error":"#REF!"},{"$error":"#REF!"},{"$error":"#REF!"}]
[{"$f":"IF(Data!#REF!=\"\",\"\",Data!#REF!)","v":{"$error":"#REF!"}},{"$f":"IF(Data!#REF!=\"\",\"\",Data!#REF!)","v":{"$error":"#REF!"}},{"$f":"IF(Data!#REF!=\"\",\"\",Data!#REF!)","v":{"$error":"#REF!"}},{"$f":"IF(Data!#REF!=\"\",\"\",Data!#REF!)","v":{"$error":"#REF!"}},{"$f":"IF(Data!#REF!=\"\",\"\",Data!#REF!)","v":{"$error":"#REF!"}},{"$error":"#REF!"},{"$error":"#REF!"},{"$error":"#REF!"}]
[{"$f":"IF(Data!#REF!=\"\",\"\",Data!#REF!)","v":{"$error":"#REF!"}},{"$f":"IF(Data!#REF!=\"\",\"\",Data!#REF!)","v":{"$error":"#REF!"}},{"$f":"IF(Data!#REF!=\"\",\"\",Data!#REF!)","v":{"$error":"#REF!"}},{"$f":"IF(Data!#REF!=\"\",\"\",Data!#REF!)","v":{"$error":"#REF!"}},{"$f":"IF(Data!#REF!=\"\",\"\",Data!#REF!)","v":{"$error":"#REF!"}},{"$error":"#REF!"},{"$error":"#REF!"},{"$error":"#REF!"}]
[{"$f":"IF(Data!#REF!=\"\",\"\",Data!#REF!)","v":{"$error":"#REF!"}},{"$f":"IF(Data!#REF!=\"\",\"\",Data!#REF!)","v":{"$error":"#REF!"}},{"$f":"IF(Data!#REF!=\"\",\"\",Data!#REF!)","v":{"$error":"#REF!"}},{"$f":"IF(Data!#REF!=\"\",\"\",Data!#REF!)","v":{"$error":"#REF!"}},{"$f":"IF(Data!#REF!=\"\",\"\",Data!#REF!)","v":{"$error":"#REF!"}},{"$error":"#REF!"},{"$error":"#REF!"},{"$error":"#REF!"}]
[{"$f":"IF(Data!#REF!=\"\",\"\",Data!#REF!)","v":{"$error":"#REF!"}},{"$f":"IF(Data!#REF!=\"\",\"\",Data!#REF!)","v":{"$error":"#REF!"}},{"$f":"IF(Data!#REF!=\"\",\"\",Data!#REF!)","v":{"$error":"#REF!"}},{"$f":"IF(Data!#REF!=\"\",\"\",Data!#REF!)","v":{"$error":"#REF!"}},{"$f":"IF(Data!#REF!=\"\",\"\",Data!#REF!)","v":{"$error":"#REF!"}},{"$error":"#REF!"},{"$error":"#REF!"},{"$error":"#REF!"}]
[{"$f":"IF(Data!#REF!=\"\",\"\",Data!#REF!)","v":{"$error":"#REF!"}},{"$f":"IF(Data!#REF!=\"\",\"\",Data!#REF!)","v":{"$error":"#REF!"}},{"$f":"IF(Data!#REF!=\"\",\"\",Data!#REF!)","v":{"$error":"#REF!"}},{"$f":"IF(Data!#REF!=\"\",\"\",Data!#REF!)","v":{"$error":"#REF!"}},{"$f":"IF(Data!#REF!=\"\",\"\",Data!#REF!)","v":{"$error":"#REF!"}},{"$error":"#REF!"},{"$error":"#REF!"},{"$error":"#REF!"}]
[{"$f":"IF(Data!#REF!=\"\",\"\",Data!#REF!)","v":{"$error":"#REF!"}},{"$f":"IF(Data!#REF!=\"\",\"\",Data!#REF!)","v":{"$error":"#REF!"}},{"$f":"IF(Data!#REF!=\"\",\"\",Data!#REF!)","v":{"$error":"#REF!"}},{"$f":"IF(Data!#REF!=\"\",\"\",Data!#REF!)","v":{"$error":"#REF!"}},{"$f":"IF(Data!#REF!=\"\",\"\",Data!#REF!)","v":{"$error":"#REF!"}},{"$error":"#REF!"},{"$error":"#REF!"},{"$error":"#REF!"}]
[{"$f":"IF(Data!#REF!=\"\",\"\",Data!#REF!)","v":{"$error":"#REF!"}},{"$f":"IF(Data!#REF!=\"\",\"\",Data!#REF!)","v":{"$error":"#REF!"}},{"$f":"IF(Data!#REF!=\"\",\"\",Data!#REF!)","v":{"$error":"#REF!"}},{"$f":"IF(Data!#REF!=\"\",\"\",Data!#REF!)","v":{"$error":"#REF!"}},{"$f":"IF(Data!#REF!=\"\",\"\",Data!#REF!)","v":{"$error":"#REF!"}},{"$error":"#REF!"},{"$error":"#REF!"},{"$error":"#REF!"}]
[{"$f":"IF(Data!#REF!=\"\",\"\",Data!#REF!)","v":{"$error":"#REF!"}},{"$f":"IF(Data!#REF!=\"\",\"\",Data!#REF!)","v":{"$error":"#REF!"}},{"$f":"IF(Data!#REF!=\"\",\"\",Data!#REF!)","v":{"$error":"#REF!"}},{"$f":"IF(Data!#REF!=\"\",\"\",Data!#REF!)","v":{"$error":"#REF!"}},{"$f":"IF(Data!#REF!=\"\",\"\",Data!#REF!)","v":{"$error":"#REF!"}},{"$error":"#REF!"},{"$error":"#REF!"},{"$error":"#REF!"}]
[{"$f":"IF(Data!#REF!=\"\",\"\",Data!#REF!)","v":{"$error":"#REF!"}},{"$f":"IF(Data!#REF!=\"\",\"\",Data!#REF!)","v":{"$error":"#REF!"}},{"$f":"IF(Data!#REF!=\"\",\"\",Data!#REF!)","v":{"$error":"#REF!"}},{"$f":"IF(Data!#REF!=\"\",\"\",Data!#REF!)","v":{"$error":"#REF!"}},{"$f":"IF(Data!#REF!=\"\",\"\",Data!#REF!)","v":{"$error":"#REF!"}},{"$error":"#REF!"},{"$error":"#REF!"},{"$error":"#REF!"}]
[{"$f":"IF(Data!#REF!=\"\",\"\",Data!#REF!)","v":{"$error":"#REF!"}},{"$f":"IF(Data!#REF!=\"\",\"\",Data!#REF!)","v":{"$error":"#REF!"}},{"$f":"IF(Data!#REF!=\"\",\"\",Data!#REF!)","v":{"$error":"#REF!"}},{"$f":"IF(Data!#REF!=\"\",\"\",Data!#REF!)","v":{"$error":"#REF!"}},{"$f":"IF(Data!#REF!=\"\",\"\",Data!#REF!)","v":{"$error":"#REF!"}},{"$error":"#REF!"},{"$error":"#REF!"},{"$error":"#REF!"}]
[{"$f":"IF(Data!#REF!=\"\",\"\",Data!#REF!)","v":{"$error":"#REF!"}},{"$f":"IF(Data!#REF!=\"\",\"\",Data!#REF!)","v":{"$error":"#REF!"}},{"$f":"IF(Data!#REF!=\"\",\"\",Data!#REF!)","v":{"$error":"#REF!"}},{"$f":"IF(Data!#REF!=\"\",\"\",Data!#REF!)","v":{"$error":"#REF!"}},{"$f":"IF(Data!#REF!=\"\",\"\",Data!#REF!)","v":{"$error":"#REF!"}},{"$error":"#REF!"},{"$error":"#REF!"},{"$error":"#REF!"}]
[{"$f":"IF(Data!#REF!=\"\",\"\",Data!#REF!)","v":{"$error":"#REF!"}},{"$f":"IF(Data!#REF!=\"\",\"\",Data!#REF!)","v":{"$error":"#REF!"}},{"$f":"IF(Data!#REF!=\"\",\"\",Data!#REF!)","v":{"$error":"#REF!"}},{"$f":"IF(Data!#REF!=\"\",\"\",Data!#REF!)","v":{"$error":"#REF!"}},{"$f":"IF(Data!#REF!=\"\",\"\",Data!#REF!)","v":{"$error":"#REF!"}},{"$error":"#REF!"},{"$error":"#REF!"},{"$error":"#REF!"}]
[{"$f":"IF(Data!#REF!=\"\",\"\",Data!#REF!)","v":{"$error":"#REF!"}},{"$f":"IF(Data!#REF!=\"\",\"\",Data!#REF!)","v":{"$error":"#REF!"}},{"$f":"IF(Data!#REF!=\"\",\"\",Data!#REF!)","v":{"$error":"#REF!"}},{"$f":"IF(Data!#REF!=\"\",\"\",Data!#REF!)","v":{"$error":"#REF!"}},{"$f":"IF(Data!#REF!=\"\",\"\",Data!#REF!)","v":{"$error":"#REF!"}},{"$error":"#REF!"},{"$error":"#REF!"},{"$error":"#REF!"}]
[{"$f":"IF(Data!#REF!=\"\",\"\",Data!#REF!)","v":{"$error":"#REF!"}},{"$f":"IF(Data!#REF!=\"\",\"\",Data!#REF!)","v":{"$error":"#REF!"}},{"$f":"IF(Data!#REF!=\"\",\"\",Data!#REF!)","v":{"$error":"#REF!"}},{"$f":"IF(Data!#REF!=\"\",\"\",Data!#REF!)","v":{"$error":"#REF!"}},{"$f":"IF(Data!#REF!=\"\",\"\",Data!#REF!)","v":{"$error":"#REF!"}},{"$error":"#REF!"},{"$error":"#REF!"},{"$error":"#REF!"}]
[{"$f":"IF(Data!#REF!=\"\",\"\",Data!#REF!)","v":{"$error":"#REF!"}},{"$f":"IF(Data!#REF!=\"\",\"\",Data!#REF!)","v":{"$error":"#REF!"}},{"$f":"IF(Data!#REF!=\"\",\"\",Data!#REF!)","v":{"$error":"#REF!"}},{"$f":"IF(Data!#REF!=\"\",\"\",Data!#REF!)","v":{"$error":"#REF!"}},{"$f":"IF(Data!#REF!=\"\",\"\",Data!#REF!)","v":{"$error":"#REF!"}},{"$f":"IF(E2435>0,MONTH(E2435),\"\")","v":{"$error":"#REF!"}},{"$f":"IF(E2435>0,WEEKNUM(E2435),\"0\")","v":{"$error":"#REF!"}},{"$f":"IF(G2435>=($G$2-3),\"Ano\",\"Nie\")","v":{"$error":"#REF!"}}]
[{"$f":"IF(Data!#REF!=\"\",\"\",Data!#REF!)","v":{"$error":"#REF!"}},{"$f":"IF(Data!#REF!=\"\",\"\",Data!#REF!)","v":{"$error":"#REF!"}},{"$f":"IF(Data!#REF!=\"\",\"\",Data!#REF!)","v":{"$error":"#REF!"}},{"$f":"IF(Data!#REF!=\"\",\"\",Data!#REF!)","v":{"$error":"#REF!"}},{"$f":"IF(Data!#REF!=\"\",\"\",Data!#REF!)","v":{"$error":"#REF!"}},{"$error":"#REF!"},{"$error":"#REF!"},{"$error":"#REF!"}]
[{"$f":"IF(Data!#REF!=\"\",\"\",Data!#REF!)","v":{"$error":"#REF!"}},{"$f":"IF(Data!#REF!=\"\",\"\",Data!#REF!)","v":{"$error":"#REF!"}},{"$f":"IF(Data!#REF!=\"\",\"\",Data!#REF!)","v":{"$error":"#REF!"}},{"$f":"IF(Data!#REF!=\"\",\"\",Data!#REF!)","v":{"$error":"#REF!"}},{"$f":"IF(Data!#REF!=\"\",\"\",Data!#REF!)","v":{"$error":"#REF!"}},{"$error":"#REF!"},{"$error":"#REF!"},{"$error":"#REF!"}]
[{"$f":"IF(Data!#REF!=\"\",\"\",Data!#REF!)","v":{"$error":"#REF!"}},{"$f":"IF(Data!#REF!=\"\",\"\",Data!#REF!)","v":{"$error":"#REF!"}},{"$f":"IF(Data!#REF!=\"\",\"\",Data!#REF!)","v":{"$error":"#REF!"}},{"$f":"IF(Data!#REF!=\"\",\"\",Data!#REF!)","v":{"$error":"#REF!"}},{"$f":"IF(Data!#REF!=\"\",\"\",Data!#REF!)","v":{"$error":"#REF!"}},{"$error":"#REF!"},{"$error":"#REF!"},{"$error":"#REF!"}]
[{"$f":"IF(Data!#REF!=\"\",\"\",Data!#REF!)","v":{"$error":"#REF!"}},{"$f":"IF(Data!#REF!=\"\",\"\",Data!#REF!)","v":{"$error":"#REF!"}},{"$f":"IF(Data!#REF!=\"\",\"\",Data!#REF!)","v":{"$error":"#REF!"}},{"$f":"IF(Data!#REF!=\"\",\"\",Data!#REF!)","v":{"$error":"#REF!"}},{"$f":"IF(Data!#REF!=\"\",\"\",Data!#REF!)","v":{"$error":"#REF!"}},{"$error":"#REF!"},{"$error":"#REF!"},{"$error":"#REF!"}]
[{"$f":"IF(Data!#REF!=\"\",\"\",Data!#REF!)","v":{"$error":"#REF!"}},{"$f":"IF(Data!#REF!=\"\",\"\",Data!#REF!)","v":{"$error":"#REF!"}},{"$f":"IF(Data!#REF!=\"\",\"\",Data!#REF!)","v":{"$error":"#REF!"}},{"$f":"IF(Data!#REF!=\"\",\"\",Data!#REF!)","v":{"$error":"#REF!"}},{"$f":"IF(Data!#REF!=\"\",\"\",Data!#REF!)","v":{"$error":"#REF!"}},{"$error":"#REF!"},{"$error":"#REF!"},{"$error":"#REF!"}]
[{"$f":"IF(Data!#REF!=\"\",\"\",Data!#REF!)","v":{"$error":"#REF!"}},{"$f":"IF(Data!#REF!=\"\",\"\",Data!#REF!)","v":{"$error":"#REF!"}},{"$f":"IF(Data!#REF!=\"\",\"\",Data!#REF!)","v":{"$error":"#REF!"}},{"$f":"IF(Data!#REF!=\"\",\"\",Data!#REF!)","v":{"$error":"#REF!"}},{"$f":"IF(Data!#REF!=\"\",\"\",Data!#REF!)","v":{"$error":"#REF!"}},{"$error":"#REF!"},{"$error":"#REF!"},{"$error":"#REF!"}]
[{"$f":"IF(Data!#REF!=\"\",\"\",Data!#REF!)","v":{"$error":"#REF!"}},{"$f":"IF(Data!#REF!=\"\",\"\",Data!#REF!)","v":{"$error":"#REF!"}},{"$f":"IF(Data!#REF!=\"\",\"\",Data!#REF!)","v":{"$error":"#REF!"}},{"$f":"IF(Data!#REF!=\"\",\"\",Data!#REF!)","v":{"$error":"#REF!"}},{"$f":"IF(Data!#REF!=\"\",\"\",Data!#REF!)","v":{"$error":"#REF!"}},{"$error":"#REF!"},{"$error":"#REF!"},{"$error":"#REF!"}]
[{"$f":"IF(Data!#REF!=\"\",\"\",Data!#REF!)","v":{"$error":"#REF!"}},{"$f":"IF(Data!#REF!=\"\",\"\",Data!#REF!)","v":{"$error":"#REF!"}},{"$f":"IF(Data!#REF!=\"\",\"\",Data!#REF!)","v":{"$error":"#REF!"}},{"$f":"IF(Data!#REF!=\"\",\"\",Data!#REF!)","v":{"$error":"#REF!"}},{"$f":"IF(Data!#REF!=\"\",\"\",Data!#REF!)","v":{"$error":"#REF!"}},{"$error":"#REF!"},{"$error":"#REF!"},{"$error":"#REF!"}]
[{"$f":"IF(Data!#REF!=\"\",\"\",Data!#REF!)","v":{"$error":"#REF!"}},{"$f":"IF(Data!#REF!=\"\",\"\",Data!#REF!)","v":{"$error":"#REF!"}},{"$f":"IF(Data!#REF!=\"\",\"\",Data!#REF!)","v":{"$error":"#REF!"}},{"$f":"IF(Data!#REF!=\"\",\"\",Data!#REF!)","v":{"$error":"#REF!"}},{"$f":"IF(Data!#REF!=\"\",\"\",Data!#REF!)","v":{"$error":"#REF!"}},{"$error":"#REF!"},{"$error":"#REF!"},{"$error":"#REF!"}]
[{"$f":"IF(Data!#REF!=\"\",\"\",Data!#REF!)","v":{"$error":"#REF!"}},{"$f":"IF(Data!#REF!=\"\",\"\",Data!#REF!)","v":{"$error":"#REF!"}},{"$f":"IF(Data!#REF!=\"\",\"\",Data!#REF!)","v":{"$error":"#REF!"}},{"$f":"IF(Data!#REF!=\"\",\"\",Data!#REF!)","v":{"$error":"#REF!"}},{"$f":"IF(Data!#REF!=\"\",\"\",Data!#REF!)","v":{"$error":"#REF!"}},{"$error":"#REF!"},{"$error":"#REF!"},{"$error":"#REF!"}]
[{"$f":"IF(Data!#REF!=\"\",\"\",Data!#REF!)","v":{"$error":"#REF!"}},{"$f":"IF(Data!#REF!=\"\",\"\",Data!#REF!)","v":{"$error":"#REF!"}},{"$f":"IF(Data!#REF!=\"\",\"\",Data!#REF!)","v":{"$error":"#REF!"}},{"$f":"IF(Data!#REF!=\"\",\"\",Data!#REF!)","v":{"$error":"#REF!"}},{"$f":"IF(Data!#REF!=\"\",\"\",Data!#REF!)","v":{"$error":"#REF!"}},{"$error":"#REF!"},{"$error":"#REF!"},{"$error":"#REF!"}]
[{"$f":"IF(Data!#REF!=\"\",\"\",Data!#REF!)","v":{"$error":"#REF!"}},{"$f":"IF(Data!#REF!=\"\",\"\",Data!#REF!)","v":{"$error":"#REF!"}},{"$f":"IF(Data!#REF!=\"\",\"\",Data!#REF!)","v":{"$error":"#REF!"}},{"$f":"IF(Data!#REF!=\"\",\"\",Data!#REF!)","v":{"$error":"#REF!"}},{"$f":"IF(Data!#REF!=\"\",\"\",Data!#REF!)","v":{"$error":"#REF!"}},{"$error":"#REF!"},{"$error":"#REF!"},{"$error":"#REF!"}]
[{"$f":"IF(Data!#REF!=\"\",\"\",Data!#REF!)","v":{"$error":"#REF!"}},{"$f":"IF(Data!#REF!=\"\",\"\",Data!#REF!)","v":{"$error":"#REF!"}},{"$f":"IF(Data!#REF!=\"\",\"\",Data!#REF!)","v":{"$error":"#REF!"}},{"$f":"IF(Data!#REF!=\"\",\"\",Data!#REF!)","v":{"$error":"#REF!"}},{"$f":"IF(Data!#REF!=\"\",\"\",Data!#REF!)","v":{"$error":"#REF!"}},{"$error":"#REF!"},{"$error":"#REF!"},{"$error":"#REF!"}]
[{"$f":"IF(Data!#REF!=\"\",\"\",Data!#REF!)","v":{"$error":"#REF!"}},{"$f":"IF(Data!#REF!=\"\",\"\",Data!#REF!)","v":{"$error":"#REF!"}},{"$f":"IF(Data!#REF!=\"\",\"\",Data!#REF!)","v":{"$error":"#REF!"}},{"$f":"IF(Data!#REF!=\"\",\"\",Data!#REF!)","v":{"$error":"#REF!"}},{"$f":"IF(Data!#REF!=\"\",\"\",Data!#REF!)","v":{"$error":"#REF!"}},{"$error":"#REF!"},{"$error":"#REF!"},{"$error":"#REF!"}]
[{"$f":"IF(Data!#REF!=\"\",\"\",Data!#REF!)","v":{"$error":"#REF!"}},{"$f":"IF(Data!#REF!=\"\",\"\",Data!#REF!)","v":{"$error":"#REF!"}},{"$f":"IF(Data!#REF!=\"\",\"\",Data!#REF!)","v":{"$error":"#REF!"}},{"$f":"IF(Data!#REF!=\"\",\"\",Data!#REF!)","v":{"$error":"#REF!"}},{"$f":"IF(Data!#REF!=\"\",\"\",Data!#REF!)","v":{"$error":"#REF!"}},{"$error":"#REF!"},{"$error":"#REF!"},{"$error":"#REF!"}]
[{"$f":"IF(Data!#REF!=\"\",\"\",Data!#REF!)","v":{"$error":"#REF!"}},{"$f":"IF(Data!#REF!=\"\",\"\",Data!#REF!)","v":{"$error":"#REF!"}},{"$f":"IF(Data!#REF!=\"\",\"\",Data!#REF!)","v":{"$error":"#REF!"}},{"$f":"IF(Data!#REF!=\"\",\"\",Data!#REF!)","v":{"$error":"#REF!"}},{"$f":"IF(Data!#REF!=\"\",\"\",Data!#REF!)","v":{"$error":"#REF!"}},{"$error":"#REF!"},{"$error":"#REF!"},{"$error":"#REF!"}]
[{"$f":"IF(Data!#REF!=\"\",\"\",Data!#REF!)","v":{"$error":"#REF!"}},{"$f":"IF(Data!#REF!=\"\",\"\",Data!#REF!)","v":{"$error":"#REF!"}},{"$f":"IF(Data!#REF!=\"\",\"\",Data!#REF!)","v":{"$error":"#REF!"}},{"$f":"IF(Data!#REF!=\"\",\"\",Data!#REF!)","v":{"$error":"#REF!"}},{"$f":"IF(Data!#REF!=\"\",\"\",Data!#REF!)","v":{"$error":"#REF!"}},{"$error":"#REF!"},{"$error":"#REF!"},{"$error":"#REF!"}]
[{"$f":"IF(Data!#REF!=\"\",\"\",Data!#REF!)","v":{"$error":"#REF!"}},{"$f":"IF(Data!#REF!=\"\",\"\",Data!#REF!)","v":{"$error":"#REF!"}},{"$f":"IF(Data!#REF!=\"\",\"\",Data!#REF!)","v":{"$error":"#REF!"}},{"$f":"IF(Data!#REF!=\"\",\"\",Data!#REF!)","v":{"$error":"#REF!"}},{"$f":"IF(Data!#REF!=\"\",\"\",Data!#REF!)","v":{"$error":"#REF!"}},{"$error":"#REF!"},{"$error":"#REF!"},{"$error":"#REF!"}]
[{"$f":"IF(Data!#REF!=\"\",\"\",Data!#REF!)","v":{"$error":"#REF!"}},{"$f":"IF(Data!#REF!=\"\",\"\",Data!#REF!)","v":{"$error":"#REF!"}},{"$f":"IF(Data!#REF!=\"\",\"\",Data!#REF!)","v":{"$error":"#REF!"}},{"$f":"IF(Data!#REF!=\"\",\"\",Data!#REF!)","v":{"$error":"#REF!"}},{"$f":"IF(Data!#REF!=\"\",\"\",Data!#REF!)","v":{"$error":"#REF!"}},{"$error":"#REF!"},{"$error":"#REF!"},{"$error":"#REF!"}]
[{"$f":"IF(Data!#REF!=\"\",\"\",Data!#REF!)","v":{"$error":"#REF!"}},{"$f":"IF(Data!#REF!=\"\",\"\",Data!#REF!)","v":{"$error":"#REF!"}},{"$f":"IF(Data!#REF!=\"\",\"\",Data!#REF!)","v":{"$error":"#REF!"}},{"$f":"IF(Data!#REF!=\"\",\"\",Data!#REF!)","v":{"$error":"#REF!"}},{"$f":"IF(Data!#REF!=\"\",\"\",Data!#REF!)","v":{"$error":"#REF!"}},{"$error":"#REF!"},{"$error":"#REF!"},{"$error":"#REF!"}]
[{"$f":"IF(Data!#REF!=\"\",\"\",Data!#REF!)","v":{"$error":"#REF!"}},{"$f":"IF(Data!#REF!=\"\",\"\",Data!#REF!)","v":{"$error":"#REF!"}},{"$f":"IF(Data!#REF!=\"\",\"\",Data!#REF!)","v":{"$error":"#REF!"}},{"$f":"IF(Data!#REF!=\"\",\"\",Data!#REF!)","v":{"$error":"#REF!"}},{"$f":"IF(Data!#REF!=\"\",\"\",Data!#REF!)","v":{"$error":"#REF!"}},{"$error":"#REF!"},{"$error":"#REF!"},{"$error":"#REF!"}]
[{"$f":"IF(Data!#REF!=\"\",\"\",Data!#REF!)","v":{"$error":"#REF!"}},{"$f":"IF(Data!#REF!=\"\",\"\",Data!#REF!)","v":{"$error":"#REF!"}},{"$f":"IF(Data!#REF!=\"\",\"\",Data!#REF!)","v":{"$error":"#REF!"}},{"$f":"IF(Data!#REF!=\"\",\"\",Data!#REF!)","v":{"$error":"#REF!"}},{"$f":"IF(Data!#REF!=\"\",\"\",Data!#REF!)","v":{"$error":"#REF!"}},{"$error":"#REF!"},{"$error":"#REF!"},{"$error":"#REF!"}]
[{"$f":"IF(Data!#REF!=\"\",\"\",Data!#REF!)","v":{"$error":"#REF!"}},{"$f":"IF(Data!#REF!=\"\",\"\",Data!#REF!)","v":{"$error":"#REF!"}},{"$f":"IF(Data!#REF!=\"\",\"\",Data!#REF!)","v":{"$error":"#REF!"}},{"$f":"IF(Data!#REF!=\"\",\"\",Data!#REF!)","v":{"$error":"#REF!"}},{"$f":"IF(Data!#REF!=\"\",\"\",Data!#REF!)","v":{"$error":"#REF!"}},{"$error":"#REF!"},{"$error":"#REF!"},{"$error":"#REF!"}]
[{"$f":"IF(Data!#REF!=\"\",\"\",Data!#REF!)","v":{"$error":"#REF!"}},{"$f":"IF(Data!#REF!=\"\",\"\",Data!#REF!)","v":{"$error":"#REF!"}},{"$f":"IF(Data!#REF!=\"\",\"\",Data!#REF!)","v":{"$error":"#REF!"}},{"$f":"IF(Data!#REF!=\"\",\"\",Data!#REF!)","v":{"$error":"#REF!"}},{"$f":"IF(Data!#REF!=\"\",\"\",Data!#REF!)","v":{"$error":"#REF!"}},{"$error":"#REF!"},{"$error":"#REF!"},{"$error":"#REF!"}]
[{"$f":"IF(Data!#REF!=\"\",\"\",Data!#REF!)","v":{"$error":"#REF!"}},{"$f":"IF(Data!#REF!=\"\",\"\",Data!#REF!)","v":{"$error":"#REF!"}},{"$f":"IF(Data!#REF!=\"\",\"\",Data!#REF!)","v":{"$error":"#REF!"}},{"$f":"IF(Data!#REF!=\"\",\"\",Data!#REF!)","v":{"$error":"#REF!"}},{"$f":"IF(Data!#REF!=\"\",\"\",Data!#REF!)","v":{"$error":"#REF!"}},{"$error":"#REF!"},{"$error":"#REF!"},{"$error":"#REF!"}]
[{"$f":"IF(Data!#REF!=\"\",\"\",Data!#REF!)","v":{"$error":"#REF!"}},{"$f":"IF(Data!#REF!=\"\",\"\",Data!#REF!)","v":{"$error":"#REF!"}},{"$f":"IF(Data!#REF!=\"\",\"\",Data!#REF!)","v":{"$error":"#REF!"}},{"$f":"IF(Data!#REF!=\"\",\"\",Data!#REF!)","v":{"$error":"#REF!"}},{"$f":"IF(Data!#REF!=\"\",\"\",Data!#REF!)","v":{"$error":"#REF!"}},{"$error":"#REF!"},{"$error":"#REF!"},{"$error":"#REF!"}]
[{"$f":"IF(Data!#REF!=\"\",\"\",Data!#REF!)","v":{"$error":"#REF!"}},{"$f":"IF(Data!#REF!=\"\",\"\",Data!#REF!)","v":{"$error":"#REF!"}},{"$f":"IF(Data!#REF!=\"\",\"\",Data!#REF!)","v":{"$error":"#REF!"}},{"$f":"IF(Data!#REF!=\"\",\"\",Data!#REF!)","v":{"$error":"#REF!"}},{"$f":"IF(Data!#REF!=\"\",\"\",Data!#REF!)","v":{"$error":"#REF!"}},{"$error":"#REF!"},{"$error":"#REF!"},{"$error":"#REF!"}]
[{"$f":"IF(Data!#REF!=\"\",\"\",Data!#REF!)","v":{"$error":"#REF!"}},{"$f":"IF(Data!#REF!=\"\",\"\",Data!#REF!)","v":{"$error":"#REF!"}},{"$f":"IF(Data!#REF!=\"\",\"\",Data!#REF!)","v":{"$error":"#REF!"}},{"$f":"IF(Data!#REF!=\"\",\"\",Data!#REF!)","v":{"$error":"#REF!"}},{"$f":"IF(Data!#REF!=\"\",\"\",Data!#REF!)","v":{"$error":"#REF!"}},{"$error":"#REF!"},{"$error":"#REF!"},{"$error":"#REF!"}]
[{"$f":"IF(Data!#REF!=\"\",\"\",Data!#REF!)","v":{"$error":"#REF!"}},{"$f":"IF(Data!#REF!=\"\",\"\",Data!#REF!)","v":{"$error":"#REF!"}},{"$f":"IF(Data!#REF!=\"\",\"\",Data!#REF!)","v":{"$error":"#REF!"}},{"$f":"IF(Data!#REF!=\"\",\"\",Data!#REF!)","v":{"$error":"#REF!"}},{"$f":"IF(Data!#REF!=\"\",\"\",Data!#REF!)","v":{"$error":"#REF!"}},{"$error":"#REF!"},{"$error":"#REF!"},{"$error":"#REF!"}]
[{"$f":"IF(Data!#REF!=\"\",\"\",Data!#REF!)","v":{"$error":"#REF!"}},{"$f":"IF(Data!#REF!=\"\",\"\",Data!#REF!)","v":{"$error":"#REF!"}},{"$f":"IF(Data!#REF!=\"\",\"\",Data!#REF!)","v":{"$error":"#REF!"}},{"$f":"IF(Data!#REF!=\"\",\"\",Data!#REF!)","v":{"$error":"#REF!"}},{"$f":"IF(Data!#REF!=\"\",\"\",Data!#REF!)","v":{"$error":"#REF!"}},{"$error":"#REF!"},{"$error":"#REF!"},{"$error":"#REF!"}]
[{"$f":"IF(Data!#REF!=\"\",\"\",Data!#REF!)","v":{"$error":"#REF!"}},{"$f":"IF(Data!#REF!=\"\",\"\",Data!#REF!)","v":{"$error":"#REF!"}},{"$f":"IF(Data!#REF!=\"\",\"\",Data!#REF!)","v":{"$error":"#REF!"}},{"$f":"IF(Data!#REF!=\"\",\"\",Data!#REF!)","v":{"$error":"#REF!"}},{"$f":"IF(Data!#REF!=\"\",\"\",Data!#REF!)","v":{"$error":"#REF!"}},{"$error":"#REF!"},{"$error":"#REF!"},{"$error":"#REF!"}]
[{"$f":"IF(Data!#REF!=\"\",\"\",Data!#REF!)","v":{"$error":"#REF!"}},{"$f":"IF(Data!#REF!=\"\",\"\",Data!#REF!)","v":{"$error":"#REF!"}},{"$f":"IF(Data!#REF!=\"\",\"\",Data!#REF!)","v":{"$error":"#REF!"}},{"$f":"IF(Data!#REF!=\"\",\"\",Data!#REF!)","v":{"$error":"#REF!"}},{"$f":"IF(Data!#REF!=\"\",\"\",Data!#REF!)","v":{"$error":"#REF!"}},{"$error":"#REF!"},{"$error":"#REF!"},{"$error":"#REF!"}]
[{"$f":"IF(Data!#REF!=\"\",\"\",Data!#REF!)","v":{"$error":"#REF!"}},{"$f":"IF(Data!#REF!=\"\",\"\",Data!#REF!)","v":{"$error":"#REF!"}},{"$f":"IF(Data!#REF!=\"\",\"\",Data!#REF!)","v":{"$error":"#REF!"}},{"$f":"IF(Data!#REF!=\"\",\"\",Data!#REF!)","v":{"$error":"#REF!"}},{"$f":"IF(Data!#REF!=\"\",\"\",Data!#REF!)","v":{"$error":"#REF!"}},{"$error":"#REF!"},{"$error":"#REF!"},{"$error":"#REF!"}]
[{"$f":"IF(Data!#REF!=\"\",\"\",Data!#REF!)","v":{"$error":"#REF!"}},{"$f":"IF(Data!#REF!=\"\",\"\",Data!#REF!)","v":{"$error":"#REF!"}},{"$f":"IF(Data!#REF!=\"\",\"\",Data!#REF!)","v":{"$error":"#REF!"}},{"$f":"IF(Data!#REF!=\"\",\"\",Data!#REF!)","v":{"$error":"#REF!"}},{"$f":"IF(Data!#REF!=\"\",\"\",Data!#REF!)","v":{"$error":"#REF!"}},{"$error":"#REF!"},{"$error":"#REF!"},{"$error":"#REF!"}]
[{"$f":"IF(Data!#REF!=\"\",\"\",Data!#REF!)","v":{"$error":"#REF!"}},{"$f":"IF(Data!#REF!=\"\",\"\",Data!#REF!)","v":{"$error":"#REF!"}},{"$f":"IF(Data!#REF!=\"\",\"\",Data!#REF!)","v":{"$error":"#REF!"}},{"$f":"IF(Data!#REF!=\"\",\"\",Data!#REF!)","v":{"$error":"#REF!"}},{"$f":"IF(Data!#REF!=\"\",\"\",Data!#REF!)","v":{"$error":"#REF!"}},{"$error":"#REF!"},{"$error":"#REF!"},{"$error":"#REF!"}]
[{"$f":"IF(Data!#REF!=\"\",\"\",Data!#REF!)","v":{"$error":"#REF!"}},{"$f":"IF(Data!#REF!=\"\",\"\",Data!#REF!)","v":{"$error":"#REF!"}},{"$f":"IF(Data!#REF!=\"\",\"\",Data!#REF!)","v":{"$error":"#REF!"}},{"$f":"IF(Data!#REF!=\"\",\"\",Data!#REF!)","v":{"$error":"#REF!"}},{"$f":"IF(Data!#REF!=\"\",\"\",Data!#REF!)","v":{"$error":"#REF!"}},{"$error":"#REF!"},{"$error":"#REF!"},{"$error":"#REF!"}]
[{"$f":"IF(Data!#REF!=\"\",\"\",Data!#REF!)","v":{"$error":"#REF!"}},{"$f":"IF(Data!#REF!=\"\",\"\",Data!#REF!)","v":{"$error":"#REF!"}},{"$f":"IF(Data!#REF!=\"\",\"\",Data!#REF!)","v":{"$error":"#REF!"}},{"$f":"IF(Data!#REF!=\"\",\"\",Data!#REF!)","v":{"$error":"#REF!"}},{"$f":"IF(Data!#REF!=\"\",\"\",Data!#REF!)","v":{"$error":"#REF!"}},{"$error":"#REF!"},{"$error":"#REF!"},{"$error":"#REF!"}]
[{"$f":"IF(Data!#REF!=\"\",\"\",Data!#REF!)","v":{"$error":"#REF!"}},{"$f":"IF(Data!#REF!=\"\",\"\",Data!#REF!)","v":{"$error":"#REF!"}},{"$f":"IF(Data!#REF!=\"\",\"\",Data!#REF!)","v":{"$error":"#REF!"}},{"$f":"IF(Data!#REF!=\"\",\"\",Data!#REF!)","v":{"$error":"#REF!"}},{"$f":"IF(Data!#REF!=\"\",\"\",Data!#REF!)","v":{"$error":"#REF!"}},{"$error":"#REF!"},{"$error":"#REF!"},{"$error":"#REF!"}]
[{"$f":"IF(Data!#REF!=\"\",\"\",Data!#REF!)","v":{"$error":"#REF!"}},{"$f":"IF(Data!#REF!=\"\",\"\",Data!#REF!)","v":{"$error":"#REF!"}},{"$f":"IF(Data!#REF!=\"\",\"\",Data!#REF!)","v":{"$error":"#REF!"}},{"$f":"IF(Data!#REF!=\"\",\"\",Data!#REF!)","v":{"$error":"#REF!"}},{"$f":"IF(Data!#REF!=\"\",\"\",Data!#REF!)","v":{"$error":"#REF!"}},{"$error":"#REF!"},{"$error":"#REF!"},{"$error":"#REF!"}]
[{"$f":"IF(Data!#REF!=\"\",\"\",Data!#REF!)","v":{"$error":"#REF!"}},{"$f":"IF(Data!#REF!=\"\",\"\",Data!#REF!)","v":{"$error":"#REF!"}},{"$f":"IF(Data!#REF!=\"\",\"\",Data!#REF!)","v":{"$error":"#REF!"}},{"$f":"IF(Data!#REF!=\"\",\"\",Data!#REF!)","v":{"$error":"#REF!"}},{"$f":"IF(Data!#REF!=\"\",\"\",Data!#REF!)","v":{"$error":"#REF!"}},{"$error":"#REF!"},{"$error":"#REF!"},{"$error":"#REF!"}]
[{"$f":"IF(Data!#REF!=\"\",\"\",Data!#REF!)","v":{"$error":"#REF!"}},{"$f":"IF(Data!#REF!=\"\",\"\",Data!#REF!)","v":{"$error":"#REF!"}},{"$f":"IF(Data!#REF!=\"\",\"\",Data!#REF!)","v":{"$error":"#REF!"}},{"$f":"IF(Data!#REF!=\"\",\"\",Data!#REF!)","v":{"$error":"#REF!"}},{"$f":"IF(Data!#REF!=\"\",\"\",Data!#REF!)","v":{"$error":"#REF!"}},{"$error":"#REF!"},{"$error":"#REF!"},{"$error":"#REF!"}]
[{"$f":"IF(Data!#REF!=\"\",\"\",Data!#REF!)","v":{"$error":"#REF!"}},{"$f":"IF(Data!#REF!=\"\",\"\",Data!#REF!)","v":{"$error":"#REF!"}},{"$f":"IF(Data!#REF!=\"\",\"\",Data!#REF!)","v":{"$error":"#REF!"}},{"$f":"IF(Data!#REF!=\"\",\"\",Data!#REF!)","v":{"$error":"#REF!"}},{"$f":"IF(Data!#REF!=\"\",\"\",Data!#REF!)","v":{"$error":"#REF!"}},{"$error":"#REF!"},{"$error":"#REF!"},{"$error":"#REF!"}]
[{"$f":"IF(Data!#REF!=\"\",\"\",Data!#REF!)","v":{"$error":"#REF!"}},{"$f":"IF(Data!#REF!=\"\",\"\",Data!#REF!)","v":{"$error":"#REF!"}},{"$f":"IF(Data!#REF!=\"\",\"\",Data!#REF!)","v":{"$error":"#REF!"}},{"$f":"IF(Data!#REF!=\"\",\"\",Data!#REF!)","v":{"$error":"#REF!"}},{"$f":"IF(Data!#REF!=\"\",\"\",Data!#REF!)","v":{"$error":"#REF!"}},{"$error":"#REF!"},{"$error":"#REF!"},{"$error":"#REF!"}]
[{"$f":"IF(Data!#REF!=\"\",\"\",Data!#REF!)","v":{"$error":"#REF!"}},{"$f":"IF(Data!#REF!=\"\",\"\",Data!#REF!)","v":{"$error":"#REF!"}},{"$f":"IF(Data!#REF!=\"\",\"\",Data!#REF!)","v":{"$error":"#REF!"}},{"$f":"IF(Data!#REF!=\"\",\"\",Data!#REF!)","v":{"$error":"#REF!"}},{"$f":"IF(Data!#REF!=\"\",\"\",Data!#REF!)","v":{"$error":"#REF!"}},{"$error":"#REF!"},{"$error":"#REF!"},{"$error":"#REF!"}]
[{"$f":"IF(Data!#REF!=\"\",\"\",Data!#REF!)","v":{"$error":"#REF!"}},{"$f":"IF(Data!#REF!=\"\",\"\",Data!#REF!)","v":{"$error":"#REF!"}},{"$f":"IF(Data!#REF!=\"\",\"\",Data!#REF!)","v":{"$error":"#REF!"}},{"$f":"IF(Data!#REF!=\"\",\"\",Data!#REF!)","v":{"$error":"#REF!"}},{"$f":"IF(Data!#REF!=\"\",\"\",Data!#REF!)","v":{"$error":"#REF!"}},{"$error":"#REF!"},{"$error":"#REF!"},{"$error":"#REF!"}]
[{"$f":"IF(Data!#REF!=\"\",\"\",Data!#REF!)","v":{"$error":"#REF!"}},{"$f":"IF(Data!#REF!=\"\",\"\",Data!#REF!)","v":{"$error":"#REF!"}},{"$f":"IF(Data!#REF!=\"\",\"\",Data!#REF!)","v":{"$error":"#REF!"}},{"$f":"IF(Data!#REF!=\"\",\"\",Data!#REF!)","v":{"$error":"#REF!"}},{"$f":"IF(Data!#REF!=\"\",\"\",Data!#REF!)","v":{"$error":"#REF!"}},{"$error":"#REF!"},{"$error":"#REF!"},{"$error":"#REF!"}]
[{"$f":"IF(Data!#REF!=\"\",\"\",Data!#REF!)","v":{"$error":"#REF!"}},{"$f":"IF(Data!#REF!=\"\",\"\",Data!#REF!)","v":{"$error":"#REF!"}},{"$f":"IF(Data!#REF!=\"\",\"\",Data!#REF!)","v":{"$error":"#REF!"}},{"$f":"IF(Data!#REF!=\"\",\"\",Data!#REF!)","v":{"$error":"#REF!"}},{"$f":"IF(Data!#REF!=\"\",\"\",Data!#REF!)","v":{"$error":"#REF!"}},{"$error":"#REF!"},{"$error":"#REF!"},{"$error":"#REF!"}]
[{"$f":"IF(Data!#REF!=\"\",\"\",Data!#REF!)","v":{"$error":"#REF!"}},{"$f":"IF(Data!#REF!=\"\",\"\",Data!#REF!)","v":{"$error":"#REF!"}},{"$f":"IF(Data!#REF!=\"\",\"\",Data!#REF!)","v":{"$error":"#REF!"}},{"$f":"IF(Data!#REF!=\"\",\"\",Data!#REF!)","v":{"$error":"#REF!"}},{"$f":"IF(Data!#REF!=\"\",\"\",Data!#REF!)","v":{"$error":"#REF!"}},{"$error":"#REF!"},{"$error":"#REF!"},{"$error":"#REF!"}]
[{"$f":"IF(Data!#REF!=\"\",\"\",Data!#REF!)","v":{"$error":"#REF!"}},{"$f":"IF(Data!#REF!=\"\",\"\",Data!#REF!)","v":{"$error":"#REF!"}},{"$f":"IF(Data!#REF!=\"\",\"\",Data!#REF!)","v":{"$error":"#REF!"}},{"$f":"IF(Data!#REF!=\"\",\"\",Data!#REF!)","v":{"$error":"#REF!"}},{"$f":"IF(Data!#REF!=\"\",\"\",Data!#REF!)","v":{"$error":"#REF!"}},{"$error":"#REF!"},{"$error":"#REF!"},{"$error":"#REF!"}]
[{"$f":"IF(Data!#REF!=\"\",\"\",Data!#REF!)","v":{"$error":"#REF!"}},{"$f":"IF(Data!#REF!=\"\",\"\",Data!#REF!)","v":{"$error":"#REF!"}},{"$f":"IF(Data!#REF!=\"\",\"\",Data!#REF!)","v":{"$error":"#REF!"}},{"$f":"IF(Data!#REF!=\"\",\"\",Data!#REF!)","v":{"$error":"#REF!"}},{"$f":"IF(Data!#REF!=\"\",\"\",Data!#REF!)","v":{"$error":"#REF!"}},{"$error":"#REF!"},{"$error":"#REF!"},{"$error":"#REF!"}]
[{"$f":"IF(Data!#REF!=\"\",\"\",Data!#REF!)","v":{"$error":"#REF!"}},{"$f":"IF(Data!#REF!=\"\",\"\",Data!#REF!)","v":{"$error":"#REF!"}},{"$f":"IF(Data!#REF!=\"\",\"\",Data!#REF!)","v":{"$error":"#REF!"}},{"$f":"IF(Data!#REF!=\"\",\"\",Data!#REF!)","v":{"$error":"#REF!"}},{"$f":"IF(Data!#REF!=\"\",\"\",Data!#REF!)","v":{"$error":"#REF!"}},{"$error":"#REF!"},{"$error":"#REF!"},{"$error":"#REF!"}]
[{"$f":"IF(Data!#REF!=\"\",\"\",Data!#REF!)","v":{"$error":"#REF!"}},{"$f":"IF(Data!#REF!=\"\",\"\",Data!#REF!)","v":{"$error":"#REF!"}},{"$f":"IF(Data!#REF!=\"\",\"\",Data!#REF!)","v":{"$error":"#REF!"}},{"$f":"IF(Data!#REF!=\"\",\"\",Data!#REF!)","v":{"$error":"#REF!"}},{"$f":"IF(Data!#REF!=\"\",\"\",Data!#REF!)","v":{"$error":"#REF!"}},{"$error":"#REF!"},{"$error":"#REF!"},{"$error":"#REF!"}]
[{"$f":"IF(Data!#REF!=\"\",\"\",Data!#REF!)","v":{"$error":"#REF!"}},{"$f":"IF(Data!#REF!=\"\",\"\",Data!#REF!)","v":{"$error":"#REF!"}},{"$f":"IF(Data!#REF!=\"\",\"\",Data!#REF!)","v":{"$error":"#REF!"}},{"$f":"IF(Data!#REF!=\"\",\"\",Data!#REF!)","v":{"$error":"#REF!"}},{"$f":"IF(Data!#REF!=\"\",\"\",Data!#REF!)","v":{"$error":"#REF!"}},{"$error":"#REF!"},{"$error":"#REF!"},{"$error":"#REF!"}]
[{"$f":"IF(Data!#REF!=\"\",\"\",Data!#REF!)","v":{"$error":"#REF!"}},{"$f":"IF(Data!#REF!=\"\",\"\",Data!#REF!)","v":{"$error":"#REF!"}},{"$f":"IF(Data!#REF!=\"\",\"\",Data!#REF!)","v":{"$error":"#REF!"}},{"$f":"IF(Data!#REF!=\"\",\"\",Data!#REF!)","v":{"$error":"#REF!"}},{"$f":"IF(Data!#REF!=\"\",\"\",Data!#REF!)","v":{"$error":"#REF!"}},{"$error":"#REF!"},{"$error":"#REF!"},{"$error":"#REF!"}]
[{"$f":"IF(Data!#REF!=\"\",\"\",Data!#REF!)","v":{"$error":"#REF!"}},{"$f":"IF(Data!#REF!=\"\",\"\",Data!#REF!)","v":{"$error":"#REF!"}},{"$f":"IF(Data!#REF!=\"\",\"\",Data!#REF!)","v":{"$error":"#REF!"}},{"$f":"IF(Data!#REF!=\"\",\"\",Data!#REF!)","v":{"$error":"#REF!"}},{"$f":"IF(Data!#REF!=\"\",\"\",Data!#REF!)","v":{"$error":"#REF!"}},{"$error":"#REF!"},{"$error":"#REF!"},{"$error":"#REF!"}]
[{"$f":"IF(Data!#REF!=\"\",\"\",Data!#REF!)","v":{"$error":"#REF!"}},{"$f":"IF(Data!#REF!=\"\",\"\",Data!#REF!)","v":{"$error":"#REF!"}},{"$f":"IF(Data!#REF!=\"\",\"\",Data!#REF!)","v":{"$error":"#REF!"}},{"$f":"IF(Data!#REF!=\"\",\"\",Data!#REF!)","v":{"$error":"#REF!"}},{"$f":"IF(Data!#REF!=\"\",\"\",Data!#REF!)","v":{"$error":"#REF!"}},{"$error":"#REF!"},{"$error":"#REF!"},{"$error":"#REF!"}]
[{"$f":"IF(Data!#REF!=\"\",\"\",Data!#REF!)","v":{"$error":"#REF!"}},{"$f":"IF(Data!#REF!=\"\",\"\",Data!#REF!)","v":{"$error":"#REF!"}},{"$f":"IF(Data!#REF!=\"\",\"\",Data!#REF!)","v":{"$error":"#REF!"}},{"$f":"IF(Data!#REF!=\"\",\"\",Data!#REF!)","v":{"$error":"#REF!"}},{"$f":"IF(Data!#REF!=\"\",\"\",Data!#REF!)","v":{"$error":"#REF!"}},{"$error":"#REF!"},{"$error":"#REF!"},{"$error":"#REF!"}]
[{"$f":"IF(Data!#REF!=\"\",\"\",Data!#REF!)","v":{"$error":"#REF!"}},{"$f":"IF(Data!#REF!=\"\",\"\",Data!#REF!)","v":{"$error":"#REF!"}},{"$f":"IF(Data!#REF!=\"\",\"\",Data!#REF!)","v":{"$error":"#REF!"}},{"$f":"IF(Data!#REF!=\"\",\"\",Data!#REF!)","v":{"$error":"#REF!"}},{"$f":"IF(Data!#REF!=\"\",\"\",Data!#REF!)","v":{"$error":"#REF!"}},{"$error":"#REF!"},{"$error":"#REF!"},{"$error":"#REF!"}]
[{"$f":"IF(Data!#REF!=\"\",\"\",Data!#REF!)","v":{"$error":"#REF!"}},{"$f":"IF(Data!#REF!=\"\",\"\",Data!#REF!)","v":{"$error":"#REF!"}},{"$f":"IF(Data!#REF!=\"\",\"\",Data!#REF!)","v":{"$error":"#REF!"}},{"$f":"IF(Data!#REF!=\"\",\"\",Data!#REF!)","v":{"$error":"#REF!"}},{"$f":"IF(Data!#REF!=\"\",\"\",Data!#REF!)","v":{"$error":"#REF!"}},{"$error":"#REF!"},{"$error":"#REF!"},{"$error":"#REF!"}]
[{"$f":"IF(Data!#REF!=\"\",\"\",Data!#REF!)","v":{"$error":"#REF!"}},{"$f":"IF(Data!#REF!=\"\",\"\",Data!#REF!)","v":{"$error":"#REF!"}},{"$f":"IF(Data!#REF!=\"\",\"\",Data!#REF!)","v":{"$error":"#REF!"}},{"$f":"IF(Data!#REF!=\"\",\"\",Data!#REF!)","v":{"$error":"#REF!"}},{"$f":"IF(Data!#REF!=\"\",\"\",Data!#REF!)","v":{"$error":"#REF!"}},{"$error":"#REF!"},{"$error":"#REF!"},{"$error":"#REF!"}]
[{"$f":"IF(Data!#REF!=\"\",\"\",Data!#REF!)","v":{"$error":"#REF!"}},{"$f":"IF(Data!#REF!=\"\",\"\",Data!#REF!)","v":{"$error":"#REF!"}},{"$f":"IF(Data!#REF!=\"\",\"\",Data!#REF!)","v":{"$error":"#REF!"}},{"$f":"IF(Data!#REF!=\"\",\"\",Data!#REF!)","v":{"$error":"#REF!"}},{"$f":"IF(Data!#REF!=\"\",\"\",Data!#REF!)","v":{"$error":"#REF!"}},{"$error":"#REF!"},{"$error":"#REF!"},{"$error":"#REF!"}]
[{"$f":"IF(Data!#REF!=\"\",\"\",Data!#REF!)","v":{"$error":"#REF!"}},{"$f":"IF(Data!#REF!=\"\",\"\",Data!#REF!)","v":{"$error":"#REF!"}},{"$f":"IF(Data!#REF!=\"\",\"\",Data!#REF!)","v":{"$error":"#REF!"}},{"$f":"IF(Data!#REF!=\"\",\"\",Data!#REF!)","v":{"$error":"#REF!"}},{"$f":"IF(Data!#REF!=\"\",\"\",Data!#REF!)","v":{"$error":"#REF!"}},{"$error":"#REF!"},{"$error":"#REF!"},{"$error":"#REF!"}]
[{"$f":"IF(Data!#REF!=\"\",\"\",Data!#REF!)","v":{"$error":"#REF!"}},{"$f":"IF(Data!#REF!=\"\",\"\",Data!#REF!)","v":{"$error":"#REF!"}},{"$f":"IF(Data!#REF!=\"\",\"\",Data!#REF!)","v":{"$error":"#REF!"}},{"$f":"IF(Data!#REF!=\"\",\"\",Data!#REF!)","v":{"$error":"#REF!"}},{"$f":"IF(Data!#REF!=\"\",\"\",Data!#REF!)","v":{"$error":"#REF!"}},{"$error":"#REF!"},{"$error":"#REF!"},{"$error":"#REF!"}]
[{"$f":"IF(Data!#REF!=\"\",\"\",Data!#REF!)","v":{"$error":"#REF!"}},{"$f":"IF(Data!#REF!=\"\",\"\",Data!#REF!)","v":{"$error":"#REF!"}},{"$f":"IF(Data!#REF!=\"\",\"\",Data!#REF!)","v":{"$error":"#REF!"}},{"$f":"IF(Data!#REF!=\"\",\"\",Data!#REF!)","v":{"$error":"#REF!"}},{"$f":"IF(Data!#REF!=\"\",\"\",Data!#REF!)","v":{"$error":"#REF!"}},{"$f":"IF(E2499>0,MONTH(E2499),\"\")","v":{"$error":"#REF!"}},{"$f":"IF(E2499>0,WEEKNUM(E2499),\"0\")","v":{"$error":"#REF!"}},{"$f":"IF(G2499>=($G$2-3),\"Ano\",\"Nie\")","v":{"$error":"#REF!"}}]
[{"$f":"IF(Data!#REF!=\"\",\"\",Data!#REF!)","v":{"$error":"#REF!"}},{"$f":"IF(Data!#REF!=\"\",\"\",Data!#REF!)","v":{"$error":"#REF!"}},{"$f":"IF(Data!#REF!=\"\",\"\",Data!#REF!)","v":{"$error":"#REF!"}},{"$f":"IF(Data!#REF!=\"\",\"\",Data!#REF!)","v":{"$error":"#REF!"}},{"$f":"IF(Data!#REF!=\"\",\"\",Data!#REF!)","v":{"$error":"#REF!"}},{"$error":"#REF!"},{"$error":"#REF!"},{"$error":"#REF!"}]
[{"$f":"IF(Data!#REF!=\"\",\"\",Data!#REF!)","v":{"$error":"#REF!"}},{"$f":"IF(Data!#REF!=\"\",\"\",Data!#REF!)","v":{"$error":"#REF!"}},{"$f":"IF(Data!#REF!=\"\",\"\",Data!#REF!)","v":{"$error":"#REF!"}},{"$f":"IF(Data!#REF!=\"\",\"\",Data!#REF!)","v":{"$error":"#REF!"}},{"$f":"IF(Data!#REF!=\"\",\"\",Data!#REF!)","v":{"$error":"#REF!"}},{"$error":"#REF!"},{"$error":"#REF!"},{"$error":"#REF!"}]
[{"$f":"IF(Data!#REF!=\"\",\"\",Data!#REF!)","v":{"$error":"#REF!"}},{"$f":"IF(Data!#REF!=\"\",\"\",Data!#REF!)","v":{"$error":"#REF!"}},{"$f":"IF(Data!#REF!=\"\",\"\",Data!#REF!)","v":{"$error":"#REF!"}},{"$f":"IF(Data!#REF!=\"\",\"\",Data!#REF!)","v":{"$error":"#REF!"}},{"$f":"IF(Data!#REF!=\"\",\"\",Data!#REF!)","v":{"$error":"#REF!"}},{"$error":"#REF!"},{"$error":"#REF!"},{"$error":"#REF!"}]
[{"$f":"IF(Data!#REF!=\"\",\"\",Data!#REF!)","v":{"$error":"#REF!"}},{"$f":"IF(Data!#REF!=\"\",\"\",Data!#REF!)","v":{"$error":"#REF!"}},{"$f":"IF(Data!#REF!=\"\",\"\",Data!#REF!)","v":{"$error":"#REF!"}},{"$f":"IF(Data!#REF!=\"\",\"\",Data!#REF!)","v":{"$error":"#REF!"}},{"$f":"IF(Data!#REF!=\"\",\"\",Data!#REF!)","v":{"$error":"#REF!"}},{"$error":"#REF!"},{"$error":"#REF!"},{"$error":"#REF!"}]
[{"$f":"IF(Data!#REF!=\"\",\"\",Data!#REF!)","v":{"$error":"#REF!"}},{"$f":"IF(Data!#REF!=\"\",\"\",Data!#REF!)","v":{"$error":"#REF!"}},{"$f":"IF(Data!#REF!=\"\",\"\",Data!#REF!)","v":{"$error":"#REF!"}},{"$f":"IF(Data!#REF!=\"\",\"\",Data!#REF!)","v":{"$error":"#REF!"}},{"$f":"IF(Data!#REF!=\"\",\"\",Data!#REF!)","v":{"$error":"#REF!"}},{"$error":"#REF!"},{"$error":"#REF!"},{"$error":"#REF!"}]
[{"$f":"IF(Data!#REF!=\"\",\"\",Data!#REF!)","v":{"$error":"#REF!"}},{"$f":"IF(Data!#REF!=\"\",\"\",Data!#REF!)","v":{"$error":"#REF!"}},{"$f":"IF(Data!#REF!=\"\",\"\",Data!#REF!)","v":{"$error":"#REF!"}},{"$f":"IF(Data!#REF!=\"\",\"\",Data!#REF!)","v":{"$error":"#REF!"}},{"$f":"IF(Data!#REF!=\"\",\"\",Data!#REF!)","v":{"$error":"#REF!"}},{"$error":"#REF!"},{"$error":"#REF!"},{"$error":"#REF!"}]
[{"$f":"IF(Data!#REF!=\"\",\"\",Data!#REF!)","v":{"$error":"#REF!"}},{"$f":"IF(Data!#REF!=\"\",\"\",Data!#REF!)","v":{"$error":"#REF!"}},{"$f":"IF(Data!#REF!=\"\",\"\",Data!#REF!)","v":{"$error":"#REF!"}},{"$f":"IF(Data!#REF!=\"\",\"\",Data!#REF!)","v":{"$error":"#REF!"}},{"$f":"IF(Data!#REF!=\"\",\"\",Data!#REF!)","v":{"$error":"#REF!"}},{"$error":"#REF!"},{"$error":"#REF!"},{"$error":"#REF!"}]
[{"$f":"IF(Data!#REF!=\"\",\"\",Data!#REF!)","v":{"$error":"#REF!"}},{"$f":"IF(Data!#REF!=\"\",\"\",Data!#REF!)","v":{"$error":"#REF!"}},{"$f":"IF(Data!#REF!=\"\",\"\",Data!#REF!)","v":{"$error":"#REF!"}},{"$f":"IF(Data!#REF!=\"\",\"\",Data!#REF!)","v":{"$error":"#REF!"}},{"$f":"IF(Data!#REF!=\"\",\"\",Data!#REF!)","v":{"$error":"#REF!"}},{"$error":"#REF!"},{"$error":"#REF!"},{"$error":"#REF!"}]
[{"$f":"IF(Data!#REF!=\"\",\"\",Data!#REF!)","v":{"$error":"#REF!"}},{"$f":"IF(Data!#REF!=\"\",\"\",Data!#REF!)","v":{"$error":"#REF!"}},{"$f":"IF(Data!#REF!=\"\",\"\",Data!#REF!)","v":{"$error":"#REF!"}},{"$f":"IF(Data!#REF!=\"\",\"\",Data!#REF!)","v":{"$error":"#REF!"}},{"$f":"IF(Data!#REF!=\"\",\"\",Data!#REF!)","v":{"$error":"#REF!"}},{"$error":"#REF!"},{"$error":"#REF!"},{"$error":"#REF!"}]
[{"$f":"IF(Data!#REF!=\"\",\"\",Data!#REF!)","v":{"$error":"#REF!"}},{"$f":"IF(Data!#REF!=\"\",\"\",Data!#REF!)","v":{"$error":"#REF!"}},{"$f":"IF(Data!#REF!=\"\",\"\",Data!#REF!)","v":{"$error":"#REF!"}},{"$f":"IF(Data!#REF!=\"\",\"\",Data!#REF!)","v":{"$error":"#REF!"}},{"$f":"IF(Data!#REF!=\"\",\"\",Data!#REF!)","v":{"$error":"#REF!"}},{"$error":"#REF!"},{"$error":"#REF!"},{"$error":"#REF!"}]
[{"$f":"IF(Data!#REF!=\"\",\"\",Data!#REF!)","v":{"$error":"#REF!"}},{"$f":"IF(Data!#REF!=\"\",\"\",Data!#REF!)","v":{"$error":"#REF!"}},{"$f":"IF(Data!#REF!=\"\",\"\",Data!#REF!)","v":{"$error":"#REF!"}},{"$f":"IF(Data!#REF!=\"\",\"\",Data!#REF!)","v":{"$error":"#REF!"}},{"$f":"IF(Data!#REF!=\"\",\"\",Data!#REF!)","v":{"$error":"#REF!"}},{"$error":"#REF!"},{"$error":"#REF!"},{"$error":"#REF!"}]
[{"$f":"IF(Data!#REF!=\"\",\"\",Data!#REF!)","v":{"$error":"#REF!"}},{"$f":"IF(Data!#REF!=\"\",\"\",Data!#REF!)","v":{"$error":"#REF!"}},{"$f":"IF(Data!#REF!=\"\",\"\",Data!#REF!)","v":{"$error":"#REF!"}},{"$f":"IF(Data!#REF!=\"\",\"\",Data!#REF!)","v":{"$error":"#REF!"}},{"$f":"IF(Data!#REF!=\"\",\"\",Data!#REF!)","v":{"$error":"#REF!"}},{"$error":"#REF!"},{"$error":"#REF!"},{"$error":"#REF!"}]
[{"$f":"IF(Data!#REF!=\"\",\"\",Data!#REF!)","v":{"$error":"#REF!"}},{"$f":"IF(Data!#REF!=\"\",\"\",Data!#REF!)","v":{"$error":"#REF!"}},{"$f":"IF(Data!#REF!=\"\",\"\",Data!#REF!)","v":{"$error":"#REF!"}},{"$f":"IF(Data!#REF!=\"\",\"\",Data!#REF!)","v":{"$error":"#REF!"}},{"$f":"IF(Data!#REF!=\"\",\"\",Data!#REF!)","v":{"$error":"#REF!"}},{"$error":"#REF!"},{"$error":"#REF!"},{"$error":"#REF!"}]
[{"$f":"IF(Data!#REF!=\"\",\"\",Data!#REF!)","v":{"$error":"#REF!"}},{"$f":"IF(Data!#REF!=\"\",\"\",Data!#REF!)","v":{"$error":"#REF!"}},{"$f":"IF(Data!#REF!=\"\",\"\",Data!#REF!)","v":{"$error":"#REF!"}},{"$f":"IF(Data!#REF!=\"\",\"\",Data!#REF!)","v":{"$error":"#REF!"}},{"$f":"IF(Data!#REF!=\"\",\"\",Data!#REF!)","v":{"$error":"#REF!"}},{"$error":"#REF!"},{"$error":"#REF!"},{"$error":"#REF!"}]
[{"$f":"IF(Data!#REF!=\"\",\"\",Data!#REF!)","v":{"$error":"#REF!"}},{"$f":"IF(Data!#REF!=\"\",\"\",Data!#REF!)","v":{"$error":"#REF!"}},{"$f":"IF(Data!#REF!=\"\",\"\",Data!#REF!)","v":{"$error":"#REF!"}},{"$f":"IF(Data!#REF!=\"\",\"\",Data!#REF!)","v":{"$error":"#REF!"}},{"$f":"IF(Data!#REF!=\"\",\"\",Data!#REF!)","v":{"$error":"#REF!"}},{"$error":"#REF!"},{"$error":"#REF!"},{"$error":"#REF!"}]
[{"$f":"IF(Data!#REF!=\"\",\"\",Data!#REF!)","v":{"$error":"#REF!"}},{"$f":"IF(Data!#REF!=\"\",\"\",Data!#REF!)","v":{"$error":"#REF!"}},{"$f":"IF(Data!#REF!=\"\",\"\",Data!#REF!)","v":{"$error":"#REF!"}},{"$f":"IF(Data!#REF!=\"\",\"\",Data!#REF!)","v":{"$error":"#REF!"}},{"$f":"IF(Data!#REF!=\"\",\"\",Data!#REF!)","v":{"$error":"#REF!"}},{"$error":"#REF!"},{"$error":"#REF!"},{"$error":"#REF!"}]
[{"$f":"IF(Data!#REF!=\"\",\"\",Data!#REF!)","v":{"$error":"#REF!"}},{"$f":"IF(Data!#REF!=\"\",\"\",Data!#REF!)","v":{"$error":"#REF!"}},{"$f":"IF(Data!#REF!=\"\",\"\",Data!#REF!)","v":{"$error":"#REF!"}},{"$f":"IF(Data!#REF!=\"\",\"\",Data!#REF!)","v":{"$error":"#REF!"}},{"$f":"IF(Data!#REF!=\"\",\"\",Data!#REF!)","v":{"$error":"#REF!"}},{"$error":"#REF!"},{"$error":"#REF!"},{"$error":"#REF!"}]
[{"$f":"IF(Data!#REF!=\"\",\"\",Data!#REF!)","v":{"$error":"#REF!"}},{"$f":"IF(Data!#REF!=\"\",\"\",Data!#REF!)","v":{"$error":"#REF!"}},{"$f":"IF(Data!#REF!=\"\",\"\",Data!#REF!)","v":{"$error":"#REF!"}},{"$f":"IF(Data!#REF!=\"\",\"\",Data!#REF!)","v":{"$error":"#REF!"}},{"$f":"IF(Data!#REF!=\"\",\"\",Data!#REF!)","v":{"$error":"#REF!"}},{"$error":"#REF!"},{"$error":"#REF!"},{"$error":"#REF!"}]
[{"$f":"IF(Data!#REF!=\"\",\"\",Data!#REF!)","v":{"$error":"#REF!"}},{"$f":"IF(Data!#REF!=\"\",\"\",Data!#REF!)","v":{"$error":"#REF!"}},{"$f":"IF(Data!#REF!=\"\",\"\",Data!#REF!)","v":{"$error":"#REF!"}},{"$f":"IF(Data!#REF!=\"\",\"\",Data!#REF!)","v":{"$error":"#REF!"}},{"$f":"IF(Data!#REF!=\"\",\"\",Data!#REF!)","v":{"$error":"#REF!"}},{"$error":"#REF!"},{"$error":"#REF!"},{"$error":"#REF!"}]
[{"$f":"IF(Data!#REF!=\"\",\"\",Data!#REF!)","v":{"$error":"#REF!"}},{"$f":"IF(Data!#REF!=\"\",\"\",Data!#REF!)","v":{"$error":"#REF!"}},{"$f":"IF(Data!#REF!=\"\",\"\",Data!#REF!)","v":{"$error":"#REF!"}},{"$f":"IF(Data!#REF!=\"\",\"\",Data!#REF!)","v":{"$error":"#REF!"}},{"$f":"IF(Data!#REF!=\"\",\"\",Data!#REF!)","v":{"$error":"#REF!"}},{"$error":"#REF!"},{"$error":"#REF!"},{"$error":"#REF!"}]
[{"$f":"IF(Data!#REF!=\"\",\"\",Data!#REF!)","v":{"$error":"#REF!"}},{"$f":"IF(Data!#REF!=\"\",\"\",Data!#REF!)","v":{"$error":"#REF!"}},{"$f":"IF(Data!#REF!=\"\",\"\",Data!#REF!)","v":{"$error":"#REF!"}},{"$f":"IF(Data!#REF!=\"\",\"\",Data!#REF!)","v":{"$error":"#REF!"}},{"$f":"IF(Data!#REF!=\"\",\"\",Data!#REF!)","v":{"$error":"#REF!"}},{"$error":"#REF!"},{"$error":"#REF!"},{"$error":"#REF!"}]
[{"$f":"IF(Data!#REF!=\"\",\"\",Data!#REF!)","v":{"$error":"#REF!"}},{"$f":"IF(Data!#REF!=\"\",\"\",Data!#REF!)","v":{"$error":"#REF!"}},{"$f":"IF(Data!#REF!=\"\",\"\",Data!#REF!)","v":{"$error":"#REF!"}},{"$f":"IF(Data!#REF!=\"\",\"\",Data!#REF!)","v":{"$error":"#REF!"}},{"$f":"IF(Data!#REF!=\"\",\"\",Data!#REF!)","v":{"$error":"#REF!"}},{"$error":"#REF!"},{"$error":"#REF!"},{"$error":"#REF!"}]
[{"$f":"IF(Data!#REF!=\"\",\"\",Data!#REF!)","v":{"$error":"#REF!"}},{"$f":"IF(Data!#REF!=\"\",\"\",Data!#REF!)","v":{"$error":"#REF!"}},{"$f":"IF(Data!#REF!=\"\",\"\",Data!#REF!)","v":{"$error":"#REF!"}},{"$f":"IF(Data!#REF!=\"\",\"\",Data!#REF!)","v":{"$error":"#REF!"}},{"$f":"IF(Data!#REF!=\"\",\"\",Data!#REF!)","v":{"$error":"#REF!"}},{"$error":"#REF!"},{"$error":"#REF!"},{"$error":"#REF!"}]
[{"$f":"IF(Data!#REF!=\"\",\"\",Data!#REF!)","v":{"$error":"#REF!"}},{"$f":"IF(Data!#REF!=\"\",\"\",Data!#REF!)","v":{"$error":"#REF!"}},{"$f":"IF(Data!#REF!=\"\",\"\",Data!#REF!)","v":{"$error":"#REF!"}},{"$f":"IF(Data!#REF!=\"\",\"\",Data!#REF!)","v":{"$error":"#REF!"}},{"$f":"IF(Data!#REF!=\"\",\"\",Data!#REF!)","v":{"$error":"#REF!"}},{"$error":"#REF!"},{"$error":"#REF!"},{"$error":"#REF!"}]
[{"$f":"IF(Data!#REF!=\"\",\"\",Data!#REF!)","v":{"$error":"#REF!"}},{"$f":"IF(Data!#REF!=\"\",\"\",Data!#REF!)","v":{"$error":"#REF!"}},{"$f":"IF(Data!#REF!=\"\",\"\",Data!#REF!)","v":{"$error":"#REF!"}},{"$f":"IF(Data!#REF!=\"\",\"\",Data!#REF!)","v":{"$error":"#REF!"}},{"$f":"IF(Data!#REF!=\"\",\"\",Data!#REF!)","v":{"$error":"#REF!"}},{"$error":"#REF!"},{"$error":"#REF!"},{"$error":"#REF!"}]
[{"$f":"IF(Data!#REF!=\"\",\"\",Data!#REF!)","v":{"$error":"#REF!"}},{"$f":"IF(Data!#REF!=\"\",\"\",Data!#REF!)","v":{"$error":"#REF!"}},{"$f":"IF(Data!#REF!=\"\",\"\",Data!#REF!)","v":{"$error":"#REF!"}},{"$f":"IF(Data!#REF!=\"\",\"\",Data!#REF!)","v":{"$error":"#REF!"}},{"$f":"IF(Data!#REF!=\"\",\"\",Data!#REF!)","v":{"$error":"#REF!"}},{"$error":"#REF!"},{"$error":"#REF!"},{"$error":"#REF!"}]
[{"$f":"IF(Data!#REF!=\"\",\"\",Data!#REF!)","v":{"$error":"#REF!"}},{"$f":"IF(Data!#REF!=\"\",\"\",Data!#REF!)","v":{"$error":"#REF!"}},{"$f":"IF(Data!#REF!=\"\",\"\",Data!#REF!)","v":{"$error":"#REF!"}},{"$f":"IF(Data!#REF!=\"\",\"\",Data!#REF!)","v":{"$error":"#REF!"}},{"$f":"IF(Data!#REF!=\"\",\"\",Data!#REF!)","v":{"$error":"#REF!"}},{"$error":"#REF!"},{"$error":"#REF!"},{"$error":"#REF!"}]
[{"$f":"IF(Data!#REF!=\"\",\"\",Data!#REF!)","v":{"$error":"#REF!"}},{"$f":"IF(Data!#REF!=\"\",\"\",Data!#REF!)","v":{"$error":"#REF!"}},{"$f":"IF(Data!#REF!=\"\",\"\",Data!#REF!)","v":{"$error":"#REF!"}},{"$f":"IF(Data!#REF!=\"\",\"\",Data!#REF!)","v":{"$error":"#REF!"}},{"$f":"IF(Data!#REF!=\"\",\"\",Data!#REF!)","v":{"$error":"#REF!"}},{"$error":"#REF!"},{"$error":"#REF!"},{"$error":"#REF!"}]
[{"$f":"IF(Data!#REF!=\"\",\"\",Data!#REF!)","v":{"$error":"#REF!"}},{"$f":"IF(Data!#REF!=\"\",\"\",Data!#REF!)","v":{"$error":"#REF!"}},{"$f":"IF(Data!#REF!=\"\",\"\",Data!#REF!)","v":{"$error":"#REF!"}},{"$f":"IF(Data!#REF!=\"\",\"\",Data!#REF!)","v":{"$error":"#REF!"}},{"$f":"IF(Data!#REF!=\"\",\"\",Data!#REF!)","v":{"$error":"#REF!"}},{"$error":"#REF!"},{"$error":"#REF!"},{"$error":"#REF!"}]
[{"$f":"IF(Data!#REF!=\"\",\"\",Data!#REF!)","v":{"$error":"#REF!"}},{"$f":"IF(Data!#REF!=\"\",\"\",Data!#REF!)","v":{"$error":"#REF!"}},{"$f":"IF(Data!#REF!=\"\",\"\",Data!#REF!)","v":{"$error":"#REF!"}},{"$f":"IF(Data!#REF!=\"\",\"\",Data!#REF!)","v":{"$error":"#REF!"}},{"$f":"IF(Data!#REF!=\"\",\"\",Data!#REF!)","v":{"$error":"#REF!"}},{"$error":"#REF!"},{"$error":"#REF!"},{"$error":"#REF!"}]
[{"$f":"IF(Data!#REF!=\"\",\"\",Data!#REF!)","v":{"$error":"#REF!"}},{"$f":"IF(Data!#REF!=\"\",\"\",Data!#REF!)","v":{"$error":"#REF!"}},{"$f":"IF(Data!#REF!=\"\",\"\",Data!#REF!)","v":{"$error":"#REF!"}},{"$f":"IF(Data!#REF!=\"\",\"\",Data!#REF!)","v":{"$error":"#REF!"}},{"$f":"IF(Data!#REF!=\"\",\"\",Data!#REF!)","v":{"$error":"#REF!"}},{"$error":"#REF!"},{"$error":"#REF!"},{"$error":"#REF!"}]
[{"$f":"IF(Data!#REF!=\"\",\"\",Data!#REF!)","v":{"$error":"#REF!"}},{"$f":"IF(Data!#REF!=\"\",\"\",Data!#REF!)","v":{"$error":"#REF!"}},{"$f":"IF(Data!#REF!=\"\",\"\",Data!#REF!)","v":{"$error":"#REF!"}},{"$f":"IF(Data!#REF!=\"\",\"\",Data!#REF!)","v":{"$error":"#REF!"}},{"$f":"IF(Data!#REF!=\"\",\"\",Data!#REF!)","v":{"$error":"#REF!"}},{"$error":"#REF!"},{"$error":"#REF!"},{"$error":"#REF!"}]
[{"$f":"IF(Data!#REF!=\"\",\"\",Data!#REF!)","v":{"$error":"#REF!"}},{"$f":"IF(Data!#REF!=\"\",\"\",Data!#REF!)","v":{"$error":"#REF!"}},{"$f":"IF(Data!#REF!=\"\",\"\",Data!#REF!)","v":{"$error":"#REF!"}},{"$f":"IF(Data!#REF!=\"\",\"\",Data!#REF!)","v":{"$error":"#REF!"}},{"$f":"IF(Data!#REF!=\"\",\"\",Data!#REF!)","v":{"$error":"#REF!"}},{"$error":"#REF!"},{"$error":"#REF!"},{"$error":"#REF!"}]
[{"$f":"IF(Data!#REF!=\"\",\"\",Data!#REF!)","v":{"$error":"#REF!"}},{"$f":"IF(Data!#REF!=\"\",\"\",Data!#REF!)","v":{"$error":"#REF!"}},{"$f":"IF(Data!#REF!=\"\",\"\",Data!#REF!)","v":{"$error":"#REF!"}},{"$f":"IF(Data!#REF!=\"\",\"\",Data!#REF!)","v":{"$error":"#REF!"}},{"$f":"IF(Data!#REF!=\"\",\"\",Data!#REF!)","v":{"$error":"#REF!"}},{"$error":"#REF!"},{"$error":"#REF!"},{"$error":"#REF!"}]
[{"$f":"IF(Data!#REF!=\"\",\"\",Data!#REF!)","v":{"$error":"#REF!"}},{"$f":"IF(Data!#REF!=\"\",\"\",Data!#REF!)","v":{"$error":"#REF!"}},{"$f":"IF(Data!#REF!=\"\",\"\",Data!#REF!)","v":{"$error":"#REF!"}},{"$f":"IF(Data!#REF!=\"\",\"\",Data!#REF!)","v":{"$error":"#REF!"}},{"$f":"IF(Data!#REF!=\"\",\"\",Data!#REF!)","v":{"$error":"#REF!"}},{"$error":"#REF!"},{"$error":"#REF!"},{"$error":"#REF!"}]
[{"$f":"IF(Data!#REF!=\"\",\"\",Data!#REF!)","v":{"$error":"#REF!"}},{"$f":"IF(Data!#REF!=\"\",\"\",Data!#REF!)","v":{"$error":"#REF!"}},{"$f":"IF(Data!#REF!=\"\",\"\",Data!#REF!)","v":{"$error":"#REF!"}},{"$f":"IF(Data!#REF!=\"\",\"\",Data!#REF!)","v":{"$error":"#REF!"}},{"$f":"IF(Data!#REF!=\"\",\"\",Data!#REF!)","v":{"$error":"#REF!"}},{"$error":"#REF!"},{"$error":"#REF!"},{"$error":"#REF!"}]
[{"$f":"IF(Data!#REF!=\"\",\"\",Data!#REF!)","v":{"$error":"#REF!"}},{"$f":"IF(Data!#REF!=\"\",\"\",Data!#REF!)","v":{"$error":"#REF!"}},{"$f":"IF(Data!#REF!=\"\",\"\",Data!#REF!)","v":{"$error":"#REF!"}},{"$f":"IF(Data!#REF!=\"\",\"\",Data!#REF!)","v":{"$error":"#REF!"}},{"$f":"IF(Data!#REF!=\"\",\"\",Data!#REF!)","v":{"$error":"#REF!"}},{"$error":"#REF!"},{"$error":"#REF!"},{"$error":"#REF!"}]
[{"$f":"IF(Data!#REF!=\"\",\"\",Data!#REF!)","v":{"$error":"#REF!"}},{"$f":"IF(Data!#REF!=\"\",\"\",Data!#REF!)","v":{"$error":"#REF!"}},{"$f":"IF(Data!#REF!=\"\",\"\",Data!#REF!)","v":{"$error":"#REF!"}},{"$f":"IF(Data!#REF!=\"\",\"\",Data!#REF!)","v":{"$error":"#REF!"}},{"$f":"IF(Data!#REF!=\"\",\"\",Data!#REF!)","v":{"$error":"#REF!"}},{"$error":"#REF!"},{"$error":"#REF!"},{"$error":"#REF!"}]
[{"$f":"IF(Data!#REF!=\"\",\"\",Data!#REF!)","v":{"$error":"#REF!"}},{"$f":"IF(Data!#REF!=\"\",\"\",Data!#REF!)","v":{"$error":"#REF!"}},{"$f":"IF(Data!#REF!=\"\",\"\",Data!#REF!)","v":{"$error":"#REF!"}},{"$f":"IF(Data!#REF!=\"\",\"\",Data!#REF!)","v":{"$error":"#REF!"}},{"$f":"IF(Data!#REF!=\"\",\"\",Data!#REF!)","v":{"$error":"#REF!"}},{"$error":"#REF!"},{"$error":"#REF!"},{"$error":"#REF!"}]
[{"$f":"IF(Data!#REF!=\"\",\"\",Data!#REF!)","v":{"$error":"#REF!"}},{"$f":"IF(Data!#REF!=\"\",\"\",Data!#REF!)","v":{"$error":"#REF!"}},{"$f":"IF(Data!#REF!=\"\",\"\",Data!#REF!)","v":{"$error":"#REF!"}},{"$f":"IF(Data!#REF!=\"\",\"\",Data!#REF!)","v":{"$error":"#REF!"}},{"$f":"IF(Data!#REF!=\"\",\"\",Data!#REF!)","v":{"$error":"#REF!"}},{"$error":"#REF!"},{"$error":"#REF!"},{"$error":"#REF!"}]
[{"$f":"IF(Data!#REF!=\"\",\"\",Data!#REF!)","v":{"$error":"#REF!"}},{"$f":"IF(Data!#REF!=\"\",\"\",Data!#REF!)","v":{"$error":"#REF!"}},{"$f":"IF(Data!#REF!=\"\",\"\",Data!#REF!)","v":{"$error":"#REF!"}},{"$f":"IF(Data!#REF!=\"\",\"\",Data!#REF!)","v":{"$error":"#REF!"}},{"$f":"IF(Data!#REF!=\"\",\"\",Data!#REF!)","v":{"$error":"#REF!"}},{"$error":"#REF!"},{"$error":"#REF!"},{"$error":"#REF!"}]
[{"$f":"IF(Data!#REF!=\"\",\"\",Data!#REF!)","v":{"$error":"#REF!"}},{"$f":"IF(Data!#REF!=\"\",\"\",Data!#REF!)","v":{"$error":"#REF!"}},{"$f":"IF(Data!#REF!=\"\",\"\",Data!#REF!)","v":{"$error":"#REF!"}},{"$f":"IF(Data!#REF!=\"\",\"\",Data!#REF!)","v":{"$error":"#REF!"}},{"$f":"IF(Data!#REF!=\"\",\"\",Data!#REF!)","v":{"$error":"#REF!"}},{"$error":"#REF!"},{"$error":"#REF!"},{"$error":"#REF!"}]
[{"$f":"IF(Data!#REF!=\"\",\"\",Data!#REF!)","v":{"$error":"#REF!"}},{"$f":"IF(Data!#REF!=\"\",\"\",Data!#REF!)","v":{"$error":"#REF!"}},{"$f":"IF(Data!#REF!=\"\",\"\",Data!#REF!)","v":{"$error":"#REF!"}},{"$f":"IF(Data!#REF!=\"\",\"\",Data!#REF!)","v":{"$error":"#REF!"}},{"$f":"IF(Data!#REF!=\"\",\"\",Data!#REF!)","v":{"$error":"#REF!"}},{"$error":"#REF!"},{"$error":"#REF!"},{"$error":"#REF!"}]
[{"$f":"IF(Data!#REF!=\"\",\"\",Data!#REF!)","v":{"$error":"#REF!"}},{"$f":"IF(Data!#REF!=\"\",\"\",Data!#REF!)","v":{"$error":"#REF!"}},{"$f":"IF(Data!#REF!=\"\",\"\",Data!#REF!)","v":{"$error":"#REF!"}},{"$f":"IF(Data!#REF!=\"\",\"\",Data!#REF!)","v":{"$error":"#REF!"}},{"$f":"IF(Data!#REF!=\"\",\"\",Data!#REF!)","v":{"$error":"#REF!"}},{"$error":"#REF!"},{"$error":"#REF!"},{"$error":"#REF!"}]
[{"$f":"IF(Data!#REF!=\"\",\"\",Data!#REF!)","v":{"$error":"#REF!"}},{"$f":"IF(Data!#REF!=\"\",\"\",Data!#REF!)","v":{"$error":"#REF!"}},{"$f":"IF(Data!#REF!=\"\",\"\",Data!#REF!)","v":{"$error":"#REF!"}},{"$f":"IF(Data!#REF!=\"\",\"\",Data!#REF!)","v":{"$error":"#REF!"}},{"$f":"IF(Data!#REF!=\"\",\"\",Data!#REF!)","v":{"$error":"#REF!"}},{"$error":"#REF!"},{"$error":"#REF!"},{"$error":"#REF!"}]
[{"$f":"IF(Data!#REF!=\"\",\"\",Data!#REF!)","v":{"$error":"#REF!"}},{"$f":"IF(Data!#REF!=\"\",\"\",Data!#REF!)","v":{"$error":"#REF!"}},{"$f":"IF(Data!#REF!=\"\",\"\",Data!#REF!)","v":{"$error":"#REF!"}},{"$f":"IF(Data!#REF!=\"\",\"\",Data!#REF!)","v":{"$error":"#REF!"}},{"$f":"IF(Data!#REF!=\"\",\"\",Data!#REF!)","v":{"$error":"#REF!"}},{"$error":"#REF!"},{"$error":"#REF!"},{"$error":"#REF!"}]
[{"$f":"IF(Data!#REF!=\"\",\"\",Data!#REF!)","v":{"$error":"#REF!"}},{"$f":"IF(Data!#REF!=\"\",\"\",Data!#REF!)","v":{"$error":"#REF!"}},{"$f":"IF(Data!#REF!=\"\",\"\",Data!#REF!)","v":{"$error":"#REF!"}},{"$f":"IF(Data!#REF!=\"\",\"\",Data!#REF!)","v":{"$error":"#REF!"}},{"$f":"IF(Data!#REF!=\"\",\"\",Data!#REF!)","v":{"$error":"#REF!"}},{"$error":"#REF!"},{"$error":"#REF!"},{"$error":"#REF!"}]
[{"$f":"IF(Data!#REF!=\"\",\"\",Data!#REF!)","v":{"$error":"#REF!"}},{"$f":"IF(Data!#REF!=\"\",\"\",Data!#REF!)","v":{"$error":"#REF!"}},{"$f":"IF(Data!#REF!=\"\",\"\",Data!#REF!)","v":{"$error":"#REF!"}},{"$f":"IF(Data!#REF!=\"\",\"\",Data!#REF!)","v":{"$error":"#REF!"}},{"$f":"IF(Data!#REF!=\"\",\"\",Data!#REF!)","v":{"$error":"#REF!"}},{"$error":"#REF!"},{"$error":"#REF!"},{"$error":"#REF!"}]
[{"$f":"IF(Data!#REF!=\"\",\"\",Data!#REF!)","v":{"$error":"#REF!"}},{"$f":"IF(Data!#REF!=\"\",\"\",Data!#REF!)","v":{"$error":"#REF!"}},{"$f":"IF(Data!#REF!=\"\",\"\",Data!#REF!)","v":{"$error":"#REF!"}},{"$f":"IF(Data!#REF!=\"\",\"\",Data!#REF!)","v":{"$error":"#REF!"}},{"$f":"IF(Data!#REF!=\"\",\"\",Data!#REF!)","v":{"$error":"#REF!"}},{"$error":"#REF!"},{"$error":"#REF!"},{"$error":"#REF!"}]
[{"$f":"IF(Data!#REF!=\"\",\"\",Data!#REF!)","v":{"$error":"#REF!"}},{"$f":"IF(Data!#REF!=\"\",\"\",Data!#REF!)","v":{"$error":"#REF!"}},{"$f":"IF(Data!#REF!=\"\",\"\",Data!#REF!)","v":{"$error":"#REF!"}},{"$f":"IF(Data!#REF!=\"\",\"\",Data!#REF!)","v":{"$error":"#REF!"}},{"$f":"IF(Data!#REF!=\"\",\"\",Data!#REF!)","v":{"$error":"#REF!"}},{"$error":"#REF!"},{"$error":"#REF!"},{"$error":"#REF!"}]
[{"$f":"IF(Data!#REF!=\"\",\"\",Data!#REF!)","v":{"$error":"#REF!"}},{"$f":"IF(Data!#REF!=\"\",\"\",Data!#REF!)","v":{"$error":"#REF!"}},{"$f":"IF(Data!#REF!=\"\",\"\",Data!#REF!)","v":{"$error":"#REF!"}},{"$f":"IF(Data!#REF!=\"\",\"\",Data!#REF!)","v":{"$error":"#REF!"}},{"$f":"IF(Data!#REF!=\"\",\"\",Data!#REF!)","v":{"$error":"#REF!"}},{"$error":"#REF!"},{"$error":"#REF!"},{"$error":"#REF!"}]
[{"$f":"IF(Data!#REF!=\"\",\"\",Data!#REF!)","v":{"$error":"#REF!"}},{"$f":"IF(Data!#REF!=\"\",\"\",Data!#REF!)","v":{"$error":"#REF!"}},{"$f":"IF(Data!#REF!=\"\",\"\",Data!#REF!)","v":{"$error":"#REF!"}},{"$f":"IF(Data!#REF!=\"\",\"\",Data!#REF!)","v":{"$error":"#REF!"}},{"$f":"IF(Data!#REF!=\"\",\"\",Data!#REF!)","v":{"$error":"#REF!"}},{"$error":"#REF!"},{"$error":"#REF!"},{"$error":"#REF!"}]
[{"$f":"IF(Data!#REF!=\"\",\"\",Data!#REF!)","v":{"$error":"#REF!"}},{"$f":"IF(Data!#REF!=\"\",\"\",Data!#REF!)","v":{"$error":"#REF!"}},{"$f":"IF(Data!#REF!=\"\",\"\",Data!#REF!)","v":{"$error":"#REF!"}},{"$f":"IF(Data!#REF!=\"\",\"\",Data!#REF!)","v":{"$error":"#REF!"}},{"$f":"IF(Data!#REF!=\"\",\"\",Data!#REF!)","v":{"$error":"#REF!"}},{"$error":"#REF!"},{"$error":"#REF!"},{"$error":"#REF!"}]
[{"$f":"IF(Data!#REF!=\"\",\"\",Data!#REF!)","v":{"$error":"#REF!"}},{"$f":"IF(Data!#REF!=\"\",\"\",Data!#REF!)","v":{"$error":"#REF!"}},{"$f":"IF(Data!#REF!=\"\",\"\",Data!#REF!)","v":{"$error":"#REF!"}},{"$f":"IF(Data!#REF!=\"\",\"\",Data!#REF!)","v":{"$error":"#REF!"}},{"$f":"IF(Data!#REF!=\"\",\"\",Data!#REF!)","v":{"$error":"#REF!"}},{"$error":"#REF!"},{"$error":"#REF!"},{"$error":"#REF!"}]
[{"$f":"IF(Data!#REF!=\"\",\"\",Data!#REF!)","v":{"$error":"#REF!"}},{"$f":"IF(Data!#REF!=\"\",\"\",Data!#REF!)","v":{"$error":"#REF!"}},{"$f":"IF(Data!#REF!=\"\",\"\",Data!#REF!)","v":{"$error":"#REF!"}},{"$f":"IF(Data!#REF!=\"\",\"\",Data!#REF!)","v":{"$error":"#REF!"}},{"$f":"IF(Data!#REF!=\"\",\"\",Data!#REF!)","v":{"$error":"#REF!"}},{"$error":"#REF!"},{"$error":"#REF!"},{"$error":"#REF!"}]
[{"$f":"IF(Data!#REF!=\"\",\"\",Data!#REF!)","v":{"$error":"#REF!"}},{"$f":"IF(Data!#REF!=\"\",\"\",Data!#REF!)","v":{"$error":"#REF!"}},{"$f":"IF(Data!#REF!=\"\",\"\",Data!#REF!)","v":{"$error":"#REF!"}},{"$f":"IF(Data!#REF!=\"\",\"\",Data!#REF!)","v":{"$error":"#REF!"}},{"$f":"IF(Data!#REF!=\"\",\"\",Data!#REF!)","v":{"$error":"#REF!"}},{"$error":"#REF!"},{"$error":"#REF!"},{"$error":"#REF!"}]
[{"$f":"IF(Data!#REF!=\"\",\"\",Data!#REF!)","v":{"$error":"#REF!"}},{"$f":"IF(Data!#REF!=\"\",\"\",Data!#REF!)","v":{"$error":"#REF!"}},{"$f":"IF(Data!#REF!=\"\",\"\",Data!#REF!)","v":{"$error":"#REF!"}},{"$f":"IF(Data!#REF!=\"\",\"\",Data!#REF!)","v":{"$error":"#REF!"}},{"$f":"IF(Data!#REF!=\"\",\"\",Data!#REF!)","v":{"$error":"#REF!"}},{"$error":"#REF!"},{"$error":"#REF!"},{"$error":"#REF!"}]
[{"$f":"IF(Data!#REF!=\"\",\"\",Data!#REF!)","v":{"$error":"#REF!"}},{"$f":"IF(Data!#REF!=\"\",\"\",Data!#REF!)","v":{"$error":"#REF!"}},{"$f":"IF(Data!#REF!=\"\",\"\",Data!#REF!)","v":{"$error":"#REF!"}},{"$f":"IF(Data!#REF!=\"\",\"\",Data!#REF!)","v":{"$error":"#REF!"}},{"$f":"IF(Data!#REF!=\"\",\"\",Data!#REF!)","v":{"$error":"#REF!"}},{"$error":"#REF!"},{"$error":"#REF!"},{"$error":"#REF!"}]
[{"$f":"IF(Data!#REF!=\"\",\"\",Data!#REF!)","v":{"$error":"#REF!"}},{"$f":"IF(Data!#REF!=\"\",\"\",Data!#REF!)","v":{"$error":"#REF!"}},{"$f":"IF(Data!#REF!=\"\",\"\",Data!#REF!)","v":{"$error":"#REF!"}},{"$f":"IF(Data!#REF!=\"\",\"\",Data!#REF!)","v":{"$error":"#REF!"}},{"$f":"IF(Data!#REF!=\"\",\"\",Data!#REF!)","v":{"$error":"#REF!"}},{"$error":"#REF!"},{"$error":"#REF!"},{"$error":"#REF!"}]
[{"$f":"IF(Data!#REF!=\"\",\"\",Data!#REF!)","v":{"$error":"#REF!"}},{"$f":"IF(Data!#REF!=\"\",\"\",Data!#REF!)","v":{"$error":"#REF!"}},{"$f":"IF(Data!#REF!=\"\",\"\",Data!#REF!)","v":{"$error":"#REF!"}},{"$f":"IF(Data!#REF!=\"\",\"\",Data!#REF!)","v":{"$error":"#REF!"}},{"$f":"IF(Data!#REF!=\"\",\"\",Data!#REF!)","v":{"$error":"#REF!"}},{"$error":"#REF!"},{"$error":"#REF!"},{"$error":"#REF!"}]
[{"$f":"IF(Data!#REF!=\"\",\"\",Data!#REF!)","v":{"$error":"#REF!"}},{"$f":"IF(Data!#REF!=\"\",\"\",Data!#REF!)","v":{"$error":"#REF!"}},{"$f":"IF(Data!#REF!=\"\",\"\",Data!#REF!)","v":{"$error":"#REF!"}},{"$f":"IF(Data!#REF!=\"\",\"\",Data!#REF!)","v":{"$error":"#REF!"}},{"$f":"IF(Data!#REF!=\"\",\"\",Data!#REF!)","v":{"$error":"#REF!"}},{"$error":"#REF!"},{"$error":"#REF!"},{"$error":"#REF!"}]
[{"$f":"IF(Data!#REF!=\"\",\"\",Data!#REF!)","v":{"$error":"#REF!"}},{"$f":"IF(Data!#REF!=\"\",\"\",Data!#REF!)","v":{"$error":"#REF!"}},{"$f":"IF(Data!#REF!=\"\",\"\",Data!#REF!)","v":{"$error":"#REF!"}},{"$f":"IF(Data!#REF!=\"\",\"\",Data!#REF!)","v":{"$error":"#REF!"}},{"$f":"IF(Data!#REF!=\"\",\"\",Data!#REF!)","v":{"$error":"#REF!"}},{"$error":"#REF!"},{"$error":"#REF!"},{"$error":"#REF!"}]
[{"$f":"IF(Data!#REF!=\"\",\"\",Data!#REF!)","v":{"$error":"#REF!"}},{"$f":"IF(Data!#REF!=\"\",\"\",Data!#REF!)","v":{"$error":"#REF!"}},{"$f":"IF(Data!#REF!=\"\",\"\",Data!#REF!)","v":{"$error":"#REF!"}},{"$f":"IF(Data!#REF!=\"\",\"\",Data!#REF!)","v":{"$error":"#REF!"}},{"$f":"IF(Data!#REF!=\"\",\"\",Data!#REF!)","v":{"$error":"#REF!"}},{"$error":"#REF!"},{"$error":"#REF!"},{"$error":"#REF!"}]
[{"$f":"IF(Data!#REF!=\"\",\"\",Data!#REF!)","v":{"$error":"#REF!"}},{"$f":"IF(Data!#REF!=\"\",\"\",Data!#REF!)","v":{"$error":"#REF!"}},{"$f":"IF(Data!#REF!=\"\",\"\",Data!#REF!)","v":{"$error":"#REF!"}},{"$f":"IF(Data!#REF!=\"\",\"\",Data!#REF!)","v":{"$error":"#REF!"}},{"$f":"IF(Data!#REF!=\"\",\"\",Data!#REF!)","v":{"$error":"#REF!"}},{"$f":"IF(E2563>0,MONTH(E2563),\"\")","v":{"$error":"#REF!"}},{"$f":"IF(E2563>0,WEEKNUM(E2563),\"0\")","v":{"$error":"#REF!"}},{"$f":"IF(G2563>=($G$2-3),\"Ano\",\"Nie\")","v":{"$error":"#REF!"}}]
[{"$f":"IF(Data!#REF!=\"\",\"\",Data!#REF!)","v":{"$error":"#REF!"}},{"$f":"IF(Data!#REF!=\"\",\"\",Data!#REF!)","v":{"$error":"#REF!"}},{"$f":"IF(Data!#REF!=\"\",\"\",Data!#REF!)","v":{"$error":"#REF!"}},{"$f":"IF(Data!#REF!=\"\",\"\",Data!#REF!)","v":{"$error":"#REF!"}},{"$f":"IF(Data!#REF!=\"\",\"\",Data!#REF!)","v":{"$error":"#REF!"}},{"$error":"#REF!"},{"$error":"#REF!"},{"$error":"#REF!"}]
[{"$f":"IF(Data!#REF!=\"\",\"\",Data!#REF!)","v":{"$error":"#REF!"}},{"$f":"IF(Data!#REF!=\"\",\"\",Data!#REF!)","v":{"$error":"#REF!"}},{"$f":"IF(Data!#REF!=\"\",\"\",Data!#REF!)","v":{"$error":"#REF!"}},{"$f":"IF(Data!#REF!=\"\",\"\",Data!#REF!)","v":{"$error":"#REF!"}},{"$f":"IF(Data!#REF!=\"\",\"\",Data!#REF!)","v":{"$error":"#REF!"}},{"$error":"#REF!"},{"$error":"#REF!"},{"$error":"#REF!"}]
[{"$f":"IF(Data!#REF!=\"\",\"\",Data!#REF!)","v":{"$error":"#REF!"}},{"$f":"IF(Data!#REF!=\"\",\"\",Data!#REF!)","v":{"$error":"#REF!"}},{"$f":"IF(Data!#REF!=\"\",\"\",Data!#REF!)","v":{"$error":"#REF!"}},{"$f":"IF(Data!#REF!=\"\",\"\",Data!#REF!)","v":{"$error":"#REF!"}},{"$f":"IF(Data!#REF!=\"\",\"\",Data!#REF!)","v":{"$error":"#REF!"}},{"$error":"#REF!"},{"$error":"#REF!"},{"$error":"#REF!"}]
[{"$f":"IF(Data!#REF!=\"\",\"\",Data!#REF!)","v":{"$error":"#REF!"}},{"$f":"IF(Data!#REF!=\"\",\"\",Data!#REF!)","v":{"$error":"#REF!"}},{"$f":"IF(Data!#REF!=\"\",\"\",Data!#REF!)","v":{"$error":"#REF!"}},{"$f":"IF(Data!#REF!=\"\",\"\",Data!#REF!)","v":{"$error":"#REF!"}},{"$f":"IF(Data!#REF!=\"\",\"\",Data!#REF!)","v":{"$error":"#REF!"}},{"$error":"#REF!"},{"$error":"#REF!"},{"$error":"#REF!"}]
[{"$f":"IF(Data!#REF!=\"\",\"\",Data!#REF!)","v":{"$error":"#REF!"}},{"$f":"IF(Data!#REF!=\"\",\"\",Data!#REF!)","v":{"$error":"#REF!"}},{"$f":"IF(Data!#REF!=\"\",\"\",Data!#REF!)","v":{"$error":"#REF!"}},{"$f":"IF(Data!#REF!=\"\",\"\",Data!#REF!)","v":{"$error":"#REF!"}},{"$f":"IF(Data!#REF!=\"\",\"\",Data!#REF!)","v":{"$error":"#REF!"}},{"$error":"#REF!"},{"$error":"#REF!"},{"$error":"#REF!"}]
[{"$f":"IF(Data!#REF!=\"\",\"\",Data!#REF!)","v":{"$error":"#REF!"}},{"$f":"IF(Data!#REF!=\"\",\"\",Data!#REF!)","v":{"$error":"#REF!"}},{"$f":"IF(Data!#REF!=\"\",\"\",Data!#REF!)","v":{"$error":"#REF!"}},{"$f":"IF(Data!#REF!=\"\",\"\",Data!#REF!)","v":{"$error":"#REF!"}},{"$f":"IF(Data!#REF!=\"\",\"\",Data!#REF!)","v":{"$error":"#REF!"}},{"$error":"#REF!"},{"$error":"#REF!"},{"$error":"#REF!"}]
[{"$f":"IF(Data!#REF!=\"\",\"\",Data!#REF!)","v":{"$error":"#REF!"}},{"$f":"IF(Data!#REF!=\"\",\"\",Data!#REF!)","v":{"$error":"#REF!"}},{"$f":"IF(Data!#REF!=\"\",\"\",Data!#REF!)","v":{"$error":"#REF!"}},{"$f":"IF(Data!#REF!=\"\",\"\",Data!#REF!)","v":{"$error":"#REF!"}},{"$f":"IF(Data!#REF!=\"\",\"\",Data!#REF!)","v":{"$error":"#REF!"}},{"$error":"#REF!"},{"$error":"#REF!"},{"$error":"#REF!"}]
[{"$f":"IF(Data!#REF!=\"\",\"\",Data!#REF!)","v":{"$error":"#REF!"}},{"$f":"IF(Data!#REF!=\"\",\"\",Data!#REF!)","v":{"$error":"#REF!"}},{"$f":"IF(Data!#REF!=\"\",\"\",Data!#REF!)","v":{"$error":"#REF!"}},{"$f":"IF(Data!#REF!=\"\",\"\",Data!#REF!)","v":{"$error":"#REF!"}},{"$f":"IF(Data!#REF!=\"\",\"\",Data!#REF!)","v":{"$error":"#REF!"}},{"$error":"#REF!"},{"$error":"#REF!"},{"$error":"#REF!"}]
[{"$f":"IF(Data!#REF!=\"\",\"\",Data!#REF!)","v":{"$error":"#REF!"}},{"$f":"IF(Data!#REF!=\"\",\"\",Data!#REF!)","v":{"$error":"#REF!"}},{"$f":"IF(Data!#REF!=\"\",\"\",Data!#REF!)","v":{"$error":"#REF!"}},{"$f":"IF(Data!#REF!=\"\",\"\",Data!#REF!)","v":{"$error":"#REF!"}},{"$f":"IF(Data!#REF!=\"\",\"\",Data!#REF!)","v":{"$error":"#REF!"}},{"$error":"#REF!"},{"$error":"#REF!"},{"$error":"#REF!"}]
[{"$f":"IF(Data!#REF!=\"\",\"\",Data!#REF!)","v":{"$error":"#REF!"}},{"$f":"IF(Data!#REF!=\"\",\"\",Data!#REF!)","v":{"$error":"#REF!"}},{"$f":"IF(Data!#REF!=\"\",\"\",Data!#REF!)","v":{"$error":"#REF!"}},{"$f":"IF(Data!#REF!=\"\",\"\",Data!#REF!)","v":{"$error":"#REF!"}},{"$f":"IF(Data!#REF!=\"\",\"\",Data!#REF!)","v":{"$error":"#REF!"}},{"$error":"#REF!"},{"$error":"#REF!"},{"$error":"#REF!"}]
[{"$f":"IF(Data!#REF!=\"\",\"\",Data!#REF!)","v":{"$error":"#REF!"}},{"$f":"IF(Data!#REF!=\"\",\"\",Data!#REF!)","v":{"$error":"#REF!"}},{"$f":"IF(Data!#REF!=\"\",\"\",Data!#REF!)","v":{"$error":"#REF!"}},{"$f":"IF(Data!#REF!=\"\",\"\",Data!#REF!)","v":{"$error":"#REF!"}},{"$f":"IF(Data!#REF!=\"\",\"\",Data!#REF!)","v":{"$error":"#REF!"}},{"$error":"#REF!"},{"$error":"#REF!"},{"$error":"#REF!"}]
[{"$f":"IF(Data!#REF!=\"\",\"\",Data!#REF!)","v":{"$error":"#REF!"}},{"$f":"IF(Data!#REF!=\"\",\"\",Data!#REF!)","v":{"$error":"#REF!"}},{"$f":"IF(Data!#REF!=\"\",\"\",Data!#REF!)","v":{"$error":"#REF!"}},{"$f":"IF(Data!#REF!=\"\",\"\",Data!#REF!)","v":{"$error":"#REF!"}},{"$f":"IF(Data!#REF!=\"\",\"\",Data!#REF!)","v":{"$error":"#REF!"}},{"$error":"#REF!"},{"$error":"#REF!"},{"$error":"#REF!"}]
[{"$f":"IF(Data!#REF!=\"\",\"\",Data!#REF!)","v":{"$error":"#REF!"}},{"$f":"IF(Data!#REF!=\"\",\"\",Data!#REF!)","v":{"$error":"#REF!"}},{"$f":"IF(Data!#REF!=\"\",\"\",Data!#REF!)","v":{"$error":"#REF!"}},{"$f":"IF(Data!#REF!=\"\",\"\",Data!#REF!)","v":{"$error":"#REF!"}},{"$f":"IF(Data!#REF!=\"\",\"\",Data!#REF!)","v":{"$error":"#REF!"}},{"$error":"#REF!"},{"$error":"#REF!"},{"$error":"#REF!"}]
[{"$f":"IF(Data!#REF!=\"\",\"\",Data!#REF!)","v":{"$error":"#REF!"}},{"$f":"IF(Data!#REF!=\"\",\"\",Data!#REF!)","v":{"$error":"#REF!"}},{"$f":"IF(Data!#REF!=\"\",\"\",Data!#REF!)","v":{"$error":"#REF!"}},{"$f":"IF(Data!#REF!=\"\",\"\",Data!#REF!)","v":{"$error":"#REF!"}},{"$f":"IF(Data!#REF!=\"\",\"\",Data!#REF!)","v":{"$error":"#REF!"}},{"$error":"#REF!"},{"$error":"#REF!"},{"$error":"#REF!"}]
[{"$f":"IF(Data!#REF!=\"\",\"\",Data!#REF!)","v":{"$error":"#REF!"}},{"$f":"IF(Data!#REF!=\"\",\"\",Data!#REF!)","v":{"$error":"#REF!"}},{"$f":"IF(Data!#REF!=\"\",\"\",Data!#REF!)","v":{"$error":"#REF!"}},{"$f":"IF(Data!#REF!=\"\",\"\",Data!#REF!)","v":{"$error":"#REF!"}},{"$f":"IF(Data!#REF!=\"\",\"\",Data!#REF!)","v":{"$error":"#REF!"}},{"$error":"#REF!"},{"$error":"#REF!"},{"$error":"#REF!"}]
[{"$f":"IF(Data!#REF!=\"\",\"\",Data!#REF!)","v":{"$error":"#REF!"}},{"$f":"IF(Data!#REF!=\"\",\"\",Data!#REF!)","v":{"$error":"#REF!"}},{"$f":"IF(Data!#REF!=\"\",\"\",Data!#REF!)","v":{"$error":"#REF!"}},{"$f":"IF(Data!#REF!=\"\",\"\",Data!#REF!)","v":{"$error":"#REF!"}},{"$f":"IF(Data!#REF!=\"\",\"\",Data!#REF!)","v":{"$error":"#REF!"}},{"$error":"#REF!"},{"$error":"#REF!"},{"$error":"#REF!"}]
[{"$f":"IF(Data!#REF!=\"\",\"\",Data!#REF!)","v":{"$error":"#REF!"}},{"$f":"IF(Data!#REF!=\"\",\"\",Data!#REF!)","v":{"$error":"#REF!"}},{"$f":"IF(Data!#REF!=\"\",\"\",Data!#REF!)","v":{"$error":"#REF!"}},{"$f":"IF(Data!#REF!=\"\",\"\",Data!#REF!)","v":{"$error":"#REF!"}},{"$f":"IF(Data!#REF!=\"\",\"\",Data!#REF!)","v":{"$error":"#REF!"}},{"$error":"#REF!"},{"$error":"#REF!"},{"$error":"#REF!"}]
[{"$f":"IF(Data!#REF!=\"\",\"\",Data!#REF!)","v":{"$error":"#REF!"}},{"$f":"IF(Data!#REF!=\"\",\"\",Data!#REF!)","v":{"$error":"#REF!"}},{"$f":"IF(Data!#REF!=\"\",\"\",Data!#REF!)","v":{"$error":"#REF!"}},{"$f":"IF(Data!#REF!=\"\",\"\",Data!#REF!)","v":{"$error":"#REF!"}},{"$f":"IF(Data!#REF!=\"\",\"\",Data!#REF!)","v":{"$error":"#REF!"}},{"$error":"#REF!"},{"$error":"#REF!"},{"$error":"#REF!"}]
[{"$f":"IF(Data!#REF!=\"\",\"\",Data!#REF!)","v":{"$error":"#REF!"}},{"$f":"IF(Data!#REF!=\"\",\"\",Data!#REF!)","v":{"$error":"#REF!"}},{"$f":"IF(Data!#REF!=\"\",\"\",Data!#REF!)","v":{"$error":"#REF!"}},{"$f":"IF(Data!#REF!=\"\",\"\",Data!#REF!)","v":{"$error":"#REF!"}},{"$f":"IF(Data!#REF!=\"\",\"\",Data!#REF!)","v":{"$error":"#REF!"}},{"$error":"#REF!"},{"$error":"#REF!"},{"$error":"#REF!"}]
[{"$f":"IF(Data!#REF!=\"\",\"\",Data!#REF!)","v":{"$error":"#REF!"}},{"$f":"IF(Data!#REF!=\"\",\"\",Data!#REF!)","v":{"$error":"#REF!"}},{"$f":"IF(Data!#REF!=\"\",\"\",Data!#REF!)","v":{"$error":"#REF!"}},{"$f":"IF(Data!#REF!=\"\",\"\",Data!#REF!)","v":{"$error":"#REF!"}},{"$f":"IF(Data!#REF!=\"\",\"\",Data!#REF!)","v":{"$error":"#REF!"}},{"$error":"#REF!"},{"$error":"#REF!"},{"$error":"#REF!"}]
[{"$f":"IF(Data!#REF!=\"\",\"\",Data!#REF!)","v":{"$error":"#REF!"}},{"$f":"IF(Data!#REF!=\"\",\"\",Data!#REF!)","v":{"$error":"#REF!"}},{"$f":"IF(Data!#REF!=\"\",\"\",Data!#REF!)","v":{"$error":"#REF!"}},{"$f":"IF(Data!#REF!=\"\",\"\",Data!#REF!)","v":{"$error":"#REF!"}},{"$f":"IF(Data!#REF!=\"\",\"\",Data!#REF!)","v":{"$error":"#REF!"}},{"$error":"#REF!"},{"$error":"#REF!"},{"$error":"#REF!"}]
[{"$f":"IF(Data!#REF!=\"\",\"\",Data!#REF!)","v":{"$error":"#REF!"}},{"$f":"IF(Data!#REF!=\"\",\"\",Data!#REF!)","v":{"$error":"#REF!"}},{"$f":"IF(Data!#REF!=\"\",\"\",Data!#REF!)","v":{"$error":"#REF!"}},{"$f":"IF(Data!#REF!=\"\",\"\",Data!#REF!)","v":{"$error":"#REF!"}},{"$f":"IF(Data!#REF!=\"\",\"\",Data!#REF!)","v":{"$error":"#REF!"}},{"$error":"#REF!"},{"$error":"#REF!"},{"$error":"#REF!"}]
[{"$f":"IF(Data!#REF!=\"\",\"\",Data!#REF!)","v":{"$error":"#REF!"}},{"$f":"IF(Data!#REF!=\"\",\"\",Data!#REF!)","v":{"$error":"#REF!"}},{"$f":"IF(Data!#REF!=\"\",\"\",Data!#REF!)","v":{"$error":"#REF!"}},{"$f":"IF(Data!#REF!=\"\",\"\",Data!#REF!)","v":{"$error":"#REF!"}},{"$f":"IF(Data!#REF!=\"\",\"\",Data!#REF!)","v":{"$error":"#REF!"}},{"$error":"#REF!"},{"$error":"#REF!"},{"$error":"#REF!"}]
[{"$f":"IF(Data!#REF!=\"\",\"\",Data!#REF!)","v":{"$error":"#REF!"}},{"$f":"IF(Data!#REF!=\"\",\"\",Data!#REF!)","v":{"$error":"#REF!"}},{"$f":"IF(Data!#REF!=\"\",\"\",Data!#REF!)","v":{"$error":"#REF!"}},{"$f":"IF(Data!#REF!=\"\",\"\",Data!#REF!)","v":{"$error":"#REF!"}},{"$f":"IF(Data!#REF!=\"\",\"\",Data!#REF!)","v":{"$error":"#REF!"}},{"$error":"#REF!"},{"$error":"#REF!"},{"$error":"#REF!"}]
[{"$f":"IF(Data!#REF!=\"\",\"\",Data!#REF!)","v":{"$error":"#REF!"}},{"$f":"IF(Data!#REF!=\"\",\"\",Data!#REF!)","v":{"$error":"#REF!"}},{"$f":"IF(Data!#REF!=\"\",\"\",Data!#REF!)","v":{"$error":"#REF!"}},{"$f":"IF(Data!#REF!=\"\",\"\",Data!#REF!)","v":{"$error":"#REF!"}},{"$f":"IF(Data!#REF!=\"\",\"\",Data!#REF!)","v":{"$error":"#REF!"}},{"$error":"#REF!"},{"$error":"#REF!"},{"$error":"#REF!"}]
[{"$f":"IF(Data!#REF!=\"\",\"\",Data!#REF!)","v":{"$error":"#REF!"}},{"$f":"IF(Data!#REF!=\"\",\"\",Data!#REF!)","v":{"$error":"#REF!"}},{"$f":"IF(Data!#REF!=\"\",\"\",Data!#REF!)","v":{"$error":"#REF!"}},{"$f":"IF(Data!#REF!=\"\",\"\",Data!#REF!)","v":{"$error":"#REF!"}},{"$f":"IF(Data!#REF!=\"\",\"\",Data!#REF!)","v":{"$error":"#REF!"}},{"$error":"#REF!"},{"$error":"#REF!"},{"$error":"#REF!"}]
[{"$f":"IF(Data!#REF!=\"\",\"\",Data!#REF!)","v":{"$error":"#REF!"}},{"$f":"IF(Data!#REF!=\"\",\"\",Data!#REF!)","v":{"$error":"#REF!"}},{"$f":"IF(Data!#REF!=\"\",\"\",Data!#REF!)","v":{"$error":"#REF!"}},{"$f":"IF(Data!#REF!=\"\",\"\",Data!#REF!)","v":{"$error":"#REF!"}},{"$f":"IF(Data!#REF!=\"\",\"\",Data!#REF!)","v":{"$error":"#REF!"}},{"$error":"#REF!"},{"$error":"#REF!"},{"$error":"#REF!"}]
[{"$f":"IF(Data!#REF!=\"\",\"\",Data!#REF!)","v":{"$error":"#REF!"}},{"$f":"IF(Data!#REF!=\"\",\"\",Data!#REF!)","v":{"$error":"#REF!"}},{"$f":"IF(Data!#REF!=\"\",\"\",Data!#REF!)","v":{"$error":"#REF!"}},{"$f":"IF(Data!#REF!=\"\",\"\",Data!#REF!)","v":{"$error":"#REF!"}},{"$f":"IF(Data!#REF!=\"\",\"\",Data!#REF!)","v":{"$error":"#REF!"}},{"$error":"#REF!"},{"$error":"#REF!"},{"$error":"#REF!"}]
[{"$f":"IF(Data!#REF!=\"\",\"\",Data!#REF!)","v":{"$error":"#REF!"}},{"$f":"IF(Data!#REF!=\"\",\"\",Data!#REF!)","v":{"$error":"#REF!"}},{"$f":"IF(Data!#REF!=\"\",\"\",Data!#REF!)","v":{"$error":"#REF!"}},{"$f":"IF(Data!#REF!=\"\",\"\",Data!#REF!)","v":{"$error":"#REF!"}},{"$f":"IF(Data!#REF!=\"\",\"\",Data!#REF!)","v":{"$error":"#REF!"}},{"$error":"#REF!"},{"$error":"#REF!"},{"$error":"#REF!"}]
[{"$f":"IF(Data!#REF!=\"\",\"\",Data!#REF!)","v":{"$error":"#REF!"}},{"$f":"IF(Data!#REF!=\"\",\"\",Data!#REF!)","v":{"$error":"#REF!"}},{"$f":"IF(Data!#REF!=\"\",\"\",Data!#REF!)","v":{"$error":"#REF!"}},{"$f":"IF(Data!#REF!=\"\",\"\",Data!#REF!)","v":{"$error":"#REF!"}},{"$f":"IF(Data!#REF!=\"\",\"\",Data!#REF!)","v":{"$error":"#REF!"}},{"$error":"#REF!"},{"$error":"#REF!"},{"$error":"#REF!"}]
[{"$f":"IF(Data!#REF!=\"\",\"\",Data!#REF!)","v":{"$error":"#REF!"}},{"$f":"IF(Data!#REF!=\"\",\"\",Data!#REF!)","v":{"$error":"#REF!"}},{"$f":"IF(Data!#REF!=\"\",\"\",Data!#REF!)","v":{"$error":"#REF!"}},{"$f":"IF(Data!#REF!=\"\",\"\",Data!#REF!)","v":{"$error":"#REF!"}},{"$f":"IF(Data!#REF!=\"\",\"\",Data!#REF!)","v":{"$error":"#REF!"}},{"$error":"#REF!"},{"$error":"#REF!"},{"$error":"#REF!"}]
[{"$f":"IF(Data!#REF!=\"\",\"\",Data!#REF!)","v":{"$error":"#REF!"}},{"$f":"IF(Data!#REF!=\"\",\"\",Data!#REF!)","v":{"$error":"#REF!"}},{"$f":"IF(Data!#REF!=\"\",\"\",Data!#REF!)","v":{"$error":"#REF!"}},{"$f":"IF(Data!#REF!=\"\",\"\",Data!#REF!)","v":{"$error":"#REF!"}},{"$f":"IF(Data!#REF!=\"\",\"\",Data!#REF!)","v":{"$error":"#REF!"}},{"$error":"#REF!"},{"$error":"#REF!"},{"$error":"#REF!"}]
[{"$f":"IF(Data!#REF!=\"\",\"\",Data!#REF!)","v":{"$error":"#REF!"}},{"$f":"IF(Data!#REF!=\"\",\"\",Data!#REF!)","v":{"$error":"#REF!"}},{"$f":"IF(Data!#REF!=\"\",\"\",Data!#REF!)","v":{"$error":"#REF!"}},{"$f":"IF(Data!#REF!=\"\",\"\",Data!#REF!)","v":{"$error":"#REF!"}},{"$f":"IF(Data!#REF!=\"\",\"\",Data!#REF!)","v":{"$error":"#REF!"}},{"$error":"#REF!"},{"$error":"#REF!"},{"$error":"#REF!"}]
[{"$f":"IF(Data!#REF!=\"\",\"\",Data!#REF!)","v":{"$error":"#REF!"}},{"$f":"IF(Data!#REF!=\"\",\"\",Data!#REF!)","v":{"$error":"#REF!"}},{"$f":"IF(Data!#REF!=\"\",\"\",Data!#REF!)","v":{"$error":"#REF!"}},{"$f":"IF(Data!#REF!=\"\",\"\",Data!#REF!)","v":{"$error":"#REF!"}},{"$f":"IF(Data!#REF!=\"\",\"\",Data!#REF!)","v":{"$error":"#REF!"}},{"$error":"#REF!"},{"$error":"#REF!"},{"$error":"#REF!"}]
[{"$f":"IF(Data!#REF!=\"\",\"\",Data!#REF!)","v":{"$error":"#REF!"}},{"$f":"IF(Data!#REF!=\"\",\"\",Data!#REF!)","v":{"$error":"#REF!"}},{"$f":"IF(Data!#REF!=\"\",\"\",Data!#REF!)","v":{"$error":"#REF!"}},{"$f":"IF(Data!#REF!=\"\",\"\",Data!#REF!)","v":{"$error":"#REF!"}},{"$f":"IF(Data!#REF!=\"\",\"\",Data!#REF!)","v":{"$error":"#REF!"}},{"$error":"#REF!"},{"$error":"#REF!"},{"$error":"#REF!"}]
[{"$f":"IF(Data!#REF!=\"\",\"\",Data!#REF!)","v":{"$error":"#REF!"}},{"$f":"IF(Data!#REF!=\"\",\"\",Data!#REF!)","v":{"$error":"#REF!"}},{"$f":"IF(Data!#REF!=\"\",\"\",Data!#REF!)","v":{"$error":"#REF!"}},{"$f":"IF(Data!#REF!=\"\",\"\",Data!#REF!)","v":{"$error":"#REF!"}},{"$f":"IF(Data!#REF!=\"\",\"\",Data!#REF!)","v":{"$error":"#REF!"}},{"$error":"#REF!"},{"$error":"#REF!"},{"$error":"#REF!"}]
[{"$f":"IF(Data!#REF!=\"\",\"\",Data!#REF!)","v":{"$error":"#REF!"}},{"$f":"IF(Data!#REF!=\"\",\"\",Data!#REF!)","v":{"$error":"#REF!"}},{"$f":"IF(Data!#REF!=\"\",\"\",Data!#REF!)","v":{"$error":"#REF!"}},{"$f":"IF(Data!#REF!=\"\",\"\",Data!#REF!)","v":{"$error":"#REF!"}},{"$f":"IF(Data!#REF!=\"\",\"\",Data!#REF!)","v":{"$error":"#REF!"}},{"$error":"#REF!"},{"$error":"#REF!"},{"$error":"#REF!"}]
[{"$f":"IF(Data!#REF!=\"\",\"\",Data!#REF!)","v":{"$error":"#REF!"}},{"$f":"IF(Data!#REF!=\"\",\"\",Data!#REF!)","v":{"$error":"#REF!"}},{"$f":"IF(Data!#REF!=\"\",\"\",Data!#REF!)","v":{"$error":"#REF!"}},{"$f":"IF(Data!#REF!=\"\",\"\",Data!#REF!)","v":{"$error":"#REF!"}},{"$f":"IF(Data!#REF!=\"\",\"\",Data!#REF!)","v":{"$error":"#REF!"}},{"$error":"#REF!"},{"$error":"#REF!"},{"$error":"#REF!"}]
[{"$f":"IF(Data!#REF!=\"\",\"\",Data!#REF!)","v":{"$error":"#REF!"}},{"$f":"IF(Data!#REF!=\"\",\"\",Data!#REF!)","v":{"$error":"#REF!"}},{"$f":"IF(Data!#REF!=\"\",\"\",Data!#REF!)","v":{"$error":"#REF!"}},{"$f":"IF(Data!#REF!=\"\",\"\",Data!#REF!)","v":{"$error":"#REF!"}},{"$f":"IF(Data!#REF!=\"\",\"\",Data!#REF!)","v":{"$error":"#REF!"}},{"$error":"#REF!"},{"$error":"#REF!"},{"$error":"#REF!"}]
[{"$f":"IF(Data!#REF!=\"\",\"\",Data!#REF!)","v":{"$error":"#REF!"}},{"$f":"IF(Data!#REF!=\"\",\"\",Data!#REF!)","v":{"$error":"#REF!"}},{"$f":"IF(Data!#REF!=\"\",\"\",Data!#REF!)","v":{"$error":"#REF!"}},{"$f":"IF(Data!#REF!=\"\",\"\",Data!#REF!)","v":{"$error":"#REF!"}},{"$f":"IF(Data!#REF!=\"\",\"\",Data!#REF!)","v":{"$error":"#REF!"}},{"$error":"#REF!"},{"$error":"#REF!"},{"$error":"#REF!"}]
[{"$f":"IF(Data!#REF!=\"\",\"\",Data!#REF!)","v":{"$error":"#REF!"}},{"$f":"IF(Data!#REF!=\"\",\"\",Data!#REF!)","v":{"$error":"#REF!"}},{"$f":"IF(Data!#REF!=\"\",\"\",Data!#REF!)","v":{"$error":"#REF!"}},{"$f":"IF(Data!#REF!=\"\",\"\",Data!#REF!)","v":{"$error":"#REF!"}},{"$f":"IF(Data!#REF!=\"\",\"\",Data!#REF!)","v":{"$error":"#REF!"}},{"$error":"#REF!"},{"$error":"#REF!"},{"$error":"#REF!"}]
[{"$f":"IF(Data!#REF!=\"\",\"\",Data!#REF!)","v":{"$error":"#REF!"}},{"$f":"IF(Data!#REF!=\"\",\"\",Data!#REF!)","v":{"$error":"#REF!"}},{"$f":"IF(Data!#REF!=\"\",\"\",Data!#REF!)","v":{"$error":"#REF!"}},{"$f":"IF(Data!#REF!=\"\",\"\",Data!#REF!)","v":{"$error":"#REF!"}},{"$f":"IF(Data!#REF!=\"\",\"\",Data!#REF!)","v":{"$error":"#REF!"}},{"$error":"#REF!"},{"$error":"#REF!"},{"$error":"#REF!"}]
[{"$f":"IF(Data!#REF!=\"\",\"\",Data!#REF!)","v":{"$error":"#REF!"}},{"$f":"IF(Data!#REF!=\"\",\"\",Data!#REF!)","v":{"$error":"#REF!"}},{"$f":"IF(Data!#REF!=\"\",\"\",Data!#REF!)","v":{"$error":"#REF!"}},{"$f":"IF(Data!#REF!=\"\",\"\",Data!#REF!)","v":{"$error":"#REF!"}},{"$f":"IF(Data!#REF!=\"\",\"\",Data!#REF!)","v":{"$error":"#REF!"}},{"$error":"#REF!"},{"$error":"#REF!"},{"$error":"#REF!"}]
[{"$f":"IF(Data!#REF!=\"\",\"\",Data!#REF!)","v":{"$error":"#REF!"}},{"$f":"IF(Data!#REF!=\"\",\"\",Data!#REF!)","v":{"$error":"#REF!"}},{"$f":"IF(Data!#REF!=\"\",\"\",Data!#REF!)","v":{"$error":"#REF!"}},{"$f":"IF(Data!#REF!=\"\",\"\",Data!#REF!)","v":{"$error":"#REF!"}},{"$f":"IF(Data!#REF!=\"\",\"\",Data!#REF!)","v":{"$error":"#REF!"}},{"$error":"#REF!"},{"$error":"#REF!"},{"$error":"#REF!"}]
[{"$f":"IF(Data!#REF!=\"\",\"\",Data!#REF!)","v":{"$error":"#REF!"}},{"$f":"IF(Data!#REF!=\"\",\"\",Data!#REF!)","v":{"$error":"#REF!"}},{"$f":"IF(Data!#REF!=\"\",\"\",Data!#REF!)","v":{"$error":"#REF!"}},{"$f":"IF(Data!#REF!=\"\",\"\",Data!#REF!)","v":{"$error":"#REF!"}},{"$f":"IF(Data!#REF!=\"\",\"\",Data!#REF!)","v":{"$error":"#REF!"}},{"$error":"#REF!"},{"$error":"#REF!"},{"$error":"#REF!"}]
[{"$f":"IF(Data!#REF!=\"\",\"\",Data!#REF!)","v":{"$error":"#REF!"}},{"$f":"IF(Data!#REF!=\"\",\"\",Data!#REF!)","v":{"$error":"#REF!"}},{"$f":"IF(Data!#REF!=\"\",\"\",Data!#REF!)","v":{"$error":"#REF!"}},{"$f":"IF(Data!#REF!=\"\",\"\",Data!#REF!)","v":{"$error":"#REF!"}},{"$f":"IF(Data!#REF!=\"\",\"\",Data!#REF!)","v":{"$error":"#REF!"}},{"$error":"#REF!"},{"$error":"#REF!"},{"$error":"#REF!"}]
[{"$f":"IF(Data!#REF!=\"\",\"\",Data!#REF!)","v":{"$error":"#REF!"}},{"$f":"IF(Data!#REF!=\"\",\"\",Data!#REF!)","v":{"$error":"#REF!"}},{"$f":"IF(Data!#REF!=\"\",\"\",Data!#REF!)","v":{"$error":"#REF!"}},{"$f":"IF(Data!#REF!=\"\",\"\",Data!#REF!)","v":{"$error":"#REF!"}},{"$f":"IF(Data!#REF!=\"\",\"\",Data!#REF!)","v":{"$error":"#REF!"}},{"$error":"#REF!"},{"$error":"#REF!"},{"$error":"#REF!"}]
[{"$f":"IF(Data!#REF!=\"\",\"\",Data!#REF!)","v":{"$error":"#REF!"}},{"$f":"IF(Data!#REF!=\"\",\"\",Data!#REF!)","v":{"$error":"#REF!"}},{"$f":"IF(Data!#REF!=\"\",\"\",Data!#REF!)","v":{"$error":"#REF!"}},{"$f":"IF(Data!#REF!=\"\",\"\",Data!#REF!)","v":{"$error":"#REF!"}},{"$f":"IF(Data!#REF!=\"\",\"\",Data!#REF!)","v":{"$error":"#REF!"}},{"$error":"#REF!"},{"$error":"#REF!"},{"$error":"#REF!"}]
[{"$f":"IF(Data!#REF!=\"\",\"\",Data!#REF!)","v":{"$error":"#REF!"}},{"$f":"IF(Data!#REF!=\"\",\"\",Data!#REF!)","v":{"$error":"#REF!"}},{"$f":"IF(Data!#REF!=\"\",\"\",Data!#REF!)","v":{"$error":"#REF!"}},{"$f":"IF(Data!#REF!=\"\",\"\",Data!#REF!)","v":{"$error":"#REF!"}},{"$f":"IF(Data!#REF!=\"\",\"\",Data!#REF!)","v":{"$error":"#REF!"}},{"$error":"#REF!"},{"$error":"#REF!"},{"$error":"#REF!"}]
[{"$f":"IF(Data!#REF!=\"\",\"\",Data!#REF!)","v":{"$error":"#REF!"}},{"$f":"IF(Data!#REF!=\"\",\"\",Data!#REF!)","v":{"$error":"#REF!"}},{"$f":"IF(Data!#REF!=\"\",\"\",Data!#REF!)","v":{"$error":"#REF!"}},{"$f":"IF(Data!#REF!=\"\",\"\",Data!#REF!)","v":{"$error":"#REF!"}},{"$f":"IF(Data!#REF!=\"\",\"\",Data!#REF!)","v":{"$error":"#REF!"}},{"$error":"#REF!"},{"$error":"#REF!"},{"$error":"#REF!"}]
[{"$f":"IF(Data!#REF!=\"\",\"\",Data!#REF!)","v":{"$error":"#REF!"}},{"$f":"IF(Data!#REF!=\"\",\"\",Data!#REF!)","v":{"$error":"#REF!"}},{"$f":"IF(Data!#REF!=\"\",\"\",Data!#REF!)","v":{"$error":"#REF!"}},{"$f":"IF(Data!#REF!=\"\",\"\",Data!#REF!)","v":{"$error":"#REF!"}},{"$f":"IF(Data!#REF!=\"\",\"\",Data!#REF!)","v":{"$error":"#REF!"}},{"$error":"#REF!"},{"$error":"#REF!"},{"$error":"#REF!"}]
[{"$f":"IF(Data!#REF!=\"\",\"\",Data!#REF!)","v":{"$error":"#REF!"}},{"$f":"IF(Data!#REF!=\"\",\"\",Data!#REF!)","v":{"$error":"#REF!"}},{"$f":"IF(Data!#REF!=\"\",\"\",Data!#REF!)","v":{"$error":"#REF!"}},{"$f":"IF(Data!#REF!=\"\",\"\",Data!#REF!)","v":{"$error":"#REF!"}},{"$f":"IF(Data!#REF!=\"\",\"\",Data!#REF!)","v":{"$error":"#REF!"}},{"$error":"#REF!"},{"$error":"#REF!"},{"$error":"#REF!"}]
[{"$f":"IF(Data!#REF!=\"\",\"\",Data!#REF!)","v":{"$error":"#REF!"}},{"$f":"IF(Data!#REF!=\"\",\"\",Data!#REF!)","v":{"$error":"#REF!"}},{"$f":"IF(Data!#REF!=\"\",\"\",Data!#REF!)","v":{"$error":"#REF!"}},{"$f":"IF(Data!#REF!=\"\",\"\",Data!#REF!)","v":{"$error":"#REF!"}},{"$f":"IF(Data!#REF!=\"\",\"\",Data!#REF!)","v":{"$error":"#REF!"}},{"$error":"#REF!"},{"$error":"#REF!"},{"$error":"#REF!"}]
[{"$f":"IF(Data!#REF!=\"\",\"\",Data!#REF!)","v":{"$error":"#REF!"}},{"$f":"IF(Data!#REF!=\"\",\"\",Data!#REF!)","v":{"$error":"#REF!"}},{"$f":"IF(Data!#REF!=\"\",\"\",Data!#REF!)","v":{"$error":"#REF!"}},{"$f":"IF(Data!#REF!=\"\",\"\",Data!#REF!)","v":{"$error":"#REF!"}},{"$f":"IF(Data!#REF!=\"\",\"\",Data!#REF!)","v":{"$error":"#REF!"}},{"$error":"#REF!"},{"$error":"#REF!"},{"$error":"#REF!"}]
[{"$f":"IF(Data!#REF!=\"\",\"\",Data!#REF!)","v":{"$error":"#REF!"}},{"$f":"IF(Data!#REF!=\"\",\"\",Data!#REF!)","v":{"$error":"#REF!"}},{"$f":"IF(Data!#REF!=\"\",\"\",Data!#REF!)","v":{"$error":"#REF!"}},{"$f":"IF(Data!#REF!=\"\",\"\",Data!#REF!)","v":{"$error":"#REF!"}},{"$f":"IF(Data!#REF!=\"\",\"\",Data!#REF!)","v":{"$error":"#REF!"}},{"$error":"#REF!"},{"$error":"#REF!"},{"$error":"#REF!"}]
[{"$f":"IF(Data!#REF!=\"\",\"\",Data!#REF!)","v":{"$error":"#REF!"}},{"$f":"IF(Data!#REF!=\"\",\"\",Data!#REF!)","v":{"$error":"#REF!"}},{"$f":"IF(Data!#REF!=\"\",\"\",Data!#REF!)","v":{"$error":"#REF!"}},{"$f":"IF(Data!#REF!=\"\",\"\",Data!#REF!)","v":{"$error":"#REF!"}},{"$f":"IF(Data!#REF!=\"\",\"\",Data!#REF!)","v":{"$error":"#REF!"}},{"$error":"#REF!"},{"$error":"#REF!"},{"$error":"#REF!"}]
[{"$f":"IF(Data!#REF!=\"\",\"\",Data!#REF!)","v":{"$error":"#REF!"}},{"$f":"IF(Data!#REF!=\"\",\"\",Data!#REF!)","v":{"$error":"#REF!"}},{"$f":"IF(Data!#REF!=\"\",\"\",Data!#REF!)","v":{"$error":"#REF!"}},{"$f":"IF(Data!#REF!=\"\",\"\",Data!#REF!)","v":{"$error":"#REF!"}},{"$f":"IF(Data!#REF!=\"\",\"\",Data!#REF!)","v":{"$error":"#REF!"}},{"$error":"#REF!"},{"$error":"#REF!"},{"$error":"#REF!"}]
[{"$f":"IF(Data!#REF!=\"\",\"\",Data!#REF!)","v":{"$error":"#REF!"}},{"$f":"IF(Data!#REF!=\"\",\"\",Data!#REF!)","v":{"$error":"#REF!"}},{"$f":"IF(Data!#REF!=\"\",\"\",Data!#REF!)","v":{"$error":"#REF!"}},{"$f":"IF(Data!#REF!=\"\",\"\",Data!#REF!)","v":{"$error":"#REF!"}},{"$f":"IF(Data!#REF!=\"\",\"\",Data!#REF!)","v":{"$error":"#REF!"}},{"$error":"#REF!"},{"$error":"#REF!"},{"$error":"#REF!"}]
[{"$f":"IF(Data!#REF!=\"\",\"\",Data!#REF!)","v":{"$error":"#REF!"}},{"$f":"IF(Data!#REF!=\"\",\"\",Data!#REF!)","v":{"$error":"#REF!"}},{"$f":"IF(Data!#REF!=\"\",\"\",Data!#REF!)","v":{"$error":"#REF!"}},{"$f":"IF(Data!#REF!=\"\",\"\",Data!#REF!)","v":{"$error":"#REF!"}},{"$f":"IF(Data!#REF!=\"\",\"\",Data!#REF!)","v":{"$error":"#REF!"}},{"$error":"#REF!"},{"$error":"#REF!"},{"$error":"#REF!"}]
[{"$f":"IF(Data!#REF!=\"\",\"\",Data!#REF!)","v":{"$error":"#REF!"}},{"$f":"IF(Data!#REF!=\"\",\"\",Data!#REF!)","v":{"$error":"#REF!"}},{"$f":"IF(Data!#REF!=\"\",\"\",Data!#REF!)","v":{"$error":"#REF!"}},{"$f":"IF(Data!#REF!=\"\",\"\",Data!#REF!)","v":{"$error":"#REF!"}},{"$f":"IF(Data!#REF!=\"\",\"\",Data!#REF!)","v":{"$error":"#REF!"}},{"$error":"#REF!"},{"$error":"#REF!"},{"$error":"#REF!"}]
[{"$f":"IF(Data!#REF!=\"\",\"\",Data!#REF!)","v":{"$error":"#REF!"}},{"$f":"IF(Data!#REF!=\"\",\"\",Data!#REF!)","v":{"$error":"#REF!"}},{"$f":"IF(Data!#REF!=\"\",\"\",Data!#REF!)","v":{"$error":"#REF!"}},{"$f":"IF(Data!#REF!=\"\",\"\",Data!#REF!)","v":{"$error":"#REF!"}},{"$f":"IF(Data!#REF!=\"\",\"\",Data!#REF!)","v":{"$error":"#REF!"}},{"$error":"#REF!"},{"$error":"#REF!"},{"$error":"#REF!"}]
[{"$f":"IF(Data!#REF!=\"\",\"\",Data!#REF!)","v":{"$error":"#REF!"}},{"$f":"IF(Data!#REF!=\"\",\"\",Data!#REF!)","v":{"$error":"#REF!"}},{"$f":"IF(Data!#REF!=\"\",\"\",Data!#REF!)","v":{"$error":"#REF!"}},{"$f":"IF(Data!#REF!=\"\",\"\",Data!#REF!)","v":{"$error":"#REF!"}},{"$f":"IF(Data!#REF!=\"\",\"\",Data!#REF!)","v":{"$error":"#REF!"}},{"$error":"#REF!"},{"$error":"#REF!"},{"$error":"#REF!"}]
[{"$f":"IF(Data!#REF!=\"\",\"\",Data!#REF!)","v":{"$error":"#REF!"}},{"$f":"IF(Data!#REF!=\"\",\"\",Data!#REF!)","v":{"$error":"#REF!"}},{"$f":"IF(Data!#REF!=\"\",\"\",Data!#REF!)","v":{"$error":"#REF!"}},{"$f":"IF(Data!#REF!=\"\",\"\",Data!#REF!)","v":{"$error":"#REF!"}},{"$f":"IF(Data!#REF!=\"\",\"\",Data!#REF!)","v":{"$error":"#REF!"}},{"$error":"#REF!"},{"$error":"#REF!"},{"$error":"#REF!"}]
[{"$f":"IF(Data!#REF!=\"\",\"\",Data!#REF!)","v":{"$error":"#REF!"}},{"$f":"IF(Data!#REF!=\"\",\"\",Data!#REF!)","v":{"$error":"#REF!"}},{"$f":"IF(Data!#REF!=\"\",\"\",Data!#REF!)","v":{"$error":"#REF!"}},{"$f":"IF(Data!#REF!=\"\",\"\",Data!#REF!)","v":{"$error":"#REF!"}},{"$f":"IF(Data!#REF!=\"\",\"\",Data!#REF!)","v":{"$error":"#REF!"}},{"$f":"IF(E2627>0,MONTH(E2627),\"\")","v":{"$error":"#REF!"}},{"$f":"IF(E2627>0,WEEKNUM(E2627),\"0\")","v":{"$error":"#REF!"}},{"$f":"IF(G2627>=($G$2-3),\"Ano\",\"Nie\")","v":{"$error":"#REF!"}}]
[{"$f":"IF(Data!#REF!=\"\",\"\",Data!#REF!)","v":{"$error":"#REF!"}},{"$f":"IF(Data!#REF!=\"\",\"\",Data!#REF!)","v":{"$error":"#REF!"}},{"$f":"IF(Data!#REF!=\"\",\"\",Data!#REF!)","v":{"$error":"#REF!"}},{"$f":"IF(Data!#REF!=\"\",\"\",Data!#REF!)","v":{"$error":"#REF!"}},{"$f":"IF(Data!#REF!=\"\",\"\",Data!#REF!)","v":{"$error":"#REF!"}},{"$error":"#REF!"},{"$error":"#REF!"},{"$error":"#REF!"}]
[{"$f":"IF(Data!#REF!=\"\",\"\",Data!#REF!)","v":{"$error":"#REF!"}},{"$f":"IF(Data!#REF!=\"\",\"\",Data!#REF!)","v":{"$error":"#REF!"}},{"$f":"IF(Data!#REF!=\"\",\"\",Data!#REF!)","v":{"$error":"#REF!"}},{"$f":"IF(Data!#REF!=\"\",\"\",Data!#REF!)","v":{"$error":"#REF!"}},{"$f":"IF(Data!#REF!=\"\",\"\",Data!#REF!)","v":{"$error":"#REF!"}},{"$error":"#REF!"},{"$error":"#REF!"},{"$error":"#REF!"}]
[{"$f":"IF(Data!#REF!=\"\",\"\",Data!#REF!)","v":{"$error":"#REF!"}},{"$f":"IF(Data!#REF!=\"\",\"\",Data!#REF!)","v":{"$error":"#REF!"}},{"$f":"IF(Data!#REF!=\"\",\"\",Data!#REF!)","v":{"$error":"#REF!"}},{"$f":"IF(Data!#REF!=\"\",\"\",Data!#REF!)","v":{"$error":"#REF!"}},{"$f":"IF(Data!#REF!=\"\",\"\",Data!#REF!)","v":{"$error":"#REF!"}},{"$error":"#REF!"},{"$error":"#REF!"},{"$error":"#REF!"}]
[{"$f":"IF(Data!#REF!=\"\",\"\",Data!#REF!)","v":{"$error":"#REF!"}},{"$f":"IF(Data!#REF!=\"\",\"\",Data!#REF!)","v":{"$error":"#REF!"}},{"$f":"IF(Data!#REF!=\"\",\"\",Data!#REF!)","v":{"$error":"#REF!"}},{"$f":"IF(Data!#REF!=\"\",\"\",Data!#REF!)","v":{"$error":"#REF!"}},{"$f":"IF(Data!#REF!=\"\",\"\",Data!#REF!)","v":{"$error":"#REF!"}},{"$error":"#REF!"},{"$error":"#REF!"},{"$error":"#REF!"}]
[{"$f":"IF(Data!#REF!=\"\",\"\",Data!#REF!)","v":{"$error":"#REF!"}},{"$f":"IF(Data!#REF!=\"\",\"\",Data!#REF!)","v":{"$error":"#REF!"}},{"$f":"IF(Data!#REF!=\"\",\"\",Data!#REF!)","v":{"$error":"#REF!"}},{"$f":"IF(Data!#REF!=\"\",\"\",Data!#REF!)","v":{"$error":"#REF!"}},{"$f":"IF(Data!#REF!=\"\",\"\",Data!#REF!)","v":{"$error":"#REF!"}},{"$error":"#REF!"},{"$error":"#REF!"},{"$error":"#REF!"}]
[{"$f":"IF(Data!#REF!=\"\",\"\",Data!#REF!)","v":{"$error":"#REF!"}},{"$f":"IF(Data!#REF!=\"\",\"\",Data!#REF!)","v":{"$error":"#REF!"}},{"$f":"IF(Data!#REF!=\"\",\"\",Data!#REF!)","v":{"$error":"#REF!"}},{"$f":"IF(Data!#REF!=\"\",\"\",Data!#REF!)","v":{"$error":"#REF!"}},{"$f":"IF(Data!#REF!=\"\",\"\",Data!#REF!)","v":{"$error":"#REF!"}},{"$error":"#REF!"},{"$error":"#REF!"},{"$error":"#REF!"}]
[{"$f":"IF(Data!#REF!=\"\",\"\",Data!#REF!)","v":{"$error":"#REF!"}},{"$f":"IF(Data!#REF!=\"\",\"\",Data!#REF!)","v":{"$error":"#REF!"}},{"$f":"IF(Data!#REF!=\"\",\"\",Data!#REF!)","v":{"$error":"#REF!"}},{"$f":"IF(Data!#REF!=\"\",\"\",Data!#REF!)","v":{"$error":"#REF!"}},{"$f":"IF(Data!#REF!=\"\",\"\",Data!#REF!)","v":{"$error":"#REF!"}},{"$error":"#REF!"},{"$error":"#REF!"},{"$error":"#REF!"}]
[{"$f":"IF(Data!#REF!=\"\",\"\",Data!#REF!)","v":{"$error":"#REF!"}},{"$f":"IF(Data!#REF!=\"\",\"\",Data!#REF!)","v":{"$error":"#REF!"}},{"$f":"IF(Data!#REF!=\"\",\"\",Data!#REF!)","v":{"$error":"#REF!"}},{"$f":"IF(Data!#REF!=\"\",\"\",Data!#REF!)","v":{"$error":"#REF!"}},{"$f":"IF(Data!#REF!=\"\",\"\",Data!#REF!)","v":{"$error":"#REF!"}},{"$error":"#REF!"},{"$error":"#REF!"},{"$error":"#REF!"}]
[{"$f":"IF(Data!#REF!=\"\",\"\",Data!#REF!)","v":{"$error":"#REF!"}},{"$f":"IF(Data!#REF!=\"\",\"\",Data!#REF!)","v":{"$error":"#REF!"}},{"$f":"IF(Data!#REF!=\"\",\"\",Data!#REF!)","v":{"$error":"#REF!"}},{"$f":"IF(Data!#REF!=\"\",\"\",Data!#REF!)","v":{"$error":"#REF!"}},{"$f":"IF(Data!#REF!=\"\",\"\",Data!#REF!)","v":{"$error":"#REF!"}},{"$error":"#REF!"},{"$error":"#REF!"},{"$error":"#REF!"}]
[{"$f":"IF(Data!#REF!=\"\",\"\",Data!#REF!)","v":{"$error":"#REF!"}},{"$f":"IF(Data!#REF!=\"\",\"\",Data!#REF!)","v":{"$error":"#REF!"}},{"$f":"IF(Data!#REF!=\"\",\"\",Data!#REF!)","v":{"$error":"#REF!"}},{"$f":"IF(Data!#REF!=\"\",\"\",Data!#REF!)","v":{"$error":"#REF!"}},{"$f":"IF(Data!#REF!=\"\",\"\",Data!#REF!)","v":{"$error":"#REF!"}},{"$error":"#REF!"},{"$error":"#REF!"},{"$error":"#REF!"}]
[{"$f":"IF(Data!#REF!=\"\",\"\",Data!#REF!)","v":{"$error":"#REF!"}},{"$f":"IF(Data!#REF!=\"\",\"\",Data!#REF!)","v":{"$error":"#REF!"}},{"$f":"IF(Data!#REF!=\"\",\"\",Data!#REF!)","v":{"$error":"#REF!"}},{"$f":"IF(Data!#REF!=\"\",\"\",Data!#REF!)","v":{"$error":"#REF!"}},{"$f":"IF(Data!#REF!=\"\",\"\",Data!#REF!)","v":{"$error":"#REF!"}},{"$error":"#REF!"},{"$error":"#REF!"},{"$error":"#REF!"}]
[{"$f":"IF(Data!#REF!=\"\",\"\",Data!#REF!)","v":{"$error":"#REF!"}},{"$f":"IF(Data!#REF!=\"\",\"\",Data!#REF!)","v":{"$error":"#REF!"}},{"$f":"IF(Data!#REF!=\"\",\"\",Data!#REF!)","v":{"$error":"#REF!"}},{"$f":"IF(Data!#REF!=\"\",\"\",Data!#REF!)","v":{"$error":"#REF!"}},{"$f":"IF(Data!#REF!=\"\",\"\",Data!#REF!)","v":{"$error":"#REF!"}},{"$error":"#REF!"},{"$error":"#REF!"},{"$error":"#REF!"}]
[{"$f":"IF(Data!#REF!=\"\",\"\",Data!#REF!)","v":{"$error":"#REF!"}},{"$f":"IF(Data!#REF!=\"\",\"\",Data!#REF!)","v":{"$error":"#REF!"}},{"$f":"IF(Data!#REF!=\"\",\"\",Data!#REF!)","v":{"$error":"#REF!"}},{"$f":"IF(Data!#REF!=\"\",\"\",Data!#REF!)","v":{"$error":"#REF!"}},{"$f":"IF(Data!#REF!=\"\",\"\",Data!#REF!)","v":{"$error":"#REF!"}},{"$error":"#REF!"},{"$error":"#REF!"},{"$error":"#REF!"}]
[{"$f":"IF(Data!#REF!=\"\",\"\",Data!#REF!)","v":{"$error":"#REF!"}},{"$f":"IF(Data!#REF!=\"\",\"\",Data!#REF!)","v":{"$error":"#REF!"}},{"$f":"IF(Data!#REF!=\"\",\"\",Data!#REF!)","v":{"$error":"#REF!"}},{"$f":"IF(Data!#REF!=\"\",\"\",Data!#REF!)","v":{"$error":"#REF!"}},{"$f":"IF(Data!#REF!=\"\",\"\",Data!#REF!)","v":{"$error":"#REF!"}},{"$error":"#REF!"},{"$error":"#REF!"},{"$error":"#REF!"}]
[{"$f":"IF(Data!#REF!=\"\",\"\",Data!#REF!)","v":{"$error":"#REF!"}},{"$f":"IF(Data!#REF!=\"\",\"\",Data!#REF!)","v":{"$error":"#REF!"}},{"$f":"IF(Data!#REF!=\"\",\"\",Data!#REF!)","v":{"$error":"#REF!"}},{"$f":"IF(Data!#REF!=\"\",\"\",Data!#REF!)","v":{"$error":"#REF!"}},{"$f":"IF(Data!#REF!=\"\",\"\",Data!#REF!)","v":{"$error":"#REF!"}},{"$error":"#REF!"},{"$error":"#REF!"},{"$error":"#REF!"}]
[{"$f":"IF(Data!#REF!=\"\",\"\",Data!#REF!)","v":{"$error":"#REF!"}},{"$f":"IF(Data!#REF!=\"\",\"\",Data!#REF!)","v":{"$error":"#REF!"}},{"$f":"IF(Data!#REF!=\"\",\"\",Data!#REF!)","v":{"$error":"#REF!"}},{"$f":"IF(Data!#REF!=\"\",\"\",Data!#REF!)","v":{"$error":"#REF!"}},{"$f":"IF(Data!#REF!=\"\",\"\",Data!#REF!)","v":{"$error":"#REF!"}},{"$error":"#REF!"},{"$error":"#REF!"},{"$error":"#REF!"}]
[{"$f":"IF(Data!#REF!=\"\",\"\",Data!#REF!)","v":{"$error":"#REF!"}},{"$f":"IF(Data!#REF!=\"\",\"\",Data!#REF!)","v":{"$error":"#REF!"}},{"$f":"IF(Data!#REF!=\"\",\"\",Data!#REF!)","v":{"$error":"#REF!"}},{"$f":"IF(Data!#REF!=\"\",\"\",Data!#REF!)","v":{"$error":"#REF!"}},{"$f":"IF(Data!#REF!=\"\",\"\",Data!#REF!)","v":{"$error":"#REF!"}},{"$error":"#REF!"},{"$error":"#REF!"},{"$error":"#REF!"}]
[{"$f":"IF(Data!#REF!=\"\",\"\",Data!#REF!)","v":{"$error":"#REF!"}},{"$f":"IF(Data!#REF!=\"\",\"\",Data!#REF!)","v":{"$error":"#REF!"}},{"$f":"IF(Data!#REF!=\"\",\"\",Data!#REF!)","v":{"$error":"#REF!"}},{"$f":"IF(Data!#REF!=\"\",\"\",Data!#REF!)","v":{"$error":"#REF!"}},{"$f":"IF(Data!#REF!=\"\",\"\",Data!#REF!)","v":{"$error":"#REF!"}},{"$error":"#REF!"},{"$error":"#REF!"},{"$error":"#REF!"}]
[{"$f":"IF(Data!#REF!=\"\",\"\",Data!#REF!)","v":{"$error":"#REF!"}},{"$f":"IF(Data!#REF!=\"\",\"\",Data!#REF!)","v":{"$error":"#REF!"}},{"$f":"IF(Data!#REF!=\"\",\"\",Data!#REF!)","v":{"$error":"#REF!"}},{"$f":"IF(Data!#REF!=\"\",\"\",Data!#REF!)","v":{"$error":"#REF!"}},{"$f":"IF(Data!#REF!=\"\",\"\",Data!#REF!)","v":{"$error":"#REF!"}},{"$error":"#REF!"},{"$error":"#REF!"},{"$error":"#REF!"}]
[{"$f":"IF(Data!#REF!=\"\",\"\",Data!#REF!)","v":{"$error":"#REF!"}},{"$f":"IF(Data!#REF!=\"\",\"\",Data!#REF!)","v":{"$error":"#REF!"}},{"$f":"IF(Data!#REF!=\"\",\"\",Data!#REF!)","v":{"$error":"#REF!"}},{"$f":"IF(Data!#REF!=\"\",\"\",Data!#REF!)","v":{"$error":"#REF!"}},{"$f":"IF(Data!#REF!=\"\",\"\",Data!#REF!)","v":{"$error":"#REF!"}},{"$error":"#REF!"},{"$error":"#REF!"},{"$error":"#REF!"}]
[{"$f":"IF(Data!#REF!=\"\",\"\",Data!#REF!)","v":{"$error":"#REF!"}},{"$f":"IF(Data!#REF!=\"\",\"\",Data!#REF!)","v":{"$error":"#REF!"}},{"$f":"IF(Data!#REF!=\"\",\"\",Data!#REF!)","v":{"$error":"#REF!"}},{"$f":"IF(Data!#REF!=\"\",\"\",Data!#REF!)","v":{"$error":"#REF!"}},{"$f":"IF(Data!#REF!=\"\",\"\",Data!#REF!)","v":{"$error":"#REF!"}},{"$error":"#REF!"},{"$error":"#REF!"},{"$error":"#REF!"}]
[{"$f":"IF(Data!#REF!=\"\",\"\",Data!#REF!)","v":{"$error":"#REF!"}},{"$f":"IF(Data!#REF!=\"\",\"\",Data!#REF!)","v":{"$error":"#REF!"}},{"$f":"IF(Data!#REF!=\"\",\"\",Data!#REF!)","v":{"$error":"#REF!"}},{"$f":"IF(Data!#REF!=\"\",\"\",Data!#REF!)","v":{"$error":"#REF!"}},{"$f":"IF(Data!#REF!=\"\",\"\",Data!#REF!)","v":{"$error":"#REF!"}},{"$error":"#REF!"},{"$error":"#REF!"},{"$error":"#REF!"}]
[{"$f":"IF(Data!#REF!=\"\",\"\",Data!#REF!)","v":{"$error":"#REF!"}},{"$f":"IF(Data!#REF!=\"\",\"\",Data!#REF!)","v":{"$error":"#REF!"}},{"$f":"IF(Data!#REF!=\"\",\"\",Data!#REF!)","v":{"$error":"#REF!"}},{"$f":"IF(Data!#REF!=\"\",\"\",Data!#REF!)","v":{"$error":"#REF!"}},{"$f":"IF(Data!#REF!=\"\",\"\",Data!#REF!)","v":{"$error":"#REF!"}},{"$error":"#REF!"},{"$error":"#REF!"},{"$error":"#REF!"}]
[{"$f":"IF(Data!#REF!=\"\",\"\",Data!#REF!)","v":{"$error":"#REF!"}},{"$f":"IF(Data!#REF!=\"\",\"\",Data!#REF!)","v":{"$error":"#REF!"}},{"$f":"IF(Data!#REF!=\"\",\"\",Data!#REF!)","v":{"$error":"#REF!"}},{"$f":"IF(Data!#REF!=\"\",\"\",Data!#REF!)","v":{"$error":"#REF!"}},{"$f":"IF(Data!#REF!=\"\",\"\",Data!#REF!)","v":{"$error":"#REF!"}},{"$error":"#REF!"},{"$error":"#REF!"},{"$error":"#REF!"}]
[{"$f":"IF(Data!#REF!=\"\",\"\",Data!#REF!)","v":{"$error":"#REF!"}},{"$f":"IF(Data!#REF!=\"\",\"\",Data!#REF!)","v":{"$error":"#REF!"}},{"$f":"IF(Data!#REF!=\"\",\"\",Data!#REF!)","v":{"$error":"#REF!"}},{"$f":"IF(Data!#REF!=\"\",\"\",Data!#REF!)","v":{"$error":"#REF!"}},{"$f":"IF(Data!#REF!=\"\",\"\",Data!#REF!)","v":{"$error":"#REF!"}},{"$error":"#REF!"},{"$error":"#REF!"},{"$error":"#REF!"}]
[{"$f":"IF(Data!#REF!=\"\",\"\",Data!#REF!)","v":{"$error":"#REF!"}},{"$f":"IF(Data!#REF!=\"\",\"\",Data!#REF!)","v":{"$error":"#REF!"}},{"$f":"IF(Data!#REF!=\"\",\"\",Data!#REF!)","v":{"$error":"#REF!"}},{"$f":"IF(Data!#REF!=\"\",\"\",Data!#REF!)","v":{"$error":"#REF!"}},{"$f":"IF(Data!#REF!=\"\",\"\",Data!#REF!)","v":{"$error":"#REF!"}},{"$error":"#REF!"},{"$error":"#REF!"},{"$error":"#REF!"}]
[{"$f":"IF(Data!#REF!=\"\",\"\",Data!#REF!)","v":{"$error":"#REF!"}},{"$f":"IF(Data!#REF!=\"\",\"\",Data!#REF!)","v":{"$error":"#REF!"}},{"$f":"IF(Data!#REF!=\"\",\"\",Data!#REF!)","v":{"$error":"#REF!"}},{"$f":"IF(Data!#REF!=\"\",\"\",Data!#REF!)","v":{"$error":"#REF!"}},{"$f":"IF(Data!#REF!=\"\",\"\",Data!#REF!)","v":{"$error":"#REF!"}},{"$error":"#REF!"},{"$error":"#REF!"},{"$error":"#REF!"}]
[{"$f":"IF(Data!#REF!=\"\",\"\",Data!#REF!)","v":{"$error":"#REF!"}},{"$f":"IF(Data!#REF!=\"\",\"\",Data!#REF!)","v":{"$error":"#REF!"}},{"$f":"IF(Data!#REF!=\"\",\"\",Data!#REF!)","v":{"$error":"#REF!"}},{"$f":"IF(Data!#REF!=\"\",\"\",Data!#REF!)","v":{"$error":"#REF!"}},{"$f":"IF(Data!#REF!=\"\",\"\",Data!#REF!)","v":{"$error":"#REF!"}},{"$error":"#REF!"},{"$error":"#REF!"},{"$error":"#REF!"}]
[{"$f":"IF(Data!#REF!=\"\",\"\",Data!#REF!)","v":{"$error":"#REF!"}},{"$f":"IF(Data!#REF!=\"\",\"\",Data!#REF!)","v":{"$error":"#REF!"}},{"$f":"IF(Data!#REF!=\"\",\"\",Data!#REF!)","v":{"$error":"#REF!"}},{"$f":"IF(Data!#REF!=\"\",\"\",Data!#REF!)","v":{"$error":"#REF!"}},{"$f":"IF(Data!#REF!=\"\",\"\",Data!#REF!)","v":{"$error":"#REF!"}},{"$error":"#REF!"},{"$error":"#REF!"},{"$error":"#REF!"}]
[{"$f":"IF(Data!#REF!=\"\",\"\",Data!#REF!)","v":{"$error":"#REF!"}},{"$f":"IF(Data!#REF!=\"\",\"\",Data!#REF!)","v":{"$error":"#REF!"}},{"$f":"IF(Data!#REF!=\"\",\"\",Data!#REF!)","v":{"$error":"#REF!"}},{"$f":"IF(Data!#REF!=\"\",\"\",Data!#REF!)","v":{"$error":"#REF!"}},{"$f":"IF(Data!#REF!=\"\",\"\",Data!#REF!)","v":{"$error":"#REF!"}},{"$error":"#REF!"},{"$error":"#REF!"},{"$error":"#REF!"}]
[{"$f":"IF(Data!#REF!=\"\",\"\",Data!#REF!)","v":{"$error":"#REF!"}},{"$f":"IF(Data!#REF!=\"\",\"\",Data!#REF!)","v":{"$error":"#REF!"}},{"$f":"IF(Data!#REF!=\"\",\"\",Data!#REF!)","v":{"$error":"#REF!"}},{"$f":"IF(Data!#REF!=\"\",\"\",Data!#REF!)","v":{"$error":"#REF!"}},{"$f":"IF(Data!#REF!=\"\",\"\",Data!#REF!)","v":{"$error":"#REF!"}},{"$error":"#REF!"},{"$error":"#REF!"},{"$error":"#REF!"}]
[{"$f":"IF(Data!#REF!=\"\",\"\",Data!#REF!)","v":{"$error":"#REF!"}},{"$f":"IF(Data!#REF!=\"\",\"\",Data!#REF!)","v":{"$error":"#REF!"}},{"$f":"IF(Data!#REF!=\"\",\"\",Data!#REF!)","v":{"$error":"#REF!"}},{"$f":"IF(Data!#REF!=\"\",\"\",Data!#REF!)","v":{"$error":"#REF!"}},{"$f":"IF(Data!#REF!=\"\",\"\",Data!#REF!)","v":{"$error":"#REF!"}},{"$error":"#REF!"},{"$error":"#REF!"},{"$error":"#REF!"}]
[{"$f":"IF(Data!#REF!=\"\",\"\",Data!#REF!)","v":{"$error":"#REF!"}},{"$f":"IF(Data!#REF!=\"\",\"\",Data!#REF!)","v":{"$error":"#REF!"}},{"$f":"IF(Data!#REF!=\"\",\"\",Data!#REF!)","v":{"$error":"#REF!"}},{"$f":"IF(Data!#REF!=\"\",\"\",Data!#REF!)","v":{"$error":"#REF!"}},{"$f":"IF(Data!#REF!=\"\",\"\",Data!#REF!)","v":{"$error":"#REF!"}},{"$error":"#REF!"},{"$error":"#REF!"},{"$error":"#REF!"}]
[{"$f":"IF(Data!#REF!=\"\",\"\",Data!#REF!)","v":{"$error":"#REF!"}},{"$f":"IF(Data!#REF!=\"\",\"\",Data!#REF!)","v":{"$error":"#REF!"}},{"$f":"IF(Data!#REF!=\"\",\"\",Data!#REF!)","v":{"$error":"#REF!"}},{"$f":"IF(Data!#REF!=\"\",\"\",Data!#REF!)","v":{"$error":"#REF!"}},{"$f":"IF(Data!#REF!=\"\",\"\",Data!#REF!)","v":{"$error":"#REF!"}},{"$error":"#REF!"},{"$error":"#REF!"},{"$error":"#REF!"}]
[{"$f":"IF(Data!#REF!=\"\",\"\",Data!#REF!)","v":{"$error":"#REF!"}},{"$f":"IF(Data!#REF!=\"\",\"\",Data!#REF!)","v":{"$error":"#REF!"}},{"$f":"IF(Data!#REF!=\"\",\"\",Data!#REF!)","v":{"$error":"#REF!"}},{"$f":"IF(Data!#REF!=\"\",\"\",Data!#REF!)","v":{"$error":"#REF!"}},{"$f":"IF(Data!#REF!=\"\",\"\",Data!#REF!)","v":{"$error":"#REF!"}},{"$error":"#REF!"},{"$error":"#REF!"},{"$error":"#REF!"}]
[{"$f":"IF(Data!#REF!=\"\",\"\",Data!#REF!)","v":{"$error":"#REF!"}},{"$f":"IF(Data!#REF!=\"\",\"\",Data!#REF!)","v":{"$error":"#REF!"}},{"$f":"IF(Data!#REF!=\"\",\"\",Data!#REF!)","v":{"$error":"#REF!"}},{"$f":"IF(Data!#REF!=\"\",\"\",Data!#REF!)","v":{"$error":"#REF!"}},{"$f":"IF(Data!#REF!=\"\",\"\",Data!#REF!)","v":{"$error":"#REF!"}},{"$error":"#REF!"},{"$error":"#REF!"},{"$error":"#REF!"}]
[{"$f":"IF(Data!#REF!=\"\",\"\",Data!#REF!)","v":{"$error":"#REF!"}},{"$f":"IF(Data!#REF!=\"\",\"\",Data!#REF!)","v":{"$error":"#REF!"}},{"$f":"IF(Data!#REF!=\"\",\"\",Data!#REF!)","v":{"$error":"#REF!"}},{"$f":"IF(Data!#REF!=\"\",\"\",Data!#REF!)","v":{"$error":"#REF!"}},{"$f":"IF(Data!#REF!=\"\",\"\",Data!#REF!)","v":{"$error":"#REF!"}},{"$error":"#REF!"},{"$error":"#REF!"},{"$error":"#REF!"}]
[{"$f":"IF(Data!#REF!=\"\",\"\",Data!#REF!)","v":{"$error":"#REF!"}},{"$f":"IF(Data!#REF!=\"\",\"\",Data!#REF!)","v":{"$error":"#REF!"}},{"$f":"IF(Data!#REF!=\"\",\"\",Data!#REF!)","v":{"$error":"#REF!"}},{"$f":"IF(Data!#REF!=\"\",\"\",Data!#REF!)","v":{"$error":"#REF!"}},{"$f":"IF(Data!#REF!=\"\",\"\",Data!#REF!)","v":{"$error":"#REF!"}},{"$error":"#REF!"},{"$error":"#REF!"},{"$error":"#REF!"}]
[{"$f":"IF(Data!#REF!=\"\",\"\",Data!#REF!)","v":{"$error":"#REF!"}},{"$f":"IF(Data!#REF!=\"\",\"\",Data!#REF!)","v":{"$error":"#REF!"}},{"$f":"IF(Data!#REF!=\"\",\"\",Data!#REF!)","v":{"$error":"#REF!"}},{"$f":"IF(Data!#REF!=\"\",\"\",Data!#REF!)","v":{"$error":"#REF!"}},{"$f":"IF(Data!#REF!=\"\",\"\",Data!#REF!)","v":{"$error":"#REF!"}},{"$error":"#REF!"},{"$error":"#REF!"},{"$error":"#REF!"}]
[{"$f":"IF(Data!#REF!=\"\",\"\",Data!#REF!)","v":{"$error":"#REF!"}},{"$f":"IF(Data!#REF!=\"\",\"\",Data!#REF!)","v":{"$error":"#REF!"}},{"$f":"IF(Data!#REF!=\"\",\"\",Data!#REF!)","v":{"$error":"#REF!"}},{"$f":"IF(Data!#REF!=\"\",\"\",Data!#REF!)","v":{"$error":"#REF!"}},{"$f":"IF(Data!#REF!=\"\",\"\",Data!#REF!)","v":{"$error":"#REF!"}},{"$error":"#REF!"},{"$error":"#REF!"},{"$error":"#REF!"}]
[{"$f":"IF(Data!#REF!=\"\",\"\",Data!#REF!)","v":{"$error":"#REF!"}},{"$f":"IF(Data!#REF!=\"\",\"\",Data!#REF!)","v":{"$error":"#REF!"}},{"$f":"IF(Data!#REF!=\"\",\"\",Data!#REF!)","v":{"$error":"#REF!"}},{"$f":"IF(Data!#REF!=\"\",\"\",Data!#REF!)","v":{"$error":"#REF!"}},{"$f":"IF(Data!#REF!=\"\",\"\",Data!#REF!)","v":{"$error":"#REF!"}},{"$error":"#REF!"},{"$error":"#REF!"},{"$error":"#REF!"}]
[{"$f":"IF(Data!#REF!=\"\",\"\",Data!#REF!)","v":{"$error":"#REF!"}},{"$f":"IF(Data!#REF!=\"\",\"\",Data!#REF!)","v":{"$error":"#REF!"}},{"$f":"IF(Data!#REF!=\"\",\"\",Data!#REF!)","v":{"$error":"#REF!"}},{"$f":"IF(Data!#REF!=\"\",\"\",Data!#REF!)","v":{"$error":"#REF!"}},{"$f":"IF(Data!#REF!=\"\",\"\",Data!#REF!)","v":{"$error":"#REF!"}},{"$error":"#REF!"},{"$error":"#REF!"},{"$error":"#REF!"}]
[{"$f":"IF(Data!#REF!=\"\",\"\",Data!#REF!)","v":{"$error":"#REF!"}},{"$f":"IF(Data!#REF!=\"\",\"\",Data!#REF!)","v":{"$error":"#REF!"}},{"$f":"IF(Data!#REF!=\"\",\"\",Data!#REF!)","v":{"$error":"#REF!"}},{"$f":"IF(Data!#REF!=\"\",\"\",Data!#REF!)","v":{"$error":"#REF!"}},{"$f":"IF(Data!#REF!=\"\",\"\",Data!#REF!)","v":{"$error":"#REF!"}},{"$error":"#REF!"},{"$error":"#REF!"},{"$error":"#REF!"}]
[{"$f":"IF(Data!#REF!=\"\",\"\",Data!#REF!)","v":{"$error":"#REF!"}},{"$f":"IF(Data!#REF!=\"\",\"\",Data!#REF!)","v":{"$error":"#REF!"}},{"$f":"IF(Data!#REF!=\"\",\"\",Data!#REF!)","v":{"$error":"#REF!"}},{"$f":"IF(Data!#REF!=\"\",\"\",Data!#REF!)","v":{"$error":"#REF!"}},{"$f":"IF(Data!#REF!=\"\",\"\",Data!#REF!)","v":{"$error":"#REF!"}},{"$error":"#REF!"},{"$error":"#REF!"},{"$error":"#REF!"}]
[{"$f":"IF(Data!#REF!=\"\",\"\",Data!#REF!)","v":{"$error":"#REF!"}},{"$f":"IF(Data!#REF!=\"\",\"\",Data!#REF!)","v":{"$error":"#REF!"}},{"$f":"IF(Data!#REF!=\"\",\"\",Data!#REF!)","v":{"$error":"#REF!"}},{"$f":"IF(Data!#REF!=\"\",\"\",Data!#REF!)","v":{"$error":"#REF!"}},{"$f":"IF(Data!#REF!=\"\",\"\",Data!#REF!)","v":{"$error":"#REF!"}},{"$error":"#REF!"},{"$error":"#REF!"},{"$error":"#REF!"}]
[{"$f":"IF(Data!#REF!=\"\",\"\",Data!#REF!)","v":{"$error":"#REF!"}},{"$f":"IF(Data!#REF!=\"\",\"\",Data!#REF!)","v":{"$error":"#REF!"}},{"$f":"IF(Data!#REF!=\"\",\"\",Data!#REF!)","v":{"$error":"#REF!"}},{"$f":"IF(Data!#REF!=\"\",\"\",Data!#REF!)","v":{"$error":"#REF!"}},{"$f":"IF(Data!#REF!=\"\",\"\",Data!#REF!)","v":{"$error":"#REF!"}},{"$error":"#REF!"},{"$error":"#REF!"},{"$error":"#REF!"}]
[{"$f":"IF(Data!#REF!=\"\",\"\",Data!#REF!)","v":{"$error":"#REF!"}},{"$f":"IF(Data!#REF!=\"\",\"\",Data!#REF!)","v":{"$error":"#REF!"}},{"$f":"IF(Data!#REF!=\"\",\"\",Data!#REF!)","v":{"$error":"#REF!"}},{"$f":"IF(Data!#REF!=\"\",\"\",Data!#REF!)","v":{"$error":"#REF!"}},{"$f":"IF(Data!#REF!=\"\",\"\",Data!#REF!)","v":{"$error":"#REF!"}},{"$error":"#REF!"},{"$error":"#REF!"},{"$error":"#REF!"}]
[{"$f":"IF(Data!#REF!=\"\",\"\",Data!#REF!)","v":{"$error":"#REF!"}},{"$f":"IF(Data!#REF!=\"\",\"\",Data!#REF!)","v":{"$error":"#REF!"}},{"$f":"IF(Data!#REF!=\"\",\"\",Data!#REF!)","v":{"$error":"#REF!"}},{"$f":"IF(Data!#REF!=\"\",\"\",Data!#REF!)","v":{"$error":"#REF!"}},{"$f":"IF(Data!#REF!=\"\",\"\",Data!#REF!)","v":{"$error":"#REF!"}},{"$error":"#REF!"},{"$error":"#REF!"},{"$error":"#REF!"}]
[{"$f":"IF(Data!#REF!=\"\",\"\",Data!#REF!)","v":{"$error":"#REF!"}},{"$f":"IF(Data!#REF!=\"\",\"\",Data!#REF!)","v":{"$error":"#REF!"}},{"$f":"IF(Data!#REF!=\"\",\"\",Data!#REF!)","v":{"$error":"#REF!"}},{"$f":"IF(Data!#REF!=\"\",\"\",Data!#REF!)","v":{"$error":"#REF!"}},{"$f":"IF(Data!#REF!=\"\",\"\",Data!#REF!)","v":{"$error":"#REF!"}},{"$error":"#REF!"},{"$error":"#REF!"},{"$error":"#REF!"}]
[{"$f":"IF(Data!#REF!=\"\",\"\",Data!#REF!)","v":{"$error":"#REF!"}},{"$f":"IF(Data!#REF!=\"\",\"\",Data!#REF!)","v":{"$error":"#REF!"}},{"$f":"IF(Data!#REF!=\"\",\"\",Data!#REF!)","v":{"$error":"#REF!"}},{"$f":"IF(Data!#REF!=\"\",\"\",Data!#REF!)","v":{"$error":"#REF!"}},{"$f":"IF(Data!#REF!=\"\",\"\",Data!#REF!)","v":{"$error":"#REF!"}},{"$error":"#REF!"},{"$error":"#REF!"},{"$error":"#REF!"}]
[{"$f":"IF(Data!#REF!=\"\",\"\",Data!#REF!)","v":{"$error":"#REF!"}},{"$f":"IF(Data!#REF!=\"\",\"\",Data!#REF!)","v":{"$error":"#REF!"}},{"$f":"IF(Data!#REF!=\"\",\"\",Data!#REF!)","v":{"$error":"#REF!"}},{"$f":"IF(Data!#REF!=\"\",\"\",Data!#REF!)","v":{"$error":"#REF!"}},{"$f":"IF(Data!#REF!=\"\",\"\",Data!#REF!)","v":{"$error":"#REF!"}},{"$error":"#REF!"},{"$error":"#REF!"},{"$error":"#REF!"}]
[{"$f":"IF(Data!#REF!=\"\",\"\",Data!#REF!)","v":{"$error":"#REF!"}},{"$f":"IF(Data!#REF!=\"\",\"\",Data!#REF!)","v":{"$error":"#REF!"}},{"$f":"IF(Data!#REF!=\"\",\"\",Data!#REF!)","v":{"$error":"#REF!"}},{"$f":"IF(Data!#REF!=\"\",\"\",Data!#REF!)","v":{"$error":"#REF!"}},{"$f":"IF(Data!#REF!=\"\",\"\",Data!#REF!)","v":{"$error":"#REF!"}},{"$error":"#REF!"},{"$error":"#REF!"},{"$error":"#REF!"}]
[{"$f":"IF(Data!#REF!=\"\",\"\",Data!#REF!)","v":{"$error":"#REF!"}},{"$f":"IF(Data!#REF!=\"\",\"\",Data!#REF!)","v":{"$error":"#REF!"}},{"$f":"IF(Data!#REF!=\"\",\"\",Data!#REF!)","v":{"$error":"#REF!"}},{"$f":"IF(Data!#REF!=\"\",\"\",Data!#REF!)","v":{"$error":"#REF!"}},{"$f":"IF(Data!#REF!=\"\",\"\",Data!#REF!)","v":{"$error":"#REF!"}},{"$error":"#REF!"},{"$error":"#REF!"},{"$error":"#REF!"}]
[{"$f":"IF(Data!#REF!=\"\",\"\",Data!#REF!)","v":{"$error":"#REF!"}},{"$f":"IF(Data!#REF!=\"\",\"\",Data!#REF!)","v":{"$error":"#REF!"}},{"$f":"IF(Data!#REF!=\"\",\"\",Data!#REF!)","v":{"$error":"#REF!"}},{"$f":"IF(Data!#REF!=\"\",\"\",Data!#REF!)","v":{"$error":"#REF!"}},{"$f":"IF(Data!#REF!=\"\",\"\",Data!#REF!)","v":{"$error":"#REF!"}},{"$error":"#REF!"},{"$error":"#REF!"},{"$error":"#REF!"}]
[{"$f":"IF(Data!#REF!=\"\",\"\",Data!#REF!)","v":{"$error":"#REF!"}},{"$f":"IF(Data!#REF!=\"\",\"\",Data!#REF!)","v":{"$error":"#REF!"}},{"$f":"IF(Data!#REF!=\"\",\"\",Data!#REF!)","v":{"$error":"#REF!"}},{"$f":"IF(Data!#REF!=\"\",\"\",Data!#REF!)","v":{"$error":"#REF!"}},{"$f":"IF(Data!#REF!=\"\",\"\",Data!#REF!)","v":{"$error":"#REF!"}},{"$error":"#REF!"},{"$error":"#REF!"},{"$error":"#REF!"}]
[{"$f":"IF(Data!#REF!=\"\",\"\",Data!#REF!)","v":{"$error":"#REF!"}},{"$f":"IF(Data!#REF!=\"\",\"\",Data!#REF!)","v":{"$error":"#REF!"}},{"$f":"IF(Data!#REF!=\"\",\"\",Data!#REF!)","v":{"$error":"#REF!"}},{"$f":"IF(Data!#REF!=\"\",\"\",Data!#REF!)","v":{"$error":"#REF!"}},{"$f":"IF(Data!#REF!=\"\",\"\",Data!#REF!)","v":{"$error":"#REF!"}},{"$error":"#REF!"},{"$error":"#REF!"},{"$error":"#REF!"}]
[{"$f":"IF(Data!#REF!=\"\",\"\",Data!#REF!)","v":{"$error":"#REF!"}},{"$f":"IF(Data!#REF!=\"\",\"\",Data!#REF!)","v":{"$error":"#REF!"}},{"$f":"IF(Data!#REF!=\"\",\"\",Data!#REF!)","v":{"$error":"#REF!"}},{"$f":"IF(Data!#REF!=\"\",\"\",Data!#REF!)","v":{"$error":"#REF!"}},{"$f":"IF(Data!#REF!=\"\",\"\",Data!#REF!)","v":{"$error":"#REF!"}},{"$error":"#REF!"},{"$error":"#REF!"},{"$error":"#REF!"}]
[{"$f":"IF(Data!#REF!=\"\",\"\",Data!#REF!)","v":{"$error":"#REF!"}},{"$f":"IF(Data!#REF!=\"\",\"\",Data!#REF!)","v":{"$error":"#REF!"}},{"$f":"IF(Data!#REF!=\"\",\"\",Data!#REF!)","v":{"$error":"#REF!"}},{"$f":"IF(Data!#REF!=\"\",\"\",Data!#REF!)","v":{"$error":"#REF!"}},{"$f":"IF(Data!#REF!=\"\",\"\",Data!#REF!)","v":{"$error":"#REF!"}},{"$error":"#REF!"},{"$error":"#REF!"},{"$error":"#REF!"}]
[{"$f":"IF(Data!#REF!=\"\",\"\",Data!#REF!)","v":{"$error":"#REF!"}},{"$f":"IF(Data!#REF!=\"\",\"\",Data!#REF!)","v":{"$error":"#REF!"}},{"$f":"IF(Data!#REF!=\"\",\"\",Data!#REF!)","v":{"$error":"#REF!"}},{"$f":"IF(Data!#REF!=\"\",\"\",Data!#REF!)","v":{"$error":"#REF!"}},{"$f":"IF(Data!#REF!=\"\",\"\",Data!#REF!)","v":{"$error":"#REF!"}},{"$error":"#REF!"},{"$error":"#REF!"},{"$error":"#REF!"}]
[{"$f":"IF(Data!#REF!=\"\",\"\",Data!#REF!)","v":{"$error":"#REF!"}},{"$f":"IF(Data!#REF!=\"\",\"\",Data!#REF!)","v":{"$error":"#REF!"}},{"$f":"IF(Data!#REF!=\"\",\"\",Data!#REF!)","v":{"$error":"#REF!"}},{"$f":"IF(Data!#REF!=\"\",\"\",Data!#REF!)","v":{"$error":"#REF!"}},{"$f":"IF(Data!#REF!=\"\",\"\",Data!#REF!)","v":{"$error":"#REF!"}},{"$error":"#REF!"},{"$error":"#REF!"},{"$error":"#REF!"}]
[{"$f":"IF(Data!#REF!=\"\",\"\",Data!#REF!)","v":{"$error":"#REF!"}},{"$f":"IF(Data!#REF!=\"\",\"\",Data!#REF!)","v":{"$error":"#REF!"}},{"$f":"IF(Data!#REF!=\"\",\"\",Data!#REF!)","v":{"$error":"#REF!"}},{"$f":"IF(Data!#REF!=\"\",\"\",Data!#REF!)","v":{"$error":"#REF!"}},{"$f":"IF(Data!#REF!=\"\",\"\",Data!#REF!)","v":{"$error":"#REF!"}},{"$error":"#REF!"},{"$error":"#REF!"},{"$error":"#REF!"}]
[{"$f":"IF(Data!#REF!=\"\",\"\",Data!#REF!)","v":{"$error":"#REF!"}},{"$f":"IF(Data!#REF!=\"\",\"\",Data!#REF!)","v":{"$error":"#REF!"}},{"$f":"IF(Data!#REF!=\"\",\"\",Data!#REF!)","v":{"$error":"#REF!"}},{"$f":"IF(Data!#REF!=\"\",\"\",Data!#REF!)","v":{"$error":"#REF!"}},{"$f":"IF(Data!#REF!=\"\",\"\",Data!#REF!)","v":{"$error":"#REF!"}},{"$error":"#REF!"},{"$error":"#REF!"},{"$error":"#REF!"}]
[{"$f":"IF(Data!#REF!=\"\",\"\",Data!#REF!)","v":{"$error":"#REF!"}},{"$f":"IF(Data!#REF!=\"\",\"\",Data!#REF!)","v":{"$error":"#REF!"}},{"$f":"IF(Data!#REF!=\"\",\"\",Data!#REF!)","v":{"$error":"#REF!"}},{"$f":"IF(Data!#REF!=\"\",\"\",Data!#REF!)","v":{"$error":"#REF!"}},{"$f":"IF(Data!#REF!=\"\",\"\",Data!#REF!)","v":{"$error":"#REF!"}},{"$error":"#REF!"},{"$error":"#REF!"},{"$error":"#REF!"}]
[{"$f":"IF(Data!#REF!=\"\",\"\",Data!#REF!)","v":{"$error":"#REF!"}},{"$f":"IF(Data!#REF!=\"\",\"\",Data!#REF!)","v":{"$error":"#REF!"}},{"$f":"IF(Data!#REF!=\"\",\"\",Data!#REF!)","v":{"$error":"#REF!"}},{"$f":"IF(Data!#REF!=\"\",\"\",Data!#REF!)","v":{"$error":"#REF!"}},{"$f":"IF(Data!#REF!=\"\",\"\",Data!#REF!)","v":{"$error":"#REF!"}},{"$f":"IF(E2691>0,MONTH(E2691),\"\")","v":{"$error":"#REF!"}},{"$f":"IF(E2691>0,WEEKNUM(E2691),\"0\")","v":{"$error":"#REF!"}},{"$f":"IF(G2691>=($G$2-3),\"Ano\",\"Nie\")","v":{"$error":"#REF!"}}]
[{"$f":"IF(Data!#REF!=\"\",\"\",Data!#REF!)","v":{"$error":"#REF!"}},{"$f":"IF(Data!#REF!=\"\",\"\",Data!#REF!)","v":{"$error":"#REF!"}},{"$f":"IF(Data!#REF!=\"\",\"\",Data!#REF!)","v":{"$error":"#REF!"}},{"$f":"IF(Data!#REF!=\"\",\"\",Data!#REF!)","v":{"$error":"#REF!"}},{"$f":"IF(Data!#REF!=\"\",\"\",Data!#REF!)","v":{"$error":"#REF!"}},{"$error":"#REF!"},{"$error":"#REF!"},{"$error":"#REF!"}]
[{"$f":"IF(Data!#REF!=\"\",\"\",Data!#REF!)","v":{"$error":"#REF!"}},{"$f":"IF(Data!#REF!=\"\",\"\",Data!#REF!)","v":{"$error":"#REF!"}},{"$f":"IF(Data!#REF!=\"\",\"\",Data!#REF!)","v":{"$error":"#REF!"}},{"$f":"IF(Data!#REF!=\"\",\"\",Data!#REF!)","v":{"$error":"#REF!"}},{"$f":"IF(Data!#REF!=\"\",\"\",Data!#REF!)","v":{"$error":"#REF!"}},{"$error":"#REF!"},{"$error":"#REF!"},{"$error":"#REF!"}]
[{"$f":"IF(Data!#REF!=\"\",\"\",Data!#REF!)","v":{"$error":"#REF!"}},{"$f":"IF(Data!#REF!=\"\",\"\",Data!#REF!)","v":{"$error":"#REF!"}},{"$f":"IF(Data!#REF!=\"\",\"\",Data!#REF!)","v":{"$error":"#REF!"}},{"$f":"IF(Data!#REF!=\"\",\"\",Data!#REF!)","v":{"$error":"#REF!"}},{"$f":"IF(Data!#REF!=\"\",\"\",Data!#REF!)","v":{"$error":"#REF!"}},{"$error":"#REF!"},{"$error":"#REF!"},{"$error":"#REF!"}]
[{"$f":"IF(Data!#REF!=\"\",\"\",Data!#REF!)","v":{"$error":"#REF!"}},{"$f":"IF(Data!#REF!=\"\",\"\",Data!#REF!)","v":{"$error":"#REF!"}},{"$f":"IF(Data!#REF!=\"\",\"\",Data!#REF!)","v":{"$error":"#REF!"}},{"$f":"IF(Data!#REF!=\"\",\"\",Data!#REF!)","v":{"$error":"#REF!"}},{"$f":"IF(Data!#REF!=\"\",\"\",Data!#REF!)","v":{"$error":"#REF!"}},{"$error":"#REF!"},{"$error":"#REF!"},{"$error":"#REF!"}]
[{"$f":"IF(Data!#REF!=\"\",\"\",Data!#REF!)","v":{"$error":"#REF!"}},{"$f":"IF(Data!#REF!=\"\",\"\",Data!#REF!)","v":{"$error":"#REF!"}},{"$f":"IF(Data!#REF!=\"\",\"\",Data!#REF!)","v":{"$error":"#REF!"}},{"$f":"IF(Data!#REF!=\"\",\"\",Data!#REF!)","v":{"$error":"#REF!"}},{"$f":"IF(Data!#REF!=\"\",\"\",Data!#REF!)","v":{"$error":"#REF!"}},{"$error":"#REF!"},{"$error":"#REF!"},{"$error":"#REF!"}]
[{"$f":"IF(Data!#REF!=\"\",\"\",Data!#REF!)","v":{"$error":"#REF!"}},{"$f":"IF(Data!#REF!=\"\",\"\",Data!#REF!)","v":{"$error":"#REF!"}},{"$f":"IF(Data!#REF!=\"\",\"\",Data!#REF!)","v":{"$error":"#REF!"}},{"$f":"IF(Data!#REF!=\"\",\"\",Data!#REF!)","v":{"$error":"#REF!"}},{"$f":"IF(Data!#REF!=\"\",\"\",Data!#REF!)","v":{"$error":"#REF!"}},{"$error":"#REF!"},{"$error":"#REF!"},{"$error":"#REF!"}]
[{"$f":"IF(Data!#REF!=\"\",\"\",Data!#REF!)","v":{"$error":"#REF!"}},{"$f":"IF(Data!#REF!=\"\",\"\",Data!#REF!)","v":{"$error":"#REF!"}},{"$f":"IF(Data!#REF!=\"\",\"\",Data!#REF!)","v":{"$error":"#REF!"}},{"$f":"IF(Data!#REF!=\"\",\"\",Data!#REF!)","v":{"$error":"#REF!"}},{"$f":"IF(Data!#REF!=\"\",\"\",Data!#REF!)","v":{"$error":"#REF!"}},{"$error":"#REF!"},{"$error":"#REF!"},{"$error":"#REF!"}]
[{"$f":"IF(Data!#REF!=\"\",\"\",Data!#REF!)","v":{"$error":"#REF!"}},{"$f":"IF(Data!#REF!=\"\",\"\",Data!#REF!)","v":{"$error":"#REF!"}},{"$f":"IF(Data!#REF!=\"\",\"\",Data!#REF!)","v":{"$error":"#REF!"}},{"$f":"IF(Data!#REF!=\"\",\"\",Data!#REF!)","v":{"$error":"#REF!"}},{"$f":"IF(Data!#REF!=\"\",\"\",Data!#REF!)","v":{"$error":"#REF!"}},{"$error":"#REF!"},{"$error":"#REF!"},{"$error":"#REF!"}]
[{"$f":"IF(Data!#REF!=\"\",\"\",Data!#REF!)","v":{"$error":"#REF!"}},{"$f":"IF(Data!#REF!=\"\",\"\",Data!#REF!)","v":{"$error":"#REF!"}},{"$f":"IF(Data!#REF!=\"\",\"\",Data!#REF!)","v":{"$error":"#REF!"}},{"$f":"IF(Data!#REF!=\"\",\"\",Data!#REF!)","v":{"$error":"#REF!"}},{"$f":"IF(Data!#REF!=\"\",\"\",Data!#REF!)","v":{"$error":"#REF!"}},{"$error":"#REF!"},{"$error":"#REF!"},{"$error":"#REF!"}]
[{"$f":"IF(Data!#REF!=\"\",\"\",Data!#REF!)","v":{"$error":"#REF!"}},{"$f":"IF(Data!#REF!=\"\",\"\",Data!#REF!)","v":{"$error":"#REF!"}},{"$f":"IF(Data!#REF!=\"\",\"\",Data!#REF!)","v":{"$error":"#REF!"}},{"$f":"IF(Data!#REF!=\"\",\"\",Data!#REF!)","v":{"$error":"#REF!"}},{"$f":"IF(Data!#REF!=\"\",\"\",Data!#REF!)","v":{"$error":"#REF!"}},{"$error":"#REF!"},{"$error":"#REF!"},{"$error":"#REF!"}]
[{"$f":"IF(Data!#REF!=\"\",\"\",Data!#REF!)","v":{"$error":"#REF!"}},{"$f":"IF(Data!#REF!=\"\",\"\",Data!#REF!)","v":{"$error":"#REF!"}},{"$f":"IF(Data!#REF!=\"\",\"\",Data!#REF!)","v":{"$error":"#REF!"}},{"$f":"IF(Data!#REF!=\"\",\"\",Data!#REF!)","v":{"$error":"#REF!"}},{"$f":"IF(Data!#REF!=\"\",\"\",Data!#REF!)","v":{"$error":"#REF!"}},{"$error":"#REF!"},{"$error":"#REF!"},{"$error":"#REF!"}]
[{"$f":"IF(Data!#REF!=\"\",\"\",Data!#REF!)","v":{"$error":"#REF!"}},{"$f":"IF(Data!#REF!=\"\",\"\",Data!#REF!)","v":{"$error":"#REF!"}},{"$f":"IF(Data!#REF!=\"\",\"\",Data!#REF!)","v":{"$error":"#REF!"}},{"$f":"IF(Data!#REF!=\"\",\"\",Data!#REF!)","v":{"$error":"#REF!"}},{"$f":"IF(Data!#REF!=\"\",\"\",Data!#REF!)","v":{"$error":"#REF!"}},{"$error":"#REF!"},{"$error":"#REF!"},{"$error":"#REF!"}]
[{"$f":"IF(Data!#REF!=\"\",\"\",Data!#REF!)","v":{"$error":"#REF!"}},{"$f":"IF(Data!#REF!=\"\",\"\",Data!#REF!)","v":{"$error":"#REF!"}},{"$f":"IF(Data!#REF!=\"\",\"\",Data!#REF!)","v":{"$error":"#REF!"}},{"$f":"IF(Data!#REF!=\"\",\"\",Data!#REF!)","v":{"$error":"#REF!"}},{"$f":"IF(Data!#REF!=\"\",\"\",Data!#REF!)","v":{"$error":"#REF!"}},{"$error":"#REF!"},{"$error":"#REF!"},{"$error":"#REF!"}]
[{"$f":"IF(Data!#REF!=\"\",\"\",Data!#REF!)","v":{"$error":"#REF!"}},{"$f":"IF(Data!#REF!=\"\",\"\",Data!#REF!)","v":{"$error":"#REF!"}},{"$f":"IF(Data!#REF!=\"\",\"\",Data!#REF!)","v":{"$error":"#REF!"}},{"$f":"IF(Data!#REF!=\"\",\"\",Data!#REF!)","v":{"$error":"#REF!"}},{"$f":"IF(Data!#REF!=\"\",\"\",Data!#REF!)","v":{"$error":"#REF!"}},{"$error":"#REF!"},{"$error":"#REF!"},{"$error":"#REF!"}]
[{"$f":"IF(Data!#REF!=\"\",\"\",Data!#REF!)","v":{"$error":"#REF!"}},{"$f":"IF(Data!#REF!=\"\",\"\",Data!#REF!)","v":{"$error":"#REF!"}},{"$f":"IF(Data!#REF!=\"\",\"\",Data!#REF!)","v":{"$error":"#REF!"}},{"$f":"IF(Data!#REF!=\"\",\"\",Data!#REF!)","v":{"$error":"#REF!"}},{"$f":"IF(Data!#REF!=\"\",\"\",Data!#REF!)","v":{"$error":"#REF!"}},{"$error":"#REF!"},{"$error":"#REF!"},{"$error":"#REF!"}]
[{"$f":"IF(Data!#REF!=\"\",\"\",Data!#REF!)","v":{"$error":"#REF!"}},{"$f":"IF(Data!#REF!=\"\",\"\",Data!#REF!)","v":{"$error":"#REF!"}},{"$f":"IF(Data!#REF!=\"\",\"\",Data!#REF!)","v":{"$error":"#REF!"}},{"$f":"IF(Data!#REF!=\"\",\"\",Data!#REF!)","v":{"$error":"#REF!"}},{"$f":"IF(Data!#REF!=\"\",\"\",Data!#REF!)","v":{"$error":"#REF!"}},{"$error":"#REF!"},{"$error":"#REF!"},{"$error":"#REF!"}]
[{"$f":"IF(Data!#REF!=\"\",\"\",Data!#REF!)","v":{"$error":"#REF!"}},{"$f":"IF(Data!#REF!=\"\",\"\",Data!#REF!)","v":{"$error":"#REF!"}},{"$f":"IF(Data!#REF!=\"\",\"\",Data!#REF!)","v":{"$error":"#REF!"}},{"$f":"IF(Data!#REF!=\"\",\"\",Data!#REF!)","v":{"$error":"#REF!"}},{"$f":"IF(Data!#REF!=\"\",\"\",Data!#REF!)","v":{"$error":"#REF!"}},{"$error":"#REF!"},{"$error":"#REF!"},{"$error":"#REF!"}]
[{"$f":"IF(Data!#REF!=\"\",\"\",Data!#REF!)","v":{"$error":"#REF!"}},{"$f":"IF(Data!#REF!=\"\",\"\",Data!#REF!)","v":{"$error":"#REF!"}},{"$f":"IF(Data!#REF!=\"\",\"\",Data!#REF!)","v":{"$error":"#REF!"}},{"$f":"IF(Data!#REF!=\"\",\"\",Data!#REF!)","v":{"$error":"#REF!"}},{"$f":"IF(Data!#REF!=\"\",\"\",Data!#REF!)","v":{"$error":"#REF!"}},{"$error":"#REF!"},{"$error":"#REF!"},{"$error":"#REF!"}]
[{"$f":"IF(Data!#REF!=\"\",\"\",Data!#REF!)","v":{"$error":"#REF!"}},{"$f":"IF(Data!#REF!=\"\",\"\",Data!#REF!)","v":{"$error":"#REF!"}},{"$f":"IF(Data!#REF!=\"\",\"\",Data!#REF!)","v":{"$error":"#REF!"}},{"$f":"IF(Data!#REF!=\"\",\"\",Data!#REF!)","v":{"$error":"#REF!"}},{"$f":"IF(Data!#REF!=\"\",\"\",Data!#REF!)","v":{"$error":"#REF!"}},{"$error":"#REF!"},{"$error":"#REF!"},{"$error":"#REF!"}]
[{"$f":"IF(Data!#REF!=\"\",\"\",Data!#REF!)","v":{"$error":"#REF!"}},{"$f":"IF(Data!#REF!=\"\",\"\",Data!#REF!)","v":{"$error":"#REF!"}},{"$f":"IF(Data!#REF!=\"\",\"\",Data!#REF!)","v":{"$error":"#REF!"}},{"$f":"IF(Data!#REF!=\"\",\"\",Data!#REF!)","v":{"$error":"#REF!"}},{"$f":"IF(Data!#REF!=\"\",\"\",Data!#REF!)","v":{"$error":"#REF!"}},{"$error":"#REF!"},{"$error":"#REF!"},{"$error":"#REF!"}]
[{"$f":"IF(Data!#REF!=\"\",\"\",Data!#REF!)","v":{"$error":"#REF!"}},{"$f":"IF(Data!#REF!=\"\",\"\",Data!#REF!)","v":{"$error":"#REF!"}},{"$f":"IF(Data!#REF!=\"\",\"\",Data!#REF!)","v":{"$error":"#REF!"}},{"$f":"IF(Data!#REF!=\"\",\"\",Data!#REF!)","v":{"$error":"#REF!"}},{"$f":"IF(Data!#REF!=\"\",\"\",Data!#REF!)","v":{"$error":"#REF!"}},{"$error":"#REF!"},{"$error":"#REF!"},{"$error":"#REF!"}]
[{"$f":"IF(Data!#REF!=\"\",\"\",Data!#REF!)","v":{"$error":"#REF!"}},{"$f":"IF(Data!#REF!=\"\",\"\",Data!#REF!)","v":{"$error":"#REF!"}},{"$f":"IF(Data!#REF!=\"\",\"\",Data!#REF!)","v":{"$error":"#REF!"}},{"$f":"IF(Data!#REF!=\"\",\"\",Data!#REF!)","v":{"$error":"#REF!"}},{"$f":"IF(Data!#REF!=\"\",\"\",Data!#REF!)","v":{"$error":"#REF!"}},{"$error":"#REF!"},{"$error":"#REF!"},{"$error":"#REF!"}]
[{"$f":"IF(Data!#REF!=\"\",\"\",Data!#REF!)","v":{"$error":"#REF!"}},{"$f":"IF(Data!#REF!=\"\",\"\",Data!#REF!)","v":{"$error":"#REF!"}},{"$f":"IF(Data!#REF!=\"\",\"\",Data!#REF!)","v":{"$error":"#REF!"}},{"$f":"IF(Data!#REF!=\"\",\"\",Data!#REF!)","v":{"$error":"#REF!"}},{"$f":"IF(Data!#REF!=\"\",\"\",Data!#REF!)","v":{"$error":"#REF!"}},{"$error":"#REF!"},{"$error":"#REF!"},{"$error":"#REF!"}]
[{"$f":"IF(Data!#REF!=\"\",\"\",Data!#REF!)","v":{"$error":"#REF!"}},{"$f":"IF(Data!#REF!=\"\",\"\",Data!#REF!)","v":{"$error":"#REF!"}},{"$f":"IF(Data!#REF!=\"\",\"\",Data!#REF!)","v":{"$error":"#REF!"}},{"$f":"IF(Data!#REF!=\"\",\"\",Data!#REF!)","v":{"$error":"#REF!"}},{"$f":"IF(Data!#REF!=\"\",\"\",Data!#REF!)","v":{"$error":"#REF!"}},{"$error":"#REF!"},{"$error":"#REF!"},{"$error":"#REF!"}]
[{"$f":"IF(Data!#REF!=\"\",\"\",Data!#REF!)","v":{"$error":"#REF!"}},{"$f":"IF(Data!#REF!=\"\",\"\",Data!#REF!)","v":{"$error":"#REF!"}},{"$f":"IF(Data!#REF!=\"\",\"\",Data!#REF!)","v":{"$error":"#REF!"}},{"$f":"IF(Data!#REF!=\"\",\"\",Data!#REF!)","v":{"$error":"#REF!"}},{"$f":"IF(Data!#REF!=\"\",\"\",Data!#REF!)","v":{"$error":"#REF!"}},{"$error":"#REF!"},{"$error":"#REF!"},{"$error":"#REF!"}]
[{"$f":"IF(Data!#REF!=\"\",\"\",Data!#REF!)","v":{"$error":"#REF!"}},{"$f":"IF(Data!#REF!=\"\",\"\",Data!#REF!)","v":{"$error":"#REF!"}},{"$f":"IF(Data!#REF!=\"\",\"\",Data!#REF!)","v":{"$error":"#REF!"}},{"$f":"IF(Data!#REF!=\"\",\"\",Data!#REF!)","v":{"$error":"#REF!"}},{"$f":"IF(Data!#REF!=\"\",\"\",Data!#REF!)","v":{"$error":"#REF!"}},{"$error":"#REF!"},{"$error":"#REF!"},{"$error":"#REF!"}]
[{"$f":"IF(Data!#REF!=\"\",\"\",Data!#REF!)","v":{"$error":"#REF!"}},{"$f":"IF(Data!#REF!=\"\",\"\",Data!#REF!)","v":{"$error":"#REF!"}},{"$f":"IF(Data!#REF!=\"\",\"\",Data!#REF!)","v":{"$error":"#REF!"}},{"$f":"IF(Data!#REF!=\"\",\"\",Data!#REF!)","v":{"$error":"#REF!"}},{"$f":"IF(Data!#REF!=\"\",\"\",Data!#REF!)","v":{"$error":"#REF!"}},{"$error":"#REF!"},{"$error":"#REF!"},{"$error":"#REF!"}]
[{"$f":"IF(Data!#REF!=\"\",\"\",Data!#REF!)","v":{"$error":"#REF!"}},{"$f":"IF(Data!#REF!=\"\",\"\",Data!#REF!)","v":{"$error":"#REF!"}},{"$f":"IF(Data!#REF!=\"\",\"\",Data!#REF!)","v":{"$error":"#REF!"}},{"$f":"IF(Data!#REF!=\"\",\"\",Data!#REF!)","v":{"$error":"#REF!"}},{"$f":"IF(Data!#REF!=\"\",\"\",Data!#REF!)","v":{"$error":"#REF!"}},{"$error":"#REF!"},{"$error":"#REF!"},{"$error":"#REF!"}]
[{"$f":"IF(Data!#REF!=\"\",\"\",Data!#REF!)","v":{"$error":"#REF!"}},{"$f":"IF(Data!#REF!=\"\",\"\",Data!#REF!)","v":{"$error":"#REF!"}},{"$f":"IF(Data!#REF!=\"\",\"\",Data!#REF!)","v":{"$error":"#REF!"}},{"$f":"IF(Data!#REF!=\"\",\"\",Data!#REF!)","v":{"$error":"#REF!"}},{"$f":"IF(Data!#REF!=\"\",\"\",Data!#REF!)","v":{"$error":"#REF!"}},{"$error":"#REF!"},{"$error":"#REF!"},{"$error":"#REF!"}]
[{"$f":"IF(Data!#REF!=\"\",\"\",Data!#REF!)","v":{"$error":"#REF!"}},{"$f":"IF(Data!#REF!=\"\",\"\",Data!#REF!)","v":{"$error":"#REF!"}},{"$f":"IF(Data!#REF!=\"\",\"\",Data!#REF!)","v":{"$error":"#REF!"}},{"$f":"IF(Data!#REF!=\"\",\"\",Data!#REF!)","v":{"$error":"#REF!"}},{"$f":"IF(Data!#REF!=\"\",\"\",Data!#REF!)","v":{"$error":"#REF!"}},{"$error":"#REF!"},{"$error":"#REF!"},{"$error":"#REF!"}]
[{"$f":"IF(Data!#REF!=\"\",\"\",Data!#REF!)","v":{"$error":"#REF!"}},{"$f":"IF(Data!#REF!=\"\",\"\",Data!#REF!)","v":{"$error":"#REF!"}},{"$f":"IF(Data!#REF!=\"\",\"\",Data!#REF!)","v":{"$error":"#REF!"}},{"$f":"IF(Data!#REF!=\"\",\"\",Data!#REF!)","v":{"$error":"#REF!"}},{"$f":"IF(Data!#REF!=\"\",\"\",Data!#REF!)","v":{"$error":"#REF!"}},{"$error":"#REF!"},{"$error":"#REF!"},{"$error":"#REF!"}]
[{"$f":"IF(Data!#REF!=\"\",\"\",Data!#REF!)","v":{"$error":"#REF!"}},{"$f":"IF(Data!#REF!=\"\",\"\",Data!#REF!)","v":{"$error":"#REF!"}},{"$f":"IF(Data!#REF!=\"\",\"\",Data!#REF!)","v":{"$error":"#REF!"}},{"$f":"IF(Data!#REF!=\"\",\"\",Data!#REF!)","v":{"$error":"#REF!"}},{"$f":"IF(Data!#REF!=\"\",\"\",Data!#REF!)","v":{"$error":"#REF!"}},{"$error":"#REF!"},{"$error":"#REF!"},{"$error":"#REF!"}]
[{"$f":"IF(Data!#REF!=\"\",\"\",Data!#REF!)","v":{"$error":"#REF!"}},{"$f":"IF(Data!#REF!=\"\",\"\",Data!#REF!)","v":{"$error":"#REF!"}},{"$f":"IF(Data!#REF!=\"\",\"\",Data!#REF!)","v":{"$error":"#REF!"}},{"$f":"IF(Data!#REF!=\"\",\"\",Data!#REF!)","v":{"$error":"#REF!"}},{"$f":"IF(Data!#REF!=\"\",\"\",Data!#REF!)","v":{"$error":"#REF!"}},{"$error":"#REF!"},{"$error":"#REF!"},{"$error":"#REF!"}]
[{"$f":"IF(Data!#REF!=\"\",\"\",Data!#REF!)","v":{"$error":"#REF!"}},{"$f":"IF(Data!#REF!=\"\",\"\",Data!#REF!)","v":{"$error":"#REF!"}},{"$f":"IF(Data!#REF!=\"\",\"\",Data!#REF!)","v":{"$error":"#REF!"}},{"$f":"IF(Data!#REF!=\"\",\"\",Data!#REF!)","v":{"$error":"#REF!"}},{"$f":"IF(Data!#REF!=\"\",\"\",Data!#REF!)","v":{"$error":"#REF!"}},{"$error":"#REF!"},{"$error":"#REF!"},{"$error":"#REF!"}]
[{"$f":"IF(Data!#REF!=\"\",\"\",Data!#REF!)","v":{"$error":"#REF!"}},{"$f":"IF(Data!#REF!=\"\",\"\",Data!#REF!)","v":{"$error":"#REF!"}},{"$f":"IF(Data!#REF!=\"\",\"\",Data!#REF!)","v":{"$error":"#REF!"}},{"$f":"IF(Data!#REF!=\"\",\"\",Data!#REF!)","v":{"$error":"#REF!"}},{"$f":"IF(Data!#REF!=\"\",\"\",Data!#REF!)","v":{"$error":"#REF!"}},{"$error":"#REF!"},{"$error":"#REF!"},{"$error":"#REF!"}]
[{"$f":"IF(Data!#REF!=\"\",\"\",Data!#REF!)","v":{"$error":"#REF!"}},{"$f":"IF(Data!#REF!=\"\",\"\",Data!#REF!)","v":{"$error":"#REF!"}},{"$f":"IF(Data!#REF!=\"\",\"\",Data!#REF!)","v":{"$error":"#REF!"}},{"$f":"IF(Data!#REF!=\"\",\"\",Data!#REF!)","v":{"$error":"#REF!"}},{"$f":"IF(Data!#REF!=\"\",\"\",Data!#REF!)","v":{"$error":"#REF!"}},{"$error":"#REF!"},{"$error":"#REF!"},{"$error":"#REF!"}]
[{"$f":"IF(Data!#REF!=\"\",\"\",Data!#REF!)","v":{"$error":"#REF!"}},{"$f":"IF(Data!#REF!=\"\",\"\",Data!#REF!)","v":{"$error":"#REF!"}},{"$f":"IF(Data!#REF!=\"\",\"\",Data!#REF!)","v":{"$error":"#REF!"}},{"$f":"IF(Data!#REF!=\"\",\"\",Data!#REF!)","v":{"$error":"#REF!"}},{"$f":"IF(Data!#REF!=\"\",\"\",Data!#REF!)","v":{"$error":"#REF!"}},{"$error":"#REF!"},{"$error":"#REF!"},{"$error":"#REF!"}]
[{"$f":"IF(Data!#REF!=\"\",\"\",Data!#REF!)","v":{"$error":"#REF!"}},{"$f":"IF(Data!#REF!=\"\",\"\",Data!#REF!)","v":{"$error":"#REF!"}},{"$f":"IF(Data!#REF!=\"\",\"\",Data!#REF!)","v":{"$error":"#REF!"}},{"$f":"IF(Data!#REF!=\"\",\"\",Data!#REF!)","v":{"$error":"#REF!"}},{"$f":"IF(Data!#REF!=\"\",\"\",Data!#REF!)","v":{"$error":"#REF!"}},{"$error":"#REF!"},{"$error":"#REF!"},{"$error":"#REF!"}]
[{"$f":"IF(Data!#REF!=\"\",\"\",Data!#REF!)","v":{"$error":"#REF!"}},{"$f":"IF(Data!#REF!=\"\",\"\",Data!#REF!)","v":{"$error":"#REF!"}},{"$f":"IF(Data!#REF!=\"\",\"\",Data!#REF!)","v":{"$error":"#REF!"}},{"$f":"IF(Data!#REF!=\"\",\"\",Data!#REF!)","v":{"$error":"#REF!"}},{"$f":"IF(Data!#REF!=\"\",\"\",Data!#REF!)","v":{"$error":"#REF!"}},{"$error":"#REF!"},{"$error":"#REF!"},{"$error":"#REF!"}]
[{"$f":"IF(Data!#REF!=\"\",\"\",Data!#REF!)","v":{"$error":"#REF!"}},{"$f":"IF(Data!#REF!=\"\",\"\",Data!#REF!)","v":{"$error":"#REF!"}},{"$f":"IF(Data!#REF!=\"\",\"\",Data!#REF!)","v":{"$error":"#REF!"}},{"$f":"IF(Data!#REF!=\"\",\"\",Data!#REF!)","v":{"$error":"#REF!"}},{"$f":"IF(Data!#REF!=\"\",\"\",Data!#REF!)","v":{"$error":"#REF!"}},{"$error":"#REF!"},{"$error":"#REF!"},{"$error":"#REF!"}]
[{"$f":"IF(Data!#REF!=\"\",\"\",Data!#REF!)","v":{"$error":"#REF!"}},{"$f":"IF(Data!#REF!=\"\",\"\",Data!#REF!)","v":{"$error":"#REF!"}},{"$f":"IF(Data!#REF!=\"\",\"\",Data!#REF!)","v":{"$error":"#REF!"}},{"$f":"IF(Data!#REF!=\"\",\"\",Data!#REF!)","v":{"$error":"#REF!"}},{"$f":"IF(Data!#REF!=\"\",\"\",Data!#REF!)","v":{"$error":"#REF!"}},{"$error":"#REF!"},{"$error":"#REF!"},{"$error":"#REF!"}]
[{"$f":"IF(Data!#REF!=\"\",\"\",Data!#REF!)","v":{"$error":"#REF!"}},{"$f":"IF(Data!#REF!=\"\",\"\",Data!#REF!)","v":{"$error":"#REF!"}},{"$f":"IF(Data!#REF!=\"\",\"\",Data!#REF!)","v":{"$error":"#REF!"}},{"$f":"IF(Data!#REF!=\"\",\"\",Data!#REF!)","v":{"$error":"#REF!"}},{"$f":"IF(Data!#REF!=\"\",\"\",Data!#REF!)","v":{"$error":"#REF!"}},{"$error":"#REF!"},{"$error":"#REF!"},{"$error":"#REF!"}]
[{"$f":"IF(Data!#REF!=\"\",\"\",Data!#REF!)","v":{"$error":"#REF!"}},{"$f":"IF(Data!#REF!=\"\",\"\",Data!#REF!)","v":{"$error":"#REF!"}},{"$f":"IF(Data!#REF!=\"\",\"\",Data!#REF!)","v":{"$error":"#REF!"}},{"$f":"IF(Data!#REF!=\"\",\"\",Data!#REF!)","v":{"$error":"#REF!"}},{"$f":"IF(Data!#REF!=\"\",\"\",Data!#REF!)","v":{"$error":"#REF!"}},{"$error":"#REF!"},{"$error":"#REF!"},{"$error":"#REF!"}]
[{"$f":"IF(Data!#REF!=\"\",\"\",Data!#REF!)","v":{"$error":"#REF!"}},{"$f":"IF(Data!#REF!=\"\",\"\",Data!#REF!)","v":{"$error":"#REF!"}},{"$f":"IF(Data!#REF!=\"\",\"\",Data!#REF!)","v":{"$error":"#REF!"}},{"$f":"IF(Data!#REF!=\"\",\"\",Data!#REF!)","v":{"$error":"#REF!"}},{"$f":"IF(Data!#REF!=\"\",\"\",Data!#REF!)","v":{"$error":"#REF!"}},{"$error":"#REF!"},{"$error":"#REF!"},{"$error":"#REF!"}]
[{"$f":"IF(Data!#REF!=\"\",\"\",Data!#REF!)","v":{"$error":"#REF!"}},{"$f":"IF(Data!#REF!=\"\",\"\",Data!#REF!)","v":{"$error":"#REF!"}},{"$f":"IF(Data!#REF!=\"\",\"\",Data!#REF!)","v":{"$error":"#REF!"}},{"$f":"IF(Data!#REF!=\"\",\"\",Data!#REF!)","v":{"$error":"#REF!"}},{"$f":"IF(Data!#REF!=\"\",\"\",Data!#REF!)","v":{"$error":"#REF!"}},{"$error":"#REF!"},{"$error":"#REF!"},{"$error":"#REF!"}]
[{"$f":"IF(Data!#REF!=\"\",\"\",Data!#REF!)","v":{"$error":"#REF!"}},{"$f":"IF(Data!#REF!=\"\",\"\",Data!#REF!)","v":{"$error":"#REF!"}},{"$f":"IF(Data!#REF!=\"\",\"\",Data!#REF!)","v":{"$error":"#REF!"}},{"$f":"IF(Data!#REF!=\"\",\"\",Data!#REF!)","v":{"$error":"#REF!"}},{"$f":"IF(Data!#REF!=\"\",\"\",Data!#REF!)","v":{"$error":"#REF!"}},{"$error":"#REF!"},{"$error":"#REF!"},{"$error":"#REF!"}]
[{"$f":"IF(Data!#REF!=\"\",\"\",Data!#REF!)","v":{"$error":"#REF!"}},{"$f":"IF(Data!#REF!=\"\",\"\",Data!#REF!)","v":{"$error":"#REF!"}},{"$f":"IF(Data!#REF!=\"\",\"\",Data!#REF!)","v":{"$error":"#REF!"}},{"$f":"IF(Data!#REF!=\"\",\"\",Data!#REF!)","v":{"$error":"#REF!"}},{"$f":"IF(Data!#REF!=\"\",\"\",Data!#REF!)","v":{"$error":"#REF!"}},{"$error":"#REF!"},{"$error":"#REF!"},{"$error":"#REF!"}]
[{"$f":"IF(Data!#REF!=\"\",\"\",Data!#REF!)","v":{"$error":"#REF!"}},{"$f":"IF(Data!#REF!=\"\",\"\",Data!#REF!)","v":{"$error":"#REF!"}},{"$f":"IF(Data!#REF!=\"\",\"\",Data!#REF!)","v":{"$error":"#REF!"}},{"$f":"IF(Data!#REF!=\"\",\"\",Data!#REF!)","v":{"$error":"#REF!"}},{"$f":"IF(Data!#REF!=\"\",\"\",Data!#REF!)","v":{"$error":"#REF!"}},{"$error":"#REF!"},{"$error":"#REF!"},{"$error":"#REF!"}]
[{"$f":"IF(Data!#REF!=\"\",\"\",Data!#REF!)","v":{"$error":"#REF!"}},{"$f":"IF(Data!#REF!=\"\",\"\",Data!#REF!)","v":{"$error":"#REF!"}},{"$f":"IF(Data!#REF!=\"\",\"\",Data!#REF!)","v":{"$error":"#REF!"}},{"$f":"IF(Data!#REF!=\"\",\"\",Data!#REF!)","v":{"$error":"#REF!"}},{"$f":"IF(Data!#REF!=\"\",\"\",Data!#REF!)","v":{"$error":"#REF!"}},{"$error":"#REF!"},{"$error":"#REF!"},{"$error":"#REF!"}]
[{"$f":"IF(Data!#REF!=\"\",\"\",Data!#REF!)","v":{"$error":"#REF!"}},{"$f":"IF(Data!#REF!=\"\",\"\",Data!#REF!)","v":{"$error":"#REF!"}},{"$f":"IF(Data!#REF!=\"\",\"\",Data!#REF!)","v":{"$error":"#REF!"}},{"$f":"IF(Data!#REF!=\"\",\"\",Data!#REF!)","v":{"$error":"#REF!"}},{"$f":"IF(Data!#REF!=\"\",\"\",Data!#REF!)","v":{"$error":"#REF!"}},{"$error":"#REF!"},{"$error":"#REF!"},{"$error":"#REF!"}]
[{"$f":"IF(Data!#REF!=\"\",\"\",Data!#REF!)","v":{"$error":"#REF!"}},{"$f":"IF(Data!#REF!=\"\",\"\",Data!#REF!)","v":{"$error":"#REF!"}},{"$f":"IF(Data!#REF!=\"\",\"\",Data!#REF!)","v":{"$error":"#REF!"}},{"$f":"IF(Data!#REF!=\"\",\"\",Data!#REF!)","v":{"$error":"#REF!"}},{"$f":"IF(Data!#REF!=\"\",\"\",Data!#REF!)","v":{"$error":"#REF!"}},{"$error":"#REF!"},{"$error":"#REF!"},{"$error":"#REF!"}]
[{"$f":"IF(Data!#REF!=\"\",\"\",Data!#REF!)","v":{"$error":"#REF!"}},{"$f":"IF(Data!#REF!=\"\",\"\",Data!#REF!)","v":{"$error":"#REF!"}},{"$f":"IF(Data!#REF!=\"\",\"\",Data!#REF!)","v":{"$error":"#REF!"}},{"$f":"IF(Data!#REF!=\"\",\"\",Data!#REF!)","v":{"$error":"#REF!"}},{"$f":"IF(Data!#REF!=\"\",\"\",Data!#REF!)","v":{"$error":"#REF!"}},{"$error":"#REF!"},{"$error":"#REF!"},{"$error":"#REF!"}]
[{"$f":"IF(Data!#REF!=\"\",\"\",Data!#REF!)","v":{"$error":"#REF!"}},{"$f":"IF(Data!#REF!=\"\",\"\",Data!#REF!)","v":{"$error":"#REF!"}},{"$f":"IF(Data!#REF!=\"\",\"\",Data!#REF!)","v":{"$error":"#REF!"}},{"$f":"IF(Data!#REF!=\"\",\"\",Data!#REF!)","v":{"$error":"#REF!"}},{"$f":"IF(Data!#REF!=\"\",\"\",Data!#REF!)","v":{"$error":"#REF!"}},{"$error":"#REF!"},{"$error":"#REF!"},{"$error":"#REF!"}]
[{"$f":"IF(Data!#REF!=\"\",\"\",Data!#REF!)","v":{"$error":"#REF!"}},{"$f":"IF(Data!#REF!=\"\",\"\",Data!#REF!)","v":{"$error":"#REF!"}},{"$f":"IF(Data!#REF!=\"\",\"\",Data!#REF!)","v":{"$error":"#REF!"}},{"$f":"IF(Data!#REF!=\"\",\"\",Data!#REF!)","v":{"$error":"#REF!"}},{"$f":"IF(Data!#REF!=\"\",\"\",Data!#REF!)","v":{"$error":"#REF!"}},{"$error":"#REF!"},{"$error":"#REF!"},{"$error":"#REF!"}]
[{"$f":"IF(Data!#REF!=\"\",\"\",Data!#REF!)","v":{"$error":"#REF!"}},{"$f":"IF(Data!#REF!=\"\",\"\",Data!#REF!)","v":{"$error":"#REF!"}},{"$f":"IF(Data!#REF!=\"\",\"\",Data!#REF!)","v":{"$error":"#REF!"}},{"$f":"IF(Data!#REF!=\"\",\"\",Data!#REF!)","v":{"$error":"#REF!"}},{"$f":"IF(Data!#REF!=\"\",\"\",Data!#REF!)","v":{"$error":"#REF!"}},{"$error":"#REF!"},{"$error":"#REF!"},{"$error":"#REF!"}]
[{"$f":"IF(Data!#REF!=\"\",\"\",Data!#REF!)","v":{"$error":"#REF!"}},{"$f":"IF(Data!#REF!=\"\",\"\",Data!#REF!)","v":{"$error":"#REF!"}},{"$f":"IF(Data!#REF!=\"\",\"\",Data!#REF!)","v":{"$error":"#REF!"}},{"$f":"IF(Data!#REF!=\"\",\"\",Data!#REF!)","v":{"$error":"#REF!"}},{"$f":"IF(Data!#REF!=\"\",\"\",Data!#REF!)","v":{"$error":"#REF!"}},{"$error":"#REF!"},{"$error":"#REF!"},{"$error":"#REF!"}]
[{"$f":"IF(Data!#REF!=\"\",\"\",Data!#REF!)","v":{"$error":"#REF!"}},{"$f":"IF(Data!#REF!=\"\",\"\",Data!#REF!)","v":{"$error":"#REF!"}},{"$f":"IF(Data!#REF!=\"\",\"\",Data!#REF!)","v":{"$error":"#REF!"}},{"$f":"IF(Data!#REF!=\"\",\"\",Data!#REF!)","v":{"$error":"#REF!"}},{"$f":"IF(Data!#REF!=\"\",\"\",Data!#REF!)","v":{"$error":"#REF!"}},{"$error":"#REF!"},{"$error":"#REF!"},{"$error":"#REF!"}]
[{"$f":"IF(Data!#REF!=\"\",\"\",Data!#REF!)","v":{"$error":"#REF!"}},{"$f":"IF(Data!#REF!=\"\",\"\",Data!#REF!)","v":{"$error":"#REF!"}},{"$f":"IF(Data!#REF!=\"\",\"\",Data!#REF!)","v":{"$error":"#REF!"}},{"$f":"IF(Data!#REF!=\"\",\"\",Data!#REF!)","v":{"$error":"#REF!"}},{"$f":"IF(Data!#REF!=\"\",\"\",Data!#REF!)","v":{"$error":"#REF!"}},{"$error":"#REF!"},{"$error":"#REF!"},{"$error":"#REF!"}]
[{"$f":"IF(Data!#REF!=\"\",\"\",Data!#REF!)","v":{"$error":"#REF!"}},{"$f":"IF(Data!#REF!=\"\",\"\",Data!#REF!)","v":{"$error":"#REF!"}},{"$f":"IF(Data!#REF!=\"\",\"\",Data!#REF!)","v":{"$error":"#REF!"}},{"$f":"IF(Data!#REF!=\"\",\"\",Data!#REF!)","v":{"$error":"#REF!"}},{"$f":"IF(Data!#REF!=\"\",\"\",Data!#REF!)","v":{"$error":"#REF!"}},{"$error":"#REF!"},{"$error":"#REF!"},{"$error":"#REF!"}]
[{"$f":"IF(Data!#REF!=\"\",\"\",Data!#REF!)","v":{"$error":"#REF!"}},{"$f":"IF(Data!#REF!=\"\",\"\",Data!#REF!)","v":{"$error":"#REF!"}},{"$f":"IF(Data!#REF!=\"\",\"\",Data!#REF!)","v":{"$error":"#REF!"}},{"$f":"IF(Data!#REF!=\"\",\"\",Data!#REF!)","v":{"$error":"#REF!"}},{"$f":"IF(Data!#REF!=\"\",\"\",Data!#REF!)","v":{"$error":"#REF!"}},{"$error":"#REF!"},{"$error":"#REF!"},{"$error":"#REF!"}]
[{"$f":"IF(Data!#REF!=\"\",\"\",Data!#REF!)","v":{"$error":"#REF!"}},{"$f":"IF(Data!#REF!=\"\",\"\",Data!#REF!)","v":{"$error":"#REF!"}},{"$f":"IF(Data!#REF!=\"\",\"\",Data!#REF!)","v":{"$error":"#REF!"}},{"$f":"IF(Data!#REF!=\"\",\"\",Data!#REF!)","v":{"$error":"#REF!"}},{"$f":"IF(Data!#REF!=\"\",\"\",Data!#REF!)","v":{"$error":"#REF!"}},{"$error":"#REF!"},{"$error":"#REF!"},{"$error":"#REF!"}]
[{"$f":"IF(Data!#REF!=\"\",\"\",Data!#REF!)","v":{"$error":"#REF!"}},{"$f":"IF(Data!#REF!=\"\",\"\",Data!#REF!)","v":{"$error":"#REF!"}},{"$f":"IF(Data!#REF!=\"\",\"\",Data!#REF!)","v":{"$error":"#REF!"}},{"$f":"IF(Data!#REF!=\"\",\"\",Data!#REF!)","v":{"$error":"#REF!"}},{"$f":"IF(Data!#REF!=\"\",\"\",Data!#REF!)","v":{"$error":"#REF!"}},{"$error":"#REF!"},{"$error":"#REF!"},{"$error":"#REF!"}]
[{"$f":"IF(Data!#REF!=\"\",\"\",Data!#REF!)","v":{"$error":"#REF!"}},{"$f":"IF(Data!#REF!=\"\",\"\",Data!#REF!)","v":{"$error":"#REF!"}},{"$f":"IF(Data!#REF!=\"\",\"\",Data!#REF!)","v":{"$error":"#REF!"}},{"$f":"IF(Data!#REF!=\"\",\"\",Data!#REF!)","v":{"$error":"#REF!"}},{"$f":"IF(Data!#REF!=\"\",\"\",Data!#REF!)","v":{"$error":"#REF!"}},{"$error":"#REF!"},{"$error":"#REF!"},{"$error":"#REF!"}]
[{"$f":"IF(Data!#REF!=\"\",\"\",Data!#REF!)","v":{"$error":"#REF!"}},{"$f":"IF(Data!#REF!=\"\",\"\",Data!#REF!)","v":{"$error":"#REF!"}},{"$f":"IF(Data!#REF!=\"\",\"\",Data!#REF!)","v":{"$error":"#REF!"}},{"$f":"IF(Data!#REF!=\"\",\"\",Data!#REF!)","v":{"$error":"#REF!"}},{"$f":"IF(Data!#REF!=\"\",\"\",Data!#REF!)","v":{"$error":"#REF!"}},{"$f":"IF(E2755>0,MONTH(E2755),\"\")","v":{"$error":"#REF!"}},{"$f":"IF(E2755>0,WEEKNUM(E2755),\"0\")","v":{"$error":"#REF!"}},{"$f":"IF(G2755>=($G$2-3),\"Ano\",\"Nie\")","v":{"$error":"#REF!"}}]
[{"$f":"IF(Data!#REF!=\"\",\"\",Data!#REF!)","v":{"$error":"#REF!"}},{"$f":"IF(Data!#REF!=\"\",\"\",Data!#REF!)","v":{"$error":"#REF!"}},{"$f":"IF(Data!#REF!=\"\",\"\",Data!#REF!)","v":{"$error":"#REF!"}},{"$f":"IF(Data!#REF!=\"\",\"\",Data!#REF!)","v":{"$error":"#REF!"}},{"$f":"IF(Data!#REF!=\"\",\"\",Data!#REF!)","v":{"$error":"#REF!"}},{"$error":"#REF!"},{"$error":"#REF!"},{"$error":"#REF!"}]
[{"$f":"IF(Data!#REF!=\"\",\"\",Data!#REF!)","v":{"$error":"#REF!"}},{"$f":"IF(Data!#REF!=\"\",\"\",Data!#REF!)","v":{"$error":"#REF!"}},{"$f":"IF(Data!#REF!=\"\",\"\",Data!#REF!)","v":{"$error":"#REF!"}},{"$f":"IF(Data!#REF!=\"\",\"\",Data!#REF!)","v":{"$error":"#REF!"}},{"$f":"IF(Data!#REF!=\"\",\"\",Data!#REF!)","v":{"$error":"#REF!"}},{"$error":"#REF!"},{"$error":"#REF!"},{"$error":"#REF!"}]
[{"$f":"IF(Data!#REF!=\"\",\"\",Data!#REF!)","v":{"$error":"#REF!"}},{"$f":"IF(Data!#REF!=\"\",\"\",Data!#REF!)","v":{"$error":"#REF!"}},{"$f":"IF(Data!#REF!=\"\",\"\",Data!#REF!)","v":{"$error":"#REF!"}},{"$f":"IF(Data!#REF!=\"\",\"\",Data!#REF!)","v":{"$error":"#REF!"}},{"$f":"IF(Data!#REF!=\"\",\"\",Data!#REF!)","v":{"$error":"#REF!"}},{"$error":"#REF!"},{"$error":"#REF!"},{"$error":"#REF!"}]
[{"$f":"IF(Data!#REF!=\"\",\"\",Data!#REF!)","v":{"$error":"#REF!"}},{"$f":"IF(Data!#REF!=\"\",\"\",Data!#REF!)","v":{"$error":"#REF!"}},{"$f":"IF(Data!#REF!=\"\",\"\",Data!#REF!)","v":{"$error":"#REF!"}},{"$f":"IF(Data!#REF!=\"\",\"\",Data!#REF!)","v":{"$error":"#REF!"}},{"$f":"IF(Data!#REF!=\"\",\"\",Data!#REF!)","v":{"$error":"#REF!"}},{"$error":"#REF!"},{"$error":"#REF!"},{"$error":"#REF!"}]
[{"$f":"IF(Data!#REF!=\"\",\"\",Data!#REF!)","v":{"$error":"#REF!"}},{"$f":"IF(Data!#REF!=\"\",\"\",Data!#REF!)","v":{"$error":"#REF!"}},{"$f":"IF(Data!#REF!=\"\",\"\",Data!#REF!)","v":{"$error":"#REF!"}},{"$f":"IF(Data!#REF!=\"\",\"\",Data!#REF!)","v":{"$error":"#REF!"}},{"$f":"IF(Data!#REF!=\"\",\"\",Data!#REF!)","v":{"$error":"#REF!"}},{"$error":"#REF!"},{"$error":"#REF!"},{"$error":"#REF!"}]
[{"$f":"IF(Data!#REF!=\"\",\"\",Data!#REF!)","v":{"$error":"#REF!"}},{"$f":"IF(Data!#REF!=\"\",\"\",Data!#REF!)","v":{"$error":"#REF!"}},{"$f":"IF(Data!#REF!=\"\",\"\",Data!#REF!)","v":{"$error":"#REF!"}},{"$f":"IF(Data!#REF!=\"\",\"\",Data!#REF!)","v":{"$error":"#REF!"}},{"$f":"IF(Data!#REF!=\"\",\"\",Data!#REF!)","v":{"$error":"#REF!"}},{"$error":"#REF!"},{"$error":"#REF!"},{"$error":"#REF!"}]
[{"$f":"IF(Data!#REF!=\"\",\"\",Data!#REF!)","v":{"$error":"#REF!"}},{"$f":"IF(Data!#REF!=\"\",\"\",Data!#REF!)","v":{"$error":"#REF!"}},{"$f":"IF(Data!#REF!=\"\",\"\",Data!#REF!)","v":{"$error":"#REF!"}},{"$f":"IF(Data!#REF!=\"\",\"\",Data!#REF!)","v":{"$error":"#REF!"}},{"$f":"IF(Data!#REF!=\"\",\"\",Data!#REF!)","v":{"$error":"#REF!"}},{"$error":"#REF!"},{"$error":"#REF!"},{"$error":"#REF!"}]
[{"$f":"IF(Data!#REF!=\"\",\"\",Data!#REF!)","v":{"$error":"#REF!"}},{"$f":"IF(Data!#REF!=\"\",\"\",Data!#REF!)","v":{"$error":"#REF!"}},{"$f":"IF(Data!#REF!=\"\",\"\",Data!#REF!)","v":{"$error":"#REF!"}},{"$f":"IF(Data!#REF!=\"\",\"\",Data!#REF!)","v":{"$error":"#REF!"}},{"$f":"IF(Data!#REF!=\"\",\"\",Data!#REF!)","v":{"$error":"#REF!"}},{"$error":"#REF!"},{"$error":"#REF!"},{"$error":"#REF!"}]
[{"$f":"IF(Data!#REF!=\"\",\"\",Data!#REF!)","v":{"$error":"#REF!"}},{"$f":"IF(Data!#REF!=\"\",\"\",Data!#REF!)","v":{"$error":"#REF!"}},{"$f":"IF(Data!#REF!=\"\",\"\",Data!#REF!)","v":{"$error":"#REF!"}},{"$f":"IF(Data!#REF!=\"\",\"\",Data!#REF!)","v":{"$error":"#REF!"}},{"$f":"IF(Data!#REF!=\"\",\"\",Data!#REF!)","v":{"$error":"#REF!"}},{"$error":"#REF!"},{"$error":"#REF!"},{"$error":"#REF!"}]
[{"$f":"IF(Data!#REF!=\"\",\"\",Data!#REF!)","v":{"$error":"#REF!"}},{"$f":"IF(Data!#REF!=\"\",\"\",Data!#REF!)","v":{"$error":"#REF!"}},{"$f":"IF(Data!#REF!=\"\",\"\",Data!#REF!)","v":{"$error":"#REF!"}},{"$f":"IF(Data!#REF!=\"\",\"\",Data!#REF!)","v":{"$error":"#REF!"}},{"$f":"IF(Data!#REF!=\"\",\"\",Data!#REF!)","v":{"$error":"#REF!"}},{"$error":"#REF!"},{"$error":"#REF!"},{"$error":"#REF!"}]
[{"$f":"IF(Data!#REF!=\"\",\"\",Data!#REF!)","v":{"$error":"#REF!"}},{"$f":"IF(Data!#REF!=\"\",\"\",Data!#REF!)","v":{"$error":"#REF!"}},{"$f":"IF(Data!#REF!=\"\",\"\",Data!#REF!)","v":{"$error":"#REF!"}},{"$f":"IF(Data!#REF!=\"\",\"\",Data!#REF!)","v":{"$error":"#REF!"}},{"$f":"IF(Data!#REF!=\"\",\"\",Data!#REF!)","v":{"$error":"#REF!"}},{"$error":"#REF!"},{"$error":"#REF!"},{"$error":"#REF!"}]
[{"$f":"IF(Data!#REF!=\"\",\"\",Data!#REF!)","v":{"$error":"#REF!"}},{"$f":"IF(Data!#REF!=\"\",\"\",Data!#REF!)","v":{"$error":"#REF!"}},{"$f":"IF(Data!#REF!=\"\",\"\",Data!#REF!)","v":{"$error":"#REF!"}},{"$f":"IF(Data!#REF!=\"\",\"\",Data!#REF!)","v":{"$error":"#REF!"}},{"$f":"IF(Data!#REF!=\"\",\"\",Data!#REF!)","v":{"$error":"#REF!"}},{"$error":"#REF!"},{"$error":"#REF!"},{"$error":"#REF!"}]
[{"$f":"IF(Data!#REF!=\"\",\"\",Data!#REF!)","v":{"$error":"#REF!"}},{"$f":"IF(Data!#REF!=\"\",\"\",Data!#REF!)","v":{"$error":"#REF!"}},{"$f":"IF(Data!#REF!=\"\",\"\",Data!#REF!)","v":{"$error":"#REF!"}},{"$f":"IF(Data!#REF!=\"\",\"\",Data!#REF!)","v":{"$error":"#REF!"}},{"$f":"IF(Data!#REF!=\"\",\"\",Data!#REF!)","v":{"$error":"#REF!"}},{"$error":"#REF!"},{"$error":"#REF!"},{"$error":"#REF!"}]
[{"$f":"IF(Data!#REF!=\"\",\"\",Data!#REF!)","v":{"$error":"#REF!"}},{"$f":"IF(Data!#REF!=\"\",\"\",Data!#REF!)","v":{"$error":"#REF!"}},{"$f":"IF(Data!#REF!=\"\",\"\",Data!#REF!)","v":{"$error":"#REF!"}},{"$f":"IF(Data!#REF!=\"\",\"\",Data!#REF!)","v":{"$error":"#REF!"}},{"$f":"IF(Data!#REF!=\"\",\"\",Data!#REF!)","v":{"$error":"#REF!"}},{"$error":"#REF!"},{"$error":"#REF!"},{"$error":"#REF!"}]
[{"$f":"IF(Data!#REF!=\"\",\"\",Data!#REF!)","v":{"$error":"#REF!"}},{"$f":"IF(Data!#REF!=\"\",\"\",Data!#REF!)","v":{"$error":"#REF!"}},{"$f":"IF(Data!#REF!=\"\",\"\",Data!#REF!)","v":{"$error":"#REF!"}},{"$f":"IF(Data!#REF!=\"\",\"\",Data!#REF!)","v":{"$error":"#REF!"}},{"$f":"IF(Data!#REF!=\"\",\"\",Data!#REF!)","v":{"$error":"#REF!"}},{"$error":"#REF!"},{"$error":"#REF!"},{"$error":"#REF!"}]
[{"$f":"IF(Data!#REF!=\"\",\"\",Data!#REF!)","v":{"$error":"#REF!"}},{"$f":"IF(Data!#REF!=\"\",\"\",Data!#REF!)","v":{"$error":"#REF!"}},{"$f":"IF(Data!#REF!=\"\",\"\",Data!#REF!)","v":{"$error":"#REF!"}},{"$f":"IF(Data!#REF!=\"\",\"\",Data!#REF!)","v":{"$error":"#REF!"}},{"$f":"IF(Data!#REF!=\"\",\"\",Data!#REF!)","v":{"$error":"#REF!"}},{"$error":"#REF!"},{"$error":"#REF!"},{"$error":"#REF!"}]
[{"$f":"IF(Data!#REF!=\"\",\"\",Data!#REF!)","v":{"$error":"#REF!"}},{"$f":"IF(Data!#REF!=\"\",\"\",Data!#REF!)","v":{"$error":"#REF!"}},{"$f":"IF(Data!#REF!=\"\",\"\",Data!#REF!)","v":{"$error":"#REF!"}},{"$f":"IF(Data!#REF!=\"\",\"\",Data!#REF!)","v":{"$error":"#REF!"}},{"$f":"IF(Data!#REF!=\"\",\"\",Data!#REF!)","v":{"$error":"#REF!"}},{"$error":"#REF!"},{"$error":"#REF!"},{"$error":"#REF!"}]
[{"$f":"IF(Data!#REF!=\"\",\"\",Data!#REF!)","v":{"$error":"#REF!"}},{"$f":"IF(Data!#REF!=\"\",\"\",Data!#REF!)","v":{"$error":"#REF!"}},{"$f":"IF(Data!#REF!=\"\",\"\",Data!#REF!)","v":{"$error":"#REF!"}},{"$f":"IF(Data!#REF!=\"\",\"\",Data!#REF!)","v":{"$error":"#REF!"}},{"$f":"IF(Data!#REF!=\"\",\"\",Data!#REF!)","v":{"$error":"#REF!"}},{"$error":"#REF!"},{"$error":"#REF!"},{"$error":"#REF!"}]
[{"$f":"IF(Data!#REF!=\"\",\"\",Data!#REF!)","v":{"$error":"#REF!"}},{"$f":"IF(Data!#REF!=\"\",\"\",Data!#REF!)","v":{"$error":"#REF!"}},{"$f":"IF(Data!#REF!=\"\",\"\",Data!#REF!)","v":{"$error":"#REF!"}},{"$f":"IF(Data!#REF!=\"\",\"\",Data!#REF!)","v":{"$error":"#REF!"}},{"$f":"IF(Data!#REF!=\"\",\"\",Data!#REF!)","v":{"$error":"#REF!"}},{"$error":"#REF!"},{"$error":"#REF!"},{"$error":"#REF!"}]
[{"$f":"IF(Data!#REF!=\"\",\"\",Data!#REF!)","v":{"$error":"#REF!"}},{"$f":"IF(Data!#REF!=\"\",\"\",Data!#REF!)","v":{"$error":"#REF!"}},{"$f":"IF(Data!#REF!=\"\",\"\",Data!#REF!)","v":{"$error":"#REF!"}},{"$f":"IF(Data!#REF!=\"\",\"\",Data!#REF!)","v":{"$error":"#REF!"}},{"$f":"IF(Data!#REF!=\"\",\"\",Data!#REF!)","v":{"$error":"#REF!"}},{"$error":"#REF!"},{"$error":"#REF!"},{"$error":"#REF!"}]
[{"$f":"IF(Data!#REF!=\"\",\"\",Data!#REF!)","v":{"$error":"#REF!"}},{"$f":"IF(Data!#REF!=\"\",\"\",Data!#REF!)","v":{"$error":"#REF!"}},{"$f":"IF(Data!#REF!=\"\",\"\",Data!#REF!)","v":{"$error":"#REF!"}},{"$f":"IF(Data!#REF!=\"\",\"\",Data!#REF!)","v":{"$error":"#REF!"}},{"$f":"IF(Data!#REF!=\"\",\"\",Data!#REF!)","v":{"$error":"#REF!"}},{"$error":"#REF!"},{"$error":"#REF!"},{"$error":"#REF!"}]
[{"$f":"IF(Data!#REF!=\"\",\"\",Data!#REF!)","v":{"$error":"#REF!"}},{"$f":"IF(Data!#REF!=\"\",\"\",Data!#REF!)","v":{"$error":"#REF!"}},{"$f":"IF(Data!#REF!=\"\",\"\",Data!#REF!)","v":{"$error":"#REF!"}},{"$f":"IF(Data!#REF!=\"\",\"\",Data!#REF!)","v":{"$error":"#REF!"}},{"$f":"IF(Data!#REF!=\"\",\"\",Data!#REF!)","v":{"$error":"#REF!"}},{"$error":"#REF!"},{"$error":"#REF!"},{"$error":"#REF!"}]
[{"$f":"IF(Data!#REF!=\"\",\"\",Data!#REF!)","v":{"$error":"#REF!"}},{"$f":"IF(Data!#REF!=\"\",\"\",Data!#REF!)","v":{"$error":"#REF!"}},{"$f":"IF(Data!#REF!=\"\",\"\",Data!#REF!)","v":{"$error":"#REF!"}},{"$f":"IF(Data!#REF!=\"\",\"\",Data!#REF!)","v":{"$error":"#REF!"}},{"$f":"IF(Data!#REF!=\"\",\"\",Data!#REF!)","v":{"$error":"#REF!"}},{"$error":"#REF!"},{"$error":"#REF!"},{"$error":"#REF!"}]
[{"$f":"IF(Data!#REF!=\"\",\"\",Data!#REF!)","v":{"$error":"#REF!"}},{"$f":"IF(Data!#REF!=\"\",\"\",Data!#REF!)","v":{"$error":"#REF!"}},{"$f":"IF(Data!#REF!=\"\",\"\",Data!#REF!)","v":{"$error":"#REF!"}},{"$f":"IF(Data!#REF!=\"\",\"\",Data!#REF!)","v":{"$error":"#REF!"}},{"$f":"IF(Data!#REF!=\"\",\"\",Data!#REF!)","v":{"$error":"#REF!"}},{"$error":"#REF!"},{"$error":"#REF!"},{"$error":"#REF!"}]
[{"$f":"IF(Data!#REF!=\"\",\"\",Data!#REF!)","v":{"$error":"#REF!"}},{"$f":"IF(Data!#REF!=\"\",\"\",Data!#REF!)","v":{"$error":"#REF!"}},{"$f":"IF(Data!#REF!=\"\",\"\",Data!#REF!)","v":{"$error":"#REF!"}},{"$f":"IF(Data!#REF!=\"\",\"\",Data!#REF!)","v":{"$error":"#REF!"}},{"$f":"IF(Data!#REF!=\"\",\"\",Data!#REF!)","v":{"$error":"#REF!"}},{"$error":"#REF!"},{"$error":"#REF!"},{"$error":"#REF!"}]
[{"$f":"IF(Data!#REF!=\"\",\"\",Data!#REF!)","v":{"$error":"#REF!"}},{"$f":"IF(Data!#REF!=\"\",\"\",Data!#REF!)","v":{"$error":"#REF!"}},{"$f":"IF(Data!#REF!=\"\",\"\",Data!#REF!)","v":{"$error":"#REF!"}},{"$f":"IF(Data!#REF!=\"\",\"\",Data!#REF!)","v":{"$error":"#REF!"}},{"$f":"IF(Data!#REF!=\"\",\"\",Data!#REF!)","v":{"$error":"#REF!"}},{"$error":"#REF!"},{"$error":"#REF!"},{"$error":"#REF!"}]
[{"$f":"IF(Data!#REF!=\"\",\"\",Data!#REF!)","v":{"$error":"#REF!"}},{"$f":"IF(Data!#REF!=\"\",\"\",Data!#REF!)","v":{"$error":"#REF!"}},{"$f":"IF(Data!#REF!=\"\",\"\",Data!#REF!)","v":{"$error":"#REF!"}},{"$f":"IF(Data!#REF!=\"\",\"\",Data!#REF!)","v":{"$error":"#REF!"}},{"$f":"IF(Data!#REF!=\"\",\"\",Data!#REF!)","v":{"$error":"#REF!"}},{"$error":"#REF!"},{"$error":"#REF!"},{"$error":"#REF!"}]
[{"$f":"IF(Data!#REF!=\"\",\"\",Data!#REF!)","v":{"$error":"#REF!"}},{"$f":"IF(Data!#REF!=\"\",\"\",Data!#REF!)","v":{"$error":"#REF!"}},{"$f":"IF(Data!#REF!=\"\",\"\",Data!#REF!)","v":{"$error":"#REF!"}},{"$f":"IF(Data!#REF!=\"\",\"\",Data!#REF!)","v":{"$error":"#REF!"}},{"$f":"IF(Data!#REF!=\"\",\"\",Data!#REF!)","v":{"$error":"#REF!"}},{"$error":"#REF!"},{"$error":"#REF!"},{"$error":"#REF!"}]
[{"$f":"IF(Data!#REF!=\"\",\"\",Data!#REF!)","v":{"$error":"#REF!"}},{"$f":"IF(Data!#REF!=\"\",\"\",Data!#REF!)","v":{"$error":"#REF!"}},{"$f":"IF(Data!#REF!=\"\",\"\",Data!#REF!)","v":{"$error":"#REF!"}},{"$f":"IF(Data!#REF!=\"\",\"\",Data!#REF!)","v":{"$error":"#REF!"}},{"$f":"IF(Data!#REF!=\"\",\"\",Data!#REF!)","v":{"$error":"#REF!"}},{"$error":"#REF!"},{"$error":"#REF!"},{"$error":"#REF!"}]
[{"$f":"IF(Data!#REF!=\"\",\"\",Data!#REF!)","v":{"$error":"#REF!"}},{"$f":"IF(Data!#REF!=\"\",\"\",Data!#REF!)","v":{"$error":"#REF!"}},{"$f":"IF(Data!#REF!=\"\",\"\",Data!#REF!)","v":{"$error":"#REF!"}},{"$f":"IF(Data!#REF!=\"\",\"\",Data!#REF!)","v":{"$error":"#REF!"}},{"$f":"IF(Data!#REF!=\"\",\"\",Data!#REF!)","v":{"$error":"#REF!"}},{"$error":"#REF!"},{"$error":"#REF!"},{"$error":"#REF!"}]
[{"$f":"IF(Data!#REF!=\"\",\"\",Data!#REF!)","v":{"$error":"#REF!"}},{"$f":"IF(Data!#REF!=\"\",\"\",Data!#REF!)","v":{"$error":"#REF!"}},{"$f":"IF(Data!#REF!=\"\",\"\",Data!#REF!)","v":{"$error":"#REF!"}},{"$f":"IF(Data!#REF!=\"\",\"\",Data!#REF!)","v":{"$error":"#REF!"}},{"$f":"IF(Data!#REF!=\"\",\"\",Data!#REF!)","v":{"$error":"#REF!"}},{"$error":"#REF!"},{"$error":"#REF!"},{"$error":"#REF!"}]
[{"$f":"IF(Data!#REF!=\"\",\"\",Data!#REF!)","v":{"$error":"#REF!"}},{"$f":"IF(Data!#REF!=\"\",\"\",Data!#REF!)","v":{"$error":"#REF!"}},{"$f":"IF(Data!#REF!=\"\",\"\",Data!#REF!)","v":{"$error":"#REF!"}},{"$f":"IF(Data!#REF!=\"\",\"\",Data!#REF!)","v":{"$error":"#REF!"}},{"$f":"IF(Data!#REF!=\"\",\"\",Data!#REF!)","v":{"$error":"#REF!"}},{"$error":"#REF!"},{"$error":"#REF!"},{"$error":"#REF!"}]
[{"$f":"IF(Data!#REF!=\"\",\"\",Data!#REF!)","v":{"$error":"#REF!"}},{"$f":"IF(Data!#REF!=\"\",\"\",Data!#REF!)","v":{"$error":"#REF!"}},{"$f":"IF(Data!#REF!=\"\",\"\",Data!#REF!)","v":{"$error":"#REF!"}},{"$f":"IF(Data!#REF!=\"\",\"\",Data!#REF!)","v":{"$error":"#REF!"}},{"$f":"IF(Data!#REF!=\"\",\"\",Data!#REF!)","v":{"$error":"#REF!"}},{"$error":"#REF!"},{"$error":"#REF!"},{"$error":"#REF!"}]
[{"$f":"IF(Data!#REF!=\"\",\"\",Data!#REF!)","v":{"$error":"#REF!"}},{"$f":"IF(Data!#REF!=\"\",\"\",Data!#REF!)","v":{"$error":"#REF!"}},{"$f":"IF(Data!#REF!=\"\",\"\",Data!#REF!)","v":{"$error":"#REF!"}},{"$f":"IF(Data!#REF!=\"\",\"\",Data!#REF!)","v":{"$error":"#REF!"}},{"$f":"IF(Data!#REF!=\"\",\"\",Data!#REF!)","v":{"$error":"#REF!"}},{"$error":"#REF!"},{"$error":"#REF!"},{"$error":"#REF!"}]
[{"$f":"IF(Data!#REF!=\"\",\"\",Data!#REF!)","v":{"$error":"#REF!"}},{"$f":"IF(Data!#REF!=\"\",\"\",Data!#REF!)","v":{"$error":"#REF!"}},{"$f":"IF(Data!#REF!=\"\",\"\",Data!#REF!)","v":{"$error":"#REF!"}},{"$f":"IF(Data!#REF!=\"\",\"\",Data!#REF!)","v":{"$error":"#REF!"}},{"$f":"IF(Data!#REF!=\"\",\"\",Data!#REF!)","v":{"$error":"#REF!"}},{"$error":"#REF!"},{"$error":"#REF!"},{"$error":"#REF!"}]
[{"$f":"IF(Data!#REF!=\"\",\"\",Data!#REF!)","v":{"$error":"#REF!"}},{"$f":"IF(Data!#REF!=\"\",\"\",Data!#REF!)","v":{"$error":"#REF!"}},{"$f":"IF(Data!#REF!=\"\",\"\",Data!#REF!)","v":{"$error":"#REF!"}},{"$f":"IF(Data!#REF!=\"\",\"\",Data!#REF!)","v":{"$error":"#REF!"}},{"$f":"IF(Data!#REF!=\"\",\"\",Data!#REF!)","v":{"$error":"#REF!"}},{"$error":"#REF!"},{"$error":"#REF!"},{"$error":"#REF!"}]
[{"$f":"IF(Data!#REF!=\"\",\"\",Data!#REF!)","v":{"$error":"#REF!"}},{"$f":"IF(Data!#REF!=\"\",\"\",Data!#REF!)","v":{"$error":"#REF!"}},{"$f":"IF(Data!#REF!=\"\",\"\",Data!#REF!)","v":{"$error":"#REF!"}},{"$f":"IF(Data!#REF!=\"\",\"\",Data!#REF!)","v":{"$error":"#REF!"}},{"$f":"IF(Data!#REF!=\"\",\"\",Data!#REF!)","v":{"$error":"#REF!"}},{"$error":"#REF!"},{"$error":"#REF!"},{"$error":"#REF!"}]
[{"$f":"IF(Data!#REF!=\"\",\"\",Data!#REF!)","v":{"$error":"#REF!"}},{"$f":"IF(Data!#REF!=\"\",\"\",Data!#REF!)","v":{"$error":"#REF!"}},{"$f":"IF(Data!#REF!=\"\",\"\",Data!#REF!)","v":{"$error":"#REF!"}},{"$f":"IF(Data!#REF!=\"\",\"\",Data!#REF!)","v":{"$error":"#REF!"}},{"$f":"IF(Data!#REF!=\"\",\"\",Data!#REF!)","v":{"$error":"#REF!"}},{"$error":"#REF!"},{"$error":"#REF!"},{"$error":"#REF!"}]
[{"$f":"IF(Data!#REF!=\"\",\"\",Data!#REF!)","v":{"$error":"#REF!"}},{"$f":"IF(Data!#REF!=\"\",\"\",Data!#REF!)","v":{"$error":"#REF!"}},{"$f":"IF(Data!#REF!=\"\",\"\",Data!#REF!)","v":{"$error":"#REF!"}},{"$f":"IF(Data!#REF!=\"\",\"\",Data!#REF!)","v":{"$error":"#REF!"}},{"$f":"IF(Data!#REF!=\"\",\"\",Data!#REF!)","v":{"$error":"#REF!"}},{"$error":"#REF!"},{"$error":"#REF!"},{"$error":"#REF!"}]
[{"$f":"IF(Data!#REF!=\"\",\"\",Data!#REF!)","v":{"$error":"#REF!"}},{"$f":"IF(Data!#REF!=\"\",\"\",Data!#REF!)","v":{"$error":"#REF!"}},{"$f":"IF(Data!#REF!=\"\",\"\",Data!#REF!)","v":{"$error":"#REF!"}},{"$f":"IF(Data!#REF!=\"\",\"\",Data!#REF!)","v":{"$error":"#REF!"}},{"$f":"IF(Data!#REF!=\"\",\"\",Data!#REF!)","v":{"$error":"#REF!"}},{"$error":"#REF!"},{"$error":"#REF!"},{"$error":"#REF!"}]
[{"$f":"IF(Data!#REF!=\"\",\"\",Data!#REF!)","v":{"$error":"#REF!"}},{"$f":"IF(Data!#REF!=\"\",\"\",Data!#REF!)","v":{"$error":"#REF!"}},{"$f":"IF(Data!#REF!=\"\",\"\",Data!#REF!)","v":{"$error":"#REF!"}},{"$f":"IF(Data!#REF!=\"\",\"\",Data!#REF!)","v":{"$error":"#REF!"}},{"$f":"IF(Data!#REF!=\"\",\"\",Data!#REF!)","v":{"$error":"#REF!"}},{"$error":"#REF!"},{"$error":"#REF!"},{"$error":"#REF!"}]
[{"$f":"IF(Data!#REF!=\"\",\"\",Data!#REF!)","v":{"$error":"#REF!"}},{"$f":"IF(Data!#REF!=\"\",\"\",Data!#REF!)","v":{"$error":"#REF!"}},{"$f":"IF(Data!#REF!=\"\",\"\",Data!#REF!)","v":{"$error":"#REF!"}},{"$f":"IF(Data!#REF!=\"\",\"\",Data!#REF!)","v":{"$error":"#REF!"}},{"$f":"IF(Data!#REF!=\"\",\"\",Data!#REF!)","v":{"$error":"#REF!"}},{"$error":"#REF!"},{"$error":"#REF!"},{"$error":"#REF!"}]
[{"$f":"IF(Data!#REF!=\"\",\"\",Data!#REF!)","v":{"$error":"#REF!"}},{"$f":"IF(Data!#REF!=\"\",\"\",Data!#REF!)","v":{"$error":"#REF!"}},{"$f":"IF(Data!#REF!=\"\",\"\",Data!#REF!)","v":{"$error":"#REF!"}},{"$f":"IF(Data!#REF!=\"\",\"\",Data!#REF!)","v":{"$error":"#REF!"}},{"$f":"IF(Data!#REF!=\"\",\"\",Data!#REF!)","v":{"$error":"#REF!"}},{"$error":"#REF!"},{"$error":"#REF!"},{"$error":"#REF!"}]
[{"$f":"IF(Data!#REF!=\"\",\"\",Data!#REF!)","v":{"$error":"#REF!"}},{"$f":"IF(Data!#REF!=\"\",\"\",Data!#REF!)","v":{"$error":"#REF!"}},{"$f":"IF(Data!#REF!=\"\",\"\",Data!#REF!)","v":{"$error":"#REF!"}},{"$f":"IF(Data!#REF!=\"\",\"\",Data!#REF!)","v":{"$error":"#REF!"}},{"$f":"IF(Data!#REF!=\"\",\"\",Data!#REF!)","v":{"$error":"#REF!"}},{"$error":"#REF!"},{"$error":"#REF!"},{"$error":"#REF!"}]
[{"$f":"IF(Data!#REF!=\"\",\"\",Data!#REF!)","v":{"$error":"#REF!"}},{"$f":"IF(Data!#REF!=\"\",\"\",Data!#REF!)","v":{"$error":"#REF!"}},{"$f":"IF(Data!#REF!=\"\",\"\",Data!#REF!)","v":{"$error":"#REF!"}},{"$f":"IF(Data!#REF!=\"\",\"\",Data!#REF!)","v":{"$error":"#REF!"}},{"$f":"IF(Data!#REF!=\"\",\"\",Data!#REF!)","v":{"$error":"#REF!"}},{"$error":"#REF!"},{"$error":"#REF!"},{"$error":"#REF!"}]
[{"$f":"IF(Data!#REF!=\"\",\"\",Data!#REF!)","v":{"$error":"#REF!"}},{"$f":"IF(Data!#REF!=\"\",\"\",Data!#REF!)","v":{"$error":"#REF!"}},{"$f":"IF(Data!#REF!=\"\",\"\",Data!#REF!)","v":{"$error":"#REF!"}},{"$f":"IF(Data!#REF!=\"\",\"\",Data!#REF!)","v":{"$error":"#REF!"}},{"$f":"IF(Data!#REF!=\"\",\"\",Data!#REF!)","v":{"$error":"#REF!"}},{"$error":"#REF!"},{"$error":"#REF!"},{"$error":"#REF!"}]
[{"$f":"IF(Data!#REF!=\"\",\"\",Data!#REF!)","v":{"$error":"#REF!"}},{"$f":"IF(Data!#REF!=\"\",\"\",Data!#REF!)","v":{"$error":"#REF!"}},{"$f":"IF(Data!#REF!=\"\",\"\",Data!#REF!)","v":{"$error":"#REF!"}},{"$f":"IF(Data!#REF!=\"\",\"\",Data!#REF!)","v":{"$error":"#REF!"}},{"$f":"IF(Data!#REF!=\"\",\"\",Data!#REF!)","v":{"$error":"#REF!"}},{"$error":"#REF!"},{"$error":"#REF!"},{"$error":"#REF!"}]
[{"$f":"IF(Data!#REF!=\"\",\"\",Data!#REF!)","v":{"$error":"#REF!"}},{"$f":"IF(Data!#REF!=\"\",\"\",Data!#REF!)","v":{"$error":"#REF!"}},{"$f":"IF(Data!#REF!=\"\",\"\",Data!#REF!)","v":{"$error":"#REF!"}},{"$f":"IF(Data!#REF!=\"\",\"\",Data!#REF!)","v":{"$error":"#REF!"}},{"$f":"IF(Data!#REF!=\"\",\"\",Data!#REF!)","v":{"$error":"#REF!"}},{"$error":"#REF!"},{"$error":"#REF!"},{"$error":"#REF!"}]
[{"$f":"IF(Data!#REF!=\"\",\"\",Data!#REF!)","v":{"$error":"#REF!"}},{"$f":"IF(Data!#REF!=\"\",\"\",Data!#REF!)","v":{"$error":"#REF!"}},{"$f":"IF(Data!#REF!=\"\",\"\",Data!#REF!)","v":{"$error":"#REF!"}},{"$f":"IF(Data!#REF!=\"\",\"\",Data!#REF!)","v":{"$error":"#REF!"}},{"$f":"IF(Data!#REF!=\"\",\"\",Data!#REF!)","v":{"$error":"#REF!"}},{"$error":"#REF!"},{"$error":"#REF!"},{"$error":"#REF!"}]
[{"$f":"IF(Data!#REF!=\"\",\"\",Data!#REF!)","v":{"$error":"#REF!"}},{"$f":"IF(Data!#REF!=\"\",\"\",Data!#REF!)","v":{"$error":"#REF!"}},{"$f":"IF(Data!#REF!=\"\",\"\",Data!#REF!)","v":{"$error":"#REF!"}},{"$f":"IF(Data!#REF!=\"\",\"\",Data!#REF!)","v":{"$error":"#REF!"}},{"$f":"IF(Data!#REF!=\"\",\"\",Data!#REF!)","v":{"$error":"#REF!"}},{"$error":"#REF!"},{"$error":"#REF!"},{"$error":"#REF!"}]
[{"$f":"IF(Data!#REF!=\"\",\"\",Data!#REF!)","v":{"$error":"#REF!"}},{"$f":"IF(Data!#REF!=\"\",\"\",Data!#REF!)","v":{"$error":"#REF!"}},{"$f":"IF(Data!#REF!=\"\",\"\",Data!#REF!)","v":{"$error":"#REF!"}},{"$f":"IF(Data!#REF!=\"\",\"\",Data!#REF!)","v":{"$error":"#REF!"}},{"$f":"IF(Data!#REF!=\"\",\"\",Data!#REF!)","v":{"$error":"#REF!"}},{"$error":"#REF!"},{"$error":"#REF!"},{"$error":"#REF!"}]
[{"$f":"IF(Data!#REF!=\"\",\"\",Data!#REF!)","v":{"$error":"#REF!"}},{"$f":"IF(Data!#REF!=\"\",\"\",Data!#REF!)","v":{"$error":"#REF!"}},{"$f":"IF(Data!#REF!=\"\",\"\",Data!#REF!)","v":{"$error":"#REF!"}},{"$f":"IF(Data!#REF!=\"\",\"\",Data!#REF!)","v":{"$error":"#REF!"}},{"$f":"IF(Data!#REF!=\"\",\"\",Data!#REF!)","v":{"$error":"#REF!"}},{"$error":"#REF!"},{"$error":"#REF!"},{"$error":"#REF!"}]
[{"$f":"IF(Data!#REF!=\"\",\"\",Data!#REF!)","v":{"$error":"#REF!"}},{"$f":"IF(Data!#REF!=\"\",\"\",Data!#REF!)","v":{"$error":"#REF!"}},{"$f":"IF(Data!#REF!=\"\",\"\",Data!#REF!)","v":{"$error":"#REF!"}},{"$f":"IF(Data!#REF!=\"\",\"\",Data!#REF!)","v":{"$error":"#REF!"}},{"$f":"IF(Data!#REF!=\"\",\"\",Data!#REF!)","v":{"$error":"#REF!"}},{"$error":"#REF!"},{"$error":"#REF!"},{"$error":"#REF!"}]
[{"$f":"IF(Data!#REF!=\"\",\"\",Data!#REF!)","v":{"$error":"#REF!"}},{"$f":"IF(Data!#REF!=\"\",\"\",Data!#REF!)","v":{"$error":"#REF!"}},{"$f":"IF(Data!#REF!=\"\",\"\",Data!#REF!)","v":{"$error":"#REF!"}},{"$f":"IF(Data!#REF!=\"\",\"\",Data!#REF!)","v":{"$error":"#REF!"}},{"$f":"IF(Data!#REF!=\"\",\"\",Data!#REF!)","v":{"$error":"#REF!"}},{"$error":"#REF!"},{"$error":"#REF!"},{"$error":"#REF!"}]
[{"$f":"IF(Data!#REF!=\"\",\"\",Data!#REF!)","v":{"$error":"#REF!"}},{"$f":"IF(Data!#REF!=\"\",\"\",Data!#REF!)","v":{"$error":"#REF!"}},{"$f":"IF(Data!#REF!=\"\",\"\",Data!#REF!)","v":{"$error":"#REF!"}},{"$f":"IF(Data!#REF!=\"\",\"\",Data!#REF!)","v":{"$error":"#REF!"}},{"$f":"IF(Data!#REF!=\"\",\"\",Data!#REF!)","v":{"$error":"#REF!"}},{"$error":"#REF!"},{"$error":"#REF!"},{"$error":"#REF!"}]
[{"$f":"IF(Data!#REF!=\"\",\"\",Data!#REF!)","v":{"$error":"#REF!"}},{"$f":"IF(Data!#REF!=\"\",\"\",Data!#REF!)","v":{"$error":"#REF!"}},{"$f":"IF(Data!#REF!=\"\",\"\",Data!#REF!)","v":{"$error":"#REF!"}},{"$f":"IF(Data!#REF!=\"\",\"\",Data!#REF!)","v":{"$error":"#REF!"}},{"$f":"IF(Data!#REF!=\"\",\"\",Data!#REF!)","v":{"$error":"#REF!"}},{"$error":"#REF!"},{"$error":"#REF!"},{"$error":"#REF!"}]
[{"$f":"IF(Data!#REF!=\"\",\"\",Data!#REF!)","v":{"$error":"#REF!"}},{"$f":"IF(Data!#REF!=\"\",\"\",Data!#REF!)","v":{"$error":"#REF!"}},{"$f":"IF(Data!#REF!=\"\",\"\",Data!#REF!)","v":{"$error":"#REF!"}},{"$f":"IF(Data!#REF!=\"\",\"\",Data!#REF!)","v":{"$error":"#REF!"}},{"$f":"IF(Data!#REF!=\"\",\"\",Data!#REF!)","v":{"$error":"#REF!"}},{"$error":"#REF!"},{"$error":"#REF!"},{"$error":"#REF!"}]
[{"$f":"IF(Data!#REF!=\"\",\"\",Data!#REF!)","v":{"$error":"#REF!"}},{"$f":"IF(Data!#REF!=\"\",\"\",Data!#REF!)","v":{"$error":"#REF!"}},{"$f":"IF(Data!#REF!=\"\",\"\",Data!#REF!)","v":{"$error":"#REF!"}},{"$f":"IF(Data!#REF!=\"\",\"\",Data!#REF!)","v":{"$error":"#REF!"}},{"$f":"IF(Data!#REF!=\"\",\"\",Data!#REF!)","v":{"$error":"#REF!"}},{"$error":"#REF!"},{"$error":"#REF!"},{"$error":"#REF!"}]
[{"$f":"IF(Data!#REF!=\"\",\"\",Data!#REF!)","v":{"$error":"#REF!"}},{"$f":"IF(Data!#REF!=\"\",\"\",Data!#REF!)","v":{"$error":"#REF!"}},{"$f":"IF(Data!#REF!=\"\",\"\",Data!#REF!)","v":{"$error":"#REF!"}},{"$f":"IF(Data!#REF!=\"\",\"\",Data!#REF!)","v":{"$error":"#REF!"}},{"$f":"IF(Data!#REF!=\"\",\"\",Data!#REF!)","v":{"$error":"#REF!"}},{"$error":"#REF!"},{"$error":"#REF!"},{"$error":"#REF!"}]
[{"$f":"IF(Data!#REF!=\"\",\"\",Data!#REF!)","v":{"$error":"#REF!"}},{"$f":"IF(Data!#REF!=\"\",\"\",Data!#REF!)","v":{"$error":"#REF!"}},{"$f":"IF(Data!#REF!=\"\",\"\",Data!#REF!)","v":{"$error":"#REF!"}},{"$f":"IF(Data!#REF!=\"\",\"\",Data!#REF!)","v":{"$error":"#REF!"}},{"$f":"IF(Data!#REF!=\"\",\"\",Data!#REF!)","v":{"$error":"#REF!"}},{"$error":"#REF!"},{"$error":"#REF!"},{"$error":"#REF!"}]
[{"$f":"IF(Data!#REF!=\"\",\"\",Data!#REF!)","v":{"$error":"#REF!"}},{"$f":"IF(Data!#REF!=\"\",\"\",Data!#REF!)","v":{"$error":"#REF!"}},{"$f":"IF(Data!#REF!=\"\",\"\",Data!#REF!)","v":{"$error":"#REF!"}},{"$f":"IF(Data!#REF!=\"\",\"\",Data!#REF!)","v":{"$error":"#REF!"}},{"$f":"IF(Data!#REF!=\"\",\"\",Data!#REF!)","v":{"$error":"#REF!"}},{"$error":"#REF!"},{"$error":"#REF!"},{"$error":"#REF!"}]
[{"$f":"IF(Data!#REF!=\"\",\"\",Data!#REF!)","v":{"$error":"#REF!"}},{"$f":"IF(Data!#REF!=\"\",\"\",Data!#REF!)","v":{"$error":"#REF!"}},{"$f":"IF(Data!#REF!=\"\",\"\",Data!#REF!)","v":{"$error":"#REF!"}},{"$f":"IF(Data!#REF!=\"\",\"\",Data!#REF!)","v":{"$error":"#REF!"}},{"$f":"IF(Data!#REF!=\"\",\"\",Data!#REF!)","v":{"$error":"#REF!"}},{"$error":"#REF!"},{"$error":"#REF!"},{"$error":"#REF!"}]
[{"$f":"IF(Data!#REF!=\"\",\"\",Data!#REF!)","v":{"$error":"#REF!"}},{"$f":"IF(Data!#REF!=\"\",\"\",Data!#REF!)","v":{"$error":"#REF!"}},{"$f":"IF(Data!#REF!=\"\",\"\",Data!#REF!)","v":{"$error":"#REF!"}},{"$f":"IF(Data!#REF!=\"\",\"\",Data!#REF!)","v":{"$error":"#REF!"}},{"$f":"IF(Data!#REF!=\"\",\"\",Data!#REF!)","v":{"$error":"#REF!"}},{"$error":"#REF!"},{"$error":"#REF!"},{"$error":"#REF!"}]
[{"$f":"IF(Data!#REF!=\"\",\"\",Data!#REF!)","v":{"$error":"#REF!"}},{"$f":"IF(Data!#REF!=\"\",\"\",Data!#REF!)","v":{"$error":"#REF!"}},{"$f":"IF(Data!#REF!=\"\",\"\",Data!#REF!)","v":{"$error":"#REF!"}},{"$f":"IF(Data!#REF!=\"\",\"\",Data!#REF!)","v":{"$error":"#REF!"}},{"$f":"IF(Data!#REF!=\"\",\"\",Data!#REF!)","v":{"$error":"#REF!"}},{"$f":"IF(E2819>0,MONTH(E2819),\"\")","v":{"$error":"#REF!"}},{"$f":"IF(E2819>0,WEEKNUM(E2819),\"0\")","v":{"$error":"#REF!"}},{"$f":"IF(G2819>=($G$2-3),\"Ano\",\"Nie\")","v":{"$error":"#REF!"}}]
[{"$f":"IF(Data!#REF!=\"\",\"\",Data!#REF!)","v":{"$error":"#REF!"}},{"$f":"IF(Data!#REF!=\"\",\"\",Data!#REF!)","v":{"$error":"#REF!"}},{"$f":"IF(Data!#REF!=\"\",\"\",Data!#REF!)","v":{"$error":"#REF!"}},{"$f":"IF(Data!#REF!=\"\",\"\",Data!#REF!)","v":{"$error":"#REF!"}},{"$f":"IF(Data!#REF!=\"\",\"\",Data!#REF!)","v":{"$error":"#REF!"}},{"$error":"#REF!"},{"$error":"#REF!"},{"$error":"#REF!"}]
[{"$f":"IF(Data!#REF!=\"\",\"\",Data!#REF!)","v":{"$error":"#REF!"}},{"$f":"IF(Data!#REF!=\"\",\"\",Data!#REF!)","v":{"$error":"#REF!"}},{"$f":"IF(Data!#REF!=\"\",\"\",Data!#REF!)","v":{"$error":"#REF!"}},{"$f":"IF(Data!#REF!=\"\",\"\",Data!#REF!)","v":{"$error":"#REF!"}},{"$f":"IF(Data!#REF!=\"\",\"\",Data!#REF!)","v":{"$error":"#REF!"}},{"$error":"#REF!"},{"$error":"#REF!"},{"$error":"#REF!"}]
[{"$f":"IF(Data!#REF!=\"\",\"\",Data!#REF!)","v":{"$error":"#REF!"}},{"$f":"IF(Data!#REF!=\"\",\"\",Data!#REF!)","v":{"$error":"#REF!"}},{"$f":"IF(Data!#REF!=\"\",\"\",Data!#REF!)","v":{"$error":"#REF!"}},{"$f":"IF(Data!#REF!=\"\",\"\",Data!#REF!)","v":{"$error":"#REF!"}},{"$f":"IF(Data!#REF!=\"\",\"\",Data!#REF!)","v":{"$error":"#REF!"}},{"$error":"#REF!"},{"$error":"#REF!"},{"$error":"#REF!"}]
[{"$f":"IF(Data!#REF!=\"\",\"\",Data!#REF!)","v":{"$error":"#REF!"}},{"$f":"IF(Data!#REF!=\"\",\"\",Data!#REF!)","v":{"$error":"#REF!"}},{"$f":"IF(Data!#REF!=\"\",\"\",Data!#REF!)","v":{"$error":"#REF!"}},{"$f":"IF(Data!#REF!=\"\",\"\",Data!#REF!)","v":{"$error":"#REF!"}},{"$f":"IF(Data!#REF!=\"\",\"\",Data!#REF!)","v":{"$error":"#REF!"}},{"$error":"#REF!"},{"$error":"#REF!"},{"$error":"#REF!"}]
[{"$f":"IF(Data!#REF!=\"\",\"\",Data!#REF!)","v":{"$error":"#REF!"}},{"$f":"IF(Data!#REF!=\"\",\"\",Data!#REF!)","v":{"$error":"#REF!"}},{"$f":"IF(Data!#REF!=\"\",\"\",Data!#REF!)","v":{"$error":"#REF!"}},{"$f":"IF(Data!#REF!=\"\",\"\",Data!#REF!)","v":{"$error":"#REF!"}},{"$f":"IF(Data!#REF!=\"\",\"\",Data!#REF!)","v":{"$error":"#REF!"}},{"$error":"#REF!"},{"$error":"#REF!"},{"$error":"#REF!"}]
[{"$f":"IF(Data!#REF!=\"\",\"\",Data!#REF!)","v":{"$error":"#REF!"}},{"$f":"IF(Data!#REF!=\"\",\"\",Data!#REF!)","v":{"$error":"#REF!"}},{"$f":"IF(Data!#REF!=\"\",\"\",Data!#REF!)","v":{"$error":"#REF!"}},{"$f":"IF(Data!#REF!=\"\",\"\",Data!#REF!)","v":{"$error":"#REF!"}},{"$f":"IF(Data!#REF!=\"\",\"\",Data!#REF!)","v":{"$error":"#REF!"}},{"$error":"#REF!"},{"$error":"#REF!"},{"$error":"#REF!"}]
[{"$f":"IF(Data!#REF!=\"\",\"\",Data!#REF!)","v":{"$error":"#REF!"}},{"$f":"IF(Data!#REF!=\"\",\"\",Data!#REF!)","v":{"$error":"#REF!"}},{"$f":"IF(Data!#REF!=\"\",\"\",Data!#REF!)","v":{"$error":"#REF!"}},{"$f":"IF(Data!#REF!=\"\",\"\",Data!#REF!)","v":{"$error":"#REF!"}},{"$f":"IF(Data!#REF!=\"\",\"\",Data!#REF!)","v":{"$error":"#REF!"}},{"$error":"#REF!"},{"$error":"#REF!"},{"$error":"#REF!"}]
[{"$f":"IF(Data!#REF!=\"\",\"\",Data!#REF!)","v":{"$error":"#REF!"}},{"$f":"IF(Data!#REF!=\"\",\"\",Data!#REF!)","v":{"$error":"#REF!"}},{"$f":"IF(Data!#REF!=\"\",\"\",Data!#REF!)","v":{"$error":"#REF!"}},{"$f":"IF(Data!#REF!=\"\",\"\",Data!#REF!)","v":{"$error":"#REF!"}},{"$f":"IF(Data!#REF!=\"\",\"\",Data!#REF!)","v":{"$error":"#REF!"}},{"$error":"#REF!"},{"$error":"#REF!"},{"$error":"#REF!"}]
[{"$f":"IF(Data!#REF!=\"\",\"\",Data!#REF!)","v":{"$error":"#REF!"}},{"$f":"IF(Data!#REF!=\"\",\"\",Data!#REF!)","v":{"$error":"#REF!"}},{"$f":"IF(Data!#REF!=\"\",\"\",Data!#REF!)","v":{"$error":"#REF!"}},{"$f":"IF(Data!#REF!=\"\",\"\",Data!#REF!)","v":{"$error":"#REF!"}},{"$f":"IF(Data!#REF!=\"\",\"\",Data!#REF!)","v":{"$error":"#REF!"}},{"$error":"#REF!"},{"$error":"#REF!"},{"$error":"#REF!"}]
[{"$f":"IF(Data!#REF!=\"\",\"\",Data!#REF!)","v":{"$error":"#REF!"}},{"$f":"IF(Data!#REF!=\"\",\"\",Data!#REF!)","v":{"$error":"#REF!"}},{"$f":"IF(Data!#REF!=\"\",\"\",Data!#REF!)","v":{"$error":"#REF!"}},{"$f":"IF(Data!#REF!=\"\",\"\",Data!#REF!)","v":{"$error":"#REF!"}},{"$f":"IF(Data!#REF!=\"\",\"\",Data!#REF!)","v":{"$error":"#REF!"}},{"$error":"#REF!"},{"$error":"#REF!"},{"$error":"#REF!"}]
[{"$f":"IF(Data!#REF!=\"\",\"\",Data!#REF!)","v":{"$error":"#REF!"}},{"$f":"IF(Data!#REF!=\"\",\"\",Data!#REF!)","v":{"$error":"#REF!"}},{"$f":"IF(Data!#REF!=\"\",\"\",Data!#REF!)","v":{"$error":"#REF!"}},{"$f":"IF(Data!#REF!=\"\",\"\",Data!#REF!)","v":{"$error":"#REF!"}},{"$f":"IF(Data!#REF!=\"\",\"\",Data!#REF!)","v":{"$error":"#REF!"}},{"$error":"#REF!"},{"$error":"#REF!"},{"$error":"#REF!"}]
[{"$f":"IF(Data!#REF!=\"\",\"\",Data!#REF!)","v":{"$error":"#REF!"}},{"$f":"IF(Data!#REF!=\"\",\"\",Data!#REF!)","v":{"$error":"#REF!"}},{"$f":"IF(Data!#REF!=\"\",\"\",Data!#REF!)","v":{"$error":"#REF!"}},{"$f":"IF(Data!#REF!=\"\",\"\",Data!#REF!)","v":{"$error":"#REF!"}},{"$f":"IF(Data!#REF!=\"\",\"\",Data!#REF!)","v":{"$error":"#REF!"}},{"$error":"#REF!"},{"$error":"#REF!"},{"$error":"#REF!"}]
[{"$f":"IF(Data!#REF!=\"\",\"\",Data!#REF!)","v":{"$error":"#REF!"}},{"$f":"IF(Data!#REF!=\"\",\"\",Data!#REF!)","v":{"$error":"#REF!"}},{"$f":"IF(Data!#REF!=\"\",\"\",Data!#REF!)","v":{"$error":"#REF!"}},{"$f":"IF(Data!#REF!=\"\",\"\",Data!#REF!)","v":{"$error":"#REF!"}},{"$f":"IF(Data!#REF!=\"\",\"\",Data!#REF!)","v":{"$error":"#REF!"}},{"$error":"#REF!"},{"$error":"#REF!"},{"$error":"#REF!"}]
[{"$f":"IF(Data!#REF!=\"\",\"\",Data!#REF!)","v":{"$error":"#REF!"}},{"$f":"IF(Data!#REF!=\"\",\"\",Data!#REF!)","v":{"$error":"#REF!"}},{"$f":"IF(Data!#REF!=\"\",\"\",Data!#REF!)","v":{"$error":"#REF!"}},{"$f":"IF(Data!#REF!=\"\",\"\",Data!#REF!)","v":{"$error":"#REF!"}},{"$f":"IF(Data!#REF!=\"\",\"\",Data!#REF!)","v":{"$error":"#REF!"}},{"$error":"#REF!"},{"$error":"#REF!"},{"$error":"#REF!"}]
[{"$f":"IF(Data!#REF!=\"\",\"\",Data!#REF!)","v":{"$error":"#REF!"}},{"$f":"IF(Data!#REF!=\"\",\"\",Data!#REF!)","v":{"$error":"#REF!"}},{"$f":"IF(Data!#REF!=\"\",\"\",Data!#REF!)","v":{"$error":"#REF!"}},{"$f":"IF(Data!#REF!=\"\",\"\",Data!#REF!)","v":{"$error":"#REF!"}},{"$f":"IF(Data!#REF!=\"\",\"\",Data!#REF!)","v":{"$error":"#REF!"}},{"$error":"#REF!"},{"$error":"#REF!"},{"$error":"#REF!"}]
[{"$f":"IF(Data!#REF!=\"\",\"\",Data!#REF!)","v":{"$error":"#REF!"}},{"$f":"IF(Data!#REF!=\"\",\"\",Data!#REF!)","v":{"$error":"#REF!"}},{"$f":"IF(Data!#REF!=\"\",\"\",Data!#REF!)","v":{"$error":"#REF!"}},{"$f":"IF(Data!#REF!=\"\",\"\",Data!#REF!)","v":{"$error":"#REF!"}},{"$f":"IF(Data!#REF!=\"\",\"\",Data!#REF!)","v":{"$error":"#REF!"}},{"$error":"#REF!"},{"$error":"#REF!"},{"$error":"#REF!"}]
[{"$f":"IF(Data!#REF!=\"\",\"\",Data!#REF!)","v":{"$error":"#REF!"}},{"$f":"IF(Data!#REF!=\"\",\"\",Data!#REF!)","v":{"$error":"#REF!"}},{"$f":"IF(Data!#REF!=\"\",\"\",Data!#REF!)","v":{"$error":"#REF!"}},{"$f":"IF(Data!#REF!=\"\",\"\",Data!#REF!)","v":{"$error":"#REF!"}},{"$f":"IF(Data!#REF!=\"\",\"\",Data!#REF!)","v":{"$error":"#REF!"}},{"$error":"#REF!"},{"$error":"#REF!"},{"$error":"#REF!"}]
[{"$f":"IF(Data!#REF!=\"\",\"\",Data!#REF!)","v":{"$error":"#REF!"}},{"$f":"IF(Data!#REF!=\"\",\"\",Data!#REF!)","v":{"$error":"#REF!"}},{"$f":"IF(Data!#REF!=\"\",\"\",Data!#REF!)","v":{"$error":"#REF!"}},{"$f":"IF(Data!#REF!=\"\",\"\",Data!#REF!)","v":{"$error":"#REF!"}},{"$f":"IF(Data!#REF!=\"\",\"\",Data!#REF!)","v":{"$error":"#REF!"}},{"$error":"#REF!"},{"$error":"#REF!"},{"$error":"#REF!"}]
[{"$f":"IF(Data!#REF!=\"\",\"\",Data!#REF!)","v":{"$error":"#REF!"}},{"$f":"IF(Data!#REF!=\"\",\"\",Data!#REF!)","v":{"$error":"#REF!"}},{"$f":"IF(Data!#REF!=\"\",\"\",Data!#REF!)","v":{"$error":"#REF!"}},{"$f":"IF(Data!#REF!=\"\",\"\",Data!#REF!)","v":{"$error":"#REF!"}},{"$f":"IF(Data!#REF!=\"\",\"\",Data!#REF!)","v":{"$error":"#REF!"}},{"$error":"#REF!"},{"$error":"#REF!"},{"$error":"#REF!"}]
[{"$f":"IF(Data!#REF!=\"\",\"\",Data!#REF!)","v":{"$error":"#REF!"}},{"$f":"IF(Data!#REF!=\"\",\"\",Data!#REF!)","v":{"$error":"#REF!"}},{"$f":"IF(Data!#REF!=\"\",\"\",Data!#REF!)","v":{"$error":"#REF!"}},{"$f":"IF(Data!#REF!=\"\",\"\",Data!#REF!)","v":{"$error":"#REF!"}},{"$f":"IF(Data!#REF!=\"\",\"\",Data!#REF!)","v":{"$error":"#REF!"}},{"$error":"#REF!"},{"$error":"#REF!"},{"$error":"#REF!"}]
[{"$f":"IF(Data!#REF!=\"\",\"\",Data!#REF!)","v":{"$error":"#REF!"}},{"$f":"IF(Data!#REF!=\"\",\"\",Data!#REF!)","v":{"$error":"#REF!"}},{"$f":"IF(Data!#REF!=\"\",\"\",Data!#REF!)","v":{"$error":"#REF!"}},{"$f":"IF(Data!#REF!=\"\",\"\",Data!#REF!)","v":{"$error":"#REF!"}},{"$f":"IF(Data!#REF!=\"\",\"\",Data!#REF!)","v":{"$error":"#REF!"}},{"$error":"#REF!"},{"$error":"#REF!"},{"$error":"#REF!"}]
[{"$f":"IF(Data!#REF!=\"\",\"\",Data!#REF!)","v":{"$error":"#REF!"}},{"$f":"IF(Data!#REF!=\"\",\"\",Data!#REF!)","v":{"$error":"#REF!"}},{"$f":"IF(Data!#REF!=\"\",\"\",Data!#REF!)","v":{"$error":"#REF!"}},{"$f":"IF(Data!#REF!=\"\",\"\",Data!#REF!)","v":{"$error":"#REF!"}},{"$f":"IF(Data!#REF!=\"\",\"\",Data!#REF!)","v":{"$error":"#REF!"}},{"$error":"#REF!"},{"$error":"#REF!"},{"$error":"#REF!"}]
[{"$f":"IF(Data!#REF!=\"\",\"\",Data!#REF!)","v":{"$error":"#REF!"}},{"$f":"IF(Data!#REF!=\"\",\"\",Data!#REF!)","v":{"$error":"#REF!"}},{"$f":"IF(Data!#REF!=\"\",\"\",Data!#REF!)","v":{"$error":"#REF!"}},{"$f":"IF(Data!#REF!=\"\",\"\",Data!#REF!)","v":{"$error":"#REF!"}},{"$f":"IF(Data!#REF!=\"\",\"\",Data!#REF!)","v":{"$error":"#REF!"}},{"$error":"#REF!"},{"$error":"#REF!"},{"$error":"#REF!"}]
[{"$f":"IF(Data!#REF!=\"\",\"\",Data!#REF!)","v":{"$error":"#REF!"}},{"$f":"IF(Data!#REF!=\"\",\"\",Data!#REF!)","v":{"$error":"#REF!"}},{"$f":"IF(Data!#REF!=\"\",\"\",Data!#REF!)","v":{"$error":"#REF!"}},{"$f":"IF(Data!#REF!=\"\",\"\",Data!#REF!)","v":{"$error":"#REF!"}},{"$f":"IF(Data!#REF!=\"\",\"\",Data!#REF!)","v":{"$error":"#REF!"}},{"$error":"#REF!"},{"$error":"#REF!"},{"$error":"#REF!"}]
[{"$f":"IF(Data!#REF!=\"\",\"\",Data!#REF!)","v":{"$error":"#REF!"}},{"$f":"IF(Data!#REF!=\"\",\"\",Data!#REF!)","v":{"$error":"#REF!"}},{"$f":"IF(Data!#REF!=\"\",\"\",Data!#REF!)","v":{"$error":"#REF!"}},{"$f":"IF(Data!#REF!=\"\",\"\",Data!#REF!)","v":{"$error":"#REF!"}},{"$f":"IF(Data!#REF!=\"\",\"\",Data!#REF!)","v":{"$error":"#REF!"}},{"$error":"#REF!"},{"$error":"#REF!"},{"$error":"#REF!"}]
[{"$f":"IF(Data!#REF!=\"\",\"\",Data!#REF!)","v":{"$error":"#REF!"}},{"$f":"IF(Data!#REF!=\"\",\"\",Data!#REF!)","v":{"$error":"#REF!"}},{"$f":"IF(Data!#REF!=\"\",\"\",Data!#REF!)","v":{"$error":"#REF!"}},{"$f":"IF(Data!#REF!=\"\",\"\",Data!#REF!)","v":{"$error":"#REF!"}},{"$f":"IF(Data!#REF!=\"\",\"\",Data!#REF!)","v":{"$error":"#REF!"}},{"$error":"#REF!"},{"$error":"#REF!"},{"$error":"#REF!"}]
[{"$f":"IF(Data!#REF!=\"\",\"\",Data!#REF!)","v":{"$error":"#REF!"}},{"$f":"IF(Data!#REF!=\"\",\"\",Data!#REF!)","v":{"$error":"#REF!"}},{"$f":"IF(Data!#REF!=\"\",\"\",Data!#REF!)","v":{"$error":"#REF!"}},{"$f":"IF(Data!#REF!=\"\",\"\",Data!#REF!)","v":{"$error":"#REF!"}},{"$f":"IF(Data!#REF!=\"\",\"\",Data!#REF!)","v":{"$error":"#REF!"}},{"$error":"#REF!"},{"$error":"#REF!"},{"$error":"#REF!"}]
[{"$f":"IF(Data!#REF!=\"\",\"\",Data!#REF!)","v":{"$error":"#REF!"}},{"$f":"IF(Data!#REF!=\"\",\"\",Data!#REF!)","v":{"$error":"#REF!"}},{"$f":"IF(Data!#REF!=\"\",\"\",Data!#REF!)","v":{"$error":"#REF!"}},{"$f":"IF(Data!#REF!=\"\",\"\",Data!#REF!)","v":{"$error":"#REF!"}},{"$f":"IF(Data!#REF!=\"\",\"\",Data!#REF!)","v":{"$error":"#REF!"}},{"$error":"#REF!"},{"$error":"#REF!"},{"$error":"#REF!"}]
[{"$f":"IF(Data!#REF!=\"\",\"\",Data!#REF!)","v":{"$error":"#REF!"}},{"$f":"IF(Data!#REF!=\"\",\"\",Data!#REF!)","v":{"$error":"#REF!"}},{"$f":"IF(Data!#REF!=\"\",\"\",Data!#REF!)","v":{"$error":"#REF!"}},{"$f":"IF(Data!#REF!=\"\",\"\",Data!#REF!)","v":{"$error":"#REF!"}},{"$f":"IF(Data!#REF!=\"\",\"\",Data!#REF!)","v":{"$error":"#REF!"}},{"$error":"#REF!"},{"$error":"#REF!"},{"$error":"#REF!"}]
[{"$f":"IF(Data!#REF!=\"\",\"\",Data!#REF!)","v":{"$error":"#REF!"}},{"$f":"IF(Data!#REF!=\"\",\"\",Data!#REF!)","v":{"$error":"#REF!"}},{"$f":"IF(Data!#REF!=\"\",\"\",Data!#REF!)","v":{"$error":"#REF!"}},{"$f":"IF(Data!#REF!=\"\",\"\",Data!#REF!)","v":{"$error":"#REF!"}},{"$f":"IF(Data!#REF!=\"\",\"\",Data!#REF!)","v":{"$error":"#REF!"}},{"$error":"#REF!"},{"$error":"#REF!"},{"$error":"#REF!"}]
[{"$f":"IF(Data!#REF!=\"\",\"\",Data!#REF!)","v":{"$error":"#REF!"}},{"$f":"IF(Data!#REF!=\"\",\"\",Data!#REF!)","v":{"$error":"#REF!"}},{"$f":"IF(Data!#REF!=\"\",\"\",Data!#REF!)","v":{"$error":"#REF!"}},{"$f":"IF(Data!#REF!=\"\",\"\",Data!#REF!)","v":{"$error":"#REF!"}},{"$f":"IF(Data!#REF!=\"\",\"\",Data!#REF!)","v":{"$error":"#REF!"}},{"$error":"#REF!"},{"$error":"#REF!"},{"$error":"#REF!"}]
[{"$f":"IF(Data!#REF!=\"\",\"\",Data!#REF!)","v":{"$error":"#REF!"}},{"$f":"IF(Data!#REF!=\"\",\"\",Data!#REF!)","v":{"$error":"#REF!"}},{"$f":"IF(Data!#REF!=\"\",\"\",Data!#REF!)","v":{"$error":"#REF!"}},{"$f":"IF(Data!#REF!=\"\",\"\",Data!#REF!)","v":{"$error":"#REF!"}},{"$f":"IF(Data!#REF!=\"\",\"\",Data!#REF!)","v":{"$error":"#REF!"}},{"$error":"#REF!"},{"$error":"#REF!"},{"$error":"#REF!"}]
[{"$f":"IF(Data!#REF!=\"\",\"\",Data!#REF!)","v":{"$error":"#REF!"}},{"$f":"IF(Data!#REF!=\"\",\"\",Data!#REF!)","v":{"$error":"#REF!"}},{"$f":"IF(Data!#REF!=\"\",\"\",Data!#REF!)","v":{"$error":"#REF!"}},{"$f":"IF(Data!#REF!=\"\",\"\",Data!#REF!)","v":{"$error":"#REF!"}},{"$f":"IF(Data!#REF!=\"\",\"\",Data!#REF!)","v":{"$error":"#REF!"}},{"$error":"#REF!"},{"$error":"#REF!"},{"$error":"#REF!"}]
[{"$f":"IF(Data!#REF!=\"\",\"\",Data!#REF!)","v":{"$error":"#REF!"}},{"$f":"IF(Data!#REF!=\"\",\"\",Data!#REF!)","v":{"$error":"#REF!"}},{"$f":"IF(Data!#REF!=\"\",\"\",Data!#REF!)","v":{"$error":"#REF!"}},{"$f":"IF(Data!#REF!=\"\",\"\",Data!#REF!)","v":{"$error":"#REF!"}},{"$f":"IF(Data!#REF!=\"\",\"\",Data!#REF!)","v":{"$error":"#REF!"}},{"$error":"#REF!"},{"$error":"#REF!"},{"$error":"#REF!"}]
[{"$f":"IF(Data!#REF!=\"\",\"\",Data!#REF!)","v":{"$error":"#REF!"}},{"$f":"IF(Data!#REF!=\"\",\"\",Data!#REF!)","v":{"$error":"#REF!"}},{"$f":"IF(Data!#REF!=\"\",\"\",Data!#REF!)","v":{"$error":"#REF!"}},{"$f":"IF(Data!#REF!=\"\",\"\",Data!#REF!)","v":{"$error":"#REF!"}},{"$f":"IF(Data!#REF!=\"\",\"\",Data!#REF!)","v":{"$error":"#REF!"}},{"$error":"#REF!"},{"$error":"#REF!"},{"$error":"#REF!"}]
[{"$f":"IF(Data!#REF!=\"\",\"\",Data!#REF!)","v":{"$error":"#REF!"}},{"$f":"IF(Data!#REF!=\"\",\"\",Data!#REF!)","v":{"$error":"#REF!"}},{"$f":"IF(Data!#REF!=\"\",\"\",Data!#REF!)","v":{"$error":"#REF!"}},{"$f":"IF(Data!#REF!=\"\",\"\",Data!#REF!)","v":{"$error":"#REF!"}},{"$f":"IF(Data!#REF!=\"\",\"\",Data!#REF!)","v":{"$error":"#REF!"}},{"$error":"#REF!"},{"$error":"#REF!"},{"$error":"#REF!"}]
[{"$f":"IF(Data!#REF!=\"\",\"\",Data!#REF!)","v":{"$error":"#REF!"}},{"$f":"IF(Data!#REF!=\"\",\"\",Data!#REF!)","v":{"$error":"#REF!"}},{"$f":"IF(Data!#REF!=\"\",\"\",Data!#REF!)","v":{"$error":"#REF!"}},{"$f":"IF(Data!#REF!=\"\",\"\",Data!#REF!)","v":{"$error":"#REF!"}},{"$f":"IF(Data!#REF!=\"\",\"\",Data!#REF!)","v":{"$error":"#REF!"}},{"$error":"#REF!"},{"$error":"#REF!"},{"$error":"#REF!"}]
[{"$f":"IF(Data!#REF!=\"\",\"\",Data!#REF!)","v":{"$error":"#REF!"}},{"$f":"IF(Data!#REF!=\"\",\"\",Data!#REF!)","v":{"$error":"#REF!"}},{"$f":"IF(Data!#REF!=\"\",\"\",Data!#REF!)","v":{"$error":"#REF!"}},{"$f":"IF(Data!#REF!=\"\",\"\",Data!#REF!)","v":{"$error":"#REF!"}},{"$f":"IF(Data!#REF!=\"\",\"\",Data!#REF!)","v":{"$error":"#REF!"}},{"$error":"#REF!"},{"$error":"#REF!"},{"$error":"#REF!"}]
[{"$f":"IF(Data!#REF!=\"\",\"\",Data!#REF!)","v":{"$error":"#REF!"}},{"$f":"IF(Data!#REF!=\"\",\"\",Data!#REF!)","v":{"$error":"#REF!"}},{"$f":"IF(Data!#REF!=\"\",\"\",Data!#REF!)","v":{"$error":"#REF!"}},{"$f":"IF(Data!#REF!=\"\",\"\",Data!#REF!)","v":{"$error":"#REF!"}},{"$f":"IF(Data!#REF!=\"\",\"\",Data!#REF!)","v":{"$error":"#REF!"}},{"$error":"#REF!"},{"$error":"#REF!"},{"$error":"#REF!"}]
[{"$f":"IF(Data!#REF!=\"\",\"\",Data!#REF!)","v":{"$error":"#REF!"}},{"$f":"IF(Data!#REF!=\"\",\"\",Data!#REF!)","v":{"$error":"#REF!"}},{"$f":"IF(Data!#REF!=\"\",\"\",Data!#REF!)","v":{"$error":"#REF!"}},{"$f":"IF(Data!#REF!=\"\",\"\",Data!#REF!)","v":{"$error":"#REF!"}},{"$f":"IF(Data!#REF!=\"\",\"\",Data!#REF!)","v":{"$error":"#REF!"}},{"$error":"#REF!"},{"$error":"#REF!"},{"$error":"#REF!"}]
[{"$f":"IF(Data!#REF!=\"\",\"\",Data!#REF!)","v":{"$error":"#REF!"}},{"$f":"IF(Data!#REF!=\"\",\"\",Data!#REF!)","v":{"$error":"#REF!"}},{"$f":"IF(Data!#REF!=\"\",\"\",Data!#REF!)","v":{"$error":"#REF!"}},{"$f":"IF(Data!#REF!=\"\",\"\",Data!#REF!)","v":{"$error":"#REF!"}},{"$f":"IF(Data!#REF!=\"\",\"\",Data!#REF!)","v":{"$error":"#REF!"}},{"$error":"#REF!"},{"$error":"#REF!"},{"$error":"#REF!"}]
[{"$f":"IF(Data!#REF!=\"\",\"\",Data!#REF!)","v":{"$error":"#REF!"}},{"$f":"IF(Data!#REF!=\"\",\"\",Data!#REF!)","v":{"$error":"#REF!"}},{"$f":"IF(Data!#REF!=\"\",\"\",Data!#REF!)","v":{"$error":"#REF!"}},{"$f":"IF(Data!#REF!=\"\",\"\",Data!#REF!)","v":{"$error":"#REF!"}},{"$f":"IF(Data!#REF!=\"\",\"\",Data!#REF!)","v":{"$error":"#REF!"}},{"$error":"#REF!"},{"$error":"#REF!"},{"$error":"#REF!"}]
[{"$f":"IF(Data!#REF!=\"\",\"\",Data!#REF!)","v":{"$error":"#REF!"}},{"$f":"IF(Data!#REF!=\"\",\"\",Data!#REF!)","v":{"$error":"#REF!"}},{"$f":"IF(Data!#REF!=\"\",\"\",Data!#REF!)","v":{"$error":"#REF!"}},{"$f":"IF(Data!#REF!=\"\",\"\",Data!#REF!)","v":{"$error":"#REF!"}},{"$f":"IF(Data!#REF!=\"\",\"\",Data!#REF!)","v":{"$error":"#REF!"}},{"$error":"#REF!"},{"$error":"#REF!"},{"$error":"#REF!"}]
[{"$f":"IF(Data!#REF!=\"\",\"\",Data!#REF!)","v":{"$error":"#REF!"}},{"$f":"IF(Data!#REF!=\"\",\"\",Data!#REF!)","v":{"$error":"#REF!"}},{"$f":"IF(Data!#REF!=\"\",\"\",Data!#REF!)","v":{"$error":"#REF!"}},{"$f":"IF(Data!#REF!=\"\",\"\",Data!#REF!)","v":{"$error":"#REF!"}},{"$f":"IF(Data!#REF!=\"\",\"\",Data!#REF!)","v":{"$error":"#REF!"}},{"$error":"#REF!"},{"$error":"#REF!"},{"$error":"#REF!"}]
[{"$f":"IF(Data!#REF!=\"\",\"\",Data!#REF!)","v":{"$error":"#REF!"}},{"$f":"IF(Data!#REF!=\"\",\"\",Data!#REF!)","v":{"$error":"#REF!"}},{"$f":"IF(Data!#REF!=\"\",\"\",Data!#REF!)","v":{"$error":"#REF!"}},{"$f":"IF(Data!#REF!=\"\",\"\",Data!#REF!)","v":{"$error":"#REF!"}},{"$f":"IF(Data!#REF!=\"\",\"\",Data!#REF!)","v":{"$error":"#REF!"}},{"$error":"#REF!"},{"$error":"#REF!"},{"$error":"#REF!"}]
[{"$f":"IF(Data!#REF!=\"\",\"\",Data!#REF!)","v":{"$error":"#REF!"}},{"$f":"IF(Data!#REF!=\"\",\"\",Data!#REF!)","v":{"$error":"#REF!"}},{"$f":"IF(Data!#REF!=\"\",\"\",Data!#REF!)","v":{"$error":"#REF!"}},{"$f":"IF(Data!#REF!=\"\",\"\",Data!#REF!)","v":{"$error":"#REF!"}},{"$f":"IF(Data!#REF!=\"\",\"\",Data!#REF!)","v":{"$error":"#REF!"}},{"$error":"#REF!"},{"$error":"#REF!"},{"$error":"#REF!"}]
[{"$f":"IF(Data!#REF!=\"\",\"\",Data!#REF!)","v":{"$error":"#REF!"}},{"$f":"IF(Data!#REF!=\"\",\"\",Data!#REF!)","v":{"$error":"#REF!"}},{"$f":"IF(Data!#REF!=\"\",\"\",Data!#REF!)","v":{"$error":"#REF!"}},{"$f":"IF(Data!#REF!=\"\",\"\",Data!#REF!)","v":{"$error":"#REF!"}},{"$f":"IF(Data!#REF!=\"\",\"\",Data!#REF!)","v":{"$error":"#REF!"}},{"$error":"#REF!"},{"$error":"#REF!"},{"$error":"#REF!"}]
[{"$f":"IF(Data!#REF!=\"\",\"\",Data!#REF!)","v":{"$error":"#REF!"}},{"$f":"IF(Data!#REF!=\"\",\"\",Data!#REF!)","v":{"$error":"#REF!"}},{"$f":"IF(Data!#REF!=\"\",\"\",Data!#REF!)","v":{"$error":"#REF!"}},{"$f":"IF(Data!#REF!=\"\",\"\",Data!#REF!)","v":{"$error":"#REF!"}},{"$f":"IF(Data!#REF!=\"\",\"\",Data!#REF!)","v":{"$error":"#REF!"}},{"$error":"#REF!"},{"$error":"#REF!"},{"$error":"#REF!"}]
[{"$f":"IF(Data!#REF!=\"\",\"\",Data!#REF!)","v":{"$error":"#REF!"}},{"$f":"IF(Data!#REF!=\"\",\"\",Data!#REF!)","v":{"$error":"#REF!"}},{"$f":"IF(Data!#REF!=\"\",\"\",Data!#REF!)","v":{"$error":"#REF!"}},{"$f":"IF(Data!#REF!=\"\",\"\",Data!#REF!)","v":{"$error":"#REF!"}},{"$f":"IF(Data!#REF!=\"\",\"\",Data!#REF!)","v":{"$error":"#REF!"}},{"$error":"#REF!"},{"$error":"#REF!"},{"$error":"#REF!"}]
[{"$f":"IF(Data!#REF!=\"\",\"\",Data!#REF!)","v":{"$error":"#REF!"}},{"$f":"IF(Data!#REF!=\"\",\"\",Data!#REF!)","v":{"$error":"#REF!"}},{"$f":"IF(Data!#REF!=\"\",\"\",Data!#REF!)","v":{"$error":"#REF!"}},{"$f":"IF(Data!#REF!=\"\",\"\",Data!#REF!)","v":{"$error":"#REF!"}},{"$f":"IF(Data!#REF!=\"\",\"\",Data!#REF!)","v":{"$error":"#REF!"}},{"$error":"#REF!"},{"$error":"#REF!"},{"$error":"#REF!"}]
[{"$f":"IF(Data!#REF!=\"\",\"\",Data!#REF!)","v":{"$error":"#REF!"}},{"$f":"IF(Data!#REF!=\"\",\"\",Data!#REF!)","v":{"$error":"#REF!"}},{"$f":"IF(Data!#REF!=\"\",\"\",Data!#REF!)","v":{"$error":"#REF!"}},{"$f":"IF(Data!#REF!=\"\",\"\",Data!#REF!)","v":{"$error":"#REF!"}},{"$f":"IF(Data!#REF!=\"\",\"\",Data!#REF!)","v":{"$error":"#REF!"}},{"$error":"#REF!"},{"$error":"#REF!"},{"$error":"#REF!"}]
[{"$f":"IF(Data!#REF!=\"\",\"\",Data!#REF!)","v":{"$error":"#REF!"}},{"$f":"IF(Data!#REF!=\"\",\"\",Data!#REF!)","v":{"$error":"#REF!"}},{"$f":"IF(Data!#REF!=\"\",\"\",Data!#REF!)","v":{"$error":"#REF!"}},{"$f":"IF(Data!#REF!=\"\",\"\",Data!#REF!)","v":{"$error":"#REF!"}},{"$f":"IF(Data!#REF!=\"\",\"\",Data!#REF!)","v":{"$error":"#REF!"}},{"$error":"#REF!"},{"$error":"#REF!"},{"$error":"#REF!"}]
[{"$f":"IF(Data!#REF!=\"\",\"\",Data!#REF!)","v":{"$error":"#REF!"}},{"$f":"IF(Data!#REF!=\"\",\"\",Data!#REF!)","v":{"$error":"#REF!"}},{"$f":"IF(Data!#REF!=\"\",\"\",Data!#REF!)","v":{"$error":"#REF!"}},{"$f":"IF(Data!#REF!=\"\",\"\",Data!#REF!)","v":{"$error":"#REF!"}},{"$f":"IF(Data!#REF!=\"\",\"\",Data!#REF!)","v":{"$error":"#REF!"}},{"$error":"#REF!"},{"$error":"#REF!"},{"$error":"#REF!"}]
[{"$f":"IF(Data!#REF!=\"\",\"\",Data!#REF!)","v":{"$error":"#REF!"}},{"$f":"IF(Data!#REF!=\"\",\"\",Data!#REF!)","v":{"$error":"#REF!"}},{"$f":"IF(Data!#REF!=\"\",\"\",Data!#REF!)","v":{"$error":"#REF!"}},{"$f":"IF(Data!#REF!=\"\",\"\",Data!#REF!)","v":{"$error":"#REF!"}},{"$f":"IF(Data!#REF!=\"\",\"\",Data!#REF!)","v":{"$error":"#REF!"}},{"$error":"#REF!"},{"$error":"#REF!"},{"$error":"#REF!"}]
[{"$f":"IF(Data!#REF!=\"\",\"\",Data!#REF!)","v":{"$error":"#REF!"}},{"$f":"IF(Data!#REF!=\"\",\"\",Data!#REF!)","v":{"$error":"#REF!"}},{"$f":"IF(Data!#REF!=\"\",\"\",Data!#REF!)","v":{"$error":"#REF!"}},{"$f":"IF(Data!#REF!=\"\",\"\",Data!#REF!)","v":{"$error":"#REF!"}},{"$f":"IF(Data!#REF!=\"\",\"\",Data!#REF!)","v":{"$error":"#REF!"}},{"$error":"#REF!"},{"$error":"#REF!"},{"$error":"#REF!"}]
[{"$f":"IF(Data!#REF!=\"\",\"\",Data!#REF!)","v":{"$error":"#REF!"}},{"$f":"IF(Data!#REF!=\"\",\"\",Data!#REF!)","v":{"$error":"#REF!"}},{"$f":"IF(Data!#REF!=\"\",\"\",Data!#REF!)","v":{"$error":"#REF!"}},{"$f":"IF(Data!#REF!=\"\",\"\",Data!#REF!)","v":{"$error":"#REF!"}},{"$f":"IF(Data!#REF!=\"\",\"\",Data!#REF!)","v":{"$error":"#REF!"}},{"$error":"#REF!"},{"$error":"#REF!"},{"$error":"#REF!"}]
[{"$f":"IF(Data!#REF!=\"\",\"\",Data!#REF!)","v":{"$error":"#REF!"}},{"$f":"IF(Data!#REF!=\"\",\"\",Data!#REF!)","v":{"$error":"#REF!"}},{"$f":"IF(Data!#REF!=\"\",\"\",Data!#REF!)","v":{"$error":"#REF!"}},{"$f":"IF(Data!#REF!=\"\",\"\",Data!#REF!)","v":{"$error":"#REF!"}},{"$f":"IF(Data!#REF!=\"\",\"\",Data!#REF!)","v":{"$error":"#REF!"}},{"$error":"#REF!"},{"$error":"#REF!"},{"$error":"#REF!"}]
[{"$f":"IF(Data!#REF!=\"\",\"\",Data!#REF!)","v":{"$error":"#REF!"}},{"$f":"IF(Data!#REF!=\"\",\"\",Data!#REF!)","v":{"$error":"#REF!"}},{"$f":"IF(Data!#REF!=\"\",\"\",Data!#REF!)","v":{"$error":"#REF!"}},{"$f":"IF(Data!#REF!=\"\",\"\",Data!#REF!)","v":{"$error":"#REF!"}},{"$f":"IF(Data!#REF!=\"\",\"\",Data!#REF!)","v":{"$error":"#REF!"}},{"$error":"#REF!"},{"$error":"#REF!"},{"$error":"#REF!"}]
[{"$f":"IF(Data!#REF!=\"\",\"\",Data!#REF!)","v":{"$error":"#REF!"}},{"$f":"IF(Data!#REF!=\"\",\"\",Data!#REF!)","v":{"$error":"#REF!"}},{"$f":"IF(Data!#REF!=\"\",\"\",Data!#REF!)","v":{"$error":"#REF!"}},{"$f":"IF(Data!#REF!=\"\",\"\",Data!#REF!)","v":{"$error":"#REF!"}},{"$f":"IF(Data!#REF!=\"\",\"\",Data!#REF!)","v":{"$error":"#REF!"}},{"$error":"#REF!"},{"$error":"#REF!"},{"$error":"#REF!"}]
[{"$f":"IF(Data!#REF!=\"\",\"\",Data!#REF!)","v":{"$error":"#REF!"}},{"$f":"IF(Data!#REF!=\"\",\"\",Data!#REF!)","v":{"$error":"#REF!"}},{"$f":"IF(Data!#REF!=\"\",\"\",Data!#REF!)","v":{"$error":"#REF!"}},{"$f":"IF(Data!#REF!=\"\",\"\",Data!#REF!)","v":{"$error":"#REF!"}},{"$f":"IF(Data!#REF!=\"\",\"\",Data!#REF!)","v":{"$error":"#REF!"}},{"$error":"#REF!"},{"$error":"#REF!"},{"$error":"#REF!"}]
[{"$f":"IF(Data!#REF!=\"\",\"\",Data!#REF!)","v":{"$error":"#REF!"}},{"$f":"IF(Data!#REF!=\"\",\"\",Data!#REF!)","v":{"$error":"#REF!"}},{"$f":"IF(Data!#REF!=\"\",\"\",Data!#REF!)","v":{"$error":"#REF!"}},{"$f":"IF(Data!#REF!=\"\",\"\",Data!#REF!)","v":{"$error":"#REF!"}},{"$f":"IF(Data!#REF!=\"\",\"\",Data!#REF!)","v":{"$error":"#REF!"}},{"$error":"#REF!"},{"$error":"#REF!"},{"$error":"#REF!"}]
[{"$f":"IF(Data!#REF!=\"\",\"\",Data!#REF!)","v":{"$error":"#REF!"}},{"$f":"IF(Data!#REF!=\"\",\"\",Data!#REF!)","v":{"$error":"#REF!"}},{"$f":"IF(Data!#REF!=\"\",\"\",Data!#REF!)","v":{"$error":"#REF!"}},{"$f":"IF(Data!#REF!=\"\",\"\",Data!#REF!)","v":{"$error":"#REF!"}},{"$f":"IF(Data!#REF!=\"\",\"\",Data!#REF!)","v":{"$error":"#REF!"}},{"$error":"#REF!"},{"$error":"#REF!"},{"$error":"#REF!"}]
[{"$f":"IF(Data!#REF!=\"\",\"\",Data!#REF!)","v":{"$error":"#REF!"}},{"$f":"IF(Data!#REF!=\"\",\"\",Data!#REF!)","v":{"$error":"#REF!"}},{"$f":"IF(Data!#REF!=\"\",\"\",Data!#REF!)","v":{"$error":"#REF!"}},{"$f":"IF(Data!#REF!=\"\",\"\",Data!#REF!)","v":{"$error":"#REF!"}},{"$f":"IF(Data!#REF!=\"\",\"\",Data!#REF!)","v":{"$error":"#REF!"}},{"$error":"#REF!"},{"$error":"#REF!"},{"$error":"#REF!"}]
[{"$f":"IF(Data!#REF!=\"\",\"\",Data!#REF!)","v":{"$error":"#REF!"}},{"$f":"IF(Data!#REF!=\"\",\"\",Data!#REF!)","v":{"$error":"#REF!"}},{"$f":"IF(Data!#REF!=\"\",\"\",Data!#REF!)","v":{"$error":"#REF!"}},{"$f":"IF(Data!#REF!=\"\",\"\",Data!#REF!)","v":{"$error":"#REF!"}},{"$f":"IF(Data!#REF!=\"\",\"\",Data!#REF!)","v":{"$error":"#REF!"}},{"$f":"IF(E2883>0,MONTH(E2883),\"\")","v":{"$error":"#REF!"}},{"$f":"IF(E2883>0,WEEKNUM(E2883),\"0\")","v":{"$error":"#REF!"}},{"$f":"IF(G2883>=($G$2-3),\"Ano\",\"Nie\")","v":{"$error":"#REF!"}}]
[{"$f":"IF(Data!#REF!=\"\",\"\",Data!#REF!)","v":{"$error":"#REF!"}},{"$f":"IF(Data!#REF!=\"\",\"\",Data!#REF!)","v":{"$error":"#REF!"}},{"$f":"IF(Data!#REF!=\"\",\"\",Data!#REF!)","v":{"$error":"#REF!"}},{"$f":"IF(Data!#REF!=\"\",\"\",Data!#REF!)","v":{"$error":"#REF!"}},{"$f":"IF(Data!#REF!=\"\",\"\",Data!#REF!)","v":{"$error":"#REF!"}},{"$error":"#REF!"},{"$error":"#REF!"},{"$error":"#REF!"}]
[{"$f":"IF(Data!#REF!=\"\",\"\",Data!#REF!)","v":{"$error":"#REF!"}},{"$f":"IF(Data!#REF!=\"\",\"\",Data!#REF!)","v":{"$error":"#REF!"}},{"$f":"IF(Data!#REF!=\"\",\"\",Data!#REF!)","v":{"$error":"#REF!"}},{"$f":"IF(Data!#REF!=\"\",\"\",Data!#REF!)","v":{"$error":"#REF!"}},{"$f":"IF(Data!#REF!=\"\",\"\",Data!#REF!)","v":{"$error":"#REF!"}},{"$error":"#REF!"},{"$error":"#REF!"},{"$error":"#REF!"}]
[{"$f":"IF(Data!#REF!=\"\",\"\",Data!#REF!)","v":{"$error":"#REF!"}},{"$f":"IF(Data!#REF!=\"\",\"\",Data!#REF!)","v":{"$error":"#REF!"}},{"$f":"IF(Data!#REF!=\"\",\"\",Data!#REF!)","v":{"$error":"#REF!"}},{"$f":"IF(Data!#REF!=\"\",\"\",Data!#REF!)","v":{"$error":"#REF!"}},{"$f":"IF(Data!#REF!=\"\",\"\",Data!#REF!)","v":{"$error":"#REF!"}},{"$error":"#REF!"},{"$error":"#REF!"},{"$error":"#REF!"}]
[{"$f":"IF(Data!#REF!=\"\",\"\",Data!#REF!)","v":{"$error":"#REF!"}},{"$f":"IF(Data!#REF!=\"\",\"\",Data!#REF!)","v":{"$error":"#REF!"}},{"$f":"IF(Data!#REF!=\"\",\"\",Data!#REF!)","v":{"$error":"#REF!"}},{"$f":"IF(Data!#REF!=\"\",\"\",Data!#REF!)","v":{"$error":"#REF!"}},{"$f":"IF(Data!#REF!=\"\",\"\",Data!#REF!)","v":{"$error":"#REF!"}},{"$error":"#REF!"},{"$error":"#REF!"},{"$error":"#REF!"}]
[{"$f":"IF(Data!#REF!=\"\",\"\",Data!#REF!)","v":{"$error":"#REF!"}},{"$f":"IF(Data!#REF!=\"\",\"\",Data!#REF!)","v":{"$error":"#REF!"}},{"$f":"IF(Data!#REF!=\"\",\"\",Data!#REF!)","v":{"$error":"#REF!"}},{"$f":"IF(Data!#REF!=\"\",\"\",Data!#REF!)","v":{"$error":"#REF!"}},{"$f":"IF(Data!#REF!=\"\",\"\",Data!#REF!)","v":{"$error":"#REF!"}},{"$error":"#REF!"},{"$error":"#REF!"},{"$error":"#REF!"}]
[{"$f":"IF(Data!#REF!=\"\",\"\",Data!#REF!)","v":{"$error":"#REF!"}},{"$f":"IF(Data!#REF!=\"\",\"\",Data!#REF!)","v":{"$error":"#REF!"}},{"$f":"IF(Data!#REF!=\"\",\"\",Data!#REF!)","v":{"$error":"#REF!"}},{"$f":"IF(Data!#REF!=\"\",\"\",Data!#REF!)","v":{"$error":"#REF!"}},{"$f":"IF(Data!#REF!=\"\",\"\",Data!#REF!)","v":{"$error":"#REF!"}},{"$error":"#REF!"},{"$error":"#REF!"},{"$error":"#REF!"}]
[{"$f":"IF(Data!#REF!=\"\",\"\",Data!#REF!)","v":{"$error":"#REF!"}},{"$f":"IF(Data!#REF!=\"\",\"\",Data!#REF!)","v":{"$error":"#REF!"}},{"$f":"IF(Data!#REF!=\"\",\"\",Data!#REF!)","v":{"$error":"#REF!"}},{"$f":"IF(Data!#REF!=\"\",\"\",Data!#REF!)","v":{"$error":"#REF!"}},{"$f":"IF(Data!#REF!=\"\",\"\",Data!#REF!)","v":{"$error":"#REF!"}},{"$error":"#REF!"},{"$error":"#REF!"},{"$error":"#REF!"}]
[{"$f":"IF(Data!#REF!=\"\",\"\",Data!#REF!)","v":{"$error":"#REF!"}},{"$f":"IF(Data!#REF!=\"\",\"\",Data!#REF!)","v":{"$error":"#REF!"}},{"$f":"IF(Data!#REF!=\"\",\"\",Data!#REF!)","v":{"$error":"#REF!"}},{"$f":"IF(Data!#REF!=\"\",\"\",Data!#REF!)","v":{"$error":"#REF!"}},{"$f":"IF(Data!#REF!=\"\",\"\",Data!#REF!)","v":{"$error":"#REF!"}},{"$error":"#REF!"},{"$error":"#REF!"},{"$error":"#REF!"}]
[{"$f":"IF(Data!#REF!=\"\",\"\",Data!#REF!)","v":{"$error":"#REF!"}},{"$f":"IF(Data!#REF!=\"\",\"\",Data!#REF!)","v":{"$error":"#REF!"}},{"$f":"IF(Data!#REF!=\"\",\"\",Data!#REF!)","v":{"$error":"#REF!"}},{"$f":"IF(Data!#REF!=\"\",\"\",Data!#REF!)","v":{"$error":"#REF!"}},{"$f":"IF(Data!#REF!=\"\",\"\",Data!#REF!)","v":{"$error":"#REF!"}},{"$error":"#REF!"},{"$error":"#REF!"},{"$error":"#REF!"}]
[{"$f":"IF(Data!#REF!=\"\",\"\",Data!#REF!)","v":{"$error":"#REF!"}},{"$f":"IF(Data!#REF!=\"\",\"\",Data!#REF!)","v":{"$error":"#REF!"}},{"$f":"IF(Data!#REF!=\"\",\"\",Data!#REF!)","v":{"$error":"#REF!"}},{"$f":"IF(Data!#REF!=\"\",\"\",Data!#REF!)","v":{"$error":"#REF!"}},{"$f":"IF(Data!#REF!=\"\",\"\",Data!#REF!)","v":{"$error":"#REF!"}},{"$error":"#REF!"},{"$error":"#REF!"},{"$error":"#REF!"}]
[{"$f":"IF(Data!#REF!=\"\",\"\",Data!#REF!)","v":{"$error":"#REF!"}},{"$f":"IF(Data!#REF!=\"\",\"\",Data!#REF!)","v":{"$error":"#REF!"}},{"$f":"IF(Data!#REF!=\"\",\"\",Data!#REF!)","v":{"$error":"#REF!"}},{"$f":"IF(Data!#REF!=\"\",\"\",Data!#REF!)","v":{"$error":"#REF!"}},{"$f":"IF(Data!#REF!=\"\",\"\",Data!#REF!)","v":{"$error":"#REF!"}},{"$error":"#REF!"},{"$error":"#REF!"},{"$error":"#REF!"}]
[{"$f":"IF(Data!#REF!=\"\",\"\",Data!#REF!)","v":{"$error":"#REF!"}},{"$f":"IF(Data!#REF!=\"\",\"\",Data!#REF!)","v":{"$error":"#REF!"}},{"$f":"IF(Data!#REF!=\"\",\"\",Data!#REF!)","v":{"$error":"#REF!"}},{"$f":"IF(Data!#REF!=\"\",\"\",Data!#REF!)","v":{"$error":"#REF!"}},{"$f":"IF(Data!#REF!=\"\",\"\",Data!#REF!)","v":{"$error":"#REF!"}},{"$error":"#REF!"},{"$error":"#REF!"},{"$error":"#REF!"}]
[{"$f":"IF(Data!#REF!=\"\",\"\",Data!#REF!)","v":{"$error":"#REF!"}},{"$f":"IF(Data!#REF!=\"\",\"\",Data!#REF!)","v":{"$error":"#REF!"}},{"$f":"IF(Data!#REF!=\"\",\"\",Data!#REF!)","v":{"$error":"#REF!"}},{"$f":"IF(Data!#REF!=\"\",\"\",Data!#REF!)","v":{"$error":"#REF!"}},{"$f":"IF(Data!#REF!=\"\",\"\",Data!#REF!)","v":{"$error":"#REF!"}},{"$error":"#REF!"},{"$error":"#REF!"},{"$error":"#REF!"}]
[{"$f":"IF(Data!#REF!=\"\",\"\",Data!#REF!)","v":{"$error":"#REF!"}},{"$f":"IF(Data!#REF!=\"\",\"\",Data!#REF!)","v":{"$error":"#REF!"}},{"$f":"IF(Data!#REF!=\"\",\"\",Data!#REF!)","v":{"$error":"#REF!"}},{"$f":"IF(Data!#REF!=\"\",\"\",Data!#REF!)","v":{"$error":"#REF!"}},{"$f":"IF(Data!#REF!=\"\",\"\",Data!#REF!)","v":{"$error":"#REF!"}},{"$error":"#REF!"},{"$error":"#REF!"},{"$error":"#REF!"}]
[{"$f":"IF(Data!#REF!=\"\",\"\",Data!#REF!)","v":{"$error":"#REF!"}},{"$f":"IF(Data!#REF!=\"\",\"\",Data!#REF!)","v":{"$error":"#REF!"}},{"$f":"IF(Data!#REF!=\"\",\"\",Data!#REF!)","v":{"$error":"#REF!"}},{"$f":"IF(Data!#REF!=\"\",\"\",Data!#REF!)","v":{"$error":"#REF!"}},{"$f":"IF(Data!#REF!=\"\",\"\",Data!#REF!)","v":{"$error":"#REF!"}},{"$error":"#REF!"},{"$error":"#REF!"},{"$error":"#REF!"}]
[{"$f":"IF(Data!#REF!=\"\",\"\",Data!#REF!)","v":{"$error":"#REF!"}},{"$f":"IF(Data!#REF!=\"\",\"\",Data!#REF!)","v":{"$error":"#REF!"}},{"$f":"IF(Data!#REF!=\"\",\"\",Data!#REF!)","v":{"$error":"#REF!"}},{"$f":"IF(Data!#REF!=\"\",\"\",Data!#REF!)","v":{"$error":"#REF!"}},{"$f":"IF(Data!#REF!=\"\",\"\",Data!#REF!)","v":{"$error":"#REF!"}},{"$error":"#REF!"},{"$error":"#REF!"},{"$error":"#REF!"}]
[{"$f":"IF(Data!#REF!=\"\",\"\",Data!#REF!)","v":{"$error":"#REF!"}},{"$f":"IF(Data!#REF!=\"\",\"\",Data!#REF!)","v":{"$error":"#REF!"}},{"$f":"IF(Data!#REF!=\"\",\"\",Data!#REF!)","v":{"$error":"#REF!"}},{"$f":"IF(Data!#REF!=\"\",\"\",Data!#REF!)","v":{"$error":"#REF!"}},{"$f":"IF(Data!#REF!=\"\",\"\",Data!#REF!)","v":{"$error":"#REF!"}},{"$error":"#REF!"},{"$error":"#REF!"},{"$error":"#REF!"}]
[{"$f":"IF(Data!#REF!=\"\",\"\",Data!#REF!)","v":{"$error":"#REF!"}},{"$f":"IF(Data!#REF!=\"\",\"\",Data!#REF!)","v":{"$error":"#REF!"}},{"$f":"IF(Data!#REF!=\"\",\"\",Data!#REF!)","v":{"$error":"#REF!"}},{"$f":"IF(Data!#REF!=\"\",\"\",Data!#REF!)","v":{"$error":"#REF!"}},{"$f":"IF(Data!#REF!=\"\",\"\",Data!#REF!)","v":{"$error":"#REF!"}},{"$error":"#REF!"},{"$error":"#REF!"},{"$error":"#REF!"}]
[{"$f":"IF(Data!#REF!=\"\",\"\",Data!#REF!)","v":{"$error":"#REF!"}},{"$f":"IF(Data!#REF!=\"\",\"\",Data!#REF!)","v":{"$error":"#REF!"}},{"$f":"IF(Data!#REF!=\"\",\"\",Data!#REF!)","v":{"$error":"#REF!"}},{"$f":"IF(Data!#REF!=\"\",\"\",Data!#REF!)","v":{"$error":"#REF!"}},{"$f":"IF(Data!#REF!=\"\",\"\",Data!#REF!)","v":{"$error":"#REF!"}},{"$error":"#REF!"},{"$error":"#REF!"},{"$error":"#REF!"}]
[{"$f":"IF(Data!#REF!=\"\",\"\",Data!#REF!)","v":{"$error":"#REF!"}},{"$f":"IF(Data!#REF!=\"\",\"\",Data!#REF!)","v":{"$error":"#REF!"}},{"$f":"IF(Data!#REF!=\"\",\"\",Data!#REF!)","v":{"$error":"#REF!"}},{"$f":"IF(Data!#REF!=\"\",\"\",Data!#REF!)","v":{"$error":"#REF!"}},{"$f":"IF(Data!#REF!=\"\",\"\",Data!#REF!)","v":{"$error":"#REF!"}},{"$error":"#REF!"},{"$error":"#REF!"},{"$error":"#REF!"}]
[{"$f":"IF(Data!#REF!=\"\",\"\",Data!#REF!)","v":{"$error":"#REF!"}},{"$f":"IF(Data!#REF!=\"\",\"\",Data!#REF!)","v":{"$error":"#REF!"}},{"$f":"IF(Data!#REF!=\"\",\"\",Data!#REF!)","v":{"$error":"#REF!"}},{"$f":"IF(Data!#REF!=\"\",\"\",Data!#REF!)","v":{"$error":"#REF!"}},{"$f":"IF(Data!#REF!=\"\",\"\",Data!#REF!)","v":{"$error":"#REF!"}},{"$error":"#REF!"},{"$error":"#REF!"},{"$error":"#REF!"}]
[{"$f":"IF(Data!#REF!=\"\",\"\",Data!#REF!)","v":{"$error":"#REF!"}},{"$f":"IF(Data!#REF!=\"\",\"\",Data!#REF!)","v":{"$error":"#REF!"}},{"$f":"IF(Data!#REF!=\"\",\"\",Data!#REF!)","v":{"$error":"#REF!"}},{"$f":"IF(Data!#REF!=\"\",\"\",Data!#REF!)","v":{"$error":"#REF!"}},{"$f":"IF(Data!#REF!=\"\",\"\",Data!#REF!)","v":{"$error":"#REF!"}},{"$error":"#REF!"},{"$error":"#REF!"},{"$error":"#REF!"}]
[{"$f":"IF(Data!#REF!=\"\",\"\",Data!#REF!)","v":{"$error":"#REF!"}},{"$f":"IF(Data!#REF!=\"\",\"\",Data!#REF!)","v":{"$error":"#REF!"}},{"$f":"IF(Data!#REF!=\"\",\"\",Data!#REF!)","v":{"$error":"#REF!"}},{"$f":"IF(Data!#REF!=\"\",\"\",Data!#REF!)","v":{"$error":"#REF!"}},{"$f":"IF(Data!#REF!=\"\",\"\",Data!#REF!)","v":{"$error":"#REF!"}},{"$error":"#REF!"},{"$error":"#REF!"},{"$error":"#REF!"}]
[{"$f":"IF(Data!#REF!=\"\",\"\",Data!#REF!)","v":{"$error":"#REF!"}},{"$f":"IF(Data!#REF!=\"\",\"\",Data!#REF!)","v":{"$error":"#REF!"}},{"$f":"IF(Data!#REF!=\"\",\"\",Data!#REF!)","v":{"$error":"#REF!"}},{"$f":"IF(Data!#REF!=\"\",\"\",Data!#REF!)","v":{"$error":"#REF!"}},{"$f":"IF(Data!#REF!=\"\",\"\",Data!#REF!)","v":{"$error":"#REF!"}},{"$error":"#REF!"},{"$error":"#REF!"},{"$error":"#REF!"}]
[{"$f":"IF(Data!#REF!=\"\",\"\",Data!#REF!)","v":{"$error":"#REF!"}},{"$f":"IF(Data!#REF!=\"\",\"\",Data!#REF!)","v":{"$error":"#REF!"}},{"$f":"IF(Data!#REF!=\"\",\"\",Data!#REF!)","v":{"$error":"#REF!"}},{"$f":"IF(Data!#REF!=\"\",\"\",Data!#REF!)","v":{"$error":"#REF!"}},{"$f":"IF(Data!#REF!=\"\",\"\",Data!#REF!)","v":{"$error":"#REF!"}},{"$error":"#REF!"},{"$error":"#REF!"},{"$error":"#REF!"}]
[{"$f":"IF(Data!#REF!=\"\",\"\",Data!#REF!)","v":{"$error":"#REF!"}},{"$f":"IF(Data!#REF!=\"\",\"\",Data!#REF!)","v":{"$error":"#REF!"}},{"$f":"IF(Data!#REF!=\"\",\"\",Data!#REF!)","v":{"$error":"#REF!"}},{"$f":"IF(Data!#REF!=\"\",\"\",Data!#REF!)","v":{"$error":"#REF!"}},{"$f":"IF(Data!#REF!=\"\",\"\",Data!#REF!)","v":{"$error":"#REF!"}},{"$error":"#REF!"},{"$error":"#REF!"},{"$error":"#REF!"}]
[{"$f":"IF(Data!#REF!=\"\",\"\",Data!#REF!)","v":{"$error":"#REF!"}},{"$f":"IF(Data!#REF!=\"\",\"\",Data!#REF!)","v":{"$error":"#REF!"}},{"$f":"IF(Data!#REF!=\"\",\"\",Data!#REF!)","v":{"$error":"#REF!"}},{"$f":"IF(Data!#REF!=\"\",\"\",Data!#REF!)","v":{"$error":"#REF!"}},{"$f":"IF(Data!#REF!=\"\",\"\",Data!#REF!)","v":{"$error":"#REF!"}},{"$error":"#REF!"},{"$error":"#REF!"},{"$error":"#REF!"}]
[{"$f":"IF(Data!#REF!=\"\",\"\",Data!#REF!)","v":{"$error":"#REF!"}},{"$f":"IF(Data!#REF!=\"\",\"\",Data!#REF!)","v":{"$error":"#REF!"}},{"$f":"IF(Data!#REF!=\"\",\"\",Data!#REF!)","v":{"$error":"#REF!"}},{"$f":"IF(Data!#REF!=\"\",\"\",Data!#REF!)","v":{"$error":"#REF!"}},{"$f":"IF(Data!#REF!=\"\",\"\",Data!#REF!)","v":{"$error":"#REF!"}},{"$error":"#REF!"},{"$error":"#REF!"},{"$error":"#REF!"}]
[{"$f":"IF(Data!#REF!=\"\",\"\",Data!#REF!)","v":{"$error":"#REF!"}},{"$f":"IF(Data!#REF!=\"\",\"\",Data!#REF!)","v":{"$error":"#REF!"}},{"$f":"IF(Data!#REF!=\"\",\"\",Data!#REF!)","v":{"$error":"#REF!"}},{"$f":"IF(Data!#REF!=\"\",\"\",Data!#REF!)","v":{"$error":"#REF!"}},{"$f":"IF(Data!#REF!=\"\",\"\",Data!#REF!)","v":{"$error":"#REF!"}},{"$error":"#REF!"},{"$error":"#REF!"},{"$error":"#REF!"}]
[{"$f":"IF(Data!#REF!=\"\",\"\",Data!#REF!)","v":{"$error":"#REF!"}},{"$f":"IF(Data!#REF!=\"\",\"\",Data!#REF!)","v":{"$error":"#REF!"}},{"$f":"IF(Data!#REF!=\"\",\"\",Data!#REF!)","v":{"$error":"#REF!"}},{"$f":"IF(Data!#REF!=\"\",\"\",Data!#REF!)","v":{"$error":"#REF!"}},{"$f":"IF(Data!#REF!=\"\",\"\",Data!#REF!)","v":{"$error":"#REF!"}},{"$error":"#REF!"},{"$error":"#REF!"},{"$error":"#REF!"}]
[{"$f":"IF(Data!#REF!=\"\",\"\",Data!#REF!)","v":{"$error":"#REF!"}},{"$f":"IF(Data!#REF!=\"\",\"\",Data!#REF!)","v":{"$error":"#REF!"}},{"$f":"IF(Data!#REF!=\"\",\"\",Data!#REF!)","v":{"$error":"#REF!"}},{"$f":"IF(Data!#REF!=\"\",\"\",Data!#REF!)","v":{"$error":"#REF!"}},{"$f":"IF(Data!#REF!=\"\",\"\",Data!#REF!)","v":{"$error":"#REF!"}},{"$error":"#REF!"},{"$error":"#REF!"},{"$error":"#REF!"}]
[{"$f":"IF(Data!#REF!=\"\",\"\",Data!#REF!)","v":{"$error":"#REF!"}},{"$f":"IF(Data!#REF!=\"\",\"\",Data!#REF!)","v":{"$error":"#REF!"}},{"$f":"IF(Data!#REF!=\"\",\"\",Data!#REF!)","v":{"$error":"#REF!"}},{"$f":"IF(Data!#REF!=\"\",\"\",Data!#REF!)","v":{"$error":"#REF!"}},{"$f":"IF(Data!#REF!=\"\",\"\",Data!#REF!)","v":{"$error":"#REF!"}},{"$error":"#REF!"},{"$error":"#REF!"},{"$error":"#REF!"}]
[{"$f":"IF(Data!#REF!=\"\",\"\",Data!#REF!)","v":{"$error":"#REF!"}},{"$f":"IF(Data!#REF!=\"\",\"\",Data!#REF!)","v":{"$error":"#REF!"}},{"$f":"IF(Data!#REF!=\"\",\"\",Data!#REF!)","v":{"$error":"#REF!"}},{"$f":"IF(Data!#REF!=\"\",\"\",Data!#REF!)","v":{"$error":"#REF!"}},{"$f":"IF(Data!#REF!=\"\",\"\",Data!#REF!)","v":{"$error":"#REF!"}},{"$error":"#REF!"},{"$error":"#REF!"},{"$error":"#REF!"}]
[{"$f":"IF(Data!#REF!=\"\",\"\",Data!#REF!)","v":{"$error":"#REF!"}},{"$f":"IF(Data!#REF!=\"\",\"\",Data!#REF!)","v":{"$error":"#REF!"}},{"$f":"IF(Data!#REF!=\"\",\"\",Data!#REF!)","v":{"$error":"#REF!"}},{"$f":"IF(Data!#REF!=\"\",\"\",Data!#REF!)","v":{"$error":"#REF!"}},{"$f":"IF(Data!#REF!=\"\",\"\",Data!#REF!)","v":{"$error":"#REF!"}},{"$error":"#REF!"},{"$error":"#REF!"},{"$error":"#REF!"}]
[{"$f":"IF(Data!#REF!=\"\",\"\",Data!#REF!)","v":{"$error":"#REF!"}},{"$f":"IF(Data!#REF!=\"\",\"\",Data!#REF!)","v":{"$error":"#REF!"}},{"$f":"IF(Data!#REF!=\"\",\"\",Data!#REF!)","v":{"$error":"#REF!"}},{"$f":"IF(Data!#REF!=\"\",\"\",Data!#REF!)","v":{"$error":"#REF!"}},{"$f":"IF(Data!#REF!=\"\",\"\",Data!#REF!)","v":{"$error":"#REF!"}},{"$error":"#REF!"},{"$error":"#REF!"},{"$error":"#REF!"}]
[{"$f":"IF(Data!#REF!=\"\",\"\",Data!#REF!)","v":{"$error":"#REF!"}},{"$f":"IF(Data!#REF!=\"\",\"\",Data!#REF!)","v":{"$error":"#REF!"}},{"$f":"IF(Data!#REF!=\"\",\"\",Data!#REF!)","v":{"$error":"#REF!"}},{"$f":"IF(Data!#REF!=\"\",\"\",Data!#REF!)","v":{"$error":"#REF!"}},{"$f":"IF(Data!#REF!=\"\",\"\",Data!#REF!)","v":{"$error":"#REF!"}},{"$error":"#REF!"},{"$error":"#REF!"},{"$error":"#REF!"}]
[{"$f":"IF(Data!#REF!=\"\",\"\",Data!#REF!)","v":{"$error":"#REF!"}},{"$f":"IF(Data!#REF!=\"\",\"\",Data!#REF!)","v":{"$error":"#REF!"}},{"$f":"IF(Data!#REF!=\"\",\"\",Data!#REF!)","v":{"$error":"#REF!"}},{"$f":"IF(Data!#REF!=\"\",\"\",Data!#REF!)","v":{"$error":"#REF!"}},{"$f":"IF(Data!#REF!=\"\",\"\",Data!#REF!)","v":{"$error":"#REF!"}},{"$error":"#REF!"},{"$error":"#REF!"},{"$error":"#REF!"}]
[{"$f":"IF(Data!#REF!=\"\",\"\",Data!#REF!)","v":{"$error":"#REF!"}},{"$f":"IF(Data!#REF!=\"\",\"\",Data!#REF!)","v":{"$error":"#REF!"}},{"$f":"IF(Data!#REF!=\"\",\"\",Data!#REF!)","v":{"$error":"#REF!"}},{"$f":"IF(Data!#REF!=\"\",\"\",Data!#REF!)","v":{"$error":"#REF!"}},{"$f":"IF(Data!#REF!=\"\",\"\",Data!#REF!)","v":{"$error":"#REF!"}},{"$error":"#REF!"},{"$error":"#REF!"},{"$error":"#REF!"}]
[{"$f":"IF(Data!#REF!=\"\",\"\",Data!#REF!)","v":{"$error":"#REF!"}},{"$f":"IF(Data!#REF!=\"\",\"\",Data!#REF!)","v":{"$error":"#REF!"}},{"$f":"IF(Data!#REF!=\"\",\"\",Data!#REF!)","v":{"$error":"#REF!"}},{"$f":"IF(Data!#REF!=\"\",\"\",Data!#REF!)","v":{"$error":"#REF!"}},{"$f":"IF(Data!#REF!=\"\",\"\",Data!#REF!)","v":{"$error":"#REF!"}},{"$error":"#REF!"},{"$error":"#REF!"},{"$error":"#REF!"}]
[{"$f":"IF(Data!#REF!=\"\",\"\",Data!#REF!)","v":{"$error":"#REF!"}},{"$f":"IF(Data!#REF!=\"\",\"\",Data!#REF!)","v":{"$error":"#REF!"}},{"$f":"IF(Data!#REF!=\"\",\"\",Data!#REF!)","v":{"$error":"#REF!"}},{"$f":"IF(Data!#REF!=\"\",\"\",Data!#REF!)","v":{"$error":"#REF!"}},{"$f":"IF(Data!#REF!=\"\",\"\",Data!#REF!)","v":{"$error":"#REF!"}},{"$error":"#REF!"},{"$error":"#REF!"},{"$error":"#REF!"}]
[{"$f":"IF(Data!#REF!=\"\",\"\",Data!#REF!)","v":{"$error":"#REF!"}},{"$f":"IF(Data!#REF!=\"\",\"\",Data!#REF!)","v":{"$error":"#REF!"}},{"$f":"IF(Data!#REF!=\"\",\"\",Data!#REF!)","v":{"$error":"#REF!"}},{"$f":"IF(Data!#REF!=\"\",\"\",Data!#REF!)","v":{"$error":"#REF!"}},{"$f":"IF(Data!#REF!=\"\",\"\",Data!#REF!)","v":{"$error":"#REF!"}},{"$error":"#REF!"},{"$error":"#REF!"},{"$error":"#REF!"}]
[{"$f":"IF(Data!#REF!=\"\",\"\",Data!#REF!)","v":{"$error":"#REF!"}},{"$f":"IF(Data!#REF!=\"\",\"\",Data!#REF!)","v":{"$error":"#REF!"}},{"$f":"IF(Data!#REF!=\"\",\"\",Data!#REF!)","v":{"$error":"#REF!"}},{"$f":"IF(Data!#REF!=\"\",\"\",Data!#REF!)","v":{"$error":"#REF!"}},{"$f":"IF(Data!#REF!=\"\",\"\",Data!#REF!)","v":{"$error":"#REF!"}},{"$error":"#REF!"},{"$error":"#REF!"},{"$error":"#REF!"}]
[{"$f":"IF(Data!#REF!=\"\",\"\",Data!#REF!)","v":{"$error":"#REF!"}},{"$f":"IF(Data!#REF!=\"\",\"\",Data!#REF!)","v":{"$error":"#REF!"}},{"$f":"IF(Data!#REF!=\"\",\"\",Data!#REF!)","v":{"$error":"#REF!"}},{"$f":"IF(Data!#REF!=\"\",\"\",Data!#REF!)","v":{"$error":"#REF!"}},{"$f":"IF(Data!#REF!=\"\",\"\",Data!#REF!)","v":{"$error":"#REF!"}},{"$error":"#REF!"},{"$error":"#REF!"},{"$error":"#REF!"}]
[{"$f":"IF(Data!#REF!=\"\",\"\",Data!#REF!)","v":{"$error":"#REF!"}},{"$f":"IF(Data!#REF!=\"\",\"\",Data!#REF!)","v":{"$error":"#REF!"}},{"$f":"IF(Data!#REF!=\"\",\"\",Data!#REF!)","v":{"$error":"#REF!"}},{"$f":"IF(Data!#REF!=\"\",\"\",Data!#REF!)","v":{"$error":"#REF!"}},{"$f":"IF(Data!#REF!=\"\",\"\",Data!#REF!)","v":{"$error":"#REF!"}},{"$error":"#REF!"},{"$error":"#REF!"},{"$error":"#REF!"}]
[{"$f":"IF(Data!#REF!=\"\",\"\",Data!#REF!)","v":{"$error":"#REF!"}},{"$f":"IF(Data!#REF!=\"\",\"\",Data!#REF!)","v":{"$error":"#REF!"}},{"$f":"IF(Data!#REF!=\"\",\"\",Data!#REF!)","v":{"$error":"#REF!"}},{"$f":"IF(Data!#REF!=\"\",\"\",Data!#REF!)","v":{"$error":"#REF!"}},{"$f":"IF(Data!#REF!=\"\",\"\",Data!#REF!)","v":{"$error":"#REF!"}},{"$error":"#REF!"},{"$error":"#REF!"},{"$error":"#REF!"}]
[{"$f":"IF(Data!#REF!=\"\",\"\",Data!#REF!)","v":{"$error":"#REF!"}},{"$f":"IF(Data!#REF!=\"\",\"\",Data!#REF!)","v":{"$error":"#REF!"}},{"$f":"IF(Data!#REF!=\"\",\"\",Data!#REF!)","v":{"$error":"#REF!"}},{"$f":"IF(Data!#REF!=\"\",\"\",Data!#REF!)","v":{"$error":"#REF!"}},{"$f":"IF(Data!#REF!=\"\",\"\",Data!#REF!)","v":{"$error":"#REF!"}},{"$error":"#REF!"},{"$error":"#REF!"},{"$error":"#REF!"}]
[{"$f":"IF(Data!#REF!=\"\",\"\",Data!#REF!)","v":{"$error":"#REF!"}},{"$f":"IF(Data!#REF!=\"\",\"\",Data!#REF!)","v":{"$error":"#REF!"}},{"$f":"IF(Data!#REF!=\"\",\"\",Data!#REF!)","v":{"$error":"#REF!"}},{"$f":"IF(Data!#REF!=\"\",\"\",Data!#REF!)","v":{"$error":"#REF!"}},{"$f":"IF(Data!#REF!=\"\",\"\",Data!#REF!)","v":{"$error":"#REF!"}},{"$error":"#REF!"},{"$error":"#REF!"},{"$error":"#REF!"}]
[{"$f":"IF(Data!#REF!=\"\",\"\",Data!#REF!)","v":{"$error":"#REF!"}},{"$f":"IF(Data!#REF!=\"\",\"\",Data!#REF!)","v":{"$error":"#REF!"}},{"$f":"IF(Data!#REF!=\"\",\"\",Data!#REF!)","v":{"$error":"#REF!"}},{"$f":"IF(Data!#REF!=\"\",\"\",Data!#REF!)","v":{"$error":"#REF!"}},{"$f":"IF(Data!#REF!=\"\",\"\",Data!#REF!)","v":{"$error":"#REF!"}},{"$error":"#REF!"},{"$error":"#REF!"},{"$error":"#REF!"}]
[{"$f":"IF(Data!#REF!=\"\",\"\",Data!#REF!)","v":{"$error":"#REF!"}},{"$f":"IF(Data!#REF!=\"\",\"\",Data!#REF!)","v":{"$error":"#REF!"}},{"$f":"IF(Data!#REF!=\"\",\"\",Data!#REF!)","v":{"$error":"#REF!"}},{"$f":"IF(Data!#REF!=\"\",\"\",Data!#REF!)","v":{"$error":"#REF!"}},{"$f":"IF(Data!#REF!=\"\",\"\",Data!#REF!)","v":{"$error":"#REF!"}},{"$error":"#REF!"},{"$error":"#REF!"},{"$error":"#REF!"}]
[{"$f":"IF(Data!#REF!=\"\",\"\",Data!#REF!)","v":{"$error":"#REF!"}},{"$f":"IF(Data!#REF!=\"\",\"\",Data!#REF!)","v":{"$error":"#REF!"}},{"$f":"IF(Data!#REF!=\"\",\"\",Data!#REF!)","v":{"$error":"#REF!"}},{"$f":"IF(Data!#REF!=\"\",\"\",Data!#REF!)","v":{"$error":"#REF!"}},{"$f":"IF(Data!#REF!=\"\",\"\",Data!#REF!)","v":{"$error":"#REF!"}},{"$error":"#REF!"},{"$error":"#REF!"},{"$error":"#REF!"}]
[{"$f":"IF(Data!#REF!=\"\",\"\",Data!#REF!)","v":{"$error":"#REF!"}},{"$f":"IF(Data!#REF!=\"\",\"\",Data!#REF!)","v":{"$error":"#REF!"}},{"$f":"IF(Data!#REF!=\"\",\"\",Data!#REF!)","v":{"$error":"#REF!"}},{"$f":"IF(Data!#REF!=\"\",\"\",Data!#REF!)","v":{"$error":"#REF!"}},{"$f":"IF(Data!#REF!=\"\",\"\",Data!#REF!)","v":{"$error":"#REF!"}},{"$error":"#REF!"},{"$error":"#REF!"},{"$error":"#REF!"}]
[{"$f":"IF(Data!#REF!=\"\",\"\",Data!#REF!)","v":{"$error":"#REF!"}},{"$f":"IF(Data!#REF!=\"\",\"\",Data!#REF!)","v":{"$error":"#REF!"}},{"$f":"IF(Data!#REF!=\"\",\"\",Data!#REF!)","v":{"$error":"#REF!"}},{"$f":"IF(Data!#REF!=\"\",\"\",Data!#REF!)","v":{"$error":"#REF!"}},{"$f":"IF(Data!#REF!=\"\",\"\",Data!#REF!)","v":{"$error":"#REF!"}},{"$error":"#REF!"},{"$error":"#REF!"},{"$error":"#REF!"}]
[{"$f":"IF(Data!#REF!=\"\",\"\",Data!#REF!)","v":{"$error":"#REF!"}},{"$f":"IF(Data!#REF!=\"\",\"\",Data!#REF!)","v":{"$error":"#REF!"}},{"$f":"IF(Data!#REF!=\"\",\"\",Data!#REF!)","v":{"$error":"#REF!"}},{"$f":"IF(Data!#REF!=\"\",\"\",Data!#REF!)","v":{"$error":"#REF!"}},{"$f":"IF(Data!#REF!=\"\",\"\",Data!#REF!)","v":{"$error":"#REF!"}},{"$error":"#REF!"},{"$error":"#REF!"},{"$error":"#REF!"}]
[{"$f":"IF(Data!#REF!=\"\",\"\",Data!#REF!)","v":{"$error":"#REF!"}},{"$f":"IF(Data!#REF!=\"\",\"\",Data!#REF!)","v":{"$error":"#REF!"}},{"$f":"IF(Data!#REF!=\"\",\"\",Data!#REF!)","v":{"$error":"#REF!"}},{"$f":"IF(Data!#REF!=\"\",\"\",Data!#REF!)","v":{"$error":"#REF!"}},{"$f":"IF(Data!#REF!=\"\",\"\",Data!#REF!)","v":{"$error":"#REF!"}},{"$error":"#REF!"},{"$error":"#REF!"},{"$error":"#REF!"}]
[{"$f":"IF(Data!#REF!=\"\",\"\",Data!#REF!)","v":{"$error":"#REF!"}},{"$f":"IF(Data!#REF!=\"\",\"\",Data!#REF!)","v":{"$error":"#REF!"}},{"$f":"IF(Data!#REF!=\"\",\"\",Data!#REF!)","v":{"$error":"#REF!"}},{"$f":"IF(Data!#REF!=\"\",\"\",Data!#REF!)","v":{"$error":"#REF!"}},{"$f":"IF(Data!#REF!=\"\",\"\",Data!#REF!)","v":{"$error":"#REF!"}},{"$error":"#REF!"},{"$error":"#REF!"},{"$error":"#REF!"}]
[{"$f":"IF(Data!#REF!=\"\",\"\",Data!#REF!)","v":{"$error":"#REF!"}},{"$f":"IF(Data!#REF!=\"\",\"\",Data!#REF!)","v":{"$error":"#REF!"}},{"$f":"IF(Data!#REF!=\"\",\"\",Data!#REF!)","v":{"$error":"#REF!"}},{"$f":"IF(Data!#REF!=\"\",\"\",Data!#REF!)","v":{"$error":"#REF!"}},{"$f":"IF(Data!#REF!=\"\",\"\",Data!#REF!)","v":{"$error":"#REF!"}},{"$error":"#REF!"},{"$error":"#REF!"},{"$error":"#REF!"}]
[{"$f":"IF(Data!#REF!=\"\",\"\",Data!#REF!)","v":{"$error":"#REF!"}},{"$f":"IF(Data!#REF!=\"\",\"\",Data!#REF!)","v":{"$error":"#REF!"}},{"$f":"IF(Data!#REF!=\"\",\"\",Data!#REF!)","v":{"$error":"#REF!"}},{"$f":"IF(Data!#REF!=\"\",\"\",Data!#REF!)","v":{"$error":"#REF!"}},{"$f":"IF(Data!#REF!=\"\",\"\",Data!#REF!)","v":{"$error":"#REF!"}},{"$error":"#REF!"},{"$error":"#REF!"},{"$error":"#REF!"}]
[{"$f":"IF(Data!#REF!=\"\",\"\",Data!#REF!)","v":{"$error":"#REF!"}},{"$f":"IF(Data!#REF!=\"\",\"\",Data!#REF!)","v":{"$error":"#REF!"}},{"$f":"IF(Data!#REF!=\"\",\"\",Data!#REF!)","v":{"$error":"#REF!"}},{"$f":"IF(Data!#REF!=\"\",\"\",Data!#REF!)","v":{"$error":"#REF!"}},{"$f":"IF(Data!#REF!=\"\",\"\",Data!#REF!)","v":{"$error":"#REF!"}},{"$error":"#REF!"},{"$error":"#REF!"},{"$error":"#REF!"}]
[{"$f":"IF(Data!#REF!=\"\",\"\",Data!#REF!)","v":{"$error":"#REF!"}},{"$f":"IF(Data!#REF!=\"\",\"\",Data!#REF!)","v":{"$error":"#REF!"}},{"$f":"IF(Data!#REF!=\"\",\"\",Data!#REF!)","v":{"$error":"#REF!"}},{"$f":"IF(Data!#REF!=\"\",\"\",Data!#REF!)","v":{"$error":"#REF!"}},{"$f":"IF(Data!#REF!=\"\",\"\",Data!#REF!)","v":{"$error":"#REF!"}},{"$error":"#REF!"},{"$error":"#REF!"},{"$error":"#REF!"}]
[{"$f":"IF(Data!#REF!=\"\",\"\",Data!#REF!)","v":{"$error":"#REF!"}},{"$f":"IF(Data!#REF!=\"\",\"\",Data!#REF!)","v":{"$error":"#REF!"}},{"$f":"IF(Data!#REF!=\"\",\"\",Data!#REF!)","v":{"$error":"#REF!"}},{"$f":"IF(Data!#REF!=\"\",\"\",Data!#REF!)","v":{"$error":"#REF!"}},{"$f":"IF(Data!#REF!=\"\",\"\",Data!#REF!)","v":{"$error":"#REF!"}},{"$error":"#REF!"},{"$error":"#REF!"},{"$error":"#REF!"}]
[{"$f":"IF(Data!#REF!=\"\",\"\",Data!#REF!)","v":{"$error":"#REF!"}},{"$f":"IF(Data!#REF!=\"\",\"\",Data!#REF!)","v":{"$error":"#REF!"}},{"$f":"IF(Data!#REF!=\"\",\"\",Data!#REF!)","v":{"$error":"#REF!"}},{"$f":"IF(Data!#REF!=\"\",\"\",Data!#REF!)","v":{"$error":"#REF!"}},{"$f":"IF(Data!#REF!=\"\",\"\",Data!#REF!)","v":{"$error":"#REF!"}},{"$error":"#REF!"},{"$error":"#REF!"},{"$error":"#REF!"}]
[{"$f":"IF(Data!#REF!=\"\",\"\",Data!#REF!)","v":{"$error":"#REF!"}},{"$f":"IF(Data!#REF!=\"\",\"\",Data!#REF!)","v":{"$error":"#REF!"}},{"$f":"IF(Data!#REF!=\"\",\"\",Data!#REF!)","v":{"$error":"#REF!"}},{"$f":"IF(Data!#REF!=\"\",\"\",Data!#REF!)","v":{"$error":"#REF!"}},{"$f":"IF(Data!#REF!=\"\",\"\",Data!#REF!)","v":{"$error":"#REF!"}},{"$error":"#REF!"},{"$error":"#REF!"},{"$error":"#REF!"}]
[{"$f":"IF(Data!#REF!=\"\",\"\",Data!#REF!)","v":{"$error":"#REF!"}},{"$f":"IF(Data!#REF!=\"\",\"\",Data!#REF!)","v":{"$error":"#REF!"}},{"$f":"IF(Data!#REF!=\"\",\"\",Data!#REF!)","v":{"$error":"#REF!"}},{"$f":"IF(Data!#REF!=\"\",\"\",Data!#REF!)","v":{"$error":"#REF!"}},{"$f":"IF(Data!#REF!=\"\",\"\",Data!#REF!)","v":{"$error":"#REF!"}},{"$error":"#REF!"},{"$error":"#REF!"},{"$error":"#REF!"}]
[{"$f":"IF(Data!#REF!=\"\",\"\",Data!#REF!)","v":{"$error":"#REF!"}},{"$f":"IF(Data!#REF!=\"\",\"\",Data!#REF!)","v":{"$error":"#REF!"}},{"$f":"IF(Data!#REF!=\"\",\"\",Data!#REF!)","v":{"$error":"#REF!"}},{"$f":"IF(Data!#REF!=\"\",\"\",Data!#REF!)","v":{"$error":"#REF!"}},{"$f":"IF(Data!#REF!=\"\",\"\",Data!#REF!)","v":{"$error":"#REF!"}},{"$f":"IF(E2947>0,MONTH(E2947),\"\")","v":{"$error":"#REF!"}},{"$f":"IF(E2947>0,WEEKNUM(E2947),\"0\")","v":{"$error":"#REF!"}},{"$f":"IF(G2947>=($G$2-3),\"Ano\",\"Nie\")","v":{"$error":"#REF!"}}]
[{"$f":"IF(Data!#REF!=\"\",\"\",Data!#REF!)","v":{"$error":"#REF!"}},{"$f":"IF(Data!#REF!=\"\",\"\",Data!#REF!)","v":{"$error":"#REF!"}},{"$f":"IF(Data!#REF!=\"\",\"\",Data!#REF!)","v":{"$error":"#REF!"}},{"$f":"IF(Data!#REF!=\"\",\"\",Data!#REF!)","v":{"$error":"#REF!"}},{"$f":"IF(Data!#REF!=\"\",\"\",Data!#REF!)","v":{"$error":"#REF!"}},{"$error":"#REF!"},{"$error":"#REF!"},{"$error":"#REF!"}]
[{"$f":"IF(Data!#REF!=\"\",\"\",Data!#REF!)","v":{"$error":"#REF!"}},{"$f":"IF(Data!#REF!=\"\",\"\",Data!#REF!)","v":{"$error":"#REF!"}},{"$f":"IF(Data!#REF!=\"\",\"\",Data!#REF!)","v":{"$error":"#REF!"}},{"$f":"IF(Data!#REF!=\"\",\"\",Data!#REF!)","v":{"$error":"#REF!"}},{"$f":"IF(Data!#REF!=\"\",\"\",Data!#REF!)","v":{"$error":"#REF!"}},{"$error":"#REF!"},{"$error":"#REF!"},{"$error":"#REF!"}]
[{"$f":"IF(Data!#REF!=\"\",\"\",Data!#REF!)","v":{"$error":"#REF!"}},{"$f":"IF(Data!#REF!=\"\",\"\",Data!#REF!)","v":{"$error":"#REF!"}},{"$f":"IF(Data!#REF!=\"\",\"\",Data!#REF!)","v":{"$error":"#REF!"}},{"$f":"IF(Data!#REF!=\"\",\"\",Data!#REF!)","v":{"$error":"#REF!"}},{"$f":"IF(Data!#REF!=\"\",\"\",Data!#REF!)","v":{"$error":"#REF!"}},{"$error":"#REF!"},{"$error":"#REF!"},{"$error":"#REF!"}]
[{"$f":"IF(Data!#REF!=\"\",\"\",Data!#REF!)","v":{"$error":"#REF!"}},{"$f":"IF(Data!#REF!=\"\",\"\",Data!#REF!)","v":{"$error":"#REF!"}},{"$f":"IF(Data!#REF!=\"\",\"\",Data!#REF!)","v":{"$error":"#REF!"}},{"$f":"IF(Data!#REF!=\"\",\"\",Data!#REF!)","v":{"$error":"#REF!"}},{"$f":"IF(Data!#REF!=\"\",\"\",Data!#REF!)","v":{"$error":"#REF!"}},{"$error":"#REF!"},{"$error":"#REF!"},{"$error":"#REF!"}]
[{"$f":"IF(Data!#REF!=\"\",\"\",Data!#REF!)","v":{"$error":"#REF!"}},{"$f":"IF(Data!#REF!=\"\",\"\",Data!#REF!)","v":{"$error":"#REF!"}},{"$f":"IF(Data!#REF!=\"\",\"\",Data!#REF!)","v":{"$error":"#REF!"}},{"$f":"IF(Data!#REF!=\"\",\"\",Data!#REF!)","v":{"$error":"#REF!"}},{"$f":"IF(Data!#REF!=\"\",\"\",Data!#REF!)","v":{"$error":"#REF!"}},{"$error":"#REF!"},{"$error":"#REF!"},{"$error":"#REF!"}]
[{"$f":"IF(Data!#REF!=\"\",\"\",Data!#REF!)","v":{"$error":"#REF!"}},{"$f":"IF(Data!#REF!=\"\",\"\",Data!#REF!)","v":{"$error":"#REF!"}},{"$f":"IF(Data!#REF!=\"\",\"\",Data!#REF!)","v":{"$error":"#REF!"}},{"$f":"IF(Data!#REF!=\"\",\"\",Data!#REF!)","v":{"$error":"#REF!"}},{"$f":"IF(Data!#REF!=\"\",\"\",Data!#REF!)","v":{"$error":"#REF!"}},{"$error":"#REF!"},{"$error":"#REF!"},{"$error":"#REF!"}]
[{"$f":"IF(Data!#REF!=\"\",\"\",Data!#REF!)","v":{"$error":"#REF!"}},{"$f":"IF(Data!#REF!=\"\",\"\",Data!#REF!)","v":{"$error":"#REF!"}},{"$f":"IF(Data!#REF!=\"\",\"\",Data!#REF!)","v":{"$error":"#REF!"}},{"$f":"IF(Data!#REF!=\"\",\"\",Data!#REF!)","v":{"$error":"#REF!"}},{"$f":"IF(Data!#REF!=\"\",\"\",Data!#REF!)","v":{"$error":"#REF!"}},{"$error":"#REF!"},{"$error":"#REF!"},{"$error":"#REF!"}]
[{"$f":"IF(Data!#REF!=\"\",\"\",Data!#REF!)","v":{"$error":"#REF!"}},{"$f":"IF(Data!#REF!=\"\",\"\",Data!#REF!)","v":{"$error":"#REF!"}},{"$f":"IF(Data!#REF!=\"\",\"\",Data!#REF!)","v":{"$error":"#REF!"}},{"$f":"IF(Data!#REF!=\"\",\"\",Data!#REF!)","v":{"$error":"#REF!"}},{"$f":"IF(Data!#REF!=\"\",\"\",Data!#REF!)","v":{"$error":"#REF!"}},{"$error":"#REF!"},{"$error":"#REF!"},{"$error":"#REF!"}]
[{"$f":"IF(Data!#REF!=\"\",\"\",Data!#REF!)","v":{"$error":"#REF!"}},{"$f":"IF(Data!#REF!=\"\",\"\",Data!#REF!)","v":{"$error":"#REF!"}},{"$f":"IF(Data!#REF!=\"\",\"\",Data!#REF!)","v":{"$error":"#REF!"}},{"$f":"IF(Data!#REF!=\"\",\"\",Data!#REF!)","v":{"$error":"#REF!"}},{"$f":"IF(Data!#REF!=\"\",\"\",Data!#REF!)","v":{"$error":"#REF!"}},{"$error":"#REF!"},{"$error":"#REF!"},{"$error":"#REF!"}]
[{"$f":"IF(Data!#REF!=\"\",\"\",Data!#REF!)","v":{"$error":"#REF!"}},{"$f":"IF(Data!#REF!=\"\",\"\",Data!#REF!)","v":{"$error":"#REF!"}},{"$f":"IF(Data!#REF!=\"\",\"\",Data!#REF!)","v":{"$error":"#REF!"}},{"$f":"IF(Data!#REF!=\"\",\"\",Data!#REF!)","v":{"$error":"#REF!"}},{"$f":"IF(Data!#REF!=\"\",\"\",Data!#REF!)","v":{"$error":"#REF!"}},{"$error":"#REF!"},{"$error":"#REF!"},{"$error":"#REF!"}]
[{"$f":"IF(Data!#REF!=\"\",\"\",Data!#REF!)","v":{"$error":"#REF!"}},{"$f":"IF(Data!#REF!=\"\",\"\",Data!#REF!)","v":{"$error":"#REF!"}},{"$f":"IF(Data!#REF!=\"\",\"\",Data!#REF!)","v":{"$error":"#REF!"}},{"$f":"IF(Data!#REF!=\"\",\"\",Data!#REF!)","v":{"$error":"#REF!"}},{"$f":"IF(Data!#REF!=\"\",\"\",Data!#REF!)","v":{"$error":"#REF!"}},{"$error":"#REF!"},{"$error":"#REF!"},{"$error":"#REF!"}]
[{"$f":"IF(Data!#REF!=\"\",\"\",Data!#REF!)","v":{"$error":"#REF!"}},{"$f":"IF(Data!#REF!=\"\",\"\",Data!#REF!)","v":{"$error":"#REF!"}},{"$f":"IF(Data!#REF!=\"\",\"\",Data!#REF!)","v":{"$error":"#REF!"}},{"$f":"IF(Data!#REF!=\"\",\"\",Data!#REF!)","v":{"$error":"#REF!"}},{"$f":"IF(Data!#REF!=\"\",\"\",Data!#REF!)","v":{"$error":"#REF!"}},{"$error":"#REF!"},{"$error":"#REF!"},{"$error":"#REF!"}]
[{"$f":"IF(Data!#REF!=\"\",\"\",Data!#REF!)","v":{"$error":"#REF!"}},{"$f":"IF(Data!#REF!=\"\",\"\",Data!#REF!)","v":{"$error":"#REF!"}},{"$f":"IF(Data!#REF!=\"\",\"\",Data!#REF!)","v":{"$error":"#REF!"}},{"$f":"IF(Data!#REF!=\"\",\"\",Data!#REF!)","v":{"$error":"#REF!"}},{"$f":"IF(Data!#REF!=\"\",\"\",Data!#REF!)","v":{"$error":"#REF!"}},{"$error":"#REF!"},{"$error":"#REF!"},{"$error":"#REF!"}]
[{"$f":"IF(Data!#REF!=\"\",\"\",Data!#REF!)","v":{"$error":"#REF!"}},{"$f":"IF(Data!#REF!=\"\",\"\",Data!#REF!)","v":{"$error":"#REF!"}},{"$f":"IF(Data!#REF!=\"\",\"\",Data!#REF!)","v":{"$error":"#REF!"}},{"$f":"IF(Data!#REF!=\"\",\"\",Data!#REF!)","v":{"$error":"#REF!"}},{"$f":"IF(Data!#REF!=\"\",\"\",Data!#REF!)","v":{"$error":"#REF!"}},{"$error":"#REF!"},{"$error":"#REF!"},{"$error":"#REF!"}]
[{"$f":"IF(Data!#REF!=\"\",\"\",Data!#REF!)","v":{"$error":"#REF!"}},{"$f":"IF(Data!#REF!=\"\",\"\",Data!#REF!)","v":{"$error":"#REF!"}},{"$f":"IF(Data!#REF!=\"\",\"\",Data!#REF!)","v":{"$error":"#REF!"}},{"$f":"IF(Data!#REF!=\"\",\"\",Data!#REF!)","v":{"$error":"#REF!"}},{"$f":"IF(Data!#REF!=\"\",\"\",Data!#REF!)","v":{"$error":"#REF!"}},{"$error":"#REF!"},{"$error":"#REF!"},{"$error":"#REF!"}]
[{"$f":"IF(Data!#REF!=\"\",\"\",Data!#REF!)","v":{"$error":"#REF!"}},{"$f":"IF(Data!#REF!=\"\",\"\",Data!#REF!)","v":{"$error":"#REF!"}},{"$f":"IF(Data!#REF!=\"\",\"\",Data!#REF!)","v":{"$error":"#REF!"}},{"$f":"IF(Data!#REF!=\"\",\"\",Data!#REF!)","v":{"$error":"#REF!"}},{"$f":"IF(Data!#REF!=\"\",\"\",Data!#REF!)","v":{"$error":"#REF!"}},{"$error":"#REF!"},{"$error":"#REF!"},{"$error":"#REF!"}]
[{"$f":"IF(Data!#REF!=\"\",\"\",Data!#REF!)","v":{"$error":"#REF!"}},{"$f":"IF(Data!#REF!=\"\",\"\",Data!#REF!)","v":{"$error":"#REF!"}},{"$f":"IF(Data!#REF!=\"\",\"\",Data!#REF!)","v":{"$error":"#REF!"}},{"$f":"IF(Data!#REF!=\"\",\"\",Data!#REF!)","v":{"$error":"#REF!"}},{"$f":"IF(Data!#REF!=\"\",\"\",Data!#REF!)","v":{"$error":"#REF!"}},{"$error":"#REF!"},{"$error":"#REF!"},{"$error":"#REF!"}]
[{"$f":"IF(Data!#REF!=\"\",\"\",Data!#REF!)","v":{"$error":"#REF!"}},{"$f":"IF(Data!#REF!=\"\",\"\",Data!#REF!)","v":{"$error":"#REF!"}},{"$f":"IF(Data!#REF!=\"\",\"\",Data!#REF!)","v":{"$error":"#REF!"}},{"$f":"IF(Data!#REF!=\"\",\"\",Data!#REF!)","v":{"$error":"#REF!"}},{"$f":"IF(Data!#REF!=\"\",\"\",Data!#REF!)","v":{"$error":"#REF!"}},{"$error":"#REF!"},{"$error":"#REF!"},{"$error":"#REF!"}]
[{"$f":"IF(Data!#REF!=\"\",\"\",Data!#REF!)","v":{"$error":"#REF!"}},{"$f":"IF(Data!#REF!=\"\",\"\",Data!#REF!)","v":{"$error":"#REF!"}},{"$f":"IF(Data!#REF!=\"\",\"\",Data!#REF!)","v":{"$error":"#REF!"}},{"$f":"IF(Data!#REF!=\"\",\"\",Data!#REF!)","v":{"$error":"#REF!"}},{"$f":"IF(Data!#REF!=\"\",\"\",Data!#REF!)","v":{"$error":"#REF!"}},{"$error":"#REF!"},{"$error":"#REF!"},{"$error":"#REF!"}]
[{"$f":"IF(Data!#REF!=\"\",\"\",Data!#REF!)","v":{"$error":"#REF!"}},{"$f":"IF(Data!#REF!=\"\",\"\",Data!#REF!)","v":{"$error":"#REF!"}},{"$f":"IF(Data!#REF!=\"\",\"\",Data!#REF!)","v":{"$error":"#REF!"}},{"$f":"IF(Data!#REF!=\"\",\"\",Data!#REF!)","v":{"$error":"#REF!"}},{"$f":"IF(Data!#REF!=\"\",\"\",Data!#REF!)","v":{"$error":"#REF!"}},{"$error":"#REF!"},{"$error":"#REF!"},{"$error":"#REF!"}]
[{"$f":"IF(Data!#REF!=\"\",\"\",Data!#REF!)","v":{"$error":"#REF!"}},{"$f":"IF(Data!#REF!=\"\",\"\",Data!#REF!)","v":{"$error":"#REF!"}},{"$f":"IF(Data!#REF!=\"\",\"\",Data!#REF!)","v":{"$error":"#REF!"}},{"$f":"IF(Data!#REF!=\"\",\"\",Data!#REF!)","v":{"$error":"#REF!"}},{"$f":"IF(Data!#REF!=\"\",\"\",Data!#REF!)","v":{"$error":"#REF!"}},{"$error":"#REF!"},{"$error":"#REF!"},{"$error":"#REF!"}]
[{"$f":"IF(Data!#REF!=\"\",\"\",Data!#REF!)","v":{"$error":"#REF!"}},{"$f":"IF(Data!#REF!=\"\",\"\",Data!#REF!)","v":{"$error":"#REF!"}},{"$f":"IF(Data!#REF!=\"\",\"\",Data!#REF!)","v":{"$error":"#REF!"}},{"$f":"IF(Data!#REF!=\"\",\"\",Data!#REF!)","v":{"$error":"#REF!"}},{"$f":"IF(Data!#REF!=\"\",\"\",Data!#REF!)","v":{"$error":"#REF!"}},{"$error":"#REF!"},{"$error":"#REF!"},{"$error":"#REF!"}]
[{"$f":"IF(Data!#REF!=\"\",\"\",Data!#REF!)","v":{"$error":"#REF!"}},{"$f":"IF(Data!#REF!=\"\",\"\",Data!#REF!)","v":{"$error":"#REF!"}},{"$f":"IF(Data!#REF!=\"\",\"\",Data!#REF!)","v":{"$error":"#REF!"}},{"$f":"IF(Data!#REF!=\"\",\"\",Data!#REF!)","v":{"$error":"#REF!"}},{"$f":"IF(Data!#REF!=\"\",\"\",Data!#REF!)","v":{"$error":"#REF!"}},{"$error":"#REF!"},{"$error":"#REF!"},{"$error":"#REF!"}]
[{"$f":"IF(Data!#REF!=\"\",\"\",Data!#REF!)","v":{"$error":"#REF!"}},{"$f":"IF(Data!#REF!=\"\",\"\",Data!#REF!)","v":{"$error":"#REF!"}},{"$f":"IF(Data!#REF!=\"\",\"\",Data!#REF!)","v":{"$error":"#REF!"}},{"$f":"IF(Data!#REF!=\"\",\"\",Data!#REF!)","v":{"$error":"#REF!"}},{"$f":"IF(Data!#REF!=\"\",\"\",Data!#REF!)","v":{"$error":"#REF!"}},{"$error":"#REF!"},{"$error":"#REF!"},{"$error":"#REF!"}]
[{"$f":"IF(Data!#REF!=\"\",\"\",Data!#REF!)","v":{"$error":"#REF!"}},{"$f":"IF(Data!#REF!=\"\",\"\",Data!#REF!)","v":{"$error":"#REF!"}},{"$f":"IF(Data!#REF!=\"\",\"\",Data!#REF!)","v":{"$error":"#REF!"}},{"$f":"IF(Data!#REF!=\"\",\"\",Data!#REF!)","v":{"$error":"#REF!"}},{"$f":"IF(Data!#REF!=\"\",\"\",Data!#REF!)","v":{"$error":"#REF!"}},{"$error":"#REF!"},{"$error":"#REF!"},{"$error":"#REF!"}]
[{"$f":"IF(Data!#REF!=\"\",\"\",Data!#REF!)","v":{"$error":"#REF!"}},{"$f":"IF(Data!#REF!=\"\",\"\",Data!#REF!)","v":{"$error":"#REF!"}},{"$f":"IF(Data!#REF!=\"\",\"\",Data!#REF!)","v":{"$error":"#REF!"}},{"$f":"IF(Data!#REF!=\"\",\"\",Data!#REF!)","v":{"$error":"#REF!"}},{"$f":"IF(Data!#REF!=\"\",\"\",Data!#REF!)","v":{"$error":"#REF!"}},{"$error":"#REF!"},{"$error":"#REF!"},{"$error":"#REF!"}]
[{"$f":"IF(Data!#REF!=\"\",\"\",Data!#REF!)","v":{"$error":"#REF!"}},{"$f":"IF(Data!#REF!=\"\",\"\",Data!#REF!)","v":{"$error":"#REF!"}},{"$f":"IF(Data!#REF!=\"\",\"\",Data!#REF!)","v":{"$error":"#REF!"}},{"$f":"IF(Data!#REF!=\"\",\"\",Data!#REF!)","v":{"$error":"#REF!"}},{"$f":"IF(Data!#REF!=\"\",\"\",Data!#REF!)","v":{"$error":"#REF!"}},{"$error":"#REF!"},{"$error":"#REF!"},{"$error":"#REF!"}]
[{"$f":"IF(Data!#REF!=\"\",\"\",Data!#REF!)","v":{"$error":"#REF!"}},{"$f":"IF(Data!#REF!=\"\",\"\",Data!#REF!)","v":{"$error":"#REF!"}},{"$f":"IF(Data!#REF!=\"\",\"\",Data!#REF!)","v":{"$error":"#REF!"}},{"$f":"IF(Data!#REF!=\"\",\"\",Data!#REF!)","v":{"$error":"#REF!"}},{"$f":"IF(Data!#REF!=\"\",\"\",Data!#REF!)","v":{"$error":"#REF!"}},{"$error":"#REF!"},{"$error":"#REF!"},{"$error":"#REF!"}]
[{"$f":"IF(Data!#REF!=\"\",\"\",Data!#REF!)","v":{"$error":"#REF!"}},{"$f":"IF(Data!#REF!=\"\",\"\",Data!#REF!)","v":{"$error":"#REF!"}},{"$f":"IF(Data!#REF!=\"\",\"\",Data!#REF!)","v":{"$error":"#REF!"}},{"$f":"IF(Data!#REF!=\"\",\"\",Data!#REF!)","v":{"$error":"#REF!"}},{"$f":"IF(Data!#REF!=\"\",\"\",Data!#REF!)","v":{"$error":"#REF!"}},{"$error":"#REF!"},{"$error":"#REF!"},{"$error":"#REF!"}]
[{"$f":"IF(Data!#REF!=\"\",\"\",Data!#REF!)","v":{"$error":"#REF!"}},{"$f":"IF(Data!#REF!=\"\",\"\",Data!#REF!)","v":{"$error":"#REF!"}},{"$f":"IF(Data!#REF!=\"\",\"\",Data!#REF!)","v":{"$error":"#REF!"}},{"$f":"IF(Data!#REF!=\"\",\"\",Data!#REF!)","v":{"$error":"#REF!"}},{"$f":"IF(Data!#REF!=\"\",\"\",Data!#REF!)","v":{"$error":"#REF!"}},{"$error":"#REF!"},{"$error":"#REF!"},{"$error":"#REF!"}]
[{"$f":"IF(Data!#REF!=\"\",\"\",Data!#REF!)","v":{"$error":"#REF!"}},{"$f":"IF(Data!#REF!=\"\",\"\",Data!#REF!)","v":{"$error":"#REF!"}},{"$f":"IF(Data!#REF!=\"\",\"\",Data!#REF!)","v":{"$error":"#REF!"}},{"$f":"IF(Data!#REF!=\"\",\"\",Data!#REF!)","v":{"$error":"#REF!"}},{"$f":"IF(Data!#REF!=\"\",\"\",Data!#REF!)","v":{"$error":"#REF!"}},{"$error":"#REF!"},{"$error":"#REF!"},{"$error":"#REF!"}]
[{"$f":"IF(Data!#REF!=\"\",\"\",Data!#REF!)","v":{"$error":"#REF!"}},{"$f":"IF(Data!#REF!=\"\",\"\",Data!#REF!)","v":{"$error":"#REF!"}},{"$f":"IF(Data!#REF!=\"\",\"\",Data!#REF!)","v":{"$error":"#REF!"}},{"$f":"IF(Data!#REF!=\"\",\"\",Data!#REF!)","v":{"$error":"#REF!"}},{"$f":"IF(Data!#REF!=\"\",\"\",Data!#REF!)","v":{"$error":"#REF!"}},{"$error":"#REF!"},{"$error":"#REF!"},{"$error":"#REF!"}]
[{"$f":"IF(Data!#REF!=\"\",\"\",Data!#REF!)","v":{"$error":"#REF!"}},{"$f":"IF(Data!#REF!=\"\",\"\",Data!#REF!)","v":{"$error":"#REF!"}},{"$f":"IF(Data!#REF!=\"\",\"\",Data!#REF!)","v":{"$error":"#REF!"}},{"$f":"IF(Data!#REF!=\"\",\"\",Data!#REF!)","v":{"$error":"#REF!"}},{"$f":"IF(Data!#REF!=\"\",\"\",Data!#REF!)","v":{"$error":"#REF!"}},{"$error":"#REF!"},{"$error":"#REF!"},{"$error":"#REF!"}]
[{"$f":"IF(Data!#REF!=\"\",\"\",Data!#REF!)","v":{"$error":"#REF!"}},{"$f":"IF(Data!#REF!=\"\",\"\",Data!#REF!)","v":{"$error":"#REF!"}},{"$f":"IF(Data!#REF!=\"\",\"\",Data!#REF!)","v":{"$error":"#REF!"}},{"$f":"IF(Data!#REF!=\"\",\"\",Data!#REF!)","v":{"$error":"#REF!"}},{"$f":"IF(Data!#REF!=\"\",\"\",Data!#REF!)","v":{"$error":"#REF!"}},{"$error":"#REF!"},{"$error":"#REF!"},{"$error":"#REF!"}]
[{"$f":"IF(Data!#REF!=\"\",\"\",Data!#REF!)","v":{"$error":"#REF!"}},{"$f":"IF(Data!#REF!=\"\",\"\",Data!#REF!)","v":{"$error":"#REF!"}},{"$f":"IF(Data!#REF!=\"\",\"\",Data!#REF!)","v":{"$error":"#REF!"}},{"$f":"IF(Data!#REF!=\"\",\"\",Data!#REF!)","v":{"$error":"#REF!"}},{"$f":"IF(Data!#REF!=\"\",\"\",Data!#REF!)","v":{"$error":"#REF!"}},{"$error":"#REF!"},{"$error":"#REF!"},{"$error":"#REF!"}]
[{"$f":"IF(Data!#REF!=\"\",\"\",Data!#REF!)","v":{"$error":"#REF!"}},{"$f":"IF(Data!#REF!=\"\",\"\",Data!#REF!)","v":{"$error":"#REF!"}},{"$f":"IF(Data!#REF!=\"\",\"\",Data!#REF!)","v":{"$error":"#REF!"}},{"$f":"IF(Data!#REF!=\"\",\"\",Data!#REF!)","v":{"$error":"#REF!"}},{"$f":"IF(Data!#REF!=\"\",\"\",Data!#REF!)","v":{"$error":"#REF!"}},{"$error":"#REF!"},{"$error":"#REF!"},{"$error":"#REF!"}]
[{"$f":"IF(Data!#REF!=\"\",\"\",Data!#REF!)","v":{"$error":"#REF!"}},{"$f":"IF(Data!#REF!=\"\",\"\",Data!#REF!)","v":{"$error":"#REF!"}},{"$f":"IF(Data!#REF!=\"\",\"\",Data!#REF!)","v":{"$error":"#REF!"}},{"$f":"IF(Data!#REF!=\"\",\"\",Data!#REF!)","v":{"$error":"#REF!"}},{"$f":"IF(Data!#REF!=\"\",\"\",Data!#REF!)","v":{"$error":"#REF!"}},{"$error":"#REF!"},{"$error":"#REF!"},{"$error":"#REF!"}]
[{"$f":"IF(Data!#REF!=\"\",\"\",Data!#REF!)","v":{"$error":"#REF!"}},{"$f":"IF(Data!#REF!=\"\",\"\",Data!#REF!)","v":{"$error":"#REF!"}},{"$f":"IF(Data!#REF!=\"\",\"\",Data!#REF!)","v":{"$error":"#REF!"}},{"$f":"IF(Data!#REF!=\"\",\"\",Data!#REF!)","v":{"$error":"#REF!"}},{"$f":"IF(Data!#REF!=\"\",\"\",Data!#REF!)","v":{"$error":"#REF!"}},{"$error":"#REF!"},{"$error":"#REF!"},{"$error":"#REF!"}]
[{"$f":"IF(Data!#REF!=\"\",\"\",Data!#REF!)","v":{"$error":"#REF!"}},{"$f":"IF(Data!#REF!=\"\",\"\",Data!#REF!)","v":{"$error":"#REF!"}},{"$f":"IF(Data!#REF!=\"\",\"\",Data!#REF!)","v":{"$error":"#REF!"}},{"$f":"IF(Data!#REF!=\"\",\"\",Data!#REF!)","v":{"$error":"#REF!"}},{"$f":"IF(Data!#REF!=\"\",\"\",Data!#REF!)","v":{"$error":"#REF!"}},{"$error":"#REF!"},{"$error":"#REF!"},{"$error":"#REF!"}]
[{"$f":"IF(Data!#REF!=\"\",\"\",Data!#REF!)","v":{"$error":"#REF!"}},{"$f":"IF(Data!#REF!=\"\",\"\",Data!#REF!)","v":{"$error":"#REF!"}},{"$f":"IF(Data!#REF!=\"\",\"\",Data!#REF!)","v":{"$error":"#REF!"}},{"$f":"IF(Data!#REF!=\"\",\"\",Data!#REF!)","v":{"$error":"#REF!"}},{"$f":"IF(Data!#REF!=\"\",\"\",Data!#REF!)","v":{"$error":"#REF!"}},{"$error":"#REF!"},{"$error":"#REF!"},{"$error":"#REF!"}]
[{"$f":"IF(Data!#REF!=\"\",\"\",Data!#REF!)","v":{"$error":"#REF!"}},{"$f":"IF(Data!#REF!=\"\",\"\",Data!#REF!)","v":{"$error":"#REF!"}},{"$f":"IF(Data!#REF!=\"\",\"\",Data!#REF!)","v":{"$error":"#REF!"}},{"$f":"IF(Data!#REF!=\"\",\"\",Data!#REF!)","v":{"$error":"#REF!"}},{"$f":"IF(Data!#REF!=\"\",\"\",Data!#REF!)","v":{"$error":"#REF!"}},{"$error":"#REF!"},{"$error":"#REF!"},{"$error":"#REF!"}]
[{"$f":"IF(Data!#REF!=\"\",\"\",Data!#REF!)","v":{"$error":"#REF!"}},{"$f":"IF(Data!#REF!=\"\",\"\",Data!#REF!)","v":{"$error":"#REF!"}},{"$f":"IF(Data!#REF!=\"\",\"\",Data!#REF!)","v":{"$error":"#REF!"}},{"$f":"IF(Data!#REF!=\"\",\"\",Data!#REF!)","v":{"$error":"#REF!"}},{"$f":"IF(Data!#REF!=\"\",\"\",Data!#REF!)","v":{"$error":"#REF!"}},{"$error":"#REF!"},{"$error":"#REF!"},{"$error":"#REF!"}]
[{"$f":"IF(Data!#REF!=\"\",\"\",Data!#REF!)","v":{"$error":"#REF!"}},{"$f":"IF(Data!#REF!=\"\",\"\",Data!#REF!)","v":{"$error":"#REF!"}},{"$f":"IF(Data!#REF!=\"\",\"\",Data!#REF!)","v":{"$error":"#REF!"}},{"$f":"IF(Data!#REF!=\"\",\"\",Data!#REF!)","v":{"$error":"#REF!"}},{"$f":"IF(Data!#REF!=\"\",\"\",Data!#REF!)","v":{"$error":"#REF!"}},{"$error":"#REF!"},{"$error":"#REF!"},{"$error":"#REF!"}]
[{"$f":"IF(Data!#REF!=\"\",\"\",Data!#REF!)","v":{"$error":"#REF!"}},{"$f":"IF(Data!#REF!=\"\",\"\",Data!#REF!)","v":{"$error":"#REF!"}},{"$f":"IF(Data!#REF!=\"\",\"\",Data!#REF!)","v":{"$error":"#REF!"}},{"$f":"IF(Data!#REF!=\"\",\"\",Data!#REF!)","v":{"$error":"#REF!"}},{"$f":"IF(Data!#REF!=\"\",\"\",Data!#REF!)","v":{"$error":"#REF!"}},{"$error":"#REF!"},{"$error":"#REF!"},{"$error":"#REF!"}]
[{"$f":"IF(Data!#REF!=\"\",\"\",Data!#REF!)","v":{"$error":"#REF!"}},{"$f":"IF(Data!#REF!=\"\",\"\",Data!#REF!)","v":{"$error":"#REF!"}},{"$f":"IF(Data!#REF!=\"\",\"\",Data!#REF!)","v":{"$error":"#REF!"}},{"$f":"IF(Data!#REF!=\"\",\"\",Data!#REF!)","v":{"$error":"#REF!"}},{"$f":"IF(Data!#REF!=\"\",\"\",Data!#REF!)","v":{"$error":"#REF!"}},{"$error":"#REF!"},{"$error":"#REF!"},{"$error":"#REF!"}]
[{"$f":"IF(Data!#REF!=\"\",\"\",Data!#REF!)","v":{"$error":"#REF!"}},{"$f":"IF(Data!#REF!=\"\",\"\",Data!#REF!)","v":{"$error":"#REF!"}},{"$f":"IF(Data!#REF!=\"\",\"\",Data!#REF!)","v":{"$error":"#REF!"}},{"$f":"IF(Data!#REF!=\"\",\"\",Data!#REF!)","v":{"$error":"#REF!"}},{"$f":"IF(Data!#REF!=\"\",\"\",Data!#REF!)","v":{"$error":"#REF!"}},{"$error":"#REF!"},{"$error":"#REF!"},{"$error":"#REF!"}]
[{"$f":"IF(Data!#REF!=\"\",\"\",Data!#REF!)","v":{"$error":"#REF!"}},{"$f":"IF(Data!#REF!=\"\",\"\",Data!#REF!)","v":{"$error":"#REF!"}},{"$f":"IF(Data!#REF!=\"\",\"\",Data!#REF!)","v":{"$error":"#REF!"}},{"$f":"IF(Data!#REF!=\"\",\"\",Data!#REF!)","v":{"$error":"#REF!"}},{"$f":"IF(Data!#REF!=\"\",\"\",Data!#REF!)","v":{"$error":"#REF!"}},{"$error":"#REF!"},{"$error":"#REF!"},{"$error":"#REF!"}]
[{"$f":"IF(Data!#REF!=\"\",\"\",Data!#REF!)","v":{"$error":"#REF!"}},{"$f":"IF(Data!#REF!=\"\",\"\",Data!#REF!)","v":{"$error":"#REF!"}},{"$f":"IF(Data!#REF!=\"\",\"\",Data!#REF!)","v":{"$error":"#REF!"}},{"$f":"IF(Data!#REF!=\"\",\"\",Data!#REF!)","v":{"$error":"#REF!"}},{"$f":"IF(Data!#REF!=\"\",\"\",Data!#REF!)","v":{"$error":"#REF!"}},{"$error":"#REF!"},{"$error":"#REF!"},{"$error":"#REF!"}]
[{"$f":"IF(Data!#REF!=\"\",\"\",Data!#REF!)","v":{"$error":"#REF!"}},{"$f":"IF(Data!#REF!=\"\",\"\",Data!#REF!)","v":{"$error":"#REF!"}},{"$f":"IF(Data!#REF!=\"\",\"\",Data!#REF!)","v":{"$error":"#REF!"}},{"$f":"IF(Data!#REF!=\"\",\"\",Data!#REF!)","v":{"$error":"#REF!"}},{"$f":"IF(Data!#REF!=\"\",\"\",Data!#REF!)","v":{"$error":"#REF!"}},{"$error":"#REF!"},{"$error":"#REF!"},{"$error":"#REF!"}]
[{"$f":"IF(Data!#REF!=\"\",\"\",Data!#REF!)","v":{"$error":"#REF!"}},{"$f":"IF(Data!#REF!=\"\",\"\",Data!#REF!)","v":{"$error":"#REF!"}},{"$f":"IF(Data!#REF!=\"\",\"\",Data!#REF!)","v":{"$error":"#REF!"}},{"$f":"IF(Data!#REF!=\"\",\"\",Data!#REF!)","v":{"$error":"#REF!"}},{"$f":"IF(Data!#REF!=\"\",\"\",Data!#REF!)","v":{"$error":"#REF!"}},{"$error":"#REF!"},{"$error":"#REF!"},{"$error":"#REF!"}]
[{"$f":"IF(Data!#REF!=\"\",\"\",Data!#REF!)","v":{"$error":"#REF!"}},{"$f":"IF(Data!#REF!=\"\",\"\",Data!#REF!)","v":{"$error":"#REF!"}},{"$f":"IF(Data!#REF!=\"\",\"\",Data!#REF!)","v":{"$error":"#REF!"}},{"$f":"IF(Data!#REF!=\"\",\"\",Data!#REF!)","v":{"$error":"#REF!"}},{"$f":"IF(Data!#REF!=\"\",\"\",Data!#REF!)","v":{"$error":"#REF!"}},{"$error":"#REF!"},{"$error":"#REF!"},{"$error":"#REF!"}]
[{"$f":"IF(Data!#REF!=\"\",\"\",Data!#REF!)","v":{"$error":"#REF!"}},{"$f":"IF(Data!#REF!=\"\",\"\",Data!#REF!)","v":{"$error":"#REF!"}},{"$f":"IF(Data!#REF!=\"\",\"\",Data!#REF!)","v":{"$error":"#REF!"}},{"$f":"IF(Data!#REF!=\"\",\"\",Data!#REF!)","v":{"$error":"#REF!"}},{"$f":"IF(Data!#REF!=\"\",\"\",Data!#REF!)","v":{"$error":"#REF!"}},{"$error":"#REF!"},{"$error":"#REF!"},{"$error":"#REF!"}]
[{"$f":"IF(Data!#REF!=\"\",\"\",Data!#REF!)","v":{"$error":"#REF!"}},{"$f":"IF(Data!#REF!=\"\",\"\",Data!#REF!)","v":{"$error":"#REF!"}},{"$f":"IF(Data!#REF!=\"\",\"\",Data!#REF!)","v":{"$error":"#REF!"}},{"$f":"IF(Data!#REF!=\"\",\"\",Data!#REF!)","v":{"$error":"#REF!"}},{"$f":"IF(Data!#REF!=\"\",\"\",Data!#REF!)","v":{"$error":"#REF!"}},{"$error":"#REF!"},{"$error":"#REF!"},{"$error":"#REF!"}]
[{"$f":"IF(Data!#REF!=\"\",\"\",Data!#REF!)","v":{"$error":"#REF!"}},{"$f":"IF(Data!#REF!=\"\",\"\",Data!#REF!)","v":{"$error":"#REF!"}},{"$f":"IF(Data!#REF!=\"\",\"\",Data!#REF!)","v":{"$error":"#REF!"}},{"$f":"IF(Data!#REF!=\"\",\"\",Data!#REF!)","v":{"$error":"#REF!"}},{"$f":"IF(Data!#REF!=\"\",\"\",Data!#REF!)","v":{"$error":"#REF!"}},{"$error":"#REF!"},{"$error":"#REF!"},{"$error":"#REF!"}]
[{"$f":"IF(Data!#REF!=\"\",\"\",Data!#REF!)","v":{"$error":"#REF!"}},{"$f":"IF(Data!#REF!=\"\",\"\",Data!#REF!)","v":{"$error":"#REF!"}},{"$f":"IF(Data!#REF!=\"\",\"\",Data!#REF!)","v":{"$error":"#REF!"}},{"$f":"IF(Data!#REF!=\"\",\"\",Data!#REF!)","v":{"$error":"#REF!"}},{"$f":"IF(Data!#REF!=\"\",\"\",Data!#REF!)","v":{"$error":"#REF!"}},{"$error":"#REF!"},{"$error":"#REF!"},{"$error":"#REF!"}]
[{"$f":"IF(Data!#REF!=\"\",\"\",Data!#REF!)","v":{"$error":"#REF!"}},{"$f":"IF(Data!#REF!=\"\",\"\",Data!#REF!)","v":{"$error":"#REF!"}},{"$f":"IF(Data!#REF!=\"\",\"\",Data!#REF!)","v":{"$error":"#REF!"}},{"$f":"IF(Data!#REF!=\"\",\"\",Data!#REF!)","v":{"$error":"#REF!"}},{"$f":"IF(Data!#REF!=\"\",\"\",Data!#REF!)","v":{"$error":"#REF!"}},{"$error":"#REF!"},{"$error":"#REF!"},{"$error":"#REF!"}]
[{"$f":"IF(Data!#REF!=\"\",\"\",Data!#REF!)","v":{"$error":"#REF!"}},{"$f":"IF(Data!#REF!=\"\",\"\",Data!#REF!)","v":{"$error":"#REF!"}},{"$f":"IF(Data!#REF!=\"\",\"\",Data!#REF!)","v":{"$error":"#REF!"}},{"$f":"IF(Data!#REF!=\"\",\"\",Data!#REF!)","v":{"$error":"#REF!"}},{"$f":"IF(Data!#REF!=\"\",\"\",Data!#REF!)","v":{"$error":"#REF!"}},{"$error":"#REF!"},{"$error":"#REF!"},{"$error":"#REF!"}]
[{"$f":"IF(Data!#REF!=\"\",\"\",Data!#REF!)","v":{"$error":"#REF!"}},{"$f":"IF(Data!#REF!=\"\",\"\",Data!#REF!)","v":{"$error":"#REF!"}},{"$f":"IF(Data!#REF!=\"\",\"\",Data!#REF!)","v":{"$error":"#REF!"}},{"$f":"IF(Data!#REF!=\"\",\"\",Data!#REF!)","v":{"$error":"#REF!"}},{"$f":"IF(Data!#REF!=\"\",\"\",Data!#REF!)","v":{"$error":"#REF!"}},{"$error":"#REF!"},{"$error":"#REF!"},{"$error":"#REF!"}]
[{"$f":"IF(Data!#REF!=\"\",\"\",Data!#REF!)","v":{"$error":"#REF!"}},{"$f":"IF(Data!#REF!=\"\",\"\",Data!#REF!)","v":{"$error":"#REF!"}},{"$f":"IF(Data!#REF!=\"\",\"\",Data!#REF!)","v":{"$error":"#REF!"}},{"$f":"IF(Data!#REF!=\"\",\"\",Data!#REF!)","v":{"$error":"#REF!"}},{"$f":"IF(Data!#REF!=\"\",\"\",Data!#REF!)","v":{"$error":"#REF!"}},{"$error":"#REF!"},{"$error":"#REF!"},{"$error":"#REF!"}]
[{"$f":"IF(Data!#REF!=\"\",\"\",Data!#REF!)","v":{"$error":"#REF!"}},{"$f":"IF(Data!#REF!=\"\",\"\",Data!#REF!)","v":{"$error":"#REF!"}},{"$f":"IF(Data!#REF!=\"\",\"\",Data!#REF!)","v":{"$error":"#REF!"}},{"$f":"IF(Data!#REF!=\"\",\"\",Data!#REF!)","v":{"$error":"#REF!"}},{"$f":"IF(Data!#REF!=\"\",\"\",Data!#REF!)","v":{"$error":"#REF!"}},{"$error":"#REF!"},{"$error":"#REF!"},{"$error":"#REF!"}]
[{"$f":"IF(Data!#REF!=\"\",\"\",Data!#REF!)","v":{"$error":"#REF!"}},{"$f":"IF(Data!#REF!=\"\",\"\",Data!#REF!)","v":{"$error":"#REF!"}},{"$f":"IF(Data!#REF!=\"\",\"\",Data!#REF!)","v":{"$error":"#REF!"}},{"$f":"IF(Data!#REF!=\"\",\"\",Data!#REF!)","v":{"$error":"#REF!"}},{"$f":"IF(Data!#REF!=\"\",\"\",Data!#REF!)","v":{"$error":"#REF!"}},{"$error":"#REF!"},{"$error":"#REF!"},{"$error":"#REF!"}]
[{"$f":"IF(Data!#REF!=\"\",\"\",Data!#REF!)","v":{"$error":"#REF!"}},{"$f":"IF(Data!#REF!=\"\",\"\",Data!#REF!)","v":{"$error":"#REF!"}},{"$f":"IF(Data!#REF!=\"\",\"\",Data!#REF!)","v":{"$error":"#REF!"}},{"$f":"IF(Data!#REF!=\"\",\"\",Data!#REF!)","v":{"$error":"#REF!"}},{"$f":"IF(Data!#REF!=\"\",\"\",Data!#REF!)","v":{"$error":"#REF!"}},{"$error":"#REF!"},{"$error":"#REF!"},{"$error":"#REF!"}]
[{"$f":"IF(Data!#REF!=\"\",\"\",Data!#REF!)","v":{"$error":"#REF!"}},{"$f":"IF(Data!#REF!=\"\",\"\",Data!#REF!)","v":{"$error":"#REF!"}},{"$f":"IF(Data!#REF!=\"\",\"\",Data!#REF!)","v":{"$error":"#REF!"}},{"$f":"IF(Data!#REF!=\"\",\"\",Data!#REF!)","v":{"$error":"#REF!"}},{"$f":"IF(Data!#REF!=\"\",\"\",Data!#REF!)","v":{"$error":"#REF!"}},{"$error":"#REF!"},{"$error":"#REF!"},{"$error":"#REF!"}]
[{"$f":"IF(Data!#REF!=\"\",\"\",Data!#REF!)","v":{"$error":"#REF!"}},{"$f":"IF(Data!#REF!=\"\",\"\",Data!#REF!)","v":{"$error":"#REF!"}},{"$f":"IF(Data!#REF!=\"\",\"\",Data!#REF!)","v":{"$error":"#REF!"}},{"$f":"IF(Data!#REF!=\"\",\"\",Data!#REF!)","v":{"$error":"#REF!"}},{"$f":"IF(Data!#REF!=\"\",\"\",Data!#REF!)","v":{"$error":"#REF!"}},{"$f":"IF(E3011>0,MONTH(E3011),\"\")","v":{"$error":"#REF!"}},{"$f":"IF(E3011>0,WEEKNUM(E3011),\"0\")","v":{"$error":"#REF!"}},{"$f":"IF(G3011>=($G$2-3),\"Ano\",\"Nie\")","v":{"$error":"#REF!"}}]
[{"$f":"IF(Data!#REF!=\"\",\"\",Data!#REF!)","v":{"$error":"#REF!"}},{"$f":"IF(Data!#REF!=\"\",\"\",Data!#REF!)","v":{"$error":"#REF!"}},{"$f":"IF(Data!#REF!=\"\",\"\",Data!#REF!)","v":{"$error":"#REF!"}},{"$f":"IF(Data!#REF!=\"\",\"\",Data!#REF!)","v":{"$error":"#REF!"}},{"$f":"IF(Data!#REF!=\"\",\"\",Data!#REF!)","v":{"$error":"#REF!"}},{"$error":"#REF!"},{"$error":"#REF!"},{"$error":"#REF!"}]
[{"$f":"IF(Data!#REF!=\"\",\"\",Data!#REF!)","v":{"$error":"#REF!"}},{"$f":"IF(Data!#REF!=\"\",\"\",Data!#REF!)","v":{"$error":"#REF!"}},{"$f":"IF(Data!#REF!=\"\",\"\",Data!#REF!)","v":{"$error":"#REF!"}},{"$f":"IF(Data!#REF!=\"\",\"\",Data!#REF!)","v":{"$error":"#REF!"}},{"$f":"IF(Data!#REF!=\"\",\"\",Data!#REF!)","v":{"$error":"#REF!"}},{"$error":"#REF!"},{"$error":"#REF!"},{"$error":"#REF!"}]
[{"$f":"IF(Data!#REF!=\"\",\"\",Data!#REF!)","v":{"$error":"#REF!"}},{"$f":"IF(Data!#REF!=\"\",\"\",Data!#REF!)","v":{"$error":"#REF!"}},{"$f":"IF(Data!#REF!=\"\",\"\",Data!#REF!)","v":{"$error":"#REF!"}},{"$f":"IF(Data!#REF!=\"\",\"\",Data!#REF!)","v":{"$error":"#REF!"}},{"$f":"IF(Data!#REF!=\"\",\"\",Data!#REF!)","v":{"$error":"#REF!"}},{"$error":"#REF!"},{"$error":"#REF!"},{"$error":"#REF!"}]
[{"$f":"IF(Data!#REF!=\"\",\"\",Data!#REF!)","v":{"$error":"#REF!"}},{"$f":"IF(Data!#REF!=\"\",\"\",Data!#REF!)","v":{"$error":"#REF!"}},{"$f":"IF(Data!#REF!=\"\",\"\",Data!#REF!)","v":{"$error":"#REF!"}},{"$f":"IF(Data!#REF!=\"\",\"\",Data!#REF!)","v":{"$error":"#REF!"}},{"$f":"IF(Data!#REF!=\"\",\"\",Data!#REF!)","v":{"$error":"#REF!"}},{"$error":"#REF!"},{"$error":"#REF!"},{"$error":"#REF!"}]
[{"$f":"IF(Data!#REF!=\"\",\"\",Data!#REF!)","v":{"$error":"#REF!"}},{"$f":"IF(Data!#REF!=\"\",\"\",Data!#REF!)","v":{"$error":"#REF!"}},{"$f":"IF(Data!#REF!=\"\",\"\",Data!#REF!)","v":{"$error":"#REF!"}},{"$f":"IF(Data!#REF!=\"\",\"\",Data!#REF!)","v":{"$error":"#REF!"}},{"$f":"IF(Data!#REF!=\"\",\"\",Data!#REF!)","v":{"$error":"#REF!"}},{"$error":"#REF!"},{"$error":"#REF!"},{"$error":"#REF!"}]
[{"$f":"IF(Data!#REF!=\"\",\"\",Data!#REF!)","v":{"$error":"#REF!"}},{"$f":"IF(Data!#REF!=\"\",\"\",Data!#REF!)","v":{"$error":"#REF!"}},{"$f":"IF(Data!#REF!=\"\",\"\",Data!#REF!)","v":{"$error":"#REF!"}},{"$f":"IF(Data!#REF!=\"\",\"\",Data!#REF!)","v":{"$error":"#REF!"}},{"$f":"IF(Data!#REF!=\"\",\"\",Data!#REF!)","v":{"$error":"#REF!"}},{"$error":"#REF!"},{"$error":"#REF!"},{"$error":"#REF!"}]
[{"$f":"IF(Data!#REF!=\"\",\"\",Data!#REF!)","v":{"$error":"#REF!"}},{"$f":"IF(Data!#REF!=\"\",\"\",Data!#REF!)","v":{"$error":"#REF!"}},{"$f":"IF(Data!#REF!=\"\",\"\",Data!#REF!)","v":{"$error":"#REF!"}},{"$f":"IF(Data!#REF!=\"\",\"\",Data!#REF!)","v":{"$error":"#REF!"}},{"$f":"IF(Data!#REF!=\"\",\"\",Data!#REF!)","v":{"$error":"#REF!"}},{"$error":"#REF!"},{"$error":"#REF!"},{"$error":"#REF!"}]
[{"$f":"IF(Data!#REF!=\"\",\"\",Data!#REF!)","v":{"$error":"#REF!"}},{"$f":"IF(Data!#REF!=\"\",\"\",Data!#REF!)","v":{"$error":"#REF!"}},{"$f":"IF(Data!#REF!=\"\",\"\",Data!#REF!)","v":{"$error":"#REF!"}},{"$f":"IF(Data!#REF!=\"\",\"\",Data!#REF!)","v":{"$error":"#REF!"}},{"$f":"IF(Data!#REF!=\"\",\"\",Data!#REF!)","v":{"$error":"#REF!"}},{"$error":"#REF!"},{"$error":"#REF!"},{"$error":"#REF!"}]
[{"$f":"IF(Data!#REF!=\"\",\"\",Data!#REF!)","v":{"$error":"#REF!"}},{"$f":"IF(Data!#REF!=\"\",\"\",Data!#REF!)","v":{"$error":"#REF!"}},{"$f":"IF(Data!#REF!=\"\",\"\",Data!#REF!)","v":{"$error":"#REF!"}},{"$f":"IF(Data!#REF!=\"\",\"\",Data!#REF!)","v":{"$error":"#REF!"}},{"$f":"IF(Data!#REF!=\"\",\"\",Data!#REF!)","v":{"$error":"#REF!"}},{"$error":"#REF!"},{"$error":"#REF!"},{"$error":"#REF!"}]
[{"$f":"IF(Data!#REF!=\"\",\"\",Data!#REF!)","v":{"$error":"#REF!"}},{"$f":"IF(Data!#REF!=\"\",\"\",Data!#REF!)","v":{"$error":"#REF!"}},{"$f":"IF(Data!#REF!=\"\",\"\",Data!#REF!)","v":{"$error":"#REF!"}},{"$f":"IF(Data!#REF!=\"\",\"\",Data!#REF!)","v":{"$error":"#REF!"}},{"$f":"IF(Data!#REF!=\"\",\"\",Data!#REF!)","v":{"$error":"#REF!"}},{"$error":"#REF!"},{"$error":"#REF!"},{"$error":"#REF!"}]
[{"$f":"IF(Data!#REF!=\"\",\"\",Data!#REF!)","v":{"$error":"#REF!"}},{"$f":"IF(Data!#REF!=\"\",\"\",Data!#REF!)","v":{"$error":"#REF!"}},{"$f":"IF(Data!#REF!=\"\",\"\",Data!#REF!)","v":{"$error":"#REF!"}},{"$f":"IF(Data!#REF!=\"\",\"\",Data!#REF!)","v":{"$error":"#REF!"}},{"$f":"IF(Data!#REF!=\"\",\"\",Data!#REF!)","v":{"$error":"#REF!"}},{"$error":"#REF!"},{"$error":"#REF!"},{"$error":"#REF!"}]
[{"$f":"IF(Data!#REF!=\"\",\"\",Data!#REF!)","v":{"$error":"#REF!"}},{"$f":"IF(Data!#REF!=\"\",\"\",Data!#REF!)","v":{"$error":"#REF!"}},{"$f":"IF(Data!#REF!=\"\",\"\",Data!#REF!)","v":{"$error":"#REF!"}},{"$f":"IF(Data!#REF!=\"\",\"\",Data!#REF!)","v":{"$error":"#REF!"}},{"$f":"IF(Data!#REF!=\"\",\"\",Data!#REF!)","v":{"$error":"#REF!"}},{"$error":"#REF!"},{"$error":"#REF!"},{"$error":"#REF!"}]
[{"$f":"IF(Data!#REF!=\"\",\"\",Data!#REF!)","v":{"$error":"#REF!"}},{"$f":"IF(Data!#REF!=\"\",\"\",Data!#REF!)","v":{"$error":"#REF!"}},{"$f":"IF(Data!#REF!=\"\",\"\",Data!#REF!)","v":{"$error":"#REF!"}},{"$f":"IF(Data!#REF!=\"\",\"\",Data!#REF!)","v":{"$error":"#REF!"}},{"$f":"IF(Data!#REF!=\"\",\"\",Data!#REF!)","v":{"$error":"#REF!"}},{"$error":"#REF!"},{"$error":"#REF!"},{"$error":"#REF!"}]
[{"$f":"IF(Data!#REF!=\"\",\"\",Data!#REF!)","v":{"$error":"#REF!"}},{"$f":"IF(Data!#REF!=\"\",\"\",Data!#REF!)","v":{"$error":"#REF!"}},{"$f":"IF(Data!#REF!=\"\",\"\",Data!#REF!)","v":{"$error":"#REF!"}},{"$f":"IF(Data!#REF!=\"\",\"\",Data!#REF!)","v":{"$error":"#REF!"}},{"$f":"IF(Data!#REF!=\"\",\"\",Data!#REF!)","v":{"$error":"#REF!"}},{"$error":"#REF!"},{"$error":"#REF!"},{"$error":"#REF!"}]
[{"$f":"IF(Data!#REF!=\"\",\"\",Data!#REF!)","v":{"$error":"#REF!"}},{"$f":"IF(Data!#REF!=\"\",\"\",Data!#REF!)","v":{"$error":"#REF!"}},{"$f":"IF(Data!#REF!=\"\",\"\",Data!#REF!)","v":{"$error":"#REF!"}},{"$f":"IF(Data!#REF!=\"\",\"\",Data!#REF!)","v":{"$error":"#REF!"}},{"$f":"IF(Data!#REF!=\"\",\"\",Data!#REF!)","v":{"$error":"#REF!"}},{"$error":"#REF!"},{"$error":"#REF!"},{"$error":"#REF!"}]
[{"$f":"IF(Data!#REF!=\"\",\"\",Data!#REF!)","v":{"$error":"#REF!"}},{"$f":"IF(Data!#REF!=\"\",\"\",Data!#REF!)","v":{"$error":"#REF!"}},{"$f":"IF(Data!#REF!=\"\",\"\",Data!#REF!)","v":{"$error":"#REF!"}},{"$f":"IF(Data!#REF!=\"\",\"\",Data!#REF!)","v":{"$error":"#REF!"}},{"$f":"IF(Data!#REF!=\"\",\"\",Data!#REF!)","v":{"$error":"#REF!"}},{"$error":"#REF!"},{"$error":"#REF!"},{"$error":"#REF!"}]
[{"$f":"IF(Data!#REF!=\"\",\"\",Data!#REF!)","v":{"$error":"#REF!"}},{"$f":"IF(Data!#REF!=\"\",\"\",Data!#REF!)","v":{"$error":"#REF!"}},{"$f":"IF(Data!#REF!=\"\",\"\",Data!#REF!)","v":{"$error":"#REF!"}},{"$f":"IF(Data!#REF!=\"\",\"\",Data!#REF!)","v":{"$error":"#REF!"}},{"$f":"IF(Data!#REF!=\"\",\"\",Data!#REF!)","v":{"$error":"#REF!"}},{"$error":"#REF!"},{"$error":"#REF!"},{"$error":"#REF!"}]
[{"$f":"IF(Data!#REF!=\"\",\"\",Data!#REF!)","v":{"$error":"#REF!"}},{"$f":"IF(Data!#REF!=\"\",\"\",Data!#REF!)","v":{"$error":"#REF!"}},{"$f":"IF(Data!#REF!=\"\",\"\",Data!#REF!)","v":{"$error":"#REF!"}},{"$f":"IF(Data!#REF!=\"\",\"\",Data!#REF!)","v":{"$error":"#REF!"}},{"$f":"IF(Data!#REF!=\"\",\"\",Data!#REF!)","v":{"$error":"#REF!"}},{"$error":"#REF!"},{"$error":"#REF!"},{"$error":"#REF!"}]
[{"$f":"IF(Data!#REF!=\"\",\"\",Data!#REF!)","v":{"$error":"#REF!"}},{"$f":"IF(Data!#REF!=\"\",\"\",Data!#REF!)","v":{"$error":"#REF!"}},{"$f":"IF(Data!#REF!=\"\",\"\",Data!#REF!)","v":{"$error":"#REF!"}},{"$f":"IF(Data!#REF!=\"\",\"\",Data!#REF!)","v":{"$error":"#REF!"}},{"$f":"IF(Data!#REF!=\"\",\"\",Data!#REF!)","v":{"$error":"#REF!"}},{"$error":"#REF!"},{"$error":"#REF!"},{"$error":"#REF!"}]
[{"$f":"IF(Data!#REF!=\"\",\"\",Data!#REF!)","v":{"$error":"#REF!"}},{"$f":"IF(Data!#REF!=\"\",\"\",Data!#REF!)","v":{"$error":"#REF!"}},{"$f":"IF(Data!#REF!=\"\",\"\",Data!#REF!)","v":{"$error":"#REF!"}},{"$f":"IF(Data!#REF!=\"\",\"\",Data!#REF!)","v":{"$error":"#REF!"}},{"$f":"IF(Data!#REF!=\"\",\"\",Data!#REF!)","v":{"$error":"#REF!"}},{"$error":"#REF!"},{"$error":"#REF!"},{"$error":"#REF!"}]
[{"$f":"IF(Data!#REF!=\"\",\"\",Data!#REF!)","v":{"$error":"#REF!"}},{"$f":"IF(Data!#REF!=\"\",\"\",Data!#REF!)","v":{"$error":"#REF!"}},{"$f":"IF(Data!#REF!=\"\",\"\",Data!#REF!)","v":{"$error":"#REF!"}},{"$f":"IF(Data!#REF!=\"\",\"\",Data!#REF!)","v":{"$error":"#REF!"}},{"$f":"IF(Data!#REF!=\"\",\"\",Data!#REF!)","v":{"$error":"#REF!"}},{"$error":"#REF!"},{"$error":"#REF!"},{"$error":"#REF!"}]
[{"$f":"IF(Data!#REF!=\"\",\"\",Data!#REF!)","v":{"$error":"#REF!"}},{"$f":"IF(Data!#REF!=\"\",\"\",Data!#REF!)","v":{"$error":"#REF!"}},{"$f":"IF(Data!#REF!=\"\",\"\",Data!#REF!)","v":{"$error":"#REF!"}},{"$f":"IF(Data!#REF!=\"\",\"\",Data!#REF!)","v":{"$error":"#REF!"}},{"$f":"IF(Data!#REF!=\"\",\"\",Data!#REF!)","v":{"$error":"#REF!"}},{"$error":"#REF!"},{"$error":"#REF!"},{"$error":"#REF!"}]
[{"$f":"IF(Data!#REF!=\"\",\"\",Data!#REF!)","v":{"$error":"#REF!"}},{"$f":"IF(Data!#REF!=\"\",\"\",Data!#REF!)","v":{"$error":"#REF!"}},{"$f":"IF(Data!#REF!=\"\",\"\",Data!#REF!)","v":{"$error":"#REF!"}},{"$f":"IF(Data!#REF!=\"\",\"\",Data!#REF!)","v":{"$error":"#REF!"}},{"$f":"IF(Data!#REF!=\"\",\"\",Data!#REF!)","v":{"$error":"#REF!"}},{"$error":"#REF!"},{"$error":"#REF!"},{"$error":"#REF!"}]
[{"$f":"IF(Data!#REF!=\"\",\"\",Data!#REF!)","v":{"$error":"#REF!"}},{"$f":"IF(Data!#REF!=\"\",\"\",Data!#REF!)","v":{"$error":"#REF!"}},{"$f":"IF(Data!#REF!=\"\",\"\",Data!#REF!)","v":{"$error":"#REF!"}},{"$f":"IF(Data!#REF!=\"\",\"\",Data!#REF!)","v":{"$error":"#REF!"}},{"$f":"IF(Data!#REF!=\"\",\"\",Data!#REF!)","v":{"$error":"#REF!"}},{"$error":"#REF!"},{"$error":"#REF!"},{"$error":"#REF!"}]
[{"$f":"IF(Data!#REF!=\"\",\"\",Data!#REF!)","v":{"$error":"#REF!"}},{"$f":"IF(Data!#REF!=\"\",\"\",Data!#REF!)","v":{"$error":"#REF!"}},{"$f":"IF(Data!#REF!=\"\",\"\",Data!#REF!)","v":{"$error":"#REF!"}},{"$f":"IF(Data!#REF!=\"\",\"\",Data!#REF!)","v":{"$error":"#REF!"}},{"$f":"IF(Data!#REF!=\"\",\"\",Data!#REF!)","v":{"$error":"#REF!"}},{"$error":"#REF!"},{"$error":"#REF!"},{"$error":"#REF!"}]
[{"$f":"IF(Data!#REF!=\"\",\"\",Data!#REF!)","v":{"$error":"#REF!"}},{"$f":"IF(Data!#REF!=\"\",\"\",Data!#REF!)","v":{"$error":"#REF!"}},{"$f":"IF(Data!#REF!=\"\",\"\",Data!#REF!)","v":{"$error":"#REF!"}},{"$f":"IF(Data!#REF!=\"\",\"\",Data!#REF!)","v":{"$error":"#REF!"}},{"$f":"IF(Data!#REF!=\"\",\"\",Data!#REF!)","v":{"$error":"#REF!"}},{"$error":"#REF!"},{"$error":"#REF!"},{"$error":"#REF!"}]
[{"$f":"IF(Data!#REF!=\"\",\"\",Data!#REF!)","v":{"$error":"#REF!"}},{"$f":"IF(Data!#REF!=\"\",\"\",Data!#REF!)","v":{"$error":"#REF!"}},{"$f":"IF(Data!#REF!=\"\",\"\",Data!#REF!)","v":{"$error":"#REF!"}},{"$f":"IF(Data!#REF!=\"\",\"\",Data!#REF!)","v":{"$error":"#REF!"}},{"$f":"IF(Data!#REF!=\"\",\"\",Data!#REF!)","v":{"$error":"#REF!"}},{"$error":"#REF!"},{"$error":"#REF!"},{"$error":"#REF!"}]
[{"$f":"IF(Data!#REF!=\"\",\"\",Data!#REF!)","v":{"$error":"#REF!"}},{"$f":"IF(Data!#REF!=\"\",\"\",Data!#REF!)","v":{"$error":"#REF!"}},{"$f":"IF(Data!#REF!=\"\",\"\",Data!#REF!)","v":{"$error":"#REF!"}},{"$f":"IF(Data!#REF!=\"\",\"\",Data!#REF!)","v":{"$error":"#REF!"}},{"$f":"IF(Data!#REF!=\"\",\"\",Data!#REF!)","v":{"$error":"#REF!"}},{"$error":"#REF!"},{"$error":"#REF!"},{"$error":"#REF!"}]
[{"$f":"IF(Data!#REF!=\"\",\"\",Data!#REF!)","v":{"$error":"#REF!"}},{"$f":"IF(Data!#REF!=\"\",\"\",Data!#REF!)","v":{"$error":"#REF!"}},{"$f":"IF(Data!#REF!=\"\",\"\",Data!#REF!)","v":{"$error":"#REF!"}},{"$f":"IF(Data!#REF!=\"\",\"\",Data!#REF!)","v":{"$error":"#REF!"}},{"$f":"IF(Data!#REF!=\"\",\"\",Data!#REF!)","v":{"$error":"#REF!"}},{"$error":"#REF!"},{"$error":"#REF!"},{"$error":"#REF!"}]
[{"$f":"IF(Data!#REF!=\"\",\"\",Data!#REF!)","v":{"$error":"#REF!"}},{"$f":"IF(Data!#REF!=\"\",\"\",Data!#REF!)","v":{"$error":"#REF!"}},{"$f":"IF(Data!#REF!=\"\",\"\",Data!#REF!)","v":{"$error":"#REF!"}},{"$f":"IF(Data!#REF!=\"\",\"\",Data!#REF!)","v":{"$error":"#REF!"}},{"$f":"IF(Data!#REF!=\"\",\"\",Data!#REF!)","v":{"$error":"#REF!"}},{"$error":"#REF!"},{"$error":"#REF!"},{"$error":"#REF!"}]
[{"$f":"IF(Data!#REF!=\"\",\"\",Data!#REF!)","v":{"$error":"#REF!"}},{"$f":"IF(Data!#REF!=\"\",\"\",Data!#REF!)","v":{"$error":"#REF!"}},{"$f":"IF(Data!#REF!=\"\",\"\",Data!#REF!)","v":{"$error":"#REF!"}},{"$f":"IF(Data!#REF!=\"\",\"\",Data!#REF!)","v":{"$error":"#REF!"}},{"$f":"IF(Data!#REF!=\"\",\"\",Data!#REF!)","v":{"$error":"#REF!"}},{"$error":"#REF!"},{"$error":"#REF!"},{"$error":"#REF!"}]
[{"$f":"IF(Data!#REF!=\"\",\"\",Data!#REF!)","v":{"$error":"#REF!"}},{"$f":"IF(Data!#REF!=\"\",\"\",Data!#REF!)","v":{"$error":"#REF!"}},{"$f":"IF(Data!#REF!=\"\",\"\",Data!#REF!)","v":{"$error":"#REF!"}},{"$f":"IF(Data!#REF!=\"\",\"\",Data!#REF!)","v":{"$error":"#REF!"}},{"$f":"IF(Data!#REF!=\"\",\"\",Data!#REF!)","v":{"$error":"#REF!"}},{"$error":"#REF!"},{"$error":"#REF!"},{"$error":"#REF!"}]
[{"$f":"IF(Data!#REF!=\"\",\"\",Data!#REF!)","v":{"$error":"#REF!"}},{"$f":"IF(Data!#REF!=\"\",\"\",Data!#REF!)","v":{"$error":"#REF!"}},{"$f":"IF(Data!#REF!=\"\",\"\",Data!#REF!)","v":{"$error":"#REF!"}},{"$f":"IF(Data!#REF!=\"\",\"\",Data!#REF!)","v":{"$error":"#REF!"}},{"$f":"IF(Data!#REF!=\"\",\"\",Data!#REF!)","v":{"$error":"#REF!"}},{"$error":"#REF!"},{"$error":"#REF!"},{"$error":"#REF!"}]
[{"$f":"IF(Data!#REF!=\"\",\"\",Data!#REF!)","v":{"$error":"#REF!"}},{"$f":"IF(Data!#REF!=\"\",\"\",Data!#REF!)","v":{"$error":"#REF!"}},{"$f":"IF(Data!#REF!=\"\",\"\",Data!#REF!)","v":{"$error":"#REF!"}},{"$f":"IF(Data!#REF!=\"\",\"\",Data!#REF!)","v":{"$error":"#REF!"}},{"$f":"IF(Data!#REF!=\"\",\"\",Data!#REF!)","v":{"$error":"#REF!"}},{"$error":"#REF!"},{"$error":"#REF!"},{"$error":"#REF!"}]
[{"$f":"IF(Data!#REF!=\"\",\"\",Data!#REF!)","v":{"$error":"#REF!"}},{"$f":"IF(Data!#REF!=\"\",\"\",Data!#REF!)","v":{"$error":"#REF!"}},{"$f":"IF(Data!#REF!=\"\",\"\",Data!#REF!)","v":{"$error":"#REF!"}},{"$f":"IF(Data!#REF!=\"\",\"\",Data!#REF!)","v":{"$error":"#REF!"}},{"$f":"IF(Data!#REF!=\"\",\"\",Data!#REF!)","v":{"$error":"#REF!"}},{"$error":"#REF!"},{"$error":"#REF!"},{"$error":"#REF!"}]
[{"$f":"IF(Data!#REF!=\"\",\"\",Data!#REF!)","v":{"$error":"#REF!"}},{"$f":"IF(Data!#REF!=\"\",\"\",Data!#REF!)","v":{"$error":"#REF!"}},{"$f":"IF(Data!#REF!=\"\",\"\",Data!#REF!)","v":{"$error":"#REF!"}},{"$f":"IF(Data!#REF!=\"\",\"\",Data!#REF!)","v":{"$error":"#REF!"}},{"$f":"IF(Data!#REF!=\"\",\"\",Data!#REF!)","v":{"$error":"#REF!"}},{"$error":"#REF!"},{"$error":"#REF!"},{"$error":"#REF!"}]
[{"$f":"IF(Data!#REF!=\"\",\"\",Data!#REF!)","v":{"$error":"#REF!"}},{"$f":"IF(Data!#REF!=\"\",\"\",Data!#REF!)","v":{"$error":"#REF!"}},{"$f":"IF(Data!#REF!=\"\",\"\",Data!#REF!)","v":{"$error":"#REF!"}},{"$f":"IF(Data!#REF!=\"\",\"\",Data!#REF!)","v":{"$error":"#REF!"}},{"$f":"IF(Data!#REF!=\"\",\"\",Data!#REF!)","v":{"$error":"#REF!"}},{"$error":"#REF!"},{"$error":"#REF!"},{"$error":"#REF!"}]
[{"$f":"IF(Data!#REF!=\"\",\"\",Data!#REF!)","v":{"$error":"#REF!"}},{"$f":"IF(Data!#REF!=\"\",\"\",Data!#REF!)","v":{"$error":"#REF!"}},{"$f":"IF(Data!#REF!=\"\",\"\",Data!#REF!)","v":{"$error":"#REF!"}},{"$f":"IF(Data!#REF!=\"\",\"\",Data!#REF!)","v":{"$error":"#REF!"}},{"$f":"IF(Data!#REF!=\"\",\"\",Data!#REF!)","v":{"$error":"#REF!"}},{"$error":"#REF!"},{"$error":"#REF!"},{"$error":"#REF!"}]
[{"$f":"IF(Data!#REF!=\"\",\"\",Data!#REF!)","v":{"$error":"#REF!"}},{"$f":"IF(Data!#REF!=\"\",\"\",Data!#REF!)","v":{"$error":"#REF!"}},{"$f":"IF(Data!#REF!=\"\",\"\",Data!#REF!)","v":{"$error":"#REF!"}},{"$f":"IF(Data!#REF!=\"\",\"\",Data!#REF!)","v":{"$error":"#REF!"}},{"$f":"IF(Data!#REF!=\"\",\"\",Data!#REF!)","v":{"$error":"#REF!"}},{"$error":"#REF!"},{"$error":"#REF!"},{"$error":"#REF!"}]
[{"$f":"IF(Data!#REF!=\"\",\"\",Data!#REF!)","v":{"$error":"#REF!"}},{"$f":"IF(Data!#REF!=\"\",\"\",Data!#REF!)","v":{"$error":"#REF!"}},{"$f":"IF(Data!#REF!=\"\",\"\",Data!#REF!)","v":{"$error":"#REF!"}},{"$f":"IF(Data!#REF!=\"\",\"\",Data!#REF!)","v":{"$error":"#REF!"}},{"$f":"IF(Data!#REF!=\"\",\"\",Data!#REF!)","v":{"$error":"#REF!"}},{"$error":"#REF!"},{"$error":"#REF!"},{"$error":"#REF!"}]
[{"$f":"IF(Data!#REF!=\"\",\"\",Data!#REF!)","v":{"$error":"#REF!"}},{"$f":"IF(Data!#REF!=\"\",\"\",Data!#REF!)","v":{"$error":"#REF!"}},{"$f":"IF(Data!#REF!=\"\",\"\",Data!#REF!)","v":{"$error":"#REF!"}},{"$f":"IF(Data!#REF!=\"\",\"\",Data!#REF!)","v":{"$error":"#REF!"}},{"$f":"IF(Data!#REF!=\"\",\"\",Data!#REF!)","v":{"$error":"#REF!"}},{"$error":"#REF!"},{"$error":"#REF!"},{"$error":"#REF!"}]
[{"$f":"IF(Data!#REF!=\"\",\"\",Data!#REF!)","v":{"$error":"#REF!"}},{"$f":"IF(Data!#REF!=\"\",\"\",Data!#REF!)","v":{"$error":"#REF!"}},{"$f":"IF(Data!#REF!=\"\",\"\",Data!#REF!)","v":{"$error":"#REF!"}},{"$f":"IF(Data!#REF!=\"\",\"\",Data!#REF!)","v":{"$error":"#REF!"}},{"$f":"IF(Data!#REF!=\"\",\"\",Data!#REF!)","v":{"$error":"#REF!"}},{"$error":"#REF!"},{"$error":"#REF!"},{"$error":"#REF!"}]
[{"$f":"IF(Data!#REF!=\"\",\"\",Data!#REF!)","v":{"$error":"#REF!"}},{"$f":"IF(Data!#REF!=\"\",\"\",Data!#REF!)","v":{"$error":"#REF!"}},{"$f":"IF(Data!#REF!=\"\",\"\",Data!#REF!)","v":{"$error":"#REF!"}},{"$f":"IF(Data!#REF!=\"\",\"\",Data!#REF!)","v":{"$error":"#REF!"}},{"$f":"IF(Data!#REF!=\"\",\"\",Data!#REF!)","v":{"$error":"#REF!"}},{"$error":"#REF!"},{"$error":"#REF!"},{"$error":"#REF!"}]
[{"$f":"IF(Data!#REF!=\"\",\"\",Data!#REF!)","v":{"$error":"#REF!"}},{"$f":"IF(Data!#REF!=\"\",\"\",Data!#REF!)","v":{"$error":"#REF!"}},{"$f":"IF(Data!#REF!=\"\",\"\",Data!#REF!)","v":{"$error":"#REF!"}},{"$f":"IF(Data!#REF!=\"\",\"\",Data!#REF!)","v":{"$error":"#REF!"}},{"$f":"IF(Data!#REF!=\"\",\"\",Data!#REF!)","v":{"$error":"#REF!"}},{"$error":"#REF!"},{"$error":"#REF!"},{"$error":"#REF!"}]
[{"$f":"IF(Data!#REF!=\"\",\"\",Data!#REF!)","v":{"$error":"#REF!"}},{"$f":"IF(Data!#REF!=\"\",\"\",Data!#REF!)","v":{"$error":"#REF!"}},{"$f":"IF(Data!#REF!=\"\",\"\",Data!#REF!)","v":{"$error":"#REF!"}},{"$f":"IF(Data!#REF!=\"\",\"\",Data!#REF!)","v":{"$error":"#REF!"}},{"$f":"IF(Data!#REF!=\"\",\"\",Data!#REF!)","v":{"$error":"#REF!"}},{"$error":"#REF!"},{"$error":"#REF!"},{"$error":"#REF!"}]
[{"$f":"IF(Data!#REF!=\"\",\"\",Data!#REF!)","v":{"$error":"#REF!"}},{"$f":"IF(Data!#REF!=\"\",\"\",Data!#REF!)","v":{"$error":"#REF!"}},{"$f":"IF(Data!#REF!=\"\",\"\",Data!#REF!)","v":{"$error":"#REF!"}},{"$f":"IF(Data!#REF!=\"\",\"\",Data!#REF!)","v":{"$error":"#REF!"}},{"$f":"IF(Data!#REF!=\"\",\"\",Data!#REF!)","v":{"$error":"#REF!"}},{"$error":"#REF!"},{"$error":"#REF!"},{"$error":"#REF!"}]
[{"$f":"IF(Data!#REF!=\"\",\"\",Data!#REF!)","v":{"$error":"#REF!"}},{"$f":"IF(Data!#REF!=\"\",\"\",Data!#REF!)","v":{"$error":"#REF!"}},{"$f":"IF(Data!#REF!=\"\",\"\",Data!#REF!)","v":{"$error":"#REF!"}},{"$f":"IF(Data!#REF!=\"\",\"\",Data!#REF!)","v":{"$error":"#REF!"}},{"$f":"IF(Data!#REF!=\"\",\"\",Data!#REF!)","v":{"$error":"#REF!"}},{"$error":"#REF!"},{"$error":"#REF!"},{"$error":"#REF!"}]
[{"$f":"IF(Data!#REF!=\"\",\"\",Data!#REF!)","v":{"$error":"#REF!"}},{"$f":"IF(Data!#REF!=\"\",\"\",Data!#REF!)","v":{"$error":"#REF!"}},{"$f":"IF(Data!#REF!=\"\",\"\",Data!#REF!)","v":{"$error":"#REF!"}},{"$f":"IF(Data!#REF!=\"\",\"\",Data!#REF!)","v":{"$error":"#REF!"}},{"$f":"IF(Data!#REF!=\"\",\"\",Data!#REF!)","v":{"$error":"#REF!"}},{"$error":"#REF!"},{"$error":"#REF!"},{"$error":"#REF!"}]
[{"$f":"IF(Data!#REF!=\"\",\"\",Data!#REF!)","v":{"$error":"#REF!"}},{"$f":"IF(Data!#REF!=\"\",\"\",Data!#REF!)","v":{"$error":"#REF!"}},{"$f":"IF(Data!#REF!=\"\",\"\",Data!#REF!)","v":{"$error":"#REF!"}},{"$f":"IF(Data!#REF!=\"\",\"\",Data!#REF!)","v":{"$error":"#REF!"}},{"$f":"IF(Data!#REF!=\"\",\"\",Data!#REF!)","v":{"$error":"#REF!"}},{"$error":"#REF!"},{"$error":"#REF!"},{"$error":"#REF!"}]
[{"$f":"IF(Data!#REF!=\"\",\"\",Data!#REF!)","v":{"$error":"#REF!"}},{"$f":"IF(Data!#REF!=\"\",\"\",Data!#REF!)","v":{"$error":"#REF!"}},{"$f":"IF(Data!#REF!=\"\",\"\",Data!#REF!)","v":{"$error":"#REF!"}},{"$f":"IF(Data!#REF!=\"\",\"\",Data!#REF!)","v":{"$error":"#REF!"}},{"$f":"IF(Data!#REF!=\"\",\"\",Data!#REF!)","v":{"$error":"#REF!"}},{"$error":"#REF!"},{"$error":"#REF!"},{"$error":"#REF!"}]
[{"$f":"IF(Data!#REF!=\"\",\"\",Data!#REF!)","v":{"$error":"#REF!"}},{"$f":"IF(Data!#REF!=\"\",\"\",Data!#REF!)","v":{"$error":"#REF!"}},{"$f":"IF(Data!#REF!=\"\",\"\",Data!#REF!)","v":{"$error":"#REF!"}},{"$f":"IF(Data!#REF!=\"\",\"\",Data!#REF!)","v":{"$error":"#REF!"}},{"$f":"IF(Data!#REF!=\"\",\"\",Data!#REF!)","v":{"$error":"#REF!"}},{"$error":"#REF!"},{"$error":"#REF!"},{"$error":"#REF!"}]
[{"$f":"IF(Data!#REF!=\"\",\"\",Data!#REF!)","v":{"$error":"#REF!"}},{"$f":"IF(Data!#REF!=\"\",\"\",Data!#REF!)","v":{"$error":"#REF!"}},{"$f":"IF(Data!#REF!=\"\",\"\",Data!#REF!)","v":{"$error":"#REF!"}},{"$f":"IF(Data!#REF!=\"\",\"\",Data!#REF!)","v":{"$error":"#REF!"}},{"$f":"IF(Data!#REF!=\"\",\"\",Data!#REF!)","v":{"$error":"#REF!"}},{"$error":"#REF!"},{"$error":"#REF!"},{"$error":"#REF!"}]
[{"$f":"IF(Data!#REF!=\"\",\"\",Data!#REF!)","v":{"$error":"#REF!"}},{"$f":"IF(Data!#REF!=\"\",\"\",Data!#REF!)","v":{"$error":"#REF!"}},{"$f":"IF(Data!#REF!=\"\",\"\",Data!#REF!)","v":{"$error":"#REF!"}},{"$f":"IF(Data!#REF!=\"\",\"\",Data!#REF!)","v":{"$error":"#REF!"}},{"$f":"IF(Data!#REF!=\"\",\"\",Data!#REF!)","v":{"$error":"#REF!"}},{"$error":"#REF!"},{"$error":"#REF!"},{"$error":"#REF!"}]
[{"$f":"IF(Data!#REF!=\"\",\"\",Data!#REF!)","v":{"$error":"#REF!"}},{"$f":"IF(Data!#REF!=\"\",\"\",Data!#REF!)","v":{"$error":"#REF!"}},{"$f":"IF(Data!#REF!=\"\",\"\",Data!#REF!)","v":{"$error":"#REF!"}},{"$f":"IF(Data!#REF!=\"\",\"\",Data!#REF!)","v":{"$error":"#REF!"}},{"$f":"IF(Data!#REF!=\"\",\"\",Data!#REF!)","v":{"$error":"#REF!"}},{"$error":"#REF!"},{"$error":"#REF!"},{"$error":"#REF!"}]
[{"$f":"IF(Data!#REF!=\"\",\"\",Data!#REF!)","v":{"$error":"#REF!"}},{"$f":"IF(Data!#REF!=\"\",\"\",Data!#REF!)","v":{"$error":"#REF!"}},{"$f":"IF(Data!#REF!=\"\",\"\",Data!#REF!)","v":{"$error":"#REF!"}},{"$f":"IF(Data!#REF!=\"\",\"\",Data!#REF!)","v":{"$error":"#REF!"}},{"$f":"IF(Data!#REF!=\"\",\"\",Data!#REF!)","v":{"$error":"#REF!"}},{"$error":"#REF!"},{"$error":"#REF!"},{"$error":"#REF!"}]
[{"$f":"IF(Data!#REF!=\"\",\"\",Data!#REF!)","v":{"$error":"#REF!"}},{"$f":"IF(Data!#REF!=\"\",\"\",Data!#REF!)","v":{"$error":"#REF!"}},{"$f":"IF(Data!#REF!=\"\",\"\",Data!#REF!)","v":{"$error":"#REF!"}},{"$f":"IF(Data!#REF!=\"\",\"\",Data!#REF!)","v":{"$error":"#REF!"}},{"$f":"IF(Data!#REF!=\"\",\"\",Data!#REF!)","v":{"$error":"#REF!"}},{"$error":"#REF!"},{"$error":"#REF!"},{"$error":"#REF!"}]
[{"$f":"IF(Data!#REF!=\"\",\"\",Data!#REF!)","v":{"$error":"#REF!"}},{"$f":"IF(Data!#REF!=\"\",\"\",Data!#REF!)","v":{"$error":"#REF!"}},{"$f":"IF(Data!#REF!=\"\",\"\",Data!#REF!)","v":{"$error":"#REF!"}},{"$f":"IF(Data!#REF!=\"\",\"\",Data!#REF!)","v":{"$error":"#REF!"}},{"$f":"IF(Data!#REF!=\"\",\"\",Data!#REF!)","v":{"$error":"#REF!"}},{"$error":"#REF!"},{"$error":"#REF!"},{"$error":"#REF!"}]
[{"$f":"IF(Data!#REF!=\"\",\"\",Data!#REF!)","v":{"$error":"#REF!"}},{"$f":"IF(Data!#REF!=\"\",\"\",Data!#REF!)","v":{"$error":"#REF!"}},{"$f":"IF(Data!#REF!=\"\",\"\",Data!#REF!)","v":{"$error":"#REF!"}},{"$f":"IF(Data!#REF!=\"\",\"\",Data!#REF!)","v":{"$error":"#REF!"}},{"$f":"IF(Data!#REF!=\"\",\"\",Data!#REF!)","v":{"$error":"#REF!"}},{"$error":"#REF!"},{"$error":"#REF!"},{"$error":"#REF!"}]
[{"$f":"IF(Data!#REF!=\"\",\"\",Data!#REF!)","v":{"$error":"#REF!"}},{"$f":"IF(Data!#REF!=\"\",\"\",Data!#REF!)","v":{"$error":"#REF!"}},{"$f":"IF(Data!#REF!=\"\",\"\",Data!#REF!)","v":{"$error":"#REF!"}},{"$f":"IF(Data!#REF!=\"\",\"\",Data!#REF!)","v":{"$error":"#REF!"}},{"$f":"IF(Data!#REF!=\"\",\"\",Data!#REF!)","v":{"$error":"#REF!"}},{"$error":"#REF!"},{"$error":"#REF!"},{"$error":"#REF!"}]
[{"$f":"IF(Data!#REF!=\"\",\"\",Data!#REF!)","v":{"$error":"#REF!"}},{"$f":"IF(Data!#REF!=\"\",\"\",Data!#REF!)","v":{"$error":"#REF!"}},{"$f":"IF(Data!#REF!=\"\",\"\",Data!#REF!)","v":{"$error":"#REF!"}},{"$f":"IF(Data!#REF!=\"\",\"\",Data!#REF!)","v":{"$error":"#REF!"}},{"$f":"IF(Data!#REF!=\"\",\"\",Data!#REF!)","v":{"$error":"#REF!"}},{"$error":"#REF!"},{"$error":"#REF!"},{"$error":"#REF!"}]
[{"$f":"IF(Data!#REF!=\"\",\"\",Data!#REF!)","v":{"$error":"#REF!"}},{"$f":"IF(Data!#REF!=\"\",\"\",Data!#REF!)","v":{"$error":"#REF!"}},{"$f":"IF(Data!#REF!=\"\",\"\",Data!#REF!)","v":{"$error":"#REF!"}},{"$f":"IF(Data!#REF!=\"\",\"\",Data!#REF!)","v":{"$error":"#REF!"}},{"$f":"IF(Data!#REF!=\"\",\"\",Data!#REF!)","v":{"$error":"#REF!"}},{"$error":"#REF!"},{"$error":"#REF!"},{"$error":"#REF!"}]
[{"$f":"IF(Data!#REF!=\"\",\"\",Data!#REF!)","v":{"$error":"#REF!"}},{"$f":"IF(Data!#REF!=\"\",\"\",Data!#REF!)","v":{"$error":"#REF!"}},{"$f":"IF(Data!#REF!=\"\",\"\",Data!#REF!)","v":{"$error":"#REF!"}},{"$f":"IF(Data!#REF!=\"\",\"\",Data!#REF!)","v":{"$error":"#REF!"}},{"$f":"IF(Data!#REF!=\"\",\"\",Data!#REF!)","v":{"$error":"#REF!"}},{"$error":"#REF!"},{"$error":"#REF!"},{"$error":"#REF!"}]
[{"$f":"IF(Data!#REF!=\"\",\"\",Data!#REF!)","v":{"$error":"#REF!"}},{"$f":"IF(Data!#REF!=\"\",\"\",Data!#REF!)","v":{"$error":"#REF!"}},{"$f":"IF(Data!#REF!=\"\",\"\",Data!#REF!)","v":{"$error":"#REF!"}},{"$f":"IF(Data!#REF!=\"\",\"\",Data!#REF!)","v":{"$error":"#REF!"}},{"$f":"IF(Data!#REF!=\"\",\"\",Data!#REF!)","v":{"$error":"#REF!"}},{"$error":"#REF!"},{"$error":"#REF!"},{"$error":"#REF!"}]
[{"$f":"IF(Data!#REF!=\"\",\"\",Data!#REF!)","v":{"$error":"#REF!"}},{"$f":"IF(Data!#REF!=\"\",\"\",Data!#REF!)","v":{"$error":"#REF!"}},{"$f":"IF(Data!#REF!=\"\",\"\",Data!#REF!)","v":{"$error":"#REF!"}},{"$f":"IF(Data!#REF!=\"\",\"\",Data!#REF!)","v":{"$error":"#REF!"}},{"$f":"IF(Data!#REF!=\"\",\"\",Data!#REF!)","v":{"$error":"#REF!"}},{"$f":"IF(E3075>0,MONTH(E3075),\"\")","v":{"$error":"#REF!"}},{"$f":"IF(E3075>0,WEEKNUM(E3075),\"0\")","v":{"$error":"#REF!"}},{"$f":"IF(G3075>=($G$2-3),\"Ano\",\"Nie\")","v":{"$error":"#REF!"}}]
[{"$f":"IF(Data!#REF!=\"\",\"\",Data!#REF!)","v":{"$error":"#REF!"}},{"$f":"IF(Data!#REF!=\"\",\"\",Data!#REF!)","v":{"$error":"#REF!"}},{"$f":"IF(Data!#REF!=\"\",\"\",Data!#REF!)","v":{"$error":"#REF!"}},{"$f":"IF(Data!#REF!=\"\",\"\",Data!#REF!)","v":{"$error":"#REF!"}},{"$f":"IF(Data!#REF!=\"\",\"\",Data!#REF!)","v":{"$error":"#REF!"}},{"$error":"#REF!"},{"$error":"#REF!"},{"$error":"#REF!"}]
[{"$f":"IF(Data!#REF!=\"\",\"\",Data!#REF!)","v":{"$error":"#REF!"}},{"$f":"IF(Data!#REF!=\"\",\"\",Data!#REF!)","v":{"$error":"#REF!"}},{"$f":"IF(Data!#REF!=\"\",\"\",Data!#REF!)","v":{"$error":"#REF!"}},{"$f":"IF(Data!#REF!=\"\",\"\",Data!#REF!)","v":{"$error":"#REF!"}},{"$f":"IF(Data!#REF!=\"\",\"\",Data!#REF!)","v":{"$error":"#REF!"}},{"$error":"#REF!"},{"$error":"#REF!"},{"$error":"#REF!"}]
[{"$f":"IF(Data!#REF!=\"\",\"\",Data!#REF!)","v":{"$error":"#REF!"}},{"$f":"IF(Data!#REF!=\"\",\"\",Data!#REF!)","v":{"$error":"#REF!"}},{"$f":"IF(Data!#REF!=\"\",\"\",Data!#REF!)","v":{"$error":"#REF!"}},{"$f":"IF(Data!#REF!=\"\",\"\",Data!#REF!)","v":{"$error":"#REF!"}},{"$f":"IF(Data!#REF!=\"\",\"\",Data!#REF!)","v":{"$error":"#REF!"}},{"$error":"#REF!"},{"$error":"#REF!"},{"$error":"#REF!"}]
[{"$f":"IF(Data!#REF!=\"\",\"\",Data!#REF!)","v":{"$error":"#REF!"}},{"$f":"IF(Data!#REF!=\"\",\"\",Data!#REF!)","v":{"$error":"#REF!"}},{"$f":"IF(Data!#REF!=\"\",\"\",Data!#REF!)","v":{"$error":"#REF!"}},{"$f":"IF(Data!#REF!=\"\",\"\",Data!#REF!)","v":{"$error":"#REF!"}},{"$f":"IF(Data!#REF!=\"\",\"\",Data!#REF!)","v":{"$error":"#REF!"}},{"$error":"#REF!"},{"$error":"#REF!"},{"$error":"#REF!"}]
[{"$f":"IF(Data!#REF!=\"\",\"\",Data!#REF!)","v":{"$error":"#REF!"}},{"$f":"IF(Data!#REF!=\"\",\"\",Data!#REF!)","v":{"$error":"#REF!"}},{"$f":"IF(Data!#REF!=\"\",\"\",Data!#REF!)","v":{"$error":"#REF!"}},{"$f":"IF(Data!#REF!=\"\",\"\",Data!#REF!)","v":{"$error":"#REF!"}},{"$f":"IF(Data!#REF!=\"\",\"\",Data!#REF!)","v":{"$error":"#REF!"}},{"$error":"#REF!"},{"$error":"#REF!"},{"$error":"#REF!"}]
[{"$f":"IF(Data!#REF!=\"\",\"\",Data!#REF!)","v":{"$error":"#REF!"}},{"$f":"IF(Data!#REF!=\"\",\"\",Data!#REF!)","v":{"$error":"#REF!"}},{"$f":"IF(Data!#REF!=\"\",\"\",Data!#REF!)","v":{"$error":"#REF!"}},{"$f":"IF(Data!#REF!=\"\",\"\",Data!#REF!)","v":{"$error":"#REF!"}},{"$f":"IF(Data!#REF!=\"\",\"\",Data!#REF!)","v":{"$error":"#REF!"}},{"$error":"#REF!"},{"$error":"#REF!"},{"$error":"#REF!"}]
[{"$f":"IF(Data!#REF!=\"\",\"\",Data!#REF!)","v":{"$error":"#REF!"}},{"$f":"IF(Data!#REF!=\"\",\"\",Data!#REF!)","v":{"$error":"#REF!"}},{"$f":"IF(Data!#REF!=\"\",\"\",Data!#REF!)","v":{"$error":"#REF!"}},{"$f":"IF(Data!#REF!=\"\",\"\",Data!#REF!)","v":{"$error":"#REF!"}},{"$f":"IF(Data!#REF!=\"\",\"\",Data!#REF!)","v":{"$error":"#REF!"}},{"$error":"#REF!"},{"$error":"#REF!"},{"$error":"#REF!"}]
[{"$f":"IF(Data!#REF!=\"\",\"\",Data!#REF!)","v":{"$error":"#REF!"}},{"$f":"IF(Data!#REF!=\"\",\"\",Data!#REF!)","v":{"$error":"#REF!"}},{"$f":"IF(Data!#REF!=\"\",\"\",Data!#REF!)","v":{"$error":"#REF!"}},{"$f":"IF(Data!#REF!=\"\",\"\",Data!#REF!)","v":{"$error":"#REF!"}},{"$f":"IF(Data!#REF!=\"\",\"\",Data!#REF!)","v":{"$error":"#REF!"}},{"$error":"#REF!"},{"$error":"#REF!"},{"$error":"#REF!"}]
[{"$f":"IF(Data!#REF!=\"\",\"\",Data!#REF!)","v":{"$error":"#REF!"}},{"$f":"IF(Data!#REF!=\"\",\"\",Data!#REF!)","v":{"$error":"#REF!"}},{"$f":"IF(Data!#REF!=\"\",\"\",Data!#REF!)","v":{"$error":"#REF!"}},{"$f":"IF(Data!#REF!=\"\",\"\",Data!#REF!)","v":{"$error":"#REF!"}},{"$f":"IF(Data!#REF!=\"\",\"\",Data!#REF!)","v":{"$error":"#REF!"}},{"$error":"#REF!"},{"$error":"#REF!"},{"$error":"#REF!"}]
[{"$f":"IF(Data!#REF!=\"\",\"\",Data!#REF!)","v":{"$error":"#REF!"}},{"$f":"IF(Data!#REF!=\"\",\"\",Data!#REF!)","v":{"$error":"#REF!"}},{"$f":"IF(Data!#REF!=\"\",\"\",Data!#REF!)","v":{"$error":"#REF!"}},{"$f":"IF(Data!#REF!=\"\",\"\",Data!#REF!)","v":{"$error":"#REF!"}},{"$f":"IF(Data!#REF!=\"\",\"\",Data!#REF!)","v":{"$error":"#REF!"}},{"$error":"#REF!"},{"$error":"#REF!"},{"$error":"#REF!"}]
[{"$f":"IF(Data!#REF!=\"\",\"\",Data!#REF!)","v":{"$error":"#REF!"}},{"$f":"IF(Data!#REF!=\"\",\"\",Data!#REF!)","v":{"$error":"#REF!"}},{"$f":"IF(Data!#REF!=\"\",\"\",Data!#REF!)","v":{"$error":"#REF!"}},{"$f":"IF(Data!#REF!=\"\",\"\",Data!#REF!)","v":{"$error":"#REF!"}},{"$f":"IF(Data!#REF!=\"\",\"\",Data!#REF!)","v":{"$error":"#REF!"}},{"$error":"#REF!"},{"$error":"#REF!"},{"$error":"#REF!"}]
[{"$f":"IF(Data!#REF!=\"\",\"\",Data!#REF!)","v":{"$error":"#REF!"}},{"$f":"IF(Data!#REF!=\"\",\"\",Data!#REF!)","v":{"$error":"#REF!"}},{"$f":"IF(Data!#REF!=\"\",\"\",Data!#REF!)","v":{"$error":"#REF!"}},{"$f":"IF(Data!#REF!=\"\",\"\",Data!#REF!)","v":{"$error":"#REF!"}},{"$f":"IF(Data!#REF!=\"\",\"\",Data!#REF!)","v":{"$error":"#REF!"}},{"$error":"#REF!"},{"$error":"#REF!"},{"$error":"#REF!"}]
[{"$f":"IF(Data!#REF!=\"\",\"\",Data!#REF!)","v":{"$error":"#REF!"}},{"$f":"IF(Data!#REF!=\"\",\"\",Data!#REF!)","v":{"$error":"#REF!"}},{"$f":"IF(Data!#REF!=\"\",\"\",Data!#REF!)","v":{"$error":"#REF!"}},{"$f":"IF(Data!#REF!=\"\",\"\",Data!#REF!)","v":{"$error":"#REF!"}},{"$f":"IF(Data!#REF!=\"\",\"\",Data!#REF!)","v":{"$error":"#REF!"}},{"$error":"#REF!"},{"$error":"#REF!"},{"$error":"#REF!"}]
[{"$f":"IF(Data!#REF!=\"\",\"\",Data!#REF!)","v":{"$error":"#REF!"}},{"$f":"IF(Data!#REF!=\"\",\"\",Data!#REF!)","v":{"$error":"#REF!"}},{"$f":"IF(Data!#REF!=\"\",\"\",Data!#REF!)","v":{"$error":"#REF!"}},{"$f":"IF(Data!#REF!=\"\",\"\",Data!#REF!)","v":{"$error":"#REF!"}},{"$f":"IF(Data!#REF!=\"\",\"\",Data!#REF!)","v":{"$error":"#REF!"}},{"$error":"#REF!"},{"$error":"#REF!"},{"$error":"#REF!"}]
[{"$f":"IF(Data!#REF!=\"\",\"\",Data!#REF!)","v":{"$error":"#REF!"}},{"$f":"IF(Data!#REF!=\"\",\"\",Data!#REF!)","v":{"$error":"#REF!"}},{"$f":"IF(Data!#REF!=\"\",\"\",Data!#REF!)","v":{"$error":"#REF!"}},{"$f":"IF(Data!#REF!=\"\",\"\",Data!#REF!)","v":{"$error":"#REF!"}},{"$f":"IF(Data!#REF!=\"\",\"\",Data!#REF!)","v":{"$error":"#REF!"}},{"$error":"#REF!"},{"$error":"#REF!"},{"$error":"#REF!"}]
[{"$f":"IF(Data!#REF!=\"\",\"\",Data!#REF!)","v":{"$error":"#REF!"}},{"$f":"IF(Data!#REF!=\"\",\"\",Data!#REF!)","v":{"$error":"#REF!"}},{"$f":"IF(Data!#REF!=\"\",\"\",Data!#REF!)","v":{"$error":"#REF!"}},{"$f":"IF(Data!#REF!=\"\",\"\",Data!#REF!)","v":{"$error":"#REF!"}},{"$f":"IF(Data!#REF!=\"\",\"\",Data!#REF!)","v":{"$error":"#REF!"}},{"$error":"#REF!"},{"$error":"#REF!"},{"$error":"#REF!"}]
[{"$f":"IF(Data!#REF!=\"\",\"\",Data!#REF!)","v":{"$error":"#REF!"}},{"$f":"IF(Data!#REF!=\"\",\"\",Data!#REF!)","v":{"$error":"#REF!"}},{"$f":"IF(Data!#REF!=\"\",\"\",Data!#REF!)","v":{"$error":"#REF!"}},{"$f":"IF(Data!#REF!=\"\",\"\",Data!#REF!)","v":{"$error":"#REF!"}},{"$f":"IF(Data!#REF!=\"\",\"\",Data!#REF!)","v":{"$error":"#REF!"}},{"$error":"#REF!"},{"$error":"#REF!"},{"$error":"#REF!"}]
[{"$f":"IF(Data!#REF!=\"\",\"\",Data!#REF!)","v":{"$error":"#REF!"}},{"$f":"IF(Data!#REF!=\"\",\"\",Data!#REF!)","v":{"$error":"#REF!"}},{"$f":"IF(Data!#REF!=\"\",\"\",Data!#REF!)","v":{"$error":"#REF!"}},{"$f":"IF(Data!#REF!=\"\",\"\",Data!#REF!)","v":{"$error":"#REF!"}},{"$f":"IF(Data!#REF!=\"\",\"\",Data!#REF!)","v":{"$error":"#REF!"}},{"$error":"#REF!"},{"$error":"#REF!"},{"$error":"#REF!"}]
[{"$f":"IF(Data!#REF!=\"\",\"\",Data!#REF!)","v":{"$error":"#REF!"}},{"$f":"IF(Data!#REF!=\"\",\"\",Data!#REF!)","v":{"$error":"#REF!"}},{"$f":"IF(Data!#REF!=\"\",\"\",Data!#REF!)","v":{"$error":"#REF!"}},{"$f":"IF(Data!#REF!=\"\",\"\",Data!#REF!)","v":{"$error":"#REF!"}},{"$f":"IF(Data!#REF!=\"\",\"\",Data!#REF!)","v":{"$error":"#REF!"}},{"$error":"#REF!"},{"$error":"#REF!"},{"$error":"#REF!"}]
[{"$f":"IF(Data!#REF!=\"\",\"\",Data!#REF!)","v":{"$error":"#REF!"}},{"$f":"IF(Data!#REF!=\"\",\"\",Data!#REF!)","v":{"$error":"#REF!"}},{"$f":"IF(Data!#REF!=\"\",\"\",Data!#REF!)","v":{"$error":"#REF!"}},{"$f":"IF(Data!#REF!=\"\",\"\",Data!#REF!)","v":{"$error":"#REF!"}},{"$f":"IF(Data!#REF!=\"\",\"\",Data!#REF!)","v":{"$error":"#REF!"}},{"$error":"#REF!"},{"$error":"#REF!"},{"$error":"#REF!"}]
[{"$f":"IF(Data!#REF!=\"\",\"\",Data!#REF!)","v":{"$error":"#REF!"}},{"$f":"IF(Data!#REF!=\"\",\"\",Data!#REF!)","v":{"$error":"#REF!"}},{"$f":"IF(Data!#REF!=\"\",\"\",Data!#REF!)","v":{"$error":"#REF!"}},{"$f":"IF(Data!#REF!=\"\",\"\",Data!#REF!)","v":{"$error":"#REF!"}},{"$f":"IF(Data!#REF!=\"\",\"\",Data!#REF!)","v":{"$error":"#REF!"}},{"$error":"#REF!"},{"$error":"#REF!"},{"$error":"#REF!"}]
[{"$f":"IF(Data!#REF!=\"\",\"\",Data!#REF!)","v":{"$error":"#REF!"}},{"$f":"IF(Data!#REF!=\"\",\"\",Data!#REF!)","v":{"$error":"#REF!"}},{"$f":"IF(Data!#REF!=\"\",\"\",Data!#REF!)","v":{"$error":"#REF!"}},{"$f":"IF(Data!#REF!=\"\",\"\",Data!#REF!)","v":{"$error":"#REF!"}},{"$f":"IF(Data!#REF!=\"\",\"\",Data!#REF!)","v":{"$error":"#REF!"}},{"$error":"#REF!"},{"$error":"#REF!"},{"$error":"#REF!"}]
[{"$f":"IF(Data!#REF!=\"\",\"\",Data!#REF!)","v":{"$error":"#REF!"}},{"$f":"IF(Data!#REF!=\"\",\"\",Data!#REF!)","v":{"$error":"#REF!"}},{"$f":"IF(Data!#REF!=\"\",\"\",Data!#REF!)","v":{"$error":"#REF!"}},{"$f":"IF(Data!#REF!=\"\",\"\",Data!#REF!)","v":{"$error":"#REF!"}},{"$f":"IF(Data!#REF!=\"\",\"\",Data!#REF!)","v":{"$error":"#REF!"}},{"$error":"#REF!"},{"$error":"#REF!"},{"$error":"#REF!"}]
[{"$f":"IF(Data!#REF!=\"\",\"\",Data!#REF!)","v":{"$error":"#REF!"}},{"$f":"IF(Data!#REF!=\"\",\"\",Data!#REF!)","v":{"$error":"#REF!"}},{"$f":"IF(Data!#REF!=\"\",\"\",Data!#REF!)","v":{"$error":"#REF!"}},{"$f":"IF(Data!#REF!=\"\",\"\",Data!#REF!)","v":{"$error":"#REF!"}},{"$f":"IF(Data!#REF!=\"\",\"\",Data!#REF!)","v":{"$error":"#REF!"}},{"$error":"#REF!"},{"$error":"#REF!"},{"$error":"#REF!"}]
[{"$f":"IF(Data!#REF!=\"\",\"\",Data!#REF!)","v":{"$error":"#REF!"}},{"$f":"IF(Data!#REF!=\"\",\"\",Data!#REF!)","v":{"$error":"#REF!"}},{"$f":"IF(Data!#REF!=\"\",\"\",Data!#REF!)","v":{"$error":"#REF!"}},{"$f":"IF(Data!#REF!=\"\",\"\",Data!#REF!)","v":{"$error":"#REF!"}},{"$f":"IF(Data!#REF!=\"\",\"\",Data!#REF!)","v":{"$error":"#REF!"}},{"$error":"#REF!"},{"$error":"#REF!"},{"$error":"#REF!"}]
[{"$f":"IF(Data!#REF!=\"\",\"\",Data!#REF!)","v":{"$error":"#REF!"}},{"$f":"IF(Data!#REF!=\"\",\"\",Data!#REF!)","v":{"$error":"#REF!"}},{"$f":"IF(Data!#REF!=\"\",\"\",Data!#REF!)","v":{"$error":"#REF!"}},{"$f":"IF(Data!#REF!=\"\",\"\",Data!#REF!)","v":{"$error":"#REF!"}},{"$f":"IF(Data!#REF!=\"\",\"\",Data!#REF!)","v":{"$error":"#REF!"}},{"$error":"#REF!"},{"$error":"#REF!"},{"$error":"#REF!"}]
[{"$f":"IF(Data!#REF!=\"\",\"\",Data!#REF!)","v":{"$error":"#REF!"}},{"$f":"IF(Data!#REF!=\"\",\"\",Data!#REF!)","v":{"$error":"#REF!"}},{"$f":"IF(Data!#REF!=\"\",\"\",Data!#REF!)","v":{"$error":"#REF!"}},{"$f":"IF(Data!#REF!=\"\",\"\",Data!#REF!)","v":{"$error":"#REF!"}},{"$f":"IF(Data!#REF!=\"\",\"\",Data!#REF!)","v":{"$error":"#REF!"}},{"$error":"#REF!"},{"$error":"#REF!"},{"$error":"#REF!"}]
[{"$f":"IF(Data!#REF!=\"\",\"\",Data!#REF!)","v":{"$error":"#REF!"}},{"$f":"IF(Data!#REF!=\"\",\"\",Data!#REF!)","v":{"$error":"#REF!"}},{"$f":"IF(Data!#REF!=\"\",\"\",Data!#REF!)","v":{"$error":"#REF!"}},{"$f":"IF(Data!#REF!=\"\",\"\",Data!#REF!)","v":{"$error":"#REF!"}},{"$f":"IF(Data!#REF!=\"\",\"\",Data!#REF!)","v":{"$error":"#REF!"}},{"$error":"#REF!"},{"$error":"#REF!"},{"$error":"#REF!"}]
[{"$f":"IF(Data!#REF!=\"\",\"\",Data!#REF!)","v":{"$error":"#REF!"}},{"$f":"IF(Data!#REF!=\"\",\"\",Data!#REF!)","v":{"$error":"#REF!"}},{"$f":"IF(Data!#REF!=\"\",\"\",Data!#REF!)","v":{"$error":"#REF!"}},{"$f":"IF(Data!#REF!=\"\",\"\",Data!#REF!)","v":{"$error":"#REF!"}},{"$f":"IF(Data!#REF!=\"\",\"\",Data!#REF!)","v":{"$error":"#REF!"}},{"$error":"#REF!"},{"$error":"#REF!"},{"$error":"#REF!"}]
[{"$f":"IF(Data!#REF!=\"\",\"\",Data!#REF!)","v":{"$error":"#REF!"}},{"$f":"IF(Data!#REF!=\"\",\"\",Data!#REF!)","v":{"$error":"#REF!"}},{"$f":"IF(Data!#REF!=\"\",\"\",Data!#REF!)","v":{"$error":"#REF!"}},{"$f":"IF(Data!#REF!=\"\",\"\",Data!#REF!)","v":{"$error":"#REF!"}},{"$f":"IF(Data!#REF!=\"\",\"\",Data!#REF!)","v":{"$error":"#REF!"}},{"$error":"#REF!"},{"$error":"#REF!"},{"$error":"#REF!"}]
[{"$f":"IF(Data!#REF!=\"\",\"\",Data!#REF!)","v":{"$error":"#REF!"}},{"$f":"IF(Data!#REF!=\"\",\"\",Data!#REF!)","v":{"$error":"#REF!"}},{"$f":"IF(Data!#REF!=\"\",\"\",Data!#REF!)","v":{"$error":"#REF!"}},{"$f":"IF(Data!#REF!=\"\",\"\",Data!#REF!)","v":{"$error":"#REF!"}},{"$f":"IF(Data!#REF!=\"\",\"\",Data!#REF!)","v":{"$error":"#REF!"}},{"$error":"#REF!"},{"$error":"#REF!"},{"$error":"#REF!"}]
[{"$f":"IF(Data!#REF!=\"\",\"\",Data!#REF!)","v":{"$error":"#REF!"}},{"$f":"IF(Data!#REF!=\"\",\"\",Data!#REF!)","v":{"$error":"#REF!"}},{"$f":"IF(Data!#REF!=\"\",\"\",Data!#REF!)","v":{"$error":"#REF!"}},{"$f":"IF(Data!#REF!=\"\",\"\",Data!#REF!)","v":{"$error":"#REF!"}},{"$f":"IF(Data!#REF!=\"\",\"\",Data!#REF!)","v":{"$error":"#REF!"}},{"$error":"#REF!"},{"$error":"#REF!"},{"$error":"#REF!"}]
[{"$f":"IF(Data!#REF!=\"\",\"\",Data!#REF!)","v":{"$error":"#REF!"}},{"$f":"IF(Data!#REF!=\"\",\"\",Data!#REF!)","v":{"$error":"#REF!"}},{"$f":"IF(Data!#REF!=\"\",\"\",Data!#REF!)","v":{"$error":"#REF!"}},{"$f":"IF(Data!#REF!=\"\",\"\",Data!#REF!)","v":{"$error":"#REF!"}},{"$f":"IF(Data!#REF!=\"\",\"\",Data!#REF!)","v":{"$error":"#REF!"}},{"$error":"#REF!"},{"$error":"#REF!"},{"$error":"#REF!"}]
[{"$f":"IF(Data!#REF!=\"\",\"\",Data!#REF!)","v":{"$error":"#REF!"}},{"$f":"IF(Data!#REF!=\"\",\"\",Data!#REF!)","v":{"$error":"#REF!"}},{"$f":"IF(Data!#REF!=\"\",\"\",Data!#REF!)","v":{"$error":"#REF!"}},{"$f":"IF(Data!#REF!=\"\",\"\",Data!#REF!)","v":{"$error":"#REF!"}},{"$f":"IF(Data!#REF!=\"\",\"\",Data!#REF!)","v":{"$error":"#REF!"}},{"$error":"#REF!"},{"$error":"#REF!"},{"$error":"#REF!"}]
[{"$f":"IF(Data!#REF!=\"\",\"\",Data!#REF!)","v":{"$error":"#REF!"}},{"$f":"IF(Data!#REF!=\"\",\"\",Data!#REF!)","v":{"$error":"#REF!"}},{"$f":"IF(Data!#REF!=\"\",\"\",Data!#REF!)","v":{"$error":"#REF!"}},{"$f":"IF(Data!#REF!=\"\",\"\",Data!#REF!)","v":{"$error":"#REF!"}},{"$f":"IF(Data!#REF!=\"\",\"\",Data!#REF!)","v":{"$error":"#REF!"}},{"$error":"#REF!"},{"$error":"#REF!"},{"$error":"#REF!"}]
[{"$f":"IF(Data!#REF!=\"\",\"\",Data!#REF!)","v":{"$error":"#REF!"}},{"$f":"IF(Data!#REF!=\"\",\"\",Data!#REF!)","v":{"$error":"#REF!"}},{"$f":"IF(Data!#REF!=\"\",\"\",Data!#REF!)","v":{"$error":"#REF!"}},{"$f":"IF(Data!#REF!=\"\",\"\",Data!#REF!)","v":{"$error":"#REF!"}},{"$f":"IF(Data!#REF!=\"\",\"\",Data!#REF!)","v":{"$error":"#REF!"}},{"$error":"#REF!"},{"$error":"#REF!"},{"$error":"#REF!"}]
[{"$f":"IF(Data!#REF!=\"\",\"\",Data!#REF!)","v":{"$error":"#REF!"}},{"$f":"IF(Data!#REF!=\"\",\"\",Data!#REF!)","v":{"$error":"#REF!"}},{"$f":"IF(Data!#REF!=\"\",\"\",Data!#REF!)","v":{"$error":"#REF!"}},{"$f":"IF(Data!#REF!=\"\",\"\",Data!#REF!)","v":{"$error":"#REF!"}},{"$f":"IF(Data!#REF!=\"\",\"\",Data!#REF!)","v":{"$error":"#REF!"}},{"$error":"#REF!"},{"$error":"#REF!"},{"$error":"#REF!"}]
[{"$f":"IF(Data!#REF!=\"\",\"\",Data!#REF!)","v":{"$error":"#REF!"}},{"$f":"IF(Data!#REF!=\"\",\"\",Data!#REF!)","v":{"$error":"#REF!"}},{"$f":"IF(Data!#REF!=\"\",\"\",Data!#REF!)","v":{"$error":"#REF!"}},{"$f":"IF(Data!#REF!=\"\",\"\",Data!#REF!)","v":{"$error":"#REF!"}},{"$f":"IF(Data!#REF!=\"\",\"\",Data!#REF!)","v":{"$error":"#REF!"}},{"$error":"#REF!"},{"$error":"#REF!"},{"$error":"#REF!"}]
[{"$f":"IF(Data!#REF!=\"\",\"\",Data!#REF!)","v":{"$error":"#REF!"}},{"$f":"IF(Data!#REF!=\"\",\"\",Data!#REF!)","v":{"$error":"#REF!"}},{"$f":"IF(Data!#REF!=\"\",\"\",Data!#REF!)","v":{"$error":"#REF!"}},{"$f":"IF(Data!#REF!=\"\",\"\",Data!#REF!)","v":{"$error":"#REF!"}},{"$f":"IF(Data!#REF!=\"\",\"\",Data!#REF!)","v":{"$error":"#REF!"}},{"$error":"#REF!"},{"$error":"#REF!"},{"$error":"#REF!"}]
[{"$f":"IF(Data!#REF!=\"\",\"\",Data!#REF!)","v":{"$error":"#REF!"}},{"$f":"IF(Data!#REF!=\"\",\"\",Data!#REF!)","v":{"$error":"#REF!"}},{"$f":"IF(Data!#REF!=\"\",\"\",Data!#REF!)","v":{"$error":"#REF!"}},{"$f":"IF(Data!#REF!=\"\",\"\",Data!#REF!)","v":{"$error":"#REF!"}},{"$f":"IF(Data!#REF!=\"\",\"\",Data!#REF!)","v":{"$error":"#REF!"}},{"$error":"#REF!"},{"$error":"#REF!"},{"$error":"#REF!"}]
[{"$f":"IF(Data!#REF!=\"\",\"\",Data!#REF!)","v":{"$error":"#REF!"}},{"$f":"IF(Data!#REF!=\"\",\"\",Data!#REF!)","v":{"$error":"#REF!"}},{"$f":"IF(Data!#REF!=\"\",\"\",Data!#REF!)","v":{"$error":"#REF!"}},{"$f":"IF(Data!#REF!=\"\",\"\",Data!#REF!)","v":{"$error":"#REF!"}},{"$f":"IF(Data!#REF!=\"\",\"\",Data!#REF!)","v":{"$error":"#REF!"}},{"$error":"#REF!"},{"$error":"#REF!"},{"$error":"#REF!"}]
[{"$f":"IF(Data!#REF!=\"\",\"\",Data!#REF!)","v":{"$error":"#REF!"}},{"$f":"IF(Data!#REF!=\"\",\"\",Data!#REF!)","v":{"$error":"#REF!"}},{"$f":"IF(Data!#REF!=\"\",\"\",Data!#REF!)","v":{"$error":"#REF!"}},{"$f":"IF(Data!#REF!=\"\",\"\",Data!#REF!)","v":{"$error":"#REF!"}},{"$f":"IF(Data!#REF!=\"\",\"\",Data!#REF!)","v":{"$error":"#REF!"}},{"$error":"#REF!"},{"$error":"#REF!"},{"$error":"#REF!"}]
[{"$f":"IF(Data!#REF!=\"\",\"\",Data!#REF!)","v":{"$error":"#REF!"}},{"$f":"IF(Data!#REF!=\"\",\"\",Data!#REF!)","v":{"$error":"#REF!"}},{"$f":"IF(Data!#REF!=\"\",\"\",Data!#REF!)","v":{"$error":"#REF!"}},{"$f":"IF(Data!#REF!=\"\",\"\",Data!#REF!)","v":{"$error":"#REF!"}},{"$f":"IF(Data!#REF!=\"\",\"\",Data!#REF!)","v":{"$error":"#REF!"}},{"$error":"#REF!"},{"$error":"#REF!"},{"$error":"#REF!"}]
[{"$f":"IF(Data!#REF!=\"\",\"\",Data!#REF!)","v":{"$error":"#REF!"}},{"$f":"IF(Data!#REF!=\"\",\"\",Data!#REF!)","v":{"$error":"#REF!"}},{"$f":"IF(Data!#REF!=\"\",\"\",Data!#REF!)","v":{"$error":"#REF!"}},{"$f":"IF(Data!#REF!=\"\",\"\",Data!#REF!)","v":{"$error":"#REF!"}},{"$f":"IF(Data!#REF!=\"\",\"\",Data!#REF!)","v":{"$error":"#REF!"}},{"$error":"#REF!"},{"$error":"#REF!"},{"$error":"#REF!"}]
[{"$f":"IF(Data!#REF!=\"\",\"\",Data!#REF!)","v":{"$error":"#REF!"}},{"$f":"IF(Data!#REF!=\"\",\"\",Data!#REF!)","v":{"$error":"#REF!"}},{"$f":"IF(Data!#REF!=\"\",\"\",Data!#REF!)","v":{"$error":"#REF!"}},{"$f":"IF(Data!#REF!=\"\",\"\",Data!#REF!)","v":{"$error":"#REF!"}},{"$f":"IF(Data!#REF!=\"\",\"\",Data!#REF!)","v":{"$error":"#REF!"}},{"$error":"#REF!"},{"$error":"#REF!"},{"$error":"#REF!"}]
[{"$f":"IF(Data!#REF!=\"\",\"\",Data!#REF!)","v":{"$error":"#REF!"}},{"$f":"IF(Data!#REF!=\"\",\"\",Data!#REF!)","v":{"$error":"#REF!"}},{"$f":"IF(Data!#REF!=\"\",\"\",Data!#REF!)","v":{"$error":"#REF!"}},{"$f":"IF(Data!#REF!=\"\",\"\",Data!#REF!)","v":{"$error":"#REF!"}},{"$f":"IF(Data!#REF!=\"\",\"\",Data!#REF!)","v":{"$error":"#REF!"}},{"$error":"#REF!"},{"$error":"#REF!"},{"$error":"#REF!"}]
[{"$f":"IF(Data!#REF!=\"\",\"\",Data!#REF!)","v":{"$error":"#REF!"}},{"$f":"IF(Data!#REF!=\"\",\"\",Data!#REF!)","v":{"$error":"#REF!"}},{"$f":"IF(Data!#REF!=\"\",\"\",Data!#REF!)","v":{"$error":"#REF!"}},{"$f":"IF(Data!#REF!=\"\",\"\",Data!#REF!)","v":{"$error":"#REF!"}},{"$f":"IF(Data!#REF!=\"\",\"\",Data!#REF!)","v":{"$error":"#REF!"}},{"$error":"#REF!"},{"$error":"#REF!"},{"$error":"#REF!"}]
[{"$f":"IF(Data!#REF!=\"\",\"\",Data!#REF!)","v":{"$error":"#REF!"}},{"$f":"IF(Data!#REF!=\"\",\"\",Data!#REF!)","v":{"$error":"#REF!"}},{"$f":"IF(Data!#REF!=\"\",\"\",Data!#REF!)","v":{"$error":"#REF!"}},{"$f":"IF(Data!#REF!=\"\",\"\",Data!#REF!)","v":{"$error":"#REF!"}},{"$f":"IF(Data!#REF!=\"\",\"\",Data!#REF!)","v":{"$error":"#REF!"}},{"$error":"#REF!"},{"$error":"#REF!"},{"$error":"#REF!"}]
[{"$f":"IF(Data!#REF!=\"\",\"\",Data!#REF!)","v":{"$error":"#REF!"}},{"$f":"IF(Data!#REF!=\"\",\"\",Data!#REF!)","v":{"$error":"#REF!"}},{"$f":"IF(Data!#REF!=\"\",\"\",Data!#REF!)","v":{"$error":"#REF!"}},{"$f":"IF(Data!#REF!=\"\",\"\",Data!#REF!)","v":{"$error":"#REF!"}},{"$f":"IF(Data!#REF!=\"\",\"\",Data!#REF!)","v":{"$error":"#REF!"}},{"$error":"#REF!"},{"$error":"#REF!"},{"$error":"#REF!"}]
[{"$f":"IF(Data!#REF!=\"\",\"\",Data!#REF!)","v":{"$error":"#REF!"}},{"$f":"IF(Data!#REF!=\"\",\"\",Data!#REF!)","v":{"$error":"#REF!"}},{"$f":"IF(Data!#REF!=\"\",\"\",Data!#REF!)","v":{"$error":"#REF!"}},{"$f":"IF(Data!#REF!=\"\",\"\",Data!#REF!)","v":{"$error":"#REF!"}},{"$f":"IF(Data!#REF!=\"\",\"\",Data!#REF!)","v":{"$error":"#REF!"}},{"$error":"#REF!"},{"$error":"#REF!"},{"$error":"#REF!"}]
[{"$f":"IF(Data!#REF!=\"\",\"\",Data!#REF!)","v":{"$error":"#REF!"}},{"$f":"IF(Data!#REF!=\"\",\"\",Data!#REF!)","v":{"$error":"#REF!"}},{"$f":"IF(Data!#REF!=\"\",\"\",Data!#REF!)","v":{"$error":"#REF!"}},{"$f":"IF(Data!#REF!=\"\",\"\",Data!#REF!)","v":{"$error":"#REF!"}},{"$f":"IF(Data!#REF!=\"\",\"\",Data!#REF!)","v":{"$error":"#REF!"}},{"$error":"#REF!"},{"$error":"#REF!"},{"$error":"#REF!"}]
[{"$f":"IF(Data!#REF!=\"\",\"\",Data!#REF!)","v":{"$error":"#REF!"}},{"$f":"IF(Data!#REF!=\"\",\"\",Data!#REF!)","v":{"$error":"#REF!"}},{"$f":"IF(Data!#REF!=\"\",\"\",Data!#REF!)","v":{"$error":"#REF!"}},{"$f":"IF(Data!#REF!=\"\",\"\",Data!#REF!)","v":{"$error":"#REF!"}},{"$f":"IF(Data!#REF!=\"\",\"\",Data!#REF!)","v":{"$error":"#REF!"}},{"$error":"#REF!"},{"$error":"#REF!"},{"$error":"#REF!"}]
[{"$f":"IF(Data!#REF!=\"\",\"\",Data!#REF!)","v":{"$error":"#REF!"}},{"$f":"IF(Data!#REF!=\"\",\"\",Data!#REF!)","v":{"$error":"#REF!"}},{"$f":"IF(Data!#REF!=\"\",\"\",Data!#REF!)","v":{"$error":"#REF!"}},{"$f":"IF(Data!#REF!=\"\",\"\",Data!#REF!)","v":{"$error":"#REF!"}},{"$f":"IF(Data!#REF!=\"\",\"\",Data!#REF!)","v":{"$error":"#REF!"}},{"$error":"#REF!"},{"$error":"#REF!"},{"$error":"#REF!"}]
[{"$f":"IF(Data!#REF!=\"\",\"\",Data!#REF!)","v":{"$error":"#REF!"}},{"$f":"IF(Data!#REF!=\"\",\"\",Data!#REF!)","v":{"$error":"#REF!"}},{"$f":"IF(Data!#REF!=\"\",\"\",Data!#REF!)","v":{"$error":"#REF!"}},{"$f":"IF(Data!#REF!=\"\",\"\",Data!#REF!)","v":{"$error":"#REF!"}},{"$f":"IF(Data!#REF!=\"\",\"\",Data!#REF!)","v":{"$error":"#REF!"}},{"$error":"#REF!"},{"$error":"#REF!"},{"$error":"#REF!"}]
[{"$f":"IF(Data!#REF!=\"\",\"\",Data!#REF!)","v":{"$error":"#REF!"}},{"$f":"IF(Data!#REF!=\"\",\"\",Data!#REF!)","v":{"$error":"#REF!"}},{"$f":"IF(Data!#REF!=\"\",\"\",Data!#REF!)","v":{"$error":"#REF!"}},{"$f":"IF(Data!#REF!=\"\",\"\",Data!#REF!)","v":{"$error":"#REF!"}},{"$f":"IF(Data!#REF!=\"\",\"\",Data!#REF!)","v":{"$error":"#REF!"}},{"$error":"#REF!"},{"$error":"#REF!"},{"$error":"#REF!"}]
[{"$f":"IF(Data!#REF!=\"\",\"\",Data!#REF!)","v":{"$error":"#REF!"}},{"$f":"IF(Data!#REF!=\"\",\"\",Data!#REF!)","v":{"$error":"#REF!"}},{"$f":"IF(Data!#REF!=\"\",\"\",Data!#REF!)","v":{"$error":"#REF!"}},{"$f":"IF(Data!#REF!=\"\",\"\",Data!#REF!)","v":{"$error":"#REF!"}},{"$f":"IF(Data!#REF!=\"\",\"\",Data!#REF!)","v":{"$error":"#REF!"}},{"$error":"#REF!"},{"$error":"#REF!"},{"$error":"#REF!"}]
[{"$f":"IF(Data!#REF!=\"\",\"\",Data!#REF!)","v":{"$error":"#REF!"}},{"$f":"IF(Data!#REF!=\"\",\"\",Data!#REF!)","v":{"$error":"#REF!"}},{"$f":"IF(Data!#REF!=\"\",\"\",Data!#REF!)","v":{"$error":"#REF!"}},{"$f":"IF(Data!#REF!=\"\",\"\",Data!#REF!)","v":{"$error":"#REF!"}},{"$f":"IF(Data!#REF!=\"\",\"\",Data!#REF!)","v":{"$error":"#REF!"}},{"$error":"#REF!"},{"$error":"#REF!"},{"$error":"#REF!"}]
[{"$f":"IF(Data!#REF!=\"\",\"\",Data!#REF!)","v":{"$error":"#REF!"}},{"$f":"IF(Data!#REF!=\"\",\"\",Data!#REF!)","v":{"$error":"#REF!"}},{"$f":"IF(Data!#REF!=\"\",\"\",Data!#REF!)","v":{"$error":"#REF!"}},{"$f":"IF(Data!#REF!=\"\",\"\",Data!#REF!)","v":{"$error":"#REF!"}},{"$f":"IF(Data!#REF!=\"\",\"\",Data!#REF!)","v":{"$error":"#REF!"}},{"$error":"#REF!"},{"$error":"#REF!"},{"$error":"#REF!"}]
[{"$f":"IF(Data!#REF!=\"\",\"\",Data!#REF!)","v":{"$error":"#REF!"}},{"$f":"IF(Data!#REF!=\"\",\"\",Data!#REF!)","v":{"$error":"#REF!"}},{"$f":"IF(Data!#REF!=\"\",\"\",Data!#REF!)","v":{"$error":"#REF!"}},{"$f":"IF(Data!#REF!=\"\",\"\",Data!#REF!)","v":{"$error":"#REF!"}},{"$f":"IF(Data!#REF!=\"\",\"\",Data!#REF!)","v":{"$error":"#REF!"}},{"$error":"#REF!"},{"$error":"#REF!"},{"$error":"#REF!"}]
[{"$f":"IF(Data!#REF!=\"\",\"\",Data!#REF!)","v":{"$error":"#REF!"}},{"$f":"IF(Data!#REF!=\"\",\"\",Data!#REF!)","v":{"$error":"#REF!"}},{"$f":"IF(Data!#REF!=\"\",\"\",Data!#REF!)","v":{"$error":"#REF!"}},{"$f":"IF(Data!#REF!=\"\",\"\",Data!#REF!)","v":{"$error":"#REF!"}},{"$f":"IF(Data!#REF!=\"\",\"\",Data!#REF!)","v":{"$error":"#REF!"}},{"$error":"#REF!"},{"$error":"#REF!"},{"$error":"#REF!"}]
[{"$f":"IF(Data!#REF!=\"\",\"\",Data!#REF!)","v":{"$error":"#REF!"}},{"$f":"IF(Data!#REF!=\"\",\"\",Data!#REF!)","v":{"$error":"#REF!"}},{"$f":"IF(Data!#REF!=\"\",\"\",Data!#REF!)","v":{"$error":"#REF!"}},{"$f":"IF(Data!#REF!=\"\",\"\",Data!#REF!)","v":{"$error":"#REF!"}},{"$f":"IF(Data!#REF!=\"\",\"\",Data!#REF!)","v":{"$error":"#REF!"}},{"$error":"#REF!"},{"$error":"#REF!"},{"$error":"#REF!"}]
[{"$f":"IF(Data!#REF!=\"\",\"\",Data!#REF!)","v":{"$error":"#REF!"}},{"$f":"IF(Data!#REF!=\"\",\"\",Data!#REF!)","v":{"$error":"#REF!"}},{"$f":"IF(Data!#REF!=\"\",\"\",Data!#REF!)","v":{"$error":"#REF!"}},{"$f":"IF(Data!#REF!=\"\",\"\",Data!#REF!)","v":{"$error":"#REF!"}},{"$f":"IF(Data!#REF!=\"\",\"\",Data!#REF!)","v":{"$error":"#REF!"}},{"$error":"#REF!"},{"$error":"#REF!"},{"$error":"#REF!"}]
[{"$f":"IF(Data!#REF!=\"\",\"\",Data!#REF!)","v":{"$error":"#REF!"}},{"$f":"IF(Data!#REF!=\"\",\"\",Data!#REF!)","v":{"$error":"#REF!"}},{"$f":"IF(Data!#REF!=\"\",\"\",Data!#REF!)","v":{"$error":"#REF!"}},{"$f":"IF(Data!#REF!=\"\",\"\",Data!#REF!)","v":{"$error":"#REF!"}},{"$f":"IF(Data!#REF!=\"\",\"\",Data!#REF!)","v":{"$error":"#REF!"}},{"$error":"#REF!"},{"$error":"#REF!"},{"$error":"#REF!"}]
[{"$f":"IF(Data!#REF!=\"\",\"\",Data!#REF!)","v":{"$error":"#REF!"}},{"$f":"IF(Data!#REF!=\"\",\"\",Data!#REF!)","v":{"$error":"#REF!"}},{"$f":"IF(Data!#REF!=\"\",\"\",Data!#REF!)","v":{"$error":"#REF!"}},{"$f":"IF(Data!#REF!=\"\",\"\",Data!#REF!)","v":{"$error":"#REF!"}},{"$f":"IF(Data!#REF!=\"\",\"\",Data!#REF!)","v":{"$error":"#REF!"}},{"$f":"IF(E3139>0,MONTH(E3139),\"\")","v":{"$error":"#REF!"}},{"$f":"IF(E3139>0,WEEKNUM(E3139),\"0\")","v":{"$error":"#REF!"}},{"$f":"IF(G3139>=($G$2-3),\"Ano\",\"Nie\")","v":{"$error":"#REF!"}}]
[{"$f":"IF(Data!#REF!=\"\",\"\",Data!#REF!)","v":{"$error":"#REF!"}},{"$f":"IF(Data!#REF!=\"\",\"\",Data!#REF!)","v":{"$error":"#REF!"}},{"$f":"IF(Data!#REF!=\"\",\"\",Data!#REF!)","v":{"$error":"#REF!"}},{"$f":"IF(Data!#REF!=\"\",\"\",Data!#REF!)","v":{"$error":"#REF!"}},{"$f":"IF(Data!#REF!=\"\",\"\",Data!#REF!)","v":{"$error":"#REF!"}},{"$error":"#REF!"},{"$error":"#REF!"},{"$error":"#REF!"}]
[{"$f":"IF(Data!#REF!=\"\",\"\",Data!#REF!)","v":{"$error":"#REF!"}},{"$f":"IF(Data!#REF!=\"\",\"\",Data!#REF!)","v":{"$error":"#REF!"}},{"$f":"IF(Data!#REF!=\"\",\"\",Data!#REF!)","v":{"$error":"#REF!"}},{"$f":"IF(Data!#REF!=\"\",\"\",Data!#REF!)","v":{"$error":"#REF!"}},{"$f":"IF(Data!#REF!=\"\",\"\",Data!#REF!)","v":{"$error":"#REF!"}},{"$error":"#REF!"},{"$error":"#REF!"},{"$error":"#REF!"}]
[{"$f":"IF(Data!#REF!=\"\",\"\",Data!#REF!)","v":{"$error":"#REF!"}},{"$f":"IF(Data!#REF!=\"\",\"\",Data!#REF!)","v":{"$error":"#REF!"}},{"$f":"IF(Data!#REF!=\"\",\"\",Data!#REF!)","v":{"$error":"#REF!"}},{"$f":"IF(Data!#REF!=\"\",\"\",Data!#REF!)","v":{"$error":"#REF!"}},{"$f":"IF(Data!#REF!=\"\",\"\",Data!#REF!)","v":{"$error":"#REF!"}},{"$error":"#REF!"},{"$error":"#REF!"},{"$error":"#REF!"}]
[{"$f":"IF(Data!#REF!=\"\",\"\",Data!#REF!)","v":{"$error":"#REF!"}},{"$f":"IF(Data!#REF!=\"\",\"\",Data!#REF!)","v":{"$error":"#REF!"}},{"$f":"IF(Data!#REF!=\"\",\"\",Data!#REF!)","v":{"$error":"#REF!"}},{"$f":"IF(Data!#REF!=\"\",\"\",Data!#REF!)","v":{"$error":"#REF!"}},{"$f":"IF(Data!#REF!=\"\",\"\",Data!#REF!)","v":{"$error":"#REF!"}},{"$error":"#REF!"},{"$error":"#REF!"},{"$error":"#REF!"}]
[{"$f":"IF(Data!#REF!=\"\",\"\",Data!#REF!)","v":{"$error":"#REF!"}},{"$f":"IF(Data!#REF!=\"\",\"\",Data!#REF!)","v":{"$error":"#REF!"}},{"$f":"IF(Data!#REF!=\"\",\"\",Data!#REF!)","v":{"$error":"#REF!"}},{"$f":"IF(Data!#REF!=\"\",\"\",Data!#REF!)","v":{"$error":"#REF!"}},{"$f":"IF(Data!#REF!=\"\",\"\",Data!#REF!)","v":{"$error":"#REF!"}},{"$error":"#REF!"},{"$error":"#REF!"},{"$error":"#REF!"}]
[{"$f":"IF(Data!#REF!=\"\",\"\",Data!#REF!)","v":{"$error":"#REF!"}},{"$f":"IF(Data!#REF!=\"\",\"\",Data!#REF!)","v":{"$error":"#REF!"}},{"$f":"IF(Data!#REF!=\"\",\"\",Data!#REF!)","v":{"$error":"#REF!"}},{"$f":"IF(Data!#REF!=\"\",\"\",Data!#REF!)","v":{"$error":"#REF!"}},{"$f":"IF(Data!#REF!=\"\",\"\",Data!#REF!)","v":{"$error":"#REF!"}},{"$error":"#REF!"},{"$error":"#REF!"},{"$error":"#REF!"}]
[{"$f":"IF(Data!#REF!=\"\",\"\",Data!#REF!)","v":{"$error":"#REF!"}},{"$f":"IF(Data!#REF!=\"\",\"\",Data!#REF!)","v":{"$error":"#REF!"}},{"$f":"IF(Data!#REF!=\"\",\"\",Data!#REF!)","v":{"$error":"#REF!"}},{"$f":"IF(Data!#REF!=\"\",\"\",Data!#REF!)","v":{"$error":"#REF!"}},{"$f":"IF(Data!#REF!=\"\",\"\",Data!#REF!)","v":{"$error":"#REF!"}},{"$error":"#REF!"},{"$error":"#REF!"},{"$error":"#REF!"}]
[{"$f":"IF(Data!#REF!=\"\",\"\",Data!#REF!)","v":{"$error":"#REF!"}},{"$f":"IF(Data!#REF!=\"\",\"\",Data!#REF!)","v":{"$error":"#REF!"}},{"$f":"IF(Data!#REF!=\"\",\"\",Data!#REF!)","v":{"$error":"#REF!"}},{"$f":"IF(Data!#REF!=\"\",\"\",Data!#REF!)","v":{"$error":"#REF!"}},{"$f":"IF(Data!#REF!=\"\",\"\",Data!#REF!)","v":{"$error":"#REF!"}},{"$error":"#REF!"},{"$error":"#REF!"},{"$error":"#REF!"}]
[{"$f":"IF(Data!#REF!=\"\",\"\",Data!#REF!)","v":{"$error":"#REF!"}},{"$f":"IF(Data!#REF!=\"\",\"\",Data!#REF!)","v":{"$error":"#REF!"}},{"$f":"IF(Data!#REF!=\"\",\"\",Data!#REF!)","v":{"$error":"#REF!"}},{"$f":"IF(Data!#REF!=\"\",\"\",Data!#REF!)","v":{"$error":"#REF!"}},{"$f":"IF(Data!#REF!=\"\",\"\",Data!#REF!)","v":{"$error":"#REF!"}},{"$error":"#REF!"},{"$error":"#REF!"},{"$error":"#REF!"}]
[{"$f":"IF(Data!#REF!=\"\",\"\",Data!#REF!)","v":{"$error":"#REF!"}},{"$f":"IF(Data!#REF!=\"\",\"\",Data!#REF!)","v":{"$error":"#REF!"}},{"$f":"IF(Data!#REF!=\"\",\"\",Data!#REF!)","v":{"$error":"#REF!"}},{"$f":"IF(Data!#REF!=\"\",\"\",Data!#REF!)","v":{"$error":"#REF!"}},{"$f":"IF(Data!#REF!=\"\",\"\",Data!#REF!)","v":{"$error":"#REF!"}},{"$error":"#REF!"},{"$error":"#REF!"},{"$error":"#REF!"}]
[{"$f":"IF(Data!#REF!=\"\",\"\",Data!#REF!)","v":{"$error":"#REF!"}},{"$f":"IF(Data!#REF!=\"\",\"\",Data!#REF!)","v":{"$error":"#REF!"}},{"$f":"IF(Data!#REF!=\"\",\"\",Data!#REF!)","v":{"$error":"#REF!"}},{"$f":"IF(Data!#REF!=\"\",\"\",Data!#REF!)","v":{"$error":"#REF!"}},{"$f":"IF(Data!#REF!=\"\",\"\",Data!#REF!)","v":{"$error":"#REF!"}},{"$error":"#REF!"},{"$error":"#REF!"},{"$error":"#REF!"}]
[{"$f":"IF(Data!#REF!=\"\",\"\",Data!#REF!)","v":{"$error":"#REF!"}},{"$f":"IF(Data!#REF!=\"\",\"\",Data!#REF!)","v":{"$error":"#REF!"}},{"$f":"IF(Data!#REF!=\"\",\"\",Data!#REF!)","v":{"$error":"#REF!"}},{"$f":"IF(Data!#REF!=\"\",\"\",Data!#REF!)","v":{"$error":"#REF!"}},{"$f":"IF(Data!#REF!=\"\",\"\",Data!#REF!)","v":{"$error":"#REF!"}},{"$error":"#REF!"},{"$error":"#REF!"},{"$error":"#REF!"}]
[{"$f":"IF(Data!#REF!=\"\",\"\",Data!#REF!)","v":{"$error":"#REF!"}},{"$f":"IF(Data!#REF!=\"\",\"\",Data!#REF!)","v":{"$error":"#REF!"}},{"$f":"IF(Data!#REF!=\"\",\"\",Data!#REF!)","v":{"$error":"#REF!"}},{"$f":"IF(Data!#REF!=\"\",\"\",Data!#REF!)","v":{"$error":"#REF!"}},{"$f":"IF(Data!#REF!=\"\",\"\",Data!#REF!)","v":{"$error":"#REF!"}},{"$error":"#REF!"},{"$error":"#REF!"},{"$error":"#REF!"}]
[{"$f":"IF(Data!#REF!=\"\",\"\",Data!#REF!)","v":{"$error":"#REF!"}},{"$f":"IF(Data!#REF!=\"\",\"\",Data!#REF!)","v":{"$error":"#REF!"}},{"$f":"IF(Data!#REF!=\"\",\"\",Data!#REF!)","v":{"$error":"#REF!"}},{"$f":"IF(Data!#REF!=\"\",\"\",Data!#REF!)","v":{"$error":"#REF!"}},{"$f":"IF(Data!#REF!=\"\",\"\",Data!#REF!)","v":{"$error":"#REF!"}},{"$error":"#REF!"},{"$error":"#REF!"},{"$error":"#REF!"}]
[{"$f":"IF(Data!#REF!=\"\",\"\",Data!#REF!)","v":{"$error":"#REF!"}},{"$f":"IF(Data!#REF!=\"\",\"\",Data!#REF!)","v":{"$error":"#REF!"}},{"$f":"IF(Data!#REF!=\"\",\"\",Data!#REF!)","v":{"$error":"#REF!"}},{"$f":"IF(Data!#REF!=\"\",\"\",Data!#REF!)","v":{"$error":"#REF!"}},{"$f":"IF(Data!#REF!=\"\",\"\",Data!#REF!)","v":{"$error":"#REF!"}},{"$error":"#REF!"},{"$error":"#REF!"},{"$error":"#REF!"}]
[{"$f":"IF(Data!#REF!=\"\",\"\",Data!#REF!)","v":{"$error":"#REF!"}},{"$f":"IF(Data!#REF!=\"\",\"\",Data!#REF!)","v":{"$error":"#REF!"}},{"$f":"IF(Data!#REF!=\"\",\"\",Data!#REF!)","v":{"$error":"#REF!"}},{"$f":"IF(Data!#REF!=\"\",\"\",Data!#REF!)","v":{"$error":"#REF!"}},{"$f":"IF(Data!#REF!=\"\",\"\",Data!#REF!)","v":{"$error":"#REF!"}},{"$error":"#REF!"},{"$error":"#REF!"},{"$error":"#REF!"}]
[{"$f":"IF(Data!#REF!=\"\",\"\",Data!#REF!)","v":{"$error":"#REF!"}},{"$f":"IF(Data!#REF!=\"\",\"\",Data!#REF!)","v":{"$error":"#REF!"}},{"$f":"IF(Data!#REF!=\"\",\"\",Data!#REF!)","v":{"$error":"#REF!"}},{"$f":"IF(Data!#REF!=\"\",\"\",Data!#REF!)","v":{"$error":"#REF!"}},{"$f":"IF(Data!#REF!=\"\",\"\",Data!#REF!)","v":{"$error":"#REF!"}},{"$error":"#REF!"},{"$error":"#REF!"},{"$error":"#REF!"}]
[{"$f":"IF(Data!#REF!=\"\",\"\",Data!#REF!)","v":{"$error":"#REF!"}},{"$f":"IF(Data!#REF!=\"\",\"\",Data!#REF!)","v":{"$error":"#REF!"}},{"$f":"IF(Data!#REF!=\"\",\"\",Data!#REF!)","v":{"$error":"#REF!"}},{"$f":"IF(Data!#REF!=\"\",\"\",Data!#REF!)","v":{"$error":"#REF!"}},{"$f":"IF(Data!#REF!=\"\",\"\",Data!#REF!)","v":{"$error":"#REF!"}},{"$error":"#REF!"},{"$error":"#REF!"},{"$error":"#REF!"}]
[{"$f":"IF(Data!#REF!=\"\",\"\",Data!#REF!)","v":{"$error":"#REF!"}},{"$f":"IF(Data!#REF!=\"\",\"\",Data!#REF!)","v":{"$error":"#REF!"}},{"$f":"IF(Data!#REF!=\"\",\"\",Data!#REF!)","v":{"$error":"#REF!"}},{"$f":"IF(Data!#REF!=\"\",\"\",Data!#REF!)","v":{"$error":"#REF!"}},{"$f":"IF(Data!#REF!=\"\",\"\",Data!#REF!)","v":{"$error":"#REF!"}},{"$error":"#REF!"},{"$error":"#REF!"},{"$error":"#REF!"}]
[{"$f":"IF(Data!#REF!=\"\",\"\",Data!#REF!)","v":{"$error":"#REF!"}},{"$f":"IF(Data!#REF!=\"\",\"\",Data!#REF!)","v":{"$error":"#REF!"}},{"$f":"IF(Data!#REF!=\"\",\"\",Data!#REF!)","v":{"$error":"#REF!"}},{"$f":"IF(Data!#REF!=\"\",\"\",Data!#REF!)","v":{"$error":"#REF!"}},{"$f":"IF(Data!#REF!=\"\",\"\",Data!#REF!)","v":{"$error":"#REF!"}},{"$error":"#REF!"},{"$error":"#REF!"},{"$error":"#REF!"}]
[{"$f":"IF(Data!#REF!=\"\",\"\",Data!#REF!)","v":{"$error":"#REF!"}},{"$f":"IF(Data!#REF!=\"\",\"\",Data!#REF!)","v":{"$error":"#REF!"}},{"$f":"IF(Data!#REF!=\"\",\"\",Data!#REF!)","v":{"$error":"#REF!"}},{"$f":"IF(Data!#REF!=\"\",\"\",Data!#REF!)","v":{"$error":"#REF!"}},{"$f":"IF(Data!#REF!=\"\",\"\",Data!#REF!)","v":{"$error":"#REF!"}},{"$error":"#REF!"},{"$error":"#REF!"},{"$error":"#REF!"}]
[{"$f":"IF(Data!#REF!=\"\",\"\",Data!#REF!)","v":{"$error":"#REF!"}},{"$f":"IF(Data!#REF!=\"\",\"\",Data!#REF!)","v":{"$error":"#REF!"}},{"$f":"IF(Data!#REF!=\"\",\"\",Data!#REF!)","v":{"$error":"#REF!"}},{"$f":"IF(Data!#REF!=\"\",\"\",Data!#REF!)","v":{"$error":"#REF!"}},{"$f":"IF(Data!#REF!=\"\",\"\",Data!#REF!)","v":{"$error":"#REF!"}},{"$error":"#REF!"},{"$error":"#REF!"},{"$error":"#REF!"}]
[{"$f":"IF(Data!#REF!=\"\",\"\",Data!#REF!)","v":{"$error":"#REF!"}},{"$f":"IF(Data!#REF!=\"\",\"\",Data!#REF!)","v":{"$error":"#REF!"}},{"$f":"IF(Data!#REF!=\"\",\"\",Data!#REF!)","v":{"$error":"#REF!"}},{"$f":"IF(Data!#REF!=\"\",\"\",Data!#REF!)","v":{"$error":"#REF!"}},{"$f":"IF(Data!#REF!=\"\",\"\",Data!#REF!)","v":{"$error":"#REF!"}},{"$error":"#REF!"},{"$error":"#REF!"},{"$error":"#REF!"}]
[{"$f":"IF(Data!#REF!=\"\",\"\",Data!#REF!)","v":{"$error":"#REF!"}},{"$f":"IF(Data!#REF!=\"\",\"\",Data!#REF!)","v":{"$error":"#REF!"}},{"$f":"IF(Data!#REF!=\"\",\"\",Data!#REF!)","v":{"$error":"#REF!"}},{"$f":"IF(Data!#REF!=\"\",\"\",Data!#REF!)","v":{"$error":"#REF!"}},{"$f":"IF(Data!#REF!=\"\",\"\",Data!#REF!)","v":{"$error":"#REF!"}},{"$error":"#REF!"},{"$error":"#REF!"},{"$error":"#REF!"}]
[{"$f":"IF(Data!#REF!=\"\",\"\",Data!#REF!)","v":{"$error":"#REF!"}},{"$f":"IF(Data!#REF!=\"\",\"\",Data!#REF!)","v":{"$error":"#REF!"}},{"$f":"IF(Data!#REF!=\"\",\"\",Data!#REF!)","v":{"$error":"#REF!"}},{"$f":"IF(Data!#REF!=\"\",\"\",Data!#REF!)","v":{"$error":"#REF!"}},{"$f":"IF(Data!#REF!=\"\",\"\",Data!#REF!)","v":{"$error":"#REF!"}},{"$error":"#REF!"},{"$error":"#REF!"},{"$error":"#REF!"}]
[{"$f":"IF(Data!#REF!=\"\",\"\",Data!#REF!)","v":{"$error":"#REF!"}},{"$f":"IF(Data!#REF!=\"\",\"\",Data!#REF!)","v":{"$error":"#REF!"}},{"$f":"IF(Data!#REF!=\"\",\"\",Data!#REF!)","v":{"$error":"#REF!"}},{"$f":"IF(Data!#REF!=\"\",\"\",Data!#REF!)","v":{"$error":"#REF!"}},{"$f":"IF(Data!#REF!=\"\",\"\",Data!#REF!)","v":{"$error":"#REF!"}},{"$error":"#REF!"},{"$error":"#REF!"},{"$error":"#REF!"}]
[{"$f":"IF(Data!#REF!=\"\",\"\",Data!#REF!)","v":{"$error":"#REF!"}},{"$f":"IF(Data!#REF!=\"\",\"\",Data!#REF!)","v":{"$error":"#REF!"}},{"$f":"IF(Data!#REF!=\"\",\"\",Data!#REF!)","v":{"$error":"#REF!"}},{"$f":"IF(Data!#REF!=\"\",\"\",Data!#REF!)","v":{"$error":"#REF!"}},{"$f":"IF(Data!#REF!=\"\",\"\",Data!#REF!)","v":{"$error":"#REF!"}},{"$error":"#REF!"},{"$error":"#REF!"},{"$error":"#REF!"}]
[{"$f":"IF(Data!#REF!=\"\",\"\",Data!#REF!)","v":{"$error":"#REF!"}},{"$f":"IF(Data!#REF!=\"\",\"\",Data!#REF!)","v":{"$error":"#REF!"}},{"$f":"IF(Data!#REF!=\"\",\"\",Data!#REF!)","v":{"$error":"#REF!"}},{"$f":"IF(Data!#REF!=\"\",\"\",Data!#REF!)","v":{"$error":"#REF!"}},{"$f":"IF(Data!#REF!=\"\",\"\",Data!#REF!)","v":{"$error":"#REF!"}},{"$error":"#REF!"},{"$error":"#REF!"},{"$error":"#REF!"}]
[{"$f":"IF(Data!#REF!=\"\",\"\",Data!#REF!)","v":{"$error":"#REF!"}},{"$f":"IF(Data!#REF!=\"\",\"\",Data!#REF!)","v":{"$error":"#REF!"}},{"$f":"IF(Data!#REF!=\"\",\"\",Data!#REF!)","v":{"$error":"#REF!"}},{"$f":"IF(Data!#REF!=\"\",\"\",Data!#REF!)","v":{"$error":"#REF!"}},{"$f":"IF(Data!#REF!=\"\",\"\",Data!#REF!)","v":{"$error":"#REF!"}},{"$error":"#REF!"},{"$error":"#REF!"},{"$error":"#REF!"}]
[{"$f":"IF(Data!#REF!=\"\",\"\",Data!#REF!)","v":{"$error":"#REF!"}},{"$f":"IF(Data!#REF!=\"\",\"\",Data!#REF!)","v":{"$error":"#REF!"}},{"$f":"IF(Data!#REF!=\"\",\"\",Data!#REF!)","v":{"$error":"#REF!"}},{"$f":"IF(Data!#REF!=\"\",\"\",Data!#REF!)","v":{"$error":"#REF!"}},{"$f":"IF(Data!#REF!=\"\",\"\",Data!#REF!)","v":{"$error":"#REF!"}},{"$error":"#REF!"},{"$error":"#REF!"},{"$error":"#REF!"}]
[{"$f":"IF(Data!#REF!=\"\",\"\",Data!#REF!)","v":{"$error":"#REF!"}},{"$f":"IF(Data!#REF!=\"\",\"\",Data!#REF!)","v":{"$error":"#REF!"}},{"$f":"IF(Data!#REF!=\"\",\"\",Data!#REF!)","v":{"$error":"#REF!"}},{"$f":"IF(Data!#REF!=\"\",\"\",Data!#REF!)","v":{"$error":"#REF!"}},{"$f":"IF(Data!#REF!=\"\",\"\",Data!#REF!)","v":{"$error":"#REF!"}},{"$error":"#REF!"},{"$error":"#REF!"},{"$error":"#REF!"}]
[{"$f":"IF(Data!#REF!=\"\",\"\",Data!#REF!)","v":{"$error":"#REF!"}},{"$f":"IF(Data!#REF!=\"\",\"\",Data!#REF!)","v":{"$error":"#REF!"}},{"$f":"IF(Data!#REF!=\"\",\"\",Data!#REF!)","v":{"$error":"#REF!"}},{"$f":"IF(Data!#REF!=\"\",\"\",Data!#REF!)","v":{"$error":"#REF!"}},{"$f":"IF(Data!#REF!=\"\",\"\",Data!#REF!)","v":{"$error":"#REF!"}},{"$error":"#REF!"},{"$error":"#REF!"},{"$error":"#REF!"}]
[{"$f":"IF(Data!#REF!=\"\",\"\",Data!#REF!)","v":{"$error":"#REF!"}},{"$f":"IF(Data!#REF!=\"\",\"\",Data!#REF!)","v":{"$error":"#REF!"}},{"$f":"IF(Data!#REF!=\"\",\"\",Data!#REF!)","v":{"$error":"#REF!"}},{"$f":"IF(Data!#REF!=\"\",\"\",Data!#REF!)","v":{"$error":"#REF!"}},{"$f":"IF(Data!#REF!=\"\",\"\",Data!#REF!)","v":{"$error":"#REF!"}},{"$error":"#REF!"},{"$error":"#REF!"},{"$error":"#REF!"}]
[{"$f":"IF(Data!#REF!=\"\",\"\",Data!#REF!)","v":{"$error":"#REF!"}},{"$f":"IF(Data!#REF!=\"\",\"\",Data!#REF!)","v":{"$error":"#REF!"}},{"$f":"IF(Data!#REF!=\"\",\"\",Data!#REF!)","v":{"$error":"#REF!"}},{"$f":"IF(Data!#REF!=\"\",\"\",Data!#REF!)","v":{"$error":"#REF!"}},{"$f":"IF(Data!#REF!=\"\",\"\",Data!#REF!)","v":{"$error":"#REF!"}},{"$error":"#REF!"},{"$error":"#REF!"},{"$error":"#REF!"}]
[{"$f":"IF(Data!#REF!=\"\",\"\",Data!#REF!)","v":{"$error":"#REF!"}},{"$f":"IF(Data!#REF!=\"\",\"\",Data!#REF!)","v":{"$error":"#REF!"}},{"$f":"IF(Data!#REF!=\"\",\"\",Data!#REF!)","v":{"$error":"#REF!"}},{"$f":"IF(Data!#REF!=\"\",\"\",Data!#REF!)","v":{"$error":"#REF!"}},{"$f":"IF(Data!#REF!=\"\",\"\",Data!#REF!)","v":{"$error":"#REF!"}},{"$error":"#REF!"},{"$error":"#REF!"},{"$error":"#REF!"}]
[{"$f":"IF(Data!#REF!=\"\",\"\",Data!#REF!)","v":{"$error":"#REF!"}},{"$f":"IF(Data!#REF!=\"\",\"\",Data!#REF!)","v":{"$error":"#REF!"}},{"$f":"IF(Data!#REF!=\"\",\"\",Data!#REF!)","v":{"$error":"#REF!"}},{"$f":"IF(Data!#REF!=\"\",\"\",Data!#REF!)","v":{"$error":"#REF!"}},{"$f":"IF(Data!#REF!=\"\",\"\",Data!#REF!)","v":{"$error":"#REF!"}},{"$error":"#REF!"},{"$error":"#REF!"},{"$error":"#REF!"}]
[{"$f":"IF(Data!#REF!=\"\",\"\",Data!#REF!)","v":{"$error":"#REF!"}},{"$f":"IF(Data!#REF!=\"\",\"\",Data!#REF!)","v":{"$error":"#REF!"}},{"$f":"IF(Data!#REF!=\"\",\"\",Data!#REF!)","v":{"$error":"#REF!"}},{"$f":"IF(Data!#REF!=\"\",\"\",Data!#REF!)","v":{"$error":"#REF!"}},{"$f":"IF(Data!#REF!=\"\",\"\",Data!#REF!)","v":{"$error":"#REF!"}},{"$error":"#REF!"},{"$error":"#REF!"},{"$error":"#REF!"}]
[{"$f":"IF(Data!#REF!=\"\",\"\",Data!#REF!)","v":{"$error":"#REF!"}},{"$f":"IF(Data!#REF!=\"\",\"\",Data!#REF!)","v":{"$error":"#REF!"}},{"$f":"IF(Data!#REF!=\"\",\"\",Data!#REF!)","v":{"$error":"#REF!"}},{"$f":"IF(Data!#REF!=\"\",\"\",Data!#REF!)","v":{"$error":"#REF!"}},{"$f":"IF(Data!#REF!=\"\",\"\",Data!#REF!)","v":{"$error":"#REF!"}},{"$error":"#REF!"},{"$error":"#REF!"},{"$error":"#REF!"}]
[{"$f":"IF(Data!#REF!=\"\",\"\",Data!#REF!)","v":{"$error":"#REF!"}},{"$f":"IF(Data!#REF!=\"\",\"\",Data!#REF!)","v":{"$error":"#REF!"}},{"$f":"IF(Data!#REF!=\"\",\"\",Data!#REF!)","v":{"$error":"#REF!"}},{"$f":"IF(Data!#REF!=\"\",\"\",Data!#REF!)","v":{"$error":"#REF!"}},{"$f":"IF(Data!#REF!=\"\",\"\",Data!#REF!)","v":{"$error":"#REF!"}},{"$error":"#REF!"},{"$error":"#REF!"},{"$error":"#REF!"}]
[{"$f":"IF(Data!#REF!=\"\",\"\",Data!#REF!)","v":{"$error":"#REF!"}},{"$f":"IF(Data!#REF!=\"\",\"\",Data!#REF!)","v":{"$error":"#REF!"}},{"$f":"IF(Data!#REF!=\"\",\"\",Data!#REF!)","v":{"$error":"#REF!"}},{"$f":"IF(Data!#REF!=\"\",\"\",Data!#REF!)","v":{"$error":"#REF!"}},{"$f":"IF(Data!#REF!=\"\",\"\",Data!#REF!)","v":{"$error":"#REF!"}},{"$error":"#REF!"},{"$error":"#REF!"},{"$error":"#REF!"}]
[{"$f":"IF(Data!#REF!=\"\",\"\",Data!#REF!)","v":{"$error":"#REF!"}},{"$f":"IF(Data!#REF!=\"\",\"\",Data!#REF!)","v":{"$error":"#REF!"}},{"$f":"IF(Data!#REF!=\"\",\"\",Data!#REF!)","v":{"$error":"#REF!"}},{"$f":"IF(Data!#REF!=\"\",\"\",Data!#REF!)","v":{"$error":"#REF!"}},{"$f":"IF(Data!#REF!=\"\",\"\",Data!#REF!)","v":{"$error":"#REF!"}},{"$error":"#REF!"},{"$error":"#REF!"},{"$error":"#REF!"}]
[{"$f":"IF(Data!#REF!=\"\",\"\",Data!#REF!)","v":{"$error":"#REF!"}},{"$f":"IF(Data!#REF!=\"\",\"\",Data!#REF!)","v":{"$error":"#REF!"}},{"$f":"IF(Data!#REF!=\"\",\"\",Data!#REF!)","v":{"$error":"#REF!"}},{"$f":"IF(Data!#REF!=\"\",\"\",Data!#REF!)","v":{"$error":"#REF!"}},{"$f":"IF(Data!#REF!=\"\",\"\",Data!#REF!)","v":{"$error":"#REF!"}},{"$error":"#REF!"},{"$error":"#REF!"},{"$error":"#REF!"}]
[{"$f":"IF(Data!#REF!=\"\",\"\",Data!#REF!)","v":{"$error":"#REF!"}},{"$f":"IF(Data!#REF!=\"\",\"\",Data!#REF!)","v":{"$error":"#REF!"}},{"$f":"IF(Data!#REF!=\"\",\"\",Data!#REF!)","v":{"$error":"#REF!"}},{"$f":"IF(Data!#REF!=\"\",\"\",Data!#REF!)","v":{"$error":"#REF!"}},{"$f":"IF(Data!#REF!=\"\",\"\",Data!#REF!)","v":{"$error":"#REF!"}},{"$error":"#REF!"},{"$error":"#REF!"},{"$error":"#REF!"}]
[{"$f":"IF(Data!#REF!=\"\",\"\",Data!#REF!)","v":{"$error":"#REF!"}},{"$f":"IF(Data!#REF!=\"\",\"\",Data!#REF!)","v":{"$error":"#REF!"}},{"$f":"IF(Data!#REF!=\"\",\"\",Data!#REF!)","v":{"$error":"#REF!"}},{"$f":"IF(Data!#REF!=\"\",\"\",Data!#REF!)","v":{"$error":"#REF!"}},{"$f":"IF(Data!#REF!=\"\",\"\",Data!#REF!)","v":{"$error":"#REF!"}},{"$error":"#REF!"},{"$error":"#REF!"},{"$error":"#REF!"}]
[{"$f":"IF(Data!#REF!=\"\",\"\",Data!#REF!)","v":{"$error":"#REF!"}},{"$f":"IF(Data!#REF!=\"\",\"\",Data!#REF!)","v":{"$error":"#REF!"}},{"$f":"IF(Data!#REF!=\"\",\"\",Data!#REF!)","v":{"$error":"#REF!"}},{"$f":"IF(Data!#REF!=\"\",\"\",Data!#REF!)","v":{"$error":"#REF!"}},{"$f":"IF(Data!#REF!=\"\",\"\",Data!#REF!)","v":{"$error":"#REF!"}},{"$error":"#REF!"},{"$error":"#REF!"},{"$error":"#REF!"}]
[{"$f":"IF(Data!#REF!=\"\",\"\",Data!#REF!)","v":{"$error":"#REF!"}},{"$f":"IF(Data!#REF!=\"\",\"\",Data!#REF!)","v":{"$error":"#REF!"}},{"$f":"IF(Data!#REF!=\"\",\"\",Data!#REF!)","v":{"$error":"#REF!"}},{"$f":"IF(Data!#REF!=\"\",\"\",Data!#REF!)","v":{"$error":"#REF!"}},{"$f":"IF(Data!#REF!=\"\",\"\",Data!#REF!)","v":{"$error":"#REF!"}},{"$error":"#REF!"},{"$error":"#REF!"},{"$error":"#REF!"}]
[{"$f":"IF(Data!#REF!=\"\",\"\",Data!#REF!)","v":{"$error":"#REF!"}},{"$f":"IF(Data!#REF!=\"\",\"\",Data!#REF!)","v":{"$error":"#REF!"}},{"$f":"IF(Data!#REF!=\"\",\"\",Data!#REF!)","v":{"$error":"#REF!"}},{"$f":"IF(Data!#REF!=\"\",\"\",Data!#REF!)","v":{"$error":"#REF!"}},{"$f":"IF(Data!#REF!=\"\",\"\",Data!#REF!)","v":{"$error":"#REF!"}},{"$error":"#REF!"},{"$error":"#REF!"},{"$error":"#REF!"}]
[{"$f":"IF(Data!#REF!=\"\",\"\",Data!#REF!)","v":{"$error":"#REF!"}},{"$f":"IF(Data!#REF!=\"\",\"\",Data!#REF!)","v":{"$error":"#REF!"}},{"$f":"IF(Data!#REF!=\"\",\"\",Data!#REF!)","v":{"$error":"#REF!"}},{"$f":"IF(Data!#REF!=\"\",\"\",Data!#REF!)","v":{"$error":"#REF!"}},{"$f":"IF(Data!#REF!=\"\",\"\",Data!#REF!)","v":{"$error":"#REF!"}},{"$error":"#REF!"},{"$error":"#REF!"},{"$error":"#REF!"}]
[{"$f":"IF(Data!#REF!=\"\",\"\",Data!#REF!)","v":{"$error":"#REF!"}},{"$f":"IF(Data!#REF!=\"\",\"\",Data!#REF!)","v":{"$error":"#REF!"}},{"$f":"IF(Data!#REF!=\"\",\"\",Data!#REF!)","v":{"$error":"#REF!"}},{"$f":"IF(Data!#REF!=\"\",\"\",Data!#REF!)","v":{"$error":"#REF!"}},{"$f":"IF(Data!#REF!=\"\",\"\",Data!#REF!)","v":{"$error":"#REF!"}},{"$error":"#REF!"},{"$error":"#REF!"},{"$error":"#REF!"}]
[{"$f":"IF(Data!#REF!=\"\",\"\",Data!#REF!)","v":{"$error":"#REF!"}},{"$f":"IF(Data!#REF!=\"\",\"\",Data!#REF!)","v":{"$error":"#REF!"}},{"$f":"IF(Data!#REF!=\"\",\"\",Data!#REF!)","v":{"$error":"#REF!"}},{"$f":"IF(Data!#REF!=\"\",\"\",Data!#REF!)","v":{"$error":"#REF!"}},{"$f":"IF(Data!#REF!=\"\",\"\",Data!#REF!)","v":{"$error":"#REF!"}},{"$error":"#REF!"},{"$error":"#REF!"},{"$error":"#REF!"}]
[{"$f":"IF(Data!#REF!=\"\",\"\",Data!#REF!)","v":{"$error":"#REF!"}},{"$f":"IF(Data!#REF!=\"\",\"\",Data!#REF!)","v":{"$error":"#REF!"}},{"$f":"IF(Data!#REF!=\"\",\"\",Data!#REF!)","v":{"$error":"#REF!"}},{"$f":"IF(Data!#REF!=\"\",\"\",Data!#REF!)","v":{"$error":"#REF!"}},{"$f":"IF(Data!#REF!=\"\",\"\",Data!#REF!)","v":{"$error":"#REF!"}},{"$error":"#REF!"},{"$error":"#REF!"},{"$error":"#REF!"}]
[{"$f":"IF(Data!#REF!=\"\",\"\",Data!#REF!)","v":{"$error":"#REF!"}},{"$f":"IF(Data!#REF!=\"\",\"\",Data!#REF!)","v":{"$error":"#REF!"}},{"$f":"IF(Data!#REF!=\"\",\"\",Data!#REF!)","v":{"$error":"#REF!"}},{"$f":"IF(Data!#REF!=\"\",\"\",Data!#REF!)","v":{"$error":"#REF!"}},{"$f":"IF(Data!#REF!=\"\",\"\",Data!#REF!)","v":{"$error":"#REF!"}},{"$error":"#REF!"},{"$error":"#REF!"},{"$error":"#REF!"}]
[{"$f":"IF(Data!#REF!=\"\",\"\",Data!#REF!)","v":{"$error":"#REF!"}},{"$f":"IF(Data!#REF!=\"\",\"\",Data!#REF!)","v":{"$error":"#REF!"}},{"$f":"IF(Data!#REF!=\"\",\"\",Data!#REF!)","v":{"$error":"#REF!"}},{"$f":"IF(Data!#REF!=\"\",\"\",Data!#REF!)","v":{"$error":"#REF!"}},{"$f":"IF(Data!#REF!=\"\",\"\",Data!#REF!)","v":{"$error":"#REF!"}},{"$error":"#REF!"},{"$error":"#REF!"},{"$error":"#REF!"}]
[{"$f":"IF(Data!#REF!=\"\",\"\",Data!#REF!)","v":{"$error":"#REF!"}},{"$f":"IF(Data!#REF!=\"\",\"\",Data!#REF!)","v":{"$error":"#REF!"}},{"$f":"IF(Data!#REF!=\"\",\"\",Data!#REF!)","v":{"$error":"#REF!"}},{"$f":"IF(Data!#REF!=\"\",\"\",Data!#REF!)","v":{"$error":"#REF!"}},{"$f":"IF(Data!#REF!=\"\",\"\",Data!#REF!)","v":{"$error":"#REF!"}},{"$error":"#REF!"},{"$error":"#REF!"},{"$error":"#REF!"}]
[{"$f":"IF(Data!#REF!=\"\",\"\",Data!#REF!)","v":{"$error":"#REF!"}},{"$f":"IF(Data!#REF!=\"\",\"\",Data!#REF!)","v":{"$error":"#REF!"}},{"$f":"IF(Data!#REF!=\"\",\"\",Data!#REF!)","v":{"$error":"#REF!"}},{"$f":"IF(Data!#REF!=\"\",\"\",Data!#REF!)","v":{"$error":"#REF!"}},{"$f":"IF(Data!#REF!=\"\",\"\",Data!#REF!)","v":{"$error":"#REF!"}},{"$error":"#REF!"},{"$error":"#REF!"},{"$error":"#REF!"}]
[{"$f":"IF(Data!#REF!=\"\",\"\",Data!#REF!)","v":{"$error":"#REF!"}},{"$f":"IF(Data!#REF!=\"\",\"\",Data!#REF!)","v":{"$error":"#REF!"}},{"$f":"IF(Data!#REF!=\"\",\"\",Data!#REF!)","v":{"$error":"#REF!"}},{"$f":"IF(Data!#REF!=\"\",\"\",Data!#REF!)","v":{"$error":"#REF!"}},{"$f":"IF(Data!#REF!=\"\",\"\",Data!#REF!)","v":{"$error":"#REF!"}},{"$error":"#REF!"},{"$error":"#REF!"},{"$error":"#REF!"}]
[{"$f":"IF(Data!#REF!=\"\",\"\",Data!#REF!)","v":{"$error":"#REF!"}},{"$f":"IF(Data!#REF!=\"\",\"\",Data!#REF!)","v":{"$error":"#REF!"}},{"$f":"IF(Data!#REF!=\"\",\"\",Data!#REF!)","v":{"$error":"#REF!"}},{"$f":"IF(Data!#REF!=\"\",\"\",Data!#REF!)","v":{"$error":"#REF!"}},{"$f":"IF(Data!#REF!=\"\",\"\",Data!#REF!)","v":{"$error":"#REF!"}},{"$error":"#REF!"},{"$error":"#REF!"},{"$error":"#REF!"}]
[{"$f":"IF(Data!#REF!=\"\",\"\",Data!#REF!)","v":{"$error":"#REF!"}},{"$f":"IF(Data!#REF!=\"\",\"\",Data!#REF!)","v":{"$error":"#REF!"}},{"$f":"IF(Data!#REF!=\"\",\"\",Data!#REF!)","v":{"$error":"#REF!"}},{"$f":"IF(Data!#REF!=\"\",\"\",Data!#REF!)","v":{"$error":"#REF!"}},{"$f":"IF(Data!#REF!=\"\",\"\",Data!#REF!)","v":{"$error":"#REF!"}},{"$error":"#REF!"},{"$error":"#REF!"},{"$error":"#REF!"}]
[{"$f":"IF(Data!#REF!=\"\",\"\",Data!#REF!)","v":{"$error":"#REF!"}},{"$f":"IF(Data!#REF!=\"\",\"\",Data!#REF!)","v":{"$error":"#REF!"}},{"$f":"IF(Data!#REF!=\"\",\"\",Data!#REF!)","v":{"$error":"#REF!"}},{"$f":"IF(Data!#REF!=\"\",\"\",Data!#REF!)","v":{"$error":"#REF!"}},{"$f":"IF(Data!#REF!=\"\",\"\",Data!#REF!)","v":{"$error":"#REF!"}},{"$error":"#REF!"},{"$error":"#REF!"},{"$error":"#REF!"}]
[{"$f":"IF(Data!#REF!=\"\",\"\",Data!#REF!)","v":{"$error":"#REF!"}},{"$f":"IF(Data!#REF!=\"\",\"\",Data!#REF!)","v":{"$error":"#REF!"}},{"$f":"IF(Data!#REF!=\"\",\"\",Data!#REF!)","v":{"$error":"#REF!"}},{"$f":"IF(Data!#REF!=\"\",\"\",Data!#REF!)","v":{"$error":"#REF!"}},{"$f":"IF(Data!#REF!=\"\",\"\",Data!#REF!)","v":{"$error":"#REF!"}},{"$error":"#REF!"},{"$error":"#REF!"},{"$error":"#REF!"}]
[{"$f":"IF(Data!#REF!=\"\",\"\",Data!#REF!)","v":{"$error":"#REF!"}},{"$f":"IF(Data!#REF!=\"\",\"\",Data!#REF!)","v":{"$error":"#REF!"}},{"$f":"IF(Data!#REF!=\"\",\"\",Data!#REF!)","v":{"$error":"#REF!"}},{"$f":"IF(Data!#REF!=\"\",\"\",Data!#REF!)","v":{"$error":"#REF!"}},{"$f":"IF(Data!#REF!=\"\",\"\",Data!#REF!)","v":{"$error":"#REF!"}},{"$error":"#REF!"},{"$error":"#REF!"},{"$error":"#REF!"}]
[{"$f":"IF(Data!#REF!=\"\",\"\",Data!#REF!)","v":{"$error":"#REF!"}},{"$f":"IF(Data!#REF!=\"\",\"\",Data!#REF!)","v":{"$error":"#REF!"}},{"$f":"IF(Data!#REF!=\"\",\"\",Data!#REF!)","v":{"$error":"#REF!"}},{"$f":"IF(Data!#REF!=\"\",\"\",Data!#REF!)","v":{"$error":"#REF!"}},{"$f":"IF(Data!#REF!=\"\",\"\",Data!#REF!)","v":{"$error":"#REF!"}},{"$error":"#REF!"},{"$error":"#REF!"},{"$error":"#REF!"}]
[{"$f":"IF(Data!#REF!=\"\",\"\",Data!#REF!)","v":{"$error":"#REF!"}},{"$f":"IF(Data!#REF!=\"\",\"\",Data!#REF!)","v":{"$error":"#REF!"}},{"$f":"IF(Data!#REF!=\"\",\"\",Data!#REF!)","v":{"$error":"#REF!"}},{"$f":"IF(Data!#REF!=\"\",\"\",Data!#REF!)","v":{"$error":"#REF!"}},{"$f":"IF(Data!#REF!=\"\",\"\",Data!#REF!)","v":{"$error":"#REF!"}},{"$error":"#REF!"},{"$error":"#REF!"},{"$error":"#REF!"}]
[{"$f":"IF(Data!#REF!=\"\",\"\",Data!#REF!)","v":{"$error":"#REF!"}},{"$f":"IF(Data!#REF!=\"\",\"\",Data!#REF!)","v":{"$error":"#REF!"}},{"$f":"IF(Data!#REF!=\"\",\"\",Data!#REF!)","v":{"$error":"#REF!"}},{"$f":"IF(Data!#REF!=\"\",\"\",Data!#REF!)","v":{"$error":"#REF!"}},{"$f":"IF(Data!#REF!=\"\",\"\",Data!#REF!)","v":{"$error":"#REF!"}},{"$f":"IF(E3203>0,MONTH(E3203),\"\")","v":{"$error":"#REF!"}},{"$f":"IF(E3203>0,WEEKNUM(E3203),\"0\")","v":{"$error":"#REF!"}},{"$f":"IF(G3203>=($G$2-3),\"Ano\",\"Nie\")","v":{"$error":"#REF!"}}]
[{"$f":"IF(Data!#REF!=\"\",\"\",Data!#REF!)","v":{"$error":"#REF!"}},{"$f":"IF(Data!#REF!=\"\",\"\",Data!#REF!)","v":{"$error":"#REF!"}},{"$f":"IF(Data!#REF!=\"\",\"\",Data!#REF!)","v":{"$error":"#REF!"}},{"$f":"IF(Data!#REF!=\"\",\"\",Data!#REF!)","v":{"$error":"#REF!"}},{"$f":"IF(Data!#REF!=\"\",\"\",Data!#REF!)","v":{"$error":"#REF!"}},{"$error":"#REF!"},{"$error":"#REF!"},{"$error":"#REF!"}]
[{"$f":"IF(Data!#REF!=\"\",\"\",Data!#REF!)","v":{"$error":"#REF!"}},{"$f":"IF(Data!#REF!=\"\",\"\",Data!#REF!)","v":{"$error":"#REF!"}},{"$f":"IF(Data!#REF!=\"\",\"\",Data!#REF!)","v":{"$error":"#REF!"}},{"$f":"IF(Data!#REF!=\"\",\"\",Data!#REF!)","v":{"$error":"#REF!"}},{"$f":"IF(Data!#REF!=\"\",\"\",Data!#REF!)","v":{"$error":"#REF!"}},{"$error":"#REF!"},{"$error":"#REF!"},{"$error":"#REF!"}]
[{"$f":"IF(Data!#REF!=\"\",\"\",Data!#REF!)","v":{"$error":"#REF!"}},{"$f":"IF(Data!#REF!=\"\",\"\",Data!#REF!)","v":{"$error":"#REF!"}},{"$f":"IF(Data!#REF!=\"\",\"\",Data!#REF!)","v":{"$error":"#REF!"}},{"$f":"IF(Data!#REF!=\"\",\"\",Data!#REF!)","v":{"$error":"#REF!"}},{"$f":"IF(Data!#REF!=\"\",\"\",Data!#REF!)","v":{"$error":"#REF!"}},{"$error":"#REF!"},{"$error":"#REF!"},{"$error":"#REF!"}]
[{"$f":"IF(Data!#REF!=\"\",\"\",Data!#REF!)","v":{"$error":"#REF!"}},{"$f":"IF(Data!#REF!=\"\",\"\",Data!#REF!)","v":{"$error":"#REF!"}},{"$f":"IF(Data!#REF!=\"\",\"\",Data!#REF!)","v":{"$error":"#REF!"}},{"$f":"IF(Data!#REF!=\"\",\"\",Data!#REF!)","v":{"$error":"#REF!"}},{"$f":"IF(Data!#REF!=\"\",\"\",Data!#REF!)","v":{"$error":"#REF!"}},{"$error":"#REF!"},{"$error":"#REF!"},{"$error":"#REF!"}]
[{"$f":"IF(Data!#REF!=\"\",\"\",Data!#REF!)","v":{"$error":"#REF!"}},{"$f":"IF(Data!#REF!=\"\",\"\",Data!#REF!)","v":{"$error":"#REF!"}},{"$f":"IF(Data!#REF!=\"\",\"\",Data!#REF!)","v":{"$error":"#REF!"}},{"$f":"IF(Data!#REF!=\"\",\"\",Data!#REF!)","v":{"$error":"#REF!"}},{"$f":"IF(Data!#REF!=\"\",\"\",Data!#REF!)","v":{"$error":"#REF!"}},{"$error":"#REF!"},{"$error":"#REF!"},{"$error":"#REF!"}]
[{"$f":"IF(Data!#REF!=\"\",\"\",Data!#REF!)","v":{"$error":"#REF!"}},{"$f":"IF(Data!#REF!=\"\",\"\",Data!#REF!)","v":{"$error":"#REF!"}},{"$f":"IF(Data!#REF!=\"\",\"\",Data!#REF!)","v":{"$error":"#REF!"}},{"$f":"IF(Data!#REF!=\"\",\"\",Data!#REF!)","v":{"$error":"#REF!"}},{"$f":"IF(Data!#REF!=\"\",\"\",Data!#REF!)","v":{"$error":"#REF!"}},{"$error":"#REF!"},{"$error":"#REF!"},{"$error":"#REF!"}]
[{"$f":"IF(Data!#REF!=\"\",\"\",Data!#REF!)","v":{"$error":"#REF!"}},{"$f":"IF(Data!#REF!=\"\",\"\",Data!#REF!)","v":{"$error":"#REF!"}},{"$f":"IF(Data!#REF!=\"\",\"\",Data!#REF!)","v":{"$error":"#REF!"}},{"$f":"IF(Data!#REF!=\"\",\"\",Data!#REF!)","v":{"$error":"#REF!"}},{"$f":"IF(Data!#REF!=\"\",\"\",Data!#REF!)","v":{"$error":"#REF!"}},{"$error":"#REF!"},{"$error":"#REF!"},{"$error":"#REF!"}]
[{"$f":"IF(Data!#REF!=\"\",\"\",Data!#REF!)","v":{"$error":"#REF!"}},{"$f":"IF(Data!#REF!=\"\",\"\",Data!#REF!)","v":{"$error":"#REF!"}},{"$f":"IF(Data!#REF!=\"\",\"\",Data!#REF!)","v":{"$error":"#REF!"}},{"$f":"IF(Data!#REF!=\"\",\"\",Data!#REF!)","v":{"$error":"#REF!"}},{"$f":"IF(Data!#REF!=\"\",\"\",Data!#REF!)","v":{"$error":"#REF!"}},{"$error":"#REF!"},{"$error":"#REF!"},{"$error":"#REF!"}]
[{"$f":"IF(Data!E21=\"\",\"\",Data!E21)","v":""},{"$f":"IF(Data!C21=\"\",\"\",Data!C21)","v":""},{"$f":"IF(Data!A21=\"\",\"\",Data!A21)","v":""},{"$f":"IF(Data!D21=\"\",\"\",Data!D21)","v":""},{"$f":"IF(Data!B21=\"\",\"\",Data!B21)","v":""},{"$error":"#VALUE!"},{"$error":"#VALUE!"},{"$error":"#VALUE!"}]
[{"$f":"IF(Data!E22=\"\",\"\",Data!E22)","v":""},{"$f":"IF(Data!C22=\"\",\"\",Data!C22)","v":""},{"$f":"IF(Data!A22=\"\",\"\",Data!A22)","v":""},{"$f":"IF(Data!D22=\"\",\"\",Data!D22)","v":""},{"$f":"IF(Data!B22=\"\",\"\",Data!B22)","v":""},{"$error":"#VALUE!"},{"$error":"#VALUE!"},{"$error":"#VALUE!"}]
[{"$f":"IF(Data!E23=\"\",\"\",Data!E23)","v":""},{"$f":"IF(Data!C23=\"\",\"\",Data!C23)","v":""},{"$f":"IF(Data!A23=\"\",\"\",Data!A23)","v":""},{"$f":"IF(Data!D23=\"\",\"\",Data!D23)","v":""},{"$f":"IF(Data!B23=\"\",\"\",Data!B23)","v":""},{"$error":"#VALUE!"},{"$error":"#VALUE!"},{"$error":"#VALUE!"}]
[{"$f":"IF(Data!E24=\"\",\"\",Data!E24)","v":""},{"$f":"IF(Data!C24=\"\",\"\",Data!C24)","v":""},{"$f":"IF(Data!A24=\"\",\"\",Data!A24)","v":""},{"$f":"IF(Data!D24=\"\",\"\",Data!D24)","v":""},{"$f":"IF(Data!B24=\"\",\"\",Data!B24)","v":""},{"$error":"#VALUE!"},{"$error":"#VALUE!"},{"$error":"#VALUE!"}]
[{"$f":"IF(Data!E25=\"\",\"\",Data!E25)","v":""},{"$f":"IF(Data!C25=\"\",\"\",Data!C25)","v":""},{"$f":"IF(Data!A25=\"\",\"\",Data!A25)","v":""},{"$f":"IF(Data!D25=\"\",\"\",Data!D25)","v":""},{"$f":"IF(Data!B25=\"\",\"\",Data!B25)","v":""},{"$error":"#VALUE!"},{"$error":"#VALUE!"},{"$error":"#VALUE!"}]
[{"$f":"IF(Data!E26=\"\",\"\",Data!E26)","v":""},{"$f":"IF(Data!C26=\"\",\"\",Data!C26)","v":""},{"$f":"IF(Data!A26=\"\",\"\",Data!A26)","v":""},{"$f":"IF(Data!D26=\"\",\"\",Data!D26)","v":""},{"$f":"IF(Data!B26=\"\",\"\",Data!B26)","v":""},{"$error":"#VALUE!"},{"$error":"#VALUE!"},{"$error":"#VALUE!"}]
[{"$f":"IF(Data!E27=\"\",\"\",Data!E27)","v":""},{"$f":"IF(Data!C27=\"\",\"\",Data!C27)","v":""},{"$f":"IF(Data!A27=\"\",\"\",Data!A27)","v":""},{"$f":"IF(Data!D27=\"\",\"\",Data!D27)","v":""},{"$f":"IF(Data!B27=\"\",\"\",Data!B27)","v":""},{"$error":"#VALUE!"},{"$error":"#VALUE!"},{"$error":"#VALUE!"}]
[{"$f":"IF(Data!E28=\"\",\"\",Data!E28)","v":""},{"$f":"IF(Data!C28=\"\",\"\",Data!C28)","v":""},{"$f":"IF(Data!A28=\"\",\"\",Data!A28)","v":""},{"$f":"IF(Data!D28=\"\",\"\",Data!D28)","v":""},{"$f":"IF(Data!B28=\"\",\"\",Data!B28)","v":""},{"$error":"#VALUE!"},{"$error":"#VALUE!"},{"$error":"#VALUE!"}]
[{"$f":"IF(Data!E29=\"\",\"\",Data!E29)","v":""},{"$f":"IF(Data!C29=\"\",\"\",Data!C29)","v":""},{"$f":"IF(Data!A29=\"\",\"\",Data!A29)","v":""},{"$f":"IF(Data!D29=\"\",\"\",Data!D29)","v":""},{"$f":"IF(Data!B29=\"\",\"\",Data!B29)","v":""},{"$error":"#VALUE!"},{"$error":"#VALUE!"},{"$error":"#VALUE!"}]
[{"$f":"IF(Data!E30=\"\",\"\",Data!E30)","v":""},{"$f":"IF(Data!C30=\"\",\"\",Data!C30)","v":""},{"$f":"IF(Data!A30=\"\",\"\",Data!A30)","v":""},{"$f":"IF(Data!D30=\"\",\"\",Data!D30)","v":""},{"$f":"IF(Data!B30=\"\",\"\",Data!B30)","v":""},{"$error":"#VALUE!"},{"$error":"#VALUE!"},{"$error":"#VALUE!"}]
[{"$f":"IF(Data!E31=\"\",\"\",Data!E31)","v":""},{"$f":"IF(Data!C31=\"\",\"\",Data!C31)","v":""},{"$f":"IF(Data!A31=\"\",\"\",Data!A31)","v":""},{"$f":"IF(Data!D31=\"\",\"\",Data!D31)","v":""},{"$f":"IF(Data!B31=\"\",\"\",Data!B31)","v":""},{"$error":"#VALUE!"},{"$error":"#VALUE!"},{"$error":"#VALUE!"}]
[{"$f":"IF(Data!E32=\"\",\"\",Data!E32)","v":""},{"$f":"IF(Data!C32=\"\",\"\",Data!C32)","v":""},{"$f":"IF(Data!A32=\"\",\"\",Data!A32)","v":""},{"$f":"IF(Data!D32=\"\",\"\",Data!D32)","v":""},{"$f":"IF(Data!B32=\"\",\"\",Data!B32)","v":""},{"$error":"#VALUE!"},{"$error":"#VALUE!"},{"$error":"#VALUE!"}]
[{"$f":"IF(Data!E33=\"\",\"\",Data!E33)","v":""},{"$f":"IF(Data!C33=\"\",\"\",Data!C33)","v":""},{"$f":"IF(Data!A33=\"\",\"\",Data!A33)","v":""},{"$f":"IF(Data!D33=\"\",\"\",Data!D33)","v":""},{"$f":"IF(Data!B33=\"\",\"\",Data!B33)","v":""},{"$error":"#VALUE!"},{"$error":"#VALUE!"},{"$error":"#VALUE!"}]
[{"$f":"IF(Data!E34=\"\",\"\",Data!E34)","v":""},{"$f":"IF(Data!C34=\"\",\"\",Data!C34)","v":""},{"$f":"IF(Data!A34=\"\",\"\",Data!A34)","v":""},{"$f":"IF(Data!D34=\"\",\"\",Data!D34)","v":""},{"$f":"IF(Data!B34=\"\",\"\",Data!B34)","v":""},{"$error":"#VALUE!"},{"$error":"#VALUE!"},{"$error":"#VALUE!"}]
[{"$f":"IF(Data!E35=\"\",\"\",Data!E35)","v":""},{"$f":"IF(Data!C35=\"\",\"\",Data!C35)","v":""},{"$f":"IF(Data!A35=\"\",\"\",Data!A35)","v":""},{"$f":"IF(Data!D35=\"\",\"\",Data!D35)","v":""},{"$f":"IF(Data!B35=\"\",\"\",Data!B35)","v":""},{"$error":"#VALUE!"},{"$error":"#VALUE!"},{"$error":"#VALUE!"}]
[{"$f":"IF(Data!E36=\"\",\"\",Data!E36)","v":""},{"$f":"IF(Data!C36=\"\",\"\",Data!C36)","v":""},{"$f":"IF(Data!A36=\"\",\"\",Data!A36)","v":""},{"$f":"IF(Data!D36=\"\",\"\",Data!D36)","v":""},{"$f":"IF(Data!B36=\"\",\"\",Data!B36)","v":""},{"$error":"#VALUE!"},{"$error":"#VALUE!"},{"$error":"#VALUE!"}]
[{"$f":"IF(Data!E37=\"\",\"\",Data!E37)","v":""},{"$f":"IF(Data!C37=\"\",\"\",Data!C37)","v":""},{"$f":"IF(Data!A37=\"\",\"\",Data!A37)","v":""},{"$f":"IF(Data!D37=\"\",\"\",Data!D37)","v":""},{"$f":"IF(Data!B37=\"\",\"\",Data!B37)","v":""},{"$error":"#VALUE!"},{"$error":"#VALUE!"},{"$error":"#VALUE!"}]
[{"$f":"IF(Data!E38=\"\",\"\",Data!E38)","v":""},{"$f":"IF(Data!C38=\"\",\"\",Data!C38)","v":""},{"$f":"IF(Data!A38=\"\",\"\",Data!A38)","v":""},{"$f":"IF(Data!D38=\"\",\"\",Data!D38)","v":""},{"$f":"IF(Data!B38=\"\",\"\",Data!B38)","v":""},{"$error":"#VALUE!"},{"$error":"#VALUE!"},{"$error":"#VALUE!"}]
[{"$f":"IF(Data!E39=\"\",\"\",Data!E39)","v":""},{"$f":"IF(Data!C39=\"\",\"\",Data!C39)","v":""},{"$f":"IF(Data!A39=\"\",\"\",Data!A39)","v":""},{"$f":"IF(Data!D39=\"\",\"\",Data!D39)","v":""},{"$f":"IF(Data!B39=\"\",\"\",Data!B39)","v":""},{"$error":"#VALUE!"},{"$error":"#VALUE!"},{"$error":"#VALUE!"}]
[{"$f":"IF(Data!E40=\"\",\"\",Data!E40)","v":""},{"$f":"IF(Data!C40=\"\",\"\",Data!C40)","v":""},{"$f":"IF(Data!A40=\"\",\"\",Data!A40)","v":""},{"$f":"IF(Data!D40=\"\",\"\",Data!D40)","v":""},{"$f":"IF(Data!B40=\"\",\"\",Data!B40)","v":""},{"$error":"#VALUE!"},{"$error":"#VALUE!"},{"$error":"#VALUE!"}]
[{"$f":"IF(Data!E41=\"\",\"\",Data!E41)","v":""},{"$f":"IF(Data!C41=\"\",\"\",Data!C41)","v":""},{"$f":"IF(Data!A41=\"\",\"\",Data!A41)","v":""},{"$f":"IF(Data!D41=\"\",\"\",Data!D41)","v":""},{"$f":"IF(Data!B41=\"\",\"\",Data!B41)","v":""},{"$error":"#VALUE!"},{"$error":"#VALUE!"},{"$error":"#VALUE!"}]
[{"$f":"IF(Data!E42=\"\",\"\",Data!E42)","v":""},{"$f":"IF(Data!C42=\"\",\"\",Data!C42)","v":""},{"$f":"IF(Data!A42=\"\",\"\",Data!A42)","v":""},{"$f":"IF(Data!D42=\"\",\"\",Data!D42)","v":""},{"$f":"IF(Data!B42=\"\",\"\",Data!B42)","v":""},{"$error":"#VALUE!"},{"$error":"#VALUE!"},{"$error":"#VALUE!"}]
[{"$f":"IF(Data!E43=\"\",\"\",Data!E43)","v":""},{"$f":"IF(Data!C43=\"\",\"\",Data!C43)","v":""},{"$f":"IF(Data!A43=\"\",\"\",Data!A43)","v":""},{"$f":"IF(Data!D43=\"\",\"\",Data!D43)","v":""},{"$f":"IF(Data!B43=\"\",\"\",Data!B43)","v":""},{"$error":"#VALUE!"},{"$error":"#VALUE!"},{"$error":"#VALUE!"}]
[{"$f":"IF(Data!E44=\"\",\"\",Data!E44)","v":""},{"$f":"IF(Data!C44=\"\",\"\",Data!C44)","v":""},{"$f":"IF(Data!A44=\"\",\"\",Data!A44)","v":""},{"$f":"IF(Data!D44=\"\",\"\",Data!D44)","v":""},{"$f":"IF(Data!B44=\"\",\"\",Data!B44)","v":""},{"$error":"#VALUE!"},{"$error":"#VALUE!"},{"$error":"#VALUE!"}]
[{"$f":"IF(Data!E45=\"\",\"\",Data!E45)","v":""},{"$f":"IF(Data!C45=\"\",\"\",Data!C45)","v":""},{"$f":"IF(Data!A45=\"\",\"\",Data!A45)","v":""},{"$f":"IF(Data!D45=\"\",\"\",Data!D45)","v":""},{"$f":"IF(Data!B45=\"\",\"\",Data!B45)","v":""},{"$error":"#VALUE!"},{"$error":"#VALUE!"},{"$error":"#VALUE!"}]
[{"$f":"IF(Data!E46=\"\",\"\",Data!E46)","v":""},{"$f":"IF(Data!C46=\"\",\"\",Data!C46)","v":""},{"$f":"IF(Data!A46=\"\",\"\",Data!A46)","v":""},{"$f":"IF(Data!D46=\"\",\"\",Data!D46)","v":""},{"$f":"IF(Data!B46=\"\",\"\",Data!B46)","v":""},{"$error":"#VALUE!"},{"$error":"#VALUE!"},{"$error":"#VALUE!"}]
[{"$f":"IF(Data!E47=\"\",\"\",Data!E47)","v":""},{"$f":"IF(Data!C47=\"\",\"\",Data!C47)","v":""},{"$f":"IF(Data!A47=\"\",\"\",Data!A47)","v":""},{"$f":"IF(Data!D47=\"\",\"\",Data!D47)","v":""},{"$f":"IF(Data!B47=\"\",\"\",Data!B47)","v":""},{"$error":"#VALUE!"},{"$error":"#VALUE!"},{"$error":"#VALUE!"}]
[{"$f":"IF(Data!E48=\"\",\"\",Data!E48)","v":""},{"$f":"IF(Data!C48=\"\",\"\",Data!C48)","v":""},{"$f":"IF(Data!A48=\"\",\"\",Data!A48)","v":""},{"$f":"IF(Data!D48=\"\",\"\",Data!D48)","v":""},{"$f":"IF(Data!B48=\"\",\"\",Data!B48)","v":""},{"$error":"#VALUE!"},{"$error":"#VALUE!"},{"$error":"#VALUE!"}]
[{"$f":"IF(Data!E49=\"\",\"\",Data!E49)","v":""},{"$f":"IF(Data!C49=\"\",\"\",Data!C49)","v":""},{"$f":"IF(Data!A49=\"\",\"\",Data!A49)","v":""},{"$f":"IF(Data!D49=\"\",\"\",Data!D49)","v":""},{"$f":"IF(Data!B49=\"\",\"\",Data!B49)","v":""},{"$error":"#VALUE!"},{"$error":"#VALUE!"},{"$error":"#VALUE!"}]
[{"$f":"IF(Data!E50=\"\",\"\",Data!E50)","v":""},{"$f":"IF(Data!C50=\"\",\"\",Data!C50)","v":""},{"$f":"IF(Data!A50=\"\",\"\",Data!A50)","v":""},{"$f":"IF(Data!D50=\"\",\"\",Data!D50)","v":""},{"$f":"IF(Data!B50=\"\",\"\",Data!B50)","v":""},{"$error":"#VALUE!"},{"$error":"#VALUE!"},{"$error":"#VALUE!"}]
[{"$f":"IF(Data!E51=\"\",\"\",Data!E51)","v":""},{"$f":"IF(Data!C51=\"\",\"\",Data!C51)","v":""},{"$f":"IF(Data!A51=\"\",\"\",Data!A51)","v":""},{"$f":"IF(Data!D51=\"\",\"\",Data!D51)","v":""},{"$f":"IF(Data!B51=\"\",\"\",Data!B51)","v":""},{"$error":"#VALUE!"},{"$error":"#VALUE!"},{"$error":"#VALUE!"}]
[{"$f":"IF(Data!E52=\"\",\"\",Data!E52)","v":""},{"$f":"IF(Data!C52=\"\",\"\",Data!C52)","v":""},{"$f":"IF(Data!A52=\"\",\"\",Data!A52)","v":""},{"$f":"IF(Data!D52=\"\",\"\",Data!D52)","v":""},{"$f":"IF(Data!B52=\"\",\"\",Data!B52)","v":""},{"$error":"#VALUE!"},{"$error":"#VALUE!"},{"$error":"#VALUE!"}]
[{"$f":"IF(Data!E53=\"\",\"\",Data!E53)","v":""},{"$f":"IF(Data!C53=\"\",\"\",Data!C53)","v":""},{"$f":"IF(Data!A53=\"\",\"\",Data!A53)","v":""},{"$f":"IF(Data!D53=\"\",\"\",Data!D53)","v":""},{"$f":"IF(Data!B53=\"\",\"\",Data!B53)","v":""},{"$error":"#VALUE!"},{"$error":"#VALUE!"},{"$error":"#VALUE!"}]
[{"$f":"IF(Data!E54=\"\",\"\",Data!E54)","v":""},{"$f":"IF(Data!C54=\"\",\"\",Data!C54)","v":""},{"$f":"IF(Data!A54=\"\",\"\",Data!A54)","v":""},{"$f":"IF(Data!D54=\"\",\"\",Data!D54)","v":""},{"$f":"IF(Data!B54=\"\",\"\",Data!B54)","v":""},{"$error":"#VALUE!"},{"$error":"#VALUE!"},{"$error":"#VALUE!"}]
[{"$f":"IF(Data!E55=\"\",\"\",Data!E55)","v":""},{"$f":"IF(Data!C55=\"\",\"\",Data!C55)","v":""},{"$f":"IF(Data!A55=\"\",\"\",Data!A55)","v":""},{"$f":"IF(Data!D55=\"\",\"\",Data!D55)","v":""},{"$f":"IF(Data!B55=\"\",\"\",Data!B55)","v":""},{"$error":"#VALUE!"},{"$error":"#VALUE!"},{"$error":"#VALUE!"}]
[{"$f":"IF(Data!E56=\"\",\"\",Data!E56)","v":""},{"$f":"IF(Data!C56=\"\",\"\",Data!C56)","v":""},{"$f":"IF(Data!A56=\"\",\"\",Data!A56)","v":""},{"$f":"IF(Data!D56=\"\",\"\",Data!D56)","v":""},{"$f":"IF(Data!B56=\"\",\"\",Data!B56)","v":""},{"$error":"#VALUE!"},{"$error":"#VALUE!"},{"$error":"#VALUE!"}]
[{"$f":"IF(Data!E57=\"\",\"\",Data!E57)","v":""},{"$f":"IF(Data!C57=\"\",\"\",Data!C57)","v":""},{"$f":"IF(Data!A57=\"\",\"\",Data!A57)","v":""},{"$f":"IF(Data!D57=\"\",\"\",Data!D57)","v":""},{"$f":"IF(Data!B57=\"\",\"\",Data!B57)","v":""},{"$error":"#VALUE!"},{"$error":"#VALUE!"},{"$error":"#VALUE!"}]
[{"$f":"IF(Data!E58=\"\",\"\",Data!E58)","v":""},{"$f":"IF(Data!C58=\"\",\"\",Data!C58)","v":""},{"$f":"IF(Data!A58=\"\",\"\",Data!A58)","v":""},{"$f":"IF(Data!D58=\"\",\"\",Data!D58)","v":""},{"$f":"IF(Data!B58=\"\",\"\",Data!B58)","v":""},{"$error":"#VALUE!"},{"$error":"#VALUE!"},{"$error":"#VALUE!"}]
[{"$f":"IF(Data!E59=\"\",\"\",Data!E59)","v":""},{"$f":"IF(Data!C59=\"\",\"\",Data!C59)","v":""},{"$f":"IF(Data!A59=\"\",\"\",Data!A59)","v":""},{"$f":"IF(Data!D59=\"\",\"\",Data!D59)","v":""},{"$f":"IF(Data!B59=\"\",\"\",Data!B59)","v":""},{"$error":"#VALUE!"},{"$error":"#VALUE!"},{"$error":"#VALUE!"}]
[{"$f":"IF(Data!E60=\"\",\"\",Data!E60)","v":""},{"$f":"IF(Data!C60=\"\",\"\",Data!C60)","v":""},{"$f":"IF(Data!A60=\"\",\"\",Data!A60)","v":""},{"$f":"IF(Data!D60=\"\",\"\",Data!D60)","v":""},{"$f":"IF(Data!B60=\"\",\"\",Data!B60)","v":""},{"$error":"#VALUE!"},{"$error":"#VALUE!"},{"$error":"#VALUE!"}]
[{"$f":"IF(Data!E61=\"\",\"\",Data!E61)","v":""},{"$f":"IF(Data!C61=\"\",\"\",Data!C61)","v":""},{"$f":"IF(Data!A61=\"\",\"\",Data!A61)","v":""},{"$f":"IF(Data!D61=\"\",\"\",Data!D61)","v":""},{"$f":"IF(Data!B61=\"\",\"\",Data!B61)","v":""},{"$error":"#VALUE!"},{"$error":"#VALUE!"},{"$error":"#VALUE!"}]
[{"$f":"IF(Data!E62=\"\",\"\",Data!E62)","v":""},{"$f":"IF(Data!C62=\"\",\"\",Data!C62)","v":""},{"$f":"IF(Data!A62=\"\",\"\",Data!A62)","v":""},{"$f":"IF(Data!D62=\"\",\"\",Data!D62)","v":""},{"$f":"IF(Data!B62=\"\",\"\",Data!B62)","v":""},{"$error":"#VALUE!"},{"$error":"#VALUE!"},{"$error":"#VALUE!"}]
[{"$f":"IF(Data!E63=\"\",\"\",Data!E63)","v":""},{"$f":"IF(Data!C63=\"\",\"\",Data!C63)","v":""},{"$f":"IF(Data!A63=\"\",\"\",Data!A63)","v":""},{"$f":"IF(Data!D63=\"\",\"\",Data!D63)","v":""},{"$f":"IF(Data!B63=\"\",\"\",Data!B63)","v":""},{"$error":"#VALUE!"},{"$error":"#VALUE!"},{"$error":"#VALUE!"}]
[{"$f":"IF(Data!E64=\"\",\"\",Data!E64)","v":""},{"$f":"IF(Data!C64=\"\",\"\",Data!C64)","v":""},{"$f":"IF(Data!A64=\"\",\"\",Data!A64)","v":""},{"$f":"IF(Data!D64=\"\",\"\",Data!D64)","v":""},{"$f":"IF(Data!B64=\"\",\"\",Data!B64)","v":""},{"$error":"#VALUE!"},{"$error":"#VALUE!"},{"$error":"#VALUE!"}]
[{"$f":"IF(Data!E65=\"\",\"\",Data!E65)","v":""},{"$f":"IF(Data!C65=\"\",\"\",Data!C65)","v":""},{"$f":"IF(Data!A65=\"\",\"\",Data!A65)","v":""},{"$f":"IF(Data!D65=\"\",\"\",Data!D65)","v":""},{"$f":"IF(Data!B65=\"\",\"\",Data!B65)","v":""},{"$error":"#VALUE!"},{"$error":"#VALUE!"},{"$error":"#VALUE!"}]
[{"$f":"IF(Data!E66=\"\",\"\",Data!E66)","v":""},{"$f":"IF(Data!C66=\"\",\"\",Data!C66)","v":""},{"$f":"IF(Data!A66=\"\",\"\",Data!A66)","v":""},{"$f":"IF(Data!D66=\"\",\"\",Data!D66)","v":""},{"$f":"IF(Data!B66=\"\",\"\",Data!B66)","v":""},{"$error":"#VALUE!"},{"$error":"#VALUE!"},{"$error":"#VALUE!"}]
[{"$f":"IF(Data!E67=\"\",\"\",Data!E67)","v":""},{"$f":"IF(Data!C67=\"\",\"\",Data!C67)","v":""},{"$f":"IF(Data!A67=\"\",\"\",Data!A67)","v":""},{"$f":"IF(Data!D67=\"\",\"\",Data!D67)","v":""},{"$f":"IF(Data!B67=\"\",\"\",Data!B67)","v":""},{"$error":"#VALUE!"},{"$error":"#VALUE!"},{"$error":"#VALUE!"}]
[{"$f":"IF(Data!E68=\"\",\"\",Data!E68)","v":""},{"$f":"IF(Data!C68=\"\",\"\",Data!C68)","v":""},{"$f":"IF(Data!A68=\"\",\"\",Data!A68)","v":""},{"$f":"IF(Data!D68=\"\",\"\",Data!D68)","v":""},{"$f":"IF(Data!B68=\"\",\"\",Data!B68)","v":""},{"$error":"#VALUE!"},{"$error":"#VALUE!"},{"$error":"#VALUE!"}]
[{"$f":"IF(Data!E69=\"\",\"\",Data!E69)","v":""},{"$f":"IF(Data!C69=\"\",\"\",Data!C69)","v":""},{"$f":"IF(Data!A69=\"\",\"\",Data!A69)","v":""},{"$f":"IF(Data!D69=\"\",\"\",Data!D69)","v":""},{"$f":"IF(Data!B69=\"\",\"\",Data!B69)","v":""},{"$error":"#VALUE!"},{"$error":"#VALUE!"},{"$error":"#VALUE!"}]
[{"$f":"IF(Data!E70=\"\",\"\",Data!E70)","v":""},{"$f":"IF(Data!C70=\"\",\"\",Data!C70)","v":""},{"$f":"IF(Data!A70=\"\",\"\",Data!A70)","v":""},{"$f":"IF(Data!D70=\"\",\"\",Data!D70)","v":""},{"$f":"IF(Data!B70=\"\",\"\",Data!B70)","v":""},{"$error":"#VALUE!"},{"$error":"#VALUE!"},{"$error":"#VALUE!"}]
[{"$f":"IF(Data!E71=\"\",\"\",Data!E71)","v":""},{"$f":"IF(Data!C71=\"\",\"\",Data!C71)","v":""},{"$f":"IF(Data!A71=\"\",\"\",Data!A71)","v":""},{"$f":"IF(Data!D71=\"\",\"\",Data!D71)","v":""},{"$f":"IF(Data!B71=\"\",\"\",Data!B71)","v":""},{"$error":"#VALUE!"},{"$error":"#VALUE!"},{"$error":"#VALUE!"}]
[{"$f":"IF(Data!E72=\"\",\"\",Data!E72)","v":""},{"$f":"IF(Data!C72=\"\",\"\",Data!C72)","v":""},{"$f":"IF(Data!A72=\"\",\"\",Data!A72)","v":""},{"$f":"IF(Data!D72=\"\",\"\",Data!D72)","v":""},{"$f":"IF(Data!B72=\"\",\"\",Data!B72)","v":""},{"$error":"#VALUE!"},{"$error":"#VALUE!"},{"$error":"#VALUE!"}]
[{"$f":"IF(Data!E73=\"\",\"\",Data!E73)","v":""},{"$f":"IF(Data!C73=\"\",\"\",Data!C73)","v":""},{"$f":"IF(Data!A73=\"\",\"\",Data!A73)","v":""},{"$f":"IF(Data!D73=\"\",\"\",Data!D73)","v":""},{"$f":"IF(Data!B73=\"\",\"\",Data!B73)","v":""},{"$error":"#VALUE!"},{"$error":"#VALUE!"},{"$error":"#VALUE!"}]
[{"$f":"IF(Data!E74=\"\",\"\",Data!E74)","v":""},{"$f":"IF(Data!C74=\"\",\"\",Data!C74)","v":""},{"$f":"IF(Data!A74=\"\",\"\",Data!A74)","v":""},{"$f":"IF(Data!D74=\"\",\"\",Data!D74)","v":""},{"$f":"IF(Data!B74=\"\",\"\",Data!B74)","v":""},{"$error":"#VALUE!"},{"$error":"#VALUE!"},{"$error":"#VALUE!"}]
[{"$f":"IF(Data!E75=\"\",\"\",Data!E75)","v":""},{"$f":"IF(Data!C75=\"\",\"\",Data!C75)","v":""},{"$f":"IF(Data!A75=\"\",\"\",Data!A75)","v":""},{"$f":"IF(Data!D75=\"\",\"\",Data!D75)","v":""},{"$f":"IF(Data!B75=\"\",\"\",Data!B75)","v":""},{"$error":"#VALUE!"},{"$error":"#VALUE!"},{"$error":"#VALUE!"}]
[{"$f":"IF(Data!E76=\"\",\"\",Data!E76)","v":""},{"$f":"IF(Data!C76=\"\",\"\",Data!C76)","v":""},{"$f":"IF(Data!A76=\"\",\"\",Data!A76)","v":""},{"$f":"IF(Data!D76=\"\",\"\",Data!D76)","v":""},{"$f":"IF(Data!B76=\"\",\"\",Data!B76)","v":""},{"$f":"IF(E3267>0,MONTH(E3267),\"\")","v":{"$error":"#VALUE!"}},{"$f":"IF(E3267>0,WEEKNUM(E3267),\"0\")","v":{"$error":"#VALUE!"}},{"$f":"IF(G3267>=($G$2-3),\"Ano\",\"Nie\")","v":{"$error":"#VALUE!"}}]
[{"$f":"IF(Data!E77=\"\",\"\",Data!E77)","v":""},{"$f":"IF(Data!C77=\"\",\"\",Data!C77)","v":""},{"$f":"IF(Data!A77=\"\",\"\",Data!A77)","v":""},{"$f":"IF(Data!D77=\"\",\"\",Data!D77)","v":""},{"$f":"IF(Data!B77=\"\",\"\",Data!B77)","v":""},{"$error":"#VALUE!"},{"$error":"#VALUE!"},{"$error":"#VALUE!"}]
[{"$f":"IF(Data!E78=\"\",\"\",Data!E78)","v":""},{"$f":"IF(Data!C78=\"\",\"\",Data!C78)","v":""},{"$f":"IF(Data!A78=\"\",\"\",Data!A78)","v":""},{"$f":"IF(Data!D78=\"\",\"\",Data!D78)","v":""},{"$f":"IF(Data!B78=\"\",\"\",Data!B78)","v":""},{"$error":"#VALUE!"},{"$error":"#VALUE!"},{"$error":"#VALUE!"}]
[{"$f":"IF(Data!E79=\"\",\"\",Data!E79)","v":""},{"$f":"IF(Data!C79=\"\",\"\",Data!C79)","v":""},{"$f":"IF(Data!A79=\"\",\"\",Data!A79)","v":""},{"$f":"IF(Data!D79=\"\",\"\",Data!D79)","v":""},{"$f":"IF(Data!B79=\"\",\"\",Data!B79)","v":""},{"$error":"#VALUE!"},{"$error":"#VALUE!"},{"$error":"#VALUE!"}]
[{"$f":"IF(Data!E80=\"\",\"\",Data!E80)","v":""},{"$f":"IF(Data!C80=\"\",\"\",Data!C80)","v":""},{"$f":"IF(Data!A80=\"\",\"\",Data!A80)","v":""},{"$f":"IF(Data!D80=\"\",\"\",Data!D80)","v":""},{"$f":"IF(Data!B80=\"\",\"\",Data!B80)","v":""},{"$error":"#VALUE!"},{"$error":"#VALUE!"},{"$error":"#VALUE!"}]
[{"$f":"IF(Data!E81=\"\",\"\",Data!E81)","v":""},{"$f":"IF(Data!C81=\"\",\"\",Data!C81)","v":""},{"$f":"IF(Data!A81=\"\",\"\",Data!A81)","v":""},{"$f":"IF(Data!D81=\"\",\"\",Data!D81)","v":""},{"$f":"IF(Data!B81=\"\",\"\",Data!B81)","v":""},{"$error":"#VALUE!"},{"$error":"#VALUE!"},{"$error":"#VALUE!"}]
[{"$f":"IF(Data!E82=\"\",\"\",Data!E82)","v":""},{"$f":"IF(Data!C82=\"\",\"\",Data!C82)","v":""},{"$f":"IF(Data!A82=\"\",\"\",Data!A82)","v":""},{"$f":"IF(Data!D82=\"\",\"\",Data!D82)","v":""},{"$f":"IF(Data!B82=\"\",\"\",Data!B82)","v":""},{"$error":"#VALUE!"},{"$error":"#VALUE!"},{"$error":"#VALUE!"}]
[{"$f":"IF(Data!E83=\"\",\"\",Data!E83)","v":""},{"$f":"IF(Data!C83=\"\",\"\",Data!C83)","v":""},{"$f":"IF(Data!A83=\"\",\"\",Data!A83)","v":""},{"$f":"IF(Data!D83=\"\",\"\",Data!D83)","v":""},{"$f":"IF(Data!B83=\"\",\"\",Data!B83)","v":""},{"$error":"#VALUE!"},{"$error":"#VALUE!"},{"$error":"#VALUE!"}]
[{"$f":"IF(Data!E84=\"\",\"\",Data!E84)","v":""},{"$f":"IF(Data!C84=\"\",\"\",Data!C84)","v":""},{"$f":"IF(Data!A84=\"\",\"\",Data!A84)","v":""},{"$f":"IF(Data!D84=\"\",\"\",Data!D84)","v":""},{"$f":"IF(Data!B84=\"\",\"\",Data!B84)","v":""},{"$error":"#VALUE!"},{"$error":"#VALUE!"},{"$error":"#VALUE!"}]
[{"$f":"IF(Data!E85=\"\",\"\",Data!E85)","v":""},{"$f":"IF(Data!C85=\"\",\"\",Data!C85)","v":""},{"$f":"IF(Data!A85=\"\",\"\",Data!A85)","v":""},{"$f":"IF(Data!D85=\"\",\"\",Data!D85)","v":""},{"$f":"IF(Data!B85=\"\",\"\",Data!B85)","v":""},{"$error":"#VALUE!"},{"$error":"#VALUE!"},{"$error":"#VALUE!"}]
[{"$f":"IF(Data!E86=\"\",\"\",Data!E86)","v":""},{"$f":"IF(Data!C86=\"\",\"\",Data!C86)","v":""},{"$f":"IF(Data!A86=\"\",\"\",Data!A86)","v":""},{"$f":"IF(Data!D86=\"\",\"\",Data!D86)","v":""},{"$f":"IF(Data!B86=\"\",\"\",Data!B86)","v":""},{"$error":"#VALUE!"},{"$error":"#VALUE!"},{"$error":"#VALUE!"}]
[{"$f":"IF(Data!E87=\"\",\"\",Data!E87)","v":""},{"$f":"IF(Data!C87=\"\",\"\",Data!C87)","v":""},{"$f":"IF(Data!A87=\"\",\"\",Data!A87)","v":""},{"$f":"IF(Data!D87=\"\",\"\",Data!D87)","v":""},{"$f":"IF(Data!B87=\"\",\"\",Data!B87)","v":""},{"$error":"#VALUE!"},{"$error":"#VALUE!"},{"$error":"#VALUE!"}]
[{"$f":"IF(Data!E88=\"\",\"\",Data!E88)","v":""},{"$f":"IF(Data!C88=\"\",\"\",Data!C88)","v":""},{"$f":"IF(Data!A88=\"\",\"\",Data!A88)","v":""},{"$f":"IF(Data!D88=\"\",\"\",Data!D88)","v":""},{"$f":"IF(Data!B88=\"\",\"\",Data!B88)","v":""},{"$error":"#VALUE!"},{"$error":"#VALUE!"},{"$error":"#VALUE!"}]
[{"$f":"IF(Data!E89=\"\",\"\",Data!E89)","v":""},{"$f":"IF(Data!C89=\"\",\"\",Data!C89)","v":""},{"$f":"IF(Data!A89=\"\",\"\",Data!A89)","v":""},{"$f":"IF(Data!D89=\"\",\"\",Data!D89)","v":""},{"$f":"IF(Data!B89=\"\",\"\",Data!B89)","v":""},{"$error":"#VALUE!"},{"$error":"#VALUE!"},{"$error":"#VALUE!"}]
[{"$f":"IF(Data!E90=\"\",\"\",Data!E90)","v":""},{"$f":"IF(Data!C90=\"\",\"\",Data!C90)","v":""},{"$f":"IF(Data!A90=\"\",\"\",Data!A90)","v":""},{"$f":"IF(Data!D90=\"\",\"\",Data!D90)","v":""},{"$f":"IF(Data!B90=\"\",\"\",Data!B90)","v":""},{"$error":"#VALUE!"},{"$error":"#VALUE!"},{"$error":"#VALUE!"}]
[{"$f":"IF(Data!E91=\"\",\"\",Data!E91)","v":""},{"$f":"IF(Data!C91=\"\",\"\",Data!C91)","v":""},{"$f":"IF(Data!A91=\"\",\"\",Data!A91)","v":""},{"$f":"IF(Data!D91=\"\",\"\",Data!D91)","v":""},{"$f":"IF(Data!B91=\"\",\"\",Data!B91)","v":""},{"$error":"#VALUE!"},{"$error":"#VALUE!"},{"$error":"#VALUE!"}]
[{"$f":"IF(Data!E92=\"\",\"\",Data!E92)","v":""},{"$f":"IF(Data!C92=\"\",\"\",Data!C92)","v":""},{"$f":"IF(Data!A92=\"\",\"\",Data!A92)","v":""},{"$f":"IF(Data!D92=\"\",\"\",Data!D92)","v":""},{"$f":"IF(Data!B92=\"\",\"\",Data!B92)","v":""},{"$error":"#VALUE!"},{"$error":"#VALUE!"},{"$error":"#VALUE!"}]
[{"$f":"IF(Data!E93=\"\",\"\",Data!E93)","v":""},{"$f":"IF(Data!C93=\"\",\"\",Data!C93)","v":""},{"$f":"IF(Data!A93=\"\",\"\",Data!A93)","v":""},{"$f":"IF(Data!D93=\"\",\"\",Data!D93)","v":""},{"$f":"IF(Data!B93=\"\",\"\",Data!B93)","v":""},{"$error":"#VALUE!"},{"$error":"#VALUE!"},{"$error":"#VALUE!"}]
[{"$f":"IF(Data!E94=\"\",\"\",Data!E94)","v":""},{"$f":"IF(Data!C94=\"\",\"\",Data!C94)","v":""},{"$f":"IF(Data!A94=\"\",\"\",Data!A94)","v":""},{"$f":"IF(Data!D94=\"\",\"\",Data!D94)","v":""},{"$f":"IF(Data!B94=\"\",\"\",Data!B94)","v":""},{"$error":"#VALUE!"},{"$error":"#VALUE!"},{"$error":"#VALUE!"}]
[{"$f":"IF(Data!E95=\"\",\"\",Data!E95)","v":""},{"$f":"IF(Data!C95=\"\",\"\",Data!C95)","v":""},{"$f":"IF(Data!A95=\"\",\"\",Data!A95)","v":""},{"$f":"IF(Data!D95=\"\",\"\",Data!D95)","v":""},{"$f":"IF(Data!B95=\"\",\"\",Data!B95)","v":""},{"$error":"#VALUE!"},{"$error":"#VALUE!"},{"$error":"#VALUE!"}]
[{"$f":"IF(Data!E96=\"\",\"\",Data!E96)","v":""},{"$f":"IF(Data!C96=\"\",\"\",Data!C96)","v":""},{"$f":"IF(Data!A96=\"\",\"\",Data!A96)","v":""},{"$f":"IF(Data!D96=\"\",\"\",Data!D96)","v":""},{"$f":"IF(Data!B96=\"\",\"\",Data!B96)","v":""},{"$error":"#VALUE!"},{"$error":"#VALUE!"},{"$error":"#VALUE!"}]
[{"$f":"IF(Data!E97=\"\",\"\",Data!E97)","v":""},{"$f":"IF(Data!C97=\"\",\"\",Data!C97)","v":""},{"$f":"IF(Data!A97=\"\",\"\",Data!A97)","v":""},{"$f":"IF(Data!D97=\"\",\"\",Data!D97)","v":""},{"$f":"IF(Data!B97=\"\",\"\",Data!B97)","v":""},{"$error":"#VALUE!"},{"$error":"#VALUE!"},{"$error":"#VALUE!"}]
[{"$f":"IF(Data!E98=\"\",\"\",Data!E98)","v":""},{"$f":"IF(Data!C98=\"\",\"\",Data!C98)","v":""},{"$f":"IF(Data!A98=\"\",\"\",Data!A98)","v":""},{"$f":"IF(Data!D98=\"\",\"\",Data!D98)","v":""},{"$f":"IF(Data!B98=\"\",\"\",Data!B98)","v":""},{"$error":"#VALUE!"},{"$error":"#VALUE!"},{"$error":"#VALUE!"}]
[{"$f":"IF(Data!E99=\"\",\"\",Data!E99)","v":""},{"$f":"IF(Data!C99=\"\",\"\",Data!C99)","v":""},{"$f":"IF(Data!A99=\"\",\"\",Data!A99)","v":""},{"$f":"IF(Data!D99=\"\",\"\",Data!D99)","v":""},{"$f":"IF(Data!B99=\"\",\"\",Data!B99)","v":""},{"$error":"#VALUE!"},{"$error":"#VALUE!"},{"$error":"#VALUE!"}]
[{"$f":"IF(Data!E100=\"\",\"\",Data!E100)","v":""},{"$f":"IF(Data!C100=\"\",\"\",Data!C100)","v":""},{"$f":"IF(Data!A100=\"\",\"\",Data!A100)","v":""},{"$f":"IF(Data!D100=\"\",\"\",Data!D100)","v":""},{"$f":"IF(Data!B100=\"\",\"\",Data!B100)","v":""},{"$error":"#VALUE!"},{"$error":"#VALUE!"},{"$error":"#VALUE!"}]
[{"$f":"IF(Data!E101=\"\",\"\",Data!E101)","v":""},{"$f":"IF(Data!C101=\"\",\"\",Data!C101)","v":""},{"$f":"IF(Data!A101=\"\",\"\",Data!A101)","v":""},{"$f":"IF(Data!D101=\"\",\"\",Data!D101)","v":""},{"$f":"IF(Data!B101=\"\",\"\",Data!B101)","v":""},{"$error":"#VALUE!"},{"$error":"#VALUE!"},{"$error":"#VALUE!"}]
[{"$f":"IF(Data!E102=\"\",\"\",Data!E102)","v":""},{"$f":"IF(Data!C102=\"\",\"\",Data!C102)","v":""},{"$f":"IF(Data!A102=\"\",\"\",Data!A102)","v":""},{"$f":"IF(Data!D102=\"\",\"\",Data!D102)","v":""},{"$f":"IF(Data!B102=\"\",\"\",Data!B102)","v":""},{"$error":"#VALUE!"},{"$error":"#VALUE!"},{"$error":"#VALUE!"}]
[{"$f":"IF(Data!E103=\"\",\"\",Data!E103)","v":""},{"$f":"IF(Data!C103=\"\",\"\",Data!C103)","v":""},{"$f":"IF(Data!A103=\"\",\"\",Data!A103)","v":""},{"$f":"IF(Data!D103=\"\",\"\",Data!D103)","v":""},{"$f":"IF(Data!B103=\"\",\"\",Data!B103)","v":""},{"$error":"#VALUE!"},{"$error":"#VALUE!"},{"$error":"#VALUE!"}]
[{"$f":"IF(Data!E104=\"\",\"\",Data!E104)","v":""},{"$f":"IF(Data!C104=\"\",\"\",Data!C104)","v":""},{"$f":"IF(Data!A104=\"\",\"\",Data!A104)","v":""},{"$f":"IF(Data!D104=\"\",\"\",Data!D104)","v":""},{"$f":"IF(Data!B104=\"\",\"\",Data!B104)","v":""},{"$error":"#VALUE!"},{"$error":"#VALUE!"},{"$error":"#VALUE!"}]
[{"$f":"IF(Data!E105=\"\",\"\",Data!E105)","v":""},{"$f":"IF(Data!C105=\"\",\"\",Data!C105)","v":""},{"$f":"IF(Data!A105=\"\",\"\",Data!A105)","v":""},{"$f":"IF(Data!D105=\"\",\"\",Data!D105)","v":""},{"$f":"IF(Data!B105=\"\",\"\",Data!B105)","v":""},{"$error":"#VALUE!"},{"$error":"#VALUE!"},{"$error":"#VALUE!"}]
[{"$f":"IF(Data!E106=\"\",\"\",Data!E106)","v":""},{"$f":"IF(Data!C106=\"\",\"\",Data!C106)","v":""},{"$f":"IF(Data!A106=\"\",\"\",Data!A106)","v":""},{"$f":"IF(Data!D106=\"\",\"\",Data!D106)","v":""},{"$f":"IF(Data!B106=\"\",\"\",Data!B106)","v":""},{"$error":"#VALUE!"},{"$error":"#VALUE!"},{"$error":"#VALUE!"}]
[{"$f":"IF(Data!E107=\"\",\"\",Data!E107)","v":""},{"$f":"IF(Data!C107=\"\",\"\",Data!C107)","v":""},{"$f":"IF(Data!A107=\"\",\"\",Data!A107)","v":""},{"$f":"IF(Data!D107=\"\",\"\",Data!D107)","v":""},{"$f":"IF(Data!B107=\"\",\"\",Data!B107)","v":""},{"$error":"#VALUE!"},{"$error":"#VALUE!"},{"$error":"#VALUE!"}]
[{"$f":"IF(Data!E108=\"\",\"\",Data!E108)","v":""},{"$f":"IF(Data!C108=\"\",\"\",Data!C108)","v":""},{"$f":"IF(Data!A108=\"\",\"\",Data!A108)","v":""},{"$f":"IF(Data!D108=\"\",\"\",Data!D108)","v":""},{"$f":"IF(Data!B108=\"\",\"\",Data!B108)","v":""},{"$error":"#VALUE!"},{"$error":"#VALUE!"},{"$error":"#VALUE!"}]
[{"$f":"IF(Data!E109=\"\",\"\",Data!E109)","v":""},{"$f":"IF(Data!C109=\"\",\"\",Data!C109)","v":""},{"$f":"IF(Data!A109=\"\",\"\",Data!A109)","v":""},{"$f":"IF(Data!D109=\"\",\"\",Data!D109)","v":""},{"$f":"IF(Data!B109=\"\",\"\",Data!B109)","v":""},{"$error":"#VALUE!"},{"$error":"#VALUE!"},{"$error":"#VALUE!"}]
[{"$f":"IF(Data!E110=\"\",\"\",Data!E110)","v":""},{"$f":"IF(Data!C110=\"\",\"\",Data!C110)","v":""},{"$f":"IF(Data!A110=\"\",\"\",Data!A110)","v":""},{"$f":"IF(Data!D110=\"\",\"\",Data!D110)","v":""},{"$f":"IF(Data!B110=\"\",\"\",Data!B110)","v":""},{"$error":"#VALUE!"},{"$error":"#VALUE!"},{"$error":"#VALUE!"}]
[{"$f":"IF(Data!E111=\"\",\"\",Data!E111)","v":""},{"$f":"IF(Data!C111=\"\",\"\",Data!C111)","v":""},{"$f":"IF(Data!A111=\"\",\"\",Data!A111)","v":""},{"$f":"IF(Data!D111=\"\",\"\",Data!D111)","v":""},{"$f":"IF(Data!B111=\"\",\"\",Data!B111)","v":""},{"$error":"#VALUE!"},{"$error":"#VALUE!"},{"$error":"#VALUE!"}]
[{"$f":"IF(Data!E112=\"\",\"\",Data!E112)","v":""},{"$f":"IF(Data!C112=\"\",\"\",Data!C112)","v":""},{"$f":"IF(Data!A112=\"\",\"\",Data!A112)","v":""},{"$f":"IF(Data!D112=\"\",\"\",Data!D112)","v":""},{"$f":"IF(Data!B112=\"\",\"\",Data!B112)","v":""},{"$error":"#VALUE!"},{"$error":"#VALUE!"},{"$error":"#VALUE!"}]
[{"$f":"IF(Data!E113=\"\",\"\",Data!E113)","v":""},{"$f":"IF(Data!C113=\"\",\"\",Data!C113)","v":""},{"$f":"IF(Data!A113=\"\",\"\",Data!A113)","v":""},{"$f":"IF(Data!D113=\"\",\"\",Data!D113)","v":""},{"$f":"IF(Data!B113=\"\",\"\",Data!B113)","v":""},{"$error":"#VALUE!"},{"$error":"#VALUE!"},{"$error":"#VALUE!"}]
[{"$f":"IF(Data!E114=\"\",\"\",Data!E114)","v":""},{"$f":"IF(Data!C114=\"\",\"\",Data!C114)","v":""},{"$f":"IF(Data!A114=\"\",\"\",Data!A114)","v":""},{"$f":"IF(Data!D114=\"\",\"\",Data!D114)","v":""},{"$f":"IF(Data!B114=\"\",\"\",Data!B114)","v":""},{"$error":"#VALUE!"},{"$error":"#VALUE!"},{"$error":"#VALUE!"}]
[{"$f":"IF(Data!E115=\"\",\"\",Data!E115)","v":""},{"$f":"IF(Data!C115=\"\",\"\",Data!C115)","v":""},{"$f":"IF(Data!A115=\"\",\"\",Data!A115)","v":""},{"$f":"IF(Data!D115=\"\",\"\",Data!D115)","v":""},{"$f":"IF(Data!B115=\"\",\"\",Data!B115)","v":""},{"$error":"#VALUE!"},{"$error":"#VALUE!"},{"$error":"#VALUE!"}]
[{"$f":"IF(Data!E116=\"\",\"\",Data!E116)","v":""},{"$f":"IF(Data!C116=\"\",\"\",Data!C116)","v":""},{"$f":"IF(Data!A116=\"\",\"\",Data!A116)","v":""},{"$f":"IF(Data!D116=\"\",\"\",Data!D116)","v":""},{"$f":"IF(Data!B116=\"\",\"\",Data!B116)","v":""},{"$error":"#VALUE!"},{"$error":"#VALUE!"},{"$error":"#VALUE!"}]
[{"$f":"IF(Data!E117=\"\",\"\",Data!E117)","v":""},{"$f":"IF(Data!C117=\"\",\"\",Data!C117)","v":""},{"$f":"IF(Data!A117=\"\",\"\",Data!A117)","v":""},{"$f":"IF(Data!D117=\"\",\"\",Data!D117)","v":""},{"$f":"IF(Data!B117=\"\",\"\",Data!B117)","v":""},{"$error":"#VALUE!"},{"$error":"#VALUE!"},{"$error":"#VALUE!"}]
[{"$f":"IF(Data!E118=\"\",\"\",Data!E118)","v":""},{"$f":"IF(Data!C118=\"\",\"\",Data!C118)","v":""},{"$f":"IF(Data!A118=\"\",\"\",Data!A118)","v":""},{"$f":"IF(Data!D118=\"\",\"\",Data!D118)","v":""},{"$f":"IF(Data!B118=\"\",\"\",Data!B118)","v":""},{"$error":"#VALUE!"},{"$error":"#VALUE!"},{"$error":"#VALUE!"}]
[{"$f":"IF(Data!E119=\"\",\"\",Data!E119)","v":""},{"$f":"IF(Data!C119=\"\",\"\",Data!C119)","v":""},{"$f":"IF(Data!A119=\"\",\"\",Data!A119)","v":""},{"$f":"IF(Data!D119=\"\",\"\",Data!D119)","v":""},{"$f":"IF(Data!B119=\"\",\"\",Data!B119)","v":""},{"$error":"#VALUE!"},{"$error":"#VALUE!"},{"$error":"#VALUE!"}]
[{"$f":"IF(Data!E120=\"\",\"\",Data!E120)","v":""},{"$f":"IF(Data!C120=\"\",\"\",Data!C120)","v":""},{"$f":"IF(Data!A120=\"\",\"\",Data!A120)","v":""},{"$f":"IF(Data!D120=\"\",\"\",Data!D120)","v":""},{"$f":"IF(Data!B120=\"\",\"\",Data!B120)","v":""},{"$error":"#VALUE!"},{"$error":"#VALUE!"},{"$error":"#VALUE!"}]
[{"$f":"IF(Data!E121=\"\",\"\",Data!E121)","v":""},{"$f":"IF(Data!C121=\"\",\"\",Data!C121)","v":""},{"$f":"IF(Data!A121=\"\",\"\",Data!A121)","v":""},{"$f":"IF(Data!D121=\"\",\"\",Data!D121)","v":""},{"$f":"IF(Data!B121=\"\",\"\",Data!B121)","v":""},{"$error":"#VALUE!"},{"$error":"#VALUE!"},{"$error":"#VALUE!"}]
[{"$f":"IF(Data!E122=\"\",\"\",Data!E122)","v":""},{"$f":"IF(Data!C122=\"\",\"\",Data!C122)","v":""},{"$f":"IF(Data!A122=\"\",\"\",Data!A122)","v":""},{"$f":"IF(Data!D122=\"\",\"\",Data!D122)","v":""},{"$f":"IF(Data!B122=\"\",\"\",Data!B122)","v":""},{"$error":"#VALUE!"},{"$error":"#VALUE!"},{"$error":"#VALUE!"}]
[{"$f":"IF(Data!E123=\"\",\"\",Data!E123)","v":""},{"$f":"IF(Data!C123=\"\",\"\",Data!C123)","v":""},{"$f":"IF(Data!A123=\"\",\"\",Data!A123)","v":""},{"$f":"IF(Data!D123=\"\",\"\",Data!D123)","v":""},{"$f":"IF(Data!B123=\"\",\"\",Data!B123)","v":""},{"$error":"#VALUE!"},{"$error":"#VALUE!"},{"$error":"#VALUE!"}]
[{"$f":"IF(Data!E124=\"\",\"\",Data!E124)","v":""},{"$f":"IF(Data!C124=\"\",\"\",Data!C124)","v":""},{"$f":"IF(Data!A124=\"\",\"\",Data!A124)","v":""},{"$f":"IF(Data!D124=\"\",\"\",Data!D124)","v":""},{"$f":"IF(Data!B124=\"\",\"\",Data!B124)","v":""},{"$error":"#VALUE!"},{"$error":"#VALUE!"},{"$error":"#VALUE!"}]
[{"$f":"IF(Data!E125=\"\",\"\",Data!E125)","v":""},{"$f":"IF(Data!C125=\"\",\"\",Data!C125)","v":""},{"$f":"IF(Data!A125=\"\",\"\",Data!A125)","v":""},{"$f":"IF(Data!D125=\"\",\"\",Data!D125)","v":""},{"$f":"IF(Data!B125=\"\",\"\",Data!B125)","v":""},{"$error":"#VALUE!"},{"$error":"#VALUE!"},{"$error":"#VALUE!"}]
[{"$f":"IF(Data!E126=\"\",\"\",Data!E126)","v":""},{"$f":"IF(Data!C126=\"\",\"\",Data!C126)","v":""},{"$f":"IF(Data!A126=\"\",\"\",Data!A126)","v":""},{"$f":"IF(Data!D126=\"\",\"\",Data!D126)","v":""},{"$f":"IF(Data!B126=\"\",\"\",Data!B126)","v":""},{"$error":"#VALUE!"},{"$error":"#VALUE!"},{"$error":"#VALUE!"}]
[{"$f":"IF(Data!E127=\"\",\"\",Data!E127)","v":""},{"$f":"IF(Data!C127=\"\",\"\",Data!C127)","v":""},{"$f":"IF(Data!A127=\"\",\"\",Data!A127)","v":""},{"$f":"IF(Data!D127=\"\",\"\",Data!D127)","v":""},{"$f":"IF(Data!B127=\"\",\"\",Data!B127)","v":""},{"$error":"#VALUE!"},{"$error":"#VALUE!"},{"$error":"#VALUE!"}]
[{"$f":"IF(Data!E128=\"\",\"\",Data!E128)","v":""},{"$f":"IF(Data!C128=\"\",\"\",Data!C128)","v":""},{"$f":"IF(Data!A128=\"\",\"\",Data!A128)","v":""},{"$f":"IF(Data!D128=\"\",\"\",Data!D128)","v":""},{"$f":"IF(Data!B128=\"\",\"\",Data!B128)","v":""},{"$error":"#VALUE!"},{"$error":"#VALUE!"},{"$error":"#VALUE!"}]
[{"$f":"IF(Data!E129=\"\",\"\",Data!E129)","v":""},{"$f":"IF(Data!C129=\"\",\"\",Data!C129)","v":""},{"$f":"IF(Data!A129=\"\",\"\",Data!A129)","v":""},{"$f":"IF(Data!D129=\"\",\"\",Data!D129)","v":""},{"$f":"IF(Data!B129=\"\",\"\",Data!B129)","v":""},{"$error":"#VALUE!"},{"$error":"#VALUE!"},{"$error":"#VALUE!"}]
[{"$f":"IF(Data!E130=\"\",\"\",Data!E130)","v":""},{"$f":"IF(Data!C130=\"\",\"\",Data!C130)","v":""},{"$f":"IF(Data!A130=\"\",\"\",Data!A130)","v":""},{"$f":"IF(Data!D130=\"\",\"\",Data!D130)","v":""},{"$f":"IF(Data!B130=\"\",\"\",Data!B130)","v":""},{"$error":"#VALUE!"},{"$error":"#VALUE!"},{"$error":"#VALUE!"}]
[{"$f":"IF(Data!E131=\"\",\"\",Data!E131)","v":""},{"$f":"IF(Data!C131=\"\",\"\",Data!C131)","v":""},{"$f":"IF(Data!A131=\"\",\"\",Data!A131)","v":""},{"$f":"IF(Data!D131=\"\",\"\",Data!D131)","v":""},{"$f":"IF(Data!B131=\"\",\"\",Data!B131)","v":""},{"$error":"#VALUE!"},{"$error":"#VALUE!"},{"$error":"#VALUE!"}]
[{"$f":"IF(Data!E132=\"\",\"\",Data!E132)","v":""},{"$f":"IF(Data!C132=\"\",\"\",Data!C132)","v":""},{"$f":"IF(Data!A132=\"\",\"\",Data!A132)","v":""},{"$f":"IF(Data!D132=\"\",\"\",Data!D132)","v":""},{"$f":"IF(Data!B132=\"\",\"\",Data!B132)","v":""},{"$error":"#VALUE!"},{"$error":"#VALUE!"},{"$error":"#VALUE!"}]
[{"$f":"IF(Data!E133=\"\",\"\",Data!E133)","v":""},{"$f":"IF(Data!C133=\"\",\"\",Data!C133)","v":""},{"$f":"IF(Data!A133=\"\",\"\",Data!A133)","v":""},{"$f":"IF(Data!D133=\"\",\"\",Data!D133)","v":""},{"$f":"IF(Data!B133=\"\",\"\",Data!B133)","v":""},{"$error":"#VALUE!"},{"$error":"#VALUE!"},{"$error":"#VALUE!"}]
[{"$f":"IF(Data!E134=\"\",\"\",Data!E134)","v":""},{"$f":"IF(Data!C134=\"\",\"\",Data!C134)","v":""},{"$f":"IF(Data!A134=\"\",\"\",Data!A134)","v":""},{"$f":"IF(Data!D134=\"\",\"\",Data!D134)","v":""},{"$f":"IF(Data!B134=\"\",\"\",Data!B134)","v":""},{"$error":"#VALUE!"},{"$error":"#VALUE!"},{"$error":"#VALUE!"}]
[{"$f":"IF(Data!E135=\"\",\"\",Data!E135)","v":""},{"$f":"IF(Data!C135=\"\",\"\",Data!C135)","v":""},{"$f":"IF(Data!A135=\"\",\"\",Data!A135)","v":""},{"$f":"IF(Data!D135=\"\",\"\",Data!D135)","v":""},{"$f":"IF(Data!B135=\"\",\"\",Data!B135)","v":""},{"$error":"#VALUE!"},{"$error":"#VALUE!"},{"$error":"#VALUE!"}]
[{"$f":"IF(Data!E136=\"\",\"\",Data!E136)","v":""},{"$f":"IF(Data!C136=\"\",\"\",Data!C136)","v":""},{"$f":"IF(Data!A136=\"\",\"\",Data!A136)","v":""},{"$f":"IF(Data!D136=\"\",\"\",Data!D136)","v":""},{"$f":"IF(Data!B136=\"\",\"\",Data!B136)","v":""},{"$error":"#VALUE!"},{"$error":"#VALUE!"},{"$error":"#VALUE!"}]
[{"$f":"IF(Data!E137=\"\",\"\",Data!E137)","v":""},{"$f":"IF(Data!C137=\"\",\"\",Data!C137)","v":""},{"$f":"IF(Data!A137=\"\",\"\",Data!A137)","v":""},{"$f":"IF(Data!D137=\"\",\"\",Data!D137)","v":""},{"$f":"IF(Data!B137=\"\",\"\",Data!B137)","v":""},{"$error":"#VALUE!"},{"$error":"#VALUE!"},{"$error":"#VALUE!"}]
[{"$f":"IF(Data!E138=\"\",\"\",Data!E138)","v":""},{"$f":"IF(Data!C138=\"\",\"\",Data!C138)","v":""},{"$f":"IF(Data!A138=\"\",\"\",Data!A138)","v":""},{"$f":"IF(Data!D138=\"\",\"\",Data!D138)","v":""},{"$f":"IF(Data!B138=\"\",\"\",Data!B138)","v":""},{"$error":"#VALUE!"},{"$error":"#VALUE!"},{"$error":"#VALUE!"}]
[{"$f":"IF(Data!E139=\"\",\"\",Data!E139)","v":""},{"$f":"IF(Data!C139=\"\",\"\",Data!C139)","v":""},{"$f":"IF(Data!A139=\"\",\"\",Data!A139)","v":""},{"$f":"IF(Data!D139=\"\",\"\",Data!D139)","v":""},{"$f":"IF(Data!B139=\"\",\"\",Data!B139)","v":""},{"$error":"#VALUE!"},{"$error":"#VALUE!"},{"$error":"#VALUE!"}]
[{"$f":"IF(Data!E140=\"\",\"\",Data!E140)","v":""},{"$f":"IF(Data!C140=\"\",\"\",Data!C140)","v":""},{"$f":"IF(Data!A140=\"\",\"\",Data!A140)","v":""},{"$f":"IF(Data!D140=\"\",\"\",Data!D140)","v":""},{"$f":"IF(Data!B140=\"\",\"\",Data!B140)","v":""},{"$f":"IF(E3331>0,MONTH(E3331),\"\")","v":{"$error":"#VALUE!"}},{"$f":"IF(E3331>0,WEEKNUM(E3331),\"0\")","v":{"$error":"#VALUE!"}},{"$f":"IF(G3331>=($G$2-3),\"Ano\",\"Nie\")","v":{"$error":"#VALUE!"}}]
[{"$f":"IF(Data!E141=\"\",\"\",Data!E141)","v":""},{"$f":"IF(Data!C141=\"\",\"\",Data!C141)","v":""},{"$f":"IF(Data!A141=\"\",\"\",Data!A141)","v":""},{"$f":"IF(Data!D141=\"\",\"\",Data!D141)","v":""},{"$f":"IF(Data!B141=\"\",\"\",Data!B141)","v":""},{"$error":"#VALUE!"},{"$error":"#VALUE!"},{"$error":"#VALUE!"}]
[{"$f":"IF(Data!E142=\"\",\"\",Data!E142)","v":""},{"$f":"IF(Data!C142=\"\",\"\",Data!C142)","v":""},{"$f":"IF(Data!A142=\"\",\"\",Data!A142)","v":""},{"$f":"IF(Data!D142=\"\",\"\",Data!D142)","v":""},{"$f":"IF(Data!B142=\"\",\"\",Data!B142)","v":""},{"$error":"#VALUE!"},{"$error":"#VALUE!"},{"$error":"#VALUE!"}]
[{"$f":"IF(Data!E143=\"\",\"\",Data!E143)","v":""},{"$f":"IF(Data!C143=\"\",\"\",Data!C143)","v":""},{"$f":"IF(Data!A143=\"\",\"\",Data!A143)","v":""},{"$f":"IF(Data!D143=\"\",\"\",Data!D143)","v":""},{"$f":"IF(Data!B143=\"\",\"\",Data!B143)","v":""},{"$error":"#VALUE!"},{"$error":"#VALUE!"},{"$error":"#VALUE!"}]
[{"$f":"IF(Data!E144=\"\",\"\",Data!E144)","v":""},{"$f":"IF(Data!C144=\"\",\"\",Data!C144)","v":""},{"$f":"IF(Data!A144=\"\",\"\",Data!A144)","v":""},{"$f":"IF(Data!D144=\"\",\"\",Data!D144)","v":""},{"$f":"IF(Data!B144=\"\",\"\",Data!B144)","v":""},{"$error":"#VALUE!"},{"$error":"#VALUE!"},{"$error":"#VALUE!"}]
[{"$f":"IF(Data!E145=\"\",\"\",Data!E145)","v":""},{"$f":"IF(Data!C145=\"\",\"\",Data!C145)","v":""},{"$f":"IF(Data!A145=\"\",\"\",Data!A145)","v":""},{"$f":"IF(Data!D145=\"\",\"\",Data!D145)","v":""},{"$f":"IF(Data!B145=\"\",\"\",Data!B145)","v":""},{"$error":"#VALUE!"},{"$error":"#VALUE!"},{"$error":"#VALUE!"}]
[{"$f":"IF(Data!E146=\"\",\"\",Data!E146)","v":""},{"$f":"IF(Data!C146=\"\",\"\",Data!C146)","v":""},{"$f":"IF(Data!A146=\"\",\"\",Data!A146)","v":""},{"$f":"IF(Data!D146=\"\",\"\",Data!D146)","v":""},{"$f":"IF(Data!B146=\"\",\"\",Data!B146)","v":""},{"$error":"#VALUE!"},{"$error":"#VALUE!"},{"$error":"#VALUE!"}]
[{"$f":"IF(Data!E147=\"\",\"\",Data!E147)","v":""},{"$f":"IF(Data!C147=\"\",\"\",Data!C147)","v":""},{"$f":"IF(Data!A147=\"\",\"\",Data!A147)","v":""},{"$f":"IF(Data!D147=\"\",\"\",Data!D147)","v":""},{"$f":"IF(Data!B147=\"\",\"\",Data!B147)","v":""},{"$error":"#VALUE!"},{"$error":"#VALUE!"},{"$error":"#VALUE!"}]
[{"$f":"IF(Data!E148=\"\",\"\",Data!E148)","v":""},{"$f":"IF(Data!C148=\"\",\"\",Data!C148)","v":""},{"$f":"IF(Data!A148=\"\",\"\",Data!A148)","v":""},{"$f":"IF(Data!D148=\"\",\"\",Data!D148)","v":""},{"$f":"IF(Data!B148=\"\",\"\",Data!B148)","v":""},{"$error":"#VALUE!"},{"$error":"#VALUE!"},{"$error":"#VALUE!"}]
[{"$f":"IF(Data!E149=\"\",\"\",Data!E149)","v":""},{"$f":"IF(Data!C149=\"\",\"\",Data!C149)","v":""},{"$f":"IF(Data!A149=\"\",\"\",Data!A149)","v":""},{"$f":"IF(Data!D149=\"\",\"\",Data!D149)","v":""},{"$f":"IF(Data!B149=\"\",\"\",Data!B149)","v":""},{"$error":"#VALUE!"},{"$error":"#VALUE!"},{"$error":"#VALUE!"}]
[{"$f":"IF(Data!E150=\"\",\"\",Data!E150)","v":""},{"$f":"IF(Data!C150=\"\",\"\",Data!C150)","v":""},{"$f":"IF(Data!A150=\"\",\"\",Data!A150)","v":""},{"$f":"IF(Data!D150=\"\",\"\",Data!D150)","v":""},{"$f":"IF(Data!B150=\"\",\"\",Data!B150)","v":""},{"$error":"#VALUE!"},{"$error":"#VALUE!"},{"$error":"#VALUE!"}]
[{"$f":"IF(Data!E151=\"\",\"\",Data!E151)","v":""},{"$f":"IF(Data!C151=\"\",\"\",Data!C151)","v":""},{"$f":"IF(Data!A151=\"\",\"\",Data!A151)","v":""},{"$f":"IF(Data!D151=\"\",\"\",Data!D151)","v":""},{"$f":"IF(Data!B151=\"\",\"\",Data!B151)","v":""},{"$error":"#VALUE!"},{"$error":"#VALUE!"},{"$error":"#VALUE!"}]
[{"$f":"IF(Data!E152=\"\",\"\",Data!E152)","v":""},{"$f":"IF(Data!C152=\"\",\"\",Data!C152)","v":""},{"$f":"IF(Data!A152=\"\",\"\",Data!A152)","v":""},{"$f":"IF(Data!D152=\"\",\"\",Data!D152)","v":""},{"$f":"IF(Data!B152=\"\",\"\",Data!B152)","v":""},{"$error":"#VALUE!"},{"$error":"#VALUE!"},{"$error":"#VALUE!"}]
[{"$f":"IF(Data!E153=\"\",\"\",Data!E153)","v":""},{"$f":"IF(Data!C153=\"\",\"\",Data!C153)","v":""},{"$f":"IF(Data!A153=\"\",\"\",Data!A153)","v":""},{"$f":"IF(Data!D153=\"\",\"\",Data!D153)","v":""},{"$f":"IF(Data!B153=\"\",\"\",Data!B153)","v":""},{"$error":"#VALUE!"},{"$error":"#VALUE!"},{"$error":"#VALUE!"}]
[{"$f":"IF(Data!E154=\"\",\"\",Data!E154)","v":""},{"$f":"IF(Data!C154=\"\",\"\",Data!C154)","v":""},{"$f":"IF(Data!A154=\"\",\"\",Data!A154)","v":""},{"$f":"IF(Data!D154=\"\",\"\",Data!D154)","v":""},{"$f":"IF(Data!B154=\"\",\"\",Data!B154)","v":""},{"$error":"#VALUE!"},{"$error":"#VALUE!"},{"$error":"#VALUE!"}]
[{"$f":"IF(Data!E155=\"\",\"\",Data!E155)","v":""},{"$f":"IF(Data!C155=\"\",\"\",Data!C155)","v":""},{"$f":"IF(Data!A155=\"\",\"\",Data!A155)","v":""},{"$f":"IF(Data!D155=\"\",\"\",Data!D155)","v":""},{"$f":"IF(Data!B155=\"\",\"\",Data!B155)","v":""},{"$error":"#VALUE!"},{"$error":"#VALUE!"},{"$error":"#VALUE!"}]
[{"$f":"IF(Data!E156=\"\",\"\",Data!E156)","v":""},{"$f":"IF(Data!C156=\"\",\"\",Data!C156)","v":""},{"$f":"IF(Data!A156=\"\",\"\",Data!A156)","v":""},{"$f":"IF(Data!D156=\"\",\"\",Data!D156)","v":""},{"$f":"IF(Data!B156=\"\",\"\",Data!B156)","v":""},{"$error":"#VALUE!"},{"$error":"#VALUE!"},{"$error":"#VALUE!"}]
[{"$f":"IF(Data!E157=\"\",\"\",Data!E157)","v":""},{"$f":"IF(Data!C157=\"\",\"\",Data!C157)","v":""},{"$f":"IF(Data!A157=\"\",\"\",Data!A157)","v":""},{"$f":"IF(Data!D157=\"\",\"\",Data!D157)","v":""},{"$f":"IF(Data!B157=\"\",\"\",Data!B157)","v":""},{"$error":"#VALUE!"},{"$error":"#VALUE!"},{"$error":"#VALUE!"}]
[{"$f":"IF(Data!E158=\"\",\"\",Data!E158)","v":""},{"$f":"IF(Data!C158=\"\",\"\",Data!C158)","v":""},{"$f":"IF(Data!A158=\"\",\"\",Data!A158)","v":""},{"$f":"IF(Data!D158=\"\",\"\",Data!D158)","v":""},{"$f":"IF(Data!B158=\"\",\"\",Data!B158)","v":""},{"$error":"#VALUE!"},{"$error":"#VALUE!"},{"$error":"#VALUE!"}]
[{"$f":"IF(Data!E159=\"\",\"\",Data!E159)","v":""},{"$f":"IF(Data!C159=\"\",\"\",Data!C159)","v":""},{"$f":"IF(Data!A159=\"\",\"\",Data!A159)","v":""},{"$f":"IF(Data!D159=\"\",\"\",Data!D159)","v":""},{"$f":"IF(Data!B159=\"\",\"\",Data!B159)","v":""},{"$error":"#VALUE!"},{"$error":"#VALUE!"},{"$error":"#VALUE!"}]
[{"$f":"IF(Data!E160=\"\",\"\",Data!E160)","v":""},{"$f":"IF(Data!C160=\"\",\"\",Data!C160)","v":""},{"$f":"IF(Data!A160=\"\",\"\",Data!A160)","v":""},{"$f":"IF(Data!D160=\"\",\"\",Data!D160)","v":""},{"$f":"IF(Data!B160=\"\",\"\",Data!B160)","v":""},{"$error":"#VALUE!"},{"$error":"#VALUE!"},{"$error":"#VALUE!"}]
[{"$f":"IF(Data!E161=\"\",\"\",Data!E161)","v":""},{"$f":"IF(Data!C161=\"\",\"\",Data!C161)","v":""},{"$f":"IF(Data!A161=\"\",\"\",Data!A161)","v":""},{"$f":"IF(Data!D161=\"\",\"\",Data!D161)","v":""},{"$f":"IF(Data!B161=\"\",\"\",Data!B161)","v":""},{"$error":"#VALUE!"},{"$error":"#VALUE!"},{"$error":"#VALUE!"}]
[{"$f":"IF(Data!E162=\"\",\"\",Data!E162)","v":""},{"$f":"IF(Data!C162=\"\",\"\",Data!C162)","v":""},{"$f":"IF(Data!A162=\"\",\"\",Data!A162)","v":""},{"$f":"IF(Data!D162=\"\",\"\",Data!D162)","v":""},{"$f":"IF(Data!B162=\"\",\"\",Data!B162)","v":""},{"$error":"#VALUE!"},{"$error":"#VALUE!"},{"$error":"#VALUE!"}]
[{"$f":"IF(Data!E163=\"\",\"\",Data!E163)","v":""},{"$f":"IF(Data!C163=\"\",\"\",Data!C163)","v":""},{"$f":"IF(Data!A163=\"\",\"\",Data!A163)","v":""},{"$f":"IF(Data!D163=\"\",\"\",Data!D163)","v":""},{"$f":"IF(Data!B163=\"\",\"\",Data!B163)","v":""},{"$error":"#VALUE!"},{"$error":"#VALUE!"},{"$error":"#VALUE!"}]
[{"$f":"IF(Data!E164=\"\",\"\",Data!E164)","v":""},{"$f":"IF(Data!C164=\"\",\"\",Data!C164)","v":""},{"$f":"IF(Data!A164=\"\",\"\",Data!A164)","v":""},{"$f":"IF(Data!D164=\"\",\"\",Data!D164)","v":""},{"$f":"IF(Data!B164=\"\",\"\",Data!B164)","v":""},{"$error":"#VALUE!"},{"$error":"#VALUE!"},{"$error":"#VALUE!"}]
[{"$f":"IF(Data!E165=\"\",\"\",Data!E165)","v":""},{"$f":"IF(Data!C165=\"\",\"\",Data!C165)","v":""},{"$f":"IF(Data!A165=\"\",\"\",Data!A165)","v":""},{"$f":"IF(Data!D165=\"\",\"\",Data!D165)","v":""},{"$f":"IF(Data!B165=\"\",\"\",Data!B165)","v":""},{"$error":"#VALUE!"},{"$error":"#VALUE!"},{"$error":"#VALUE!"}]
[{"$f":"IF(Data!E166=\"\",\"\",Data!E166)","v":""},{"$f":"IF(Data!C166=\"\",\"\",Data!C166)","v":""},{"$f":"IF(Data!A166=\"\",\"\",Data!A166)","v":""},{"$f":"IF(Data!D166=\"\",\"\",Data!D166)","v":""},{"$f":"IF(Data!B166=\"\",\"\",Data!B166)","v":""},{"$error":"#VALUE!"},{"$error":"#VALUE!"},{"$error":"#VALUE!"}]
[{"$f":"IF(Data!E167=\"\",\"\",Data!E167)","v":""},{"$f":"IF(Data!C167=\"\",\"\",Data!C167)","v":""},{"$f":"IF(Data!A167=\"\",\"\",Data!A167)","v":""},{"$f":"IF(Data!D167=\"\",\"\",Data!D167)","v":""},{"$f":"IF(Data!B167=\"\",\"\",Data!B167)","v":""},{"$error":"#VALUE!"},{"$error":"#VALUE!"},{"$error":"#VALUE!"}]
[{"$f":"IF(Data!E168=\"\",\"\",Data!E168)","v":""},{"$f":"IF(Data!C168=\"\",\"\",Data!C168)","v":""},{"$f":"IF(Data!A168=\"\",\"\",Data!A168)","v":""},{"$f":"IF(Data!D168=\"\",\"\",Data!D168)","v":""},{"$f":"IF(Data!B168=\"\",\"\",Data!B168)","v":""},{"$error":"#VALUE!"},{"$error":"#VALUE!"},{"$error":"#VALUE!"}]
[{"$f":"IF(Data!E169=\"\",\"\",Data!E169)","v":""},{"$f":"IF(Data!C169=\"\",\"\",Data!C169)","v":""},{"$f":"IF(Data!A169=\"\",\"\",Data!A169)","v":""},{"$f":"IF(Data!D169=\"\",\"\",Data!D169)","v":""},{"$f":"IF(Data!B169=\"\",\"\",Data!B169)","v":""},{"$error":"#VALUE!"},{"$error":"#VALUE!"},{"$error":"#VALUE!"}]
[{"$f":"IF(Data!E170=\"\",\"\",Data!E170)","v":""},{"$f":"IF(Data!C170=\"\",\"\",Data!C170)","v":""},{"$f":"IF(Data!A170=\"\",\"\",Data!A170)","v":""},{"$f":"IF(Data!D170=\"\",\"\",Data!D170)","v":""},{"$f":"IF(Data!B170=\"\",\"\",Data!B170)","v":""},{"$error":"#VALUE!"},{"$error":"#VALUE!"},{"$error":"#VALUE!"}]
[{"$f":"IF(Data!E171=\"\",\"\",Data!E171)","v":""},{"$f":"IF(Data!C171=\"\",\"\",Data!C171)","v":""},{"$f":"IF(Data!A171=\"\",\"\",Data!A171)","v":""},{"$f":"IF(Data!D171=\"\",\"\",Data!D171)","v":""},{"$f":"IF(Data!B171=\"\",\"\",Data!B171)","v":""},{"$error":"#VALUE!"},{"$error":"#VALUE!"},{"$error":"#VALUE!"}]
[{"$f":"IF(Data!E172=\"\",\"\",Data!E172)","v":""},{"$f":"IF(Data!C172=\"\",\"\",Data!C172)","v":""},{"$f":"IF(Data!A172=\"\",\"\",Data!A172)","v":""},{"$f":"IF(Data!D172=\"\",\"\",Data!D172)","v":""},{"$f":"IF(Data!B172=\"\",\"\",Data!B172)","v":""},{"$error":"#VALUE!"},{"$error":"#VALUE!"},{"$error":"#VALUE!"}]
[{"$f":"IF(Data!E173=\"\",\"\",Data!E173)","v":""},{"$f":"IF(Data!C173=\"\",\"\",Data!C173)","v":""},{"$f":"IF(Data!A173=\"\",\"\",Data!A173)","v":""},{"$f":"IF(Data!D173=\"\",\"\",Data!D173)","v":""},{"$f":"IF(Data!B173=\"\",\"\",Data!B173)","v":""},{"$error":"#VALUE!"},{"$error":"#VALUE!"},{"$error":"#VALUE!"}]
[{"$f":"IF(Data!E174=\"\",\"\",Data!E174)","v":""},{"$f":"IF(Data!C174=\"\",\"\",Data!C174)","v":""},{"$f":"IF(Data!A174=\"\",\"\",Data!A174)","v":""},{"$f":"IF(Data!D174=\"\",\"\",Data!D174)","v":""},{"$f":"IF(Data!B174=\"\",\"\",Data!B174)","v":""},{"$error":"#VALUE!"},{"$error":"#VALUE!"},{"$error":"#VALUE!"}]
[{"$f":"IF(Data!E175=\"\",\"\",Data!E175)","v":""},{"$f":"IF(Data!C175=\"\",\"\",Data!C175)","v":""},{"$f":"IF(Data!A175=\"\",\"\",Data!A175)","v":""},{"$f":"IF(Data!D175=\"\",\"\",Data!D175)","v":""},{"$f":"IF(Data!B175=\"\",\"\",Data!B175)","v":""},{"$error":"#VALUE!"},{"$error":"#VALUE!"},{"$error":"#VALUE!"}]
[{"$f":"IF(Data!E176=\"\",\"\",Data!E176)","v":""},{"$f":"IF(Data!C176=\"\",\"\",Data!C176)","v":""},{"$f":"IF(Data!A176=\"\",\"\",Data!A176)","v":""},{"$f":"IF(Data!D176=\"\",\"\",Data!D176)","v":""},{"$f":"IF(Data!B176=\"\",\"\",Data!B176)","v":""},{"$error":"#VALUE!"},{"$error":"#VALUE!"},{"$error":"#VALUE!"}]
[{"$f":"IF(Data!E177=\"\",\"\",Data!E177)","v":""},{"$f":"IF(Data!C177=\"\",\"\",Data!C177)","v":""},{"$f":"IF(Data!A177=\"\",\"\",Data!A177)","v":""},{"$f":"IF(Data!D177=\"\",\"\",Data!D177)","v":""},{"$f":"IF(Data!B177=\"\",\"\",Data!B177)","v":""},{"$error":"#VALUE!"},{"$error":"#VALUE!"},{"$error":"#VALUE!"}]
[{"$f":"IF(Data!E178=\"\",\"\",Data!E178)","v":""},{"$f":"IF(Data!C178=\"\",\"\",Data!C178)","v":""},{"$f":"IF(Data!A178=\"\",\"\",Data!A178)","v":""},{"$f":"IF(Data!D178=\"\",\"\",Data!D178)","v":""},{"$f":"IF(Data!B178=\"\",\"\",Data!B178)","v":""},{"$error":"#VALUE!"},{"$error":"#VALUE!"},{"$error":"#VALUE!"}]
[{"$f":"IF(Data!E179=\"\",\"\",Data!E179)","v":""},{"$f":"IF(Data!C179=\"\",\"\",Data!C179)","v":""},{"$f":"IF(Data!A179=\"\",\"\",Data!A179)","v":""},{"$f":"IF(Data!D179=\"\",\"\",Data!D179)","v":""},{"$f":"IF(Data!B179=\"\",\"\",Data!B179)","v":""},{"$error":"#VALUE!"},{"$error":"#VALUE!"},{"$error":"#VALUE!"}]
[{"$f":"IF(Data!E180=\"\",\"\",Data!E180)","v":""},{"$f":"IF(Data!C180=\"\",\"\",Data!C180)","v":""},{"$f":"IF(Data!A180=\"\",\"\",Data!A180)","v":""},{"$f":"IF(Data!D180=\"\",\"\",Data!D180)","v":""},{"$f":"IF(Data!B180=\"\",\"\",Data!B180)","v":""},{"$error":"#VALUE!"},{"$error":"#VALUE!"},{"$error":"#VALUE!"}]
[{"$f":"IF(Data!E181=\"\",\"\",Data!E181)","v":""},{"$f":"IF(Data!C181=\"\",\"\",Data!C181)","v":""},{"$f":"IF(Data!A181=\"\",\"\",Data!A181)","v":""},{"$f":"IF(Data!D181=\"\",\"\",Data!D181)","v":""},{"$f":"IF(Data!B181=\"\",\"\",Data!B181)","v":""},{"$error":"#VALUE!"},{"$error":"#VALUE!"},{"$error":"#VALUE!"}]
[{"$f":"IF(Data!E182=\"\",\"\",Data!E182)","v":""},{"$f":"IF(Data!C182=\"\",\"\",Data!C182)","v":""},{"$f":"IF(Data!A182=\"\",\"\",Data!A182)","v":""},{"$f":"IF(Data!D182=\"\",\"\",Data!D182)","v":""},{"$f":"IF(Data!B182=\"\",\"\",Data!B182)","v":""},{"$error":"#VALUE!"},{"$error":"#VALUE!"},{"$error":"#VALUE!"}]
[{"$f":"IF(Data!E183=\"\",\"\",Data!E183)","v":""},{"$f":"IF(Data!C183=\"\",\"\",Data!C183)","v":""},{"$f":"IF(Data!A183=\"\",\"\",Data!A183)","v":""},{"$f":"IF(Data!D183=\"\",\"\",Data!D183)","v":""},{"$f":"IF(Data!B183=\"\",\"\",Data!B183)","v":""},{"$error":"#VALUE!"},{"$error":"#VALUE!"},{"$error":"#VALUE!"}]
[{"$f":"IF(Data!E184=\"\",\"\",Data!E184)","v":""},{"$f":"IF(Data!C184=\"\",\"\",Data!C184)","v":""},{"$f":"IF(Data!A184=\"\",\"\",Data!A184)","v":""},{"$f":"IF(Data!D184=\"\",\"\",Data!D184)","v":""},{"$f":"IF(Data!B184=\"\",\"\",Data!B184)","v":""},{"$error":"#VALUE!"},{"$error":"#VALUE!"},{"$error":"#VALUE!"}]
[{"$f":"IF(Data!E185=\"\",\"\",Data!E185)","v":""},{"$f":"IF(Data!C185=\"\",\"\",Data!C185)","v":""},{"$f":"IF(Data!A185=\"\",\"\",Data!A185)","v":""},{"$f":"IF(Data!D185=\"\",\"\",Data!D185)","v":""},{"$f":"IF(Data!B185=\"\",\"\",Data!B185)","v":""},{"$error":"#VALUE!"},{"$error":"#VALUE!"},{"$error":"#VALUE!"}]
[{"$f":"IF(Data!E186=\"\",\"\",Data!E186)","v":""},{"$f":"IF(Data!C186=\"\",\"\",Data!C186)","v":""},{"$f":"IF(Data!A186=\"\",\"\",Data!A186)","v":""},{"$f":"IF(Data!D186=\"\",\"\",Data!D186)","v":""},{"$f":"IF(Data!B186=\"\",\"\",Data!B186)","v":""},{"$error":"#VALUE!"},{"$error":"#VALUE!"},{"$error":"#VALUE!"}]
[{"$f":"IF(Data!E187=\"\",\"\",Data!E187)","v":""},{"$f":"IF(Data!C187=\"\",\"\",Data!C187)","v":""},{"$f":"IF(Data!A187=\"\",\"\",Data!A187)","v":""},{"$f":"IF(Data!D187=\"\",\"\",Data!D187)","v":""},{"$f":"IF(Data!B187=\"\",\"\",Data!B187)","v":""},{"$error":"#VALUE!"},{"$error":"#VALUE!"},{"$error":"#VALUE!"}]
[{"$f":"IF(Data!E188=\"\",\"\",Data!E188)","v":""},{"$f":"IF(Data!C188=\"\",\"\",Data!C188)","v":""},{"$f":"IF(Data!A188=\"\",\"\",Data!A188)","v":""},{"$f":"IF(Data!D188=\"\",\"\",Data!D188)","v":""},{"$f":"IF(Data!B188=\"\",\"\",Data!B188)","v":""},{"$error":"#VALUE!"},{"$error":"#VALUE!"},{"$error":"#VALUE!"}]
[{"$f":"IF(Data!E189=\"\",\"\",Data!E189)","v":""},{"$f":"IF(Data!C189=\"\",\"\",Data!C189)","v":""},{"$f":"IF(Data!A189=\"\",\"\",Data!A189)","v":""},{"$f":"IF(Data!D189=\"\",\"\",Data!D189)","v":""},{"$f":"IF(Data!B189=\"\",\"\",Data!B189)","v":""},{"$error":"#VALUE!"},{"$error":"#VALUE!"},{"$error":"#VALUE!"}]
[{"$f":"IF(Data!E190=\"\",\"\",Data!E190)","v":""},{"$f":"IF(Data!C190=\"\",\"\",Data!C190)","v":""},{"$f":"IF(Data!A190=\"\",\"\",Data!A190)","v":""},{"$f":"IF(Data!D190=\"\",\"\",Data!D190)","v":""},{"$f":"IF(Data!B190=\"\",\"\",Data!B190)","v":""},{"$error":"#VALUE!"},{"$error":"#VALUE!"},{"$error":"#VALUE!"}]
[{"$f":"IF(Data!E191=\"\",\"\",Data!E191)","v":""},{"$f":"IF(Data!C191=\"\",\"\",Data!C191)","v":""},{"$f":"IF(Data!A191=\"\",\"\",Data!A191)","v":""},{"$f":"IF(Data!D191=\"\",\"\",Data!D191)","v":""},{"$f":"IF(Data!B191=\"\",\"\",Data!B191)","v":""},{"$error":"#VALUE!"},{"$error":"#VALUE!"},{"$error":"#VALUE!"}]
[{"$f":"IF(Data!E192=\"\",\"\",Data!E192)","v":""},{"$f":"IF(Data!C192=\"\",\"\",Data!C192)","v":""},{"$f":"IF(Data!A192=\"\",\"\",Data!A192)","v":""},{"$f":"IF(Data!D192=\"\",\"\",Data!D192)","v":""},{"$f":"IF(Data!B192=\"\",\"\",Data!B192)","v":""},{"$error":"#VALUE!"},{"$error":"#VALUE!"},{"$error":"#VALUE!"}]
[{"$f":"IF(Data!E193=\"\",\"\",Data!E193)","v":""},{"$f":"IF(Data!C193=\"\",\"\",Data!C193)","v":""},{"$f":"IF(Data!A193=\"\",\"\",Data!A193)","v":""},{"$f":"IF(Data!D193=\"\",\"\",Data!D193)","v":""},{"$f":"IF(Data!B193=\"\",\"\",Data!B193)","v":""},{"$error":"#VALUE!"},{"$error":"#VALUE!"},{"$error":"#VALUE!"}]
[{"$f":"IF(Data!E194=\"\",\"\",Data!E194)","v":""},{"$f":"IF(Data!C194=\"\",\"\",Data!C194)","v":""},{"$f":"IF(Data!A194=\"\",\"\",Data!A194)","v":""},{"$f":"IF(Data!D194=\"\",\"\",Data!D194)","v":""},{"$f":"IF(Data!B194=\"\",\"\",Data!B194)","v":""},{"$error":"#VALUE!"},{"$error":"#VALUE!"},{"$error":"#VALUE!"}]
[{"$f":"IF(Data!E195=\"\",\"\",Data!E195)","v":""},{"$f":"IF(Data!C195=\"\",\"\",Data!C195)","v":""},{"$f":"IF(Data!A195=\"\",\"\",Data!A195)","v":""},{"$f":"IF(Data!D195=\"\",\"\",Data!D195)","v":""},{"$f":"IF(Data!B195=\"\",\"\",Data!B195)","v":""},{"$error":"#VALUE!"},{"$error":"#VALUE!"},{"$error":"#VALUE!"}]
[{"$f":"IF(Data!E196=\"\",\"\",Data!E196)","v":""},{"$f":"IF(Data!C196=\"\",\"\",Data!C196)","v":""},{"$f":"IF(Data!A196=\"\",\"\",Data!A196)","v":""},{"$f":"IF(Data!D196=\"\",\"\",Data!D196)","v":""},{"$f":"IF(Data!B196=\"\",\"\",Data!B196)","v":""},{"$error":"#VALUE!"},{"$error":"#VALUE!"},{"$error":"#VALUE!"}]
[{"$f":"IF(Data!E197=\"\",\"\",Data!E197)","v":""},{"$f":"IF(Data!C197=\"\",\"\",Data!C197)","v":""},{"$f":"IF(Data!A197=\"\",\"\",Data!A197)","v":""},{"$f":"IF(Data!D197=\"\",\"\",Data!D197)","v":""},{"$f":"IF(Data!B197=\"\",\"\",Data!B197)","v":""},{"$error":"#VALUE!"},{"$error":"#VALUE!"},{"$error":"#VALUE!"}]
[{"$f":"IF(Data!E198=\"\",\"\",Data!E198)","v":""},{"$f":"IF(Data!C198=\"\",\"\",Data!C198)","v":""},{"$f":"IF(Data!A198=\"\",\"\",Data!A198)","v":""},{"$f":"IF(Data!D198=\"\",\"\",Data!D198)","v":""},{"$f":"IF(Data!B198=\"\",\"\",Data!B198)","v":""},{"$error":"#VALUE!"},{"$error":"#VALUE!"},{"$error":"#VALUE!"}]
[{"$f":"IF(Data!E199=\"\",\"\",Data!E199)","v":""},{"$f":"IF(Data!C199=\"\",\"\",Data!C199)","v":""},{"$f":"IF(Data!A199=\"\",\"\",Data!A199)","v":""},{"$f":"IF(Data!D199=\"\",\"\",Data!D199)","v":""},{"$f":"IF(Data!B199=\"\",\"\",Data!B199)","v":""},{"$error":"#VALUE!"},{"$error":"#VALUE!"},{"$error":"#VALUE!"}]
[{"$f":"IF(Data!E200=\"\",\"\",Data!E200)","v":""},{"$f":"IF(Data!C200=\"\",\"\",Data!C200)","v":""},{"$f":"IF(Data!A200=\"\",\"\",Data!A200)","v":""},{"$f":"IF(Data!D200=\"\",\"\",Data!D200)","v":""},{"$f":"IF(Data!B200=\"\",\"\",Data!B200)","v":""},{"$error":"#VALUE!"},{"$error":"#VALUE!"},{"$error":"#VALUE!"}]
[{"$f":"IF(Data!E201=\"\",\"\",Data!E201)","v":""},{"$f":"IF(Data!C201=\"\",\"\",Data!C201)","v":""},{"$f":"IF(Data!A201=\"\",\"\",Data!A201)","v":""},{"$f":"IF(Data!D201=\"\",\"\",Data!D201)","v":""},{"$f":"IF(Data!B201=\"\",\"\",Data!B201)","v":""},{"$error":"#VALUE!"},{"$error":"#VALUE!"},{"$error":"#VALUE!"}]
[{"$f":"IF(Data!E202=\"\",\"\",Data!E202)","v":""},{"$f":"IF(Data!C202=\"\",\"\",Data!C202)","v":""},{"$f":"IF(Data!A202=\"\",\"\",Data!A202)","v":""},{"$f":"IF(Data!D202=\"\",\"\",Data!D202)","v":""},{"$f":"IF(Data!B202=\"\",\"\",Data!B202)","v":""},{"$error":"#VALUE!"},{"$error":"#VALUE!"},{"$error":"#VALUE!"}]
[{"$f":"IF(Data!E203=\"\",\"\",Data!E203)","v":""},{"$f":"IF(Data!C203=\"\",\"\",Data!C203)","v":""},{"$f":"IF(Data!A203=\"\",\"\",Data!A203)","v":""},{"$f":"IF(Data!D203=\"\",\"\",Data!D203)","v":""},{"$f":"IF(Data!B203=\"\",\"\",Data!B203)","v":""},{"$error":"#VALUE!"},{"$error":"#VALUE!"},{"$error":"#VALUE!"}]
[{"$f":"IF(Data!E204=\"\",\"\",Data!E204)","v":""},{"$f":"IF(Data!C204=\"\",\"\",Data!C204)","v":""},{"$f":"IF(Data!A204=\"\",\"\",Data!A204)","v":""},{"$f":"IF(Data!D204=\"\",\"\",Data!D204)","v":""},{"$f":"IF(Data!B204=\"\",\"\",Data!B204)","v":""},{"$f":"IF(E3395>0,MONTH(E3395),\"\")","v":{"$error":"#VALUE!"}},{"$f":"IF(E3395>0,WEEKNUM(E3395),\"0\")","v":{"$error":"#VALUE!"}},{"$f":"IF(G3395>=($G$2-3),\"Ano\",\"Nie\")","v":{"$error":"#VALUE!"}}]
[{"$f":"IF(Data!E205=\"\",\"\",Data!E205)","v":""},{"$f":"IF(Data!C205=\"\",\"\",Data!C205)","v":""},{"$f":"IF(Data!A205=\"\",\"\",Data!A205)","v":""},{"$f":"IF(Data!D205=\"\",\"\",Data!D205)","v":""},{"$f":"IF(Data!B205=\"\",\"\",Data!B205)","v":""},{"$error":"#VALUE!"},{"$error":"#VALUE!"},{"$error":"#VALUE!"}]
[{"$f":"IF(Data!E206=\"\",\"\",Data!E206)","v":""},{"$f":"IF(Data!C206=\"\",\"\",Data!C206)","v":""},{"$f":"IF(Data!A206=\"\",\"\",Data!A206)","v":""},{"$f":"IF(Data!D206=\"\",\"\",Data!D206)","v":""},{"$f":"IF(Data!B206=\"\",\"\",Data!B206)","v":""},{"$error":"#VALUE!"},{"$error":"#VALUE!"},{"$error":"#VALUE!"}]
[{"$f":"IF(Data!E207=\"\",\"\",Data!E207)","v":""},{"$f":"IF(Data!C207=\"\",\"\",Data!C207)","v":""},{"$f":"IF(Data!A207=\"\",\"\",Data!A207)","v":""},{"$f":"IF(Data!D207=\"\",\"\",Data!D207)","v":""},{"$f":"IF(Data!B207=\"\",\"\",Data!B207)","v":""},{"$error":"#VALUE!"},{"$error":"#VALUE!"},{"$error":"#VALUE!"}]
[{"$f":"IF(Data!E208=\"\",\"\",Data!E208)","v":""},{"$f":"IF(Data!C208=\"\",\"\",Data!C208)","v":""},{"$f":"IF(Data!A208=\"\",\"\",Data!A208)","v":""},{"$f":"IF(Data!D208=\"\",\"\",Data!D208)","v":""},{"$f":"IF(Data!B208=\"\",\"\",Data!B208)","v":""},{"$error":"#VALUE!"},{"$error":"#VALUE!"},{"$error":"#VALUE!"}]
[{"$f":"IF(Data!E209=\"\",\"\",Data!E209)","v":""},{"$f":"IF(Data!C209=\"\",\"\",Data!C209)","v":""},{"$f":"IF(Data!A209=\"\",\"\",Data!A209)","v":""},{"$f":"IF(Data!D209=\"\",\"\",Data!D209)","v":""},{"$f":"IF(Data!B209=\"\",\"\",Data!B209)","v":""},{"$error":"#VALUE!"},{"$error":"#VALUE!"},{"$error":"#VALUE!"}]
[{"$f":"IF(Data!E210=\"\",\"\",Data!E210)","v":""},{"$f":"IF(Data!C210=\"\",\"\",Data!C210)","v":""},{"$f":"IF(Data!A210=\"\",\"\",Data!A210)","v":""},{"$f":"IF(Data!D210=\"\",\"\",Data!D210)","v":""},{"$f":"IF(Data!B210=\"\",\"\",Data!B210)","v":""},{"$error":"#VALUE!"},{"$error":"#VALUE!"},{"$error":"#VALUE!"}]
[{"$f":"IF(Data!E211=\"\",\"\",Data!E211)","v":""},{"$f":"IF(Data!C211=\"\",\"\",Data!C211)","v":""},{"$f":"IF(Data!A211=\"\",\"\",Data!A211)","v":""},{"$f":"IF(Data!D211=\"\",\"\",Data!D211)","v":""},{"$f":"IF(Data!B211=\"\",\"\",Data!B211)","v":""},{"$error":"#VALUE!"},{"$error":"#VALUE!"},{"$error":"#VALUE!"}]
[{"$f":"IF(Data!E212=\"\",\"\",Data!E212)","v":""},{"$f":"IF(Data!C212=\"\",\"\",Data!C212)","v":""},{"$f":"IF(Data!A212=\"\",\"\",Data!A212)","v":""},{"$f":"IF(Data!D212=\"\",\"\",Data!D212)","v":""},{"$f":"IF(Data!B212=\"\",\"\",Data!B212)","v":""},{"$error":"#VALUE!"},{"$error":"#VALUE!"},{"$error":"#VALUE!"}]
[{"$f":"IF(Data!E213=\"\",\"\",Data!E213)","v":""},{"$f":"IF(Data!C213=\"\",\"\",Data!C213)","v":""},{"$f":"IF(Data!A213=\"\",\"\",Data!A213)","v":""},{"$f":"IF(Data!D213=\"\",\"\",Data!D213)","v":""},{"$f":"IF(Data!B213=\"\",\"\",Data!B213)","v":""},{"$error":"#VALUE!"},{"$error":"#VALUE!"},{"$error":"#VALUE!"}]
[{"$f":"IF(Data!E214=\"\",\"\",Data!E214)","v":""},{"$f":"IF(Data!C214=\"\",\"\",Data!C214)","v":""},{"$f":"IF(Data!A214=\"\",\"\",Data!A214)","v":""},{"$f":"IF(Data!D214=\"\",\"\",Data!D214)","v":""},{"$f":"IF(Data!B214=\"\",\"\",Data!B214)","v":""},{"$error":"#VALUE!"},{"$error":"#VALUE!"},{"$error":"#VALUE!"}]
[{"$f":"IF(Data!E215=\"\",\"\",Data!E215)","v":""},{"$f":"IF(Data!C215=\"\",\"\",Data!C215)","v":""},{"$f":"IF(Data!A215=\"\",\"\",Data!A215)","v":""},{"$f":"IF(Data!D215=\"\",\"\",Data!D215)","v":""},{"$f":"IF(Data!B215=\"\",\"\",Data!B215)","v":""},{"$error":"#VALUE!"},{"$error":"#VALUE!"},{"$error":"#VALUE!"}]
[{"$f":"IF(Data!E216=\"\",\"\",Data!E216)","v":""},{"$f":"IF(Data!C216=\"\",\"\",Data!C216)","v":""},{"$f":"IF(Data!A216=\"\",\"\",Data!A216)","v":""},{"$f":"IF(Data!D216=\"\",\"\",Data!D216)","v":""},{"$f":"IF(Data!B216=\"\",\"\",Data!B216)","v":""},{"$error":"#VALUE!"},{"$error":"#VALUE!"},{"$error":"#VALUE!"}]
[{"$f":"IF(Data!E217=\"\",\"\",Data!E217)","v":""},{"$f":"IF(Data!C217=\"\",\"\",Data!C217)","v":""},{"$f":"IF(Data!A217=\"\",\"\",Data!A217)","v":""},{"$f":"IF(Data!D217=\"\",\"\",Data!D217)","v":""},{"$f":"IF(Data!B217=\"\",\"\",Data!B217)","v":""},{"$error":"#VALUE!"},{"$error":"#VALUE!"},{"$error":"#VALUE!"}]
[{"$f":"IF(Data!E218=\"\",\"\",Data!E218)","v":""},{"$f":"IF(Data!C218=\"\",\"\",Data!C218)","v":""},{"$f":"IF(Data!A218=\"\",\"\",Data!A218)","v":""},{"$f":"IF(Data!D218=\"\",\"\",Data!D218)","v":""},{"$f":"IF(Data!B218=\"\",\"\",Data!B218)","v":""},{"$error":"#VALUE!"},{"$error":"#VALUE!"},{"$error":"#VALUE!"}]
[{"$f":"IF(Data!E219=\"\",\"\",Data!E219)","v":""},{"$f":"IF(Data!C219=\"\",\"\",Data!C219)","v":""},{"$f":"IF(Data!A219=\"\",\"\",Data!A219)","v":""},{"$f":"IF(Data!D219=\"\",\"\",Data!D219)","v":""},{"$f":"IF(Data!B219=\"\",\"\",Data!B219)","v":""},{"$error":"#VALUE!"},{"$error":"#VALUE!"},{"$error":"#VALUE!"}]
[{"$f":"IF(Data!E220=\"\",\"\",Data!E220)","v":""},{"$f":"IF(Data!C220=\"\",\"\",Data!C220)","v":""},{"$f":"IF(Data!A220=\"\",\"\",Data!A220)","v":""},{"$f":"IF(Data!D220=\"\",\"\",Data!D220)","v":""},{"$f":"IF(Data!B220=\"\",\"\",Data!B220)","v":""},{"$error":"#VALUE!"},{"$error":"#VALUE!"},{"$error":"#VALUE!"}]
[{"$f":"IF(Data!E221=\"\",\"\",Data!E221)","v":""},{"$f":"IF(Data!C221=\"\",\"\",Data!C221)","v":""},{"$f":"IF(Data!A221=\"\",\"\",Data!A221)","v":""},{"$f":"IF(Data!D221=\"\",\"\",Data!D221)","v":""},{"$f":"IF(Data!B221=\"\",\"\",Data!B221)","v":""},{"$error":"#VALUE!"},{"$error":"#VALUE!"},{"$error":"#VALUE!"}]
[{"$f":"IF(Data!E222=\"\",\"\",Data!E222)","v":""},{"$f":"IF(Data!C222=\"\",\"\",Data!C222)","v":""},{"$f":"IF(Data!A222=\"\",\"\",Data!A222)","v":""},{"$f":"IF(Data!D222=\"\",\"\",Data!D222)","v":""},{"$f":"IF(Data!B222=\"\",\"\",Data!B222)","v":""},{"$error":"#VALUE!"},{"$error":"#VALUE!"},{"$error":"#VALUE!"}]
[{"$f":"IF(Data!E223=\"\",\"\",Data!E223)","v":""},{"$f":"IF(Data!C223=\"\",\"\",Data!C223)","v":""},{"$f":"IF(Data!A223=\"\",\"\",Data!A223)","v":""},{"$f":"IF(Data!D223=\"\",\"\",Data!D223)","v":""},{"$f":"IF(Data!B223=\"\",\"\",Data!B223)","v":""},{"$error":"#VALUE!"},{"$error":"#VALUE!"},{"$error":"#VALUE!"}]
[{"$f":"IF(Data!E224=\"\",\"\",Data!E224)","v":""},{"$f":"IF(Data!C224=\"\",\"\",Data!C224)","v":""},{"$f":"IF(Data!A224=\"\",\"\",Data!A224)","v":""},{"$f":"IF(Data!D224=\"\",\"\",Data!D224)","v":""},{"$f":"IF(Data!B224=\"\",\"\",Data!B224)","v":""},{"$error":"#VALUE!"},{"$error":"#VALUE!"},{"$error":"#VALUE!"}]
[{"$f":"IF(Data!E225=\"\",\"\",Data!E225)","v":""},{"$f":"IF(Data!C225=\"\",\"\",Data!C225)","v":""},{"$f":"IF(Data!A225=\"\",\"\",Data!A225)","v":""},{"$f":"IF(Data!D225=\"\",\"\",Data!D225)","v":""},{"$f":"IF(Data!B225=\"\",\"\",Data!B225)","v":""},{"$error":"#VALUE!"},{"$error":"#VALUE!"},{"$error":"#VALUE!"}]
[{"$f":"IF(Data!E226=\"\",\"\",Data!E226)","v":""},{"$f":"IF(Data!C226=\"\",\"\",Data!C226)","v":""},{"$f":"IF(Data!A226=\"\",\"\",Data!A226)","v":""},{"$f":"IF(Data!D226=\"\",\"\",Data!D226)","v":""},{"$f":"IF(Data!B226=\"\",\"\",Data!B226)","v":""},{"$error":"#VALUE!"},{"$error":"#VALUE!"},{"$error":"#VALUE!"}]
[{"$f":"IF(Data!E227=\"\",\"\",Data!E227)","v":""},{"$f":"IF(Data!C227=\"\",\"\",Data!C227)","v":""},{"$f":"IF(Data!A227=\"\",\"\",Data!A227)","v":""},{"$f":"IF(Data!D227=\"\",\"\",Data!D227)","v":""},{"$f":"IF(Data!B227=\"\",\"\",Data!B227)","v":""},{"$error":"#VALUE!"},{"$error":"#VALUE!"},{"$error":"#VALUE!"}]
[{"$f":"IF(Data!E228=\"\",\"\",Data!E228)","v":""},{"$f":"IF(Data!C228=\"\",\"\",Data!C228)","v":""},{"$f":"IF(Data!A228=\"\",\"\",Data!A228)","v":""},{"$f":"IF(Data!D228=\"\",\"\",Data!D228)","v":""},{"$f":"IF(Data!B228=\"\",\"\",Data!B228)","v":""},{"$error":"#VALUE!"},{"$error":"#VALUE!"},{"$error":"#VALUE!"}]
[{"$f":"IF(Data!E229=\"\",\"\",Data!E229)","v":""},{"$f":"IF(Data!C229=\"\",\"\",Data!C229)","v":""},{"$f":"IF(Data!A229=\"\",\"\",Data!A229)","v":""},{"$f":"IF(Data!D229=\"\",\"\",Data!D229)","v":""},{"$f":"IF(Data!B229=\"\",\"\",Data!B229)","v":""},{"$error":"#VALUE!"},{"$error":"#VALUE!"},{"$error":"#VALUE!"}]
[{"$f":"IF(Data!E230=\"\",\"\",Data!E230)","v":""},{"$f":"IF(Data!C230=\"\",\"\",Data!C230)","v":""},{"$f":"IF(Data!A230=\"\",\"\",Data!A230)","v":""},{"$f":"IF(Data!D230=\"\",\"\",Data!D230)","v":""},{"$f":"IF(Data!B230=\"\",\"\",Data!B230)","v":""},{"$error":"#VALUE!"},{"$error":"#VALUE!"},{"$error":"#VALUE!"}]
[{"$f":"IF(Data!E231=\"\",\"\",Data!E231)","v":""},{"$f":"IF(Data!C231=\"\",\"\",Data!C231)","v":""},{"$f":"IF(Data!A231=\"\",\"\",Data!A231)","v":""},{"$f":"IF(Data!D231=\"\",\"\",Data!D231)","v":""},{"$f":"IF(Data!B231=\"\",\"\",Data!B231)","v":""},{"$error":"#VALUE!"},{"$error":"#VALUE!"},{"$error":"#VALUE!"}]
[{"$f":"IF(Data!E232=\"\",\"\",Data!E232)","v":""},{"$f":"IF(Data!C232=\"\",\"\",Data!C232)","v":""},{"$f":"IF(Data!A232=\"\",\"\",Data!A232)","v":""},{"$f":"IF(Data!D232=\"\",\"\",Data!D232)","v":""},{"$f":"IF(Data!B232=\"\",\"\",Data!B232)","v":""},{"$error":"#VALUE!"},{"$error":"#VALUE!"},{"$error":"#VALUE!"}]
[{"$f":"IF(Data!E233=\"\",\"\",Data!E233)","v":""},{"$f":"IF(Data!C233=\"\",\"\",Data!C233)","v":""},{"$f":"IF(Data!A233=\"\",\"\",Data!A233)","v":""},{"$f":"IF(Data!D233=\"\",\"\",Data!D233)","v":""},{"$f":"IF(Data!B233=\"\",\"\",Data!B233)","v":""},{"$error":"#VALUE!"},{"$error":"#VALUE!"},{"$error":"#VALUE!"}]
[{"$f":"IF(Data!E234=\"\",\"\",Data!E234)","v":""},{"$f":"IF(Data!C234=\"\",\"\",Data!C234)","v":""},{"$f":"IF(Data!A234=\"\",\"\",Data!A234)","v":""},{"$f":"IF(Data!D234=\"\",\"\",Data!D234)","v":""},{"$f":"IF(Data!B234=\"\",\"\",Data!B234)","v":""},{"$error":"#VALUE!"},{"$error":"#VALUE!"},{"$error":"#VALUE!"}]
[{"$f":"IF(Data!E235=\"\",\"\",Data!E235)","v":""},{"$f":"IF(Data!C235=\"\",\"\",Data!C235)","v":""},{"$f":"IF(Data!A235=\"\",\"\",Data!A235)","v":""},{"$f":"IF(Data!D235=\"\",\"\",Data!D235)","v":""},{"$f":"IF(Data!B235=\"\",\"\",Data!B235)","v":""},{"$error":"#VALUE!"},{"$error":"#VALUE!"},{"$error":"#VALUE!"}]
[{"$f":"IF(Data!E236=\"\",\"\",Data!E236)","v":""},{"$f":"IF(Data!C236=\"\",\"\",Data!C236)","v":""},{"$f":"IF(Data!A236=\"\",\"\",Data!A236)","v":""},{"$f":"IF(Data!D236=\"\",\"\",Data!D236)","v":""},{"$f":"IF(Data!B236=\"\",\"\",Data!B236)","v":""},{"$error":"#VALUE!"},{"$error":"#VALUE!"},{"$error":"#VALUE!"}]
[{"$f":"IF(Data!E237=\"\",\"\",Data!E237)","v":""},{"$f":"IF(Data!C237=\"\",\"\",Data!C237)","v":""},{"$f":"IF(Data!A237=\"\",\"\",Data!A237)","v":""},{"$f":"IF(Data!D237=\"\",\"\",Data!D237)","v":""},{"$f":"IF(Data!B237=\"\",\"\",Data!B237)","v":""},{"$error":"#VALUE!"},{"$error":"#VALUE!"},{"$error":"#VALUE!"}]
[{"$f":"IF(Data!E238=\"\",\"\",Data!E238)","v":""},{"$f":"IF(Data!C238=\"\",\"\",Data!C238)","v":""},{"$f":"IF(Data!A238=\"\",\"\",Data!A238)","v":""},{"$f":"IF(Data!D238=\"\",\"\",Data!D238)","v":""},{"$f":"IF(Data!B238=\"\",\"\",Data!B238)","v":""},{"$error":"#VALUE!"},{"$error":"#VALUE!"},{"$error":"#VALUE!"}]
[{"$f":"IF(Data!E239=\"\",\"\",Data!E239)","v":""},{"$f":"IF(Data!C239=\"\",\"\",Data!C239)","v":""},{"$f":"IF(Data!A239=\"\",\"\",Data!A239)","v":""},{"$f":"IF(Data!D239=\"\",\"\",Data!D239)","v":""},{"$f":"IF(Data!B239=\"\",\"\",Data!B239)","v":""},{"$error":"#VALUE!"},{"$error":"#VALUE!"},{"$error":"#VALUE!"}]
[{"$f":"IF(Data!E240=\"\",\"\",Data!E240)","v":""},{"$f":"IF(Data!C240=\"\",\"\",Data!C240)","v":""},{"$f":"IF(Data!A240=\"\",\"\",Data!A240)","v":""},{"$f":"IF(Data!D240=\"\",\"\",Data!D240)","v":""},{"$f":"IF(Data!B240=\"\",\"\",Data!B240)","v":""},{"$error":"#VALUE!"},{"$error":"#VALUE!"},{"$error":"#VALUE!"}]
[{"$f":"IF(Data!E241=\"\",\"\",Data!E241)","v":""},{"$f":"IF(Data!C241=\"\",\"\",Data!C241)","v":""},{"$f":"IF(Data!A241=\"\",\"\",Data!A241)","v":""},{"$f":"IF(Data!D241=\"\",\"\",Data!D241)","v":""},{"$f":"IF(Data!B241=\"\",\"\",Data!B241)","v":""},{"$error":"#VALUE!"},{"$error":"#VALUE!"},{"$error":"#VALUE!"}]
[{"$f":"IF(Data!E242=\"\",\"\",Data!E242)","v":""},{"$f":"IF(Data!C242=\"\",\"\",Data!C242)","v":""},{"$f":"IF(Data!A242=\"\",\"\",Data!A242)","v":""},{"$f":"IF(Data!D242=\"\",\"\",Data!D242)","v":""},{"$f":"IF(Data!B242=\"\",\"\",Data!B242)","v":""},{"$error":"#VALUE!"},{"$error":"#VALUE!"},{"$error":"#VALUE!"}]
[{"$f":"IF(Data!E243=\"\",\"\",Data!E243)","v":""},{"$f":"IF(Data!C243=\"\",\"\",Data!C243)","v":""},{"$f":"IF(Data!A243=\"\",\"\",Data!A243)","v":""},{"$f":"IF(Data!D243=\"\",\"\",Data!D243)","v":""},{"$f":"IF(Data!B243=\"\",\"\",Data!B243)","v":""},{"$error":"#VALUE!"},{"$error":"#VALUE!"},{"$error":"#VALUE!"}]
[{"$f":"IF(Data!E244=\"\",\"\",Data!E244)","v":""},{"$f":"IF(Data!C244=\"\",\"\",Data!C244)","v":""},{"$f":"IF(Data!A244=\"\",\"\",Data!A244)","v":""},{"$f":"IF(Data!D244=\"\",\"\",Data!D244)","v":""},{"$f":"IF(Data!B244=\"\",\"\",Data!B244)","v":""},{"$error":"#VALUE!"},{"$error":"#VALUE!"},{"$error":"#VALUE!"}]
[{"$f":"IF(Data!E245=\"\",\"\",Data!E245)","v":""},{"$f":"IF(Data!C245=\"\",\"\",Data!C245)","v":""},{"$f":"IF(Data!A245=\"\",\"\",Data!A245)","v":""},{"$f":"IF(Data!D245=\"\",\"\",Data!D245)","v":""},{"$f":"IF(Data!B245=\"\",\"\",Data!B245)","v":""},{"$error":"#VALUE!"},{"$error":"#VALUE!"},{"$error":"#VALUE!"}]
[{"$f":"IF(Data!E246=\"\",\"\",Data!E246)","v":""},{"$f":"IF(Data!C246=\"\",\"\",Data!C246)","v":""},{"$f":"IF(Data!A246=\"\",\"\",Data!A246)","v":""},{"$f":"IF(Data!D246=\"\",\"\",Data!D246)","v":""},{"$f":"IF(Data!B246=\"\",\"\",Data!B246)","v":""},{"$error":"#VALUE!"},{"$error":"#VALUE!"},{"$error":"#VALUE!"}]
[{"$f":"IF(Data!E247=\"\",\"\",Data!E247)","v":""},{"$f":"IF(Data!C247=\"\",\"\",Data!C247)","v":""},{"$f":"IF(Data!A247=\"\",\"\",Data!A247)","v":""},{"$f":"IF(Data!D247=\"\",\"\",Data!D247)","v":""},{"$f":"IF(Data!B247=\"\",\"\",Data!B247)","v":""},{"$error":"#VALUE!"},{"$error":"#VALUE!"},{"$error":"#VALUE!"}]
[{"$f":"IF(Data!E248=\"\",\"\",Data!E248)","v":""},{"$f":"IF(Data!C248=\"\",\"\",Data!C248)","v":""},{"$f":"IF(Data!A248=\"\",\"\",Data!A248)","v":""},{"$f":"IF(Data!D248=\"\",\"\",Data!D248)","v":""},{"$f":"IF(Data!B248=\"\",\"\",Data!B248)","v":""},{"$error":"#VALUE!"},{"$error":"#VALUE!"},{"$error":"#VALUE!"}]
[{"$f":"IF(Data!E249=\"\",\"\",Data!E249)","v":""},{"$f":"IF(Data!C249=\"\",\"\",Data!C249)","v":""},{"$f":"IF(Data!A249=\"\",\"\",Data!A249)","v":""},{"$f":"IF(Data!D249=\"\",\"\",Data!D249)","v":""},{"$f":"IF(Data!B249=\"\",\"\",Data!B249)","v":""},{"$error":"#VALUE!"},{"$error":"#VALUE!"},{"$error":"#VALUE!"}]
[{"$f":"IF(Data!E250=\"\",\"\",Data!E250)","v":""},{"$f":"IF(Data!C250=\"\",\"\",Data!C250)","v":""},{"$f":"IF(Data!A250=\"\",\"\",Data!A250)","v":""},{"$f":"IF(Data!D250=\"\",\"\",Data!D250)","v":""},{"$f":"IF(Data!B250=\"\",\"\",Data!B250)","v":""},{"$error":"#VALUE!"},{"$error":"#VALUE!"},{"$error":"#VALUE!"}]
[{"$f":"IF(Data!E251=\"\",\"\",Data!E251)","v":""},{"$f":"IF(Data!C251=\"\",\"\",Data!C251)","v":""},{"$f":"IF(Data!A251=\"\",\"\",Data!A251)","v":""},{"$f":"IF(Data!D251=\"\",\"\",Data!D251)","v":""},{"$f":"IF(Data!B251=\"\",\"\",Data!B251)","v":""},{"$error":"#VALUE!"},{"$error":"#VALUE!"},{"$error":"#VALUE!"}]
[{"$f":"IF(Data!E252=\"\",\"\",Data!E252)","v":""},{"$f":"IF(Data!C252=\"\",\"\",Data!C252)","v":""},{"$f":"IF(Data!A252=\"\",\"\",Data!A252)","v":""},{"$f":"IF(Data!D252=\"\",\"\",Data!D252)","v":""},{"$f":"IF(Data!B252=\"\",\"\",Data!B252)","v":""},{"$error":"#VALUE!"},{"$error":"#VALUE!"},{"$error":"#VALUE!"}]
[{"$f":"IF(Data!E253=\"\",\"\",Data!E253)","v":""},{"$f":"IF(Data!C253=\"\",\"\",Data!C253)","v":""},{"$f":"IF(Data!A253=\"\",\"\",Data!A253)","v":""},{"$f":"IF(Data!D253=\"\",\"\",Data!D253)","v":""},{"$f":"IF(Data!B253=\"\",\"\",Data!B253)","v":""},{"$error":"#VALUE!"},{"$error":"#VALUE!"},{"$error":"#VALUE!"}]
[{"$f":"IF(Data!E254=\"\",\"\",Data!E254)","v":""},{"$f":"IF(Data!C254=\"\",\"\",Data!C254)","v":""},{"$f":"IF(Data!A254=\"\",\"\",Data!A254)","v":""},{"$f":"IF(Data!D254=\"\",\"\",Data!D254)","v":""},{"$f":"IF(Data!B254=\"\",\"\",Data!B254)","v":""},{"$error":"#VALUE!"},{"$error":"#VALUE!"},{"$error":"#VALUE!"}]
[{"$f":"IF(Data!E255=\"\",\"\",Data!E255)","v":""},{"$f":"IF(Data!C255=\"\",\"\",Data!C255)","v":""},{"$f":"IF(Data!A255=\"\",\"\",Data!A255)","v":""},{"$f":"IF(Data!D255=\"\",\"\",Data!D255)","v":""},{"$f":"IF(Data!B255=\"\",\"\",Data!B255)","v":""},{"$error":"#VALUE!"},{"$error":"#VALUE!"},{"$error":"#VALUE!"}]
[{"$f":"IF(Data!E256=\"\",\"\",Data!E256)","v":""},{"$f":"IF(Data!C256=\"\",\"\",Data!C256)","v":""},{"$f":"IF(Data!A256=\"\",\"\",Data!A256)","v":""},{"$f":"IF(Data!D256=\"\",\"\",Data!D256)","v":""},{"$f":"IF(Data!B256=\"\",\"\",Data!B256)","v":""},{"$error":"#VALUE!"},{"$error":"#VALUE!"},{"$error":"#VALUE!"}]
[{"$f":"IF(Data!E257=\"\",\"\",Data!E257)","v":""},{"$f":"IF(Data!C257=\"\",\"\",Data!C257)","v":""},{"$f":"IF(Data!A257=\"\",\"\",Data!A257)","v":""},{"$f":"IF(Data!D257=\"\",\"\",Data!D257)","v":""},{"$f":"IF(Data!B257=\"\",\"\",Data!B257)","v":""},{"$error":"#VALUE!"},{"$error":"#VALUE!"},{"$error":"#VALUE!"}]
[{"$f":"IF(Data!E258=\"\",\"\",Data!E258)","v":""},{"$f":"IF(Data!C258=\"\",\"\",Data!C258)","v":""},{"$f":"IF(Data!A258=\"\",\"\",Data!A258)","v":""},{"$f":"IF(Data!D258=\"\",\"\",Data!D258)","v":""},{"$f":"IF(Data!B258=\"\",\"\",Data!B258)","v":""},{"$error":"#VALUE!"},{"$error":"#VALUE!"},{"$error":"#VALUE!"}]
[{"$f":"IF(Data!E259=\"\",\"\",Data!E259)","v":""},{"$f":"IF(Data!C259=\"\",\"\",Data!C259)","v":""},{"$f":"IF(Data!A259=\"\",\"\",Data!A259)","v":""},{"$f":"IF(Data!D259=\"\",\"\",Data!D259)","v":""},{"$f":"IF(Data!B259=\"\",\"\",Data!B259)","v":""},{"$error":"#VALUE!"},{"$error":"#VALUE!"},{"$error":"#VALUE!"}]
[{"$f":"IF(Data!E260=\"\",\"\",Data!E260)","v":""},{"$f":"IF(Data!C260=\"\",\"\",Data!C260)","v":""},{"$f":"IF(Data!A260=\"\",\"\",Data!A260)","v":""},{"$f":"IF(Data!D260=\"\",\"\",Data!D260)","v":""},{"$f":"IF(Data!B260=\"\",\"\",Data!B260)","v":""},{"$error":"#VALUE!"},{"$error":"#VALUE!"},{"$error":"#VALUE!"}]
[{"$f":"IF(Data!E261=\"\",\"\",Data!E261)","v":""},{"$f":"IF(Data!C261=\"\",\"\",Data!C261)","v":""},{"$f":"IF(Data!A261=\"\",\"\",Data!A261)","v":""},{"$f":"IF(Data!D261=\"\",\"\",Data!D261)","v":""},{"$f":"IF(Data!B261=\"\",\"\",Data!B261)","v":""},{"$error":"#VALUE!"},{"$error":"#VALUE!"},{"$error":"#VALUE!"}]
[{"$f":"IF(Data!E262=\"\",\"\",Data!E262)","v":""},{"$f":"IF(Data!C262=\"\",\"\",Data!C262)","v":""},{"$f":"IF(Data!A262=\"\",\"\",Data!A262)","v":""},{"$f":"IF(Data!D262=\"\",\"\",Data!D262)","v":""},{"$f":"IF(Data!B262=\"\",\"\",Data!B262)","v":""},{"$error":"#VALUE!"},{"$error":"#VALUE!"},{"$error":"#VALUE!"}]
[{"$f":"IF(Data!E263=\"\",\"\",Data!E263)","v":""},{"$f":"IF(Data!C263=\"\",\"\",Data!C263)","v":""},{"$f":"IF(Data!A263=\"\",\"\",Data!A263)","v":""},{"$f":"IF(Data!D263=\"\",\"\",Data!D263)","v":""},{"$f":"IF(Data!B263=\"\",\"\",Data!B263)","v":""},{"$error":"#VALUE!"},{"$error":"#VALUE!"},{"$error":"#VALUE!"}]
[{"$f":"IF(Data!E264=\"\",\"\",Data!E264)","v":""},{"$f":"IF(Data!C264=\"\",\"\",Data!C264)","v":""},{"$f":"IF(Data!A264=\"\",\"\",Data!A264)","v":""},{"$f":"IF(Data!D264=\"\",\"\",Data!D264)","v":""},{"$f":"IF(Data!B264=\"\",\"\",Data!B264)","v":""},{"$error":"#VALUE!"},{"$error":"#VALUE!"},{"$error":"#VALUE!"}]
[{"$f":"IF(Data!E265=\"\",\"\",Data!E265)","v":""},{"$f":"IF(Data!C265=\"\",\"\",Data!C265)","v":""},{"$f":"IF(Data!A265=\"\",\"\",Data!A265)","v":""},{"$f":"IF(Data!D265=\"\",\"\",Data!D265)","v":""},{"$f":"IF(Data!B265=\"\",\"\",Data!B265)","v":""},{"$error":"#VALUE!"},{"$error":"#VALUE!"},{"$error":"#VALUE!"}]
[{"$f":"IF(Data!E266=\"\",\"\",Data!E266)","v":""},{"$f":"IF(Data!C266=\"\",\"\",Data!C266)","v":""},{"$f":"IF(Data!A266=\"\",\"\",Data!A266)","v":""},{"$f":"IF(Data!D266=\"\",\"\",Data!D266)","v":""},{"$f":"IF(Data!B266=\"\",\"\",Data!B266)","v":""},{"$error":"#VALUE!"},{"$error":"#VALUE!"},{"$error":"#VALUE!"}]
[{"$f":"IF(Data!E267=\"\",\"\",Data!E267)","v":""},{"$f":"IF(Data!C267=\"\",\"\",Data!C267)","v":""},{"$f":"IF(Data!A267=\"\",\"\",Data!A267)","v":""},{"$f":"IF(Data!D267=\"\",\"\",Data!D267)","v":""},{"$f":"IF(Data!B267=\"\",\"\",Data!B267)","v":""},{"$error":"#VALUE!"},{"$error":"#VALUE!"},{"$error":"#VALUE!"}]
[{"$f":"IF(Data!E268=\"\",\"\",Data!E268)","v":""},{"$f":"IF(Data!C268=\"\",\"\",Data!C268)","v":""},{"$f":"IF(Data!A268=\"\",\"\",Data!A268)","v":""},{"$f":"IF(Data!D268=\"\",\"\",Data!D268)","v":""},{"$f":"IF(Data!B268=\"\",\"\",Data!B268)","v":""},{"$f":"IF(E3459>0,MONTH(E3459),\"\")","v":{"$error":"#VALUE!"}},{"$f":"IF(E3459>0,WEEKNUM(E3459),\"0\")","v":{"$error":"#VALUE!"}},{"$f":"IF(G3459>=($G$2-3),\"Ano\",\"Nie\")","v":{"$error":"#VALUE!"}}]
[{"$f":"IF(Data!E269=\"\",\"\",Data!E269)","v":""},{"$f":"IF(Data!C269=\"\",\"\",Data!C269)","v":""},{"$f":"IF(Data!A269=\"\",\"\",Data!A269)","v":""},{"$f":"IF(Data!D269=\"\",\"\",Data!D269)","v":""},{"$f":"IF(Data!B269=\"\",\"\",Data!B269)","v":""},{"$error":"#VALUE!"},{"$error":"#VALUE!"},{"$error":"#VALUE!"}]
[{"$f":"IF(Data!E270=\"\",\"\",Data!E270)","v":""},{"$f":"IF(Data!C270=\"\",\"\",Data!C270)","v":""},{"$f":"IF(Data!A270=\"\",\"\",Data!A270)","v":""},{"$f":"IF(Data!D270=\"\",\"\",Data!D270)","v":""},{"$f":"IF(Data!B270=\"\",\"\",Data!B270)","v":""},{"$error":"#VALUE!"},{"$error":"#VALUE!"},{"$error":"#VALUE!"}]
[{"$f":"IF(Data!E271=\"\",\"\",Data!E271)","v":""},{"$f":"IF(Data!C271=\"\",\"\",Data!C271)","v":""},{"$f":"IF(Data!A271=\"\",\"\",Data!A271)","v":""},{"$f":"IF(Data!D271=\"\",\"\",Data!D271)","v":""},{"$f":"IF(Data!B271=\"\",\"\",Data!B271)","v":""},{"$error":"#VALUE!"},{"$error":"#VALUE!"},{"$error":"#VALUE!"}]
[{"$f":"IF(Data!E272=\"\",\"\",Data!E272)","v":""},{"$f":"IF(Data!C272=\"\",\"\",Data!C272)","v":""},{"$f":"IF(Data!A272=\"\",\"\",Data!A272)","v":""},{"$f":"IF(Data!D272=\"\",\"\",Data!D272)","v":""},{"$f":"IF(Data!B272=\"\",\"\",Data!B272)","v":""},{"$error":"#VALUE!"},{"$error":"#VALUE!"},{"$error":"#VALUE!"}]
[{"$f":"IF(Data!E273=\"\",\"\",Data!E273)","v":""},{"$f":"IF(Data!C273=\"\",\"\",Data!C273)","v":""},{"$f":"IF(Data!A273=\"\",\"\",Data!A273)","v":""},{"$f":"IF(Data!D273=\"\",\"\",Data!D273)","v":""},{"$f":"IF(Data!B273=\"\",\"\",Data!B273)","v":""},{"$error":"#VALUE!"},{"$error":"#VALUE!"},{"$error":"#VALUE!"}]
[{"$f":"IF(Data!E274=\"\",\"\",Data!E274)","v":""},{"$f":"IF(Data!C274=\"\",\"\",Data!C274)","v":""},{"$f":"IF(Data!A274=\"\",\"\",Data!A274)","v":""},{"$f":"IF(Data!D274=\"\",\"\",Data!D274)","v":""},{"$f":"IF(Data!B274=\"\",\"\",Data!B274)","v":""},{"$error":"#VALUE!"},{"$error":"#VALUE!"},{"$error":"#VALUE!"}]
[{"$f":"IF(Data!E275=\"\",\"\",Data!E275)","v":""},{"$f":"IF(Data!C275=\"\",\"\",Data!C275)","v":""},{"$f":"IF(Data!A275=\"\",\"\",Data!A275)","v":""},{"$f":"IF(Data!D275=\"\",\"\",Data!D275)","v":""},{"$f":"IF(Data!B275=\"\",\"\",Data!B275)","v":""},{"$error":"#VALUE!"},{"$error":"#VALUE!"},{"$error":"#VALUE!"}]
[{"$f":"IF(Data!E276=\"\",\"\",Data!E276)","v":""},{"$f":"IF(Data!C276=\"\",\"\",Data!C276)","v":""},{"$f":"IF(Data!A276=\"\",\"\",Data!A276)","v":""},{"$f":"IF(Data!D276=\"\",\"\",Data!D276)","v":""},{"$f":"IF(Data!B276=\"\",\"\",Data!B276)","v":""},{"$error":"#VALUE!"},{"$error":"#VALUE!"},{"$error":"#VALUE!"}]
[{"$f":"IF(Data!E277=\"\",\"\",Data!E277)","v":""},{"$f":"IF(Data!C277=\"\",\"\",Data!C277)","v":""},{"$f":"IF(Data!A277=\"\",\"\",Data!A277)","v":""},{"$f":"IF(Data!D277=\"\",\"\",Data!D277)","v":""},{"$f":"IF(Data!B277=\"\",\"\",Data!B277)","v":""},{"$error":"#VALUE!"},{"$error":"#VALUE!"},{"$error":"#VALUE!"}]
[{"$f":"IF(Data!E278=\"\",\"\",Data!E278)","v":""},{"$f":"IF(Data!C278=\"\",\"\",Data!C278)","v":""},{"$f":"IF(Data!A278=\"\",\"\",Data!A278)","v":""},{"$f":"IF(Data!D278=\"\",\"\",Data!D278)","v":""},{"$f":"IF(Data!B278=\"\",\"\",Data!B278)","v":""},{"$error":"#VALUE!"},{"$error":"#VALUE!"},{"$error":"#VALUE!"}]
[{"$f":"IF(Data!E279=\"\",\"\",Data!E279)","v":""},{"$f":"IF(Data!C279=\"\",\"\",Data!C279)","v":""},{"$f":"IF(Data!A279=\"\",\"\",Data!A279)","v":""},{"$f":"IF(Data!D279=\"\",\"\",Data!D279)","v":""},{"$f":"IF(Data!B279=\"\",\"\",Data!B279)","v":""},{"$error":"#VALUE!"},{"$error":"#VALUE!"},{"$error":"#VALUE!"}]
[{"$f":"IF(Data!E280=\"\",\"\",Data!E280)","v":""},{"$f":"IF(Data!C280=\"\",\"\",Data!C280)","v":""},{"$f":"IF(Data!A280=\"\",\"\",Data!A280)","v":""},{"$f":"IF(Data!D280=\"\",\"\",Data!D280)","v":""},{"$f":"IF(Data!B280=\"\",\"\",Data!B280)","v":""},{"$error":"#VALUE!"},{"$error":"#VALUE!"},{"$error":"#VALUE!"}]
[{"$f":"IF(Data!E281=\"\",\"\",Data!E281)","v":""},{"$f":"IF(Data!C281=\"\",\"\",Data!C281)","v":""},{"$f":"IF(Data!A281=\"\",\"\",Data!A281)","v":""},{"$f":"IF(Data!D281=\"\",\"\",Data!D281)","v":""},{"$f":"IF(Data!B281=\"\",\"\",Data!B281)","v":""},{"$error":"#VALUE!"},{"$error":"#VALUE!"},{"$error":"#VALUE!"}]
[{"$f":"IF(Data!E282=\"\",\"\",Data!E282)","v":""},{"$f":"IF(Data!C282=\"\",\"\",Data!C282)","v":""},{"$f":"IF(Data!A282=\"\",\"\",Data!A282)","v":""},{"$f":"IF(Data!D282=\"\",\"\",Data!D282)","v":""},{"$f":"IF(Data!B282=\"\",\"\",Data!B282)","v":""},{"$error":"#VALUE!"},{"$error":"#VALUE!"},{"$error":"#VALUE!"}]
[{"$f":"IF(Data!E283=\"\",\"\",Data!E283)","v":""},{"$f":"IF(Data!C283=\"\",\"\",Data!C283)","v":""},{"$f":"IF(Data!A283=\"\",\"\",Data!A283)","v":""},{"$f":"IF(Data!D283=\"\",\"\",Data!D283)","v":""},{"$f":"IF(Data!B283=\"\",\"\",Data!B283)","v":""},{"$error":"#VALUE!"},{"$error":"#VALUE!"},{"$error":"#VALUE!"}]
[{"$f":"IF(Data!E284=\"\",\"\",Data!E284)","v":""},{"$f":"IF(Data!C284=\"\",\"\",Data!C284)","v":""},{"$f":"IF(Data!A284=\"\",\"\",Data!A284)","v":""},{"$f":"IF(Data!D284=\"\",\"\",Data!D284)","v":""},{"$f":"IF(Data!B284=\"\",\"\",Data!B284)","v":""},{"$error":"#VALUE!"},{"$error":"#VALUE!"},{"$error":"#VALUE!"}]
[{"$f":"IF(Data!E285=\"\",\"\",Data!E285)","v":""},{"$f":"IF(Data!C285=\"\",\"\",Data!C285)","v":""},{"$f":"IF(Data!A285=\"\",\"\",Data!A285)","v":""},{"$f":"IF(Data!D285=\"\",\"\",Data!D285)","v":""},{"$f":"IF(Data!B285=\"\",\"\",Data!B285)","v":""},{"$error":"#VALUE!"},{"$error":"#VALUE!"},{"$error":"#VALUE!"}]
[{"$f":"IF(Data!E286=\"\",\"\",Data!E286)","v":""},{"$f":"IF(Data!C286=\"\",\"\",Data!C286)","v":""},{"$f":"IF(Data!A286=\"\",\"\",Data!A286)","v":""},{"$f":"IF(Data!D286=\"\",\"\",Data!D286)","v":""},{"$f":"IF(Data!B286=\"\",\"\",Data!B286)","v":""},{"$error":"#VALUE!"},{"$error":"#VALUE!"},{"$error":"#VALUE!"}]
[{"$f":"IF(Data!E287=\"\",\"\",Data!E287)","v":""},{"$f":"IF(Data!C287=\"\",\"\",Data!C287)","v":""},{"$f":"IF(Data!A287=\"\",\"\",Data!A287)","v":""},{"$f":"IF(Data!D287=\"\",\"\",Data!D287)","v":""},{"$f":"IF(Data!B287=\"\",\"\",Data!B287)","v":""},{"$error":"#VALUE!"},{"$error":"#VALUE!"},{"$error":"#VALUE!"}]
[{"$f":"IF(Data!E288=\"\",\"\",Data!E288)","v":""},{"$f":"IF(Data!C288=\"\",\"\",Data!C288)","v":""},{"$f":"IF(Data!A288=\"\",\"\",Data!A288)","v":""},{"$f":"IF(Data!D288=\"\",\"\",Data!D288)","v":""},{"$f":"IF(Data!B288=\"\",\"\",Data!B288)","v":""},{"$error":"#VALUE!"},{"$error":"#VALUE!"},{"$error":"#VALUE!"}]
[{"$f":"IF(Data!E289=\"\",\"\",Data!E289)","v":""},{"$f":"IF(Data!C289=\"\",\"\",Data!C289)","v":""},{"$f":"IF(Data!A289=\"\",\"\",Data!A289)","v":""},{"$f":"IF(Data!D289=\"\",\"\",Data!D289)","v":""},{"$f":"IF(Data!B289=\"\",\"\",Data!B289)","v":""},{"$error":"#VALUE!"},{"$error":"#VALUE!"},{"$error":"#VALUE!"}]
[{"$f":"IF(Data!E290=\"\",\"\",Data!E290)","v":""},{"$f":"IF(Data!C290=\"\",\"\",Data!C290)","v":""},{"$f":"IF(Data!A290=\"\",\"\",Data!A290)","v":""},{"$f":"IF(Data!D290=\"\",\"\",Data!D290)","v":""},{"$f":"IF(Data!B290=\"\",\"\",Data!B290)","v":""},{"$error":"#VALUE!"},{"$error":"#VALUE!"},{"$error":"#VALUE!"}]
[{"$f":"IF(Data!E291=\"\",\"\",Data!E291)","v":""},{"$f":"IF(Data!C291=\"\",\"\",Data!C291)","v":""},{"$f":"IF(Data!A291=\"\",\"\",Data!A291)","v":""},{"$f":"IF(Data!D291=\"\",\"\",Data!D291)","v":""},{"$f":"IF(Data!B291=\"\",\"\",Data!B291)","v":""},{"$error":"#VALUE!"},{"$error":"#VALUE!"},{"$error":"#VALUE!"}]
[{"$f":"IF(Data!E292=\"\",\"\",Data!E292)","v":""},{"$f":"IF(Data!C292=\"\",\"\",Data!C292)","v":""},{"$f":"IF(Data!A292=\"\",\"\",Data!A292)","v":""},{"$f":"IF(Data!D292=\"\",\"\",Data!D292)","v":""},{"$f":"IF(Data!B292=\"\",\"\",Data!B292)","v":""},{"$error":"#VALUE!"},{"$error":"#VALUE!"},{"$error":"#VALUE!"}]
[{"$f":"IF(Data!E293=\"\",\"\",Data!E293)","v":""},{"$f":"IF(Data!C293=\"\",\"\",Data!C293)","v":""},{"$f":"IF(Data!A293=\"\",\"\",Data!A293)","v":""},{"$f":"IF(Data!D293=\"\",\"\",Data!D293)","v":""},{"$f":"IF(Data!B293=\"\",\"\",Data!B293)","v":""},{"$error":"#VALUE!"},{"$error":"#VALUE!"},{"$error":"#VALUE!"}]
[{"$f":"IF(Data!E294=\"\",\"\",Data!E294)","v":""},{"$f":"IF(Data!C294=\"\",\"\",Data!C294)","v":""},{"$f":"IF(Data!A294=\"\",\"\",Data!A294)","v":""},{"$f":"IF(Data!D294=\"\",\"\",Data!D294)","v":""},{"$f":"IF(Data!B294=\"\",\"\",Data!B294)","v":""},{"$error":"#VALUE!"},{"$error":"#VALUE!"},{"$error":"#VALUE!"}]
[{"$f":"IF(Data!E295=\"\",\"\",Data!E295)","v":""},{"$f":"IF(Data!C295=\"\",\"\",Data!C295)","v":""},{"$f":"IF(Data!A295=\"\",\"\",Data!A295)","v":""},{"$f":"IF(Data!D295=\"\",\"\",Data!D295)","v":""},{"$f":"IF(Data!B295=\"\",\"\",Data!B295)","v":""},{"$error":"#VALUE!"},{"$error":"#VALUE!"},{"$error":"#VALUE!"}]
[{"$f":"IF(Data!E296=\"\",\"\",Data!E296)","v":""},{"$f":"IF(Data!C296=\"\",\"\",Data!C296)","v":""},{"$f":"IF(Data!A296=\"\",\"\",Data!A296)","v":""},{"$f":"IF(Data!D296=\"\",\"\",Data!D296)","v":""},{"$f":"IF(Data!B296=\"\",\"\",Data!B296)","v":""},{"$error":"#VALUE!"},{"$error":"#VALUE!"},{"$error":"#VALUE!"}]
[{"$f":"IF(Data!E297=\"\",\"\",Data!E297)","v":""},{"$f":"IF(Data!C297=\"\",\"\",Data!C297)","v":""},{"$f":"IF(Data!A297=\"\",\"\",Data!A297)","v":""},{"$f":"IF(Data!D297=\"\",\"\",Data!D297)","v":""},{"$f":"IF(Data!B297=\"\",\"\",Data!B297)","v":""},{"$error":"#VALUE!"},{"$error":"#VALUE!"},{"$error":"#VALUE!"}]
[{"$f":"IF(Data!E298=\"\",\"\",Data!E298)","v":""},{"$f":"IF(Data!C298=\"\",\"\",Data!C298)","v":""},{"$f":"IF(Data!A298=\"\",\"\",Data!A298)","v":""},{"$f":"IF(Data!D298=\"\",\"\",Data!D298)","v":""},{"$f":"IF(Data!B298=\"\",\"\",Data!B298)","v":""},{"$error":"#VALUE!"},{"$error":"#VALUE!"},{"$error":"#VALUE!"}]
[{"$f":"IF(Data!E299=\"\",\"\",Data!E299)","v":""},{"$f":"IF(Data!C299=\"\",\"\",Data!C299)","v":""},{"$f":"IF(Data!A299=\"\",\"\",Data!A299)","v":""},{"$f":"IF(Data!D299=\"\",\"\",Data!D299)","v":""},{"$f":"IF(Data!B299=\"\",\"\",Data!B299)","v":""},{"$error":"#VALUE!"},{"$error":"#VALUE!"},{"$error":"#VALUE!"}]
[{"$f":"IF(Data!E300=\"\",\"\",Data!E300)","v":""},{"$f":"IF(Data!C300=\"\",\"\",Data!C300)","v":""},{"$f":"IF(Data!A300=\"\",\"\",Data!A300)","v":""},{"$f":"IF(Data!D300=\"\",\"\",Data!D300)","v":""},{"$f":"IF(Data!B300=\"\",\"\",Data!B300)","v":""},{"$error":"#VALUE!"},{"$error":"#VALUE!"},{"$error":"#VALUE!"}]
[{"$f":"IF(Data!E301=\"\",\"\",Data!E301)","v":""},{"$f":"IF(Data!C301=\"\",\"\",Data!C301)","v":""},{"$f":"IF(Data!A301=\"\",\"\",Data!A301)","v":""},{"$f":"IF(Data!D301=\"\",\"\",Data!D301)","v":""},{"$f":"IF(Data!B301=\"\",\"\",Data!B301)","v":""},{"$error":"#VALUE!"},{"$error":"#VALUE!"},{"$error":"#VALUE!"}]
[{"$f":"IF(Data!E302=\"\",\"\",Data!E302)","v":""},{"$f":"IF(Data!C302=\"\",\"\",Data!C302)","v":""},{"$f":"IF(Data!A302=\"\",\"\",Data!A302)","v":""},{"$f":"IF(Data!D302=\"\",\"\",Data!D302)","v":""},{"$f":"IF(Data!B302=\"\",\"\",Data!B302)","v":""},{"$error":"#VALUE!"},{"$error":"#VALUE!"},{"$error":"#VALUE!"}]
[{"$f":"IF(Data!E303=\"\",\"\",Data!E303)","v":""},{"$f":"IF(Data!C303=\"\",\"\",Data!C303)","v":""},{"$f":"IF(Data!A303=\"\",\"\",Data!A303)","v":""},{"$f":"IF(Data!D303=\"\",\"\",Data!D303)","v":""},{"$f":"IF(Data!B303=\"\",\"\",Data!B303)","v":""},{"$error":"#VALUE!"},{"$error":"#VALUE!"},{"$error":"#VALUE!"}]
[{"$f":"IF(Data!E304=\"\",\"\",Data!E304)","v":""},{"$f":"IF(Data!C304=\"\",\"\",Data!C304)","v":""},{"$f":"IF(Data!A304=\"\",\"\",Data!A304)","v":""},{"$f":"IF(Data!D304=\"\",\"\",Data!D304)","v":""},{"$f":"IF(Data!B304=\"\",\"\",Data!B304)","v":""},{"$error":"#VALUE!"},{"$error":"#VALUE!"},{"$error":"#VALUE!"}]
[{"$f":"IF(Data!E305=\"\",\"\",Data!E305)","v":""},{"$f":"IF(Data!C305=\"\",\"\",Data!C305)","v":""},{"$f":"IF(Data!A305=\"\",\"\",Data!A305)","v":""},{"$f":"IF(Data!D305=\"\",\"\",Data!D305)","v":""},{"$f":"IF(Data!B305=\"\",\"\",Data!B305)","v":""},{"$error":"#VALUE!"},{"$error":"#VALUE!"},{"$error":"#VALUE!"}]
[{"$f":"IF(Data!E306=\"\",\"\",Data!E306)","v":""},{"$f":"IF(Data!C306=\"\",\"\",Data!C306)","v":""},{"$f":"IF(Data!A306=\"\",\"\",Data!A306)","v":""},{"$f":"IF(Data!D306=\"\",\"\",Data!D306)","v":""},{"$f":"IF(Data!B306=\"\",\"\",Data!B306)","v":""},{"$error":"#VALUE!"},{"$error":"#VALUE!"},{"$error":"#VALUE!"}]
[{"$f":"IF(Data!E307=\"\",\"\",Data!E307)","v":""},{"$f":"IF(Data!C307=\"\",\"\",Data!C307)","v":""},{"$f":"IF(Data!A307=\"\",\"\",Data!A307)","v":""},{"$f":"IF(Data!D307=\"\",\"\",Data!D307)","v":""},{"$f":"IF(Data!B307=\"\",\"\",Data!B307)","v":""},{"$error":"#VALUE!"},{"$error":"#VALUE!"},{"$error":"#VALUE!"}]
[{"$f":"IF(Data!E308=\"\",\"\",Data!E308)","v":""},{"$f":"IF(Data!C308=\"\",\"\",Data!C308)","v":""},{"$f":"IF(Data!A308=\"\",\"\",Data!A308)","v":""},{"$f":"IF(Data!D308=\"\",\"\",Data!D308)","v":""},{"$f":"IF(Data!B308=\"\",\"\",Data!B308)","v":""},{"$error":"#VALUE!"},{"$error":"#VALUE!"},{"$error":"#VALUE!"}]
[{"$f":"IF(Data!E309=\"\",\"\",Data!E309)","v":""},{"$f":"IF(Data!C309=\"\",\"\",Data!C309)","v":""},{"$f":"IF(Data!A309=\"\",\"\",Data!A309)","v":""},{"$f":"IF(Data!D309=\"\",\"\",Data!D309)","v":""},{"$f":"IF(Data!B309=\"\",\"\",Data!B309)","v":""},{"$error":"#VALUE!"},{"$error":"#VALUE!"},{"$error":"#VALUE!"}]
[{"$f":"IF(Data!E310=\"\",\"\",Data!E310)","v":""},{"$f":"IF(Data!C310=\"\",\"\",Data!C310)","v":""},{"$f":"IF(Data!A310=\"\",\"\",Data!A310)","v":""},{"$f":"IF(Data!D310=\"\",\"\",Data!D310)","v":""},{"$f":"IF(Data!B310=\"\",\"\",Data!B310)","v":""},{"$error":"#VALUE!"},{"$error":"#VALUE!"},{"$error":"#VALUE!"}]
[{"$f":"IF(Data!E311=\"\",\"\",Data!E311)","v":""},{"$f":"IF(Data!C311=\"\",\"\",Data!C311)","v":""},{"$f":"IF(Data!A311=\"\",\"\",Data!A311)","v":""},{"$f":"IF(Data!D311=\"\",\"\",Data!D311)","v":""},{"$f":"IF(Data!B311=\"\",\"\",Data!B311)","v":""},{"$error":"#VALUE!"},{"$error":"#VALUE!"},{"$error":"#VALUE!"}]
[{"$f":"IF(Data!E312=\"\",\"\",Data!E312)","v":""},{"$f":"IF(Data!C312=\"\",\"\",Data!C312)","v":""},{"$f":"IF(Data!A312=\"\",\"\",Data!A312)","v":""},{"$f":"IF(Data!D312=\"\",\"\",Data!D312)","v":""},{"$f":"IF(Data!B312=\"\",\"\",Data!B312)","v":""},{"$error":"#VALUE!"},{"$error":"#VALUE!"},{"$error":"#VALUE!"}]
[{"$f":"IF(Data!E313=\"\",\"\",Data!E313)","v":""},{"$f":"IF(Data!C313=\"\",\"\",Data!C313)","v":""},{"$f":"IF(Data!A313=\"\",\"\",Data!A313)","v":""},{"$f":"IF(Data!D313=\"\",\"\",Data!D313)","v":""},{"$f":"IF(Data!B313=\"\",\"\",Data!B313)","v":""},{"$error":"#VALUE!"},{"$error":"#VALUE!"},{"$error":"#VALUE!"}]
[{"$f":"IF(Data!E314=\"\",\"\",Data!E314)","v":""},{"$f":"IF(Data!C314=\"\",\"\",Data!C314)","v":""},{"$f":"IF(Data!A314=\"\",\"\",Data!A314)","v":""},{"$f":"IF(Data!D314=\"\",\"\",Data!D314)","v":""},{"$f":"IF(Data!B314=\"\",\"\",Data!B314)","v":""},{"$error":"#VALUE!"},{"$error":"#VALUE!"},{"$error":"#VALUE!"}]
[{"$f":"IF(Data!E315=\"\",\"\",Data!E315)","v":""},{"$f":"IF(Data!C315=\"\",\"\",Data!C315)","v":""},{"$f":"IF(Data!A315=\"\",\"\",Data!A315)","v":""},{"$f":"IF(Data!D315=\"\",\"\",Data!D315)","v":""},{"$f":"IF(Data!B315=\"\",\"\",Data!B315)","v":""},{"$error":"#VALUE!"},{"$error":"#VALUE!"},{"$error":"#VALUE!"}]
[{"$f":"IF(Data!E316=\"\",\"\",Data!E316)","v":""},{"$f":"IF(Data!C316=\"\",\"\",Data!C316)","v":""},{"$f":"IF(Data!A316=\"\",\"\",Data!A316)","v":""},{"$f":"IF(Data!D316=\"\",\"\",Data!D316)","v":""},{"$f":"IF(Data!B316=\"\",\"\",Data!B316)","v":""},{"$error":"#VALUE!"},{"$error":"#VALUE!"},{"$error":"#VALUE!"}]
[{"$f":"IF(Data!E317=\"\",\"\",Data!E317)","v":""},{"$f":"IF(Data!C317=\"\",\"\",Data!C317)","v":""},{"$f":"IF(Data!A317=\"\",\"\",Data!A317)","v":""},{"$f":"IF(Data!D317=\"\",\"\",Data!D317)","v":""},{"$f":"IF(Data!B317=\"\",\"\",Data!B317)","v":""},{"$error":"#VALUE!"},{"$error":"#VALUE!"},{"$error":"#VALUE!"}]
[{"$f":"IF(Data!E318=\"\",\"\",Data!E318)","v":""},{"$f":"IF(Data!C318=\"\",\"\",Data!C318)","v":""},{"$f":"IF(Data!A318=\"\",\"\",Data!A318)","v":""},{"$f":"IF(Data!D318=\"\",\"\",Data!D318)","v":""},{"$f":"IF(Data!B318=\"\",\"\",Data!B318)","v":""},{"$error":"#VALUE!"},{"$error":"#VALUE!"},{"$error":"#VALUE!"}]
[{"$f":"IF(Data!E319=\"\",\"\",Data!E319)","v":""},{"$f":"IF(Data!C319=\"\",\"\",Data!C319)","v":""},{"$f":"IF(Data!A319=\"\",\"\",Data!A319)","v":""},{"$f":"IF(Data!D319=\"\",\"\",Data!D319)","v":""},{"$f":"IF(Data!B319=\"\",\"\",Data!B319)","v":""},{"$error":"#VALUE!"},{"$error":"#VALUE!"},{"$error":"#VALUE!"}]
[{"$f":"IF(Data!E320=\"\",\"\",Data!E320)","v":""},{"$f":"IF(Data!C320=\"\",\"\",Data!C320)","v":""},{"$f":"IF(Data!A320=\"\",\"\",Data!A320)","v":""},{"$f":"IF(Data!D320=\"\",\"\",Data!D320)","v":""},{"$f":"IF(Data!B320=\"\",\"\",Data!B320)","v":""},{"$error":"#VALUE!"},{"$error":"#VALUE!"},{"$error":"#VALUE!"}]
[{"$f":"IF(Data!E321=\"\",\"\",Data!E321)","v":""},{"$f":"IF(Data!C321=\"\",\"\",Data!C321)","v":""},{"$f":"IF(Data!A321=\"\",\"\",Data!A321)","v":""},{"$f":"IF(Data!D321=\"\",\"\",Data!D321)","v":""},{"$f":"IF(Data!B321=\"\",\"\",Data!B321)","v":""},{"$error":"#VALUE!"},{"$error":"#VALUE!"},{"$error":"#VALUE!"}]
[{"$f":"IF(Data!E322=\"\",\"\",Data!E322)","v":""},{"$f":"IF(Data!C322=\"\",\"\",Data!C322)","v":""},{"$f":"IF(Data!A322=\"\",\"\",Data!A322)","v":""},{"$f":"IF(Data!D322=\"\",\"\",Data!D322)","v":""},{"$f":"IF(Data!B322=\"\",\"\",Data!B322)","v":""},{"$error":"#VALUE!"},{"$error":"#VALUE!"},{"$error":"#VALUE!"}]
[{"$f":"IF(Data!E323=\"\",\"\",Data!E323)","v":""},{"$f":"IF(Data!C323=\"\",\"\",Data!C323)","v":""},{"$f":"IF(Data!A323=\"\",\"\",Data!A323)","v":""},{"$f":"IF(Data!D323=\"\",\"\",Data!D323)","v":""},{"$f":"IF(Data!B323=\"\",\"\",Data!B323)","v":""},{"$error":"#VALUE!"},{"$error":"#VALUE!"},{"$error":"#VALUE!"}]
[{"$f":"IF(Data!E324=\"\",\"\",Data!E324)","v":""},{"$f":"IF(Data!C324=\"\",\"\",Data!C324)","v":""},{"$f":"IF(Data!A324=\"\",\"\",Data!A324)","v":""},{"$f":"IF(Data!D324=\"\",\"\",Data!D324)","v":""},{"$f":"IF(Data!B324=\"\",\"\",Data!B324)","v":""},{"$error":"#VALUE!"},{"$error":"#VALUE!"},{"$error":"#VALUE!"}]
[{"$f":"IF(Data!E325=\"\",\"\",Data!E325)","v":""},{"$f":"IF(Data!C325=\"\",\"\",Data!C325)","v":""},{"$f":"IF(Data!A325=\"\",\"\",Data!A325)","v":""},{"$f":"IF(Data!D325=\"\",\"\",Data!D325)","v":""},{"$f":"IF(Data!B325=\"\",\"\",Data!B325)","v":""},{"$error":"#VALUE!"},{"$error":"#VALUE!"},{"$error":"#VALUE!"}]
[{"$f":"IF(Data!E326=\"\",\"\",Data!E326)","v":""},{"$f":"IF(Data!C326=\"\",\"\",Data!C326)","v":""},{"$f":"IF(Data!A326=\"\",\"\",Data!A326)","v":""},{"$f":"IF(Data!D326=\"\",\"\",Data!D326)","v":""},{"$f":"IF(Data!B326=\"\",\"\",Data!B326)","v":""},{"$error":"#VALUE!"},{"$error":"#VALUE!"},{"$error":"#VALUE!"}]
[{"$f":"IF(Data!E327=\"\",\"\",Data!E327)","v":""},{"$f":"IF(Data!C327=\"\",\"\",Data!C327)","v":""},{"$f":"IF(Data!A327=\"\",\"\",Data!A327)","v":""},{"$f":"IF(Data!D327=\"\",\"\",Data!D327)","v":""},{"$f":"IF(Data!B327=\"\",\"\",Data!B327)","v":""},{"$error":"#VALUE!"},{"$error":"#VALUE!"},{"$error":"#VALUE!"}]
[{"$f":"IF(Data!E328=\"\",\"\",Data!E328)","v":""},{"$f":"IF(Data!C328=\"\",\"\",Data!C328)","v":""},{"$f":"IF(Data!A328=\"\",\"\",Data!A328)","v":""},{"$f":"IF(Data!D328=\"\",\"\",Data!D328)","v":""},{"$f":"IF(Data!B328=\"\",\"\",Data!B328)","v":""},{"$error":"#VALUE!"},{"$error":"#VALUE!"},{"$error":"#VALUE!"}]
[{"$f":"IF(Data!E329=\"\",\"\",Data!E329)","v":""},{"$f":"IF(Data!C329=\"\",\"\",Data!C329)","v":""},{"$f":"IF(Data!A329=\"\",\"\",Data!A329)","v":""},{"$f":"IF(Data!D329=\"\",\"\",Data!D329)","v":""},{"$f":"IF(Data!B329=\"\",\"\",Data!B329)","v":""},{"$error":"#VALUE!"},{"$error":"#VALUE!"},{"$error":"#VALUE!"}]
[{"$f":"IF(Data!E330=\"\",\"\",Data!E330)","v":""},{"$f":"IF(Data!C330=\"\",\"\",Data!C330)","v":""},{"$f":"IF(Data!A330=\"\",\"\",Data!A330)","v":""},{"$f":"IF(Data!D330=\"\",\"\",Data!D330)","v":""},{"$f":"IF(Data!B330=\"\",\"\",Data!B330)","v":""},{"$error":"#VALUE!"},{"$error":"#VALUE!"},{"$error":"#VALUE!"}]
[{"$f":"IF(Data!E331=\"\",\"\",Data!E331)","v":""},{"$f":"IF(Data!C331=\"\",\"\",Data!C331)","v":""},{"$f":"IF(Data!A331=\"\",\"\",Data!A331)","v":""},{"$f":"IF(Data!D331=\"\",\"\",Data!D331)","v":""},{"$f":"IF(Data!B331=\"\",\"\",Data!B331)","v":""},{"$error":"#VALUE!"},{"$error":"#VALUE!"},{"$error":"#VALUE!"}]
[{"$f":"IF(Data!E332=\"\",\"\",Data!E332)","v":""},{"$f":"IF(Data!C332=\"\",\"\",Data!C332)","v":""},{"$f":"IF(Data!A332=\"\",\"\",Data!A332)","v":""},{"$f":"IF(Data!D332=\"\",\"\",Data!D332)","v":""},{"$f":"IF(Data!B332=\"\",\"\",Data!B332)","v":""},{"$f":"IF(E3523>0,MONTH(E3523),\"\")","v":{"$error":"#VALUE!"}},{"$f":"IF(E3523>0,WEEKNUM(E3523),\"0\")","v":{"$error":"#VALUE!"}},{"$f":"IF(G3523>=($G$2-3),\"Ano\",\"Nie\")","v":{"$error":"#VALUE!"}}]
[{"$f":"IF(Data!E333=\"\",\"\",Data!E333)","v":""},{"$f":"IF(Data!C333=\"\",\"\",Data!C333)","v":""},{"$f":"IF(Data!A333=\"\",\"\",Data!A333)","v":""},{"$f":"IF(Data!D333=\"\",\"\",Data!D333)","v":""},{"$f":"IF(Data!B333=\"\",\"\",Data!B333)","v":""},{"$error":"#VALUE!"},{"$error":"#VALUE!"},{"$error":"#VALUE!"}]
[{"$f":"IF(Data!E334=\"\",\"\",Data!E334)","v":""},{"$f":"IF(Data!C334=\"\",\"\",Data!C334)","v":""},{"$f":"IF(Data!A334=\"\",\"\",Data!A334)","v":""},{"$f":"IF(Data!D334=\"\",\"\",Data!D334)","v":""},{"$f":"IF(Data!B334=\"\",\"\",Data!B334)","v":""},{"$error":"#VALUE!"},{"$error":"#VALUE!"},{"$error":"#VALUE!"}]
[{"$f":"IF(Data!E335=\"\",\"\",Data!E335)","v":""},{"$f":"IF(Data!C335=\"\",\"\",Data!C335)","v":""},{"$f":"IF(Data!A335=\"\",\"\",Data!A335)","v":""},{"$f":"IF(Data!D335=\"\",\"\",Data!D335)","v":""},{"$f":"IF(Data!B335=\"\",\"\",Data!B335)","v":""},{"$error":"#VALUE!"},{"$error":"#VALUE!"},{"$error":"#VALUE!"}]
[{"$f":"IF(Data!E336=\"\",\"\",Data!E336)","v":""},{"$f":"IF(Data!C336=\"\",\"\",Data!C336)","v":""},{"$f":"IF(Data!A336=\"\",\"\",Data!A336)","v":""},{"$f":"IF(Data!D336=\"\",\"\",Data!D336)","v":""},{"$f":"IF(Data!B336=\"\",\"\",Data!B336)","v":""},{"$error":"#VALUE!"},{"$error":"#VALUE!"},{"$error":"#VALUE!"}]
[{"$f":"IF(Data!E337=\"\",\"\",Data!E337)","v":""},{"$f":"IF(Data!C337=\"\",\"\",Data!C337)","v":""},{"$f":"IF(Data!A337=\"\",\"\",Data!A337)","v":""},{"$f":"IF(Data!D337=\"\",\"\",Data!D337)","v":""},{"$f":"IF(Data!B337=\"\",\"\",Data!B337)","v":""},{"$error":"#VALUE!"},{"$error":"#VALUE!"},{"$error":"#VALUE!"}]
[{"$f":"IF(Data!E338=\"\",\"\",Data!E338)","v":""},{"$f":"IF(Data!C338=\"\",\"\",Data!C338)","v":""},{"$f":"IF(Data!A338=\"\",\"\",Data!A338)","v":""},{"$f":"IF(Data!D338=\"\",\"\",Data!D338)","v":""},{"$f":"IF(Data!B338=\"\",\"\",Data!B338)","v":""},{"$error":"#VALUE!"},{"$error":"#VALUE!"},{"$error":"#VALUE!"}]
[{"$f":"IF(Data!E339=\"\",\"\",Data!E339)","v":""},{"$f":"IF(Data!C339=\"\",\"\",Data!C339)","v":""},{"$f":"IF(Data!A339=\"\",\"\",Data!A339)","v":""},{"$f":"IF(Data!D339=\"\",\"\",Data!D339)","v":""},{"$f":"IF(Data!B339=\"\",\"\",Data!B339)","v":""},{"$error":"#VALUE!"},{"$error":"#VALUE!"},{"$error":"#VALUE!"}]
[{"$f":"IF(Data!E340=\"\",\"\",Data!E340)","v":""},{"$f":"IF(Data!C340=\"\",\"\",Data!C340)","v":""},{"$f":"IF(Data!A340=\"\",\"\",Data!A340)","v":""},{"$f":"IF(Data!D340=\"\",\"\",Data!D340)","v":""},{"$f":"IF(Data!B340=\"\",\"\",Data!B340)","v":""},{"$error":"#VALUE!"},{"$error":"#VALUE!"},{"$error":"#VALUE!"}]
[{"$f":"IF(Data!E341=\"\",\"\",Data!E341)","v":""},{"$f":"IF(Data!C341=\"\",\"\",Data!C341)","v":""},{"$f":"IF(Data!A341=\"\",\"\",Data!A341)","v":""},{"$f":"IF(Data!D341=\"\",\"\",Data!D341)","v":""},{"$f":"IF(Data!B341=\"\",\"\",Data!B341)","v":""},{"$error":"#VALUE!"},{"$error":"#VALUE!"},{"$error":"#VALUE!"}]
[{"$f":"IF(Data!E342=\"\",\"\",Data!E342)","v":""},{"$f":"IF(Data!C342=\"\",\"\",Data!C342)","v":""},{"$f":"IF(Data!A342=\"\",\"\",Data!A342)","v":""},{"$f":"IF(Data!D342=\"\",\"\",Data!D342)","v":""},{"$f":"IF(Data!B342=\"\",\"\",Data!B342)","v":""},{"$error":"#VALUE!"},{"$error":"#VALUE!"},{"$error":"#VALUE!"}]
[{"$f":"IF(Data!E343=\"\",\"\",Data!E343)","v":""},{"$f":"IF(Data!C343=\"\",\"\",Data!C343)","v":""},{"$f":"IF(Data!A343=\"\",\"\",Data!A343)","v":""},{"$f":"IF(Data!D343=\"\",\"\",Data!D343)","v":""},{"$f":"IF(Data!B343=\"\",\"\",Data!B343)","v":""},{"$error":"#VALUE!"},{"$error":"#VALUE!"},{"$error":"#VALUE!"}]
[{"$f":"IF(Data!E344=\"\",\"\",Data!E344)","v":""},{"$f":"IF(Data!C344=\"\",\"\",Data!C344)","v":""},{"$f":"IF(Data!A344=\"\",\"\",Data!A344)","v":""},{"$f":"IF(Data!D344=\"\",\"\",Data!D344)","v":""},{"$f":"IF(Data!B344=\"\",\"\",Data!B344)","v":""},{"$error":"#VALUE!"},{"$error":"#VALUE!"},{"$error":"#VALUE!"}]
[{"$f":"IF(Data!E345=\"\",\"\",Data!E345)","v":""},{"$f":"IF(Data!C345=\"\",\"\",Data!C345)","v":""},{"$f":"IF(Data!A345=\"\",\"\",Data!A345)","v":""},{"$f":"IF(Data!D345=\"\",\"\",Data!D345)","v":""},{"$f":"IF(Data!B345=\"\",\"\",Data!B345)","v":""},{"$error":"#VALUE!"},{"$error":"#VALUE!"},{"$error":"#VALUE!"}]
[{"$f":"IF(Data!E346=\"\",\"\",Data!E346)","v":""},{"$f":"IF(Data!C346=\"\",\"\",Data!C346)","v":""},{"$f":"IF(Data!A346=\"\",\"\",Data!A346)","v":""},{"$f":"IF(Data!D346=\"\",\"\",Data!D346)","v":""},{"$f":"IF(Data!B346=\"\",\"\",Data!B346)","v":""},{"$error":"#VALUE!"},{"$error":"#VALUE!"},{"$error":"#VALUE!"}]
[{"$f":"IF(Data!E347=\"\",\"\",Data!E347)","v":""},{"$f":"IF(Data!C347=\"\",\"\",Data!C347)","v":""},{"$f":"IF(Data!A347=\"\",\"\",Data!A347)","v":""},{"$f":"IF(Data!D347=\"\",\"\",Data!D347)","v":""},{"$f":"IF(Data!B347=\"\",\"\",Data!B347)","v":""},{"$error":"#VALUE!"},{"$error":"#VALUE!"},{"$error":"#VALUE!"}]
[{"$f":"IF(Data!E348=\"\",\"\",Data!E348)","v":""},{"$f":"IF(Data!C348=\"\",\"\",Data!C348)","v":""},{"$f":"IF(Data!A348=\"\",\"\",Data!A348)","v":""},{"$f":"IF(Data!D348=\"\",\"\",Data!D348)","v":""},{"$f":"IF(Data!B348=\"\",\"\",Data!B348)","v":""},{"$error":"#VALUE!"},{"$error":"#VALUE!"},{"$error":"#VALUE!"}]
[{"$f":"IF(Data!E349=\"\",\"\",Data!E349)","v":""},{"$f":"IF(Data!C349=\"\",\"\",Data!C349)","v":""},{"$f":"IF(Data!A349=\"\",\"\",Data!A349)","v":""},{"$f":"IF(Data!D349=\"\",\"\",Data!D349)","v":""},{"$f":"IF(Data!B349=\"\",\"\",Data!B349)","v":""},{"$error":"#VALUE!"},{"$error":"#VALUE!"},{"$error":"#VALUE!"}]
[{"$f":"IF(Data!E350=\"\",\"\",Data!E350)","v":""},{"$f":"IF(Data!C350=\"\",\"\",Data!C350)","v":""},{"$f":"IF(Data!A350=\"\",\"\",Data!A350)","v":""},{"$f":"IF(Data!D350=\"\",\"\",Data!D350)","v":""},{"$f":"IF(Data!B350=\"\",\"\",Data!B350)","v":""},{"$error":"#VALUE!"},{"$error":"#VALUE!"},{"$error":"#VALUE!"}]
[{"$f":"IF(Data!E351=\"\",\"\",Data!E351)","v":""},{"$f":"IF(Data!C351=\"\",\"\",Data!C351)","v":""},{"$f":"IF(Data!A351=\"\",\"\",Data!A351)","v":""},{"$f":"IF(Data!D351=\"\",\"\",Data!D351)","v":""},{"$f":"IF(Data!B351=\"\",\"\",Data!B351)","v":""},{"$error":"#VALUE!"},{"$error":"#VALUE!"},{"$error":"#VALUE!"}]
[{"$f":"IF(Data!E352=\"\",\"\",Data!E352)","v":""},{"$f":"IF(Data!C352=\"\",\"\",Data!C352)","v":""},{"$f":"IF(Data!A352=\"\",\"\",Data!A352)","v":""},{"$f":"IF(Data!D352=\"\",\"\",Data!D352)","v":""},{"$f":"IF(Data!B352=\"\",\"\",Data!B352)","v":""},{"$error":"#VALUE!"},{"$error":"#VALUE!"},{"$error":"#VALUE!"}]
[{"$f":"IF(Data!E353=\"\",\"\",Data!E353)","v":""},{"$f":"IF(Data!C353=\"\",\"\",Data!C353)","v":""},{"$f":"IF(Data!A353=\"\",\"\",Data!A353)","v":""},{"$f":"IF(Data!D353=\"\",\"\",Data!D353)","v":""},{"$f":"IF(Data!B353=\"\",\"\",Data!B353)","v":""},{"$error":"#VALUE!"},{"$error":"#VALUE!"},{"$error":"#VALUE!"}]
[{"$f":"IF(Data!E354=\"\",\"\",Data!E354)","v":""},{"$f":"IF(Data!C354=\"\",\"\",Data!C354)","v":""},{"$f":"IF(Data!A354=\"\",\"\",Data!A354)","v":""},{"$f":"IF(Data!D354=\"\",\"\",Data!D354)","v":""},{"$f":"IF(Data!B354=\"\",\"\",Data!B354)","v":""},{"$error":"#VALUE!"},{"$error":"#VALUE!"},{"$error":"#VALUE!"}]
[{"$f":"IF(Data!E355=\"\",\"\",Data!E355)","v":""},{"$f":"IF(Data!C355=\"\",\"\",Data!C355)","v":""},{"$f":"IF(Data!A355=\"\",\"\",Data!A355)","v":""},{"$f":"IF(Data!D355=\"\",\"\",Data!D355)","v":""},{"$f":"IF(Data!B355=\"\",\"\",Data!B355)","v":""},{"$error":"#VALUE!"},{"$error":"#VALUE!"},{"$error":"#VALUE!"}]
[{"$f":"IF(Data!E356=\"\",\"\",Data!E356)","v":""},{"$f":"IF(Data!C356=\"\",\"\",Data!C356)","v":""},{"$f":"IF(Data!A356=\"\",\"\",Data!A356)","v":""},{"$f":"IF(Data!D356=\"\",\"\",Data!D356)","v":""},{"$f":"IF(Data!B356=\"\",\"\",Data!B356)","v":""},{"$error":"#VALUE!"},{"$error":"#VALUE!"},{"$error":"#VALUE!"}]
[{"$f":"IF(Data!E357=\"\",\"\",Data!E357)","v":""},{"$f":"IF(Data!C357=\"\",\"\",Data!C357)","v":""},{"$f":"IF(Data!A357=\"\",\"\",Data!A357)","v":""},{"$f":"IF(Data!D357=\"\",\"\",Data!D357)","v":""},{"$f":"IF(Data!B357=\"\",\"\",Data!B357)","v":""},{"$error":"#VALUE!"},{"$error":"#VALUE!"},{"$error":"#VALUE!"}]
[{"$f":"IF(Data!E358=\"\",\"\",Data!E358)","v":""},{"$f":"IF(Data!C358=\"\",\"\",Data!C358)","v":""},{"$f":"IF(Data!A358=\"\",\"\",Data!A358)","v":""},{"$f":"IF(Data!D358=\"\",\"\",Data!D358)","v":""},{"$f":"IF(Data!B358=\"\",\"\",Data!B358)","v":""},{"$error":"#VALUE!"},{"$error":"#VALUE!"},{"$error":"#VALUE!"}]
[{"$f":"IF(Data!E359=\"\",\"\",Data!E359)","v":""},{"$f":"IF(Data!C359=\"\",\"\",Data!C359)","v":""},{"$f":"IF(Data!A359=\"\",\"\",Data!A359)","v":""},{"$f":"IF(Data!D359=\"\",\"\",Data!D359)","v":""},{"$f":"IF(Data!B359=\"\",\"\",Data!B359)","v":""},{"$error":"#VALUE!"},{"$error":"#VALUE!"},{"$error":"#VALUE!"}]
[{"$f":"IF(Data!E360=\"\",\"\",Data!E360)","v":""},{"$f":"IF(Data!C360=\"\",\"\",Data!C360)","v":""},{"$f":"IF(Data!A360=\"\",\"\",Data!A360)","v":""},{"$f":"IF(Data!D360=\"\",\"\",Data!D360)","v":""},{"$f":"IF(Data!B360=\"\",\"\",Data!B360)","v":""},{"$error":"#VALUE!"},{"$error":"#VALUE!"},{"$error":"#VALUE!"}]
[{"$f":"IF(Data!E361=\"\",\"\",Data!E361)","v":""},{"$f":"IF(Data!C361=\"\",\"\",Data!C361)","v":""},{"$f":"IF(Data!A361=\"\",\"\",Data!A361)","v":""},{"$f":"IF(Data!D361=\"\",\"\",Data!D361)","v":""},{"$f":"IF(Data!B361=\"\",\"\",Data!B361)","v":""},{"$error":"#VALUE!"},{"$error":"#VALUE!"},{"$error":"#VALUE!"}]
[{"$f":"IF(Data!E362=\"\",\"\",Data!E362)","v":""},{"$f":"IF(Data!C362=\"\",\"\",Data!C362)","v":""},{"$f":"IF(Data!A362=\"\",\"\",Data!A362)","v":""},{"$f":"IF(Data!D362=\"\",\"\",Data!D362)","v":""},{"$f":"IF(Data!B362=\"\",\"\",Data!B362)","v":""},{"$error":"#VALUE!"},{"$error":"#VALUE!"},{"$error":"#VALUE!"}]
[{"$f":"IF(Data!E363=\"\",\"\",Data!E363)","v":""},{"$f":"IF(Data!C363=\"\",\"\",Data!C363)","v":""},{"$f":"IF(Data!A363=\"\",\"\",Data!A363)","v":""},{"$f":"IF(Data!D363=\"\",\"\",Data!D363)","v":""},{"$f":"IF(Data!B363=\"\",\"\",Data!B363)","v":""},{"$error":"#VALUE!"},{"$error":"#VALUE!"},{"$error":"#VALUE!"}]
[{"$f":"IF(Data!E364=\"\",\"\",Data!E364)","v":""},{"$f":"IF(Data!C364=\"\",\"\",Data!C364)","v":""},{"$f":"IF(Data!A364=\"\",\"\",Data!A364)","v":""},{"$f":"IF(Data!D364=\"\",\"\",Data!D364)","v":""},{"$f":"IF(Data!B364=\"\",\"\",Data!B364)","v":""},{"$error":"#VALUE!"},{"$error":"#VALUE!"},{"$error":"#VALUE!"}]
[{"$f":"IF(Data!E365=\"\",\"\",Data!E365)","v":""},{"$f":"IF(Data!C365=\"\",\"\",Data!C365)","v":""},{"$f":"IF(Data!A365=\"\",\"\",Data!A365)","v":""},{"$f":"IF(Data!D365=\"\",\"\",Data!D365)","v":""},{"$f":"IF(Data!B365=\"\",\"\",Data!B365)","v":""},{"$error":"#VALUE!"},{"$error":"#VALUE!"},{"$error":"#VALUE!"}]
[{"$f":"IF(Data!E366=\"\",\"\",Data!E366)","v":""},{"$f":"IF(Data!C366=\"\",\"\",Data!C366)","v":""},{"$f":"IF(Data!A366=\"\",\"\",Data!A366)","v":""},{"$f":"IF(Data!D366=\"\",\"\",Data!D366)","v":""},{"$f":"IF(Data!B366=\"\",\"\",Data!B366)","v":""},{"$error":"#VALUE!"},{"$error":"#VALUE!"},{"$error":"#VALUE!"}]
[{"$f":"IF(Data!E367=\"\",\"\",Data!E367)","v":""},{"$f":"IF(Data!C367=\"\",\"\",Data!C367)","v":""},{"$f":"IF(Data!A367=\"\",\"\",Data!A367)","v":""},{"$f":"IF(Data!D367=\"\",\"\",Data!D367)","v":""},{"$f":"IF(Data!B367=\"\",\"\",Data!B367)","v":""},{"$error":"#VALUE!"},{"$error":"#VALUE!"},{"$error":"#VALUE!"}]
[{"$f":"IF(Data!E368=\"\",\"\",Data!E368)","v":""},{"$f":"IF(Data!C368=\"\",\"\",Data!C368)","v":""},{"$f":"IF(Data!A368=\"\",\"\",Data!A368)","v":""},{"$f":"IF(Data!D368=\"\",\"\",Data!D368)","v":""},{"$f":"IF(Data!B368=\"\",\"\",Data!B368)","v":""},{"$error":"#VALUE!"},{"$error":"#VALUE!"},{"$error":"#VALUE!"}]
[{"$f":"IF(Data!E369=\"\",\"\",Data!E369)","v":""},{"$f":"IF(Data!C369=\"\",\"\",Data!C369)","v":""},{"$f":"IF(Data!A369=\"\",\"\",Data!A369)","v":""},{"$f":"IF(Data!D369=\"\",\"\",Data!D369)","v":""},{"$f":"IF(Data!B369=\"\",\"\",Data!B369)","v":""},{"$error":"#VALUE!"},{"$error":"#VALUE!"},{"$error":"#VALUE!"}]
[{"$f":"IF(Data!E370=\"\",\"\",Data!E370)","v":""},{"$f":"IF(Data!C370=\"\",\"\",Data!C370)","v":""},{"$f":"IF(Data!A370=\"\",\"\",Data!A370)","v":""},{"$f":"IF(Data!D370=\"\",\"\",Data!D370)","v":""},{"$f":"IF(Data!B370=\"\",\"\",Data!B370)","v":""},{"$error":"#VALUE!"},{"$error":"#VALUE!"},{"$error":"#VALUE!"}]
[{"$f":"IF(Data!E371=\"\",\"\",Data!E371)","v":""},{"$f":"IF(Data!C371=\"\",\"\",Data!C371)","v":""},{"$f":"IF(Data!A371=\"\",\"\",Data!A371)","v":""},{"$f":"IF(Data!D371=\"\",\"\",Data!D371)","v":""},{"$f":"IF(Data!B371=\"\",\"\",Data!B371)","v":""},{"$error":"#VALUE!"},{"$error":"#VALUE!"},{"$error":"#VALUE!"}]
[{"$f":"IF(Data!E372=\"\",\"\",Data!E372)","v":""},{"$f":"IF(Data!C372=\"\",\"\",Data!C372)","v":""},{"$f":"IF(Data!A372=\"\",\"\",Data!A372)","v":""},{"$f":"IF(Data!D372=\"\",\"\",Data!D372)","v":""},{"$f":"IF(Data!B372=\"\",\"\",Data!B372)","v":""},{"$error":"#VALUE!"},{"$error":"#VALUE!"},{"$error":"#VALUE!"}]
[{"$f":"IF(Data!E373=\"\",\"\",Data!E373)","v":""},{"$f":"IF(Data!C373=\"\",\"\",Data!C373)","v":""},{"$f":"IF(Data!A373=\"\",\"\",Data!A373)","v":""},{"$f":"IF(Data!D373=\"\",\"\",Data!D373)","v":""},{"$f":"IF(Data!B373=\"\",\"\",Data!B373)","v":""},{"$error":"#VALUE!"},{"$error":"#VALUE!"},{"$error":"#VALUE!"}]
[{"$f":"IF(Data!E374=\"\",\"\",Data!E374)","v":""},{"$f":"IF(Data!C374=\"\",\"\",Data!C374)","v":""},{"$f":"IF(Data!A374=\"\",\"\",Data!A374)","v":""},{"$f":"IF(Data!D374=\"\",\"\",Data!D374)","v":""},{"$f":"IF(Data!B374=\"\",\"\",Data!B374)","v":""},{"$error":"#VALUE!"},{"$error":"#VALUE!"},{"$error":"#VALUE!"}]
[{"$f":"IF(Data!E375=\"\",\"\",Data!E375)","v":""},{"$f":"IF(Data!C375=\"\",\"\",Data!C375)","v":""},{"$f":"IF(Data!A375=\"\",\"\",Data!A375)","v":""},{"$f":"IF(Data!D375=\"\",\"\",Data!D375)","v":""},{"$f":"IF(Data!B375=\"\",\"\",Data!B375)","v":""},{"$error":"#VALUE!"},{"$error":"#VALUE!"},{"$error":"#VALUE!"}]
[{"$f":"IF(Data!E376=\"\",\"\",Data!E376)","v":""},{"$f":"IF(Data!C376=\"\",\"\",Data!C376)","v":""},{"$f":"IF(Data!A376=\"\",\"\",Data!A376)","v":""},{"$f":"IF(Data!D376=\"\",\"\",Data!D376)","v":""},{"$f":"IF(Data!B376=\"\",\"\",Data!B376)","v":""},{"$error":"#VALUE!"},{"$error":"#VALUE!"},{"$error":"#VALUE!"}]
[{"$f":"IF(Data!E377=\"\",\"\",Data!E377)","v":""},{"$f":"IF(Data!C377=\"\",\"\",Data!C377)","v":""},{"$f":"IF(Data!A377=\"\",\"\",Data!A377)","v":""},{"$f":"IF(Data!D377=\"\",\"\",Data!D377)","v":""},{"$f":"IF(Data!B377=\"\",\"\",Data!B377)","v":""},{"$error":"#VALUE!"},{"$error":"#VALUE!"},{"$error":"#VALUE!"}]
[{"$f":"IF(Data!E378=\"\",\"\",Data!E378)","v":""},{"$f":"IF(Data!C378=\"\",\"\",Data!C378)","v":""},{"$f":"IF(Data!A378=\"\",\"\",Data!A378)","v":""},{"$f":"IF(Data!D378=\"\",\"\",Data!D378)","v":""},{"$f":"IF(Data!B378=\"\",\"\",Data!B378)","v":""},{"$error":"#VALUE!"},{"$error":"#VALUE!"},{"$error":"#VALUE!"}]
[{"$f":"IF(Data!E379=\"\",\"\",Data!E379)","v":""},{"$f":"IF(Data!C379=\"\",\"\",Data!C379)","v":""},{"$f":"IF(Data!A379=\"\",\"\",Data!A379)","v":""},{"$f":"IF(Data!D379=\"\",\"\",Data!D379)","v":""},{"$f":"IF(Data!B379=\"\",\"\",Data!B379)","v":""},{"$error":"#VALUE!"},{"$error":"#VALUE!"},{"$error":"#VALUE!"}]
[{"$f":"IF(Data!E380=\"\",\"\",Data!E380)","v":""},{"$f":"IF(Data!C380=\"\",\"\",Data!C380)","v":""},{"$f":"IF(Data!A380=\"\",\"\",Data!A380)","v":""},{"$f":"IF(Data!D380=\"\",\"\",Data!D380)","v":""},{"$f":"IF(Data!B380=\"\",\"\",Data!B380)","v":""},{"$error":"#VALUE!"},{"$error":"#VALUE!"},{"$error":"#VALUE!"}]
[{"$f":"IF(Data!E381=\"\",\"\",Data!E381)","v":""},{"$f":"IF(Data!C381=\"\",\"\",Data!C381)","v":""},{"$f":"IF(Data!A381=\"\",\"\",Data!A381)","v":""},{"$f":"IF(Data!D381=\"\",\"\",Data!D381)","v":""},{"$f":"IF(Data!B381=\"\",\"\",Data!B381)","v":""},{"$error":"#VALUE!"},{"$error":"#VALUE!"},{"$error":"#VALUE!"}]
[{"$f":"IF(Data!E382=\"\",\"\",Data!E382)","v":""},{"$f":"IF(Data!C382=\"\",\"\",Data!C382)","v":""},{"$f":"IF(Data!A382=\"\",\"\",Data!A382)","v":""},{"$f":"IF(Data!D382=\"\",\"\",Data!D382)","v":""},{"$f":"IF(Data!B382=\"\",\"\",Data!B382)","v":""},{"$error":"#VALUE!"},{"$error":"#VALUE!"},{"$error":"#VALUE!"}]
[{"$f":"IF(Data!E383=\"\",\"\",Data!E383)","v":""},{"$f":"IF(Data!C383=\"\",\"\",Data!C383)","v":""},{"$f":"IF(Data!A383=\"\",\"\",Data!A383)","v":""},{"$f":"IF(Data!D383=\"\",\"\",Data!D383)","v":""},{"$f":"IF(Data!B383=\"\",\"\",Data!B383)","v":""},{"$error":"#VALUE!"},{"$error":"#VALUE!"},{"$error":"#VALUE!"}]
[{"$f":"IF(Data!E384=\"\",\"\",Data!E384)","v":""},{"$f":"IF(Data!C384=\"\",\"\",Data!C384)","v":""},{"$f":"IF(Data!A384=\"\",\"\",Data!A384)","v":""},{"$f":"IF(Data!D384=\"\",\"\",Data!D384)","v":""},{"$f":"IF(Data!B384=\"\",\"\",Data!B384)","v":""},{"$error":"#VALUE!"},{"$error":"#VALUE!"},{"$error":"#VALUE!"}]
[{"$f":"IF(Data!E385=\"\",\"\",Data!E385)","v":""},{"$f":"IF(Data!C385=\"\",\"\",Data!C385)","v":""},{"$f":"IF(Data!A385=\"\",\"\",Data!A385)","v":""},{"$f":"IF(Data!D385=\"\",\"\",Data!D385)","v":""},{"$f":"IF(Data!B385=\"\",\"\",Data!B385)","v":""},{"$error":"#VALUE!"},{"$error":"#VALUE!"},{"$error":"#VALUE!"}]
[{"$f":"IF(Data!E386=\"\",\"\",Data!E386)","v":""},{"$f":"IF(Data!C386=\"\",\"\",Data!C386)","v":""},{"$f":"IF(Data!A386=\"\",\"\",Data!A386)","v":""},{"$f":"IF(Data!D386=\"\",\"\",Data!D386)","v":""},{"$f":"IF(Data!B386=\"\",\"\",Data!B386)","v":""},{"$error":"#VALUE!"},{"$error":"#VALUE!"},{"$error":"#VALUE!"}]
[{"$f":"IF(Data!E387=\"\",\"\",Data!E387)","v":""},{"$f":"IF(Data!C387=\"\",\"\",Data!C387)","v":""},{"$f":"IF(Data!A387=\"\",\"\",Data!A387)","v":""},{"$f":"IF(Data!D387=\"\",\"\",Data!D387)","v":""},{"$f":"IF(Data!B387=\"\",\"\",Data!B387)","v":""},{"$error":"#VALUE!"},{"$error":"#VALUE!"},{"$error":"#VALUE!"}]
[{"$f":"IF(Data!E388=\"\",\"\",Data!E388)","v":""},{"$f":"IF(Data!C388=\"\",\"\",Data!C388)","v":""},{"$f":"IF(Data!A388=\"\",\"\",Data!A388)","v":""},{"$f":"IF(Data!D388=\"\",\"\",Data!D388)","v":""},{"$f":"IF(Data!B388=\"\",\"\",Data!B388)","v":""},{"$error":"#VALUE!"},{"$error":"#VALUE!"},{"$error":"#VALUE!"}]
[{"$f":"IF(Data!E389=\"\",\"\",Data!E389)","v":""},{"$f":"IF(Data!C389=\"\",\"\",Data!C389)","v":""},{"$f":"IF(Data!A389=\"\",\"\",Data!A389)","v":""},{"$f":"IF(Data!D389=\"\",\"\",Data!D389)","v":""},{"$f":"IF(Data!B389=\"\",\"\",Data!B389)","v":""},{"$error":"#VALUE!"},{"$error":"#VALUE!"},{"$error":"#VALUE!"}]
[{"$f":"IF(Data!E390=\"\",\"\",Data!E390)","v":""},{"$f":"IF(Data!C390=\"\",\"\",Data!C390)","v":""},{"$f":"IF(Data!A390=\"\",\"\",Data!A390)","v":""},{"$f":"IF(Data!D390=\"\",\"\",Data!D390)","v":""},{"$f":"IF(Data!B390=\"\",\"\",Data!B390)","v":""},{"$error":"#VALUE!"},{"$error":"#VALUE!"},{"$error":"#VALUE!"}]
[{"$f":"IF(Data!E391=\"\",\"\",Data!E391)","v":""},{"$f":"IF(Data!C391=\"\",\"\",Data!C391)","v":""},{"$f":"IF(Data!A391=\"\",\"\",Data!A391)","v":""},{"$f":"IF(Data!D391=\"\",\"\",Data!D391)","v":""},{"$f":"IF(Data!B391=\"\",\"\",Data!B391)","v":""},{"$error":"#VALUE!"},{"$error":"#VALUE!"},{"$error":"#VALUE!"}]
[{"$f":"IF(Data!E392=\"\",\"\",Data!E392)","v":""},{"$f":"IF(Data!C392=\"\",\"\",Data!C392)","v":""},{"$f":"IF(Data!A392=\"\",\"\",Data!A392)","v":""},{"$f":"IF(Data!D392=\"\",\"\",Data!D392)","v":""},{"$f":"IF(Data!B392=\"\",\"\",Data!B392)","v":""},{"$error":"#VALUE!"},{"$error":"#VALUE!"},{"$error":"#VALUE!"}]
[{"$f":"IF(Data!E393=\"\",\"\",Data!E393)","v":""},{"$f":"IF(Data!C393=\"\",\"\",Data!C393)","v":""},{"$f":"IF(Data!A393=\"\",\"\",Data!A393)","v":""},{"$f":"IF(Data!D393=\"\",\"\",Data!D393)","v":""},{"$f":"IF(Data!B393=\"\",\"\",Data!B393)","v":""},{"$error":"#VALUE!"},{"$error":"#VALUE!"},{"$error":"#VALUE!"}]
[{"$f":"IF(Data!E394=\"\",\"\",Data!E394)","v":""},{"$f":"IF(Data!C394=\"\",\"\",Data!C394)","v":""},{"$f":"IF(Data!A394=\"\",\"\",Data!A394)","v":""},{"$f":"IF(Data!D394=\"\",\"\",Data!D394)","v":""},{"$f":"IF(Data!B394=\"\",\"\",Data!B394)","v":""},{"$error":"#VALUE!"},{"$error":"#VALUE!"},{"$error":"#VALUE!"}]
[{"$f":"IF(Data!E395=\"\",\"\",Data!E395)","v":""},{"$f":"IF(Data!C395=\"\",\"\",Data!C395)","v":""},{"$f":"IF(Data!A395=\"\",\"\",Data!A395)","v":""},{"$f":"IF(Data!D395=\"\",\"\",Data!D395)","v":""},{"$f":"IF(Data!B395=\"\",\"\",Data!B395)","v":""},{"$error":"#VALUE!"},{"$error":"#VALUE!"},{"$error":"#VALUE!"}]
[{"$f":"IF(Data!E396=\"\",\"\",Data!E396)","v":""},{"$f":"IF(Data!C396=\"\",\"\",Data!C396)","v":""},{"$f":"IF(Data!A396=\"\",\"\",Data!A396)","v":""},{"$f":"IF(Data!D396=\"\",\"\",Data!D396)","v":""},{"$f":"IF(Data!B396=\"\",\"\",Data!B396)","v":""},{"$f":"IF(E3587>0,MONTH(E3587),\"\")","v":{"$error":"#VALUE!"}},{"$f":"IF(E3587>0,WEEKNUM(E3587),\"0\")","v":{"$error":"#VALUE!"}},{"$f":"IF(G3587>=($G$2-3),\"Ano\",\"Nie\")","v":{"$error":"#VALUE!"}}]
[{"$f":"IF(Data!E397=\"\",\"\",Data!E397)","v":""},{"$f":"IF(Data!C397=\"\",\"\",Data!C397)","v":""},{"$f":"IF(Data!A397=\"\",\"\",Data!A397)","v":""},{"$f":"IF(Data!D397=\"\",\"\",Data!D397)","v":""},{"$f":"IF(Data!B397=\"\",\"\",Data!B397)","v":""},{"$error":"#VALUE!"},{"$error":"#VALUE!"},{"$error":"#VALUE!"}]
[{"$f":"IF(Data!E398=\"\",\"\",Data!E398)","v":""},{"$f":"IF(Data!C398=\"\",\"\",Data!C398)","v":""},{"$f":"IF(Data!A398=\"\",\"\",Data!A398)","v":""},{"$f":"IF(Data!D398=\"\",\"\",Data!D398)","v":""},{"$f":"IF(Data!B398=\"\",\"\",Data!B398)","v":""},{"$error":"#VALUE!"},{"$error":"#VALUE!"},{"$error":"#VALUE!"}]
[{"$f":"IF(Data!E399=\"\",\"\",Data!E399)","v":""},{"$f":"IF(Data!C399=\"\",\"\",Data!C399)","v":""},{"$f":"IF(Data!A399=\"\",\"\",Data!A399)","v":""},{"$f":"IF(Data!D399=\"\",\"\",Data!D399)","v":""},{"$f":"IF(Data!B399=\"\",\"\",Data!B399)","v":""},{"$error":"#VALUE!"},{"$error":"#VALUE!"},{"$error":"#VALUE!"}]
[{"$f":"IF(Data!E400=\"\",\"\",Data!E400)","v":""},{"$f":"IF(Data!C400=\"\",\"\",Data!C400)","v":""},{"$f":"IF(Data!A400=\"\",\"\",Data!A400)","v":""},{"$f":"IF(Data!D400=\"\",\"\",Data!D400)","v":""},{"$f":"IF(Data!B400=\"\",\"\",Data!B400)","v":""},{"$error":"#VALUE!"},{"$error":"#VALUE!"},{"$error":"#VALUE!"}]
[{"$f":"IF(Data!E401=\"\",\"\",Data!E401)","v":""},{"$f":"IF(Data!C401=\"\",\"\",Data!C401)","v":""},{"$f":"IF(Data!A401=\"\",\"\",Data!A401)","v":""},{"$f":"IF(Data!D401=\"\",\"\",Data!D401)","v":""},{"$f":"IF(Data!B401=\"\",\"\",Data!B401)","v":""},{"$error":"#VALUE!"},{"$error":"#VALUE!"},{"$error":"#VALUE!"}]
[{"$f":"IF(Data!E402=\"\",\"\",Data!E402)","v":""},{"$f":"IF(Data!C402=\"\",\"\",Data!C402)","v":""},{"$f":"IF(Data!A402=\"\",\"\",Data!A402)","v":""},{"$f":"IF(Data!D402=\"\",\"\",Data!D402)","v":""},{"$f":"IF(Data!B402=\"\",\"\",Data!B402)","v":""},{"$error":"#VALUE!"},{"$error":"#VALUE!"},{"$error":"#VALUE!"}]
[{"$f":"IF(Data!E403=\"\",\"\",Data!E403)","v":""},{"$f":"IF(Data!C403=\"\",\"\",Data!C403)","v":""},{"$f":"IF(Data!A403=\"\",\"\",Data!A403)","v":""},{"$f":"IF(Data!D403=\"\",\"\",Data!D403)","v":""},{"$f":"IF(Data!B403=\"\",\"\",Data!B403)","v":""},{"$error":"#VALUE!"},{"$error":"#VALUE!"},{"$error":"#VALUE!"}]
[{"$f":"IF(Data!E404=\"\",\"\",Data!E404)","v":""},{"$f":"IF(Data!C404=\"\",\"\",Data!C404)","v":""},{"$f":"IF(Data!A404=\"\",\"\",Data!A404)","v":""},{"$f":"IF(Data!D404=\"\",\"\",Data!D404)","v":""},{"$f":"IF(Data!B404=\"\",\"\",Data!B404)","v":""},{"$error":"#VALUE!"},{"$error":"#VALUE!"},{"$error":"#VALUE!"}]
[{"$f":"IF(Data!E405=\"\",\"\",Data!E405)","v":""},{"$f":"IF(Data!C405=\"\",\"\",Data!C405)","v":""},{"$f":"IF(Data!A405=\"\",\"\",Data!A405)","v":""},{"$f":"IF(Data!D405=\"\",\"\",Data!D405)","v":""},{"$f":"IF(Data!B405=\"\",\"\",Data!B405)","v":""},{"$error":"#VALUE!"},{"$error":"#VALUE!"},{"$error":"#VALUE!"}]
[{"$f":"IF(Data!E406=\"\",\"\",Data!E406)","v":""},{"$f":"IF(Data!C406=\"\",\"\",Data!C406)","v":""},{"$f":"IF(Data!A406=\"\",\"\",Data!A406)","v":""},{"$f":"IF(Data!D406=\"\",\"\",Data!D406)","v":""},{"$f":"IF(Data!B406=\"\",\"\",Data!B406)","v":""},{"$error":"#VALUE!"},{"$error":"#VALUE!"},{"$error":"#VALUE!"}]
[{"$f":"IF(Data!E407=\"\",\"\",Data!E407)","v":""},{"$f":"IF(Data!C407=\"\",\"\",Data!C407)","v":""},{"$f":"IF(Data!A407=\"\",\"\",Data!A407)","v":""},{"$f":"IF(Data!D407=\"\",\"\",Data!D407)","v":""},{"$f":"IF(Data!B407=\"\",\"\",Data!B407)","v":""},{"$error":"#VALUE!"},{"$error":"#VALUE!"},{"$error":"#VALUE!"}]
[{"$f":"IF(Data!E408=\"\",\"\",Data!E408)","v":""},{"$f":"IF(Data!C408=\"\",\"\",Data!C408)","v":""},{"$f":"IF(Data!A408=\"\",\"\",Data!A408)","v":""},{"$f":"IF(Data!D408=\"\",\"\",Data!D408)","v":""},{"$f":"IF(Data!B408=\"\",\"\",Data!B408)","v":""},{"$error":"#VALUE!"},{"$error":"#VALUE!"},{"$error":"#VALUE!"}]
[{"$f":"IF(Data!E409=\"\",\"\",Data!E409)","v":""},{"$f":"IF(Data!C409=\"\",\"\",Data!C409)","v":""},{"$f":"IF(Data!A409=\"\",\"\",Data!A409)","v":""},{"$f":"IF(Data!D409=\"\",\"\",Data!D409)","v":""},{"$f":"IF(Data!B409=\"\",\"\",Data!B409)","v":""},{"$error":"#VALUE!"},{"$error":"#VALUE!"},{"$error":"#VALUE!"}]
[{"$f":"IF(Data!E410=\"\",\"\",Data!E410)","v":""},{"$f":"IF(Data!C410=\"\",\"\",Data!C410)","v":""},{"$f":"IF(Data!A410=\"\",\"\",Data!A410)","v":""},{"$f":"IF(Data!D410=\"\",\"\",Data!D410)","v":""},{"$f":"IF(Data!B410=\"\",\"\",Data!B410)","v":""},{"$error":"#VALUE!"},{"$error":"#VALUE!"},{"$error":"#VALUE!"}]
[{"$f":"IF(Data!E411=\"\",\"\",Data!E411)","v":""},{"$f":"IF(Data!C411=\"\",\"\",Data!C411)","v":""},{"$f":"IF(Data!A411=\"\",\"\",Data!A411)","v":""},{"$f":"IF(Data!D411=\"\",\"\",Data!D411)","v":""},{"$f":"IF(Data!B411=\"\",\"\",Data!B411)","v":""},{"$error":"#VALUE!"},{"$error":"#VALUE!"},{"$error":"#VALUE!"}]
[{"$f":"IF(Data!E412=\"\",\"\",Data!E412)","v":""},{"$f":"IF(Data!C412=\"\",\"\",Data!C412)","v":""},{"$f":"IF(Data!A412=\"\",\"\",Data!A412)","v":""},{"$f":"IF(Data!D412=\"\",\"\",Data!D412)","v":""},{"$f":"IF(Data!B412=\"\",\"\",Data!B412)","v":""},{"$error":"#VALUE!"},{"$error":"#VALUE!"},{"$error":"#VALUE!"}]
[{"$f":"IF(Data!E413=\"\",\"\",Data!E413)","v":""},{"$f":"IF(Data!C413=\"\",\"\",Data!C413)","v":""},{"$f":"IF(Data!A413=\"\",\"\",Data!A413)","v":""},{"$f":"IF(Data!D413=\"\",\"\",Data!D413)","v":""},{"$f":"IF(Data!B413=\"\",\"\",Data!B413)","v":""},{"$error":"#VALUE!"},{"$error":"#VALUE!"},{"$error":"#VALUE!"}]
[{"$f":"IF(Data!E414=\"\",\"\",Data!E414)","v":""},{"$f":"IF(Data!C414=\"\",\"\",Data!C414)","v":""},{"$f":"IF(Data!A414=\"\",\"\",Data!A414)","v":""},{"$f":"IF(Data!D414=\"\",\"\",Data!D414)","v":""},{"$f":"IF(Data!B414=\"\",\"\",Data!B414)","v":""},{"$error":"#VALUE!"},{"$error":"#VALUE!"},{"$error":"#VALUE!"}]
[{"$f":"IF(Data!E415=\"\",\"\",Data!E415)","v":""},{"$f":"IF(Data!C415=\"\",\"\",Data!C415)","v":""},{"$f":"IF(Data!A415=\"\",\"\",Data!A415)","v":""},{"$f":"IF(Data!D415=\"\",\"\",Data!D415)","v":""},{"$f":"IF(Data!B415=\"\",\"\",Data!B415)","v":""},{"$error":"#VALUE!"},{"$error":"#VALUE!"},{"$error":"#VALUE!"}]
[{"$f":"IF(Data!E416=\"\",\"\",Data!E416)","v":""},{"$f":"IF(Data!C416=\"\",\"\",Data!C416)","v":""},{"$f":"IF(Data!A416=\"\",\"\",Data!A416)","v":""},{"$f":"IF(Data!D416=\"\",\"\",Data!D416)","v":""},{"$f":"IF(Data!B416=\"\",\"\",Data!B416)","v":""},{"$error":"#VALUE!"},{"$error":"#VALUE!"},{"$error":"#VALUE!"}]
[{"$f":"IF(Data!E417=\"\",\"\",Data!E417)","v":""},{"$f":"IF(Data!C417=\"\",\"\",Data!C417)","v":""},{"$f":"IF(Data!A417=\"\",\"\",Data!A417)","v":""},{"$f":"IF(Data!D417=\"\",\"\",Data!D417)","v":""},{"$f":"IF(Data!B417=\"\",\"\",Data!B417)","v":""},{"$error":"#VALUE!"},{"$error":"#VALUE!"},{"$error":"#VALUE!"}]
[{"$f":"IF(Data!E418=\"\",\"\",Data!E418)","v":""},{"$f":"IF(Data!C418=\"\",\"\",Data!C418)","v":""},{"$f":"IF(Data!A418=\"\",\"\",Data!A418)","v":""},{"$f":"IF(Data!D418=\"\",\"\",Data!D418)","v":""},{"$f":"IF(Data!B418=\"\",\"\",Data!B418)","v":""},{"$error":"#VALUE!"},{"$error":"#VALUE!"},{"$error":"#VALUE!"}]
[{"$f":"IF(Data!E419=\"\",\"\",Data!E419)","v":""},{"$f":"IF(Data!C419=\"\",\"\",Data!C419)","v":""},{"$f":"IF(Data!A419=\"\",\"\",Data!A419)","v":""},{"$f":"IF(Data!D419=\"\",\"\",Data!D419)","v":""},{"$f":"IF(Data!B419=\"\",\"\",Data!B419)","v":""},{"$error":"#VALUE!"},{"$error":"#VALUE!"},{"$error":"#VALUE!"}]
[{"$f":"IF(Data!E420=\"\",\"\",Data!E420)","v":""},{"$f":"IF(Data!C420=\"\",\"\",Data!C420)","v":""},{"$f":"IF(Data!A420=\"\",\"\",Data!A420)","v":""},{"$f":"IF(Data!D420=\"\",\"\",Data!D420)","v":""},{"$f":"IF(Data!B420=\"\",\"\",Data!B420)","v":""},{"$error":"#VALUE!"},{"$error":"#VALUE!"},{"$error":"#VALUE!"}]
[{"$f":"IF(Data!E421=\"\",\"\",Data!E421)","v":""},{"$f":"IF(Data!C421=\"\",\"\",Data!C421)","v":""},{"$f":"IF(Data!A421=\"\",\"\",Data!A421)","v":""},{"$f":"IF(Data!D421=\"\",\"\",Data!D421)","v":""},{"$f":"IF(Data!B421=\"\",\"\",Data!B421)","v":""},{"$error":"#VALUE!"},{"$error":"#VALUE!"},{"$error":"#VALUE!"}]
[{"$f":"IF(Data!E422=\"\",\"\",Data!E422)","v":""},{"$f":"IF(Data!C422=\"\",\"\",Data!C422)","v":""},{"$f":"IF(Data!A422=\"\",\"\",Data!A422)","v":""},{"$f":"IF(Data!D422=\"\",\"\",Data!D422)","v":""},{"$f":"IF(Data!B422=\"\",\"\",Data!B422)","v":""},{"$error":"#VALUE!"},{"$error":"#VALUE!"},{"$error":"#VALUE!"}]
[{"$f":"IF(Data!E423=\"\",\"\",Data!E423)","v":""},{"$f":"IF(Data!C423=\"\",\"\",Data!C423)","v":""},{"$f":"IF(Data!A423=\"\",\"\",Data!A423)","v":""},{"$f":"IF(Data!D423=\"\",\"\",Data!D423)","v":""},{"$f":"IF(Data!B423=\"\",\"\",Data!B423)","v":""},{"$error":"#VALUE!"},{"$error":"#VALUE!"},{"$error":"#VALUE!"}]
[{"$f":"IF(Data!E424=\"\",\"\",Data!E424)","v":""},{"$f":"IF(Data!C424=\"\",\"\",Data!C424)","v":""},{"$f":"IF(Data!A424=\"\",\"\",Data!A424)","v":""},{"$f":"IF(Data!D424=\"\",\"\",Data!D424)","v":""},{"$f":"IF(Data!B424=\"\",\"\",Data!B424)","v":""},{"$error":"#VALUE!"},{"$error":"#VALUE!"},{"$error":"#VALUE!"}]
[{"$f":"IF(Data!E425=\"\",\"\",Data!E425)","v":""},{"$f":"IF(Data!C425=\"\",\"\",Data!C425)","v":""},{"$f":"IF(Data!A425=\"\",\"\",Data!A425)","v":""},{"$f":"IF(Data!D425=\"\",\"\",Data!D425)","v":""},{"$f":"IF(Data!B425=\"\",\"\",Data!B425)","v":""},{"$error":"#VALUE!"},{"$error":"#VALUE!"},{"$error":"#VALUE!"}]
[{"$f":"IF(Data!E426=\"\",\"\",Data!E426)","v":""},{"$f":"IF(Data!C426=\"\",\"\",Data!C426)","v":""},{"$f":"IF(Data!A426=\"\",\"\",Data!A426)","v":""},{"$f":"IF(Data!D426=\"\",\"\",Data!D426)","v":""},{"$f":"IF(Data!B426=\"\",\"\",Data!B426)","v":""},{"$error":"#VALUE!"},{"$error":"#VALUE!"},{"$error":"#VALUE!"}]
[{"$f":"IF(Data!E427=\"\",\"\",Data!E427)","v":""},{"$f":"IF(Data!C427=\"\",\"\",Data!C427)","v":""},{"$f":"IF(Data!A427=\"\",\"\",Data!A427)","v":""},{"$f":"IF(Data!D427=\"\",\"\",Data!D427)","v":""},{"$f":"IF(Data!B427=\"\",\"\",Data!B427)","v":""},{"$error":"#VALUE!"},{"$error":"#VALUE!"},{"$error":"#VALUE!"}]
[{"$f":"IF(Data!E428=\"\",\"\",Data!E428)","v":""},{"$f":"IF(Data!C428=\"\",\"\",Data!C428)","v":""},{"$f":"IF(Data!A428=\"\",\"\",Data!A428)","v":""},{"$f":"IF(Data!D428=\"\",\"\",Data!D428)","v":""},{"$f":"IF(Data!B428=\"\",\"\",Data!B428)","v":""},{"$error":"#VALUE!"},{"$error":"#VALUE!"},{"$error":"#VALUE!"}]
[{"$f":"IF(Data!E429=\"\",\"\",Data!E429)","v":""},{"$f":"IF(Data!C429=\"\",\"\",Data!C429)","v":""},{"$f":"IF(Data!A429=\"\",\"\",Data!A429)","v":""},{"$f":"IF(Data!D429=\"\",\"\",Data!D429)","v":""},{"$f":"IF(Data!B429=\"\",\"\",Data!B429)","v":""},{"$error":"#VALUE!"},{"$error":"#VALUE!"},{"$error":"#VALUE!"}]
[{"$f":"IF(Data!E430=\"\",\"\",Data!E430)","v":""},{"$f":"IF(Data!C430=\"\",\"\",Data!C430)","v":""},{"$f":"IF(Data!A430=\"\",\"\",Data!A430)","v":""},{"$f":"IF(Data!D430=\"\",\"\",Data!D430)","v":""},{"$f":"IF(Data!B430=\"\",\"\",Data!B430)","v":""},{"$error":"#VALUE!"},{"$error":"#VALUE!"},{"$error":"#VALUE!"}]
[{"$f":"IF(Data!E431=\"\",\"\",Data!E431)","v":""},{"$f":"IF(Data!C431=\"\",\"\",Data!C431)","v":""},{"$f":"IF(Data!A431=\"\",\"\",Data!A431)","v":""},{"$f":"IF(Data!D431=\"\",\"\",Data!D431)","v":""},{"$f":"IF(Data!B431=\"\",\"\",Data!B431)","v":""},{"$error":"#VALUE!"},{"$error":"#VALUE!"},{"$error":"#VALUE!"}]
[{"$f":"IF(Data!E432=\"\",\"\",Data!E432)","v":""},{"$f":"IF(Data!C432=\"\",\"\",Data!C432)","v":""},{"$f":"IF(Data!A432=\"\",\"\",Data!A432)","v":""},{"$f":"IF(Data!D432=\"\",\"\",Data!D432)","v":""},{"$f":"IF(Data!B432=\"\",\"\",Data!B432)","v":""},{"$error":"#VALUE!"},{"$error":"#VALUE!"},{"$error":"#VALUE!"}]
[{"$f":"IF(Data!E433=\"\",\"\",Data!E433)","v":""},{"$f":"IF(Data!C433=\"\",\"\",Data!C433)","v":""},{"$f":"IF(Data!A433=\"\",\"\",Data!A433)","v":""},{"$f":"IF(Data!D433=\"\",\"\",Data!D433)","v":""},{"$f":"IF(Data!B433=\"\",\"\",Data!B433)","v":""},{"$error":"#VALUE!"},{"$error":"#VALUE!"},{"$error":"#VALUE!"}]
[{"$f":"IF(Data!E434=\"\",\"\",Data!E434)","v":""},{"$f":"IF(Data!C434=\"\",\"\",Data!C434)","v":""},{"$f":"IF(Data!A434=\"\",\"\",Data!A434)","v":""},{"$f":"IF(Data!D434=\"\",\"\",Data!D434)","v":""},{"$f":"IF(Data!B434=\"\",\"\",Data!B434)","v":""},{"$error":"#VALUE!"},{"$error":"#VALUE!"},{"$error":"#VALUE!"}]
[{"$f":"IF(Data!E435=\"\",\"\",Data!E435)","v":""},{"$f":"IF(Data!C435=\"\",\"\",Data!C435)","v":""},{"$f":"IF(Data!A435=\"\",\"\",Data!A435)","v":""},{"$f":"IF(Data!D435=\"\",\"\",Data!D435)","v":""},{"$f":"IF(Data!B435=\"\",\"\",Data!B435)","v":""},{"$error":"#VALUE!"},{"$error":"#VALUE!"},{"$error":"#VALUE!"}]
[{"$f":"IF(Data!E436=\"\",\"\",Data!E436)","v":""},{"$f":"IF(Data!C436=\"\",\"\",Data!C436)","v":""},{"$f":"IF(Data!A436=\"\",\"\",Data!A436)","v":""},{"$f":"IF(Data!D436=\"\",\"\",Data!D436)","v":""},{"$f":"IF(Data!B436=\"\",\"\",Data!B436)","v":""},{"$error":"#VALUE!"},{"$error":"#VALUE!"},{"$error":"#VALUE!"}]
[{"$f":"IF(Data!E437=\"\",\"\",Data!E437)","v":""},{"$f":"IF(Data!C437=\"\",\"\",Data!C437)","v":""},{"$f":"IF(Data!A437=\"\",\"\",Data!A437)","v":""},{"$f":"IF(Data!D437=\"\",\"\",Data!D437)","v":""},{"$f":"IF(Data!B437=\"\",\"\",Data!B437)","v":""},{"$error":"#VALUE!"},{"$error":"#VALUE!"},{"$error":"#VALUE!"}]
[{"$f":"IF(Data!E438=\"\",\"\",Data!E438)","v":""},{"$f":"IF(Data!C438=\"\",\"\",Data!C438)","v":""},{"$f":"IF(Data!A438=\"\",\"\",Data!A438)","v":""},{"$f":"IF(Data!D438=\"\",\"\",Data!D438)","v":""},{"$f":"IF(Data!B438=\"\",\"\",Data!B438)","v":""},{"$error":"#VALUE!"},{"$error":"#VALUE!"},{"$error":"#VALUE!"}]
[{"$f":"IF(Data!E439=\"\",\"\",Data!E439)","v":""},{"$f":"IF(Data!C439=\"\",\"\",Data!C439)","v":""},{"$f":"IF(Data!A439=\"\",\"\",Data!A439)","v":""},{"$f":"IF(Data!D439=\"\",\"\",Data!D439)","v":""},{"$f":"IF(Data!B439=\"\",\"\",Data!B439)","v":""},{"$error":"#VALUE!"},{"$error":"#VALUE!"},{"$error":"#VALUE!"}]
[{"$f":"IF(Data!E440=\"\",\"\",Data!E440)","v":""},{"$f":"IF(Data!C440=\"\",\"\",Data!C440)","v":""},{"$f":"IF(Data!A440=\"\",\"\",Data!A440)","v":""},{"$f":"IF(Data!D440=\"\",\"\",Data!D440)","v":""},{"$f":"IF(Data!B440=\"\",\"\",Data!B440)","v":""},{"$error":"#VALUE!"},{"$error":"#VALUE!"},{"$error":"#VALUE!"}]
[{"$f":"IF(Data!E441=\"\",\"\",Data!E441)","v":""},{"$f":"IF(Data!C441=\"\",\"\",Data!C441)","v":""},{"$f":"IF(Data!A441=\"\",\"\",Data!A441)","v":""},{"$f":"IF(Data!D441=\"\",\"\",Data!D441)","v":""},{"$f":"IF(Data!B441=\"\",\"\",Data!B441)","v":""},{"$error":"#VALUE!"},{"$error":"#VALUE!"},{"$error":"#VALUE!"}]
[{"$f":"IF(Data!E442=\"\",\"\",Data!E442)","v":""},{"$f":"IF(Data!C442=\"\",\"\",Data!C442)","v":""},{"$f":"IF(Data!A442=\"\",\"\",Data!A442)","v":""},{"$f":"IF(Data!D442=\"\",\"\",Data!D442)","v":""},{"$f":"IF(Data!B442=\"\",\"\",Data!B442)","v":""},{"$error":"#VALUE!"},{"$error":"#VALUE!"},{"$error":"#VALUE!"}]
[{"$f":"IF(Data!E443=\"\",\"\",Data!E443)","v":""},{"$f":"IF(Data!C443=\"\",\"\",Data!C443)","v":""},{"$f":"IF(Data!A443=\"\",\"\",Data!A443)","v":""},{"$f":"IF(Data!D443=\"\",\"\",Data!D443)","v":""},{"$f":"IF(Data!B443=\"\",\"\",Data!B443)","v":""},{"$error":"#VALUE!"},{"$error":"#VALUE!"},{"$error":"#VALUE!"}]
[{"$f":"IF(Data!E444=\"\",\"\",Data!E444)","v":""},{"$f":"IF(Data!C444=\"\",\"\",Data!C444)","v":""},{"$f":"IF(Data!A444=\"\",\"\",Data!A444)","v":""},{"$f":"IF(Data!D444=\"\",\"\",Data!D444)","v":""},{"$f":"IF(Data!B444=\"\",\"\",Data!B444)","v":""},{"$error":"#VALUE!"},{"$error":"#VALUE!"},{"$error":"#VALUE!"}]
[{"$f":"IF(Data!E445=\"\",\"\",Data!E445)","v":""},{"$f":"IF(Data!C445=\"\",\"\",Data!C445)","v":""},{"$f":"IF(Data!A445=\"\",\"\",Data!A445)","v":""},{"$f":"IF(Data!D445=\"\",\"\",Data!D445)","v":""},{"$f":"IF(Data!B445=\"\",\"\",Data!B445)","v":""},{"$error":"#VALUE!"},{"$error":"#VALUE!"},{"$error":"#VALUE!"}]
[{"$f":"IF(Data!E446=\"\",\"\",Data!E446)","v":""},{"$f":"IF(Data!C446=\"\",\"\",Data!C446)","v":""},{"$f":"IF(Data!A446=\"\",\"\",Data!A446)","v":""},{"$f":"IF(Data!D446=\"\",\"\",Data!D446)","v":""},{"$f":"IF(Data!B446=\"\",\"\",Data!B446)","v":""},{"$error":"#VALUE!"},{"$error":"#VALUE!"},{"$error":"#VALUE!"}]
[{"$f":"IF(Data!E447=\"\",\"\",Data!E447)","v":""},{"$f":"IF(Data!C447=\"\",\"\",Data!C447)","v":""},{"$f":"IF(Data!A447=\"\",\"\",Data!A447)","v":""},{"$f":"IF(Data!D447=\"\",\"\",Data!D447)","v":""},{"$f":"IF(Data!B447=\"\",\"\",Data!B447)","v":""},{"$error":"#VALUE!"},{"$error":"#VALUE!"},{"$error":"#VALUE!"}]
[{"$f":"IF(Data!E448=\"\",\"\",Data!E448)","v":""},{"$f":"IF(Data!C448=\"\",\"\",Data!C448)","v":""},{"$f":"IF(Data!A448=\"\",\"\",Data!A448)","v":""},{"$f":"IF(Data!D448=\"\",\"\",Data!D448)","v":""},{"$f":"IF(Data!B448=\"\",\"\",Data!B448)","v":""},{"$error":"#VALUE!"},{"$error":"#VALUE!"},{"$error":"#VALUE!"}]
[{"$f":"IF(Data!E449=\"\",\"\",Data!E449)","v":""},{"$f":"IF(Data!C449=\"\",\"\",Data!C449)","v":""},{"$f":"IF(Data!A449=\"\",\"\",Data!A449)","v":""},{"$f":"IF(Data!D449=\"\",\"\",Data!D449)","v":""},{"$f":"IF(Data!B449=\"\",\"\",Data!B449)","v":""},{"$error":"#VALUE!"},{"$error":"#VALUE!"},{"$error":"#VALUE!"}]
[{"$f":"IF(Data!E450=\"\",\"\",Data!E450)","v":""},{"$f":"IF(Data!C450=\"\",\"\",Data!C450)","v":""},{"$f":"IF(Data!A450=\"\",\"\",Data!A450)","v":""},{"$f":"IF(Data!D450=\"\",\"\",Data!D450)","v":""},{"$f":"IF(Data!B450=\"\",\"\",Data!B450)","v":""},{"$error":"#VALUE!"},{"$error":"#VALUE!"},{"$error":"#VALUE!"}]
[{"$f":"IF(Data!E451=\"\",\"\",Data!E451)","v":""},{"$f":"IF(Data!C451=\"\",\"\",Data!C451)","v":""},{"$f":"IF(Data!A451=\"\",\"\",Data!A451)","v":""},{"$f":"IF(Data!D451=\"\",\"\",Data!D451)","v":""},{"$f":"IF(Data!B451=\"\",\"\",Data!B451)","v":""},{"$error":"#VALUE!"},{"$error":"#VALUE!"},{"$error":"#VALUE!"}]
[{"$f":"IF(Data!E452=\"\",\"\",Data!E452)","v":""},{"$f":"IF(Data!C452=\"\",\"\",Data!C452)","v":""},{"$f":"IF(Data!A452=\"\",\"\",Data!A452)","v":""},{"$f":"IF(Data!D452=\"\",\"\",Data!D452)","v":""},{"$f":"IF(Data!B452=\"\",\"\",Data!B452)","v":""},{"$error":"#VALUE!"},{"$error":"#VALUE!"},{"$error":"#VALUE!"}]
[{"$f":"IF(Data!E453=\"\",\"\",Data!E453)","v":""},{"$f":"IF(Data!C453=\"\",\"\",Data!C453)","v":""},{"$f":"IF(Data!A453=\"\",\"\",Data!A453)","v":""},{"$f":"IF(Data!D453=\"\",\"\",Data!D453)","v":""},{"$f":"IF(Data!B453=\"\",\"\",Data!B453)","v":""},{"$error":"#VALUE!"},{"$error":"#VALUE!"},{"$error":"#VALUE!"}]
[{"$f":"IF(Data!E454=\"\",\"\",Data!E454)","v":""},{"$f":"IF(Data!C454=\"\",\"\",Data!C454)","v":""},{"$f":"IF(Data!A454=\"\",\"\",Data!A454)","v":""},{"$f":"IF(Data!D454=\"\",\"\",Data!D454)","v":""},{"$f":"IF(Data!B454=\"\",\"\",Data!B454)","v":""},{"$error":"#VALUE!"},{"$error":"#VALUE!"},{"$error":"#VALUE!"}]
[{"$f":"IF(Data!E455=\"\",\"\",Data!E455)","v":""},{"$f":"IF(Data!C455=\"\",\"\",Data!C455)","v":""},{"$f":"IF(Data!A455=\"\",\"\",Data!A455)","v":""},{"$f":"IF(Data!D455=\"\",\"\",Data!D455)","v":""},{"$f":"IF(Data!B455=\"\",\"\",Data!B455)","v":""},{"$error":"#VALUE!"},{"$error":"#VALUE!"},{"$error":"#VALUE!"}]
[{"$f":"IF(Data!E456=\"\",\"\",Data!E456)","v":""},{"$f":"IF(Data!C456=\"\",\"\",Data!C456)","v":""},{"$f":"IF(Data!A456=\"\",\"\",Data!A456)","v":""},{"$f":"IF(Data!D456=\"\",\"\",Data!D456)","v":""},{"$f":"IF(Data!B456=\"\",\"\",Data!B456)","v":""},{"$error":"#VALUE!"},{"$error":"#VALUE!"},{"$error":"#VALUE!"}]
[{"$f":"IF(Data!E457=\"\",\"\",Data!E457)","v":""},{"$f":"IF(Data!C457=\"\",\"\",Data!C457)","v":""},{"$f":"IF(Data!A457=\"\",\"\",Data!A457)","v":""},{"$f":"IF(Data!D457=\"\",\"\",Data!D457)","v":""},{"$f":"IF(Data!B457=\"\",\"\",Data!B457)","v":""},{"$error":"#VALUE!"},{"$error":"#VALUE!"},{"$error":"#VALUE!"}]
[{"$f":"IF(Data!E458=\"\",\"\",Data!E458)","v":""},{"$f":"IF(Data!C458=\"\",\"\",Data!C458)","v":""},{"$f":"IF(Data!A458=\"\",\"\",Data!A458)","v":""},{"$f":"IF(Data!D458=\"\",\"\",Data!D458)","v":""},{"$f":"IF(Data!B458=\"\",\"\",Data!B458)","v":""},{"$error":"#VALUE!"},{"$error":"#VALUE!"},{"$error":"#VALUE!"}]
[{"$f":"IF(Data!E459=\"\",\"\",Data!E459)","v":""},{"$f":"IF(Data!C459=\"\",\"\",Data!C459)","v":""},{"$f":"IF(Data!A459=\"\",\"\",Data!A459)","v":""},{"$f":"IF(Data!D459=\"\",\"\",Data!D459)","v":""},{"$f":"IF(Data!B459=\"\",\"\",Data!B459)","v":""},{"$error":"#VALUE!"},{"$error":"#VALUE!"},{"$error":"#VALUE!"}]
[{"$f":"IF(Data!E460=\"\",\"\",Data!E460)","v":""},{"$f":"IF(Data!C460=\"\",\"\",Data!C460)","v":""},{"$f":"IF(Data!A460=\"\",\"\",Data!A460)","v":""},{"$f":"IF(Data!D460=\"\",\"\",Data!D460)","v":""},{"$f":"IF(Data!B460=\"\",\"\",Data!B460)","v":""},{"$f":"IF(E3651>0,MONTH(E3651),\"\")","v":{"$error":"#VALUE!"}},{"$f":"IF(E3651>0,WEEKNUM(E3651),\"0\")","v":{"$error":"#VALUE!"}},{"$f":"IF(G3651>=($G$2-3),\"Ano\",\"Nie\")","v":{"$error":"#VALUE!"}}]
[{"$f":"IF(Data!E461=\"\",\"\",Data!E461)","v":""},{"$f":"IF(Data!C461=\"\",\"\",Data!C461)","v":""},{"$f":"IF(Data!A461=\"\",\"\",Data!A461)","v":""},{"$f":"IF(Data!D461=\"\",\"\",Data!D461)","v":""},{"$f":"IF(Data!B461=\"\",\"\",Data!B461)","v":""},{"$error":"#VALUE!"},{"$error":"#VALUE!"},{"$error":"#VALUE!"}]
[{"$f":"IF(Data!E462=\"\",\"\",Data!E462)","v":""},{"$f":"IF(Data!C462=\"\",\"\",Data!C462)","v":""},{"$f":"IF(Data!A462=\"\",\"\",Data!A462)","v":""},{"$f":"IF(Data!D462=\"\",\"\",Data!D462)","v":""},{"$f":"IF(Data!B462=\"\",\"\",Data!B462)","v":""},{"$error":"#VALUE!"},{"$error":"#VALUE!"},{"$error":"#VALUE!"}]
[{"$f":"IF(Data!E463=\"\",\"\",Data!E463)","v":""},{"$f":"IF(Data!C463=\"\",\"\",Data!C463)","v":""},{"$f":"IF(Data!A463=\"\",\"\",Data!A463)","v":""},{"$f":"IF(Data!D463=\"\",\"\",Data!D463)","v":""},{"$f":"IF(Data!B463=\"\",\"\",Data!B463)","v":""},{"$error":"#VALUE!"},{"$error":"#VALUE!"},{"$error":"#VALUE!"}]
[{"$f":"IF(Data!E464=\"\",\"\",Data!E464)","v":""},{"$f":"IF(Data!C464=\"\",\"\",Data!C464)","v":""},{"$f":"IF(Data!A464=\"\",\"\",Data!A464)","v":""},{"$f":"IF(Data!D464=\"\",\"\",Data!D464)","v":""},{"$f":"IF(Data!B464=\"\",\"\",Data!B464)","v":""},{"$error":"#VALUE!"},{"$error":"#VALUE!"},{"$error":"#VALUE!"}]
[{"$f":"IF(Data!E465=\"\",\"\",Data!E465)","v":""},{"$f":"IF(Data!C465=\"\",\"\",Data!C465)","v":""},{"$f":"IF(Data!A465=\"\",\"\",Data!A465)","v":""},{"$f":"IF(Data!D465=\"\",\"\",Data!D465)","v":""},{"$f":"IF(Data!B465=\"\",\"\",Data!B465)","v":""},{"$error":"#VALUE!"},{"$error":"#VALUE!"},{"$error":"#VALUE!"}]
[{"$f":"IF(Data!E466=\"\",\"\",Data!E466)","v":""},{"$f":"IF(Data!C466=\"\",\"\",Data!C466)","v":""},{"$f":"IF(Data!A466=\"\",\"\",Data!A466)","v":""},{"$f":"IF(Data!D466=\"\",\"\",Data!D466)","v":""},{"$f":"IF(Data!B466=\"\",\"\",Data!B466)","v":""},{"$error":"#VALUE!"},{"$error":"#VALUE!"},{"$error":"#VALUE!"}]
[{"$f":"IF(Data!E467=\"\",\"\",Data!E467)","v":""},{"$f":"IF(Data!C467=\"\",\"\",Data!C467)","v":""},{"$f":"IF(Data!A467=\"\",\"\",Data!A467)","v":""},{"$f":"IF(Data!D467=\"\",\"\",Data!D467)","v":""},{"$f":"IF(Data!B467=\"\",\"\",Data!B467)","v":""},{"$error":"#VALUE!"},{"$error":"#VALUE!"},{"$error":"#VALUE!"}]
[{"$f":"IF(Data!E468=\"\",\"\",Data!E468)","v":""},{"$f":"IF(Data!C468=\"\",\"\",Data!C468)","v":""},{"$f":"IF(Data!A468=\"\",\"\",Data!A468)","v":""},{"$f":"IF(Data!D468=\"\",\"\",Data!D468)","v":""},{"$f":"IF(Data!B468=\"\",\"\",Data!B468)","v":""},{"$error":"#VALUE!"},{"$error":"#VALUE!"},{"$error":"#VALUE!"}]
[{"$f":"IF(Data!E469=\"\",\"\",Data!E469)","v":""},{"$f":"IF(Data!C469=\"\",\"\",Data!C469)","v":""},{"$f":"IF(Data!A469=\"\",\"\",Data!A469)","v":""},{"$f":"IF(Data!D469=\"\",\"\",Data!D469)","v":""},{"$f":"IF(Data!B469=\"\",\"\",Data!B469)","v":""},{"$error":"#VALUE!"},{"$error":"#VALUE!"},{"$error":"#VALUE!"}]
[{"$f":"IF(Data!E470=\"\",\"\",Data!E470)","v":""},{"$f":"IF(Data!C470=\"\",\"\",Data!C470)","v":""},{"$f":"IF(Data!A470=\"\",\"\",Data!A470)","v":""},{"$f":"IF(Data!D470=\"\",\"\",Data!D470)","v":""},{"$f":"IF(Data!B470=\"\",\"\",Data!B470)","v":""},{"$error":"#VALUE!"},{"$error":"#VALUE!"},{"$error":"#VALUE!"}]
[{"$f":"IF(Data!E471=\"\",\"\",Data!E471)","v":""},{"$f":"IF(Data!C471=\"\",\"\",Data!C471)","v":""},{"$f":"IF(Data!A471=\"\",\"\",Data!A471)","v":""},{"$f":"IF(Data!D471=\"\",\"\",Data!D471)","v":""},{"$f":"IF(Data!B471=\"\",\"\",Data!B471)","v":""},{"$error":"#VALUE!"},{"$error":"#VALUE!"},{"$error":"#VALUE!"}]
[{"$f":"IF(Data!E472=\"\",\"\",Data!E472)","v":""},{"$f":"IF(Data!C472=\"\",\"\",Data!C472)","v":""},{"$f":"IF(Data!A472=\"\",\"\",Data!A472)","v":""},{"$f":"IF(Data!D472=\"\",\"\",Data!D472)","v":""},{"$f":"IF(Data!B472=\"\",\"\",Data!B472)","v":""},{"$error":"#VALUE!"},{"$error":"#VALUE!"},{"$error":"#VALUE!"}]
[{"$f":"IF(Data!E473=\"\",\"\",Data!E473)","v":""},{"$f":"IF(Data!C473=\"\",\"\",Data!C473)","v":""},{"$f":"IF(Data!A473=\"\",\"\",Data!A473)","v":""},{"$f":"IF(Data!D473=\"\",\"\",Data!D473)","v":""},{"$f":"IF(Data!B473=\"\",\"\",Data!B473)","v":""},{"$error":"#VALUE!"},{"$error":"#VALUE!"},{"$error":"#VALUE!"}]
[{"$f":"IF(Data!E474=\"\",\"\",Data!E474)","v":""},{"$f":"IF(Data!C474=\"\",\"\",Data!C474)","v":""},{"$f":"IF(Data!A474=\"\",\"\",Data!A474)","v":""},{"$f":"IF(Data!D474=\"\",\"\",Data!D474)","v":""},{"$f":"IF(Data!B474=\"\",\"\",Data!B474)","v":""},{"$error":"#VALUE!"},{"$error":"#VALUE!"},{"$error":"#VALUE!"}]
[{"$f":"IF(Data!E475=\"\",\"\",Data!E475)","v":""},{"$f":"IF(Data!C475=\"\",\"\",Data!C475)","v":""},{"$f":"IF(Data!A475=\"\",\"\",Data!A475)","v":""},{"$f":"IF(Data!D475=\"\",\"\",Data!D475)","v":""},{"$f":"IF(Data!B475=\"\",\"\",Data!B475)","v":""},{"$error":"#VALUE!"},{"$error":"#VALUE!"},{"$error":"#VALUE!"}]
[{"$f":"IF(Data!E476=\"\",\"\",Data!E476)","v":""},{"$f":"IF(Data!C476=\"\",\"\",Data!C476)","v":""},{"$f":"IF(Data!A476=\"\",\"\",Data!A476)","v":""},{"$f":"IF(Data!D476=\"\",\"\",Data!D476)","v":""},{"$f":"IF(Data!B476=\"\",\"\",Data!B476)","v":""},{"$error":"#VALUE!"},{"$error":"#VALUE!"},{"$error":"#VALUE!"}]
[{"$f":"IF(Data!E477=\"\",\"\",Data!E477)","v":""},{"$f":"IF(Data!C477=\"\",\"\",Data!C477)","v":""},{"$f":"IF(Data!A477=\"\",\"\",Data!A477)","v":""},{"$f":"IF(Data!D477=\"\",\"\",Data!D477)","v":""},{"$f":"IF(Data!B477=\"\",\"\",Data!B477)","v":""},{"$error":"#VALUE!"},{"$error":"#VALUE!"},{"$error":"#VALUE!"}]
[{"$f":"IF(Data!E478=\"\",\"\",Data!E478)","v":""},{"$f":"IF(Data!C478=\"\",\"\",Data!C478)","v":""},{"$f":"IF(Data!A478=\"\",\"\",Data!A478)","v":""},{"$f":"IF(Data!D478=\"\",\"\",Data!D478)","v":""},{"$f":"IF(Data!B478=\"\",\"\",Data!B478)","v":""},{"$error":"#VALUE!"},{"$error":"#VALUE!"},{"$error":"#VALUE!"}]
[{"$f":"IF(Data!E479=\"\",\"\",Data!E479)","v":""},{"$f":"IF(Data!C479=\"\",\"\",Data!C479)","v":""},{"$f":"IF(Data!A479=\"\",\"\",Data!A479)","v":""},{"$f":"IF(Data!D479=\"\",\"\",Data!D479)","v":""},{"$f":"IF(Data!B479=\"\",\"\",Data!B479)","v":""},{"$error":"#VALUE!"},{"$error":"#VALUE!"},{"$error":"#VALUE!"}]
[{"$f":"IF(Data!E480=\"\",\"\",Data!E480)","v":""},{"$f":"IF(Data!C480=\"\",\"\",Data!C480)","v":""},{"$f":"IF(Data!A480=\"\",\"\",Data!A480)","v":""},{"$f":"IF(Data!D480=\"\",\"\",Data!D480)","v":""},{"$f":"IF(Data!B480=\"\",\"\",Data!B480)","v":""},{"$error":"#VALUE!"},{"$error":"#VALUE!"},{"$error":"#VALUE!"}]
[{"$f":"IF(Data!E481=\"\",\"\",Data!E481)","v":""},{"$f":"IF(Data!C481=\"\",\"\",Data!C481)","v":""},{"$f":"IF(Data!A481=\"\",\"\",Data!A481)","v":""},{"$f":"IF(Data!D481=\"\",\"\",Data!D481)","v":""},{"$f":"IF(Data!B481=\"\",\"\",Data!B481)","v":""},{"$error":"#VALUE!"},{"$error":"#VALUE!"},{"$error":"#VALUE!"}]
[{"$f":"IF(Data!E482=\"\",\"\",Data!E482)","v":""},{"$f":"IF(Data!C482=\"\",\"\",Data!C482)","v":""},{"$f":"IF(Data!A482=\"\",\"\",Data!A482)","v":""},{"$f":"IF(Data!D482=\"\",\"\",Data!D482)","v":""},{"$f":"IF(Data!B482=\"\",\"\",Data!B482)","v":""},{"$error":"#VALUE!"},{"$error":"#VALUE!"},{"$error":"#VALUE!"}]
[{"$f":"IF(Data!E483=\"\",\"\",Data!E483)","v":""},{"$f":"IF(Data!C483=\"\",\"\",Data!C483)","v":""},{"$f":"IF(Data!A483=\"\",\"\",Data!A483)","v":""},{"$f":"IF(Data!D483=\"\",\"\",Data!D483)","v":""},{"$f":"IF(Data!B483=\"\",\"\",Data!B483)","v":""},{"$error":"#VALUE!"},{"$error":"#VALUE!"},{"$error":"#VALUE!"}]
[{"$f":"IF(Data!E484=\"\",\"\",Data!E484)","v":""},{"$f":"IF(Data!C484=\"\",\"\",Data!C484)","v":""},{"$f":"IF(Data!A484=\"\",\"\",Data!A484)","v":""},{"$f":"IF(Data!D484=\"\",\"\",Data!D484)","v":""},{"$f":"IF(Data!B484=\"\",\"\",Data!B484)","v":""},{"$error":"#VALUE!"},{"$error":"#VALUE!"},{"$error":"#VALUE!"}]
[{"$f":"IF(Data!E485=\"\",\"\",Data!E485)","v":""},{"$f":"IF(Data!C485=\"\",\"\",Data!C485)","v":""},{"$f":"IF(Data!A485=\"\",\"\",Data!A485)","v":""},{"$f":"IF(Data!D485=\"\",\"\",Data!D485)","v":""},{"$f":"IF(Data!B485=\"\",\"\",Data!B485)","v":""},{"$error":"#VALUE!"},{"$error":"#VALUE!"},{"$error":"#VALUE!"}]
[{"$f":"IF(Data!E486=\"\",\"\",Data!E486)","v":""},{"$f":"IF(Data!C486=\"\",\"\",Data!C486)","v":""},{"$f":"IF(Data!A486=\"\",\"\",Data!A486)","v":""},{"$f":"IF(Data!D486=\"\",\"\",Data!D486)","v":""},{"$f":"IF(Data!B486=\"\",\"\",Data!B486)","v":""},{"$error":"#VALUE!"},{"$error":"#VALUE!"},{"$error":"#VALUE!"}]
[{"$f":"IF(Data!E487=\"\",\"\",Data!E487)","v":""},{"$f":"IF(Data!C487=\"\",\"\",Data!C487)","v":""},{"$f":"IF(Data!A487=\"\",\"\",Data!A487)","v":""},{"$f":"IF(Data!D487=\"\",\"\",Data!D487)","v":""},{"$f":"IF(Data!B487=\"\",\"\",Data!B487)","v":""},{"$error":"#VALUE!"},{"$error":"#VALUE!"},{"$error":"#VALUE!"}]
[{"$f":"IF(Data!E488=\"\",\"\",Data!E488)","v":""},{"$f":"IF(Data!C488=\"\",\"\",Data!C488)","v":""},{"$f":"IF(Data!A488=\"\",\"\",Data!A488)","v":""},{"$f":"IF(Data!D488=\"\",\"\",Data!D488)","v":""},{"$f":"IF(Data!B488=\"\",\"\",Data!B488)","v":""},{"$error":"#VALUE!"},{"$error":"#VALUE!"},{"$error":"#VALUE!"}]
[{"$f":"IF(Data!E489=\"\",\"\",Data!E489)","v":""},{"$f":"IF(Data!C489=\"\",\"\",Data!C489)","v":""},{"$f":"IF(Data!A489=\"\",\"\",Data!A489)","v":""},{"$f":"IF(Data!D489=\"\",\"\",Data!D489)","v":""},{"$f":"IF(Data!B489=\"\",\"\",Data!B489)","v":""},{"$error":"#VALUE!"},{"$error":"#VALUE!"},{"$error":"#VALUE!"}]
[{"$f":"IF(Data!E490=\"\",\"\",Data!E490)","v":""},{"$f":"IF(Data!C490=\"\",\"\",Data!C490)","v":""},{"$f":"IF(Data!A490=\"\",\"\",Data!A490)","v":""},{"$f":"IF(Data!D490=\"\",\"\",Data!D490)","v":""},{"$f":"IF(Data!B490=\"\",\"\",Data!B490)","v":""},{"$error":"#VALUE!"},{"$error":"#VALUE!"},{"$error":"#VALUE!"}]
[{"$f":"IF(Data!E491=\"\",\"\",Data!E491)","v":""},{"$f":"IF(Data!C491=\"\",\"\",Data!C491)","v":""},{"$f":"IF(Data!A491=\"\",\"\",Data!A491)","v":""},{"$f":"IF(Data!D491=\"\",\"\",Data!D491)","v":""},{"$f":"IF(Data!B491=\"\",\"\",Data!B491)","v":""},{"$error":"#VALUE!"},{"$error":"#VALUE!"},{"$error":"#VALUE!"}]
[{"$f":"IF(Data!E492=\"\",\"\",Data!E492)","v":""},{"$f":"IF(Data!C492=\"\",\"\",Data!C492)","v":""},{"$f":"IF(Data!A492=\"\",\"\",Data!A492)","v":""},{"$f":"IF(Data!D492=\"\",\"\",Data!D492)","v":""},{"$f":"IF(Data!B492=\"\",\"\",Data!B492)","v":""},{"$error":"#VALUE!"},{"$error":"#VALUE!"},{"$error":"#VALUE!"}]
[{"$f":"IF(Data!E493=\"\",\"\",Data!E493)","v":""},{"$f":"IF(Data!C493=\"\",\"\",Data!C493)","v":""},{"$f":"IF(Data!A493=\"\",\"\",Data!A493)","v":""},{"$f":"IF(Data!D493=\"\",\"\",Data!D493)","v":""},{"$f":"IF(Data!B493=\"\",\"\",Data!B493)","v":""},{"$error":"#VALUE!"},{"$error":"#VALUE!"},{"$error":"#VALUE!"}]
[{"$f":"IF(Data!E494=\"\",\"\",Data!E494)","v":""},{"$f":"IF(Data!C494=\"\",\"\",Data!C494)","v":""},{"$f":"IF(Data!A494=\"\",\"\",Data!A494)","v":""},{"$f":"IF(Data!D494=\"\",\"\",Data!D494)","v":""},{"$f":"IF(Data!B494=\"\",\"\",Data!B494)","v":""},{"$error":"#VALUE!"},{"$error":"#VALUE!"},{"$error":"#VALUE!"}]
[{"$f":"IF(Data!E495=\"\",\"\",Data!E495)","v":""},{"$f":"IF(Data!C495=\"\",\"\",Data!C495)","v":""},{"$f":"IF(Data!A495=\"\",\"\",Data!A495)","v":""},{"$f":"IF(Data!D495=\"\",\"\",Data!D495)","v":""},{"$f":"IF(Data!B495=\"\",\"\",Data!B495)","v":""},{"$error":"#VALUE!"},{"$error":"#VALUE!"},{"$error":"#VALUE!"}]
[{"$f":"IF(Data!E496=\"\",\"\",Data!E496)","v":""},{"$f":"IF(Data!C496=\"\",\"\",Data!C496)","v":""},{"$f":"IF(Data!A496=\"\",\"\",Data!A496)","v":""},{"$f":"IF(Data!D496=\"\",\"\",Data!D496)","v":""},{"$f":"IF(Data!B496=\"\",\"\",Data!B496)","v":""},{"$error":"#VALUE!"},{"$error":"#VALUE!"},{"$error":"#VALUE!"}]
[{"$f":"IF(Data!E497=\"\",\"\",Data!E497)","v":""},{"$f":"IF(Data!C497=\"\",\"\",Data!C497)","v":""},{"$f":"IF(Data!A497=\"\",\"\",Data!A497)","v":""},{"$f":"IF(Data!D497=\"\",\"\",Data!D497)","v":""},{"$f":"IF(Data!B497=\"\",\"\",Data!B497)","v":""},{"$error":"#VALUE!"},{"$error":"#VALUE!"},{"$error":"#VALUE!"}]
[{"$f":"IF(Data!E498=\"\",\"\",Data!E498)","v":""},{"$f":"IF(Data!C498=\"\",\"\",Data!C498)","v":""},{"$f":"IF(Data!A498=\"\",\"\",Data!A498)","v":""},{"$f":"IF(Data!D498=\"\",\"\",Data!D498)","v":""},{"$f":"IF(Data!B498=\"\",\"\",Data!B498)","v":""},{"$error":"#VALUE!"},{"$error":"#VALUE!"},{"$error":"#VALUE!"}]
[{"$f":"IF(Data!E499=\"\",\"\",Data!E499)","v":""},{"$f":"IF(Data!C499=\"\",\"\",Data!C499)","v":""},{"$f":"IF(Data!A499=\"\",\"\",Data!A499)","v":""},{"$f":"IF(Data!D499=\"\",\"\",Data!D499)","v":""},{"$f":"IF(Data!B499=\"\",\"\",Data!B499)","v":""},{"$error":"#VALUE!"},{"$error":"#VALUE!"},{"$error":"#VALUE!"}]
[{"$f":"IF(Data!E500=\"\",\"\",Data!E500)","v":""},{"$f":"IF(Data!C500=\"\",\"\",Data!C500)","v":""},{"$f":"IF(Data!A500=\"\",\"\",Data!A500)","v":""},{"$f":"IF(Data!D500=\"\",\"\",Data!D500)","v":""},{"$f":"IF(Data!B500=\"\",\"\",Data!B500)","v":""},{"$error":"#VALUE!"},{"$error":"#VALUE!"},{"$error":"#VALUE!"}]
[{"$f":"IF(Data!E501=\"\",\"\",Data!E501)","v":""},{"$f":"IF(Data!C501=\"\",\"\",Data!C501)","v":""},{"$f":"IF(Data!A501=\"\",\"\",Data!A501)","v":""},{"$f":"IF(Data!D501=\"\",\"\",Data!D501)","v":""},{"$f":"IF(Data!B501=\"\",\"\",Data!B501)","v":""},{"$error":"#VALUE!"},{"$error":"#VALUE!"},{"$error":"#VALUE!"}]
[{"$f":"IF(Data!E502=\"\",\"\",Data!E502)","v":""},{"$f":"IF(Data!C502=\"\",\"\",Data!C502)","v":""},{"$f":"IF(Data!A502=\"\",\"\",Data!A502)","v":""},{"$f":"IF(Data!D502=\"\",\"\",Data!D502)","v":""},{"$f":"IF(Data!B502=\"\",\"\",Data!B502)","v":""},{"$error":"#VALUE!"},{"$error":"#VALUE!"},{"$error":"#VALUE!"}]
[{"$f":"IF(Data!E503=\"\",\"\",Data!E503)","v":""},{"$f":"IF(Data!C503=\"\",\"\",Data!C503)","v":""},{"$f":"IF(Data!A503=\"\",\"\",Data!A503)","v":""},{"$f":"IF(Data!D503=\"\",\"\",Data!D503)","v":""},{"$f":"IF(Data!B503=\"\",\"\",Data!B503)","v":""},{"$error":"#VALUE!"},{"$error":"#VALUE!"},{"$error":"#VALUE!"}]
[{"$f":"IF(Data!E504=\"\",\"\",Data!E504)","v":""},{"$f":"IF(Data!C504=\"\",\"\",Data!C504)","v":""},{"$f":"IF(Data!A504=\"\",\"\",Data!A504)","v":""},{"$f":"IF(Data!D504=\"\",\"\",Data!D504)","v":""},{"$f":"IF(Data!B504=\"\",\"\",Data!B504)","v":""},{"$error":"#VALUE!"},{"$error":"#VALUE!"},{"$error":"#VALUE!"}]
[{"$f":"IF(Data!E505=\"\",\"\",Data!E505)","v":""},{"$f":"IF(Data!C505=\"\",\"\",Data!C505)","v":""},{"$f":"IF(Data!A505=\"\",\"\",Data!A505)","v":""},{"$f":"IF(Data!D505=\"\",\"\",Data!D505)","v":""},{"$f":"IF(Data!B505=\"\",\"\",Data!B505)","v":""},{"$error":"#VALUE!"},{"$error":"#VALUE!"},{"$error":"#VALUE!"}]
[{"$f":"IF(Data!E506=\"\",\"\",Data!E506)","v":""},{"$f":"IF(Data!C506=\"\",\"\",Data!C506)","v":""},{"$f":"IF(Data!A506=\"\",\"\",Data!A506)","v":""},{"$f":"IF(Data!D506=\"\",\"\",Data!D506)","v":""},{"$f":"IF(Data!B506=\"\",\"\",Data!B506)","v":""},{"$error":"#VALUE!"},{"$error":"#VALUE!"},{"$error":"#VALUE!"}]
[{"$f":"IF(Data!E507=\"\",\"\",Data!E507)","v":""},{"$f":"IF(Data!C507=\"\",\"\",Data!C507)","v":""},{"$f":"IF(Data!A507=\"\",\"\",Data!A507)","v":""},{"$f":"IF(Data!D507=\"\",\"\",Data!D507)","v":""},{"$f":"IF(Data!B507=\"\",\"\",Data!B507)","v":""},{"$error":"#VALUE!"},{"$error":"#VALUE!"},{"$error":"#VALUE!"}]
[{"$f":"IF(Data!E508=\"\",\"\",Data!E508)","v":""},{"$f":"IF(Data!C508=\"\",\"\",Data!C508)","v":""},{"$f":"IF(Data!A508=\"\",\"\",Data!A508)","v":""},{"$f":"IF(Data!D508=\"\",\"\",Data!D508)","v":""},{"$f":"IF(Data!B508=\"\",\"\",Data!B508)","v":""},{"$error":"#VALUE!"},{"$error":"#VALUE!"},{"$error":"#VALUE!"}]
[{"$f":"IF(Data!E509=\"\",\"\",Data!E509)","v":""},{"$f":"IF(Data!C509=\"\",\"\",Data!C509)","v":""},{"$f":"IF(Data!A509=\"\",\"\",Data!A509)","v":""},{"$f":"IF(Data!D509=\"\",\"\",Data!D509)","v":""},{"$f":"IF(Data!B509=\"\",\"\",Data!B509)","v":""},{"$error":"#VALUE!"},{"$error":"#VALUE!"},{"$error":"#VALUE!"}]

{"sheet":"Riesitelska skupina","index":3,"n_rows":22,"n_cols":10,"rows_kept":22,"cut":false,"hidden":false,"merged":[]}
["Workgroup","Count without Root cause Ci","Count of Root Cause CI","Count of TICKETID",null,null,null,"Vyberte skupinu :","SysAppChannels",{"$f":"IFERROR(INDEX(Data!H:H,SMALL(IF(EXACT('Riesitelska skupina'!$I$1,Data!H:H),ROW(Data!H:H)-ROW(Data!$H$2)+1),ROW(1:1))),\"\")","v":"ZODPOVEDNA_SKUPINA"}]
["AAA Default value",{"$f":"D2-C2","v":0},{"$f":"COUNTIFS(Data!J:J,A2,Data!I:I,\"*\",Data!B:B,\">=\"&DATE(2018,9,11))","v":0},{"$f":"COUNTIFS(Data!J:J,A2,Data!B:B,\">=\"&DATE(2018,9,11))","v":0}]
["Hnupi",{"$f":"D3-C3","v":3},{"$f":"COUNTIFS(Data!J:J,A3,Data!I:I,\"*\",Data!B:B,\">=\"&DATE(2018,9,11))","v":0},{"$f":"COUNTIFS(Data!J:J,A3,Data!B:B,\">=\"&DATE(2018,9,11))","v":3},null,null,null,"Zoznam zodp. skupín",{"$f":"INDEX(Data[[ZODPOVEDNA_SKUPINA]:[RIESITELSKA_SKUPINA]],MATCH('Riesitelska skupina'!$I$1,Data[RIESITELSKA_SKUPINA],0),1)","v":{"$error":"#N/A"}}]
["Risk",0,{"$f":"COUNTIFS(Data!J:J,A4,Data!I:I,\"*\",Data!B:B,\">=\"&DATE(2018,9,11))","v":2},{"$f":"COUNTIFS(Data!J:J,A4,Data!B:B,\">=\"&DATE(2018,9,11))","v":2}]
["Kalkulacky",0,{"$f":"COUNTIFS(Data!J:J,A5,Data!I:I,\"*\",Data!B:B,\">=\"&DATE(2018,9,11))","v":1},{"$f":"COUNTIFS(Data!J:J,A5,Data!B:B,\">=\"&DATE(2018,9,11))","v":1}]
["Kebabe",0,{"$f":"COUNTIFS(Data!J:J,A6,Data!I:I,\"*\",Data!B:B,\">=\"&DATE(2018,9,11))","v":1},{"$f":"COUNTIFS(Data!J:J,A6,Data!B:B,\">=\"&DATE(2018,9,11))","v":1}]
[]
[]
[]
[]
[]
[]
[]
[]
[]
[]
["Row Labels","Count of ROOT_CAUSE_CI","Count of TICKETID"]
["Hnupi",null,3]
["Kalkulacky",1,1]
["Kebabe",1,1]
["Risk",2,2]
["Grand Total",4,7]