{"text_format":"1","workbook":"xlsx","n_sheets":4,"sheets":["VZOR!!!!!","Vzorec","Vložit","Pomocná"],"not_rendered":{"charts":0,"images":0,"macros":1,"external_links":0,"defined_names":2,"comments":0,"pivot_tables":0},"unopened":[],"bounds":{"document_bytes":16777216,"sheet_cells":100000,"rows_first":2000,"rows_last":500,"rows_between":2000,"halvings":0,"cell_chars":16384,"cell_head_chars":4096},"cells_cut":0,"cells_raw":0,"read":"whole","date_system":"1900"}

{"sheet":"VZOR!!!!!","index":0,"n_rows":15233,"n_cols":28,"rows_kept":15233,"cut":false,"hidden":false,"merged":[]}
["Číslo objednávky: 999999","Zadáno: 10/10/2000/ ","Čas příslibu od: 20/12/2000/ 17:00 ","Čas příslibu do: 20/12/2000/ 19:00"]
["Číslo smlouvy: ",11112222,"Typ objednávky: ","SERVIS"]
["Jméno a příjmení: ","Karel Novák","Patro / Byt: ","0/1",null,null,null,null,{"$f":"CONCATENATE(A2,\" \",B2,\"\n\",A3,\" \",B3,\"\n\",A4,\" \",B4,\"\n\",A5,\" \",B5,\"\n\",A6,\" \",B6,\"\")","v":"Číslo smlouvy:  11112222\nJméno a příjmení:  Karel Novák\nUlice:  Pod Mostem\nČ. pop. / č. orient.:  1111 / 22 \nObec:  Praha 1 - Centrum "},{"$f":"CONCATENATE(A1,\"                 Telefon: \",B7,\"                           \",C2,D2,\"\n\",C1,\"\nDo\",D1,)","v":"Číslo objednávky: 999999                 Telefon: 11111111 /2222222                            Typ objednávky: SERVIS\nČas příslibu od: 20/12/2000/ 17:00 \nDoČas příslibu do: 20/12/2000/ 19:00"},{"$f":"CONCATENATE(A9,,B9,)","v":"Instrukce: Nefunguje nic"},{"$f":"B2","v":11112222},{"$f":"MID(A1,19,10)","v":"999999"},{"$f":"LOOKUP(B6,Pomocná!B:B,Pomocná!C:C)","v":"Praha"},{"$f":"B3","v":"Karel Novák"},{"$f":"B4","v":"Pod Mostem"},{"$f":"B5","v":"1111 / 22 "},null,null,null,null,null,null,null,null,null,"Praha 10-Strašnice ","Praha"]
["Ulice: ","Pod Mostem","Kód adresy: ",null,null,null,null,null,null,null,null,null,null,null,null,null,null,null,null,null,null,null,null,null,null,null,"Praha 10-Malešice ","Praha"]
["Č. pop. / č. orient.: ","1111 / 22 ",null,null,null,null,null,null,null,null,null,null,null,null,null,null,null,null,null,null,null,null,null,null,null,null,"Praha 10-Hostivař ","Praha"]
["Obec: ","Praha 1 - Centrum ",null,null,null,null,null,null,null,null,null,null,null,null,null,null,null,null,null,null,null,null,null,null,null,null,"Praha 3-Žižkov ","Praha"]
["Telefon domů / zam.: ","11111111 /2222222 ",null,null,null,null,null,null,null,null,null,null,null,null,null,null,null,null,null,null,null,null,null,null,null,null,"Praha 4-Háje ","Praha"]
["Mobil: ",333333333,null,null,null,null,null,null,null,null,null,null,null,null,null,null,null,null,null,null,null,null,null,null,null,null,"Praha 10-Michle ","Praha"]
["Instrukce: ","Nefunguje nic",null,null,null,null,null,null,null,null,null,null,null,null,null,null,null,null,null,null,null,null,null,null,null,null,"Praha 6-Bubeneč ","Praha"]
["Aktuální stav ","Naplánované úkony ","Typ zařízení",null,null,null,null,null,null,null,null,null,null,null,null,null,null,null,null,null,null,null,null,null,null,null,"Praha 6-Dejvice ","Praha"]
["TELEFON KREDIT 100@@paušál / UPC FIBER POWER 240@@ ;NEPOUŽÍ / PRONÁJEM MODEMU ED3.0@@ ; / ","SERVIS - STA / Servis STA ",null,null,null,null,null,null,null,null,null,null,null,null,null,null,null,null,null,null,null,null,null,null,null,null,"Praha 7-Holešovice ","Praha"]
["Technik: ","xxxx","Firma: ","Promsat xxx","Kód OZ: ",null,null,null,null,null,null,null,null,null,null,null,null,null,null,null,null,null,null,null,null,null,"Praha 8-Bohnice ","Praha"]
["Štítek by: ","2014-01-01","DC: ","2014-01-01","Region: ","Praha",null,null,null,null,null,null,null,null,null,null,null,null,null,null,null,null,null,null,null,null,"Kladno ","Kladno"]
["Štítek 1: ","xxxx","ON: ",1,null,null,null,null,null,null,null,null,null,null,null,null,null,null,null,null,null,null,null,null,null,null,"Kralupy Nad Vltavou ","Kralupy Nad Vltavou "]
["Štítek 2: ",null,"Trasový zes.: ",null,"Sales route: ",null,null,null,null,null,null,null,null,null,null,null,null,null,null,null,null,null,null,null,null,null,"Kralupy Nad Vltavou-Lobeček ","Kralupy Nad Vltavou "]
["Štítek 3, Pole PED: ",null,"Koncový zes.: ",null,null,null,null,null,null,null,null,null,null,null,null,null,null,null,null,null,null,null,null,null,null,null,"Jindřichův Hradec III ","J.Hradec"]
["Pozn. k budově: ","LB v suterénu",null,null,null,null,null,null,null,null,null,null,null,null,null,null,null,null,null,null,null,null,null,null,null,null,"Brno-Staré Brno ","Brno"]
[null,null,null,null,"Region: ","Praha",null,null,null,null,null,null,null,null,null,null,null,null,null,null,null,null,null,null,null,null,"Brno-Řečkovice ","Brno"]
[null,null,null,null,null,null,null,null,null,null,null,null,null,null,null,null,null,null,null,null,null,null,null,null,null,null,"Brno-Nový Lískovec ","Brno"]
[null,null,null,null,null,null,null,null,null,null,null,null,null,null,null,null,null,null,null,null,null,null,null,null,null,null,"Brno-Bystrc ","Brno"]
[null,null,null,null,null,null,null,null,null,null,null,null,null,null,null,null,null,null,null,null,null,null,null,null,null,null,"Brno-Bystrc ","Brno"]
[null,null,null,null,null,null,null,null,null,null,null,null,null,null,null,null,null,null,null,null,null,null,null,null,null,null,"Brno-Bystrc ","Brno"]
[null,null,null,null,null,null,null,null,null,null,null,null,null,null,null,null,null,null,null,null,null,null,null,null,null,null,"Brno-Jundrov ","Brno"]
[null,null,null,null,null,null,null,null,null,null,null,null,null,null,null,null,null,null,null,null,null,null,null,null,null,null,"Brno-Štýřice ","Brno"]
[null,null,null,null,null,null,null,null,null,null,null,null,null,null,null,null,null,null,null,null,null,null,null,null,null,null,"Brno-Žebětín ","Brno"]
[null,null,null,null,null,null,null,null,null,null,null,null,null,null,null,null,null,null,null,null,null,null,null,null,null,null,"Blansko ","Blansko"]
[null,null,null,null,null,null,null,null,null,null,null,null,null,null,null,null,null,null,null,null,null,null,null,null,null,null,"Praha 1 - Centrum ","Praha"]
[null,null,null,null,null,null,null,null,null,null,null,null,null,null,null,null,null,null,null,null,null,null,null,null,null,null,"Pelhřimov","Pelhřimov"]
[null,null,null,null,null,null,null,null,null,null,null,null,null,null,null,null,null,null,null,null,null,null,null,null,null,null,"a","a"]
[]
[]
[]
[]
[]
[]
[]
[]
[]
[]
[]
[]
[]
[]
[]
[]
[]
[]
[]
[]
[]
[]
[]
[]
[]
[]
[]
[]
[]
[]
[]
[]
[]
[]
[]
[]
[]
[]
[]
[]
[]
[]
[]
[]
[]
[]
[]
[]
[]
[]
[]
[]
[]
[]
[]
[]
[]
[]
[]
[]
[]
[]
[]
[]
[]
[]
[]
[]
[]
[]
[]
[]
[]
[]
[]
[]
[]
[]
[]
[]
[]
[]
[]
[]
[]
[]
[]
[]
[]
[]
[]
[]
[]
[]
[]
[]
[]
[]
[]
[]
[]
[]
[]
[]
[]
[]
[]
[]
[]
[]
[]
[]
[]
[]
[]
[]
[]
[]
[]
[]
[]
[]
[]
[]
[]
[]
[]
[]
[]
[]
[]
[]
[]
[]
[]
[]
[]
[]
[]
[]
[]
[]
[]
[]
[]
[]
[]
[]
[]
[]
[]
[]
[]
[]
[]
[]
[]
[]
[]
[]
[]
[]
[]
[]
[]
[]
[]
[]
[]
[]
[]
[]
[]
[]
[]
[]
[]
[]
[]
[]
[]
[]
[]
[]
[]
[]
[]
[]
[]
[]
[]
[]
[]
[]
[]
[]
[]
[]
[]
[]
[]
[]
[]
[]
[]
[]
[]
[]
[]
[]
[]
[]
[]
[]
[]
[]
[]
[]
[]
[]
[]
[]
[]
[]
[]
[]
[]
[]
[]
[]
[]
[]
[]
[]
[]
[]
[]
[]
[]
[]
[]
[]
[]
[]
[]
[]
[]
[]
[]
[]
[]
[]
[]
[]
[]
[]
[]
[]
[]
[]
[]
[]
[]
[]
[]
[]
[]
[]
[]
[]
[]
[]
[]
[]
[]
[]
[]
[]
[]
[]
[]
[]
[]
[]
[]
[]
[]
[]
[]
[]
[]
[]
[]
[]
[]
[]
[]
[]
[]
[]
[]
[]
[]
[]
[]
[]
[]
[]
[]
[]
[]
[]
[]
[]
[]
[]
[]
[]
[]
[]
[]
[]
[]
[]
[]
[]
[]
[]
[]
[]
[]
[]
[]
[]
[]
[]
[]
[]
[]
[]
[]
[]
[]
[]
[]
[]
[]
[]
[]
[]
[]
[]
[]
[]
[]
[]
[]
[]
[]
[]
[]
[]
[]
[]
[]
[]
[]
[]
[]
[]
[]
[]
[]
[]
[]
[]
[]
[]
[]
[]
[]
[]
[]
[]
[]
[]
[]
[]
[]
[]
[]
[]
[]
[]
[]
[]
[]
[]
[]
[]
[]
[]
[]
[]
[]
[]
[]
[]
[]
[]
[]
[]
[]
[]
[]
[]
[]
[]
[]
[]
[]
[]
[]
[]
[]
[]
[]
[]
[]
[]
[]
[]
[]
[]
[]
[]
[]
[]
[]
[]
[]
[]
[]
[]
[]
[]
[]
[]
[]
[]
[]
[]
[]
[]
[]
[]
[]
[]
[]
[]
[]
[]
[]
[]
[]
[]
[]
[]
[]
[]
[]
[]
[]
[]
[]
[]
[]
[]
[]
[]
[]
[]
[]
[]
[]
[]
[]
[]
[]
[]
[]
[]
[]
[]
[]
[]
[]
[]
[]
[]
[]
[]
[]
[]
[]
[]
[]
[]
[]
[]
[]
[]
[]
[]
[]
[]
[]
[]
[]
[]
[]
[]
[]
[]
[]
[]
[]
[]
[]
[]
[]
[]
[]
[]
[]
[]
[]
[]
[]
[]
[]
[]
[]
[]
[]
[]
[]
[]
[]
[]
[]
[]
[]
[]
[]
[]
[]
[]
[]
[]
[]
[]
[]
[]
[]
[]
[]
[]
[]
[]
[]
[]
[]
[]
[]
[]
[]
[]
[]
[]
[]
[]
[]
[]
[]
[]
[]
[]
[]
[]
[]
[]
[]
[]
[]
[]
[]
[]
[]
[]
[]
[]
[]
[]
[]
[]
[]
[]
[]
[]
[]
[]
[]
[]
[]
[]
[]
[]
[]
[]
[]
[]
[]
[]
[]
[]
[]
[]
[]
[]
[]
[]
[]
[]
[]
[]
[]
[]
[]
[]
[]
[]
[]
[]
[]
[]
[]
[]
[]
[]
[]
[]
[]
[]
[]
[]
[]
[]
[]
[]
[]
[]
[]
[]
[]
[]
[]
[]
[]
[]
[]
[]
[]
[]
[]
[]
[]
[]
[]
[]
[]
[]
[]
[]
[]
[]
[]
[]
[]
[]
[]
[]
[]
[]
[]
[]
[]
[]
[]
[]
[]
[]
[]
[]
[]
[]
[]
[]
[]
[]
[]
[]
[]
[]
[]
[]
[]
[]
[]
[]
[]
[]
[]
[]
[]
[]
[]
[]
[]
[]
[]
[]
[]
[]
[]
[]
[]
[]
[]
[]
[]
[]
[]
[]
[]
[]
[]
[]
[]
[]
[]
[]
[]
[]
[]
[]
[]
[]
[]
[]
[]
[]
[]
[]
[]
[]
[]
[]
[]
[]
[]
[]
[]
[]
[]
[]
[]
[]
[]
[]
[]
[]
[]
[]
[]
[]
[]
[]
[]
[]
[]
[]
[]
[]
[]
[]
[]
[]
[]
[]
[]
[]
[]
[]
[]
[]
[]
[]
[]
[]
[]
[]
[]
[]
[]
[]
[]
[]
[]
[]
[]
[]
[]
[]
[]
[]
[]
[]
[]
[]
[]
[]
[]
[]
[]
[]
[]
[]
[]
[]
[]
[]
[]
[]
[]
[]
[]
[]
[]
[]
[]
[]
[]
[]
[]
[]
[]
[]
[]
[]
[]
[]
[]
[]
[]
[]
[]
[]
[]
[]
[]
[]
[]
[]
[]
[]
[]
[]
[]
[]
[]
[]
[]
[]
[]
[]
[]
[]
[]
[]
[]
[]
[]
[]
[]
[]
[]
[]
[]
[]
[]
[]
[]
[]
[]
[]
[]
[]
[]
[]
[]
[]
[]
[]
[]
[]
[]
[]
[]
[]
[]
[]
[]
[]
[]
[]
[]
[]
[]
[]
[]
[]
[]
[]
[]
[]
[]
[]
[]
[]
[]
[]
[]
[]
[]
[]
[]
[]
[]
[]
[]
[]
[]
[]
[]
[]
[]
[]
[]
[]
[]
[]
[]
[]
[]
[]
[]
[]
[]
[]
[]
[]
[]
[]
[]
[]
[]
[]
[]
[]
[]
[]
[]
[]
[]
[]
[]
[]
[]
[]
[]
[]
[]
[]
[]
[]
[]
[]
[]
[]
[]
[]
[]
[]
[]
[]
[]
[]
[]
[]
[]
[]
[]
[]
[]
[]
[]
[]
[]
[]
[]
[]
[]
[]
[]
[]
[]
[]
[]
[]
[]
[]
[]
[]
[]
[]
[]
[]
[]
[]
[]
[]
[]
[]
[]
[]
[]
[]
[]
[]
[]
[]
[]
[]
[]
[]
[]
[]
[]
[]
[]
[]
[]
[]
[]
[]
[]
[]
[]
[]
[]
[]
[]
[]
[]
[]
[]
[]
[]
[]
[]
[]
[]
[]
[]
[]
[]
[]
[]
[]
[]
[]
[]
[]
[]
[]
[]
[]
[]
[]
[]
[]
[]
[]
[]
[]
[]
[]
[]
[]
[]
[]
[]
[]
[]
[]
[]
[]
[]
[]
[]
[]
[]
[]
[]
[]
[]
[]
[]
[]
[]
[]
[]
[]
[]
[]
[]
[]
[]
[]
[]
[]
[]
[]
[]
[]
[]
[]
[]
[]
[]
[]
[]
[]
[]
[]
[]
[]
[]
[]
[]
[]
[]
[]
[]
[]
[]
[]
[]
[]
[]
[]
[]
[]
[]
[]
[]
[]
[]
[]
[]
[]
[]
[]
[]
[]
[]
[]
[]
[]
[]
[]
[]
[]
[]
[]
[]
[]
[]
[]
[]
[]
[]
[]
[]
[]
[]
[]
[]
[]
[]
[]
[]
[]
[]
[]
[]
[]
[]
[]
[]
[]
[]
[]
[]
[]
[]
[]
[]
[]
[]
[]
[]
[]
[]
[]
[]
[]
[]
[]
[]
[]
[]
[]
[]
[]
[]
[]
[]
[]
[]
[]
[]
[]
[]
[]
[]
[]
[]
[]
[]
[]
[]
[]
[]
[]
[]
[]
[]
[]
[]
[]
[]
[]
[]
[]
[]
[]
[]
[]
[]
[]
[]
[]
[]
[]
[]
[]
[]
[]
[]
[]
[]
[]
[]
[]
[]
[]
[]
[]
[]
[]
[]
[]
[]
[]
[]
[]
[]
[]
[]
[]
[]
[]
[]
[]
[]
[]
[]
[]
[]
[]
[]
[]
[]
[]
[]
[]
[]
[]
[]
[]
[]
[]
[]
[]
[]
[]
[]
[]
[]
[]
[]
[]
[]
[]
[]
[]
[]
[]
[]
[]
[]
[]
[]
[]
[]
[]
[]
[]
[]
[]
[]
[]
[]
[]
[]
[]
[]
[]
[]
[]
[]
[]
[]
[]
[]
[]
[]
[]
[]
[]
[]
[]
[]
[]
[]
[]
[]
[]
[]
[]
[]
[]
[]
[]
[]
[]
[]
[]
[]
[]
[]
[]
[]
[]
[]
[]
[]
[]
[]
[]
[]
[]
[]
[]
[]
[]
[]
[]
[]
[]
[]
[]
[]
[]
[]
[]
[]
[]
[]
[]
[]
[]
[]
[]
[]
[]
[]
[]
[]
[]
[]
[]
[]
[]
[]
[]
[]
[]
[]
[]
[]
[]
[]
[]
[]
[]
[]
[]
[]
[]
[]
[]
[]
[]
[]
[]
[]
[]
[]
[]
[]
[]
[]
[]
[]
[]
[]
[]
[]
[]
[]
[]
[]
[]
[]
[]
[]
[]
[]
[]
[]
[]
[]
[]
[]
[]
[]
[]
[]
[]
[]
[]
[]
[]
[]
[]
[]
[]
[]
[]
[]
[]
[]
[]
[]
[]
[]
[]
[]
[]
[]
[]
[]
[]
[]
[]
[]
[]
[]
[]
[]
[]
[]
[]
[]
[]
[]
[]
[]
[]
[]
[]
[]
[]
[]
[]
[]
[]
[]
[]
[]
[]
[]
[]
[]
[]
[]
[]
[]
[]
[]
[]
[]
[]
[]
[]
[]
[]
[]
[]
[]
[]
[]
[]
[]
[]
[]
[]
[]
[]
[]
[]
[]
[]
[]
[]
[]
[]
[]
[]
[]
[]
[]
[]
[]
[]
[]
[]
[]
[]
[]
[]
[]
[]
[]
[]
[]
[]
[]
[]
[]
[]
[]
[]
[]
[]
[]
[]
[]
[]
[]
[]
[]
[]
[]
[]
[]
[]
[]
[]
[]
[]
[]
[]
[]
[]
[]
[]
[]
[]
[]
[]
[]
[]
[]
[]
[]
[]
[]
[]
[]
[]
[]
[]
[]
[]
[]
[]
[]
[]
[]
[]
[]
[]
[]
[]
[]
[]
[]
[]
[]
[]
[]
[]
[]
[]
[]
[]
[]
[]
[]
[]
[]
[]
[]
[]
[]
[]
[]
[]
[]
[]
[]
[]
[]
[]
[]
[]
[]
[]
[]
[]
[]
[]
[]
[]
[]
[]
[]
[]
[]
[]
[]
[]
[]
[]
[]
[]
[]
[]
[]
[]
[]
[]
[]
[]
[]
[]
[]
[]
[]
[]
[]
[]
[]
[]
[]
[]
[]
[]
[]
[]
[]
[]
[]
[]
[]
[]
[]
[]
[]
[]
[]
[]
[]
[]
[]
[]
[]
[]
[]
[]
[]
[]
[]
[]
[]
[]
[]
[]
[]
[]
[]
[]
[]
[]
[]
[]
[]
[]
[]
[]
[]
[]
[]
[]
[]
[]
[]
[]
[]
[]
[]
[]
[]
[]
[]
[]
[]
[]
[]
[]
[]
[]
[]
[]
[]
[]
[]
[]
[]
[]
[]
[]
[]
[]
[]
[]
[]
[]
[]
[]
[]
[]
[]
[]
[]
[]
[]
[]
[]
[]
[]
[]
[]
[]
[]
[]
[]
[]
[]
[]
[]
[]
[]
[]
[]
[]
[]
[]
[]
[]
[]
[]
[]
[]
[]
[]
[]
[]
[]
[]
[]
[]
[]
[]
[]
[]
[]
[]
[]
[]
[]
[]
[]
[]
[]
[]
[]
[]
[]
[]
[]
[]
[]
[]
[]
[]
[]
[]
[]
[]
[]
[]
[]
[]
[]
[]
[]
[]
[]
[]
[]
[]
[]
[]
[]
[]
[]
[]
[]
[]
[]
[]
[]
[]
[]
[]
[]
[]
[]
[]
[]
[]
[]
[]
[]
[]
[]
[]
[]
[]
[]
[]
[]
[]
[]
[]
[]
[]
[]
[]
[]
[]
[]
[]
[]
[]
[]
[]
[]
[]
[]
[]
[]
[]
[]
[]
[]
[]
[]
[]
[]
[]
[]
[]
[]
[]
[]
[]
[]
[]
[]
[]
[]
[]
[]
[]
[]
[]
[]
[]
[]
[]
[]
[]
[]
[]
[]
[]
[]
[]
[]
[]
[]
[]
[]
[]
[]
[]
[]
[]
[]
[]
[]
[]
[]
[]
[]
[]
[]
[]
[]
[]
[]
[]
[]
[]
[]
[]
[]
[]
[]
[]
[]
[]
[]
[]
[]
[]
[]
[]
[]
[]
[]
[]
[]
[]
[]
[]
[]
[]
[]
[]
[]
[]
[]
[]
[]
[]
[]
[]
[]
[]
[]
[]
[]
[]
[]
[]
[]
[]
[]
[]
[]
[]
[]
[]
[]
[]
[]
[]
[]
[]
[]
[]
[]
[]
[]
[]
[]
[]
[]
[]
[]
[]
[]
[]
[]
[]
[]
[]
[]
[]
[]
[]
[]
[]
[]
[]
[]
[]
[]
[]
[]
[]
[]
[]
[]
[]
[]
[]
[]
[]
[]
[]
[]
[]
[]
[]
[]
[]
[]
[]
[]
[]
[]
[]
[]
[]
[]
[]
[]
[]
[]
[]
[]
[]
[]
[]
[]
[]
[]
[]
[]
[]
[]
[]
[]
[]
[]
[]
[]
[]
[]
[]
[]
[]
[]
[]
[]
[]
[]
[]
[]
[]
[]
[]
[]
[]
[]
[]
[]
[]
[]
[]
[]
[]
[]
[]
[]
[]
[]
[]
[]
[]
[]
[]
[]
[]
[]
[]
[]
[]
[]
[]
[]
[]
[]
[]
[]
[]
[]
[]
[]
[]
[]
[]
[]
[]
[]
[]
[]
[]
[]
[]
[]
[]
[]
[]
[]
[]
[]
[]
[]
[]
[]
[]
[]
[]
[]
[]
[]
[]
[]
[]
[]
[]
[]
[]
[]
[]
[]
[]
[]
[]
[]
[]
[]
[]
[]
[]
[]
[]
[]
[]
[]
[]
[]
[]
[]
[]
[]
[]
[]
[]
[]
[]
[]
[]
[]
[]
[]
[]
[]
[]
[]
[]
[]
[]
[]
[]
[]
[]
[]
[]
[]
[]
[]
[]
[]
[]
[]
[]
[]
[]
[]
[]
[]
[]
[]
[]
[]
[]
[]
[]
[]
[]
[]
[]
[]
[]
[]
[]
[]
[]
[]
[]
[]
[]
[]
[]
[]
[]
[]
[]
[]
[]
[]
[]
[]
[]
[]
[]
[]
[]
[]
[]
[]
[]
[]
[]
[]
[]
[]
[]
[]
[]
[]
[]
[]
[]
[]
[]
[]
[]
[]
[]
[]
[]
[]
[]
[]
[]
[]
[]
[]
[]
[]
[]
[]
[]
[]
[]
[]
[]
[]
[]
[]
[]
[]
[]
[]
[]
[]
[]
[]
[]
[]
[]
[]
[]
[]
[]
[]
[]
[]
[]
[]
[]
[]
[]
[]
[]
[]
[]
[]
[]
[]
[]
[]
[]
[]
[]
[]
[]
[]
[]
[]
[]
[]
[]
[]
[]
[]
[]
[]
[]
[]
[]
[]
[]
[]
[]
[]
[]
[]
[]
[]
[]
[]
[]
[]
[]
[]
[]
[]
[]
[]
[]
[]
[]
[]
[]
[]
[]
[]
[]
[]
[]
[]
[]
[]
[]
[]
[]
[]
[]
[]
[]
[]
[]
[]
[]
[]
[]
[]
[]
[]
[]
[]
[]
[]
[]
[]
[]
[]
[]
[]
[]
[]
[]
[]
[]
[]
[]
[]
[]
[]
[]
[]
[]
[]
[]
[]
[]
[]
[]
[]
[]
[]
[]
[]
[]
[]
[]
[]
[]
[]
[]
[]
[]
[]
[]
[]
[]
[]
[]
[]
[]
[]
[]
[]
[]
[]
[]
[]
[]
[]
[]
[]
[]
[]
[]
[]
[]
[]
[]
[]
[]
[]
[]
[]
[]
[]
[]
[]
[]
[]
[]
[]
[]
[]
[]
[]
[]
[]
[]
[]
[]
[]
[]
[]
[]
[]
[]
[]
[]
[]
[]
[]
[]
[]
[]
[]
[]
[]
[]
[]
[]
[]
[]
[]
[]
[]
[]
[]
[]
[]
[]
[]
[]
[]
[]
[]
[]
[]
[]
[]
[]
[]
[]
[]
[]
[]
[]
[]
[]
[]
[]
[]
[]
[]
[]
[]
[]
[]
[]
[]
[]
[]
[]
[]
[]
[]
[]
[]
[]
[]
[]
[]
[]
[]
[]
[]
[]
[]
[]
[]
[]
[]
[]
[]
[]
[]
[]
[]
[]
[]
[]
[]
[]
[]
[]
[]
[]
[]
[]
[]
[]
[]
[]
[]
[]
[]
[]
[]
[]
[]
[]
[]
[]
[]
[]
[]
[]
[]
[]
[]
[]
[]
[]
[]
[]
[]
[]
[]
[]
[]
[]
[]
[]
[]
[]
[]
[]
[]
[]
[]
[]
[]
[]
[]
[]
[]
[]
[]
[]
[]
[]
[]
[]
[]
[]
[]
[]
[]
[]
[]
[]
[]
[]
[]
[]
[]
[]
[]
[]
[]
[]
[]
[]
[]
[]
[]
[]
[]
[]
[]
[]
[]
[]
[]
[]
[]
[]
[]
[]
[]
[]
[]
[]
[]
[]
[]
[]
[]
[]
[]
[]
[]
[]
[]
[]
[]
[]
[]
[]
[]
[]
[]
[]
[]
[]
[]
[]
[]
[]
[]
[]
[]
[]
[]
[]
[]
[]
[]
[]
[]
[]
[]
[]
[]
[]
[]
[]
[]
[]
[]
[]
[]
[]
[]
[]
[]
[]
[]
[]
[]
[]
[]
[]
[]
[]
[]
[]
[]
[]
[]
[]
[]
[]
[]
[]
[]
[]
[]
[]
[]
[]
[]
[]
[]
[]
[]
[]
[]
[]
[]
[]
[]
[]
[]
[]
[]
[]
[]
[]
[]
[]
[]
[]
[]
[]
[]
[]
[]
[]
[]
[]
[]
[]
[]
[]
[]
[]
[]
[]
[]
[]
[]
[]
[]
[]
[]
[]
[]
[]
[]
[]
[]
[]
[]
[]
[]
[]
[]
[]
[]
[]
[]
[]
[]
[]
[]
[]
[]
[]
[]
[]
[]
[]
[]
[]
[]
[]
[]
[]
[]
[]
[]
[]
[]
[]
[]
[]
[]
[]
[]
[]
[]
[]
[]
[]
[]
[]
[]
[]
[]
[]
[]
[]
[]
[]
[]
[]
[]
[]
[]
[]
[]
[]
[]
[]
[]
[]
[]
[]
[]
[]
[]
[]
[]
[]
[]
[]
[]
[]
[]
[]
[]
[]
[]
[]
[]
[]
[]
[]
[]
[]
[]
[]
[]
[]
[]
[]
[]
[]
[]
[]
[]
[]
[]
[]
[]
[]
[]
[]
[]
[]
[]
[]
[]
[]
[]
[]
[]
[]
[]
[]
[]
[]
[]
[]
[]
[]
[]
[]
[]
[]
[]
[]
[]
[]
[]
[]
[]
[]
[]
[]
[]
[]
[]
[]
[]
[]
[]
[]
[]
[]
[]
[]
[]
[]
[]
[]
[]
[]
[]
[]
[]
[]
[]
[]
[]
[]
[]
[]
[]
[]
[]
[]
[]
[]
[]
[]
[]
[]
[]
[]
[]
[]
[]
[]
[]
[]
[]
[]
[]
[]
[]
[]
[]
[]
[]
[]
[]
[]
[]
[]
[]
[]
[]
[]
[]
[]
[]
[]
[]
[]
[]
[]
[]
[]
[]
[]
[]
[]
[]
[]
[]
[]
[]
[]
[]
[]
[]
[]
[]
[]
[]
[]
[]
[]
[]
[]
[]
[]
[]
[]
[]
[]
[]
[]
[]
[]
[]
[]
[]
[]
[]
[]
[]
[]
[]
[]
[]
[]
[]
[]
[]
[]
[]
[]
[]
[]
[]
[]
[]
[]
[]
[]
[]
[]
[]
[]
[]
[]
[]
[]
[]
[]
[]
[]
[]
[]
[]
[]
[]
[]
[]
[]
[]
[]
[]
[]
[]
[]
[]
[]
[]
[]
[]
[]
[]
[]
[]
[]
[]
[]
[]
[]
[]
[]
[]
[]
[]
[]
[]
[]
[]
[]
[]
[]
[]
[]
[]
[]
[]
[]
[]
[]
[]
[]
[]
[]
[]
[]
[]
[]
[]
[]
[]
[]
[]
[]
[]
[]
[]
[]
[]
[]
[]
[]
[]
[]
[]
[]
[]
[]
[]
[]
[]
[]
[]
[]
[]
[]
[]
[]
[]
[]
[]
[]
[]
[]
[]
[]
[]
[]
[]
[]
[]
[]
[]
[]
[]
[]
[]
[]
[]
[]
[]
[]
[]
[]
[]
[]
[]
[]
[]
[]
[]
[]
[]
[]
[]
[]
[]
[]
[]
[]
[]
[]
[]
[]
[]
[]
[]
[]
[]
[]
[]
[]
[]
[]
[]
[]
[]
[]
[]
[]
[]
[]
[]
[]
[]
[]
[]
[]
[]
[]
[]
[]
[]
[]
[]
[]
[]
[]
[]
[]
[]
[]
[]
[]
[]
[]
[]
[]
[]
[]
[]
[]
[]
[]
[]
[]
[]
[]
[]
[]
[]
[]
[]
[]
[]
[]
[]
[]
[]
[]
[]
[]
[]
[]
[]
[]
[]
[]
[]
[]
[]
[]
[]
[]
[]
[]
[]
[]
[]
[]
[]
[]
[]
[]
[]
[]
[]
[]
[]
[]
[]
[]
[]
[]
[]
[]
[]
[]
[]
[]
[]
[]
[]
[]
[]
[]
[]
[]
[]
[]
[]
[]
[]
[]
[]
[]
[]
[]
[]
[]
[]
[]
[]
[]
[]
[]
[]
[]
[]
[]
[]
[]
[]
[]
[]
[]
[]
[]
[]
[]
[]
[]
[]
[]
[]
[]
[]
[]
[]
[]
[]
[]
[]
[]
[]
[]
[]
[]
[]
[]
[]
[]
[]
[]
[]
[]
[]
[]
[]
[]
[]
[]
[]
[]
[]
[]
[]
[]
[]
[]
[]
[]
[]
[]
[]
[]
[]
[]
[]
[]
[]
[]
[]
[]
[]
[]
[]
[]
[]
[]
[]
[]
[]
[]
[]
[]
[]
[]
[]
[]
[]
[]
[]
[]
[]
[]
[]
[]
[]
[]
[]
[]
[]
[]
[]
[]
[]
[]
[]
[]
[]
[]
[]
[]
[]
[]
[]
[]
[]
[]
[]
[]
[]
[]
[]
[]
[]
[]
[]
[]
[]
[]
[]
[]
[]
[]
[]
[]
[]
[]
[]
[]
[]
[]
[]
[]
[]
[]
[]
[]
[]
[]
[]
[]
[]
[]
[]
[]
[]
[]
[]
[]
[]
[]
[]
[]
[]
[]
[]
[]
[]
[]
[]
[]
[]
[]
[]
[]
[]
[]
[]
[]
[]
[]
[]
[]
[]
[]
[]
[]
[]
[]
[]
[]
[]
[]
[]
[]
[]
[]
[]
[]
[]
[]
[]
[]
[]
[]
[]
[]
[]
[]
[]
[]
[]
[]
[]
[]
[]
[]
[]
[]
[]
[]
[]
[]
[]
[]
[]
[]
[]
[]
[]
[]
[]
[]
[]
[]
[]
[]
[]
[]
[]
[]
[]
[]
[]
[]
[]
[]
[]
[]
[]
[]
[]
[]
[]
[]
[]
[]
[]
[]
[]
[]
[]
[]
[]
[]
[]
[]
[]
[]
[]
[]
[]
[]
[]
[]
[]
[]
[]
[]
[]
[]
[]
[]
[]
[]
[]
[]
[]
[]
[]
[]
[]
[]
[]
[]
[]
[]
[]
[]
[]
[]
[]
[]
[]
[]
[]
[]
[]
[]
[]
[]
[]
[]
[]
[]
[]
[]
[]
[]
[]
[]
[]
[]
[]
[]
[]
[]
[]
[]
[]
[]
[]
[]
[]
[]
[]
[]
[]
[]
[]
[]
[]
[]
[]
[]
[]
[]
[]
[]
[]
[]
[]
[]
[]
[]
[]
[]
[]
[]
[]
[]
[]
[]
[]
[]
[]
[]
[]
[]
[]
[]
[]
[]
[]
[]
[]
[]
[]
[]
[]
[]
[]
[]
[]
[]
[]
[]
[]
[]
[]
[]
[]
[]
[]
[]
[]
[]
[]
[]
[]
[]
[]
[]
[]
[]
[]
[]
[]
[]
[]
[]
[]
[]
[]
[]
[]
[]
[]
[]
[]
[]
[]
[]
[]
[]
[]
[]
[]
[]
[]
[]
[]
[]
[]
[]
[]
[]
[]
[]
[]
[]
[]
[]
[]
[]
[]
[]
[]
[]
[]
[]
[]
[]
[]
[]
[]
[]
[]
[]
[]
[]
[]
[]
[]
[]
[]
[]
[]
[]
[]
[]
[]
[]
[]
[]
[]
[]
[]
[]
[]
[]
[]
[]
[]
[]
[]
[]
[]
[]
[]
[]
[]
[]
[]
[]
[]
[]
[]
[]
[]
[]
[]
[]
[]
[]
[]
[]
[]
[]
[]
[]
[]
[]
[]
[]
[]
[]
[]
[]
[]
[]
[]
[]
[]
[]
[]
[]
[]
[]
[]
[]
[]
[]
[]
[]
[]
[]
[]
[]
[]
[]
[]
[]
[]
[]
[]
[]
[]
[]
[]
[]
[]
[]
[]
[]
[]
[]
[]
[]
[]
[]
[]
[]
[]
[]
[]
[]
[]
[]
[]
[]
[]
[]
[]
[]
[]
[]
[]
[]
[]
[]
[]
[]
[]
[]
[]
[]
[]
[]
[]
[]
[]
[]
[]
[]
[]
[]
[]
[]
[]
[]
[]
[]
[]
[]
[]
[]
[]
[]
[]
[]
[]
[]
[]
[]
[]
[]
[]
[]
[]
[]
[]
[]
[]
[]
[]
[]
[]
[]
[]
[]
[]
[]
[]
[]
[]
[]
[]
[]
[]
[]
[]
[]
[]
[]
[]
[]
[]
[]
[]
[]
[]
[]
[]
[]
[]
[]
[]
[]
[]
[]
[]
[]
[]
[]
[]
[]
[]
[]
[]
[]
[]
[]
[]
[]
[]
[]
[]
[]
[]
[]
[]
[]
[]
[]
[]
[]
[]
[]
[]
[]
[]
[]
[]
[]
[]
[]
[]
[]
[]
[]
[]
[]
[]
[]
[]
[]
[]
[]
[]
[]
[]
[]
[]
[]
[]
[]
[]
[]
[]
[]
[]
[]
[]
[]
[]
[]
[]
[]
[]
[]
[]
[]
[]
[]
[]
[]
[]
[]
[]
[]
[]
[]
[]
[]
[]
[]
[]
[]
[]
[]
[]
[]
[]
[]
[]
[]
[]
[]
[]
[]
[]
[]
[]
[]
[]
[]
[]
[]
[]
[]
[]
[]
[]
[]
[]
[]
[]
[]
[]
[]
[]
[]
[]
[]
[]
[]
[]
[]
[]
[]
[]
[]
[]
[]
[]
[]
[]
[]
[]
[]
[]
[]
[]
[]
[]
[]
[]
[]
[]
[]
[]
[]
[]
[]
[]
[]
[]
[]
[]
[]
[]
[]
[]
[]
[]
[]
[]
[]
[]
[]
[]
[]
[]
[]
[]
[]
[]
[]
[]
[]
[]
[]
[]
[]
[]
[]
[]
[]
[]
[]
[]
[]
[]
[]
[]
[]
[]
[]
[]
[]
[]
[]
[]
[]
[]
[]
[]
[]
[]
[]
[]
[]
[]
[]
[]
[]
[]
[]
[]
[]
[]
[]
[]
[]
[]
[]
[]
[]
[]
[]
[]
[]
[]
[]
[]
[]
[]
[]
[]
[]
[]
[]
[]
[]
[]
[]
[]
[]
[]
[]
[]
[]
[]
[]
[]
[]
[]
[]
[]
[]
[]
[]
[]
[]
[]
[]
[]
[]
[]
[]
[]
[]
[]
[]
[]
[]
[]
[]
[]
[]
[]
[]
[]
[]
[]
[]
[]
[]
[]
[]
[]
[]
[]
[]
[]
[]
[]
[]
[]
[]
[]
[]
[]
[]
[]
[]
[]
[]
[]
[]
[]
[]
[]
[]
[]
[]
[]
[]
[]
[]
[]
[]
[]
[]
[]
[]
[]
[]
[]
[]
[]
[]
[]
[]
[]
[]
[]
[]
[]
[]
[]
[]
[]
[]
[]
[]
[]
[]
[]
[]
[]
[]
[]
[]
[]
[]
[]
[]
[]
[]
[]
[]
[]
[]
[]
[]
[]
[]
[]
[]
[]
[]
[]
[]
[]
[]
[]
[]
[]
[]
[]
[]
[]
[]
[]
[]
[]
[]
[]
[]
[]
[]
[]
[]
[]
[]
[]
[]
[]
[]
[]
[]
[]
[]
[]
[]
[]
[]
[]
[]
[]
[]
[]
[]
[]
[]
[]
[]
[]
[]
[]
[]
[]
[]
[]
[]
[]
[]
[]
[]
[]
[]
[]
[]
[]
[]
[]
[]
[]
[]
[]
[]
[]
[]
[]
[]
[]
[]
[]
[]
[]
[]
[]
[]
[]
[]
[]
[]
[]
[]
[]
[]
[]
[]
[]
[]
[]
[]
[]
[]
[]
[]
[]
[]
[]
[]
[]
[]
[]
[]
[]
[]
[]
[]
[]
[]
[]
[]
[]
[]
[]
[]
[]
[]
[]
[]
[]
[]
[]
[]
[]
[]
[]
[]
[]
[]
[]
[]
[]
[]
[]
[]
[]
[]
[]
[]
[]
[]
[]
[]
[]
[]
[]
[]
[]
[]
[]
[]
[]
[]
[]
[]
[]
[]
[]
[]
[]
[]
[]
[]
[]
[]
[]
[]
[]
[]
[]
[]
[]
[]
[]
[]
[]
[]
[]
[]
[]
[]
[]
[]
[]
[]
[]
[]
[]
[]
[]
[]
[]
[]
[]
[]
[]
[]
[]
[]
[]
[]
[]
[]
[]
[]
[]
[]
[]
[]
[]
[]
[]
[]
[]
[]
[]
[]
[]
[]
[]
[]
[]
[]
[]
[]
[]
[]
[]
[]
[]
[]
[]
[]
[]
[]
[]
[]
[]
[]
[]
[]
[]
[]
[]
[]
[]
[]
[]
[]
[]
[]
[]
[]
[]
[]
[]
[]
[]
[]
[]
[]
[]
[]
[]
[]
[]
[]
[]
[]
[]
[]
[]
[]
[]
[]
[]
[]
[]
[]
[]
[]
[]
[]
[]
[]
[]
[]
[]
[]
[]
[]
[]
[]
[]
[]
[]
[]
[]
[]
[]
[]
[]
[]
[]
[]
[]
[]
[]
[]
[]
[]
[]
[]
[]
[]
[]
[]
[]
[]
[]
[]
[]
[]
[]
[]
[]
[]
[]
[]
[]
[]
[]
[]
[]
[]
[]
[]
[]
[]
[]
[]
[]
[]
[]
[]
[]
[]
[]
[]
[]
[]
[]
[]
[]
[]
[]
[]
[]
[]
[]
[]
[]
[]
[]
[]
[]
[]
[]
[]
[]
[]
[]
[]
[]
[]
[]
[]
[]
[]
[]
[]
[]
[]
[]
[]
[]
[]
[]
[]
[]
[]
[]
[]
[]
[]
[]
[]
[]
[]
[]
[]
[]
[]
[]
[]
[]
[]
[]
[]
[]
[]
[]
[]
[]
[]
[]
[]
[]
[]
[]
[]
[]
[]
[]
[]
[]
[]
[]
[]
[]
[]
[]
[]
[]
[]
[]
[]
[]
[]
[]
[]
[]
[]
[]
[]
[]
[]
[]
[]
[]
[]
[]
[]
[]
[]
[]
[]
[]
[]
[]
[]
[]
[]
[]
[]
[]
[]
[]
[]
[]
[]
[]
[]
[]
[]
[]
[]
[]
[]
[]
[]
[]
[]
[]
[]
[]
[]
[]
[]
[]
[]
[]
[]
[]
[]
[]
[]
[]
[]
[]
[]
[]
[]
[]
[]
[]
[]
[]
[]
[]
[]
[]
[]
[]
[]
[]
[]
[]
[]
[]
[]
[]
[]
[]
[]
[]
[]
[]
[]
[]
[]
[]
[]
[]
[]
[]
[]
[]
[]
[]
[]
[]
[]
[]
[]
[]
[]
[]
[]
[]
[]
[]
[]
[]
[]
[]
[]
[]
[]
[]
[]
[]
[]
[]
[]
[]
[]
[]
[]
[]
[]
[]
[]
[]
[]
[]
[]
[]
[]
[]
[]
[]
[]
[]
[]
[]
[]
[]
[]
[]
[]
[]
[]
[]
[]
[]
[]
[]
[]
[]
[]
[]
[]
[]
[]
[]
[]
[]
[]
[]
[]
[]
[]
[]
[]
[]
[]
[]
[]
[]
[]
[]
[]
[]
[]
[]
[]
[]
[]
[]
[]
[]
[]
[]
[]
[]
[]
[]
[]
[]
[]
[]
[]
[]
[]
[]
[]
[]
[]
[]
[]
[]
[]
[]
[]
[]
[]
[]
[]
[]
[]
[]
[]
[]
[]
[]
[]
[]
[]
[]
[]
[]
[]
[]
[]
[]
[]
[]
[]
[]
[]
[]
[]
[]
[]
[]
[]
[]
[]
[]
[]
[]
[]
[]
[]
[]
[]
[]
[]
[]
[]
[]
[]
[]
[]
[]
[]
[]
[]
[]
[]
[]
[]
[]
[]
[]
[]
[]
[]
[]
[]
[]
[]
[]
[]
[]
[]
[]
[]
[]
[]
[]
[]
[]
[]
[]
[]
[]
[]
[]
[]
[]
[]
[]
[]
[]
[]
[]
[]
[]
[]
[]
[]
[]
[]
[]
[]
[]
[]
[]
[]
[]
[]
[]
[]
[]
[]
[]
[]
[]
[]
[]
[]
[]
[]
[]
[]
[]
[]
[]
[]
[]
[]
[]
[]
[]
[]
[]
[]
[]
[]
[]
[]
[]
[]
[]
[]
[]
[]
[]
[]
[]
[]
[]
[]
[]
[]
[]
[]
[]
[]
[]
[]
[]
[]
[]
[]
[]
[]
[]
[]
[]
[]
[]
[]
[]
[]
[]
[]
[]
[]
[]
[]
[]
[]
[]
[]
[]
[]
[]
[]
[]
[]
[]
[]
[]
[]
[]
[]
[]
[]
[]
[]
[]
[]
[]
[]
[]
[]
[]
[]
[]
[]
[]
[]
[]
[]
[]
[]
[]
[]
[]
[]
[]
[]
[]
[]
[]
[]
[]
[]
[]
[]
[]
[]
[]
[]
[]
[]
[]
[]
[]
[]
[]
[]
[]
[]
[]
[]
[]
[]
[]
[]
[]
[]
[]
[]
[]
[]
[]
[]
[]
[]
[]
[]
[]
[]
[]
[]
[]
[]
[]
[]
[]
[]
[]
[]
[]
[]
[]
[]
[]
[]
[]
[]
[]
[]
[]
[]
[]
[]
[]
[]
[]
[]
[]
[]
[]
[]
[]
[]
[]
[]
[]
[]
[]
[]
[]
[]
[]
[]
[]
[]
[]
[]
[]
[]
[]
[]
[]
[]
[]
[]
[]
[]
[]
[]
[]
[]
[]
[]
[]
[]
[]
[]
[]
[]
[]
[]
[]
[]
[]
[]
[]
[]
[]
[]
[]
[]
[]
[]
[]
[]
[]
[]
[]
[]
[]
[]
[]
[]
[]
[]
[]
[]
[]
[]
[]
[]
[]
[]
[]
[]
[]
[]
[]
[]
[]
[]
[]
[]
[]
[]
[]
[]
[]
[]
[]
[]
[]
[]
[]
[]
[]
[]
[]
[]
[]
[]
[]
[]
[]
[]
[]
[]
[]
[]
[]
[]
[]
[]
[]
[]
[]
[]
[]
[]
[]
[]
[]
[]
[]
[]
[]
[]
[]
[]
[]
[]
[]
[]
[]
[]
[]
[]
[]
[]
[]
[]
[]
[]
[]
[]
[]
[]
[]
[]
[]
[]
[]
[]
[]
[]
[]
[]
[]
[]
[]
[]
[]
[]
[]
[]
[]
[]
[]
[]
[]
[]
[]
[]
[]
[]
[]
[]
[]
[]
[]
[]
[]
[]
[]
[]
[]
[]
[]
[]
[]
[]
[]
[]
[]
[]
[]
[]
[]
[]
[]
[]
[]
[]
[]
[]
[]
[]
[]
[]
[]
[]
[]
[]
[]
[]
[]
[]
[]
[]
[]
[]
[]
[]
[]
[]
[]
[]
[]
[]
[]
[]
[]
[]
[]
[]
[]
[]
[]
[]
[]
[]
[]
[]
[]
[]
[]
[]
[]
[]
[]
[]
[]
[]
[]
[]
[]
[]
[]
[]
[]
[]
[]
[]
[]
[]
[]
[]
[]
[]
[]
[]
[]
[]
[]
[]
[]
[]
[]
[]
[]
[]
[]
[]
[]
[]
[]
[]
[]
[]
[]
[]
[]
[]
[]
[]
[]
[]
[]
[]
[]
[]
[]
[]
[]
[]
[]
[]
[]
[]
[]
[]
[]
[]
[]
[]
[]
[]
[]
[]
[]
[]
[]
[]
[]
[]
[]
[]
[]
[]
[]
[]
[]
[]
[]
[]
[]
[]
[]
[]
[]
[]
[]
[]
[]
[]
[]
[]
[]
[]
[]
[]
[]
[]
[]
[]
[]
[]
[]
[]
[]
[]
[]
[]
[]
[]
[]
[]
[]
[]
[]
[]
[]
[]
[]
[]
[]
[]
[]
[]
[]
[]
[]
[]
[]
[]
[]
[]
[]
[]
[]
[]
[]
[]
[]
[]
[]
[]
[]
[]
[]
[]
[]
[]
[]
[]
[]
[]
[]
[]
[]
[]
[]
[]
[]
[]
[]
[]
[]
[]
[]
[]
[]
[]
[]
[]
[]
[]
[]
[]
[]
[]
[]
[]
[]
[]
[]
[]
[]
[]
[]
[]
[]
[]
[]
[]
[]
[]
[]
[]
[]
[]
[]
[]
[]
[]
[]
[]
[]
[]
[]
[]
[]
[]
[]
[]
[]
[]
[]
[]
[]
[]
[]
[]
[]
[]
[]
[]
[]
[]
[]
[]
[]
[]
[]
[]
[]
[]
[]
[]
[]
[]
[]
[]
[]
[]
[]
[]
[]
[]
[]
[]
[]
[]
[]
[]
[]
[]
[]
[]
[]
[]
[]
[]
[]
[]
[]
[]
[]
[]
[]
[]
[]
[]
[]
[]
[]
[]
[]
[]
[]
[]
[]
[]
[]
[]
[]
[]
[]
[]
[]
[]
[]
[]
[]
[]
[]
[]
[]
[]
[]
[]
[]
[]
[]
[]
[]
[]
[]
[]
[]
[]
[]
[]
[]
[]
[]
[]
[]
[]
[]
[]
[]
[]
[]
[]
[]
[]
[]
[]
[]
[]
[]
[]
[]
[]
[]
[]
[]
[]
[]
[]
[]
[]
[]
[]
[]
[]
[]
[]
[]
[]
[]
[]
[]
[]
[]
[]
[]
[]
[]
[]
[]
[]
[]
[]
[]
[]
[]
[]
[]
[]
[]
[]
[]
[]
[]
[]
[]
[]
[]
[]
[]
[]
[]
[]
[]
[]
[]
[]
[]
[]
[]
[]
[]
[]
[]
[]
[]
[]
[]
[]
[]
[]
[]
[]
[]
[]
[]
[]
[]
[]
[]
[]
[]
[]
[]
[]
[]
[]
[]
[]
[]
[]
[]
[]
[]
[]
[]
[]
[]
[]
[]
[]
[]
[]
[]
[]
[]
[]
[]
[]
[]
[]
[]
[]
[]
[]
[]
[]
[]
[]
[]
[]
[]
[]
[]
[]
[]
[]
[]
[]
[]
[]
[]
[]
[]
[]
[]
[]
[]
[]
[]
[]
[]
[]
[]
[]
[]
[]
[]
[]
[]
[]
[]
[]
[]
[]
[]
[]
[]
[]
[]
[]
[]
[]
[]
[]
[]
[]
[]
[]
[]
[]
[]
[]
[]
[]
[]
[]
[]
[]
[]
[]
[]
[]
[]
[]
[]
[]
[]
[]
[]
[]
[]
[]
[]
[]
[]
[]
[]
[]
[]
[]
[]
[]
[]
[]
[]
[]
[]
[]
[]
[]
[]
[]
[]
[]
[]
[]
[]
[]
[]
[]
[]
[]
[]
[]
[]
[]
[]
[]
[]
[]
[]
[]
[]
[]
[]
[]
[]
[]
[]
[]
[]
[]
[]
[]
[]
[]
[]
[]
[]
[]
[]
[]
[]
[]
[]
[]
[]
[]
[]
[]
[]
[]
[]
[]
[]
[]
[]
[]
[]
[]
[]
[]
[]
[]
[]
[]
[]
[]
[]
[]
[]
[]
[]
[]
[]
[]
[]
[]
[]
[]
[]
[]
[]
[]
[]
[]
[]
[]
[]
[]
[]
[]
[]
[]
[]
[]
[]
[]
[]
[]
[]
[]
[]
[]
[]
[]
[]
[]
[]
[]
[]
[]
[]
[]
[]
[]
[]
[]
[]
[]
[]
[]
[]
[]
[]
[]
[]
[]
[]
[]
[]
[]
[]
[]
[]
[]
[]
[]
[]
[]
[]
[]
[]
[]
[]
[]
[]
[]
[]
[]
[]
[]
[]
[]
[]
[]
[]
[]
[]
[]
[]
[]
[]
[]
[]
[]
[]
[]
[]
[]
[]
[]
[]
[]
[]
[]
[]
[]
[]
[]
[]
[]
[]
[]
[]
[]
[]
[]
[]
[]
[]
[]
[]
[]
[]
[]
[]
[]
[]
[]
[]
[]
[]
[]
[]
[]
[]
[]
[]
[]
[]
[]
[]
[]
[]
[]
[]
[]
[]
[]
[]
[]
[]
[]
[]
[]
[]
[]
[]
[]
[]
[]
[]
[]
[]
[]
[]
[]
[]
[]
[]
[]
[]
[]
[]
[]
[]
[]
[]
[]
[]
[]
[]
[]
[]
[]
[]
[]
[]
[]
[]
[]
[]
[]
[]
[]
[]
[]
[]
[]
[]
[]
[]
[]
[]
[]
[]
[]
[]
[]
[]
[]
[]
[]
[]
[]
[]
[]
[]
[]
[]
[]
[]
[]
[]
[]
[]
[]
[]
[]
[]
[]
[]
[]
[]
[]
[]
[]
[]
[]
[]
[]
[]
[]
[]
[]
[]
[]
[]
[]
[]
[]
[]
[]
[]
[]
[]
[]
[]
[]
[]
[]
[]
[]
[]
[]
[]
[]
[]
[]
[]
[]
[]
[]
[]
[]
[]
[]
[]
[]
[]
[]
[]
[]
[]
[]
[]
[]
[]
[]
[]
[]
[]
[]
[]
[]
[]
[]
[]
[]
[]
[]
[]
[]
[]
[]
[]
[]
[]
[]
[]
[]
[]
[]
[]
[]
[]
[]
[]
[]
[]
[]
[]
[]
[]
[]
[]
[]
[]
[]
[]
[]
[]
[]
[]
[]
[]
[]
[]
[]
[]
[]
[]
[]
[]
[]
[]
[]
[]
[]
[]
[]
[]
[]
[]
[]
[]
[]
[]
[]
[]
[]
[]
[]
[]
[]
[]
[]
[]
[]
[]
[]
[]
[]
[]
[]
[]
[]
[]
[]
[]
[]
[]
[]
[]
[]
[]
[]
[]
[]
[]
[]
[]
[]
[]
[]
[]
[]
[]
[]
[]
[]
[]
[]
[]
[]
[]
[]
[]
[]
[]
[]
[]
[]
[]
[]
[]
[]
[]
[]
[]
[]
[]
[]
[]
[]
[]
[]
[]
[]
[]
[]
[]
[]
[]
[]
[]
[]
[]
[]
[]
[]
[]
[]
[]
[]
[]
[]
[]
[]
[]
[]
[]
[]
[]
[]
[]
[]
[]
[]
[]
[]
[]
[]
[]
[]
[]
[]
[]
[]
[]
[]
[]
[]
[]
[]
[]
[]
[]
[]
[]
[]
[]
[]
[]
[]
[]
[]
[]
[]
[]
[]
[]
[]
[]
[]
[]
[]
[]
[]
[]
[]
[]
[]
[]
[]
[]
[]
[]
[]
[]
[]
[]
[]
[]
[]
[]
[]
[]
[]
[]
[]
[]
[]
[]
[]
[]
[]
[]
[]
[]
[]
[]
[]
[]
[]
[]
[]
[]
[]
[]
[]
[]
[]
[]
[]
[]
[]
[]
[]
[]
[]
[]
[]
[]
[]
[]
[]
[]
[]
[]
[]
[]
[]
[]
[]
[]
[]
[]
[]
[]
[]
[]
[]
[]
[]
[]
[]
[]
[]
[]
[]
[]
[]
[]
[]
[]
[]
[]
[]
[]
[]
[]
[]
[]
[]
[]
[]
[]
[]
[]
[]
[]
[]
[]
[]
[]
[]
[]
[]
[]
[]
[]
[]
[]
[]
[]
[]
[]
[]
[]
[]
[]
[]
[]
[]
[]
[]
[]
[]
[]
[]
[]
[]
[]
[]
[]
[]
[]
[]
[]
[]
[]
[]
[]
[]
[]
[]
[]
[]
[]
[]
[]
[]
[]
[]
[]
[]
[]
[]
[]
[]
[]
[]
[]
[]
[]
[]
[]
[]
[]
[]
[]
[]
[]
[]
[]
[]
[]
[]
[]
[]
[]
[]
[]
[]
[]
[]
[]
[]
[]
[]
[]
[]
[]
[]
[]
[]
[]
[]
[]
[]
[]
[]
[]
[]
[]
[]
[]
[]
[]
[]
[]
[]
[]
[]
[]
[]
[]
[]
[]
[]
[]
[]
[]
[]
[]
[]
[]
[]
[]
[]
[]
[]
[]
[]
[]
[]
[]
[]
[]
[]
[]
[]
[]
[]
[]
[]
[]
[]
[]
[]
[]
[]
[]
[]
[]
[]
[]
[]
[]
[]
[]
[]
[]
[]
[]
[]
[]
[]
[]
[]
[]
[]
[]
[]
[]
[]
[]
[]
[]
[]
[]
[]
[]
[]
[]
[]
[]
[]
[]
[]
[]
[]
[]
[]
[]
[]
[]
[]
[]
[]
[]
[]
[]
[]
[]
[]
[]
[]
[]
[]
[]
[]
[]
[]
[]
[]
[]
[]
[]
[]
[]
[]
[]
[]
[]
[]
[]
[]
[]
[]
[]
[]
[]
[]
[]
[]
[]
[]
[]
[]
[]
[]
[]
[]
[]
[]
[]
[]
[]
[]
[]
[]
[]
[]
[]
[]
[]
[]
[]
[]
[]
[]
[]
[]
[]
[]
[]
[]
[]
[]
[]
[]
[]
[]
[]
[]
[]
[]
[]
[]
[]
[]
[]
[]
[]
[]
[]
[]
[]
[]
[]
[]
[]
[]
[]
[]
[]
[]
[]
[]
[]
[]
[]
[]
[]
[]
[]
[]
[]
[]
[]
[]
[]
[]
[]
[]
[]
[]
[]
[]
[]
[]
[]
[]
[]
[]
[]
[]
[]
[]
[]
[]
[]
[]
[]
[]
[]
[]
[]
[]
[]
[]
[]
[]
[]
[]
[]
[]
[]
[]
[]
[]
[]
[]
[]
[]
[]
[]
[]
[]
[]
[]
[]
[]
[]
[]
[]
[]
[]
[]
[]
[]
[]
[]
[]
[]
[]
[]
[]
[]
[]
[]
[]
[]
[]
[]
[]
[]
[]
[]
[]
[]
[]
[]
[]
[]
[]
[]
[]
[]
[]
[]
[]
[]
[]
[]
[]
[]
[]
[]
[]
[]
[]
[]
[]
[]
[]
[]
[]
[]
[]
[]
[]
[]
[]
[]
[]
[]
[]
[]
[]
[]
[]
[]
[]
[]
[]
[]
[]
[]
[]
[]
[]
[]
[]
[]
[]
[]
[]
[]
[]
[]
[]
[]
[]
[]
[]
[]
[]
[]
[]
[]
[]
[]
[]
[]
[]
[]
[]
[]
[]
[]
[]
[]
[]
[]
[]
[]
[]
[]
[]
[]
[]
[]
[]
[]
[]
[]
[]
[]
[]
[]
[]
[]
[]
[]
[]
[]
[]
[]
[]
[]
[]
[]
[]
[]
[]
[]
[]
[]
[]
[]
[]
[]
[]
[]
[]
[]
[]
[]
[]
[]
[]
[]
[]
[]
[]
[]
[]
[]
[]
[]
[]
[]
[]
[]
[]
[]
[]
[]
[]
[]
[]
[]
[]
[]
[]
[]
[]
[]
[]
[]
[]
[]
[]
[]
[]
[]
[]
[]
[]
[]
[]
[]
[]
[]
[]
[]
[]
[]
[]
[]
[]
[]
[]
[]
[]
[]
[]
[]
[]
[]
[]
[]
[]
[]
[]
[]
[]
[]
[]
[]
[]
[]
[]
[]
[]
[]
[]
[]
[]
[]
[]
[]
[]
[]
[]
[]
[]
[]
[]
[]
[]
[]
[]
[]
[]
[]
[]
[]
[]
[]
[]
[]
[]
[]
[]
[]
[]
[]
[]
[]
[]
[]
[]
[]
[]
[]
[]
[]
[]
[]
[]
[]
[]
[]
[]
[]
[]
[]
[]
[]
[]
[]
[]
[]
[]
[]
[]
[]
[]
[]
[]
[]
[]
[]
[]
[]
[]
[]
[]
[]
[]
[]
[]
[]
[]
[]
[]
[]
[]
[]
[]
[]
[]
[]
[]
[]
[]
[]
[]
[]
[]
[]
[]
[]
[]
[]
[]
[]
[]
[]
[]
[]
[]
[]
[]
[]
[]
[]
[]
[]
[]
[]
[]
[]
[]
[]
[]
[]
[]
[]
[]
[]
[]
[]
[]
[]
[]
[]
[]
[]
[]
[]
[]
[]
[]
[]
[]
[]
[]
[]
[]
[]
[]
[]
[]
[]
[]
[]
[]
[]
[]
[]
[]
[]
[]
[]
[]
[]
[]
[]
[]
[]
[]
[]
[]
[]
[]
[]
[]
[]
[]
[]
[]
[]
[]
[]
[]
[]
[]
[]
[]
[]
[]
[]
[]
[]
[]
[]
[]
[]
[]
[]
[]
[]
[]
[]
[]
[]
[]
[]
[]
[]
[]
[]
[]
[]
[]
[]
[]
[]
[]
[]
[]
[]
[]
[]
[]
[]
[]
[]
[]
[]
[]
[]
[]
[]
[]
[]
[]
[]
[]
[]
[]
[]
[]
[]
[]
[]
[]
[]
[]
[]
[]
[]
[]
[]
[]
[]
[]
[]
[]
[]
[]
[]
[]
[]
[]
[]
[]
[]
[]
[]
[]
[]
[]
[]
[]
[]
[]
[]
[]
[]
[]
[]
[]
[]
[]
[]
[]
[]
[]
[]
[]
[]
[]
[]
[]
[]
[]
[]
[]
[]
[]
[]
[]
[]
[]
[]
[]
[]
[]
[]
[]
[]
[]
[]
[]
[]
[]
[]
[]
[]
[]
[]
[]
[]
[]
[]
[]
[]
[]
[]
[]
[]
[]
[]
[]
[]
[]
[]
[]
[]
[]
[]
[]
[]
[]
[]
[]
[]
[]
[]
[]
[]
[]
[]
[]
[]
[]
[]
[]
[]
[]
[]
[]
[]
[]
[]
[]
[]
[]
[]
[]
[]
[]
[]
[]
[]
[]
[]
[]
[]
[]
[]
[]
[]
[]
[]
[]
[]
[]
[]
[]
[]
[]
[]
[]
[]
[]
[]
[]
[]
[]
[]
[]
[]
[]
[]
[]
[]
[]
[]
[]
[]
[]
[]
[]
[]
[]
[]
[]
[]
[]
[]
[]
[]
[]
[]
[]
[]
[]
[]
[]
[]
[]
[]
[]
[]
[]
[]
[]
[]
[]
[]
[]
[]
[]
[]
[]
[]
[]
[]
[]
[]
[]
[]
[]
[]
[]
[]
[]
[]
[]
[]
[]
[]
[]
[]
[]
[]
[]
[]
[]
[]
[]
[]
[]
[]
[]
[]
[]
[]
[]
[]
[]
[]
[]
[]
[]
[]
[]
[]
[]
[]
[]
[]
[]
[]
[]
[]
[]
[]
[]
[]
[]
[]
[]
[]
[]
[]
[]
[]
[]
[]
[]
[]
[]
[]
[]
[]
[]
[]
[]
[]
[]
[]
[]
[]
[]
[]
[]
[]
[]
[]
[]
[]
[]
[]
[]
[]
[]
[]
[]
[]
[]
[]
[]
[]
[]
[]
[]
[]
[]
[]
[]
[]
[]
[]
[]
[]
[]
[]
[]
[]
[]
[]
[]
[]
[]
[]
[]
[]
[]
[]
[]
[]
[]
[]
[]
[]
[]
[]
[]
[]
[]
[]
[]
[]
[]
[]
[]
[]
[]
[]
[]
[]
[]
[]
[]
[]
[]
[]
[]
[]
[]
[]
[]
[]
[]
[]
[]
[]
[]
[]
[]
[]
[]
[]
[]
[]
[]
[]
[]
[]
[]
[]
[]
[]
[]
[]
[]
[]
[]
[]
[]
[]
[]
[]
[]
[]
[]
[]
[]
[]
[]
[]
[]
[]
[]
[]
[]
[]
[]
[]
[]
[]
[]
[]
[]
[]
[]
[]
[]
[]
[]
[]
[]
[]
[]
[]
[]
[]
[]
[]
[]
[]
[]
[]
[]
[]
[]
[]
[]
[]
[]
[]
[]
[]
[]
[]
[]
[]
[]
[]
[]
[]
[]
[]
[]
[]
[]
[]
[]
[]
[]
[]
[]
[]
[]
[]
[]
[]
[]
[]
[]
[]
[]
[]
[]
[]
[]
[]
[]
[]
[]
[]
[]
[]
[]
[]
[]
[]
[]
[]
[]
[]
[]
[]
[]
[]
[]
[]
[]
[]
[]
[]
[]
[]
[]
[]
[]
[]
[]
[]
[]
[]
[]
[]
[]
[]
[]
[]
[]
[]
[]
[]
[]
[]
[]
[]
[]
[]
[]
[]
[]
[]
[]
[]
[]
[]
[]
[]
[]
[]
[]
[]
[]
[]
[]
[]
[]
[]
[]
[]
[]
[]
[]
[]
[]
[]
[]
[]
[]
[]
[]
[]
[]
[]
[]
[]
[]
[]
[]
[]
[]
[]
[]
[]
[]
[]
[]
[]
[]
[]
[]
[]
[]
[]
[]
[]
[]
[]
[]
[]
[]
[]
[]
[]
[]
[]
[]
[]
[]
[]
[]
[]
[]
[]
[]
[]
[]
[]
[]
[]
[]
[]
[]
[]
[]
[]
[]
[]
[]
[]
[]
[]
[]
[]
[]
[]
[]
[]
[]
[]
[]
[]
[]
[]
[]
[]
[]
[]
[]
[]
[]
[]
[]
[]
[]
[]
[]
[]
[]
[]
[]
[]
[]
[]
[]
[]
[]
[]
[]
[]
[]
[]
[]
[]
[]
[]
[]
[]
[]
[]
[]
[]
[]
[]
[]
[]
[]
[]
[]
[]
[]
[]
[]
[]
[]
[]
[]
[]
[null,null,null,null,null,null,null,null,null,null,null,{"$f":"A8456","v":0}]
[]
[]
[]
[]
[]
[]
[]
[]
[]
[]
[]
[]
[]
[]
[]
[]
[]
[]
[]
[]
[]
[]
[]
[]
[]
[]
[]
[]
[]
[]
[]
[]
[]
[]
[]
[]
[]
[]
[]
[]
[]
[]
[]
[]
[]
[]
[]
[]
[]
[]
[]
[]
[]
[]
[]
[]
[]
[]
[]
[]
[]
[]
[]
[]
[]
[]
[]
[]
[]
[]
[]
[]
[]
[]
[]
[]
[]
[]
[]
[]
[]
[]
[]
[]
[]
[]
[]
[]
[]
[]
[]
[]
[]
[]
[]
[]
[]
[]
[]
[]
[]
[]
[]
[]
[]
[]
[]
[]
[]
[]
[]
[]
[]
[]
[]
[]
[]
[]
[]
[]
[]
[]
[]
[]
[]
[]
[]
[]
[]
[]
[]
[]
[]
[]
[]
[]
[]
[]
[]
[]
[]
[]
[]
[]
[]
[]
[]
[]
[]
[]
[]
[]
[]
[]
[]
[]
[]
[null,null,null,null,null,null,null,null,null,null,null,{"$f":"A8614","v":0}]
[]
[]
[]
[]
[]
[]
[]
[]
[]
[]
[]
[]
[]
[]
[]
[]
[]
[]
[]
[]
[]
[]
[]
[]
[]
[]
[]
[]
[]
[]
[]
[]
[]
[]
[]
[]
[]
[]
[]
[]
[]
[]
[]
[]
[]
[]
[]
[]
[]
[]
[]
[]
[]
[]
[]
[]
[]
[]
[]
[]
[]
[]
[]
[]
[]
[]
[]
[]
[]
[]
[]
[]
[]
[]
[]
[]
[]
[]
[]
[]
[]
[]
[]
[]
[]
[]
[]
[]
[]
[]
[]
[]
[]
[]
[]
[]
[]
[]
[]
[]
[]
[]
[]
[]
[]
[]
[]
[]
[]
[]
[]
[]
[]
[]
[]
[]
[]
[]
[]
[]
[]
[]
[]
[]
[]
[]
[]
[]
[]
[]
[]
[]
[]
[]
[]
[]
[]
[]
[]
[]
[]
[]
[]
[]
[]
[]
[]
[]
[]
[]
[]
[]
[]
[]
[]
[]
[]
[null,null,null,null,null,null,null,null,null,null,null,{"$f":"A8772","v":0}]
[]
[]
[]
[]
[]
[]
[]
[]
[]
[]
[]
[]
[]
[]
[]
[]
[]
[]
[]
[]
[]
[]
[]
[]
[]
[]
[]
[]
[]
[]
[]
[]
[]
[]
[]
[]
[]
[]
[]
[]
[]
[]
[]
[]
[]
[]
[]
[]
[]
[]
[]
[]
[]
[]
[]
[]
[]
[]
[]
[]
[]
[]
[]
[]
[]
[]
[]
[]
[]
[]
[]
[]
[]
[]
[]
[]
[]
[]
[]
[]
[]
[]
[]
[]
[]
[]
[]
[]
[]
[]
[]
[]
[]
[]
[]
[]
[]
[]
[]
[]
[]
[]
[]
[]
[]
[]
[]
[]
[]
[]
[]
[]
[]
[]
[]
[]
[]
[]
[]
[]
[]
[]
[]
[]
[]
[]
[]
[]
[]
[]
[]
[]
[]
[]
[]
[]
[]
[]
[]
[]
[]
[]
[]
[]
[]
[]
[]
[]
[]
[]
[]
[]
[]
[]
[]
[]
[]
[null,null,null,null,null,null,null,null,null,null,null,{"$f":"A8930","v":0}]
[]
[]
[]
[]
[]
[]
[]
[]
[]
[]
[]
[]
[]
[]
[]
[]
[]
[]
[]
[]
[]
[]
[]
[]
[]
[]
[]
[]
[]
[]
[]
[]
[]
[]
[]
[]
[]
[]
[]
[]
[]
[]
[]
[]
[]
[]
[]
[]
[]
[]
[]
[]
[]
[]
[]
[]
[]
[]
[]
[]
[]
[]
[]
[]
[]
[]
[]
[]
[]
[]
[]
[]
[]
[]
[]
[]
[]
[]
[]
[]
[]
[]
[]
[]
[]
[]
[]
[]
[]
[]
[]
[]
[]
[]
[]
[]
[]
[]
[]
[]
[]
[]
[]
[]
[]
[]
[]
[]
[]
[]
[]
[]
[]
[]
[]
[]
[]
[]
[]
[]
[]
[]
[]
[]
[]
[]
[]
[]
[]
[]
[]
[]
[]
[]
[]
[]
[]
[]
[]
[]
[]
[]
[]
[]
[]
[]
[]
[]
[]
[]
[]
[]
[]
[]
[]
[]
[]
[null,null,null,null,null,null,null,null,null,null,null,{"$f":"A9088","v":0}]
[]
[]
[]
[]
[]
[]
[]
[]
[]
[]
[]
[]
[]
[]
[]
[]
[]
[]
[]
[]
[]
[]
[]
[]
[]
[]
[]
[]
[]
[]
[]
[]
[]
[]
[]
[]
[]
[]
[]
[]
[]
[]
[]
[]
[]
[]
[]
[]
[]
[]
[]
[]
[]
[]
[]
[]
[]
[]
[]
[]
[]
[]
[]
[]
[]
[]
[]
[]
[]
[]
[]
[]
[]
[]
[]
[]
[]
[]
[]
[]
[]
[]
[]
[]
[]
[]
[]
[]
[]
[]
[]
[]
[]
[]
[]
[]
[]
[]
[]
[]
[]
[]
[]
[]
[]
[]
[]
[]
[]
[]
[]
[]
[]
[]
[]
[]
[]
[]
[]
[]
[]
[]
[]
[]
[]
[]
[]
[]
[]
[]
[]
[]
[]
[]
[]
[]
[]
[]
[]
[]
[]
[]
[]
[]
[]
[]
[]
[]
[]
[]
[]
[]
[]
[]
[]
[]
[]
[null,null,null,null,null,null,null,null,null,null,null,{"$f":"A9246","v":0}]
[]
[]
[]
[]
[]
[]
[]
[]
[]
[]
[]
[]
[]
[]
[]
[]
[]
[]
[]
[]
[]
[]
[]
[]
[]
[]
[]
[]
[]
[]
[]
[]
[]
[]
[]
[]
[]
[]
[]
[]
[]
[]
[]
[]
[]
[]
[]
[]
[]
[]
[]
[]
[]
[]
[]
[]
[]
[]
[]
[]
[]
[]
[]
[]
[]
[]
[]
[]
[]
[]
[]
[]
[]
[]
[]
[]
[]
[]
[]
[]
[]
[]
[]
[]
[]
[]
[]
[]
[]
[]
[]
[]
[]
[]
[]
[]
[]
[]
[]
[]
[]
[]
[]
[]
[]
[]
[]
[]
[]
[]
[]
[]
[]
[]
[]
[]
[]
[]
[]
[]
[]
[]
[]
[]
[]
[]
[]
[]
[]
[]
[]
[]
[]
[]
[]
[]
[]
[]
[]
[]
[]
[]
[]
[]
[]
[]
[]
[]
[]
[]
[]
[]
[]
[]
[]
[]
[]
[null,null,null,null,null,null,null,null,null,null,null,{"$f":"A9404","v":0}]
[]
[]
[]
[]
[]
[]
[]
[]
[]
[]
[]
[]
[]
[]
[]
[]
[]
[]
[]
[]
[]
[]
[]
[]
[]
[]
[]
[]
[]
[]
[]
[]
[]
[]
[]
[]
[]
[]
[]
[]
[]
[]
[]
[]
[]
[]
[]
[]
[]
[]
[]
[]
[]
[]
[]
[]
[]
[]
[]
[]
[]
[]
[]
[]
[]
[]
[]
[]
[]
[]
[]
[]
[]
[]
[]
[]
[]
[]
[]
[]
[]
[]
[]
[]
[]
[]
[]
[]
[]
[]
[]
[]
[]
[]
[]
[]
[]
[]
[]
[]
[]
[]
[]
[]
[]
[]
[]
[]
[]
[]
[]
[]
[]
[]
[]
[]
[]
[]
[]
[]
[]
[]
[]
[]
[]
[]
[]
[]
[]
[]
[]
[]
[]
[]
[]
[]
[]
[]
[]
[]
[]
[]
[]
[]
[]
[]
[]
[]
[]
[]
[]
[]
[]
[]
[]
[]
[]
[]
[null,null,null,null,null,null,null,null,null,null,null,{"$f":"A9563","v":0}]
[]
[]
[]
[]
[]
[]
[]
[]
[]
[]
[]
[]
[]
[]
[]
[]
[]
[]
[]
[]
[]
[]
[]
[]
[]
[]
[]
[]
[]
[]
[]
[]
[]
[]
[]
[]
[]
[]
[]
[]
[]
[]
[]
[]
[]
[]
[]
[]
[]
[]
[]
[]
[]
[]
[]
[]
[]
[]
[]
[]
[]
[]
[]
[]
[]
[]
[]
[]
[null,null,null,null,null,null,null,null,null,null,null,{"$f":"A9632","v":0}]
[]
[]
[]
[]
[]
[]
[]
[]
[]
[]
[]
[]
[]
[]
[]
[]
[]
[]
[]
[]
[]
[]
[]
[]
[]
[]
[]
[]
[]
[]
[]
[]
[]
[]
[]
[]
[]
[]
[]
[]
[]
[]
[]
[]
[]
[]
[]
[]
[]
[]
[]
[]
[]
[]
[]
[]
[]
[]
[]
[]
[]
[]
[]
[]
[]
[]
[]
[null,null,null,null,null,null,null,null,null,null,null,{"$f":"A9700","v":0}]
[]
[]
[]
[]
[]
[]
[]
[]
[]
[]
[]
[]
[]
[]
[]
[]
[]
[]
[]
[]
[]
[]
[]
[]
[]
[]
[]
[]
[]
[]
[]
[]
[]
[]
[]
[]
[]
[]
[]
[]
[]
[]
[]
[]
[]
[]
[]
[]
[]
[]
[]
[]
[]
[]
[]
[]
[]
[]
[]
[]
[]
[]
[]
[]
[]
[]
[]
[]
[]
[]
[]
[]
[]
[]
[]
[]
[]
[]
[]
[]
[]
[]
[]
[]
[]
[]
[]
[]
[]
[]
[]
[]
[]
[]
[]
[]
[]
[]
[]
[]
[]
[]
[]
[]
[]
[]
[]
[]
[]
[]
[]
[]
[]
[]
[]
[]
[]
[]
[]
[]
[]
[]
[]
[]
[]
[]
[]
[]
[]
[]
[]
[]
[]
[]
[]
[]
[]
[]
[]
[]
[]
[]
[]
[]
[]
[]
[]
[]
[]
[]
[]
[]
[]
[]
[]
[]
[]
[]
[null,null,null,null,null,null,null,null,null,null,null,{"$f":"A9859","v":0}]
[]
[]
[]
[]
[]
[]
[]
[]
[]
[]
[]
[]
[]
[]
[]
[]
[]
[]
[]
[]
[]
[]
[]
[]
[]
[]
[]
[]
[]
[]
[]
[]
[]
[]
[]
[]
[]
[]
[]
[]
[]
[]
[]
[]
[]
[]
[]
[]
[]
[]
[]
[]
[]
[]
[]
[]
[]
[]
[]
[]
[]
[]
[]
[]
[]
[]
[]
[null,null,null,null,null,null,null,null,null,null,null,{"$f":"A9927","v":0}]
[]
[]
[]
[]
[]
[]
[]
[]
[]
[]
[]
[]
[]
[]
[]
[]
[]
[]
[]
[]
[]
[]
[]
[]
[]
[]
[]
[]
[]
[]
[]
[]
[]
[]
[]
[]
[]
[]
[]
[]
[]
[]
[]
[]
[]
[]
[]
[]
[]
[]
[]
[]
[]
[]
[]
[]
[]
[]
[]
[]
[]
[]
[]
[]
[]
[]
[]
[]
[null,null,null,null,null,null,null,null,null,null,null,{"$f":"A9996","v":0}]
[]
[]
[]
[]
[]
[]
[]
[]
[]
[]
[]
[]
[]
[]
[]
[]
[]
[]
[]
[]
[]
[]
[]
[]
[]
[]
[]
[]
[]
[]
[]
[]
[]
[]
[]
[]
[]
[]
[]
[]
[]
[]
[]
[]
[]
[]
[]
[]
[]
[]
[]
[]
[]
[]
[]
[]
[]
[]
[]
[]
[]
[]
[]
[]
[]
[]
[]
[]
[null,null,null,null,null,null,null,null,null,null,null,{"$f":"A10065","v":0}]
[]
[]
[]
[]
[]
[]
[]
[]
[]
[]
[]
[]
[]
[]
[]
[]
[]
[]
[]
[]
[]
[]
[]
[]
[]
[]
[]
[]
[]
[]
[]
[]
[]
[]
[]
[]
[]
[]
[]
[]
[]
[]
[]
[]
[]
[]
[]
[]
[]
[]
[]
[]
[]
[]
[]
[]
[]
[]
[]
[]
[]
[]
[]
[]
[]
[]
[]
[null,null,null,null,null,null,null,null,null,null,null,{"$f":"A10133","v":0}]
[]
[]
[]
[]
[]
[]
[]
[]
[]
[]
[]
[]
[]
[]
[]
[]
[]
[]
[]
[]
[]
[]
[]
[]
[]
[]
[]
[]
[]
[]
[]
[]
[]
[]
[]
[]
[]
[]
[]
[]
[]
[]
[]
[]
[]
[]
[]
[]
[]
[]
[]
[]
[]
[]
[]
[]
[]
[]
[]
[]
[]
[]
[]
[]
[]
[]
[]
[]
[]
[]
[]
[]
[]
[]
[]
[]
[]
[]
[]
[]
[]
[]
[]
[]
[]
[]
[]
[]
[]
[]
[]
[]
[]
[]
[]
[]
[]
[]
[]
[]
[]
[]
[]
[]
[]
[]
[]
[]
[]
[]
[]
[]
[]
[]
[]
[]
[]
[]
[]
[]
[]
[]
[]
[]
[]
[]
[]
[]
[]
[]
[]
[]
[]
[]
[]
[]
[]
[]
[]
[]
[]
[]
[]
[]
[]
[]
[]
[]
[]
[]
[]
[]
[]
[]
[]
[]
[]
[]
[null,null,null,null,null,null,null,null,null,null,null,{"$f":"A10292","v":0}]
[]
[]
[]
[]
[]
[]
[]
[]
[]
[]
[]
[]
[]
[]
[]
[]
[]
[]
[]
[]
[]
[]
[]
[]
[]
[]
[]
[]
[]
[]
[]
[]
[]
[]
[]
[]
[]
[]
[]
[]
[]
[]
[]
[]
[]
[]
[]
[]
[]
[]
[]
[]
[]
[]
[]
[]
[]
[]
[]
[]
[]
[]
[]
[]
[]
[]
[]
[null,null,null,null,null,null,null,null,null,null,null,{"$f":"A10360","v":0}]
[]
[]
[]
[]
[]
[]
[]
[]
[]
[]
[]
[]
[]
[]
[]
[]
[]
[]
[]
[]
[]
[]
[]
[]
[]
[]
[]
[]
[]
[]
[]
[]
[]
[]
[]
[]
[]
[]
[]
[]
[]
[]
[]
[]
[]
[]
[]
[]
[]
[]
[]
[]
[]
[]
[]
[]
[]
[]
[]
[]
[]
[]
[]
[]
[]
[]
[]
[]
[]
[]
[]
[]
[]
[]
[]
[]
[]
[]
[]
[]
[]
[]
[]
[]
[]
[]
[]
[]
[]
[]
[]
[]
[]
[]
[]
[]
[]
[]
[]
[]
[]
[]
[]
[]
[]
[]
[]
[]
[]
[]
[]
[]
[]
[]
[]
[]
[]
[]
[]
[]
[]
[]
[]
[]
[]
[]
[]
[]
[]
[]
[]
[]
[]
[]
[]
[]
[]
[]
[]
[]
[]
[]
[]
[]
[]
[]
[]
[]
[]
[]
[]
[]
[]
[]
[]
[]
[]
[]
[null,null,null,null,null,null,null,null,null,null,null,{"$f":"A10519","v":0}]
[]
[]
[]
[]
[]
[]
[]
[]
[]
[]
[]
[]
[]
[]
[]
[]
[]
[]
[]
[]
[]
[]
[]
[]
[]
[]
[]
[]
[]
[]
[]
[]
[]
[]
[]
[]
[]
[]
[]
[]
[]
[]
[]
[]
[]
[]
[]
[]
[]
[]
[]
[]
[]
[]
[]
[]
[]
[]
[]
[]
[]
[]
[]
[]
[]
[]
[]
[null,null,null,null,null,null,null,null,null,null,null,{"$f":"A10587","v":0}]
[]
[]
[]
[]
[]
[]
[]
[]
[]
[]
[]
[]
[]
[]
[]
[]
[]
[]
[]
[]
[]
[]
[]
[]
[]
[]
[]
[]
[]
[]
[]
[]
[]
[]
[]
[]
[]
[]
[]
[]
[]
[]
[]
[]
[]
[]
[]
[]
[]
[]
[]
[]
[]
[]
[]
[]
[]
[]
[]
[]
[]
[]
[]
[]
[]
[]
[]
[]
[]
[]
[]
[]
[]
[]
[]
[]
[]
[]
[]
[]
[]
[]
[]
[]
[]
[]
[]
[]
[]
[]
[]
[]
[]
[]
[]
[]
[]
[]
[]
[]
[]
[]
[]
[]
[]
[]
[]
[]
[]
[]
[]
[]
[]
[]
[]
[]
[]
[]
[]
[]
[]
[]
[]
[]
[]
[]
[]
[]
[]
[]
[]
[]
[]
[]
[]
[]
[]
[]
[]
[]
[]
[]
[]
[]
[]
[]
[]
[]
[]
[]
[]
[]
[]
[]
[]
[]
[]
[null,null,null,null,null,null,null,null,null,null,null,{"$f":"A10745","v":0}]
[]
[]
[]
[]
[]
[]
[]
[]
[]
[]
[]
[]
[]
[]
[]
[]
[]
[]
[]
[]
[]
[]
[]
[]
[]
[]
[]
[]
[]
[]
[]
[]
[]
[]
[]
[]
[]
[]
[]
[]
[]
[]
[]
[]
[]
[]
[]
[]
[]
[]
[]
[]
[]
[]
[]
[]
[]
[]
[]
[]
[]
[]
[]
[]
[]
[]
[]
[]
[]
[]
[]
[]
[]
[]
[]
[]
[]
[]
[]
[]
[]
[]
[]
[]
[]
[]
[]
[]
[]
[]
[]
[]
[]
[]
[]
[]
[]
[]
[]
[]
[]
[]
[]
[]
[]
[]
[]
[]
[]
[]
[]
[]
[]
[]
[]
[]
[]
[]
[]
[]
[]
[]
[]
[]
[]
[]
[]
[]
[]
[]
[]
[]
[]
[]
[]
[]
[]
[]
[]
[]
[]
[]
[]
[]
[]
[]
[]
[]
[]
[]
[]
[]
[]
[]
[]
[]
[]
[null,null,null,null,null,null,null,null,null,null,null,{"$f":"A10903","v":0}]
[]
[]
[]
[]
[]
[]
[]
[]
[]
[]
[]
[]
[]
[]
[]
[]
[]
[]
[]
[]
[]
[]
[]
[]
[]
[]
[]
[]
[]
[]
[]
[]
[]
[]
[]
[]
[]
[]
[]
[]
[]
[]
[]
[]
[]
[]
[]
[]
[]
[]
[]
[]
[]
[]
[]
[]
[]
[]
[]
[]
[]
[]
[]
[]
[]
[]
[]
[]
[]
[]
[]
[]
[]
[]
[]
[]
[]
[]
[]
[]
[]
[]
[]
[]
[]
[]
[]
[]
[]
[]
[]
[]
[]
[]
[]
[]
[]
[]
[]
[]
[]
[]
[]
[]
[]
[]
[]
[]
[]
[]
[]
[]
[]
[]
[]
[]
[]
[]
[]
[]
[]
[]
[]
[]
[]
[]
[]
[]
[]
[]
[]
[]
[]
[]
[]
[]
[]
[]
[]
[]
[]
[]
[]
[]
[]
[]
[]
[]
[]
[]
[]
[]
[]
[]
[]
[]
[]
[null,null,null,null,null,null,null,null,null,null,null,{"$f":"A11061","v":0}]
[]
[]
[]
[]
[]
[]
[]
[]
[]
[]
[]
[]
[]
[]
[]
[]
[]
[]
[]
[]
[]
[]
[]
[]
[]
[]
[]
[]
[]
[]
[]
[]
[]
[]
[]
[]
[]
[]
[]
[]
[]
[]
[]
[]
[]
[]
[]
[]
[]
[]
[]
[]
[]
[]
[]
[]
[]
[]
[]
[]
[]
[]
[]
[]
[]
[]
[]
[]
[]
[]
[]
[]
[]
[]
[]
[]
[]
[]
[]
[]
[]
[]
[]
[]
[]
[]
[]
[]
[]
[]
[]
[]
[]
[]
[]
[]
[]
[]
[]
[]
[]
[]
[]
[]
[]
[]
[]
[]
[]
[]
[]
[]
[]
[]
[]
[]
[]
[]
[]
[]
[]
[]
[]
[]
[]
[]
[]
[]
[]
[]
[]
[]
[]
[]
[]
[]
[]
[]
[]
[]
[]
[]
[]
[]
[]
[]
[]
[]
[]
[]
[]
[]
[]
[]
[]
[]
[]
[]
[null,null,null,null,null,null,null,null,null,null,null,{"$f":"A11220","v":0}]
[]
[]
[]
[]
[]
[]
[]
[]
[]
[]
[]
[]
[]
[]
[]
[]
[]
[]
[]
[]
[]
[]
[]
[]
[]
[]
[]
[]
[]
[]
[]
[]
[]
[]
[]
[]
[]
[]
[]
[]
[]
[]
[]
[]
[]
[]
[]
[]
[]
[]
[]
[]
[]
[]
[]
[]
[]
[]
[]
[]
[]
[]
[]
[]
[]
[]
[]
[null,null,null,null,null,null,null,null,null,null,null,{"$f":"A11288","v":0}]
[]
[]
[]
[]
[]
[]
[]
[]
[]
[]
[]
[]
[]
[]
[]
[]
[]
[]
[]
[]
[]
[]
[]
[]
[]
[]
[]
[]
[]
[]
[]
[]
[]
[]
[]
[]
[]
[]
[]
[]
[]
[]
[]
[]
[]
[]
[]
[]
[]
[]
[]
[]
[]
[]
[]
[]
[]
[]
[]
[]
[]
[]
[]
[]
[]
[]
[]
[]
[]
[]
[]
[]
[]
[]
[]
[]
[]
[]
[]
[]
[]
[]
[]
[]
[]
[]
[]
[]
[]
[]
[]
[]
[]
[]
[]
[]
[]
[]
[]
[]
[]
[]
[]
[]
[]
[]
[]
[]
[]
[]
[]
[]
[]
[]
[]
[]
[]
[]
[]
[]
[]
[]
[]
[]
[]
[]
[]
[]
[]
[]
[]
[]
[]
[]
[]
[]
[]
[]
[]
[]
[]
[]
[]
[]
[]
[]
[]
[]
[]
[]
[]
[]
[]
[]
[]
[]
[]
[]
[null,null,null,null,null,null,null,null,null,null,null,{"$f":"A11447","v":0}]
[]
[]
[]
[]
[]
[]
[]
[]
[]
[]
[]
[]
[]
[]
[]
[]
[]
[]
[]
[]
[]
[]
[]
[]
[]
[]
[]
[]
[]
[]
[]
[]
[]
[]
[]
[]
[]
[]
[]
[]
[]
[]
[]
[]
[]
[]
[]
[]
[]
[]
[]
[]
[]
[]
[]
[]
[]
[]
[]
[]
[]
[]
[]
[]
[]
[]
[]
[null,null,null,null,null,null,null,null,null,null,null,{"$f":"A11515","v":0}]
[]
[]
[]
[]
[]
[]
[]
[]
[]
[]
[]
[]
[]
[]
[]
[]
[]
[]
[]
[]
[]
[]
[]
[]
[]
[]
[]
[]
[]
[]
[]
[]
[]
[]
[]
[]
[]
[]
[]
[]
[]
[]
[]
[]
[]
[]
[]
[]
[]
[]
[]
[]
[]
[]
[]
[]
[]
[]
[]
[]
[]
[]
[]
[]
[]
[]
[]
[]
[]
[]
[]
[]
[]
[]
[]
[]
[]
[]
[]
[]
[]
[]
[]
[]
[]
[]
[]
[]
[]
[]
[]
[]
[]
[]
[]
[]
[]
[]
[]
[]
[]
[]
[]
[]
[]
[]
[]
[]
[]
[]
[]
[]
[]
[]
[]
[]
[]
[]
[]
[]
[]
[]
[]
[]
[]
[]
[]
[]
[]
[]
[]
[]
[]
[]
[]
[]
[]
[]
[]
[]
[]
[]
[]
[]
[]
[]
[]
[]
[]
[]
[]
[]
[]
[]
[]
[]
[]
[]
[null,null,null,null,null,null,null,null,null,null,null,{"$f":"A11674","v":0}]
[]
[]
[]
[]
[]
[]
[]
[]
[]
[]
[]
[]
[]
[]
[]
[]
[]
[]
[]
[]
[]
[]
[]
[]
[]
[]
[]
[]
[]
[]
[]
[]
[]
[]
[]
[]
[]
[]
[]
[]
[]
[]
[]
[]
[]
[]
[]
[]
[]
[]
[]
[]
[]
[]
[]
[]
[]
[]
[]
[]
[]
[]
[]
[]
[]
[]
[]
[null,null,null,null,null,null,null,null,null,null,null,{"$f":"A11742","v":0}]
[]
[]
[]
[]
[]
[]
[]
[]
[]
[]
[]
[]
[]
[]
[]
[]
[]
[]
[]
[]
[]
[]
[]
[]
[]
[]
[]
[]
[]
[]
[]
[]
[]
[]
[]
[]
[]
[]
[]
[]
[]
[]
[]
[]
[]
[]
[]
[]
[]
[]
[]
[]
[]
[]
[]
[]
[]
[]
[]
[]
[]
[]
[]
[]
[]
[]
[]
[]
[]
[]
[]
[]
[]
[]
[]
[]
[]
[]
[]
[]
[]
[]
[]
[]
[]
[]
[]
[]
[]
[]
[]
[]
[]
[]
[]
[]
[]
[]
[]
[]
[]
[]
[]
[]
[]
[]
[]
[]
[]
[]
[]
[]
[]
[]
[]
[]
[]
[]
[]
[]
[]
[]
[]
[]
[]
[]
[]
[]
[]
[]
[]
[]
[]
[]
[]
[]
[]
[]
[]
[]
[]
[]
[]
[]
[]
[]
[]
[]
[]
[]
[]
[]
[]
[]
[]
[]
[]
[null,null,null,null,null,null,null,null,null,null,null,{"$f":"A11900","v":0}]
[]
[]
[]
[]
[]
[]
[]
[]
[]
[]
[]
[]
[]
[]
[]
[]
[]
[]
[]
[]
[]
[]
[]
[]
[]
[]
[]
[]
[]
[]
[]
[]
[]
[]
[]
[]
[]
[]
[]
[]
[]
[]
[]
[]
[]
[]
[]
[]
[]
[]
[]
[]
[]
[]
[]
[]
[]
[]
[]
[]
[]
[]
[]
[]
[]
[]
[]
[]
[]
[]
[]
[]
[]
[]
[]
[]
[]
[]
[]
[]
[]
[]
[]
[]
[]
[]
[]
[]
[]
[]
[]
[]
[]
[]
[]
[]
[]
[]
[]
[]
[]
[]
[]
[]
[]
[]
[]
[]
[]
[]
[]
[]
[]
[]
[]
[]
[]
[]
[]
[]
[]
[]
[]
[]
[]
[]
[]
[]
[]
[]
[]
[]
[]
[]
[]
[]
[]
[]
[]
[]
[]
[]
[]
[]
[]
[]
[]
[]
[]
[]
[]
[]
[]
[]
[]
[]
[]
[null,null,null,null,null,null,null,null,null,null,null,{"$f":"A12058","v":0}]
[]
[]
[]
[]
[]
[]
[]
[]
[]
[]
[]
[]
[]
[]
[]
[]
[]
[]
[]
[]
[]
[]
[]
[]
[]
[]
[]
[]
[]
[]
[]
[]
[]
[]
[]
[]
[]
[]
[]
[]
[]
[]
[]
[]
[]
[]
[]
[]
[]
[]
[]
[]
[]
[]
[]
[]
[]
[]
[]
[]
[]
[]
[]
[]
[]
[]
[]
[]
[]
[]
[]
[]
[]
[]
[]
[]
[]
[]
[]
[]
[]
[]
[]
[]
[]
[]
[]
[]
[]
[]
[]
[]
[]
[]
[]
[]
[]
[]
[]
[]
[]
[]
[]
[]
[]
[]
[]
[]
[]
[]
[]
[]
[]
[]
[]
[]
[]
[]
[]
[]
[]
[]
[]
[]
[]
[]
[]
[]
[]
[]
[]
[]
[]
[]
[]
[]
[]
[]
[]
[]
[]
[]
[]
[]
[]
[]
[]
[]
[]
[]
[]
[]
[]
[]
[]
[]
[]
[null,null,null,null,null,null,null,null,null,null,null,{"$f":"A12216","v":0}]
[]
[]
[]
[]
[]
[]
[]
[]
[]
[]
[]
[]
[]
[]
[]
[]
[]
[]
[]
[]
[]
[]
[]
[]
[]
[]
[]
[]
[]
[]
[]
[]
[]
[]
[]
[]
[]
[]
[]
[]
[]
[]
[]
[]
[]
[]
[]
[]
[]
[]
[]
[]
[]
[]
[]
[]
[]
[]
[]
[]
[]
[]
[]
[]
[]
[]
[]
[]
[]
[]
[]
[]
[]
[]
[]
[]
[]
[]
[]
[]
[]
[]
[]
[]
[]
[]
[]
[]
[]
[]
[]
[]
[]
[]
[]
[]
[]
[]
[]
[]
[]
[]
[]
[]
[]
[]
[]
[]
[]
[]
[]
[]
[]
[]
[]
[]
[]
[]
[]
[]
[]
[]
[]
[]
[]
[]
[]
[]
[]
[]
[]
[]
[]
[]
[]
[]
[]
[]
[]
[]
[]
[]
[]
[]
[]
[]
[]
[]
[]
[]
[]
[]
[]
[]
[]
[]
[]
[null,null,null,null,null,null,null,null,null,null,null,{"$f":"A12374","v":0}]
[]
[]
[]
[]
[]
[]
[]
[]
[]
[]
[]
[]
[]
[]
[]
[]
[]
[]
[]
[]
[]
[]
[]
[]
[]
[]
[]
[]
[]
[]
[]
[]
[]
[]
[]
[]
[]
[]
[]
[]
[]
[]
[]
[]
[]
[]
[]
[]
[]
[]
[]
[]
[]
[]
[]
[]
[]
[]
[]
[]
[]
[]
[]
[]
[]
[]
[]
[]
[]
[]
[]
[]
[]
[]
[]
[]
[]
[]
[]
[]
[]
[]
[]
[]
[]
[]
[]
[]
[]
[]
[]
[]
[]
[]
[]
[]
[]
[]
[]
[]
[]
[]
[]
[]
[]
[]
[]
[]
[]
[]
[]
[]
[]
[]
[]
[]
[]
[]
[]
[]
[]
[]
[]
[]
[]
[]
[]
[]
[]
[]
[]
[]
[]
[]
[]
[]
[]
[]
[]
[]
[]
[]
[]
[]
[]
[]
[]
[]
[]
[]
[]
[]
[]
[]
[]
[]
[]
[null,null,null,null,null,null,null,null,null,null,null,{"$f":"A12532","v":0}]
[]
[]
[]
[]
[]
[]
[]
[]
[]
[]
[]
[]
[]
[]
[]
[]
[]
[]
[]
[]
[]
[]
[]
[]
[]
[]
[]
[]
[]
[]
[]
[]
[]
[]
[]
[]
[]
[]
[]
[]
[]
[]
[]
[]
[]
[]
[]
[]
[]
[]
[]
[]
[]
[]
[]
[]
[]
[]
[]
[]
[]
[]
[]
[]
[]
[]
[]
[]
[]
[]
[]
[]
[]
[]
[]
[]
[]
[]
[]
[]
[]
[]
[]
[]
[]
[]
[]
[]
[]
[]
[]
[]
[]
[]
[]
[]
[]
[]
[]
[]
[]
[]
[]
[]
[]
[]
[]
[]
[]
[]
[]
[]
[]
[]
[]
[]
[]
[]
[]
[]
[]
[]
[]
[]
[]
[]
[]
[]
[]
[]
[]
[]
[]
[]
[]
[]
[]
[]
[]
[]
[]
[]
[]
[]
[]
[]
[]
[]
[]
[]
[]
[]
[]
[]
[]
[]
[]
[null,null,null,null,null,null,null,null,null,null,null,{"$f":"A12690","v":0}]
[]
[]
[]
[]
[]
[]
[]
[]
[]
[]
[]
[]
[]
[]
[]
[]
[]
[]
[]
[]
[]
[]
[]
[]
[]
[]
[]
[]
[]
[]
[]
[]
[]
[]
[]
[]
[]
[]
[]
[]
[]
[]
[]
[]
[]
[]
[]
[]
[]
[]
[]
[]
[]
[]
[]
[]
[]
[]
[]
[]
[]
[]
[]
[]
[]
[]
[]
[]
[]
[]
[]
[]
[]
[]
[]
[]
[]
[]
[]
[]
[]
[]
[]
[]
[]
[]
[]
[]
[]
[]
[]
[]
[]
[]
[]
[]
[]
[]
[]
[]
[]
[]
[]
[]
[]
[]
[]
[]
[]
[]
[]
[]
[]
[]
[]
[]
[]
[]
[]
[]
[]
[]
[]
[]
[]
[]
[]
[]
[]
[]
[]
[]
[]
[]
[]
[]
[]
[]
[]
[]
[]
[]
[]
[]
[]
[]
[]
[]
[]
[]
[]
[]
[]
[]
[]
[]
[]
[]
[null,null,null,null,null,null,null,null,null,null,null,{"$f":"A12849","v":0}]
[]
[]
[]
[]
[]
[]
[]
[]
[]
[]
[]
[]
[]
[]
[]
[]
[]
[]
[]
[]
[]
[]
[]
[]
[]
[]
[]
[]
[]
[]
[]
[]
[]
[]
[]
[]
[]
[]
[]
[]
[]
[]
[]
[]
[]
[]
[]
[]
[]
[]
[]
[]
[]
[]
[]
[]
[]
[]
[]
[]
[]
[]
[]
[]
[]
[]
[]
[null,null,null,null,null,null,null,null,null,null,null,{"$f":"A12917","v":0}]
[]
[]
[]
[]
[]
[]
[]
[]
[]
[]
[]
[]
[]
[]
[]
[]
[]
[]
[]
[]
[]
[]
[]
[]
[]
[]
[]
[]
[]
[]
[]
[]
[]
[]
[]
[]
[]
[]
[]
[]
[]
[]
[]
[]
[]
[]
[]
[]
[]
[]
[]
[]
[]
[]
[]
[]
[]
[]
[]
[]
[]
[]
[]
[]
[]
[]
[]
[]
[]
[]
[]
[]
[]
[]
[]
[]
[]
[]
[]
[]
[]
[]
[]
[]
[]
[]
[]
[]
[]
[]
[]
[]
[]
[]
[]
[]
[]
[]
[]
[]
[]
[]
[]
[]
[]
[]
[]
[]
[]
[]
[]
[]
[]
[]
[]
[]
[]
[]
[]
[]
[]
[]
[]
[]
[]
[]
[]
[]
[]
[]
[]
[]
[]
[]
[]
[]
[]
[]
[]
[]
[]
[]
[]
[]
[]
[]
[]
[]
[]
[]
[]
[]
[]
[]
[]
[]
[]
[]
[null,null,null,null,null,null,null,null,null,null,null,{"$f":"A13076","v":0}]
[]
[]
[]
[]
[]
[]
[]
[]
[]
[]
[]
[]
[]
[]
[]
[]
[]
[]
[]
[]
[]
[]
[]
[]
[]
[]
[]
[]
[]
[]
[]
[]
[]
[]
[]
[]
[]
[]
[]
[]
[]
[]
[]
[]
[]
[]
[]
[]
[]
[]
[]
[]
[]
[]
[]
[]
[]
[]
[]
[]
[]
[]
[]
[]
[]
[]
[]
[null,null,null,null,null,null,null,null,null,null,null,{"$f":"A13144","v":0}]
[]
[]
[]
[]
[]
[]
[]
[]
[]
[]
[]
[]
[]
[]
[]
[]
[]
[]
[]
[]
[]
[]
[]
[]
[]
[]
[]
[]
[]
[]
[]
[]
[]
[]
[]
[]
[]
[]
[]
[]
[]
[]
[]
[]
[]
[]
[]
[]
[]
[]
[]
[]
[]
[]
[]
[]
[]
[]
[]
[]
[]
[]
[]
[]
[]
[]
[]
[]
[]
[]
[]
[]
[]
[]
[]
[]
[]
[]
[]
[]
[]
[]
[]
[]
[]
[]
[]
[]
[]
[]
[]
[]
[]
[]
[]
[]
[]
[]
[]
[]
[]
[]
[]
[]
[]
[]
[]
[]
[]
[]
[]
[]
[]
[]
[]
[]
[]
[]
[]
[]
[]
[]
[]
[]
[]
[]
[]
[]
[]
[]
[]
[]
[]
[]
[]
[]
[]
[]
[]
[]
[]
[]
[]
[]
[]
[]
[]
[]
[]
[]
[]
[]
[]
[]
[]
[]
[]
[null,null,null,null,null,null,null,null,null,null,null,{"$f":"A13302","v":0}]
[]
[]
[]
[]
[]
[]
[]
[]
[]
[]
[]
[]
[]
[]
[]
[]
[]
[]
[]
[]
[]
[]
[]
[]
[]
[]
[]
[]
[]
[]
[]
[]
[]
[]
[]
[]
[]
[]
[]
[]
[]
[]
[]
[]
[]
[]
[]
[]
[]
[]
[]
[]
[]
[]
[]
[]
[]
[]
[]
[]
[]
[]
[]
[]
[]
[]
[]
[]
[]
[]
[]
[]
[]
[]
[]
[]
[]
[]
[]
[]
[]
[]
[]
[]
[]
[]
[]
[]
[]
[]
[]
[]
[]
[]
[]
[]
[]
[]
[]
[]
[]
[]
[]
[]
[]
[]
[]
[]
[]
[]
[]
[]
[]
[]
[]
[]
[]
[]
[]
[]
[]
[]
[]
[]
[]
[]
[]
[]
[]
[]
[]
[]
[]
[]
[]
[]
[]
[]
[]
[]
[]
[]
[]
[]
[]
[]
[]
[]
[]
[]
[]
[]
[]
[]
[]
[]
[]
[null,null,null,null,null,null,null,null,null,null,null,{"$f":"A13460","v":0}]
[]
[]
[]
[]
[]
[]
[]
[]
[]
[]
[]
[]
[]
[]
[]
[]
[]
[]
[]
[]
[]
[]
[]
[]
[]
[]
[]
[]
[]
[]
[]
[]
[]
[]
[]
[]
[]
[]
[]
[]
[]
[]
[]
[]
[]
[]
[]
[]
[]
[]
[]
[]
[]
[]
[]
[]
[]
[]
[]
[]
[]
[]
[]
[]
[]
[]
[]
[]
[]
[]
[]
[]
[]
[]
[]
[]
[]
[]
[]
[]
[]
[]
[]
[]
[]
[]
[]
[]
[]
[]
[]
[]
[]
[]
[]
[]
[]
[]
[]
[]
[]
[]
[]
[]
[]
[]
[]
[]
[]
[]
[]
[]
[]
[]
[]
[]
[]
[]
[]
[]
[]
[]
[]
[]
[]
[]
[]
[]
[]
[]
[]
[]
[]
[]
[]
[]
[]
[]
[]
[]
[]
[]
[]
[]
[]
[]
[]
[]
[]
[]
[]
[]
[]
[]
[]
[]
[]
[null,null,null,null,null,null,null,null,null,null,null,{"$f":"A13618","v":0}]
[]
[]
[]
[]
[]
[]
[]
[]
[]
[]
[]
[]
[]
[]
[]
[]
[]
[]
[]
[]
[]
[]
[]
[]
[]
[]
[]
[]
[]
[]
[]
[]
[]
[]
[]
[]
[]
[]
[]
[]
[]
[]
[]
[]
[]
[]
[]
[]
[]
[]
[]
[]
[]
[]
[]
[]
[]
[]
[]
[]
[]
[]
[]
[]
[]
[]
[]
[]
[]
[]
[]
[]
[]
[]
[]
[]
[]
[]
[]
[]
[]
[]
[]
[]
[]
[]
[]
[]
[]
[]
[]
[]
[]
[]
[]
[]
[]
[]
[]
[]
[]
[]
[]
[]
[]
[]
[]
[]
[]
[]
[]
[]
[]
[]
[]
[]
[]
[]
[]
[]
[]
[]
[]
[]
[]
[]
[]
[]
[]
[]
[]
[]
[]
[]
[]
[]
[]
[]
[]
[]
[]
[]
[]
[]
[]
[]
[]
[]
[]
[]
[]
[]
[]
[]
[]
[]
[]
[null,null,null,null,null,null,null,null,null,null,null,{"$f":"A13776","v":0}]
[]
[]
[]
[]
[]
[]
[]
[]
[]
[]
[]
[]
[]
[]
[]
[]
[]
[]
[]
[]
[]
[]
[]
[]
[]
[]
[]
[]
[]
[]
[]
[]
[]
[]
[]
[]
[]
[]
[]
[]
[]
[]
[]
[]
[]
[]
[]
[]
[]
[]
[]
[]
[]
[]
[]
[]
[]
[]
[]
[]
[]
[]
[]
[]
[]
[]
[]
[]
[]
[]
[]
[]
[]
[]
[]
[]
[]
[]
[]
[]
[]
[]
[]
[]
[]
[]
[]
[]
[]
[]
[]
[]
[]
[]
[]
[]
[]
[]
[]
[]
[]
[]
[]
[]
[]
[]
[]
[]
[]
[]
[]
[]
[]
[]
[]
[]
[]
[]
[]
[]
[]
[]
[]
[]
[]
[]
[]
[]
[]
[]
[]
[]
[]
[]
[]
[]
[]
[]
[]
[]
[]
[]
[]
[]
[]
[]
[]
[]
[]
[]
[]
[]
[]
[]
[]
[]
[]
[null,null,null,null,null,null,null,null,null,null,null,{"$f":"A13934","v":0}]
[]
[]
[]
[]
[]
[]
[]
[]
[]
[]
[]
[]
[]
[]
[]
[]
[]
[]
[]
[]
[]
[]
[]
[]
[]
[]
[]
[]
[]
[]
[]
[]
[]
[]
[]
[]
[]
[]
[]
[]
[]
[]
[]
[]
[]
[]
[]
[]
[]
[]
[]
[]
[]
[]
[]
[]
[]
[]
[]
[]
[]
[]
[]
[]
[]
[]
[]
[]
[]
[]
[]
[]
[]
[]
[]
[]
[]
[]
[]
[]
[]
[]
[]
[]
[]
[]
[]
[]
[]
[]
[]
[]
[]
[]
[]
[]
[]
[]
[]
[]
[]
[]
[]
[]
[]
[]
[]
[]
[]
[]
[]
[]
[]
[]
[]
[]
[]
[]
[]
[]
[]
[]
[]
[]
[]
[]
[]
[]
[]
[]
[]
[]
[]
[]
[]
[]
[]
[]
[]
[]
[]
[]
[]
[]
[]
[]
[]
[]
[]
[]
[]
[]
[]
[]
[]
[]
[]
[null,null,null,null,null,null,null,null,null,null,null,{"$f":"A14092","v":0}]
[]
[]
[]
[]
[]
[]
[]
[]
[]
[]
[]
[]
[]
[]
[]
[]
[]
[]
[]
[]
[]
[]
[]
[]
[]
[]
[]
[]
[]
[]
[]
[]
[]
[]
[]
[]
[]
[]
[]
[]
[]
[]
[]
[]
[]
[]
[]
[]
[]
[]
[]
[]
[]
[]
[]
[]
[]
[]
[]
[]
[]
[]
[]
[]
[]
[]
[]
[]
[]
[]
[]
[]
[]
[]
[]
[]
[]
[]
[]
[]
[]
[]
[]
[]
[]
[]
[]
[]
[]
[]
[]
[]
[]
[]
[]
[]
[]
[]
[]
[]
[]
[]
[]
[]
[]
[]
[]
[]
[]
[]
[]
[]
[]
[]
[]
[]
[]
[]
[]
[]
[]
[]
[]
[]
[]
[]
[]
[]
[]
[]
[]
[]
[]
[]
[]
[]
[]
[]
[]
[]
[]
[]
[]
[]
[]
[]
[]
[]
[]
[]
[]
[]
[]
[]
[]
[]
[]
[null,null,null,null,null,null,null,null,null,null,null,{"$f":"A14250","v":0}]
[]
[]
[]
[]
[]
[]
[]
[]
[]
[]
[]
[]
[]
[]
[]
[]
[]
[]
[]
[]
[]
[]
[]
[]
[]
[]
[]
[]
[]
[]
[]
[]
[]
[]
[]
[]
[]
[]
[]
[]
[]
[]
[]
[]
[]
[]
[]
[]
[]
[]
[]
[]
[]
[]
[]
[]
[]
[]
[]
[]
[]
[]
[]
[]
[]
[]
[]
[]
[]
[]
[]
[]
[]
[]
[]
[]
[]
[]
[]
[]
[]
[]
[]
[]
[]
[]
[]
[]
[]
[]
[]
[]
[]
[]
[]
[]
[]
[]
[]
[]
[]
[]
[]
[]
[]
[]
[]
[]
[]
[]
[]
[]
[]
[]
[]
[]
[]
[]
[]
[]
[]
[]
[]
[]
[]
[]
[]
[]
[]
[]
[]
[]
[]
[]
[]
[]
[]
[]
[]
[]
[]
[]
[]
[]
[]
[]
[]
[]
[]
[]
[]
[]
[]
[]
[]
[]
[]
[]
[null,null,null,null,null,null,null,null,null,null,null,{"$f":"A14409","v":0}]
[]
[]
[]
[]
[]
[]
[]
[]
[]
[]
[]
[]
[]
[]
[]
[]
[]
[]
[]
[]
[]
[]
[]
[]
[]
[]
[]
[]
[]
[]
[]
[]
[]
[]
[]
[]
[]
[]
[]
[]
[]
[]
[]
[]
[]
[]
[]
[]
[]
[]
[]
[]
[]
[]
[]
[]
[]
[]
[]
[]
[]
[]
[]
[]
[]
[]
[]
[null,null,null,null,null,null,null,null,null,null,null,{"$f":"A14477","v":0}]
[]
[]
[]
[]
[]
[]
[]
[]
[]
[]
[]
[]
[]
[]
[]
[]
[]
[]
[]
[]
[]
[]
[]
[]
[]
[]
[]
[]
[]
[]
[]
[]
[]
[]
[]
[]
[]
[]
[]
[]
[]
[]
[]
[]
[]
[]
[]
[]
[]
[]
[]
[]
[]
[]
[]
[]
[]
[]
[]
[]
[]
[]
[]
[]
[]
[]
[]
[]
[]
[]
[]
[]
[]
[]
[]
[]
[]
[]
[]
[]
[]
[]
[]
[]
[]
[]
[]
[]
[]
[]
[]
[]
[]
[]
[]
[]
[]
[]
[]
[]
[]
[]
[]
[]
[]
[]
[]
[]
[]
[]
[]
[]
[]
[]
[]
[]
[]
[]
[]
[]
[]
[]
[]
[]
[]
[]
[]
[]
[]
[]
[]
[]
[]
[]
[]
[]
[]
[]
[]
[]
[]
[]
[]
[]
[]
[]
[]
[]
[]
[]
[]
[]
[]
[]
[]
[]
[]
[null,null,null,null,null,null,null,null,null,null,null,{"$f":"A14635","v":0}]
[]
[]
[]
[]
[]
[]
[]
[]
[]
[]
[]
[]
[]
[]
[]
[]
[]
[]
[]
[]
[]
[]
[]
[]
[]
[]
[]
[]
[]
[]
[]
[]
[]
[]
[]
[]
[]
[]
[]
[]
[]
[]
[]
[]
[]
[]
[]
[]
[]
[]
[]
[]
[]
[]
[]
[]
[]
[]
[]
[]
[]
[]
[]
[]
[]
[]
[]
[]
[]
[]
[]
[]
[]
[]
[]
[]
[]
[]
[]
[]
[]
[]
[]
[]
[]
[]
[]
[]
[]
[]
[]
[]
[]
[]
[]
[]
[]
[]
[]
[]
[]
[]
[]
[]
[]
[]
[]
[]
[]
[]
[]
[]
[]
[]
[]
[]
[]
[]
[]
[]
[]
[]
[]
[]
[]
[]
[]
[]
[]
[]
[]
[]
[]
[]
[]
[]
[]
[]
[]
[]
[]
[]
[]
[]
[]
[]
[]
[]
[]
[]
[]
[]
[]
[]
[]
[]
[]
[null,null,null,null,null,null,null,null,null,null,null,{"$f":"A14793","v":0}]
[]
[]
[]
[]
[]
[]
[]
[]
[]
[]
[]
[]
[]
[]
[]
[]
[]
[]
[]
[]
[]
[]
[]
[]
[]
[]
[]
[]
[]
[]
[]
[]
[]
[]
[]
[]
[]
[]
[]
[]
[]
[]
[]
[]
[]
[]
[]
[]
[]
[]
[]
[]
[]
[]
[]
[]
[]
[]
[]
[]
[]
[]
[]
[]
[]
[]
[]
[]
[]
[]
[]
[]
[]
[]
[]
[]
[]
[]
[]
[]
[]
[]
[]
[]
[]
[]
[]
[]
[]
[]
[]
[]
[]
[]
[]
[]
[]
[]
[]
[]
[]
[]
[]
[]
[]
[]
[]
[]
[]
[]
[]
[]
[]
[]
[]
[]
[]
[]
[]
[]
[]
[]
[]
[]
[]
[]
[]
[]
[]
[]
[]
[]
[]
[]
[]
[]
[]
[]
[]
[]
[]
[]
[]
[]
[]
[]
[]
[]
[]
[]
[]
[]
[]
[]
[]
[]
[]
[]
[null,null,null,null,null,null,null,null,null,null,null,{"$f":"A14952","v":0}]
[]
[]
[]
[]
[]
[]
[]
[]
[]
[]
[]
[]
[]
[]
[]
[]
[]
[]
[]
[]
[]
[]
[]
[]
[]
[]
[]
[]
[]
[]
[]
[]
[]
[]
[]
[]
[]
[]
[]
[]
[]
[]
[]
[]
[]
[]
[]
[]
[]
[]
[]
[]
[]
[]
[]
[]
[]
[]
[]
[]
[]
[]
[]
[]
[]
[]
[]
[null,null,null,null,null,null,null,null,null,null,null,{"$f":"A15020","v":0}]
[]
[]
[]
[]
[]
[]
[]
[]
[]
[]
[]
[]
[]
[]
[]
[]
[]
[]
[]
[]
[]
[]
[]
[]
[]
[]
[]
[]
[]
[]
[]
[]
[]
[]
[]
[]
[]
[]
[]
[]
[]
[]
[]
[]
[]
[]
[]
[]
[]
[]
[]
[]
[]
[]
[]
[]
[]
[]
[]
[]
[]
[]
[]
[]
[]
[]
[]
[]
[]
[]
[]
[]
[]
[]
[]
[]
[]
[]
[]
[]
[]
[]
[]
[]
[]
[]
[]
[]
[]
[]
[]
[]
[]
[]
[]
[]
[]
[]
[]
[]
[]
[]
[]
[]
[]
[]
[]
[]
[]
[]
[]
[]
[]
[]
[]
[]
[]
[]
[]
[]
[]
[]
[]
[]
[]
[]
[]
[]
[]
[]
[]
[]
[]
[]
[]
[]
[]
[]
[]
[]
[]
[]
[]
[]
[]
[]
[]
[]
[]
[]
[]
[]
[]
[]
[]
[]
[]
[]
[null,null,null,null,null,null,null,null,null,null,null,{"$f":"A15179","v":0}]
[]
[]
[]
[]
[]
[]
[]
[]
[]
[]
[]
[]
[]
[]
[]
[]
[]
[]
[]
[]
[]
[]
[]
[]
[]
[]
[]
[]
[]
[]
[]
[]
[]
[]
[]
[]
[]
[]
[]
[]
[]
[]
[]
[]
[]
[]
[]
[]
[]
[]
[]
[]
[]
[]
[]
[]
[]
[]
[]
[]
[]
[]
[]
[]
[]
[]
[]
[null,null,null,null,null,null,null,null,null,null,null,{"$f":"A15247","v":0}]

{"sheet":"Vzorec","index":1,"n_rows":500,"n_cols":10,"rows_kept":500,"cut":false,"hidden":false,"merged":[]}
["Řádek","Smlouva - souhrn","Objednávka - souhrn","Instrukce","Číslo smlouvy","Obj.č.","Obec","Jméno a příjmení","Ulice","Č. pop. / č. orient"]
[{"$f":"IF(A1=\"\",\"\",IF(INDEX(Vložit!A:A,(ROW(A1)-1)*17+2)<>\"\",(ROW(A1)-1)*17+2,\"\"))","v":2},{"$f":"IF(A2=\"\",\"\",\"Číslo smlouvy:  \"&INDEX(Vložit!B:B,A2+1)&CHAR(10)&\"Jméno a příjmení:  \"&INDEX(Vložit!B:B,A2+2)&CHAR(10)&\"Ulice:  \"&INDEX(Vložit!B:B,A2+3)&CHAR(10)&\"Č. pop. / č. orient.:  \"&INDEX(Vložit!B:B,A2+4)&CHAR(10)&\"Obec:  \"&INDEX(Vložit!B:B,A2+5))","v":"Číslo smlouvy:  333333\nJméno a příjmení:  Novak 1\nUlice:  V PŘEDPOLÍ \nČ. pop. / č. orient.:  1972 / 10 \nObec:  Praha 10-Strašnice "},{"$f":"IF(A2=\"\",\"\",INDEX(Vložit!A:A,A2)&CHAR(10)&\"Telefon: \"&INDEX(Vložit!B:B,A2+6)&\" / \"&INDEX(Vložit!B:B,A2+7)&CHAR(10)&\"Typ objednávky: \"&INDEX(Vložit!D:D,A2+1)&CHAR(10)&INDEX(Vložit!C:C,A2)&CHAR(10)&INDEX(Vložit!D:D,A2))","v":"Číslo objednávky: 33333\nTelefon: 2222 / 222\nTyp objednávky: SERVIS - DATA\nČas příslibu od: 23/06/2017/ 12:00 \nČas příslibu do: 23/06/2017/ 14:00"},{"$f":"IF(A2=\"\",\"\",IF(INDEX(Vložit!B:B,A2+8)=\"\",\"\",\"Instrukce: \"&INDEX(Vložit!B:B,A2+8)))","v":"Instrukce: xxx"},{"$f":"IF(A2=\"\",\"\",IF(INDEX(Vložit!B:B,A2+1)=\"\",\"\",INDEX(Vložit!B:B,A2+1)))","v":333333},{"$f":"IF(A2=\"\",\"\",MID(INDEX(Vložit!A:A,A2),19,10))","v":"33333"},{"$f":"IF(A2=\"\",\"\",IF(INDEX(Vložit!B:B,A2+5)=\"\",\"\",VLOOKUP(INDEX(Vložit!B:B,A2+5),Pomocná!B1:C10000,2,FALSE)))","v":"Praha"},{"$f":"IF(A2=\"\",\"\",INDEX(Vložit!B:B,A2+2))","v":"Novak 1"},{"$f":"IF(A2=\"\",\"\",IF(INDEX(Vložit!B:B,A2+3)=\"\",\"\",INDEX(Vložit!B:B,A2+3)))","v":"V PŘEDPOLÍ "},{"$f":"IF(A2=\"\",\"\",INDEX(Vložit!B:B,A2+4))","v":"1972 / 10 "}]
[{"$f":"IF(A2=\"\",\"\",IF(INDEX(Vložit!A:A,(ROW(A2)-1)*17+2)<>\"\",(ROW(A2)-1)*17+2,\"\"))","v":19},{"$f":"IF(A3=\"\",\"\",\"Číslo smlouvy:  \"&INDEX(Vložit!B:B,A3+1)&CHAR(10)&\"Jméno a příjmení:  \"&INDEX(Vložit!B:B,A3+2)&CHAR(10)&\"Ulice:  \"&INDEX(Vložit!B:B,A3+3)&CHAR(10)&\"Č. pop. / č. orient.:  \"&INDEX(Vložit!B:B,A3+4)&CHAR(10)&\"Obec:  \"&INDEX(Vložit!B:B,A3+5))","v":"Číslo smlouvy:  22222\nJméno a příjmení:  Novak 2\nUlice:  U KOMBINÁTU \nČ. pop. / č. orient.:  2800 / 29 \nObec:  Praha 10-Strašnice "},{"$f":"IF(A3=\"\",\"\",INDEX(Vložit!A:A,A3)&CHAR(10)&\"Telefon: \"&INDEX(Vložit!B:B,A3+6)&\" / \"&INDEX(Vložit!B:B,A3+7)&CHAR(10)&\"Typ objednávky: \"&INDEX(Vložit!D:D,A3+1)&CHAR(10)&INDEX(Vložit!C:C,A3)&CHAR(10)&INDEX(Vložit!D:D,A3))","v":"Číslo objednávky: 1111\nTelefon: 3333 / \nTyp objednávky: SERVIS - DATA\nČas příslibu od: 23/06/2017/ 12:00 \nČas příslibu do: 23/06/2017/ 14:00"},{"$f":"IF(A3=\"\",\"\",IF(INDEX(Vložit!B:B,A3+8)=\"\",\"\",\"Instrukce: \"&INDEX(Vložit!B:B,A3+8)))","v":"Instrukce: xxx"},{"$f":"IF(A3=\"\",\"\",IF(INDEX(Vložit!B:B,A3+1)=\"\",\"\",INDEX(Vložit!B:B,A3+1)))","v":22222},{"$f":"IF(A3=\"\",\"\",MID(INDEX(Vložit!A:A,A3),19,10))","v":"1111"},{"$f":"IF(A3=\"\",\"\",IF(INDEX(Vložit!B:B,A3+5)=\"\",\"\",VLOOKUP(INDEX(Vložit!B:B,A3+5),Pomocná!B2:C10001,2,FALSE)))","v":"Praha"},{"$f":"IF(A3=\"\",\"\",INDEX(Vložit!B:B,A3+2))","v":"Novak 2"},{"$f":"IF(A3=\"\",\"\",IF(INDEX(Vložit!B:B,A3+3)=\"\",\"\",INDEX(Vložit!B:B,A3+3)))","v":"U KOMBINÁTU "},{"$f":"IF(A3=\"\",\"\",INDEX(Vložit!B:B,A3+4))","v":"2800 / 29 "}]
[{"$f":"IF(A3=\"\",\"\",IF(INDEX(Vložit!A:A,(ROW(A3)-1)*17+2)<>\"\",(ROW(A3)-1)*17+2,\"\"))","v":36},{"$f":"IF(A4=\"\",\"\",\"Číslo smlouvy:  \"&INDEX(Vložit!B:B,A4+1)&CHAR(10)&\"Jméno a příjmení:  \"&INDEX(Vložit!B:B,A4+2)&CHAR(10)&\"Ulice:  \"&INDEX(Vložit!B:B,A4+3)&CHAR(10)&\"Č. pop. / č. orient.:  \"&INDEX(Vložit!B:B,A4+4)&CHAR(10)&\"Obec:  \"&INDEX(Vložit!B:B,A4+5))","v":"Číslo smlouvy:  44444\nJméno a příjmení:  Novak 3\nUlice:  HOKEJOVÁ \nČ. pop. / č. orient.:  930 / 8 \nObec:  Praha 10-Hostivař "},{"$f":"IF(A4=\"\",\"\",INDEX(Vložit!A:A,A4)&CHAR(10)&\"Telefon: \"&INDEX(Vložit!B:B,A4+6)&\" / \"&INDEX(Vložit!B:B,A4+7)&CHAR(10)&\"Typ objednávky: \"&INDEX(Vložit!D:D,A4+1)&CHAR(10)&INDEX(Vložit!C:C,A4)&CHAR(10)&INDEX(Vložit!D:D,A4))","v":"Číslo objednávky: 333222\nTelefon: 222222 / 2222\nTyp objednávky: SERVIS - DATA\nČas příslibu od: 23/06/2017/ 16:00 \nČas příslibu do: 23/06/2017/ 18:00"},{"$f":"IF(A4=\"\",\"\",IF(INDEX(Vložit!B:B,A4+8)=\"\",\"\",\"Instrukce: \"&INDEX(Vložit!B:B,A4+8)))","v":"Instrukce: xxx"},{"$f":"IF(A4=\"\",\"\",IF(INDEX(Vložit!B:B,A4+1)=\"\",\"\",INDEX(Vložit!B:B,A4+1)))","v":44444},{"$f":"IF(A4=\"\",\"\",MID(INDEX(Vložit!A:A,A4),19,10))","v":"333222"},{"$f":"IF(A4=\"\",\"\",IF(INDEX(Vložit!B:B,A4+5)=\"\",\"\",VLOOKUP(INDEX(Vložit!B:B,A4+5),Pomocná!B3:C10002,2,FALSE)))","v":"Praha"},{"$f":"IF(A4=\"\",\"\",INDEX(Vložit!B:B,A4+2))","v":"Novak 3"},{"$f":"IF(A4=\"\",\"\",IF(INDEX(Vložit!B:B,A4+3)=\"\",\"\",INDEX(Vložit!B:B,A4+3)))","v":"HOKEJOVÁ "},{"$f":"IF(A4=\"\",\"\",INDEX(Vložit!B:B,A4+4))","v":"930 / 8 "}]
[{"$f":"IF(A4=\"\",\"\",IF(INDEX(Vložit!A:A,(ROW(A4)-1)*17+2)<>\"\",(ROW(A4)-1)*17+2,\"\"))","v":53},{"$f":"IF(A5=\"\",\"\",\"Číslo smlouvy:  \"&INDEX(Vložit!B:B,A5+1)&CHAR(10)&\"Jméno a příjmení:  \"&INDEX(Vložit!B:B,A5+2)&CHAR(10)&\"Ulice:  \"&INDEX(Vložit!B:B,A5+3)&CHAR(10)&\"Č. pop. / č. orient.:  \"&INDEX(Vložit!B:B,A5+4)&CHAR(10)&\"Obec:  \"&INDEX(Vložit!B:B,A5+5))","v":"Číslo smlouvy:  \nJméno a příjmení:  \nUlice:  \nČ. pop. / č. orient.:  \nObec:  "},{"$f":"IF(A5=\"\",\"\",INDEX(Vložit!A:A,A5)&CHAR(10)&\"Telefon: \"&INDEX(Vložit!B:B,A5+6)&\" / \"&INDEX(Vložit!B:B,A5+7)&CHAR(10)&\"Typ objednávky: \"&INDEX(Vložit!D:D,A5+1)&CHAR(10)&INDEX(Vložit!C:C,A5)&CHAR(10)&INDEX(Vložit!D:D,A5))","v":"Pozn. k budově: \nTelefon:  / \nTyp objednávky: \n\n"},{"$f":"IF(A5=\"\",\"\",IF(INDEX(Vložit!B:B,A5+8)=\"\",\"\",\"Instrukce: \"&INDEX(Vložit!B:B,A5+8)))","v":""},{"$f":"IF(A5=\"\",\"\",IF(INDEX(Vložit!B:B,A5+1)=\"\",\"\",INDEX(Vložit!B:B,A5+1)))","v":""},{"$f":"IF(A5=\"\",\"\",MID(INDEX(Vložit!A:A,A5),19,10))","v":""},{"$f":"IF(A5=\"\",\"\",IF(INDEX(Vložit!B:B,A5+5)=\"\",\"\",VLOOKUP(INDEX(Vložit!B:B,A5+5),Pomocná!B4:C10003,2,FALSE)))","v":""},{"$f":"IF(A5=\"\",\"\",INDEX(Vložit!B:B,A5+2))","v":0},{"$f":"IF(A5=\"\",\"\",IF(INDEX(Vložit!B:B,A5+3)=\"\",\"\",INDEX(Vložit!B:B,A5+3)))","v":""},{"$f":"IF(A5=\"\",\"\",INDEX(Vložit!B:B,A5+4))","v":0}]
[{"$f":"IF(A5=\"\",\"\",IF(INDEX(Vložit!A:A,(ROW(A5)-1)*17+2)<>\"\",(ROW(A5)-1)*17+2,\"\"))","v":""},{"$f":"IF(A6=\"\",\"\",\"Číslo smlouvy:  \"&INDEX(Vložit!B:B,A6+1)&CHAR(10)&\"Jméno a příjmení:  \"&INDEX(Vložit!B:B,A6+2)&CHAR(10)&\"Ulice:  \"&INDEX(Vložit!B:B,A6+3)&CHAR(10)&\"Č. pop. / č. orient.:  \"&INDEX(Vložit!B:B,A6+4)&CHAR(10)&\"Obec:  \"&INDEX(Vložit!B:B,A6+5))","v":""},{"$f":"IF(A6=\"\",\"\",INDEX(Vložit!A:A,A6)&CHAR(10)&\"Telefon: \"&INDEX(Vložit!B:B,A6+6)&\" / \"&INDEX(Vložit!B:B,A6+7)&CHAR(10)&\"Typ objednávky: \"&INDEX(Vložit!D:D,A6+1)&CHAR(10)&INDEX(Vložit!C:C,A6)&CHAR(10)&INDEX(Vložit!D:D,A6))","v":""},{"$f":"IF(A6=\"\",\"\",IF(INDEX(Vložit!B:B,A6+8)=\"\",\"\",\"Instrukce: \"&INDEX(Vložit!B:B,A6+8)))","v":""},{"$f":"IF(A6=\"\",\"\",IF(INDEX(Vložit!B:B,A6+1)=\"\",\"\",INDEX(Vložit!B:B,A6+1)))","v":""},{"$f":"IF(A6=\"\",\"\",MID(INDEX(Vložit!A:A,A6),19,10))","v":""},{"$f":"IF(A6=\"\",\"\",IF(INDEX(Vložit!B:B,A6+5)=\"\",\"\",VLOOKUP(INDEX(Vložit!B:B,A6+5),Pomocná!B5:C10004,2,FALSE)))","v":""},{"$f":"IF(A6=\"\",\"\",INDEX(Vložit!B:B,A6+2))","v":""},{"$f":"IF(A6=\"\",\"\",IF(INDEX(Vložit!B:B,A6+3)=\"\",\"\",INDEX(Vložit!B:B,A6+3)))","v":""},{"$f":"IF(A6=\"\",\"\",INDEX(Vložit!B:B,A6+4))","v":""}]
[{"$f":"IF(A6=\"\",\"\",IF(INDEX(Vložit!A:A,(ROW(A6)-1)*17+2)<>\"\",(ROW(A6)-1)*17+2,\"\"))","v":""},{"$f":"IF(A7=\"\",\"\",\"Číslo smlouvy:  \"&INDEX(Vložit!B:B,A7+1)&CHAR(10)&\"Jméno a příjmení:  \"&INDEX(Vložit!B:B,A7+2)&CHAR(10)&\"Ulice:  \"&INDEX(Vložit!B:B,A7+3)&CHAR(10)&\"Č. pop. / č. orient.:  \"&INDEX(Vložit!B:B,A7+4)&CHAR(10)&\"Obec:  \"&INDEX(Vložit!B:B,A7+5))","v":""},{"$f":"IF(A7=\"\",\"\",INDEX(Vložit!A:A,A7)&CHAR(10)&\"Telefon: \"&INDEX(Vložit!B:B,A7+6)&\" / \"&INDEX(Vložit!B:B,A7+7)&CHAR(10)&\"Typ objednávky: \"&INDEX(Vložit!D:D,A7+1)&CHAR(10)&INDEX(Vložit!C:C,A7)&CHAR(10)&INDEX(Vložit!D:D,A7))","v":""},{"$f":"IF(A7=\"\",\"\",IF(INDEX(Vložit!B:B,A7+8)=\"\",\"\",\"Instrukce: \"&INDEX(Vložit!B:B,A7+8)))","v":""},{"$f":"IF(A7=\"\",\"\",IF(INDEX(Vložit!B:B,A7+1)=\"\",\"\",INDEX(Vložit!B:B,A7+1)))","v":""},{"$f":"IF(A7=\"\",\"\",MID(INDEX(Vložit!A:A,A7),19,10))","v":""},{"$f":"IF(A7=\"\",\"\",IF(INDEX(Vložit!B:B,A7+5)=\"\",\"\",VLOOKUP(INDEX(Vložit!B:B,A7+5),Pomocná!B6:C10005,2,FALSE)))","v":""},{"$f":"IF(A7=\"\",\"\",INDEX(Vložit!B:B,A7+2))","v":""},{"$f":"IF(A7=\"\",\"\",IF(INDEX(Vložit!B:B,A7+3)=\"\",\"\",INDEX(Vložit!B:B,A7+3)))","v":""},{"$f":"IF(A7=\"\",\"\",INDEX(Vložit!B:B,A7+4))","v":""}]
[{"$f":"IF(A7=\"\",\"\",IF(INDEX(Vložit!A:A,(ROW(A7)-1)*17+2)<>\"\",(ROW(A7)-1)*17+2,\"\"))","v":""},{"$f":"IF(A8=\"\",\"\",\"Číslo smlouvy:  \"&INDEX(Vložit!B:B,A8+1)&CHAR(10)&\"Jméno a příjmení:  \"&INDEX(Vložit!B:B,A8+2)&CHAR(10)&\"Ulice:  \"&INDEX(Vložit!B:B,A8+3)&CHAR(10)&\"Č. pop. / č. orient.:  \"&INDEX(Vložit!B:B,A8+4)&CHAR(10)&\"Obec:  \"&INDEX(Vložit!B:B,A8+5))","v":""},{"$f":"IF(A8=\"\",\"\",INDEX(Vložit!A:A,A8)&CHAR(10)&\"Telefon: \"&INDEX(Vložit!B:B,A8+6)&\" / \"&INDEX(Vložit!B:B,A8+7)&CHAR(10)&\"Typ objednávky: \"&INDEX(Vložit!D:D,A8+1)&CHAR(10)&INDEX(Vložit!C:C,A8)&CHAR(10)&INDEX(Vložit!D:D,A8))","v":""},{"$f":"IF(A8=\"\",\"\",IF(INDEX(Vložit!B:B,A8+8)=\"\",\"\",\"Instrukce: \"&INDEX(Vložit!B:B,A8+8)))","v":""},{"$f":"IF(A8=\"\",\"\",IF(INDEX(Vložit!B:B,A8+1)=\"\",\"\",INDEX(Vložit!B:B,A8+1)))","v":""},{"$f":"IF(A8=\"\",\"\",MID(INDEX(Vložit!A:A,A8),19,10))","v":""},{"$f":"IF(A8=\"\",\"\",IF(INDEX(Vložit!B:B,A8+5)=\"\",\"\",VLOOKUP(INDEX(Vložit!B:B,A8+5),Pomocná!B7:C10006,2,FALSE)))","v":""},{"$f":"IF(A8=\"\",\"\",INDEX(Vložit!B:B,A8+2))","v":""},{"$f":"IF(A8=\"\",\"\",IF(INDEX(Vložit!B:B,A8+3)=\"\",\"\",INDEX(Vložit!B:B,A8+3)))","v":""},{"$f":"IF(A8=\"\",\"\",INDEX(Vložit!B:B,A8+4))","v":""}]
[{"$f":"IF(A8=\"\",\"\",IF(INDEX(Vložit!A:A,(ROW(A8)-1)*17+2)<>\"\",(ROW(A8)-1)*17+2,\"\"))","v":""},{"$f":"IF(A9=\"\",\"\",\"Číslo smlouvy:  \"&INDEX(Vložit!B:B,A9+1)&CHAR(10)&\"Jméno a příjmení:  \"&INDEX(Vložit!B:B,A9+2)&CHAR(10)&\"Ulice:  \"&INDEX(Vložit!B:B,A9+3)&CHAR(10)&\"Č. pop. / č. orient.:  \"&INDEX(Vložit!B:B,A9+4)&CHAR(10)&\"Obec:  \"&INDEX(Vložit!B:B,A9+5))","v":""},{"$f":"IF(A9=\"\",\"\",INDEX(Vložit!A:A,A9)&CHAR(10)&\"Telefon: \"&INDEX(Vložit!B:B,A9+6)&\" / \"&INDEX(Vložit!B:B,A9+7)&CHAR(10)&\"Typ objednávky: \"&INDEX(Vložit!D:D,A9+1)&CHAR(10)&INDEX(Vložit!C:C,A9)&CHAR(10)&INDEX(Vložit!D:D,A9))","v":""},{"$f":"IF(A9=\"\",\"\",IF(INDEX(Vložit!B:B,A9+8)=\"\",\"\",\"Instrukce: \"&INDEX(Vložit!B:B,A9+8)))","v":""},{"$f":"IF(A9=\"\",\"\",IF(INDEX(Vložit!B:B,A9+1)=\"\",\"\",INDEX(Vložit!B:B,A9+1)))","v":""},{"$f":"IF(A9=\"\",\"\",MID(INDEX(Vložit!A:A,A9),19,10))","v":""},{"$f":"IF(A9=\"\",\"\",IF(INDEX(Vložit!B:B,A9+5)=\"\",\"\",VLOOKUP(INDEX(Vložit!B:B,A9+5),Pomocná!B8:C10007,2,FALSE)))","v":""},{"$f":"IF(A9=\"\",\"\",INDEX(Vložit!B:B,A9+2))","v":""},{"$f":"IF(A9=\"\",\"\",IF(INDEX(Vložit!B:B,A9+3)=\"\",\"\",INDEX(Vložit!B:B,A9+3)))","v":""},{"$f":"IF(A9=\"\",\"\",INDEX(Vložit!B:B,A9+4))","v":""}]
[{"$f":"IF(A9=\"\",\"\",IF(INDEX(Vložit!A:A,(ROW(A9)-1)*17+2)<>\"\",(ROW(A9)-1)*17+2,\"\"))","v":""},{"$f":"IF(A10=\"\",\"\",\"Číslo smlouvy:  \"&INDEX(Vložit!B:B,A10+1)&CHAR(10)&\"Jméno a příjmení:  \"&INDEX(Vložit!B:B,A10+2)&CHAR(10)&\"Ulice:  \"&INDEX(Vložit!B:B,A10+3)&CHAR(10)&\"Č. pop. / č. orient.:  \"&INDEX(Vložit!B:B,A10+4)&CHAR(10)&\"Obec:  \"&INDEX(Vložit!B:B,A10+5))","v":""},{"$f":"IF(A10=\"\",\"\",INDEX(Vložit!A:A,A10)&CHAR(10)&\"Telefon: \"&INDEX(Vložit!B:B,A10+6)&\" / \"&INDEX(Vložit!B:B,A10+7)&CHAR(10)&\"Typ objednávky: \"&INDEX(Vložit!D:D,A10+1)&CHAR(10)&INDEX(Vložit!C:C,A10)&CHAR(10)&INDEX(Vložit!D:D,A10))","v":""},{"$f":"IF(A10=\"\",\"\",IF(INDEX(Vložit!B:B,A10+8)=\"\",\"\",\"Instrukce: \"&INDEX(Vložit!B:B,A10+8)))","v":""},{"$f":"IF(A10=\"\",\"\",IF(INDEX(Vložit!B:B,A10+1)=\"\",\"\",INDEX(Vložit!B:B,A10+1)))","v":""},{"$f":"IF(A10=\"\",\"\",MID(INDEX(Vložit!A:A,A10),19,10))","v":""},{"$f":"IF(A10=\"\",\"\",IF(INDEX(Vložit!B:B,A10+5)=\"\",\"\",VLOOKUP(INDEX(Vložit!B:B,A10+5),Pomocná!B9:C10008,2,FALSE)))","v":""},{"$f":"IF(A10=\"\",\"\",INDEX(Vložit!B:B,A10+2))","v":""},{"$f":"IF(A10=\"\",\"\",IF(INDEX(Vložit!B:B,A10+3)=\"\",\"\",INDEX(Vložit!B:B,A10+3)))","v":""},{"$f":"IF(A10=\"\",\"\",INDEX(Vložit!B:B,A10+4))","v":""}]
[{"$f":"IF(A10=\"\",\"\",IF(INDEX(Vložit!A:A,(ROW(A10)-1)*17+2)<>\"\",(ROW(A10)-1)*17+2,\"\"))","v":""},{"$f":"IF(A11=\"\",\"\",\"Číslo smlouvy:  \"&INDEX(Vložit!B:B,A11+1)&CHAR(10)&\"Jméno a příjmení:  \"&INDEX(Vložit!B:B,A11+2)&CHAR(10)&\"Ulice:  \"&INDEX(Vložit!B:B,A11+3)&CHAR(10)&\"Č. pop. / č. orient.:  \"&INDEX(Vložit!B:B,A11+4)&CHAR(10)&\"Obec:  \"&INDEX(Vložit!B:B,A11+5))","v":""},{"$f":"IF(A11=\"\",\"\",INDEX(Vložit!A:A,A11)&CHAR(10)&\"Telefon: \"&INDEX(Vložit!B:B,A11+6)&\" / \"&INDEX(Vložit!B:B,A11+7)&CHAR(10)&\"Typ objednávky: \"&INDEX(Vložit!D:D,A11+1)&CHAR(10)&INDEX(Vložit!C:C,A11)&CHAR(10)&INDEX(Vložit!D:D,A11))","v":""},{"$f":"IF(A11=\"\",\"\",IF(INDEX(Vložit!B:B,A11+8)=\"\",\"\",\"Instrukce: \"&INDEX(Vložit!B:B,A11+8)))","v":""},{"$f":"IF(A11=\"\",\"\",IF(INDEX(Vložit!B:B,A11+1)=\"\",\"\",INDEX(Vložit!B:B,A11+1)))","v":""},{"$f":"IF(A11=\"\",\"\",MID(INDEX(Vložit!A:A,A11),19,10))","v":""},{"$f":"IF(A11=\"\",\"\",IF(INDEX(Vložit!B:B,A11+5)=\"\",\"\",VLOOKUP(INDEX(Vložit!B:B,A11+5),Pomocná!B10:C10009,2,FALSE)))","v":""},{"$f":"IF(A11=\"\",\"\",INDEX(Vložit!B:B,A11+2))","v":""},{"$f":"IF(A11=\"\",\"\",IF(INDEX(Vložit!B:B,A11+3)=\"\",\"\",INDEX(Vložit!B:B,A11+3)))","v":""},{"$f":"IF(A11=\"\",\"\",INDEX(Vložit!B:B,A11+4))","v":""}]
[{"$f":"IF(A11=\"\",\"\",IF(INDEX(Vložit!A:A,(ROW(A11)-1)*17+2)<>\"\",(ROW(A11)-1)*17+2,\"\"))","v":""},{"$f":"IF(A12=\"\",\"\",\"Číslo smlouvy:  \"&INDEX(Vložit!B:B,A12+1)&CHAR(10)&\"Jméno a příjmení:  \"&INDEX(Vložit!B:B,A12+2)&CHAR(10)&\"Ulice:  \"&INDEX(Vložit!B:B,A12+3)&CHAR(10)&\"Č. pop. / č. orient.:  \"&INDEX(Vložit!B:B,A12+4)&CHAR(10)&\"Obec:  \"&INDEX(Vložit!B:B,A12+5))","v":""},{"$f":"IF(A12=\"\",\"\",INDEX(Vložit!A:A,A12)&CHAR(10)&\"Telefon: \"&INDEX(Vložit!B:B,A12+6)&\" / \"&INDEX(Vložit!B:B,A12+7)&CHAR(10)&\"Typ objednávky: \"&INDEX(Vložit!D:D,A12+1)&CHAR(10)&INDEX(Vložit!C:C,A12)&CHAR(10)&INDEX(Vložit!D:D,A12))","v":""},{"$f":"IF(A12=\"\",\"\",IF(INDEX(Vložit!B:B,A12+8)=\"\",\"\",\"Instrukce: \"&INDEX(Vložit!B:B,A12+8)))","v":""},{"$f":"IF(A12=\"\",\"\",IF(INDEX(Vložit!B:B,A12+1)=\"\",\"\",INDEX(Vložit!B:B,A12+1)))","v":""},{"$f":"IF(A12=\"\",\"\",MID(INDEX(Vložit!A:A,A12),19,10))","v":""},{"$f":"IF(A12=\"\",\"\",IF(INDEX(Vložit!B:B,A12+5)=\"\",\"\",VLOOKUP(INDEX(Vložit!B:B,A12+5),Pomocná!B11:C10010,2,FALSE)))","v":""},{"$f":"IF(A12=\"\",\"\",INDEX(Vložit!B:B,A12+2))","v":""},{"$f":"IF(A12=\"\",\"\",IF(INDEX(Vložit!B:B,A12+3)=\"\",\"\",INDEX(Vložit!B:B,A12+3)))","v":""},{"$f":"IF(A12=\"\",\"\",INDEX(Vložit!B:B,A12+4))","v":""}]
[{"$f":"IF(A12=\"\",\"\",IF(INDEX(Vložit!A:A,(ROW(A12)-1)*17+2)<>\"\",(ROW(A12)-1)*17+2,\"\"))","v":""},{"$f":"IF(A13=\"\",\"\",\"Číslo smlouvy:  \"&INDEX(Vložit!B:B,A13+1)&CHAR(10)&\"Jméno a příjmení:  \"&INDEX(Vložit!B:B,A13+2)&CHAR(10)&\"Ulice:  \"&INDEX(Vložit!B:B,A13+3)&CHAR(10)&\"Č. pop. / č. orient.:  \"&INDEX(Vložit!B:B,A13+4)&CHAR(10)&\"Obec:  \"&INDEX(Vložit!B:B,A13+5))","v":""},{"$f":"IF(A13=\"\",\"\",INDEX(Vložit!A:A,A13)&CHAR(10)&\"Telefon: \"&INDEX(Vložit!B:B,A13+6)&\" / \"&INDEX(Vložit!B:B,A13+7)&CHAR(10)&\"Typ objednávky: \"&INDEX(Vložit!D:D,A13+1)&CHAR(10)&INDEX(Vložit!C:C,A13)&CHAR(10)&INDEX(Vložit!D:D,A13))","v":""},{"$f":"IF(A13=\"\",\"\",IF(INDEX(Vložit!B:B,A13+8)=\"\",\"\",\"Instrukce: \"&INDEX(Vložit!B:B,A13+8)))","v":""},{"$f":"IF(A13=\"\",\"\",IF(INDEX(Vložit!B:B,A13+1)=\"\",\"\",INDEX(Vložit!B:B,A13+1)))","v":""},{"$f":"IF(A13=\"\",\"\",MID(INDEX(Vložit!A:A,A13),19,10))","v":""},{"$f":"IF(A13=\"\",\"\",IF(INDEX(Vložit!B:B,A13+5)=\"\",\"\",VLOOKUP(INDEX(Vložit!B:B,A13+5),Pomocná!B12:C10011,2,FALSE)))","v":""},{"$f":"IF(A13=\"\",\"\",INDEX(Vložit!B:B,A13+2))","v":""},{"$f":"IF(A13=\"\",\"\",IF(INDEX(Vložit!B:B,A13+3)=\"\",\"\",INDEX(Vložit!B:B,A13+3)))","v":""},{"$f":"IF(A13=\"\",\"\",INDEX(Vložit!B:B,A13+4))","v":""}]
[{"$f":"IF(A13=\"\",\"\",IF(INDEX(Vložit!A:A,(ROW(A13)-1)*17+2)<>\"\",(ROW(A13)-1)*17+2,\"\"))","v":""},{"$f":"IF(A14=\"\",\"\",\"Číslo smlouvy:  \"&INDEX(Vložit!B:B,A14+1)&CHAR(10)&\"Jméno a příjmení:  \"&INDEX(Vložit!B:B,A14+2)&CHAR(10)&\"Ulice:  \"&INDEX(Vložit!B:B,A14+3)&CHAR(10)&\"Č. pop. / č. orient.:  \"&INDEX(Vložit!B:B,A14+4)&CHAR(10)&\"Obec:  \"&INDEX(Vložit!B:B,A14+5))","v":""},{"$f":"IF(A14=\"\",\"\",INDEX(Vložit!A:A,A14)&CHAR(10)&\"Telefon: \"&INDEX(Vložit!B:B,A14+6)&\" / \"&INDEX(Vložit!B:B,A14+7)&CHAR(10)&\"Typ objednávky: \"&INDEX(Vložit!D:D,A14+1)&CHAR(10)&INDEX(Vložit!C:C,A14)&CHAR(10)&INDEX(Vložit!D:D,A14))","v":""},{"$f":"IF(A14=\"\",\"\",IF(INDEX(Vložit!B:B,A14+8)=\"\",\"\",\"Instrukce: \"&INDEX(Vložit!B:B,A14+8)))","v":""},{"$f":"IF(A14=\"\",\"\",IF(INDEX(Vložit!B:B,A14+1)=\"\",\"\",INDEX(Vložit!B:B,A14+1)))","v":""},{"$f":"IF(A14=\"\",\"\",MID(INDEX(Vložit!A:A,A14),19,10))","v":""},{"$f":"IF(A14=\"\",\"\",IF(INDEX(Vložit!B:B,A14+5)=\"\",\"\",VLOOKUP(INDEX(Vložit!B:B,A14+5),Pomocná!B13:C10012,2,FALSE)))","v":""},{"$f":"IF(A14=\"\",\"\",INDEX(Vložit!B:B,A14+2))","v":""},{"$f":"IF(A14=\"\",\"\",IF(INDEX(Vložit!B:B,A14+3)=\"\",\"\",INDEX(Vložit!B:B,A14+3)))","v":""},{"$f":"IF(A14=\"\",\"\",INDEX(Vložit!B:B,A14+4))","v":""}]
[{"$f":"IF(A14=\"\",\"\",IF(INDEX(Vložit!A:A,(ROW(A14)-1)*17+2)<>\"\",(ROW(A14)-1)*17+2,\"\"))","v":""},{"$f":"IF(A15=\"\",\"\",\"Číslo smlouvy:  \"&INDEX(Vložit!B:B,A15+1)&CHAR(10)&\"Jméno a příjmení:  \"&INDEX(Vložit!B:B,A15+2)&CHAR(10)&\"Ulice:  \"&INDEX(Vložit!B:B,A15+3)&CHAR(10)&\"Č. pop. / č. orient.:  \"&INDEX(Vložit!B:B,A15+4)&CHAR(10)&\"Obec:  \"&INDEX(Vložit!B:B,A15+5))","v":""},{"$f":"IF(A15=\"\",\"\",INDEX(Vložit!A:A,A15)&CHAR(10)&\"Telefon: \"&INDEX(Vložit!B:B,A15+6)&\" / \"&INDEX(Vložit!B:B,A15+7)&CHAR(10)&\"Typ objednávky: \"&INDEX(Vložit!D:D,A15+1)&CHAR(10)&INDEX(Vložit!C:C,A15)&CHAR(10)&INDEX(Vložit!D:D,A15))","v":""},{"$f":"IF(A15=\"\",\"\",IF(INDEX(Vložit!B:B,A15+8)=\"\",\"\",\"Instrukce: \"&INDEX(Vložit!B:B,A15+8)))","v":""},{"$f":"IF(A15=\"\",\"\",IF(INDEX(Vložit!B:B,A15+1)=\"\",\"\",INDEX(Vložit!B:B,A15+1)))","v":""},{"$f":"IF(A15=\"\",\"\",MID(INDEX(Vložit!A:A,A15),19,10))","v":""},{"$f":"IF(A15=\"\",\"\",IF(INDEX(Vložit!B:B,A15+5)=\"\",\"\",VLOOKUP(INDEX(Vložit!B:B,A15+5),Pomocná!B14:C10013,2,FALSE)))","v":""},{"$f":"IF(A15=\"\",\"\",INDEX(Vložit!B:B,A15+2))","v":""},{"$f":"IF(A15=\"\",\"\",IF(INDEX(Vložit!B:B,A15+3)=\"\",\"\",INDEX(Vložit!B:B,A15+3)))","v":""},{"$f":"IF(A15=\"\",\"\",INDEX(Vložit!B:B,A15+4))","v":""}]
[{"$f":"IF(A15=\"\",\"\",IF(INDEX(Vložit!A:A,(ROW(A15)-1)*17+2)<>\"\",(ROW(A15)-1)*17+2,\"\"))","v":""},{"$f":"IF(A16=\"\",\"\",\"Číslo smlouvy:  \"&INDEX(Vložit!B:B,A16+1)&CHAR(10)&\"Jméno a příjmení:  \"&INDEX(Vložit!B:B,A16+2)&CHAR(10)&\"Ulice:  \"&INDEX(Vložit!B:B,A16+3)&CHAR(10)&\"Č. pop. / č. orient.:  \"&INDEX(Vložit!B:B,A16+4)&CHAR(10)&\"Obec:  \"&INDEX(Vložit!B:B,A16+5))","v":""},{"$f":"IF(A16=\"\",\"\",INDEX(Vložit!A:A,A16)&CHAR(10)&\"Telefon: \"&INDEX(Vložit!B:B,A16+6)&\" / \"&INDEX(Vložit!B:B,A16+7)&CHAR(10)&\"Typ objednávky: \"&INDEX(Vložit!D:D,A16+1)&CHAR(10)&INDEX(Vložit!C:C,A16)&CHAR(10)&INDEX(Vložit!D:D,A16))","v":""},{"$f":"IF(A16=\"\",\"\",IF(INDEX(Vložit!B:B,A16+8)=\"\",\"\",\"Instrukce: \"&INDEX(Vložit!B:B,A16+8)))","v":""},{"$f":"IF(A16=\"\",\"\",IF(INDEX(Vložit!B:B,A16+1)=\"\",\"\",INDEX(Vložit!B:B,A16+1)))","v":""},{"$f":"IF(A16=\"\",\"\",MID(INDEX(Vložit!A:A,A16),19,10))","v":""},{"$f":"IF(A16=\"\",\"\",IF(INDEX(Vložit!B:B,A16+5)=\"\",\"\",VLOOKUP(INDEX(Vložit!B:B,A16+5),Pomocná!B15:C10014,2,FALSE)))","v":""},{"$f":"IF(A16=\"\",\"\",INDEX(Vložit!B:B,A16+2))","v":""},{"$f":"IF(A16=\"\",\"\",IF(INDEX(Vložit!B:B,A16+3)=\"\",\"\",INDEX(Vložit!B:B,A16+3)))","v":""},{"$f":"IF(A16=\"\",\"\",INDEX(Vložit!B:B,A16+4))","v":""}]
[{"$f":"IF(A16=\"\",\"\",IF(INDEX(Vložit!A:A,(ROW(A16)-1)*17+2)<>\"\",(ROW(A16)-1)*17+2,\"\"))","v":""},{"$f":"IF(A17=\"\",\"\",\"Číslo smlouvy:  \"&INDEX(Vložit!B:B,A17+1)&CHAR(10)&\"Jméno a příjmení:  \"&INDEX(Vložit!B:B,A17+2)&CHAR(10)&\"Ulice:  \"&INDEX(Vložit!B:B,A17+3)&CHAR(10)&\"Č. pop. / č. orient.:  \"&INDEX(Vložit!B:B,A17+4)&CHAR(10)&\"Obec:  \"&INDEX(Vložit!B:B,A17+5))","v":""},{"$f":"IF(A17=\"\",\"\",INDEX(Vložit!A:A,A17)&CHAR(10)&\"Telefon: \"&INDEX(Vložit!B:B,A17+6)&\" / \"&INDEX(Vložit!B:B,A17+7)&CHAR(10)&\"Typ objednávky: \"&INDEX(Vložit!D:D,A17+1)&CHAR(10)&INDEX(Vložit!C:C,A17)&CHAR(10)&INDEX(Vložit!D:D,A17))","v":""},{"$f":"IF(A17=\"\",\"\",IF(INDEX(Vložit!B:B,A17+8)=\"\",\"\",\"Instrukce: \"&INDEX(Vložit!B:B,A17+8)))","v":""},{"$f":"IF(A17=\"\",\"\",IF(INDEX(Vložit!B:B,A17+1)=\"\",\"\",INDEX(Vložit!B:B,A17+1)))","v":""},{"$f":"IF(A17=\"\",\"\",MID(INDEX(Vložit!A:A,A17),19,10))","v":""},{"$f":"IF(A17=\"\",\"\",IF(INDEX(Vložit!B:B,A17+5)=\"\",\"\",VLOOKUP(INDEX(Vložit!B:B,A17+5),Pomocná!B16:C10015,2,FALSE)))","v":""},{"$f":"IF(A17=\"\",\"\",INDEX(Vložit!B:B,A17+2))","v":""},{"$f":"IF(A17=\"\",\"\",IF(INDEX(Vložit!B:B,A17+3)=\"\",\"\",INDEX(Vložit!B:B,A17+3)))","v":""},{"$f":"IF(A17=\"\",\"\",INDEX(Vložit!B:B,A17+4))","v":""}]
[{"$f":"IF(A17=\"\",\"\",IF(INDEX(Vložit!A:A,(ROW(A17)-1)*17+2)<>\"\",(ROW(A17)-1)*17+2,\"\"))","v":""},{"$f":"IF(A18=\"\",\"\",\"Číslo smlouvy:  \"&INDEX(Vložit!B:B,A18+1)&CHAR(10)&\"Jméno a příjmení:  \"&INDEX(Vložit!B:B,A18+2)&CHAR(10)&\"Ulice:  \"&INDEX(Vložit!B:B,A18+3)&CHAR(10)&\"Č. pop. / č. orient.:  \"&INDEX(Vložit!B:B,A18+4)&CHAR(10)&\"Obec:  \"&INDEX(Vložit!B:B,A18+5))","v":""},{"$f":"IF(A18=\"\",\"\",INDEX(Vložit!A:A,A18)&CHAR(10)&\"Telefon: \"&INDEX(Vložit!B:B,A18+6)&\" / \"&INDEX(Vložit!B:B,A18+7)&CHAR(10)&\"Typ objednávky: \"&INDEX(Vložit!D:D,A18+1)&CHAR(10)&INDEX(Vložit!C:C,A18)&CHAR(10)&INDEX(Vložit!D:D,A18))","v":""},{"$f":"IF(A18=\"\",\"\",IF(INDEX(Vložit!B:B,A18+8)=\"\",\"\",\"Instrukce: \"&INDEX(Vložit!B:B,A18+8)))","v":""},{"$f":"IF(A18=\"\",\"\",IF(INDEX(Vložit!B:B,A18+1)=\"\",\"\",INDEX(Vložit!B:B,A18+1)))","v":""},{"$f":"IF(A18=\"\",\"\",MID(INDEX(Vložit!A:A,A18),19,10))","v":""},{"$f":"IF(A18=\"\",\"\",IF(INDEX(Vložit!B:B,A18+5)=\"\",\"\",VLOOKUP(INDEX(Vložit!B:B,A18+5),Pomocná!B17:C10016,2,FALSE)))","v":""},{"$f":"IF(A18=\"\",\"\",INDEX(Vložit!B:B,A18+2))","v":""},{"$f":"IF(A18=\"\",\"\",IF(INDEX(Vložit!B:B,A18+3)=\"\",\"\",INDEX(Vložit!B:B,A18+3)))","v":""},{"$f":"IF(A18=\"\",\"\",INDEX(Vložit!B:B,A18+4))","v":""}]
[{"$f":"IF(A18=\"\",\"\",IF(INDEX(Vložit!A:A,(ROW(A18)-1)*17+2)<>\"\",(ROW(A18)-1)*17+2,\"\"))","v":""},{"$f":"IF(A19=\"\",\"\",\"Číslo smlouvy:  \"&INDEX(Vložit!B:B,A19+1)&CHAR(10)&\"Jméno a příjmení:  \"&INDEX(Vložit!B:B,A19+2)&CHAR(10)&\"Ulice:  \"&INDEX(Vložit!B:B,A19+3)&CHAR(10)&\"Č. pop. / č. orient.:  \"&INDEX(Vložit!B:B,A19+4)&CHAR(10)&\"Obec:  \"&INDEX(Vložit!B:B,A19+5))","v":""},{"$f":"IF(A19=\"\",\"\",INDEX(Vložit!A:A,A19)&CHAR(10)&\"Telefon: \"&INDEX(Vložit!B:B,A19+6)&\" / \"&INDEX(Vložit!B:B,A19+7)&CHAR(10)&\"Typ objednávky: \"&INDEX(Vložit!D:D,A19+1)&CHAR(10)&INDEX(Vložit!C:C,A19)&CHAR(10)&INDEX(Vložit!D:D,A19))","v":""},{"$f":"IF(A19=\"\",\"\",IF(INDEX(Vložit!B:B,A19+8)=\"\",\"\",\"Instrukce: \"&INDEX(Vložit!B:B,A19+8)))","v":""},{"$f":"IF(A19=\"\",\"\",IF(INDEX(Vložit!B:B,A19+1)=\"\",\"\",INDEX(Vložit!B:B,A19+1)))","v":""},{"$f":"IF(A19=\"\",\"\",MID(INDEX(Vložit!A:A,A19),19,10))","v":""},{"$f":"IF(A19=\"\",\"\",IF(INDEX(Vložit!B:B,A19+5)=\"\",\"\",VLOOKUP(INDEX(Vložit!B:B,A19+5),Pomocná!B18:C10017,2,FALSE)))","v":""},{"$f":"IF(A19=\"\",\"\",INDEX(Vložit!B:B,A19+2))","v":""},{"$f":"IF(A19=\"\",\"\",IF(INDEX(Vložit!B:B,A19+3)=\"\",\"\",INDEX(Vložit!B:B,A19+3)))","v":""},{"$f":"IF(A19=\"\",\"\",INDEX(Vložit!B:B,A19+4))","v":""}]
[{"$f":"IF(A19=\"\",\"\",IF(INDEX(Vložit!A:A,(ROW(A19)-1)*17+2)<>\"\",(ROW(A19)-1)*17+2,\"\"))","v":""},{"$f":"IF(A20=\"\",\"\",\"Číslo smlouvy:  \"&INDEX(Vložit!B:B,A20+1)&CHAR(10)&\"Jméno a příjmení:  \"&INDEX(Vložit!B:B,A20+2)&CHAR(10)&\"Ulice:  \"&INDEX(Vložit!B:B,A20+3)&CHAR(10)&\"Č. pop. / č. orient.:  \"&INDEX(Vložit!B:B,A20+4)&CHAR(10)&\"Obec:  \"&INDEX(Vložit!B:B,A20+5))","v":""},{"$f":"IF(A20=\"\",\"\",INDEX(Vložit!A:A,A20)&CHAR(10)&\"Telefon: \"&INDEX(Vložit!B:B,A20+6)&\" / \"&INDEX(Vložit!B:B,A20+7)&CHAR(10)&\"Typ objednávky: \"&INDEX(Vložit!D:D,A20+1)&CHAR(10)&INDEX(Vložit!C:C,A20)&CHAR(10)&INDEX(Vložit!D:D,A20))","v":""},{"$f":"IF(A20=\"\",\"\",IF(INDEX(Vložit!B:B,A20+8)=\"\",\"\",\"Instrukce: \"&INDEX(Vložit!B:B,A20+8)))","v":""},{"$f":"IF(A20=\"\",\"\",IF(INDEX(Vložit!B:B,A20+1)=\"\",\"\",INDEX(Vložit!B:B,A20+1)))","v":""},{"$f":"IF(A20=\"\",\"\",MID(INDEX(Vložit!A:A,A20),19,10))","v":""},{"$f":"IF(A20=\"\",\"\",IF(INDEX(Vložit!B:B,A20+5)=\"\",\"\",VLOOKUP(INDEX(Vložit!B:B,A20+5),Pomocná!B19:C10018,2,FALSE)))","v":""},{"$f":"IF(A20=\"\",\"\",INDEX(Vložit!B:B,A20+2))","v":""},{"$f":"IF(A20=\"\",\"\",IF(INDEX(Vložit!B:B,A20+3)=\"\",\"\",INDEX(Vložit!B:B,A20+3)))","v":""},{"$f":"IF(A20=\"\",\"\",INDEX(Vložit!B:B,A20+4))","v":""}]
[{"$f":"IF(A20=\"\",\"\",IF(INDEX(Vložit!A:A,(ROW(A20)-1)*17+2)<>\"\",(ROW(A20)-1)*17+2,\"\"))","v":""},{"$f":"IF(A21=\"\",\"\",\"Číslo smlouvy:  \"&INDEX(Vložit!B:B,A21+1)&CHAR(10)&\"Jméno a příjmení:  \"&INDEX(Vložit!B:B,A21+2)&CHAR(10)&\"Ulice:  \"&INDEX(Vložit!B:B,A21+3)&CHAR(10)&\"Č. pop. / č. orient.:  \"&INDEX(Vložit!B:B,A21+4)&CHAR(10)&\"Obec:  \"&INDEX(Vložit!B:B,A21+5))","v":""},{"$f":"IF(A21=\"\",\"\",INDEX(Vložit!A:A,A21)&CHAR(10)&\"Telefon: \"&INDEX(Vložit!B:B,A21+6)&\" / \"&INDEX(Vložit!B:B,A21+7)&CHAR(10)&\"Typ objednávky: \"&INDEX(Vložit!D:D,A21+1)&CHAR(10)&INDEX(Vložit!C:C,A21)&CHAR(10)&INDEX(Vložit!D:D,A21))","v":""},{"$f":"IF(A21=\"\",\"\",IF(INDEX(Vložit!B:B,A21+8)=\"\",\"\",\"Instrukce: \"&INDEX(Vložit!B:B,A21+8)))","v":""},{"$f":"IF(A21=\"\",\"\",IF(INDEX(Vložit!B:B,A21+1)=\"\",\"\",INDEX(Vložit!B:B,A21+1)))","v":""},{"$f":"IF(A21=\"\",\"\",MID(INDEX(Vložit!A:A,A21),19,10))","v":""},{"$f":"IF(A21=\"\",\"\",IF(INDEX(Vložit!B:B,A21+5)=\"\",\"\",VLOOKUP(INDEX(Vložit!B:B,A21+5),Pomocná!B20:C10019,2,FALSE)))","v":""},{"$f":"IF(A21=\"\",\"\",INDEX(Vložit!B:B,A21+2))","v":""},{"$f":"IF(A21=\"\",\"\",IF(INDEX(Vložit!B:B,A21+3)=\"\",\"\",INDEX(Vložit!B:B,A21+3)))","v":""},{"$f":"IF(A21=\"\",\"\",INDEX(Vložit!B:B,A21+4))","v":""}]
[{"$f":"IF(A21=\"\",\"\",IF(INDEX(Vložit!A:A,(ROW(A21)-1)*17+2)<>\"\",(ROW(A21)-1)*17+2,\"\"))","v":""},{"$f":"IF(A22=\"\",\"\",\"Číslo smlouvy:  \"&INDEX(Vložit!B:B,A22+1)&CHAR(10)&\"Jméno a příjmení:  \"&INDEX(Vložit!B:B,A22+2)&CHAR(10)&\"Ulice:  \"&INDEX(Vložit!B:B,A22+3)&CHAR(10)&\"Č. pop. / č. orient.:  \"&INDEX(Vložit!B:B,A22+4)&CHAR(10)&\"Obec:  \"&INDEX(Vložit!B:B,A22+5))","v":""},{"$f":"IF(A22=\"\",\"\",INDEX(Vložit!A:A,A22)&CHAR(10)&\"Telefon: \"&INDEX(Vložit!B:B,A22+6)&\" / \"&INDEX(Vložit!B:B,A22+7)&CHAR(10)&\"Typ objednávky: \"&INDEX(Vložit!D:D,A22+1)&CHAR(10)&INDEX(Vložit!C:C,A22)&CHAR(10)&INDEX(Vložit!D:D,A22))","v":""},{"$f":"IF(A22=\"\",\"\",IF(INDEX(Vložit!B:B,A22+8)=\"\",\"\",\"Instrukce: \"&INDEX(Vložit!B:B,A22+8)))","v":""},{"$f":"IF(A22=\"\",\"\",IF(INDEX(Vložit!B:B,A22+1)=\"\",\"\",INDEX(Vložit!B:B,A22+1)))","v":""},{"$f":"IF(A22=\"\",\"\",MID(INDEX(Vložit!A:A,A22),19,10))","v":""},{"$f":"IF(A22=\"\",\"\",IF(INDEX(Vložit!B:B,A22+5)=\"\",\"\",VLOOKUP(INDEX(Vložit!B:B,A22+5),Pomocná!B21:C10020,2,FALSE)))","v":""},{"$f":"IF(A22=\"\",\"\",INDEX(Vložit!B:B,A22+2))","v":""},{"$f":"IF(A22=\"\",\"\",IF(INDEX(Vložit!B:B,A22+3)=\"\",\"\",INDEX(Vložit!B:B,A22+3)))","v":""},{"$f":"IF(A22=\"\",\"\",INDEX(Vložit!B:B,A22+4))","v":""}]
[{"$f":"IF(A22=\"\",\"\",IF(INDEX(Vložit!A:A,(ROW(A22)-1)*17+2)<>\"\",(ROW(A22)-1)*17+2,\"\"))","v":""},{"$f":"IF(A23=\"\",\"\",\"Číslo smlouvy:  \"&INDEX(Vložit!B:B,A23+1)&CHAR(10)&\"Jméno a příjmení:  \"&INDEX(Vložit!B:B,A23+2)&CHAR(10)&\"Ulice:  \"&INDEX(Vložit!B:B,A23+3)&CHAR(10)&\"Č. pop. / č. orient.:  \"&INDEX(Vložit!B:B,A23+4)&CHAR(10)&\"Obec:  \"&INDEX(Vložit!B:B,A23+5))","v":""},{"$f":"IF(A23=\"\",\"\",INDEX(Vložit!A:A,A23)&CHAR(10)&\"Telefon: \"&INDEX(Vložit!B:B,A23+6)&\" / \"&INDEX(Vložit!B:B,A23+7)&CHAR(10)&\"Typ objednávky: \"&INDEX(Vložit!D:D,A23+1)&CHAR(10)&INDEX(Vložit!C:C,A23)&CHAR(10)&INDEX(Vložit!D:D,A23))","v":""},{"$f":"IF(A23=\"\",\"\",IF(INDEX(Vložit!B:B,A23+8)=\"\",\"\",\"Instrukce: \"&INDEX(Vložit!B:B,A23+8)))","v":""},{"$f":"IF(A23=\"\",\"\",IF(INDEX(Vložit!B:B,A23+1)=\"\",\"\",INDEX(Vložit!B:B,A23+1)))","v":""},{"$f":"IF(A23=\"\",\"\",MID(INDEX(Vložit!A:A,A23),19,10))","v":""},{"$f":"IF(A23=\"\",\"\",IF(INDEX(Vložit!B:B,A23+5)=\"\",\"\",VLOOKUP(INDEX(Vložit!B:B,A23+5),Pomocná!B22:C10021,2,FALSE)))","v":""},{"$f":"IF(A23=\"\",\"\",INDEX(Vložit!B:B,A23+2))","v":""},{"$f":"IF(A23=\"\",\"\",IF(INDEX(Vložit!B:B,A23+3)=\"\",\"\",INDEX(Vložit!B:B,A23+3)))","v":""},{"$f":"IF(A23=\"\",\"\",INDEX(Vložit!B:B,A23+4))","v":""}]
[{"$f":"IF(A23=\"\",\"\",IF(INDEX(Vložit!A:A,(ROW(A23)-1)*17+2)<>\"\",(ROW(A23)-1)*17+2,\"\"))","v":""},{"$f":"IF(A24=\"\",\"\",\"Číslo smlouvy:  \"&INDEX(Vložit!B:B,A24+1)&CHAR(10)&\"Jméno a příjmení:  \"&INDEX(Vložit!B:B,A24+2)&CHAR(10)&\"Ulice:  \"&INDEX(Vložit!B:B,A24+3)&CHAR(10)&\"Č. pop. / č. orient.:  \"&INDEX(Vložit!B:B,A24+4)&CHAR(10)&\"Obec:  \"&INDEX(Vložit!B:B,A24+5))","v":""},{"$f":"IF(A24=\"\",\"\",INDEX(Vložit!A:A,A24)&CHAR(10)&\"Telefon: \"&INDEX(Vložit!B:B,A24+6)&\" / \"&INDEX(Vložit!B:B,A24+7)&CHAR(10)&\"Typ objednávky: \"&INDEX(Vložit!D:D,A24+1)&CHAR(10)&INDEX(Vložit!C:C,A24)&CHAR(10)&INDEX(Vložit!D:D,A24))","v":""},{"$f":"IF(A24=\"\",\"\",IF(INDEX(Vložit!B:B,A24+8)=\"\",\"\",\"Instrukce: \"&INDEX(Vložit!B:B,A24+8)))","v":""},{"$f":"IF(A24=\"\",\"\",IF(INDEX(Vložit!B:B,A24+1)=\"\",\"\",INDEX(Vložit!B:B,A24+1)))","v":""},{"$f":"IF(A24=\"\",\"\",MID(INDEX(Vložit!A:A,A24),19,10))","v":""},{"$f":"IF(A24=\"\",\"\",IF(INDEX(Vložit!B:B,A24+5)=\"\",\"\",VLOOKUP(INDEX(Vložit!B:B,A24+5),Pomocná!B23:C10022,2,FALSE)))","v":""},{"$f":"IF(A24=\"\",\"\",INDEX(Vložit!B:B,A24+2))","v":""},{"$f":"IF(A24=\"\",\"\",IF(INDEX(Vložit!B:B,A24+3)=\"\",\"\",INDEX(Vložit!B:B,A24+3)))","v":""},{"$f":"IF(A24=\"\",\"\",INDEX(Vložit!B:B,A24+4))","v":""}]
[{"$f":"IF(A24=\"\",\"\",IF(INDEX(Vložit!A:A,(ROW(A24)-1)*17+2)<>\"\",(ROW(A24)-1)*17+2,\"\"))","v":""},{"$f":"IF(A25=\"\",\"\",\"Číslo smlouvy:  \"&INDEX(Vložit!B:B,A25+1)&CHAR(10)&\"Jméno a příjmení:  \"&INDEX(Vložit!B:B,A25+2)&CHAR(10)&\"Ulice:  \"&INDEX(Vložit!B:B,A25+3)&CHAR(10)&\"Č. pop. / č. orient.:  \"&INDEX(Vložit!B:B,A25+4)&CHAR(10)&\"Obec:  \"&INDEX(Vložit!B:B,A25+5))","v":""},{"$f":"IF(A25=\"\",\"\",INDEX(Vložit!A:A,A25)&CHAR(10)&\"Telefon: \"&INDEX(Vložit!B:B,A25+6)&\" / \"&INDEX(Vložit!B:B,A25+7)&CHAR(10)&\"Typ objednávky: \"&INDEX(Vložit!D:D,A25+1)&CHAR(10)&INDEX(Vložit!C:C,A25)&CHAR(10)&INDEX(Vložit!D:D,A25))","v":""},{"$f":"IF(A25=\"\",\"\",IF(INDEX(Vložit!B:B,A25+8)=\"\",\"\",\"Instrukce: \"&INDEX(Vložit!B:B,A25+8)))","v":""},{"$f":"IF(A25=\"\",\"\",IF(INDEX(Vložit!B:B,A25+1)=\"\",\"\",INDEX(Vložit!B:B,A25+1)))","v":""},{"$f":"IF(A25=\"\",\"\",MID(INDEX(Vložit!A:A,A25),19,10))","v":""},{"$f":"IF(A25=\"\",\"\",IF(INDEX(Vložit!B:B,A25+5)=\"\",\"\",VLOOKUP(INDEX(Vložit!B:B,A25+5),Pomocná!B24:C10023,2,FALSE)))","v":""},{"$f":"IF(A25=\"\",\"\",INDEX(Vložit!B:B,A25+2))","v":""},{"$f":"IF(A25=\"\",\"\",IF(INDEX(Vložit!B:B,A25+3)=\"\",\"\",INDEX(Vložit!B:B,A25+3)))","v":""},{"$f":"IF(A25=\"\",\"\",INDEX(Vložit!B:B,A25+4))","v":""}]
[{"$f":"IF(A25=\"\",\"\",IF(INDEX(Vložit!A:A,(ROW(A25)-1)*17+2)<>\"\",(ROW(A25)-1)*17+2,\"\"))","v":""},{"$f":"IF(A26=\"\",\"\",\"Číslo smlouvy:  \"&INDEX(Vložit!B:B,A26+1)&CHAR(10)&\"Jméno a příjmení:  \"&INDEX(Vložit!B:B,A26+2)&CHAR(10)&\"Ulice:  \"&INDEX(Vložit!B:B,A26+3)&CHAR(10)&\"Č. pop. / č. orient.:  \"&INDEX(Vložit!B:B,A26+4)&CHAR(10)&\"Obec:  \"&INDEX(Vložit!B:B,A26+5))","v":""},{"$f":"IF(A26=\"\",\"\",INDEX(Vložit!A:A,A26)&CHAR(10)&\"Telefon: \"&INDEX(Vložit!B:B,A26+6)&\" / \"&INDEX(Vložit!B:B,A26+7)&CHAR(10)&\"Typ objednávky: \"&INDEX(Vložit!D:D,A26+1)&CHAR(10)&INDEX(Vložit!C:C,A26)&CHAR(10)&INDEX(Vložit!D:D,A26))","v":""},{"$f":"IF(A26=\"\",\"\",IF(INDEX(Vložit!B:B,A26+8)=\"\",\"\",\"Instrukce: \"&INDEX(Vložit!B:B,A26+8)))","v":""},{"$f":"IF(A26=\"\",\"\",IF(INDEX(Vložit!B:B,A26+1)=\"\",\"\",INDEX(Vložit!B:B,A26+1)))","v":""},{"$f":"IF(A26=\"\",\"\",MID(INDEX(Vložit!A:A,A26),19,10))","v":""},{"$f":"IF(A26=\"\",\"\",IF(INDEX(Vložit!B:B,A26+5)=\"\",\"\",VLOOKUP(INDEX(Vložit!B:B,A26+5),Pomocná!B25:C10024,2,FALSE)))","v":""},{"$f":"IF(A26=\"\",\"\",INDEX(Vložit!B:B,A26+2))","v":""},{"$f":"IF(A26=\"\",\"\",IF(INDEX(Vložit!B:B,A26+3)=\"\",\"\",INDEX(Vložit!B:B,A26+3)))","v":""},{"$f":"IF(A26=\"\",\"\",INDEX(Vložit!B:B,A26+4))","v":""}]
[{"$f":"IF(A26=\"\",\"\",IF(INDEX(Vložit!A:A,(ROW(A26)-1)*17+2)<>\"\",(ROW(A26)-1)*17+2,\"\"))","v":""},{"$f":"IF(A27=\"\",\"\",\"Číslo smlouvy:  \"&INDEX(Vložit!B:B,A27+1)&CHAR(10)&\"Jméno a příjmení:  \"&INDEX(Vložit!B:B,A27+2)&CHAR(10)&\"Ulice:  \"&INDEX(Vložit!B:B,A27+3)&CHAR(10)&\"Č. pop. / č. orient.:  \"&INDEX(Vložit!B:B,A27+4)&CHAR(10)&\"Obec:  \"&INDEX(Vložit!B:B,A27+5))","v":""},{"$f":"IF(A27=\"\",\"\",INDEX(Vložit!A:A,A27)&CHAR(10)&\"Telefon: \"&INDEX(Vložit!B:B,A27+6)&\" / \"&INDEX(Vložit!B:B,A27+7)&CHAR(10)&\"Typ objednávky: \"&INDEX(Vložit!D:D,A27+1)&CHAR(10)&INDEX(Vložit!C:C,A27)&CHAR(10)&INDEX(Vložit!D:D,A27))","v":""},{"$f":"IF(A27=\"\",\"\",IF(INDEX(Vložit!B:B,A27+8)=\"\",\"\",\"Instrukce: \"&INDEX(Vložit!B:B,A27+8)))","v":""},{"$f":"IF(A27=\"\",\"\",IF(INDEX(Vložit!B:B,A27+1)=\"\",\"\",INDEX(Vložit!B:B,A27+1)))","v":""},{"$f":"IF(A27=\"\",\"\",MID(INDEX(Vložit!A:A,A27),19,10))","v":""},{"$f":"IF(A27=\"\",\"\",IF(INDEX(Vložit!B:B,A27+5)=\"\",\"\",VLOOKUP(INDEX(Vložit!B:B,A27+5),Pomocná!B26:C10025,2,FALSE)))","v":""},{"$f":"IF(A27=\"\",\"\",INDEX(Vložit!B:B,A27+2))","v":""},{"$f":"IF(A27=\"\",\"\",IF(INDEX(Vložit!B:B,A27+3)=\"\",\"\",INDEX(Vložit!B:B,A27+3)))","v":""},{"$f":"IF(A27=\"\",\"\",INDEX(Vložit!B:B,A27+4))","v":""}]
[{"$f":"IF(A27=\"\",\"\",IF(INDEX(Vložit!A:A,(ROW(A27)-1)*17+2)<>\"\",(ROW(A27)-1)*17+2,\"\"))","v":""},{"$f":"IF(A28=\"\",\"\",\"Číslo smlouvy:  \"&INDEX(Vložit!B:B,A28+1)&CHAR(10)&\"Jméno a příjmení:  \"&INDEX(Vložit!B:B,A28+2)&CHAR(10)&\"Ulice:  \"&INDEX(Vložit!B:B,A28+3)&CHAR(10)&\"Č. pop. / č. orient.:  \"&INDEX(Vložit!B:B,A28+4)&CHAR(10)&\"Obec:  \"&INDEX(Vložit!B:B,A28+5))","v":""},{"$f":"IF(A28=\"\",\"\",INDEX(Vložit!A:A,A28)&CHAR(10)&\"Telefon: \"&INDEX(Vložit!B:B,A28+6)&\" / \"&INDEX(Vložit!B:B,A28+7)&CHAR(10)&\"Typ objednávky: \"&INDEX(Vložit!D:D,A28+1)&CHAR(10)&INDEX(Vložit!C:C,A28)&CHAR(10)&INDEX(Vložit!D:D,A28))","v":""},{"$f":"IF(A28=\"\",\"\",IF(INDEX(Vložit!B:B,A28+8)=\"\",\"\",\"Instrukce: \"&INDEX(Vložit!B:B,A28+8)))","v":""},{"$f":"IF(A28=\"\",\"\",IF(INDEX(Vložit!B:B,A28+1)=\"\",\"\",INDEX(Vložit!B:B,A28+1)))","v":""},{"$f":"IF(A28=\"\",\"\",MID(INDEX(Vložit!A:A,A28),19,10))","v":""},{"$f":"IF(A28=\"\",\"\",IF(INDEX(Vložit!B:B,A28+5)=\"\",\"\",VLOOKUP(INDEX(Vložit!B:B,A28+5),Pomocná!B27:C10026,2,FALSE)))","v":""},{"$f":"IF(A28=\"\",\"\",INDEX(Vložit!B:B,A28+2))","v":""},{"$f":"IF(A28=\"\",\"\",IF(INDEX(Vložit!B:B,A28+3)=\"\",\"\",INDEX(Vložit!B:B,A28+3)))","v":""},{"$f":"IF(A28=\"\",\"\",INDEX(Vložit!B:B,A28+4))","v":""}]
[{"$f":"IF(A28=\"\",\"\",IF(INDEX(Vložit!A:A,(ROW(A28)-1)*17+2)<>\"\",(ROW(A28)-1)*17+2,\"\"))","v":""},{"$f":"IF(A29=\"\",\"\",\"Číslo smlouvy:  \"&INDEX(Vložit!B:B,A29+1)&CHAR(10)&\"Jméno a příjmení:  \"&INDEX(Vložit!B:B,A29+2)&CHAR(10)&\"Ulice:  \"&INDEX(Vložit!B:B,A29+3)&CHAR(10)&\"Č. pop. / č. orient.:  \"&INDEX(Vložit!B:B,A29+4)&CHAR(10)&\"Obec:  \"&INDEX(Vložit!B:B,A29+5))","v":""},{"$f":"IF(A29=\"\",\"\",INDEX(Vložit!A:A,A29)&CHAR(10)&\"Telefon: \"&INDEX(Vložit!B:B,A29+6)&\" / \"&INDEX(Vložit!B:B,A29+7)&CHAR(10)&\"Typ objednávky: \"&INDEX(Vložit!D:D,A29+1)&CHAR(10)&INDEX(Vložit!C:C,A29)&CHAR(10)&INDEX(Vložit!D:D,A29))","v":""},{"$f":"IF(A29=\"\",\"\",IF(INDEX(Vložit!B:B,A29+8)=\"\",\"\",\"Instrukce: \"&INDEX(Vložit!B:B,A29+8)))","v":""},{"$f":"IF(A29=\"\",\"\",IF(INDEX(Vložit!B:B,A29+1)=\"\",\"\",INDEX(Vložit!B:B,A29+1)))","v":""},{"$f":"IF(A29=\"\",\"\",MID(INDEX(Vložit!A:A,A29),19,10))","v":""},{"$f":"IF(A29=\"\",\"\",IF(INDEX(Vložit!B:B,A29+5)=\"\",\"\",VLOOKUP(INDEX(Vložit!B:B,A29+5),Pomocná!B28:C10027,2,FALSE)))","v":""},{"$f":"IF(A29=\"\",\"\",INDEX(Vložit!B:B,A29+2))","v":""},{"$f":"IF(A29=\"\",\"\",IF(INDEX(Vložit!B:B,A29+3)=\"\",\"\",INDEX(Vložit!B:B,A29+3)))","v":""},{"$f":"IF(A29=\"\",\"\",INDEX(Vložit!B:B,A29+4))","v":""}]
[{"$f":"IF(A29=\"\",\"\",IF(INDEX(Vložit!A:A,(ROW(A29)-1)*17+2)<>\"\",(ROW(A29)-1)*17+2,\"\"))","v":""},{"$f":"IF(A30=\"\",\"\",\"Číslo smlouvy:  \"&INDEX(Vložit!B:B,A30+1)&CHAR(10)&\"Jméno a příjmení:  \"&INDEX(Vložit!B:B,A30+2)&CHAR(10)&\"Ulice:  \"&INDEX(Vložit!B:B,A30+3)&CHAR(10)&\"Č. pop. / č. orient.:  \"&INDEX(Vložit!B:B,A30+4)&CHAR(10)&\"Obec:  \"&INDEX(Vložit!B:B,A30+5))","v":""},{"$f":"IF(A30=\"\",\"\",INDEX(Vložit!A:A,A30)&CHAR(10)&\"Telefon: \"&INDEX(Vložit!B:B,A30+6)&\" / \"&INDEX(Vložit!B:B,A30+7)&CHAR(10)&\"Typ objednávky: \"&INDEX(Vložit!D:D,A30+1)&CHAR(10)&INDEX(Vložit!C:C,A30)&CHAR(10)&INDEX(Vložit!D:D,A30))","v":""},{"$f":"IF(A30=\"\",\"\",IF(INDEX(Vložit!B:B,A30+8)=\"\",\"\",\"Instrukce: \"&INDEX(Vložit!B:B,A30+8)))","v":""},{"$f":"IF(A30=\"\",\"\",IF(INDEX(Vložit!B:B,A30+1)=\"\",\"\",INDEX(Vložit!B:B,A30+1)))","v":""},{"$f":"IF(A30=\"\",\"\",MID(INDEX(Vložit!A:A,A30),19,10))","v":""},{"$f":"IF(A30=\"\",\"\",IF(INDEX(Vložit!B:B,A30+5)=\"\",\"\",VLOOKUP(INDEX(Vložit!B:B,A30+5),Pomocná!B29:C10028,2,FALSE)))","v":""},{"$f":"IF(A30=\"\",\"\",INDEX(Vložit!B:B,A30+2))","v":""},{"$f":"IF(A30=\"\",\"\",IF(INDEX(Vložit!B:B,A30+3)=\"\",\"\",INDEX(Vložit!B:B,A30+3)))","v":""},{"$f":"IF(A30=\"\",\"\",INDEX(Vložit!B:B,A30+4))","v":""}]
[{"$f":"IF(A30=\"\",\"\",IF(INDEX(Vložit!A:A,(ROW(A30)-1)*17+2)<>\"\",(ROW(A30)-1)*17+2,\"\"))","v":""},{"$f":"IF(A31=\"\",\"\",\"Číslo smlouvy:  \"&INDEX(Vložit!B:B,A31+1)&CHAR(10)&\"Jméno a příjmení:  \"&INDEX(Vložit!B:B,A31+2)&CHAR(10)&\"Ulice:  \"&INDEX(Vložit!B:B,A31+3)&CHAR(10)&\"Č. pop. / č. orient.:  \"&INDEX(Vložit!B:B,A31+4)&CHAR(10)&\"Obec:  \"&INDEX(Vložit!B:B,A31+5))","v":""},{"$f":"IF(A31=\"\",\"\",INDEX(Vložit!A:A,A31)&CHAR(10)&\"Telefon: \"&INDEX(Vložit!B:B,A31+6)&\" / \"&INDEX(Vložit!B:B,A31+7)&CHAR(10)&\"Typ objednávky: \"&INDEX(Vložit!D:D,A31+1)&CHAR(10)&INDEX(Vložit!C:C,A31)&CHAR(10)&INDEX(Vložit!D:D,A31))","v":""},{"$f":"IF(A31=\"\",\"\",IF(INDEX(Vložit!B:B,A31+8)=\"\",\"\",\"Instrukce: \"&INDEX(Vložit!B:B,A31+8)))","v":""},{"$f":"IF(A31=\"\",\"\",IF(INDEX(Vložit!B:B,A31+1)=\"\",\"\",INDEX(Vložit!B:B,A31+1)))","v":""},{"$f":"IF(A31=\"\",\"\",MID(INDEX(Vložit!A:A,A31),19,10))","v":""},{"$f":"IF(A31=\"\",\"\",IF(INDEX(Vložit!B:B,A31+5)=\"\",\"\",VLOOKUP(INDEX(Vložit!B:B,A31+5),Pomocná!B30:C10029,2,FALSE)))","v":""},{"$f":"IF(A31=\"\",\"\",INDEX(Vložit!B:B,A31+2))","v":""},{"$f":"IF(A31=\"\",\"\",IF(INDEX(Vložit!B:B,A31+3)=\"\",\"\",INDEX(Vložit!B:B,A31+3)))","v":""},{"$f":"IF(A31=\"\",\"\",INDEX(Vložit!B:B,A31+4))","v":""}]
[{"$f":"IF(A31=\"\",\"\",IF(INDEX(Vložit!A:A,(ROW(A31)-1)*17+2)<>\"\",(ROW(A31)-1)*17+2,\"\"))","v":""},{"$f":"IF(A32=\"\",\"\",\"Číslo smlouvy:  \"&INDEX(Vložit!B:B,A32+1)&CHAR(10)&\"Jméno a příjmení:  \"&INDEX(Vložit!B:B,A32+2)&CHAR(10)&\"Ulice:  \"&INDEX(Vložit!B:B,A32+3)&CHAR(10)&\"Č. pop. / č. orient.:  \"&INDEX(Vložit!B:B,A32+4)&CHAR(10)&\"Obec:  \"&INDEX(Vložit!B:B,A32+5))","v":""},{"$f":"IF(A32=\"\",\"\",INDEX(Vložit!A:A,A32)&CHAR(10)&\"Telefon: \"&INDEX(Vložit!B:B,A32+6)&\" / \"&INDEX(Vložit!B:B,A32+7)&CHAR(10)&\"Typ objednávky: \"&INDEX(Vložit!D:D,A32+1)&CHAR(10)&INDEX(Vložit!C:C,A32)&CHAR(10)&INDEX(Vložit!D:D,A32))","v":""},{"$f":"IF(A32=\"\",\"\",IF(INDEX(Vložit!B:B,A32+8)=\"\",\"\",\"Instrukce: \"&INDEX(Vložit!B:B,A32+8)))","v":""},{"$f":"IF(A32=\"\",\"\",IF(INDEX(Vložit!B:B,A32+1)=\"\",\"\",INDEX(Vložit!B:B,A32+1)))","v":""},{"$f":"IF(A32=\"\",\"\",MID(INDEX(Vložit!A:A,A32),19,10))","v":""},{"$f":"IF(A32=\"\",\"\",IF(INDEX(Vložit!B:B,A32+5)=\"\",\"\",VLOOKUP(INDEX(Vložit!B:B,A32+5),Pomocná!B31:C10030,2,FALSE)))","v":""},{"$f":"IF(A32=\"\",\"\",INDEX(Vložit!B:B,A32+2))","v":""},{"$f":"IF(A32=\"\",\"\",IF(INDEX(Vložit!B:B,A32+3)=\"\",\"\",INDEX(Vložit!B:B,A32+3)))","v":""},{"$f":"IF(A32=\"\",\"\",INDEX(Vložit!B:B,A32+4))","v":""}]
[{"$f":"IF(A32=\"\",\"\",IF(INDEX(Vložit!A:A,(ROW(A32)-1)*17+2)<>\"\",(ROW(A32)-1)*17+2,\"\"))","v":""},{"$f":"IF(A33=\"\",\"\",\"Číslo smlouvy:  \"&INDEX(Vložit!B:B,A33+1)&CHAR(10)&\"Jméno a příjmení:  \"&INDEX(Vložit!B:B,A33+2)&CHAR(10)&\"Ulice:  \"&INDEX(Vložit!B:B,A33+3)&CHAR(10)&\"Č. pop. / č. orient.:  \"&INDEX(Vložit!B:B,A33+4)&CHAR(10)&\"Obec:  \"&INDEX(Vložit!B:B,A33+5))","v":""},{"$f":"IF(A33=\"\",\"\",INDEX(Vložit!A:A,A33)&CHAR(10)&\"Telefon: \"&INDEX(Vložit!B:B,A33+6)&\" / \"&INDEX(Vložit!B:B,A33+7)&CHAR(10)&\"Typ objednávky: \"&INDEX(Vložit!D:D,A33+1)&CHAR(10)&INDEX(Vložit!C:C,A33)&CHAR(10)&INDEX(Vložit!D:D,A33))","v":""},{"$f":"IF(A33=\"\",\"\",IF(INDEX(Vložit!B:B,A33+8)=\"\",\"\",\"Instrukce: \"&INDEX(Vložit!B:B,A33+8)))","v":""},{"$f":"IF(A33=\"\",\"\",IF(INDEX(Vložit!B:B,A33+1)=\"\",\"\",INDEX(Vložit!B:B,A33+1)))","v":""},{"$f":"IF(A33=\"\",\"\",MID(INDEX(Vložit!A:A,A33),19,10))","v":""},{"$f":"IF(A33=\"\",\"\",IF(INDEX(Vložit!B:B,A33+5)=\"\",\"\",VLOOKUP(INDEX(Vložit!B:B,A33+5),Pomocná!B32:C10031,2,FALSE)))","v":""},{"$f":"IF(A33=\"\",\"\",INDEX(Vložit!B:B,A33+2))","v":""},{"$f":"IF(A33=\"\",\"\",IF(INDEX(Vložit!B:B,A33+3)=\"\",\"\",INDEX(Vložit!B:B,A33+3)))","v":""},{"$f":"IF(A33=\"\",\"\",INDEX(Vložit!B:B,A33+4))","v":""}]
[{"$f":"IF(A33=\"\",\"\",IF(INDEX(Vložit!A:A,(ROW(A33)-1)*17+2)<>\"\",(ROW(A33)-1)*17+2,\"\"))","v":""},{"$f":"IF(A34=\"\",\"\",\"Číslo smlouvy:  \"&INDEX(Vložit!B:B,A34+1)&CHAR(10)&\"Jméno a příjmení:  \"&INDEX(Vložit!B:B,A34+2)&CHAR(10)&\"Ulice:  \"&INDEX(Vložit!B:B,A34+3)&CHAR(10)&\"Č. pop. / č. orient.:  \"&INDEX(Vložit!B:B,A34+4)&CHAR(10)&\"Obec:  \"&INDEX(Vložit!B:B,A34+5))","v":""},{"$f":"IF(A34=\"\",\"\",INDEX(Vložit!A:A,A34)&CHAR(10)&\"Telefon: \"&INDEX(Vložit!B:B,A34+6)&\" / \"&INDEX(Vložit!B:B,A34+7)&CHAR(10)&\"Typ objednávky: \"&INDEX(Vložit!D:D,A34+1)&CHAR(10)&INDEX(Vložit!C:C,A34)&CHAR(10)&INDEX(Vložit!D:D,A34))","v":""},{"$f":"IF(A34=\"\",\"\",IF(INDEX(Vložit!B:B,A34+8)=\"\",\"\",\"Instrukce: \"&INDEX(Vložit!B:B,A34+8)))","v":""},{"$f":"IF(A34=\"\",\"\",IF(INDEX(Vložit!B:B,A34+1)=\"\",\"\",INDEX(Vložit!B:B,A34+1)))","v":""},{"$f":"IF(A34=\"\",\"\",MID(INDEX(Vložit!A:A,A34),19,10))","v":""},{"$f":"IF(A34=\"\",\"\",IF(INDEX(Vložit!B:B,A34+5)=\"\",\"\",VLOOKUP(INDEX(Vložit!B:B,A34+5),Pomocná!B33:C10032,2,FALSE)))","v":""},{"$f":"IF(A34=\"\",\"\",INDEX(Vložit!B:B,A34+2))","v":""},{"$f":"IF(A34=\"\",\"\",IF(INDEX(Vložit!B:B,A34+3)=\"\",\"\",INDEX(Vložit!B:B,A34+3)))","v":""},{"$f":"IF(A34=\"\",\"\",INDEX(Vložit!B:B,A34+4))","v":""}]
[{"$f":"IF(A34=\"\",\"\",IF(INDEX(Vložit!A:A,(ROW(A34)-1)*17+2)<>\"\",(ROW(A34)-1)*17+2,\"\"))","v":""},{"$f":"IF(A35=\"\",\"\",\"Číslo smlouvy:  \"&INDEX(Vložit!B:B,A35+1)&CHAR(10)&\"Jméno a příjmení:  \"&INDEX(Vložit!B:B,A35+2)&CHAR(10)&\"Ulice:  \"&INDEX(Vložit!B:B,A35+3)&CHAR(10)&\"Č. pop. / č. orient.:  \"&INDEX(Vložit!B:B,A35+4)&CHAR(10)&\"Obec:  \"&INDEX(Vložit!B:B,A35+5))","v":""},{"$f":"IF(A35=\"\",\"\",INDEX(Vložit!A:A,A35)&CHAR(10)&\"Telefon: \"&INDEX(Vložit!B:B,A35+6)&\" / \"&INDEX(Vložit!B:B,A35+7)&CHAR(10)&\"Typ objednávky: \"&INDEX(Vložit!D:D,A35+1)&CHAR(10)&INDEX(Vložit!C:C,A35)&CHAR(10)&INDEX(Vložit!D:D,A35))","v":""},{"$f":"IF(A35=\"\",\"\",IF(INDEX(Vložit!B:B,A35+8)=\"\",\"\",\"Instrukce: \"&INDEX(Vložit!B:B,A35+8)))","v":""},{"$f":"IF(A35=\"\",\"\",IF(INDEX(Vložit!B:B,A35+1)=\"\",\"\",INDEX(Vložit!B:B,A35+1)))","v":""},{"$f":"IF(A35=\"\",\"\",MID(INDEX(Vložit!A:A,A35),19,10))","v":""},{"$f":"IF(A35=\"\",\"\",IF(INDEX(Vložit!B:B,A35+5)=\"\",\"\",VLOOKUP(INDEX(Vložit!B:B,A35+5),Pomocná!B34:C10033,2,FALSE)))","v":""},{"$f":"IF(A35=\"\",\"\",INDEX(Vložit!B:B,A35+2))","v":""},{"$f":"IF(A35=\"\",\"\",IF(INDEX(Vložit!B:B,A35+3)=\"\",\"\",INDEX(Vložit!B:B,A35+3)))","v":""},{"$f":"IF(A35=\"\",\"\",INDEX(Vložit!B:B,A35+4))","v":""}]
[{"$f":"IF(A35=\"\",\"\",IF(INDEX(Vložit!A:A,(ROW(A35)-1)*17+2)<>\"\",(ROW(A35)-1)*17+2,\"\"))","v":""},{"$f":"IF(A36=\"\",\"\",\"Číslo smlouvy:  \"&INDEX(Vložit!B:B,A36+1)&CHAR(10)&\"Jméno a příjmení:  \"&INDEX(Vložit!B:B,A36+2)&CHAR(10)&\"Ulice:  \"&INDEX(Vložit!B:B,A36+3)&CHAR(10)&\"Č. pop. / č. orient.:  \"&INDEX(Vložit!B:B,A36+4)&CHAR(10)&\"Obec:  \"&INDEX(Vložit!B:B,A36+5))","v":""},{"$f":"IF(A36=\"\",\"\",INDEX(Vložit!A:A,A36)&CHAR(10)&\"Telefon: \"&INDEX(Vložit!B:B,A36+6)&\" / \"&INDEX(Vložit!B:B,A36+7)&CHAR(10)&\"Typ objednávky: \"&INDEX(Vložit!D:D,A36+1)&CHAR(10)&INDEX(Vložit!C:C,A36)&CHAR(10)&INDEX(Vložit!D:D,A36))","v":""},{"$f":"IF(A36=\"\",\"\",IF(INDEX(Vložit!B:B,A36+8)=\"\",\"\",\"Instrukce: \"&INDEX(Vložit!B:B,A36+8)))","v":""},{"$f":"IF(A36=\"\",\"\",IF(INDEX(Vložit!B:B,A36+1)=\"\",\"\",INDEX(Vložit!B:B,A36+1)))","v":""},{"$f":"IF(A36=\"\",\"\",MID(INDEX(Vložit!A:A,A36),19,10))","v":""},{"$f":"IF(A36=\"\",\"\",IF(INDEX(Vložit!B:B,A36+5)=\"\",\"\",VLOOKUP(INDEX(Vložit!B:B,A36+5),Pomocná!B35:C10034,2,FALSE)))","v":""},{"$f":"IF(A36=\"\",\"\",INDEX(Vložit!B:B,A36+2))","v":""},{"$f":"IF(A36=\"\",\"\",IF(INDEX(Vložit!B:B,A36+3)=\"\",\"\",INDEX(Vložit!B:B,A36+3)))","v":""},{"$f":"IF(A36=\"\",\"\",INDEX(Vložit!B:B,A36+4))","v":""}]
[{"$f":"IF(A36=\"\",\"\",IF(INDEX(Vložit!A:A,(ROW(A36)-1)*17+2)<>\"\",(ROW(A36)-1)*17+2,\"\"))","v":""},{"$f":"IF(A37=\"\",\"\",\"Číslo smlouvy:  \"&INDEX(Vložit!B:B,A37+1)&CHAR(10)&\"Jméno a příjmení:  \"&INDEX(Vložit!B:B,A37+2)&CHAR(10)&\"Ulice:  \"&INDEX(Vložit!B:B,A37+3)&CHAR(10)&\"Č. pop. / č. orient.:  \"&INDEX(Vložit!B:B,A37+4)&CHAR(10)&\"Obec:  \"&INDEX(Vložit!B:B,A37+5))","v":""},{"$f":"IF(A37=\"\",\"\",INDEX(Vložit!A:A,A37)&CHAR(10)&\"Telefon: \"&INDEX(Vložit!B:B,A37+6)&\" / \"&INDEX(Vložit!B:B,A37+7)&CHAR(10)&\"Typ objednávky: \"&INDEX(Vložit!D:D,A37+1)&CHAR(10)&INDEX(Vložit!C:C,A37)&CHAR(10)&INDEX(Vložit!D:D,A37))","v":""},{"$f":"IF(A37=\"\",\"\",IF(INDEX(Vložit!B:B,A37+8)=\"\",\"\",\"Instrukce: \"&INDEX(Vložit!B:B,A37+8)))","v":""},{"$f":"IF(A37=\"\",\"\",IF(INDEX(Vložit!B:B,A37+1)=\"\",\"\",INDEX(Vložit!B:B,A37+1)))","v":""},{"$f":"IF(A37=\"\",\"\",MID(INDEX(Vložit!A:A,A37),19,10))","v":""},{"$f":"IF(A37=\"\",\"\",IF(INDEX(Vložit!B:B,A37+5)=\"\",\"\",VLOOKUP(INDEX(Vložit!B:B,A37+5),Pomocná!B36:C10035,2,FALSE)))","v":""},{"$f":"IF(A37=\"\",\"\",INDEX(Vložit!B:B,A37+2))","v":""},{"$f":"IF(A37=\"\",\"\",IF(INDEX(Vložit!B:B,A37+3)=\"\",\"\",INDEX(Vložit!B:B,A37+3)))","v":""},{"$f":"IF(A37=\"\",\"\",INDEX(Vložit!B:B,A37+4))","v":""}]
[{"$f":"IF(A37=\"\",\"\",IF(INDEX(Vložit!A:A,(ROW(A37)-1)*17+2)<>\"\",(ROW(A37)-1)*17+2,\"\"))","v":""},{"$f":"IF(A38=\"\",\"\",\"Číslo smlouvy:  \"&INDEX(Vložit!B:B,A38+1)&CHAR(10)&\"Jméno a příjmení:  \"&INDEX(Vložit!B:B,A38+2)&CHAR(10)&\"Ulice:  \"&INDEX(Vložit!B:B,A38+3)&CHAR(10)&\"Č. pop. / č. orient.:  \"&INDEX(Vložit!B:B,A38+4)&CHAR(10)&\"Obec:  \"&INDEX(Vložit!B:B,A38+5))","v":""},{"$f":"IF(A38=\"\",\"\",INDEX(Vložit!A:A,A38)&CHAR(10)&\"Telefon: \"&INDEX(Vložit!B:B,A38+6)&\" / \"&INDEX(Vložit!B:B,A38+7)&CHAR(10)&\"Typ objednávky: \"&INDEX(Vložit!D:D,A38+1)&CHAR(10)&INDEX(Vložit!C:C,A38)&CHAR(10)&INDEX(Vložit!D:D,A38))","v":""},{"$f":"IF(A38=\"\",\"\",IF(INDEX(Vložit!B:B,A38+8)=\"\",\"\",\"Instrukce: \"&INDEX(Vložit!B:B,A38+8)))","v":""},{"$f":"IF(A38=\"\",\"\",IF(INDEX(Vložit!B:B,A38+1)=\"\",\"\",INDEX(Vložit!B:B,A38+1)))","v":""},{"$f":"IF(A38=\"\",\"\",MID(INDEX(Vložit!A:A,A38),19,10))","v":""},{"$f":"IF(A38=\"\",\"\",IF(INDEX(Vložit!B:B,A38+5)=\"\",\"\",VLOOKUP(INDEX(Vložit!B:B,A38+5),Pomocná!B37:C10036,2,FALSE)))","v":""},{"$f":"IF(A38=\"\",\"\",INDEX(Vložit!B:B,A38+2))","v":""},{"$f":"IF(A38=\"\",\"\",IF(INDEX(Vložit!B:B,A38+3)=\"\",\"\",INDEX(Vložit!B:B,A38+3)))","v":""},{"$f":"IF(A38=\"\",\"\",INDEX(Vložit!B:B,A38+4))","v":""}]
[{"$f":"IF(A38=\"\",\"\",IF(INDEX(Vložit!A:A,(ROW(A38)-1)*17+2)<>\"\",(ROW(A38)-1)*17+2,\"\"))","v":""},{"$f":"IF(A39=\"\",\"\",\"Číslo smlouvy:  \"&INDEX(Vložit!B:B,A39+1)&CHAR(10)&\"Jméno a příjmení:  \"&INDEX(Vložit!B:B,A39+2)&CHAR(10)&\"Ulice:  \"&INDEX(Vložit!B:B,A39+3)&CHAR(10)&\"Č. pop. / č. orient.:  \"&INDEX(Vložit!B:B,A39+4)&CHAR(10)&\"Obec:  \"&INDEX(Vložit!B:B,A39+5))","v":""},{"$f":"IF(A39=\"\",\"\",INDEX(Vložit!A:A,A39)&CHAR(10)&\"Telefon: \"&INDEX(Vložit!B:B,A39+6)&\" / \"&INDEX(Vložit!B:B,A39+7)&CHAR(10)&\"Typ objednávky: \"&INDEX(Vložit!D:D,A39+1)&CHAR(10)&INDEX(Vložit!C:C,A39)&CHAR(10)&INDEX(Vložit!D:D,A39))","v":""},{"$f":"IF(A39=\"\",\"\",IF(INDEX(Vložit!B:B,A39+8)=\"\",\"\",\"Instrukce: \"&INDEX(Vložit!B:B,A39+8)))","v":""},{"$f":"IF(A39=\"\",\"\",IF(INDEX(Vložit!B:B,A39+1)=\"\",\"\",INDEX(Vložit!B:B,A39+1)))","v":""},{"$f":"IF(A39=\"\",\"\",MID(INDEX(Vložit!A:A,A39),19,10))","v":""},{"$f":"IF(A39=\"\",\"\",IF(INDEX(Vložit!B:B,A39+5)=\"\",\"\",VLOOKUP(INDEX(Vložit!B:B,A39+5),Pomocná!B38:C10037,2,FALSE)))","v":""},{"$f":"IF(A39=\"\",\"\",INDEX(Vložit!B:B,A39+2))","v":""},{"$f":"IF(A39=\"\",\"\",IF(INDEX(Vložit!B:B,A39+3)=\"\",\"\",INDEX(Vložit!B:B,A39+3)))","v":""},{"$f":"IF(A39=\"\",\"\",INDEX(Vložit!B:B,A39+4))","v":""}]
[{"$f":"IF(A39=\"\",\"\",IF(INDEX(Vložit!A:A,(ROW(A39)-1)*17+2)<>\"\",(ROW(A39)-1)*17+2,\"\"))","v":""},{"$f":"IF(A40=\"\",\"\",\"Číslo smlouvy:  \"&INDEX(Vložit!B:B,A40+1)&CHAR(10)&\"Jméno a příjmení:  \"&INDEX(Vložit!B:B,A40+2)&CHAR(10)&\"Ulice:  \"&INDEX(Vložit!B:B,A40+3)&CHAR(10)&\"Č. pop. / č. orient.:  \"&INDEX(Vložit!B:B,A40+4)&CHAR(10)&\"Obec:  \"&INDEX(Vložit!B:B,A40+5))","v":""},{"$f":"IF(A40=\"\",\"\",INDEX(Vložit!A:A,A40)&CHAR(10)&\"Telefon: \"&INDEX(Vložit!B:B,A40+6)&\" / \"&INDEX(Vložit!B:B,A40+7)&CHAR(10)&\"Typ objednávky: \"&INDEX(Vložit!D:D,A40+1)&CHAR(10)&INDEX(Vložit!C:C,A40)&CHAR(10)&INDEX(Vložit!D:D,A40))","v":""},{"$f":"IF(A40=\"\",\"\",IF(INDEX(Vložit!B:B,A40+8)=\"\",\"\",\"Instrukce: \"&INDEX(Vložit!B:B,A40+8)))","v":""},{"$f":"IF(A40=\"\",\"\",IF(INDEX(Vložit!B:B,A40+1)=\"\",\"\",INDEX(Vložit!B:B,A40+1)))","v":""},{"$f":"IF(A40=\"\",\"\",MID(INDEX(Vložit!A:A,A40),19,10))","v":""},{"$f":"IF(A40=\"\",\"\",IF(INDEX(Vložit!B:B,A40+5)=\"\",\"\",VLOOKUP(INDEX(Vložit!B:B,A40+5),Pomocná!B39:C10038,2,FALSE)))","v":""},{"$f":"IF(A40=\"\",\"\",INDEX(Vložit!B:B,A40+2))","v":""},{"$f":"IF(A40=\"\",\"\",IF(INDEX(Vložit!B:B,A40+3)=\"\",\"\",INDEX(Vložit!B:B,A40+3)))","v":""},{"$f":"IF(A40=\"\",\"\",INDEX(Vložit!B:B,A40+4))","v":""}]
[{"$f":"IF(A40=\"\",\"\",IF(INDEX(Vložit!A:A,(ROW(A40)-1)*17+2)<>\"\",(ROW(A40)-1)*17+2,\"\"))","v":""},{"$f":"IF(A41=\"\",\"\",\"Číslo smlouvy:  \"&INDEX(Vložit!B:B,A41+1)&CHAR(10)&\"Jméno a příjmení:  \"&INDEX(Vložit!B:B,A41+2)&CHAR(10)&\"Ulice:  \"&INDEX(Vložit!B:B,A41+3)&CHAR(10)&\"Č. pop. / č. orient.:  \"&INDEX(Vložit!B:B,A41+4)&CHAR(10)&\"Obec:  \"&INDEX(Vložit!B:B,A41+5))","v":""},{"$f":"IF(A41=\"\",\"\",INDEX(Vložit!A:A,A41)&CHAR(10)&\"Telefon: \"&INDEX(Vložit!B:B,A41+6)&\" / \"&INDEX(Vložit!B:B,A41+7)&CHAR(10)&\"Typ objednávky: \"&INDEX(Vložit!D:D,A41+1)&CHAR(10)&INDEX(Vložit!C:C,A41)&CHAR(10)&INDEX(Vložit!D:D,A41))","v":""},{"$f":"IF(A41=\"\",\"\",IF(INDEX(Vložit!B:B,A41+8)=\"\",\"\",\"Instrukce: \"&INDEX(Vložit!B:B,A41+8)))","v":""},{"$f":"IF(A41=\"\",\"\",IF(INDEX(Vložit!B:B,A41+1)=\"\",\"\",INDEX(Vložit!B:B,A41+1)))","v":""},{"$f":"IF(A41=\"\",\"\",MID(INDEX(Vložit!A:A,A41),19,10))","v":""},{"$f":"IF(A41=\"\",\"\",IF(INDEX(Vložit!B:B,A41+5)=\"\",\"\",VLOOKUP(INDEX(Vložit!B:B,A41+5),Pomocná!B40:C10039,2,FALSE)))","v":""},{"$f":"IF(A41=\"\",\"\",INDEX(Vložit!B:B,A41+2))","v":""},{"$f":"IF(A41=\"\",\"\",IF(INDEX(Vložit!B:B,A41+3)=\"\",\"\",INDEX(Vložit!B:B,A41+3)))","v":""},{"$f":"IF(A41=\"\",\"\",INDEX(Vložit!B:B,A41+4))","v":""}]
[{"$f":"IF(A41=\"\",\"\",IF(INDEX(Vložit!A:A,(ROW(A41)-1)*17+2)<>\"\",(ROW(A41)-1)*17+2,\"\"))","v":""},{"$f":"IF(A42=\"\",\"\",\"Číslo smlouvy:  \"&INDEX(Vložit!B:B,A42+1)&CHAR(10)&\"Jméno a příjmení:  \"&INDEX(Vložit!B:B,A42+2)&CHAR(10)&\"Ulice:  \"&INDEX(Vložit!B:B,A42+3)&CHAR(10)&\"Č. pop. / č. orient.:  \"&INDEX(Vložit!B:B,A42+4)&CHAR(10)&\"Obec:  \"&INDEX(Vložit!B:B,A42+5))","v":""},{"$f":"IF(A42=\"\",\"\",INDEX(Vložit!A:A,A42)&CHAR(10)&\"Telefon: \"&INDEX(Vložit!B:B,A42+6)&\" / \"&INDEX(Vložit!B:B,A42+7)&CHAR(10)&\"Typ objednávky: \"&INDEX(Vložit!D:D,A42+1)&CHAR(10)&INDEX(Vložit!C:C,A42)&CHAR(10)&INDEX(Vložit!D:D,A42))","v":""},{"$f":"IF(A42=\"\",\"\",IF(INDEX(Vložit!B:B,A42+8)=\"\",\"\",\"Instrukce: \"&INDEX(Vložit!B:B,A42+8)))","v":""},{"$f":"IF(A42=\"\",\"\",IF(INDEX(Vložit!B:B,A42+1)=\"\",\"\",INDEX(Vložit!B:B,A42+1)))","v":""},{"$f":"IF(A42=\"\",\"\",MID(INDEX(Vložit!A:A,A42),19,10))","v":""},{"$f":"IF(A42=\"\",\"\",IF(INDEX(Vložit!B:B,A42+5)=\"\",\"\",VLOOKUP(INDEX(Vložit!B:B,A42+5),Pomocná!B41:C10040,2,FALSE)))","v":""},{"$f":"IF(A42=\"\",\"\",INDEX(Vložit!B:B,A42+2))","v":""},{"$f":"IF(A42=\"\",\"\",IF(INDEX(Vložit!B:B,A42+3)=\"\",\"\",INDEX(Vložit!B:B,A42+3)))","v":""},{"$f":"IF(A42=\"\",\"\",INDEX(Vložit!B:B,A42+4))","v":""}]
[{"$f":"IF(A42=\"\",\"\",IF(INDEX(Vložit!A:A,(ROW(A42)-1)*17+2)<>\"\",(ROW(A42)-1)*17+2,\"\"))","v":""},{"$f":"IF(A43=\"\",\"\",\"Číslo smlouvy:  \"&INDEX(Vložit!B:B,A43+1)&CHAR(10)&\"Jméno a příjmení:  \"&INDEX(Vložit!B:B,A43+2)&CHAR(10)&\"Ulice:  \"&INDEX(Vložit!B:B,A43+3)&CHAR(10)&\"Č. pop. / č. orient.:  \"&INDEX(Vložit!B:B,A43+4)&CHAR(10)&\"Obec:  \"&INDEX(Vložit!B:B,A43+5))","v":""},{"$f":"IF(A43=\"\",\"\",INDEX(Vložit!A:A,A43)&CHAR(10)&\"Telefon: \"&INDEX(Vložit!B:B,A43+6)&\" / \"&INDEX(Vložit!B:B,A43+7)&CHAR(10)&\"Typ objednávky: \"&INDEX(Vložit!D:D,A43+1)&CHAR(10)&INDEX(Vložit!C:C,A43)&CHAR(10)&INDEX(Vložit!D:D,A43))","v":""},{"$f":"IF(A43=\"\",\"\",IF(INDEX(Vložit!B:B,A43+8)=\"\",\"\",\"Instrukce: \"&INDEX(Vložit!B:B,A43+8)))","v":""},{"$f":"IF(A43=\"\",\"\",IF(INDEX(Vložit!B:B,A43+1)=\"\",\"\",INDEX(Vložit!B:B,A43+1)))","v":""},{"$f":"IF(A43=\"\",\"\",MID(INDEX(Vložit!A:A,A43),19,10))","v":""},{"$f":"IF(A43=\"\",\"\",IF(INDEX(Vložit!B:B,A43+5)=\"\",\"\",VLOOKUP(INDEX(Vložit!B:B,A43+5),Pomocná!B42:C10041,2,FALSE)))","v":""},{"$f":"IF(A43=\"\",\"\",INDEX(Vložit!B:B,A43+2))","v":""},{"$f":"IF(A43=\"\",\"\",IF(INDEX(Vložit!B:B,A43+3)=\"\",\"\",INDEX(Vložit!B:B,A43+3)))","v":""},{"$f":"IF(A43=\"\",\"\",INDEX(Vložit!B:B,A43+4))","v":""}]
[{"$f":"IF(A43=\"\",\"\",IF(INDEX(Vložit!A:A,(ROW(A43)-1)*17+2)<>\"\",(ROW(A43)-1)*17+2,\"\"))","v":""},{"$f":"IF(A44=\"\",\"\",\"Číslo smlouvy:  \"&INDEX(Vložit!B:B,A44+1)&CHAR(10)&\"Jméno a příjmení:  \"&INDEX(Vložit!B:B,A44+2)&CHAR(10)&\"Ulice:  \"&INDEX(Vložit!B:B,A44+3)&CHAR(10)&\"Č. pop. / č. orient.:  \"&INDEX(Vložit!B:B,A44+4)&CHAR(10)&\"Obec:  \"&INDEX(Vložit!B:B,A44+5))","v":""},{"$f":"IF(A44=\"\",\"\",INDEX(Vložit!A:A,A44)&CHAR(10)&\"Telefon: \"&INDEX(Vložit!B:B,A44+6)&\" / \"&INDEX(Vložit!B:B,A44+7)&CHAR(10)&\"Typ objednávky: \"&INDEX(Vložit!D:D,A44+1)&CHAR(10)&INDEX(Vložit!C:C,A44)&CHAR(10)&INDEX(Vložit!D:D,A44))","v":""},{"$f":"IF(A44=\"\",\"\",IF(INDEX(Vložit!B:B,A44+8)=\"\",\"\",\"Instrukce: \"&INDEX(Vložit!B:B,A44+8)))","v":""},{"$f":"IF(A44=\"\",\"\",IF(INDEX(Vložit!B:B,A44+1)=\"\",\"\",INDEX(Vložit!B:B,A44+1)))","v":""},{"$f":"IF(A44=\"\",\"\",MID(INDEX(Vložit!A:A,A44),19,10))","v":""},{"$f":"IF(A44=\"\",\"\",IF(INDEX(Vložit!B:B,A44+5)=\"\",\"\",VLOOKUP(INDEX(Vložit!B:B,A44+5),Pomocná!B43:C10042,2,FALSE)))","v":""},{"$f":"IF(A44=\"\",\"\",INDEX(Vložit!B:B,A44+2))","v":""},{"$f":"IF(A44=\"\",\"\",IF(INDEX(Vložit!B:B,A44+3)=\"\",\"\",INDEX(Vložit!B:B,A44+3)))","v":""},{"$f":"IF(A44=\"\",\"\",INDEX(Vložit!B:B,A44+4))","v":""}]
[{"$f":"IF(A44=\"\",\"\",IF(INDEX(Vložit!A:A,(ROW(A44)-1)*17+2)<>\"\",(ROW(A44)-1)*17+2,\"\"))","v":""},{"$f":"IF(A45=\"\",\"\",\"Číslo smlouvy:  \"&INDEX(Vložit!B:B,A45+1)&CHAR(10)&\"Jméno a příjmení:  \"&INDEX(Vložit!B:B,A45+2)&CHAR(10)&\"Ulice:  \"&INDEX(Vložit!B:B,A45+3)&CHAR(10)&\"Č. pop. / č. orient.:  \"&INDEX(Vložit!B:B,A45+4)&CHAR(10)&\"Obec:  \"&INDEX(Vložit!B:B,A45+5))","v":""},{"$f":"IF(A45=\"\",\"\",INDEX(Vložit!A:A,A45)&CHAR(10)&\"Telefon: \"&INDEX(Vložit!B:B,A45+6)&\" / \"&INDEX(Vložit!B:B,A45+7)&CHAR(10)&\"Typ objednávky: \"&INDEX(Vložit!D:D,A45+1)&CHAR(10)&INDEX(Vložit!C:C,A45)&CHAR(10)&INDEX(Vložit!D:D,A45))","v":""},{"$f":"IF(A45=\"\",\"\",IF(INDEX(Vložit!B:B,A45+8)=\"\",\"\",\"Instrukce: \"&INDEX(Vložit!B:B,A45+8)))","v":""},{"$f":"IF(A45=\"\",\"\",IF(INDEX(Vložit!B:B,A45+1)=\"\",\"\",INDEX(Vložit!B:B,A45+1)))","v":""},{"$f":"IF(A45=\"\",\"\",MID(INDEX(Vložit!A:A,A45),19,10))","v":""},{"$f":"IF(A45=\"\",\"\",IF(INDEX(Vložit!B:B,A45+5)=\"\",\"\",VLOOKUP(INDEX(Vložit!B:B,A45+5),Pomocná!B44:C10043,2,FALSE)))","v":""},{"$f":"IF(A45=\"\",\"\",INDEX(Vložit!B:B,A45+2))","v":""},{"$f":"IF(A45=\"\",\"\",IF(INDEX(Vložit!B:B,A45+3)=\"\",\"\",INDEX(Vložit!B:B,A45+3)))","v":""},{"$f":"IF(A45=\"\",\"\",INDEX(Vložit!B:B,A45+4))","v":""}]
[{"$f":"IF(A45=\"\",\"\",IF(INDEX(Vložit!A:A,(ROW(A45)-1)*17+2)<>\"\",(ROW(A45)-1)*17+2,\"\"))","v":""},{"$f":"IF(A46=\"\",\"\",\"Číslo smlouvy:  \"&INDEX(Vložit!B:B,A46+1)&CHAR(10)&\"Jméno a příjmení:  \"&INDEX(Vložit!B:B,A46+2)&CHAR(10)&\"Ulice:  \"&INDEX(Vložit!B:B,A46+3)&CHAR(10)&\"Č. pop. / č. orient.:  \"&INDEX(Vložit!B:B,A46+4)&CHAR(10)&\"Obec:  \"&INDEX(Vložit!B:B,A46+5))","v":""},{"$f":"IF(A46=\"\",\"\",INDEX(Vložit!A:A,A46)&CHAR(10)&\"Telefon: \"&INDEX(Vložit!B:B,A46+6)&\" / \"&INDEX(Vložit!B:B,A46+7)&CHAR(10)&\"Typ objednávky: \"&INDEX(Vložit!D:D,A46+1)&CHAR(10)&INDEX(Vložit!C:C,A46)&CHAR(10)&INDEX(Vložit!D:D,A46))","v":""},{"$f":"IF(A46=\"\",\"\",IF(INDEX(Vložit!B:B,A46+8)=\"\",\"\",\"Instrukce: \"&INDEX(Vložit!B:B,A46+8)))","v":""},{"$f":"IF(A46=\"\",\"\",IF(INDEX(Vložit!B:B,A46+1)=\"\",\"\",INDEX(Vložit!B:B,A46+1)))","v":""},{"$f":"IF(A46=\"\",\"\",MID(INDEX(Vložit!A:A,A46),19,10))","v":""},{"$f":"IF(A46=\"\",\"\",IF(INDEX(Vložit!B:B,A46+5)=\"\",\"\",VLOOKUP(INDEX(Vložit!B:B,A46+5),Pomocná!B45:C10044,2,FALSE)))","v":""},{"$f":"IF(A46=\"\",\"\",INDEX(Vložit!B:B,A46+2))","v":""},{"$f":"IF(A46=\"\",\"\",IF(INDEX(Vložit!B:B,A46+3)=\"\",\"\",INDEX(Vložit!B:B,A46+3)))","v":""},{"$f":"IF(A46=\"\",\"\",INDEX(Vložit!B:B,A46+4))","v":""}]
[{"$f":"IF(A46=\"\",\"\",IF(INDEX(Vložit!A:A,(ROW(A46)-1)*17+2)<>\"\",(ROW(A46)-1)*17+2,\"\"))","v":""},{"$f":"IF(A47=\"\",\"\",\"Číslo smlouvy:  \"&INDEX(Vložit!B:B,A47+1)&CHAR(10)&\"Jméno a příjmení:  \"&INDEX(Vložit!B:B,A47+2)&CHAR(10)&\"Ulice:  \"&INDEX(Vložit!B:B,A47+3)&CHAR(10)&\"Č. pop. / č. orient.:  \"&INDEX(Vložit!B:B,A47+4)&CHAR(10)&\"Obec:  \"&INDEX(Vložit!B:B,A47+5))","v":""},{"$f":"IF(A47=\"\",\"\",INDEX(Vložit!A:A,A47)&CHAR(10)&\"Telefon: \"&INDEX(Vložit!B:B,A47+6)&\" / \"&INDEX(Vložit!B:B,A47+7)&CHAR(10)&\"Typ objednávky: \"&INDEX(Vložit!D:D,A47+1)&CHAR(10)&INDEX(Vložit!C:C,A47)&CHAR(10)&INDEX(Vložit!D:D,A47))","v":""},{"$f":"IF(A47=\"\",\"\",IF(INDEX(Vložit!B:B,A47+8)=\"\",\"\",\"Instrukce: \"&INDEX(Vložit!B:B,A47+8)))","v":""},{"$f":"IF(A47=\"\",\"\",IF(INDEX(Vložit!B:B,A47+1)=\"\",\"\",INDEX(Vložit!B:B,A47+1)))","v":""},{"$f":"IF(A47=\"\",\"\",MID(INDEX(Vložit!A:A,A47),19,10))","v":""},{"$f":"IF(A47=\"\",\"\",IF(INDEX(Vložit!B:B,A47+5)=\"\",\"\",VLOOKUP(INDEX(Vložit!B:B,A47+5),Pomocná!B46:C10045,2,FALSE)))","v":""},{"$f":"IF(A47=\"\",\"\",INDEX(Vložit!B:B,A47+2))","v":""},{"$f":"IF(A47=\"\",\"\",IF(INDEX(Vložit!B:B,A47+3)=\"\",\"\",INDEX(Vložit!B:B,A47+3)))","v":""},{"$f":"IF(A47=\"\",\"\",INDEX(Vložit!B:B,A47+4))","v":""}]
[{"$f":"IF(A47=\"\",\"\",IF(INDEX(Vložit!A:A,(ROW(A47)-1)*17+2)<>\"\",(ROW(A47)-1)*17+2,\"\"))","v":""},{"$f":"IF(A48=\"\",\"\",\"Číslo smlouvy:  \"&INDEX(Vložit!B:B,A48+1)&CHAR(10)&\"Jméno a příjmení:  \"&INDEX(Vložit!B:B,A48+2)&CHAR(10)&\"Ulice:  \"&INDEX(Vložit!B:B,A48+3)&CHAR(10)&\"Č. pop. / č. orient.:  \"&INDEX(Vložit!B:B,A48+4)&CHAR(10)&\"Obec:  \"&INDEX(Vložit!B:B,A48+5))","v":""},{"$f":"IF(A48=\"\",\"\",INDEX(Vložit!A:A,A48)&CHAR(10)&\"Telefon: \"&INDEX(Vložit!B:B,A48+6)&\" / \"&INDEX(Vložit!B:B,A48+7)&CHAR(10)&\"Typ objednávky: \"&INDEX(Vložit!D:D,A48+1)&CHAR(10)&INDEX(Vložit!C:C,A48)&CHAR(10)&INDEX(Vložit!D:D,A48))","v":""},{"$f":"IF(A48=\"\",\"\",IF(INDEX(Vložit!B:B,A48+8)=\"\",\"\",\"Instrukce: \"&INDEX(Vložit!B:B,A48+8)))","v":""},{"$f":"IF(A48=\"\",\"\",IF(INDEX(Vložit!B:B,A48+1)=\"\",\"\",INDEX(Vložit!B:B,A48+1)))","v":""},{"$f":"IF(A48=\"\",\"\",MID(INDEX(Vložit!A:A,A48),19,10))","v":""},{"$f":"IF(A48=\"\",\"\",IF(INDEX(Vložit!B:B,A48+5)=\"\",\"\",VLOOKUP(INDEX(Vložit!B:B,A48+5),Pomocná!B47:C10046,2,FALSE)))","v":""},{"$f":"IF(A48=\"\",\"\",INDEX(Vložit!B:B,A48+2))","v":""},{"$f":"IF(A48=\"\",\"\",IF(INDEX(Vložit!B:B,A48+3)=\"\",\"\",INDEX(Vložit!B:B,A48+3)))","v":""},{"$f":"IF(A48=\"\",\"\",INDEX(Vložit!B:B,A48+4))","v":""}]
[{"$f":"IF(A48=\"\",\"\",IF(INDEX(Vložit!A:A,(ROW(A48)-1)*17+2)<>\"\",(ROW(A48)-1)*17+2,\"\"))","v":""},{"$f":"IF(A49=\"\",\"\",\"Číslo smlouvy:  \"&INDEX(Vložit!B:B,A49+1)&CHAR(10)&\"Jméno a příjmení:  \"&INDEX(Vložit!B:B,A49+2)&CHAR(10)&\"Ulice:  \"&INDEX(Vložit!B:B,A49+3)&CHAR(10)&\"Č. pop. / č. orient.:  \"&INDEX(Vložit!B:B,A49+4)&CHAR(10)&\"Obec:  \"&INDEX(Vložit!B:B,A49+5))","v":""},{"$f":"IF(A49=\"\",\"\",INDEX(Vložit!A:A,A49)&CHAR(10)&\"Telefon: \"&INDEX(Vložit!B:B,A49+6)&\" / \"&INDEX(Vložit!B:B,A49+7)&CHAR(10)&\"Typ objednávky: \"&INDEX(Vložit!D:D,A49+1)&CHAR(10)&INDEX(Vložit!C:C,A49)&CHAR(10)&INDEX(Vložit!D:D,A49))","v":""},{"$f":"IF(A49=\"\",\"\",IF(INDEX(Vložit!B:B,A49+8)=\"\",\"\",\"Instrukce: \"&INDEX(Vložit!B:B,A49+8)))","v":""},{"$f":"IF(A49=\"\",\"\",IF(INDEX(Vložit!B:B,A49+1)=\"\",\"\",INDEX(Vložit!B:B,A49+1)))","v":""},{"$f":"IF(A49=\"\",\"\",MID(INDEX(Vložit!A:A,A49),19,10))","v":""},{"$f":"IF(A49=\"\",\"\",IF(INDEX(Vložit!B:B,A49+5)=\"\",\"\",VLOOKUP(INDEX(Vložit!B:B,A49+5),Pomocná!B48:C10047,2,FALSE)))","v":""},{"$f":"IF(A49=\"\",\"\",INDEX(Vložit!B:B,A49+2))","v":""},{"$f":"IF(A49=\"\",\"\",IF(INDEX(Vložit!B:B,A49+3)=\"\",\"\",INDEX(Vložit!B:B,A49+3)))","v":""},{"$f":"IF(A49=\"\",\"\",INDEX(Vložit!B:B,A49+4))","v":""}]
[{"$f":"IF(A49=\"\",\"\",IF(INDEX(Vložit!A:A,(ROW(A49)-1)*17+2)<>\"\",(ROW(A49)-1)*17+2,\"\"))","v":""},{"$f":"IF(A50=\"\",\"\",\"Číslo smlouvy:  \"&INDEX(Vložit!B:B,A50+1)&CHAR(10)&\"Jméno a příjmení:  \"&INDEX(Vložit!B:B,A50+2)&CHAR(10)&\"Ulice:  \"&INDEX(Vložit!B:B,A50+3)&CHAR(10)&\"Č. pop. / č. orient.:  \"&INDEX(Vložit!B:B,A50+4)&CHAR(10)&\"Obec:  \"&INDEX(Vložit!B:B,A50+5))","v":""},{"$f":"IF(A50=\"\",\"\",INDEX(Vložit!A:A,A50)&CHAR(10)&\"Telefon: \"&INDEX(Vložit!B:B,A50+6)&\" / \"&INDEX(Vložit!B:B,A50+7)&CHAR(10)&\"Typ objednávky: \"&INDEX(Vložit!D:D,A50+1)&CHAR(10)&INDEX(Vložit!C:C,A50)&CHAR(10)&INDEX(Vložit!D:D,A50))","v":""},{"$f":"IF(A50=\"\",\"\",IF(INDEX(Vložit!B:B,A50+8)=\"\",\"\",\"Instrukce: \"&INDEX(Vložit!B:B,A50+8)))","v":""},{"$f":"IF(A50=\"\",\"\",IF(INDEX(Vložit!B:B,A50+1)=\"\",\"\",INDEX(Vložit!B:B,A50+1)))","v":""},{"$f":"IF(A50=\"\",\"\",MID(INDEX(Vložit!A:A,A50),19,10))","v":""},{"$f":"IF(A50=\"\",\"\",IF(INDEX(Vložit!B:B,A50+5)=\"\",\"\",VLOOKUP(INDEX(Vložit!B:B,A50+5),Pomocná!B49:C10048,2,FALSE)))","v":""},{"$f":"IF(A50=\"\",\"\",INDEX(Vložit!B:B,A50+2))","v":""},{"$f":"IF(A50=\"\",\"\",IF(INDEX(Vložit!B:B,A50+3)=\"\",\"\",INDEX(Vložit!B:B,A50+3)))","v":""},{"$f":"IF(A50=\"\",\"\",INDEX(Vložit!B:B,A50+4))","v":""}]
[{"$f":"IF(A50=\"\",\"\",IF(INDEX(Vložit!A:A,(ROW(A50)-1)*17+2)<>\"\",(ROW(A50)-1)*17+2,\"\"))","v":""},{"$f":"IF(A51=\"\",\"\",\"Číslo smlouvy:  \"&INDEX(Vložit!B:B,A51+1)&CHAR(10)&\"Jméno a příjmení:  \"&INDEX(Vložit!B:B,A51+2)&CHAR(10)&\"Ulice:  \"&INDEX(Vložit!B:B,A51+3)&CHAR(10)&\"Č. pop. / č. orient.:  \"&INDEX(Vložit!B:B,A51+4)&CHAR(10)&\"Obec:  \"&INDEX(Vložit!B:B,A51+5))","v":""},{"$f":"IF(A51=\"\",\"\",INDEX(Vložit!A:A,A51)&CHAR(10)&\"Telefon: \"&INDEX(Vložit!B:B,A51+6)&\" / \"&INDEX(Vložit!B:B,A51+7)&CHAR(10)&\"Typ objednávky: \"&INDEX(Vložit!D:D,A51+1)&CHAR(10)&INDEX(Vložit!C:C,A51)&CHAR(10)&INDEX(Vložit!D:D,A51))","v":""},{"$f":"IF(A51=\"\",\"\",IF(INDEX(Vložit!B:B,A51+8)=\"\",\"\",\"Instrukce: \"&INDEX(Vložit!B:B,A51+8)))","v":""},{"$f":"IF(A51=\"\",\"\",IF(INDEX(Vložit!B:B,A51+1)=\"\",\"\",INDEX(Vložit!B:B,A51+1)))","v":""},{"$f":"IF(A51=\"\",\"\",MID(INDEX(Vložit!A:A,A51),19,10))","v":""},{"$f":"IF(A51=\"\",\"\",IF(INDEX(Vložit!B:B,A51+5)=\"\",\"\",VLOOKUP(INDEX(Vložit!B:B,A51+5),Pomocná!B50:C10049,2,FALSE)))","v":""},{"$f":"IF(A51=\"\",\"\",INDEX(Vložit!B:B,A51+2))","v":""},{"$f":"IF(A51=\"\",\"\",IF(INDEX(Vložit!B:B,A51+3)=\"\",\"\",INDEX(Vložit!B:B,A51+3)))","v":""},{"$f":"IF(A51=\"\",\"\",INDEX(Vložit!B:B,A51+4))","v":""}]
[{"$f":"IF(A51=\"\",\"\",IF(INDEX(Vložit!A:A,(ROW(A51)-1)*17+2)<>\"\",(ROW(A51)-1)*17+2,\"\"))","v":""},{"$f":"IF(A52=\"\",\"\",\"Číslo smlouvy:  \"&INDEX(Vložit!B:B,A52+1)&CHAR(10)&\"Jméno a příjmení:  \"&INDEX(Vložit!B:B,A52+2)&CHAR(10)&\"Ulice:  \"&INDEX(Vložit!B:B,A52+3)&CHAR(10)&\"Č. pop. / č. orient.:  \"&INDEX(Vložit!B:B,A52+4)&CHAR(10)&\"Obec:  \"&INDEX(Vložit!B:B,A52+5))","v":""},{"$f":"IF(A52=\"\",\"\",INDEX(Vložit!A:A,A52)&CHAR(10)&\"Telefon: \"&INDEX(Vložit!B:B,A52+6)&\" / \"&INDEX(Vložit!B:B,A52+7)&CHAR(10)&\"Typ objednávky: \"&INDEX(Vložit!D:D,A52+1)&CHAR(10)&INDEX(Vložit!C:C,A52)&CHAR(10)&INDEX(Vložit!D:D,A52))","v":""},{"$f":"IF(A52=\"\",\"\",IF(INDEX(Vložit!B:B,A52+8)=\"\",\"\",\"Instrukce: \"&INDEX(Vložit!B:B,A52+8)))","v":""},{"$f":"IF(A52=\"\",\"\",IF(INDEX(Vložit!B:B,A52+1)=\"\",\"\",INDEX(Vložit!B:B,A52+1)))","v":""},{"$f":"IF(A52=\"\",\"\",MID(INDEX(Vložit!A:A,A52),19,10))","v":""},{"$f":"IF(A52=\"\",\"\",IF(INDEX(Vložit!B:B,A52+5)=\"\",\"\",VLOOKUP(INDEX(Vložit!B:B,A52+5),Pomocná!B51:C10050,2,FALSE)))","v":""},{"$f":"IF(A52=\"\",\"\",INDEX(Vložit!B:B,A52+2))","v":""},{"$f":"IF(A52=\"\",\"\",IF(INDEX(Vložit!B:B,A52+3)=\"\",\"\",INDEX(Vložit!B:B,A52+3)))","v":""},{"$f":"IF(A52=\"\",\"\",INDEX(Vložit!B:B,A52+4))","v":""}]
[{"$f":"IF(A52=\"\",\"\",IF(INDEX(Vložit!A:A,(ROW(A52)-1)*17+2)<>\"\",(ROW(A52)-1)*17+2,\"\"))","v":""},{"$f":"IF(A53=\"\",\"\",\"Číslo smlouvy:  \"&INDEX(Vložit!B:B,A53+1)&CHAR(10)&\"Jméno a příjmení:  \"&INDEX(Vložit!B:B,A53+2)&CHAR(10)&\"Ulice:  \"&INDEX(Vložit!B:B,A53+3)&CHAR(10)&\"Č. pop. / č. orient.:  \"&INDEX(Vložit!B:B,A53+4)&CHAR(10)&\"Obec:  \"&INDEX(Vložit!B:B,A53+5))","v":""},{"$f":"IF(A53=\"\",\"\",INDEX(Vložit!A:A,A53)&CHAR(10)&\"Telefon: \"&INDEX(Vložit!B:B,A53+6)&\" / \"&INDEX(Vložit!B:B,A53+7)&CHAR(10)&\"Typ objednávky: \"&INDEX(Vložit!D:D,A53+1)&CHAR(10)&INDEX(Vložit!C:C,A53)&CHAR(10)&INDEX(Vložit!D:D,A53))","v":""},{"$f":"IF(A53=\"\",\"\",IF(INDEX(Vložit!B:B,A53+8)=\"\",\"\",\"Instrukce: \"&INDEX(Vložit!B:B,A53+8)))","v":""},{"$f":"IF(A53=\"\",\"\",IF(INDEX(Vložit!B:B,A53+1)=\"\",\"\",INDEX(Vložit!B:B,A53+1)))","v":""},{"$f":"IF(A53=\"\",\"\",MID(INDEX(Vložit!A:A,A53),19,10))","v":""},{"$f":"IF(A53=\"\",\"\",IF(INDEX(Vložit!B:B,A53+5)=\"\",\"\",VLOOKUP(INDEX(Vložit!B:B,A53+5),Pomocná!B52:C10051,2,FALSE)))","v":""},{"$f":"IF(A53=\"\",\"\",INDEX(Vložit!B:B,A53+2))","v":""},{"$f":"IF(A53=\"\",\"\",IF(INDEX(Vložit!B:B,A53+3)=\"\",\"\",INDEX(Vložit!B:B,A53+3)))","v":""},{"$f":"IF(A53=\"\",\"\",INDEX(Vložit!B:B,A53+4))","v":""}]
[{"$f":"IF(A53=\"\",\"\",IF(INDEX(Vložit!A:A,(ROW(A53)-1)*17+2)<>\"\",(ROW(A53)-1)*17+2,\"\"))","v":""},{"$f":"IF(A54=\"\",\"\",\"Číslo smlouvy:  \"&INDEX(Vložit!B:B,A54+1)&CHAR(10)&\"Jméno a příjmení:  \"&INDEX(Vložit!B:B,A54+2)&CHAR(10)&\"Ulice:  \"&INDEX(Vložit!B:B,A54+3)&CHAR(10)&\"Č. pop. / č. orient.:  \"&INDEX(Vložit!B:B,A54+4)&CHAR(10)&\"Obec:  \"&INDEX(Vložit!B:B,A54+5))","v":""},{"$f":"IF(A54=\"\",\"\",INDEX(Vložit!A:A,A54)&CHAR(10)&\"Telefon: \"&INDEX(Vložit!B:B,A54+6)&\" / \"&INDEX(Vložit!B:B,A54+7)&CHAR(10)&\"Typ objednávky: \"&INDEX(Vložit!D:D,A54+1)&CHAR(10)&INDEX(Vložit!C:C,A54)&CHAR(10)&INDEX(Vložit!D:D,A54))","v":""},{"$f":"IF(A54=\"\",\"\",IF(INDEX(Vložit!B:B,A54+8)=\"\",\"\",\"Instrukce: \"&INDEX(Vložit!B:B,A54+8)))","v":""},{"$f":"IF(A54=\"\",\"\",IF(INDEX(Vložit!B:B,A54+1)=\"\",\"\",INDEX(Vložit!B:B,A54+1)))","v":""},{"$f":"IF(A54=\"\",\"\",MID(INDEX(Vložit!A:A,A54),19,10))","v":""},{"$f":"IF(A54=\"\",\"\",IF(INDEX(Vložit!B:B,A54+5)=\"\",\"\",VLOOKUP(INDEX(Vložit!B:B,A54+5),Pomocná!B53:C10052,2,FALSE)))","v":""},{"$f":"IF(A54=\"\",\"\",INDEX(Vložit!B:B,A54+2))","v":""},{"$f":"IF(A54=\"\",\"\",IF(INDEX(Vložit!B:B,A54+3)=\"\",\"\",INDEX(Vložit!B:B,A54+3)))","v":""},{"$f":"IF(A54=\"\",\"\",INDEX(Vložit!B:B,A54+4))","v":""}]
[{"$f":"IF(A54=\"\",\"\",IF(INDEX(Vložit!A:A,(ROW(A54)-1)*17+2)<>\"\",(ROW(A54)-1)*17+2,\"\"))","v":""},{"$f":"IF(A55=\"\",\"\",\"Číslo smlouvy:  \"&INDEX(Vložit!B:B,A55+1)&CHAR(10)&\"Jméno a příjmení:  \"&INDEX(Vložit!B:B,A55+2)&CHAR(10)&\"Ulice:  \"&INDEX(Vložit!B:B,A55+3)&CHAR(10)&\"Č. pop. / č. orient.:  \"&INDEX(Vložit!B:B,A55+4)&CHAR(10)&\"Obec:  \"&INDEX(Vložit!B:B,A55+5))","v":""},{"$f":"IF(A55=\"\",\"\",INDEX(Vložit!A:A,A55)&CHAR(10)&\"Telefon: \"&INDEX(Vložit!B:B,A55+6)&\" / \"&INDEX(Vložit!B:B,A55+7)&CHAR(10)&\"Typ objednávky: \"&INDEX(Vložit!D:D,A55+1)&CHAR(10)&INDEX(Vložit!C:C,A55)&CHAR(10)&INDEX(Vložit!D:D,A55))","v":""},{"$f":"IF(A55=\"\",\"\",IF(INDEX(Vložit!B:B,A55+8)=\"\",\"\",\"Instrukce: \"&INDEX(Vložit!B:B,A55+8)))","v":""},{"$f":"IF(A55=\"\",\"\",IF(INDEX(Vložit!B:B,A55+1)=\"\",\"\",INDEX(Vložit!B:B,A55+1)))","v":""},{"$f":"IF(A55=\"\",\"\",MID(INDEX(Vložit!A:A,A55),19,10))","v":""},{"$f":"IF(A55=\"\",\"\",IF(INDEX(Vložit!B:B,A55+5)=\"\",\"\",VLOOKUP(INDEX(Vložit!B:B,A55+5),Pomocná!B54:C10053,2,FALSE)))","v":""},{"$f":"IF(A55=\"\",\"\",INDEX(Vložit!B:B,A55+2))","v":""},{"$f":"IF(A55=\"\",\"\",IF(INDEX(Vložit!B:B,A55+3)=\"\",\"\",INDEX(Vložit!B:B,A55+3)))","v":""},{"$f":"IF(A55=\"\",\"\",INDEX(Vložit!B:B,A55+4))","v":""}]
[{"$f":"IF(A55=\"\",\"\",IF(INDEX(Vložit!A:A,(ROW(A55)-1)*17+2)<>\"\",(ROW(A55)-1)*17+2,\"\"))","v":""},{"$f":"IF(A56=\"\",\"\",\"Číslo smlouvy:  \"&INDEX(Vložit!B:B,A56+1)&CHAR(10)&\"Jméno a příjmení:  \"&INDEX(Vložit!B:B,A56+2)&CHAR(10)&\"Ulice:  \"&INDEX(Vložit!B:B,A56+3)&CHAR(10)&\"Č. pop. / č. orient.:  \"&INDEX(Vložit!B:B,A56+4)&CHAR(10)&\"Obec:  \"&INDEX(Vložit!B:B,A56+5))","v":""},{"$f":"IF(A56=\"\",\"\",INDEX(Vložit!A:A,A56)&CHAR(10)&\"Telefon: \"&INDEX(Vložit!B:B,A56+6)&\" / \"&INDEX(Vložit!B:B,A56+7)&CHAR(10)&\"Typ objednávky: \"&INDEX(Vložit!D:D,A56+1)&CHAR(10)&INDEX(Vložit!C:C,A56)&CHAR(10)&INDEX(Vložit!D:D,A56))","v":""},{"$f":"IF(A56=\"\",\"\",IF(INDEX(Vložit!B:B,A56+8)=\"\",\"\",\"Instrukce: \"&INDEX(Vložit!B:B,A56+8)))","v":""},{"$f":"IF(A56=\"\",\"\",IF(INDEX(Vložit!B:B,A56+1)=\"\",\"\",INDEX(Vložit!B:B,A56+1)))","v":""},{"$f":"IF(A56=\"\",\"\",MID(INDEX(Vložit!A:A,A56),19,10))","v":""},{"$f":"IF(A56=\"\",\"\",IF(INDEX(Vložit!B:B,A56+5)=\"\",\"\",VLOOKUP(INDEX(Vložit!B:B,A56+5),Pomocná!B55:C10054,2,FALSE)))","v":""},{"$f":"IF(A56=\"\",\"\",INDEX(Vložit!B:B,A56+2))","v":""},{"$f":"IF(A56=\"\",\"\",IF(INDEX(Vložit!B:B,A56+3)=\"\",\"\",INDEX(Vložit!B:B,A56+3)))","v":""},{"$f":"IF(A56=\"\",\"\",INDEX(Vložit!B:B,A56+4))","v":""}]
[{"$f":"IF(A56=\"\",\"\",IF(INDEX(Vložit!A:A,(ROW(A56)-1)*17+2)<>\"\",(ROW(A56)-1)*17+2,\"\"))","v":""},{"$f":"IF(A57=\"\",\"\",\"Číslo smlouvy:  \"&INDEX(Vložit!B:B,A57+1)&CHAR(10)&\"Jméno a příjmení:  \"&INDEX(Vložit!B:B,A57+2)&CHAR(10)&\"Ulice:  \"&INDEX(Vložit!B:B,A57+3)&CHAR(10)&\"Č. pop. / č. orient.:  \"&INDEX(Vložit!B:B,A57+4)&CHAR(10)&\"Obec:  \"&INDEX(Vložit!B:B,A57+5))","v":""},{"$f":"IF(A57=\"\",\"\",INDEX(Vložit!A:A,A57)&CHAR(10)&\"Telefon: \"&INDEX(Vložit!B:B,A57+6)&\" / \"&INDEX(Vložit!B:B,A57+7)&CHAR(10)&\"Typ objednávky: \"&INDEX(Vložit!D:D,A57+1)&CHAR(10)&INDEX(Vložit!C:C,A57)&CHAR(10)&INDEX(Vložit!D:D,A57))","v":""},{"$f":"IF(A57=\"\",\"\",IF(INDEX(Vložit!B:B,A57+8)=\"\",\"\",\"Instrukce: \"&INDEX(Vložit!B:B,A57+8)))","v":""},{"$f":"IF(A57=\"\",\"\",IF(INDEX(Vložit!B:B,A57+1)=\"\",\"\",INDEX(Vložit!B:B,A57+1)))","v":""},{"$f":"IF(A57=\"\",\"\",MID(INDEX(Vložit!A:A,A57),19,10))","v":""},{"$f":"IF(A57=\"\",\"\",IF(INDEX(Vložit!B:B,A57+5)=\"\",\"\",VLOOKUP(INDEX(Vložit!B:B,A57+5),Pomocná!B56:C10055,2,FALSE)))","v":""},{"$f":"IF(A57=\"\",\"\",INDEX(Vložit!B:B,A57+2))","v":""},{"$f":"IF(A57=\"\",\"\",IF(INDEX(Vložit!B:B,A57+3)=\"\",\"\",INDEX(Vložit!B:B,A57+3)))","v":""},{"$f":"IF(A57=\"\",\"\",INDEX(Vložit!B:B,A57+4))","v":""}]
[{"$f":"IF(A57=\"\",\"\",IF(INDEX(Vložit!A:A,(ROW(A57)-1)*17+2)<>\"\",(ROW(A57)-1)*17+2,\"\"))","v":""},{"$f":"IF(A58=\"\",\"\",\"Číslo smlouvy:  \"&INDEX(Vložit!B:B,A58+1)&CHAR(10)&\"Jméno a příjmení:  \"&INDEX(Vložit!B:B,A58+2)&CHAR(10)&\"Ulice:  \"&INDEX(Vložit!B:B,A58+3)&CHAR(10)&\"Č. pop. / č. orient.:  \"&INDEX(Vložit!B:B,A58+4)&CHAR(10)&\"Obec:  \"&INDEX(Vložit!B:B,A58+5))","v":""},{"$f":"IF(A58=\"\",\"\",INDEX(Vložit!A:A,A58)&CHAR(10)&\"Telefon: \"&INDEX(Vložit!B:B,A58+6)&\" / \"&INDEX(Vložit!B:B,A58+7)&CHAR(10)&\"Typ objednávky: \"&INDEX(Vložit!D:D,A58+1)&CHAR(10)&INDEX(Vložit!C:C,A58)&CHAR(10)&INDEX(Vložit!D:D,A58))","v":""},{"$f":"IF(A58=\"\",\"\",IF(INDEX(Vložit!B:B,A58+8)=\"\",\"\",\"Instrukce: \"&INDEX(Vložit!B:B,A58+8)))","v":""},{"$f":"IF(A58=\"\",\"\",IF(INDEX(Vložit!B:B,A58+1)=\"\",\"\",INDEX(Vložit!B:B,A58+1)))","v":""},{"$f":"IF(A58=\"\",\"\",MID(INDEX(Vložit!A:A,A58),19,10))","v":""},{"$f":"IF(A58=\"\",\"\",IF(INDEX(Vložit!B:B,A58+5)=\"\",\"\",VLOOKUP(INDEX(Vložit!B:B,A58+5),Pomocná!B57:C10056,2,FALSE)))","v":""},{"$f":"IF(A58=\"\",\"\",INDEX(Vložit!B:B,A58+2))","v":""},{"$f":"IF(A58=\"\",\"\",IF(INDEX(Vložit!B:B,A58+3)=\"\",\"\",INDEX(Vložit!B:B,A58+3)))","v":""},{"$f":"IF(A58=\"\",\"\",INDEX(Vložit!B:B,A58+4))","v":""}]
[{"$f":"IF(A58=\"\",\"\",IF(INDEX(Vložit!A:A,(ROW(A58)-1)*17+2)<>\"\",(ROW(A58)-1)*17+2,\"\"))","v":""},{"$f":"IF(A59=\"\",\"\",\"Číslo smlouvy:  \"&INDEX(Vložit!B:B,A59+1)&CHAR(10)&\"Jméno a příjmení:  \"&INDEX(Vložit!B:B,A59+2)&CHAR(10)&\"Ulice:  \"&INDEX(Vložit!B:B,A59+3)&CHAR(10)&\"Č. pop. / č. orient.:  \"&INDEX(Vložit!B:B,A59+4)&CHAR(10)&\"Obec:  \"&INDEX(Vložit!B:B,A59+5))","v":""},{"$f":"IF(A59=\"\",\"\",INDEX(Vložit!A:A,A59)&CHAR(10)&\"Telefon: \"&INDEX(Vložit!B:B,A59+6)&\" / \"&INDEX(Vložit!B:B,A59+7)&CHAR(10)&\"Typ objednávky: \"&INDEX(Vložit!D:D,A59+1)&CHAR(10)&INDEX(Vložit!C:C,A59)&CHAR(10)&INDEX(Vložit!D:D,A59))","v":""},{"$f":"IF(A59=\"\",\"\",IF(INDEX(Vložit!B:B,A59+8)=\"\",\"\",\"Instrukce: \"&INDEX(Vložit!B:B,A59+8)))","v":""},{"$f":"IF(A59=\"\",\"\",IF(INDEX(Vložit!B:B,A59+1)=\"\",\"\",INDEX(Vložit!B:B,A59+1)))","v":""},{"$f":"IF(A59=\"\",\"\",MID(INDEX(Vložit!A:A,A59),19,10))","v":""},{"$f":"IF(A59=\"\",\"\",IF(INDEX(Vložit!B:B,A59+5)=\"\",\"\",VLOOKUP(INDEX(Vložit!B:B,A59+5),Pomocná!B58:C10057,2,FALSE)))","v":""},{"$f":"IF(A59=\"\",\"\",INDEX(Vložit!B:B,A59+2))","v":""},{"$f":"IF(A59=\"\",\"\",IF(INDEX(Vložit!B:B,A59+3)=\"\",\"\",INDEX(Vložit!B:B,A59+3)))","v":""},{"$f":"IF(A59=\"\",\"\",INDEX(Vložit!B:B,A59+4))","v":""}]
[{"$f":"IF(A59=\"\",\"\",IF(INDEX(Vložit!A:A,(ROW(A59)-1)*17+2)<>\"\",(ROW(A59)-1)*17+2,\"\"))","v":""},{"$f":"IF(A60=\"\",\"\",\"Číslo smlouvy:  \"&INDEX(Vložit!B:B,A60+1)&CHAR(10)&\"Jméno a příjmení:  \"&INDEX(Vložit!B:B,A60+2)&CHAR(10)&\"Ulice:  \"&INDEX(Vložit!B:B,A60+3)&CHAR(10)&\"Č. pop. / č. orient.:  \"&INDEX(Vložit!B:B,A60+4)&CHAR(10)&\"Obec:  \"&INDEX(Vložit!B:B,A60+5))","v":""},{"$f":"IF(A60=\"\",\"\",INDEX(Vložit!A:A,A60)&CHAR(10)&\"Telefon: \"&INDEX(Vložit!B:B,A60+6)&\" / \"&INDEX(Vložit!B:B,A60+7)&CHAR(10)&\"Typ objednávky: \"&INDEX(Vložit!D:D,A60+1)&CHAR(10)&INDEX(Vložit!C:C,A60)&CHAR(10)&INDEX(Vložit!D:D,A60))","v":""},{"$f":"IF(A60=\"\",\"\",IF(INDEX(Vložit!B:B,A60+8)=\"\",\"\",\"Instrukce: \"&INDEX(Vložit!B:B,A60+8)))","v":""},{"$f":"IF(A60=\"\",\"\",IF(INDEX(Vložit!B:B,A60+1)=\"\",\"\",INDEX(Vložit!B:B,A60+1)))","v":""},{"$f":"IF(A60=\"\",\"\",MID(INDEX(Vložit!A:A,A60),19,10))","v":""},{"$f":"IF(A60=\"\",\"\",IF(INDEX(Vložit!B:B,A60+5)=\"\",\"\",VLOOKUP(INDEX(Vložit!B:B,A60+5),Pomocná!B59:C10058,2,FALSE)))","v":""},{"$f":"IF(A60=\"\",\"\",INDEX(Vložit!B:B,A60+2))","v":""},{"$f":"IF(A60=\"\",\"\",IF(INDEX(Vložit!B:B,A60+3)=\"\",\"\",INDEX(Vložit!B:B,A60+3)))","v":""},{"$f":"IF(A60=\"\",\"\",INDEX(Vložit!B:B,A60+4))","v":""}]
[{"$f":"IF(A60=\"\",\"\",IF(INDEX(Vložit!A:A,(ROW(A60)-1)*17+2)<>\"\",(ROW(A60)-1)*17+2,\"\"))","v":""},{"$f":"IF(A61=\"\",\"\",\"Číslo smlouvy:  \"&INDEX(Vložit!B:B,A61+1)&CHAR(10)&\"Jméno a příjmení:  \"&INDEX(Vložit!B:B,A61+2)&CHAR(10)&\"Ulice:  \"&INDEX(Vložit!B:B,A61+3)&CHAR(10)&\"Č. pop. / č. orient.:  \"&INDEX(Vložit!B:B,A61+4)&CHAR(10)&\"Obec:  \"&INDEX(Vložit!B:B,A61+5))","v":""},{"$f":"IF(A61=\"\",\"\",INDEX(Vložit!A:A,A61)&CHAR(10)&\"Telefon: \"&INDEX(Vložit!B:B,A61+6)&\" / \"&INDEX(Vložit!B:B,A61+7)&CHAR(10)&\"Typ objednávky: \"&INDEX(Vložit!D:D,A61+1)&CHAR(10)&INDEX(Vložit!C:C,A61)&CHAR(10)&INDEX(Vložit!D:D,A61))","v":""},{"$f":"IF(A61=\"\",\"\",IF(INDEX(Vložit!B:B,A61+8)=\"\",\"\",\"Instrukce: \"&INDEX(Vložit!B:B,A61+8)))","v":""},{"$f":"IF(A61=\"\",\"\",IF(INDEX(Vložit!B:B,A61+1)=\"\",\"\",INDEX(Vložit!B:B,A61+1)))","v":""},{"$f":"IF(A61=\"\",\"\",MID(INDEX(Vložit!A:A,A61),19,10))","v":""},{"$f":"IF(A61=\"\",\"\",IF(INDEX(Vložit!B:B,A61+5)=\"\",\"\",VLOOKUP(INDEX(Vložit!B:B,A61+5),Pomocná!B60:C10059,2,FALSE)))","v":""},{"$f":"IF(A61=\"\",\"\",INDEX(Vložit!B:B,A61+2))","v":""},{"$f":"IF(A61=\"\",\"\",IF(INDEX(Vložit!B:B,A61+3)=\"\",\"\",INDEX(Vložit!B:B,A61+3)))","v":""},{"$f":"IF(A61=\"\",\"\",INDEX(Vložit!B:B,A61+4))","v":""}]
[{"$f":"IF(A61=\"\",\"\",IF(INDEX(Vložit!A:A,(ROW(A61)-1)*17+2)<>\"\",(ROW(A61)-1)*17+2,\"\"))","v":""},{"$f":"IF(A62=\"\",\"\",\"Číslo smlouvy:  \"&INDEX(Vložit!B:B,A62+1)&CHAR(10)&\"Jméno a příjmení:  \"&INDEX(Vložit!B:B,A62+2)&CHAR(10)&\"Ulice:  \"&INDEX(Vložit!B:B,A62+3)&CHAR(10)&\"Č. pop. / č. orient.:  \"&INDEX(Vložit!B:B,A62+4)&CHAR(10)&\"Obec:  \"&INDEX(Vložit!B:B,A62+5))","v":""},{"$f":"IF(A62=\"\",\"\",INDEX(Vložit!A:A,A62)&CHAR(10)&\"Telefon: \"&INDEX(Vložit!B:B,A62+6)&\" / \"&INDEX(Vložit!B:B,A62+7)&CHAR(10)&\"Typ objednávky: \"&INDEX(Vložit!D:D,A62+1)&CHAR(10)&INDEX(Vložit!C:C,A62)&CHAR(10)&INDEX(Vložit!D:D,A62))","v":""},{"$f":"IF(A62=\"\",\"\",IF(INDEX(Vložit!B:B,A62+8)=\"\",\"\",\"Instrukce: \"&INDEX(Vložit!B:B,A62+8)))","v":""},{"$f":"IF(A62=\"\",\"\",IF(INDEX(Vložit!B:B,A62+1)=\"\",\"\",INDEX(Vložit!B:B,A62+1)))","v":""},{"$f":"IF(A62=\"\",\"\",MID(INDEX(Vložit!A:A,A62),19,10))","v":""},{"$f":"IF(A62=\"\",\"\",IF(INDEX(Vložit!B:B,A62+5)=\"\",\"\",VLOOKUP(INDEX(Vložit!B:B,A62+5),Pomocná!B61:C10060,2,FALSE)))","v":""},{"$f":"IF(A62=\"\",\"\",INDEX(Vložit!B:B,A62+2))","v":""},{"$f":"IF(A62=\"\",\"\",IF(INDEX(Vložit!B:B,A62+3)=\"\",\"\",INDEX(Vložit!B:B,A62+3)))","v":""},{"$f":"IF(A62=\"\",\"\",INDEX(Vložit!B:B,A62+4))","v":""}]
[{"$f":"IF(A62=\"\",\"\",IF(INDEX(Vložit!A:A,(ROW(A62)-1)*17+2)<>\"\",(ROW(A62)-1)*17+2,\"\"))","v":""},{"$f":"IF(A63=\"\",\"\",\"Číslo smlouvy:  \"&INDEX(Vložit!B:B,A63+1)&CHAR(10)&\"Jméno a příjmení:  \"&INDEX(Vložit!B:B,A63+2)&CHAR(10)&\"Ulice:  \"&INDEX(Vložit!B:B,A63+3)&CHAR(10)&\"Č. pop. / č. orient.:  \"&INDEX(Vložit!B:B,A63+4)&CHAR(10)&\"Obec:  \"&INDEX(Vložit!B:B,A63+5))","v":""},{"$f":"IF(A63=\"\",\"\",INDEX(Vložit!A:A,A63)&CHAR(10)&\"Telefon: \"&INDEX(Vložit!B:B,A63+6)&\" / \"&INDEX(Vložit!B:B,A63+7)&CHAR(10)&\"Typ objednávky: \"&INDEX(Vložit!D:D,A63+1)&CHAR(10)&INDEX(Vložit!C:C,A63)&CHAR(10)&INDEX(Vložit!D:D,A63))","v":""},{"$f":"IF(A63=\"\",\"\",IF(INDEX(Vložit!B:B,A63+8)=\"\",\"\",\"Instrukce: \"&INDEX(Vložit!B:B,A63+8)))","v":""},{"$f":"IF(A63=\"\",\"\",IF(INDEX(Vložit!B:B,A63+1)=\"\",\"\",INDEX(Vložit!B:B,A63+1)))","v":""},{"$f":"IF(A63=\"\",\"\",MID(INDEX(Vložit!A:A,A63),19,10))","v":""},{"$f":"IF(A63=\"\",\"\",IF(INDEX(Vložit!B:B,A63+5)=\"\",\"\",VLOOKUP(INDEX(Vložit!B:B,A63+5),Pomocná!B62:C10061,2,FALSE)))","v":""},{"$f":"IF(A63=\"\",\"\",INDEX(Vložit!B:B,A63+2))","v":""},{"$f":"IF(A63=\"\",\"\",IF(INDEX(Vložit!B:B,A63+3)=\"\",\"\",INDEX(Vložit!B:B,A63+3)))","v":""},{"$f":"IF(A63=\"\",\"\",INDEX(Vložit!B:B,A63+4))","v":""}]
[{"$f":"IF(A63=\"\",\"\",IF(INDEX(Vložit!A:A,(ROW(A63)-1)*17+2)<>\"\",(ROW(A63)-1)*17+2,\"\"))","v":""},{"$f":"IF(A64=\"\",\"\",\"Číslo smlouvy:  \"&INDEX(Vložit!B:B,A64+1)&CHAR(10)&\"Jméno a příjmení:  \"&INDEX(Vložit!B:B,A64+2)&CHAR(10)&\"Ulice:  \"&INDEX(Vložit!B:B,A64+3)&CHAR(10)&\"Č. pop. / č. orient.:  \"&INDEX(Vložit!B:B,A64+4)&CHAR(10)&\"Obec:  \"&INDEX(Vložit!B:B,A64+5))","v":""},{"$f":"IF(A64=\"\",\"\",INDEX(Vložit!A:A,A64)&CHAR(10)&\"Telefon: \"&INDEX(Vložit!B:B,A64+6)&\" / \"&INDEX(Vložit!B:B,A64+7)&CHAR(10)&\"Typ objednávky: \"&INDEX(Vložit!D:D,A64+1)&CHAR(10)&INDEX(Vložit!C:C,A64)&CHAR(10)&INDEX(Vložit!D:D,A64))","v":""},{"$f":"IF(A64=\"\",\"\",IF(INDEX(Vložit!B:B,A64+8)=\"\",\"\",\"Instrukce: \"&INDEX(Vložit!B:B,A64+8)))","v":""},{"$f":"IF(A64=\"\",\"\",IF(INDEX(Vložit!B:B,A64+1)=\"\",\"\",INDEX(Vložit!B:B,A64+1)))","v":""},{"$f":"IF(A64=\"\",\"\",MID(INDEX(Vložit!A:A,A64),19,10))","v":""},{"$f":"IF(A64=\"\",\"\",IF(INDEX(Vložit!B:B,A64+5)=\"\",\"\",VLOOKUP(INDEX(Vložit!B:B,A64+5),Pomocná!B63:C10062,2,FALSE)))","v":""},{"$f":"IF(A64=\"\",\"\",INDEX(Vložit!B:B,A64+2))","v":""},{"$f":"IF(A64=\"\",\"\",IF(INDEX(Vložit!B:B,A64+3)=\"\",\"\",INDEX(Vložit!B:B,A64+3)))","v":""},{"$f":"IF(A64=\"\",\"\",INDEX(Vložit!B:B,A64+4))","v":""}]
[{"$f":"IF(A64=\"\",\"\",IF(INDEX(Vložit!A:A,(ROW(A64)-1)*17+2)<>\"\",(ROW(A64)-1)*17+2,\"\"))","v":""},{"$f":"IF(A65=\"\",\"\",\"Číslo smlouvy:  \"&INDEX(Vložit!B:B,A65+1)&CHAR(10)&\"Jméno a příjmení:  \"&INDEX(Vložit!B:B,A65+2)&CHAR(10)&\"Ulice:  \"&INDEX(Vložit!B:B,A65+3)&CHAR(10)&\"Č. pop. / č. orient.:  \"&INDEX(Vložit!B:B,A65+4)&CHAR(10)&\"Obec:  \"&INDEX(Vložit!B:B,A65+5))","v":""},{"$f":"IF(A65=\"\",\"\",INDEX(Vložit!A:A,A65)&CHAR(10)&\"Telefon: \"&INDEX(Vložit!B:B,A65+6)&\" / \"&INDEX(Vložit!B:B,A65+7)&CHAR(10)&\"Typ objednávky: \"&INDEX(Vložit!D:D,A65+1)&CHAR(10)&INDEX(Vložit!C:C,A65)&CHAR(10)&INDEX(Vložit!D:D,A65))","v":""},{"$f":"IF(A65=\"\",\"\",IF(INDEX(Vložit!B:B,A65+8)=\"\",\"\",\"Instrukce: \"&INDEX(Vložit!B:B,A65+8)))","v":""},{"$f":"IF(A65=\"\",\"\",IF(INDEX(Vložit!B:B,A65+1)=\"\",\"\",INDEX(Vložit!B:B,A65+1)))","v":""},{"$f":"IF(A65=\"\",\"\",MID(INDEX(Vložit!A:A,A65),19,10))","v":""},{"$f":"IF(A65=\"\",\"\",IF(INDEX(Vložit!B:B,A65+5)=\"\",\"\",VLOOKUP(INDEX(Vložit!B:B,A65+5),Pomocná!B64:C10063,2,FALSE)))","v":""},{"$f":"IF(A65=\"\",\"\",INDEX(Vložit!B:B,A65+2))","v":""},{"$f":"IF(A65=\"\",\"\",IF(INDEX(Vložit!B:B,A65+3)=\"\",\"\",INDEX(Vložit!B:B,A65+3)))","v":""},{"$f":"IF(A65=\"\",\"\",INDEX(Vložit!B:B,A65+4))","v":""}]
[{"$f":"IF(A65=\"\",\"\",IF(INDEX(Vložit!A:A,(ROW(A65)-1)*17+2)<>\"\",(ROW(A65)-1)*17+2,\"\"))","v":""},{"$f":"IF(A66=\"\",\"\",\"Číslo smlouvy:  \"&INDEX(Vložit!B:B,A66+1)&CHAR(10)&\"Jméno a příjmení:  \"&INDEX(Vložit!B:B,A66+2)&CHAR(10)&\"Ulice:  \"&INDEX(Vložit!B:B,A66+3)&CHAR(10)&\"Č. pop. / č. orient.:  \"&INDEX(Vložit!B:B,A66+4)&CHAR(10)&\"Obec:  \"&INDEX(Vložit!B:B,A66+5))","v":""},{"$f":"IF(A66=\"\",\"\",INDEX(Vložit!A:A,A66)&CHAR(10)&\"Telefon: \"&INDEX(Vložit!B:B,A66+6)&\" / \"&INDEX(Vložit!B:B,A66+7)&CHAR(10)&\"Typ objednávky: \"&INDEX(Vložit!D:D,A66+1)&CHAR(10)&INDEX(Vložit!C:C,A66)&CHAR(10)&INDEX(Vložit!D:D,A66))","v":""},{"$f":"IF(A66=\"\",\"\",IF(INDEX(Vložit!B:B,A66+8)=\"\",\"\",\"Instrukce: \"&INDEX(Vložit!B:B,A66+8)))","v":""},{"$f":"IF(A66=\"\",\"\",IF(INDEX(Vložit!B:B,A66+1)=\"\",\"\",INDEX(Vložit!B:B,A66+1)))","v":""},{"$f":"IF(A66=\"\",\"\",MID(INDEX(Vložit!A:A,A66),19,10))","v":""},{"$f":"IF(A66=\"\",\"\",IF(INDEX(Vložit!B:B,A66+5)=\"\",\"\",VLOOKUP(INDEX(Vložit!B:B,A66+5),Pomocná!B65:C10064,2,FALSE)))","v":""},{"$f":"IF(A66=\"\",\"\",INDEX(Vložit!B:B,A66+2))","v":""},{"$f":"IF(A66=\"\",\"\",IF(INDEX(Vložit!B:B,A66+3)=\"\",\"\",INDEX(Vložit!B:B,A66+3)))","v":""},{"$f":"IF(A66=\"\",\"\",INDEX(Vložit!B:B,A66+4))","v":""}]
[{"$f":"IF(A66=\"\",\"\",IF(INDEX(Vložit!A:A,(ROW(A66)-1)*17+2)<>\"\",(ROW(A66)-1)*17+2,\"\"))","v":""},{"$f":"IF(A67=\"\",\"\",\"Číslo smlouvy:  \"&INDEX(Vložit!B:B,A67+1)&CHAR(10)&\"Jméno a příjmení:  \"&INDEX(Vložit!B:B,A67+2)&CHAR(10)&\"Ulice:  \"&INDEX(Vložit!B:B,A67+3)&CHAR(10)&\"Č. pop. / č. orient.:  \"&INDEX(Vložit!B:B,A67+4)&CHAR(10)&\"Obec:  \"&INDEX(Vložit!B:B,A67+5))","v":""},{"$f":"IF(A67=\"\",\"\",INDEX(Vložit!A:A,A67)&CHAR(10)&\"Telefon: \"&INDEX(Vložit!B:B,A67+6)&\" / \"&INDEX(Vložit!B:B,A67+7)&CHAR(10)&\"Typ objednávky: \"&INDEX(Vložit!D:D,A67+1)&CHAR(10)&INDEX(Vložit!C:C,A67)&CHAR(10)&INDEX(Vložit!D:D,A67))","v":""},{"$f":"IF(A67=\"\",\"\",IF(INDEX(Vložit!B:B,A67+8)=\"\",\"\",\"Instrukce: \"&INDEX(Vložit!B:B,A67+8)))","v":""},{"$f":"IF(A67=\"\",\"\",IF(INDEX(Vložit!B:B,A67+1)=\"\",\"\",INDEX(Vložit!B:B,A67+1)))","v":""},{"$f":"IF(A67=\"\",\"\",MID(INDEX(Vložit!A:A,A67),19,10))","v":""},{"$f":"IF(A67=\"\",\"\",IF(INDEX(Vložit!B:B,A67+5)=\"\",\"\",VLOOKUP(INDEX(Vložit!B:B,A67+5),Pomocná!B66:C10065,2,FALSE)))","v":""},{"$f":"IF(A67=\"\",\"\",INDEX(Vložit!B:B,A67+2))","v":""},{"$f":"IF(A67=\"\",\"\",IF(INDEX(Vložit!B:B,A67+3)=\"\",\"\",INDEX(Vložit!B:B,A67+3)))","v":""},{"$f":"IF(A67=\"\",\"\",INDEX(Vložit!B:B,A67+4))","v":""}]
[{"$f":"IF(A67=\"\",\"\",IF(INDEX(Vložit!A:A,(ROW(A67)-1)*17+2)<>\"\",(ROW(A67)-1)*17+2,\"\"))","v":""},{"$f":"IF(A68=\"\",\"\",\"Číslo smlouvy:  \"&INDEX(Vložit!B:B,A68+1)&CHAR(10)&\"Jméno a příjmení:  \"&INDEX(Vložit!B:B,A68+2)&CHAR(10)&\"Ulice:  \"&INDEX(Vložit!B:B,A68+3)&CHAR(10)&\"Č. pop. / č. orient.:  \"&INDEX(Vložit!B:B,A68+4)&CHAR(10)&\"Obec:  \"&INDEX(Vložit!B:B,A68+5))","v":""},{"$f":"IF(A68=\"\",\"\",INDEX(Vložit!A:A,A68)&CHAR(10)&\"Telefon: \"&INDEX(Vložit!B:B,A68+6)&\" / \"&INDEX(Vložit!B:B,A68+7)&CHAR(10)&\"Typ objednávky: \"&INDEX(Vložit!D:D,A68+1)&CHAR(10)&INDEX(Vložit!C:C,A68)&CHAR(10)&INDEX(Vložit!D:D,A68))","v":""},{"$f":"IF(A68=\"\",\"\",IF(INDEX(Vložit!B:B,A68+8)=\"\",\"\",\"Instrukce: \"&INDEX(Vložit!B:B,A68+8)))","v":""},{"$f":"IF(A68=\"\",\"\",IF(INDEX(Vložit!B:B,A68+1)=\"\",\"\",INDEX(Vložit!B:B,A68+1)))","v":""},{"$f":"IF(A68=\"\",\"\",MID(INDEX(Vložit!A:A,A68),19,10))","v":""},{"$f":"IF(A68=\"\",\"\",IF(INDEX(Vložit!B:B,A68+5)=\"\",\"\",VLOOKUP(INDEX(Vložit!B:B,A68+5),Pomocná!B67:C10066,2,FALSE)))","v":""},{"$f":"IF(A68=\"\",\"\",INDEX(Vložit!B:B,A68+2))","v":""},{"$f":"IF(A68=\"\",\"\",IF(INDEX(Vložit!B:B,A68+3)=\"\",\"\",INDEX(Vložit!B:B,A68+3)))","v":""},{"$f":"IF(A68=\"\",\"\",INDEX(Vložit!B:B,A68+4))","v":""}]
[{"$f":"IF(A68=\"\",\"\",IF(INDEX(Vložit!A:A,(ROW(A68)-1)*17+2)<>\"\",(ROW(A68)-1)*17+2,\"\"))","v":""},{"$f":"IF(A69=\"\",\"\",\"Číslo smlouvy:  \"&INDEX(Vložit!B:B,A69+1)&CHAR(10)&\"Jméno a příjmení:  \"&INDEX(Vložit!B:B,A69+2)&CHAR(10)&\"Ulice:  \"&INDEX(Vložit!B:B,A69+3)&CHAR(10)&\"Č. pop. / č. orient.:  \"&INDEX(Vložit!B:B,A69+4)&CHAR(10)&\"Obec:  \"&INDEX(Vložit!B:B,A69+5))","v":""},{"$f":"IF(A69=\"\",\"\",INDEX(Vložit!A:A,A69)&CHAR(10)&\"Telefon: \"&INDEX(Vložit!B:B,A69+6)&\" / \"&INDEX(Vložit!B:B,A69+7)&CHAR(10)&\"Typ objednávky: \"&INDEX(Vložit!D:D,A69+1)&CHAR(10)&INDEX(Vložit!C:C,A69)&CHAR(10)&INDEX(Vložit!D:D,A69))","v":""},{"$f":"IF(A69=\"\",\"\",IF(INDEX(Vložit!B:B,A69+8)=\"\",\"\",\"Instrukce: \"&INDEX(Vložit!B:B,A69+8)))","v":""},{"$f":"IF(A69=\"\",\"\",IF(INDEX(Vložit!B:B,A69+1)=\"\",\"\",INDEX(Vložit!B:B,A69+1)))","v":""},{"$f":"IF(A69=\"\",\"\",MID(INDEX(Vložit!A:A,A69),19,10))","v":""},{"$f":"IF(A69=\"\",\"\",IF(INDEX(Vložit!B:B,A69+5)=\"\",\"\",VLOOKUP(INDEX(Vložit!B:B,A69+5),Pomocná!B68:C10067,2,FALSE)))","v":""},{"$f":"IF(A69=\"\",\"\",INDEX(Vložit!B:B,A69+2))","v":""},{"$f":"IF(A69=\"\",\"\",IF(INDEX(Vložit!B:B,A69+3)=\"\",\"\",INDEX(Vložit!B:B,A69+3)))","v":""},{"$f":"IF(A69=\"\",\"\",INDEX(Vložit!B:B,A69+4))","v":""}]
[{"$f":"IF(A69=\"\",\"\",IF(INDEX(Vložit!A:A,(ROW(A69)-1)*17+2)<>\"\",(ROW(A69)-1)*17+2,\"\"))","v":""},{"$f":"IF(A70=\"\",\"\",\"Číslo smlouvy:  \"&INDEX(Vložit!B:B,A70+1)&CHAR(10)&\"Jméno a příjmení:  \"&INDEX(Vložit!B:B,A70+2)&CHAR(10)&\"Ulice:  \"&INDEX(Vložit!B:B,A70+3)&CHAR(10)&\"Č. pop. / č. orient.:  \"&INDEX(Vložit!B:B,A70+4)&CHAR(10)&\"Obec:  \"&INDEX(Vložit!B:B,A70+5))","v":""},{"$f":"IF(A70=\"\",\"\",INDEX(Vložit!A:A,A70)&CHAR(10)&\"Telefon: \"&INDEX(Vložit!B:B,A70+6)&\" / \"&INDEX(Vložit!B:B,A70+7)&CHAR(10)&\"Typ objednávky: \"&INDEX(Vložit!D:D,A70+1)&CHAR(10)&INDEX(Vložit!C:C,A70)&CHAR(10)&INDEX(Vložit!D:D,A70))","v":""},{"$f":"IF(A70=\"\",\"\",IF(INDEX(Vložit!B:B,A70+8)=\"\",\"\",\"Instrukce: \"&INDEX(Vložit!B:B,A70+8)))","v":""},{"$f":"IF(A70=\"\",\"\",IF(INDEX(Vložit!B:B,A70+1)=\"\",\"\",INDEX(Vložit!B:B,A70+1)))","v":""},{"$f":"IF(A70=\"\",\"\",MID(INDEX(Vložit!A:A,A70),19,10))","v":""},{"$f":"IF(A70=\"\",\"\",IF(INDEX(Vložit!B:B,A70+5)=\"\",\"\",VLOOKUP(INDEX(Vložit!B:B,A70+5),Pomocná!B69:C10068,2,FALSE)))","v":""},{"$f":"IF(A70=\"\",\"\",INDEX(Vložit!B:B,A70+2))","v":""},{"$f":"IF(A70=\"\",\"\",IF(INDEX(Vložit!B:B,A70+3)=\"\",\"\",INDEX(Vložit!B:B,A70+3)))","v":""},{"$f":"IF(A70=\"\",\"\",INDEX(Vložit!B:B,A70+4))","v":""}]
[{"$f":"IF(A70=\"\",\"\",IF(INDEX(Vložit!A:A,(ROW(A70)-1)*17+2)<>\"\",(ROW(A70)-1)*17+2,\"\"))","v":""},{"$f":"IF(A71=\"\",\"\",\"Číslo smlouvy:  \"&INDEX(Vložit!B:B,A71+1)&CHAR(10)&\"Jméno a příjmení:  \"&INDEX(Vložit!B:B,A71+2)&CHAR(10)&\"Ulice:  \"&INDEX(Vložit!B:B,A71+3)&CHAR(10)&\"Č. pop. / č. orient.:  \"&INDEX(Vložit!B:B,A71+4)&CHAR(10)&\"Obec:  \"&INDEX(Vložit!B:B,A71+5))","v":""},{"$f":"IF(A71=\"\",\"\",INDEX(Vložit!A:A,A71)&CHAR(10)&\"Telefon: \"&INDEX(Vložit!B:B,A71+6)&\" / \"&INDEX(Vložit!B:B,A71+7)&CHAR(10)&\"Typ objednávky: \"&INDEX(Vložit!D:D,A71+1)&CHAR(10)&INDEX(Vložit!C:C,A71)&CHAR(10)&INDEX(Vložit!D:D,A71))","v":""},{"$f":"IF(A71=\"\",\"\",IF(INDEX(Vložit!B:B,A71+8)=\"\",\"\",\"Instrukce: \"&INDEX(Vložit!B:B,A71+8)))","v":""},{"$f":"IF(A71=\"\",\"\",IF(INDEX(Vložit!B:B,A71+1)=\"\",\"\",INDEX(Vložit!B:B,A71+1)))","v":""},{"$f":"IF(A71=\"\",\"\",MID(INDEX(Vložit!A:A,A71),19,10))","v":""},{"$f":"IF(A71=\"\",\"\",IF(INDEX(Vložit!B:B,A71+5)=\"\",\"\",VLOOKUP(INDEX(Vložit!B:B,A71+5),Pomocná!B70:C10069,2,FALSE)))","v":""},{"$f":"IF(A71=\"\",\"\",INDEX(Vložit!B:B,A71+2))","v":""},{"$f":"IF(A71=\"\",\"\",IF(INDEX(Vložit!B:B,A71+3)=\"\",\"\",INDEX(Vložit!B:B,A71+3)))","v":""},{"$f":"IF(A71=\"\",\"\",INDEX(Vložit!B:B,A71+4))","v":""}]
[{"$f":"IF(A71=\"\",\"\",IF(INDEX(Vložit!A:A,(ROW(A71)-1)*17+2)<>\"\",(ROW(A71)-1)*17+2,\"\"))","v":""},{"$f":"IF(A72=\"\",\"\",\"Číslo smlouvy:  \"&INDEX(Vložit!B:B,A72+1)&CHAR(10)&\"Jméno a příjmení:  \"&INDEX(Vložit!B:B,A72+2)&CHAR(10)&\"Ulice:  \"&INDEX(Vložit!B:B,A72+3)&CHAR(10)&\"Č. pop. / č. orient.:  \"&INDEX(Vložit!B:B,A72+4)&CHAR(10)&\"Obec:  \"&INDEX(Vložit!B:B,A72+5))","v":""},{"$f":"IF(A72=\"\",\"\",INDEX(Vložit!A:A,A72)&CHAR(10)&\"Telefon: \"&INDEX(Vložit!B:B,A72+6)&\" / \"&INDEX(Vložit!B:B,A72+7)&CHAR(10)&\"Typ objednávky: \"&INDEX(Vložit!D:D,A72+1)&CHAR(10)&INDEX(Vložit!C:C,A72)&CHAR(10)&INDEX(Vložit!D:D,A72))","v":""},{"$f":"IF(A72=\"\",\"\",IF(INDEX(Vložit!B:B,A72+8)=\"\",\"\",\"Instrukce: \"&INDEX(Vložit!B:B,A72+8)))","v":""},{"$f":"IF(A72=\"\",\"\",IF(INDEX(Vložit!B:B,A72+1)=\"\",\"\",INDEX(Vložit!B:B,A72+1)))","v":""},{"$f":"IF(A72=\"\",\"\",MID(INDEX(Vložit!A:A,A72),19,10))","v":""},{"$f":"IF(A72=\"\",\"\",IF(INDEX(Vložit!B:B,A72+5)=\"\",\"\",VLOOKUP(INDEX(Vložit!B:B,A72+5),Pomocná!B71:C10070,2,FALSE)))","v":""},{"$f":"IF(A72=\"\",\"\",INDEX(Vložit!B:B,A72+2))","v":""},{"$f":"IF(A72=\"\",\"\",IF(INDEX(Vložit!B:B,A72+3)=\"\",\"\",INDEX(Vložit!B:B,A72+3)))","v":""},{"$f":"IF(A72=\"\",\"\",INDEX(Vložit!B:B,A72+4))","v":""}]
[{"$f":"IF(A72=\"\",\"\",IF(INDEX(Vložit!A:A,(ROW(A72)-1)*17+2)<>\"\",(ROW(A72)-1)*17+2,\"\"))","v":""},{"$f":"IF(A73=\"\",\"\",\"Číslo smlouvy:  \"&INDEX(Vložit!B:B,A73+1)&CHAR(10)&\"Jméno a příjmení:  \"&INDEX(Vložit!B:B,A73+2)&CHAR(10)&\"Ulice:  \"&INDEX(Vložit!B:B,A73+3)&CHAR(10)&\"Č. pop. / č. orient.:  \"&INDEX(Vložit!B:B,A73+4)&CHAR(10)&\"Obec:  \"&INDEX(Vložit!B:B,A73+5))","v":""},{"$f":"IF(A73=\"\",\"\",INDEX(Vložit!A:A,A73)&CHAR(10)&\"Telefon: \"&INDEX(Vložit!B:B,A73+6)&\" / \"&INDEX(Vložit!B:B,A73+7)&CHAR(10)&\"Typ objednávky: \"&INDEX(Vložit!D:D,A73+1)&CHAR(10)&INDEX(Vložit!C:C,A73)&CHAR(10)&INDEX(Vložit!D:D,A73))","v":""},{"$f":"IF(A73=\"\",\"\",IF(INDEX(Vložit!B:B,A73+8)=\"\",\"\",\"Instrukce: \"&INDEX(Vložit!B:B,A73+8)))","v":""},{"$f":"IF(A73=\"\",\"\",IF(INDEX(Vložit!B:B,A73+1)=\"\",\"\",INDEX(Vložit!B:B,A73+1)))","v":""},{"$f":"IF(A73=\"\",\"\",MID(INDEX(Vložit!A:A,A73),19,10))","v":""},{"$f":"IF(A73=\"\",\"\",IF(INDEX(Vložit!B:B,A73+5)=\"\",\"\",VLOOKUP(INDEX(Vložit!B:B,A73+5),Pomocná!B72:C10071,2,FALSE)))","v":""},{"$f":"IF(A73=\"\",\"\",INDEX(Vložit!B:B,A73+2))","v":""},{"$f":"IF(A73=\"\",\"\",IF(INDEX(Vložit!B:B,A73+3)=\"\",\"\",INDEX(Vložit!B:B,A73+3)))","v":""},{"$f":"IF(A73=\"\",\"\",INDEX(Vložit!B:B,A73+4))","v":""}]
[{"$f":"IF(A73=\"\",\"\",IF(INDEX(Vložit!A:A,(ROW(A73)-1)*17+2)<>\"\",(ROW(A73)-1)*17+2,\"\"))","v":""},{"$f":"IF(A74=\"\",\"\",\"Číslo smlouvy:  \"&INDEX(Vložit!B:B,A74+1)&CHAR(10)&\"Jméno a příjmení:  \"&INDEX(Vložit!B:B,A74+2)&CHAR(10)&\"Ulice:  \"&INDEX(Vložit!B:B,A74+3)&CHAR(10)&\"Č. pop. / č. orient.:  \"&INDEX(Vložit!B:B,A74+4)&CHAR(10)&\"Obec:  \"&INDEX(Vložit!B:B,A74+5))","v":""},{"$f":"IF(A74=\"\",\"\",INDEX(Vložit!A:A,A74)&CHAR(10)&\"Telefon: \"&INDEX(Vložit!B:B,A74+6)&\" / \"&INDEX(Vložit!B:B,A74+7)&CHAR(10)&\"Typ objednávky: \"&INDEX(Vložit!D:D,A74+1)&CHAR(10)&INDEX(Vložit!C:C,A74)&CHAR(10)&INDEX(Vložit!D:D,A74))","v":""},{"$f":"IF(A74=\"\",\"\",IF(INDEX(Vložit!B:B,A74+8)=\"\",\"\",\"Instrukce: \"&INDEX(Vložit!B:B,A74+8)))","v":""},{"$f":"IF(A74=\"\",\"\",IF(INDEX(Vložit!B:B,A74+1)=\"\",\"\",INDEX(Vložit!B:B,A74+1)))","v":""},{"$f":"IF(A74=\"\",\"\",MID(INDEX(Vložit!A:A,A74),19,10))","v":""},{"$f":"IF(A74=\"\",\"\",IF(INDEX(Vložit!B:B,A74+5)=\"\",\"\",VLOOKUP(INDEX(Vložit!B:B,A74+5),Pomocná!B73:C10072,2,FALSE)))","v":""},{"$f":"IF(A74=\"\",\"\",INDEX(Vložit!B:B,A74+2))","v":""},{"$f":"IF(A74=\"\",\"\",IF(INDEX(Vložit!B:B,A74+3)=\"\",\"\",INDEX(Vložit!B:B,A74+3)))","v":""},{"$f":"IF(A74=\"\",\"\",INDEX(Vložit!B:B,A74+4))","v":""}]
[{"$f":"IF(A74=\"\",\"\",IF(INDEX(Vložit!A:A,(ROW(A74)-1)*17+2)<>\"\",(ROW(A74)-1)*17+2,\"\"))","v":""},{"$f":"IF(A75=\"\",\"\",\"Číslo smlouvy:  \"&INDEX(Vložit!B:B,A75+1)&CHAR(10)&\"Jméno a příjmení:  \"&INDEX(Vložit!B:B,A75+2)&CHAR(10)&\"Ulice:  \"&INDEX(Vložit!B:B,A75+3)&CHAR(10)&\"Č. pop. / č. orient.:  \"&INDEX(Vložit!B:B,A75+4)&CHAR(10)&\"Obec:  \"&INDEX(Vložit!B:B,A75+5))","v":""},{"$f":"IF(A75=\"\",\"\",INDEX(Vložit!A:A,A75)&CHAR(10)&\"Telefon: \"&INDEX(Vložit!B:B,A75+6)&\" / \"&INDEX(Vložit!B:B,A75+7)&CHAR(10)&\"Typ objednávky: \"&INDEX(Vložit!D:D,A75+1)&CHAR(10)&INDEX(Vložit!C:C,A75)&CHAR(10)&INDEX(Vložit!D:D,A75))","v":""},{"$f":"IF(A75=\"\",\"\",IF(INDEX(Vložit!B:B,A75+8)=\"\",\"\",\"Instrukce: \"&INDEX(Vložit!B:B,A75+8)))","v":""},{"$f":"IF(A75=\"\",\"\",IF(INDEX(Vložit!B:B,A75+1)=\"\",\"\",INDEX(Vložit!B:B,A75+1)))","v":""},{"$f":"IF(A75=\"\",\"\",MID(INDEX(Vložit!A:A,A75),19,10))","v":""},{"$f":"IF(A75=\"\",\"\",IF(INDEX(Vložit!B:B,A75+5)=\"\",\"\",VLOOKUP(INDEX(Vložit!B:B,A75+5),Pomocná!B74:C10073,2,FALSE)))","v":""},{"$f":"IF(A75=\"\",\"\",INDEX(Vložit!B:B,A75+2))","v":""},{"$f":"IF(A75=\"\",\"\",IF(INDEX(Vložit!B:B,A75+3)=\"\",\"\",INDEX(Vložit!B:B,A75+3)))","v":""},{"$f":"IF(A75=\"\",\"\",INDEX(Vložit!B:B,A75+4))","v":""}]
[{"$f":"IF(A75=\"\",\"\",IF(INDEX(Vložit!A:A,(ROW(A75)-1)*17+2)<>\"\",(ROW(A75)-1)*17+2,\"\"))","v":""},{"$f":"IF(A76=\"\",\"\",\"Číslo smlouvy:  \"&INDEX(Vložit!B:B,A76+1)&CHAR(10)&\"Jméno a příjmení:  \"&INDEX(Vložit!B:B,A76+2)&CHAR(10)&\"Ulice:  \"&INDEX(Vložit!B:B,A76+3)&CHAR(10)&\"Č. pop. / č. orient.:  \"&INDEX(Vložit!B:B,A76+4)&CHAR(10)&\"Obec:  \"&INDEX(Vložit!B:B,A76+5))","v":""},{"$f":"IF(A76=\"\",\"\",INDEX(Vložit!A:A,A76)&CHAR(10)&\"Telefon: \"&INDEX(Vložit!B:B,A76+6)&\" / \"&INDEX(Vložit!B:B,A76+7)&CHAR(10)&\"Typ objednávky: \"&INDEX(Vložit!D:D,A76+1)&CHAR(10)&INDEX(Vložit!C:C,A76)&CHAR(10)&INDEX(Vložit!D:D,A76))","v":""},{"$f":"IF(A76=\"\",\"\",IF(INDEX(Vložit!B:B,A76+8)=\"\",\"\",\"Instrukce: \"&INDEX(Vložit!B:B,A76+8)))","v":""},{"$f":"IF(A76=\"\",\"\",IF(INDEX(Vložit!B:B,A76+1)=\"\",\"\",INDEX(Vložit!B:B,A76+1)))","v":""},{"$f":"IF(A76=\"\",\"\",MID(INDEX(Vložit!A:A,A76),19,10))","v":""},{"$f":"IF(A76=\"\",\"\",IF(INDEX(Vložit!B:B,A76+5)=\"\",\"\",VLOOKUP(INDEX(Vložit!B:B,A76+5),Pomocná!B75:C10074,2,FALSE)))","v":""},{"$f":"IF(A76=\"\",\"\",INDEX(Vložit!B:B,A76+2))","v":""},{"$f":"IF(A76=\"\",\"\",IF(INDEX(Vložit!B:B,A76+3)=\"\",\"\",INDEX(Vložit!B:B,A76+3)))","v":""},{"$f":"IF(A76=\"\",\"\",INDEX(Vložit!B:B,A76+4))","v":""}]
[{"$f":"IF(A76=\"\",\"\",IF(INDEX(Vložit!A:A,(ROW(A76)-1)*17+2)<>\"\",(ROW(A76)-1)*17+2,\"\"))","v":""},{"$f":"IF(A77=\"\",\"\",\"Číslo smlouvy:  \"&INDEX(Vložit!B:B,A77+1)&CHAR(10)&\"Jméno a příjmení:  \"&INDEX(Vložit!B:B,A77+2)&CHAR(10)&\"Ulice:  \"&INDEX(Vložit!B:B,A77+3)&CHAR(10)&\"Č. pop. / č. orient.:  \"&INDEX(Vložit!B:B,A77+4)&CHAR(10)&\"Obec:  \"&INDEX(Vložit!B:B,A77+5))","v":""},{"$f":"IF(A77=\"\",\"\",INDEX(Vložit!A:A,A77)&CHAR(10)&\"Telefon: \"&INDEX(Vložit!B:B,A77+6)&\" / \"&INDEX(Vložit!B:B,A77+7)&CHAR(10)&\"Typ objednávky: \"&INDEX(Vložit!D:D,A77+1)&CHAR(10)&INDEX(Vložit!C:C,A77)&CHAR(10)&INDEX(Vložit!D:D,A77))","v":""},{"$f":"IF(A77=\"\",\"\",IF(INDEX(Vložit!B:B,A77+8)=\"\",\"\",\"Instrukce: \"&INDEX(Vložit!B:B,A77+8)))","v":""},{"$f":"IF(A77=\"\",\"\",IF(INDEX(Vložit!B:B,A77+1)=\"\",\"\",INDEX(Vložit!B:B,A77+1)))","v":""},{"$f":"IF(A77=\"\",\"\",MID(INDEX(Vložit!A:A,A77),19,10))","v":""},{"$f":"IF(A77=\"\",\"\",IF(INDEX(Vložit!B:B,A77+5)=\"\",\"\",VLOOKUP(INDEX(Vložit!B:B,A77+5),Pomocná!B76:C10075,2,FALSE)))","v":""},{"$f":"IF(A77=\"\",\"\",INDEX(Vložit!B:B,A77+2))","v":""},{"$f":"IF(A77=\"\",\"\",IF(INDEX(Vložit!B:B,A77+3)=\"\",\"\",INDEX(Vložit!B:B,A77+3)))","v":""},{"$f":"IF(A77=\"\",\"\",INDEX(Vložit!B:B,A77+4))","v":""}]
[{"$f":"IF(A77=\"\",\"\",IF(INDEX(Vložit!A:A,(ROW(A77)-1)*17+2)<>\"\",(ROW(A77)-1)*17+2,\"\"))","v":""},{"$f":"IF(A78=\"\",\"\",\"Číslo smlouvy:  \"&INDEX(Vložit!B:B,A78+1)&CHAR(10)&\"Jméno a příjmení:  \"&INDEX(Vložit!B:B,A78+2)&CHAR(10)&\"Ulice:  \"&INDEX(Vložit!B:B,A78+3)&CHAR(10)&\"Č. pop. / č. orient.:  \"&INDEX(Vložit!B:B,A78+4)&CHAR(10)&\"Obec:  \"&INDEX(Vložit!B:B,A78+5))","v":""},{"$f":"IF(A78=\"\",\"\",INDEX(Vložit!A:A,A78)&CHAR(10)&\"Telefon: \"&INDEX(Vložit!B:B,A78+6)&\" / \"&INDEX(Vložit!B:B,A78+7)&CHAR(10)&\"Typ objednávky: \"&INDEX(Vložit!D:D,A78+1)&CHAR(10)&INDEX(Vložit!C:C,A78)&CHAR(10)&INDEX(Vložit!D:D,A78))","v":""},{"$f":"IF(A78=\"\",\"\",IF(INDEX(Vložit!B:B,A78+8)=\"\",\"\",\"Instrukce: \"&INDEX(Vložit!B:B,A78+8)))","v":""},{"$f":"IF(A78=\"\",\"\",IF(INDEX(Vložit!B:B,A78+1)=\"\",\"\",INDEX(Vložit!B:B,A78+1)))","v":""},{"$f":"IF(A78=\"\",\"\",MID(INDEX(Vložit!A:A,A78),19,10))","v":""},{"$f":"IF(A78=\"\",\"\",IF(INDEX(Vložit!B:B,A78+5)=\"\",\"\",VLOOKUP(INDEX(Vložit!B:B,A78+5),Pomocná!B77:C10076,2,FALSE)))","v":""},{"$f":"IF(A78=\"\",\"\",INDEX(Vložit!B:B,A78+2))","v":""},{"$f":"IF(A78=\"\",\"\",IF(INDEX(Vložit!B:B,A78+3)=\"\",\"\",INDEX(Vložit!B:B,A78+3)))","v":""},{"$f":"IF(A78=\"\",\"\",INDEX(Vložit!B:B,A78+4))","v":""}]
[{"$f":"IF(A78=\"\",\"\",IF(INDEX(Vložit!A:A,(ROW(A78)-1)*17+2)<>\"\",(ROW(A78)-1)*17+2,\"\"))","v":""},{"$f":"IF(A79=\"\",\"\",\"Číslo smlouvy:  \"&INDEX(Vložit!B:B,A79+1)&CHAR(10)&\"Jméno a příjmení:  \"&INDEX(Vložit!B:B,A79+2)&CHAR(10)&\"Ulice:  \"&INDEX(Vložit!B:B,A79+3)&CHAR(10)&\"Č. pop. / č. orient.:  \"&INDEX(Vložit!B:B,A79+4)&CHAR(10)&\"Obec:  \"&INDEX(Vložit!B:B,A79+5))","v":""},{"$f":"IF(A79=\"\",\"\",INDEX(Vložit!A:A,A79)&CHAR(10)&\"Telefon: \"&INDEX(Vložit!B:B,A79+6)&\" / \"&INDEX(Vložit!B:B,A79+7)&CHAR(10)&\"Typ objednávky: \"&INDEX(Vložit!D:D,A79+1)&CHAR(10)&INDEX(Vložit!C:C,A79)&CHAR(10)&INDEX(Vložit!D:D,A79))","v":""},{"$f":"IF(A79=\"\",\"\",IF(INDEX(Vložit!B:B,A79+8)=\"\",\"\",\"Instrukce: \"&INDEX(Vložit!B:B,A79+8)))","v":""},{"$f":"IF(A79=\"\",\"\",IF(INDEX(Vložit!B:B,A79+1)=\"\",\"\",INDEX(Vložit!B:B,A79+1)))","v":""},{"$f":"IF(A79=\"\",\"\",MID(INDEX(Vložit!A:A,A79),19,10))","v":""},{"$f":"IF(A79=\"\",\"\",IF(INDEX(Vložit!B:B,A79+5)=\"\",\"\",VLOOKUP(INDEX(Vložit!B:B,A79+5),Pomocná!B78:C10077,2,FALSE)))","v":""},{"$f":"IF(A79=\"\",\"\",INDEX(Vložit!B:B,A79+2))","v":""},{"$f":"IF(A79=\"\",\"\",IF(INDEX(Vložit!B:B,A79+3)=\"\",\"\",INDEX(Vložit!B:B,A79+3)))","v":""},{"$f":"IF(A79=\"\",\"\",INDEX(Vložit!B:B,A79+4))","v":""}]
[{"$f":"IF(A79=\"\",\"\",IF(INDEX(Vložit!A:A,(ROW(A79)-1)*17+2)<>\"\",(ROW(A79)-1)*17+2,\"\"))","v":""},{"$f":"IF(A80=\"\",\"\",\"Číslo smlouvy:  \"&INDEX(Vložit!B:B,A80+1)&CHAR(10)&\"Jméno a příjmení:  \"&INDEX(Vložit!B:B,A80+2)&CHAR(10)&\"Ulice:  \"&INDEX(Vložit!B:B,A80+3)&CHAR(10)&\"Č. pop. / č. orient.:  \"&INDEX(Vložit!B:B,A80+4)&CHAR(10)&\"Obec:  \"&INDEX(Vložit!B:B,A80+5))","v":""},{"$f":"IF(A80=\"\",\"\",INDEX(Vložit!A:A,A80)&CHAR(10)&\"Telefon: \"&INDEX(Vložit!B:B,A80+6)&\" / \"&INDEX(Vložit!B:B,A80+7)&CHAR(10)&\"Typ objednávky: \"&INDEX(Vložit!D:D,A80+1)&CHAR(10)&INDEX(Vložit!C:C,A80)&CHAR(10)&INDEX(Vložit!D:D,A80))","v":""},{"$f":"IF(A80=\"\",\"\",IF(INDEX(Vložit!B:B,A80+8)=\"\",\"\",\"Instrukce: \"&INDEX(Vložit!B:B,A80+8)))","v":""},{"$f":"IF(A80=\"\",\"\",IF(INDEX(Vložit!B:B,A80+1)=\"\",\"\",INDEX(Vložit!B:B,A80+1)))","v":""},{"$f":"IF(A80=\"\",\"\",MID(INDEX(Vložit!A:A,A80),19,10))","v":""},{"$f":"IF(A80=\"\",\"\",IF(INDEX(Vložit!B:B,A80+5)=\"\",\"\",VLOOKUP(INDEX(Vložit!B:B,A80+5),Pomocná!B79:C10078,2,FALSE)))","v":""},{"$f":"IF(A80=\"\",\"\",INDEX(Vložit!B:B,A80+2))","v":""},{"$f":"IF(A80=\"\",\"\",IF(INDEX(Vložit!B:B,A80+3)=\"\",\"\",INDEX(Vložit!B:B,A80+3)))","v":""},{"$f":"IF(A80=\"\",\"\",INDEX(Vložit!B:B,A80+4))","v":""}]
[{"$f":"IF(A80=\"\",\"\",IF(INDEX(Vložit!A:A,(ROW(A80)-1)*17+2)<>\"\",(ROW(A80)-1)*17+2,\"\"))","v":""},{"$f":"IF(A81=\"\",\"\",\"Číslo smlouvy:  \"&INDEX(Vložit!B:B,A81+1)&CHAR(10)&\"Jméno a příjmení:  \"&INDEX(Vložit!B:B,A81+2)&CHAR(10)&\"Ulice:  \"&INDEX(Vložit!B:B,A81+3)&CHAR(10)&\"Č. pop. / č. orient.:  \"&INDEX(Vložit!B:B,A81+4)&CHAR(10)&\"Obec:  \"&INDEX(Vložit!B:B,A81+5))","v":""},{"$f":"IF(A81=\"\",\"\",INDEX(Vložit!A:A,A81)&CHAR(10)&\"Telefon: \"&INDEX(Vložit!B:B,A81+6)&\" / \"&INDEX(Vložit!B:B,A81+7)&CHAR(10)&\"Typ objednávky: \"&INDEX(Vložit!D:D,A81+1)&CHAR(10)&INDEX(Vložit!C:C,A81)&CHAR(10)&INDEX(Vložit!D:D,A81))","v":""},{"$f":"IF(A81=\"\",\"\",IF(INDEX(Vložit!B:B,A81+8)=\"\",\"\",\"Instrukce: \"&INDEX(Vložit!B:B,A81+8)))","v":""},{"$f":"IF(A81=\"\",\"\",IF(INDEX(Vložit!B:B,A81+1)=\"\",\"\",INDEX(Vložit!B:B,A81+1)))","v":""},{"$f":"IF(A81=\"\",\"\",MID(INDEX(Vložit!A:A,A81),19,10))","v":""},{"$f":"IF(A81=\"\",\"\",IF(INDEX(Vložit!B:B,A81+5)=\"\",\"\",VLOOKUP(INDEX(Vložit!B:B,A81+5),Pomocná!B80:C10079,2,FALSE)))","v":""},{"$f":"IF(A81=\"\",\"\",INDEX(Vložit!B:B,A81+2))","v":""},{"$f":"IF(A81=\"\",\"\",IF(INDEX(Vložit!B:B,A81+3)=\"\",\"\",INDEX(Vložit!B:B,A81+3)))","v":""},{"$f":"IF(A81=\"\",\"\",INDEX(Vložit!B:B,A81+4))","v":""}]
[{"$f":"IF(A81=\"\",\"\",IF(INDEX(Vložit!A:A,(ROW(A81)-1)*17+2)<>\"\",(ROW(A81)-1)*17+2,\"\"))","v":""},{"$f":"IF(A82=\"\",\"\",\"Číslo smlouvy:  \"&INDEX(Vložit!B:B,A82+1)&CHAR(10)&\"Jméno a příjmení:  \"&INDEX(Vložit!B:B,A82+2)&CHAR(10)&\"Ulice:  \"&INDEX(Vložit!B:B,A82+3)&CHAR(10)&\"Č. pop. / č. orient.:  \"&INDEX(Vložit!B:B,A82+4)&CHAR(10)&\"Obec:  \"&INDEX(Vložit!B:B,A82+5))","v":""},{"$f":"IF(A82=\"\",\"\",INDEX(Vložit!A:A,A82)&CHAR(10)&\"Telefon: \"&INDEX(Vložit!B:B,A82+6)&\" / \"&INDEX(Vložit!B:B,A82+7)&CHAR(10)&\"Typ objednávky: \"&INDEX(Vložit!D:D,A82+1)&CHAR(10)&INDEX(Vložit!C:C,A82)&CHAR(10)&INDEX(Vložit!D:D,A82))","v":""},{"$f":"IF(A82=\"\",\"\",IF(INDEX(Vložit!B:B,A82+8)=\"\",\"\",\"Instrukce: \"&INDEX(Vložit!B:B,A82+8)))","v":""},{"$f":"IF(A82=\"\",\"\",IF(INDEX(Vložit!B:B,A82+1)=\"\",\"\",INDEX(Vložit!B:B,A82+1)))","v":""},{"$f":"IF(A82=\"\",\"\",MID(INDEX(Vložit!A:A,A82),19,10))","v":""},{"$f":"IF(A82=\"\",\"\",IF(INDEX(Vložit!B:B,A82+5)=\"\",\"\",VLOOKUP(INDEX(Vložit!B:B,A82+5),Pomocná!B81:C10080,2,FALSE)))","v":""},{"$f":"IF(A82=\"\",\"\",INDEX(Vložit!B:B,A82+2))","v":""},{"$f":"IF(A82=\"\",\"\",IF(INDEX(Vložit!B:B,A82+3)=\"\",\"\",INDEX(Vložit!B:B,A82+3)))","v":""},{"$f":"IF(A82=\"\",\"\",INDEX(Vložit!B:B,A82+4))","v":""}]
[{"$f":"IF(A82=\"\",\"\",IF(INDEX(Vložit!A:A,(ROW(A82)-1)*17+2)<>\"\",(ROW(A82)-1)*17+2,\"\"))","v":""},{"$f":"IF(A83=\"\",\"\",\"Číslo smlouvy:  \"&INDEX(Vložit!B:B,A83+1)&CHAR(10)&\"Jméno a příjmení:  \"&INDEX(Vložit!B:B,A83+2)&CHAR(10)&\"Ulice:  \"&INDEX(Vložit!B:B,A83+3)&CHAR(10)&\"Č. pop. / č. orient.:  \"&INDEX(Vložit!B:B,A83+4)&CHAR(10)&\"Obec:  \"&INDEX(Vložit!B:B,A83+5))","v":""},{"$f":"IF(A83=\"\",\"\",INDEX(Vložit!A:A,A83)&CHAR(10)&\"Telefon: \"&INDEX(Vložit!B:B,A83+6)&\" / \"&INDEX(Vložit!B:B,A83+7)&CHAR(10)&\"Typ objednávky: \"&INDEX(Vložit!D:D,A83+1)&CHAR(10)&INDEX(Vložit!C:C,A83)&CHAR(10)&INDEX(Vložit!D:D,A83))","v":""},{"$f":"IF(A83=\"\",\"\",IF(INDEX(Vložit!B:B,A83+8)=\"\",\"\",\"Instrukce: \"&INDEX(Vložit!B:B,A83+8)))","v":""},{"$f":"IF(A83=\"\",\"\",IF(INDEX(Vložit!B:B,A83+1)=\"\",\"\",INDEX(Vložit!B:B,A83+1)))","v":""},{"$f":"IF(A83=\"\",\"\",MID(INDEX(Vložit!A:A,A83),19,10))","v":""},{"$f":"IF(A83=\"\",\"\",IF(INDEX(Vložit!B:B,A83+5)=\"\",\"\",VLOOKUP(INDEX(Vložit!B:B,A83+5),Pomocná!B82:C10081,2,FALSE)))","v":""},{"$f":"IF(A83=\"\",\"\",INDEX(Vložit!B:B,A83+2))","v":""},{"$f":"IF(A83=\"\",\"\",IF(INDEX(Vložit!B:B,A83+3)=\"\",\"\",INDEX(Vložit!B:B,A83+3)))","v":""},{"$f":"IF(A83=\"\",\"\",INDEX(Vložit!B:B,A83+4))","v":""}]
[{"$f":"IF(A83=\"\",\"\",IF(INDEX(Vložit!A:A,(ROW(A83)-1)*17+2)<>\"\",(ROW(A83)-1)*17+2,\"\"))","v":""},{"$f":"IF(A84=\"\",\"\",\"Číslo smlouvy:  \"&INDEX(Vložit!B:B,A84+1)&CHAR(10)&\"Jméno a příjmení:  \"&INDEX(Vložit!B:B,A84+2)&CHAR(10)&\"Ulice:  \"&INDEX(Vložit!B:B,A84+3)&CHAR(10)&\"Č. pop. / č. orient.:  \"&INDEX(Vložit!B:B,A84+4)&CHAR(10)&\"Obec:  \"&INDEX(Vložit!B:B,A84+5))","v":""},{"$f":"IF(A84=\"\",\"\",INDEX(Vložit!A:A,A84)&CHAR(10)&\"Telefon: \"&INDEX(Vložit!B:B,A84+6)&\" / \"&INDEX(Vložit!B:B,A84+7)&CHAR(10)&\"Typ objednávky: \"&INDEX(Vložit!D:D,A84+1)&CHAR(10)&INDEX(Vložit!C:C,A84)&CHAR(10)&INDEX(Vložit!D:D,A84))","v":""},{"$f":"IF(A84=\"\",\"\",IF(INDEX(Vložit!B:B,A84+8)=\"\",\"\",\"Instrukce: \"&INDEX(Vložit!B:B,A84+8)))","v":""},{"$f":"IF(A84=\"\",\"\",IF(INDEX(Vložit!B:B,A84+1)=\"\",\"\",INDEX(Vložit!B:B,A84+1)))","v":""},{"$f":"IF(A84=\"\",\"\",MID(INDEX(Vložit!A:A,A84),19,10))","v":""},{"$f":"IF(A84=\"\",\"\",IF(INDEX(Vložit!B:B,A84+5)=\"\",\"\",VLOOKUP(INDEX(Vložit!B:B,A84+5),Pomocná!B83:C10082,2,FALSE)))","v":""},{"$f":"IF(A84=\"\",\"\",INDEX(Vložit!B:B,A84+2))","v":""},{"$f":"IF(A84=\"\",\"\",IF(INDEX(Vložit!B:B,A84+3)=\"\",\"\",INDEX(Vložit!B:B,A84+3)))","v":""},{"$f":"IF(A84=\"\",\"\",INDEX(Vložit!B:B,A84+4))","v":""}]
[{"$f":"IF(A84=\"\",\"\",IF(INDEX(Vložit!A:A,(ROW(A84)-1)*17+2)<>\"\",(ROW(A84)-1)*17+2,\"\"))","v":""},{"$f":"IF(A85=\"\",\"\",\"Číslo smlouvy:  \"&INDEX(Vložit!B:B,A85+1)&CHAR(10)&\"Jméno a příjmení:  \"&INDEX(Vložit!B:B,A85+2)&CHAR(10)&\"Ulice:  \"&INDEX(Vložit!B:B,A85+3)&CHAR(10)&\"Č. pop. / č. orient.:  \"&INDEX(Vložit!B:B,A85+4)&CHAR(10)&\"Obec:  \"&INDEX(Vložit!B:B,A85+5))","v":""},{"$f":"IF(A85=\"\",\"\",INDEX(Vložit!A:A,A85)&CHAR(10)&\"Telefon: \"&INDEX(Vložit!B:B,A85+6)&\" / \"&INDEX(Vložit!B:B,A85+7)&CHAR(10)&\"Typ objednávky: \"&INDEX(Vložit!D:D,A85+1)&CHAR(10)&INDEX(Vložit!C:C,A85)&CHAR(10)&INDEX(Vložit!D:D,A85))","v":""},{"$f":"IF(A85=\"\",\"\",IF(INDEX(Vložit!B:B,A85+8)=\"\",\"\",\"Instrukce: \"&INDEX(Vložit!B:B,A85+8)))","v":""},{"$f":"IF(A85=\"\",\"\",IF(INDEX(Vložit!B:B,A85+1)=\"\",\"\",INDEX(Vložit!B:B,A85+1)))","v":""},{"$f":"IF(A85=\"\",\"\",MID(INDEX(Vložit!A:A,A85),19,10))","v":""},{"$f":"IF(A85=\"\",\"\",IF(INDEX(Vložit!B:B,A85+5)=\"\",\"\",VLOOKUP(INDEX(Vložit!B:B,A85+5),Pomocná!B84:C10083,2,FALSE)))","v":""},{"$f":"IF(A85=\"\",\"\",INDEX(Vložit!B:B,A85+2))","v":""},{"$f":"IF(A85=\"\",\"\",IF(INDEX(Vložit!B:B,A85+3)=\"\",\"\",INDEX(Vložit!B:B,A85+3)))","v":""},{"$f":"IF(A85=\"\",\"\",INDEX(Vložit!B:B,A85+4))","v":""}]
[{"$f":"IF(A85=\"\",\"\",IF(INDEX(Vložit!A:A,(ROW(A85)-1)*17+2)<>\"\",(ROW(A85)-1)*17+2,\"\"))","v":""},{"$f":"IF(A86=\"\",\"\",\"Číslo smlouvy:  \"&INDEX(Vložit!B:B,A86+1)&CHAR(10)&\"Jméno a příjmení:  \"&INDEX(Vložit!B:B,A86+2)&CHAR(10)&\"Ulice:  \"&INDEX(Vložit!B:B,A86+3)&CHAR(10)&\"Č. pop. / č. orient.:  \"&INDEX(Vložit!B:B,A86+4)&CHAR(10)&\"Obec:  \"&INDEX(Vložit!B:B,A86+5))","v":""},{"$f":"IF(A86=\"\",\"\",INDEX(Vložit!A:A,A86)&CHAR(10)&\"Telefon: \"&INDEX(Vložit!B:B,A86+6)&\" / \"&INDEX(Vložit!B:B,A86+7)&CHAR(10)&\"Typ objednávky: \"&INDEX(Vložit!D:D,A86+1)&CHAR(10)&INDEX(Vložit!C:C,A86)&CHAR(10)&INDEX(Vložit!D:D,A86))","v":""},{"$f":"IF(A86=\"\",\"\",IF(INDEX(Vložit!B:B,A86+8)=\"\",\"\",\"Instrukce: \"&INDEX(Vložit!B:B,A86+8)))","v":""},{"$f":"IF(A86=\"\",\"\",IF(INDEX(Vložit!B:B,A86+1)=\"\",\"\",INDEX(Vložit!B:B,A86+1)))","v":""},{"$f":"IF(A86=\"\",\"\",MID(INDEX(Vložit!A:A,A86),19,10))","v":""},{"$f":"IF(A86=\"\",\"\",IF(INDEX(Vložit!B:B,A86+5)=\"\",\"\",VLOOKUP(INDEX(Vložit!B:B,A86+5),Pomocná!B85:C10084,2,FALSE)))","v":""},{"$f":"IF(A86=\"\",\"\",INDEX(Vložit!B:B,A86+2))","v":""},{"$f":"IF(A86=\"\",\"\",IF(INDEX(Vložit!B:B,A86+3)=\"\",\"\",INDEX(Vložit!B:B,A86+3)))","v":""},{"$f":"IF(A86=\"\",\"\",INDEX(Vložit!B:B,A86+4))","v":""}]
[{"$f":"IF(A86=\"\",\"\",IF(INDEX(Vložit!A:A,(ROW(A86)-1)*17+2)<>\"\",(ROW(A86)-1)*17+2,\"\"))","v":""},{"$f":"IF(A87=\"\",\"\",\"Číslo smlouvy:  \"&INDEX(Vložit!B:B,A87+1)&CHAR(10)&\"Jméno a příjmení:  \"&INDEX(Vložit!B:B,A87+2)&CHAR(10)&\"Ulice:  \"&INDEX(Vložit!B:B,A87+3)&CHAR(10)&\"Č. pop. / č. orient.:  \"&INDEX(Vložit!B:B,A87+4)&CHAR(10)&\"Obec:  \"&INDEX(Vložit!B:B,A87+5))","v":""},{"$f":"IF(A87=\"\",\"\",INDEX(Vložit!A:A,A87)&CHAR(10)&\"Telefon: \"&INDEX(Vložit!B:B,A87+6)&\" / \"&INDEX(Vložit!B:B,A87+7)&CHAR(10)&\"Typ objednávky: \"&INDEX(Vložit!D:D,A87+1)&CHAR(10)&INDEX(Vložit!C:C,A87)&CHAR(10)&INDEX(Vložit!D:D,A87))","v":""},{"$f":"IF(A87=\"\",\"\",IF(INDEX(Vložit!B:B,A87+8)=\"\",\"\",\"Instrukce: \"&INDEX(Vložit!B:B,A87+8)))","v":""},{"$f":"IF(A87=\"\",\"\",IF(INDEX(Vložit!B:B,A87+1)=\"\",\"\",INDEX(Vložit!B:B,A87+1)))","v":""},{"$f":"IF(A87=\"\",\"\",MID(INDEX(Vložit!A:A,A87),19,10))","v":""},{"$f":"IF(A87=\"\",\"\",IF(INDEX(Vložit!B:B,A87+5)=\"\",\"\",VLOOKUP(INDEX(Vložit!B:B,A87+5),Pomocná!B86:C10085,2,FALSE)))","v":""},{"$f":"IF(A87=\"\",\"\",INDEX(Vložit!B:B,A87+2))","v":""},{"$f":"IF(A87=\"\",\"\",IF(INDEX(Vložit!B:B,A87+3)=\"\",\"\",INDEX(Vložit!B:B,A87+3)))","v":""},{"$f":"IF(A87=\"\",\"\",INDEX(Vložit!B:B,A87+4))","v":""}]
[{"$f":"IF(A87=\"\",\"\",IF(INDEX(Vložit!A:A,(ROW(A87)-1)*17+2)<>\"\",(ROW(A87)-1)*17+2,\"\"))","v":""},{"$f":"IF(A88=\"\",\"\",\"Číslo smlouvy:  \"&INDEX(Vložit!B:B,A88+1)&CHAR(10)&\"Jméno a příjmení:  \"&INDEX(Vložit!B:B,A88+2)&CHAR(10)&\"Ulice:  \"&INDEX(Vložit!B:B,A88+3)&CHAR(10)&\"Č. pop. / č. orient.:  \"&INDEX(Vložit!B:B,A88+4)&CHAR(10)&\"Obec:  \"&INDEX(Vložit!B:B,A88+5))","v":""},{"$f":"IF(A88=\"\",\"\",INDEX(Vložit!A:A,A88)&CHAR(10)&\"Telefon: \"&INDEX(Vložit!B:B,A88+6)&\" / \"&INDEX(Vložit!B:B,A88+7)&CHAR(10)&\"Typ objednávky: \"&INDEX(Vložit!D:D,A88+1)&CHAR(10)&INDEX(Vložit!C:C,A88)&CHAR(10)&INDEX(Vložit!D:D,A88))","v":""},{"$f":"IF(A88=\"\",\"\",IF(INDEX(Vložit!B:B,A88+8)=\"\",\"\",\"Instrukce: \"&INDEX(Vložit!B:B,A88+8)))","v":""},{"$f":"IF(A88=\"\",\"\",IF(INDEX(Vložit!B:B,A88+1)=\"\",\"\",INDEX(Vložit!B:B,A88+1)))","v":""},{"$f":"IF(A88=\"\",\"\",MID(INDEX(Vložit!A:A,A88),19,10))","v":""},{"$f":"IF(A88=\"\",\"\",IF(INDEX(Vložit!B:B,A88+5)=\"\",\"\",VLOOKUP(INDEX(Vložit!B:B,A88+5),Pomocná!B87:C10086,2,FALSE)))","v":""},{"$f":"IF(A88=\"\",\"\",INDEX(Vložit!B:B,A88+2))","v":""},{"$f":"IF(A88=\"\",\"\",IF(INDEX(Vložit!B:B,A88+3)=\"\",\"\",INDEX(Vložit!B:B,A88+3)))","v":""},{"$f":"IF(A88=\"\",\"\",INDEX(Vložit!B:B,A88+4))","v":""}]
[{"$f":"IF(A88=\"\",\"\",IF(INDEX(Vložit!A:A,(ROW(A88)-1)*17+2)<>\"\",(ROW(A88)-1)*17+2,\"\"))","v":""},{"$f":"IF(A89=\"\",\"\",\"Číslo smlouvy:  \"&INDEX(Vložit!B:B,A89+1)&CHAR(10)&\"Jméno a příjmení:  \"&INDEX(Vložit!B:B,A89+2)&CHAR(10)&\"Ulice:  \"&INDEX(Vložit!B:B,A89+3)&CHAR(10)&\"Č. pop. / č. orient.:  \"&INDEX(Vložit!B:B,A89+4)&CHAR(10)&\"Obec:  \"&INDEX(Vložit!B:B,A89+5))","v":""},{"$f":"IF(A89=\"\",\"\",INDEX(Vložit!A:A,A89)&CHAR(10)&\"Telefon: \"&INDEX(Vložit!B:B,A89+6)&\" / \"&INDEX(Vložit!B:B,A89+7)&CHAR(10)&\"Typ objednávky: \"&INDEX(Vložit!D:D,A89+1)&CHAR(10)&INDEX(Vložit!C:C,A89)&CHAR(10)&INDEX(Vložit!D:D,A89))","v":""},{"$f":"IF(A89=\"\",\"\",IF(INDEX(Vložit!B:B,A89+8)=\"\",\"\",\"Instrukce: \"&INDEX(Vložit!B:B,A89+8)))","v":""},{"$f":"IF(A89=\"\",\"\",IF(INDEX(Vložit!B:B,A89+1)=\"\",\"\",INDEX(Vložit!B:B,A89+1)))","v":""},{"$f":"IF(A89=\"\",\"\",MID(INDEX(Vložit!A:A,A89),19,10))","v":""},{"$f":"IF(A89=\"\",\"\",IF(INDEX(Vložit!B:B,A89+5)=\"\",\"\",VLOOKUP(INDEX(Vložit!B:B,A89+5),Pomocná!B88:C10087,2,FALSE)))","v":""},{"$f":"IF(A89=\"\",\"\",INDEX(Vložit!B:B,A89+2))","v":""},{"$f":"IF(A89=\"\",\"\",IF(INDEX(Vložit!B:B,A89+3)=\"\",\"\",INDEX(Vložit!B:B,A89+3)))","v":""},{"$f":"IF(A89=\"\",\"\",INDEX(Vložit!B:B,A89+4))","v":""}]
[{"$f":"IF(A89=\"\",\"\",IF(INDEX(Vložit!A:A,(ROW(A89)-1)*17+2)<>\"\",(ROW(A89)-1)*17+2,\"\"))","v":""},{"$f":"IF(A90=\"\",\"\",\"Číslo smlouvy:  \"&INDEX(Vložit!B:B,A90+1)&CHAR(10)&\"Jméno a příjmení:  \"&INDEX(Vložit!B:B,A90+2)&CHAR(10)&\"Ulice:  \"&INDEX(Vložit!B:B,A90+3)&CHAR(10)&\"Č. pop. / č. orient.:  \"&INDEX(Vložit!B:B,A90+4)&CHAR(10)&\"Obec:  \"&INDEX(Vložit!B:B,A90+5))","v":""},{"$f":"IF(A90=\"\",\"\",INDEX(Vložit!A:A,A90)&CHAR(10)&\"Telefon: \"&INDEX(Vložit!B:B,A90+6)&\" / \"&INDEX(Vložit!B:B,A90+7)&CHAR(10)&\"Typ objednávky: \"&INDEX(Vložit!D:D,A90+1)&CHAR(10)&INDEX(Vložit!C:C,A90)&CHAR(10)&INDEX(Vložit!D:D,A90))","v":""},{"$f":"IF(A90=\"\",\"\",IF(INDEX(Vložit!B:B,A90+8)=\"\",\"\",\"Instrukce: \"&INDEX(Vložit!B:B,A90+8)))","v":""},{"$f":"IF(A90=\"\",\"\",IF(INDEX(Vložit!B:B,A90+1)=\"\",\"\",INDEX(Vložit!B:B,A90+1)))","v":""},{"$f":"IF(A90=\"\",\"\",MID(INDEX(Vložit!A:A,A90),19,10))","v":""},{"$f":"IF(A90=\"\",\"\",IF(INDEX(Vložit!B:B,A90+5)=\"\",\"\",VLOOKUP(INDEX(Vložit!B:B,A90+5),Pomocná!B89:C10088,2,FALSE)))","v":""},{"$f":"IF(A90=\"\",\"\",INDEX(Vložit!B:B,A90+2))","v":""},{"$f":"IF(A90=\"\",\"\",IF(INDEX(Vložit!B:B,A90+3)=\"\",\"\",INDEX(Vložit!B:B,A90+3)))","v":""},{"$f":"IF(A90=\"\",\"\",INDEX(Vložit!B:B,A90+4))","v":""}]
[{"$f":"IF(A90=\"\",\"\",IF(INDEX(Vložit!A:A,(ROW(A90)-1)*17+2)<>\"\",(ROW(A90)-1)*17+2,\"\"))","v":""},{"$f":"IF(A91=\"\",\"\",\"Číslo smlouvy:  \"&INDEX(Vložit!B:B,A91+1)&CHAR(10)&\"Jméno a příjmení:  \"&INDEX(Vložit!B:B,A91+2)&CHAR(10)&\"Ulice:  \"&INDEX(Vložit!B:B,A91+3)&CHAR(10)&\"Č. pop. / č. orient.:  \"&INDEX(Vložit!B:B,A91+4)&CHAR(10)&\"Obec:  \"&INDEX(Vložit!B:B,A91+5))","v":""},{"$f":"IF(A91=\"\",\"\",INDEX(Vložit!A:A,A91)&CHAR(10)&\"Telefon: \"&INDEX(Vložit!B:B,A91+6)&\" / \"&INDEX(Vložit!B:B,A91+7)&CHAR(10)&\"Typ objednávky: \"&INDEX(Vložit!D:D,A91+1)&CHAR(10)&INDEX(Vložit!C:C,A91)&CHAR(10)&INDEX(Vložit!D:D,A91))","v":""},{"$f":"IF(A91=\"\",\"\",IF(INDEX(Vložit!B:B,A91+8)=\"\",\"\",\"Instrukce: \"&INDEX(Vložit!B:B,A91+8)))","v":""},{"$f":"IF(A91=\"\",\"\",IF(INDEX(Vložit!B:B,A91+1)=\"\",\"\",INDEX(Vložit!B:B,A91+1)))","v":""},{"$f":"IF(A91=\"\",\"\",MID(INDEX(Vložit!A:A,A91),19,10))","v":""},{"$f":"IF(A91=\"\",\"\",IF(INDEX(Vložit!B:B,A91+5)=\"\",\"\",VLOOKUP(INDEX(Vložit!B:B,A91+5),Pomocná!B90:C10089,2,FALSE)))","v":""},{"$f":"IF(A91=\"\",\"\",INDEX(Vložit!B:B,A91+2))","v":""},{"$f":"IF(A91=\"\",\"\",IF(INDEX(Vložit!B:B,A91+3)=\"\",\"\",INDEX(Vložit!B:B,A91+3)))","v":""},{"$f":"IF(A91=\"\",\"\",INDEX(Vložit!B:B,A91+4))","v":""}]
[{"$f":"IF(A91=\"\",\"\",IF(INDEX(Vložit!A:A,(ROW(A91)-1)*17+2)<>\"\",(ROW(A91)-1)*17+2,\"\"))","v":""},{"$f":"IF(A92=\"\",\"\",\"Číslo smlouvy:  \"&INDEX(Vložit!B:B,A92+1)&CHAR(10)&\"Jméno a příjmení:  \"&INDEX(Vložit!B:B,A92+2)&CHAR(10)&\"Ulice:  \"&INDEX(Vložit!B:B,A92+3)&CHAR(10)&\"Č. pop. / č. orient.:  \"&INDEX(Vložit!B:B,A92+4)&CHAR(10)&\"Obec:  \"&INDEX(Vložit!B:B,A92+5))","v":""},{"$f":"IF(A92=\"\",\"\",INDEX(Vložit!A:A,A92)&CHAR(10)&\"Telefon: \"&INDEX(Vložit!B:B,A92+6)&\" / \"&INDEX(Vložit!B:B,A92+7)&CHAR(10)&\"Typ objednávky: \"&INDEX(Vložit!D:D,A92+1)&CHAR(10)&INDEX(Vložit!C:C,A92)&CHAR(10)&INDEX(Vložit!D:D,A92))","v":""},{"$f":"IF(A92=\"\",\"\",IF(INDEX(Vložit!B:B,A92+8)=\"\",\"\",\"Instrukce: \"&INDEX(Vložit!B:B,A92+8)))","v":""},{"$f":"IF(A92=\"\",\"\",IF(INDEX(Vložit!B:B,A92+1)=\"\",\"\",INDEX(Vložit!B:B,A92+1)))","v":""},{"$f":"IF(A92=\"\",\"\",MID(INDEX(Vložit!A:A,A92),19,10))","v":""},{"$f":"IF(A92=\"\",\"\",IF(INDEX(Vložit!B:B,A92+5)=\"\",\"\",VLOOKUP(INDEX(Vložit!B:B,A92+5),Pomocná!B91:C10090,2,FALSE)))","v":""},{"$f":"IF(A92=\"\",\"\",INDEX(Vložit!B:B,A92+2))","v":""},{"$f":"IF(A92=\"\",\"\",IF(INDEX(Vložit!B:B,A92+3)=\"\",\"\",INDEX(Vložit!B:B,A92+3)))","v":""},{"$f":"IF(A92=\"\",\"\",INDEX(Vložit!B:B,A92+4))","v":""}]
[{"$f":"IF(A92=\"\",\"\",IF(INDEX(Vložit!A:A,(ROW(A92)-1)*17+2)<>\"\",(ROW(A92)-1)*17+2,\"\"))","v":""},{"$f":"IF(A93=\"\",\"\",\"Číslo smlouvy:  \"&INDEX(Vložit!B:B,A93+1)&CHAR(10)&\"Jméno a příjmení:  \"&INDEX(Vložit!B:B,A93+2)&CHAR(10)&\"Ulice:  \"&INDEX(Vložit!B:B,A93+3)&CHAR(10)&\"Č. pop. / č. orient.:  \"&INDEX(Vložit!B:B,A93+4)&CHAR(10)&\"Obec:  \"&INDEX(Vložit!B:B,A93+5))","v":""},{"$f":"IF(A93=\"\",\"\",INDEX(Vložit!A:A,A93)&CHAR(10)&\"Telefon: \"&INDEX(Vložit!B:B,A93+6)&\" / \"&INDEX(Vložit!B:B,A93+7)&CHAR(10)&\"Typ objednávky: \"&INDEX(Vložit!D:D,A93+1)&CHAR(10)&INDEX(Vložit!C:C,A93)&CHAR(10)&INDEX(Vložit!D:D,A93))","v":""},{"$f":"IF(A93=\"\",\"\",IF(INDEX(Vložit!B:B,A93+8)=\"\",\"\",\"Instrukce: \"&INDEX(Vložit!B:B,A93+8)))","v":""},{"$f":"IF(A93=\"\",\"\",IF(INDEX(Vložit!B:B,A93+1)=\"\",\"\",INDEX(Vložit!B:B,A93+1)))","v":""},{"$f":"IF(A93=\"\",\"\",MID(INDEX(Vložit!A:A,A93),19,10))","v":""},{"$f":"IF(A93=\"\",\"\",IF(INDEX(Vložit!B:B,A93+5)=\"\",\"\",VLOOKUP(INDEX(Vložit!B:B,A93+5),Pomocná!B92:C10091,2,FALSE)))","v":""},{"$f":"IF(A93=\"\",\"\",INDEX(Vložit!B:B,A93+2))","v":""},{"$f":"IF(A93=\"\",\"\",IF(INDEX(Vložit!B:B,A93+3)=\"\",\"\",INDEX(Vložit!B:B,A93+3)))","v":""},{"$f":"IF(A93=\"\",\"\",INDEX(Vložit!B:B,A93+4))","v":""}]
[{"$f":"IF(A93=\"\",\"\",IF(INDEX(Vložit!A:A,(ROW(A93)-1)*17+2)<>\"\",(ROW(A93)-1)*17+2,\"\"))","v":""},{"$f":"IF(A94=\"\",\"\",\"Číslo smlouvy:  \"&INDEX(Vložit!B:B,A94+1)&CHAR(10)&\"Jméno a příjmení:  \"&INDEX(Vložit!B:B,A94+2)&CHAR(10)&\"Ulice:  \"&INDEX(Vložit!B:B,A94+3)&CHAR(10)&\"Č. pop. / č. orient.:  \"&INDEX(Vložit!B:B,A94+4)&CHAR(10)&\"Obec:  \"&INDEX(Vložit!B:B,A94+5))","v":""},{"$f":"IF(A94=\"\",\"\",INDEX(Vložit!A:A,A94)&CHAR(10)&\"Telefon: \"&INDEX(Vložit!B:B,A94+6)&\" / \"&INDEX(Vložit!B:B,A94+7)&CHAR(10)&\"Typ objednávky: \"&INDEX(Vložit!D:D,A94+1)&CHAR(10)&INDEX(Vložit!C:C,A94)&CHAR(10)&INDEX(Vložit!D:D,A94))","v":""},{"$f":"IF(A94=\"\",\"\",IF(INDEX(Vložit!B:B,A94+8)=\"\",\"\",\"Instrukce: \"&INDEX(Vložit!B:B,A94+8)))","v":""},{"$f":"IF(A94=\"\",\"\",IF(INDEX(Vložit!B:B,A94+1)=\"\",\"\",INDEX(Vložit!B:B,A94+1)))","v":""},{"$f":"IF(A94=\"\",\"\",MID(INDEX(Vložit!A:A,A94),19,10))","v":""},{"$f":"IF(A94=\"\",\"\",IF(INDEX(Vložit!B:B,A94+5)=\"\",\"\",VLOOKUP(INDEX(Vložit!B:B,A94+5),Pomocná!B93:C10092,2,FALSE)))","v":""},{"$f":"IF(A94=\"\",\"\",INDEX(Vložit!B:B,A94+2))","v":""},{"$f":"IF(A94=\"\",\"\",IF(INDEX(Vložit!B:B,A94+3)=\"\",\"\",INDEX(Vložit!B:B,A94+3)))","v":""},{"$f":"IF(A94=\"\",\"\",INDEX(Vložit!B:B,A94+4))","v":""}]
[{"$f":"IF(A94=\"\",\"\",IF(INDEX(Vložit!A:A,(ROW(A94)-1)*17+2)<>\"\",(ROW(A94)-1)*17+2,\"\"))","v":""},{"$f":"IF(A95=\"\",\"\",\"Číslo smlouvy:  \"&INDEX(Vložit!B:B,A95+1)&CHAR(10)&\"Jméno a příjmení:  \"&INDEX(Vložit!B:B,A95+2)&CHAR(10)&\"Ulice:  \"&INDEX(Vložit!B:B,A95+3)&CHAR(10)&\"Č. pop. / č. orient.:  \"&INDEX(Vložit!B:B,A95+4)&CHAR(10)&\"Obec:  \"&INDEX(Vložit!B:B,A95+5))","v":""},{"$f":"IF(A95=\"\",\"\",INDEX(Vložit!A:A,A95)&CHAR(10)&\"Telefon: \"&INDEX(Vložit!B:B,A95+6)&\" / \"&INDEX(Vložit!B:B,A95+7)&CHAR(10)&\"Typ objednávky: \"&INDEX(Vložit!D:D,A95+1)&CHAR(10)&INDEX(Vložit!C:C,A95)&CHAR(10)&INDEX(Vložit!D:D,A95))","v":""},{"$f":"IF(A95=\"\",\"\",IF(INDEX(Vložit!B:B,A95+8)=\"\",\"\",\"Instrukce: \"&INDEX(Vložit!B:B,A95+8)))","v":""},{"$f":"IF(A95=\"\",\"\",IF(INDEX(Vložit!B:B,A95+1)=\"\",\"\",INDEX(Vložit!B:B,A95+1)))","v":""},{"$f":"IF(A95=\"\",\"\",MID(INDEX(Vložit!A:A,A95),19,10))","v":""},{"$f":"IF(A95=\"\",\"\",IF(INDEX(Vložit!B:B,A95+5)=\"\",\"\",VLOOKUP(INDEX(Vložit!B:B,A95+5),Pomocná!B94:C10093,2,FALSE)))","v":""},{"$f":"IF(A95=\"\",\"\",INDEX(Vložit!B:B,A95+2))","v":""},{"$f":"IF(A95=\"\",\"\",IF(INDEX(Vložit!B:B,A95+3)=\"\",\"\",INDEX(Vložit!B:B,A95+3)))","v":""},{"$f":"IF(A95=\"\",\"\",INDEX(Vložit!B:B,A95+4))","v":""}]
[{"$f":"IF(A95=\"\",\"\",IF(INDEX(Vložit!A:A,(ROW(A95)-1)*17+2)<>\"\",(ROW(A95)-1)*17+2,\"\"))","v":""},{"$f":"IF(A96=\"\",\"\",\"Číslo smlouvy:  \"&INDEX(Vložit!B:B,A96+1)&CHAR(10)&\"Jméno a příjmení:  \"&INDEX(Vložit!B:B,A96+2)&CHAR(10)&\"Ulice:  \"&INDEX(Vložit!B:B,A96+3)&CHAR(10)&\"Č. pop. / č. orient.:  \"&INDEX(Vložit!B:B,A96+4)&CHAR(10)&\"Obec:  \"&INDEX(Vložit!B:B,A96+5))","v":""},{"$f":"IF(A96=\"\",\"\",INDEX(Vložit!A:A,A96)&CHAR(10)&\"Telefon: \"&INDEX(Vložit!B:B,A96+6)&\" / \"&INDEX(Vložit!B:B,A96+7)&CHAR(10)&\"Typ objednávky: \"&INDEX(Vložit!D:D,A96+1)&CHAR(10)&INDEX(Vložit!C:C,A96)&CHAR(10)&INDEX(Vložit!D:D,A96))","v":""},{"$f":"IF(A96=\"\",\"\",IF(INDEX(Vložit!B:B,A96+8)=\"\",\"\",\"Instrukce: \"&INDEX(Vložit!B:B,A96+8)))","v":""},{"$f":"IF(A96=\"\",\"\",IF(INDEX(Vložit!B:B,A96+1)=\"\",\"\",INDEX(Vložit!B:B,A96+1)))","v":""},{"$f":"IF(A96=\"\",\"\",MID(INDEX(Vložit!A:A,A96),19,10))","v":""},{"$f":"IF(A96=\"\",\"\",IF(INDEX(Vložit!B:B,A96+5)=\"\",\"\",VLOOKUP(INDEX(Vložit!B:B,A96+5),Pomocná!B95:C10094,2,FALSE)))","v":""},{"$f":"IF(A96=\"\",\"\",INDEX(Vložit!B:B,A96+2))","v":""},{"$f":"IF(A96=\"\",\"\",IF(INDEX(Vložit!B:B,A96+3)=\"\",\"\",INDEX(Vložit!B:B,A96+3)))","v":""},{"$f":"IF(A96=\"\",\"\",INDEX(Vložit!B:B,A96+4))","v":""}]
[{"$f":"IF(A96=\"\",\"\",IF(INDEX(Vložit!A:A,(ROW(A96)-1)*17+2)<>\"\",(ROW(A96)-1)*17+2,\"\"))","v":""},{"$f":"IF(A97=\"\",\"\",\"Číslo smlouvy:  \"&INDEX(Vložit!B:B,A97+1)&CHAR(10)&\"Jméno a příjmení:  \"&INDEX(Vložit!B:B,A97+2)&CHAR(10)&\"Ulice:  \"&INDEX(Vložit!B:B,A97+3)&CHAR(10)&\"Č. pop. / č. orient.:  \"&INDEX(Vložit!B:B,A97+4)&CHAR(10)&\"Obec:  \"&INDEX(Vložit!B:B,A97+5))","v":""},{"$f":"IF(A97=\"\",\"\",INDEX(Vložit!A:A,A97)&CHAR(10)&\"Telefon: \"&INDEX(Vložit!B:B,A97+6)&\" / \"&INDEX(Vložit!B:B,A97+7)&CHAR(10)&\"Typ objednávky: \"&INDEX(Vložit!D:D,A97+1)&CHAR(10)&INDEX(Vložit!C:C,A97)&CHAR(10)&INDEX(Vložit!D:D,A97))","v":""},{"$f":"IF(A97=\"\",\"\",IF(INDEX(Vložit!B:B,A97+8)=\"\",\"\",\"Instrukce: \"&INDEX(Vložit!B:B,A97+8)))","v":""},{"$f":"IF(A97=\"\",\"\",IF(INDEX(Vložit!B:B,A97+1)=\"\",\"\",INDEX(Vložit!B:B,A97+1)))","v":""},{"$f":"IF(A97=\"\",\"\",MID(INDEX(Vložit!A:A,A97),19,10))","v":""},{"$f":"IF(A97=\"\",\"\",IF(INDEX(Vložit!B:B,A97+5)=\"\",\"\",VLOOKUP(INDEX(Vložit!B:B,A97+5),Pomocná!B96:C10095,2,FALSE)))","v":""},{"$f":"IF(A97=\"\",\"\",INDEX(Vložit!B:B,A97+2))","v":""},{"$f":"IF(A97=\"\",\"\",IF(INDEX(Vložit!B:B,A97+3)=\"\",\"\",INDEX(Vložit!B:B,A97+3)))","v":""},{"$f":"IF(A97=\"\",\"\",INDEX(Vložit!B:B,A97+4))","v":""}]
[{"$f":"IF(A97=\"\",\"\",IF(INDEX(Vložit!A:A,(ROW(A97)-1)*17+2)<>\"\",(ROW(A97)-1)*17+2,\"\"))","v":""},{"$f":"IF(A98=\"\",\"\",\"Číslo smlouvy:  \"&INDEX(Vložit!B:B,A98+1)&CHAR(10)&\"Jméno a příjmení:  \"&INDEX(Vložit!B:B,A98+2)&CHAR(10)&\"Ulice:  \"&INDEX(Vložit!B:B,A98+3)&CHAR(10)&\"Č. pop. / č. orient.:  \"&INDEX(Vložit!B:B,A98+4)&CHAR(10)&\"Obec:  \"&INDEX(Vložit!B:B,A98+5))","v":""},{"$f":"IF(A98=\"\",\"\",INDEX(Vložit!A:A,A98)&CHAR(10)&\"Telefon: \"&INDEX(Vložit!B:B,A98+6)&\" / \"&INDEX(Vložit!B:B,A98+7)&CHAR(10)&\"Typ objednávky: \"&INDEX(Vložit!D:D,A98+1)&CHAR(10)&INDEX(Vložit!C:C,A98)&CHAR(10)&INDEX(Vložit!D:D,A98))","v":""},{"$f":"IF(A98=\"\",\"\",IF(INDEX(Vložit!B:B,A98+8)=\"\",\"\",\"Instrukce: \"&INDEX(Vložit!B:B,A98+8)))","v":""},{"$f":"IF(A98=\"\",\"\",IF(INDEX(Vložit!B:B,A98+1)=\"\",\"\",INDEX(Vložit!B:B,A98+1)))","v":""},{"$f":"IF(A98=\"\",\"\",MID(INDEX(Vložit!A:A,A98),19,10))","v":""},{"$f":"IF(A98=\"\",\"\",IF(INDEX(Vložit!B:B,A98+5)=\"\",\"\",VLOOKUP(INDEX(Vložit!B:B,A98+5),Pomocná!B97:C10096,2,FALSE)))","v":""},{"$f":"IF(A98=\"\",\"\",INDEX(Vložit!B:B,A98+2))","v":""},{"$f":"IF(A98=\"\",\"\",IF(INDEX(Vložit!B:B,A98+3)=\"\",\"\",INDEX(Vložit!B:B,A98+3)))","v":""},{"$f":"IF(A98=\"\",\"\",INDEX(Vložit!B:B,A98+4))","v":""}]
[{"$f":"IF(A98=\"\",\"\",IF(INDEX(Vložit!A:A,(ROW(A98)-1)*17+2)<>\"\",(ROW(A98)-1)*17+2,\"\"))","v":""},{"$f":"IF(A99=\"\",\"\",\"Číslo smlouvy:  \"&INDEX(Vložit!B:B,A99+1)&CHAR(10)&\"Jméno a příjmení:  \"&INDEX(Vložit!B:B,A99+2)&CHAR(10)&\"Ulice:  \"&INDEX(Vložit!B:B,A99+3)&CHAR(10)&\"Č. pop. / č. orient.:  \"&INDEX(Vložit!B:B,A99+4)&CHAR(10)&\"Obec:  \"&INDEX(Vložit!B:B,A99+5))","v":""},{"$f":"IF(A99=\"\",\"\",INDEX(Vložit!A:A,A99)&CHAR(10)&\"Telefon: \"&INDEX(Vložit!B:B,A99+6)&\" / \"&INDEX(Vložit!B:B,A99+7)&CHAR(10)&\"Typ objednávky: \"&INDEX(Vložit!D:D,A99+1)&CHAR(10)&INDEX(Vložit!C:C,A99)&CHAR(10)&INDEX(Vložit!D:D,A99))","v":""},{"$f":"IF(A99=\"\",\"\",IF(INDEX(Vložit!B:B,A99+8)=\"\",\"\",\"Instrukce: \"&INDEX(Vložit!B:B,A99+8)))","v":""},{"$f":"IF(A99=\"\",\"\",IF(INDEX(Vložit!B:B,A99+1)=\"\",\"\",INDEX(Vložit!B:B,A99+1)))","v":""},{"$f":"IF(A99=\"\",\"\",MID(INDEX(Vložit!A:A,A99),19,10))","v":""},{"$f":"IF(A99=\"\",\"\",IF(INDEX(Vložit!B:B,A99+5)=\"\",\"\",VLOOKUP(INDEX(Vložit!B:B,A99+5),Pomocná!B98:C10097,2,FALSE)))","v":""},{"$f":"IF(A99=\"\",\"\",INDEX(Vložit!B:B,A99+2))","v":""},{"$f":"IF(A99=\"\",\"\",IF(INDEX(Vložit!B:B,A99+3)=\"\",\"\",INDEX(Vložit!B:B,A99+3)))","v":""},{"$f":"IF(A99=\"\",\"\",INDEX(Vložit!B:B,A99+4))","v":""}]
[{"$f":"IF(A99=\"\",\"\",IF(INDEX(Vložit!A:A,(ROW(A99)-1)*17+2)<>\"\",(ROW(A99)-1)*17+2,\"\"))","v":""},{"$f":"IF(A100=\"\",\"\",\"Číslo smlouvy:  \"&INDEX(Vložit!B:B,A100+1)&CHAR(10)&\"Jméno a příjmení:  \"&INDEX(Vložit!B:B,A100+2)&CHAR(10)&\"Ulice:  \"&INDEX(Vložit!B:B,A100+3)&CHAR(10)&\"Č. pop. / č. orient.:  \"&INDEX(Vložit!B:B,A100+4)&CHAR(10)&\"Obec:  \"&INDEX(Vložit!B:B,A100+5))","v":""},{"$f":"IF(A100=\"\",\"\",INDEX(Vložit!A:A,A100)&CHAR(10)&\"Telefon: \"&INDEX(Vložit!B:B,A100+6)&\" / \"&INDEX(Vložit!B:B,A100+7)&CHAR(10)&\"Typ objednávky: \"&INDEX(Vložit!D:D,A100+1)&CHAR(10)&INDEX(Vložit!C:C,A100)&CHAR(10)&INDEX(Vložit!D:D,A100))","v":""},{"$f":"IF(A100=\"\",\"\",IF(INDEX(Vložit!B:B,A100+8)=\"\",\"\",\"Instrukce: \"&INDEX(Vložit!B:B,A100+8)))","v":""},{"$f":"IF(A100=\"\",\"\",IF(INDEX(Vložit!B:B,A100+1)=\"\",\"\",INDEX(Vložit!B:B,A100+1)))","v":""},{"$f":"IF(A100=\"\",\"\",MID(INDEX(Vložit!A:A,A100),19,10))","v":""},{"$f":"IF(A100=\"\",\"\",IF(INDEX(Vložit!B:B,A100+5)=\"\",\"\",VLOOKUP(INDEX(Vložit!B:B,A100+5),Pomocná!B99:C10098,2,FALSE)))","v":""},{"$f":"IF(A100=\"\",\"\",INDEX(Vložit!B:B,A100+2))","v":""},{"$f":"IF(A100=\"\",\"\",IF(INDEX(Vložit!B:B,A100+3)=\"\",\"\",INDEX(Vložit!B:B,A100+3)))","v":""},{"$f":"IF(A100=\"\",\"\",INDEX(Vložit!B:B,A100+4))","v":""}]
[{"$f":"IF(A100=\"\",\"\",IF(INDEX(Vložit!A:A,(ROW(A100)-1)*17+2)<>\"\",(ROW(A100)-1)*17+2,\"\"))","v":""},{"$f":"IF(A101=\"\",\"\",\"Číslo smlouvy:  \"&INDEX(Vložit!B:B,A101+1)&CHAR(10)&\"Jméno a příjmení:  \"&INDEX(Vložit!B:B,A101+2)&CHAR(10)&\"Ulice:  \"&INDEX(Vložit!B:B,A101+3)&CHAR(10)&\"Č. pop. / č. orient.:  \"&INDEX(Vložit!B:B,A101+4)&CHAR(10)&\"Obec:  \"&INDEX(Vložit!B:B,A101+5))","v":""},{"$f":"IF(A101=\"\",\"\",INDEX(Vložit!A:A,A101)&CHAR(10)&\"Telefon: \"&INDEX(Vložit!B:B,A101+6)&\" / \"&INDEX(Vložit!B:B,A101+7)&CHAR(10)&\"Typ objednávky: \"&INDEX(Vložit!D:D,A101+1)&CHAR(10)&INDEX(Vložit!C:C,A101)&CHAR(10)&INDEX(Vložit!D:D,A101))","v":""},{"$f":"IF(A101=\"\",\"\",IF(INDEX(Vložit!B:B,A101+8)=\"\",\"\",\"Instrukce: \"&INDEX(Vložit!B:B,A101+8)))","v":""},{"$f":"IF(A101=\"\",\"\",IF(INDEX(Vložit!B:B,A101+1)=\"\",\"\",INDEX(Vložit!B:B,A101+1)))","v":""},{"$f":"IF(A101=\"\",\"\",MID(INDEX(Vložit!A:A,A101),19,10))","v":""},{"$f":"IF(A101=\"\",\"\",IF(INDEX(Vložit!B:B,A101+5)=\"\",\"\",VLOOKUP(INDEX(Vložit!B:B,A101+5),Pomocná!B100:C10099,2,FALSE)))","v":""},{"$f":"IF(A101=\"\",\"\",INDEX(Vložit!B:B,A101+2))","v":""},{"$f":"IF(A101=\"\",\"\",IF(INDEX(Vložit!B:B,A101+3)=\"\",\"\",INDEX(Vložit!B:B,A101+3)))","v":""},{"$f":"IF(A101=\"\",\"\",INDEX(Vložit!B:B,A101+4))","v":""}]
[{"$f":"IF(A101=\"\",\"\",IF(INDEX(Vložit!A:A,(ROW(A101)-1)*17+2)<>\"\",(ROW(A101)-1)*17+2,\"\"))","v":""},{"$f":"IF(A102=\"\",\"\",\"Číslo smlouvy:  \"&INDEX(Vložit!B:B,A102+1)&CHAR(10)&\"Jméno a příjmení:  \"&INDEX(Vložit!B:B,A102+2)&CHAR(10)&\"Ulice:  \"&INDEX(Vložit!B:B,A102+3)&CHAR(10)&\"Č. pop. / č. orient.:  \"&INDEX(Vložit!B:B,A102+4)&CHAR(10)&\"Obec:  \"&INDEX(Vložit!B:B,A102+5))","v":""},{"$f":"IF(A102=\"\",\"\",INDEX(Vložit!A:A,A102)&CHAR(10)&\"Telefon: \"&INDEX(Vložit!B:B,A102+6)&\" / \"&INDEX(Vložit!B:B,A102+7)&CHAR(10)&\"Typ objednávky: \"&INDEX(Vložit!D:D,A102+1)&CHAR(10)&INDEX(Vložit!C:C,A102)&CHAR(10)&INDEX(Vložit!D:D,A102))","v":""},{"$f":"IF(A102=\"\",\"\",IF(INDEX(Vložit!B:B,A102+8)=\"\",\"\",\"Instrukce: \"&INDEX(Vložit!B:B,A102+8)))","v":""},{"$f":"IF(A102=\"\",\"\",IF(INDEX(Vložit!B:B,A102+1)=\"\",\"\",INDEX(Vložit!B:B,A102+1)))","v":""},{"$f":"IF(A102=\"\",\"\",MID(INDEX(Vložit!A:A,A102),19,10))","v":""},{"$f":"IF(A102=\"\",\"\",IF(INDEX(Vložit!B:B,A102+5)=\"\",\"\",VLOOKUP(INDEX(Vložit!B:B,A102+5),Pomocná!B101:C10100,2,FALSE)))","v":""},{"$f":"IF(A102=\"\",\"\",INDEX(Vložit!B:B,A102+2))","v":""},{"$f":"IF(A102=\"\",\"\",IF(INDEX(Vložit!B:B,A102+3)=\"\",\"\",INDEX(Vložit!B:B,A102+3)))","v":""},{"$f":"IF(A102=\"\",\"\",INDEX(Vložit!B:B,A102+4))","v":""}]
[{"$f":"IF(A102=\"\",\"\",IF(INDEX(Vložit!A:A,(ROW(A102)-1)*17+2)<>\"\",(ROW(A102)-1)*17+2,\"\"))","v":""},{"$f":"IF(A103=\"\",\"\",\"Číslo smlouvy:  \"&INDEX(Vložit!B:B,A103+1)&CHAR(10)&\"Jméno a příjmení:  \"&INDEX(Vložit!B:B,A103+2)&CHAR(10)&\"Ulice:  \"&INDEX(Vložit!B:B,A103+3)&CHAR(10)&\"Č. pop. / č. orient.:  \"&INDEX(Vložit!B:B,A103+4)&CHAR(10)&\"Obec:  \"&INDEX(Vložit!B:B,A103+5))","v":""},{"$f":"IF(A103=\"\",\"\",INDEX(Vložit!A:A,A103)&CHAR(10)&\"Telefon: \"&INDEX(Vložit!B:B,A103+6)&\" / \"&INDEX(Vložit!B:B,A103+7)&CHAR(10)&\"Typ objednávky: \"&INDEX(Vložit!D:D,A103+1)&CHAR(10)&INDEX(Vložit!C:C,A103)&CHAR(10)&INDEX(Vložit!D:D,A103))","v":""},{"$f":"IF(A103=\"\",\"\",IF(INDEX(Vložit!B:B,A103+8)=\"\",\"\",\"Instrukce: \"&INDEX(Vložit!B:B,A103+8)))","v":""},{"$f":"IF(A103=\"\",\"\",IF(INDEX(Vložit!B:B,A103+1)=\"\",\"\",INDEX(Vložit!B:B,A103+1)))","v":""},{"$f":"IF(A103=\"\",\"\",MID(INDEX(Vložit!A:A,A103),19,10))","v":""},{"$f":"IF(A103=\"\",\"\",IF(INDEX(Vložit!B:B,A103+5)=\"\",\"\",VLOOKUP(INDEX(Vložit!B:B,A103+5),Pomocná!B102:C10101,2,FALSE)))","v":""},{"$f":"IF(A103=\"\",\"\",INDEX(Vložit!B:B,A103+2))","v":""},{"$f":"IF(A103=\"\",\"\",IF(INDEX(Vložit!B:B,A103+3)=\"\",\"\",INDEX(Vložit!B:B,A103+3)))","v":""},{"$f":"IF(A103=\"\",\"\",INDEX(Vložit!B:B,A103+4))","v":""}]
[{"$f":"IF(A103=\"\",\"\",IF(INDEX(Vložit!A:A,(ROW(A103)-1)*17+2)<>\"\",(ROW(A103)-1)*17+2,\"\"))","v":""},{"$f":"IF(A104=\"\",\"\",\"Číslo smlouvy:  \"&INDEX(Vložit!B:B,A104+1)&CHAR(10)&\"Jméno a příjmení:  \"&INDEX(Vložit!B:B,A104+2)&CHAR(10)&\"Ulice:  \"&INDEX(Vložit!B:B,A104+3)&CHAR(10)&\"Č. pop. / č. orient.:  \"&INDEX(Vložit!B:B,A104+4)&CHAR(10)&\"Obec:  \"&INDEX(Vložit!B:B,A104+5))","v":""},{"$f":"IF(A104=\"\",\"\",INDEX(Vložit!A:A,A104)&CHAR(10)&\"Telefon: \"&INDEX(Vložit!B:B,A104+6)&\" / \"&INDEX(Vložit!B:B,A104+7)&CHAR(10)&\"Typ objednávky: \"&INDEX(Vložit!D:D,A104+1)&CHAR(10)&INDEX(Vložit!C:C,A104)&CHAR(10)&INDEX(Vložit!D:D,A104))","v":""},{"$f":"IF(A104=\"\",\"\",IF(INDEX(Vložit!B:B,A104+8)=\"\",\"\",\"Instrukce: \"&INDEX(Vložit!B:B,A104+8)))","v":""},{"$f":"IF(A104=\"\",\"\",IF(INDEX(Vložit!B:B,A104+1)=\"\",\"\",INDEX(Vložit!B:B,A104+1)))","v":""},{"$f":"IF(A104=\"\",\"\",MID(INDEX(Vložit!A:A,A104),19,10))","v":""},{"$f":"IF(A104=\"\",\"\",IF(INDEX(Vložit!B:B,A104+5)=\"\",\"\",VLOOKUP(INDEX(Vložit!B:B,A104+5),Pomocná!B103:C10102,2,FALSE)))","v":""},{"$f":"IF(A104=\"\",\"\",INDEX(Vložit!B:B,A104+2))","v":""},{"$f":"IF(A104=\"\",\"\",IF(INDEX(Vložit!B:B,A104+3)=\"\",\"\",INDEX(Vložit!B:B,A104+3)))","v":""},{"$f":"IF(A104=\"\",\"\",INDEX(Vložit!B:B,A104+4))","v":""}]
[{"$f":"IF(A104=\"\",\"\",IF(INDEX(Vložit!A:A,(ROW(A104)-1)*17+2)<>\"\",(ROW(A104)-1)*17+2,\"\"))","v":""},{"$f":"IF(A105=\"\",\"\",\"Číslo smlouvy:  \"&INDEX(Vložit!B:B,A105+1)&CHAR(10)&\"Jméno a příjmení:  \"&INDEX(Vložit!B:B,A105+2)&CHAR(10)&\"Ulice:  \"&INDEX(Vložit!B:B,A105+3)&CHAR(10)&\"Č. pop. / č. orient.:  \"&INDEX(Vložit!B:B,A105+4)&CHAR(10)&\"Obec:  \"&INDEX(Vložit!B:B,A105+5))","v":""},{"$f":"IF(A105=\"\",\"\",INDEX(Vložit!A:A,A105)&CHAR(10)&\"Telefon: \"&INDEX(Vložit!B:B,A105+6)&\" / \"&INDEX(Vložit!B:B,A105+7)&CHAR(10)&\"Typ objednávky: \"&INDEX(Vložit!D:D,A105+1)&CHAR(10)&INDEX(Vložit!C:C,A105)&CHAR(10)&INDEX(Vložit!D:D,A105))","v":""},{"$f":"IF(A105=\"\",\"\",IF(INDEX(Vložit!B:B,A105+8)=\"\",\"\",\"Instrukce: \"&INDEX(Vložit!B:B,A105+8)))","v":""},{"$f":"IF(A105=\"\",\"\",IF(INDEX(Vložit!B:B,A105+1)=\"\",\"\",INDEX(Vložit!B:B,A105+1)))","v":""},{"$f":"IF(A105=\"\",\"\",MID(INDEX(Vložit!A:A,A105),19,10))","v":""},{"$f":"IF(A105=\"\",\"\",IF(INDEX(Vložit!B:B,A105+5)=\"\",\"\",VLOOKUP(INDEX(Vložit!B:B,A105+5),Pomocná!B104:C10103,2,FALSE)))","v":""},{"$f":"IF(A105=\"\",\"\",INDEX(Vložit!B:B,A105+2))","v":""},{"$f":"IF(A105=\"\",\"\",IF(INDEX(Vložit!B:B,A105+3)=\"\",\"\",INDEX(Vložit!B:B,A105+3)))","v":""},{"$f":"IF(A105=\"\",\"\",INDEX(Vložit!B:B,A105+4))","v":""}]
[{"$f":"IF(A105=\"\",\"\",IF(INDEX(Vložit!A:A,(ROW(A105)-1)*17+2)<>\"\",(ROW(A105)-1)*17+2,\"\"))","v":""},{"$f":"IF(A106=\"\",\"\",\"Číslo smlouvy:  \"&INDEX(Vložit!B:B,A106+1)&CHAR(10)&\"Jméno a příjmení:  \"&INDEX(Vložit!B:B,A106+2)&CHAR(10)&\"Ulice:  \"&INDEX(Vložit!B:B,A106+3)&CHAR(10)&\"Č. pop. / č. orient.:  \"&INDEX(Vložit!B:B,A106+4)&CHAR(10)&\"Obec:  \"&INDEX(Vložit!B:B,A106+5))","v":""},{"$f":"IF(A106=\"\",\"\",INDEX(Vložit!A:A,A106)&CHAR(10)&\"Telefon: \"&INDEX(Vložit!B:B,A106+6)&\" / \"&INDEX(Vložit!B:B,A106+7)&CHAR(10)&\"Typ objednávky: \"&INDEX(Vložit!D:D,A106+1)&CHAR(10)&INDEX(Vložit!C:C,A106)&CHAR(10)&INDEX(Vložit!D:D,A106))","v":""},{"$f":"IF(A106=\"\",\"\",IF(INDEX(Vložit!B:B,A106+8)=\"\",\"\",\"Instrukce: \"&INDEX(Vložit!B:B,A106+8)))","v":""},{"$f":"IF(A106=\"\",\"\",IF(INDEX(Vložit!B:B,A106+1)=\"\",\"\",INDEX(Vložit!B:B,A106+1)))","v":""},{"$f":"IF(A106=\"\",\"\",MID(INDEX(Vložit!A:A,A106),19,10))","v":""},{"$f":"IF(A106=\"\",\"\",IF(INDEX(Vložit!B:B,A106+5)=\"\",\"\",VLOOKUP(INDEX(Vložit!B:B,A106+5),Pomocná!B105:C10104,2,FALSE)))","v":""},{"$f":"IF(A106=\"\",\"\",INDEX(Vložit!B:B,A106+2))","v":""},{"$f":"IF(A106=\"\",\"\",IF(INDEX(Vložit!B:B,A106+3)=\"\",\"\",INDEX(Vložit!B:B,A106+3)))","v":""},{"$f":"IF(A106=\"\",\"\",INDEX(Vložit!B:B,A106+4))","v":""}]
[{"$f":"IF(A106=\"\",\"\",IF(INDEX(Vložit!A:A,(ROW(A106)-1)*17+2)<>\"\",(ROW(A106)-1)*17+2,\"\"))","v":""},{"$f":"IF(A107=\"\",\"\",\"Číslo smlouvy:  \"&INDEX(Vložit!B:B,A107+1)&CHAR(10)&\"Jméno a příjmení:  \"&INDEX(Vložit!B:B,A107+2)&CHAR(10)&\"Ulice:  \"&INDEX(Vložit!B:B,A107+3)&CHAR(10)&\"Č. pop. / č. orient.:  \"&INDEX(Vložit!B:B,A107+4)&CHAR(10)&\"Obec:  \"&INDEX(Vložit!B:B,A107+5))","v":""},{"$f":"IF(A107=\"\",\"\",INDEX(Vložit!A:A,A107)&CHAR(10)&\"Telefon: \"&INDEX(Vložit!B:B,A107+6)&\" / \"&INDEX(Vložit!B:B,A107+7)&CHAR(10)&\"Typ objednávky: \"&INDEX(Vložit!D:D,A107+1)&CHAR(10)&INDEX(Vložit!C:C,A107)&CHAR(10)&INDEX(Vložit!D:D,A107))","v":""},{"$f":"IF(A107=\"\",\"\",IF(INDEX(Vložit!B:B,A107+8)=\"\",\"\",\"Instrukce: \"&INDEX(Vložit!B:B,A107+8)))","v":""},{"$f":"IF(A107=\"\",\"\",IF(INDEX(Vložit!B:B,A107+1)=\"\",\"\",INDEX(Vložit!B:B,A107+1)))","v":""},{"$f":"IF(A107=\"\",\"\",MID(INDEX(Vložit!A:A,A107),19,10))","v":""},{"$f":"IF(A107=\"\",\"\",IF(INDEX(Vložit!B:B,A107+5)=\"\",\"\",VLOOKUP(INDEX(Vložit!B:B,A107+5),Pomocná!B106:C10105,2,FALSE)))","v":""},{"$f":"IF(A107=\"\",\"\",INDEX(Vložit!B:B,A107+2))","v":""},{"$f":"IF(A107=\"\",\"\",IF(INDEX(Vložit!B:B,A107+3)=\"\",\"\",INDEX(Vložit!B:B,A107+3)))","v":""},{"$f":"IF(A107=\"\",\"\",INDEX(Vložit!B:B,A107+4))","v":""}]
[{"$f":"IF(A107=\"\",\"\",IF(INDEX(Vložit!A:A,(ROW(A107)-1)*17+2)<>\"\",(ROW(A107)-1)*17+2,\"\"))","v":""},{"$f":"IF(A108=\"\",\"\",\"Číslo smlouvy:  \"&INDEX(Vložit!B:B,A108+1)&CHAR(10)&\"Jméno a příjmení:  \"&INDEX(Vložit!B:B,A108+2)&CHAR(10)&\"Ulice:  \"&INDEX(Vložit!B:B,A108+3)&CHAR(10)&\"Č. pop. / č. orient.:  \"&INDEX(Vložit!B:B,A108+4)&CHAR(10)&\"Obec:  \"&INDEX(Vložit!B:B,A108+5))","v":""},{"$f":"IF(A108=\"\",\"\",INDEX(Vložit!A:A,A108)&CHAR(10)&\"Telefon: \"&INDEX(Vložit!B:B,A108+6)&\" / \"&INDEX(Vložit!B:B,A108+7)&CHAR(10)&\"Typ objednávky: \"&INDEX(Vložit!D:D,A108+1)&CHAR(10)&INDEX(Vložit!C:C,A108)&CHAR(10)&INDEX(Vložit!D:D,A108))","v":""},{"$f":"IF(A108=\"\",\"\",IF(INDEX(Vložit!B:B,A108+8)=\"\",\"\",\"Instrukce: \"&INDEX(Vložit!B:B,A108+8)))","v":""},{"$f":"IF(A108=\"\",\"\",IF(INDEX(Vložit!B:B,A108+1)=\"\",\"\",INDEX(Vložit!B:B,A108+1)))","v":""},{"$f":"IF(A108=\"\",\"\",MID(INDEX(Vložit!A:A,A108),19,10))","v":""},{"$f":"IF(A108=\"\",\"\",IF(INDEX(Vložit!B:B,A108+5)=\"\",\"\",VLOOKUP(INDEX(Vložit!B:B,A108+5),Pomocná!B107:C10106,2,FALSE)))","v":""},{"$f":"IF(A108=\"\",\"\",INDEX(Vložit!B:B,A108+2))","v":""},{"$f":"IF(A108=\"\",\"\",IF(INDEX(Vložit!B:B,A108+3)=\"\",\"\",INDEX(Vložit!B:B,A108+3)))","v":""},{"$f":"IF(A108=\"\",\"\",INDEX(Vložit!B:B,A108+4))","v":""}]
[{"$f":"IF(A108=\"\",\"\",IF(INDEX(Vložit!A:A,(ROW(A108)-1)*17+2)<>\"\",(ROW(A108)-1)*17+2,\"\"))","v":""},{"$f":"IF(A109=\"\",\"\",\"Číslo smlouvy:  \"&INDEX(Vložit!B:B,A109+1)&CHAR(10)&\"Jméno a příjmení:  \"&INDEX(Vložit!B:B,A109+2)&CHAR(10)&\"Ulice:  \"&INDEX(Vložit!B:B,A109+3)&CHAR(10)&\"Č. pop. / č. orient.:  \"&INDEX(Vložit!B:B,A109+4)&CHAR(10)&\"Obec:  \"&INDEX(Vložit!B:B,A109+5))","v":""},{"$f":"IF(A109=\"\",\"\",INDEX(Vložit!A:A,A109)&CHAR(10)&\"Telefon: \"&INDEX(Vložit!B:B,A109+6)&\" / \"&INDEX(Vložit!B:B,A109+7)&CHAR(10)&\"Typ objednávky: \"&INDEX(Vložit!D:D,A109+1)&CHAR(10)&INDEX(Vložit!C:C,A109)&CHAR(10)&INDEX(Vložit!D:D,A109))","v":""},{"$f":"IF(A109=\"\",\"\",IF(INDEX(Vložit!B:B,A109+8)=\"\",\"\",\"Instrukce: \"&INDEX(Vložit!B:B,A109+8)))","v":""},{"$f":"IF(A109=\"\",\"\",IF(INDEX(Vložit!B:B,A109+1)=\"\",\"\",INDEX(Vložit!B:B,A109+1)))","v":""},{"$f":"IF(A109=\"\",\"\",MID(INDEX(Vložit!A:A,A109),19,10))","v":""},{"$f":"IF(A109=\"\",\"\",IF(INDEX(Vložit!B:B,A109+5)=\"\",\"\",VLOOKUP(INDEX(Vložit!B:B,A109+5),Pomocná!B108:C10107,2,FALSE)))","v":""},{"$f":"IF(A109=\"\",\"\",INDEX(Vložit!B:B,A109+2))","v":""},{"$f":"IF(A109=\"\",\"\",IF(INDEX(Vložit!B:B,A109+3)=\"\",\"\",INDEX(Vložit!B:B,A109+3)))","v":""},{"$f":"IF(A109=\"\",\"\",INDEX(Vložit!B:B,A109+4))","v":""}]
[{"$f":"IF(A109=\"\",\"\",IF(INDEX(Vložit!A:A,(ROW(A109)-1)*17+2)<>\"\",(ROW(A109)-1)*17+2,\"\"))","v":""},{"$f":"IF(A110=\"\",\"\",\"Číslo smlouvy:  \"&INDEX(Vložit!B:B,A110+1)&CHAR(10)&\"Jméno a příjmení:  \"&INDEX(Vložit!B:B,A110+2)&CHAR(10)&\"Ulice:  \"&INDEX(Vložit!B:B,A110+3)&CHAR(10)&\"Č. pop. / č. orient.:  \"&INDEX(Vložit!B:B,A110+4)&CHAR(10)&\"Obec:  \"&INDEX(Vložit!B:B,A110+5))","v":""},{"$f":"IF(A110=\"\",\"\",INDEX(Vložit!A:A,A110)&CHAR(10)&\"Telefon: \"&INDEX(Vložit!B:B,A110+6)&\" / \"&INDEX(Vložit!B:B,A110+7)&CHAR(10)&\"Typ objednávky: \"&INDEX(Vložit!D:D,A110+1)&CHAR(10)&INDEX(Vložit!C:C,A110)&CHAR(10)&INDEX(Vložit!D:D,A110))","v":""},{"$f":"IF(A110=\"\",\"\",IF(INDEX(Vložit!B:B,A110+8)=\"\",\"\",\"Instrukce: \"&INDEX(Vložit!B:B,A110+8)))","v":""},{"$f":"IF(A110=\"\",\"\",IF(INDEX(Vložit!B:B,A110+1)=\"\",\"\",INDEX(Vložit!B:B,A110+1)))","v":""},{"$f":"IF(A110=\"\",\"\",MID(INDEX(Vložit!A:A,A110),19,10))","v":""},{"$f":"IF(A110=\"\",\"\",IF(INDEX(Vložit!B:B,A110+5)=\"\",\"\",VLOOKUP(INDEX(Vložit!B:B,A110+5),Pomocná!B109:C10108,2,FALSE)))","v":""},{"$f":"IF(A110=\"\",\"\",INDEX(Vložit!B:B,A110+2))","v":""},{"$f":"IF(A110=\"\",\"\",IF(INDEX(Vložit!B:B,A110+3)=\"\",\"\",INDEX(Vložit!B:B,A110+3)))","v":""},{"$f":"IF(A110=\"\",\"\",INDEX(Vložit!B:B,A110+4))","v":""}]
[{"$f":"IF(A110=\"\",\"\",IF(INDEX(Vložit!A:A,(ROW(A110)-1)*17+2)<>\"\",(ROW(A110)-1)*17+2,\"\"))","v":""},{"$f":"IF(A111=\"\",\"\",\"Číslo smlouvy:  \"&INDEX(Vložit!B:B,A111+1)&CHAR(10)&\"Jméno a příjmení:  \"&INDEX(Vložit!B:B,A111+2)&CHAR(10)&\"Ulice:  \"&INDEX(Vložit!B:B,A111+3)&CHAR(10)&\"Č. pop. / č. orient.:  \"&INDEX(Vložit!B:B,A111+4)&CHAR(10)&\"Obec:  \"&INDEX(Vložit!B:B,A111+5))","v":""},{"$f":"IF(A111=\"\",\"\",INDEX(Vložit!A:A,A111)&CHAR(10)&\"Telefon: \"&INDEX(Vložit!B:B,A111+6)&\" / \"&INDEX(Vložit!B:B,A111+7)&CHAR(10)&\"Typ objednávky: \"&INDEX(Vložit!D:D,A111+1)&CHAR(10)&INDEX(Vložit!C:C,A111)&CHAR(10)&INDEX(Vložit!D:D,A111))","v":""},{"$f":"IF(A111=\"\",\"\",IF(INDEX(Vložit!B:B,A111+8)=\"\",\"\",\"Instrukce: \"&INDEX(Vložit!B:B,A111+8)))","v":""},{"$f":"IF(A111=\"\",\"\",IF(INDEX(Vložit!B:B,A111+1)=\"\",\"\",INDEX(Vložit!B:B,A111+1)))","v":""},{"$f":"IF(A111=\"\",\"\",MID(INDEX(Vložit!A:A,A111),19,10))","v":""},{"$f":"IF(A111=\"\",\"\",IF(INDEX(Vložit!B:B,A111+5)=\"\",\"\",VLOOKUP(INDEX(Vložit!B:B,A111+5),Pomocná!B110:C10109,2,FALSE)))","v":""},{"$f":"IF(A111=\"\",\"\",INDEX(Vložit!B:B,A111+2))","v":""},{"$f":"IF(A111=\"\",\"\",IF(INDEX(Vložit!B:B,A111+3)=\"\",\"\",INDEX(Vložit!B:B,A111+3)))","v":""},{"$f":"IF(A111=\"\",\"\",INDEX(Vložit!B:B,A111+4))","v":""}]
[{"$f":"IF(A111=\"\",\"\",IF(INDEX(Vložit!A:A,(ROW(A111)-1)*17+2)<>\"\",(ROW(A111)-1)*17+2,\"\"))","v":""},{"$f":"IF(A112=\"\",\"\",\"Číslo smlouvy:  \"&INDEX(Vložit!B:B,A112+1)&CHAR(10)&\"Jméno a příjmení:  \"&INDEX(Vložit!B:B,A112+2)&CHAR(10)&\"Ulice:  \"&INDEX(Vložit!B:B,A112+3)&CHAR(10)&\"Č. pop. / č. orient.:  \"&INDEX(Vložit!B:B,A112+4)&CHAR(10)&\"Obec:  \"&INDEX(Vložit!B:B,A112+5))","v":""},{"$f":"IF(A112=\"\",\"\",INDEX(Vložit!A:A,A112)&CHAR(10)&\"Telefon: \"&INDEX(Vložit!B:B,A112+6)&\" / \"&INDEX(Vložit!B:B,A112+7)&CHAR(10)&\"Typ objednávky: \"&INDEX(Vložit!D:D,A112+1)&CHAR(10)&INDEX(Vložit!C:C,A112)&CHAR(10)&INDEX(Vložit!D:D,A112))","v":""},{"$f":"IF(A112=\"\",\"\",IF(INDEX(Vložit!B:B,A112+8)=\"\",\"\",\"Instrukce: \"&INDEX(Vložit!B:B,A112+8)))","v":""},{"$f":"IF(A112=\"\",\"\",IF(INDEX(Vložit!B:B,A112+1)=\"\",\"\",INDEX(Vložit!B:B,A112+1)))","v":""},{"$f":"IF(A112=\"\",\"\",MID(INDEX(Vložit!A:A,A112),19,10))","v":""},{"$f":"IF(A112=\"\",\"\",IF(INDEX(Vložit!B:B,A112+5)=\"\",\"\",VLOOKUP(INDEX(Vložit!B:B,A112+5),Pomocná!B111:C10110,2,FALSE)))","v":""},{"$f":"IF(A112=\"\",\"\",INDEX(Vložit!B:B,A112+2))","v":""},{"$f":"IF(A112=\"\",\"\",IF(INDEX(Vložit!B:B,A112+3)=\"\",\"\",INDEX(Vložit!B:B,A112+3)))","v":""},{"$f":"IF(A112=\"\",\"\",INDEX(Vložit!B:B,A112+4))","v":""}]
[{"$f":"IF(A112=\"\",\"\",IF(INDEX(Vložit!A:A,(ROW(A112)-1)*17+2)<>\"\",(ROW(A112)-1)*17+2,\"\"))","v":""},{"$f":"IF(A113=\"\",\"\",\"Číslo smlouvy:  \"&INDEX(Vložit!B:B,A113+1)&CHAR(10)&\"Jméno a příjmení:  \"&INDEX(Vložit!B:B,A113+2)&CHAR(10)&\"Ulice:  \"&INDEX(Vložit!B:B,A113+3)&CHAR(10)&\"Č. pop. / č. orient.:  \"&INDEX(Vložit!B:B,A113+4)&CHAR(10)&\"Obec:  \"&INDEX(Vložit!B:B,A113+5))","v":""},{"$f":"IF(A113=\"\",\"\",INDEX(Vložit!A:A,A113)&CHAR(10)&\"Telefon: \"&INDEX(Vložit!B:B,A113+6)&\" / \"&INDEX(Vložit!B:B,A113+7)&CHAR(10)&\"Typ objednávky: \"&INDEX(Vložit!D:D,A113+1)&CHAR(10)&INDEX(Vložit!C:C,A113)&CHAR(10)&INDEX(Vložit!D:D,A113))","v":""},{"$f":"IF(A113=\"\",\"\",IF(INDEX(Vložit!B:B,A113+8)=\"\",\"\",\"Instrukce: \"&INDEX(Vložit!B:B,A113+8)))","v":""},{"$f":"IF(A113=\"\",\"\",IF(INDEX(Vložit!B:B,A113+1)=\"\",\"\",INDEX(Vložit!B:B,A113+1)))","v":""},{"$f":"IF(A113=\"\",\"\",MID(INDEX(Vložit!A:A,A113),19,10))","v":""},{"$f":"IF(A113=\"\",\"\",IF(INDEX(Vložit!B:B,A113+5)=\"\",\"\",VLOOKUP(INDEX(Vložit!B:B,A113+5),Pomocná!B112:C10111,2,FALSE)))","v":""},{"$f":"IF(A113=\"\",\"\",INDEX(Vložit!B:B,A113+2))","v":""},{"$f":"IF(A113=\"\",\"\",IF(INDEX(Vložit!B:B,A113+3)=\"\",\"\",INDEX(Vložit!B:B,A113+3)))","v":""},{"$f":"IF(A113=\"\",\"\",INDEX(Vložit!B:B,A113+4))","v":""}]
[{"$f":"IF(A113=\"\",\"\",IF(INDEX(Vložit!A:A,(ROW(A113)-1)*17+2)<>\"\",(ROW(A113)-1)*17+2,\"\"))","v":""},{"$f":"IF(A114=\"\",\"\",\"Číslo smlouvy:  \"&INDEX(Vložit!B:B,A114+1)&CHAR(10)&\"Jméno a příjmení:  \"&INDEX(Vložit!B:B,A114+2)&CHAR(10)&\"Ulice:  \"&INDEX(Vložit!B:B,A114+3)&CHAR(10)&\"Č. pop. / č. orient.:  \"&INDEX(Vložit!B:B,A114+4)&CHAR(10)&\"Obec:  \"&INDEX(Vložit!B:B,A114+5))","v":""},{"$f":"IF(A114=\"\",\"\",INDEX(Vložit!A:A,A114)&CHAR(10)&\"Telefon: \"&INDEX(Vložit!B:B,A114+6)&\" / \"&INDEX(Vložit!B:B,A114+7)&CHAR(10)&\"Typ objednávky: \"&INDEX(Vložit!D:D,A114+1)&CHAR(10)&INDEX(Vložit!C:C,A114)&CHAR(10)&INDEX(Vložit!D:D,A114))","v":""},{"$f":"IF(A114=\"\",\"\",IF(INDEX(Vložit!B:B,A114+8)=\"\",\"\",\"Instrukce: \"&INDEX(Vložit!B:B,A114+8)))","v":""},{"$f":"IF(A114=\"\",\"\",IF(INDEX(Vložit!B:B,A114+1)=\"\",\"\",INDEX(Vložit!B:B,A114+1)))","v":""},{"$f":"IF(A114=\"\",\"\",MID(INDEX(Vložit!A:A,A114),19,10))","v":""},{"$f":"IF(A114=\"\",\"\",IF(INDEX(Vložit!B:B,A114+5)=\"\",\"\",VLOOKUP(INDEX(Vložit!B:B,A114+5),Pomocná!B113:C10112,2,FALSE)))","v":""},{"$f":"IF(A114=\"\",\"\",INDEX(Vložit!B:B,A114+2))","v":""},{"$f":"IF(A114=\"\",\"\",IF(INDEX(Vložit!B:B,A114+3)=\"\",\"\",INDEX(Vložit!B:B,A114+3)))","v":""},{"$f":"IF(A114=\"\",\"\",INDEX(Vložit!B:B,A114+4))","v":""}]
[{"$f":"IF(A114=\"\",\"\",IF(INDEX(Vložit!A:A,(ROW(A114)-1)*17+2)<>\"\",(ROW(A114)-1)*17+2,\"\"))","v":""},{"$f":"IF(A115=\"\",\"\",\"Číslo smlouvy:  \"&INDEX(Vložit!B:B,A115+1)&CHAR(10)&\"Jméno a příjmení:  \"&INDEX(Vložit!B:B,A115+2)&CHAR(10)&\"Ulice:  \"&INDEX(Vložit!B:B,A115+3)&CHAR(10)&\"Č. pop. / č. orient.:  \"&INDEX(Vložit!B:B,A115+4)&CHAR(10)&\"Obec:  \"&INDEX(Vložit!B:B,A115+5))","v":""},{"$f":"IF(A115=\"\",\"\",INDEX(Vložit!A:A,A115)&CHAR(10)&\"Telefon: \"&INDEX(Vložit!B:B,A115+6)&\" / \"&INDEX(Vložit!B:B,A115+7)&CHAR(10)&\"Typ objednávky: \"&INDEX(Vložit!D:D,A115+1)&CHAR(10)&INDEX(Vložit!C:C,A115)&CHAR(10)&INDEX(Vložit!D:D,A115))","v":""},{"$f":"IF(A115=\"\",\"\",IF(INDEX(Vložit!B:B,A115+8)=\"\",\"\",\"Instrukce: \"&INDEX(Vložit!B:B,A115+8)))","v":""},{"$f":"IF(A115=\"\",\"\",IF(INDEX(Vložit!B:B,A115+1)=\"\",\"\",INDEX(Vložit!B:B,A115+1)))","v":""},{"$f":"IF(A115=\"\",\"\",MID(INDEX(Vložit!A:A,A115),19,10))","v":""},{"$f":"IF(A115=\"\",\"\",IF(INDEX(Vložit!B:B,A115+5)=\"\",\"\",VLOOKUP(INDEX(Vložit!B:B,A115+5),Pomocná!B114:C10113,2,FALSE)))","v":""},{"$f":"IF(A115=\"\",\"\",INDEX(Vložit!B:B,A115+2))","v":""},{"$f":"IF(A115=\"\",\"\",IF(INDEX(Vložit!B:B,A115+3)=\"\",\"\",INDEX(Vložit!B:B,A115+3)))","v":""},{"$f":"IF(A115=\"\",\"\",INDEX(Vložit!B:B,A115+4))","v":""}]
[{"$f":"IF(A115=\"\",\"\",IF(INDEX(Vložit!A:A,(ROW(A115)-1)*17+2)<>\"\",(ROW(A115)-1)*17+2,\"\"))","v":""},{"$f":"IF(A116=\"\",\"\",\"Číslo smlouvy:  \"&INDEX(Vložit!B:B,A116+1)&CHAR(10)&\"Jméno a příjmení:  \"&INDEX(Vložit!B:B,A116+2)&CHAR(10)&\"Ulice:  \"&INDEX(Vložit!B:B,A116+3)&CHAR(10)&\"Č. pop. / č. orient.:  \"&INDEX(Vložit!B:B,A116+4)&CHAR(10)&\"Obec:  \"&INDEX(Vložit!B:B,A116+5))","v":""},{"$f":"IF(A116=\"\",\"\",INDEX(Vložit!A:A,A116)&CHAR(10)&\"Telefon: \"&INDEX(Vložit!B:B,A116+6)&\" / \"&INDEX(Vložit!B:B,A116+7)&CHAR(10)&\"Typ objednávky: \"&INDEX(Vložit!D:D,A116+1)&CHAR(10)&INDEX(Vložit!C:C,A116)&CHAR(10)&INDEX(Vložit!D:D,A116))","v":""},{"$f":"IF(A116=\"\",\"\",IF(INDEX(Vložit!B:B,A116+8)=\"\",\"\",\"Instrukce: \"&INDEX(Vložit!B:B,A116+8)))","v":""},{"$f":"IF(A116=\"\",\"\",IF(INDEX(Vložit!B:B,A116+1)=\"\",\"\",INDEX(Vložit!B:B,A116+1)))","v":""},{"$f":"IF(A116=\"\",\"\",MID(INDEX(Vložit!A:A,A116),19,10))","v":""},{"$f":"IF(A116=\"\",\"\",IF(INDEX(Vložit!B:B,A116+5)=\"\",\"\",VLOOKUP(INDEX(Vložit!B:B,A116+5),Pomocná!B115:C10114,2,FALSE)))","v":""},{"$f":"IF(A116=\"\",\"\",INDEX(Vložit!B:B,A116+2))","v":""},{"$f":"IF(A116=\"\",\"\",IF(INDEX(Vložit!B:B,A116+3)=\"\",\"\",INDEX(Vložit!B:B,A116+3)))","v":""},{"$f":"IF(A116=\"\",\"\",INDEX(Vložit!B:B,A116+4))","v":""}]
[{"$f":"IF(A116=\"\",\"\",IF(INDEX(Vložit!A:A,(ROW(A116)-1)*17+2)<>\"\",(ROW(A116)-1)*17+2,\"\"))","v":""},{"$f":"IF(A117=\"\",\"\",\"Číslo smlouvy:  \"&INDEX(Vložit!B:B,A117+1)&CHAR(10)&\"Jméno a příjmení:  \"&INDEX(Vložit!B:B,A117+2)&CHAR(10)&\"Ulice:  \"&INDEX(Vložit!B:B,A117+3)&CHAR(10)&\"Č. pop. / č. orient.:  \"&INDEX(Vložit!B:B,A117+4)&CHAR(10)&\"Obec:  \"&INDEX(Vložit!B:B,A117+5))","v":""},{"$f":"IF(A117=\"\",\"\",INDEX(Vložit!A:A,A117)&CHAR(10)&\"Telefon: \"&INDEX(Vložit!B:B,A117+6)&\" / \"&INDEX(Vložit!B:B,A117+7)&CHAR(10)&\"Typ objednávky: \"&INDEX(Vložit!D:D,A117+1)&CHAR(10)&INDEX(Vložit!C:C,A117)&CHAR(10)&INDEX(Vložit!D:D,A117))","v":""},{"$f":"IF(A117=\"\",\"\",IF(INDEX(Vložit!B:B,A117+8)=\"\",\"\",\"Instrukce: \"&INDEX(Vložit!B:B,A117+8)))","v":""},{"$f":"IF(A117=\"\",\"\",IF(INDEX(Vložit!B:B,A117+1)=\"\",\"\",INDEX(Vložit!B:B,A117+1)))","v":""},{"$f":"IF(A117=\"\",\"\",MID(INDEX(Vložit!A:A,A117),19,10))","v":""},{"$f":"IF(A117=\"\",\"\",IF(INDEX(Vložit!B:B,A117+5)=\"\",\"\",VLOOKUP(INDEX(Vložit!B:B,A117+5),Pomocná!B116:C10115,2,FALSE)))","v":""},{"$f":"IF(A117=\"\",\"\",INDEX(Vložit!B:B,A117+2))","v":""},{"$f":"IF(A117=\"\",\"\",IF(INDEX(Vložit!B:B,A117+3)=\"\",\"\",INDEX(Vložit!B:B,A117+3)))","v":""},{"$f":"IF(A117=\"\",\"\",INDEX(Vložit!B:B,A117+4))","v":""}]
[{"$f":"IF(A117=\"\",\"\",IF(INDEX(Vložit!A:A,(ROW(A117)-1)*17+2)<>\"\",(ROW(A117)-1)*17+2,\"\"))","v":""},{"$f":"IF(A118=\"\",\"\",\"Číslo smlouvy:  \"&INDEX(Vložit!B:B,A118+1)&CHAR(10)&\"Jméno a příjmení:  \"&INDEX(Vložit!B:B,A118+2)&CHAR(10)&\"Ulice:  \"&INDEX(Vložit!B:B,A118+3)&CHAR(10)&\"Č. pop. / č. orient.:  \"&INDEX(Vložit!B:B,A118+4)&CHAR(10)&\"Obec:  \"&INDEX(Vložit!B:B,A118+5))","v":""},{"$f":"IF(A118=\"\",\"\",INDEX(Vložit!A:A,A118)&CHAR(10)&\"Telefon: \"&INDEX(Vložit!B:B,A118+6)&\" / \"&INDEX(Vložit!B:B,A118+7)&CHAR(10)&\"Typ objednávky: \"&INDEX(Vložit!D:D,A118+1)&CHAR(10)&INDEX(Vložit!C:C,A118)&CHAR(10)&INDEX(Vložit!D:D,A118))","v":""},{"$f":"IF(A118=\"\",\"\",IF(INDEX(Vložit!B:B,A118+8)=\"\",\"\",\"Instrukce: \"&INDEX(Vložit!B:B,A118+8)))","v":""},{"$f":"IF(A118=\"\",\"\",IF(INDEX(Vložit!B:B,A118+1)=\"\",\"\",INDEX(Vložit!B:B,A118+1)))","v":""},{"$f":"IF(A118=\"\",\"\",MID(INDEX(Vložit!A:A,A118),19,10))","v":""},{"$f":"IF(A118=\"\",\"\",IF(INDEX(Vložit!B:B,A118+5)=\"\",\"\",VLOOKUP(INDEX(Vložit!B:B,A118+5),Pomocná!B117:C10116,2,FALSE)))","v":""},{"$f":"IF(A118=\"\",\"\",INDEX(Vložit!B:B,A118+2))","v":""},{"$f":"IF(A118=\"\",\"\",IF(INDEX(Vložit!B:B,A118+3)=\"\",\"\",INDEX(Vložit!B:B,A118+3)))","v":""},{"$f":"IF(A118=\"\",\"\",INDEX(Vložit!B:B,A118+4))","v":""}]
[{"$f":"IF(A118=\"\",\"\",IF(INDEX(Vložit!A:A,(ROW(A118)-1)*17+2)<>\"\",(ROW(A118)-1)*17+2,\"\"))","v":""},{"$f":"IF(A119=\"\",\"\",\"Číslo smlouvy:  \"&INDEX(Vložit!B:B,A119+1)&CHAR(10)&\"Jméno a příjmení:  \"&INDEX(Vložit!B:B,A119+2)&CHAR(10)&\"Ulice:  \"&INDEX(Vložit!B:B,A119+3)&CHAR(10)&\"Č. pop. / č. orient.:  \"&INDEX(Vložit!B:B,A119+4)&CHAR(10)&\"Obec:  \"&INDEX(Vložit!B:B,A119+5))","v":""},{"$f":"IF(A119=\"\",\"\",INDEX(Vložit!A:A,A119)&CHAR(10)&\"Telefon: \"&INDEX(Vložit!B:B,A119+6)&\" / \"&INDEX(Vložit!B:B,A119+7)&CHAR(10)&\"Typ objednávky: \"&INDEX(Vložit!D:D,A119+1)&CHAR(10)&INDEX(Vložit!C:C,A119)&CHAR(10)&INDEX(Vložit!D:D,A119))","v":""},{"$f":"IF(A119=\"\",\"\",IF(INDEX(Vložit!B:B,A119+8)=\"\",\"\",\"Instrukce: \"&INDEX(Vložit!B:B,A119+8)))","v":""},{"$f":"IF(A119=\"\",\"\",IF(INDEX(Vložit!B:B,A119+1)=\"\",\"\",INDEX(Vložit!B:B,A119+1)))","v":""},{"$f":"IF(A119=\"\",\"\",MID(INDEX(Vložit!A:A,A119),19,10))","v":""},{"$f":"IF(A119=\"\",\"\",IF(INDEX(Vložit!B:B,A119+5)=\"\",\"\",VLOOKUP(INDEX(Vložit!B:B,A119+5),Pomocná!B118:C10117,2,FALSE)))","v":""},{"$f":"IF(A119=\"\",\"\",INDEX(Vložit!B:B,A119+2))","v":""},{"$f":"IF(A119=\"\",\"\",IF(INDEX(Vložit!B:B,A119+3)=\"\",\"\",INDEX(Vložit!B:B,A119+3)))","v":""},{"$f":"IF(A119=\"\",\"\",INDEX(Vložit!B:B,A119+4))","v":""}]
[{"$f":"IF(A119=\"\",\"\",IF(INDEX(Vložit!A:A,(ROW(A119)-1)*17+2)<>\"\",(ROW(A119)-1)*17+2,\"\"))","v":""},{"$f":"IF(A120=\"\",\"\",\"Číslo smlouvy:  \"&INDEX(Vložit!B:B,A120+1)&CHAR(10)&\"Jméno a příjmení:  \"&INDEX(Vložit!B:B,A120+2)&CHAR(10)&\"Ulice:  \"&INDEX(Vložit!B:B,A120+3)&CHAR(10)&\"Č. pop. / č. orient.:  \"&INDEX(Vložit!B:B,A120+4)&CHAR(10)&\"Obec:  \"&INDEX(Vložit!B:B,A120+5))","v":""},{"$f":"IF(A120=\"\",\"\",INDEX(Vložit!A:A,A120)&CHAR(10)&\"Telefon: \"&INDEX(Vložit!B:B,A120+6)&\" / \"&INDEX(Vložit!B:B,A120+7)&CHAR(10)&\"Typ objednávky: \"&INDEX(Vložit!D:D,A120+1)&CHAR(10)&INDEX(Vložit!C:C,A120)&CHAR(10)&INDEX(Vložit!D:D,A120))","v":""},{"$f":"IF(A120=\"\",\"\",IF(INDEX(Vložit!B:B,A120+8)=\"\",\"\",\"Instrukce: \"&INDEX(Vložit!B:B,A120+8)))","v":""},{"$f":"IF(A120=\"\",\"\",IF(INDEX(Vložit!B:B,A120+1)=\"\",\"\",INDEX(Vložit!B:B,A120+1)))","v":""},{"$f":"IF(A120=\"\",\"\",MID(INDEX(Vložit!A:A,A120),19,10))","v":""},{"$f":"IF(A120=\"\",\"\",IF(INDEX(Vložit!B:B,A120+5)=\"\",\"\",VLOOKUP(INDEX(Vložit!B:B,A120+5),Pomocná!B119:C10118,2,FALSE)))","v":""},{"$f":"IF(A120=\"\",\"\",INDEX(Vložit!B:B,A120+2))","v":""},{"$f":"IF(A120=\"\",\"\",IF(INDEX(Vložit!B:B,A120+3)=\"\",\"\",INDEX(Vložit!B:B,A120+3)))","v":""},{"$f":"IF(A120=\"\",\"\",INDEX(Vložit!B:B,A120+4))","v":""}]
[{"$f":"IF(A120=\"\",\"\",IF(INDEX(Vložit!A:A,(ROW(A120)-1)*17+2)<>\"\",(ROW(A120)-1)*17+2,\"\"))","v":""},{"$f":"IF(A121=\"\",\"\",\"Číslo smlouvy:  \"&INDEX(Vložit!B:B,A121+1)&CHAR(10)&\"Jméno a příjmení:  \"&INDEX(Vložit!B:B,A121+2)&CHAR(10)&\"Ulice:  \"&INDEX(Vložit!B:B,A121+3)&CHAR(10)&\"Č. pop. / č. orient.:  \"&INDEX(Vložit!B:B,A121+4)&CHAR(10)&\"Obec:  \"&INDEX(Vložit!B:B,A121+5))","v":""},{"$f":"IF(A121=\"\",\"\",INDEX(Vložit!A:A,A121)&CHAR(10)&\"Telefon: \"&INDEX(Vložit!B:B,A121+6)&\" / \"&INDEX(Vložit!B:B,A121+7)&CHAR(10)&\"Typ objednávky: \"&INDEX(Vložit!D:D,A121+1)&CHAR(10)&INDEX(Vložit!C:C,A121)&CHAR(10)&INDEX(Vložit!D:D,A121))","v":""},{"$f":"IF(A121=\"\",\"\",IF(INDEX(Vložit!B:B,A121+8)=\"\",\"\",\"Instrukce: \"&INDEX(Vložit!B:B,A121+8)))","v":""},{"$f":"IF(A121=\"\",\"\",IF(INDEX(Vložit!B:B,A121+1)=\"\",\"\",INDEX(Vložit!B:B,A121+1)))","v":""},{"$f":"IF(A121=\"\",\"\",MID(INDEX(Vložit!A:A,A121),19,10))","v":""},{"$f":"IF(A121=\"\",\"\",IF(INDEX(Vložit!B:B,A121+5)=\"\",\"\",VLOOKUP(INDEX(Vložit!B:B,A121+5),Pomocná!B120:C10119,2,FALSE)))","v":""},{"$f":"IF(A121=\"\",\"\",INDEX(Vložit!B:B,A121+2))","v":""},{"$f":"IF(A121=\"\",\"\",IF(INDEX(Vložit!B:B,A121+3)=\"\",\"\",INDEX(Vložit!B:B,A121+3)))","v":""},{"$f":"IF(A121=\"\",\"\",INDEX(Vložit!B:B,A121+4))","v":""}]
[{"$f":"IF(A121=\"\",\"\",IF(INDEX(Vložit!A:A,(ROW(A121)-1)*17+2)<>\"\",(ROW(A121)-1)*17+2,\"\"))","v":""},{"$f":"IF(A122=\"\",\"\",\"Číslo smlouvy:  \"&INDEX(Vložit!B:B,A122+1)&CHAR(10)&\"Jméno a příjmení:  \"&INDEX(Vložit!B:B,A122+2)&CHAR(10)&\"Ulice:  \"&INDEX(Vložit!B:B,A122+3)&CHAR(10)&\"Č. pop. / č. orient.:  \"&INDEX(Vložit!B:B,A122+4)&CHAR(10)&\"Obec:  \"&INDEX(Vložit!B:B,A122+5))","v":""},{"$f":"IF(A122=\"\",\"\",INDEX(Vložit!A:A,A122)&CHAR(10)&\"Telefon: \"&INDEX(Vložit!B:B,A122+6)&\" / \"&INDEX(Vložit!B:B,A122+7)&CHAR(10)&\"Typ objednávky: \"&INDEX(Vložit!D:D,A122+1)&CHAR(10)&INDEX(Vložit!C:C,A122)&CHAR(10)&INDEX(Vložit!D:D,A122))","v":""},{"$f":"IF(A122=\"\",\"\",IF(INDEX(Vložit!B:B,A122+8)=\"\",\"\",\"Instrukce: \"&INDEX(Vložit!B:B,A122+8)))","v":""},{"$f":"IF(A122=\"\",\"\",IF(INDEX(Vložit!B:B,A122+1)=\"\",\"\",INDEX(Vložit!B:B,A122+1)))","v":""},{"$f":"IF(A122=\"\",\"\",MID(INDEX(Vložit!A:A,A122),19,10))","v":""},{"$f":"IF(A122=\"\",\"\",IF(INDEX(Vložit!B:B,A122+5)=\"\",\"\",VLOOKUP(INDEX(Vložit!B:B,A122+5),Pomocná!B121:C10120,2,FALSE)))","v":""},{"$f":"IF(A122=\"\",\"\",INDEX(Vložit!B:B,A122+2))","v":""},{"$f":"IF(A122=\"\",\"\",IF(INDEX(Vložit!B:B,A122+3)=\"\",\"\",INDEX(Vložit!B:B,A122+3)))","v":""},{"$f":"IF(A122=\"\",\"\",INDEX(Vložit!B:B,A122+4))","v":""}]
[{"$f":"IF(A122=\"\",\"\",IF(INDEX(Vložit!A:A,(ROW(A122)-1)*17+2)<>\"\",(ROW(A122)-1)*17+2,\"\"))","v":""},{"$f":"IF(A123=\"\",\"\",\"Číslo smlouvy:  \"&INDEX(Vložit!B:B,A123+1)&CHAR(10)&\"Jméno a příjmení:  \"&INDEX(Vložit!B:B,A123+2)&CHAR(10)&\"Ulice:  \"&INDEX(Vložit!B:B,A123+3)&CHAR(10)&\"Č. pop. / č. orient.:  \"&INDEX(Vložit!B:B,A123+4)&CHAR(10)&\"Obec:  \"&INDEX(Vložit!B:B,A123+5))","v":""},{"$f":"IF(A123=\"\",\"\",INDEX(Vložit!A:A,A123)&CHAR(10)&\"Telefon: \"&INDEX(Vložit!B:B,A123+6)&\" / \"&INDEX(Vložit!B:B,A123+7)&CHAR(10)&\"Typ objednávky: \"&INDEX(Vložit!D:D,A123+1)&CHAR(10)&INDEX(Vložit!C:C,A123)&CHAR(10)&INDEX(Vložit!D:D,A123))","v":""},{"$f":"IF(A123=\"\",\"\",IF(INDEX(Vložit!B:B,A123+8)=\"\",\"\",\"Instrukce: \"&INDEX(Vložit!B:B,A123+8)))","v":""},{"$f":"IF(A123=\"\",\"\",IF(INDEX(Vložit!B:B,A123+1)=\"\",\"\",INDEX(Vložit!B:B,A123+1)))","v":""},{"$f":"IF(A123=\"\",\"\",MID(INDEX(Vložit!A:A,A123),19,10))","v":""},{"$f":"IF(A123=\"\",\"\",IF(INDEX(Vložit!B:B,A123+5)=\"\",\"\",VLOOKUP(INDEX(Vložit!B:B,A123+5),Pomocná!B122:C10121,2,FALSE)))","v":""},{"$f":"IF(A123=\"\",\"\",INDEX(Vložit!B:B,A123+2))","v":""},{"$f":"IF(A123=\"\",\"\",IF(INDEX(Vložit!B:B,A123+3)=\"\",\"\",INDEX(Vložit!B:B,A123+3)))","v":""},{"$f":"IF(A123=\"\",\"\",INDEX(Vložit!B:B,A123+4))","v":""}]
[{"$f":"IF(A123=\"\",\"\",IF(INDEX(Vložit!A:A,(ROW(A123)-1)*17+2)<>\"\",(ROW(A123)-1)*17+2,\"\"))","v":""},{"$f":"IF(A124=\"\",\"\",\"Číslo smlouvy:  \"&INDEX(Vložit!B:B,A124+1)&CHAR(10)&\"Jméno a příjmení:  \"&INDEX(Vložit!B:B,A124+2)&CHAR(10)&\"Ulice:  \"&INDEX(Vložit!B:B,A124+3)&CHAR(10)&\"Č. pop. / č. orient.:  \"&INDEX(Vložit!B:B,A124+4)&CHAR(10)&\"Obec:  \"&INDEX(Vložit!B:B,A124+5))","v":""},{"$f":"IF(A124=\"\",\"\",INDEX(Vložit!A:A,A124)&CHAR(10)&\"Telefon: \"&INDEX(Vložit!B:B,A124+6)&\" / \"&INDEX(Vložit!B:B,A124+7)&CHAR(10)&\"Typ objednávky: \"&INDEX(Vložit!D:D,A124+1)&CHAR(10)&INDEX(Vložit!C:C,A124)&CHAR(10)&INDEX(Vložit!D:D,A124))","v":""},{"$f":"IF(A124=\"\",\"\",IF(INDEX(Vložit!B:B,A124+8)=\"\",\"\",\"Instrukce: \"&INDEX(Vložit!B:B,A124+8)))","v":""},{"$f":"IF(A124=\"\",\"\",IF(INDEX(Vložit!B:B,A124+1)=\"\",\"\",INDEX(Vložit!B:B,A124+1)))","v":""},{"$f":"IF(A124=\"\",\"\",MID(INDEX(Vložit!A:A,A124),19,10))","v":""},{"$f":"IF(A124=\"\",\"\",IF(INDEX(Vložit!B:B,A124+5)=\"\",\"\",VLOOKUP(INDEX(Vložit!B:B,A124+5),Pomocná!B123:C10122,2,FALSE)))","v":""},{"$f":"IF(A124=\"\",\"\",INDEX(Vložit!B:B,A124+2))","v":""},{"$f":"IF(A124=\"\",\"\",IF(INDEX(Vložit!B:B,A124+3)=\"\",\"\",INDEX(Vložit!B:B,A124+3)))","v":""},{"$f":"IF(A124=\"\",\"\",INDEX(Vložit!B:B,A124+4))","v":""}]
[{"$f":"IF(A124=\"\",\"\",IF(INDEX(Vložit!A:A,(ROW(A124)-1)*17+2)<>\"\",(ROW(A124)-1)*17+2,\"\"))","v":""},{"$f":"IF(A125=\"\",\"\",\"Číslo smlouvy:  \"&INDEX(Vložit!B:B,A125+1)&CHAR(10)&\"Jméno a příjmení:  \"&INDEX(Vložit!B:B,A125+2)&CHAR(10)&\"Ulice:  \"&INDEX(Vložit!B:B,A125+3)&CHAR(10)&\"Č. pop. / č. orient.:  \"&INDEX(Vložit!B:B,A125+4)&CHAR(10)&\"Obec:  \"&INDEX(Vložit!B:B,A125+5))","v":""},{"$f":"IF(A125=\"\",\"\",INDEX(Vložit!A:A,A125)&CHAR(10)&\"Telefon: \"&INDEX(Vložit!B:B,A125+6)&\" / \"&INDEX(Vložit!B:B,A125+7)&CHAR(10)&\"Typ objednávky: \"&INDEX(Vložit!D:D,A125+1)&CHAR(10)&INDEX(Vložit!C:C,A125)&CHAR(10)&INDEX(Vložit!D:D,A125))","v":""},{"$f":"IF(A125=\"\",\"\",IF(INDEX(Vložit!B:B,A125+8)=\"\",\"\",\"Instrukce: \"&INDEX(Vložit!B:B,A125+8)))","v":""},{"$f":"IF(A125=\"\",\"\",IF(INDEX(Vložit!B:B,A125+1)=\"\",\"\",INDEX(Vložit!B:B,A125+1)))","v":""},{"$f":"IF(A125=\"\",\"\",MID(INDEX(Vložit!A:A,A125),19,10))","v":""},{"$f":"IF(A125=\"\",\"\",IF(INDEX(Vložit!B:B,A125+5)=\"\",\"\",VLOOKUP(INDEX(Vložit!B:B,A125+5),Pomocná!B124:C10123,2,FALSE)))","v":""},{"$f":"IF(A125=\"\",\"\",INDEX(Vložit!B:B,A125+2))","v":""},{"$f":"IF(A125=\"\",\"\",IF(INDEX(Vložit!B:B,A125+3)=\"\",\"\",INDEX(Vložit!B:B,A125+3)))","v":""},{"$f":"IF(A125=\"\",\"\",INDEX(Vložit!B:B,A125+4))","v":""}]
[{"$f":"IF(A125=\"\",\"\",IF(INDEX(Vložit!A:A,(ROW(A125)-1)*17+2)<>\"\",(ROW(A125)-1)*17+2,\"\"))","v":""},{"$f":"IF(A126=\"\",\"\",\"Číslo smlouvy:  \"&INDEX(Vložit!B:B,A126+1)&CHAR(10)&\"Jméno a příjmení:  \"&INDEX(Vložit!B:B,A126+2)&CHAR(10)&\"Ulice:  \"&INDEX(Vložit!B:B,A126+3)&CHAR(10)&\"Č. pop. / č. orient.:  \"&INDEX(Vložit!B:B,A126+4)&CHAR(10)&\"Obec:  \"&INDEX(Vložit!B:B,A126+5))","v":""},{"$f":"IF(A126=\"\",\"\",INDEX(Vložit!A:A,A126)&CHAR(10)&\"Telefon: \"&INDEX(Vložit!B:B,A126+6)&\" / \"&INDEX(Vložit!B:B,A126+7)&CHAR(10)&\"Typ objednávky: \"&INDEX(Vložit!D:D,A126+1)&CHAR(10)&INDEX(Vložit!C:C,A126)&CHAR(10)&INDEX(Vložit!D:D,A126))","v":""},{"$f":"IF(A126=\"\",\"\",IF(INDEX(Vložit!B:B,A126+8)=\"\",\"\",\"Instrukce: \"&INDEX(Vložit!B:B,A126+8)))","v":""},{"$f":"IF(A126=\"\",\"\",IF(INDEX(Vložit!B:B,A126+1)=\"\",\"\",INDEX(Vložit!B:B,A126+1)))","v":""},{"$f":"IF(A126=\"\",\"\",MID(INDEX(Vložit!A:A,A126),19,10))","v":""},{"$f":"IF(A126=\"\",\"\",IF(INDEX(Vložit!B:B,A126+5)=\"\",\"\",VLOOKUP(INDEX(Vložit!B:B,A126+5),Pomocná!B125:C10124,2,FALSE)))","v":""},{"$f":"IF(A126=\"\",\"\",INDEX(Vložit!B:B,A126+2))","v":""},{"$f":"IF(A126=\"\",\"\",IF(INDEX(Vložit!B:B,A126+3)=\"\",\"\",INDEX(Vložit!B:B,A126+3)))","v":""},{"$f":"IF(A126=\"\",\"\",INDEX(Vložit!B:B,A126+4))","v":""}]
[{"$f":"IF(A126=\"\",\"\",IF(INDEX(Vložit!A:A,(ROW(A126)-1)*17+2)<>\"\",(ROW(A126)-1)*17+2,\"\"))","v":""},{"$f":"IF(A127=\"\",\"\",\"Číslo smlouvy:  \"&INDEX(Vložit!B:B,A127+1)&CHAR(10)&\"Jméno a příjmení:  \"&INDEX(Vložit!B:B,A127+2)&CHAR(10)&\"Ulice:  \"&INDEX(Vložit!B:B,A127+3)&CHAR(10)&\"Č. pop. / č. orient.:  \"&INDEX(Vložit!B:B,A127+4)&CHAR(10)&\"Obec:  \"&INDEX(Vložit!B:B,A127+5))","v":""},{"$f":"IF(A127=\"\",\"\",INDEX(Vložit!A:A,A127)&CHAR(10)&\"Telefon: \"&INDEX(Vložit!B:B,A127+6)&\" / \"&INDEX(Vložit!B:B,A127+7)&CHAR(10)&\"Typ objednávky: \"&INDEX(Vložit!D:D,A127+1)&CHAR(10)&INDEX(Vložit!C:C,A127)&CHAR(10)&INDEX(Vložit!D:D,A127))","v":""},{"$f":"IF(A127=\"\",\"\",IF(INDEX(Vložit!B:B,A127+8)=\"\",\"\",\"Instrukce: \"&INDEX(Vložit!B:B,A127+8)))","v":""},{"$f":"IF(A127=\"\",\"\",IF(INDEX(Vložit!B:B,A127+1)=\"\",\"\",INDEX(Vložit!B:B,A127+1)))","v":""},{"$f":"IF(A127=\"\",\"\",MID(INDEX(Vložit!A:A,A127),19,10))","v":""},{"$f":"IF(A127=\"\",\"\",IF(INDEX(Vložit!B:B,A127+5)=\"\",\"\",VLOOKUP(INDEX(Vložit!B:B,A127+5),Pomocná!B126:C10125,2,FALSE)))","v":""},{"$f":"IF(A127=\"\",\"\",INDEX(Vložit!B:B,A127+2))","v":""},{"$f":"IF(A127=\"\",\"\",IF(INDEX(Vložit!B:B,A127+3)=\"\",\"\",INDEX(Vložit!B:B,A127+3)))","v":""},{"$f":"IF(A127=\"\",\"\",INDEX(Vložit!B:B,A127+4))","v":""}]
[{"$f":"IF(A127=\"\",\"\",IF(INDEX(Vložit!A:A,(ROW(A127)-1)*17+2)<>\"\",(ROW(A127)-1)*17+2,\"\"))","v":""},{"$f":"IF(A128=\"\",\"\",\"Číslo smlouvy:  \"&INDEX(Vložit!B:B,A128+1)&CHAR(10)&\"Jméno a příjmení:  \"&INDEX(Vložit!B:B,A128+2)&CHAR(10)&\"Ulice:  \"&INDEX(Vložit!B:B,A128+3)&CHAR(10)&\"Č. pop. / č. orient.:  \"&INDEX(Vložit!B:B,A128+4)&CHAR(10)&\"Obec:  \"&INDEX(Vložit!B:B,A128+5))","v":""},{"$f":"IF(A128=\"\",\"\",INDEX(Vložit!A:A,A128)&CHAR(10)&\"Telefon: \"&INDEX(Vložit!B:B,A128+6)&\" / \"&INDEX(Vložit!B:B,A128+7)&CHAR(10)&\"Typ objednávky: \"&INDEX(Vložit!D:D,A128+1)&CHAR(10)&INDEX(Vložit!C:C,A128)&CHAR(10)&INDEX(Vložit!D:D,A128))","v":""},{"$f":"IF(A128=\"\",\"\",IF(INDEX(Vložit!B:B,A128+8)=\"\",\"\",\"Instrukce: \"&INDEX(Vložit!B:B,A128+8)))","v":""},{"$f":"IF(A128=\"\",\"\",IF(INDEX(Vložit!B:B,A128+1)=\"\",\"\",INDEX(Vložit!B:B,A128+1)))","v":""},{"$f":"IF(A128=\"\",\"\",MID(INDEX(Vložit!A:A,A128),19,10))","v":""},{"$f":"IF(A128=\"\",\"\",IF(INDEX(Vložit!B:B,A128+5)=\"\",\"\",VLOOKUP(INDEX(Vložit!B:B,A128+5),Pomocná!B127:C10126,2,FALSE)))","v":""},{"$f":"IF(A128=\"\",\"\",INDEX(Vložit!B:B,A128+2))","v":""},{"$f":"IF(A128=\"\",\"\",IF(INDEX(Vložit!B:B,A128+3)=\"\",\"\",INDEX(Vložit!B:B,A128+3)))","v":""},{"$f":"IF(A128=\"\",\"\",INDEX(Vložit!B:B,A128+4))","v":""}]
[{"$f":"IF(A128=\"\",\"\",IF(INDEX(Vložit!A:A,(ROW(A128)-1)*17+2)<>\"\",(ROW(A128)-1)*17+2,\"\"))","v":""},{"$f":"IF(A129=\"\",\"\",\"Číslo smlouvy:  \"&INDEX(Vložit!B:B,A129+1)&CHAR(10)&\"Jméno a příjmení:  \"&INDEX(Vložit!B:B,A129+2)&CHAR(10)&\"Ulice:  \"&INDEX(Vložit!B:B,A129+3)&CHAR(10)&\"Č. pop. / č. orient.:  \"&INDEX(Vložit!B:B,A129+4)&CHAR(10)&\"Obec:  \"&INDEX(Vložit!B:B,A129+5))","v":""},{"$f":"IF(A129=\"\",\"\",INDEX(Vložit!A:A,A129)&CHAR(10)&\"Telefon: \"&INDEX(Vložit!B:B,A129+6)&\" / \"&INDEX(Vložit!B:B,A129+7)&CHAR(10)&\"Typ objednávky: \"&INDEX(Vložit!D:D,A129+1)&CHAR(10)&INDEX(Vložit!C:C,A129)&CHAR(10)&INDEX(Vložit!D:D,A129))","v":""},{"$f":"IF(A129=\"\",\"\",IF(INDEX(Vložit!B:B,A129+8)=\"\",\"\",\"Instrukce: \"&INDEX(Vložit!B:B,A129+8)))","v":""},{"$f":"IF(A129=\"\",\"\",IF(INDEX(Vložit!B:B,A129+1)=\"\",\"\",INDEX(Vložit!B:B,A129+1)))","v":""},{"$f":"IF(A129=\"\",\"\",MID(INDEX(Vložit!A:A,A129),19,10))","v":""},{"$f":"IF(A129=\"\",\"\",IF(INDEX(Vložit!B:B,A129+5)=\"\",\"\",VLOOKUP(INDEX(Vložit!B:B,A129+5),Pomocná!B128:C10127,2,FALSE)))","v":""},{"$f":"IF(A129=\"\",\"\",INDEX(Vložit!B:B,A129+2))","v":""},{"$f":"IF(A129=\"\",\"\",IF(INDEX(Vložit!B:B,A129+3)=\"\",\"\",INDEX(Vložit!B:B,A129+3)))","v":""},{"$f":"IF(A129=\"\",\"\",INDEX(Vložit!B:B,A129+4))","v":""}]
[{"$f":"IF(A129=\"\",\"\",IF(INDEX(Vložit!A:A,(ROW(A129)-1)*17+2)<>\"\",(ROW(A129)-1)*17+2,\"\"))","v":""},{"$f":"IF(A130=\"\",\"\",\"Číslo smlouvy:  \"&INDEX(Vložit!B:B,A130+1)&CHAR(10)&\"Jméno a příjmení:  \"&INDEX(Vložit!B:B,A130+2)&CHAR(10)&\"Ulice:  \"&INDEX(Vložit!B:B,A130+3)&CHAR(10)&\"Č. pop. / č. orient.:  \"&INDEX(Vložit!B:B,A130+4)&CHAR(10)&\"Obec:  \"&INDEX(Vložit!B:B,A130+5))","v":""},{"$f":"IF(A130=\"\",\"\",INDEX(Vložit!A:A,A130)&CHAR(10)&\"Telefon: \"&INDEX(Vložit!B:B,A130+6)&\" / \"&INDEX(Vložit!B:B,A130+7)&CHAR(10)&\"Typ objednávky: \"&INDEX(Vložit!D:D,A130+1)&CHAR(10)&INDEX(Vložit!C:C,A130)&CHAR(10)&INDEX(Vložit!D:D,A130))","v":""},{"$f":"IF(A130=\"\",\"\",IF(INDEX(Vložit!B:B,A130+8)=\"\",\"\",\"Instrukce: \"&INDEX(Vložit!B:B,A130+8)))","v":""},{"$f":"IF(A130=\"\",\"\",IF(INDEX(Vložit!B:B,A130+1)=\"\",\"\",INDEX(Vložit!B:B,A130+1)))","v":""},{"$f":"IF(A130=\"\",\"\",MID(INDEX(Vložit!A:A,A130),19,10))","v":""},{"$f":"IF(A130=\"\",\"\",IF(INDEX(Vložit!B:B,A130+5)=\"\",\"\",VLOOKUP(INDEX(Vložit!B:B,A130+5),Pomocná!B129:C10128,2,FALSE)))","v":""},{"$f":"IF(A130=\"\",\"\",INDEX(Vložit!B:B,A130+2))","v":""},{"$f":"IF(A130=\"\",\"\",IF(INDEX(Vložit!B:B,A130+3)=\"\",\"\",INDEX(Vložit!B:B,A130+3)))","v":""},{"$f":"IF(A130=\"\",\"\",INDEX(Vložit!B:B,A130+4))","v":""}]
[{"$f":"IF(A130=\"\",\"\",IF(INDEX(Vložit!A:A,(ROW(A130)-1)*17+2)<>\"\",(ROW(A130)-1)*17+2,\"\"))","v":""},{"$f":"IF(A131=\"\",\"\",\"Číslo smlouvy:  \"&INDEX(Vložit!B:B,A131+1)&CHAR(10)&\"Jméno a příjmení:  \"&INDEX(Vložit!B:B,A131+2)&CHAR(10)&\"Ulice:  \"&INDEX(Vložit!B:B,A131+3)&CHAR(10)&\"Č. pop. / č. orient.:  \"&INDEX(Vložit!B:B,A131+4)&CHAR(10)&\"Obec:  \"&INDEX(Vložit!B:B,A131+5))","v":""},{"$f":"IF(A131=\"\",\"\",INDEX(Vložit!A:A,A131)&CHAR(10)&\"Telefon: \"&INDEX(Vložit!B:B,A131+6)&\" / \"&INDEX(Vložit!B:B,A131+7)&CHAR(10)&\"Typ objednávky: \"&INDEX(Vložit!D:D,A131+1)&CHAR(10)&INDEX(Vložit!C:C,A131)&CHAR(10)&INDEX(Vložit!D:D,A131))","v":""},{"$f":"IF(A131=\"\",\"\",IF(INDEX(Vložit!B:B,A131+8)=\"\",\"\",\"Instrukce: \"&INDEX(Vložit!B:B,A131+8)))","v":""},{"$f":"IF(A131=\"\",\"\",IF(INDEX(Vložit!B:B,A131+1)=\"\",\"\",INDEX(Vložit!B:B,A131+1)))","v":""},{"$f":"IF(A131=\"\",\"\",MID(INDEX(Vložit!A:A,A131),19,10))","v":""},{"$f":"IF(A131=\"\",\"\",IF(INDEX(Vložit!B:B,A131+5)=\"\",\"\",VLOOKUP(INDEX(Vložit!B:B,A131+5),Pomocná!B130:C10129,2,FALSE)))","v":""},{"$f":"IF(A131=\"\",\"\",INDEX(Vložit!B:B,A131+2))","v":""},{"$f":"IF(A131=\"\",\"\",IF(INDEX(Vložit!B:B,A131+3)=\"\",\"\",INDEX(Vložit!B:B,A131+3)))","v":""},{"$f":"IF(A131=\"\",\"\",INDEX(Vložit!B:B,A131+4))","v":""}]
[{"$f":"IF(A131=\"\",\"\",IF(INDEX(Vložit!A:A,(ROW(A131)-1)*17+2)<>\"\",(ROW(A131)-1)*17+2,\"\"))","v":""},{"$f":"IF(A132=\"\",\"\",\"Číslo smlouvy:  \"&INDEX(Vložit!B:B,A132+1)&CHAR(10)&\"Jméno a příjmení:  \"&INDEX(Vložit!B:B,A132+2)&CHAR(10)&\"Ulice:  \"&INDEX(Vložit!B:B,A132+3)&CHAR(10)&\"Č. pop. / č. orient.:  \"&INDEX(Vložit!B:B,A132+4)&CHAR(10)&\"Obec:  \"&INDEX(Vložit!B:B,A132+5))","v":""},{"$f":"IF(A132=\"\",\"\",INDEX(Vložit!A:A,A132)&CHAR(10)&\"Telefon: \"&INDEX(Vložit!B:B,A132+6)&\" / \"&INDEX(Vložit!B:B,A132+7)&CHAR(10)&\"Typ objednávky: \"&INDEX(Vložit!D:D,A132+1)&CHAR(10)&INDEX(Vložit!C:C,A132)&CHAR(10)&INDEX(Vložit!D:D,A132))","v":""},{"$f":"IF(A132=\"\",\"\",IF(INDEX(Vložit!B:B,A132+8)=\"\",\"\",\"Instrukce: \"&INDEX(Vložit!B:B,A132+8)))","v":""},{"$f":"IF(A132=\"\",\"\",IF(INDEX(Vložit!B:B,A132+1)=\"\",\"\",INDEX(Vložit!B:B,A132+1)))","v":""},{"$f":"IF(A132=\"\",\"\",MID(INDEX(Vložit!A:A,A132),19,10))","v":""},{"$f":"IF(A132=\"\",\"\",IF(INDEX(Vložit!B:B,A132+5)=\"\",\"\",VLOOKUP(INDEX(Vložit!B:B,A132+5),Pomocná!B131:C10130,2,FALSE)))","v":""},{"$f":"IF(A132=\"\",\"\",INDEX(Vložit!B:B,A132+2))","v":""},{"$f":"IF(A132=\"\",\"\",IF(INDEX(Vložit!B:B,A132+3)=\"\",\"\",INDEX(Vložit!B:B,A132+3)))","v":""},{"$f":"IF(A132=\"\",\"\",INDEX(Vložit!B:B,A132+4))","v":""}]
[{"$f":"IF(A132=\"\",\"\",IF(INDEX(Vložit!A:A,(ROW(A132)-1)*17+2)<>\"\",(ROW(A132)-1)*17+2,\"\"))","v":""},{"$f":"IF(A133=\"\",\"\",\"Číslo smlouvy:  \"&INDEX(Vložit!B:B,A133+1)&CHAR(10)&\"Jméno a příjmení:  \"&INDEX(Vložit!B:B,A133+2)&CHAR(10)&\"Ulice:  \"&INDEX(Vložit!B:B,A133+3)&CHAR(10)&\"Č. pop. / č. orient.:  \"&INDEX(Vložit!B:B,A133+4)&CHAR(10)&\"Obec:  \"&INDEX(Vložit!B:B,A133+5))","v":""},{"$f":"IF(A133=\"\",\"\",INDEX(Vložit!A:A,A133)&CHAR(10)&\"Telefon: \"&INDEX(Vložit!B:B,A133+6)&\" / \"&INDEX(Vložit!B:B,A133+7)&CHAR(10)&\"Typ objednávky: \"&INDEX(Vložit!D:D,A133+1)&CHAR(10)&INDEX(Vložit!C:C,A133)&CHAR(10)&INDEX(Vložit!D:D,A133))","v":""},{"$f":"IF(A133=\"\",\"\",IF(INDEX(Vložit!B:B,A133+8)=\"\",\"\",\"Instrukce: \"&INDEX(Vložit!B:B,A133+8)))","v":""},{"$f":"IF(A133=\"\",\"\",IF(INDEX(Vložit!B:B,A133+1)=\"\",\"\",INDEX(Vložit!B:B,A133+1)))","v":""},{"$f":"IF(A133=\"\",\"\",MID(INDEX(Vložit!A:A,A133),19,10))","v":""},{"$f":"IF(A133=\"\",\"\",IF(INDEX(Vložit!B:B,A133+5)=\"\",\"\",VLOOKUP(INDEX(Vložit!B:B,A133+5),Pomocná!B132:C10131,2,FALSE)))","v":""},{"$f":"IF(A133=\"\",\"\",INDEX(Vložit!B:B,A133+2))","v":""},{"$f":"IF(A133=\"\",\"\",IF(INDEX(Vložit!B:B,A133+3)=\"\",\"\",INDEX(Vložit!B:B,A133+3)))","v":""},{"$f":"IF(A133=\"\",\"\",INDEX(Vložit!B:B,A133+4))","v":""}]
[{"$f":"IF(A133=\"\",\"\",IF(INDEX(Vložit!A:A,(ROW(A133)-1)*17+2)<>\"\",(ROW(A133)-1)*17+2,\"\"))","v":""},{"$f":"IF(A134=\"\",\"\",\"Číslo smlouvy:  \"&INDEX(Vložit!B:B,A134+1)&CHAR(10)&\"Jméno a příjmení:  \"&INDEX(Vložit!B:B,A134+2)&CHAR(10)&\"Ulice:  \"&INDEX(Vložit!B:B,A134+3)&CHAR(10)&\"Č. pop. / č. orient.:  \"&INDEX(Vložit!B:B,A134+4)&CHAR(10)&\"Obec:  \"&INDEX(Vložit!B:B,A134+5))","v":""},{"$f":"IF(A134=\"\",\"\",INDEX(Vložit!A:A,A134)&CHAR(10)&\"Telefon: \"&INDEX(Vložit!B:B,A134+6)&\" / \"&INDEX(Vložit!B:B,A134+7)&CHAR(10)&\"Typ objednávky: \"&INDEX(Vložit!D:D,A134+1)&CHAR(10)&INDEX(Vložit!C:C,A134)&CHAR(10)&INDEX(Vložit!D:D,A134))","v":""},{"$f":"IF(A134=\"\",\"\",IF(INDEX(Vložit!B:B,A134+8)=\"\",\"\",\"Instrukce: \"&INDEX(Vložit!B:B,A134+8)))","v":""},{"$f":"IF(A134=\"\",\"\",IF(INDEX(Vložit!B:B,A134+1)=\"\",\"\",INDEX(Vložit!B:B,A134+1)))","v":""},{"$f":"IF(A134=\"\",\"\",MID(INDEX(Vložit!A:A,A134),19,10))","v":""},{"$f":"IF(A134=\"\",\"\",IF(INDEX(Vložit!B:B,A134+5)=\"\",\"\",VLOOKUP(INDEX(Vložit!B:B,A134+5),Pomocná!B133:C10132,2,FALSE)))","v":""},{"$f":"IF(A134=\"\",\"\",INDEX(Vložit!B:B,A134+2))","v":""},{"$f":"IF(A134=\"\",\"\",IF(INDEX(Vložit!B:B,A134+3)=\"\",\"\",INDEX(Vložit!B:B,A134+3)))","v":""},{"$f":"IF(A134=\"\",\"\",INDEX(Vložit!B:B,A134+4))","v":""}]
[{"$f":"IF(A134=\"\",\"\",IF(INDEX(Vložit!A:A,(ROW(A134)-1)*17+2)<>\"\",(ROW(A134)-1)*17+2,\"\"))","v":""},{"$f":"IF(A135=\"\",\"\",\"Číslo smlouvy:  \"&INDEX(Vložit!B:B,A135+1)&CHAR(10)&\"Jméno a příjmení:  \"&INDEX(Vložit!B:B,A135+2)&CHAR(10)&\"Ulice:  \"&INDEX(Vložit!B:B,A135+3)&CHAR(10)&\"Č. pop. / č. orient.:  \"&INDEX(Vložit!B:B,A135+4)&CHAR(10)&\"Obec:  \"&INDEX(Vložit!B:B,A135+5))","v":""},{"$f":"IF(A135=\"\",\"\",INDEX(Vložit!A:A,A135)&CHAR(10)&\"Telefon: \"&INDEX(Vložit!B:B,A135+6)&\" / \"&INDEX(Vložit!B:B,A135+7)&CHAR(10)&\"Typ objednávky: \"&INDEX(Vložit!D:D,A135+1)&CHAR(10)&INDEX(Vložit!C:C,A135)&CHAR(10)&INDEX(Vložit!D:D,A135))","v":""},{"$f":"IF(A135=\"\",\"\",IF(INDEX(Vložit!B:B,A135+8)=\"\",\"\",\"Instrukce: \"&INDEX(Vložit!B:B,A135+8)))","v":""},{"$f":"IF(A135=\"\",\"\",IF(INDEX(Vložit!B:B,A135+1)=\"\",\"\",INDEX(Vložit!B:B,A135+1)))","v":""},{"$f":"IF(A135=\"\",\"\",MID(INDEX(Vložit!A:A,A135),19,10))","v":""},{"$f":"IF(A135=\"\",\"\",IF(INDEX(Vložit!B:B,A135+5)=\"\",\"\",VLOOKUP(INDEX(Vložit!B:B,A135+5),Pomocná!B134:C10133,2,FALSE)))","v":""},{"$f":"IF(A135=\"\",\"\",INDEX(Vložit!B:B,A135+2))","v":""},{"$f":"IF(A135=\"\",\"\",IF(INDEX(Vložit!B:B,A135+3)=\"\",\"\",INDEX(Vložit!B:B,A135+3)))","v":""},{"$f":"IF(A135=\"\",\"\",INDEX(Vložit!B:B,A135+4))","v":""}]
[{"$f":"IF(A135=\"\",\"\",IF(INDEX(Vložit!A:A,(ROW(A135)-1)*17+2)<>\"\",(ROW(A135)-1)*17+2,\"\"))","v":""},{"$f":"IF(A136=\"\",\"\",\"Číslo smlouvy:  \"&INDEX(Vložit!B:B,A136+1)&CHAR(10)&\"Jméno a příjmení:  \"&INDEX(Vložit!B:B,A136+2)&CHAR(10)&\"Ulice:  \"&INDEX(Vložit!B:B,A136+3)&CHAR(10)&\"Č. pop. / č. orient.:  \"&INDEX(Vložit!B:B,A136+4)&CHAR(10)&\"Obec:  \"&INDEX(Vložit!B:B,A136+5))","v":""},{"$f":"IF(A136=\"\",\"\",INDEX(Vložit!A:A,A136)&CHAR(10)&\"Telefon: \"&INDEX(Vložit!B:B,A136+6)&\" / \"&INDEX(Vložit!B:B,A136+7)&CHAR(10)&\"Typ objednávky: \"&INDEX(Vložit!D:D,A136+1)&CHAR(10)&INDEX(Vložit!C:C,A136)&CHAR(10)&INDEX(Vložit!D:D,A136))","v":""},{"$f":"IF(A136=\"\",\"\",IF(INDEX(Vložit!B:B,A136+8)=\"\",\"\",\"Instrukce: \"&INDEX(Vložit!B:B,A136+8)))","v":""},{"$f":"IF(A136=\"\",\"\",IF(INDEX(Vložit!B:B,A136+1)=\"\",\"\",INDEX(Vložit!B:B,A136+1)))","v":""},{"$f":"IF(A136=\"\",\"\",MID(INDEX(Vložit!A:A,A136),19,10))","v":""},{"$f":"IF(A136=\"\",\"\",IF(INDEX(Vložit!B:B,A136+5)=\"\",\"\",VLOOKUP(INDEX(Vložit!B:B,A136+5),Pomocná!B135:C10134,2,FALSE)))","v":""},{"$f":"IF(A136=\"\",\"\",INDEX(Vložit!B:B,A136+2))","v":""},{"$f":"IF(A136=\"\",\"\",IF(INDEX(Vložit!B:B,A136+3)=\"\",\"\",INDEX(Vložit!B:B,A136+3)))","v":""},{"$f":"IF(A136=\"\",\"\",INDEX(Vložit!B:B,A136+4))","v":""}]
[{"$f":"IF(A136=\"\",\"\",IF(INDEX(Vložit!A:A,(ROW(A136)-1)*17+2)<>\"\",(ROW(A136)-1)*17+2,\"\"))","v":""},{"$f":"IF(A137=\"\",\"\",\"Číslo smlouvy:  \"&INDEX(Vložit!B:B,A137+1)&CHAR(10)&\"Jméno a příjmení:  \"&INDEX(Vložit!B:B,A137+2)&CHAR(10)&\"Ulice:  \"&INDEX(Vložit!B:B,A137+3)&CHAR(10)&\"Č. pop. / č. orient.:  \"&INDEX(Vložit!B:B,A137+4)&CHAR(10)&\"Obec:  \"&INDEX(Vložit!B:B,A137+5))","v":""},{"$f":"IF(A137=\"\",\"\",INDEX(Vložit!A:A,A137)&CHAR(10)&\"Telefon: \"&INDEX(Vložit!B:B,A137+6)&\" / \"&INDEX(Vložit!B:B,A137+7)&CHAR(10)&\"Typ objednávky: \"&INDEX(Vložit!D:D,A137+1)&CHAR(10)&INDEX(Vložit!C:C,A137)&CHAR(10)&INDEX(Vložit!D:D,A137))","v":""},{"$f":"IF(A137=\"\",\"\",IF(INDEX(Vložit!B:B,A137+8)=\"\",\"\",\"Instrukce: \"&INDEX(Vložit!B:B,A137+8)))","v":""},{"$f":"IF(A137=\"\",\"\",IF(INDEX(Vložit!B:B,A137+1)=\"\",\"\",INDEX(Vložit!B:B,A137+1)))","v":""},{"$f":"IF(A137=\"\",\"\",MID(INDEX(Vložit!A:A,A137),19,10))","v":""},{"$f":"IF(A137=\"\",\"\",IF(INDEX(Vložit!B:B,A137+5)=\"\",\"\",VLOOKUP(INDEX(Vložit!B:B,A137+5),Pomocná!B136:C10135,2,FALSE)))","v":""},{"$f":"IF(A137=\"\",\"\",INDEX(Vložit!B:B,A137+2))","v":""},{"$f":"IF(A137=\"\",\"\",IF(INDEX(Vložit!B:B,A137+3)=\"\",\"\",INDEX(Vložit!B:B,A137+3)))","v":""},{"$f":"IF(A137=\"\",\"\",INDEX(Vložit!B:B,A137+4))","v":""}]
[{"$f":"IF(A137=\"\",\"\",IF(INDEX(Vložit!A:A,(ROW(A137)-1)*17+2)<>\"\",(ROW(A137)-1)*17+2,\"\"))","v":""},{"$f":"IF(A138=\"\",\"\",\"Číslo smlouvy:  \"&INDEX(Vložit!B:B,A138+1)&CHAR(10)&\"Jméno a příjmení:  \"&INDEX(Vložit!B:B,A138+2)&CHAR(10)&\"Ulice:  \"&INDEX(Vložit!B:B,A138+3)&CHAR(10)&\"Č. pop. / č. orient.:  \"&INDEX(Vložit!B:B,A138+4)&CHAR(10)&\"Obec:  \"&INDEX(Vložit!B:B,A138+5))","v":""},{"$f":"IF(A138=\"\",\"\",INDEX(Vložit!A:A,A138)&CHAR(10)&\"Telefon: \"&INDEX(Vložit!B:B,A138+6)&\" / \"&INDEX(Vložit!B:B,A138+7)&CHAR(10)&\"Typ objednávky: \"&INDEX(Vložit!D:D,A138+1)&CHAR(10)&INDEX(Vložit!C:C,A138)&CHAR(10)&INDEX(Vložit!D:D,A138))","v":""},{"$f":"IF(A138=\"\",\"\",IF(INDEX(Vložit!B:B,A138+8)=\"\",\"\",\"Instrukce: \"&INDEX(Vložit!B:B,A138+8)))","v":""},{"$f":"IF(A138=\"\",\"\",IF(INDEX(Vložit!B:B,A138+1)=\"\",\"\",INDEX(Vložit!B:B,A138+1)))","v":""},{"$f":"IF(A138=\"\",\"\",MID(INDEX(Vložit!A:A,A138),19,10))","v":""},{"$f":"IF(A138=\"\",\"\",IF(INDEX(Vložit!B:B,A138+5)=\"\",\"\",VLOOKUP(INDEX(Vložit!B:B,A138+5),Pomocná!B137:C10136,2,FALSE)))","v":""},{"$f":"IF(A138=\"\",\"\",INDEX(Vložit!B:B,A138+2))","v":""},{"$f":"IF(A138=\"\",\"\",IF(INDEX(Vložit!B:B,A138+3)=\"\",\"\",INDEX(Vložit!B:B,A138+3)))","v":""},{"$f":"IF(A138=\"\",\"\",INDEX(Vložit!B:B,A138+4))","v":""}]
[{"$f":"IF(A138=\"\",\"\",IF(INDEX(Vložit!A:A,(ROW(A138)-1)*17+2)<>\"\",(ROW(A138)-1)*17+2,\"\"))","v":""},{"$f":"IF(A139=\"\",\"\",\"Číslo smlouvy:  \"&INDEX(Vložit!B:B,A139+1)&CHAR(10)&\"Jméno a příjmení:  \"&INDEX(Vložit!B:B,A139+2)&CHAR(10)&\"Ulice:  \"&INDEX(Vložit!B:B,A139+3)&CHAR(10)&\"Č. pop. / č. orient.:  \"&INDEX(Vložit!B:B,A139+4)&CHAR(10)&\"Obec:  \"&INDEX(Vložit!B:B,A139+5))","v":""},{"$f":"IF(A139=\"\",\"\",INDEX(Vložit!A:A,A139)&CHAR(10)&\"Telefon: \"&INDEX(Vložit!B:B,A139+6)&\" / \"&INDEX(Vložit!B:B,A139+7)&CHAR(10)&\"Typ objednávky: \"&INDEX(Vložit!D:D,A139+1)&CHAR(10)&INDEX(Vložit!C:C,A139)&CHAR(10)&INDEX(Vložit!D:D,A139))","v":""},{"$f":"IF(A139=\"\",\"\",IF(INDEX(Vložit!B:B,A139+8)=\"\",\"\",\"Instrukce: \"&INDEX(Vložit!B:B,A139+8)))","v":""},{"$f":"IF(A139=\"\",\"\",IF(INDEX(Vložit!B:B,A139+1)=\"\",\"\",INDEX(Vložit!B:B,A139+1)))","v":""},{"$f":"IF(A139=\"\",\"\",MID(INDEX(Vložit!A:A,A139),19,10))","v":""},{"$f":"IF(A139=\"\",\"\",IF(INDEX(Vložit!B:B,A139+5)=\"\",\"\",VLOOKUP(INDEX(Vložit!B:B,A139+5),Pomocná!B138:C10137,2,FALSE)))","v":""},{"$f":"IF(A139=\"\",\"\",INDEX(Vložit!B:B,A139+2))","v":""},{"$f":"IF(A139=\"\",\"\",IF(INDEX(Vložit!B:B,A139+3)=\"\",\"\",INDEX(Vložit!B:B,A139+3)))","v":""},{"$f":"IF(A139=\"\",\"\",INDEX(Vložit!B:B,A139+4))","v":""}]
[{"$f":"IF(A139=\"\",\"\",IF(INDEX(Vložit!A:A,(ROW(A139)-1)*17+2)<>\"\",(ROW(A139)-1)*17+2,\"\"))","v":""},{"$f":"IF(A140=\"\",\"\",\"Číslo smlouvy:  \"&INDEX(Vložit!B:B,A140+1)&CHAR(10)&\"Jméno a příjmení:  \"&INDEX(Vložit!B:B,A140+2)&CHAR(10)&\"Ulice:  \"&INDEX(Vložit!B:B,A140+3)&CHAR(10)&\"Č. pop. / č. orient.:  \"&INDEX(Vložit!B:B,A140+4)&CHAR(10)&\"Obec:  \"&INDEX(Vložit!B:B,A140+5))","v":""},{"$f":"IF(A140=\"\",\"\",INDEX(Vložit!A:A,A140)&CHAR(10)&\"Telefon: \"&INDEX(Vložit!B:B,A140+6)&\" / \"&INDEX(Vložit!B:B,A140+7)&CHAR(10)&\"Typ objednávky: \"&INDEX(Vložit!D:D,A140+1)&CHAR(10)&INDEX(Vložit!C:C,A140)&CHAR(10)&INDEX(Vložit!D:D,A140))","v":""},{"$f":"IF(A140=\"\",\"\",IF(INDEX(Vložit!B:B,A140+8)=\"\",\"\",\"Instrukce: \"&INDEX(Vložit!B:B,A140+8)))","v":""},{"$f":"IF(A140=\"\",\"\",IF(INDEX(Vložit!B:B,A140+1)=\"\",\"\",INDEX(Vložit!B:B,A140+1)))","v":""},{"$f":"IF(A140=\"\",\"\",MID(INDEX(Vložit!A:A,A140),19,10))","v":""},{"$f":"IF(A140=\"\",\"\",IF(INDEX(Vložit!B:B,A140+5)=\"\",\"\",VLOOKUP(INDEX(Vložit!B:B,A140+5),Pomocná!B139:C10138,2,FALSE)))","v":""},{"$f":"IF(A140=\"\",\"\",INDEX(Vložit!B:B,A140+2))","v":""},{"$f":"IF(A140=\"\",\"\",IF(INDEX(Vložit!B:B,A140+3)=\"\",\"\",INDEX(Vložit!B:B,A140+3)))","v":""},{"$f":"IF(A140=\"\",\"\",INDEX(Vložit!B:B,A140+4))","v":""}]
[{"$f":"IF(A140=\"\",\"\",IF(INDEX(Vložit!A:A,(ROW(A140)-1)*17+2)<>\"\",(ROW(A140)-1)*17+2,\"\"))","v":""},{"$f":"IF(A141=\"\",\"\",\"Číslo smlouvy:  \"&INDEX(Vložit!B:B,A141+1)&CHAR(10)&\"Jméno a příjmení:  \"&INDEX(Vložit!B:B,A141+2)&CHAR(10)&\"Ulice:  \"&INDEX(Vložit!B:B,A141+3)&CHAR(10)&\"Č. pop. / č. orient.:  \"&INDEX(Vložit!B:B,A141+4)&CHAR(10)&\"Obec:  \"&INDEX(Vložit!B:B,A141+5))","v":""},{"$f":"IF(A141=\"\",\"\",INDEX(Vložit!A:A,A141)&CHAR(10)&\"Telefon: \"&INDEX(Vložit!B:B,A141+6)&\" / \"&INDEX(Vložit!B:B,A141+7)&CHAR(10)&\"Typ objednávky: \"&INDEX(Vložit!D:D,A141+1)&CHAR(10)&INDEX(Vložit!C:C,A141)&CHAR(10)&INDEX(Vložit!D:D,A141))","v":""},{"$f":"IF(A141=\"\",\"\",IF(INDEX(Vložit!B:B,A141+8)=\"\",\"\",\"Instrukce: \"&INDEX(Vložit!B:B,A141+8)))","v":""},{"$f":"IF(A141=\"\",\"\",IF(INDEX(Vložit!B:B,A141+1)=\"\",\"\",INDEX(Vložit!B:B,A141+1)))","v":""},{"$f":"IF(A141=\"\",\"\",MID(INDEX(Vložit!A:A,A141),19,10))","v":""},{"$f":"IF(A141=\"\",\"\",IF(INDEX(Vložit!B:B,A141+5)=\"\",\"\",VLOOKUP(INDEX(Vložit!B:B,A141+5),Pomocná!B140:C10139,2,FALSE)))","v":""},{"$f":"IF(A141=\"\",\"\",INDEX(Vložit!B:B,A141+2))","v":""},{"$f":"IF(A141=\"\",\"\",IF(INDEX(Vložit!B:B,A141+3)=\"\",\"\",INDEX(Vložit!B:B,A141+3)))","v":""},{"$f":"IF(A141=\"\",\"\",INDEX(Vložit!B:B,A141+4))","v":""}]
[{"$f":"IF(A141=\"\",\"\",IF(INDEX(Vložit!A:A,(ROW(A141)-1)*17+2)<>\"\",(ROW(A141)-1)*17+2,\"\"))","v":""},{"$f":"IF(A142=\"\",\"\",\"Číslo smlouvy:  \"&INDEX(Vložit!B:B,A142+1)&CHAR(10)&\"Jméno a příjmení:  \"&INDEX(Vložit!B:B,A142+2)&CHAR(10)&\"Ulice:  \"&INDEX(Vložit!B:B,A142+3)&CHAR(10)&\"Č. pop. / č. orient.:  \"&INDEX(Vložit!B:B,A142+4)&CHAR(10)&\"Obec:  \"&INDEX(Vložit!B:B,A142+5))","v":""},{"$f":"IF(A142=\"\",\"\",INDEX(Vložit!A:A,A142)&CHAR(10)&\"Telefon: \"&INDEX(Vložit!B:B,A142+6)&\" / \"&INDEX(Vložit!B:B,A142+7)&CHAR(10)&\"Typ objednávky: \"&INDEX(Vložit!D:D,A142+1)&CHAR(10)&INDEX(Vložit!C:C,A142)&CHAR(10)&INDEX(Vložit!D:D,A142))","v":""},{"$f":"IF(A142=\"\",\"\",IF(INDEX(Vložit!B:B,A142+8)=\"\",\"\",\"Instrukce: \"&INDEX(Vložit!B:B,A142+8)))","v":""},{"$f":"IF(A142=\"\",\"\",IF(INDEX(Vložit!B:B,A142+1)=\"\",\"\",INDEX(Vložit!B:B,A142+1)))","v":""},{"$f":"IF(A142=\"\",\"\",MID(INDEX(Vložit!A:A,A142),19,10))","v":""},{"$f":"IF(A142=\"\",\"\",IF(INDEX(Vložit!B:B,A142+5)=\"\",\"\",VLOOKUP(INDEX(Vložit!B:B,A142+5),Pomocná!B141:C10140,2,FALSE)))","v":""},{"$f":"IF(A142=\"\",\"\",INDEX(Vložit!B:B,A142+2))","v":""},{"$f":"IF(A142=\"\",\"\",IF(INDEX(Vložit!B:B,A142+3)=\"\",\"\",INDEX(Vložit!B:B,A142+3)))","v":""},{"$f":"IF(A142=\"\",\"\",INDEX(Vložit!B:B,A142+4))","v":""}]
[{"$f":"IF(A142=\"\",\"\",IF(INDEX(Vložit!A:A,(ROW(A142)-1)*17+2)<>\"\",(ROW(A142)-1)*17+2,\"\"))","v":""},{"$f":"IF(A143=\"\",\"\",\"Číslo smlouvy:  \"&INDEX(Vložit!B:B,A143+1)&CHAR(10)&\"Jméno a příjmení:  \"&INDEX(Vložit!B:B,A143+2)&CHAR(10)&\"Ulice:  \"&INDEX(Vložit!B:B,A143+3)&CHAR(10)&\"Č. pop. / č. orient.:  \"&INDEX(Vložit!B:B,A143+4)&CHAR(10)&\"Obec:  \"&INDEX(Vložit!B:B,A143+5))","v":""},{"$f":"IF(A143=\"\",\"\",INDEX(Vložit!A:A,A143)&CHAR(10)&\"Telefon: \"&INDEX(Vložit!B:B,A143+6)&\" / \"&INDEX(Vložit!B:B,A143+7)&CHAR(10)&\"Typ objednávky: \"&INDEX(Vložit!D:D,A143+1)&CHAR(10)&INDEX(Vložit!C:C,A143)&CHAR(10)&INDEX(Vložit!D:D,A143))","v":""},{"$f":"IF(A143=\"\",\"\",IF(INDEX(Vložit!B:B,A143+8)=\"\",\"\",\"Instrukce: \"&INDEX(Vložit!B:B,A143+8)))","v":""},{"$f":"IF(A143=\"\",\"\",IF(INDEX(Vložit!B:B,A143+1)=\"\",\"\",INDEX(Vložit!B:B,A143+1)))","v":""},{"$f":"IF(A143=\"\",\"\",MID(INDEX(Vložit!A:A,A143),19,10))","v":""},{"$f":"IF(A143=\"\",\"\",IF(INDEX(Vložit!B:B,A143+5)=\"\",\"\",VLOOKUP(INDEX(Vložit!B:B,A143+5),Pomocná!B142:C10141,2,FALSE)))","v":""},{"$f":"IF(A143=\"\",\"\",INDEX(Vložit!B:B,A143+2))","v":""},{"$f":"IF(A143=\"\",\"\",IF(INDEX(Vložit!B:B,A143+3)=\"\",\"\",INDEX(Vložit!B:B,A143+3)))","v":""},{"$f":"IF(A143=\"\",\"\",INDEX(Vložit!B:B,A143+4))","v":""}]
[{"$f":"IF(A143=\"\",\"\",IF(INDEX(Vložit!A:A,(ROW(A143)-1)*17+2)<>\"\",(ROW(A143)-1)*17+2,\"\"))","v":""},{"$f":"IF(A144=\"\",\"\",\"Číslo smlouvy:  \"&INDEX(Vložit!B:B,A144+1)&CHAR(10)&\"Jméno a příjmení:  \"&INDEX(Vložit!B:B,A144+2)&CHAR(10)&\"Ulice:  \"&INDEX(Vložit!B:B,A144+3)&CHAR(10)&\"Č. pop. / č. orient.:  \"&INDEX(Vložit!B:B,A144+4)&CHAR(10)&\"Obec:  \"&INDEX(Vložit!B:B,A144+5))","v":""},{"$f":"IF(A144=\"\",\"\",INDEX(Vložit!A:A,A144)&CHAR(10)&\"Telefon: \"&INDEX(Vložit!B:B,A144+6)&\" / \"&INDEX(Vložit!B:B,A144+7)&CHAR(10)&\"Typ objednávky: \"&INDEX(Vložit!D:D,A144+1)&CHAR(10)&INDEX(Vložit!C:C,A144)&CHAR(10)&INDEX(Vložit!D:D,A144))","v":""},{"$f":"IF(A144=\"\",\"\",IF(INDEX(Vložit!B:B,A144+8)=\"\",\"\",\"Instrukce: \"&INDEX(Vložit!B:B,A144+8)))","v":""},{"$f":"IF(A144=\"\",\"\",IF(INDEX(Vložit!B:B,A144+1)=\"\",\"\",INDEX(Vložit!B:B,A144+1)))","v":""},{"$f":"IF(A144=\"\",\"\",MID(INDEX(Vložit!A:A,A144),19,10))","v":""},{"$f":"IF(A144=\"\",\"\",IF(INDEX(Vložit!B:B,A144+5)=\"\",\"\",VLOOKUP(INDEX(Vložit!B:B,A144+5),Pomocná!B143:C10142,2,FALSE)))","v":""},{"$f":"IF(A144=\"\",\"\",INDEX(Vložit!B:B,A144+2))","v":""},{"$f":"IF(A144=\"\",\"\",IF(INDEX(Vložit!B:B,A144+3)=\"\",\"\",INDEX(Vložit!B:B,A144+3)))","v":""},{"$f":"IF(A144=\"\",\"\",INDEX(Vložit!B:B,A144+4))","v":""}]
[{"$f":"IF(A144=\"\",\"\",IF(INDEX(Vložit!A:A,(ROW(A144)-1)*17+2)<>\"\",(ROW(A144)-1)*17+2,\"\"))","v":""},{"$f":"IF(A145=\"\",\"\",\"Číslo smlouvy:  \"&INDEX(Vložit!B:B,A145+1)&CHAR(10)&\"Jméno a příjmení:  \"&INDEX(Vložit!B:B,A145+2)&CHAR(10)&\"Ulice:  \"&INDEX(Vložit!B:B,A145+3)&CHAR(10)&\"Č. pop. / č. orient.:  \"&INDEX(Vložit!B:B,A145+4)&CHAR(10)&\"Obec:  \"&INDEX(Vložit!B:B,A145+5))","v":""},{"$f":"IF(A145=\"\",\"\",INDEX(Vložit!A:A,A145)&CHAR(10)&\"Telefon: \"&INDEX(Vložit!B:B,A145+6)&\" / \"&INDEX(Vložit!B:B,A145+7)&CHAR(10)&\"Typ objednávky: \"&INDEX(Vložit!D:D,A145+1)&CHAR(10)&INDEX(Vložit!C:C,A145)&CHAR(10)&INDEX(Vložit!D:D,A145))","v":""},{"$f":"IF(A145=\"\",\"\",IF(INDEX(Vložit!B:B,A145+8)=\"\",\"\",\"Instrukce: \"&INDEX(Vložit!B:B,A145+8)))","v":""},{"$f":"IF(A145=\"\",\"\",IF(INDEX(Vložit!B:B,A145+1)=\"\",\"\",INDEX(Vložit!B:B,A145+1)))","v":""},{"$f":"IF(A145=\"\",\"\",MID(INDEX(Vložit!A:A,A145),19,10))","v":""},{"$f":"IF(A145=\"\",\"\",IF(INDEX(Vložit!B:B,A145+5)=\"\",\"\",VLOOKUP(INDEX(Vložit!B:B,A145+5),Pomocná!B144:C10143,2,FALSE)))","v":""},{"$f":"IF(A145=\"\",\"\",INDEX(Vložit!B:B,A145+2))","v":""},{"$f":"IF(A145=\"\",\"\",IF(INDEX(Vložit!B:B,A145+3)=\"\",\"\",INDEX(Vložit!B:B,A145+3)))","v":""},{"$f":"IF(A145=\"\",\"\",INDEX(Vložit!B:B,A145+4))","v":""}]
[{"$f":"IF(A145=\"\",\"\",IF(INDEX(Vložit!A:A,(ROW(A145)-1)*17+2)<>\"\",(ROW(A145)-1)*17+2,\"\"))","v":""},{"$f":"IF(A146=\"\",\"\",\"Číslo smlouvy:  \"&INDEX(Vložit!B:B,A146+1)&CHAR(10)&\"Jméno a příjmení:  \"&INDEX(Vložit!B:B,A146+2)&CHAR(10)&\"Ulice:  \"&INDEX(Vložit!B:B,A146+3)&CHAR(10)&\"Č. pop. / č. orient.:  \"&INDEX(Vložit!B:B,A146+4)&CHAR(10)&\"Obec:  \"&INDEX(Vložit!B:B,A146+5))","v":""},{"$f":"IF(A146=\"\",\"\",INDEX(Vložit!A:A,A146)&CHAR(10)&\"Telefon: \"&INDEX(Vložit!B:B,A146+6)&\" / \"&INDEX(Vložit!B:B,A146+7)&CHAR(10)&\"Typ objednávky: \"&INDEX(Vložit!D:D,A146+1)&CHAR(10)&INDEX(Vložit!C:C,A146)&CHAR(10)&INDEX(Vložit!D:D,A146))","v":""},{"$f":"IF(A146=\"\",\"\",IF(INDEX(Vložit!B:B,A146+8)=\"\",\"\",\"Instrukce: \"&INDEX(Vložit!B:B,A146+8)))","v":""},{"$f":"IF(A146=\"\",\"\",IF(INDEX(Vložit!B:B,A146+1)=\"\",\"\",INDEX(Vložit!B:B,A146+1)))","v":""},{"$f":"IF(A146=\"\",\"\",MID(INDEX(Vložit!A:A,A146),19,10))","v":""},{"$f":"IF(A146=\"\",\"\",IF(INDEX(Vložit!B:B,A146+5)=\"\",\"\",VLOOKUP(INDEX(Vložit!B:B,A146+5),Pomocná!B145:C10144,2,FALSE)))","v":""},{"$f":"IF(A146=\"\",\"\",INDEX(Vložit!B:B,A146+2))","v":""},{"$f":"IF(A146=\"\",\"\",IF(INDEX(Vložit!B:B,A146+3)=\"\",\"\",INDEX(Vložit!B:B,A146+3)))","v":""},{"$f":"IF(A146=\"\",\"\",INDEX(Vložit!B:B,A146+4))","v":""}]
[{"$f":"IF(A146=\"\",\"\",IF(INDEX(Vložit!A:A,(ROW(A146)-1)*17+2)<>\"\",(ROW(A146)-1)*17+2,\"\"))","v":""},{"$f":"IF(A147=\"\",\"\",\"Číslo smlouvy:  \"&INDEX(Vložit!B:B,A147+1)&CHAR(10)&\"Jméno a příjmení:  \"&INDEX(Vložit!B:B,A147+2)&CHAR(10)&\"Ulice:  \"&INDEX(Vložit!B:B,A147+3)&CHAR(10)&\"Č. pop. / č. orient.:  \"&INDEX(Vložit!B:B,A147+4)&CHAR(10)&\"Obec:  \"&INDEX(Vložit!B:B,A147+5))","v":""},{"$f":"IF(A147=\"\",\"\",INDEX(Vložit!A:A,A147)&CHAR(10)&\"Telefon: \"&INDEX(Vložit!B:B,A147+6)&\" / \"&INDEX(Vložit!B:B,A147+7)&CHAR(10)&\"Typ objednávky: \"&INDEX(Vložit!D:D,A147+1)&CHAR(10)&INDEX(Vložit!C:C,A147)&CHAR(10)&INDEX(Vložit!D:D,A147))","v":""},{"$f":"IF(A147=\"\",\"\",IF(INDEX(Vložit!B:B,A147+8)=\"\",\"\",\"Instrukce: \"&INDEX(Vložit!B:B,A147+8)))","v":""},{"$f":"IF(A147=\"\",\"\",IF(INDEX(Vložit!B:B,A147+1)=\"\",\"\",INDEX(Vložit!B:B,A147+1)))","v":""},{"$f":"IF(A147=\"\",\"\",MID(INDEX(Vložit!A:A,A147),19,10))","v":""},{"$f":"IF(A147=\"\",\"\",IF(INDEX(Vložit!B:B,A147+5)=\"\",\"\",VLOOKUP(INDEX(Vložit!B:B,A147+5),Pomocná!B146:C10145,2,FALSE)))","v":""},{"$f":"IF(A147=\"\",\"\",INDEX(Vložit!B:B,A147+2))","v":""},{"$f":"IF(A147=\"\",\"\",IF(INDEX(Vložit!B:B,A147+3)=\"\",\"\",INDEX(Vložit!B:B,A147+3)))","v":""},{"$f":"IF(A147=\"\",\"\",INDEX(Vložit!B:B,A147+4))","v":""}]
[{"$f":"IF(A147=\"\",\"\",IF(INDEX(Vložit!A:A,(ROW(A147)-1)*17+2)<>\"\",(ROW(A147)-1)*17+2,\"\"))","v":""},{"$f":"IF(A148=\"\",\"\",\"Číslo smlouvy:  \"&INDEX(Vložit!B:B,A148+1)&CHAR(10)&\"Jméno a příjmení:  \"&INDEX(Vložit!B:B,A148+2)&CHAR(10)&\"Ulice:  \"&INDEX(Vložit!B:B,A148+3)&CHAR(10)&\"Č. pop. / č. orient.:  \"&INDEX(Vložit!B:B,A148+4)&CHAR(10)&\"Obec:  \"&INDEX(Vložit!B:B,A148+5))","v":""},{"$f":"IF(A148=\"\",\"\",INDEX(Vložit!A:A,A148)&CHAR(10)&\"Telefon: \"&INDEX(Vložit!B:B,A148+6)&\" / \"&INDEX(Vložit!B:B,A148+7)&CHAR(10)&\"Typ objednávky: \"&INDEX(Vložit!D:D,A148+1)&CHAR(10)&INDEX(Vložit!C:C,A148)&CHAR(10)&INDEX(Vložit!D:D,A148))","v":""},{"$f":"IF(A148=\"\",\"\",IF(INDEX(Vložit!B:B,A148+8)=\"\",\"\",\"Instrukce: \"&INDEX(Vložit!B:B,A148+8)))","v":""},{"$f":"IF(A148=\"\",\"\",IF(INDEX(Vložit!B:B,A148+1)=\"\",\"\",INDEX(Vložit!B:B,A148+1)))","v":""},{"$f":"IF(A148=\"\",\"\",MID(INDEX(Vložit!A:A,A148),19,10))","v":""},{"$f":"IF(A148=\"\",\"\",IF(INDEX(Vložit!B:B,A148+5)=\"\",\"\",VLOOKUP(INDEX(Vložit!B:B,A148+5),Pomocná!B147:C10146,2,FALSE)))","v":""},{"$f":"IF(A148=\"\",\"\",INDEX(Vložit!B:B,A148+2))","v":""},{"$f":"IF(A148=\"\",\"\",IF(INDEX(Vložit!B:B,A148+3)=\"\",\"\",INDEX(Vložit!B:B,A148+3)))","v":""},{"$f":"IF(A148=\"\",\"\",INDEX(Vložit!B:B,A148+4))","v":""}]
[{"$f":"IF(A148=\"\",\"\",IF(INDEX(Vložit!A:A,(ROW(A148)-1)*17+2)<>\"\",(ROW(A148)-1)*17+2,\"\"))","v":""},{"$f":"IF(A149=\"\",\"\",\"Číslo smlouvy:  \"&INDEX(Vložit!B:B,A149+1)&CHAR(10)&\"Jméno a příjmení:  \"&INDEX(Vložit!B:B,A149+2)&CHAR(10)&\"Ulice:  \"&INDEX(Vložit!B:B,A149+3)&CHAR(10)&\"Č. pop. / č. orient.:  \"&INDEX(Vložit!B:B,A149+4)&CHAR(10)&\"Obec:  \"&INDEX(Vložit!B:B,A149+5))","v":""},{"$f":"IF(A149=\"\",\"\",INDEX(Vložit!A:A,A149)&CHAR(10)&\"Telefon: \"&INDEX(Vložit!B:B,A149+6)&\" / \"&INDEX(Vložit!B:B,A149+7)&CHAR(10)&\"Typ objednávky: \"&INDEX(Vložit!D:D,A149+1)&CHAR(10)&INDEX(Vložit!C:C,A149)&CHAR(10)&INDEX(Vložit!D:D,A149))","v":""},{"$f":"IF(A149=\"\",\"\",IF(INDEX(Vložit!B:B,A149+8)=\"\",\"\",\"Instrukce: \"&INDEX(Vložit!B:B,A149+8)))","v":""},{"$f":"IF(A149=\"\",\"\",IF(INDEX(Vložit!B:B,A149+1)=\"\",\"\",INDEX(Vložit!B:B,A149+1)))","v":""},{"$f":"IF(A149=\"\",\"\",MID(INDEX(Vložit!A:A,A149),19,10))","v":""},{"$f":"IF(A149=\"\",\"\",IF(INDEX(Vložit!B:B,A149+5)=\"\",\"\",VLOOKUP(INDEX(Vložit!B:B,A149+5),Pomocná!B148:C10147,2,FALSE)))","v":""},{"$f":"IF(A149=\"\",\"\",INDEX(Vložit!B:B,A149+2))","v":""},{"$f":"IF(A149=\"\",\"\",IF(INDEX(Vložit!B:B,A149+3)=\"\",\"\",INDEX(Vložit!B:B,A149+3)))","v":""},{"$f":"IF(A149=\"\",\"\",INDEX(Vložit!B:B,A149+4))","v":""}]
[{"$f":"IF(A149=\"\",\"\",IF(INDEX(Vložit!A:A,(ROW(A149)-1)*17+2)<>\"\",(ROW(A149)-1)*17+2,\"\"))","v":""},{"$f":"IF(A150=\"\",\"\",\"Číslo smlouvy:  \"&INDEX(Vložit!B:B,A150+1)&CHAR(10)&\"Jméno a příjmení:  \"&INDEX(Vložit!B:B,A150+2)&CHAR(10)&\"Ulice:  \"&INDEX(Vložit!B:B,A150+3)&CHAR(10)&\"Č. pop. / č. orient.:  \"&INDEX(Vložit!B:B,A150+4)&CHAR(10)&\"Obec:  \"&INDEX(Vložit!B:B,A150+5))","v":""},{"$f":"IF(A150=\"\",\"\",INDEX(Vložit!A:A,A150)&CHAR(10)&\"Telefon: \"&INDEX(Vložit!B:B,A150+6)&\" / \"&INDEX(Vložit!B:B,A150+7)&CHAR(10)&\"Typ objednávky: \"&INDEX(Vložit!D:D,A150+1)&CHAR(10)&INDEX(Vložit!C:C,A150)&CHAR(10)&INDEX(Vložit!D:D,A150))","v":""},{"$f":"IF(A150=\"\",\"\",IF(INDEX(Vložit!B:B,A150+8)=\"\",\"\",\"Instrukce: \"&INDEX(Vložit!B:B,A150+8)))","v":""},{"$f":"IF(A150=\"\",\"\",IF(INDEX(Vložit!B:B,A150+1)=\"\",\"\",INDEX(Vložit!B:B,A150+1)))","v":""},{"$f":"IF(A150=\"\",\"\",MID(INDEX(Vložit!A:A,A150),19,10))","v":""},{"$f":"IF(A150=\"\",\"\",IF(INDEX(Vložit!B:B,A150+5)=\"\",\"\",VLOOKUP(INDEX(Vložit!B:B,A150+5),Pomocná!B149:C10148,2,FALSE)))","v":""},{"$f":"IF(A150=\"\",\"\",INDEX(Vložit!B:B,A150+2))","v":""},{"$f":"IF(A150=\"\",\"\",IF(INDEX(Vložit!B:B,A150+3)=\"\",\"\",INDEX(Vložit!B:B,A150+3)))","v":""},{"$f":"IF(A150=\"\",\"\",INDEX(Vložit!B:B,A150+4))","v":""}]
[{"$f":"IF(A150=\"\",\"\",IF(INDEX(Vložit!A:A,(ROW(A150)-1)*17+2)<>\"\",(ROW(A150)-1)*17+2,\"\"))","v":""},{"$f":"IF(A151=\"\",\"\",\"Číslo smlouvy:  \"&INDEX(Vložit!B:B,A151+1)&CHAR(10)&\"Jméno a příjmení:  \"&INDEX(Vložit!B:B,A151+2)&CHAR(10)&\"Ulice:  \"&INDEX(Vložit!B:B,A151+3)&CHAR(10)&\"Č. pop. / č. orient.:  \"&INDEX(Vložit!B:B,A151+4)&CHAR(10)&\"Obec:  \"&INDEX(Vložit!B:B,A151+5))","v":""},{"$f":"IF(A151=\"\",\"\",INDEX(Vložit!A:A,A151)&CHAR(10)&\"Telefon: \"&INDEX(Vložit!B:B,A151+6)&\" / \"&INDEX(Vložit!B:B,A151+7)&CHAR(10)&\"Typ objednávky: \"&INDEX(Vložit!D:D,A151+1)&CHAR(10)&INDEX(Vložit!C:C,A151)&CHAR(10)&INDEX(Vložit!D:D,A151))","v":""},{"$f":"IF(A151=\"\",\"\",IF(INDEX(Vložit!B:B,A151+8)=\"\",\"\",\"Instrukce: \"&INDEX(Vložit!B:B,A151+8)))","v":""},{"$f":"IF(A151=\"\",\"\",IF(INDEX(Vložit!B:B,A151+1)=\"\",\"\",INDEX(Vložit!B:B,A151+1)))","v":""},{"$f":"IF(A151=\"\",\"\",MID(INDEX(Vložit!A:A,A151),19,10))","v":""},{"$f":"IF(A151=\"\",\"\",IF(INDEX(Vložit!B:B,A151+5)=\"\",\"\",VLOOKUP(INDEX(Vložit!B:B,A151+5),Pomocná!B150:C10149,2,FALSE)))","v":""},{"$f":"IF(A151=\"\",\"\",INDEX(Vložit!B:B,A151+2))","v":""},{"$f":"IF(A151=\"\",\"\",IF(INDEX(Vložit!B:B,A151+3)=\"\",\"\",INDEX(Vložit!B:B,A151+3)))","v":""},{"$f":"IF(A151=\"\",\"\",INDEX(Vložit!B:B,A151+4))","v":""}]
[{"$f":"IF(A151=\"\",\"\",IF(INDEX(Vložit!A:A,(ROW(A151)-1)*17+2)<>\"\",(ROW(A151)-1)*17+2,\"\"))","v":""},{"$f":"IF(A152=\"\",\"\",\"Číslo smlouvy:  \"&INDEX(Vložit!B:B,A152+1)&CHAR(10)&\"Jméno a příjmení:  \"&INDEX(Vložit!B:B,A152+2)&CHAR(10)&\"Ulice:  \"&INDEX(Vložit!B:B,A152+3)&CHAR(10)&\"Č. pop. / č. orient.:  \"&INDEX(Vložit!B:B,A152+4)&CHAR(10)&\"Obec:  \"&INDEX(Vložit!B:B,A152+5))","v":""},{"$f":"IF(A152=\"\",\"\",INDEX(Vložit!A:A,A152)&CHAR(10)&\"Telefon: \"&INDEX(Vložit!B:B,A152+6)&\" / \"&INDEX(Vložit!B:B,A152+7)&CHAR(10)&\"Typ objednávky: \"&INDEX(Vložit!D:D,A152+1)&CHAR(10)&INDEX(Vložit!C:C,A152)&CHAR(10)&INDEX(Vložit!D:D,A152))","v":""},{"$f":"IF(A152=\"\",\"\",IF(INDEX(Vložit!B:B,A152+8)=\"\",\"\",\"Instrukce: \"&INDEX(Vložit!B:B,A152+8)))","v":""},{"$f":"IF(A152=\"\",\"\",IF(INDEX(Vložit!B:B,A152+1)=\"\",\"\",INDEX(Vložit!B:B,A152+1)))","v":""},{"$f":"IF(A152=\"\",\"\",MID(INDEX(Vložit!A:A,A152),19,10))","v":""},{"$f":"IF(A152=\"\",\"\",IF(INDEX(Vložit!B:B,A152+5)=\"\",\"\",VLOOKUP(INDEX(Vložit!B:B,A152+5),Pomocná!B151:C10150,2,FALSE)))","v":""},{"$f":"IF(A152=\"\",\"\",INDEX(Vložit!B:B,A152+2))","v":""},{"$f":"IF(A152=\"\",\"\",IF(INDEX(Vložit!B:B,A152+3)=\"\",\"\",INDEX(Vložit!B:B,A152+3)))","v":""},{"$f":"IF(A152=\"\",\"\",INDEX(Vložit!B:B,A152+4))","v":""}]
[{"$f":"IF(A152=\"\",\"\",IF(INDEX(Vložit!A:A,(ROW(A152)-1)*17+2)<>\"\",(ROW(A152)-1)*17+2,\"\"))","v":""},{"$f":"IF(A153=\"\",\"\",\"Číslo smlouvy:  \"&INDEX(Vložit!B:B,A153+1)&CHAR(10)&\"Jméno a příjmení:  \"&INDEX(Vložit!B:B,A153+2)&CHAR(10)&\"Ulice:  \"&INDEX(Vložit!B:B,A153+3)&CHAR(10)&\"Č. pop. / č. orient.:  \"&INDEX(Vložit!B:B,A153+4)&CHAR(10)&\"Obec:  \"&INDEX(Vložit!B:B,A153+5))","v":""},{"$f":"IF(A153=\"\",\"\",INDEX(Vložit!A:A,A153)&CHAR(10)&\"Telefon: \"&INDEX(Vložit!B:B,A153+6)&\" / \"&INDEX(Vložit!B:B,A153+7)&CHAR(10)&\"Typ objednávky: \"&INDEX(Vložit!D:D,A153+1)&CHAR(10)&INDEX(Vložit!C:C,A153)&CHAR(10)&INDEX(Vložit!D:D,A153))","v":""},{"$f":"IF(A153=\"\",\"\",IF(INDEX(Vložit!B:B,A153+8)=\"\",\"\",\"Instrukce: \"&INDEX(Vložit!B:B,A153+8)))","v":""},{"$f":"IF(A153=\"\",\"\",IF(INDEX(Vložit!B:B,A153+1)=\"\",\"\",INDEX(Vložit!B:B,A153+1)))","v":""},{"$f":"IF(A153=\"\",\"\",MID(INDEX(Vložit!A:A,A153),19,10))","v":""},{"$f":"IF(A153=\"\",\"\",IF(INDEX(Vložit!B:B,A153+5)=\"\",\"\",VLOOKUP(INDEX(Vložit!B:B,A153+5),Pomocná!B152:C10151,2,FALSE)))","v":""},{"$f":"IF(A153=\"\",\"\",INDEX(Vložit!B:B,A153+2))","v":""},{"$f":"IF(A153=\"\",\"\",IF(INDEX(Vložit!B:B,A153+3)=\"\",\"\",INDEX(Vložit!B:B,A153+3)))","v":""},{"$f":"IF(A153=\"\",\"\",INDEX(Vložit!B:B,A153+4))","v":""}]
[{"$f":"IF(A153=\"\",\"\",IF(INDEX(Vložit!A:A,(ROW(A153)-1)*17+2)<>\"\",(ROW(A153)-1)*17+2,\"\"))","v":""},{"$f":"IF(A154=\"\",\"\",\"Číslo smlouvy:  \"&INDEX(Vložit!B:B,A154+1)&CHAR(10)&\"Jméno a příjmení:  \"&INDEX(Vložit!B:B,A154+2)&CHAR(10)&\"Ulice:  \"&INDEX(Vložit!B:B,A154+3)&CHAR(10)&\"Č. pop. / č. orient.:  \"&INDEX(Vložit!B:B,A154+4)&CHAR(10)&\"Obec:  \"&INDEX(Vložit!B:B,A154+5))","v":""},{"$f":"IF(A154=\"\",\"\",INDEX(Vložit!A:A,A154)&CHAR(10)&\"Telefon: \"&INDEX(Vložit!B:B,A154+6)&\" / \"&INDEX(Vložit!B:B,A154+7)&CHAR(10)&\"Typ objednávky: \"&INDEX(Vložit!D:D,A154+1)&CHAR(10)&INDEX(Vložit!C:C,A154)&CHAR(10)&INDEX(Vložit!D:D,A154))","v":""},{"$f":"IF(A154=\"\",\"\",IF(INDEX(Vložit!B:B,A154+8)=\"\",\"\",\"Instrukce: \"&INDEX(Vložit!B:B,A154+8)))","v":""},{"$f":"IF(A154=\"\",\"\",IF(INDEX(Vložit!B:B,A154+1)=\"\",\"\",INDEX(Vložit!B:B,A154+1)))","v":""},{"$f":"IF(A154=\"\",\"\",MID(INDEX(Vložit!A:A,A154),19,10))","v":""},{"$f":"IF(A154=\"\",\"\",IF(INDEX(Vložit!B:B,A154+5)=\"\",\"\",VLOOKUP(INDEX(Vložit!B:B,A154+5),Pomocná!B153:C10152,2,FALSE)))","v":""},{"$f":"IF(A154=\"\",\"\",INDEX(Vložit!B:B,A154+2))","v":""},{"$f":"IF(A154=\"\",\"\",IF(INDEX(Vložit!B:B,A154+3)=\"\",\"\",INDEX(Vložit!B:B,A154+3)))","v":""},{"$f":"IF(A154=\"\",\"\",INDEX(Vložit!B:B,A154+4))","v":""}]
[{"$f":"IF(A154=\"\",\"\",IF(INDEX(Vložit!A:A,(ROW(A154)-1)*17+2)<>\"\",(ROW(A154)-1)*17+2,\"\"))","v":""},{"$f":"IF(A155=\"\",\"\",\"Číslo smlouvy:  \"&INDEX(Vložit!B:B,A155+1)&CHAR(10)&\"Jméno a příjmení:  \"&INDEX(Vložit!B:B,A155+2)&CHAR(10)&\"Ulice:  \"&INDEX(Vložit!B:B,A155+3)&CHAR(10)&\"Č. pop. / č. orient.:  \"&INDEX(Vložit!B:B,A155+4)&CHAR(10)&\"Obec:  \"&INDEX(Vložit!B:B,A155+5))","v":""},{"$f":"IF(A155=\"\",\"\",INDEX(Vložit!A:A,A155)&CHAR(10)&\"Telefon: \"&INDEX(Vložit!B:B,A155+6)&\" / \"&INDEX(Vložit!B:B,A155+7)&CHAR(10)&\"Typ objednávky: \"&INDEX(Vložit!D:D,A155+1)&CHAR(10)&INDEX(Vložit!C:C,A155)&CHAR(10)&INDEX(Vložit!D:D,A155))","v":""},{"$f":"IF(A155=\"\",\"\",IF(INDEX(Vložit!B:B,A155+8)=\"\",\"\",\"Instrukce: \"&INDEX(Vložit!B:B,A155+8)))","v":""},{"$f":"IF(A155=\"\",\"\",IF(INDEX(Vložit!B:B,A155+1)=\"\",\"\",INDEX(Vložit!B:B,A155+1)))","v":""},{"$f":"IF(A155=\"\",\"\",MID(INDEX(Vložit!A:A,A155),19,10))","v":""},{"$f":"IF(A155=\"\",\"\",IF(INDEX(Vložit!B:B,A155+5)=\"\",\"\",VLOOKUP(INDEX(Vložit!B:B,A155+5),Pomocná!B154:C10153,2,FALSE)))","v":""},{"$f":"IF(A155=\"\",\"\",INDEX(Vložit!B:B,A155+2))","v":""},{"$f":"IF(A155=\"\",\"\",IF(INDEX(Vložit!B:B,A155+3)=\"\",\"\",INDEX(Vložit!B:B,A155+3)))","v":""},{"$f":"IF(A155=\"\",\"\",INDEX(Vložit!B:B,A155+4))","v":""}]
[{"$f":"IF(A155=\"\",\"\",IF(INDEX(Vložit!A:A,(ROW(A155)-1)*17+2)<>\"\",(ROW(A155)-1)*17+2,\"\"))","v":""},{"$f":"IF(A156=\"\",\"\",\"Číslo smlouvy:  \"&INDEX(Vložit!B:B,A156+1)&CHAR(10)&\"Jméno a příjmení:  \"&INDEX(Vložit!B:B,A156+2)&CHAR(10)&\"Ulice:  \"&INDEX(Vložit!B:B,A156+3)&CHAR(10)&\"Č. pop. / č. orient.:  \"&INDEX(Vložit!B:B,A156+4)&CHAR(10)&\"Obec:  \"&INDEX(Vložit!B:B,A156+5))","v":""},{"$f":"IF(A156=\"\",\"\",INDEX(Vložit!A:A,A156)&CHAR(10)&\"Telefon: \"&INDEX(Vložit!B:B,A156+6)&\" / \"&INDEX(Vložit!B:B,A156+7)&CHAR(10)&\"Typ objednávky: \"&INDEX(Vložit!D:D,A156+1)&CHAR(10)&INDEX(Vložit!C:C,A156)&CHAR(10)&INDEX(Vložit!D:D,A156))","v":""},{"$f":"IF(A156=\"\",\"\",IF(INDEX(Vložit!B:B,A156+8)=\"\",\"\",\"Instrukce: \"&INDEX(Vložit!B:B,A156+8)))","v":""},{"$f":"IF(A156=\"\",\"\",IF(INDEX(Vložit!B:B,A156+1)=\"\",\"\",INDEX(Vložit!B:B,A156+1)))","v":""},{"$f":"IF(A156=\"\",\"\",MID(INDEX(Vložit!A:A,A156),19,10))","v":""},{"$f":"IF(A156=\"\",\"\",IF(INDEX(Vložit!B:B,A156+5)=\"\",\"\",VLOOKUP(INDEX(Vložit!B:B,A156+5),Pomocná!B155:C10154,2,FALSE)))","v":""},{"$f":"IF(A156=\"\",\"\",INDEX(Vložit!B:B,A156+2))","v":""},{"$f":"IF(A156=\"\",\"\",IF(INDEX(Vložit!B:B,A156+3)=\"\",\"\",INDEX(Vložit!B:B,A156+3)))","v":""},{"$f":"IF(A156=\"\",\"\",INDEX(Vložit!B:B,A156+4))","v":""}]
[{"$f":"IF(A156=\"\",\"\",IF(INDEX(Vložit!A:A,(ROW(A156)-1)*17+2)<>\"\",(ROW(A156)-1)*17+2,\"\"))","v":""},{"$f":"IF(A157=\"\",\"\",\"Číslo smlouvy:  \"&INDEX(Vložit!B:B,A157+1)&CHAR(10)&\"Jméno a příjmení:  \"&INDEX(Vložit!B:B,A157+2)&CHAR(10)&\"Ulice:  \"&INDEX(Vložit!B:B,A157+3)&CHAR(10)&\"Č. pop. / č. orient.:  \"&INDEX(Vložit!B:B,A157+4)&CHAR(10)&\"Obec:  \"&INDEX(Vložit!B:B,A157+5))","v":""},{"$f":"IF(A157=\"\",\"\",INDEX(Vložit!A:A,A157)&CHAR(10)&\"Telefon: \"&INDEX(Vložit!B:B,A157+6)&\" / \"&INDEX(Vložit!B:B,A157+7)&CHAR(10)&\"Typ objednávky: \"&INDEX(Vložit!D:D,A157+1)&CHAR(10)&INDEX(Vložit!C:C,A157)&CHAR(10)&INDEX(Vložit!D:D,A157))","v":""},{"$f":"IF(A157=\"\",\"\",IF(INDEX(Vložit!B:B,A157+8)=\"\",\"\",\"Instrukce: \"&INDEX(Vložit!B:B,A157+8)))","v":""},{"$f":"IF(A157=\"\",\"\",IF(INDEX(Vložit!B:B,A157+1)=\"\",\"\",INDEX(Vložit!B:B,A157+1)))","v":""},{"$f":"IF(A157=\"\",\"\",MID(INDEX(Vložit!A:A,A157),19,10))","v":""},{"$f":"IF(A157=\"\",\"\",IF(INDEX(Vložit!B:B,A157+5)=\"\",\"\",VLOOKUP(INDEX(Vložit!B:B,A157+5),Pomocná!B156:C10155,2,FALSE)))","v":""},{"$f":"IF(A157=\"\",\"\",INDEX(Vložit!B:B,A157+2))","v":""},{"$f":"IF(A157=\"\",\"\",IF(INDEX(Vložit!B:B,A157+3)=\"\",\"\",INDEX(Vložit!B:B,A157+3)))","v":""},{"$f":"IF(A157=\"\",\"\",INDEX(Vložit!B:B,A157+4))","v":""}]
[{"$f":"IF(A157=\"\",\"\",IF(INDEX(Vložit!A:A,(ROW(A157)-1)*17+2)<>\"\",(ROW(A157)-1)*17+2,\"\"))","v":""},{"$f":"IF(A158=\"\",\"\",\"Číslo smlouvy:  \"&INDEX(Vložit!B:B,A158+1)&CHAR(10)&\"Jméno a příjmení:  \"&INDEX(Vložit!B:B,A158+2)&CHAR(10)&\"Ulice:  \"&INDEX(Vložit!B:B,A158+3)&CHAR(10)&\"Č. pop. / č. orient.:  \"&INDEX(Vložit!B:B,A158+4)&CHAR(10)&\"Obec:  \"&INDEX(Vložit!B:B,A158+5))","v":""},{"$f":"IF(A158=\"\",\"\",INDEX(Vložit!A:A,A158)&CHAR(10)&\"Telefon: \"&INDEX(Vložit!B:B,A158+6)&\" / \"&INDEX(Vložit!B:B,A158+7)&CHAR(10)&\"Typ objednávky: \"&INDEX(Vložit!D:D,A158+1)&CHAR(10)&INDEX(Vložit!C:C,A158)&CHAR(10)&INDEX(Vložit!D:D,A158))","v":""},{"$f":"IF(A158=\"\",\"\",IF(INDEX(Vložit!B:B,A158+8)=\"\",\"\",\"Instrukce: \"&INDEX(Vložit!B:B,A158+8)))","v":""},{"$f":"IF(A158=\"\",\"\",IF(INDEX(Vložit!B:B,A158+1)=\"\",\"\",INDEX(Vložit!B:B,A158+1)))","v":""},{"$f":"IF(A158=\"\",\"\",MID(INDEX(Vložit!A:A,A158),19,10))","v":""},{"$f":"IF(A158=\"\",\"\",IF(INDEX(Vložit!B:B,A158+5)=\"\",\"\",VLOOKUP(INDEX(Vložit!B:B,A158+5),Pomocná!B157:C10156,2,FALSE)))","v":""},{"$f":"IF(A158=\"\",\"\",INDEX(Vložit!B:B,A158+2))","v":""},{"$f":"IF(A158=\"\",\"\",IF(INDEX(Vložit!B:B,A158+3)=\"\",\"\",INDEX(Vložit!B:B,A158+3)))","v":""},{"$f":"IF(A158=\"\",\"\",INDEX(Vložit!B:B,A158+4))","v":""}]
[{"$f":"IF(A158=\"\",\"\",IF(INDEX(Vložit!A:A,(ROW(A158)-1)*17+2)<>\"\",(ROW(A158)-1)*17+2,\"\"))","v":""},{"$f":"IF(A159=\"\",\"\",\"Číslo smlouvy:  \"&INDEX(Vložit!B:B,A159+1)&CHAR(10)&\"Jméno a příjmení:  \"&INDEX(Vložit!B:B,A159+2)&CHAR(10)&\"Ulice:  \"&INDEX(Vložit!B:B,A159+3)&CHAR(10)&\"Č. pop. / č. orient.:  \"&INDEX(Vložit!B:B,A159+4)&CHAR(10)&\"Obec:  \"&INDEX(Vložit!B:B,A159+5))","v":""},{"$f":"IF(A159=\"\",\"\",INDEX(Vložit!A:A,A159)&CHAR(10)&\"Telefon: \"&INDEX(Vložit!B:B,A159+6)&\" / \"&INDEX(Vložit!B:B,A159+7)&CHAR(10)&\"Typ objednávky: \"&INDEX(Vložit!D:D,A159+1)&CHAR(10)&INDEX(Vložit!C:C,A159)&CHAR(10)&INDEX(Vložit!D:D,A159))","v":""},{"$f":"IF(A159=\"\",\"\",IF(INDEX(Vložit!B:B,A159+8)=\"\",\"\",\"Instrukce: \"&INDEX(Vložit!B:B,A159+8)))","v":""},{"$f":"IF(A159=\"\",\"\",IF(INDEX(Vložit!B:B,A159+1)=\"\",\"\",INDEX(Vložit!B:B,A159+1)))","v":""},{"$f":"IF(A159=\"\",\"\",MID(INDEX(Vložit!A:A,A159),19,10))","v":""},{"$f":"IF(A159=\"\",\"\",IF(INDEX(Vložit!B:B,A159+5)=\"\",\"\",VLOOKUP(INDEX(Vložit!B:B,A159+5),Pomocná!B158:C10157,2,FALSE)))","v":""},{"$f":"IF(A159=\"\",\"\",INDEX(Vložit!B:B,A159+2))","v":""},{"$f":"IF(A159=\"\",\"\",IF(INDEX(Vložit!B:B,A159+3)=\"\",\"\",INDEX(Vložit!B:B,A159+3)))","v":""},{"$f":"IF(A159=\"\",\"\",INDEX(Vložit!B:B,A159+4))","v":""}]
[{"$f":"IF(A159=\"\",\"\",IF(INDEX(Vložit!A:A,(ROW(A159)-1)*17+2)<>\"\",(ROW(A159)-1)*17+2,\"\"))","v":""},{"$f":"IF(A160=\"\",\"\",\"Číslo smlouvy:  \"&INDEX(Vložit!B:B,A160+1)&CHAR(10)&\"Jméno a příjmení:  \"&INDEX(Vložit!B:B,A160+2)&CHAR(10)&\"Ulice:  \"&INDEX(Vložit!B:B,A160+3)&CHAR(10)&\"Č. pop. / č. orient.:  \"&INDEX(Vložit!B:B,A160+4)&CHAR(10)&\"Obec:  \"&INDEX(Vložit!B:B,A160+5))","v":""},{"$f":"IF(A160=\"\",\"\",INDEX(Vložit!A:A,A160)&CHAR(10)&\"Telefon: \"&INDEX(Vložit!B:B,A160+6)&\" / \"&INDEX(Vložit!B:B,A160+7)&CHAR(10)&\"Typ objednávky: \"&INDEX(Vložit!D:D,A160+1)&CHAR(10)&INDEX(Vložit!C:C,A160)&CHAR(10)&INDEX(Vložit!D:D,A160))","v":""},{"$f":"IF(A160=\"\",\"\",IF(INDEX(Vložit!B:B,A160+8)=\"\",\"\",\"Instrukce: \"&INDEX(Vložit!B:B,A160+8)))","v":""},{"$f":"IF(A160=\"\",\"\",IF(INDEX(Vložit!B:B,A160+1)=\"\",\"\",INDEX(Vložit!B:B,A160+1)))","v":""},{"$f":"IF(A160=\"\",\"\",MID(INDEX(Vložit!A:A,A160),19,10))","v":""},{"$f":"IF(A160=\"\",\"\",IF(INDEX(Vložit!B:B,A160+5)=\"\",\"\",VLOOKUP(INDEX(Vložit!B:B,A160+5),Pomocná!B159:C10158,2,FALSE)))","v":""},{"$f":"IF(A160=\"\",\"\",INDEX(Vložit!B:B,A160+2))","v":""},{"$f":"IF(A160=\"\",\"\",IF(INDEX(Vložit!B:B,A160+3)=\"\",\"\",INDEX(Vložit!B:B,A160+3)))","v":""},{"$f":"IF(A160=\"\",\"\",INDEX(Vložit!B:B,A160+4))","v":""}]
[{"$f":"IF(A160=\"\",\"\",IF(INDEX(Vložit!A:A,(ROW(A160)-1)*17+2)<>\"\",(ROW(A160)-1)*17+2,\"\"))","v":""},{"$f":"IF(A161=\"\",\"\",\"Číslo smlouvy:  \"&INDEX(Vložit!B:B,A161+1)&CHAR(10)&\"Jméno a příjmení:  \"&INDEX(Vložit!B:B,A161+2)&CHAR(10)&\"Ulice:  \"&INDEX(Vložit!B:B,A161+3)&CHAR(10)&\"Č. pop. / č. orient.:  \"&INDEX(Vložit!B:B,A161+4)&CHAR(10)&\"Obec:  \"&INDEX(Vložit!B:B,A161+5))","v":""},{"$f":"IF(A161=\"\",\"\",INDEX(Vložit!A:A,A161)&CHAR(10)&\"Telefon: \"&INDEX(Vložit!B:B,A161+6)&\" / \"&INDEX(Vložit!B:B,A161+7)&CHAR(10)&\"Typ objednávky: \"&INDEX(Vložit!D:D,A161+1)&CHAR(10)&INDEX(Vložit!C:C,A161)&CHAR(10)&INDEX(Vložit!D:D,A161))","v":""},{"$f":"IF(A161=\"\",\"\",IF(INDEX(Vložit!B:B,A161+8)=\"\",\"\",\"Instrukce: \"&INDEX(Vložit!B:B,A161+8)))","v":""},{"$f":"IF(A161=\"\",\"\",IF(INDEX(Vložit!B:B,A161+1)=\"\",\"\",INDEX(Vložit!B:B,A161+1)))","v":""},{"$f":"IF(A161=\"\",\"\",MID(INDEX(Vložit!A:A,A161),19,10))","v":""},{"$f":"IF(A161=\"\",\"\",IF(INDEX(Vložit!B:B,A161+5)=\"\",\"\",VLOOKUP(INDEX(Vložit!B:B,A161+5),Pomocná!B160:C10159,2,FALSE)))","v":""},{"$f":"IF(A161=\"\",\"\",INDEX(Vložit!B:B,A161+2))","v":""},{"$f":"IF(A161=\"\",\"\",IF(INDEX(Vložit!B:B,A161+3)=\"\",\"\",INDEX(Vložit!B:B,A161+3)))","v":""},{"$f":"IF(A161=\"\",\"\",INDEX(Vložit!B:B,A161+4))","v":""}]
[{"$f":"IF(A161=\"\",\"\",IF(INDEX(Vložit!A:A,(ROW(A161)-1)*17+2)<>\"\",(ROW(A161)-1)*17+2,\"\"))","v":""},{"$f":"IF(A162=\"\",\"\",\"Číslo smlouvy:  \"&INDEX(Vložit!B:B,A162+1)&CHAR(10)&\"Jméno a příjmení:  \"&INDEX(Vložit!B:B,A162+2)&CHAR(10)&\"Ulice:  \"&INDEX(Vložit!B:B,A162+3)&CHAR(10)&\"Č. pop. / č. orient.:  \"&INDEX(Vložit!B:B,A162+4)&CHAR(10)&\"Obec:  \"&INDEX(Vložit!B:B,A162+5))","v":""},{"$f":"IF(A162=\"\",\"\",INDEX(Vložit!A:A,A162)&CHAR(10)&\"Telefon: \"&INDEX(Vložit!B:B,A162+6)&\" / \"&INDEX(Vložit!B:B,A162+7)&CHAR(10)&\"Typ objednávky: \"&INDEX(Vložit!D:D,A162+1)&CHAR(10)&INDEX(Vložit!C:C,A162)&CHAR(10)&INDEX(Vložit!D:D,A162))","v":""},{"$f":"IF(A162=\"\",\"\",IF(INDEX(Vložit!B:B,A162+8)=\"\",\"\",\"Instrukce: \"&INDEX(Vložit!B:B,A162+8)))","v":""},{"$f":"IF(A162=\"\",\"\",IF(INDEX(Vložit!B:B,A162+1)=\"\",\"\",INDEX(Vložit!B:B,A162+1)))","v":""},{"$f":"IF(A162=\"\",\"\",MID(INDEX(Vložit!A:A,A162),19,10))","v":""},{"$f":"IF(A162=\"\",\"\",IF(INDEX(Vložit!B:B,A162+5)=\"\",\"\",VLOOKUP(INDEX(Vložit!B:B,A162+5),Pomocná!B161:C10160,2,FALSE)))","v":""},{"$f":"IF(A162=\"\",\"\",INDEX(Vložit!B:B,A162+2))","v":""},{"$f":"IF(A162=\"\",\"\",IF(INDEX(Vložit!B:B,A162+3)=\"\",\"\",INDEX(Vložit!B:B,A162+3)))","v":""},{"$f":"IF(A162=\"\",\"\",INDEX(Vložit!B:B,A162+4))","v":""}]
[{"$f":"IF(A162=\"\",\"\",IF(INDEX(Vložit!A:A,(ROW(A162)-1)*17+2)<>\"\",(ROW(A162)-1)*17+2,\"\"))","v":""},{"$f":"IF(A163=\"\",\"\",\"Číslo smlouvy:  \"&INDEX(Vložit!B:B,A163+1)&CHAR(10)&\"Jméno a příjmení:  \"&INDEX(Vložit!B:B,A163+2)&CHAR(10)&\"Ulice:  \"&INDEX(Vložit!B:B,A163+3)&CHAR(10)&\"Č. pop. / č. orient.:  \"&INDEX(Vložit!B:B,A163+4)&CHAR(10)&\"Obec:  \"&INDEX(Vložit!B:B,A163+5))","v":""},{"$f":"IF(A163=\"\",\"\",INDEX(Vložit!A:A,A163)&CHAR(10)&\"Telefon: \"&INDEX(Vložit!B:B,A163+6)&\" / \"&INDEX(Vložit!B:B,A163+7)&CHAR(10)&\"Typ objednávky: \"&INDEX(Vložit!D:D,A163+1)&CHAR(10)&INDEX(Vložit!C:C,A163)&CHAR(10)&INDEX(Vložit!D:D,A163))","v":""},{"$f":"IF(A163=\"\",\"\",IF(INDEX(Vložit!B:B,A163+8)=\"\",\"\",\"Instrukce: \"&INDEX(Vložit!B:B,A163+8)))","v":""},{"$f":"IF(A163=\"\",\"\",IF(INDEX(Vložit!B:B,A163+1)=\"\",\"\",INDEX(Vložit!B:B,A163+1)))","v":""},{"$f":"IF(A163=\"\",\"\",MID(INDEX(Vložit!A:A,A163),19,10))","v":""},{"$f":"IF(A163=\"\",\"\",IF(INDEX(Vložit!B:B,A163+5)=\"\",\"\",VLOOKUP(INDEX(Vložit!B:B,A163+5),Pomocná!B162:C10161,2,FALSE)))","v":""},{"$f":"IF(A163=\"\",\"\",INDEX(Vložit!B:B,A163+2))","v":""},{"$f":"IF(A163=\"\",\"\",IF(INDEX(Vložit!B:B,A163+3)=\"\",\"\",INDEX(Vložit!B:B,A163+3)))","v":""},{"$f":"IF(A163=\"\",\"\",INDEX(Vložit!B:B,A163+4))","v":""}]
[{"$f":"IF(A163=\"\",\"\",IF(INDEX(Vložit!A:A,(ROW(A163)-1)*17+2)<>\"\",(ROW(A163)-1)*17+2,\"\"))","v":""},{"$f":"IF(A164=\"\",\"\",\"Číslo smlouvy:  \"&INDEX(Vložit!B:B,A164+1)&CHAR(10)&\"Jméno a příjmení:  \"&INDEX(Vložit!B:B,A164+2)&CHAR(10)&\"Ulice:  \"&INDEX(Vložit!B:B,A164+3)&CHAR(10)&\"Č. pop. / č. orient.:  \"&INDEX(Vložit!B:B,A164+4)&CHAR(10)&\"Obec:  \"&INDEX(Vložit!B:B,A164+5))","v":""},{"$f":"IF(A164=\"\",\"\",INDEX(Vložit!A:A,A164)&CHAR(10)&\"Telefon: \"&INDEX(Vložit!B:B,A164+6)&\" / \"&INDEX(Vložit!B:B,A164+7)&CHAR(10)&\"Typ objednávky: \"&INDEX(Vložit!D:D,A164+1)&CHAR(10)&INDEX(Vložit!C:C,A164)&CHAR(10)&INDEX(Vložit!D:D,A164))","v":""},{"$f":"IF(A164=\"\",\"\",IF(INDEX(Vložit!B:B,A164+8)=\"\",\"\",\"Instrukce: \"&INDEX(Vložit!B:B,A164+8)))","v":""},{"$f":"IF(A164=\"\",\"\",IF(INDEX(Vložit!B:B,A164+1)=\"\",\"\",INDEX(Vložit!B:B,A164+1)))","v":""},{"$f":"IF(A164=\"\",\"\",MID(INDEX(Vložit!A:A,A164),19,10))","v":""},{"$f":"IF(A164=\"\",\"\",IF(INDEX(Vložit!B:B,A164+5)=\"\",\"\",VLOOKUP(INDEX(Vložit!B:B,A164+5),Pomocná!B163:C10162,2,FALSE)))","v":""},{"$f":"IF(A164=\"\",\"\",INDEX(Vložit!B:B,A164+2))","v":""},{"$f":"IF(A164=\"\",\"\",IF(INDEX(Vložit!B:B,A164+3)=\"\",\"\",INDEX(Vložit!B:B,A164+3)))","v":""},{"$f":"IF(A164=\"\",\"\",INDEX(Vložit!B:B,A164+4))","v":""}]
[{"$f":"IF(A164=\"\",\"\",IF(INDEX(Vložit!A:A,(ROW(A164)-1)*17+2)<>\"\",(ROW(A164)-1)*17+2,\"\"))","v":""},{"$f":"IF(A165=\"\",\"\",\"Číslo smlouvy:  \"&INDEX(Vložit!B:B,A165+1)&CHAR(10)&\"Jméno a příjmení:  \"&INDEX(Vložit!B:B,A165+2)&CHAR(10)&\"Ulice:  \"&INDEX(Vložit!B:B,A165+3)&CHAR(10)&\"Č. pop. / č. orient.:  \"&INDEX(Vložit!B:B,A165+4)&CHAR(10)&\"Obec:  \"&INDEX(Vložit!B:B,A165+5))","v":""},{"$f":"IF(A165=\"\",\"\",INDEX(Vložit!A:A,A165)&CHAR(10)&\"Telefon: \"&INDEX(Vložit!B:B,A165+6)&\" / \"&INDEX(Vložit!B:B,A165+7)&CHAR(10)&\"Typ objednávky: \"&INDEX(Vložit!D:D,A165+1)&CHAR(10)&INDEX(Vložit!C:C,A165)&CHAR(10)&INDEX(Vložit!D:D,A165))","v":""},{"$f":"IF(A165=\"\",\"\",IF(INDEX(Vložit!B:B,A165+8)=\"\",\"\",\"Instrukce: \"&INDEX(Vložit!B:B,A165+8)))","v":""},{"$f":"IF(A165=\"\",\"\",IF(INDEX(Vložit!B:B,A165+1)=\"\",\"\",INDEX(Vložit!B:B,A165+1)))","v":""},{"$f":"IF(A165=\"\",\"\",MID(INDEX(Vložit!A:A,A165),19,10))","v":""},{"$f":"IF(A165=\"\",\"\",IF(INDEX(Vložit!B:B,A165+5)=\"\",\"\",VLOOKUP(INDEX(Vložit!B:B,A165+5),Pomocná!B164:C10163,2,FALSE)))","v":""},{"$f":"IF(A165=\"\",\"\",INDEX(Vložit!B:B,A165+2))","v":""},{"$f":"IF(A165=\"\",\"\",IF(INDEX(Vložit!B:B,A165+3)=\"\",\"\",INDEX(Vložit!B:B,A165+3)))","v":""},{"$f":"IF(A165=\"\",\"\",INDEX(Vložit!B:B,A165+4))","v":""}]
[{"$f":"IF(A165=\"\",\"\",IF(INDEX(Vložit!A:A,(ROW(A165)-1)*17+2)<>\"\",(ROW(A165)-1)*17+2,\"\"))","v":""},{"$f":"IF(A166=\"\",\"\",\"Číslo smlouvy:  \"&INDEX(Vložit!B:B,A166+1)&CHAR(10)&\"Jméno a příjmení:  \"&INDEX(Vložit!B:B,A166+2)&CHAR(10)&\"Ulice:  \"&INDEX(Vložit!B:B,A166+3)&CHAR(10)&\"Č. pop. / č. orient.:  \"&INDEX(Vložit!B:B,A166+4)&CHAR(10)&\"Obec:  \"&INDEX(Vložit!B:B,A166+5))","v":""},{"$f":"IF(A166=\"\",\"\",INDEX(Vložit!A:A,A166)&CHAR(10)&\"Telefon: \"&INDEX(Vložit!B:B,A166+6)&\" / \"&INDEX(Vložit!B:B,A166+7)&CHAR(10)&\"Typ objednávky: \"&INDEX(Vložit!D:D,A166+1)&CHAR(10)&INDEX(Vložit!C:C,A166)&CHAR(10)&INDEX(Vložit!D:D,A166))","v":""},{"$f":"IF(A166=\"\",\"\",IF(INDEX(Vložit!B:B,A166+8)=\"\",\"\",\"Instrukce: \"&INDEX(Vložit!B:B,A166+8)))","v":""},{"$f":"IF(A166=\"\",\"\",IF(INDEX(Vložit!B:B,A166+1)=\"\",\"\",INDEX(Vložit!B:B,A166+1)))","v":""},{"$f":"IF(A166=\"\",\"\",MID(INDEX(Vložit!A:A,A166),19,10))","v":""},{"$f":"IF(A166=\"\",\"\",IF(INDEX(Vložit!B:B,A166+5)=\"\",\"\",VLOOKUP(INDEX(Vložit!B:B,A166+5),Pomocná!B165:C10164,2,FALSE)))","v":""},{"$f":"IF(A166=\"\",\"\",INDEX(Vložit!B:B,A166+2))","v":""},{"$f":"IF(A166=\"\",\"\",IF(INDEX(Vložit!B:B,A166+3)=\"\",\"\",INDEX(Vložit!B:B,A166+3)))","v":""},{"$f":"IF(A166=\"\",\"\",INDEX(Vložit!B:B,A166+4))","v":""}]
[{"$f":"IF(A166=\"\",\"\",IF(INDEX(Vložit!A:A,(ROW(A166)-1)*17+2)<>\"\",(ROW(A166)-1)*17+2,\"\"))","v":""},{"$f":"IF(A167=\"\",\"\",\"Číslo smlouvy:  \"&INDEX(Vložit!B:B,A167+1)&CHAR(10)&\"Jméno a příjmení:  \"&INDEX(Vložit!B:B,A167+2)&CHAR(10)&\"Ulice:  \"&INDEX(Vložit!B:B,A167+3)&CHAR(10)&\"Č. pop. / č. orient.:  \"&INDEX(Vložit!B:B,A167+4)&CHAR(10)&\"Obec:  \"&INDEX(Vložit!B:B,A167+5))","v":""},{"$f":"IF(A167=\"\",\"\",INDEX(Vložit!A:A,A167)&CHAR(10)&\"Telefon: \"&INDEX(Vložit!B:B,A167+6)&\" / \"&INDEX(Vložit!B:B,A167+7)&CHAR(10)&\"Typ objednávky: \"&INDEX(Vložit!D:D,A167+1)&CHAR(10)&INDEX(Vložit!C:C,A167)&CHAR(10)&INDEX(Vložit!D:D,A167))","v":""},{"$f":"IF(A167=\"\",\"\",IF(INDEX(Vložit!B:B,A167+8)=\"\",\"\",\"Instrukce: \"&INDEX(Vložit!B:B,A167+8)))","v":""},{"$f":"IF(A167=\"\",\"\",IF(INDEX(Vložit!B:B,A167+1)=\"\",\"\",INDEX(Vložit!B:B,A167+1)))","v":""},{"$f":"IF(A167=\"\",\"\",MID(INDEX(Vložit!A:A,A167),19,10))","v":""},{"$f":"IF(A167=\"\",\"\",IF(INDEX(Vložit!B:B,A167+5)=\"\",\"\",VLOOKUP(INDEX(Vložit!B:B,A167+5),Pomocná!B166:C10165,2,FALSE)))","v":""},{"$f":"IF(A167=\"\",\"\",INDEX(Vložit!B:B,A167+2))","v":""},{"$f":"IF(A167=\"\",\"\",IF(INDEX(Vložit!B:B,A167+3)=\"\",\"\",INDEX(Vložit!B:B,A167+3)))","v":""},{"$f":"IF(A167=\"\",\"\",INDEX(Vložit!B:B,A167+4))","v":""}]
[{"$f":"IF(A167=\"\",\"\",IF(INDEX(Vložit!A:A,(ROW(A167)-1)*17+2)<>\"\",(ROW(A167)-1)*17+2,\"\"))","v":""},{"$f":"IF(A168=\"\",\"\",\"Číslo smlouvy:  \"&INDEX(Vložit!B:B,A168+1)&CHAR(10)&\"Jméno a příjmení:  \"&INDEX(Vložit!B:B,A168+2)&CHAR(10)&\"Ulice:  \"&INDEX(Vložit!B:B,A168+3)&CHAR(10)&\"Č. pop. / č. orient.:  \"&INDEX(Vložit!B:B,A168+4)&CHAR(10)&\"Obec:  \"&INDEX(Vložit!B:B,A168+5))","v":""},{"$f":"IF(A168=\"\",\"\",INDEX(Vložit!A:A,A168)&CHAR(10)&\"Telefon: \"&INDEX(Vložit!B:B,A168+6)&\" / \"&INDEX(Vložit!B:B,A168+7)&CHAR(10)&\"Typ objednávky: \"&INDEX(Vložit!D:D,A168+1)&CHAR(10)&INDEX(Vložit!C:C,A168)&CHAR(10)&INDEX(Vložit!D:D,A168))","v":""},{"$f":"IF(A168=\"\",\"\",IF(INDEX(Vložit!B:B,A168+8)=\"\",\"\",\"Instrukce: \"&INDEX(Vložit!B:B,A168+8)))","v":""},{"$f":"IF(A168=\"\",\"\",IF(INDEX(Vložit!B:B,A168+1)=\"\",\"\",INDEX(Vložit!B:B,A168+1)))","v":""},{"$f":"IF(A168=\"\",\"\",MID(INDEX(Vložit!A:A,A168),19,10))","v":""},{"$f":"IF(A168=\"\",\"\",IF(INDEX(Vložit!B:B,A168+5)=\"\",\"\",VLOOKUP(INDEX(Vložit!B:B,A168+5),Pomocná!B167:C10166,2,FALSE)))","v":""},{"$f":"IF(A168=\"\",\"\",INDEX(Vložit!B:B,A168+2))","v":""},{"$f":"IF(A168=\"\",\"\",IF(INDEX(Vložit!B:B,A168+3)=\"\",\"\",INDEX(Vložit!B:B,A168+3)))","v":""},{"$f":"IF(A168=\"\",\"\",INDEX(Vložit!B:B,A168+4))","v":""}]
[{"$f":"IF(A168=\"\",\"\",IF(INDEX(Vložit!A:A,(ROW(A168)-1)*17+2)<>\"\",(ROW(A168)-1)*17+2,\"\"))","v":""},{"$f":"IF(A169=\"\",\"\",\"Číslo smlouvy:  \"&INDEX(Vložit!B:B,A169+1)&CHAR(10)&\"Jméno a příjmení:  \"&INDEX(Vložit!B:B,A169+2)&CHAR(10)&\"Ulice:  \"&INDEX(Vložit!B:B,A169+3)&CHAR(10)&\"Č. pop. / č. orient.:  \"&INDEX(Vložit!B:B,A169+4)&CHAR(10)&\"Obec:  \"&INDEX(Vložit!B:B,A169+5))","v":""},{"$f":"IF(A169=\"\",\"\",INDEX(Vložit!A:A,A169)&CHAR(10)&\"Telefon: \"&INDEX(Vložit!B:B,A169+6)&\" / \"&INDEX(Vložit!B:B,A169+7)&CHAR(10)&\"Typ objednávky: \"&INDEX(Vložit!D:D,A169+1)&CHAR(10)&INDEX(Vložit!C:C,A169)&CHAR(10)&INDEX(Vložit!D:D,A169))","v":""},{"$f":"IF(A169=\"\",\"\",IF(INDEX(Vložit!B:B,A169+8)=\"\",\"\",\"Instrukce: \"&INDEX(Vložit!B:B,A169+8)))","v":""},{"$f":"IF(A169=\"\",\"\",IF(INDEX(Vložit!B:B,A169+1)=\"\",\"\",INDEX(Vložit!B:B,A169+1)))","v":""},{"$f":"IF(A169=\"\",\"\",MID(INDEX(Vložit!A:A,A169),19,10))","v":""},{"$f":"IF(A169=\"\",\"\",IF(INDEX(Vložit!B:B,A169+5)=\"\",\"\",VLOOKUP(INDEX(Vložit!B:B,A169+5),Pomocná!B168:C10167,2,FALSE)))","v":""},{"$f":"IF(A169=\"\",\"\",INDEX(Vložit!B:B,A169+2))","v":""},{"$f":"IF(A169=\"\",\"\",IF(INDEX(Vložit!B:B,A169+3)=\"\",\"\",INDEX(Vložit!B:B,A169+3)))","v":""},{"$f":"IF(A169=\"\",\"\",INDEX(Vložit!B:B,A169+4))","v":""}]
[{"$f":"IF(A169=\"\",\"\",IF(INDEX(Vložit!A:A,(ROW(A169)-1)*17+2)<>\"\",(ROW(A169)-1)*17+2,\"\"))","v":""},{"$f":"IF(A170=\"\",\"\",\"Číslo smlouvy:  \"&INDEX(Vložit!B:B,A170+1)&CHAR(10)&\"Jméno a příjmení:  \"&INDEX(Vložit!B:B,A170+2)&CHAR(10)&\"Ulice:  \"&INDEX(Vložit!B:B,A170+3)&CHAR(10)&\"Č. pop. / č. orient.:  \"&INDEX(Vložit!B:B,A170+4)&CHAR(10)&\"Obec:  \"&INDEX(Vložit!B:B,A170+5))","v":""},{"$f":"IF(A170=\"\",\"\",INDEX(Vložit!A:A,A170)&CHAR(10)&\"Telefon: \"&INDEX(Vložit!B:B,A170+6)&\" / \"&INDEX(Vložit!B:B,A170+7)&CHAR(10)&\"Typ objednávky: \"&INDEX(Vložit!D:D,A170+1)&CHAR(10)&INDEX(Vložit!C:C,A170)&CHAR(10)&INDEX(Vložit!D:D,A170))","v":""},{"$f":"IF(A170=\"\",\"\",IF(INDEX(Vložit!B:B,A170+8)=\"\",\"\",\"Instrukce: \"&INDEX(Vložit!B:B,A170+8)))","v":""},{"$f":"IF(A170=\"\",\"\",IF(INDEX(Vložit!B:B,A170+1)=\"\",\"\",INDEX(Vložit!B:B,A170+1)))","v":""},{"$f":"IF(A170=\"\",\"\",MID(INDEX(Vložit!A:A,A170),19,10))","v":""},{"$f":"IF(A170=\"\",\"\",IF(INDEX(Vložit!B:B,A170+5)=\"\",\"\",VLOOKUP(INDEX(Vložit!B:B,A170+5),Pomocná!B169:C10168,2,FALSE)))","v":""},{"$f":"IF(A170=\"\",\"\",INDEX(Vložit!B:B,A170+2))","v":""},{"$f":"IF(A170=\"\",\"\",IF(INDEX(Vložit!B:B,A170+3)=\"\",\"\",INDEX(Vložit!B:B,A170+3)))","v":""},{"$f":"IF(A170=\"\",\"\",INDEX(Vložit!B:B,A170+4))","v":""}]
[{"$f":"IF(A170=\"\",\"\",IF(INDEX(Vložit!A:A,(ROW(A170)-1)*17+2)<>\"\",(ROW(A170)-1)*17+2,\"\"))","v":""},{"$f":"IF(A171=\"\",\"\",\"Číslo smlouvy:  \"&INDEX(Vložit!B:B,A171+1)&CHAR(10)&\"Jméno a příjmení:  \"&INDEX(Vložit!B:B,A171+2)&CHAR(10)&\"Ulice:  \"&INDEX(Vložit!B:B,A171+3)&CHAR(10)&\"Č. pop. / č. orient.:  \"&INDEX(Vložit!B:B,A171+4)&CHAR(10)&\"Obec:  \"&INDEX(Vložit!B:B,A171+5))","v":""},{"$f":"IF(A171=\"\",\"\",INDEX(Vložit!A:A,A171)&CHAR(10)&\"Telefon: \"&INDEX(Vložit!B:B,A171+6)&\" / \"&INDEX(Vložit!B:B,A171+7)&CHAR(10)&\"Typ objednávky: \"&INDEX(Vložit!D:D,A171+1)&CHAR(10)&INDEX(Vložit!C:C,A171)&CHAR(10)&INDEX(Vložit!D:D,A171))","v":""},{"$f":"IF(A171=\"\",\"\",IF(INDEX(Vložit!B:B,A171+8)=\"\",\"\",\"Instrukce: \"&INDEX(Vložit!B:B,A171+8)))","v":""},{"$f":"IF(A171=\"\",\"\",IF(INDEX(Vložit!B:B,A171+1)=\"\",\"\",INDEX(Vložit!B:B,A171+1)))","v":""},{"$f":"IF(A171=\"\",\"\",MID(INDEX(Vložit!A:A,A171),19,10))","v":""},{"$f":"IF(A171=\"\",\"\",IF(INDEX(Vložit!B:B,A171+5)=\"\",\"\",VLOOKUP(INDEX(Vložit!B:B,A171+5),Pomocná!B170:C10169,2,FALSE)))","v":""},{"$f":"IF(A171=\"\",\"\",INDEX(Vložit!B:B,A171+2))","v":""},{"$f":"IF(A171=\"\",\"\",IF(INDEX(Vložit!B:B,A171+3)=\"\",\"\",INDEX(Vložit!B:B,A171+3)))","v":""},{"$f":"IF(A171=\"\",\"\",INDEX(Vložit!B:B,A171+4))","v":""}]
[{"$f":"IF(A171=\"\",\"\",IF(INDEX(Vložit!A:A,(ROW(A171)-1)*17+2)<>\"\",(ROW(A171)-1)*17+2,\"\"))","v":""},{"$f":"IF(A172=\"\",\"\",\"Číslo smlouvy:  \"&INDEX(Vložit!B:B,A172+1)&CHAR(10)&\"Jméno a příjmení:  \"&INDEX(Vložit!B:B,A172+2)&CHAR(10)&\"Ulice:  \"&INDEX(Vložit!B:B,A172+3)&CHAR(10)&\"Č. pop. / č. orient.:  \"&INDEX(Vložit!B:B,A172+4)&CHAR(10)&\"Obec:  \"&INDEX(Vložit!B:B,A172+5))","v":""},{"$f":"IF(A172=\"\",\"\",INDEX(Vložit!A:A,A172)&CHAR(10)&\"Telefon: \"&INDEX(Vložit!B:B,A172+6)&\" / \"&INDEX(Vložit!B:B,A172+7)&CHAR(10)&\"Typ objednávky: \"&INDEX(Vložit!D:D,A172+1)&CHAR(10)&INDEX(Vložit!C:C,A172)&CHAR(10)&INDEX(Vložit!D:D,A172))","v":""},{"$f":"IF(A172=\"\",\"\",IF(INDEX(Vložit!B:B,A172+8)=\"\",\"\",\"Instrukce: \"&INDEX(Vložit!B:B,A172+8)))","v":""},{"$f":"IF(A172=\"\",\"\",IF(INDEX(Vložit!B:B,A172+1)=\"\",\"\",INDEX(Vložit!B:B,A172+1)))","v":""},{"$f":"IF(A172=\"\",\"\",MID(INDEX(Vložit!A:A,A172),19,10))","v":""},{"$f":"IF(A172=\"\",\"\",IF(INDEX(Vložit!B:B,A172+5)=\"\",\"\",VLOOKUP(INDEX(Vložit!B:B,A172+5),Pomocná!B171:C10170,2,FALSE)))","v":""},{"$f":"IF(A172=\"\",\"\",INDEX(Vložit!B:B,A172+2))","v":""},{"$f":"IF(A172=\"\",\"\",IF(INDEX(Vložit!B:B,A172+3)=\"\",\"\",INDEX(Vložit!B:B,A172+3)))","v":""},{"$f":"IF(A172=\"\",\"\",INDEX(Vložit!B:B,A172+4))","v":""}]
[{"$f":"IF(A172=\"\",\"\",IF(INDEX(Vložit!A:A,(ROW(A172)-1)*17+2)<>\"\",(ROW(A172)-1)*17+2,\"\"))","v":""},{"$f":"IF(A173=\"\",\"\",\"Číslo smlouvy:  \"&INDEX(Vložit!B:B,A173+1)&CHAR(10)&\"Jméno a příjmení:  \"&INDEX(Vložit!B:B,A173+2)&CHAR(10)&\"Ulice:  \"&INDEX(Vložit!B:B,A173+3)&CHAR(10)&\"Č. pop. / č. orient.:  \"&INDEX(Vložit!B:B,A173+4)&CHAR(10)&\"Obec:  \"&INDEX(Vložit!B:B,A173+5))","v":""},{"$f":"IF(A173=\"\",\"\",INDEX(Vložit!A:A,A173)&CHAR(10)&\"Telefon: \"&INDEX(Vložit!B:B,A173+6)&\" / \"&INDEX(Vložit!B:B,A173+7)&CHAR(10)&\"Typ objednávky: \"&INDEX(Vložit!D:D,A173+1)&CHAR(10)&INDEX(Vložit!C:C,A173)&CHAR(10)&INDEX(Vložit!D:D,A173))","v":""},{"$f":"IF(A173=\"\",\"\",IF(INDEX(Vložit!B:B,A173+8)=\"\",\"\",\"Instrukce: \"&INDEX(Vložit!B:B,A173+8)))","v":""},{"$f":"IF(A173=\"\",\"\",IF(INDEX(Vložit!B:B,A173+1)=\"\",\"\",INDEX(Vložit!B:B,A173+1)))","v":""},{"$f":"IF(A173=\"\",\"\",MID(INDEX(Vložit!A:A,A173),19,10))","v":""},{"$f":"IF(A173=\"\",\"\",IF(INDEX(Vložit!B:B,A173+5)=\"\",\"\",VLOOKUP(INDEX(Vložit!B:B,A173+5),Pomocná!B172:C10171,2,FALSE)))","v":""},{"$f":"IF(A173=\"\",\"\",INDEX(Vložit!B:B,A173+2))","v":""},{"$f":"IF(A173=\"\",\"\",IF(INDEX(Vložit!B:B,A173+3)=\"\",\"\",INDEX(Vložit!B:B,A173+3)))","v":""},{"$f":"IF(A173=\"\",\"\",INDEX(Vložit!B:B,A173+4))","v":""}]
[{"$f":"IF(A173=\"\",\"\",IF(INDEX(Vložit!A:A,(ROW(A173)-1)*17+2)<>\"\",(ROW(A173)-1)*17+2,\"\"))","v":""},{"$f":"IF(A174=\"\",\"\",\"Číslo smlouvy:  \"&INDEX(Vložit!B:B,A174+1)&CHAR(10)&\"Jméno a příjmení:  \"&INDEX(Vložit!B:B,A174+2)&CHAR(10)&\"Ulice:  \"&INDEX(Vložit!B:B,A174+3)&CHAR(10)&\"Č. pop. / č. orient.:  \"&INDEX(Vložit!B:B,A174+4)&CHAR(10)&\"Obec:  \"&INDEX(Vložit!B:B,A174+5))","v":""},{"$f":"IF(A174=\"\",\"\",INDEX(Vložit!A:A,A174)&CHAR(10)&\"Telefon: \"&INDEX(Vložit!B:B,A174+6)&\" / \"&INDEX(Vložit!B:B,A174+7)&CHAR(10)&\"Typ objednávky: \"&INDEX(Vložit!D:D,A174+1)&CHAR(10)&INDEX(Vložit!C:C,A174)&CHAR(10)&INDEX(Vložit!D:D,A174))","v":""},{"$f":"IF(A174=\"\",\"\",IF(INDEX(Vložit!B:B,A174+8)=\"\",\"\",\"Instrukce: \"&INDEX(Vložit!B:B,A174+8)))","v":""},{"$f":"IF(A174=\"\",\"\",IF(INDEX(Vložit!B:B,A174+1)=\"\",\"\",INDEX(Vložit!B:B,A174+1)))","v":""},{"$f":"IF(A174=\"\",\"\",MID(INDEX(Vložit!A:A,A174),19,10))","v":""},{"$f":"IF(A174=\"\",\"\",IF(INDEX(Vložit!B:B,A174+5)=\"\",\"\",VLOOKUP(INDEX(Vložit!B:B,A174+5),Pomocná!B173:C10172,2,FALSE)))","v":""},{"$f":"IF(A174=\"\",\"\",INDEX(Vložit!B:B,A174+2))","v":""},{"$f":"IF(A174=\"\",\"\",IF(INDEX(Vložit!B:B,A174+3)=\"\",\"\",INDEX(Vložit!B:B,A174+3)))","v":""},{"$f":"IF(A174=\"\",\"\",INDEX(Vložit!B:B,A174+4))","v":""}]
[{"$f":"IF(A174=\"\",\"\",IF(INDEX(Vložit!A:A,(ROW(A174)-1)*17+2)<>\"\",(ROW(A174)-1)*17+2,\"\"))","v":""},{"$f":"IF(A175=\"\",\"\",\"Číslo smlouvy:  \"&INDEX(Vložit!B:B,A175+1)&CHAR(10)&\"Jméno a příjmení:  \"&INDEX(Vložit!B:B,A175+2)&CHAR(10)&\"Ulice:  \"&INDEX(Vložit!B:B,A175+3)&CHAR(10)&\"Č. pop. / č. orient.:  \"&INDEX(Vložit!B:B,A175+4)&CHAR(10)&\"Obec:  \"&INDEX(Vložit!B:B,A175+5))","v":""},{"$f":"IF(A175=\"\",\"\",INDEX(Vložit!A:A,A175)&CHAR(10)&\"Telefon: \"&INDEX(Vložit!B:B,A175+6)&\" / \"&INDEX(Vložit!B:B,A175+7)&CHAR(10)&\"Typ objednávky: \"&INDEX(Vložit!D:D,A175+1)&CHAR(10)&INDEX(Vložit!C:C,A175)&CHAR(10)&INDEX(Vložit!D:D,A175))","v":""},{"$f":"IF(A175=\"\",\"\",IF(INDEX(Vložit!B:B,A175+8)=\"\",\"\",\"Instrukce: \"&INDEX(Vložit!B:B,A175+8)))","v":""},{"$f":"IF(A175=\"\",\"\",IF(INDEX(Vložit!B:B,A175+1)=\"\",\"\",INDEX(Vložit!B:B,A175+1)))","v":""},{"$f":"IF(A175=\"\",\"\",MID(INDEX(Vložit!A:A,A175),19,10))","v":""},{"$f":"IF(A175=\"\",\"\",IF(INDEX(Vložit!B:B,A175+5)=\"\",\"\",VLOOKUP(INDEX(Vložit!B:B,A175+5),Pomocná!B174:C10173,2,FALSE)))","v":""},{"$f":"IF(A175=\"\",\"\",INDEX(Vložit!B:B,A175+2))","v":""},{"$f":"IF(A175=\"\",\"\",IF(INDEX(Vložit!B:B,A175+3)=\"\",\"\",INDEX(Vložit!B:B,A175+3)))","v":""},{"$f":"IF(A175=\"\",\"\",INDEX(Vložit!B:B,A175+4))","v":""}]
[{"$f":"IF(A175=\"\",\"\",IF(INDEX(Vložit!A:A,(ROW(A175)-1)*17+2)<>\"\",(ROW(A175)-1)*17+2,\"\"))","v":""},{"$f":"IF(A176=\"\",\"\",\"Číslo smlouvy:  \"&INDEX(Vložit!B:B,A176+1)&CHAR(10)&\"Jméno a příjmení:  \"&INDEX(Vložit!B:B,A176+2)&CHAR(10)&\"Ulice:  \"&INDEX(Vložit!B:B,A176+3)&CHAR(10)&\"Č. pop. / č. orient.:  \"&INDEX(Vložit!B:B,A176+4)&CHAR(10)&\"Obec:  \"&INDEX(Vložit!B:B,A176+5))","v":""},{"$f":"IF(A176=\"\",\"\",INDEX(Vložit!A:A,A176)&CHAR(10)&\"Telefon: \"&INDEX(Vložit!B:B,A176+6)&\" / \"&INDEX(Vložit!B:B,A176+7)&CHAR(10)&\"Typ objednávky: \"&INDEX(Vložit!D:D,A176+1)&CHAR(10)&INDEX(Vložit!C:C,A176)&CHAR(10)&INDEX(Vložit!D:D,A176))","v":""},{"$f":"IF(A176=\"\",\"\",IF(INDEX(Vložit!B:B,A176+8)=\"\",\"\",\"Instrukce: \"&INDEX(Vložit!B:B,A176+8)))","v":""},{"$f":"IF(A176=\"\",\"\",IF(INDEX(Vložit!B:B,A176+1)=\"\",\"\",INDEX(Vložit!B:B,A176+1)))","v":""},{"$f":"IF(A176=\"\",\"\",MID(INDEX(Vložit!A:A,A176),19,10))","v":""},{"$f":"IF(A176=\"\",\"\",IF(INDEX(Vložit!B:B,A176+5)=\"\",\"\",VLOOKUP(INDEX(Vložit!B:B,A176+5),Pomocná!B175:C10174,2,FALSE)))","v":""},{"$f":"IF(A176=\"\",\"\",INDEX(Vložit!B:B,A176+2))","v":""},{"$f":"IF(A176=\"\",\"\",IF(INDEX(Vložit!B:B,A176+3)=\"\",\"\",INDEX(Vložit!B:B,A176+3)))","v":""},{"$f":"IF(A176=\"\",\"\",INDEX(Vložit!B:B,A176+4))","v":""}]
[{"$f":"IF(A176=\"\",\"\",IF(INDEX(Vložit!A:A,(ROW(A176)-1)*17+2)<>\"\",(ROW(A176)-1)*17+2,\"\"))","v":""},{"$f":"IF(A177=\"\",\"\",\"Číslo smlouvy:  \"&INDEX(Vložit!B:B,A177+1)&CHAR(10)&\"Jméno a příjmení:  \"&INDEX(Vložit!B:B,A177+2)&CHAR(10)&\"Ulice:  \"&INDEX(Vložit!B:B,A177+3)&CHAR(10)&\"Č. pop. / č. orient.:  \"&INDEX(Vložit!B:B,A177+4)&CHAR(10)&\"Obec:  \"&INDEX(Vložit!B:B,A177+5))","v":""},{"$f":"IF(A177=\"\",\"\",INDEX(Vložit!A:A,A177)&CHAR(10)&\"Telefon: \"&INDEX(Vložit!B:B,A177+6)&\" / \"&INDEX(Vložit!B:B,A177+7)&CHAR(10)&\"Typ objednávky: \"&INDEX(Vložit!D:D,A177+1)&CHAR(10)&INDEX(Vložit!C:C,A177)&CHAR(10)&INDEX(Vložit!D:D,A177))","v":""},{"$f":"IF(A177=\"\",\"\",IF(INDEX(Vložit!B:B,A177+8)=\"\",\"\",\"Instrukce: \"&INDEX(Vložit!B:B,A177+8)))","v":""},{"$f":"IF(A177=\"\",\"\",IF(INDEX(Vložit!B:B,A177+1)=\"\",\"\",INDEX(Vložit!B:B,A177+1)))","v":""},{"$f":"IF(A177=\"\",\"\",MID(INDEX(Vložit!A:A,A177),19,10))","v":""},{"$f":"IF(A177=\"\",\"\",IF(INDEX(Vložit!B:B,A177+5)=\"\",\"\",VLOOKUP(INDEX(Vložit!B:B,A177+5),Pomocná!B176:C10175,2,FALSE)))","v":""},{"$f":"IF(A177=\"\",\"\",INDEX(Vložit!B:B,A177+2))","v":""},{"$f":"IF(A177=\"\",\"\",IF(INDEX(Vložit!B:B,A177+3)=\"\",\"\",INDEX(Vložit!B:B,A177+3)))","v":""},{"$f":"IF(A177=\"\",\"\",INDEX(Vložit!B:B,A177+4))","v":""}]
[{"$f":"IF(A177=\"\",\"\",IF(INDEX(Vložit!A:A,(ROW(A177)-1)*17+2)<>\"\",(ROW(A177)-1)*17+2,\"\"))","v":""},{"$f":"IF(A178=\"\",\"\",\"Číslo smlouvy:  \"&INDEX(Vložit!B:B,A178+1)&CHAR(10)&\"Jméno a příjmení:  \"&INDEX(Vložit!B:B,A178+2)&CHAR(10)&\"Ulice:  \"&INDEX(Vložit!B:B,A178+3)&CHAR(10)&\"Č. pop. / č. orient.:  \"&INDEX(Vložit!B:B,A178+4)&CHAR(10)&\"Obec:  \"&INDEX(Vložit!B:B,A178+5))","v":""},{"$f":"IF(A178=\"\",\"\",INDEX(Vložit!A:A,A178)&CHAR(10)&\"Telefon: \"&INDEX(Vložit!B:B,A178+6)&\" / \"&INDEX(Vložit!B:B,A178+7)&CHAR(10)&\"Typ objednávky: \"&INDEX(Vložit!D:D,A178+1)&CHAR(10)&INDEX(Vložit!C:C,A178)&CHAR(10)&INDEX(Vložit!D:D,A178))","v":""},{"$f":"IF(A178=\"\",\"\",IF(INDEX(Vložit!B:B,A178+8)=\"\",\"\",\"Instrukce: \"&INDEX(Vložit!B:B,A178+8)))","v":""},{"$f":"IF(A178=\"\",\"\",IF(INDEX(Vložit!B:B,A178+1)=\"\",\"\",INDEX(Vložit!B:B,A178+1)))","v":""},{"$f":"IF(A178=\"\",\"\",MID(INDEX(Vložit!A:A,A178),19,10))","v":""},{"$f":"IF(A178=\"\",\"\",IF(INDEX(Vložit!B:B,A178+5)=\"\",\"\",VLOOKUP(INDEX(Vložit!B:B,A178+5),Pomocná!B177:C10176,2,FALSE)))","v":""},{"$f":"IF(A178=\"\",\"\",INDEX(Vložit!B:B,A178+2))","v":""},{"$f":"IF(A178=\"\",\"\",IF(INDEX(Vložit!B:B,A178+3)=\"\",\"\",INDEX(Vložit!B:B,A178+3)))","v":""},{"$f":"IF(A178=\"\",\"\",INDEX(Vložit!B:B,A178+4))","v":""}]
[{"$f":"IF(A178=\"\",\"\",IF(INDEX(Vložit!A:A,(ROW(A178)-1)*17+2)<>\"\",(ROW(A178)-1)*17+2,\"\"))","v":""},{"$f":"IF(A179=\"\",\"\",\"Číslo smlouvy:  \"&INDEX(Vložit!B:B,A179+1)&CHAR(10)&\"Jméno a příjmení:  \"&INDEX(Vložit!B:B,A179+2)&CHAR(10)&\"Ulice:  \"&INDEX(Vložit!B:B,A179+3)&CHAR(10)&\"Č. pop. / č. orient.:  \"&INDEX(Vložit!B:B,A179+4)&CHAR(10)&\"Obec:  \"&INDEX(Vložit!B:B,A179+5))","v":""},{"$f":"IF(A179=\"\",\"\",INDEX(Vložit!A:A,A179)&CHAR(10)&\"Telefon: \"&INDEX(Vložit!B:B,A179+6)&\" / \"&INDEX(Vložit!B:B,A179+7)&CHAR(10)&\"Typ objednávky: \"&INDEX(Vložit!D:D,A179+1)&CHAR(10)&INDEX(Vložit!C:C,A179)&CHAR(10)&INDEX(Vložit!D:D,A179))","v":""},{"$f":"IF(A179=\"\",\"\",IF(INDEX(Vložit!B:B,A179+8)=\"\",\"\",\"Instrukce: \"&INDEX(Vložit!B:B,A179+8)))","v":""},{"$f":"IF(A179=\"\",\"\",IF(INDEX(Vložit!B:B,A179+1)=\"\",\"\",INDEX(Vložit!B:B,A179+1)))","v":""},{"$f":"IF(A179=\"\",\"\",MID(INDEX(Vložit!A:A,A179),19,10))","v":""},{"$f":"IF(A179=\"\",\"\",IF(INDEX(Vložit!B:B,A179+5)=\"\",\"\",VLOOKUP(INDEX(Vložit!B:B,A179+5),Pomocná!B178:C10177,2,FALSE)))","v":""},{"$f":"IF(A179=\"\",\"\",INDEX(Vložit!B:B,A179+2))","v":""},{"$f":"IF(A179=\"\",\"\",IF(INDEX(Vložit!B:B,A179+3)=\"\",\"\",INDEX(Vložit!B:B,A179+3)))","v":""},{"$f":"IF(A179=\"\",\"\",INDEX(Vložit!B:B,A179+4))","v":""}]
[{"$f":"IF(A179=\"\",\"\",IF(INDEX(Vložit!A:A,(ROW(A179)-1)*17+2)<>\"\",(ROW(A179)-1)*17+2,\"\"))","v":""},{"$f":"IF(A180=\"\",\"\",\"Číslo smlouvy:  \"&INDEX(Vložit!B:B,A180+1)&CHAR(10)&\"Jméno a příjmení:  \"&INDEX(Vložit!B:B,A180+2)&CHAR(10)&\"Ulice:  \"&INDEX(Vložit!B:B,A180+3)&CHAR(10)&\"Č. pop. / č. orient.:  \"&INDEX(Vložit!B:B,A180+4)&CHAR(10)&\"Obec:  \"&INDEX(Vložit!B:B,A180+5))","v":""},{"$f":"IF(A180=\"\",\"\",INDEX(Vložit!A:A,A180)&CHAR(10)&\"Telefon: \"&INDEX(Vložit!B:B,A180+6)&\" / \"&INDEX(Vložit!B:B,A180+7)&CHAR(10)&\"Typ objednávky: \"&INDEX(Vložit!D:D,A180+1)&CHAR(10)&INDEX(Vložit!C:C,A180)&CHAR(10)&INDEX(Vložit!D:D,A180))","v":""},{"$f":"IF(A180=\"\",\"\",IF(INDEX(Vložit!B:B,A180+8)=\"\",\"\",\"Instrukce: \"&INDEX(Vložit!B:B,A180+8)))","v":""},{"$f":"IF(A180=\"\",\"\",IF(INDEX(Vložit!B:B,A180+1)=\"\",\"\",INDEX(Vložit!B:B,A180+1)))","v":""},{"$f":"IF(A180=\"\",\"\",MID(INDEX(Vložit!A:A,A180),19,10))","v":""},{"$f":"IF(A180=\"\",\"\",IF(INDEX(Vložit!B:B,A180+5)=\"\",\"\",VLOOKUP(INDEX(Vložit!B:B,A180+5),Pomocná!B179:C10178,2,FALSE)))","v":""},{"$f":"IF(A180=\"\",\"\",INDEX(Vložit!B:B,A180+2))","v":""},{"$f":"IF(A180=\"\",\"\",IF(INDEX(Vložit!B:B,A180+3)=\"\",\"\",INDEX(Vložit!B:B,A180+3)))","v":""},{"$f":"IF(A180=\"\",\"\",INDEX(Vložit!B:B,A180+4))","v":""}]
[{"$f":"IF(A180=\"\",\"\",IF(INDEX(Vložit!A:A,(ROW(A180)-1)*17+2)<>\"\",(ROW(A180)-1)*17+2,\"\"))","v":""},{"$f":"IF(A181=\"\",\"\",\"Číslo smlouvy:  \"&INDEX(Vložit!B:B,A181+1)&CHAR(10)&\"Jméno a příjmení:  \"&INDEX(Vložit!B:B,A181+2)&CHAR(10)&\"Ulice:  \"&INDEX(Vložit!B:B,A181+3)&CHAR(10)&\"Č. pop. / č. orient.:  \"&INDEX(Vložit!B:B,A181+4)&CHAR(10)&\"Obec:  \"&INDEX(Vložit!B:B,A181+5))","v":""},{"$f":"IF(A181=\"\",\"\",INDEX(Vložit!A:A,A181)&CHAR(10)&\"Telefon: \"&INDEX(Vložit!B:B,A181+6)&\" / \"&INDEX(Vložit!B:B,A181+7)&CHAR(10)&\"Typ objednávky: \"&INDEX(Vložit!D:D,A181+1)&CHAR(10)&INDEX(Vložit!C:C,A181)&CHAR(10)&INDEX(Vložit!D:D,A181))","v":""},{"$f":"IF(A181=\"\",\"\",IF(INDEX(Vložit!B:B,A181+8)=\"\",\"\",\"Instrukce: \"&INDEX(Vložit!B:B,A181+8)))","v":""},{"$f":"IF(A181=\"\",\"\",IF(INDEX(Vložit!B:B,A181+1)=\"\",\"\",INDEX(Vložit!B:B,A181+1)))","v":""},{"$f":"IF(A181=\"\",\"\",MID(INDEX(Vložit!A:A,A181),19,10))","v":""},{"$f":"IF(A181=\"\",\"\",IF(INDEX(Vložit!B:B,A181+5)=\"\",\"\",VLOOKUP(INDEX(Vložit!B:B,A181+5),Pomocná!B180:C10179,2,FALSE)))","v":""},{"$f":"IF(A181=\"\",\"\",INDEX(Vložit!B:B,A181+2))","v":""},{"$f":"IF(A181=\"\",\"\",IF(INDEX(Vložit!B:B,A181+3)=\"\",\"\",INDEX(Vložit!B:B,A181+3)))","v":""},{"$f":"IF(A181=\"\",\"\",INDEX(Vložit!B:B,A181+4))","v":""}]
[{"$f":"IF(A181=\"\",\"\",IF(INDEX(Vložit!A:A,(ROW(A181)-1)*17+2)<>\"\",(ROW(A181)-1)*17+2,\"\"))","v":""},{"$f":"IF(A182=\"\",\"\",\"Číslo smlouvy:  \"&INDEX(Vložit!B:B,A182+1)&CHAR(10)&\"Jméno a příjmení:  \"&INDEX(Vložit!B:B,A182+2)&CHAR(10)&\"Ulice:  \"&INDEX(Vložit!B:B,A182+3)&CHAR(10)&\"Č. pop. / č. orient.:  \"&INDEX(Vložit!B:B,A182+4)&CHAR(10)&\"Obec:  \"&INDEX(Vložit!B:B,A182+5))","v":""},{"$f":"IF(A182=\"\",\"\",INDEX(Vložit!A:A,A182)&CHAR(10)&\"Telefon: \"&INDEX(Vložit!B:B,A182+6)&\" / \"&INDEX(Vložit!B:B,A182+7)&CHAR(10)&\"Typ objednávky: \"&INDEX(Vložit!D:D,A182+1)&CHAR(10)&INDEX(Vložit!C:C,A182)&CHAR(10)&INDEX(Vložit!D:D,A182))","v":""},{"$f":"IF(A182=\"\",\"\",IF(INDEX(Vložit!B:B,A182+8)=\"\",\"\",\"Instrukce: \"&INDEX(Vložit!B:B,A182+8)))","v":""},{"$f":"IF(A182=\"\",\"\",IF(INDEX(Vložit!B:B,A182+1)=\"\",\"\",INDEX(Vložit!B:B,A182+1)))","v":""},{"$f":"IF(A182=\"\",\"\",MID(INDEX(Vložit!A:A,A182),19,10))","v":""},{"$f":"IF(A182=\"\",\"\",IF(INDEX(Vložit!B:B,A182+5)=\"\",\"\",VLOOKUP(INDEX(Vložit!B:B,A182+5),Pomocná!B181:C10180,2,FALSE)))","v":""},{"$f":"IF(A182=\"\",\"\",INDEX(Vložit!B:B,A182+2))","v":""},{"$f":"IF(A182=\"\",\"\",IF(INDEX(Vložit!B:B,A182+3)=\"\",\"\",INDEX(Vložit!B:B,A182+3)))","v":""},{"$f":"IF(A182=\"\",\"\",INDEX(Vložit!B:B,A182+4))","v":""}]
[{"$f":"IF(A182=\"\",\"\",IF(INDEX(Vložit!A:A,(ROW(A182)-1)*17+2)<>\"\",(ROW(A182)-1)*17+2,\"\"))","v":""},{"$f":"IF(A183=\"\",\"\",\"Číslo smlouvy:  \"&INDEX(Vložit!B:B,A183+1)&CHAR(10)&\"Jméno a příjmení:  \"&INDEX(Vložit!B:B,A183+2)&CHAR(10)&\"Ulice:  \"&INDEX(Vložit!B:B,A183+3)&CHAR(10)&\"Č. pop. / č. orient.:  \"&INDEX(Vložit!B:B,A183+4)&CHAR(10)&\"Obec:  \"&INDEX(Vložit!B:B,A183+5))","v":""},{"$f":"IF(A183=\"\",\"\",INDEX(Vložit!A:A,A183)&CHAR(10)&\"Telefon: \"&INDEX(Vložit!B:B,A183+6)&\" / \"&INDEX(Vložit!B:B,A183+7)&CHAR(10)&\"Typ objednávky: \"&INDEX(Vložit!D:D,A183+1)&CHAR(10)&INDEX(Vložit!C:C,A183)&CHAR(10)&INDEX(Vložit!D:D,A183))","v":""},{"$f":"IF(A183=\"\",\"\",IF(INDEX(Vložit!B:B,A183+8)=\"\",\"\",\"Instrukce: \"&INDEX(Vložit!B:B,A183+8)))","v":""},{"$f":"IF(A183=\"\",\"\",IF(INDEX(Vložit!B:B,A183+1)=\"\",\"\",INDEX(Vložit!B:B,A183+1)))","v":""},{"$f":"IF(A183=\"\",\"\",MID(INDEX(Vložit!A:A,A183),19,10))","v":""},{"$f":"IF(A183=\"\",\"\",IF(INDEX(Vložit!B:B,A183+5)=\"\",\"\",VLOOKUP(INDEX(Vložit!B:B,A183+5),Pomocná!B182:C10181,2,FALSE)))","v":""},{"$f":"IF(A183=\"\",\"\",INDEX(Vložit!B:B,A183+2))","v":""},{"$f":"IF(A183=\"\",\"\",IF(INDEX(Vložit!B:B,A183+3)=\"\",\"\",INDEX(Vložit!B:B,A183+3)))","v":""},{"$f":"IF(A183=\"\",\"\",INDEX(Vložit!B:B,A183+4))","v":""}]
[{"$f":"IF(A183=\"\",\"\",IF(INDEX(Vložit!A:A,(ROW(A183)-1)*17+2)<>\"\",(ROW(A183)-1)*17+2,\"\"))","v":""},{"$f":"IF(A184=\"\",\"\",\"Číslo smlouvy:  \"&INDEX(Vložit!B:B,A184+1)&CHAR(10)&\"Jméno a příjmení:  \"&INDEX(Vložit!B:B,A184+2)&CHAR(10)&\"Ulice:  \"&INDEX(Vložit!B:B,A184+3)&CHAR(10)&\"Č. pop. / č. orient.:  \"&INDEX(Vložit!B:B,A184+4)&CHAR(10)&\"Obec:  \"&INDEX(Vložit!B:B,A184+5))","v":""},{"$f":"IF(A184=\"\",\"\",INDEX(Vložit!A:A,A184)&CHAR(10)&\"Telefon: \"&INDEX(Vložit!B:B,A184+6)&\" / \"&INDEX(Vložit!B:B,A184+7)&CHAR(10)&\"Typ objednávky: \"&INDEX(Vložit!D:D,A184+1)&CHAR(10)&INDEX(Vložit!C:C,A184)&CHAR(10)&INDEX(Vložit!D:D,A184))","v":""},{"$f":"IF(A184=\"\",\"\",IF(INDEX(Vložit!B:B,A184+8)=\"\",\"\",\"Instrukce: \"&INDEX(Vložit!B:B,A184+8)))","v":""},{"$f":"IF(A184=\"\",\"\",IF(INDEX(Vložit!B:B,A184+1)=\"\",\"\",INDEX(Vložit!B:B,A184+1)))","v":""},{"$f":"IF(A184=\"\",\"\",MID(INDEX(Vložit!A:A,A184),19,10))","v":""},{"$f":"IF(A184=\"\",\"\",IF(INDEX(Vložit!B:B,A184+5)=\"\",\"\",VLOOKUP(INDEX(Vložit!B:B,A184+5),Pomocná!B183:C10182,2,FALSE)))","v":""},{"$f":"IF(A184=\"\",\"\",INDEX(Vložit!B:B,A184+2))","v":""},{"$f":"IF(A184=\"\",\"\",IF(INDEX(Vložit!B:B,A184+3)=\"\",\"\",INDEX(Vložit!B:B,A184+3)))","v":""},{"$f":"IF(A184=\"\",\"\",INDEX(Vložit!B:B,A184+4))","v":""}]
[{"$f":"IF(A184=\"\",\"\",IF(INDEX(Vložit!A:A,(ROW(A184)-1)*17+2)<>\"\",(ROW(A184)-1)*17+2,\"\"))","v":""},{"$f":"IF(A185=\"\",\"\",\"Číslo smlouvy:  \"&INDEX(Vložit!B:B,A185+1)&CHAR(10)&\"Jméno a příjmení:  \"&INDEX(Vložit!B:B,A185+2)&CHAR(10)&\"Ulice:  \"&INDEX(Vložit!B:B,A185+3)&CHAR(10)&\"Č. pop. / č. orient.:  \"&INDEX(Vložit!B:B,A185+4)&CHAR(10)&\"Obec:  \"&INDEX(Vložit!B:B,A185+5))","v":""},{"$f":"IF(A185=\"\",\"\",INDEX(Vložit!A:A,A185)&CHAR(10)&\"Telefon: \"&INDEX(Vložit!B:B,A185+6)&\" / \"&INDEX(Vložit!B:B,A185+7)&CHAR(10)&\"Typ objednávky: \"&INDEX(Vložit!D:D,A185+1)&CHAR(10)&INDEX(Vložit!C:C,A185)&CHAR(10)&INDEX(Vložit!D:D,A185))","v":""},{"$f":"IF(A185=\"\",\"\",IF(INDEX(Vložit!B:B,A185+8)=\"\",\"\",\"Instrukce: \"&INDEX(Vložit!B:B,A185+8)))","v":""},{"$f":"IF(A185=\"\",\"\",IF(INDEX(Vložit!B:B,A185+1)=\"\",\"\",INDEX(Vložit!B:B,A185+1)))","v":""},{"$f":"IF(A185=\"\",\"\",MID(INDEX(Vložit!A:A,A185),19,10))","v":""},{"$f":"IF(A185=\"\",\"\",IF(INDEX(Vložit!B:B,A185+5)=\"\",\"\",VLOOKUP(INDEX(Vložit!B:B,A185+5),Pomocná!B184:C10183,2,FALSE)))","v":""},{"$f":"IF(A185=\"\",\"\",INDEX(Vložit!B:B,A185+2))","v":""},{"$f":"IF(A185=\"\",\"\",IF(INDEX(Vložit!B:B,A185+3)=\"\",\"\",INDEX(Vložit!B:B,A185+3)))","v":""},{"$f":"IF(A185=\"\",\"\",INDEX(Vložit!B:B,A185+4))","v":""}]
[{"$f":"IF(A185=\"\",\"\",IF(INDEX(Vložit!A:A,(ROW(A185)-1)*17+2)<>\"\",(ROW(A185)-1)*17+2,\"\"))","v":""},{"$f":"IF(A186=\"\",\"\",\"Číslo smlouvy:  \"&INDEX(Vložit!B:B,A186+1)&CHAR(10)&\"Jméno a příjmení:  \"&INDEX(Vložit!B:B,A186+2)&CHAR(10)&\"Ulice:  \"&INDEX(Vložit!B:B,A186+3)&CHAR(10)&\"Č. pop. / č. orient.:  \"&INDEX(Vložit!B:B,A186+4)&CHAR(10)&\"Obec:  \"&INDEX(Vložit!B:B,A186+5))","v":""},{"$f":"IF(A186=\"\",\"\",INDEX(Vložit!A:A,A186)&CHAR(10)&\"Telefon: \"&INDEX(Vložit!B:B,A186+6)&\" / \"&INDEX(Vložit!B:B,A186+7)&CHAR(10)&\"Typ objednávky: \"&INDEX(Vložit!D:D,A186+1)&CHAR(10)&INDEX(Vložit!C:C,A186)&CHAR(10)&INDEX(Vložit!D:D,A186))","v":""},{"$f":"IF(A186=\"\",\"\",IF(INDEX(Vložit!B:B,A186+8)=\"\",\"\",\"Instrukce: \"&INDEX(Vložit!B:B,A186+8)))","v":""},{"$f":"IF(A186=\"\",\"\",IF(INDEX(Vložit!B:B,A186+1)=\"\",\"\",INDEX(Vložit!B:B,A186+1)))","v":""},{"$f":"IF(A186=\"\",\"\",MID(INDEX(Vložit!A:A,A186),19,10))","v":""},{"$f":"IF(A186=\"\",\"\",IF(INDEX(Vložit!B:B,A186+5)=\"\",\"\",VLOOKUP(INDEX(Vložit!B:B,A186+5),Pomocná!B185:C10184,2,FALSE)))","v":""},{"$f":"IF(A186=\"\",\"\",INDEX(Vložit!B:B,A186+2))","v":""},{"$f":"IF(A186=\"\",\"\",IF(INDEX(Vložit!B:B,A186+3)=\"\",\"\",INDEX(Vložit!B:B,A186+3)))","v":""},{"$f":"IF(A186=\"\",\"\",INDEX(Vložit!B:B,A186+4))","v":""}]
[{"$f":"IF(A186=\"\",\"\",IF(INDEX(Vložit!A:A,(ROW(A186)-1)*17+2)<>\"\",(ROW(A186)-1)*17+2,\"\"))","v":""},{"$f":"IF(A187=\"\",\"\",\"Číslo smlouvy:  \"&INDEX(Vložit!B:B,A187+1)&CHAR(10)&\"Jméno a příjmení:  \"&INDEX(Vložit!B:B,A187+2)&CHAR(10)&\"Ulice:  \"&INDEX(Vložit!B:B,A187+3)&CHAR(10)&\"Č. pop. / č. orient.:  \"&INDEX(Vložit!B:B,A187+4)&CHAR(10)&\"Obec:  \"&INDEX(Vložit!B:B,A187+5))","v":""},{"$f":"IF(A187=\"\",\"\",INDEX(Vložit!A:A,A187)&CHAR(10)&\"Telefon: \"&INDEX(Vložit!B:B,A187+6)&\" / \"&INDEX(Vložit!B:B,A187+7)&CHAR(10)&\"Typ objednávky: \"&INDEX(Vložit!D:D,A187+1)&CHAR(10)&INDEX(Vložit!C:C,A187)&CHAR(10)&INDEX(Vložit!D:D,A187))","v":""},{"$f":"IF(A187=\"\",\"\",IF(INDEX(Vložit!B:B,A187+8)=\"\",\"\",\"Instrukce: \"&INDEX(Vložit!B:B,A187+8)))","v":""},{"$f":"IF(A187=\"\",\"\",IF(INDEX(Vložit!B:B,A187+1)=\"\",\"\",INDEX(Vložit!B:B,A187+1)))","v":""},{"$f":"IF(A187=\"\",\"\",MID(INDEX(Vložit!A:A,A187),19,10))","v":""},{"$f":"IF(A187=\"\",\"\",IF(INDEX(Vložit!B:B,A187+5)=\"\",\"\",VLOOKUP(INDEX(Vložit!B:B,A187+5),Pomocná!B186:C10185,2,FALSE)))","v":""},{"$f":"IF(A187=\"\",\"\",INDEX(Vložit!B:B,A187+2))","v":""},{"$f":"IF(A187=\"\",\"\",IF(INDEX(Vložit!B:B,A187+3)=\"\",\"\",INDEX(Vložit!B:B,A187+3)))","v":""},{"$f":"IF(A187=\"\",\"\",INDEX(Vložit!B:B,A187+4))","v":""}]
[{"$f":"IF(A187=\"\",\"\",IF(INDEX(Vložit!A:A,(ROW(A187)-1)*17+2)<>\"\",(ROW(A187)-1)*17+2,\"\"))","v":""},{"$f":"IF(A188=\"\",\"\",\"Číslo smlouvy:  \"&INDEX(Vložit!B:B,A188+1)&CHAR(10)&\"Jméno a příjmení:  \"&INDEX(Vložit!B:B,A188+2)&CHAR(10)&\"Ulice:  \"&INDEX(Vložit!B:B,A188+3)&CHAR(10)&\"Č. pop. / č. orient.:  \"&INDEX(Vložit!B:B,A188+4)&CHAR(10)&\"Obec:  \"&INDEX(Vložit!B:B,A188+5))","v":""},{"$f":"IF(A188=\"\",\"\",INDEX(Vložit!A:A,A188)&CHAR(10)&\"Telefon: \"&INDEX(Vložit!B:B,A188+6)&\" / \"&INDEX(Vložit!B:B,A188+7)&CHAR(10)&\"Typ objednávky: \"&INDEX(Vložit!D:D,A188+1)&CHAR(10)&INDEX(Vložit!C:C,A188)&CHAR(10)&INDEX(Vložit!D:D,A188))","v":""},{"$f":"IF(A188=\"\",\"\",IF(INDEX(Vložit!B:B,A188+8)=\"\",\"\",\"Instrukce: \"&INDEX(Vložit!B:B,A188+8)))","v":""},{"$f":"IF(A188=\"\",\"\",IF(INDEX(Vložit!B:B,A188+1)=\"\",\"\",INDEX(Vložit!B:B,A188+1)))","v":""},{"$f":"IF(A188=\"\",\"\",MID(INDEX(Vložit!A:A,A188),19,10))","v":""},{"$f":"IF(A188=\"\",\"\",IF(INDEX(Vložit!B:B,A188+5)=\"\",\"\",VLOOKUP(INDEX(Vložit!B:B,A188+5),Pomocná!B187:C10186,2,FALSE)))","v":""},{"$f":"IF(A188=\"\",\"\",INDEX(Vložit!B:B,A188+2))","v":""},{"$f":"IF(A188=\"\",\"\",IF(INDEX(Vložit!B:B,A188+3)=\"\",\"\",INDEX(Vložit!B:B,A188+3)))","v":""},{"$f":"IF(A188=\"\",\"\",INDEX(Vložit!B:B,A188+4))","v":""}]
[{"$f":"IF(A188=\"\",\"\",IF(INDEX(Vložit!A:A,(ROW(A188)-1)*17+2)<>\"\",(ROW(A188)-1)*17+2,\"\"))","v":""},{"$f":"IF(A189=\"\",\"\",\"Číslo smlouvy:  \"&INDEX(Vložit!B:B,A189+1)&CHAR(10)&\"Jméno a příjmení:  \"&INDEX(Vložit!B:B,A189+2)&CHAR(10)&\"Ulice:  \"&INDEX(Vložit!B:B,A189+3)&CHAR(10)&\"Č. pop. / č. orient.:  \"&INDEX(Vložit!B:B,A189+4)&CHAR(10)&\"Obec:  \"&INDEX(Vložit!B:B,A189+5))","v":""},{"$f":"IF(A189=\"\",\"\",INDEX(Vložit!A:A,A189)&CHAR(10)&\"Telefon: \"&INDEX(Vložit!B:B,A189+6)&\" / \"&INDEX(Vložit!B:B,A189+7)&CHAR(10)&\"Typ objednávky: \"&INDEX(Vložit!D:D,A189+1)&CHAR(10)&INDEX(Vložit!C:C,A189)&CHAR(10)&INDEX(Vložit!D:D,A189))","v":""},{"$f":"IF(A189=\"\",\"\",IF(INDEX(Vložit!B:B,A189+8)=\"\",\"\",\"Instrukce: \"&INDEX(Vložit!B:B,A189+8)))","v":""},{"$f":"IF(A189=\"\",\"\",IF(INDEX(Vložit!B:B,A189+1)=\"\",\"\",INDEX(Vložit!B:B,A189+1)))","v":""},{"$f":"IF(A189=\"\",\"\",MID(INDEX(Vložit!A:A,A189),19,10))","v":""},{"$f":"IF(A189=\"\",\"\",IF(INDEX(Vložit!B:B,A189+5)=\"\",\"\",VLOOKUP(INDEX(Vložit!B:B,A189+5),Pomocná!B188:C10187,2,FALSE)))","v":""},{"$f":"IF(A189=\"\",\"\",INDEX(Vložit!B:B,A189+2))","v":""},{"$f":"IF(A189=\"\",\"\",IF(INDEX(Vložit!B:B,A189+3)=\"\",\"\",INDEX(Vložit!B:B,A189+3)))","v":""},{"$f":"IF(A189=\"\",\"\",INDEX(Vložit!B:B,A189+4))","v":""}]
[{"$f":"IF(A189=\"\",\"\",IF(INDEX(Vložit!A:A,(ROW(A189)-1)*17+2)<>\"\",(ROW(A189)-1)*17+2,\"\"))","v":""},{"$f":"IF(A190=\"\",\"\",\"Číslo smlouvy:  \"&INDEX(Vložit!B:B,A190+1)&CHAR(10)&\"Jméno a příjmení:  \"&INDEX(Vložit!B:B,A190+2)&CHAR(10)&\"Ulice:  \"&INDEX(Vložit!B:B,A190+3)&CHAR(10)&\"Č. pop. / č. orient.:  \"&INDEX(Vložit!B:B,A190+4)&CHAR(10)&\"Obec:  \"&INDEX(Vložit!B:B,A190+5))","v":""},{"$f":"IF(A190=\"\",\"\",INDEX(Vložit!A:A,A190)&CHAR(10)&\"Telefon: \"&INDEX(Vložit!B:B,A190+6)&\" / \"&INDEX(Vložit!B:B,A190+7)&CHAR(10)&\"Typ objednávky: \"&INDEX(Vložit!D:D,A190+1)&CHAR(10)&INDEX(Vložit!C:C,A190)&CHAR(10)&INDEX(Vložit!D:D,A190))","v":""},{"$f":"IF(A190=\"\",\"\",IF(INDEX(Vložit!B:B,A190+8)=\"\",\"\",\"Instrukce: \"&INDEX(Vložit!B:B,A190+8)))","v":""},{"$f":"IF(A190=\"\",\"\",IF(INDEX(Vložit!B:B,A190+1)=\"\",\"\",INDEX(Vložit!B:B,A190+1)))","v":""},{"$f":"IF(A190=\"\",\"\",MID(INDEX(Vložit!A:A,A190),19,10))","v":""},{"$f":"IF(A190=\"\",\"\",IF(INDEX(Vložit!B:B,A190+5)=\"\",\"\",VLOOKUP(INDEX(Vložit!B:B,A190+5),Pomocná!B189:C10188,2,FALSE)))","v":""},{"$f":"IF(A190=\"\",\"\",INDEX(Vložit!B:B,A190+2))","v":""},{"$f":"IF(A190=\"\",\"\",IF(INDEX(Vložit!B:B,A190+3)=\"\",\"\",INDEX(Vložit!B:B,A190+3)))","v":""},{"$f":"IF(A190=\"\",\"\",INDEX(Vložit!B:B,A190+4))","v":""}]
[{"$f":"IF(A190=\"\",\"\",IF(INDEX(Vložit!A:A,(ROW(A190)-1)*17+2)<>\"\",(ROW(A190)-1)*17+2,\"\"))","v":""},{"$f":"IF(A191=\"\",\"\",\"Číslo smlouvy:  \"&INDEX(Vložit!B:B,A191+1)&CHAR(10)&\"Jméno a příjmení:  \"&INDEX(Vložit!B:B,A191+2)&CHAR(10)&\"Ulice:  \"&INDEX(Vložit!B:B,A191+3)&CHAR(10)&\"Č. pop. / č. orient.:  \"&INDEX(Vložit!B:B,A191+4)&CHAR(10)&\"Obec:  \"&INDEX(Vložit!B:B,A191+5))","v":""},{"$f":"IF(A191=\"\",\"\",INDEX(Vložit!A:A,A191)&CHAR(10)&\"Telefon: \"&INDEX(Vložit!B:B,A191+6)&\" / \"&INDEX(Vložit!B:B,A191+7)&CHAR(10)&\"Typ objednávky: \"&INDEX(Vložit!D:D,A191+1)&CHAR(10)&INDEX(Vložit!C:C,A191)&CHAR(10)&INDEX(Vložit!D:D,A191))","v":""},{"$f":"IF(A191=\"\",\"\",IF(INDEX(Vložit!B:B,A191+8)=\"\",\"\",\"Instrukce: \"&INDEX(Vložit!B:B,A191+8)))","v":""},{"$f":"IF(A191=\"\",\"\",IF(INDEX(Vložit!B:B,A191+1)=\"\",\"\",INDEX(Vložit!B:B,A191+1)))","v":""},{"$f":"IF(A191=\"\",\"\",MID(INDEX(Vložit!A:A,A191),19,10))","v":""},{"$f":"IF(A191=\"\",\"\",IF(INDEX(Vložit!B:B,A191+5)=\"\",\"\",VLOOKUP(INDEX(Vložit!B:B,A191+5),Pomocná!B190:C10189,2,FALSE)))","v":""},{"$f":"IF(A191=\"\",\"\",INDEX(Vložit!B:B,A191+2))","v":""},{"$f":"IF(A191=\"\",\"\",IF(INDEX(Vložit!B:B,A191+3)=\"\",\"\",INDEX(Vložit!B:B,A191+3)))","v":""},{"$f":"IF(A191=\"\",\"\",INDEX(Vložit!B:B,A191+4))","v":""}]
[{"$f":"IF(A191=\"\",\"\",IF(INDEX(Vložit!A:A,(ROW(A191)-1)*17+2)<>\"\",(ROW(A191)-1)*17+2,\"\"))","v":""},{"$f":"IF(A192=\"\",\"\",\"Číslo smlouvy:  \"&INDEX(Vložit!B:B,A192+1)&CHAR(10)&\"Jméno a příjmení:  \"&INDEX(Vložit!B:B,A192+2)&CHAR(10)&\"Ulice:  \"&INDEX(Vložit!B:B,A192+3)&CHAR(10)&\"Č. pop. / č. orient.:  \"&INDEX(Vložit!B:B,A192+4)&CHAR(10)&\"Obec:  \"&INDEX(Vložit!B:B,A192+5))","v":""},{"$f":"IF(A192=\"\",\"\",INDEX(Vložit!A:A,A192)&CHAR(10)&\"Telefon: \"&INDEX(Vložit!B:B,A192+6)&\" / \"&INDEX(Vložit!B:B,A192+7)&CHAR(10)&\"Typ objednávky: \"&INDEX(Vložit!D:D,A192+1)&CHAR(10)&INDEX(Vložit!C:C,A192)&CHAR(10)&INDEX(Vložit!D:D,A192))","v":""},{"$f":"IF(A192=\"\",\"\",IF(INDEX(Vložit!B:B,A192+8)=\"\",\"\",\"Instrukce: \"&INDEX(Vložit!B:B,A192+8)))","v":""},{"$f":"IF(A192=\"\",\"\",IF(INDEX(Vložit!B:B,A192+1)=\"\",\"\",INDEX(Vložit!B:B,A192+1)))","v":""},{"$f":"IF(A192=\"\",\"\",MID(INDEX(Vložit!A:A,A192),19,10))","v":""},{"$f":"IF(A192=\"\",\"\",IF(INDEX(Vložit!B:B,A192+5)=\"\",\"\",VLOOKUP(INDEX(Vložit!B:B,A192+5),Pomocná!B191:C10190,2,FALSE)))","v":""},{"$f":"IF(A192=\"\",\"\",INDEX(Vložit!B:B,A192+2))","v":""},{"$f":"IF(A192=\"\",\"\",IF(INDEX(Vložit!B:B,A192+3)=\"\",\"\",INDEX(Vložit!B:B,A192+3)))","v":""},{"$f":"IF(A192=\"\",\"\",INDEX(Vložit!B:B,A192+4))","v":""}]
[{"$f":"IF(A192=\"\",\"\",IF(INDEX(Vložit!A:A,(ROW(A192)-1)*17+2)<>\"\",(ROW(A192)-1)*17+2,\"\"))","v":""},{"$f":"IF(A193=\"\",\"\",\"Číslo smlouvy:  \"&INDEX(Vložit!B:B,A193+1)&CHAR(10)&\"Jméno a příjmení:  \"&INDEX(Vložit!B:B,A193+2)&CHAR(10)&\"Ulice:  \"&INDEX(Vložit!B:B,A193+3)&CHAR(10)&\"Č. pop. / č. orient.:  \"&INDEX(Vložit!B:B,A193+4)&CHAR(10)&\"Obec:  \"&INDEX(Vložit!B:B,A193+5))","v":""},{"$f":"IF(A193=\"\",\"\",INDEX(Vložit!A:A,A193)&CHAR(10)&\"Telefon: \"&INDEX(Vložit!B:B,A193+6)&\" / \"&INDEX(Vložit!B:B,A193+7)&CHAR(10)&\"Typ objednávky: \"&INDEX(Vložit!D:D,A193+1)&CHAR(10)&INDEX(Vložit!C:C,A193)&CHAR(10)&INDEX(Vložit!D:D,A193))","v":""},{"$f":"IF(A193=\"\",\"\",IF(INDEX(Vložit!B:B,A193+8)=\"\",\"\",\"Instrukce: \"&INDEX(Vložit!B:B,A193+8)))","v":""},{"$f":"IF(A193=\"\",\"\",IF(INDEX(Vložit!B:B,A193+1)=\"\",\"\",INDEX(Vložit!B:B,A193+1)))","v":""},{"$f":"IF(A193=\"\",\"\",MID(INDEX(Vložit!A:A,A193),19,10))","v":""},{"$f":"IF(A193=\"\",\"\",IF(INDEX(Vložit!B:B,A193+5)=\"\",\"\",VLOOKUP(INDEX(Vložit!B:B,A193+5),Pomocná!B192:C10191,2,FALSE)))","v":""},{"$f":"IF(A193=\"\",\"\",INDEX(Vložit!B:B,A193+2))","v":""},{"$f":"IF(A193=\"\",\"\",IF(INDEX(Vložit!B:B,A193+3)=\"\",\"\",INDEX(Vložit!B:B,A193+3)))","v":""},{"$f":"IF(A193=\"\",\"\",INDEX(Vložit!B:B,A193+4))","v":""}]
[{"$f":"IF(A193=\"\",\"\",IF(INDEX(Vložit!A:A,(ROW(A193)-1)*17+2)<>\"\",(ROW(A193)-1)*17+2,\"\"))","v":""},{"$f":"IF(A194=\"\",\"\",\"Číslo smlouvy:  \"&INDEX(Vložit!B:B,A194+1)&CHAR(10)&\"Jméno a příjmení:  \"&INDEX(Vložit!B:B,A194+2)&CHAR(10)&\"Ulice:  \"&INDEX(Vložit!B:B,A194+3)&CHAR(10)&\"Č. pop. / č. orient.:  \"&INDEX(Vložit!B:B,A194+4)&CHAR(10)&\"Obec:  \"&INDEX(Vložit!B:B,A194+5))","v":""},{"$f":"IF(A194=\"\",\"\",INDEX(Vložit!A:A,A194)&CHAR(10)&\"Telefon: \"&INDEX(Vložit!B:B,A194+6)&\" / \"&INDEX(Vložit!B:B,A194+7)&CHAR(10)&\"Typ objednávky: \"&INDEX(Vložit!D:D,A194+1)&CHAR(10)&INDEX(Vložit!C:C,A194)&CHAR(10)&INDEX(Vložit!D:D,A194))","v":""},{"$f":"IF(A194=\"\",\"\",IF(INDEX(Vložit!B:B,A194+8)=\"\",\"\",\"Instrukce: \"&INDEX(Vložit!B:B,A194+8)))","v":""},{"$f":"IF(A194=\"\",\"\",IF(INDEX(Vložit!B:B,A194+1)=\"\",\"\",INDEX(Vložit!B:B,A194+1)))","v":""},{"$f":"IF(A194=\"\",\"\",MID(INDEX(Vložit!A:A,A194),19,10))","v":""},{"$f":"IF(A194=\"\",\"\",IF(INDEX(Vložit!B:B,A194+5)=\"\",\"\",VLOOKUP(INDEX(Vložit!B:B,A194+5),Pomocná!B193:C10192,2,FALSE)))","v":""},{"$f":"IF(A194=\"\",\"\",INDEX(Vložit!B:B,A194+2))","v":""},{"$f":"IF(A194=\"\",\"\",IF(INDEX(Vložit!B:B,A194+3)=\"\",\"\",INDEX(Vložit!B:B,A194+3)))","v":""},{"$f":"IF(A194=\"\",\"\",INDEX(Vložit!B:B,A194+4))","v":""}]
[{"$f":"IF(A194=\"\",\"\",IF(INDEX(Vložit!A:A,(ROW(A194)-1)*17+2)<>\"\",(ROW(A194)-1)*17+2,\"\"))","v":""},{"$f":"IF(A195=\"\",\"\",\"Číslo smlouvy:  \"&INDEX(Vložit!B:B,A195+1)&CHAR(10)&\"Jméno a příjmení:  \"&INDEX(Vložit!B:B,A195+2)&CHAR(10)&\"Ulice:  \"&INDEX(Vložit!B:B,A195+3)&CHAR(10)&\"Č. pop. / č. orient.:  \"&INDEX(Vložit!B:B,A195+4)&CHAR(10)&\"Obec:  \"&INDEX(Vložit!B:B,A195+5))","v":""},{"$f":"IF(A195=\"\",\"\",INDEX(Vložit!A:A,A195)&CHAR(10)&\"Telefon: \"&INDEX(Vložit!B:B,A195+6)&\" / \"&INDEX(Vložit!B:B,A195+7)&CHAR(10)&\"Typ objednávky: \"&INDEX(Vložit!D:D,A195+1)&CHAR(10)&INDEX(Vložit!C:C,A195)&CHAR(10)&INDEX(Vložit!D:D,A195))","v":""},{"$f":"IF(A195=\"\",\"\",IF(INDEX(Vložit!B:B,A195+8)=\"\",\"\",\"Instrukce: \"&INDEX(Vložit!B:B,A195+8)))","v":""},{"$f":"IF(A195=\"\",\"\",IF(INDEX(Vložit!B:B,A195+1)=\"\",\"\",INDEX(Vložit!B:B,A195+1)))","v":""},{"$f":"IF(A195=\"\",\"\",MID(INDEX(Vložit!A:A,A195),19,10))","v":""},{"$f":"IF(A195=\"\",\"\",IF(INDEX(Vložit!B:B,A195+5)=\"\",\"\",VLOOKUP(INDEX(Vložit!B:B,A195+5),Pomocná!B194:C10193,2,FALSE)))","v":""},{"$f":"IF(A195=\"\",\"\",INDEX(Vložit!B:B,A195+2))","v":""},{"$f":"IF(A195=\"\",\"\",IF(INDEX(Vložit!B:B,A195+3)=\"\",\"\",INDEX(Vložit!B:B,A195+3)))","v":""},{"$f":"IF(A195=\"\",\"\",INDEX(Vložit!B:B,A195+4))","v":""}]
[{"$f":"IF(A195=\"\",\"\",IF(INDEX(Vložit!A:A,(ROW(A195)-1)*17+2)<>\"\",(ROW(A195)-1)*17+2,\"\"))","v":""},{"$f":"IF(A196=\"\",\"\",\"Číslo smlouvy:  \"&INDEX(Vložit!B:B,A196+1)&CHAR(10)&\"Jméno a příjmení:  \"&INDEX(Vložit!B:B,A196+2)&CHAR(10)&\"Ulice:  \"&INDEX(Vložit!B:B,A196+3)&CHAR(10)&\"Č. pop. / č. orient.:  \"&INDEX(Vložit!B:B,A196+4)&CHAR(10)&\"Obec:  \"&INDEX(Vložit!B:B,A196+5))","v":""},{"$f":"IF(A196=\"\",\"\",INDEX(Vložit!A:A,A196)&CHAR(10)&\"Telefon: \"&INDEX(Vložit!B:B,A196+6)&\" / \"&INDEX(Vložit!B:B,A196+7)&CHAR(10)&\"Typ objednávky: \"&INDEX(Vložit!D:D,A196+1)&CHAR(10)&INDEX(Vložit!C:C,A196)&CHAR(10)&INDEX(Vložit!D:D,A196))","v":""},{"$f":"IF(A196=\"\",\"\",IF(INDEX(Vložit!B:B,A196+8)=\"\",\"\",\"Instrukce: \"&INDEX(Vložit!B:B,A196+8)))","v":""},{"$f":"IF(A196=\"\",\"\",IF(INDEX(Vložit!B:B,A196+1)=\"\",\"\",INDEX(Vložit!B:B,A196+1)))","v":""},{"$f":"IF(A196=\"\",\"\",MID(INDEX(Vložit!A:A,A196),19,10))","v":""},{"$f":"IF(A196=\"\",\"\",IF(INDEX(Vložit!B:B,A196+5)=\"\",\"\",VLOOKUP(INDEX(Vložit!B:B,A196+5),Pomocná!B195:C10194,2,FALSE)))","v":""},{"$f":"IF(A196=\"\",\"\",INDEX(Vložit!B:B,A196+2))","v":""},{"$f":"IF(A196=\"\",\"\",IF(INDEX(Vložit!B:B,A196+3)=\"\",\"\",INDEX(Vložit!B:B,A196+3)))","v":""},{"$f":"IF(A196=\"\",\"\",INDEX(Vložit!B:B,A196+4))","v":""}]
[{"$f":"IF(A196=\"\",\"\",IF(INDEX(Vložit!A:A,(ROW(A196)-1)*17+2)<>\"\",(ROW(A196)-1)*17+2,\"\"))","v":""},{"$f":"IF(A197=\"\",\"\",\"Číslo smlouvy:  \"&INDEX(Vložit!B:B,A197+1)&CHAR(10)&\"Jméno a příjmení:  \"&INDEX(Vložit!B:B,A197+2)&CHAR(10)&\"Ulice:  \"&INDEX(Vložit!B:B,A197+3)&CHAR(10)&\"Č. pop. / č. orient.:  \"&INDEX(Vložit!B:B,A197+4)&CHAR(10)&\"Obec:  \"&INDEX(Vložit!B:B,A197+5))","v":""},{"$f":"IF(A197=\"\",\"\",INDEX(Vložit!A:A,A197)&CHAR(10)&\"Telefon: \"&INDEX(Vložit!B:B,A197+6)&\" / \"&INDEX(Vložit!B:B,A197+7)&CHAR(10)&\"Typ objednávky: \"&INDEX(Vložit!D:D,A197+1)&CHAR(10)&INDEX(Vložit!C:C,A197)&CHAR(10)&INDEX(Vložit!D:D,A197))","v":""},{"$f":"IF(A197=\"\",\"\",IF(INDEX(Vložit!B:B,A197+8)=\"\",\"\",\"Instrukce: \"&INDEX(Vložit!B:B,A197+8)))","v":""},{"$f":"IF(A197=\"\",\"\",IF(INDEX(Vložit!B:B,A197+1)=\"\",\"\",INDEX(Vložit!B:B,A197+1)))","v":""},{"$f":"IF(A197=\"\",\"\",MID(INDEX(Vložit!A:A,A197),19,10))","v":""},{"$f":"IF(A197=\"\",\"\",IF(INDEX(Vložit!B:B,A197+5)=\"\",\"\",VLOOKUP(INDEX(Vložit!B:B,A197+5),Pomocná!B196:C10195,2,FALSE)))","v":""},{"$f":"IF(A197=\"\",\"\",INDEX(Vložit!B:B,A197+2))","v":""},{"$f":"IF(A197=\"\",\"\",IF(INDEX(Vložit!B:B,A197+3)=\"\",\"\",INDEX(Vložit!B:B,A197+3)))","v":""},{"$f":"IF(A197=\"\",\"\",INDEX(Vložit!B:B,A197+4))","v":""}]
[{"$f":"IF(A197=\"\",\"\",IF(INDEX(Vložit!A:A,(ROW(A197)-1)*17+2)<>\"\",(ROW(A197)-1)*17+2,\"\"))","v":""},{"$f":"IF(A198=\"\",\"\",\"Číslo smlouvy:  \"&INDEX(Vložit!B:B,A198+1)&CHAR(10)&\"Jméno a příjmení:  \"&INDEX(Vložit!B:B,A198+2)&CHAR(10)&\"Ulice:  \"&INDEX(Vložit!B:B,A198+3)&CHAR(10)&\"Č. pop. / č. orient.:  \"&INDEX(Vložit!B:B,A198+4)&CHAR(10)&\"Obec:  \"&INDEX(Vložit!B:B,A198+5))","v":""},{"$f":"IF(A198=\"\",\"\",INDEX(Vložit!A:A,A198)&CHAR(10)&\"Telefon: \"&INDEX(Vložit!B:B,A198+6)&\" / \"&INDEX(Vložit!B:B,A198+7)&CHAR(10)&\"Typ objednávky: \"&INDEX(Vložit!D:D,A198+1)&CHAR(10)&INDEX(Vložit!C:C,A198)&CHAR(10)&INDEX(Vložit!D:D,A198))","v":""},{"$f":"IF(A198=\"\",\"\",IF(INDEX(Vložit!B:B,A198+8)=\"\",\"\",\"Instrukce: \"&INDEX(Vložit!B:B,A198+8)))","v":""},{"$f":"IF(A198=\"\",\"\",IF(INDEX(Vložit!B:B,A198+1)=\"\",\"\",INDEX(Vložit!B:B,A198+1)))","v":""},{"$f":"IF(A198=\"\",\"\",MID(INDEX(Vložit!A:A,A198),19,10))","v":""},{"$f":"IF(A198=\"\",\"\",IF(INDEX(Vložit!B:B,A198+5)=\"\",\"\",VLOOKUP(INDEX(Vložit!B:B,A198+5),Pomocná!B197:C10196,2,FALSE)))","v":""},{"$f":"IF(A198=\"\",\"\",INDEX(Vložit!B:B,A198+2))","v":""},{"$f":"IF(A198=\"\",\"\",IF(INDEX(Vložit!B:B,A198+3)=\"\",\"\",INDEX(Vložit!B:B,A198+3)))","v":""},{"$f":"IF(A198=\"\",\"\",INDEX(Vložit!B:B,A198+4))","v":""}]
[{"$f":"IF(A198=\"\",\"\",IF(INDEX(Vložit!A:A,(ROW(A198)-1)*17+2)<>\"\",(ROW(A198)-1)*17+2,\"\"))","v":""},{"$f":"IF(A199=\"\",\"\",\"Číslo smlouvy:  \"&INDEX(Vložit!B:B,A199+1)&CHAR(10)&\"Jméno a příjmení:  \"&INDEX(Vložit!B:B,A199+2)&CHAR(10)&\"Ulice:  \"&INDEX(Vložit!B:B,A199+3)&CHAR(10)&\"Č. pop. / č. orient.:  \"&INDEX(Vložit!B:B,A199+4)&CHAR(10)&\"Obec:  \"&INDEX(Vložit!B:B,A199+5))","v":""},{"$f":"IF(A199=\"\",\"\",INDEX(Vložit!A:A,A199)&CHAR(10)&\"Telefon: \"&INDEX(Vložit!B:B,A199+6)&\" / \"&INDEX(Vložit!B:B,A199+7)&CHAR(10)&\"Typ objednávky: \"&INDEX(Vložit!D:D,A199+1)&CHAR(10)&INDEX(Vložit!C:C,A199)&CHAR(10)&INDEX(Vložit!D:D,A199))","v":""},{"$f":"IF(A199=\"\",\"\",IF(INDEX(Vložit!B:B,A199+8)=\"\",\"\",\"Instrukce: \"&INDEX(Vložit!B:B,A199+8)))","v":""},{"$f":"IF(A199=\"\",\"\",IF(INDEX(Vložit!B:B,A199+1)=\"\",\"\",INDEX(Vložit!B:B,A199+1)))","v":""},{"$f":"IF(A199=\"\",\"\",MID(INDEX(Vložit!A:A,A199),19,10))","v":""},{"$f":"IF(A199=\"\",\"\",IF(INDEX(Vložit!B:B,A199+5)=\"\",\"\",VLOOKUP(INDEX(Vložit!B:B,A199+5),Pomocná!B198:C10197,2,FALSE)))","v":""},{"$f":"IF(A199=\"\",\"\",INDEX(Vložit!B:B,A199+2))","v":""},{"$f":"IF(A199=\"\",\"\",IF(INDEX(Vložit!B:B,A199+3)=\"\",\"\",INDEX(Vložit!B:B,A199+3)))","v":""},{"$f":"IF(A199=\"\",\"\",INDEX(Vložit!B:B,A199+4))","v":""}]
[{"$f":"IF(A199=\"\",\"\",IF(INDEX(Vložit!A:A,(ROW(A199)-1)*17+2)<>\"\",(ROW(A199)-1)*17+2,\"\"))","v":""},{"$f":"IF(A200=\"\",\"\",\"Číslo smlouvy:  \"&INDEX(Vložit!B:B,A200+1)&CHAR(10)&\"Jméno a příjmení:  \"&INDEX(Vložit!B:B,A200+2)&CHAR(10)&\"Ulice:  \"&INDEX(Vložit!B:B,A200+3)&CHAR(10)&\"Č. pop. / č. orient.:  \"&INDEX(Vložit!B:B,A200+4)&CHAR(10)&\"Obec:  \"&INDEX(Vložit!B:B,A200+5))","v":""},{"$f":"IF(A200=\"\",\"\",INDEX(Vložit!A:A,A200)&CHAR(10)&\"Telefon: \"&INDEX(Vložit!B:B,A200+6)&\" / \"&INDEX(Vložit!B:B,A200+7)&CHAR(10)&\"Typ objednávky: \"&INDEX(Vložit!D:D,A200+1)&CHAR(10)&INDEX(Vložit!C:C,A200)&CHAR(10)&INDEX(Vložit!D:D,A200))","v":""},{"$f":"IF(A200=\"\",\"\",IF(INDEX(Vložit!B:B,A200+8)=\"\",\"\",\"Instrukce: \"&INDEX(Vložit!B:B,A200+8)))","v":""},{"$f":"IF(A200=\"\",\"\",IF(INDEX(Vložit!B:B,A200+1)=\"\",\"\",INDEX(Vložit!B:B,A200+1)))","v":""},{"$f":"IF(A200=\"\",\"\",MID(INDEX(Vložit!A:A,A200),19,10))","v":""},{"$f":"IF(A200=\"\",\"\",IF(INDEX(Vložit!B:B,A200+5)=\"\",\"\",VLOOKUP(INDEX(Vložit!B:B,A200+5),Pomocná!B199:C10198,2,FALSE)))","v":""},{"$f":"IF(A200=\"\",\"\",INDEX(Vložit!B:B,A200+2))","v":""},{"$f":"IF(A200=\"\",\"\",IF(INDEX(Vložit!B:B,A200+3)=\"\",\"\",INDEX(Vložit!B:B,A200+3)))","v":""},{"$f":"IF(A200=\"\",\"\",INDEX(Vložit!B:B,A200+4))","v":""}]
[{"$f":"IF(A200=\"\",\"\",IF(INDEX(Vložit!A:A,(ROW(A200)-1)*17+2)<>\"\",(ROW(A200)-1)*17+2,\"\"))","v":""},{"$f":"IF(A201=\"\",\"\",\"Číslo smlouvy:  \"&INDEX(Vložit!B:B,A201+1)&CHAR(10)&\"Jméno a příjmení:  \"&INDEX(Vložit!B:B,A201+2)&CHAR(10)&\"Ulice:  \"&INDEX(Vložit!B:B,A201+3)&CHAR(10)&\"Č. pop. / č. orient.:  \"&INDEX(Vložit!B:B,A201+4)&CHAR(10)&\"Obec:  \"&INDEX(Vložit!B:B,A201+5))","v":""},{"$f":"IF(A201=\"\",\"\",INDEX(Vložit!A:A,A201)&CHAR(10)&\"Telefon: \"&INDEX(Vložit!B:B,A201+6)&\" / \"&INDEX(Vložit!B:B,A201+7)&CHAR(10)&\"Typ objednávky: \"&INDEX(Vložit!D:D,A201+1)&CHAR(10)&INDEX(Vložit!C:C,A201)&CHAR(10)&INDEX(Vložit!D:D,A201))","v":""},{"$f":"IF(A201=\"\",\"\",IF(INDEX(Vložit!B:B,A201+8)=\"\",\"\",\"Instrukce: \"&INDEX(Vložit!B:B,A201+8)))","v":""},{"$f":"IF(A201=\"\",\"\",IF(INDEX(Vložit!B:B,A201+1)=\"\",\"\",INDEX(Vložit!B:B,A201+1)))","v":""},{"$f":"IF(A201=\"\",\"\",MID(INDEX(Vložit!A:A,A201),19,10))","v":""},{"$f":"IF(A201=\"\",\"\",IF(INDEX(Vložit!B:B,A201+5)=\"\",\"\",VLOOKUP(INDEX(Vložit!B:B,A201+5),Pomocná!B200:C10199,2,FALSE)))","v":""},{"$f":"IF(A201=\"\",\"\",INDEX(Vložit!B:B,A201+2))","v":""},{"$f":"IF(A201=\"\",\"\",IF(INDEX(Vložit!B:B,A201+3)=\"\",\"\",INDEX(Vložit!B:B,A201+3)))","v":""},{"$f":"IF(A201=\"\",\"\",INDEX(Vložit!B:B,A201+4))","v":""}]
[{"$f":"IF(A201=\"\",\"\",IF(INDEX(Vložit!A:A,(ROW(A201)-1)*17+2)<>\"\",(ROW(A201)-1)*17+2,\"\"))","v":""},{"$f":"IF(A202=\"\",\"\",\"Číslo smlouvy:  \"&INDEX(Vložit!B:B,A202+1)&CHAR(10)&\"Jméno a příjmení:  \"&INDEX(Vložit!B:B,A202+2)&CHAR(10)&\"Ulice:  \"&INDEX(Vložit!B:B,A202+3)&CHAR(10)&\"Č. pop. / č. orient.:  \"&INDEX(Vložit!B:B,A202+4)&CHAR(10)&\"Obec:  \"&INDEX(Vložit!B:B,A202+5))","v":""},{"$f":"IF(A202=\"\",\"\",INDEX(Vložit!A:A,A202)&CHAR(10)&\"Telefon: \"&INDEX(Vložit!B:B,A202+6)&\" / \"&INDEX(Vložit!B:B,A202+7)&CHAR(10)&\"Typ objednávky: \"&INDEX(Vložit!D:D,A202+1)&CHAR(10)&INDEX(Vložit!C:C,A202)&CHAR(10)&INDEX(Vložit!D:D,A202))","v":""},{"$f":"IF(A202=\"\",\"\",IF(INDEX(Vložit!B:B,A202+8)=\"\",\"\",\"Instrukce: \"&INDEX(Vložit!B:B,A202+8)))","v":""},{"$f":"IF(A202=\"\",\"\",IF(INDEX(Vložit!B:B,A202+1)=\"\",\"\",INDEX(Vložit!B:B,A202+1)))","v":""},{"$f":"IF(A202=\"\",\"\",MID(INDEX(Vložit!A:A,A202),19,10))","v":""},{"$f":"IF(A202=\"\",\"\",IF(INDEX(Vložit!B:B,A202+5)=\"\",\"\",VLOOKUP(INDEX(Vložit!B:B,A202+5),Pomocná!B201:C10200,2,FALSE)))","v":""},{"$f":"IF(A202=\"\",\"\",INDEX(Vložit!B:B,A202+2))","v":""},{"$f":"IF(A202=\"\",\"\",IF(INDEX(Vložit!B:B,A202+3)=\"\",\"\",INDEX(Vložit!B:B,A202+3)))","v":""},{"$f":"IF(A202=\"\",\"\",INDEX(Vložit!B:B,A202+4))","v":""}]
[{"$f":"IF(A202=\"\",\"\",IF(INDEX(Vložit!A:A,(ROW(A202)-1)*17+2)<>\"\",(ROW(A202)-1)*17+2,\"\"))","v":""},{"$f":"IF(A203=\"\",\"\",\"Číslo smlouvy:  \"&INDEX(Vložit!B:B,A203+1)&CHAR(10)&\"Jméno a příjmení:  \"&INDEX(Vložit!B:B,A203+2)&CHAR(10)&\"Ulice:  \"&INDEX(Vložit!B:B,A203+3)&CHAR(10)&\"Č. pop. / č. orient.:  \"&INDEX(Vložit!B:B,A203+4)&CHAR(10)&\"Obec:  \"&INDEX(Vložit!B:B,A203+5))","v":""},{"$f":"IF(A203=\"\",\"\",INDEX(Vložit!A:A,A203)&CHAR(10)&\"Telefon: \"&INDEX(Vložit!B:B,A203+6)&\" / \"&INDEX(Vložit!B:B,A203+7)&CHAR(10)&\"Typ objednávky: \"&INDEX(Vložit!D:D,A203+1)&CHAR(10)&INDEX(Vložit!C:C,A203)&CHAR(10)&INDEX(Vložit!D:D,A203))","v":""},{"$f":"IF(A203=\"\",\"\",IF(INDEX(Vložit!B:B,A203+8)=\"\",\"\",\"Instrukce: \"&INDEX(Vložit!B:B,A203+8)))","v":""},{"$f":"IF(A203=\"\",\"\",IF(INDEX(Vložit!B:B,A203+1)=\"\",\"\",INDEX(Vložit!B:B,A203+1)))","v":""},{"$f":"IF(A203=\"\",\"\",MID(INDEX(Vložit!A:A,A203),19,10))","v":""},{"$f":"IF(A203=\"\",\"\",IF(INDEX(Vložit!B:B,A203+5)=\"\",\"\",VLOOKUP(INDEX(Vložit!B:B,A203+5),Pomocná!B202:C10201,2,FALSE)))","v":""},{"$f":"IF(A203=\"\",\"\",INDEX(Vložit!B:B,A203+2))","v":""},{"$f":"IF(A203=\"\",\"\",IF(INDEX(Vložit!B:B,A203+3)=\"\",\"\",INDEX(Vložit!B:B,A203+3)))","v":""},{"$f":"IF(A203=\"\",\"\",INDEX(Vložit!B:B,A203+4))","v":""}]
[{"$f":"IF(A203=\"\",\"\",IF(INDEX(Vložit!A:A,(ROW(A203)-1)*17+2)<>\"\",(ROW(A203)-1)*17+2,\"\"))","v":""},{"$f":"IF(A204=\"\",\"\",\"Číslo smlouvy:  \"&INDEX(Vložit!B:B,A204+1)&CHAR(10)&\"Jméno a příjmení:  \"&INDEX(Vložit!B:B,A204+2)&CHAR(10)&\"Ulice:  \"&INDEX(Vložit!B:B,A204+3)&CHAR(10)&\"Č. pop. / č. orient.:  \"&INDEX(Vložit!B:B,A204+4)&CHAR(10)&\"Obec:  \"&INDEX(Vložit!B:B,A204+5))","v":""},{"$f":"IF(A204=\"\",\"\",INDEX(Vložit!A:A,A204)&CHAR(10)&\"Telefon: \"&INDEX(Vložit!B:B,A204+6)&\" / \"&INDEX(Vložit!B:B,A204+7)&CHAR(10)&\"Typ objednávky: \"&INDEX(Vložit!D:D,A204+1)&CHAR(10)&INDEX(Vložit!C:C,A204)&CHAR(10)&INDEX(Vložit!D:D,A204))","v":""},{"$f":"IF(A204=\"\",\"\",IF(INDEX(Vložit!B:B,A204+8)=\"\",\"\",\"Instrukce: \"&INDEX(Vložit!B:B,A204+8)))","v":""},{"$f":"IF(A204=\"\",\"\",IF(INDEX(Vložit!B:B,A204+1)=\"\",\"\",INDEX(Vložit!B:B,A204+1)))","v":""},{"$f":"IF(A204=\"\",\"\",MID(INDEX(Vložit!A:A,A204),19,10))","v":""},{"$f":"IF(A204=\"\",\"\",IF(INDEX(Vložit!B:B,A204+5)=\"\",\"\",VLOOKUP(INDEX(Vložit!B:B,A204+5),Pomocná!B203:C10202,2,FALSE)))","v":""},{"$f":"IF(A204=\"\",\"\",INDEX(Vložit!B:B,A204+2))","v":""},{"$f":"IF(A204=\"\",\"\",IF(INDEX(Vložit!B:B,A204+3)=\"\",\"\",INDEX(Vložit!B:B,A204+3)))","v":""},{"$f":"IF(A204=\"\",\"\",INDEX(Vložit!B:B,A204+4))","v":""}]
[{"$f":"IF(A204=\"\",\"\",IF(INDEX(Vložit!A:A,(ROW(A204)-1)*17+2)<>\"\",(ROW(A204)-1)*17+2,\"\"))","v":""},{"$f":"IF(A205=\"\",\"\",\"Číslo smlouvy:  \"&INDEX(Vložit!B:B,A205+1)&CHAR(10)&\"Jméno a příjmení:  \"&INDEX(Vložit!B:B,A205+2)&CHAR(10)&\"Ulice:  \"&INDEX(Vložit!B:B,A205+3)&CHAR(10)&\"Č. pop. / č. orient.:  \"&INDEX(Vložit!B:B,A205+4)&CHAR(10)&\"Obec:  \"&INDEX(Vložit!B:B,A205+5))","v":""},{"$f":"IF(A205=\"\",\"\",INDEX(Vložit!A:A,A205)&CHAR(10)&\"Telefon: \"&INDEX(Vložit!B:B,A205+6)&\" / \"&INDEX(Vložit!B:B,A205+7)&CHAR(10)&\"Typ objednávky: \"&INDEX(Vložit!D:D,A205+1)&CHAR(10)&INDEX(Vložit!C:C,A205)&CHAR(10)&INDEX(Vložit!D:D,A205))","v":""},{"$f":"IF(A205=\"\",\"\",IF(INDEX(Vložit!B:B,A205+8)=\"\",\"\",\"Instrukce: \"&INDEX(Vložit!B:B,A205+8)))","v":""},{"$f":"IF(A205=\"\",\"\",IF(INDEX(Vložit!B:B,A205+1)=\"\",\"\",INDEX(Vložit!B:B,A205+1)))","v":""},{"$f":"IF(A205=\"\",\"\",MID(INDEX(Vložit!A:A,A205),19,10))","v":""},{"$f":"IF(A205=\"\",\"\",IF(INDEX(Vložit!B:B,A205+5)=\"\",\"\",VLOOKUP(INDEX(Vložit!B:B,A205+5),Pomocná!B204:C10203,2,FALSE)))","v":""},{"$f":"IF(A205=\"\",\"\",INDEX(Vložit!B:B,A205+2))","v":""},{"$f":"IF(A205=\"\",\"\",IF(INDEX(Vložit!B:B,A205+3)=\"\",\"\",INDEX(Vložit!B:B,A205+3)))","v":""},{"$f":"IF(A205=\"\",\"\",INDEX(Vložit!B:B,A205+4))","v":""}]
[{"$f":"IF(A205=\"\",\"\",IF(INDEX(Vložit!A:A,(ROW(A205)-1)*17+2)<>\"\",(ROW(A205)-1)*17+2,\"\"))","v":""},{"$f":"IF(A206=\"\",\"\",\"Číslo smlouvy:  \"&INDEX(Vložit!B:B,A206+1)&CHAR(10)&\"Jméno a příjmení:  \"&INDEX(Vložit!B:B,A206+2)&CHAR(10)&\"Ulice:  \"&INDEX(Vložit!B:B,A206+3)&CHAR(10)&\"Č. pop. / č. orient.:  \"&INDEX(Vložit!B:B,A206+4)&CHAR(10)&\"Obec:  \"&INDEX(Vložit!B:B,A206+5))","v":""},{"$f":"IF(A206=\"\",\"\",INDEX(Vložit!A:A,A206)&CHAR(10)&\"Telefon: \"&INDEX(Vložit!B:B,A206+6)&\" / \"&INDEX(Vložit!B:B,A206+7)&CHAR(10)&\"Typ objednávky: \"&INDEX(Vložit!D:D,A206+1)&CHAR(10)&INDEX(Vložit!C:C,A206)&CHAR(10)&INDEX(Vložit!D:D,A206))","v":""},{"$f":"IF(A206=\"\",\"\",IF(INDEX(Vložit!B:B,A206+8)=\"\",\"\",\"Instrukce: \"&INDEX(Vložit!B:B,A206+8)))","v":""},{"$f":"IF(A206=\"\",\"\",IF(INDEX(Vložit!B:B,A206+1)=\"\",\"\",INDEX(Vložit!B:B,A206+1)))","v":""},{"$f":"IF(A206=\"\",\"\",MID(INDEX(Vložit!A:A,A206),19,10))","v":""},{"$f":"IF(A206=\"\",\"\",IF(INDEX(Vložit!B:B,A206+5)=\"\",\"\",VLOOKUP(INDEX(Vložit!B:B,A206+5),Pomocná!B205:C10204,2,FALSE)))","v":""},{"$f":"IF(A206=\"\",\"\",INDEX(Vložit!B:B,A206+2))","v":""},{"$f":"IF(A206=\"\",\"\",IF(INDEX(Vložit!B:B,A206+3)=\"\",\"\",INDEX(Vložit!B:B,A206+3)))","v":""},{"$f":"IF(A206=\"\",\"\",INDEX(Vložit!B:B,A206+4))","v":""}]
[{"$f":"IF(A206=\"\",\"\",IF(INDEX(Vložit!A:A,(ROW(A206)-1)*17+2)<>\"\",(ROW(A206)-1)*17+2,\"\"))","v":""},{"$f":"IF(A207=\"\",\"\",\"Číslo smlouvy:  \"&INDEX(Vložit!B:B,A207+1)&CHAR(10)&\"Jméno a příjmení:  \"&INDEX(Vložit!B:B,A207+2)&CHAR(10)&\"Ulice:  \"&INDEX(Vložit!B:B,A207+3)&CHAR(10)&\"Č. pop. / č. orient.:  \"&INDEX(Vložit!B:B,A207+4)&CHAR(10)&\"Obec:  \"&INDEX(Vložit!B:B,A207+5))","v":""},{"$f":"IF(A207=\"\",\"\",INDEX(Vložit!A:A,A207)&CHAR(10)&\"Telefon: \"&INDEX(Vložit!B:B,A207+6)&\" / \"&INDEX(Vložit!B:B,A207+7)&CHAR(10)&\"Typ objednávky: \"&INDEX(Vložit!D:D,A207+1)&CHAR(10)&INDEX(Vložit!C:C,A207)&CHAR(10)&INDEX(Vložit!D:D,A207))","v":""},{"$f":"IF(A207=\"\",\"\",IF(INDEX(Vložit!B:B,A207+8)=\"\",\"\",\"Instrukce: \"&INDEX(Vložit!B:B,A207+8)))","v":""},{"$f":"IF(A207=\"\",\"\",IF(INDEX(Vložit!B:B,A207+1)=\"\",\"\",INDEX(Vložit!B:B,A207+1)))","v":""},{"$f":"IF(A207=\"\",\"\",MID(INDEX(Vložit!A:A,A207),19,10))","v":""},{"$f":"IF(A207=\"\",\"\",IF(INDEX(Vložit!B:B,A207+5)=\"\",\"\",VLOOKUP(INDEX(Vložit!B:B,A207+5),Pomocná!B206:C10205,2,FALSE)))","v":""},{"$f":"IF(A207=\"\",\"\",INDEX(Vložit!B:B,A207+2))","v":""},{"$f":"IF(A207=\"\",\"\",IF(INDEX(Vložit!B:B,A207+3)=\"\",\"\",INDEX(Vložit!B:B,A207+3)))","v":""},{"$f":"IF(A207=\"\",\"\",INDEX(Vložit!B:B,A207+4))","v":""}]
[{"$f":"IF(A207=\"\",\"\",IF(INDEX(Vložit!A:A,(ROW(A207)-1)*17+2)<>\"\",(ROW(A207)-1)*17+2,\"\"))","v":""},{"$f":"IF(A208=\"\",\"\",\"Číslo smlouvy:  \"&INDEX(Vložit!B:B,A208+1)&CHAR(10)&\"Jméno a příjmení:  \"&INDEX(Vložit!B:B,A208+2)&CHAR(10)&\"Ulice:  \"&INDEX(Vložit!B:B,A208+3)&CHAR(10)&\"Č. pop. / č. orient.:  \"&INDEX(Vložit!B:B,A208+4)&CHAR(10)&\"Obec:  \"&INDEX(Vložit!B:B,A208+5))","v":""},{"$f":"IF(A208=\"\",\"\",INDEX(Vložit!A:A,A208)&CHAR(10)&\"Telefon: \"&INDEX(Vložit!B:B,A208+6)&\" / \"&INDEX(Vložit!B:B,A208+7)&CHAR(10)&\"Typ objednávky: \"&INDEX(Vložit!D:D,A208+1)&CHAR(10)&INDEX(Vložit!C:C,A208)&CHAR(10)&INDEX(Vložit!D:D,A208))","v":""},{"$f":"IF(A208=\"\",\"\",IF(INDEX(Vložit!B:B,A208+8)=\"\",\"\",\"Instrukce: \"&INDEX(Vložit!B:B,A208+8)))","v":""},{"$f":"IF(A208=\"\",\"\",IF(INDEX(Vložit!B:B,A208+1)=\"\",\"\",INDEX(Vložit!B:B,A208+1)))","v":""},{"$f":"IF(A208=\"\",\"\",MID(INDEX(Vložit!A:A,A208),19,10))","v":""},{"$f":"IF(A208=\"\",\"\",IF(INDEX(Vložit!B:B,A208+5)=\"\",\"\",VLOOKUP(INDEX(Vložit!B:B,A208+5),Pomocná!B207:C10206,2,FALSE)))","v":""},{"$f":"IF(A208=\"\",\"\",INDEX(Vložit!B:B,A208+2))","v":""},{"$f":"IF(A208=\"\",\"\",IF(INDEX(Vložit!B:B,A208+3)=\"\",\"\",INDEX(Vložit!B:B,A208+3)))","v":""},{"$f":"IF(A208=\"\",\"\",INDEX(Vložit!B:B,A208+4))","v":""}]
[{"$f":"IF(A208=\"\",\"\",IF(INDEX(Vložit!A:A,(ROW(A208)-1)*17+2)<>\"\",(ROW(A208)-1)*17+2,\"\"))","v":""},{"$f":"IF(A209=\"\",\"\",\"Číslo smlouvy:  \"&INDEX(Vložit!B:B,A209+1)&CHAR(10)&\"Jméno a příjmení:  \"&INDEX(Vložit!B:B,A209+2)&CHAR(10)&\"Ulice:  \"&INDEX(Vložit!B:B,A209+3)&CHAR(10)&\"Č. pop. / č. orient.:  \"&INDEX(Vložit!B:B,A209+4)&CHAR(10)&\"Obec:  \"&INDEX(Vložit!B:B,A209+5))","v":""},{"$f":"IF(A209=\"\",\"\",INDEX(Vložit!A:A,A209)&CHAR(10)&\"Telefon: \"&INDEX(Vložit!B:B,A209+6)&\" / \"&INDEX(Vložit!B:B,A209+7)&CHAR(10)&\"Typ objednávky: \"&INDEX(Vložit!D:D,A209+1)&CHAR(10)&INDEX(Vložit!C:C,A209)&CHAR(10)&INDEX(Vložit!D:D,A209))","v":""},{"$f":"IF(A209=\"\",\"\",IF(INDEX(Vložit!B:B,A209+8)=\"\",\"\",\"Instrukce: \"&INDEX(Vložit!B:B,A209+8)))","v":""},{"$f":"IF(A209=\"\",\"\",IF(INDEX(Vložit!B:B,A209+1)=\"\",\"\",INDEX(Vložit!B:B,A209+1)))","v":""},{"$f":"IF(A209=\"\",\"\",MID(INDEX(Vložit!A:A,A209),19,10))","v":""},{"$f":"IF(A209=\"\",\"\",IF(INDEX(Vložit!B:B,A209+5)=\"\",\"\",VLOOKUP(INDEX(Vložit!B:B,A209+5),Pomocná!B208:C10207,2,FALSE)))","v":""},{"$f":"IF(A209=\"\",\"\",INDEX(Vložit!B:B,A209+2))","v":""},{"$f":"IF(A209=\"\",\"\",IF(INDEX(Vložit!B:B,A209+3)=\"\",\"\",INDEX(Vložit!B:B,A209+3)))","v":""},{"$f":"IF(A209=\"\",\"\",INDEX(Vložit!B:B,A209+4))","v":""}]
[{"$f":"IF(A209=\"\",\"\",IF(INDEX(Vložit!A:A,(ROW(A209)-1)*17+2)<>\"\",(ROW(A209)-1)*17+2,\"\"))","v":""},{"$f":"IF(A210=\"\",\"\",\"Číslo smlouvy:  \"&INDEX(Vložit!B:B,A210+1)&CHAR(10)&\"Jméno a příjmení:  \"&INDEX(Vložit!B:B,A210+2)&CHAR(10)&\"Ulice:  \"&INDEX(Vložit!B:B,A210+3)&CHAR(10)&\"Č. pop. / č. orient.:  \"&INDEX(Vložit!B:B,A210+4)&CHAR(10)&\"Obec:  \"&INDEX(Vložit!B:B,A210+5))","v":""},{"$f":"IF(A210=\"\",\"\",INDEX(Vložit!A:A,A210)&CHAR(10)&\"Telefon: \"&INDEX(Vložit!B:B,A210+6)&\" / \"&INDEX(Vložit!B:B,A210+7)&CHAR(10)&\"Typ objednávky: \"&INDEX(Vložit!D:D,A210+1)&CHAR(10)&INDEX(Vložit!C:C,A210)&CHAR(10)&INDEX(Vložit!D:D,A210))","v":""},{"$f":"IF(A210=\"\",\"\",IF(INDEX(Vložit!B:B,A210+8)=\"\",\"\",\"Instrukce: \"&INDEX(Vložit!B:B,A210+8)))","v":""},{"$f":"IF(A210=\"\",\"\",IF(INDEX(Vložit!B:B,A210+1)=\"\",\"\",INDEX(Vložit!B:B,A210+1)))","v":""},{"$f":"IF(A210=\"\",\"\",MID(INDEX(Vložit!A:A,A210),19,10))","v":""},{"$f":"IF(A210=\"\",\"\",IF(INDEX(Vložit!B:B,A210+5)=\"\",\"\",VLOOKUP(INDEX(Vložit!B:B,A210+5),Pomocná!B209:C10208,2,FALSE)))","v":""},{"$f":"IF(A210=\"\",\"\",INDEX(Vložit!B:B,A210+2))","v":""},{"$f":"IF(A210=\"\",\"\",IF(INDEX(Vložit!B:B,A210+3)=\"\",\"\",INDEX(Vložit!B:B,A210+3)))","v":""},{"$f":"IF(A210=\"\",\"\",INDEX(Vložit!B:B,A210+4))","v":""}]
[{"$f":"IF(A210=\"\",\"\",IF(INDEX(Vložit!A:A,(ROW(A210)-1)*17+2)<>\"\",(ROW(A210)-1)*17+2,\"\"))","v":""},{"$f":"IF(A211=\"\",\"\",\"Číslo smlouvy:  \"&INDEX(Vložit!B:B,A211+1)&CHAR(10)&\"Jméno a příjmení:  \"&INDEX(Vložit!B:B,A211+2)&CHAR(10)&\"Ulice:  \"&INDEX(Vložit!B:B,A211+3)&CHAR(10)&\"Č. pop. / č. orient.:  \"&INDEX(Vložit!B:B,A211+4)&CHAR(10)&\"Obec:  \"&INDEX(Vložit!B:B,A211+5))","v":""},{"$f":"IF(A211=\"\",\"\",INDEX(Vložit!A:A,A211)&CHAR(10)&\"Telefon: \"&INDEX(Vložit!B:B,A211+6)&\" / \"&INDEX(Vložit!B:B,A211+7)&CHAR(10)&\"Typ objednávky: \"&INDEX(Vložit!D:D,A211+1)&CHAR(10)&INDEX(Vložit!C:C,A211)&CHAR(10)&INDEX(Vložit!D:D,A211))","v":""},{"$f":"IF(A211=\"\",\"\",IF(INDEX(Vložit!B:B,A211+8)=\"\",\"\",\"Instrukce: \"&INDEX(Vložit!B:B,A211+8)))","v":""},{"$f":"IF(A211=\"\",\"\",IF(INDEX(Vložit!B:B,A211+1)=\"\",\"\",INDEX(Vložit!B:B,A211+1)))","v":""},{"$f":"IF(A211=\"\",\"\",MID(INDEX(Vložit!A:A,A211),19,10))","v":""},{"$f":"IF(A211=\"\",\"\",IF(INDEX(Vložit!B:B,A211+5)=\"\",\"\",VLOOKUP(INDEX(Vložit!B:B,A211+5),Pomocná!B210:C10209,2,FALSE)))","v":""},{"$f":"IF(A211=\"\",\"\",INDEX(Vložit!B:B,A211+2))","v":""},{"$f":"IF(A211=\"\",\"\",IF(INDEX(Vložit!B:B,A211+3)=\"\",\"\",INDEX(Vložit!B:B,A211+3)))","v":""},{"$f":"IF(A211=\"\",\"\",INDEX(Vložit!B:B,A211+4))","v":""}]
[{"$f":"IF(A211=\"\",\"\",IF(INDEX(Vložit!A:A,(ROW(A211)-1)*17+2)<>\"\",(ROW(A211)-1)*17+2,\"\"))","v":""},{"$f":"IF(A212=\"\",\"\",\"Číslo smlouvy:  \"&INDEX(Vložit!B:B,A212+1)&CHAR(10)&\"Jméno a příjmení:  \"&INDEX(Vložit!B:B,A212+2)&CHAR(10)&\"Ulice:  \"&INDEX(Vložit!B:B,A212+3)&CHAR(10)&\"Č. pop. / č. orient.:  \"&INDEX(Vložit!B:B,A212+4)&CHAR(10)&\"Obec:  \"&INDEX(Vložit!B:B,A212+5))","v":""},{"$f":"IF(A212=\"\",\"\",INDEX(Vložit!A:A,A212)&CHAR(10)&\"Telefon: \"&INDEX(Vložit!B:B,A212+6)&\" / \"&INDEX(Vložit!B:B,A212+7)&CHAR(10)&\"Typ objednávky: \"&INDEX(Vložit!D:D,A212+1)&CHAR(10)&INDEX(Vložit!C:C,A212)&CHAR(10)&INDEX(Vložit!D:D,A212))","v":""},{"$f":"IF(A212=\"\",\"\",IF(INDEX(Vložit!B:B,A212+8)=\"\",\"\",\"Instrukce: \"&INDEX(Vložit!B:B,A212+8)))","v":""},{"$f":"IF(A212=\"\",\"\",IF(INDEX(Vložit!B:B,A212+1)=\"\",\"\",INDEX(Vložit!B:B,A212+1)))","v":""},{"$f":"IF(A212=\"\",\"\",MID(INDEX(Vložit!A:A,A212),19,10))","v":""},{"$f":"IF(A212=\"\",\"\",IF(INDEX(Vložit!B:B,A212+5)=\"\",\"\",VLOOKUP(INDEX(Vložit!B:B,A212+5),Pomocná!B211:C10210,2,FALSE)))","v":""},{"$f":"IF(A212=\"\",\"\",INDEX(Vložit!B:B,A212+2))","v":""},{"$f":"IF(A212=\"\",\"\",IF(INDEX(Vložit!B:B,A212+3)=\"\",\"\",INDEX(Vložit!B:B,A212+3)))","v":""},{"$f":"IF(A212=\"\",\"\",INDEX(Vložit!B:B,A212+4))","v":""}]
[{"$f":"IF(A212=\"\",\"\",IF(INDEX(Vložit!A:A,(ROW(A212)-1)*17+2)<>\"\",(ROW(A212)-1)*17+2,\"\"))","v":""},{"$f":"IF(A213=\"\",\"\",\"Číslo smlouvy:  \"&INDEX(Vložit!B:B,A213+1)&CHAR(10)&\"Jméno a příjmení:  \"&INDEX(Vložit!B:B,A213+2)&CHAR(10)&\"Ulice:  \"&INDEX(Vložit!B:B,A213+3)&CHAR(10)&\"Č. pop. / č. orient.:  \"&INDEX(Vložit!B:B,A213+4)&CHAR(10)&\"Obec:  \"&INDEX(Vložit!B:B,A213+5))","v":""},{"$f":"IF(A213=\"\",\"\",INDEX(Vložit!A:A,A213)&CHAR(10)&\"Telefon: \"&INDEX(Vložit!B:B,A213+6)&\" / \"&INDEX(Vložit!B:B,A213+7)&CHAR(10)&\"Typ objednávky: \"&INDEX(Vložit!D:D,A213+1)&CHAR(10)&INDEX(Vložit!C:C,A213)&CHAR(10)&INDEX(Vložit!D:D,A213))","v":""},{"$f":"IF(A213=\"\",\"\",IF(INDEX(Vložit!B:B,A213+8)=\"\",\"\",\"Instrukce: \"&INDEX(Vložit!B:B,A213+8)))","v":""},{"$f":"IF(A213=\"\",\"\",IF(INDEX(Vložit!B:B,A213+1)=\"\",\"\",INDEX(Vložit!B:B,A213+1)))","v":""},{"$f":"IF(A213=\"\",\"\",MID(INDEX(Vložit!A:A,A213),19,10))","v":""},{"$f":"IF(A213=\"\",\"\",IF(INDEX(Vložit!B:B,A213+5)=\"\",\"\",VLOOKUP(INDEX(Vložit!B:B,A213+5),Pomocná!B212:C10211,2,FALSE)))","v":""},{"$f":"IF(A213=\"\",\"\",INDEX(Vložit!B:B,A213+2))","v":""},{"$f":"IF(A213=\"\",\"\",IF(INDEX(Vložit!B:B,A213+3)=\"\",\"\",INDEX(Vložit!B:B,A213+3)))","v":""},{"$f":"IF(A213=\"\",\"\",INDEX(Vložit!B:B,A213+4))","v":""}]
[{"$f":"IF(A213=\"\",\"\",IF(INDEX(Vložit!A:A,(ROW(A213)-1)*17+2)<>\"\",(ROW(A213)-1)*17+2,\"\"))","v":""},{"$f":"IF(A214=\"\",\"\",\"Číslo smlouvy:  \"&INDEX(Vložit!B:B,A214+1)&CHAR(10)&\"Jméno a příjmení:  \"&INDEX(Vložit!B:B,A214+2)&CHAR(10)&\"Ulice:  \"&INDEX(Vložit!B:B,A214+3)&CHAR(10)&\"Č. pop. / č. orient.:  \"&INDEX(Vložit!B:B,A214+4)&CHAR(10)&\"Obec:  \"&INDEX(Vložit!B:B,A214+5))","v":""},{"$f":"IF(A214=\"\",\"\",INDEX(Vložit!A:A,A214)&CHAR(10)&\"Telefon: \"&INDEX(Vložit!B:B,A214+6)&\" / \"&INDEX(Vložit!B:B,A214+7)&CHAR(10)&\"Typ objednávky: \"&INDEX(Vložit!D:D,A214+1)&CHAR(10)&INDEX(Vložit!C:C,A214)&CHAR(10)&INDEX(Vložit!D:D,A214))","v":""},{"$f":"IF(A214=\"\",\"\",IF(INDEX(Vložit!B:B,A214+8)=\"\",\"\",\"Instrukce: \"&INDEX(Vložit!B:B,A214+8)))","v":""},{"$f":"IF(A214=\"\",\"\",IF(INDEX(Vložit!B:B,A214+1)=\"\",\"\",INDEX(Vložit!B:B,A214+1)))","v":""},{"$f":"IF(A214=\"\",\"\",MID(INDEX(Vložit!A:A,A214),19,10))","v":""},{"$f":"IF(A214=\"\",\"\",IF(INDEX(Vložit!B:B,A214+5)=\"\",\"\",VLOOKUP(INDEX(Vložit!B:B,A214+5),Pomocná!B213:C10212,2,FALSE)))","v":""},{"$f":"IF(A214=\"\",\"\",INDEX(Vložit!B:B,A214+2))","v":""},{"$f":"IF(A214=\"\",\"\",IF(INDEX(Vložit!B:B,A214+3)=\"\",\"\",INDEX(Vložit!B:B,A214+3)))","v":""},{"$f":"IF(A214=\"\",\"\",INDEX(Vložit!B:B,A214+4))","v":""}]
[{"$f":"IF(A214=\"\",\"\",IF(INDEX(Vložit!A:A,(ROW(A214)-1)*17+2)<>\"\",(ROW(A214)-1)*17+2,\"\"))","v":""},{"$f":"IF(A215=\"\",\"\",\"Číslo smlouvy:  \"&INDEX(Vložit!B:B,A215+1)&CHAR(10)&\"Jméno a příjmení:  \"&INDEX(Vložit!B:B,A215+2)&CHAR(10)&\"Ulice:  \"&INDEX(Vložit!B:B,A215+3)&CHAR(10)&\"Č. pop. / č. orient.:  \"&INDEX(Vložit!B:B,A215+4)&CHAR(10)&\"Obec:  \"&INDEX(Vložit!B:B,A215+5))","v":""},{"$f":"IF(A215=\"\",\"\",INDEX(Vložit!A:A,A215)&CHAR(10)&\"Telefon: \"&INDEX(Vložit!B:B,A215+6)&\" / \"&INDEX(Vložit!B:B,A215+7)&CHAR(10)&\"Typ objednávky: \"&INDEX(Vložit!D:D,A215+1)&CHAR(10)&INDEX(Vložit!C:C,A215)&CHAR(10)&INDEX(Vložit!D:D,A215))","v":""},{"$f":"IF(A215=\"\",\"\",IF(INDEX(Vložit!B:B,A215+8)=\"\",\"\",\"Instrukce: \"&INDEX(Vložit!B:B,A215+8)))","v":""},{"$f":"IF(A215=\"\",\"\",IF(INDEX(Vložit!B:B,A215+1)=\"\",\"\",INDEX(Vložit!B:B,A215+1)))","v":""},{"$f":"IF(A215=\"\",\"\",MID(INDEX(Vložit!A:A,A215),19,10))","v":""},{"$f":"IF(A215=\"\",\"\",IF(INDEX(Vložit!B:B,A215+5)=\"\",\"\",VLOOKUP(INDEX(Vložit!B:B,A215+5),Pomocná!B214:C10213,2,FALSE)))","v":""},{"$f":"IF(A215=\"\",\"\",INDEX(Vložit!B:B,A215+2))","v":""},{"$f":"IF(A215=\"\",\"\",IF(INDEX(Vložit!B:B,A215+3)=\"\",\"\",INDEX(Vložit!B:B,A215+3)))","v":""},{"$f":"IF(A215=\"\",\"\",INDEX(Vložit!B:B,A215+4))","v":""}]
[{"$f":"IF(A215=\"\",\"\",IF(INDEX(Vložit!A:A,(ROW(A215)-1)*17+2)<>\"\",(ROW(A215)-1)*17+2,\"\"))","v":""},{"$f":"IF(A216=\"\",\"\",\"Číslo smlouvy:  \"&INDEX(Vložit!B:B,A216+1)&CHAR(10)&\"Jméno a příjmení:  \"&INDEX(Vložit!B:B,A216+2)&CHAR(10)&\"Ulice:  \"&INDEX(Vložit!B:B,A216+3)&CHAR(10)&\"Č. pop. / č. orient.:  \"&INDEX(Vložit!B:B,A216+4)&CHAR(10)&\"Obec:  \"&INDEX(Vložit!B:B,A216+5))","v":""},{"$f":"IF(A216=\"\",\"\",INDEX(Vložit!A:A,A216)&CHAR(10)&\"Telefon: \"&INDEX(Vložit!B:B,A216+6)&\" / \"&INDEX(Vložit!B:B,A216+7)&CHAR(10)&\"Typ objednávky: \"&INDEX(Vložit!D:D,A216+1)&CHAR(10)&INDEX(Vložit!C:C,A216)&CHAR(10)&INDEX(Vložit!D:D,A216))","v":""},{"$f":"IF(A216=\"\",\"\",IF(INDEX(Vložit!B:B,A216+8)=\"\",\"\",\"Instrukce: \"&INDEX(Vložit!B:B,A216+8)))","v":""},{"$f":"IF(A216=\"\",\"\",IF(INDEX(Vložit!B:B,A216+1)=\"\",\"\",INDEX(Vložit!B:B,A216+1)))","v":""},{"$f":"IF(A216=\"\",\"\",MID(INDEX(Vložit!A:A,A216),19,10))","v":""},{"$f":"IF(A216=\"\",\"\",IF(INDEX(Vložit!B:B,A216+5)=\"\",\"\",VLOOKUP(INDEX(Vložit!B:B,A216+5),Pomocná!B215:C10214,2,FALSE)))","v":""},{"$f":"IF(A216=\"\",\"\",INDEX(Vložit!B:B,A216+2))","v":""},{"$f":"IF(A216=\"\",\"\",IF(INDEX(Vložit!B:B,A216+3)=\"\",\"\",INDEX(Vložit!B:B,A216+3)))","v":""},{"$f":"IF(A216=\"\",\"\",INDEX(Vložit!B:B,A216+4))","v":""}]
[{"$f":"IF(A216=\"\",\"\",IF(INDEX(Vložit!A:A,(ROW(A216)-1)*17+2)<>\"\",(ROW(A216)-1)*17+2,\"\"))","v":""},{"$f":"IF(A217=\"\",\"\",\"Číslo smlouvy:  \"&INDEX(Vložit!B:B,A217+1)&CHAR(10)&\"Jméno a příjmení:  \"&INDEX(Vložit!B:B,A217+2)&CHAR(10)&\"Ulice:  \"&INDEX(Vložit!B:B,A217+3)&CHAR(10)&\"Č. pop. / č. orient.:  \"&INDEX(Vložit!B:B,A217+4)&CHAR(10)&\"Obec:  \"&INDEX(Vložit!B:B,A217+5))","v":""},{"$f":"IF(A217=\"\",\"\",INDEX(Vložit!A:A,A217)&CHAR(10)&\"Telefon: \"&INDEX(Vložit!B:B,A217+6)&\" / \"&INDEX(Vložit!B:B,A217+7)&CHAR(10)&\"Typ objednávky: \"&INDEX(Vložit!D:D,A217+1)&CHAR(10)&INDEX(Vložit!C:C,A217)&CHAR(10)&INDEX(Vložit!D:D,A217))","v":""},{"$f":"IF(A217=\"\",\"\",IF(INDEX(Vložit!B:B,A217+8)=\"\",\"\",\"Instrukce: \"&INDEX(Vložit!B:B,A217+8)))","v":""},{"$f":"IF(A217=\"\",\"\",IF(INDEX(Vložit!B:B,A217+1)=\"\",\"\",INDEX(Vložit!B:B,A217+1)))","v":""},{"$f":"IF(A217=\"\",\"\",MID(INDEX(Vložit!A:A,A217),19,10))","v":""},{"$f":"IF(A217=\"\",\"\",IF(INDEX(Vložit!B:B,A217+5)=\"\",\"\",VLOOKUP(INDEX(Vložit!B:B,A217+5),Pomocná!B216:C10215,2,FALSE)))","v":""},{"$f":"IF(A217=\"\",\"\",INDEX(Vložit!B:B,A217+2))","v":""},{"$f":"IF(A217=\"\",\"\",IF(INDEX(Vložit!B:B,A217+3)=\"\",\"\",INDEX(Vložit!B:B,A217+3)))","v":""},{"$f":"IF(A217=\"\",\"\",INDEX(Vložit!B:B,A217+4))","v":""}]
[{"$f":"IF(A217=\"\",\"\",IF(INDEX(Vložit!A:A,(ROW(A217)-1)*17+2)<>\"\",(ROW(A217)-1)*17+2,\"\"))","v":""},{"$f":"IF(A218=\"\",\"\",\"Číslo smlouvy:  \"&INDEX(Vložit!B:B,A218+1)&CHAR(10)&\"Jméno a příjmení:  \"&INDEX(Vložit!B:B,A218+2)&CHAR(10)&\"Ulice:  \"&INDEX(Vložit!B:B,A218+3)&CHAR(10)&\"Č. pop. / č. orient.:  \"&INDEX(Vložit!B:B,A218+4)&CHAR(10)&\"Obec:  \"&INDEX(Vložit!B:B,A218+5))","v":""},{"$f":"IF(A218=\"\",\"\",INDEX(Vložit!A:A,A218)&CHAR(10)&\"Telefon: \"&INDEX(Vložit!B:B,A218+6)&\" / \"&INDEX(Vložit!B:B,A218+7)&CHAR(10)&\"Typ objednávky: \"&INDEX(Vložit!D:D,A218+1)&CHAR(10)&INDEX(Vložit!C:C,A218)&CHAR(10)&INDEX(Vložit!D:D,A218))","v":""},{"$f":"IF(A218=\"\",\"\",IF(INDEX(Vložit!B:B,A218+8)=\"\",\"\",\"Instrukce: \"&INDEX(Vložit!B:B,A218+8)))","v":""},{"$f":"IF(A218=\"\",\"\",IF(INDEX(Vložit!B:B,A218+1)=\"\",\"\",INDEX(Vložit!B:B,A218+1)))","v":""},{"$f":"IF(A218=\"\",\"\",MID(INDEX(Vložit!A:A,A218),19,10))","v":""},{"$f":"IF(A218=\"\",\"\",IF(INDEX(Vložit!B:B,A218+5)=\"\",\"\",VLOOKUP(INDEX(Vložit!B:B,A218+5),Pomocná!B217:C10216,2,FALSE)))","v":""},{"$f":"IF(A218=\"\",\"\",INDEX(Vložit!B:B,A218+2))","v":""},{"$f":"IF(A218=\"\",\"\",IF(INDEX(Vložit!B:B,A218+3)=\"\",\"\",INDEX(Vložit!B:B,A218+3)))","v":""},{"$f":"IF(A218=\"\",\"\",INDEX(Vložit!B:B,A218+4))","v":""}]
[{"$f":"IF(A218=\"\",\"\",IF(INDEX(Vložit!A:A,(ROW(A218)-1)*17+2)<>\"\",(ROW(A218)-1)*17+2,\"\"))","v":""},{"$f":"IF(A219=\"\",\"\",\"Číslo smlouvy:  \"&INDEX(Vložit!B:B,A219+1)&CHAR(10)&\"Jméno a příjmení:  \"&INDEX(Vložit!B:B,A219+2)&CHAR(10)&\"Ulice:  \"&INDEX(Vložit!B:B,A219+3)&CHAR(10)&\"Č. pop. / č. orient.:  \"&INDEX(Vložit!B:B,A219+4)&CHAR(10)&\"Obec:  \"&INDEX(Vložit!B:B,A219+5))","v":""},{"$f":"IF(A219=\"\",\"\",INDEX(Vložit!A:A,A219)&CHAR(10)&\"Telefon: \"&INDEX(Vložit!B:B,A219+6)&\" / \"&INDEX(Vložit!B:B,A219+7)&CHAR(10)&\"Typ objednávky: \"&INDEX(Vložit!D:D,A219+1)&CHAR(10)&INDEX(Vložit!C:C,A219)&CHAR(10)&INDEX(Vložit!D:D,A219))","v":""},{"$f":"IF(A219=\"\",\"\",IF(INDEX(Vložit!B:B,A219+8)=\"\",\"\",\"Instrukce: \"&INDEX(Vložit!B:B,A219+8)))","v":""},{"$f":"IF(A219=\"\",\"\",IF(INDEX(Vložit!B:B,A219+1)=\"\",\"\",INDEX(Vložit!B:B,A219+1)))","v":""},{"$f":"IF(A219=\"\",\"\",MID(INDEX(Vložit!A:A,A219),19,10))","v":""},{"$f":"IF(A219=\"\",\"\",IF(INDEX(Vložit!B:B,A219+5)=\"\",\"\",VLOOKUP(INDEX(Vložit!B:B,A219+5),Pomocná!B218:C10217,2,FALSE)))","v":""},{"$f":"IF(A219=\"\",\"\",INDEX(Vložit!B:B,A219+2))","v":""},{"$f":"IF(A219=\"\",\"\",IF(INDEX(Vložit!B:B,A219+3)=\"\",\"\",INDEX(Vložit!B:B,A219+3)))","v":""},{"$f":"IF(A219=\"\",\"\",INDEX(Vložit!B:B,A219+4))","v":""}]
[{"$f":"IF(A219=\"\",\"\",IF(INDEX(Vložit!A:A,(ROW(A219)-1)*17+2)<>\"\",(ROW(A219)-1)*17+2,\"\"))","v":""},{"$f":"IF(A220=\"\",\"\",\"Číslo smlouvy:  \"&INDEX(Vložit!B:B,A220+1)&CHAR(10)&\"Jméno a příjmení:  \"&INDEX(Vložit!B:B,A220+2)&CHAR(10)&\"Ulice:  \"&INDEX(Vložit!B:B,A220+3)&CHAR(10)&\"Č. pop. / č. orient.:  \"&INDEX(Vložit!B:B,A220+4)&CHAR(10)&\"Obec:  \"&INDEX(Vložit!B:B,A220+5))","v":""},{"$f":"IF(A220=\"\",\"\",INDEX(Vložit!A:A,A220)&CHAR(10)&\"Telefon: \"&INDEX(Vložit!B:B,A220+6)&\" / \"&INDEX(Vložit!B:B,A220+7)&CHAR(10)&\"Typ objednávky: \"&INDEX(Vložit!D:D,A220+1)&CHAR(10)&INDEX(Vložit!C:C,A220)&CHAR(10)&INDEX(Vložit!D:D,A220))","v":""},{"$f":"IF(A220=\"\",\"\",IF(INDEX(Vložit!B:B,A220+8)=\"\",\"\",\"Instrukce: \"&INDEX(Vložit!B:B,A220+8)))","v":""},{"$f":"IF(A220=\"\",\"\",IF(INDEX(Vložit!B:B,A220+1)=\"\",\"\",INDEX(Vložit!B:B,A220+1)))","v":""},{"$f":"IF(A220=\"\",\"\",MID(INDEX(Vložit!A:A,A220),19,10))","v":""},{"$f":"IF(A220=\"\",\"\",IF(INDEX(Vložit!B:B,A220+5)=\"\",\"\",VLOOKUP(INDEX(Vložit!B:B,A220+5),Pomocná!B219:C10218,2,FALSE)))","v":""},{"$f":"IF(A220=\"\",\"\",INDEX(Vložit!B:B,A220+2))","v":""},{"$f":"IF(A220=\"\",\"\",IF(INDEX(Vložit!B:B,A220+3)=\"\",\"\",INDEX(Vložit!B:B,A220+3)))","v":""},{"$f":"IF(A220=\"\",\"\",INDEX(Vložit!B:B,A220+4))","v":""}]
[{"$f":"IF(A220=\"\",\"\",IF(INDEX(Vložit!A:A,(ROW(A220)-1)*17+2)<>\"\",(ROW(A220)-1)*17+2,\"\"))","v":""},{"$f":"IF(A221=\"\",\"\",\"Číslo smlouvy:  \"&INDEX(Vložit!B:B,A221+1)&CHAR(10)&\"Jméno a příjmení:  \"&INDEX(Vložit!B:B,A221+2)&CHAR(10)&\"Ulice:  \"&INDEX(Vložit!B:B,A221+3)&CHAR(10)&\"Č. pop. / č. orient.:  \"&INDEX(Vložit!B:B,A221+4)&CHAR(10)&\"Obec:  \"&INDEX(Vložit!B:B,A221+5))","v":""},{"$f":"IF(A221=\"\",\"\",INDEX(Vložit!A:A,A221)&CHAR(10)&\"Telefon: \"&INDEX(Vložit!B:B,A221+6)&\" / \"&INDEX(Vložit!B:B,A221+7)&CHAR(10)&\"Typ objednávky: \"&INDEX(Vložit!D:D,A221+1)&CHAR(10)&INDEX(Vložit!C:C,A221)&CHAR(10)&INDEX(Vložit!D:D,A221))","v":""},{"$f":"IF(A221=\"\",\"\",IF(INDEX(Vložit!B:B,A221+8)=\"\",\"\",\"Instrukce: \"&INDEX(Vložit!B:B,A221+8)))","v":""},{"$f":"IF(A221=\"\",\"\",IF(INDEX(Vložit!B:B,A221+1)=\"\",\"\",INDEX(Vložit!B:B,A221+1)))","v":""},{"$f":"IF(A221=\"\",\"\",MID(INDEX(Vložit!A:A,A221),19,10))","v":""},{"$f":"IF(A221=\"\",\"\",IF(INDEX(Vložit!B:B,A221+5)=\"\",\"\",VLOOKUP(INDEX(Vložit!B:B,A221+5),Pomocná!B220:C10219,2,FALSE)))","v":""},{"$f":"IF(A221=\"\",\"\",INDEX(Vložit!B:B,A221+2))","v":""},{"$f":"IF(A221=\"\",\"\",IF(INDEX(Vložit!B:B,A221+3)=\"\",\"\",INDEX(Vložit!B:B,A221+3)))","v":""},{"$f":"IF(A221=\"\",\"\",INDEX(Vložit!B:B,A221+4))","v":""}]
[{"$f":"IF(A221=\"\",\"\",IF(INDEX(Vložit!A:A,(ROW(A221)-1)*17+2)<>\"\",(ROW(A221)-1)*17+2,\"\"))","v":""},{"$f":"IF(A222=\"\",\"\",\"Číslo smlouvy:  \"&INDEX(Vložit!B:B,A222+1)&CHAR(10)&\"Jméno a příjmení:  \"&INDEX(Vložit!B:B,A222+2)&CHAR(10)&\"Ulice:  \"&INDEX(Vložit!B:B,A222+3)&CHAR(10)&\"Č. pop. / č. orient.:  \"&INDEX(Vložit!B:B,A222+4)&CHAR(10)&\"Obec:  \"&INDEX(Vložit!B:B,A222+5))","v":""},{"$f":"IF(A222=\"\",\"\",INDEX(Vložit!A:A,A222)&CHAR(10)&\"Telefon: \"&INDEX(Vložit!B:B,A222+6)&\" / \"&INDEX(Vložit!B:B,A222+7)&CHAR(10)&\"Typ objednávky: \"&INDEX(Vložit!D:D,A222+1)&CHAR(10)&INDEX(Vložit!C:C,A222)&CHAR(10)&INDEX(Vložit!D:D,A222))","v":""},{"$f":"IF(A222=\"\",\"\",IF(INDEX(Vložit!B:B,A222+8)=\"\",\"\",\"Instrukce: \"&INDEX(Vložit!B:B,A222+8)))","v":""},{"$f":"IF(A222=\"\",\"\",IF(INDEX(Vložit!B:B,A222+1)=\"\",\"\",INDEX(Vložit!B:B,A222+1)))","v":""},{"$f":"IF(A222=\"\",\"\",MID(INDEX(Vložit!A:A,A222),19,10))","v":""},{"$f":"IF(A222=\"\",\"\",IF(INDEX(Vložit!B:B,A222+5)=\"\",\"\",VLOOKUP(INDEX(Vložit!B:B,A222+5),Pomocná!B221:C10220,2,FALSE)))","v":""},{"$f":"IF(A222=\"\",\"\",INDEX(Vložit!B:B,A222+2))","v":""},{"$f":"IF(A222=\"\",\"\",IF(INDEX(Vložit!B:B,A222+3)=\"\",\"\",INDEX(Vložit!B:B,A222+3)))","v":""},{"$f":"IF(A222=\"\",\"\",INDEX(Vložit!B:B,A222+4))","v":""}]
[{"$f":"IF(A222=\"\",\"\",IF(INDEX(Vložit!A:A,(ROW(A222)-1)*17+2)<>\"\",(ROW(A222)-1)*17+2,\"\"))","v":""},{"$f":"IF(A223=\"\",\"\",\"Číslo smlouvy:  \"&INDEX(Vložit!B:B,A223+1)&CHAR(10)&\"Jméno a příjmení:  \"&INDEX(Vložit!B:B,A223+2)&CHAR(10)&\"Ulice:  \"&INDEX(Vložit!B:B,A223+3)&CHAR(10)&\"Č. pop. / č. orient.:  \"&INDEX(Vložit!B:B,A223+4)&CHAR(10)&\"Obec:  \"&INDEX(Vložit!B:B,A223+5))","v":""},{"$f":"IF(A223=\"\",\"\",INDEX(Vložit!A:A,A223)&CHAR(10)&\"Telefon: \"&INDEX(Vložit!B:B,A223+6)&\" / \"&INDEX(Vložit!B:B,A223+7)&CHAR(10)&\"Typ objednávky: \"&INDEX(Vložit!D:D,A223+1)&CHAR(10)&INDEX(Vložit!C:C,A223)&CHAR(10)&INDEX(Vložit!D:D,A223))","v":""},{"$f":"IF(A223=\"\",\"\",IF(INDEX(Vložit!B:B,A223+8)=\"\",\"\",\"Instrukce: \"&INDEX(Vložit!B:B,A223+8)))","v":""},{"$f":"IF(A223=\"\",\"\",IF(INDEX(Vložit!B:B,A223+1)=\"\",\"\",INDEX(Vložit!B:B,A223+1)))","v":""},{"$f":"IF(A223=\"\",\"\",MID(INDEX(Vložit!A:A,A223),19,10))","v":""},{"$f":"IF(A223=\"\",\"\",IF(INDEX(Vložit!B:B,A223+5)=\"\",\"\",VLOOKUP(INDEX(Vložit!B:B,A223+5),Pomocná!B222:C10221,2,FALSE)))","v":""},{"$f":"IF(A223=\"\",\"\",INDEX(Vložit!B:B,A223+2))","v":""},{"$f":"IF(A223=\"\",\"\",IF(INDEX(Vložit!B:B,A223+3)=\"\",\"\",INDEX(Vložit!B:B,A223+3)))","v":""},{"$f":"IF(A223=\"\",\"\",INDEX(Vložit!B:B,A223+4))","v":""}]
[{"$f":"IF(A223=\"\",\"\",IF(INDEX(Vložit!A:A,(ROW(A223)-1)*17+2)<>\"\",(ROW(A223)-1)*17+2,\"\"))","v":""},{"$f":"IF(A224=\"\",\"\",\"Číslo smlouvy:  \"&INDEX(Vložit!B:B,A224+1)&CHAR(10)&\"Jméno a příjmení:  \"&INDEX(Vložit!B:B,A224+2)&CHAR(10)&\"Ulice:  \"&INDEX(Vložit!B:B,A224+3)&CHAR(10)&\"Č. pop. / č. orient.:  \"&INDEX(Vložit!B:B,A224+4)&CHAR(10)&\"Obec:  \"&INDEX(Vložit!B:B,A224+5))","v":""},{"$f":"IF(A224=\"\",\"\",INDEX(Vložit!A:A,A224)&CHAR(10)&\"Telefon: \"&INDEX(Vložit!B:B,A224+6)&\" / \"&INDEX(Vložit!B:B,A224+7)&CHAR(10)&\"Typ objednávky: \"&INDEX(Vložit!D:D,A224+1)&CHAR(10)&INDEX(Vložit!C:C,A224)&CHAR(10)&INDEX(Vložit!D:D,A224))","v":""},{"$f":"IF(A224=\"\",\"\",IF(INDEX(Vložit!B:B,A224+8)=\"\",\"\",\"Instrukce: \"&INDEX(Vložit!B:B,A224+8)))","v":""},{"$f":"IF(A224=\"\",\"\",IF(INDEX(Vložit!B:B,A224+1)=\"\",\"\",INDEX(Vložit!B:B,A224+1)))","v":""},{"$f":"IF(A224=\"\",\"\",MID(INDEX(Vložit!A:A,A224),19,10))","v":""},{"$f":"IF(A224=\"\",\"\",IF(INDEX(Vložit!B:B,A224+5)=\"\",\"\",VLOOKUP(INDEX(Vložit!B:B,A224+5),Pomocná!B223:C10222,2,FALSE)))","v":""},{"$f":"IF(A224=\"\",\"\",INDEX(Vložit!B:B,A224+2))","v":""},{"$f":"IF(A224=\"\",\"\",IF(INDEX(Vložit!B:B,A224+3)=\"\",\"\",INDEX(Vložit!B:B,A224+3)))","v":""},{"$f":"IF(A224=\"\",\"\",INDEX(Vložit!B:B,A224+4))","v":""}]
[{"$f":"IF(A224=\"\",\"\",IF(INDEX(Vložit!A:A,(ROW(A224)-1)*17+2)<>\"\",(ROW(A224)-1)*17+2,\"\"))","v":""},{"$f":"IF(A225=\"\",\"\",\"Číslo smlouvy:  \"&INDEX(Vložit!B:B,A225+1)&CHAR(10)&\"Jméno a příjmení:  \"&INDEX(Vložit!B:B,A225+2)&CHAR(10)&\"Ulice:  \"&INDEX(Vložit!B:B,A225+3)&CHAR(10)&\"Č. pop. / č. orient.:  \"&INDEX(Vložit!B:B,A225+4)&CHAR(10)&\"Obec:  \"&INDEX(Vložit!B:B,A225+5))","v":""},{"$f":"IF(A225=\"\",\"\",INDEX(Vložit!A:A,A225)&CHAR(10)&\"Telefon: \"&INDEX(Vložit!B:B,A225+6)&\" / \"&INDEX(Vložit!B:B,A225+7)&CHAR(10)&\"Typ objednávky: \"&INDEX(Vložit!D:D,A225+1)&CHAR(10)&INDEX(Vložit!C:C,A225)&CHAR(10)&INDEX(Vložit!D:D,A225))","v":""},{"$f":"IF(A225=\"\",\"\",IF(INDEX(Vložit!B:B,A225+8)=\"\",\"\",\"Instrukce: \"&INDEX(Vložit!B:B,A225+8)))","v":""},{"$f":"IF(A225=\"\",\"\",IF(INDEX(Vložit!B:B,A225+1)=\"\",\"\",INDEX(Vložit!B:B,A225+1)))","v":""},{"$f":"IF(A225=\"\",\"\",MID(INDEX(Vložit!A:A,A225),19,10))","v":""},{"$f":"IF(A225=\"\",\"\",IF(INDEX(Vložit!B:B,A225+5)=\"\",\"\",VLOOKUP(INDEX(Vložit!B:B,A225+5),Pomocná!B224:C10223,2,FALSE)))","v":""},{"$f":"IF(A225=\"\",\"\",INDEX(Vložit!B:B,A225+2))","v":""},{"$f":"IF(A225=\"\",\"\",IF(INDEX(Vložit!B:B,A225+3)=\"\",\"\",INDEX(Vložit!B:B,A225+3)))","v":""},{"$f":"IF(A225=\"\",\"\",INDEX(Vložit!B:B,A225+4))","v":""}]
[{"$f":"IF(A225=\"\",\"\",IF(INDEX(Vložit!A:A,(ROW(A225)-1)*17+2)<>\"\",(ROW(A225)-1)*17+2,\"\"))","v":""},{"$f":"IF(A226=\"\",\"\",\"Číslo smlouvy:  \"&INDEX(Vložit!B:B,A226+1)&CHAR(10)&\"Jméno a příjmení:  \"&INDEX(Vložit!B:B,A226+2)&CHAR(10)&\"Ulice:  \"&INDEX(Vložit!B:B,A226+3)&CHAR(10)&\"Č. pop. / č. orient.:  \"&INDEX(Vložit!B:B,A226+4)&CHAR(10)&\"Obec:  \"&INDEX(Vložit!B:B,A226+5))","v":""},{"$f":"IF(A226=\"\",\"\",INDEX(Vložit!A:A,A226)&CHAR(10)&\"Telefon: \"&INDEX(Vložit!B:B,A226+6)&\" / \"&INDEX(Vložit!B:B,A226+7)&CHAR(10)&\"Typ objednávky: \"&INDEX(Vložit!D:D,A226+1)&CHAR(10)&INDEX(Vložit!C:C,A226)&CHAR(10)&INDEX(Vložit!D:D,A226))","v":""},{"$f":"IF(A226=\"\",\"\",IF(INDEX(Vložit!B:B,A226+8)=\"\",\"\",\"Instrukce: \"&INDEX(Vložit!B:B,A226+8)))","v":""},{"$f":"IF(A226=\"\",\"\",IF(INDEX(Vložit!B:B,A226+1)=\"\",\"\",INDEX(Vložit!B:B,A226+1)))","v":""},{"$f":"IF(A226=\"\",\"\",MID(INDEX(Vložit!A:A,A226),19,10))","v":""},{"$f":"IF(A226=\"\",\"\",IF(INDEX(Vložit!B:B,A226+5)=\"\",\"\",VLOOKUP(INDEX(Vložit!B:B,A226+5),Pomocná!B225:C10224,2,FALSE)))","v":""},{"$f":"IF(A226=\"\",\"\",INDEX(Vložit!B:B,A226+2))","v":""},{"$f":"IF(A226=\"\",\"\",IF(INDEX(Vložit!B:B,A226+3)=\"\",\"\",INDEX(Vložit!B:B,A226+3)))","v":""},{"$f":"IF(A226=\"\",\"\",INDEX(Vložit!B:B,A226+4))","v":""}]
[{"$f":"IF(A226=\"\",\"\",IF(INDEX(Vložit!A:A,(ROW(A226)-1)*17+2)<>\"\",(ROW(A226)-1)*17+2,\"\"))","v":""},{"$f":"IF(A227=\"\",\"\",\"Číslo smlouvy:  \"&INDEX(Vložit!B:B,A227+1)&CHAR(10)&\"Jméno a příjmení:  \"&INDEX(Vložit!B:B,A227+2)&CHAR(10)&\"Ulice:  \"&INDEX(Vložit!B:B,A227+3)&CHAR(10)&\"Č. pop. / č. orient.:  \"&INDEX(Vložit!B:B,A227+4)&CHAR(10)&\"Obec:  \"&INDEX(Vložit!B:B,A227+5))","v":""},{"$f":"IF(A227=\"\",\"\",INDEX(Vložit!A:A,A227)&CHAR(10)&\"Telefon: \"&INDEX(Vložit!B:B,A227+6)&\" / \"&INDEX(Vložit!B:B,A227+7)&CHAR(10)&\"Typ objednávky: \"&INDEX(Vložit!D:D,A227+1)&CHAR(10)&INDEX(Vložit!C:C,A227)&CHAR(10)&INDEX(Vložit!D:D,A227))","v":""},{"$f":"IF(A227=\"\",\"\",IF(INDEX(Vložit!B:B,A227+8)=\"\",\"\",\"Instrukce: \"&INDEX(Vložit!B:B,A227+8)))","v":""},{"$f":"IF(A227=\"\",\"\",IF(INDEX(Vložit!B:B,A227+1)=\"\",\"\",INDEX(Vložit!B:B,A227+1)))","v":""},{"$f":"IF(A227=\"\",\"\",MID(INDEX(Vložit!A:A,A227),19,10))","v":""},{"$f":"IF(A227=\"\",\"\",IF(INDEX(Vložit!B:B,A227+5)=\"\",\"\",VLOOKUP(INDEX(Vložit!B:B,A227+5),Pomocná!B226:C10225,2,FALSE)))","v":""},{"$f":"IF(A227=\"\",\"\",INDEX(Vložit!B:B,A227+2))","v":""},{"$f":"IF(A227=\"\",\"\",IF(INDEX(Vložit!B:B,A227+3)=\"\",\"\",INDEX(Vložit!B:B,A227+3)))","v":""},{"$f":"IF(A227=\"\",\"\",INDEX(Vložit!B:B,A227+4))","v":""}]
[{"$f":"IF(A227=\"\",\"\",IF(INDEX(Vložit!A:A,(ROW(A227)-1)*17+2)<>\"\",(ROW(A227)-1)*17+2,\"\"))","v":""},{"$f":"IF(A228=\"\",\"\",\"Číslo smlouvy:  \"&INDEX(Vložit!B:B,A228+1)&CHAR(10)&\"Jméno a příjmení:  \"&INDEX(Vložit!B:B,A228+2)&CHAR(10)&\"Ulice:  \"&INDEX(Vložit!B:B,A228+3)&CHAR(10)&\"Č. pop. / č. orient.:  \"&INDEX(Vložit!B:B,A228+4)&CHAR(10)&\"Obec:  \"&INDEX(Vložit!B:B,A228+5))","v":""},{"$f":"IF(A228=\"\",\"\",INDEX(Vložit!A:A,A228)&CHAR(10)&\"Telefon: \"&INDEX(Vložit!B:B,A228+6)&\" / \"&INDEX(Vložit!B:B,A228+7)&CHAR(10)&\"Typ objednávky: \"&INDEX(Vložit!D:D,A228+1)&CHAR(10)&INDEX(Vložit!C:C,A228)&CHAR(10)&INDEX(Vložit!D:D,A228))","v":""},{"$f":"IF(A228=\"\",\"\",IF(INDEX(Vložit!B:B,A228+8)=\"\",\"\",\"Instrukce: \"&INDEX(Vložit!B:B,A228+8)))","v":""},{"$f":"IF(A228=\"\",\"\",IF(INDEX(Vložit!B:B,A228+1)=\"\",\"\",INDEX(Vložit!B:B,A228+1)))","v":""},{"$f":"IF(A228=\"\",\"\",MID(INDEX(Vložit!A:A,A228),19,10))","v":""},{"$f":"IF(A228=\"\",\"\",IF(INDEX(Vložit!B:B,A228+5)=\"\",\"\",VLOOKUP(INDEX(Vložit!B:B,A228+5),Pomocná!B227:C10226,2,FALSE)))","v":""},{"$f":"IF(A228=\"\",\"\",INDEX(Vložit!B:B,A228+2))","v":""},{"$f":"IF(A228=\"\",\"\",IF(INDEX(Vložit!B:B,A228+3)=\"\",\"\",INDEX(Vložit!B:B,A228+3)))","v":""},{"$f":"IF(A228=\"\",\"\",INDEX(Vložit!B:B,A228+4))","v":""}]
[{"$f":"IF(A228=\"\",\"\",IF(INDEX(Vložit!A:A,(ROW(A228)-1)*17+2)<>\"\",(ROW(A228)-1)*17+2,\"\"))","v":""},{"$f":"IF(A229=\"\",\"\",\"Číslo smlouvy:  \"&INDEX(Vložit!B:B,A229+1)&CHAR(10)&\"Jméno a příjmení:  \"&INDEX(Vložit!B:B,A229+2)&CHAR(10)&\"Ulice:  \"&INDEX(Vložit!B:B,A229+3)&CHAR(10)&\"Č. pop. / č. orient.:  \"&INDEX(Vložit!B:B,A229+4)&CHAR(10)&\"Obec:  \"&INDEX(Vložit!B:B,A229+5))","v":""},{"$f":"IF(A229=\"\",\"\",INDEX(Vložit!A:A,A229)&CHAR(10)&\"Telefon: \"&INDEX(Vložit!B:B,A229+6)&\" / \"&INDEX(Vložit!B:B,A229+7)&CHAR(10)&\"Typ objednávky: \"&INDEX(Vložit!D:D,A229+1)&CHAR(10)&INDEX(Vložit!C:C,A229)&CHAR(10)&INDEX(Vložit!D:D,A229))","v":""},{"$f":"IF(A229=\"\",\"\",IF(INDEX(Vložit!B:B,A229+8)=\"\",\"\",\"Instrukce: \"&INDEX(Vložit!B:B,A229+8)))","v":""},{"$f":"IF(A229=\"\",\"\",IF(INDEX(Vložit!B:B,A229+1)=\"\",\"\",INDEX(Vložit!B:B,A229+1)))","v":""},{"$f":"IF(A229=\"\",\"\",MID(INDEX(Vložit!A:A,A229),19,10))","v":""},{"$f":"IF(A229=\"\",\"\",IF(INDEX(Vložit!B:B,A229+5)=\"\",\"\",VLOOKUP(INDEX(Vložit!B:B,A229+5),Pomocná!B228:C10227,2,FALSE)))","v":""},{"$f":"IF(A229=\"\",\"\",INDEX(Vložit!B:B,A229+2))","v":""},{"$f":"IF(A229=\"\",\"\",IF(INDEX(Vložit!B:B,A229+3)=\"\",\"\",INDEX(Vložit!B:B,A229+3)))","v":""},{"$f":"IF(A229=\"\",\"\",INDEX(Vložit!B:B,A229+4))","v":""}]
[{"$f":"IF(A229=\"\",\"\",IF(INDEX(Vložit!A:A,(ROW(A229)-1)*17+2)<>\"\",(ROW(A229)-1)*17+2,\"\"))","v":""},{"$f":"IF(A230=\"\",\"\",\"Číslo smlouvy:  \"&INDEX(Vložit!B:B,A230+1)&CHAR(10)&\"Jméno a příjmení:  \"&INDEX(Vložit!B:B,A230+2)&CHAR(10)&\"Ulice:  \"&INDEX(Vložit!B:B,A230+3)&CHAR(10)&\"Č. pop. / č. orient.:  \"&INDEX(Vložit!B:B,A230+4)&CHAR(10)&\"Obec:  \"&INDEX(Vložit!B:B,A230+5))","v":""},{"$f":"IF(A230=\"\",\"\",INDEX(Vložit!A:A,A230)&CHAR(10)&\"Telefon: \"&INDEX(Vložit!B:B,A230+6)&\" / \"&INDEX(Vložit!B:B,A230+7)&CHAR(10)&\"Typ objednávky: \"&INDEX(Vložit!D:D,A230+1)&CHAR(10)&INDEX(Vložit!C:C,A230)&CHAR(10)&INDEX(Vložit!D:D,A230))","v":""},{"$f":"IF(A230=\"\",\"\",IF(INDEX(Vložit!B:B,A230+8)=\"\",\"\",\"Instrukce: \"&INDEX(Vložit!B:B,A230+8)))","v":""},{"$f":"IF(A230=\"\",\"\",IF(INDEX(Vložit!B:B,A230+1)=\"\",\"\",INDEX(Vložit!B:B,A230+1)))","v":""},{"$f":"IF(A230=\"\",\"\",MID(INDEX(Vložit!A:A,A230),19,10))","v":""},{"$f":"IF(A230=\"\",\"\",IF(INDEX(Vložit!B:B,A230+5)=\"\",\"\",VLOOKUP(INDEX(Vložit!B:B,A230+5),Pomocná!B229:C10228,2,FALSE)))","v":""},{"$f":"IF(A230=\"\",\"\",INDEX(Vložit!B:B,A230+2))","v":""},{"$f":"IF(A230=\"\",\"\",IF(INDEX(Vložit!B:B,A230+3)=\"\",\"\",INDEX(Vložit!B:B,A230+3)))","v":""},{"$f":"IF(A230=\"\",\"\",INDEX(Vložit!B:B,A230+4))","v":""}]
[{"$f":"IF(A230=\"\",\"\",IF(INDEX(Vložit!A:A,(ROW(A230)-1)*17+2)<>\"\",(ROW(A230)-1)*17+2,\"\"))","v":""},{"$f":"IF(A231=\"\",\"\",\"Číslo smlouvy:  \"&INDEX(Vložit!B:B,A231+1)&CHAR(10)&\"Jméno a příjmení:  \"&INDEX(Vložit!B:B,A231+2)&CHAR(10)&\"Ulice:  \"&INDEX(Vložit!B:B,A231+3)&CHAR(10)&\"Č. pop. / č. orient.:  \"&INDEX(Vložit!B:B,A231+4)&CHAR(10)&\"Obec:  \"&INDEX(Vložit!B:B,A231+5))","v":""},{"$f":"IF(A231=\"\",\"\",INDEX(Vložit!A:A,A231)&CHAR(10)&\"Telefon: \"&INDEX(Vložit!B:B,A231+6)&\" / \"&INDEX(Vložit!B:B,A231+7)&CHAR(10)&\"Typ objednávky: \"&INDEX(Vložit!D:D,A231+1)&CHAR(10)&INDEX(Vložit!C:C,A231)&CHAR(10)&INDEX(Vložit!D:D,A231))","v":""},{"$f":"IF(A231=\"\",\"\",IF(INDEX(Vložit!B:B,A231+8)=\"\",\"\",\"Instrukce: \"&INDEX(Vložit!B:B,A231+8)))","v":""},{"$f":"IF(A231=\"\",\"\",IF(INDEX(Vložit!B:B,A231+1)=\"\",\"\",INDEX(Vložit!B:B,A231+1)))","v":""},{"$f":"IF(A231=\"\",\"\",MID(INDEX(Vložit!A:A,A231),19,10))","v":""},{"$f":"IF(A231=\"\",\"\",IF(INDEX(Vložit!B:B,A231+5)=\"\",\"\",VLOOKUP(INDEX(Vložit!B:B,A231+5),Pomocná!B230:C10229,2,FALSE)))","v":""},{"$f":"IF(A231=\"\",\"\",INDEX(Vložit!B:B,A231+2))","v":""},{"$f":"IF(A231=\"\",\"\",IF(INDEX(Vložit!B:B,A231+3)=\"\",\"\",INDEX(Vložit!B:B,A231+3)))","v":""},{"$f":"IF(A231=\"\",\"\",INDEX(Vložit!B:B,A231+4))","v":""}]
[{"$f":"IF(A231=\"\",\"\",IF(INDEX(Vložit!A:A,(ROW(A231)-1)*17+2)<>\"\",(ROW(A231)-1)*17+2,\"\"))","v":""},{"$f":"IF(A232=\"\",\"\",\"Číslo smlouvy:  \"&INDEX(Vložit!B:B,A232+1)&CHAR(10)&\"Jméno a příjmení:  \"&INDEX(Vložit!B:B,A232+2)&CHAR(10)&\"Ulice:  \"&INDEX(Vložit!B:B,A232+3)&CHAR(10)&\"Č. pop. / č. orient.:  \"&INDEX(Vložit!B:B,A232+4)&CHAR(10)&\"Obec:  \"&INDEX(Vložit!B:B,A232+5))","v":""},{"$f":"IF(A232=\"\",\"\",INDEX(Vložit!A:A,A232)&CHAR(10)&\"Telefon: \"&INDEX(Vložit!B:B,A232+6)&\" / \"&INDEX(Vložit!B:B,A232+7)&CHAR(10)&\"Typ objednávky: \"&INDEX(Vložit!D:D,A232+1)&CHAR(10)&INDEX(Vložit!C:C,A232)&CHAR(10)&INDEX(Vložit!D:D,A232))","v":""},{"$f":"IF(A232=\"\",\"\",IF(INDEX(Vložit!B:B,A232+8)=\"\",\"\",\"Instrukce: \"&INDEX(Vložit!B:B,A232+8)))","v":""},{"$f":"IF(A232=\"\",\"\",IF(INDEX(Vložit!B:B,A232+1)=\"\",\"\",INDEX(Vložit!B:B,A232+1)))","v":""},{"$f":"IF(A232=\"\",\"\",MID(INDEX(Vložit!A:A,A232),19,10))","v":""},{"$f":"IF(A232=\"\",\"\",IF(INDEX(Vložit!B:B,A232+5)=\"\",\"\",VLOOKUP(INDEX(Vložit!B:B,A232+5),Pomocná!B231:C10230,2,FALSE)))","v":""},{"$f":"IF(A232=\"\",\"\",INDEX(Vložit!B:B,A232+2))","v":""},{"$f":"IF(A232=\"\",\"\",IF(INDEX(Vložit!B:B,A232+3)=\"\",\"\",INDEX(Vložit!B:B,A232+3)))","v":""},{"$f":"IF(A232=\"\",\"\",INDEX(Vložit!B:B,A232+4))","v":""}]
[{"$f":"IF(A232=\"\",\"\",IF(INDEX(Vložit!A:A,(ROW(A232)-1)*17+2)<>\"\",(ROW(A232)-1)*17+2,\"\"))","v":""},{"$f":"IF(A233=\"\",\"\",\"Číslo smlouvy:  \"&INDEX(Vložit!B:B,A233+1)&CHAR(10)&\"Jméno a příjmení:  \"&INDEX(Vložit!B:B,A233+2)&CHAR(10)&\"Ulice:  \"&INDEX(Vložit!B:B,A233+3)&CHAR(10)&\"Č. pop. / č. orient.:  \"&INDEX(Vložit!B:B,A233+4)&CHAR(10)&\"Obec:  \"&INDEX(Vložit!B:B,A233+5))","v":""},{"$f":"IF(A233=\"\",\"\",INDEX(Vložit!A:A,A233)&CHAR(10)&\"Telefon: \"&INDEX(Vložit!B:B,A233+6)&\" / \"&INDEX(Vložit!B:B,A233+7)&CHAR(10)&\"Typ objednávky: \"&INDEX(Vložit!D:D,A233+1)&CHAR(10)&INDEX(Vložit!C:C,A233)&CHAR(10)&INDEX(Vložit!D:D,A233))","v":""},{"$f":"IF(A233=\"\",\"\",IF(INDEX(Vložit!B:B,A233+8)=\"\",\"\",\"Instrukce: \"&INDEX(Vložit!B:B,A233+8)))","v":""},{"$f":"IF(A233=\"\",\"\",IF(INDEX(Vložit!B:B,A233+1)=\"\",\"\",INDEX(Vložit!B:B,A233+1)))","v":""},{"$f":"IF(A233=\"\",\"\",MID(INDEX(Vložit!A:A,A233),19,10))","v":""},{"$f":"IF(A233=\"\",\"\",IF(INDEX(Vložit!B:B,A233+5)=\"\",\"\",VLOOKUP(INDEX(Vložit!B:B,A233+5),Pomocná!B232:C10231,2,FALSE)))","v":""},{"$f":"IF(A233=\"\",\"\",INDEX(Vložit!B:B,A233+2))","v":""},{"$f":"IF(A233=\"\",\"\",IF(INDEX(Vložit!B:B,A233+3)=\"\",\"\",INDEX(Vložit!B:B,A233+3)))","v":""},{"$f":"IF(A233=\"\",\"\",INDEX(Vložit!B:B,A233+4))","v":""}]
[{"$f":"IF(A233=\"\",\"\",IF(INDEX(Vložit!A:A,(ROW(A233)-1)*17+2)<>\"\",(ROW(A233)-1)*17+2,\"\"))","v":""},{"$f":"IF(A234=\"\",\"\",\"Číslo smlouvy:  \"&INDEX(Vložit!B:B,A234+1)&CHAR(10)&\"Jméno a příjmení:  \"&INDEX(Vložit!B:B,A234+2)&CHAR(10)&\"Ulice:  \"&INDEX(Vložit!B:B,A234+3)&CHAR(10)&\"Č. pop. / č. orient.:  \"&INDEX(Vložit!B:B,A234+4)&CHAR(10)&\"Obec:  \"&INDEX(Vložit!B:B,A234+5))","v":""},{"$f":"IF(A234=\"\",\"\",INDEX(Vložit!A:A,A234)&CHAR(10)&\"Telefon: \"&INDEX(Vložit!B:B,A234+6)&\" / \"&INDEX(Vložit!B:B,A234+7)&CHAR(10)&\"Typ objednávky: \"&INDEX(Vložit!D:D,A234+1)&CHAR(10)&INDEX(Vložit!C:C,A234)&CHAR(10)&INDEX(Vložit!D:D,A234))","v":""},{"$f":"IF(A234=\"\",\"\",IF(INDEX(Vložit!B:B,A234+8)=\"\",\"\",\"Instrukce: \"&INDEX(Vložit!B:B,A234+8)))","v":""},{"$f":"IF(A234=\"\",\"\",IF(INDEX(Vložit!B:B,A234+1)=\"\",\"\",INDEX(Vložit!B:B,A234+1)))","v":""},{"$f":"IF(A234=\"\",\"\",MID(INDEX(Vložit!A:A,A234),19,10))","v":""},{"$f":"IF(A234=\"\",\"\",IF(INDEX(Vložit!B:B,A234+5)=\"\",\"\",VLOOKUP(INDEX(Vložit!B:B,A234+5),Pomocná!B233:C10232,2,FALSE)))","v":""},{"$f":"IF(A234=\"\",\"\",INDEX(Vložit!B:B,A234+2))","v":""},{"$f":"IF(A234=\"\",\"\",IF(INDEX(Vložit!B:B,A234+3)=\"\",\"\",INDEX(Vložit!B:B,A234+3)))","v":""},{"$f":"IF(A234=\"\",\"\",INDEX(Vložit!B:B,A234+4))","v":""}]
[{"$f":"IF(A234=\"\",\"\",IF(INDEX(Vložit!A:A,(ROW(A234)-1)*17+2)<>\"\",(ROW(A234)-1)*17+2,\"\"))","v":""},{"$f":"IF(A235=\"\",\"\",\"Číslo smlouvy:  \"&INDEX(Vložit!B:B,A235+1)&CHAR(10)&\"Jméno a příjmení:  \"&INDEX(Vložit!B:B,A235+2)&CHAR(10)&\"Ulice:  \"&INDEX(Vložit!B:B,A235+3)&CHAR(10)&\"Č. pop. / č. orient.:  \"&INDEX(Vložit!B:B,A235+4)&CHAR(10)&\"Obec:  \"&INDEX(Vložit!B:B,A235+5))","v":""},{"$f":"IF(A235=\"\",\"\",INDEX(Vložit!A:A,A235)&CHAR(10)&\"Telefon: \"&INDEX(Vložit!B:B,A235+6)&\" / \"&INDEX(Vložit!B:B,A235+7)&CHAR(10)&\"Typ objednávky: \"&INDEX(Vložit!D:D,A235+1)&CHAR(10)&INDEX(Vložit!C:C,A235)&CHAR(10)&INDEX(Vložit!D:D,A235))","v":""},{"$f":"IF(A235=\"\",\"\",IF(INDEX(Vložit!B:B,A235+8)=\"\",\"\",\"Instrukce: \"&INDEX(Vložit!B:B,A235+8)))","v":""},{"$f":"IF(A235=\"\",\"\",IF(INDEX(Vložit!B:B,A235+1)=\"\",\"\",INDEX(Vložit!B:B,A235+1)))","v":""},{"$f":"IF(A235=\"\",\"\",MID(INDEX(Vložit!A:A,A235),19,10))","v":""},{"$f":"IF(A235=\"\",\"\",IF(INDEX(Vložit!B:B,A235+5)=\"\",\"\",VLOOKUP(INDEX(Vložit!B:B,A235+5),Pomocná!B234:C10233,2,FALSE)))","v":""},{"$f":"IF(A235=\"\",\"\",INDEX(Vložit!B:B,A235+2))","v":""},{"$f":"IF(A235=\"\",\"\",IF(INDEX(Vložit!B:B,A235+3)=\"\",\"\",INDEX(Vložit!B:B,A235+3)))","v":""},{"$f":"IF(A235=\"\",\"\",INDEX(Vložit!B:B,A235+4))","v":""}]
[{"$f":"IF(A235=\"\",\"\",IF(INDEX(Vložit!A:A,(ROW(A235)-1)*17+2)<>\"\",(ROW(A235)-1)*17+2,\"\"))","v":""},{"$f":"IF(A236=\"\",\"\",\"Číslo smlouvy:  \"&INDEX(Vložit!B:B,A236+1)&CHAR(10)&\"Jméno a příjmení:  \"&INDEX(Vložit!B:B,A236+2)&CHAR(10)&\"Ulice:  \"&INDEX(Vložit!B:B,A236+3)&CHAR(10)&\"Č. pop. / č. orient.:  \"&INDEX(Vložit!B:B,A236+4)&CHAR(10)&\"Obec:  \"&INDEX(Vložit!B:B,A236+5))","v":""},{"$f":"IF(A236=\"\",\"\",INDEX(Vložit!A:A,A236)&CHAR(10)&\"Telefon: \"&INDEX(Vložit!B:B,A236+6)&\" / \"&INDEX(Vložit!B:B,A236+7)&CHAR(10)&\"Typ objednávky: \"&INDEX(Vložit!D:D,A236+1)&CHAR(10)&INDEX(Vložit!C:C,A236)&CHAR(10)&INDEX(Vložit!D:D,A236))","v":""},{"$f":"IF(A236=\"\",\"\",IF(INDEX(Vložit!B:B,A236+8)=\"\",\"\",\"Instrukce: \"&INDEX(Vložit!B:B,A236+8)))","v":""},{"$f":"IF(A236=\"\",\"\",IF(INDEX(Vložit!B:B,A236+1)=\"\",\"\",INDEX(Vložit!B:B,A236+1)))","v":""},{"$f":"IF(A236=\"\",\"\",MID(INDEX(Vložit!A:A,A236),19,10))","v":""},{"$f":"IF(A236=\"\",\"\",IF(INDEX(Vložit!B:B,A236+5)=\"\",\"\",VLOOKUP(INDEX(Vložit!B:B,A236+5),Pomocná!B235:C10234,2,FALSE)))","v":""},{"$f":"IF(A236=\"\",\"\",INDEX(Vložit!B:B,A236+2))","v":""},{"$f":"IF(A236=\"\",\"\",IF(INDEX(Vložit!B:B,A236+3)=\"\",\"\",INDEX(Vložit!B:B,A236+3)))","v":""},{"$f":"IF(A236=\"\",\"\",INDEX(Vložit!B:B,A236+4))","v":""}]
[{"$f":"IF(A236=\"\",\"\",IF(INDEX(Vložit!A:A,(ROW(A236)-1)*17+2)<>\"\",(ROW(A236)-1)*17+2,\"\"))","v":""},{"$f":"IF(A237=\"\",\"\",\"Číslo smlouvy:  \"&INDEX(Vložit!B:B,A237+1)&CHAR(10)&\"Jméno a příjmení:  \"&INDEX(Vložit!B:B,A237+2)&CHAR(10)&\"Ulice:  \"&INDEX(Vložit!B:B,A237+3)&CHAR(10)&\"Č. pop. / č. orient.:  \"&INDEX(Vložit!B:B,A237+4)&CHAR(10)&\"Obec:  \"&INDEX(Vložit!B:B,A237+5))","v":""},{"$f":"IF(A237=\"\",\"\",INDEX(Vložit!A:A,A237)&CHAR(10)&\"Telefon: \"&INDEX(Vložit!B:B,A237+6)&\" / \"&INDEX(Vložit!B:B,A237+7)&CHAR(10)&\"Typ objednávky: \"&INDEX(Vložit!D:D,A237+1)&CHAR(10)&INDEX(Vložit!C:C,A237)&CHAR(10)&INDEX(Vložit!D:D,A237))","v":""},{"$f":"IF(A237=\"\",\"\",IF(INDEX(Vložit!B:B,A237+8)=\"\",\"\",\"Instrukce: \"&INDEX(Vložit!B:B,A237+8)))","v":""},{"$f":"IF(A237=\"\",\"\",IF(INDEX(Vložit!B:B,A237+1)=\"\",\"\",INDEX(Vložit!B:B,A237+1)))","v":""},{"$f":"IF(A237=\"\",\"\",MID(INDEX(Vložit!A:A,A237),19,10))","v":""},{"$f":"IF(A237=\"\",\"\",IF(INDEX(Vložit!B:B,A237+5)=\"\",\"\",VLOOKUP(INDEX(Vložit!B:B,A237+5),Pomocná!B236:C10235,2,FALSE)))","v":""},{"$f":"IF(A237=\"\",\"\",INDEX(Vložit!B:B,A237+2))","v":""},{"$f":"IF(A237=\"\",\"\",IF(INDEX(Vložit!B:B,A237+3)=\"\",\"\",INDEX(Vložit!B:B,A237+3)))","v":""},{"$f":"IF(A237=\"\",\"\",INDEX(Vložit!B:B,A237+4))","v":""}]
[{"$f":"IF(A237=\"\",\"\",IF(INDEX(Vložit!A:A,(ROW(A237)-1)*17+2)<>\"\",(ROW(A237)-1)*17+2,\"\"))","v":""},{"$f":"IF(A238=\"\",\"\",\"Číslo smlouvy:  \"&INDEX(Vložit!B:B,A238+1)&CHAR(10)&\"Jméno a příjmení:  \"&INDEX(Vložit!B:B,A238+2)&CHAR(10)&\"Ulice:  \"&INDEX(Vložit!B:B,A238+3)&CHAR(10)&\"Č. pop. / č. orient.:  \"&INDEX(Vložit!B:B,A238+4)&CHAR(10)&\"Obec:  \"&INDEX(Vložit!B:B,A238+5))","v":""},{"$f":"IF(A238=\"\",\"\",INDEX(Vložit!A:A,A238)&CHAR(10)&\"Telefon: \"&INDEX(Vložit!B:B,A238+6)&\" / \"&INDEX(Vložit!B:B,A238+7)&CHAR(10)&\"Typ objednávky: \"&INDEX(Vložit!D:D,A238+1)&CHAR(10)&INDEX(Vložit!C:C,A238)&CHAR(10)&INDEX(Vložit!D:D,A238))","v":""},{"$f":"IF(A238=\"\",\"\",IF(INDEX(Vložit!B:B,A238+8)=\"\",\"\",\"Instrukce: \"&INDEX(Vložit!B:B,A238+8)))","v":""},{"$f":"IF(A238=\"\",\"\",IF(INDEX(Vložit!B:B,A238+1)=\"\",\"\",INDEX(Vložit!B:B,A238+1)))","v":""},{"$f":"IF(A238=\"\",\"\",MID(INDEX(Vložit!A:A,A238),19,10))","v":""},{"$f":"IF(A238=\"\",\"\",IF(INDEX(Vložit!B:B,A238+5)=\"\",\"\",VLOOKUP(INDEX(Vložit!B:B,A238+5),Pomocná!B237:C10236,2,FALSE)))","v":""},{"$f":"IF(A238=\"\",\"\",INDEX(Vložit!B:B,A238+2))","v":""},{"$f":"IF(A238=\"\",\"\",IF(INDEX(Vložit!B:B,A238+3)=\"\",\"\",INDEX(Vložit!B:B,A238+3)))","v":""},{"$f":"IF(A238=\"\",\"\",INDEX(Vložit!B:B,A238+4))","v":""}]
[{"$f":"IF(A238=\"\",\"\",IF(INDEX(Vložit!A:A,(ROW(A238)-1)*17+2)<>\"\",(ROW(A238)-1)*17+2,\"\"))","v":""},{"$f":"IF(A239=\"\",\"\",\"Číslo smlouvy:  \"&INDEX(Vložit!B:B,A239+1)&CHAR(10)&\"Jméno a příjmení:  \"&INDEX(Vložit!B:B,A239+2)&CHAR(10)&\"Ulice:  \"&INDEX(Vložit!B:B,A239+3)&CHAR(10)&\"Č. pop. / č. orient.:  \"&INDEX(Vložit!B:B,A239+4)&CHAR(10)&\"Obec:  \"&INDEX(Vložit!B:B,A239+5))","v":""},{"$f":"IF(A239=\"\",\"\",INDEX(Vložit!A:A,A239)&CHAR(10)&\"Telefon: \"&INDEX(Vložit!B:B,A239+6)&\" / \"&INDEX(Vložit!B:B,A239+7)&CHAR(10)&\"Typ objednávky: \"&INDEX(Vložit!D:D,A239+1)&CHAR(10)&INDEX(Vložit!C:C,A239)&CHAR(10)&INDEX(Vložit!D:D,A239))","v":""},{"$f":"IF(A239=\"\",\"\",IF(INDEX(Vložit!B:B,A239+8)=\"\",\"\",\"Instrukce: \"&INDEX(Vložit!B:B,A239+8)))","v":""},{"$f":"IF(A239=\"\",\"\",IF(INDEX(Vložit!B:B,A239+1)=\"\",\"\",INDEX(Vložit!B:B,A239+1)))","v":""},{"$f":"IF(A239=\"\",\"\",MID(INDEX(Vložit!A:A,A239),19,10))","v":""},{"$f":"IF(A239=\"\",\"\",IF(INDEX(Vložit!B:B,A239+5)=\"\",\"\",VLOOKUP(INDEX(Vložit!B:B,A239+5),Pomocná!B238:C10237,2,FALSE)))","v":""},{"$f":"IF(A239=\"\",\"\",INDEX(Vložit!B:B,A239+2))","v":""},{"$f":"IF(A239=\"\",\"\",IF(INDEX(Vložit!B:B,A239+3)=\"\",\"\",INDEX(Vložit!B:B,A239+3)))","v":""},{"$f":"IF(A239=\"\",\"\",INDEX(Vložit!B:B,A239+4))","v":""}]
[{"$f":"IF(A239=\"\",\"\",IF(INDEX(Vložit!A:A,(ROW(A239)-1)*17+2)<>\"\",(ROW(A239)-1)*17+2,\"\"))","v":""},{"$f":"IF(A240=\"\",\"\",\"Číslo smlouvy:  \"&INDEX(Vložit!B:B,A240+1)&CHAR(10)&\"Jméno a příjmení:  \"&INDEX(Vložit!B:B,A240+2)&CHAR(10)&\"Ulice:  \"&INDEX(Vložit!B:B,A240+3)&CHAR(10)&\"Č. pop. / č. orient.:  \"&INDEX(Vložit!B:B,A240+4)&CHAR(10)&\"Obec:  \"&INDEX(Vložit!B:B,A240+5))","v":""},{"$f":"IF(A240=\"\",\"\",INDEX(Vložit!A:A,A240)&CHAR(10)&\"Telefon: \"&INDEX(Vložit!B:B,A240+6)&\" / \"&INDEX(Vložit!B:B,A240+7)&CHAR(10)&\"Typ objednávky: \"&INDEX(Vložit!D:D,A240+1)&CHAR(10)&INDEX(Vložit!C:C,A240)&CHAR(10)&INDEX(Vložit!D:D,A240))","v":""},{"$f":"IF(A240=\"\",\"\",IF(INDEX(Vložit!B:B,A240+8)=\"\",\"\",\"Instrukce: \"&INDEX(Vložit!B:B,A240+8)))","v":""},{"$f":"IF(A240=\"\",\"\",IF(INDEX(Vložit!B:B,A240+1)=\"\",\"\",INDEX(Vložit!B:B,A240+1)))","v":""},{"$f":"IF(A240=\"\",\"\",MID(INDEX(Vložit!A:A,A240),19,10))","v":""},{"$f":"IF(A240=\"\",\"\",IF(INDEX(Vložit!B:B,A240+5)=\"\",\"\",VLOOKUP(INDEX(Vložit!B:B,A240+5),Pomocná!B239:C10238,2,FALSE)))","v":""},{"$f":"IF(A240=\"\",\"\",INDEX(Vložit!B:B,A240+2))","v":""},{"$f":"IF(A240=\"\",\"\",IF(INDEX(Vložit!B:B,A240+3)=\"\",\"\",INDEX(Vložit!B:B,A240+3)))","v":""},{"$f":"IF(A240=\"\",\"\",INDEX(Vložit!B:B,A240+4))","v":""}]
[{"$f":"IF(A240=\"\",\"\",IF(INDEX(Vložit!A:A,(ROW(A240)-1)*17+2)<>\"\",(ROW(A240)-1)*17+2,\"\"))","v":""},{"$f":"IF(A241=\"\",\"\",\"Číslo smlouvy:  \"&INDEX(Vložit!B:B,A241+1)&CHAR(10)&\"Jméno a příjmení:  \"&INDEX(Vložit!B:B,A241+2)&CHAR(10)&\"Ulice:  \"&INDEX(Vložit!B:B,A241+3)&CHAR(10)&\"Č. pop. / č. orient.:  \"&INDEX(Vložit!B:B,A241+4)&CHAR(10)&\"Obec:  \"&INDEX(Vložit!B:B,A241+5))","v":""},{"$f":"IF(A241=\"\",\"\",INDEX(Vložit!A:A,A241)&CHAR(10)&\"Telefon: \"&INDEX(Vložit!B:B,A241+6)&\" / \"&INDEX(Vložit!B:B,A241+7)&CHAR(10)&\"Typ objednávky: \"&INDEX(Vložit!D:D,A241+1)&CHAR(10)&INDEX(Vložit!C:C,A241)&CHAR(10)&INDEX(Vložit!D:D,A241))","v":""},{"$f":"IF(A241=\"\",\"\",IF(INDEX(Vložit!B:B,A241+8)=\"\",\"\",\"Instrukce: \"&INDEX(Vložit!B:B,A241+8)))","v":""},{"$f":"IF(A241=\"\",\"\",IF(INDEX(Vložit!B:B,A241+1)=\"\",\"\",INDEX(Vložit!B:B,A241+1)))","v":""},{"$f":"IF(A241=\"\",\"\",MID(INDEX(Vložit!A:A,A241),19,10))","v":""},{"$f":"IF(A241=\"\",\"\",IF(INDEX(Vložit!B:B,A241+5)=\"\",\"\",VLOOKUP(INDEX(Vložit!B:B,A241+5),Pomocná!B240:C10239,2,FALSE)))","v":""},{"$f":"IF(A241=\"\",\"\",INDEX(Vložit!B:B,A241+2))","v":""},{"$f":"IF(A241=\"\",\"\",IF(INDEX(Vložit!B:B,A241+3)=\"\",\"\",INDEX(Vložit!B:B,A241+3)))","v":""},{"$f":"IF(A241=\"\",\"\",INDEX(Vložit!B:B,A241+4))","v":""}]
[{"$f":"IF(A241=\"\",\"\",IF(INDEX(Vložit!A:A,(ROW(A241)-1)*17+2)<>\"\",(ROW(A241)-1)*17+2,\"\"))","v":""},{"$f":"IF(A242=\"\",\"\",\"Číslo smlouvy:  \"&INDEX(Vložit!B:B,A242+1)&CHAR(10)&\"Jméno a příjmení:  \"&INDEX(Vložit!B:B,A242+2)&CHAR(10)&\"Ulice:  \"&INDEX(Vložit!B:B,A242+3)&CHAR(10)&\"Č. pop. / č. orient.:  \"&INDEX(Vložit!B:B,A242+4)&CHAR(10)&\"Obec:  \"&INDEX(Vložit!B:B,A242+5))","v":""},{"$f":"IF(A242=\"\",\"\",INDEX(Vložit!A:A,A242)&CHAR(10)&\"Telefon: \"&INDEX(Vložit!B:B,A242+6)&\" / \"&INDEX(Vložit!B:B,A242+7)&CHAR(10)&\"Typ objednávky: \"&INDEX(Vložit!D:D,A242+1)&CHAR(10)&INDEX(Vložit!C:C,A242)&CHAR(10)&INDEX(Vložit!D:D,A242))","v":""},{"$f":"IF(A242=\"\",\"\",IF(INDEX(Vložit!B:B,A242+8)=\"\",\"\",\"Instrukce: \"&INDEX(Vložit!B:B,A242+8)))","v":""},{"$f":"IF(A242=\"\",\"\",IF(INDEX(Vložit!B:B,A242+1)=\"\",\"\",INDEX(Vložit!B:B,A242+1)))","v":""},{"$f":"IF(A242=\"\",\"\",MID(INDEX(Vložit!A:A,A242),19,10))","v":""},{"$f":"IF(A242=\"\",\"\",IF(INDEX(Vložit!B:B,A242+5)=\"\",\"\",VLOOKUP(INDEX(Vložit!B:B,A242+5),Pomocná!B241:C10240,2,FALSE)))","v":""},{"$f":"IF(A242=\"\",\"\",INDEX(Vložit!B:B,A242+2))","v":""},{"$f":"IF(A242=\"\",\"\",IF(INDEX(Vložit!B:B,A242+3)=\"\",\"\",INDEX(Vložit!B:B,A242+3)))","v":""},{"$f":"IF(A242=\"\",\"\",INDEX(Vložit!B:B,A242+4))","v":""}]
[{"$f":"IF(A242=\"\",\"\",IF(INDEX(Vložit!A:A,(ROW(A242)-1)*17+2)<>\"\",(ROW(A242)-1)*17+2,\"\"))","v":""},{"$f":"IF(A243=\"\",\"\",\"Číslo smlouvy:  \"&INDEX(Vložit!B:B,A243+1)&CHAR(10)&\"Jméno a příjmení:  \"&INDEX(Vložit!B:B,A243+2)&CHAR(10)&\"Ulice:  \"&INDEX(Vložit!B:B,A243+3)&CHAR(10)&\"Č. pop. / č. orient.:  \"&INDEX(Vložit!B:B,A243+4)&CHAR(10)&\"Obec:  \"&INDEX(Vložit!B:B,A243+5))","v":""},{"$f":"IF(A243=\"\",\"\",INDEX(Vložit!A:A,A243)&CHAR(10)&\"Telefon: \"&INDEX(Vložit!B:B,A243+6)&\" / \"&INDEX(Vložit!B:B,A243+7)&CHAR(10)&\"Typ objednávky: \"&INDEX(Vložit!D:D,A243+1)&CHAR(10)&INDEX(Vložit!C:C,A243)&CHAR(10)&INDEX(Vložit!D:D,A243))","v":""},{"$f":"IF(A243=\"\",\"\",IF(INDEX(Vložit!B:B,A243+8)=\"\",\"\",\"Instrukce: \"&INDEX(Vložit!B:B,A243+8)))","v":""},{"$f":"IF(A243=\"\",\"\",IF(INDEX(Vložit!B:B,A243+1)=\"\",\"\",INDEX(Vložit!B:B,A243+1)))","v":""},{"$f":"IF(A243=\"\",\"\",MID(INDEX(Vložit!A:A,A243),19,10))","v":""},{"$f":"IF(A243=\"\",\"\",IF(INDEX(Vložit!B:B,A243+5)=\"\",\"\",VLOOKUP(INDEX(Vložit!B:B,A243+5),Pomocná!B242:C10241,2,FALSE)))","v":""},{"$f":"IF(A243=\"\",\"\",INDEX(Vložit!B:B,A243+2))","v":""},{"$f":"IF(A243=\"\",\"\",IF(INDEX(Vložit!B:B,A243+3)=\"\",\"\",INDEX(Vložit!B:B,A243+3)))","v":""},{"$f":"IF(A243=\"\",\"\",INDEX(Vložit!B:B,A243+4))","v":""}]
[{"$f":"IF(A243=\"\",\"\",IF(INDEX(Vložit!A:A,(ROW(A243)-1)*17+2)<>\"\",(ROW(A243)-1)*17+2,\"\"))","v":""},{"$f":"IF(A244=\"\",\"\",\"Číslo smlouvy:  \"&INDEX(Vložit!B:B,A244+1)&CHAR(10)&\"Jméno a příjmení:  \"&INDEX(Vložit!B:B,A244+2)&CHAR(10)&\"Ulice:  \"&INDEX(Vložit!B:B,A244+3)&CHAR(10)&\"Č. pop. / č. orient.:  \"&INDEX(Vložit!B:B,A244+4)&CHAR(10)&\"Obec:  \"&INDEX(Vložit!B:B,A244+5))","v":""},{"$f":"IF(A244=\"\",\"\",INDEX(Vložit!A:A,A244)&CHAR(10)&\"Telefon: \"&INDEX(Vložit!B:B,A244+6)&\" / \"&INDEX(Vložit!B:B,A244+7)&CHAR(10)&\"Typ objednávky: \"&INDEX(Vložit!D:D,A244+1)&CHAR(10)&INDEX(Vložit!C:C,A244)&CHAR(10)&INDEX(Vložit!D:D,A244))","v":""},{"$f":"IF(A244=\"\",\"\",IF(INDEX(Vložit!B:B,A244+8)=\"\",\"\",\"Instrukce: \"&INDEX(Vložit!B:B,A244+8)))","v":""},{"$f":"IF(A244=\"\",\"\",IF(INDEX(Vložit!B:B,A244+1)=\"\",\"\",INDEX(Vložit!B:B,A244+1)))","v":""},{"$f":"IF(A244=\"\",\"\",MID(INDEX(Vložit!A:A,A244),19,10))","v":""},{"$f":"IF(A244=\"\",\"\",IF(INDEX(Vložit!B:B,A244+5)=\"\",\"\",VLOOKUP(INDEX(Vložit!B:B,A244+5),Pomocná!B243:C10242,2,FALSE)))","v":""},{"$f":"IF(A244=\"\",\"\",INDEX(Vložit!B:B,A244+2))","v":""},{"$f":"IF(A244=\"\",\"\",IF(INDEX(Vložit!B:B,A244+3)=\"\",\"\",INDEX(Vložit!B:B,A244+3)))","v":""},{"$f":"IF(A244=\"\",\"\",INDEX(Vložit!B:B,A244+4))","v":""}]
[{"$f":"IF(A244=\"\",\"\",IF(INDEX(Vložit!A:A,(ROW(A244)-1)*17+2)<>\"\",(ROW(A244)-1)*17+2,\"\"))","v":""},{"$f":"IF(A245=\"\",\"\",\"Číslo smlouvy:  \"&INDEX(Vložit!B:B,A245+1)&CHAR(10)&\"Jméno a příjmení:  \"&INDEX(Vložit!B:B,A245+2)&CHAR(10)&\"Ulice:  \"&INDEX(Vložit!B:B,A245+3)&CHAR(10)&\"Č. pop. / č. orient.:  \"&INDEX(Vložit!B:B,A245+4)&CHAR(10)&\"Obec:  \"&INDEX(Vložit!B:B,A245+5))","v":""},{"$f":"IF(A245=\"\",\"\",INDEX(Vložit!A:A,A245)&CHAR(10)&\"Telefon: \"&INDEX(Vložit!B:B,A245+6)&\" / \"&INDEX(Vložit!B:B,A245+7)&CHAR(10)&\"Typ objednávky: \"&INDEX(Vložit!D:D,A245+1)&CHAR(10)&INDEX(Vložit!C:C,A245)&CHAR(10)&INDEX(Vložit!D:D,A245))","v":""},{"$f":"IF(A245=\"\",\"\",IF(INDEX(Vložit!B:B,A245+8)=\"\",\"\",\"Instrukce: \"&INDEX(Vložit!B:B,A245+8)))","v":""},{"$f":"IF(A245=\"\",\"\",IF(INDEX(Vložit!B:B,A245+1)=\"\",\"\",INDEX(Vložit!B:B,A245+1)))","v":""},{"$f":"IF(A245=\"\",\"\",MID(INDEX(Vložit!A:A,A245),19,10))","v":""},{"$f":"IF(A245=\"\",\"\",IF(INDEX(Vložit!B:B,A245+5)=\"\",\"\",VLOOKUP(INDEX(Vložit!B:B,A245+5),Pomocná!B244:C10243,2,FALSE)))","v":""},{"$f":"IF(A245=\"\",\"\",INDEX(Vložit!B:B,A245+2))","v":""},{"$f":"IF(A245=\"\",\"\",IF(INDEX(Vložit!B:B,A245+3)=\"\",\"\",INDEX(Vložit!B:B,A245+3)))","v":""},{"$f":"IF(A245=\"\",\"\",INDEX(Vložit!B:B,A245+4))","v":""}]
[{"$f":"IF(A245=\"\",\"\",IF(INDEX(Vložit!A:A,(ROW(A245)-1)*17+2)<>\"\",(ROW(A245)-1)*17+2,\"\"))","v":""},{"$f":"IF(A246=\"\",\"\",\"Číslo smlouvy:  \"&INDEX(Vložit!B:B,A246+1)&CHAR(10)&\"Jméno a příjmení:  \"&INDEX(Vložit!B:B,A246+2)&CHAR(10)&\"Ulice:  \"&INDEX(Vložit!B:B,A246+3)&CHAR(10)&\"Č. pop. / č. orient.:  \"&INDEX(Vložit!B:B,A246+4)&CHAR(10)&\"Obec:  \"&INDEX(Vložit!B:B,A246+5))","v":""},{"$f":"IF(A246=\"\",\"\",INDEX(Vložit!A:A,A246)&CHAR(10)&\"Telefon: \"&INDEX(Vložit!B:B,A246+6)&\" / \"&INDEX(Vložit!B:B,A246+7)&CHAR(10)&\"Typ objednávky: \"&INDEX(Vložit!D:D,A246+1)&CHAR(10)&INDEX(Vložit!C:C,A246)&CHAR(10)&INDEX(Vložit!D:D,A246))","v":""},{"$f":"IF(A246=\"\",\"\",IF(INDEX(Vložit!B:B,A246+8)=\"\",\"\",\"Instrukce: \"&INDEX(Vložit!B:B,A246+8)))","v":""},{"$f":"IF(A246=\"\",\"\",IF(INDEX(Vložit!B:B,A246+1)=\"\",\"\",INDEX(Vložit!B:B,A246+1)))","v":""},{"$f":"IF(A246=\"\",\"\",MID(INDEX(Vložit!A:A,A246),19,10))","v":""},{"$f":"IF(A246=\"\",\"\",IF(INDEX(Vložit!B:B,A246+5)=\"\",\"\",VLOOKUP(INDEX(Vložit!B:B,A246+5),Pomocná!B245:C10244,2,FALSE)))","v":""},{"$f":"IF(A246=\"\",\"\",INDEX(Vložit!B:B,A246+2))","v":""},{"$f":"IF(A246=\"\",\"\",IF(INDEX(Vložit!B:B,A246+3)=\"\",\"\",INDEX(Vložit!B:B,A246+3)))","v":""},{"$f":"IF(A246=\"\",\"\",INDEX(Vložit!B:B,A246+4))","v":""}]
[{"$f":"IF(A246=\"\",\"\",IF(INDEX(Vložit!A:A,(ROW(A246)-1)*17+2)<>\"\",(ROW(A246)-1)*17+2,\"\"))","v":""},{"$f":"IF(A247=\"\",\"\",\"Číslo smlouvy:  \"&INDEX(Vložit!B:B,A247+1)&CHAR(10)&\"Jméno a příjmení:  \"&INDEX(Vložit!B:B,A247+2)&CHAR(10)&\"Ulice:  \"&INDEX(Vložit!B:B,A247+3)&CHAR(10)&\"Č. pop. / č. orient.:  \"&INDEX(Vložit!B:B,A247+4)&CHAR(10)&\"Obec:  \"&INDEX(Vložit!B:B,A247+5))","v":""},{"$f":"IF(A247=\"\",\"\",INDEX(Vložit!A:A,A247)&CHAR(10)&\"Telefon: \"&INDEX(Vložit!B:B,A247+6)&\" / \"&INDEX(Vložit!B:B,A247+7)&CHAR(10)&\"Typ objednávky: \"&INDEX(Vložit!D:D,A247+1)&CHAR(10)&INDEX(Vložit!C:C,A247)&CHAR(10)&INDEX(Vložit!D:D,A247))","v":""},{"$f":"IF(A247=\"\",\"\",IF(INDEX(Vložit!B:B,A247+8)=\"\",\"\",\"Instrukce: \"&INDEX(Vložit!B:B,A247+8)))","v":""},{"$f":"IF(A247=\"\",\"\",IF(INDEX(Vložit!B:B,A247+1)=\"\",\"\",INDEX(Vložit!B:B,A247+1)))","v":""},{"$f":"IF(A247=\"\",\"\",MID(INDEX(Vložit!A:A,A247),19,10))","v":""},{"$f":"IF(A247=\"\",\"\",IF(INDEX(Vložit!B:B,A247+5)=\"\",\"\",VLOOKUP(INDEX(Vložit!B:B,A247+5),Pomocná!B246:C10245,2,FALSE)))","v":""},{"$f":"IF(A247=\"\",\"\",INDEX(Vložit!B:B,A247+2))","v":""},{"$f":"IF(A247=\"\",\"\",IF(INDEX(Vložit!B:B,A247+3)=\"\",\"\",INDEX(Vložit!B:B,A247+3)))","v":""},{"$f":"IF(A247=\"\",\"\",INDEX(Vložit!B:B,A247+4))","v":""}]
[{"$f":"IF(A247=\"\",\"\",IF(INDEX(Vložit!A:A,(ROW(A247)-1)*17+2)<>\"\",(ROW(A247)-1)*17+2,\"\"))","v":""},{"$f":"IF(A248=\"\",\"\",\"Číslo smlouvy:  \"&INDEX(Vložit!B:B,A248+1)&CHAR(10)&\"Jméno a příjmení:  \"&INDEX(Vložit!B:B,A248+2)&CHAR(10)&\"Ulice:  \"&INDEX(Vložit!B:B,A248+3)&CHAR(10)&\"Č. pop. / č. orient.:  \"&INDEX(Vložit!B:B,A248+4)&CHAR(10)&\"Obec:  \"&INDEX(Vložit!B:B,A248+5))","v":""},{"$f":"IF(A248=\"\",\"\",INDEX(Vložit!A:A,A248)&CHAR(10)&\"Telefon: \"&INDEX(Vložit!B:B,A248+6)&\" / \"&INDEX(Vložit!B:B,A248+7)&CHAR(10)&\"Typ objednávky: \"&INDEX(Vložit!D:D,A248+1)&CHAR(10)&INDEX(Vložit!C:C,A248)&CHAR(10)&INDEX(Vložit!D:D,A248))","v":""},{"$f":"IF(A248=\"\",\"\",IF(INDEX(Vložit!B:B,A248+8)=\"\",\"\",\"Instrukce: \"&INDEX(Vložit!B:B,A248+8)))","v":""},{"$f":"IF(A248=\"\",\"\",IF(INDEX(Vložit!B:B,A248+1)=\"\",\"\",INDEX(Vložit!B:B,A248+1)))","v":""},{"$f":"IF(A248=\"\",\"\",MID(INDEX(Vložit!A:A,A248),19,10))","v":""},{"$f":"IF(A248=\"\",\"\",IF(INDEX(Vložit!B:B,A248+5)=\"\",\"\",VLOOKUP(INDEX(Vložit!B:B,A248+5),Pomocná!B247:C10246,2,FALSE)))","v":""},{"$f":"IF(A248=\"\",\"\",INDEX(Vložit!B:B,A248+2))","v":""},{"$f":"IF(A248=\"\",\"\",IF(INDEX(Vložit!B:B,A248+3)=\"\",\"\",INDEX(Vložit!B:B,A248+3)))","v":""},{"$f":"IF(A248=\"\",\"\",INDEX(Vložit!B:B,A248+4))","v":""}]
[{"$f":"IF(A248=\"\",\"\",IF(INDEX(Vložit!A:A,(ROW(A248)-1)*17+2)<>\"\",(ROW(A248)-1)*17+2,\"\"))","v":""},{"$f":"IF(A249=\"\",\"\",\"Číslo smlouvy:  \"&INDEX(Vložit!B:B,A249+1)&CHAR(10)&\"Jméno a příjmení:  \"&INDEX(Vložit!B:B,A249+2)&CHAR(10)&\"Ulice:  \"&INDEX(Vložit!B:B,A249+3)&CHAR(10)&\"Č. pop. / č. orient.:  \"&INDEX(Vložit!B:B,A249+4)&CHAR(10)&\"Obec:  \"&INDEX(Vložit!B:B,A249+5))","v":""},{"$f":"IF(A249=\"\",\"\",INDEX(Vložit!A:A,A249)&CHAR(10)&\"Telefon: \"&INDEX(Vložit!B:B,A249+6)&\" / \"&INDEX(Vložit!B:B,A249+7)&CHAR(10)&\"Typ objednávky: \"&INDEX(Vložit!D:D,A249+1)&CHAR(10)&INDEX(Vložit!C:C,A249)&CHAR(10)&INDEX(Vložit!D:D,A249))","v":""},{"$f":"IF(A249=\"\",\"\",IF(INDEX(Vložit!B:B,A249+8)=\"\",\"\",\"Instrukce: \"&INDEX(Vložit!B:B,A249+8)))","v":""},{"$f":"IF(A249=\"\",\"\",IF(INDEX(Vložit!B:B,A249+1)=\"\",\"\",INDEX(Vložit!B:B,A249+1)))","v":""},{"$f":"IF(A249=\"\",\"\",MID(INDEX(Vložit!A:A,A249),19,10))","v":""},{"$f":"IF(A249=\"\",\"\",IF(INDEX(Vložit!B:B,A249+5)=\"\",\"\",VLOOKUP(INDEX(Vložit!B:B,A249+5),Pomocná!B248:C10247,2,FALSE)))","v":""},{"$f":"IF(A249=\"\",\"\",INDEX(Vložit!B:B,A249+2))","v":""},{"$f":"IF(A249=\"\",\"\",IF(INDEX(Vložit!B:B,A249+3)=\"\",\"\",INDEX(Vložit!B:B,A249+3)))","v":""},{"$f":"IF(A249=\"\",\"\",INDEX(Vložit!B:B,A249+4))","v":""}]
[{"$f":"IF(A249=\"\",\"\",IF(INDEX(Vložit!A:A,(ROW(A249)-1)*17+2)<>\"\",(ROW(A249)-1)*17+2,\"\"))","v":""},{"$f":"IF(A250=\"\",\"\",\"Číslo smlouvy:  \"&INDEX(Vložit!B:B,A250+1)&CHAR(10)&\"Jméno a příjmení:  \"&INDEX(Vložit!B:B,A250+2)&CHAR(10)&\"Ulice:  \"&INDEX(Vložit!B:B,A250+3)&CHAR(10)&\"Č. pop. / č. orient.:  \"&INDEX(Vložit!B:B,A250+4)&CHAR(10)&\"Obec:  \"&INDEX(Vložit!B:B,A250+5))","v":""},{"$f":"IF(A250=\"\",\"\",INDEX(Vložit!A:A,A250)&CHAR(10)&\"Telefon: \"&INDEX(Vložit!B:B,A250+6)&\" / \"&INDEX(Vložit!B:B,A250+7)&CHAR(10)&\"Typ objednávky: \"&INDEX(Vložit!D:D,A250+1)&CHAR(10)&INDEX(Vložit!C:C,A250)&CHAR(10)&INDEX(Vložit!D:D,A250))","v":""},{"$f":"IF(A250=\"\",\"\",IF(INDEX(Vložit!B:B,A250+8)=\"\",\"\",\"Instrukce: \"&INDEX(Vložit!B:B,A250+8)))","v":""},{"$f":"IF(A250=\"\",\"\",IF(INDEX(Vložit!B:B,A250+1)=\"\",\"\",INDEX(Vložit!B:B,A250+1)))","v":""},{"$f":"IF(A250=\"\",\"\",MID(INDEX(Vložit!A:A,A250),19,10))","v":""},{"$f":"IF(A250=\"\",\"\",IF(INDEX(Vložit!B:B,A250+5)=\"\",\"\",VLOOKUP(INDEX(Vložit!B:B,A250+5),Pomocná!B249:C10248,2,FALSE)))","v":""},{"$f":"IF(A250=\"\",\"\",INDEX(Vložit!B:B,A250+2))","v":""},{"$f":"IF(A250=\"\",\"\",IF(INDEX(Vložit!B:B,A250+3)=\"\",\"\",INDEX(Vložit!B:B,A250+3)))","v":""},{"$f":"IF(A250=\"\",\"\",INDEX(Vložit!B:B,A250+4))","v":""}]
[{"$f":"IF(A250=\"\",\"\",IF(INDEX(Vložit!A:A,(ROW(A250)-1)*17+2)<>\"\",(ROW(A250)-1)*17+2,\"\"))","v":""},{"$f":"IF(A251=\"\",\"\",\"Číslo smlouvy:  \"&INDEX(Vložit!B:B,A251+1)&CHAR(10)&\"Jméno a příjmení:  \"&INDEX(Vložit!B:B,A251+2)&CHAR(10)&\"Ulice:  \"&INDEX(Vložit!B:B,A251+3)&CHAR(10)&\"Č. pop. / č. orient.:  \"&INDEX(Vložit!B:B,A251+4)&CHAR(10)&\"Obec:  \"&INDEX(Vložit!B:B,A251+5))","v":""},{"$f":"IF(A251=\"\",\"\",INDEX(Vložit!A:A,A251)&CHAR(10)&\"Telefon: \"&INDEX(Vložit!B:B,A251+6)&\" / \"&INDEX(Vložit!B:B,A251+7)&CHAR(10)&\"Typ objednávky: \"&INDEX(Vložit!D:D,A251+1)&CHAR(10)&INDEX(Vložit!C:C,A251)&CHAR(10)&INDEX(Vložit!D:D,A251))","v":""},{"$f":"IF(A251=\"\",\"\",IF(INDEX(Vložit!B:B,A251+8)=\"\",\"\",\"Instrukce: \"&INDEX(Vložit!B:B,A251+8)))","v":""},{"$f":"IF(A251=\"\",\"\",IF(INDEX(Vložit!B:B,A251+1)=\"\",\"\",INDEX(Vložit!B:B,A251+1)))","v":""},{"$f":"IF(A251=\"\",\"\",MID(INDEX(Vložit!A:A,A251),19,10))","v":""},{"$f":"IF(A251=\"\",\"\",IF(INDEX(Vložit!B:B,A251+5)=\"\",\"\",VLOOKUP(INDEX(Vložit!B:B,A251+5),Pomocná!B250:C10249,2,FALSE)))","v":""},{"$f":"IF(A251=\"\",\"\",INDEX(Vložit!B:B,A251+2))","v":""},{"$f":"IF(A251=\"\",\"\",IF(INDEX(Vložit!B:B,A251+3)=\"\",\"\",INDEX(Vložit!B:B,A251+3)))","v":""},{"$f":"IF(A251=\"\",\"\",INDEX(Vložit!B:B,A251+4))","v":""}]
[{"$f":"IF(A251=\"\",\"\",IF(INDEX(Vložit!A:A,(ROW(A251)-1)*17+2)<>\"\",(ROW(A251)-1)*17+2,\"\"))","v":""},{"$f":"IF(A252=\"\",\"\",\"Číslo smlouvy:  \"&INDEX(Vložit!B:B,A252+1)&CHAR(10)&\"Jméno a příjmení:  \"&INDEX(Vložit!B:B,A252+2)&CHAR(10)&\"Ulice:  \"&INDEX(Vložit!B:B,A252+3)&CHAR(10)&\"Č. pop. / č. orient.:  \"&INDEX(Vložit!B:B,A252+4)&CHAR(10)&\"Obec:  \"&INDEX(Vložit!B:B,A252+5))","v":""},{"$f":"IF(A252=\"\",\"\",INDEX(Vložit!A:A,A252)&CHAR(10)&\"Telefon: \"&INDEX(Vložit!B:B,A252+6)&\" / \"&INDEX(Vložit!B:B,A252+7)&CHAR(10)&\"Typ objednávky: \"&INDEX(Vložit!D:D,A252+1)&CHAR(10)&INDEX(Vložit!C:C,A252)&CHAR(10)&INDEX(Vložit!D:D,A252))","v":""},{"$f":"IF(A252=\"\",\"\",IF(INDEX(Vložit!B:B,A252+8)=\"\",\"\",\"Instrukce: \"&INDEX(Vložit!B:B,A252+8)))","v":""},{"$f":"IF(A252=\"\",\"\",IF(INDEX(Vložit!B:B,A252+1)=\"\",\"\",INDEX(Vložit!B:B,A252+1)))","v":""},{"$f":"IF(A252=\"\",\"\",MID(INDEX(Vložit!A:A,A252),19,10))","v":""},{"$f":"IF(A252=\"\",\"\",IF(INDEX(Vložit!B:B,A252+5)=\"\",\"\",VLOOKUP(INDEX(Vložit!B:B,A252+5),Pomocná!B251:C10250,2,FALSE)))","v":""},{"$f":"IF(A252=\"\",\"\",INDEX(Vložit!B:B,A252+2))","v":""},{"$f":"IF(A252=\"\",\"\",IF(INDEX(Vložit!B:B,A252+3)=\"\",\"\",INDEX(Vložit!B:B,A252+3)))","v":""},{"$f":"IF(A252=\"\",\"\",INDEX(Vložit!B:B,A252+4))","v":""}]
[{"$f":"IF(A252=\"\",\"\",IF(INDEX(Vložit!A:A,(ROW(A252)-1)*17+2)<>\"\",(ROW(A252)-1)*17+2,\"\"))","v":""},{"$f":"IF(A253=\"\",\"\",\"Číslo smlouvy:  \"&INDEX(Vložit!B:B,A253+1)&CHAR(10)&\"Jméno a příjmení:  \"&INDEX(Vložit!B:B,A253+2)&CHAR(10)&\"Ulice:  \"&INDEX(Vložit!B:B,A253+3)&CHAR(10)&\"Č. pop. / č. orient.:  \"&INDEX(Vložit!B:B,A253+4)&CHAR(10)&\"Obec:  \"&INDEX(Vložit!B:B,A253+5))","v":""},{"$f":"IF(A253=\"\",\"\",INDEX(Vložit!A:A,A253)&CHAR(10)&\"Telefon: \"&INDEX(Vložit!B:B,A253+6)&\" / \"&INDEX(Vložit!B:B,A253+7)&CHAR(10)&\"Typ objednávky: \"&INDEX(Vložit!D:D,A253+1)&CHAR(10)&INDEX(Vložit!C:C,A253)&CHAR(10)&INDEX(Vložit!D:D,A253))","v":""},{"$f":"IF(A253=\"\",\"\",IF(INDEX(Vložit!B:B,A253+8)=\"\",\"\",\"Instrukce: \"&INDEX(Vložit!B:B,A253+8)))","v":""},{"$f":"IF(A253=\"\",\"\",IF(INDEX(Vložit!B:B,A253+1)=\"\",\"\",INDEX(Vložit!B:B,A253+1)))","v":""},{"$f":"IF(A253=\"\",\"\",MID(INDEX(Vložit!A:A,A253),19,10))","v":""},{"$f":"IF(A253=\"\",\"\",IF(INDEX(Vložit!B:B,A253+5)=\"\",\"\",VLOOKUP(INDEX(Vložit!B:B,A253+5),Pomocná!B252:C10251,2,FALSE)))","v":""},{"$f":"IF(A253=\"\",\"\",INDEX(Vložit!B:B,A253+2))","v":""},{"$f":"IF(A253=\"\",\"\",IF(INDEX(Vložit!B:B,A253+3)=\"\",\"\",INDEX(Vložit!B:B,A253+3)))","v":""},{"$f":"IF(A253=\"\",\"\",INDEX(Vložit!B:B,A253+4))","v":""}]
[{"$f":"IF(A253=\"\",\"\",IF(INDEX(Vložit!A:A,(ROW(A253)-1)*17+2)<>\"\",(ROW(A253)-1)*17+2,\"\"))","v":""},{"$f":"IF(A254=\"\",\"\",\"Číslo smlouvy:  \"&INDEX(Vložit!B:B,A254+1)&CHAR(10)&\"Jméno a příjmení:  \"&INDEX(Vložit!B:B,A254+2)&CHAR(10)&\"Ulice:  \"&INDEX(Vložit!B:B,A254+3)&CHAR(10)&\"Č. pop. / č. orient.:  \"&INDEX(Vložit!B:B,A254+4)&CHAR(10)&\"Obec:  \"&INDEX(Vložit!B:B,A254+5))","v":""},{"$f":"IF(A254=\"\",\"\",INDEX(Vložit!A:A,A254)&CHAR(10)&\"Telefon: \"&INDEX(Vložit!B:B,A254+6)&\" / \"&INDEX(Vložit!B:B,A254+7)&CHAR(10)&\"Typ objednávky: \"&INDEX(Vložit!D:D,A254+1)&CHAR(10)&INDEX(Vložit!C:C,A254)&CHAR(10)&INDEX(Vložit!D:D,A254))","v":""},{"$f":"IF(A254=\"\",\"\",IF(INDEX(Vložit!B:B,A254+8)=\"\",\"\",\"Instrukce: \"&INDEX(Vložit!B:B,A254+8)))","v":""},{"$f":"IF(A254=\"\",\"\",IF(INDEX(Vložit!B:B,A254+1)=\"\",\"\",INDEX(Vložit!B:B,A254+1)))","v":""},{"$f":"IF(A254=\"\",\"\",MID(INDEX(Vložit!A:A,A254),19,10))","v":""},{"$f":"IF(A254=\"\",\"\",IF(INDEX(Vložit!B:B,A254+5)=\"\",\"\",VLOOKUP(INDEX(Vložit!B:B,A254+5),Pomocná!B253:C10252,2,FALSE)))","v":""},{"$f":"IF(A254=\"\",\"\",INDEX(Vložit!B:B,A254+2))","v":""},{"$f":"IF(A254=\"\",\"\",IF(INDEX(Vložit!B:B,A254+3)=\"\",\"\",INDEX(Vložit!B:B,A254+3)))","v":""},{"$f":"IF(A254=\"\",\"\",INDEX(Vložit!B:B,A254+4))","v":""}]
[{"$f":"IF(A254=\"\",\"\",IF(INDEX(Vložit!A:A,(ROW(A254)-1)*17+2)<>\"\",(ROW(A254)-1)*17+2,\"\"))","v":""},{"$f":"IF(A255=\"\",\"\",\"Číslo smlouvy:  \"&INDEX(Vložit!B:B,A255+1)&CHAR(10)&\"Jméno a příjmení:  \"&INDEX(Vložit!B:B,A255+2)&CHAR(10)&\"Ulice:  \"&INDEX(Vložit!B:B,A255+3)&CHAR(10)&\"Č. pop. / č. orient.:  \"&INDEX(Vložit!B:B,A255+4)&CHAR(10)&\"Obec:  \"&INDEX(Vložit!B:B,A255+5))","v":""},{"$f":"IF(A255=\"\",\"\",INDEX(Vložit!A:A,A255)&CHAR(10)&\"Telefon: \"&INDEX(Vložit!B:B,A255+6)&\" / \"&INDEX(Vložit!B:B,A255+7)&CHAR(10)&\"Typ objednávky: \"&INDEX(Vložit!D:D,A255+1)&CHAR(10)&INDEX(Vložit!C:C,A255)&CHAR(10)&INDEX(Vložit!D:D,A255))","v":""},{"$f":"IF(A255=\"\",\"\",IF(INDEX(Vložit!B:B,A255+8)=\"\",\"\",\"Instrukce: \"&INDEX(Vložit!B:B,A255+8)))","v":""},{"$f":"IF(A255=\"\",\"\",IF(INDEX(Vložit!B:B,A255+1)=\"\",\"\",INDEX(Vložit!B:B,A255+1)))","v":""},{"$f":"IF(A255=\"\",\"\",MID(INDEX(Vložit!A:A,A255),19,10))","v":""},{"$f":"IF(A255=\"\",\"\",IF(INDEX(Vložit!B:B,A255+5)=\"\",\"\",VLOOKUP(INDEX(Vložit!B:B,A255+5),Pomocná!B254:C10253,2,FALSE)))","v":""},{"$f":"IF(A255=\"\",\"\",INDEX(Vložit!B:B,A255+2))","v":""},{"$f":"IF(A255=\"\",\"\",IF(INDEX(Vložit!B:B,A255+3)=\"\",\"\",INDEX(Vložit!B:B,A255+3)))","v":""},{"$f":"IF(A255=\"\",\"\",INDEX(Vložit!B:B,A255+4))","v":""}]
[{"$f":"IF(A255=\"\",\"\",IF(INDEX(Vložit!A:A,(ROW(A255)-1)*17+2)<>\"\",(ROW(A255)-1)*17+2,\"\"))","v":""},{"$f":"IF(A256=\"\",\"\",\"Číslo smlouvy:  \"&INDEX(Vložit!B:B,A256+1)&CHAR(10)&\"Jméno a příjmení:  \"&INDEX(Vložit!B:B,A256+2)&CHAR(10)&\"Ulice:  \"&INDEX(Vložit!B:B,A256+3)&CHAR(10)&\"Č. pop. / č. orient.:  \"&INDEX(Vložit!B:B,A256+4)&CHAR(10)&\"Obec:  \"&INDEX(Vložit!B:B,A256+5))","v":""},{"$f":"IF(A256=\"\",\"\",INDEX(Vložit!A:A,A256)&CHAR(10)&\"Telefon: \"&INDEX(Vložit!B:B,A256+6)&\" / \"&INDEX(Vložit!B:B,A256+7)&CHAR(10)&\"Typ objednávky: \"&INDEX(Vložit!D:D,A256+1)&CHAR(10)&INDEX(Vložit!C:C,A256)&CHAR(10)&INDEX(Vložit!D:D,A256))","v":""},{"$f":"IF(A256=\"\",\"\",IF(INDEX(Vložit!B:B,A256+8)=\"\",\"\",\"Instrukce: \"&INDEX(Vložit!B:B,A256+8)))","v":""},{"$f":"IF(A256=\"\",\"\",IF(INDEX(Vložit!B:B,A256+1)=\"\",\"\",INDEX(Vložit!B:B,A256+1)))","v":""},{"$f":"IF(A256=\"\",\"\",MID(INDEX(Vložit!A:A,A256),19,10))","v":""},{"$f":"IF(A256=\"\",\"\",IF(INDEX(Vložit!B:B,A256+5)=\"\",\"\",VLOOKUP(INDEX(Vložit!B:B,A256+5),Pomocná!B255:C10254,2,FALSE)))","v":""},{"$f":"IF(A256=\"\",\"\",INDEX(Vložit!B:B,A256+2))","v":""},{"$f":"IF(A256=\"\",\"\",IF(INDEX(Vložit!B:B,A256+3)=\"\",\"\",INDEX(Vložit!B:B,A256+3)))","v":""},{"$f":"IF(A256=\"\",\"\",INDEX(Vložit!B:B,A256+4))","v":""}]
[{"$f":"IF(A256=\"\",\"\",IF(INDEX(Vložit!A:A,(ROW(A256)-1)*17+2)<>\"\",(ROW(A256)-1)*17+2,\"\"))","v":""},{"$f":"IF(A257=\"\",\"\",\"Číslo smlouvy:  \"&INDEX(Vložit!B:B,A257+1)&CHAR(10)&\"Jméno a příjmení:  \"&INDEX(Vložit!B:B,A257+2)&CHAR(10)&\"Ulice:  \"&INDEX(Vložit!B:B,A257+3)&CHAR(10)&\"Č. pop. / č. orient.:  \"&INDEX(Vložit!B:B,A257+4)&CHAR(10)&\"Obec:  \"&INDEX(Vložit!B:B,A257+5))","v":""},{"$f":"IF(A257=\"\",\"\",INDEX(Vložit!A:A,A257)&CHAR(10)&\"Telefon: \"&INDEX(Vložit!B:B,A257+6)&\" / \"&INDEX(Vložit!B:B,A257+7)&CHAR(10)&\"Typ objednávky: \"&INDEX(Vložit!D:D,A257+1)&CHAR(10)&INDEX(Vložit!C:C,A257)&CHAR(10)&INDEX(Vložit!D:D,A257))","v":""},{"$f":"IF(A257=\"\",\"\",IF(INDEX(Vložit!B:B,A257+8)=\"\",\"\",\"Instrukce: \"&INDEX(Vložit!B:B,A257+8)))","v":""},{"$f":"IF(A257=\"\",\"\",IF(INDEX(Vložit!B:B,A257+1)=\"\",\"\",INDEX(Vložit!B:B,A257+1)))","v":""},{"$f":"IF(A257=\"\",\"\",MID(INDEX(Vložit!A:A,A257),19,10))","v":""},{"$f":"IF(A257=\"\",\"\",IF(INDEX(Vložit!B:B,A257+5)=\"\",\"\",VLOOKUP(INDEX(Vložit!B:B,A257+5),Pomocná!B256:C10255,2,FALSE)))","v":""},{"$f":"IF(A257=\"\",\"\",INDEX(Vložit!B:B,A257+2))","v":""},{"$f":"IF(A257=\"\",\"\",IF(INDEX(Vložit!B:B,A257+3)=\"\",\"\",INDEX(Vložit!B:B,A257+3)))","v":""},{"$f":"IF(A257=\"\",\"\",INDEX(Vložit!B:B,A257+4))","v":""}]
[{"$f":"IF(A257=\"\",\"\",IF(INDEX(Vložit!A:A,(ROW(A257)-1)*17+2)<>\"\",(ROW(A257)-1)*17+2,\"\"))","v":""},{"$f":"IF(A258=\"\",\"\",\"Číslo smlouvy:  \"&INDEX(Vložit!B:B,A258+1)&CHAR(10)&\"Jméno a příjmení:  \"&INDEX(Vložit!B:B,A258+2)&CHAR(10)&\"Ulice:  \"&INDEX(Vložit!B:B,A258+3)&CHAR(10)&\"Č. pop. / č. orient.:  \"&INDEX(Vložit!B:B,A258+4)&CHAR(10)&\"Obec:  \"&INDEX(Vložit!B:B,A258+5))","v":""},{"$f":"IF(A258=\"\",\"\",INDEX(Vložit!A:A,A258)&CHAR(10)&\"Telefon: \"&INDEX(Vložit!B:B,A258+6)&\" / \"&INDEX(Vložit!B:B,A258+7)&CHAR(10)&\"Typ objednávky: \"&INDEX(Vložit!D:D,A258+1)&CHAR(10)&INDEX(Vložit!C:C,A258)&CHAR(10)&INDEX(Vložit!D:D,A258))","v":""},{"$f":"IF(A258=\"\",\"\",IF(INDEX(Vložit!B:B,A258+8)=\"\",\"\",\"Instrukce: \"&INDEX(Vložit!B:B,A258+8)))","v":""},{"$f":"IF(A258=\"\",\"\",IF(INDEX(Vložit!B:B,A258+1)=\"\",\"\",INDEX(Vložit!B:B,A258+1)))","v":""},{"$f":"IF(A258=\"\",\"\",MID(INDEX(Vložit!A:A,A258),19,10))","v":""},{"$f":"IF(A258=\"\",\"\",IF(INDEX(Vložit!B:B,A258+5)=\"\",\"\",VLOOKUP(INDEX(Vložit!B:B,A258+5),Pomocná!B257:C10256,2,FALSE)))","v":""},{"$f":"IF(A258=\"\",\"\",INDEX(Vložit!B:B,A258+2))","v":""},{"$f":"IF(A258=\"\",\"\",IF(INDEX(Vložit!B:B,A258+3)=\"\",\"\",INDEX(Vložit!B:B,A258+3)))","v":""},{"$f":"IF(A258=\"\",\"\",INDEX(Vložit!B:B,A258+4))","v":""}]
[{"$f":"IF(A258=\"\",\"\",IF(INDEX(Vložit!A:A,(ROW(A258)-1)*17+2)<>\"\",(ROW(A258)-1)*17+2,\"\"))","v":""},{"$f":"IF(A259=\"\",\"\",\"Číslo smlouvy:  \"&INDEX(Vložit!B:B,A259+1)&CHAR(10)&\"Jméno a příjmení:  \"&INDEX(Vložit!B:B,A259+2)&CHAR(10)&\"Ulice:  \"&INDEX(Vložit!B:B,A259+3)&CHAR(10)&\"Č. pop. / č. orient.:  \"&INDEX(Vložit!B:B,A259+4)&CHAR(10)&\"Obec:  \"&INDEX(Vložit!B:B,A259+5))","v":""},{"$f":"IF(A259=\"\",\"\",INDEX(Vložit!A:A,A259)&CHAR(10)&\"Telefon: \"&INDEX(Vložit!B:B,A259+6)&\" / \"&INDEX(Vložit!B:B,A259+7)&CHAR(10)&\"Typ objednávky: \"&INDEX(Vložit!D:D,A259+1)&CHAR(10)&INDEX(Vložit!C:C,A259)&CHAR(10)&INDEX(Vložit!D:D,A259))","v":""},{"$f":"IF(A259=\"\",\"\",IF(INDEX(Vložit!B:B,A259+8)=\"\",\"\",\"Instrukce: \"&INDEX(Vložit!B:B,A259+8)))","v":""},{"$f":"IF(A259=\"\",\"\",IF(INDEX(Vložit!B:B,A259+1)=\"\",\"\",INDEX(Vložit!B:B,A259+1)))","v":""},{"$f":"IF(A259=\"\",\"\",MID(INDEX(Vložit!A:A,A259),19,10))","v":""},{"$f":"IF(A259=\"\",\"\",IF(INDEX(Vložit!B:B,A259+5)=\"\",\"\",VLOOKUP(INDEX(Vložit!B:B,A259+5),Pomocná!B258:C10257,2,FALSE)))","v":""},{"$f":"IF(A259=\"\",\"\",INDEX(Vložit!B:B,A259+2))","v":""},{"$f":"IF(A259=\"\",\"\",IF(INDEX(Vložit!B:B,A259+3)=\"\",\"\",INDEX(Vložit!B:B,A259+3)))","v":""},{"$f":"IF(A259=\"\",\"\",INDEX(Vložit!B:B,A259+4))","v":""}]
[{"$f":"IF(A259=\"\",\"\",IF(INDEX(Vložit!A:A,(ROW(A259)-1)*17+2)<>\"\",(ROW(A259)-1)*17+2,\"\"))","v":""},{"$f":"IF(A260=\"\",\"\",\"Číslo smlouvy:  \"&INDEX(Vložit!B:B,A260+1)&CHAR(10)&\"Jméno a příjmení:  \"&INDEX(Vložit!B:B,A260+2)&CHAR(10)&\"Ulice:  \"&INDEX(Vložit!B:B,A260+3)&CHAR(10)&\"Č. pop. / č. orient.:  \"&INDEX(Vložit!B:B,A260+4)&CHAR(10)&\"Obec:  \"&INDEX(Vložit!B:B,A260+5))","v":""},{"$f":"IF(A260=\"\",\"\",INDEX(Vložit!A:A,A260)&CHAR(10)&\"Telefon: \"&INDEX(Vložit!B:B,A260+6)&\" / \"&INDEX(Vložit!B:B,A260+7)&CHAR(10)&\"Typ objednávky: \"&INDEX(Vložit!D:D,A260+1)&CHAR(10)&INDEX(Vložit!C:C,A260)&CHAR(10)&INDEX(Vložit!D:D,A260))","v":""},{"$f":"IF(A260=\"\",\"\",IF(INDEX(Vložit!B:B,A260+8)=\"\",\"\",\"Instrukce: \"&INDEX(Vložit!B:B,A260+8)))","v":""},{"$f":"IF(A260=\"\",\"\",IF(INDEX(Vložit!B:B,A260+1)=\"\",\"\",INDEX(Vložit!B:B,A260+1)))","v":""},{"$f":"IF(A260=\"\",\"\",MID(INDEX(Vložit!A:A,A260),19,10))","v":""},{"$f":"IF(A260=\"\",\"\",IF(INDEX(Vložit!B:B,A260+5)=\"\",\"\",VLOOKUP(INDEX(Vložit!B:B,A260+5),Pomocná!B259:C10258,2,FALSE)))","v":""},{"$f":"IF(A260=\"\",\"\",INDEX(Vložit!B:B,A260+2))","v":""},{"$f":"IF(A260=\"\",\"\",IF(INDEX(Vložit!B:B,A260+3)=\"\",\"\",INDEX(Vložit!B:B,A260+3)))","v":""},{"$f":"IF(A260=\"\",\"\",INDEX(Vložit!B:B,A260+4))","v":""}]
[{"$f":"IF(A260=\"\",\"\",IF(INDEX(Vložit!A:A,(ROW(A260)-1)*17+2)<>\"\",(ROW(A260)-1)*17+2,\"\"))","v":""},{"$f":"IF(A261=\"\",\"\",\"Číslo smlouvy:  \"&INDEX(Vložit!B:B,A261+1)&CHAR(10)&\"Jméno a příjmení:  \"&INDEX(Vložit!B:B,A261+2)&CHAR(10)&\"Ulice:  \"&INDEX(Vložit!B:B,A261+3)&CHAR(10)&\"Č. pop. / č. orient.:  \"&INDEX(Vložit!B:B,A261+4)&CHAR(10)&\"Obec:  \"&INDEX(Vložit!B:B,A261+5))","v":""},{"$f":"IF(A261=\"\",\"\",INDEX(Vložit!A:A,A261)&CHAR(10)&\"Telefon: \"&INDEX(Vložit!B:B,A261+6)&\" / \"&INDEX(Vložit!B:B,A261+7)&CHAR(10)&\"Typ objednávky: \"&INDEX(Vložit!D:D,A261+1)&CHAR(10)&INDEX(Vložit!C:C,A261)&CHAR(10)&INDEX(Vložit!D:D,A261))","v":""},{"$f":"IF(A261=\"\",\"\",IF(INDEX(Vložit!B:B,A261+8)=\"\",\"\",\"Instrukce: \"&INDEX(Vložit!B:B,A261+8)))","v":""},{"$f":"IF(A261=\"\",\"\",IF(INDEX(Vložit!B:B,A261+1)=\"\",\"\",INDEX(Vložit!B:B,A261+1)))","v":""},{"$f":"IF(A261=\"\",\"\",MID(INDEX(Vložit!A:A,A261),19,10))","v":""},{"$f":"IF(A261=\"\",\"\",IF(INDEX(Vložit!B:B,A261+5)=\"\",\"\",VLOOKUP(INDEX(Vložit!B:B,A261+5),Pomocná!B260:C10259,2,FALSE)))","v":""},{"$f":"IF(A261=\"\",\"\",INDEX(Vložit!B:B,A261+2))","v":""},{"$f":"IF(A261=\"\",\"\",IF(INDEX(Vložit!B:B,A261+3)=\"\",\"\",INDEX(Vložit!B:B,A261+3)))","v":""},{"$f":"IF(A261=\"\",\"\",INDEX(Vložit!B:B,A261+4))","v":""}]
[{"$f":"IF(A261=\"\",\"\",IF(INDEX(Vložit!A:A,(ROW(A261)-1)*17+2)<>\"\",(ROW(A261)-1)*17+2,\"\"))","v":""},{"$f":"IF(A262=\"\",\"\",\"Číslo smlouvy:  \"&INDEX(Vložit!B:B,A262+1)&CHAR(10)&\"Jméno a příjmení:  \"&INDEX(Vložit!B:B,A262+2)&CHAR(10)&\"Ulice:  \"&INDEX(Vložit!B:B,A262+3)&CHAR(10)&\"Č. pop. / č. orient.:  \"&INDEX(Vložit!B:B,A262+4)&CHAR(10)&\"Obec:  \"&INDEX(Vložit!B:B,A262+5))","v":""},{"$f":"IF(A262=\"\",\"\",INDEX(Vložit!A:A,A262)&CHAR(10)&\"Telefon: \"&INDEX(Vložit!B:B,A262+6)&\" / \"&INDEX(Vložit!B:B,A262+7)&CHAR(10)&\"Typ objednávky: \"&INDEX(Vložit!D:D,A262+1)&CHAR(10)&INDEX(Vložit!C:C,A262)&CHAR(10)&INDEX(Vložit!D:D,A262))","v":""},{"$f":"IF(A262=\"\",\"\",IF(INDEX(Vložit!B:B,A262+8)=\"\",\"\",\"Instrukce: \"&INDEX(Vložit!B:B,A262+8)))","v":""},{"$f":"IF(A262=\"\",\"\",IF(INDEX(Vložit!B:B,A262+1)=\"\",\"\",INDEX(Vložit!B:B,A262+1)))","v":""},{"$f":"IF(A262=\"\",\"\",MID(INDEX(Vložit!A:A,A262),19,10))","v":""},{"$f":"IF(A262=\"\",\"\",IF(INDEX(Vložit!B:B,A262+5)=\"\",\"\",VLOOKUP(INDEX(Vložit!B:B,A262+5),Pomocná!B261:C10260,2,FALSE)))","v":""},{"$f":"IF(A262=\"\",\"\",INDEX(Vložit!B:B,A262+2))","v":""},{"$f":"IF(A262=\"\",\"\",IF(INDEX(Vložit!B:B,A262+3)=\"\",\"\",INDEX(Vložit!B:B,A262+3)))","v":""},{"$f":"IF(A262=\"\",\"\",INDEX(Vložit!B:B,A262+4))","v":""}]
[{"$f":"IF(A262=\"\",\"\",IF(INDEX(Vložit!A:A,(ROW(A262)-1)*17+2)<>\"\",(ROW(A262)-1)*17+2,\"\"))","v":""},{"$f":"IF(A263=\"\",\"\",\"Číslo smlouvy:  \"&INDEX(Vložit!B:B,A263+1)&CHAR(10)&\"Jméno a příjmení:  \"&INDEX(Vložit!B:B,A263+2)&CHAR(10)&\"Ulice:  \"&INDEX(Vložit!B:B,A263+3)&CHAR(10)&\"Č. pop. / č. orient.:  \"&INDEX(Vložit!B:B,A263+4)&CHAR(10)&\"Obec:  \"&INDEX(Vložit!B:B,A263+5))","v":""},{"$f":"IF(A263=\"\",\"\",INDEX(Vložit!A:A,A263)&CHAR(10)&\"Telefon: \"&INDEX(Vložit!B:B,A263+6)&\" / \"&INDEX(Vložit!B:B,A263+7)&CHAR(10)&\"Typ objednávky: \"&INDEX(Vložit!D:D,A263+1)&CHAR(10)&INDEX(Vložit!C:C,A263)&CHAR(10)&INDEX(Vložit!D:D,A263))","v":""},{"$f":"IF(A263=\"\",\"\",IF(INDEX(Vložit!B:B,A263+8)=\"\",\"\",\"Instrukce: \"&INDEX(Vložit!B:B,A263+8)))","v":""},{"$f":"IF(A263=\"\",\"\",IF(INDEX(Vložit!B:B,A263+1)=\"\",\"\",INDEX(Vložit!B:B,A263+1)))","v":""},{"$f":"IF(A263=\"\",\"\",MID(INDEX(Vložit!A:A,A263),19,10))","v":""},{"$f":"IF(A263=\"\",\"\",IF(INDEX(Vložit!B:B,A263+5)=\"\",\"\",VLOOKUP(INDEX(Vložit!B:B,A263+5),Pomocná!B262:C10261,2,FALSE)))","v":""},{"$f":"IF(A263=\"\",\"\",INDEX(Vložit!B:B,A263+2))","v":""},{"$f":"IF(A263=\"\",\"\",IF(INDEX(Vložit!B:B,A263+3)=\"\",\"\",INDEX(Vložit!B:B,A263+3)))","v":""},{"$f":"IF(A263=\"\",\"\",INDEX(Vložit!B:B,A263+4))","v":""}]
[{"$f":"IF(A263=\"\",\"\",IF(INDEX(Vložit!A:A,(ROW(A263)-1)*17+2)<>\"\",(ROW(A263)-1)*17+2,\"\"))","v":""},{"$f":"IF(A264=\"\",\"\",\"Číslo smlouvy:  \"&INDEX(Vložit!B:B,A264+1)&CHAR(10)&\"Jméno a příjmení:  \"&INDEX(Vložit!B:B,A264+2)&CHAR(10)&\"Ulice:  \"&INDEX(Vložit!B:B,A264+3)&CHAR(10)&\"Č. pop. / č. orient.:  \"&INDEX(Vložit!B:B,A264+4)&CHAR(10)&\"Obec:  \"&INDEX(Vložit!B:B,A264+5))","v":""},{"$f":"IF(A264=\"\",\"\",INDEX(Vložit!A:A,A264)&CHAR(10)&\"Telefon: \"&INDEX(Vložit!B:B,A264+6)&\" / \"&INDEX(Vložit!B:B,A264+7)&CHAR(10)&\"Typ objednávky: \"&INDEX(Vložit!D:D,A264+1)&CHAR(10)&INDEX(Vložit!C:C,A264)&CHAR(10)&INDEX(Vložit!D:D,A264))","v":""},{"$f":"IF(A264=\"\",\"\",IF(INDEX(Vložit!B:B,A264+8)=\"\",\"\",\"Instrukce: \"&INDEX(Vložit!B:B,A264+8)))","v":""},{"$f":"IF(A264=\"\",\"\",IF(INDEX(Vložit!B:B,A264+1)=\"\",\"\",INDEX(Vložit!B:B,A264+1)))","v":""},{"$f":"IF(A264=\"\",\"\",MID(INDEX(Vložit!A:A,A264),19,10))","v":""},{"$f":"IF(A264=\"\",\"\",IF(INDEX(Vložit!B:B,A264+5)=\"\",\"\",VLOOKUP(INDEX(Vložit!B:B,A264+5),Pomocná!B263:C10262,2,FALSE)))","v":""},{"$f":"IF(A264=\"\",\"\",INDEX(Vložit!B:B,A264+2))","v":""},{"$f":"IF(A264=\"\",\"\",IF(INDEX(Vložit!B:B,A264+3)=\"\",\"\",INDEX(Vložit!B:B,A264+3)))","v":""},{"$f":"IF(A264=\"\",\"\",INDEX(Vložit!B:B,A264+4))","v":""}]
[{"$f":"IF(A264=\"\",\"\",IF(INDEX(Vložit!A:A,(ROW(A264)-1)*17+2)<>\"\",(ROW(A264)-1)*17+2,\"\"))","v":""},{"$f":"IF(A265=\"\",\"\",\"Číslo smlouvy:  \"&INDEX(Vložit!B:B,A265+1)&CHAR(10)&\"Jméno a příjmení:  \"&INDEX(Vložit!B:B,A265+2)&CHAR(10)&\"Ulice:  \"&INDEX(Vložit!B:B,A265+3)&CHAR(10)&\"Č. pop. / č. orient.:  \"&INDEX(Vložit!B:B,A265+4)&CHAR(10)&\"Obec:  \"&INDEX(Vložit!B:B,A265+5))","v":""},{"$f":"IF(A265=\"\",\"\",INDEX(Vložit!A:A,A265)&CHAR(10)&\"Telefon: \"&INDEX(Vložit!B:B,A265+6)&\" / \"&INDEX(Vložit!B:B,A265+7)&CHAR(10)&\"Typ objednávky: \"&INDEX(Vložit!D:D,A265+1)&CHAR(10)&INDEX(Vložit!C:C,A265)&CHAR(10)&INDEX(Vložit!D:D,A265))","v":""},{"$f":"IF(A265=\"\",\"\",IF(INDEX(Vložit!B:B,A265+8)=\"\",\"\",\"Instrukce: \"&INDEX(Vložit!B:B,A265+8)))","v":""},{"$f":"IF(A265=\"\",\"\",IF(INDEX(Vložit!B:B,A265+1)=\"\",\"\",INDEX(Vložit!B:B,A265+1)))","v":""},{"$f":"IF(A265=\"\",\"\",MID(INDEX(Vložit!A:A,A265),19,10))","v":""},{"$f":"IF(A265=\"\",\"\",IF(INDEX(Vložit!B:B,A265+5)=\"\",\"\",VLOOKUP(INDEX(Vložit!B:B,A265+5),Pomocná!B264:C10263,2,FALSE)))","v":""},{"$f":"IF(A265=\"\",\"\",INDEX(Vložit!B:B,A265+2))","v":""},{"$f":"IF(A265=\"\",\"\",IF(INDEX(Vložit!B:B,A265+3)=\"\",\"\",INDEX(Vložit!B:B,A265+3)))","v":""},{"$f":"IF(A265=\"\",\"\",INDEX(Vložit!B:B,A265+4))","v":""}]
[{"$f":"IF(A265=\"\",\"\",IF(INDEX(Vložit!A:A,(ROW(A265)-1)*17+2)<>\"\",(ROW(A265)-1)*17+2,\"\"))","v":""},{"$f":"IF(A266=\"\",\"\",\"Číslo smlouvy:  \"&INDEX(Vložit!B:B,A266+1)&CHAR(10)&\"Jméno a příjmení:  \"&INDEX(Vložit!B:B,A266+2)&CHAR(10)&\"Ulice:  \"&INDEX(Vložit!B:B,A266+3)&CHAR(10)&\"Č. pop. / č. orient.:  \"&INDEX(Vložit!B:B,A266+4)&CHAR(10)&\"Obec:  \"&INDEX(Vložit!B:B,A266+5))","v":""},{"$f":"IF(A266=\"\",\"\",INDEX(Vložit!A:A,A266)&CHAR(10)&\"Telefon: \"&INDEX(Vložit!B:B,A266+6)&\" / \"&INDEX(Vložit!B:B,A266+7)&CHAR(10)&\"Typ objednávky: \"&INDEX(Vložit!D:D,A266+1)&CHAR(10)&INDEX(Vložit!C:C,A266)&CHAR(10)&INDEX(Vložit!D:D,A266))","v":""},{"$f":"IF(A266=\"\",\"\",IF(INDEX(Vložit!B:B,A266+8)=\"\",\"\",\"Instrukce: \"&INDEX(Vložit!B:B,A266+8)))","v":""},{"$f":"IF(A266=\"\",\"\",IF(INDEX(Vložit!B:B,A266+1)=\"\",\"\",INDEX(Vložit!B:B,A266+1)))","v":""},{"$f":"IF(A266=\"\",\"\",MID(INDEX(Vložit!A:A,A266),19,10))","v":""},{"$f":"IF(A266=\"\",\"\",IF(INDEX(Vložit!B:B,A266+5)=\"\",\"\",VLOOKUP(INDEX(Vložit!B:B,A266+5),Pomocná!B265:C10264,2,FALSE)))","v":""},{"$f":"IF(A266=\"\",\"\",INDEX(Vložit!B:B,A266+2))","v":""},{"$f":"IF(A266=\"\",\"\",IF(INDEX(Vložit!B:B,A266+3)=\"\",\"\",INDEX(Vložit!B:B,A266+3)))","v":""},{"$f":"IF(A266=\"\",\"\",INDEX(Vložit!B:B,A266+4))","v":""}]
[{"$f":"IF(A266=\"\",\"\",IF(INDEX(Vložit!A:A,(ROW(A266)-1)*17+2)<>\"\",(ROW(A266)-1)*17+2,\"\"))","v":""},{"$f":"IF(A267=\"\",\"\",\"Číslo smlouvy:  \"&INDEX(Vložit!B:B,A267+1)&CHAR(10)&\"Jméno a příjmení:  \"&INDEX(Vložit!B:B,A267+2)&CHAR(10)&\"Ulice:  \"&INDEX(Vložit!B:B,A267+3)&CHAR(10)&\"Č. pop. / č. orient.:  \"&INDEX(Vložit!B:B,A267+4)&CHAR(10)&\"Obec:  \"&INDEX(Vložit!B:B,A267+5))","v":""},{"$f":"IF(A267=\"\",\"\",INDEX(Vložit!A:A,A267)&CHAR(10)&\"Telefon: \"&INDEX(Vložit!B:B,A267+6)&\" / \"&INDEX(Vložit!B:B,A267+7)&CHAR(10)&\"Typ objednávky: \"&INDEX(Vložit!D:D,A267+1)&CHAR(10)&INDEX(Vložit!C:C,A267)&CHAR(10)&INDEX(Vložit!D:D,A267))","v":""},{"$f":"IF(A267=\"\",\"\",IF(INDEX(Vložit!B:B,A267+8)=\"\",\"\",\"Instrukce: \"&INDEX(Vložit!B:B,A267+8)))","v":""},{"$f":"IF(A267=\"\",\"\",IF(INDEX(Vložit!B:B,A267+1)=\"\",\"\",INDEX(Vložit!B:B,A267+1)))","v":""},{"$f":"IF(A267=\"\",\"\",MID(INDEX(Vložit!A:A,A267),19,10))","v":""},{"$f":"IF(A267=\"\",\"\",IF(INDEX(Vložit!B:B,A267+5)=\"\",\"\",VLOOKUP(INDEX(Vložit!B:B,A267+5),Pomocná!B266:C10265,2,FALSE)))","v":""},{"$f":"IF(A267=\"\",\"\",INDEX(Vložit!B:B,A267+2))","v":""},{"$f":"IF(A267=\"\",\"\",IF(INDEX(Vložit!B:B,A267+3)=\"\",\"\",INDEX(Vložit!B:B,A267+3)))","v":""},{"$f":"IF(A267=\"\",\"\",INDEX(Vložit!B:B,A267+4))","v":""}]
[{"$f":"IF(A267=\"\",\"\",IF(INDEX(Vložit!A:A,(ROW(A267)-1)*17+2)<>\"\",(ROW(A267)-1)*17+2,\"\"))","v":""},{"$f":"IF(A268=\"\",\"\",\"Číslo smlouvy:  \"&INDEX(Vložit!B:B,A268+1)&CHAR(10)&\"Jméno a příjmení:  \"&INDEX(Vložit!B:B,A268+2)&CHAR(10)&\"Ulice:  \"&INDEX(Vložit!B:B,A268+3)&CHAR(10)&\"Č. pop. / č. orient.:  \"&INDEX(Vložit!B:B,A268+4)&CHAR(10)&\"Obec:  \"&INDEX(Vložit!B:B,A268+5))","v":""},{"$f":"IF(A268=\"\",\"\",INDEX(Vložit!A:A,A268)&CHAR(10)&\"Telefon: \"&INDEX(Vložit!B:B,A268+6)&\" / \"&INDEX(Vložit!B:B,A268+7)&CHAR(10)&\"Typ objednávky: \"&INDEX(Vložit!D:D,A268+1)&CHAR(10)&INDEX(Vložit!C:C,A268)&CHAR(10)&INDEX(Vložit!D:D,A268))","v":""},{"$f":"IF(A268=\"\",\"\",IF(INDEX(Vložit!B:B,A268+8)=\"\",\"\",\"Instrukce: \"&INDEX(Vložit!B:B,A268+8)))","v":""},{"$f":"IF(A268=\"\",\"\",IF(INDEX(Vložit!B:B,A268+1)=\"\",\"\",INDEX(Vložit!B:B,A268+1)))","v":""},{"$f":"IF(A268=\"\",\"\",MID(INDEX(Vložit!A:A,A268),19,10))","v":""},{"$f":"IF(A268=\"\",\"\",IF(INDEX(Vložit!B:B,A268+5)=\"\",\"\",VLOOKUP(INDEX(Vložit!B:B,A268+5),Pomocná!B267:C10266,2,FALSE)))","v":""},{"$f":"IF(A268=\"\",\"\",INDEX(Vložit!B:B,A268+2))","v":""},{"$f":"IF(A268=\"\",\"\",IF(INDEX(Vložit!B:B,A268+3)=\"\",\"\",INDEX(Vložit!B:B,A268+3)))","v":""},{"$f":"IF(A268=\"\",\"\",INDEX(Vložit!B:B,A268+4))","v":""}]
[{"$f":"IF(A268=\"\",\"\",IF(INDEX(Vložit!A:A,(ROW(A268)-1)*17+2)<>\"\",(ROW(A268)-1)*17+2,\"\"))","v":""},{"$f":"IF(A269=\"\",\"\",\"Číslo smlouvy:  \"&INDEX(Vložit!B:B,A269+1)&CHAR(10)&\"Jméno a příjmení:  \"&INDEX(Vložit!B:B,A269+2)&CHAR(10)&\"Ulice:  \"&INDEX(Vložit!B:B,A269+3)&CHAR(10)&\"Č. pop. / č. orient.:  \"&INDEX(Vložit!B:B,A269+4)&CHAR(10)&\"Obec:  \"&INDEX(Vložit!B:B,A269+5))","v":""},{"$f":"IF(A269=\"\",\"\",INDEX(Vložit!A:A,A269)&CHAR(10)&\"Telefon: \"&INDEX(Vložit!B:B,A269+6)&\" / \"&INDEX(Vložit!B:B,A269+7)&CHAR(10)&\"Typ objednávky: \"&INDEX(Vložit!D:D,A269+1)&CHAR(10)&INDEX(Vložit!C:C,A269)&CHAR(10)&INDEX(Vložit!D:D,A269))","v":""},{"$f":"IF(A269=\"\",\"\",IF(INDEX(Vložit!B:B,A269+8)=\"\",\"\",\"Instrukce: \"&INDEX(Vložit!B:B,A269+8)))","v":""},{"$f":"IF(A269=\"\",\"\",IF(INDEX(Vložit!B:B,A269+1)=\"\",\"\",INDEX(Vložit!B:B,A269+1)))","v":""},{"$f":"IF(A269=\"\",\"\",MID(INDEX(Vložit!A:A,A269),19,10))","v":""},{"$f":"IF(A269=\"\",\"\",IF(INDEX(Vložit!B:B,A269+5)=\"\",\"\",VLOOKUP(INDEX(Vložit!B:B,A269+5),Pomocná!B268:C10267,2,FALSE)))","v":""},{"$f":"IF(A269=\"\",\"\",INDEX(Vložit!B:B,A269+2))","v":""},{"$f":"IF(A269=\"\",\"\",IF(INDEX(Vložit!B:B,A269+3)=\"\",\"\",INDEX(Vložit!B:B,A269+3)))","v":""},{"$f":"IF(A269=\"\",\"\",INDEX(Vložit!B:B,A269+4))","v":""}]
[{"$f":"IF(A269=\"\",\"\",IF(INDEX(Vložit!A:A,(ROW(A269)-1)*17+2)<>\"\",(ROW(A269)-1)*17+2,\"\"))","v":""},{"$f":"IF(A270=\"\",\"\",\"Číslo smlouvy:  \"&INDEX(Vložit!B:B,A270+1)&CHAR(10)&\"Jméno a příjmení:  \"&INDEX(Vložit!B:B,A270+2)&CHAR(10)&\"Ulice:  \"&INDEX(Vložit!B:B,A270+3)&CHAR(10)&\"Č. pop. / č. orient.:  \"&INDEX(Vložit!B:B,A270+4)&CHAR(10)&\"Obec:  \"&INDEX(Vložit!B:B,A270+5))","v":""},{"$f":"IF(A270=\"\",\"\",INDEX(Vložit!A:A,A270)&CHAR(10)&\"Telefon: \"&INDEX(Vložit!B:B,A270+6)&\" / \"&INDEX(Vložit!B:B,A270+7)&CHAR(10)&\"Typ objednávky: \"&INDEX(Vložit!D:D,A270+1)&CHAR(10)&INDEX(Vložit!C:C,A270)&CHAR(10)&INDEX(Vložit!D:D,A270))","v":""},{"$f":"IF(A270=\"\",\"\",IF(INDEX(Vložit!B:B,A270+8)=\"\",\"\",\"Instrukce: \"&INDEX(Vložit!B:B,A270+8)))","v":""},{"$f":"IF(A270=\"\",\"\",IF(INDEX(Vložit!B:B,A270+1)=\"\",\"\",INDEX(Vložit!B:B,A270+1)))","v":""},{"$f":"IF(A270=\"\",\"\",MID(INDEX(Vložit!A:A,A270),19,10))","v":""},{"$f":"IF(A270=\"\",\"\",IF(INDEX(Vložit!B:B,A270+5)=\"\",\"\",VLOOKUP(INDEX(Vložit!B:B,A270+5),Pomocná!B269:C10268,2,FALSE)))","v":""},{"$f":"IF(A270=\"\",\"\",INDEX(Vložit!B:B,A270+2))","v":""},{"$f":"IF(A270=\"\",\"\",IF(INDEX(Vložit!B:B,A270+3)=\"\",\"\",INDEX(Vložit!B:B,A270+3)))","v":""},{"$f":"IF(A270=\"\",\"\",INDEX(Vložit!B:B,A270+4))","v":""}]
[{"$f":"IF(A270=\"\",\"\",IF(INDEX(Vložit!A:A,(ROW(A270)-1)*17+2)<>\"\",(ROW(A270)-1)*17+2,\"\"))","v":""},{"$f":"IF(A271=\"\",\"\",\"Číslo smlouvy:  \"&INDEX(Vložit!B:B,A271+1)&CHAR(10)&\"Jméno a příjmení:  \"&INDEX(Vložit!B:B,A271+2)&CHAR(10)&\"Ulice:  \"&INDEX(Vložit!B:B,A271+3)&CHAR(10)&\"Č. pop. / č. orient.:  \"&INDEX(Vložit!B:B,A271+4)&CHAR(10)&\"Obec:  \"&INDEX(Vložit!B:B,A271+5))","v":""},{"$f":"IF(A271=\"\",\"\",INDEX(Vložit!A:A,A271)&CHAR(10)&\"Telefon: \"&INDEX(Vložit!B:B,A271+6)&\" / \"&INDEX(Vložit!B:B,A271+7)&CHAR(10)&\"Typ objednávky: \"&INDEX(Vložit!D:D,A271+1)&CHAR(10)&INDEX(Vložit!C:C,A271)&CHAR(10)&INDEX(Vložit!D:D,A271))","v":""},{"$f":"IF(A271=\"\",\"\",IF(INDEX(Vložit!B:B,A271+8)=\"\",\"\",\"Instrukce: \"&INDEX(Vložit!B:B,A271+8)))","v":""},{"$f":"IF(A271=\"\",\"\",IF(INDEX(Vložit!B:B,A271+1)=\"\",\"\",INDEX(Vložit!B:B,A271+1)))","v":""},{"$f":"IF(A271=\"\",\"\",MID(INDEX(Vložit!A:A,A271),19,10))","v":""},{"$f":"IF(A271=\"\",\"\",IF(INDEX(Vložit!B:B,A271+5)=\"\",\"\",VLOOKUP(INDEX(Vložit!B:B,A271+5),Pomocná!B270:C10269,2,FALSE)))","v":""},{"$f":"IF(A271=\"\",\"\",INDEX(Vložit!B:B,A271+2))","v":""},{"$f":"IF(A271=\"\",\"\",IF(INDEX(Vložit!B:B,A271+3)=\"\",\"\",INDEX(Vložit!B:B,A271+3)))","v":""},{"$f":"IF(A271=\"\",\"\",INDEX(Vložit!B:B,A271+4))","v":""}]
[{"$f":"IF(A271=\"\",\"\",IF(INDEX(Vložit!A:A,(ROW(A271)-1)*17+2)<>\"\",(ROW(A271)-1)*17+2,\"\"))","v":""},{"$f":"IF(A272=\"\",\"\",\"Číslo smlouvy:  \"&INDEX(Vložit!B:B,A272+1)&CHAR(10)&\"Jméno a příjmení:  \"&INDEX(Vložit!B:B,A272+2)&CHAR(10)&\"Ulice:  \"&INDEX(Vložit!B:B,A272+3)&CHAR(10)&\"Č. pop. / č. orient.:  \"&INDEX(Vložit!B:B,A272+4)&CHAR(10)&\"Obec:  \"&INDEX(Vložit!B:B,A272+5))","v":""},{"$f":"IF(A272=\"\",\"\",INDEX(Vložit!A:A,A272)&CHAR(10)&\"Telefon: \"&INDEX(Vložit!B:B,A272+6)&\" / \"&INDEX(Vložit!B:B,A272+7)&CHAR(10)&\"Typ objednávky: \"&INDEX(Vložit!D:D,A272+1)&CHAR(10)&INDEX(Vložit!C:C,A272)&CHAR(10)&INDEX(Vložit!D:D,A272))","v":""},{"$f":"IF(A272=\"\",\"\",IF(INDEX(Vložit!B:B,A272+8)=\"\",\"\",\"Instrukce: \"&INDEX(Vložit!B:B,A272+8)))","v":""},{"$f":"IF(A272=\"\",\"\",IF(INDEX(Vložit!B:B,A272+1)=\"\",\"\",INDEX(Vložit!B:B,A272+1)))","v":""},{"$f":"IF(A272=\"\",\"\",MID(INDEX(Vložit!A:A,A272),19,10))","v":""},{"$f":"IF(A272=\"\",\"\",IF(INDEX(Vložit!B:B,A272+5)=\"\",\"\",VLOOKUP(INDEX(Vložit!B:B,A272+5),Pomocná!B271:C10270,2,FALSE)))","v":""},{"$f":"IF(A272=\"\",\"\",INDEX(Vložit!B:B,A272+2))","v":""},{"$f":"IF(A272=\"\",\"\",IF(INDEX(Vložit!B:B,A272+3)=\"\",\"\",INDEX(Vložit!B:B,A272+3)))","v":""},{"$f":"IF(A272=\"\",\"\",INDEX(Vložit!B:B,A272+4))","v":""}]
[{"$f":"IF(A272=\"\",\"\",IF(INDEX(Vložit!A:A,(ROW(A272)-1)*17+2)<>\"\",(ROW(A272)-1)*17+2,\"\"))","v":""},{"$f":"IF(A273=\"\",\"\",\"Číslo smlouvy:  \"&INDEX(Vložit!B:B,A273+1)&CHAR(10)&\"Jméno a příjmení:  \"&INDEX(Vložit!B:B,A273+2)&CHAR(10)&\"Ulice:  \"&INDEX(Vložit!B:B,A273+3)&CHAR(10)&\"Č. pop. / č. orient.:  \"&INDEX(Vložit!B:B,A273+4)&CHAR(10)&\"Obec:  \"&INDEX(Vložit!B:B,A273+5))","v":""},{"$f":"IF(A273=\"\",\"\",INDEX(Vložit!A:A,A273)&CHAR(10)&\"Telefon: \"&INDEX(Vložit!B:B,A273+6)&\" / \"&INDEX(Vložit!B:B,A273+7)&CHAR(10)&\"Typ objednávky: \"&INDEX(Vložit!D:D,A273+1)&CHAR(10)&INDEX(Vložit!C:C,A273)&CHAR(10)&INDEX(Vložit!D:D,A273))","v":""},{"$f":"IF(A273=\"\",\"\",IF(INDEX(Vložit!B:B,A273+8)=\"\",\"\",\"Instrukce: \"&INDEX(Vložit!B:B,A273+8)))","v":""},{"$f":"IF(A273=\"\",\"\",IF(INDEX(Vložit!B:B,A273+1)=\"\",\"\",INDEX(Vložit!B:B,A273+1)))","v":""},{"$f":"IF(A273=\"\",\"\",MID(INDEX(Vložit!A:A,A273),19,10))","v":""},{"$f":"IF(A273=\"\",\"\",IF(INDEX(Vložit!B:B,A273+5)=\"\",\"\",VLOOKUP(INDEX(Vložit!B:B,A273+5),Pomocná!B272:C10271,2,FALSE)))","v":""},{"$f":"IF(A273=\"\",\"\",INDEX(Vložit!B:B,A273+2))","v":""},{"$f":"IF(A273=\"\",\"\",IF(INDEX(Vložit!B:B,A273+3)=\"\",\"\",INDEX(Vložit!B:B,A273+3)))","v":""},{"$f":"IF(A273=\"\",\"\",INDEX(Vložit!B:B,A273+4))","v":""}]
[{"$f":"IF(A273=\"\",\"\",IF(INDEX(Vložit!A:A,(ROW(A273)-1)*17+2)<>\"\",(ROW(A273)-1)*17+2,\"\"))","v":""},{"$f":"IF(A274=\"\",\"\",\"Číslo smlouvy:  \"&INDEX(Vložit!B:B,A274+1)&CHAR(10)&\"Jméno a příjmení:  \"&INDEX(Vložit!B:B,A274+2)&CHAR(10)&\"Ulice:  \"&INDEX(Vložit!B:B,A274+3)&CHAR(10)&\"Č. pop. / č. orient.:  \"&INDEX(Vložit!B:B,A274+4)&CHAR(10)&\"Obec:  \"&INDEX(Vložit!B:B,A274+5))","v":""},{"$f":"IF(A274=\"\",\"\",INDEX(Vložit!A:A,A274)&CHAR(10)&\"Telefon: \"&INDEX(Vložit!B:B,A274+6)&\" / \"&INDEX(Vložit!B:B,A274+7)&CHAR(10)&\"Typ objednávky: \"&INDEX(Vložit!D:D,A274+1)&CHAR(10)&INDEX(Vložit!C:C,A274)&CHAR(10)&INDEX(Vložit!D:D,A274))","v":""},{"$f":"IF(A274=\"\",\"\",IF(INDEX(Vložit!B:B,A274+8)=\"\",\"\",\"Instrukce: \"&INDEX(Vložit!B:B,A274+8)))","v":""},{"$f":"IF(A274=\"\",\"\",IF(INDEX(Vložit!B:B,A274+1)=\"\",\"\",INDEX(Vložit!B:B,A274+1)))","v":""},{"$f":"IF(A274=\"\",\"\",MID(INDEX(Vložit!A:A,A274),19,10))","v":""},{"$f":"IF(A274=\"\",\"\",IF(INDEX(Vložit!B:B,A274+5)=\"\",\"\",VLOOKUP(INDEX(Vložit!B:B,A274+5),Pomocná!B273:C10272,2,FALSE)))","v":""},{"$f":"IF(A274=\"\",\"\",INDEX(Vložit!B:B,A274+2))","v":""},{"$f":"IF(A274=\"\",\"\",IF(INDEX(Vložit!B:B,A274+3)=\"\",\"\",INDEX(Vložit!B:B,A274+3)))","v":""},{"$f":"IF(A274=\"\",\"\",INDEX(Vložit!B:B,A274+4))","v":""}]
[{"$f":"IF(A274=\"\",\"\",IF(INDEX(Vložit!A:A,(ROW(A274)-1)*17+2)<>\"\",(ROW(A274)-1)*17+2,\"\"))","v":""},{"$f":"IF(A275=\"\",\"\",\"Číslo smlouvy:  \"&INDEX(Vložit!B:B,A275+1)&CHAR(10)&\"Jméno a příjmení:  \"&INDEX(Vložit!B:B,A275+2)&CHAR(10)&\"Ulice:  \"&INDEX(Vložit!B:B,A275+3)&CHAR(10)&\"Č. pop. / č. orient.:  \"&INDEX(Vložit!B:B,A275+4)&CHAR(10)&\"Obec:  \"&INDEX(Vložit!B:B,A275+5))","v":""},{"$f":"IF(A275=\"\",\"\",INDEX(Vložit!A:A,A275)&CHAR(10)&\"Telefon: \"&INDEX(Vložit!B:B,A275+6)&\" / \"&INDEX(Vložit!B:B,A275+7)&CHAR(10)&\"Typ objednávky: \"&INDEX(Vložit!D:D,A275+1)&CHAR(10)&INDEX(Vložit!C:C,A275)&CHAR(10)&INDEX(Vložit!D:D,A275))","v":""},{"$f":"IF(A275=\"\",\"\",IF(INDEX(Vložit!B:B,A275+8)=\"\",\"\",\"Instrukce: \"&INDEX(Vložit!B:B,A275+8)))","v":""},{"$f":"IF(A275=\"\",\"\",IF(INDEX(Vložit!B:B,A275+1)=\"\",\"\",INDEX(Vložit!B:B,A275+1)))","v":""},{"$f":"IF(A275=\"\",\"\",MID(INDEX(Vložit!A:A,A275),19,10))","v":""},{"$f":"IF(A275=\"\",\"\",IF(INDEX(Vložit!B:B,A275+5)=\"\",\"\",VLOOKUP(INDEX(Vložit!B:B,A275+5),Pomocná!B274:C10273,2,FALSE)))","v":""},{"$f":"IF(A275=\"\",\"\",INDEX(Vložit!B:B,A275+2))","v":""},{"$f":"IF(A275=\"\",\"\",IF(INDEX(Vložit!B:B,A275+3)=\"\",\"\",INDEX(Vložit!B:B,A275+3)))","v":""},{"$f":"IF(A275=\"\",\"\",INDEX(Vložit!B:B,A275+4))","v":""}]
[{"$f":"IF(A275=\"\",\"\",IF(INDEX(Vložit!A:A,(ROW(A275)-1)*17+2)<>\"\",(ROW(A275)-1)*17+2,\"\"))","v":""},{"$f":"IF(A276=\"\",\"\",\"Číslo smlouvy:  \"&INDEX(Vložit!B:B,A276+1)&CHAR(10)&\"Jméno a příjmení:  \"&INDEX(Vložit!B:B,A276+2)&CHAR(10)&\"Ulice:  \"&INDEX(Vložit!B:B,A276+3)&CHAR(10)&\"Č. pop. / č. orient.:  \"&INDEX(Vložit!B:B,A276+4)&CHAR(10)&\"Obec:  \"&INDEX(Vložit!B:B,A276+5))","v":""},{"$f":"IF(A276=\"\",\"\",INDEX(Vložit!A:A,A276)&CHAR(10)&\"Telefon: \"&INDEX(Vložit!B:B,A276+6)&\" / \"&INDEX(Vložit!B:B,A276+7)&CHAR(10)&\"Typ objednávky: \"&INDEX(Vložit!D:D,A276+1)&CHAR(10)&INDEX(Vložit!C:C,A276)&CHAR(10)&INDEX(Vložit!D:D,A276))","v":""},{"$f":"IF(A276=\"\",\"\",IF(INDEX(Vložit!B:B,A276+8)=\"\",\"\",\"Instrukce: \"&INDEX(Vložit!B:B,A276+8)))","v":""},{"$f":"IF(A276=\"\",\"\",IF(INDEX(Vložit!B:B,A276+1)=\"\",\"\",INDEX(Vložit!B:B,A276+1)))","v":""},{"$f":"IF(A276=\"\",\"\",MID(INDEX(Vložit!A:A,A276),19,10))","v":""},{"$f":"IF(A276=\"\",\"\",IF(INDEX(Vložit!B:B,A276+5)=\"\",\"\",VLOOKUP(INDEX(Vložit!B:B,A276+5),Pomocná!B275:C10274,2,FALSE)))","v":""},{"$f":"IF(A276=\"\",\"\",INDEX(Vložit!B:B,A276+2))","v":""},{"$f":"IF(A276=\"\",\"\",IF(INDEX(Vložit!B:B,A276+3)=\"\",\"\",INDEX(Vložit!B:B,A276+3)))","v":""},{"$f":"IF(A276=\"\",\"\",INDEX(Vložit!B:B,A276+4))","v":""}]
[{"$f":"IF(A276=\"\",\"\",IF(INDEX(Vložit!A:A,(ROW(A276)-1)*17+2)<>\"\",(ROW(A276)-1)*17+2,\"\"))","v":""},{"$f":"IF(A277=\"\",\"\",\"Číslo smlouvy:  \"&INDEX(Vložit!B:B,A277+1)&CHAR(10)&\"Jméno a příjmení:  \"&INDEX(Vložit!B:B,A277+2)&CHAR(10)&\"Ulice:  \"&INDEX(Vložit!B:B,A277+3)&CHAR(10)&\"Č. pop. / č. orient.:  \"&INDEX(Vložit!B:B,A277+4)&CHAR(10)&\"Obec:  \"&INDEX(Vložit!B:B,A277+5))","v":""},{"$f":"IF(A277=\"\",\"\",INDEX(Vložit!A:A,A277)&CHAR(10)&\"Telefon: \"&INDEX(Vložit!B:B,A277+6)&\" / \"&INDEX(Vložit!B:B,A277+7)&CHAR(10)&\"Typ objednávky: \"&INDEX(Vložit!D:D,A277+1)&CHAR(10)&INDEX(Vložit!C:C,A277)&CHAR(10)&INDEX(Vložit!D:D,A277))","v":""},{"$f":"IF(A277=\"\",\"\",IF(INDEX(Vložit!B:B,A277+8)=\"\",\"\",\"Instrukce: \"&INDEX(Vložit!B:B,A277+8)))","v":""},{"$f":"IF(A277=\"\",\"\",IF(INDEX(Vložit!B:B,A277+1)=\"\",\"\",INDEX(Vložit!B:B,A277+1)))","v":""},{"$f":"IF(A277=\"\",\"\",MID(INDEX(Vložit!A:A,A277),19,10))","v":""},{"$f":"IF(A277=\"\",\"\",IF(INDEX(Vložit!B:B,A277+5)=\"\",\"\",VLOOKUP(INDEX(Vložit!B:B,A277+5),Pomocná!B276:C10275,2,FALSE)))","v":""},{"$f":"IF(A277=\"\",\"\",INDEX(Vložit!B:B,A277+2))","v":""},{"$f":"IF(A277=\"\",\"\",IF(INDEX(Vložit!B:B,A277+3)=\"\",\"\",INDEX(Vložit!B:B,A277+3)))","v":""},{"$f":"IF(A277=\"\",\"\",INDEX(Vložit!B:B,A277+4))","v":""}]
[{"$f":"IF(A277=\"\",\"\",IF(INDEX(Vložit!A:A,(ROW(A277)-1)*17+2)<>\"\",(ROW(A277)-1)*17+2,\"\"))","v":""},{"$f":"IF(A278=\"\",\"\",\"Číslo smlouvy:  \"&INDEX(Vložit!B:B,A278+1)&CHAR(10)&\"Jméno a příjmení:  \"&INDEX(Vložit!B:B,A278+2)&CHAR(10)&\"Ulice:  \"&INDEX(Vložit!B:B,A278+3)&CHAR(10)&\"Č. pop. / č. orient.:  \"&INDEX(Vložit!B:B,A278+4)&CHAR(10)&\"Obec:  \"&INDEX(Vložit!B:B,A278+5))","v":""},{"$f":"IF(A278=\"\",\"\",INDEX(Vložit!A:A,A278)&CHAR(10)&\"Telefon: \"&INDEX(Vložit!B:B,A278+6)&\" / \"&INDEX(Vložit!B:B,A278+7)&CHAR(10)&\"Typ objednávky: \"&INDEX(Vložit!D:D,A278+1)&CHAR(10)&INDEX(Vložit!C:C,A278)&CHAR(10)&INDEX(Vložit!D:D,A278))","v":""},{"$f":"IF(A278=\"\",\"\",IF(INDEX(Vložit!B:B,A278+8)=\"\",\"\",\"Instrukce: \"&INDEX(Vložit!B:B,A278+8)))","v":""},{"$f":"IF(A278=\"\",\"\",IF(INDEX(Vložit!B:B,A278+1)=\"\",\"\",INDEX(Vložit!B:B,A278+1)))","v":""},{"$f":"IF(A278=\"\",\"\",MID(INDEX(Vložit!A:A,A278),19,10))","v":""},{"$f":"IF(A278=\"\",\"\",IF(INDEX(Vložit!B:B,A278+5)=\"\",\"\",VLOOKUP(INDEX(Vložit!B:B,A278+5),Pomocná!B277:C10276,2,FALSE)))","v":""},{"$f":"IF(A278=\"\",\"\",INDEX(Vložit!B:B,A278+2))","v":""},{"$f":"IF(A278=\"\",\"\",IF(INDEX(Vložit!B:B,A278+3)=\"\",\"\",INDEX(Vložit!B:B,A278+3)))","v":""},{"$f":"IF(A278=\"\",\"\",INDEX(Vložit!B:B,A278+4))","v":""}]
[{"$f":"IF(A278=\"\",\"\",IF(INDEX(Vložit!A:A,(ROW(A278)-1)*17+2)<>\"\",(ROW(A278)-1)*17+2,\"\"))","v":""},{"$f":"IF(A279=\"\",\"\",\"Číslo smlouvy:  \"&INDEX(Vložit!B:B,A279+1)&CHAR(10)&\"Jméno a příjmení:  \"&INDEX(Vložit!B:B,A279+2)&CHAR(10)&\"Ulice:  \"&INDEX(Vložit!B:B,A279+3)&CHAR(10)&\"Č. pop. / č. orient.:  \"&INDEX(Vložit!B:B,A279+4)&CHAR(10)&\"Obec:  \"&INDEX(Vložit!B:B,A279+5))","v":""},{"$f":"IF(A279=\"\",\"\",INDEX(Vložit!A:A,A279)&CHAR(10)&\"Telefon: \"&INDEX(Vložit!B:B,A279+6)&\" / \"&INDEX(Vložit!B:B,A279+7)&CHAR(10)&\"Typ objednávky: \"&INDEX(Vložit!D:D,A279+1)&CHAR(10)&INDEX(Vložit!C:C,A279)&CHAR(10)&INDEX(Vložit!D:D,A279))","v":""},{"$f":"IF(A279=\"\",\"\",IF(INDEX(Vložit!B:B,A279+8)=\"\",\"\",\"Instrukce: \"&INDEX(Vložit!B:B,A279+8)))","v":""},{"$f":"IF(A279=\"\",\"\",IF(INDEX(Vložit!B:B,A279+1)=\"\",\"\",INDEX(Vložit!B:B,A279+1)))","v":""},{"$f":"IF(A279=\"\",\"\",MID(INDEX(Vložit!A:A,A279),19,10))","v":""},{"$f":"IF(A279=\"\",\"\",IF(INDEX(Vložit!B:B,A279+5)=\"\",\"\",VLOOKUP(INDEX(Vložit!B:B,A279+5),Pomocná!B278:C10277,2,FALSE)))","v":""},{"$f":"IF(A279=\"\",\"\",INDEX(Vložit!B:B,A279+2))","v":""},{"$f":"IF(A279=\"\",\"\",IF(INDEX(Vložit!B:B,A279+3)=\"\",\"\",INDEX(Vložit!B:B,A279+3)))","v":""},{"$f":"IF(A279=\"\",\"\",INDEX(Vložit!B:B,A279+4))","v":""}]
[{"$f":"IF(A279=\"\",\"\",IF(INDEX(Vložit!A:A,(ROW(A279)-1)*17+2)<>\"\",(ROW(A279)-1)*17+2,\"\"))","v":""},{"$f":"IF(A280=\"\",\"\",\"Číslo smlouvy:  \"&INDEX(Vložit!B:B,A280+1)&CHAR(10)&\"Jméno a příjmení:  \"&INDEX(Vložit!B:B,A280+2)&CHAR(10)&\"Ulice:  \"&INDEX(Vložit!B:B,A280+3)&CHAR(10)&\"Č. pop. / č. orient.:  \"&INDEX(Vložit!B:B,A280+4)&CHAR(10)&\"Obec:  \"&INDEX(Vložit!B:B,A280+5))","v":""},{"$f":"IF(A280=\"\",\"\",INDEX(Vložit!A:A,A280)&CHAR(10)&\"Telefon: \"&INDEX(Vložit!B:B,A280+6)&\" / \"&INDEX(Vložit!B:B,A280+7)&CHAR(10)&\"Typ objednávky: \"&INDEX(Vložit!D:D,A280+1)&CHAR(10)&INDEX(Vložit!C:C,A280)&CHAR(10)&INDEX(Vložit!D:D,A280))","v":""},{"$f":"IF(A280=\"\",\"\",IF(INDEX(Vložit!B:B,A280+8)=\"\",\"\",\"Instrukce: \"&INDEX(Vložit!B:B,A280+8)))","v":""},{"$f":"IF(A280=\"\",\"\",IF(INDEX(Vložit!B:B,A280+1)=\"\",\"\",INDEX(Vložit!B:B,A280+1)))","v":""},{"$f":"IF(A280=\"\",\"\",MID(INDEX(Vložit!A:A,A280),19,10))","v":""},{"$f":"IF(A280=\"\",\"\",IF(INDEX(Vložit!B:B,A280+5)=\"\",\"\",VLOOKUP(INDEX(Vložit!B:B,A280+5),Pomocná!B279:C10278,2,FALSE)))","v":""},{"$f":"IF(A280=\"\",\"\",INDEX(Vložit!B:B,A280+2))","v":""},{"$f":"IF(A280=\"\",\"\",IF(INDEX(Vložit!B:B,A280+3)=\"\",\"\",INDEX(Vložit!B:B,A280+3)))","v":""},{"$f":"IF(A280=\"\",\"\",INDEX(Vložit!B:B,A280+4))","v":""}]
[{"$f":"IF(A280=\"\",\"\",IF(INDEX(Vložit!A:A,(ROW(A280)-1)*17+2)<>\"\",(ROW(A280)-1)*17+2,\"\"))","v":""},{"$f":"IF(A281=\"\",\"\",\"Číslo smlouvy:  \"&INDEX(Vložit!B:B,A281+1)&CHAR(10)&\"Jméno a příjmení:  \"&INDEX(Vložit!B:B,A281+2)&CHAR(10)&\"Ulice:  \"&INDEX(Vložit!B:B,A281+3)&CHAR(10)&\"Č. pop. / č. orient.:  \"&INDEX(Vložit!B:B,A281+4)&CHAR(10)&\"Obec:  \"&INDEX(Vložit!B:B,A281+5))","v":""},{"$f":"IF(A281=\"\",\"\",INDEX(Vložit!A:A,A281)&CHAR(10)&\"Telefon: \"&INDEX(Vložit!B:B,A281+6)&\" / \"&INDEX(Vložit!B:B,A281+7)&CHAR(10)&\"Typ objednávky: \"&INDEX(Vložit!D:D,A281+1)&CHAR(10)&INDEX(Vložit!C:C,A281)&CHAR(10)&INDEX(Vložit!D:D,A281))","v":""},{"$f":"IF(A281=\"\",\"\",IF(INDEX(Vložit!B:B,A281+8)=\"\",\"\",\"Instrukce: \"&INDEX(Vložit!B:B,A281+8)))","v":""},{"$f":"IF(A281=\"\",\"\",IF(INDEX(Vložit!B:B,A281+1)=\"\",\"\",INDEX(Vložit!B:B,A281+1)))","v":""},{"$f":"IF(A281=\"\",\"\",MID(INDEX(Vložit!A:A,A281),19,10))","v":""},{"$f":"IF(A281=\"\",\"\",IF(INDEX(Vložit!B:B,A281+5)=\"\",\"\",VLOOKUP(INDEX(Vložit!B:B,A281+5),Pomocná!B280:C10279,2,FALSE)))","v":""},{"$f":"IF(A281=\"\",\"\",INDEX(Vložit!B:B,A281+2))","v":""},{"$f":"IF(A281=\"\",\"\",IF(INDEX(Vložit!B:B,A281+3)=\"\",\"\",INDEX(Vložit!B:B,A281+3)))","v":""},{"$f":"IF(A281=\"\",\"\",INDEX(Vložit!B:B,A281+4))","v":""}]
[{"$f":"IF(A281=\"\",\"\",IF(INDEX(Vložit!A:A,(ROW(A281)-1)*17+2)<>\"\",(ROW(A281)-1)*17+2,\"\"))","v":""},{"$f":"IF(A282=\"\",\"\",\"Číslo smlouvy:  \"&INDEX(Vložit!B:B,A282+1)&CHAR(10)&\"Jméno a příjmení:  \"&INDEX(Vložit!B:B,A282+2)&CHAR(10)&\"Ulice:  \"&INDEX(Vložit!B:B,A282+3)&CHAR(10)&\"Č. pop. / č. orient.:  \"&INDEX(Vložit!B:B,A282+4)&CHAR(10)&\"Obec:  \"&INDEX(Vložit!B:B,A282+5))","v":""},{"$f":"IF(A282=\"\",\"\",INDEX(Vložit!A:A,A282)&CHAR(10)&\"Telefon: \"&INDEX(Vložit!B:B,A282+6)&\" / \"&INDEX(Vložit!B:B,A282+7)&CHAR(10)&\"Typ objednávky: \"&INDEX(Vložit!D:D,A282+1)&CHAR(10)&INDEX(Vložit!C:C,A282)&CHAR(10)&INDEX(Vložit!D:D,A282))","v":""},{"$f":"IF(A282=\"\",\"\",IF(INDEX(Vložit!B:B,A282+8)=\"\",\"\",\"Instrukce: \"&INDEX(Vložit!B:B,A282+8)))","v":""},{"$f":"IF(A282=\"\",\"\",IF(INDEX(Vložit!B:B,A282+1)=\"\",\"\",INDEX(Vložit!B:B,A282+1)))","v":""},{"$f":"IF(A282=\"\",\"\",MID(INDEX(Vložit!A:A,A282),19,10))","v":""},{"$f":"IF(A282=\"\",\"\",IF(INDEX(Vložit!B:B,A282+5)=\"\",\"\",VLOOKUP(INDEX(Vložit!B:B,A282+5),Pomocná!B281:C10280,2,FALSE)))","v":""},{"$f":"IF(A282=\"\",\"\",INDEX(Vložit!B:B,A282+2))","v":""},{"$f":"IF(A282=\"\",\"\",IF(INDEX(Vložit!B:B,A282+3)=\"\",\"\",INDEX(Vložit!B:B,A282+3)))","v":""},{"$f":"IF(A282=\"\",\"\",INDEX(Vložit!B:B,A282+4))","v":""}]
[{"$f":"IF(A282=\"\",\"\",IF(INDEX(Vložit!A:A,(ROW(A282)-1)*17+2)<>\"\",(ROW(A282)-1)*17+2,\"\"))","v":""},{"$f":"IF(A283=\"\",\"\",\"Číslo smlouvy:  \"&INDEX(Vložit!B:B,A283+1)&CHAR(10)&\"Jméno a příjmení:  \"&INDEX(Vložit!B:B,A283+2)&CHAR(10)&\"Ulice:  \"&INDEX(Vložit!B:B,A283+3)&CHAR(10)&\"Č. pop. / č. orient.:  \"&INDEX(Vložit!B:B,A283+4)&CHAR(10)&\"Obec:  \"&INDEX(Vložit!B:B,A283+5))","v":""},{"$f":"IF(A283=\"\",\"\",INDEX(Vložit!A:A,A283)&CHAR(10)&\"Telefon: \"&INDEX(Vložit!B:B,A283+6)&\" / \"&INDEX(Vložit!B:B,A283+7)&CHAR(10)&\"Typ objednávky: \"&INDEX(Vložit!D:D,A283+1)&CHAR(10)&INDEX(Vložit!C:C,A283)&CHAR(10)&INDEX(Vložit!D:D,A283))","v":""},{"$f":"IF(A283=\"\",\"\",IF(INDEX(Vložit!B:B,A283+8)=\"\",\"\",\"Instrukce: \"&INDEX(Vložit!B:B,A283+8)))","v":""},{"$f":"IF(A283=\"\",\"\",IF(INDEX(Vložit!B:B,A283+1)=\"\",\"\",INDEX(Vložit!B:B,A283+1)))","v":""},{"$f":"IF(A283=\"\",\"\",MID(INDEX(Vložit!A:A,A283),19,10))","v":""},{"$f":"IF(A283=\"\",\"\",IF(INDEX(Vložit!B:B,A283+5)=\"\",\"\",VLOOKUP(INDEX(Vložit!B:B,A283+5),Pomocná!B282:C10281,2,FALSE)))","v":""},{"$f":"IF(A283=\"\",\"\",INDEX(Vložit!B:B,A283+2))","v":""},{"$f":"IF(A283=\"\",\"\",IF(INDEX(Vložit!B:B,A283+3)=\"\",\"\",INDEX(Vložit!B:B,A283+3)))","v":""},{"$f":"IF(A283=\"\",\"\",INDEX(Vložit!B:B,A283+4))","v":""}]
[{"$f":"IF(A283=\"\",\"\",IF(INDEX(Vložit!A:A,(ROW(A283)-1)*17+2)<>\"\",(ROW(A283)-1)*17+2,\"\"))","v":""},{"$f":"IF(A284=\"\",\"\",\"Číslo smlouvy:  \"&INDEX(Vložit!B:B,A284+1)&CHAR(10)&\"Jméno a příjmení:  \"&INDEX(Vložit!B:B,A284+2)&CHAR(10)&\"Ulice:  \"&INDEX(Vložit!B:B,A284+3)&CHAR(10)&\"Č. pop. / č. orient.:  \"&INDEX(Vložit!B:B,A284+4)&CHAR(10)&\"Obec:  \"&INDEX(Vložit!B:B,A284+5))","v":""},{"$f":"IF(A284=\"\",\"\",INDEX(Vložit!A:A,A284)&CHAR(10)&\"Telefon: \"&INDEX(Vložit!B:B,A284+6)&\" / \"&INDEX(Vložit!B:B,A284+7)&CHAR(10)&\"Typ objednávky: \"&INDEX(Vložit!D:D,A284+1)&CHAR(10)&INDEX(Vložit!C:C,A284)&CHAR(10)&INDEX(Vložit!D:D,A284))","v":""},{"$f":"IF(A284=\"\",\"\",IF(INDEX(Vložit!B:B,A284+8)=\"\",\"\",\"Instrukce: \"&INDEX(Vložit!B:B,A284+8)))","v":""},{"$f":"IF(A284=\"\",\"\",IF(INDEX(Vložit!B:B,A284+1)=\"\",\"\",INDEX(Vložit!B:B,A284+1)))","v":""},{"$f":"IF(A284=\"\",\"\",MID(INDEX(Vložit!A:A,A284),19,10))","v":""},{"$f":"IF(A284=\"\",\"\",IF(INDEX(Vložit!B:B,A284+5)=\"\",\"\",VLOOKUP(INDEX(Vložit!B:B,A284+5),Pomocná!B283:C10282,2,FALSE)))","v":""},{"$f":"IF(A284=\"\",\"\",INDEX(Vložit!B:B,A284+2))","v":""},{"$f":"IF(A284=\"\",\"\",IF(INDEX(Vložit!B:B,A284+3)=\"\",\"\",INDEX(Vložit!B:B,A284+3)))","v":""},{"$f":"IF(A284=\"\",\"\",INDEX(Vložit!B:B,A284+4))","v":""}]
[{"$f":"IF(A284=\"\",\"\",IF(INDEX(Vložit!A:A,(ROW(A284)-1)*17+2)<>\"\",(ROW(A284)-1)*17+2,\"\"))","v":""},{"$f":"IF(A285=\"\",\"\",\"Číslo smlouvy:  \"&INDEX(Vložit!B:B,A285+1)&CHAR(10)&\"Jméno a příjmení:  \"&INDEX(Vložit!B:B,A285+2)&CHAR(10)&\"Ulice:  \"&INDEX(Vložit!B:B,A285+3)&CHAR(10)&\"Č. pop. / č. orient.:  \"&INDEX(Vložit!B:B,A285+4)&CHAR(10)&\"Obec:  \"&INDEX(Vložit!B:B,A285+5))","v":""},{"$f":"IF(A285=\"\",\"\",INDEX(Vložit!A:A,A285)&CHAR(10)&\"Telefon: \"&INDEX(Vložit!B:B,A285+6)&\" / \"&INDEX(Vložit!B:B,A285+7)&CHAR(10)&\"Typ objednávky: \"&INDEX(Vložit!D:D,A285+1)&CHAR(10)&INDEX(Vložit!C:C,A285)&CHAR(10)&INDEX(Vložit!D:D,A285))","v":""},{"$f":"IF(A285=\"\",\"\",IF(INDEX(Vložit!B:B,A285+8)=\"\",\"\",\"Instrukce: \"&INDEX(Vložit!B:B,A285+8)))","v":""},{"$f":"IF(A285=\"\",\"\",IF(INDEX(Vložit!B:B,A285+1)=\"\",\"\",INDEX(Vložit!B:B,A285+1)))","v":""},{"$f":"IF(A285=\"\",\"\",MID(INDEX(Vložit!A:A,A285),19,10))","v":""},{"$f":"IF(A285=\"\",\"\",IF(INDEX(Vložit!B:B,A285+5)=\"\",\"\",VLOOKUP(INDEX(Vložit!B:B,A285+5),Pomocná!B284:C10283,2,FALSE)))","v":""},{"$f":"IF(A285=\"\",\"\",INDEX(Vložit!B:B,A285+2))","v":""},{"$f":"IF(A285=\"\",\"\",IF(INDEX(Vložit!B:B,A285+3)=\"\",\"\",INDEX(Vložit!B:B,A285+3)))","v":""},{"$f":"IF(A285=\"\",\"\",INDEX(Vložit!B:B,A285+4))","v":""}]
[{"$f":"IF(A285=\"\",\"\",IF(INDEX(Vložit!A:A,(ROW(A285)-1)*17+2)<>\"\",(ROW(A285)-1)*17+2,\"\"))","v":""},{"$f":"IF(A286=\"\",\"\",\"Číslo smlouvy:  \"&INDEX(Vložit!B:B,A286+1)&CHAR(10)&\"Jméno a příjmení:  \"&INDEX(Vložit!B:B,A286+2)&CHAR(10)&\"Ulice:  \"&INDEX(Vložit!B:B,A286+3)&CHAR(10)&\"Č. pop. / č. orient.:  \"&INDEX(Vložit!B:B,A286+4)&CHAR(10)&\"Obec:  \"&INDEX(Vložit!B:B,A286+5))","v":""},{"$f":"IF(A286=\"\",\"\",INDEX(Vložit!A:A,A286)&CHAR(10)&\"Telefon: \"&INDEX(Vložit!B:B,A286+6)&\" / \"&INDEX(Vložit!B:B,A286+7)&CHAR(10)&\"Typ objednávky: \"&INDEX(Vložit!D:D,A286+1)&CHAR(10)&INDEX(Vložit!C:C,A286)&CHAR(10)&INDEX(Vložit!D:D,A286))","v":""},{"$f":"IF(A286=\"\",\"\",IF(INDEX(Vložit!B:B,A286+8)=\"\",\"\",\"Instrukce: \"&INDEX(Vložit!B:B,A286+8)))","v":""},{"$f":"IF(A286=\"\",\"\",IF(INDEX(Vložit!B:B,A286+1)=\"\",\"\",INDEX(Vložit!B:B,A286+1)))","v":""},{"$f":"IF(A286=\"\",\"\",MID(INDEX(Vložit!A:A,A286),19,10))","v":""},{"$f":"IF(A286=\"\",\"\",IF(INDEX(Vložit!B:B,A286+5)=\"\",\"\",VLOOKUP(INDEX(Vložit!B:B,A286+5),Pomocná!B285:C10284,2,FALSE)))","v":""},{"$f":"IF(A286=\"\",\"\",INDEX(Vložit!B:B,A286+2))","v":""},{"$f":"IF(A286=\"\",\"\",IF(INDEX(Vložit!B:B,A286+3)=\"\",\"\",INDEX(Vložit!B:B,A286+3)))","v":""},{"$f":"IF(A286=\"\",\"\",INDEX(Vložit!B:B,A286+4))","v":""}]
[{"$f":"IF(A286=\"\",\"\",IF(INDEX(Vložit!A:A,(ROW(A286)-1)*17+2)<>\"\",(ROW(A286)-1)*17+2,\"\"))","v":""},{"$f":"IF(A287=\"\",\"\",\"Číslo smlouvy:  \"&INDEX(Vložit!B:B,A287+1)&CHAR(10)&\"Jméno a příjmení:  \"&INDEX(Vložit!B:B,A287+2)&CHAR(10)&\"Ulice:  \"&INDEX(Vložit!B:B,A287+3)&CHAR(10)&\"Č. pop. / č. orient.:  \"&INDEX(Vložit!B:B,A287+4)&CHAR(10)&\"Obec:  \"&INDEX(Vložit!B:B,A287+5))","v":""},{"$f":"IF(A287=\"\",\"\",INDEX(Vložit!A:A,A287)&CHAR(10)&\"Telefon: \"&INDEX(Vložit!B:B,A287+6)&\" / \"&INDEX(Vložit!B:B,A287+7)&CHAR(10)&\"Typ objednávky: \"&INDEX(Vložit!D:D,A287+1)&CHAR(10)&INDEX(Vložit!C:C,A287)&CHAR(10)&INDEX(Vložit!D:D,A287))","v":""},{"$f":"IF(A287=\"\",\"\",IF(INDEX(Vložit!B:B,A287+8)=\"\",\"\",\"Instrukce: \"&INDEX(Vložit!B:B,A287+8)))","v":""},{"$f":"IF(A287=\"\",\"\",IF(INDEX(Vložit!B:B,A287+1)=\"\",\"\",INDEX(Vložit!B:B,A287+1)))","v":""},{"$f":"IF(A287=\"\",\"\",MID(INDEX(Vložit!A:A,A287),19,10))","v":""},{"$f":"IF(A287=\"\",\"\",IF(INDEX(Vložit!B:B,A287+5)=\"\",\"\",VLOOKUP(INDEX(Vložit!B:B,A287+5),Pomocná!B286:C10285,2,FALSE)))","v":""},{"$f":"IF(A287=\"\",\"\",INDEX(Vložit!B:B,A287+2))","v":""},{"$f":"IF(A287=\"\",\"\",IF(INDEX(Vložit!B:B,A287+3)=\"\",\"\",INDEX(Vložit!B:B,A287+3)))","v":""},{"$f":"IF(A287=\"\",\"\",INDEX(Vložit!B:B,A287+4))","v":""}]
[{"$f":"IF(A287=\"\",\"\",IF(INDEX(Vložit!A:A,(ROW(A287)-1)*17+2)<>\"\",(ROW(A287)-1)*17+2,\"\"))","v":""},{"$f":"IF(A288=\"\",\"\",\"Číslo smlouvy:  \"&INDEX(Vložit!B:B,A288+1)&CHAR(10)&\"Jméno a příjmení:  \"&INDEX(Vložit!B:B,A288+2)&CHAR(10)&\"Ulice:  \"&INDEX(Vložit!B:B,A288+3)&CHAR(10)&\"Č. pop. / č. orient.:  \"&INDEX(Vložit!B:B,A288+4)&CHAR(10)&\"Obec:  \"&INDEX(Vložit!B:B,A288+5))","v":""},{"$f":"IF(A288=\"\",\"\",INDEX(Vložit!A:A,A288)&CHAR(10)&\"Telefon: \"&INDEX(Vložit!B:B,A288+6)&\" / \"&INDEX(Vložit!B:B,A288+7)&CHAR(10)&\"Typ objednávky: \"&INDEX(Vložit!D:D,A288+1)&CHAR(10)&INDEX(Vložit!C:C,A288)&CHAR(10)&INDEX(Vložit!D:D,A288))","v":""},{"$f":"IF(A288=\"\",\"\",IF(INDEX(Vložit!B:B,A288+8)=\"\",\"\",\"Instrukce: \"&INDEX(Vložit!B:B,A288+8)))","v":""},{"$f":"IF(A288=\"\",\"\",IF(INDEX(Vložit!B:B,A288+1)=\"\",\"\",INDEX(Vložit!B:B,A288+1)))","v":""},{"$f":"IF(A288=\"\",\"\",MID(INDEX(Vložit!A:A,A288),19,10))","v":""},{"$f":"IF(A288=\"\",\"\",IF(INDEX(Vložit!B:B,A288+5)=\"\",\"\",VLOOKUP(INDEX(Vložit!B:B,A288+5),Pomocná!B287:C10286,2,FALSE)))","v":""},{"$f":"IF(A288=\"\",\"\",INDEX(Vložit!B:B,A288+2))","v":""},{"$f":"IF(A288=\"\",\"\",IF(INDEX(Vložit!B:B,A288+3)=\"\",\"\",INDEX(Vložit!B:B,A288+3)))","v":""},{"$f":"IF(A288=\"\",\"\",INDEX(Vložit!B:B,A288+4))","v":""}]
[{"$f":"IF(A288=\"\",\"\",IF(INDEX(Vložit!A:A,(ROW(A288)-1)*17+2)<>\"\",(ROW(A288)-1)*17+2,\"\"))","v":""},{"$f":"IF(A289=\"\",\"\",\"Číslo smlouvy:  \"&INDEX(Vložit!B:B,A289+1)&CHAR(10)&\"Jméno a příjmení:  \"&INDEX(Vložit!B:B,A289+2)&CHAR(10)&\"Ulice:  \"&INDEX(Vložit!B:B,A289+3)&CHAR(10)&\"Č. pop. / č. orient.:  \"&INDEX(Vložit!B:B,A289+4)&CHAR(10)&\"Obec:  \"&INDEX(Vložit!B:B,A289+5))","v":""},{"$f":"IF(A289=\"\",\"\",INDEX(Vložit!A:A,A289)&CHAR(10)&\"Telefon: \"&INDEX(Vložit!B:B,A289+6)&\" / \"&INDEX(Vložit!B:B,A289+7)&CHAR(10)&\"Typ objednávky: \"&INDEX(Vložit!D:D,A289+1)&CHAR(10)&INDEX(Vložit!C:C,A289)&CHAR(10)&INDEX(Vložit!D:D,A289))","v":""},{"$f":"IF(A289=\"\",\"\",IF(INDEX(Vložit!B:B,A289+8)=\"\",\"\",\"Instrukce: \"&INDEX(Vložit!B:B,A289+8)))","v":""},{"$f":"IF(A289=\"\",\"\",IF(INDEX(Vložit!B:B,A289+1)=\"\",\"\",INDEX(Vložit!B:B,A289+1)))","v":""},{"$f":"IF(A289=\"\",\"\",MID(INDEX(Vložit!A:A,A289),19,10))","v":""},{"$f":"IF(A289=\"\",\"\",IF(INDEX(Vložit!B:B,A289+5)=\"\",\"\",VLOOKUP(INDEX(Vložit!B:B,A289+5),Pomocná!B288:C10287,2,FALSE)))","v":""},{"$f":"IF(A289=\"\",\"\",INDEX(Vložit!B:B,A289+2))","v":""},{"$f":"IF(A289=\"\",\"\",IF(INDEX(Vložit!B:B,A289+3)=\"\",\"\",INDEX(Vložit!B:B,A289+3)))","v":""},{"$f":"IF(A289=\"\",\"\",INDEX(Vložit!B:B,A289+4))","v":""}]
[{"$f":"IF(A289=\"\",\"\",IF(INDEX(Vložit!A:A,(ROW(A289)-1)*17+2)<>\"\",(ROW(A289)-1)*17+2,\"\"))","v":""},{"$f":"IF(A290=\"\",\"\",\"Číslo smlouvy:  \"&INDEX(Vložit!B:B,A290+1)&CHAR(10)&\"Jméno a příjmení:  \"&INDEX(Vložit!B:B,A290+2)&CHAR(10)&\"Ulice:  \"&INDEX(Vložit!B:B,A290+3)&CHAR(10)&\"Č. pop. / č. orient.:  \"&INDEX(Vložit!B:B,A290+4)&CHAR(10)&\"Obec:  \"&INDEX(Vložit!B:B,A290+5))","v":""},{"$f":"IF(A290=\"\",\"\",INDEX(Vložit!A:A,A290)&CHAR(10)&\"Telefon: \"&INDEX(Vložit!B:B,A290+6)&\" / \"&INDEX(Vložit!B:B,A290+7)&CHAR(10)&\"Typ objednávky: \"&INDEX(Vložit!D:D,A290+1)&CHAR(10)&INDEX(Vložit!C:C,A290)&CHAR(10)&INDEX(Vložit!D:D,A290))","v":""},{"$f":"IF(A290=\"\",\"\",IF(INDEX(Vložit!B:B,A290+8)=\"\",\"\",\"Instrukce: \"&INDEX(Vložit!B:B,A290+8)))","v":""},{"$f":"IF(A290=\"\",\"\",IF(INDEX(Vložit!B:B,A290+1)=\"\",\"\",INDEX(Vložit!B:B,A290+1)))","v":""},{"$f":"IF(A290=\"\",\"\",MID(INDEX(Vložit!A:A,A290),19,10))","v":""},{"$f":"IF(A290=\"\",\"\",IF(INDEX(Vložit!B:B,A290+5)=\"\",\"\",VLOOKUP(INDEX(Vložit!B:B,A290+5),Pomocná!B289:C10288,2,FALSE)))","v":""},{"$f":"IF(A290=\"\",\"\",INDEX(Vložit!B:B,A290+2))","v":""},{"$f":"IF(A290=\"\",\"\",IF(INDEX(Vložit!B:B,A290+3)=\"\",\"\",INDEX(Vložit!B:B,A290+3)))","v":""},{"$f":"IF(A290=\"\",\"\",INDEX(Vložit!B:B,A290+4))","v":""}]
[{"$f":"IF(A290=\"\",\"\",IF(INDEX(Vložit!A:A,(ROW(A290)-1)*17+2)<>\"\",(ROW(A290)-1)*17+2,\"\"))","v":""},{"$f":"IF(A291=\"\",\"\",\"Číslo smlouvy:  \"&INDEX(Vložit!B:B,A291+1)&CHAR(10)&\"Jméno a příjmení:  \"&INDEX(Vložit!B:B,A291+2)&CHAR(10)&\"Ulice:  \"&INDEX(Vložit!B:B,A291+3)&CHAR(10)&\"Č. pop. / č. orient.:  \"&INDEX(Vložit!B:B,A291+4)&CHAR(10)&\"Obec:  \"&INDEX(Vložit!B:B,A291+5))","v":""},{"$f":"IF(A291=\"\",\"\",INDEX(Vložit!A:A,A291)&CHAR(10)&\"Telefon: \"&INDEX(Vložit!B:B,A291+6)&\" / \"&INDEX(Vložit!B:B,A291+7)&CHAR(10)&\"Typ objednávky: \"&INDEX(Vložit!D:D,A291+1)&CHAR(10)&INDEX(Vložit!C:C,A291)&CHAR(10)&INDEX(Vložit!D:D,A291))","v":""},{"$f":"IF(A291=\"\",\"\",IF(INDEX(Vložit!B:B,A291+8)=\"\",\"\",\"Instrukce: \"&INDEX(Vložit!B:B,A291+8)))","v":""},{"$f":"IF(A291=\"\",\"\",IF(INDEX(Vložit!B:B,A291+1)=\"\",\"\",INDEX(Vložit!B:B,A291+1)))","v":""},{"$f":"IF(A291=\"\",\"\",MID(INDEX(Vložit!A:A,A291),19,10))","v":""},{"$f":"IF(A291=\"\",\"\",IF(INDEX(Vložit!B:B,A291+5)=\"\",\"\",VLOOKUP(INDEX(Vložit!B:B,A291+5),Pomocná!B290:C10289,2,FALSE)))","v":""},{"$f":"IF(A291=\"\",\"\",INDEX(Vložit!B:B,A291+2))","v":""},{"$f":"IF(A291=\"\",\"\",IF(INDEX(Vložit!B:B,A291+3)=\"\",\"\",INDEX(Vložit!B:B,A291+3)))","v":""},{"$f":"IF(A291=\"\",\"\",INDEX(Vložit!B:B,A291+4))","v":""}]
[{"$f":"IF(A291=\"\",\"\",IF(INDEX(Vložit!A:A,(ROW(A291)-1)*17+2)<>\"\",(ROW(A291)-1)*17+2,\"\"))","v":""},{"$f":"IF(A292=\"\",\"\",\"Číslo smlouvy:  \"&INDEX(Vložit!B:B,A292+1)&CHAR(10)&\"Jméno a příjmení:  \"&INDEX(Vložit!B:B,A292+2)&CHAR(10)&\"Ulice:  \"&INDEX(Vložit!B:B,A292+3)&CHAR(10)&\"Č. pop. / č. orient.:  \"&INDEX(Vložit!B:B,A292+4)&CHAR(10)&\"Obec:  \"&INDEX(Vložit!B:B,A292+5))","v":""},{"$f":"IF(A292=\"\",\"\",INDEX(Vložit!A:A,A292)&CHAR(10)&\"Telefon: \"&INDEX(Vložit!B:B,A292+6)&\" / \"&INDEX(Vložit!B:B,A292+7)&CHAR(10)&\"Typ objednávky: \"&INDEX(Vložit!D:D,A292+1)&CHAR(10)&INDEX(Vložit!C:C,A292)&CHAR(10)&INDEX(Vložit!D:D,A292))","v":""},{"$f":"IF(A292=\"\",\"\",IF(INDEX(Vložit!B:B,A292+8)=\"\",\"\",\"Instrukce: \"&INDEX(Vložit!B:B,A292+8)))","v":""},{"$f":"IF(A292=\"\",\"\",IF(INDEX(Vložit!B:B,A292+1)=\"\",\"\",INDEX(Vložit!B:B,A292+1)))","v":""},{"$f":"IF(A292=\"\",\"\",MID(INDEX(Vložit!A:A,A292),19,10))","v":""},{"$f":"IF(A292=\"\",\"\",IF(INDEX(Vložit!B:B,A292+5)=\"\",\"\",VLOOKUP(INDEX(Vložit!B:B,A292+5),Pomocná!B291:C10290,2,FALSE)))","v":""},{"$f":"IF(A292=\"\",\"\",INDEX(Vložit!B:B,A292+2))","v":""},{"$f":"IF(A292=\"\",\"\",IF(INDEX(Vložit!B:B,A292+3)=\"\",\"\",INDEX(Vložit!B:B,A292+3)))","v":""},{"$f":"IF(A292=\"\",\"\",INDEX(Vložit!B:B,A292+4))","v":""}]
[{"$f":"IF(A292=\"\",\"\",IF(INDEX(Vložit!A:A,(ROW(A292)-1)*17+2)<>\"\",(ROW(A292)-1)*17+2,\"\"))","v":""},{"$f":"IF(A293=\"\",\"\",\"Číslo smlouvy:  \"&INDEX(Vložit!B:B,A293+1)&CHAR(10)&\"Jméno a příjmení:  \"&INDEX(Vložit!B:B,A293+2)&CHAR(10)&\"Ulice:  \"&INDEX(Vložit!B:B,A293+3)&CHAR(10)&\"Č. pop. / č. orient.:  \"&INDEX(Vložit!B:B,A293+4)&CHAR(10)&\"Obec:  \"&INDEX(Vložit!B:B,A293+5))","v":""},{"$f":"IF(A293=\"\",\"\",INDEX(Vložit!A:A,A293)&CHAR(10)&\"Telefon: \"&INDEX(Vložit!B:B,A293+6)&\" / \"&INDEX(Vložit!B:B,A293+7)&CHAR(10)&\"Typ objednávky: \"&INDEX(Vložit!D:D,A293+1)&CHAR(10)&INDEX(Vložit!C:C,A293)&CHAR(10)&INDEX(Vložit!D:D,A293))","v":""},{"$f":"IF(A293=\"\",\"\",IF(INDEX(Vložit!B:B,A293+8)=\"\",\"\",\"Instrukce: \"&INDEX(Vložit!B:B,A293+8)))","v":""},{"$f":"IF(A293=\"\",\"\",IF(INDEX(Vložit!B:B,A293+1)=\"\",\"\",INDEX(Vložit!B:B,A293+1)))","v":""},{"$f":"IF(A293=\"\",\"\",MID(INDEX(Vložit!A:A,A293),19,10))","v":""},{"$f":"IF(A293=\"\",\"\",IF(INDEX(Vložit!B:B,A293+5)=\"\",\"\",VLOOKUP(INDEX(Vložit!B:B,A293+5),Pomocná!B292:C10291,2,FALSE)))","v":""},{"$f":"IF(A293=\"\",\"\",INDEX(Vložit!B:B,A293+2))","v":""},{"$f":"IF(A293=\"\",\"\",IF(INDEX(Vložit!B:B,A293+3)=\"\",\"\",INDEX(Vložit!B:B,A293+3)))","v":""},{"$f":"IF(A293=\"\",\"\",INDEX(Vložit!B:B,A293+4))","v":""}]
[{"$f":"IF(A293=\"\",\"\",IF(INDEX(Vložit!A:A,(ROW(A293)-1)*17+2)<>\"\",(ROW(A293)-1)*17+2,\"\"))","v":""},{"$f":"IF(A294=\"\",\"\",\"Číslo smlouvy:  \"&INDEX(Vložit!B:B,A294+1)&CHAR(10)&\"Jméno a příjmení:  \"&INDEX(Vložit!B:B,A294+2)&CHAR(10)&\"Ulice:  \"&INDEX(Vložit!B:B,A294+3)&CHAR(10)&\"Č. pop. / č. orient.:  \"&INDEX(Vložit!B:B,A294+4)&CHAR(10)&\"Obec:  \"&INDEX(Vložit!B:B,A294+5))","v":""},{"$f":"IF(A294=\"\",\"\",INDEX(Vložit!A:A,A294)&CHAR(10)&\"Telefon: \"&INDEX(Vložit!B:B,A294+6)&\" / \"&INDEX(Vložit!B:B,A294+7)&CHAR(10)&\"Typ objednávky: \"&INDEX(Vložit!D:D,A294+1)&CHAR(10)&INDEX(Vložit!C:C,A294)&CHAR(10)&INDEX(Vložit!D:D,A294))","v":""},{"$f":"IF(A294=\"\",\"\",IF(INDEX(Vložit!B:B,A294+8)=\"\",\"\",\"Instrukce: \"&INDEX(Vložit!B:B,A294+8)))","v":""},{"$f":"IF(A294=\"\",\"\",IF(INDEX(Vložit!B:B,A294+1)=\"\",\"\",INDEX(Vložit!B:B,A294+1)))","v":""},{"$f":"IF(A294=\"\",\"\",MID(INDEX(Vložit!A:A,A294),19,10))","v":""},{"$f":"IF(A294=\"\",\"\",IF(INDEX(Vložit!B:B,A294+5)=\"\",\"\",VLOOKUP(INDEX(Vložit!B:B,A294+5),Pomocná!B293:C10292,2,FALSE)))","v":""},{"$f":"IF(A294=\"\",\"\",INDEX(Vložit!B:B,A294+2))","v":""},{"$f":"IF(A294=\"\",\"\",IF(INDEX(Vložit!B:B,A294+3)=\"\",\"\",INDEX(Vložit!B:B,A294+3)))","v":""},{"$f":"IF(A294=\"\",\"\",INDEX(Vložit!B:B,A294+4))","v":""}]
[{"$f":"IF(A294=\"\",\"\",IF(INDEX(Vložit!A:A,(ROW(A294)-1)*17+2)<>\"\",(ROW(A294)-1)*17+2,\"\"))","v":""},{"$f":"IF(A295=\"\",\"\",\"Číslo smlouvy:  \"&INDEX(Vložit!B:B,A295+1)&CHAR(10)&\"Jméno a příjmení:  \"&INDEX(Vložit!B:B,A295+2)&CHAR(10)&\"Ulice:  \"&INDEX(Vložit!B:B,A295+3)&CHAR(10)&\"Č. pop. / č. orient.:  \"&INDEX(Vložit!B:B,A295+4)&CHAR(10)&\"Obec:  \"&INDEX(Vložit!B:B,A295+5))","v":""},{"$f":"IF(A295=\"\",\"\",INDEX(Vložit!A:A,A295)&CHAR(10)&\"Telefon: \"&INDEX(Vložit!B:B,A295+6)&\" / \"&INDEX(Vložit!B:B,A295+7)&CHAR(10)&\"Typ objednávky: \"&INDEX(Vložit!D:D,A295+1)&CHAR(10)&INDEX(Vložit!C:C,A295)&CHAR(10)&INDEX(Vložit!D:D,A295))","v":""},{"$f":"IF(A295=\"\",\"\",IF(INDEX(Vložit!B:B,A295+8)=\"\",\"\",\"Instrukce: \"&INDEX(Vložit!B:B,A295+8)))","v":""},{"$f":"IF(A295=\"\",\"\",IF(INDEX(Vložit!B:B,A295+1)=\"\",\"\",INDEX(Vložit!B:B,A295+1)))","v":""},{"$f":"IF(A295=\"\",\"\",MID(INDEX(Vložit!A:A,A295),19,10))","v":""},{"$f":"IF(A295=\"\",\"\",IF(INDEX(Vložit!B:B,A295+5)=\"\",\"\",VLOOKUP(INDEX(Vložit!B:B,A295+5),Pomocná!B294:C10293,2,FALSE)))","v":""},{"$f":"IF(A295=\"\",\"\",INDEX(Vložit!B:B,A295+2))","v":""},{"$f":"IF(A295=\"\",\"\",IF(INDEX(Vložit!B:B,A295+3)=\"\",\"\",INDEX(Vložit!B:B,A295+3)))","v":""},{"$f":"IF(A295=\"\",\"\",INDEX(Vložit!B:B,A295+4))","v":""}]
[{"$f":"IF(A295=\"\",\"\",IF(INDEX(Vložit!A:A,(ROW(A295)-1)*17+2)<>\"\",(ROW(A295)-1)*17+2,\"\"))","v":""},{"$f":"IF(A296=\"\",\"\",\"Číslo smlouvy:  \"&INDEX(Vložit!B:B,A296+1)&CHAR(10)&\"Jméno a příjmení:  \"&INDEX(Vložit!B:B,A296+2)&CHAR(10)&\"Ulice:  \"&INDEX(Vložit!B:B,A296+3)&CHAR(10)&\"Č. pop. / č. orient.:  \"&INDEX(Vložit!B:B,A296+4)&CHAR(10)&\"Obec:  \"&INDEX(Vložit!B:B,A296+5))","v":""},{"$f":"IF(A296=\"\",\"\",INDEX(Vložit!A:A,A296)&CHAR(10)&\"Telefon: \"&INDEX(Vložit!B:B,A296+6)&\" / \"&INDEX(Vložit!B:B,A296+7)&CHAR(10)&\"Typ objednávky: \"&INDEX(Vložit!D:D,A296+1)&CHAR(10)&INDEX(Vložit!C:C,A296)&CHAR(10)&INDEX(Vložit!D:D,A296))","v":""},{"$f":"IF(A296=\"\",\"\",IF(INDEX(Vložit!B:B,A296+8)=\"\",\"\",\"Instrukce: \"&INDEX(Vložit!B:B,A296+8)))","v":""},{"$f":"IF(A296=\"\",\"\",IF(INDEX(Vložit!B:B,A296+1)=\"\",\"\",INDEX(Vložit!B:B,A296+1)))","v":""},{"$f":"IF(A296=\"\",\"\",MID(INDEX(Vložit!A:A,A296),19,10))","v":""},{"$f":"IF(A296=\"\",\"\",IF(INDEX(Vložit!B:B,A296+5)=\"\",\"\",VLOOKUP(INDEX(Vložit!B:B,A296+5),Pomocná!B295:C10294,2,FALSE)))","v":""},{"$f":"IF(A296=\"\",\"\",INDEX(Vložit!B:B,A296+2))","v":""},{"$f":"IF(A296=\"\",\"\",IF(INDEX(Vložit!B:B,A296+3)=\"\",\"\",INDEX(Vložit!B:B,A296+3)))","v":""},{"$f":"IF(A296=\"\",\"\",INDEX(Vložit!B:B,A296+4))","v":""}]
[{"$f":"IF(A296=\"\",\"\",IF(INDEX(Vložit!A:A,(ROW(A296)-1)*17+2)<>\"\",(ROW(A296)-1)*17+2,\"\"))","v":""},{"$f":"IF(A297=\"\",\"\",\"Číslo smlouvy:  \"&INDEX(Vložit!B:B,A297+1)&CHAR(10)&\"Jméno a příjmení:  \"&INDEX(Vložit!B:B,A297+2)&CHAR(10)&\"Ulice:  \"&INDEX(Vložit!B:B,A297+3)&CHAR(10)&\"Č. pop. / č. orient.:  \"&INDEX(Vložit!B:B,A297+4)&CHAR(10)&\"Obec:  \"&INDEX(Vložit!B:B,A297+5))","v":""},{"$f":"IF(A297=\"\",\"\",INDEX(Vložit!A:A,A297)&CHAR(10)&\"Telefon: \"&INDEX(Vložit!B:B,A297+6)&\" / \"&INDEX(Vložit!B:B,A297+7)&CHAR(10)&\"Typ objednávky: \"&INDEX(Vložit!D:D,A297+1)&CHAR(10)&INDEX(Vložit!C:C,A297)&CHAR(10)&INDEX(Vložit!D:D,A297))","v":""},{"$f":"IF(A297=\"\",\"\",IF(INDEX(Vložit!B:B,A297+8)=\"\",\"\",\"Instrukce: \"&INDEX(Vložit!B:B,A297+8)))","v":""},{"$f":"IF(A297=\"\",\"\",IF(INDEX(Vložit!B:B,A297+1)=\"\",\"\",INDEX(Vložit!B:B,A297+1)))","v":""},{"$f":"IF(A297=\"\",\"\",MID(INDEX(Vložit!A:A,A297),19,10))","v":""},{"$f":"IF(A297=\"\",\"\",IF(INDEX(Vložit!B:B,A297+5)=\"\",\"\",VLOOKUP(INDEX(Vložit!B:B,A297+5),Pomocná!B296:C10295,2,FALSE)))","v":""},{"$f":"IF(A297=\"\",\"\",INDEX(Vložit!B:B,A297+2))","v":""},{"$f":"IF(A297=\"\",\"\",IF(INDEX(Vložit!B:B,A297+3)=\"\",\"\",INDEX(Vložit!B:B,A297+3)))","v":""},{"$f":"IF(A297=\"\",\"\",INDEX(Vložit!B:B,A297+4))","v":""}]
[{"$f":"IF(A297=\"\",\"\",IF(INDEX(Vložit!A:A,(ROW(A297)-1)*17+2)<>\"\",(ROW(A297)-1)*17+2,\"\"))","v":""},{"$f":"IF(A298=\"\",\"\",\"Číslo smlouvy:  \"&INDEX(Vložit!B:B,A298+1)&CHAR(10)&\"Jméno a příjmení:  \"&INDEX(Vložit!B:B,A298+2)&CHAR(10)&\"Ulice:  \"&INDEX(Vložit!B:B,A298+3)&CHAR(10)&\"Č. pop. / č. orient.:  \"&INDEX(Vložit!B:B,A298+4)&CHAR(10)&\"Obec:  \"&INDEX(Vložit!B:B,A298+5))","v":""},{"$f":"IF(A298=\"\",\"\",INDEX(Vložit!A:A,A298)&CHAR(10)&\"Telefon: \"&INDEX(Vložit!B:B,A298+6)&\" / \"&INDEX(Vložit!B:B,A298+7)&CHAR(10)&\"Typ objednávky: \"&INDEX(Vložit!D:D,A298+1)&CHAR(10)&INDEX(Vložit!C:C,A298)&CHAR(10)&INDEX(Vložit!D:D,A298))","v":""},{"$f":"IF(A298=\"\",\"\",IF(INDEX(Vložit!B:B,A298+8)=\"\",\"\",\"Instrukce: \"&INDEX(Vložit!B:B,A298+8)))","v":""},{"$f":"IF(A298=\"\",\"\",IF(INDEX(Vložit!B:B,A298+1)=\"\",\"\",INDEX(Vložit!B:B,A298+1)))","v":""},{"$f":"IF(A298=\"\",\"\",MID(INDEX(Vložit!A:A,A298),19,10))","v":""},{"$f":"IF(A298=\"\",\"\",IF(INDEX(Vložit!B:B,A298+5)=\"\",\"\",VLOOKUP(INDEX(Vložit!B:B,A298+5),Pomocná!B297:C10296,2,FALSE)))","v":""},{"$f":"IF(A298=\"\",\"\",INDEX(Vložit!B:B,A298+2))","v":""},{"$f":"IF(A298=\"\",\"\",IF(INDEX(Vložit!B:B,A298+3)=\"\",\"\",INDEX(Vložit!B:B,A298+3)))","v":""},{"$f":"IF(A298=\"\",\"\",INDEX(Vložit!B:B,A298+4))","v":""}]
[{"$f":"IF(A298=\"\",\"\",IF(INDEX(Vložit!A:A,(ROW(A298)-1)*17+2)<>\"\",(ROW(A298)-1)*17+2,\"\"))","v":""},{"$f":"IF(A299=\"\",\"\",\"Číslo smlouvy:  \"&INDEX(Vložit!B:B,A299+1)&CHAR(10)&\"Jméno a příjmení:  \"&INDEX(Vložit!B:B,A299+2)&CHAR(10)&\"Ulice:  \"&INDEX(Vložit!B:B,A299+3)&CHAR(10)&\"Č. pop. / č. orient.:  \"&INDEX(Vložit!B:B,A299+4)&CHAR(10)&\"Obec:  \"&INDEX(Vložit!B:B,A299+5))","v":""},{"$f":"IF(A299=\"\",\"\",INDEX(Vložit!A:A,A299)&CHAR(10)&\"Telefon: \"&INDEX(Vložit!B:B,A299+6)&\" / \"&INDEX(Vložit!B:B,A299+7)&CHAR(10)&\"Typ objednávky: \"&INDEX(Vložit!D:D,A299+1)&CHAR(10)&INDEX(Vložit!C:C,A299)&CHAR(10)&INDEX(Vložit!D:D,A299))","v":""},{"$f":"IF(A299=\"\",\"\",IF(INDEX(Vložit!B:B,A299+8)=\"\",\"\",\"Instrukce: \"&INDEX(Vložit!B:B,A299+8)))","v":""},{"$f":"IF(A299=\"\",\"\",IF(INDEX(Vložit!B:B,A299+1)=\"\",\"\",INDEX(Vložit!B:B,A299+1)))","v":""},{"$f":"IF(A299=\"\",\"\",MID(INDEX(Vložit!A:A,A299),19,10))","v":""},{"$f":"IF(A299=\"\",\"\",IF(INDEX(Vložit!B:B,A299+5)=\"\",\"\",VLOOKUP(INDEX(Vložit!B:B,A299+5),Pomocná!B298:C10297,2,FALSE)))","v":""},{"$f":"IF(A299=\"\",\"\",INDEX(Vložit!B:B,A299+2))","v":""},{"$f":"IF(A299=\"\",\"\",IF(INDEX(Vložit!B:B,A299+3)=\"\",\"\",INDEX(Vložit!B:B,A299+3)))","v":""},{"$f":"IF(A299=\"\",\"\",INDEX(Vložit!B:B,A299+4))","v":""}]
[{"$f":"IF(A299=\"\",\"\",IF(INDEX(Vložit!A:A,(ROW(A299)-1)*17+2)<>\"\",(ROW(A299)-1)*17+2,\"\"))","v":""},{"$f":"IF(A300=\"\",\"\",\"Číslo smlouvy:  \"&INDEX(Vložit!B:B,A300+1)&CHAR(10)&\"Jméno a příjmení:  \"&INDEX(Vložit!B:B,A300+2)&CHAR(10)&\"Ulice:  \"&INDEX(Vložit!B:B,A300+3)&CHAR(10)&\"Č. pop. / č. orient.:  \"&INDEX(Vložit!B:B,A300+4)&CHAR(10)&\"Obec:  \"&INDEX(Vložit!B:B,A300+5))","v":""},{"$f":"IF(A300=\"\",\"\",INDEX(Vložit!A:A,A300)&CHAR(10)&\"Telefon: \"&INDEX(Vložit!B:B,A300+6)&\" / \"&INDEX(Vložit!B:B,A300+7)&CHAR(10)&\"Typ objednávky: \"&INDEX(Vložit!D:D,A300+1)&CHAR(10)&INDEX(Vložit!C:C,A300)&CHAR(10)&INDEX(Vložit!D:D,A300))","v":""},{"$f":"IF(A300=\"\",\"\",IF(INDEX(Vložit!B:B,A300+8)=\"\",\"\",\"Instrukce: \"&INDEX(Vložit!B:B,A300+8)))","v":""},{"$f":"IF(A300=\"\",\"\",IF(INDEX(Vložit!B:B,A300+1)=\"\",\"\",INDEX(Vložit!B:B,A300+1)))","v":""},{"$f":"IF(A300=\"\",\"\",MID(INDEX(Vložit!A:A,A300),19,10))","v":""},{"$f":"IF(A300=\"\",\"\",IF(INDEX(Vložit!B:B,A300+5)=\"\",\"\",VLOOKUP(INDEX(Vložit!B:B,A300+5),Pomocná!B299:C10298,2,FALSE)))","v":""},{"$f":"IF(A300=\"\",\"\",INDEX(Vložit!B:B,A300+2))","v":""},{"$f":"IF(A300=\"\",\"\",IF(INDEX(Vložit!B:B,A300+3)=\"\",\"\",INDEX(Vložit!B:B,A300+3)))","v":""},{"$f":"IF(A300=\"\",\"\",INDEX(Vložit!B:B,A300+4))","v":""}]
[{"$f":"IF(A300=\"\",\"\",IF(INDEX(Vložit!A:A,(ROW(A300)-1)*17+2)<>\"\",(ROW(A300)-1)*17+2,\"\"))","v":""},{"$f":"IF(A301=\"\",\"\",\"Číslo smlouvy:  \"&INDEX(Vložit!B:B,A301+1)&CHAR(10)&\"Jméno a příjmení:  \"&INDEX(Vložit!B:B,A301+2)&CHAR(10)&\"Ulice:  \"&INDEX(Vložit!B:B,A301+3)&CHAR(10)&\"Č. pop. / č. orient.:  \"&INDEX(Vložit!B:B,A301+4)&CHAR(10)&\"Obec:  \"&INDEX(Vložit!B:B,A301+5))","v":""},{"$f":"IF(A301=\"\",\"\",INDEX(Vložit!A:A,A301)&CHAR(10)&\"Telefon: \"&INDEX(Vložit!B:B,A301+6)&\" / \"&INDEX(Vložit!B:B,A301+7)&CHAR(10)&\"Typ objednávky: \"&INDEX(Vložit!D:D,A301+1)&CHAR(10)&INDEX(Vložit!C:C,A301)&CHAR(10)&INDEX(Vložit!D:D,A301))","v":""},{"$f":"IF(A301=\"\",\"\",IF(INDEX(Vložit!B:B,A301+8)=\"\",\"\",\"Instrukce: \"&INDEX(Vložit!B:B,A301+8)))","v":""},{"$f":"IF(A301=\"\",\"\",IF(INDEX(Vložit!B:B,A301+1)=\"\",\"\",INDEX(Vložit!B:B,A301+1)))","v":""},{"$f":"IF(A301=\"\",\"\",MID(INDEX(Vložit!A:A,A301),19,10))","v":""},{"$f":"IF(A301=\"\",\"\",IF(INDEX(Vložit!B:B,A301+5)=\"\",\"\",VLOOKUP(INDEX(Vložit!B:B,A301+5),Pomocná!B300:C10299,2,FALSE)))","v":""},{"$f":"IF(A301=\"\",\"\",INDEX(Vložit!B:B,A301+2))","v":""},{"$f":"IF(A301=\"\",\"\",IF(INDEX(Vložit!B:B,A301+3)=\"\",\"\",INDEX(Vložit!B:B,A301+3)))","v":""},{"$f":"IF(A301=\"\",\"\",INDEX(Vložit!B:B,A301+4))","v":""}]
[{"$f":"IF(A301=\"\",\"\",IF(INDEX(Vložit!A:A,(ROW(A301)-1)*17+2)<>\"\",(ROW(A301)-1)*17+2,\"\"))","v":""},{"$f":"IF(A302=\"\",\"\",\"Číslo smlouvy:  \"&INDEX(Vložit!B:B,A302+1)&CHAR(10)&\"Jméno a příjmení:  \"&INDEX(Vložit!B:B,A302+2)&CHAR(10)&\"Ulice:  \"&INDEX(Vložit!B:B,A302+3)&CHAR(10)&\"Č. pop. / č. orient.:  \"&INDEX(Vložit!B:B,A302+4)&CHAR(10)&\"Obec:  \"&INDEX(Vložit!B:B,A302+5))","v":""},{"$f":"IF(A302=\"\",\"\",INDEX(Vložit!A:A,A302)&CHAR(10)&\"Telefon: \"&INDEX(Vložit!B:B,A302+6)&\" / \"&INDEX(Vložit!B:B,A302+7)&CHAR(10)&\"Typ objednávky: \"&INDEX(Vložit!D:D,A302+1)&CHAR(10)&INDEX(Vložit!C:C,A302)&CHAR(10)&INDEX(Vložit!D:D,A302))","v":""},{"$f":"IF(A302=\"\",\"\",IF(INDEX(Vložit!B:B,A302+8)=\"\",\"\",\"Instrukce: \"&INDEX(Vložit!B:B,A302+8)))","v":""},{"$f":"IF(A302=\"\",\"\",IF(INDEX(Vložit!B:B,A302+1)=\"\",\"\",INDEX(Vložit!B:B,A302+1)))","v":""},{"$f":"IF(A302=\"\",\"\",MID(INDEX(Vložit!A:A,A302),19,10))","v":""},{"$f":"IF(A302=\"\",\"\",IF(INDEX(Vložit!B:B,A302+5)=\"\",\"\",VLOOKUP(INDEX(Vložit!B:B,A302+5),Pomocná!B301:C10300,2,FALSE)))","v":""},{"$f":"IF(A302=\"\",\"\",INDEX(Vložit!B:B,A302+2))","v":""},{"$f":"IF(A302=\"\",\"\",IF(INDEX(Vložit!B:B,A302+3)=\"\",\"\",INDEX(Vložit!B:B,A302+3)))","v":""},{"$f":"IF(A302=\"\",\"\",INDEX(Vložit!B:B,A302+4))","v":""}]
[{"$f":"IF(A302=\"\",\"\",IF(INDEX(Vložit!A:A,(ROW(A302)-1)*17+2)<>\"\",(ROW(A302)-1)*17+2,\"\"))","v":""},{"$f":"IF(A303=\"\",\"\",\"Číslo smlouvy:  \"&INDEX(Vložit!B:B,A303+1)&CHAR(10)&\"Jméno a příjmení:  \"&INDEX(Vložit!B:B,A303+2)&CHAR(10)&\"Ulice:  \"&INDEX(Vložit!B:B,A303+3)&CHAR(10)&\"Č. pop. / č. orient.:  \"&INDEX(Vložit!B:B,A303+4)&CHAR(10)&\"Obec:  \"&INDEX(Vložit!B:B,A303+5))","v":""},{"$f":"IF(A303=\"\",\"\",INDEX(Vložit!A:A,A303)&CHAR(10)&\"Telefon: \"&INDEX(Vložit!B:B,A303+6)&\" / \"&INDEX(Vložit!B:B,A303+7)&CHAR(10)&\"Typ objednávky: \"&INDEX(Vložit!D:D,A303+1)&CHAR(10)&INDEX(Vložit!C:C,A303)&CHAR(10)&INDEX(Vložit!D:D,A303))","v":""},{"$f":"IF(A303=\"\",\"\",IF(INDEX(Vložit!B:B,A303+8)=\"\",\"\",\"Instrukce: \"&INDEX(Vložit!B:B,A303+8)))","v":""},{"$f":"IF(A303=\"\",\"\",IF(INDEX(Vložit!B:B,A303+1)=\"\",\"\",INDEX(Vložit!B:B,A303+1)))","v":""},{"$f":"IF(A303=\"\",\"\",MID(INDEX(Vložit!A:A,A303),19,10))","v":""},{"$f":"IF(A303=\"\",\"\",IF(INDEX(Vložit!B:B,A303+5)=\"\",\"\",VLOOKUP(INDEX(Vložit!B:B,A303+5),Pomocná!B302:C10301,2,FALSE)))","v":""},{"$f":"IF(A303=\"\",\"\",INDEX(Vložit!B:B,A303+2))","v":""},{"$f":"IF(A303=\"\",\"\",IF(INDEX(Vložit!B:B,A303+3)=\"\",\"\",INDEX(Vložit!B:B,A303+3)))","v":""},{"$f":"IF(A303=\"\",\"\",INDEX(Vložit!B:B,A303+4))","v":""}]
[{"$f":"IF(A303=\"\",\"\",IF(INDEX(Vložit!A:A,(ROW(A303)-1)*17+2)<>\"\",(ROW(A303)-1)*17+2,\"\"))","v":""},{"$f":"IF(A304=\"\",\"\",\"Číslo smlouvy:  \"&INDEX(Vložit!B:B,A304+1)&CHAR(10)&\"Jméno a příjmení:  \"&INDEX(Vložit!B:B,A304+2)&CHAR(10)&\"Ulice:  \"&INDEX(Vložit!B:B,A304+3)&CHAR(10)&\"Č. pop. / č. orient.:  \"&INDEX(Vložit!B:B,A304+4)&CHAR(10)&\"Obec:  \"&INDEX(Vložit!B:B,A304+5))","v":""},{"$f":"IF(A304=\"\",\"\",INDEX(Vložit!A:A,A304)&CHAR(10)&\"Telefon: \"&INDEX(Vložit!B:B,A304+6)&\" / \"&INDEX(Vložit!B:B,A304+7)&CHAR(10)&\"Typ objednávky: \"&INDEX(Vložit!D:D,A304+1)&CHAR(10)&INDEX(Vložit!C:C,A304)&CHAR(10)&INDEX(Vložit!D:D,A304))","v":""},{"$f":"IF(A304=\"\",\"\",IF(INDEX(Vložit!B:B,A304+8)=\"\",\"\",\"Instrukce: \"&INDEX(Vložit!B:B,A304+8)))","v":""},{"$f":"IF(A304=\"\",\"\",IF(INDEX(Vložit!B:B,A304+1)=\"\",\"\",INDEX(Vložit!B:B,A304+1)))","v":""},{"$f":"IF(A304=\"\",\"\",MID(INDEX(Vložit!A:A,A304),19,10))","v":""},{"$f":"IF(A304=\"\",\"\",IF(INDEX(Vložit!B:B,A304+5)=\"\",\"\",VLOOKUP(INDEX(Vložit!B:B,A304+5),Pomocná!B303:C10302,2,FALSE)))","v":""},{"$f":"IF(A304=\"\",\"\",INDEX(Vložit!B:B,A304+2))","v":""},{"$f":"IF(A304=\"\",\"\",IF(INDEX(Vložit!B:B,A304+3)=\"\",\"\",INDEX(Vložit!B:B,A304+3)))","v":""},{"$f":"IF(A304=\"\",\"\",INDEX(Vložit!B:B,A304+4))","v":""}]
[{"$f":"IF(A304=\"\",\"\",IF(INDEX(Vložit!A:A,(ROW(A304)-1)*17+2)<>\"\",(ROW(A304)-1)*17+2,\"\"))","v":""},{"$f":"IF(A305=\"\",\"\",\"Číslo smlouvy:  \"&INDEX(Vložit!B:B,A305+1)&CHAR(10)&\"Jméno a příjmení:  \"&INDEX(Vložit!B:B,A305+2)&CHAR(10)&\"Ulice:  \"&INDEX(Vložit!B:B,A305+3)&CHAR(10)&\"Č. pop. / č. orient.:  \"&INDEX(Vložit!B:B,A305+4)&CHAR(10)&\"Obec:  \"&INDEX(Vložit!B:B,A305+5))","v":""},{"$f":"IF(A305=\"\",\"\",INDEX(Vložit!A:A,A305)&CHAR(10)&\"Telefon: \"&INDEX(Vložit!B:B,A305+6)&\" / \"&INDEX(Vložit!B:B,A305+7)&CHAR(10)&\"Typ objednávky: \"&INDEX(Vložit!D:D,A305+1)&CHAR(10)&INDEX(Vložit!C:C,A305)&CHAR(10)&INDEX(Vložit!D:D,A305))","v":""},{"$f":"IF(A305=\"\",\"\",IF(INDEX(Vložit!B:B,A305+8)=\"\",\"\",\"Instrukce: \"&INDEX(Vložit!B:B,A305+8)))","v":""},{"$f":"IF(A305=\"\",\"\",IF(INDEX(Vložit!B:B,A305+1)=\"\",\"\",INDEX(Vložit!B:B,A305+1)))","v":""},{"$f":"IF(A305=\"\",\"\",MID(INDEX(Vložit!A:A,A305),19,10))","v":""},{"$f":"IF(A305=\"\",\"\",IF(INDEX(Vložit!B:B,A305+5)=\"\",\"\",VLOOKUP(INDEX(Vložit!B:B,A305+5),Pomocná!B304:C10303,2,FALSE)))","v":""},{"$f":"IF(A305=\"\",\"\",INDEX(Vložit!B:B,A305+2))","v":""},{"$f":"IF(A305=\"\",\"\",IF(INDEX(Vložit!B:B,A305+3)=\"\",\"\",INDEX(Vložit!B:B,A305+3)))","v":""},{"$f":"IF(A305=\"\",\"\",INDEX(Vložit!B:B,A305+4))","v":""}]
[{"$f":"IF(A305=\"\",\"\",IF(INDEX(Vložit!A:A,(ROW(A305)-1)*17+2)<>\"\",(ROW(A305)-1)*17+2,\"\"))","v":""},{"$f":"IF(A306=\"\",\"\",\"Číslo smlouvy:  \"&INDEX(Vložit!B:B,A306+1)&CHAR(10)&\"Jméno a příjmení:  \"&INDEX(Vložit!B:B,A306+2)&CHAR(10)&\"Ulice:  \"&INDEX(Vložit!B:B,A306+3)&CHAR(10)&\"Č. pop. / č. orient.:  \"&INDEX(Vložit!B:B,A306+4)&CHAR(10)&\"Obec:  \"&INDEX(Vložit!B:B,A306+5))","v":""},{"$f":"IF(A306=\"\",\"\",INDEX(Vložit!A:A,A306)&CHAR(10)&\"Telefon: \"&INDEX(Vložit!B:B,A306+6)&\" / \"&INDEX(Vložit!B:B,A306+7)&CHAR(10)&\"Typ objednávky: \"&INDEX(Vložit!D:D,A306+1)&CHAR(10)&INDEX(Vložit!C:C,A306)&CHAR(10)&INDEX(Vložit!D:D,A306))","v":""},{"$f":"IF(A306=\"\",\"\",IF(INDEX(Vložit!B:B,A306+8)=\"\",\"\",\"Instrukce: \"&INDEX(Vložit!B:B,A306+8)))","v":""},{"$f":"IF(A306=\"\",\"\",IF(INDEX(Vložit!B:B,A306+1)=\"\",\"\",INDEX(Vložit!B:B,A306+1)))","v":""},{"$f":"IF(A306=\"\",\"\",MID(INDEX(Vložit!A:A,A306),19,10))","v":""},{"$f":"IF(A306=\"\",\"\",IF(INDEX(Vložit!B:B,A306+5)=\"\",\"\",VLOOKUP(INDEX(Vložit!B:B,A306+5),Pomocná!B305:C10304,2,FALSE)))","v":""},{"$f":"IF(A306=\"\",\"\",INDEX(Vložit!B:B,A306+2))","v":""},{"$f":"IF(A306=\"\",\"\",IF(INDEX(Vložit!B:B,A306+3)=\"\",\"\",INDEX(Vložit!B:B,A306+3)))","v":""},{"$f":"IF(A306=\"\",\"\",INDEX(Vložit!B:B,A306+4))","v":""}]
[{"$f":"IF(A306=\"\",\"\",IF(INDEX(Vložit!A:A,(ROW(A306)-1)*17+2)<>\"\",(ROW(A306)-1)*17+2,\"\"))","v":""},{"$f":"IF(A307=\"\",\"\",\"Číslo smlouvy:  \"&INDEX(Vložit!B:B,A307+1)&CHAR(10)&\"Jméno a příjmení:  \"&INDEX(Vložit!B:B,A307+2)&CHAR(10)&\"Ulice:  \"&INDEX(Vložit!B:B,A307+3)&CHAR(10)&\"Č. pop. / č. orient.:  \"&INDEX(Vložit!B:B,A307+4)&CHAR(10)&\"Obec:  \"&INDEX(Vložit!B:B,A307+5))","v":""},{"$f":"IF(A307=\"\",\"\",INDEX(Vložit!A:A,A307)&CHAR(10)&\"Telefon: \"&INDEX(Vložit!B:B,A307+6)&\" / \"&INDEX(Vložit!B:B,A307+7)&CHAR(10)&\"Typ objednávky: \"&INDEX(Vložit!D:D,A307+1)&CHAR(10)&INDEX(Vložit!C:C,A307)&CHAR(10)&INDEX(Vložit!D:D,A307))","v":""},{"$f":"IF(A307=\"\",\"\",IF(INDEX(Vložit!B:B,A307+8)=\"\",\"\",\"Instrukce: \"&INDEX(Vložit!B:B,A307+8)))","v":""},{"$f":"IF(A307=\"\",\"\",IF(INDEX(Vložit!B:B,A307+1)=\"\",\"\",INDEX(Vložit!B:B,A307+1)))","v":""},{"$f":"IF(A307=\"\",\"\",MID(INDEX(Vložit!A:A,A307),19,10))","v":""},{"$f":"IF(A307=\"\",\"\",IF(INDEX(Vložit!B:B,A307+5)=\"\",\"\",VLOOKUP(INDEX(Vložit!B:B,A307+5),Pomocná!B306:C10305,2,FALSE)))","v":""},{"$f":"IF(A307=\"\",\"\",INDEX(Vložit!B:B,A307+2))","v":""},{"$f":"IF(A307=\"\",\"\",IF(INDEX(Vložit!B:B,A307+3)=\"\",\"\",INDEX(Vložit!B:B,A307+3)))","v":""},{"$f":"IF(A307=\"\",\"\",INDEX(Vložit!B:B,A307+4))","v":""}]
[{"$f":"IF(A307=\"\",\"\",IF(INDEX(Vložit!A:A,(ROW(A307)-1)*17+2)<>\"\",(ROW(A307)-1)*17+2,\"\"))","v":""},{"$f":"IF(A308=\"\",\"\",\"Číslo smlouvy:  \"&INDEX(Vložit!B:B,A308+1)&CHAR(10)&\"Jméno a příjmení:  \"&INDEX(Vložit!B:B,A308+2)&CHAR(10)&\"Ulice:  \"&INDEX(Vložit!B:B,A308+3)&CHAR(10)&\"Č. pop. / č. orient.:  \"&INDEX(Vložit!B:B,A308+4)&CHAR(10)&\"Obec:  \"&INDEX(Vložit!B:B,A308+5))","v":""},{"$f":"IF(A308=\"\",\"\",INDEX(Vložit!A:A,A308)&CHAR(10)&\"Telefon: \"&INDEX(Vložit!B:B,A308+6)&\" / \"&INDEX(Vložit!B:B,A308+7)&CHAR(10)&\"Typ objednávky: \"&INDEX(Vložit!D:D,A308+1)&CHAR(10)&INDEX(Vložit!C:C,A308)&CHAR(10)&INDEX(Vložit!D:D,A308))","v":""},{"$f":"IF(A308=\"\",\"\",IF(INDEX(Vložit!B:B,A308+8)=\"\",\"\",\"Instrukce: \"&INDEX(Vložit!B:B,A308+8)))","v":""},{"$f":"IF(A308=\"\",\"\",IF(INDEX(Vložit!B:B,A308+1)=\"\",\"\",INDEX(Vložit!B:B,A308+1)))","v":""},{"$f":"IF(A308=\"\",\"\",MID(INDEX(Vložit!A:A,A308),19,10))","v":""},{"$f":"IF(A308=\"\",\"\",IF(INDEX(Vložit!B:B,A308+5)=\"\",\"\",VLOOKUP(INDEX(Vložit!B:B,A308+5),Pomocná!B307:C10306,2,FALSE)))","v":""},{"$f":"IF(A308=\"\",\"\",INDEX(Vložit!B:B,A308+2))","v":""},{"$f":"IF(A308=\"\",\"\",IF(INDEX(Vložit!B:B,A308+3)=\"\",\"\",INDEX(Vložit!B:B,A308+3)))","v":""},{"$f":"IF(A308=\"\",\"\",INDEX(Vložit!B:B,A308+4))","v":""}]
[{"$f":"IF(A308=\"\",\"\",IF(INDEX(Vložit!A:A,(ROW(A308)-1)*17+2)<>\"\",(ROW(A308)-1)*17+2,\"\"))","v":""},{"$f":"IF(A309=\"\",\"\",\"Číslo smlouvy:  \"&INDEX(Vložit!B:B,A309+1)&CHAR(10)&\"Jméno a příjmení:  \"&INDEX(Vložit!B:B,A309+2)&CHAR(10)&\"Ulice:  \"&INDEX(Vložit!B:B,A309+3)&CHAR(10)&\"Č. pop. / č. orient.:  \"&INDEX(Vložit!B:B,A309+4)&CHAR(10)&\"Obec:  \"&INDEX(Vložit!B:B,A309+5))","v":""},{"$f":"IF(A309=\"\",\"\",INDEX(Vložit!A:A,A309)&CHAR(10)&\"Telefon: \"&INDEX(Vložit!B:B,A309+6)&\" / \"&INDEX(Vložit!B:B,A309+7)&CHAR(10)&\"Typ objednávky: \"&INDEX(Vložit!D:D,A309+1)&CHAR(10)&INDEX(Vložit!C:C,A309)&CHAR(10)&INDEX(Vložit!D:D,A309))","v":""},{"$f":"IF(A309=\"\",\"\",IF(INDEX(Vložit!B:B,A309+8)=\"\",\"\",\"Instrukce: \"&INDEX(Vložit!B:B,A309+8)))","v":""},{"$f":"IF(A309=\"\",\"\",IF(INDEX(Vložit!B:B,A309+1)=\"\",\"\",INDEX(Vložit!B:B,A309+1)))","v":""},{"$f":"IF(A309=\"\",\"\",MID(INDEX(Vložit!A:A,A309),19,10))","v":""},{"$f":"IF(A309=\"\",\"\",IF(INDEX(Vložit!B:B,A309+5)=\"\",\"\",VLOOKUP(INDEX(Vložit!B:B,A309+5),Pomocná!B308:C10307,2,FALSE)))","v":""},{"$f":"IF(A309=\"\",\"\",INDEX(Vložit!B:B,A309+2))","v":""},{"$f":"IF(A309=\"\",\"\",IF(INDEX(Vložit!B:B,A309+3)=\"\",\"\",INDEX(Vložit!B:B,A309+3)))","v":""},{"$f":"IF(A309=\"\",\"\",INDEX(Vložit!B:B,A309+4))","v":""}]
[{"$f":"IF(A309=\"\",\"\",IF(INDEX(Vložit!A:A,(ROW(A309)-1)*17+2)<>\"\",(ROW(A309)-1)*17+2,\"\"))","v":""},{"$f":"IF(A310=\"\",\"\",\"Číslo smlouvy:  \"&INDEX(Vložit!B:B,A310+1)&CHAR(10)&\"Jméno a příjmení:  \"&INDEX(Vložit!B:B,A310+2)&CHAR(10)&\"Ulice:  \"&INDEX(Vložit!B:B,A310+3)&CHAR(10)&\"Č. pop. / č. orient.:  \"&INDEX(Vložit!B:B,A310+4)&CHAR(10)&\"Obec:  \"&INDEX(Vložit!B:B,A310+5))","v":""},{"$f":"IF(A310=\"\",\"\",INDEX(Vložit!A:A,A310)&CHAR(10)&\"Telefon: \"&INDEX(Vložit!B:B,A310+6)&\" / \"&INDEX(Vložit!B:B,A310+7)&CHAR(10)&\"Typ objednávky: \"&INDEX(Vložit!D:D,A310+1)&CHAR(10)&INDEX(Vložit!C:C,A310)&CHAR(10)&INDEX(Vložit!D:D,A310))","v":""},{"$f":"IF(A310=\"\",\"\",IF(INDEX(Vložit!B:B,A310+8)=\"\",\"\",\"Instrukce: \"&INDEX(Vložit!B:B,A310+8)))","v":""},{"$f":"IF(A310=\"\",\"\",IF(INDEX(Vložit!B:B,A310+1)=\"\",\"\",INDEX(Vložit!B:B,A310+1)))","v":""},{"$f":"IF(A310=\"\",\"\",MID(INDEX(Vložit!A:A,A310),19,10))","v":""},{"$f":"IF(A310=\"\",\"\",IF(INDEX(Vložit!B:B,A310+5)=\"\",\"\",VLOOKUP(INDEX(Vložit!B:B,A310+5),Pomocná!B309:C10308,2,FALSE)))","v":""},{"$f":"IF(A310=\"\",\"\",INDEX(Vložit!B:B,A310+2))","v":""},{"$f":"IF(A310=\"\",\"\",IF(INDEX(Vložit!B:B,A310+3)=\"\",\"\",INDEX(Vložit!B:B,A310+3)))","v":""},{"$f":"IF(A310=\"\",\"\",INDEX(Vložit!B:B,A310+4))","v":""}]
[{"$f":"IF(A310=\"\",\"\",IF(INDEX(Vložit!A:A,(ROW(A310)-1)*17+2)<>\"\",(ROW(A310)-1)*17+2,\"\"))","v":""},{"$f":"IF(A311=\"\",\"\",\"Číslo smlouvy:  \"&INDEX(Vložit!B:B,A311+1)&CHAR(10)&\"Jméno a příjmení:  \"&INDEX(Vložit!B:B,A311+2)&CHAR(10)&\"Ulice:  \"&INDEX(Vložit!B:B,A311+3)&CHAR(10)&\"Č. pop. / č. orient.:  \"&INDEX(Vložit!B:B,A311+4)&CHAR(10)&\"Obec:  \"&INDEX(Vložit!B:B,A311+5))","v":""},{"$f":"IF(A311=\"\",\"\",INDEX(Vložit!A:A,A311)&CHAR(10)&\"Telefon: \"&INDEX(Vložit!B:B,A311+6)&\" / \"&INDEX(Vložit!B:B,A311+7)&CHAR(10)&\"Typ objednávky: \"&INDEX(Vložit!D:D,A311+1)&CHAR(10)&INDEX(Vložit!C:C,A311)&CHAR(10)&INDEX(Vložit!D:D,A311))","v":""},{"$f":"IF(A311=\"\",\"\",IF(INDEX(Vložit!B:B,A311+8)=\"\",\"\",\"Instrukce: \"&INDEX(Vložit!B:B,A311+8)))","v":""},{"$f":"IF(A311=\"\",\"\",IF(INDEX(Vložit!B:B,A311+1)=\"\",\"\",INDEX(Vložit!B:B,A311+1)))","v":""},{"$f":"IF(A311=\"\",\"\",MID(INDEX(Vložit!A:A,A311),19,10))","v":""},{"$f":"IF(A311=\"\",\"\",IF(INDEX(Vložit!B:B,A311+5)=\"\",\"\",VLOOKUP(INDEX(Vložit!B:B,A311+5),Pomocná!B310:C10309,2,FALSE)))","v":""},{"$f":"IF(A311=\"\",\"\",INDEX(Vložit!B:B,A311+2))","v":""},{"$f":"IF(A311=\"\",\"\",IF(INDEX(Vložit!B:B,A311+3)=\"\",\"\",INDEX(Vložit!B:B,A311+3)))","v":""},{"$f":"IF(A311=\"\",\"\",INDEX(Vložit!B:B,A311+4))","v":""}]
[{"$f":"IF(A311=\"\",\"\",IF(INDEX(Vložit!A:A,(ROW(A311)-1)*17+2)<>\"\",(ROW(A311)-1)*17+2,\"\"))","v":""},{"$f":"IF(A312=\"\",\"\",\"Číslo smlouvy:  \"&INDEX(Vložit!B:B,A312+1)&CHAR(10)&\"Jméno a příjmení:  \"&INDEX(Vložit!B:B,A312+2)&CHAR(10)&\"Ulice:  \"&INDEX(Vložit!B:B,A312+3)&CHAR(10)&\"Č. pop. / č. orient.:  \"&INDEX(Vložit!B:B,A312+4)&CHAR(10)&\"Obec:  \"&INDEX(Vložit!B:B,A312+5))","v":""},{"$f":"IF(A312=\"\",\"\",INDEX(Vložit!A:A,A312)&CHAR(10)&\"Telefon: \"&INDEX(Vložit!B:B,A312+6)&\" / \"&INDEX(Vložit!B:B,A312+7)&CHAR(10)&\"Typ objednávky: \"&INDEX(Vložit!D:D,A312+1)&CHAR(10)&INDEX(Vložit!C:C,A312)&CHAR(10)&INDEX(Vložit!D:D,A312))","v":""},{"$f":"IF(A312=\"\",\"\",IF(INDEX(Vložit!B:B,A312+8)=\"\",\"\",\"Instrukce: \"&INDEX(Vložit!B:B,A312+8)))","v":""},{"$f":"IF(A312=\"\",\"\",IF(INDEX(Vložit!B:B,A312+1)=\"\",\"\",INDEX(Vložit!B:B,A312+1)))","v":""},{"$f":"IF(A312=\"\",\"\",MID(INDEX(Vložit!A:A,A312),19,10))","v":""},{"$f":"IF(A312=\"\",\"\",IF(INDEX(Vložit!B:B,A312+5)=\"\",\"\",VLOOKUP(INDEX(Vložit!B:B,A312+5),Pomocná!B311:C10310,2,FALSE)))","v":""},{"$f":"IF(A312=\"\",\"\",INDEX(Vložit!B:B,A312+2))","v":""},{"$f":"IF(A312=\"\",\"\",IF(INDEX(Vložit!B:B,A312+3)=\"\",\"\",INDEX(Vložit!B:B,A312+3)))","v":""},{"$f":"IF(A312=\"\",\"\",INDEX(Vložit!B:B,A312+4))","v":""}]
[{"$f":"IF(A312=\"\",\"\",IF(INDEX(Vložit!A:A,(ROW(A312)-1)*17+2)<>\"\",(ROW(A312)-1)*17+2,\"\"))","v":""},{"$f":"IF(A313=\"\",\"\",\"Číslo smlouvy:  \"&INDEX(Vložit!B:B,A313+1)&CHAR(10)&\"Jméno a příjmení:  \"&INDEX(Vložit!B:B,A313+2)&CHAR(10)&\"Ulice:  \"&INDEX(Vložit!B:B,A313+3)&CHAR(10)&\"Č. pop. / č. orient.:  \"&INDEX(Vložit!B:B,A313+4)&CHAR(10)&\"Obec:  \"&INDEX(Vložit!B:B,A313+5))","v":""},{"$f":"IF(A313=\"\",\"\",INDEX(Vložit!A:A,A313)&CHAR(10)&\"Telefon: \"&INDEX(Vložit!B:B,A313+6)&\" / \"&INDEX(Vložit!B:B,A313+7)&CHAR(10)&\"Typ objednávky: \"&INDEX(Vložit!D:D,A313+1)&CHAR(10)&INDEX(Vložit!C:C,A313)&CHAR(10)&INDEX(Vložit!D:D,A313))","v":""},{"$f":"IF(A313=\"\",\"\",IF(INDEX(Vložit!B:B,A313+8)=\"\",\"\",\"Instrukce: \"&INDEX(Vložit!B:B,A313+8)))","v":""},{"$f":"IF(A313=\"\",\"\",IF(INDEX(Vložit!B:B,A313+1)=\"\",\"\",INDEX(Vložit!B:B,A313+1)))","v":""},{"$f":"IF(A313=\"\",\"\",MID(INDEX(Vložit!A:A,A313),19,10))","v":""},{"$f":"IF(A313=\"\",\"\",IF(INDEX(Vložit!B:B,A313+5)=\"\",\"\",VLOOKUP(INDEX(Vložit!B:B,A313+5),Pomocná!B312:C10311,2,FALSE)))","v":""},{"$f":"IF(A313=\"\",\"\",INDEX(Vložit!B:B,A313+2))","v":""},{"$f":"IF(A313=\"\",\"\",IF(INDEX(Vložit!B:B,A313+3)=\"\",\"\",INDEX(Vložit!B:B,A313+3)))","v":""},{"$f":"IF(A313=\"\",\"\",INDEX(Vložit!B:B,A313+4))","v":""}]
[{"$f":"IF(A313=\"\",\"\",IF(INDEX(Vložit!A:A,(ROW(A313)-1)*17+2)<>\"\",(ROW(A313)-1)*17+2,\"\"))","v":""},{"$f":"IF(A314=\"\",\"\",\"Číslo smlouvy:  \"&INDEX(Vložit!B:B,A314+1)&CHAR(10)&\"Jméno a příjmení:  \"&INDEX(Vložit!B:B,A314+2)&CHAR(10)&\"Ulice:  \"&INDEX(Vložit!B:B,A314+3)&CHAR(10)&\"Č. pop. / č. orient.:  \"&INDEX(Vložit!B:B,A314+4)&CHAR(10)&\"Obec:  \"&INDEX(Vložit!B:B,A314+5))","v":""},{"$f":"IF(A314=\"\",\"\",INDEX(Vložit!A:A,A314)&CHAR(10)&\"Telefon: \"&INDEX(Vložit!B:B,A314+6)&\" / \"&INDEX(Vložit!B:B,A314+7)&CHAR(10)&\"Typ objednávky: \"&INDEX(Vložit!D:D,A314+1)&CHAR(10)&INDEX(Vložit!C:C,A314)&CHAR(10)&INDEX(Vložit!D:D,A314))","v":""},{"$f":"IF(A314=\"\",\"\",IF(INDEX(Vložit!B:B,A314+8)=\"\",\"\",\"Instrukce: \"&INDEX(Vložit!B:B,A314+8)))","v":""},{"$f":"IF(A314=\"\",\"\",IF(INDEX(Vložit!B:B,A314+1)=\"\",\"\",INDEX(Vložit!B:B,A314+1)))","v":""},{"$f":"IF(A314=\"\",\"\",MID(INDEX(Vložit!A:A,A314),19,10))","v":""},{"$f":"IF(A314=\"\",\"\",IF(INDEX(Vložit!B:B,A314+5)=\"\",\"\",VLOOKUP(INDEX(Vložit!B:B,A314+5),Pomocná!B313:C10312,2,FALSE)))","v":""},{"$f":"IF(A314=\"\",\"\",INDEX(Vložit!B:B,A314+2))","v":""},{"$f":"IF(A314=\"\",\"\",IF(INDEX(Vložit!B:B,A314+3)=\"\",\"\",INDEX(Vložit!B:B,A314+3)))","v":""},{"$f":"IF(A314=\"\",\"\",INDEX(Vložit!B:B,A314+4))","v":""}]
[{"$f":"IF(A314=\"\",\"\",IF(INDEX(Vložit!A:A,(ROW(A314)-1)*17+2)<>\"\",(ROW(A314)-1)*17+2,\"\"))","v":""},{"$f":"IF(A315=\"\",\"\",\"Číslo smlouvy:  \"&INDEX(Vložit!B:B,A315+1)&CHAR(10)&\"Jméno a příjmení:  \"&INDEX(Vložit!B:B,A315+2)&CHAR(10)&\"Ulice:  \"&INDEX(Vložit!B:B,A315+3)&CHAR(10)&\"Č. pop. / č. orient.:  \"&INDEX(Vložit!B:B,A315+4)&CHAR(10)&\"Obec:  \"&INDEX(Vložit!B:B,A315+5))","v":""},{"$f":"IF(A315=\"\",\"\",INDEX(Vložit!A:A,A315)&CHAR(10)&\"Telefon: \"&INDEX(Vložit!B:B,A315+6)&\" / \"&INDEX(Vložit!B:B,A315+7)&CHAR(10)&\"Typ objednávky: \"&INDEX(Vložit!D:D,A315+1)&CHAR(10)&INDEX(Vložit!C:C,A315)&CHAR(10)&INDEX(Vložit!D:D,A315))","v":""},{"$f":"IF(A315=\"\",\"\",IF(INDEX(Vložit!B:B,A315+8)=\"\",\"\",\"Instrukce: \"&INDEX(Vložit!B:B,A315+8)))","v":""},{"$f":"IF(A315=\"\",\"\",IF(INDEX(Vložit!B:B,A315+1)=\"\",\"\",INDEX(Vložit!B:B,A315+1)))","v":""},{"$f":"IF(A315=\"\",\"\",MID(INDEX(Vložit!A:A,A315),19,10))","v":""},{"$f":"IF(A315=\"\",\"\",IF(INDEX(Vložit!B:B,A315+5)=\"\",\"\",VLOOKUP(INDEX(Vložit!B:B,A315+5),Pomocná!B314:C10313,2,FALSE)))","v":""},{"$f":"IF(A315=\"\",\"\",INDEX(Vložit!B:B,A315+2))","v":""},{"$f":"IF(A315=\"\",\"\",IF(INDEX(Vložit!B:B,A315+3)=\"\",\"\",INDEX(Vložit!B:B,A315+3)))","v":""},{"$f":"IF(A315=\"\",\"\",INDEX(Vložit!B:B,A315+4))","v":""}]
[{"$f":"IF(A315=\"\",\"\",IF(INDEX(Vložit!A:A,(ROW(A315)-1)*17+2)<>\"\",(ROW(A315)-1)*17+2,\"\"))","v":""},{"$f":"IF(A316=\"\",\"\",\"Číslo smlouvy:  \"&INDEX(Vložit!B:B,A316+1)&CHAR(10)&\"Jméno a příjmení:  \"&INDEX(Vložit!B:B,A316+2)&CHAR(10)&\"Ulice:  \"&INDEX(Vložit!B:B,A316+3)&CHAR(10)&\"Č. pop. / č. orient.:  \"&INDEX(Vložit!B:B,A316+4)&CHAR(10)&\"Obec:  \"&INDEX(Vložit!B:B,A316+5))","v":""},{"$f":"IF(A316=\"\",\"\",INDEX(Vložit!A:A,A316)&CHAR(10)&\"Telefon: \"&INDEX(Vložit!B:B,A316+6)&\" / \"&INDEX(Vložit!B:B,A316+7)&CHAR(10)&\"Typ objednávky: \"&INDEX(Vložit!D:D,A316+1)&CHAR(10)&INDEX(Vložit!C:C,A316)&CHAR(10)&INDEX(Vložit!D:D,A316))","v":""},{"$f":"IF(A316=\"\",\"\",IF(INDEX(Vložit!B:B,A316+8)=\"\",\"\",\"Instrukce: \"&INDEX(Vložit!B:B,A316+8)))","v":""},{"$f":"IF(A316=\"\",\"\",IF(INDEX(Vložit!B:B,A316+1)=\"\",\"\",INDEX(Vložit!B:B,A316+1)))","v":""},{"$f":"IF(A316=\"\",\"\",MID(INDEX(Vložit!A:A,A316),19,10))","v":""},{"$f":"IF(A316=\"\",\"\",IF(INDEX(Vložit!B:B,A316+5)=\"\",\"\",VLOOKUP(INDEX(Vložit!B:B,A316+5),Pomocná!B315:C10314,2,FALSE)))","v":""},{"$f":"IF(A316=\"\",\"\",INDEX(Vložit!B:B,A316+2))","v":""},{"$f":"IF(A316=\"\",\"\",IF(INDEX(Vložit!B:B,A316+3)=\"\",\"\",INDEX(Vložit!B:B,A316+3)))","v":""},{"$f":"IF(A316=\"\",\"\",INDEX(Vložit!B:B,A316+4))","v":""}]
[{"$f":"IF(A316=\"\",\"\",IF(INDEX(Vložit!A:A,(ROW(A316)-1)*17+2)<>\"\",(ROW(A316)-1)*17+2,\"\"))","v":""},{"$f":"IF(A317=\"\",\"\",\"Číslo smlouvy:  \"&INDEX(Vložit!B:B,A317+1)&CHAR(10)&\"Jméno a příjmení:  \"&INDEX(Vložit!B:B,A317+2)&CHAR(10)&\"Ulice:  \"&INDEX(Vložit!B:B,A317+3)&CHAR(10)&\"Č. pop. / č. orient.:  \"&INDEX(Vložit!B:B,A317+4)&CHAR(10)&\"Obec:  \"&INDEX(Vložit!B:B,A317+5))","v":""},{"$f":"IF(A317=\"\",\"\",INDEX(Vložit!A:A,A317)&CHAR(10)&\"Telefon: \"&INDEX(Vložit!B:B,A317+6)&\" / \"&INDEX(Vložit!B:B,A317+7)&CHAR(10)&\"Typ objednávky: \"&INDEX(Vložit!D:D,A317+1)&CHAR(10)&INDEX(Vložit!C:C,A317)&CHAR(10)&INDEX(Vložit!D:D,A317))","v":""},{"$f":"IF(A317=\"\",\"\",IF(INDEX(Vložit!B:B,A317+8)=\"\",\"\",\"Instrukce: \"&INDEX(Vložit!B:B,A317+8)))","v":""},{"$f":"IF(A317=\"\",\"\",IF(INDEX(Vložit!B:B,A317+1)=\"\",\"\",INDEX(Vložit!B:B,A317+1)))","v":""},{"$f":"IF(A317=\"\",\"\",MID(INDEX(Vložit!A:A,A317),19,10))","v":""},{"$f":"IF(A317=\"\",\"\",IF(INDEX(Vložit!B:B,A317+5)=\"\",\"\",VLOOKUP(INDEX(Vložit!B:B,A317+5),Pomocná!B316:C10315,2,FALSE)))","v":""},{"$f":"IF(A317=\"\",\"\",INDEX(Vložit!B:B,A317+2))","v":""},{"$f":"IF(A317=\"\",\"\",IF(INDEX(Vložit!B:B,A317+3)=\"\",\"\",INDEX(Vložit!B:B,A317+3)))","v":""},{"$f":"IF(A317=\"\",\"\",INDEX(Vložit!B:B,A317+4))","v":""}]
[{"$f":"IF(A317=\"\",\"\",IF(INDEX(Vložit!A:A,(ROW(A317)-1)*17+2)<>\"\",(ROW(A317)-1)*17+2,\"\"))","v":""},{"$f":"IF(A318=\"\",\"\",\"Číslo smlouvy:  \"&INDEX(Vložit!B:B,A318+1)&CHAR(10)&\"Jméno a příjmení:  \"&INDEX(Vložit!B:B,A318+2)&CHAR(10)&\"Ulice:  \"&INDEX(Vložit!B:B,A318+3)&CHAR(10)&\"Č. pop. / č. orient.:  \"&INDEX(Vložit!B:B,A318+4)&CHAR(10)&\"Obec:  \"&INDEX(Vložit!B:B,A318+5))","v":""},{"$f":"IF(A318=\"\",\"\",INDEX(Vložit!A:A,A318)&CHAR(10)&\"Telefon: \"&INDEX(Vložit!B:B,A318+6)&\" / \"&INDEX(Vložit!B:B,A318+7)&CHAR(10)&\"Typ objednávky: \"&INDEX(Vložit!D:D,A318+1)&CHAR(10)&INDEX(Vložit!C:C,A318)&CHAR(10)&INDEX(Vložit!D:D,A318))","v":""},{"$f":"IF(A318=\"\",\"\",IF(INDEX(Vložit!B:B,A318+8)=\"\",\"\",\"Instrukce: \"&INDEX(Vložit!B:B,A318+8)))","v":""},{"$f":"IF(A318=\"\",\"\",IF(INDEX(Vložit!B:B,A318+1)=\"\",\"\",INDEX(Vložit!B:B,A318+1)))","v":""},{"$f":"IF(A318=\"\",\"\",MID(INDEX(Vložit!A:A,A318),19,10))","v":""},{"$f":"IF(A318=\"\",\"\",IF(INDEX(Vložit!B:B,A318+5)=\"\",\"\",VLOOKUP(INDEX(Vložit!B:B,A318+5),Pomocná!B317:C10316,2,FALSE)))","v":""},{"$f":"IF(A318=\"\",\"\",INDEX(Vložit!B:B,A318+2))","v":""},{"$f":"IF(A318=\"\",\"\",IF(INDEX(Vložit!B:B,A318+3)=\"\",\"\",INDEX(Vložit!B:B,A318+3)))","v":""},{"$f":"IF(A318=\"\",\"\",INDEX(Vložit!B:B,A318+4))","v":""}]
[{"$f":"IF(A318=\"\",\"\",IF(INDEX(Vložit!A:A,(ROW(A318)-1)*17+2)<>\"\",(ROW(A318)-1)*17+2,\"\"))","v":""},{"$f":"IF(A319=\"\",\"\",\"Číslo smlouvy:  \"&INDEX(Vložit!B:B,A319+1)&CHAR(10)&\"Jméno a příjmení:  \"&INDEX(Vložit!B:B,A319+2)&CHAR(10)&\"Ulice:  \"&INDEX(Vložit!B:B,A319+3)&CHAR(10)&\"Č. pop. / č. orient.:  \"&INDEX(Vložit!B:B,A319+4)&CHAR(10)&\"Obec:  \"&INDEX(Vložit!B:B,A319+5))","v":""},{"$f":"IF(A319=\"\",\"\",INDEX(Vložit!A:A,A319)&CHAR(10)&\"Telefon: \"&INDEX(Vložit!B:B,A319+6)&\" / \"&INDEX(Vložit!B:B,A319+7)&CHAR(10)&\"Typ objednávky: \"&INDEX(Vložit!D:D,A319+1)&CHAR(10)&INDEX(Vložit!C:C,A319)&CHAR(10)&INDEX(Vložit!D:D,A319))","v":""},{"$f":"IF(A319=\"\",\"\",IF(INDEX(Vložit!B:B,A319+8)=\"\",\"\",\"Instrukce: \"&INDEX(Vložit!B:B,A319+8)))","v":""},{"$f":"IF(A319=\"\",\"\",IF(INDEX(Vložit!B:B,A319+1)=\"\",\"\",INDEX(Vložit!B:B,A319+1)))","v":""},{"$f":"IF(A319=\"\",\"\",MID(INDEX(Vložit!A:A,A319),19,10))","v":""},{"$f":"IF(A319=\"\",\"\",IF(INDEX(Vložit!B:B,A319+5)=\"\",\"\",VLOOKUP(INDEX(Vložit!B:B,A319+5),Pomocná!B318:C10317,2,FALSE)))","v":""},{"$f":"IF(A319=\"\",\"\",INDEX(Vložit!B:B,A319+2))","v":""},{"$f":"IF(A319=\"\",\"\",IF(INDEX(Vložit!B:B,A319+3)=\"\",\"\",INDEX(Vložit!B:B,A319+3)))","v":""},{"$f":"IF(A319=\"\",\"\",INDEX(Vložit!B:B,A319+4))","v":""}]
[{"$f":"IF(A319=\"\",\"\",IF(INDEX(Vložit!A:A,(ROW(A319)-1)*17+2)<>\"\",(ROW(A319)-1)*17+2,\"\"))","v":""},{"$f":"IF(A320=\"\",\"\",\"Číslo smlouvy:  \"&INDEX(Vložit!B:B,A320+1)&CHAR(10)&\"Jméno a příjmení:  \"&INDEX(Vložit!B:B,A320+2)&CHAR(10)&\"Ulice:  \"&INDEX(Vložit!B:B,A320+3)&CHAR(10)&\"Č. pop. / č. orient.:  \"&INDEX(Vložit!B:B,A320+4)&CHAR(10)&\"Obec:  \"&INDEX(Vložit!B:B,A320+5))","v":""},{"$f":"IF(A320=\"\",\"\",INDEX(Vložit!A:A,A320)&CHAR(10)&\"Telefon: \"&INDEX(Vložit!B:B,A320+6)&\" / \"&INDEX(Vložit!B:B,A320+7)&CHAR(10)&\"Typ objednávky: \"&INDEX(Vložit!D:D,A320+1)&CHAR(10)&INDEX(Vložit!C:C,A320)&CHAR(10)&INDEX(Vložit!D:D,A320))","v":""},{"$f":"IF(A320=\"\",\"\",IF(INDEX(Vložit!B:B,A320+8)=\"\",\"\",\"Instrukce: \"&INDEX(Vložit!B:B,A320+8)))","v":""},{"$f":"IF(A320=\"\",\"\",IF(INDEX(Vložit!B:B,A320+1)=\"\",\"\",INDEX(Vložit!B:B,A320+1)))","v":""},{"$f":"IF(A320=\"\",\"\",MID(INDEX(Vložit!A:A,A320),19,10))","v":""},{"$f":"IF(A320=\"\",\"\",IF(INDEX(Vložit!B:B,A320+5)=\"\",\"\",VLOOKUP(INDEX(Vložit!B:B,A320+5),Pomocná!B319:C10318,2,FALSE)))","v":""},{"$f":"IF(A320=\"\",\"\",INDEX(Vložit!B:B,A320+2))","v":""},{"$f":"IF(A320=\"\",\"\",IF(INDEX(Vložit!B:B,A320+3)=\"\",\"\",INDEX(Vložit!B:B,A320+3)))","v":""},{"$f":"IF(A320=\"\",\"\",INDEX(Vložit!B:B,A320+4))","v":""}]
[{"$f":"IF(A320=\"\",\"\",IF(INDEX(Vložit!A:A,(ROW(A320)-1)*17+2)<>\"\",(ROW(A320)-1)*17+2,\"\"))","v":""},{"$f":"IF(A321=\"\",\"\",\"Číslo smlouvy:  \"&INDEX(Vložit!B:B,A321+1)&CHAR(10)&\"Jméno a příjmení:  \"&INDEX(Vložit!B:B,A321+2)&CHAR(10)&\"Ulice:  \"&INDEX(Vložit!B:B,A321+3)&CHAR(10)&\"Č. pop. / č. orient.:  \"&INDEX(Vložit!B:B,A321+4)&CHAR(10)&\"Obec:  \"&INDEX(Vložit!B:B,A321+5))","v":""},{"$f":"IF(A321=\"\",\"\",INDEX(Vložit!A:A,A321)&CHAR(10)&\"Telefon: \"&INDEX(Vložit!B:B,A321+6)&\" / \"&INDEX(Vložit!B:B,A321+7)&CHAR(10)&\"Typ objednávky: \"&INDEX(Vložit!D:D,A321+1)&CHAR(10)&INDEX(Vložit!C:C,A321)&CHAR(10)&INDEX(Vložit!D:D,A321))","v":""},{"$f":"IF(A321=\"\",\"\",IF(INDEX(Vložit!B:B,A321+8)=\"\",\"\",\"Instrukce: \"&INDEX(Vložit!B:B,A321+8)))","v":""},{"$f":"IF(A321=\"\",\"\",IF(INDEX(Vložit!B:B,A321+1)=\"\",\"\",INDEX(Vložit!B:B,A321+1)))","v":""},{"$f":"IF(A321=\"\",\"\",MID(INDEX(Vložit!A:A,A321),19,10))","v":""},{"$f":"IF(A321=\"\",\"\",IF(INDEX(Vložit!B:B,A321+5)=\"\",\"\",VLOOKUP(INDEX(Vložit!B:B,A321+5),Pomocná!B320:C10319,2,FALSE)))","v":""},{"$f":"IF(A321=\"\",\"\",INDEX(Vložit!B:B,A321+2))","v":""},{"$f":"IF(A321=\"\",\"\",IF(INDEX(Vložit!B:B,A321+3)=\"\",\"\",INDEX(Vložit!B:B,A321+3)))","v":""},{"$f":"IF(A321=\"\",\"\",INDEX(Vložit!B:B,A321+4))","v":""}]
[{"$f":"IF(A321=\"\",\"\",IF(INDEX(Vložit!A:A,(ROW(A321)-1)*17+2)<>\"\",(ROW(A321)-1)*17+2,\"\"))","v":""},{"$f":"IF(A322=\"\",\"\",\"Číslo smlouvy:  \"&INDEX(Vložit!B:B,A322+1)&CHAR(10)&\"Jméno a příjmení:  \"&INDEX(Vložit!B:B,A322+2)&CHAR(10)&\"Ulice:  \"&INDEX(Vložit!B:B,A322+3)&CHAR(10)&\"Č. pop. / č. orient.:  \"&INDEX(Vložit!B:B,A322+4)&CHAR(10)&\"Obec:  \"&INDEX(Vložit!B:B,A322+5))","v":""},{"$f":"IF(A322=\"\",\"\",INDEX(Vložit!A:A,A322)&CHAR(10)&\"Telefon: \"&INDEX(Vložit!B:B,A322+6)&\" / \"&INDEX(Vložit!B:B,A322+7)&CHAR(10)&\"Typ objednávky: \"&INDEX(Vložit!D:D,A322+1)&CHAR(10)&INDEX(Vložit!C:C,A322)&CHAR(10)&INDEX(Vložit!D:D,A322))","v":""},{"$f":"IF(A322=\"\",\"\",IF(INDEX(Vložit!B:B,A322+8)=\"\",\"\",\"Instrukce: \"&INDEX(Vložit!B:B,A322+8)))","v":""},{"$f":"IF(A322=\"\",\"\",IF(INDEX(Vložit!B:B,A322+1)=\"\",\"\",INDEX(Vložit!B:B,A322+1)))","v":""},{"$f":"IF(A322=\"\",\"\",MID(INDEX(Vložit!A:A,A322),19,10))","v":""},{"$f":"IF(A322=\"\",\"\",IF(INDEX(Vložit!B:B,A322+5)=\"\",\"\",VLOOKUP(INDEX(Vložit!B:B,A322+5),Pomocná!B321:C10320,2,FALSE)))","v":""},{"$f":"IF(A322=\"\",\"\",INDEX(Vložit!B:B,A322+2))","v":""},{"$f":"IF(A322=\"\",\"\",IF(INDEX(Vložit!B:B,A322+3)=\"\",\"\",INDEX(Vložit!B:B,A322+3)))","v":""},{"$f":"IF(A322=\"\",\"\",INDEX(Vložit!B:B,A322+4))","v":""}]
[{"$f":"IF(A322=\"\",\"\",IF(INDEX(Vložit!A:A,(ROW(A322)-1)*17+2)<>\"\",(ROW(A322)-1)*17+2,\"\"))","v":""},{"$f":"IF(A323=\"\",\"\",\"Číslo smlouvy:  \"&INDEX(Vložit!B:B,A323+1)&CHAR(10)&\"Jméno a příjmení:  \"&INDEX(Vložit!B:B,A323+2)&CHAR(10)&\"Ulice:  \"&INDEX(Vložit!B:B,A323+3)&CHAR(10)&\"Č. pop. / č. orient.:  \"&INDEX(Vložit!B:B,A323+4)&CHAR(10)&\"Obec:  \"&INDEX(Vložit!B:B,A323+5))","v":""},{"$f":"IF(A323=\"\",\"\",INDEX(Vložit!A:A,A323)&CHAR(10)&\"Telefon: \"&INDEX(Vložit!B:B,A323+6)&\" / \"&INDEX(Vložit!B:B,A323+7)&CHAR(10)&\"Typ objednávky: \"&INDEX(Vložit!D:D,A323+1)&CHAR(10)&INDEX(Vložit!C:C,A323)&CHAR(10)&INDEX(Vložit!D:D,A323))","v":""},{"$f":"IF(A323=\"\",\"\",IF(INDEX(Vložit!B:B,A323+8)=\"\",\"\",\"Instrukce: \"&INDEX(Vložit!B:B,A323+8)))","v":""},{"$f":"IF(A323=\"\",\"\",IF(INDEX(Vložit!B:B,A323+1)=\"\",\"\",INDEX(Vložit!B:B,A323+1)))","v":""},{"$f":"IF(A323=\"\",\"\",MID(INDEX(Vložit!A:A,A323),19,10))","v":""},{"$f":"IF(A323=\"\",\"\",IF(INDEX(Vložit!B:B,A323+5)=\"\",\"\",VLOOKUP(INDEX(Vložit!B:B,A323+5),Pomocná!B322:C10321,2,FALSE)))","v":""},{"$f":"IF(A323=\"\",\"\",INDEX(Vložit!B:B,A323+2))","v":""},{"$f":"IF(A323=\"\",\"\",IF(INDEX(Vložit!B:B,A323+3)=\"\",\"\",INDEX(Vložit!B:B,A323+3)))","v":""},{"$f":"IF(A323=\"\",\"\",INDEX(Vložit!B:B,A323+4))","v":""}]
[{"$f":"IF(A323=\"\",\"\",IF(INDEX(Vložit!A:A,(ROW(A323)-1)*17+2)<>\"\",(ROW(A323)-1)*17+2,\"\"))","v":""},{"$f":"IF(A324=\"\",\"\",\"Číslo smlouvy:  \"&INDEX(Vložit!B:B,A324+1)&CHAR(10)&\"Jméno a příjmení:  \"&INDEX(Vložit!B:B,A324+2)&CHAR(10)&\"Ulice:  \"&INDEX(Vložit!B:B,A324+3)&CHAR(10)&\"Č. pop. / č. orient.:  \"&INDEX(Vložit!B:B,A324+4)&CHAR(10)&\"Obec:  \"&INDEX(Vložit!B:B,A324+5))","v":""},{"$f":"IF(A324=\"\",\"\",INDEX(Vložit!A:A,A324)&CHAR(10)&\"Telefon: \"&INDEX(Vložit!B:B,A324+6)&\" / \"&INDEX(Vložit!B:B,A324+7)&CHAR(10)&\"Typ objednávky: \"&INDEX(Vložit!D:D,A324+1)&CHAR(10)&INDEX(Vložit!C:C,A324)&CHAR(10)&INDEX(Vložit!D:D,A324))","v":""},{"$f":"IF(A324=\"\",\"\",IF(INDEX(Vložit!B:B,A324+8)=\"\",\"\",\"Instrukce: \"&INDEX(Vložit!B:B,A324+8)))","v":""},{"$f":"IF(A324=\"\",\"\",IF(INDEX(Vložit!B:B,A324+1)=\"\",\"\",INDEX(Vložit!B:B,A324+1)))","v":""},{"$f":"IF(A324=\"\",\"\",MID(INDEX(Vložit!A:A,A324),19,10))","v":""},{"$f":"IF(A324=\"\",\"\",IF(INDEX(Vložit!B:B,A324+5)=\"\",\"\",VLOOKUP(INDEX(Vložit!B:B,A324+5),Pomocná!B323:C10322,2,FALSE)))","v":""},{"$f":"IF(A324=\"\",\"\",INDEX(Vložit!B:B,A324+2))","v":""},{"$f":"IF(A324=\"\",\"\",IF(INDEX(Vložit!B:B,A324+3)=\"\",\"\",INDEX(Vložit!B:B,A324+3)))","v":""},{"$f":"IF(A324=\"\",\"\",INDEX(Vložit!B:B,A324+4))","v":""}]
[{"$f":"IF(A324=\"\",\"\",IF(INDEX(Vložit!A:A,(ROW(A324)-1)*17+2)<>\"\",(ROW(A324)-1)*17+2,\"\"))","v":""},{"$f":"IF(A325=\"\",\"\",\"Číslo smlouvy:  \"&INDEX(Vložit!B:B,A325+1)&CHAR(10)&\"Jméno a příjmení:  \"&INDEX(Vložit!B:B,A325+2)&CHAR(10)&\"Ulice:  \"&INDEX(Vložit!B:B,A325+3)&CHAR(10)&\"Č. pop. / č. orient.:  \"&INDEX(Vložit!B:B,A325+4)&CHAR(10)&\"Obec:  \"&INDEX(Vložit!B:B,A325+5))","v":""},{"$f":"IF(A325=\"\",\"\",INDEX(Vložit!A:A,A325)&CHAR(10)&\"Telefon: \"&INDEX(Vložit!B:B,A325+6)&\" / \"&INDEX(Vložit!B:B,A325+7)&CHAR(10)&\"Typ objednávky: \"&INDEX(Vložit!D:D,A325+1)&CHAR(10)&INDEX(Vložit!C:C,A325)&CHAR(10)&INDEX(Vložit!D:D,A325))","v":""},{"$f":"IF(A325=\"\",\"\",IF(INDEX(Vložit!B:B,A325+8)=\"\",\"\",\"Instrukce: \"&INDEX(Vložit!B:B,A325+8)))","v":""},{"$f":"IF(A325=\"\",\"\",IF(INDEX(Vložit!B:B,A325+1)=\"\",\"\",INDEX(Vložit!B:B,A325+1)))","v":""},{"$f":"IF(A325=\"\",\"\",MID(INDEX(Vložit!A:A,A325),19,10))","v":""},{"$f":"IF(A325=\"\",\"\",IF(INDEX(Vložit!B:B,A325+5)=\"\",\"\",VLOOKUP(INDEX(Vložit!B:B,A325+5),Pomocná!B324:C10323,2,FALSE)))","v":""},{"$f":"IF(A325=\"\",\"\",INDEX(Vložit!B:B,A325+2))","v":""},{"$f":"IF(A325=\"\",\"\",IF(INDEX(Vložit!B:B,A325+3)=\"\",\"\",INDEX(Vložit!B:B,A325+3)))","v":""},{"$f":"IF(A325=\"\",\"\",INDEX(Vložit!B:B,A325+4))","v":""}]
[{"$f":"IF(A325=\"\",\"\",IF(INDEX(Vložit!A:A,(ROW(A325)-1)*17+2)<>\"\",(ROW(A325)-1)*17+2,\"\"))","v":""},{"$f":"IF(A326=\"\",\"\",\"Číslo smlouvy:  \"&INDEX(Vložit!B:B,A326+1)&CHAR(10)&\"Jméno a příjmení:  \"&INDEX(Vložit!B:B,A326+2)&CHAR(10)&\"Ulice:  \"&INDEX(Vložit!B:B,A326+3)&CHAR(10)&\"Č. pop. / č. orient.:  \"&INDEX(Vložit!B:B,A326+4)&CHAR(10)&\"Obec:  \"&INDEX(Vložit!B:B,A326+5))","v":""},{"$f":"IF(A326=\"\",\"\",INDEX(Vložit!A:A,A326)&CHAR(10)&\"Telefon: \"&INDEX(Vložit!B:B,A326+6)&\" / \"&INDEX(Vložit!B:B,A326+7)&CHAR(10)&\"Typ objednávky: \"&INDEX(Vložit!D:D,A326+1)&CHAR(10)&INDEX(Vložit!C:C,A326)&CHAR(10)&INDEX(Vložit!D:D,A326))","v":""},{"$f":"IF(A326=\"\",\"\",IF(INDEX(Vložit!B:B,A326+8)=\"\",\"\",\"Instrukce: \"&INDEX(Vložit!B:B,A326+8)))","v":""},{"$f":"IF(A326=\"\",\"\",IF(INDEX(Vložit!B:B,A326+1)=\"\",\"\",INDEX(Vložit!B:B,A326+1)))","v":""},{"$f":"IF(A326=\"\",\"\",MID(INDEX(Vložit!A:A,A326),19,10))","v":""},{"$f":"IF(A326=\"\",\"\",IF(INDEX(Vložit!B:B,A326+5)=\"\",\"\",VLOOKUP(INDEX(Vložit!B:B,A326+5),Pomocná!B325:C10324,2,FALSE)))","v":""},{"$f":"IF(A326=\"\",\"\",INDEX(Vložit!B:B,A326+2))","v":""},{"$f":"IF(A326=\"\",\"\",IF(INDEX(Vložit!B:B,A326+3)=\"\",\"\",INDEX(Vložit!B:B,A326+3)))","v":""},{"$f":"IF(A326=\"\",\"\",INDEX(Vložit!B:B,A326+4))","v":""}]
[{"$f":"IF(A326=\"\",\"\",IF(INDEX(Vložit!A:A,(ROW(A326)-1)*17+2)<>\"\",(ROW(A326)-1)*17+2,\"\"))","v":""},{"$f":"IF(A327=\"\",\"\",\"Číslo smlouvy:  \"&INDEX(Vložit!B:B,A327+1)&CHAR(10)&\"Jméno a příjmení:  \"&INDEX(Vložit!B:B,A327+2)&CHAR(10)&\"Ulice:  \"&INDEX(Vložit!B:B,A327+3)&CHAR(10)&\"Č. pop. / č. orient.:  \"&INDEX(Vložit!B:B,A327+4)&CHAR(10)&\"Obec:  \"&INDEX(Vložit!B:B,A327+5))","v":""},{"$f":"IF(A327=\"\",\"\",INDEX(Vložit!A:A,A327)&CHAR(10)&\"Telefon: \"&INDEX(Vložit!B:B,A327+6)&\" / \"&INDEX(Vložit!B:B,A327+7)&CHAR(10)&\"Typ objednávky: \"&INDEX(Vložit!D:D,A327+1)&CHAR(10)&INDEX(Vložit!C:C,A327)&CHAR(10)&INDEX(Vložit!D:D,A327))","v":""},{"$f":"IF(A327=\"\",\"\",IF(INDEX(Vložit!B:B,A327+8)=\"\",\"\",\"Instrukce: \"&INDEX(Vložit!B:B,A327+8)))","v":""},{"$f":"IF(A327=\"\",\"\",IF(INDEX(Vložit!B:B,A327+1)=\"\",\"\",INDEX(Vložit!B:B,A327+1)))","v":""},{"$f":"IF(A327=\"\",\"\",MID(INDEX(Vložit!A:A,A327),19,10))","v":""},{"$f":"IF(A327=\"\",\"\",IF(INDEX(Vložit!B:B,A327+5)=\"\",\"\",VLOOKUP(INDEX(Vložit!B:B,A327+5),Pomocná!B326:C10325,2,FALSE)))","v":""},{"$f":"IF(A327=\"\",\"\",INDEX(Vložit!B:B,A327+2))","v":""},{"$f":"IF(A327=\"\",\"\",IF(INDEX(Vložit!B:B,A327+3)=\"\",\"\",INDEX(Vložit!B:B,A327+3)))","v":""},{"$f":"IF(A327=\"\",\"\",INDEX(Vložit!B:B,A327+4))","v":""}]
[{"$f":"IF(A327=\"\",\"\",IF(INDEX(Vložit!A:A,(ROW(A327)-1)*17+2)<>\"\",(ROW(A327)-1)*17+2,\"\"))","v":""},{"$f":"IF(A328=\"\",\"\",\"Číslo smlouvy:  \"&INDEX(Vložit!B:B,A328+1)&CHAR(10)&\"Jméno a příjmení:  \"&INDEX(Vložit!B:B,A328+2)&CHAR(10)&\"Ulice:  \"&INDEX(Vložit!B:B,A328+3)&CHAR(10)&\"Č. pop. / č. orient.:  \"&INDEX(Vložit!B:B,A328+4)&CHAR(10)&\"Obec:  \"&INDEX(Vložit!B:B,A328+5))","v":""},{"$f":"IF(A328=\"\",\"\",INDEX(Vložit!A:A,A328)&CHAR(10)&\"Telefon: \"&INDEX(Vložit!B:B,A328+6)&\" / \"&INDEX(Vložit!B:B,A328+7)&CHAR(10)&\"Typ objednávky: \"&INDEX(Vložit!D:D,A328+1)&CHAR(10)&INDEX(Vložit!C:C,A328)&CHAR(10)&INDEX(Vložit!D:D,A328))","v":""},{"$f":"IF(A328=\"\",\"\",IF(INDEX(Vložit!B:B,A328+8)=\"\",\"\",\"Instrukce: \"&INDEX(Vložit!B:B,A328+8)))","v":""},{"$f":"IF(A328=\"\",\"\",IF(INDEX(Vložit!B:B,A328+1)=\"\",\"\",INDEX(Vložit!B:B,A328+1)))","v":""},{"$f":"IF(A328=\"\",\"\",MID(INDEX(Vložit!A:A,A328),19,10))","v":""},{"$f":"IF(A328=\"\",\"\",IF(INDEX(Vložit!B:B,A328+5)=\"\",\"\",VLOOKUP(INDEX(Vložit!B:B,A328+5),Pomocná!B327:C10326,2,FALSE)))","v":""},{"$f":"IF(A328=\"\",\"\",INDEX(Vložit!B:B,A328+2))","v":""},{"$f":"IF(A328=\"\",\"\",IF(INDEX(Vložit!B:B,A328+3)=\"\",\"\",INDEX(Vložit!B:B,A328+3)))","v":""},{"$f":"IF(A328=\"\",\"\",INDEX(Vložit!B:B,A328+4))","v":""}]
[{"$f":"IF(A328=\"\",\"\",IF(INDEX(Vložit!A:A,(ROW(A328)-1)*17+2)<>\"\",(ROW(A328)-1)*17+2,\"\"))","v":""},{"$f":"IF(A329=\"\",\"\",\"Číslo smlouvy:  \"&INDEX(Vložit!B:B,A329+1)&CHAR(10)&\"Jméno a příjmení:  \"&INDEX(Vložit!B:B,A329+2)&CHAR(10)&\"Ulice:  \"&INDEX(Vložit!B:B,A329+3)&CHAR(10)&\"Č. pop. / č. orient.:  \"&INDEX(Vložit!B:B,A329+4)&CHAR(10)&\"Obec:  \"&INDEX(Vložit!B:B,A329+5))","v":""},{"$f":"IF(A329=\"\",\"\",INDEX(Vložit!A:A,A329)&CHAR(10)&\"Telefon: \"&INDEX(Vložit!B:B,A329+6)&\" / \"&INDEX(Vložit!B:B,A329+7)&CHAR(10)&\"Typ objednávky: \"&INDEX(Vložit!D:D,A329+1)&CHAR(10)&INDEX(Vložit!C:C,A329)&CHAR(10)&INDEX(Vložit!D:D,A329))","v":""},{"$f":"IF(A329=\"\",\"\",IF(INDEX(Vložit!B:B,A329+8)=\"\",\"\",\"Instrukce: \"&INDEX(Vložit!B:B,A329+8)))","v":""},{"$f":"IF(A329=\"\",\"\",IF(INDEX(Vložit!B:B,A329+1)=\"\",\"\",INDEX(Vložit!B:B,A329+1)))","v":""},{"$f":"IF(A329=\"\",\"\",MID(INDEX(Vložit!A:A,A329),19,10))","v":""},{"$f":"IF(A329=\"\",\"\",IF(INDEX(Vložit!B:B,A329+5)=\"\",\"\",VLOOKUP(INDEX(Vložit!B:B,A329+5),Pomocná!B328:C10327,2,FALSE)))","v":""},{"$f":"IF(A329=\"\",\"\",INDEX(Vložit!B:B,A329+2))","v":""},{"$f":"IF(A329=\"\",\"\",IF(INDEX(Vložit!B:B,A329+3)=\"\",\"\",INDEX(Vložit!B:B,A329+3)))","v":""},{"$f":"IF(A329=\"\",\"\",INDEX(Vložit!B:B,A329+4))","v":""}]
[{"$f":"IF(A329=\"\",\"\",IF(INDEX(Vložit!A:A,(ROW(A329)-1)*17+2)<>\"\",(ROW(A329)-1)*17+2,\"\"))","v":""},{"$f":"IF(A330=\"\",\"\",\"Číslo smlouvy:  \"&INDEX(Vložit!B:B,A330+1)&CHAR(10)&\"Jméno a příjmení:  \"&INDEX(Vložit!B:B,A330+2)&CHAR(10)&\"Ulice:  \"&INDEX(Vložit!B:B,A330+3)&CHAR(10)&\"Č. pop. / č. orient.:  \"&INDEX(Vložit!B:B,A330+4)&CHAR(10)&\"Obec:  \"&INDEX(Vložit!B:B,A330+5))","v":""},{"$f":"IF(A330=\"\",\"\",INDEX(Vložit!A:A,A330)&CHAR(10)&\"Telefon: \"&INDEX(Vložit!B:B,A330+6)&\" / \"&INDEX(Vložit!B:B,A330+7)&CHAR(10)&\"Typ objednávky: \"&INDEX(Vložit!D:D,A330+1)&CHAR(10)&INDEX(Vložit!C:C,A330)&CHAR(10)&INDEX(Vložit!D:D,A330))","v":""},{"$f":"IF(A330=\"\",\"\",IF(INDEX(Vložit!B:B,A330+8)=\"\",\"\",\"Instrukce: \"&INDEX(Vložit!B:B,A330+8)))","v":""},{"$f":"IF(A330=\"\",\"\",IF(INDEX(Vložit!B:B,A330+1)=\"\",\"\",INDEX(Vložit!B:B,A330+1)))","v":""},{"$f":"IF(A330=\"\",\"\",MID(INDEX(Vložit!A:A,A330),19,10))","v":""},{"$f":"IF(A330=\"\",\"\",IF(INDEX(Vložit!B:B,A330+5)=\"\",\"\",VLOOKUP(INDEX(Vložit!B:B,A330+5),Pomocná!B329:C10328,2,FALSE)))","v":""},{"$f":"IF(A330=\"\",\"\",INDEX(Vložit!B:B,A330+2))","v":""},{"$f":"IF(A330=\"\",\"\",IF(INDEX(Vložit!B:B,A330+3)=\"\",\"\",INDEX(Vložit!B:B,A330+3)))","v":""},{"$f":"IF(A330=\"\",\"\",INDEX(Vložit!B:B,A330+4))","v":""}]
[{"$f":"IF(A330=\"\",\"\",IF(INDEX(Vložit!A:A,(ROW(A330)-1)*17+2)<>\"\",(ROW(A330)-1)*17+2,\"\"))","v":""},{"$f":"IF(A331=\"\",\"\",\"Číslo smlouvy:  \"&INDEX(Vložit!B:B,A331+1)&CHAR(10)&\"Jméno a příjmení:  \"&INDEX(Vložit!B:B,A331+2)&CHAR(10)&\"Ulice:  \"&INDEX(Vložit!B:B,A331+3)&CHAR(10)&\"Č. pop. / č. orient.:  \"&INDEX(Vložit!B:B,A331+4)&CHAR(10)&\"Obec:  \"&INDEX(Vložit!B:B,A331+5))","v":""},{"$f":"IF(A331=\"\",\"\",INDEX(Vložit!A:A,A331)&CHAR(10)&\"Telefon: \"&INDEX(Vložit!B:B,A331+6)&\" / \"&INDEX(Vložit!B:B,A331+7)&CHAR(10)&\"Typ objednávky: \"&INDEX(Vložit!D:D,A331+1)&CHAR(10)&INDEX(Vložit!C:C,A331)&CHAR(10)&INDEX(Vložit!D:D,A331))","v":""},{"$f":"IF(A331=\"\",\"\",IF(INDEX(Vložit!B:B,A331+8)=\"\",\"\",\"Instrukce: \"&INDEX(Vložit!B:B,A331+8)))","v":""},{"$f":"IF(A331=\"\",\"\",IF(INDEX(Vložit!B:B,A331+1)=\"\",\"\",INDEX(Vložit!B:B,A331+1)))","v":""},{"$f":"IF(A331=\"\",\"\",MID(INDEX(Vložit!A:A,A331),19,10))","v":""},{"$f":"IF(A331=\"\",\"\",IF(INDEX(Vložit!B:B,A331+5)=\"\",\"\",VLOOKUP(INDEX(Vložit!B:B,A331+5),Pomocná!B330:C10329,2,FALSE)))","v":""},{"$f":"IF(A331=\"\",\"\",INDEX(Vložit!B:B,A331+2))","v":""},{"$f":"IF(A331=\"\",\"\",IF(INDEX(Vložit!B:B,A331+3)=\"\",\"\",INDEX(Vložit!B:B,A331+3)))","v":""},{"$f":"IF(A331=\"\",\"\",INDEX(Vložit!B:B,A331+4))","v":""}]
[{"$f":"IF(A331=\"\",\"\",IF(INDEX(Vložit!A:A,(ROW(A331)-1)*17+2)<>\"\",(ROW(A331)-1)*17+2,\"\"))","v":""},{"$f":"IF(A332=\"\",\"\",\"Číslo smlouvy:  \"&INDEX(Vložit!B:B,A332+1)&CHAR(10)&\"Jméno a příjmení:  \"&INDEX(Vložit!B:B,A332+2)&CHAR(10)&\"Ulice:  \"&INDEX(Vložit!B:B,A332+3)&CHAR(10)&\"Č. pop. / č. orient.:  \"&INDEX(Vložit!B:B,A332+4)&CHAR(10)&\"Obec:  \"&INDEX(Vložit!B:B,A332+5))","v":""},{"$f":"IF(A332=\"\",\"\",INDEX(Vložit!A:A,A332)&CHAR(10)&\"Telefon: \"&INDEX(Vložit!B:B,A332+6)&\" / \"&INDEX(Vložit!B:B,A332+7)&CHAR(10)&\"Typ objednávky: \"&INDEX(Vložit!D:D,A332+1)&CHAR(10)&INDEX(Vložit!C:C,A332)&CHAR(10)&INDEX(Vložit!D:D,A332))","v":""},{"$f":"IF(A332=\"\",\"\",IF(INDEX(Vložit!B:B,A332+8)=\"\",\"\",\"Instrukce: \"&INDEX(Vložit!B:B,A332+8)))","v":""},{"$f":"IF(A332=\"\",\"\",IF(INDEX(Vložit!B:B,A332+1)=\"\",\"\",INDEX(Vložit!B:B,A332+1)))","v":""},{"$f":"IF(A332=\"\",\"\",MID(INDEX(Vložit!A:A,A332),19,10))","v":""},{"$f":"IF(A332=\"\",\"\",IF(INDEX(Vložit!B:B,A332+5)=\"\",\"\",VLOOKUP(INDEX(Vložit!B:B,A332+5),Pomocná!B331:C10330,2,FALSE)))","v":""},{"$f":"IF(A332=\"\",\"\",INDEX(Vložit!B:B,A332+2))","v":""},{"$f":"IF(A332=\"\",\"\",IF(INDEX(Vložit!B:B,A332+3)=\"\",\"\",INDEX(Vložit!B:B,A332+3)))","v":""},{"$f":"IF(A332=\"\",\"\",INDEX(Vložit!B:B,A332+4))","v":""}]
[{"$f":"IF(A332=\"\",\"\",IF(INDEX(Vložit!A:A,(ROW(A332)-1)*17+2)<>\"\",(ROW(A332)-1)*17+2,\"\"))","v":""},{"$f":"IF(A333=\"\",\"\",\"Číslo smlouvy:  \"&INDEX(Vložit!B:B,A333+1)&CHAR(10)&\"Jméno a příjmení:  \"&INDEX(Vložit!B:B,A333+2)&CHAR(10)&\"Ulice:  \"&INDEX(Vložit!B:B,A333+3)&CHAR(10)&\"Č. pop. / č. orient.:  \"&INDEX(Vložit!B:B,A333+4)&CHAR(10)&\"Obec:  \"&INDEX(Vložit!B:B,A333+5))","v":""},{"$f":"IF(A333=\"\",\"\",INDEX(Vložit!A:A,A333)&CHAR(10)&\"Telefon: \"&INDEX(Vložit!B:B,A333+6)&\" / \"&INDEX(Vložit!B:B,A333+7)&CHAR(10)&\"Typ objednávky: \"&INDEX(Vložit!D:D,A333+1)&CHAR(10)&INDEX(Vložit!C:C,A333)&CHAR(10)&INDEX(Vložit!D:D,A333))","v":""},{"$f":"IF(A333=\"\",\"\",IF(INDEX(Vložit!B:B,A333+8)=\"\",\"\",\"Instrukce: \"&INDEX(Vložit!B:B,A333+8)))","v":""},{"$f":"IF(A333=\"\",\"\",IF(INDEX(Vložit!B:B,A333+1)=\"\",\"\",INDEX(Vložit!B:B,A333+1)))","v":""},{"$f":"IF(A333=\"\",\"\",MID(INDEX(Vložit!A:A,A333),19,10))","v":""},{"$f":"IF(A333=\"\",\"\",IF(INDEX(Vložit!B:B,A333+5)=\"\",\"\",VLOOKUP(INDEX(Vložit!B:B,A333+5),Pomocná!B332:C10331,2,FALSE)))","v":""},{"$f":"IF(A333=\"\",\"\",INDEX(Vložit!B:B,A333+2))","v":""},{"$f":"IF(A333=\"\",\"\",IF(INDEX(Vložit!B:B,A333+3)=\"\",\"\",INDEX(Vložit!B:B,A333+3)))","v":""},{"$f":"IF(A333=\"\",\"\",INDEX(Vložit!B:B,A333+4))","v":""}]
[{"$f":"IF(A333=\"\",\"\",IF(INDEX(Vložit!A:A,(ROW(A333)-1)*17+2)<>\"\",(ROW(A333)-1)*17+2,\"\"))","v":""},{"$f":"IF(A334=\"\",\"\",\"Číslo smlouvy:  \"&INDEX(Vložit!B:B,A334+1)&CHAR(10)&\"Jméno a příjmení:  \"&INDEX(Vložit!B:B,A334+2)&CHAR(10)&\"Ulice:  \"&INDEX(Vložit!B:B,A334+3)&CHAR(10)&\"Č. pop. / č. orient.:  \"&INDEX(Vložit!B:B,A334+4)&CHAR(10)&\"Obec:  \"&INDEX(Vložit!B:B,A334+5))","v":""},{"$f":"IF(A334=\"\",\"\",INDEX(Vložit!A:A,A334)&CHAR(10)&\"Telefon: \"&INDEX(Vložit!B:B,A334+6)&\" / \"&INDEX(Vložit!B:B,A334+7)&CHAR(10)&\"Typ objednávky: \"&INDEX(Vložit!D:D,A334+1)&CHAR(10)&INDEX(Vložit!C:C,A334)&CHAR(10)&INDEX(Vložit!D:D,A334))","v":""},{"$f":"IF(A334=\"\",\"\",IF(INDEX(Vložit!B:B,A334+8)=\"\",\"\",\"Instrukce: \"&INDEX(Vložit!B:B,A334+8)))","v":""},{"$f":"IF(A334=\"\",\"\",IF(INDEX(Vložit!B:B,A334+1)=\"\",\"\",INDEX(Vložit!B:B,A334+1)))","v":""},{"$f":"IF(A334=\"\",\"\",MID(INDEX(Vložit!A:A,A334),19,10))","v":""},{"$f":"IF(A334=\"\",\"\",IF(INDEX(Vložit!B:B,A334+5)=\"\",\"\",VLOOKUP(INDEX(Vložit!B:B,A334+5),Pomocná!B333:C10332,2,FALSE)))","v":""},{"$f":"IF(A334=\"\",\"\",INDEX(Vložit!B:B,A334+2))","v":""},{"$f":"IF(A334=\"\",\"\",IF(INDEX(Vložit!B:B,A334+3)=\"\",\"\",INDEX(Vložit!B:B,A334+3)))","v":""},{"$f":"IF(A334=\"\",\"\",INDEX(Vložit!B:B,A334+4))","v":""}]
[{"$f":"IF(A334=\"\",\"\",IF(INDEX(Vložit!A:A,(ROW(A334)-1)*17+2)<>\"\",(ROW(A334)-1)*17+2,\"\"))","v":""},{"$f":"IF(A335=\"\",\"\",\"Číslo smlouvy:  \"&INDEX(Vložit!B:B,A335+1)&CHAR(10)&\"Jméno a příjmení:  \"&INDEX(Vložit!B:B,A335+2)&CHAR(10)&\"Ulice:  \"&INDEX(Vložit!B:B,A335+3)&CHAR(10)&\"Č. pop. / č. orient.:  \"&INDEX(Vložit!B:B,A335+4)&CHAR(10)&\"Obec:  \"&INDEX(Vložit!B:B,A335+5))","v":""},{"$f":"IF(A335=\"\",\"\",INDEX(Vložit!A:A,A335)&CHAR(10)&\"Telefon: \"&INDEX(Vložit!B:B,A335+6)&\" / \"&INDEX(Vložit!B:B,A335+7)&CHAR(10)&\"Typ objednávky: \"&INDEX(Vložit!D:D,A335+1)&CHAR(10)&INDEX(Vložit!C:C,A335)&CHAR(10)&INDEX(Vložit!D:D,A335))","v":""},{"$f":"IF(A335=\"\",\"\",IF(INDEX(Vložit!B:B,A335+8)=\"\",\"\",\"Instrukce: \"&INDEX(Vložit!B:B,A335+8)))","v":""},{"$f":"IF(A335=\"\",\"\",IF(INDEX(Vložit!B:B,A335+1)=\"\",\"\",INDEX(Vložit!B:B,A335+1)))","v":""},{"$f":"IF(A335=\"\",\"\",MID(INDEX(Vložit!A:A,A335),19,10))","v":""},{"$f":"IF(A335=\"\",\"\",IF(INDEX(Vložit!B:B,A335+5)=\"\",\"\",VLOOKUP(INDEX(Vložit!B:B,A335+5),Pomocná!B334:C10333,2,FALSE)))","v":""},{"$f":"IF(A335=\"\",\"\",INDEX(Vložit!B:B,A335+2))","v":""},{"$f":"IF(A335=\"\",\"\",IF(INDEX(Vložit!B:B,A335+3)=\"\",\"\",INDEX(Vložit!B:B,A335+3)))","v":""},{"$f":"IF(A335=\"\",\"\",INDEX(Vložit!B:B,A335+4))","v":""}]
[{"$f":"IF(A335=\"\",\"\",IF(INDEX(Vložit!A:A,(ROW(A335)-1)*17+2)<>\"\",(ROW(A335)-1)*17+2,\"\"))","v":""},{"$f":"IF(A336=\"\",\"\",\"Číslo smlouvy:  \"&INDEX(Vložit!B:B,A336+1)&CHAR(10)&\"Jméno a příjmení:  \"&INDEX(Vložit!B:B,A336+2)&CHAR(10)&\"Ulice:  \"&INDEX(Vložit!B:B,A336+3)&CHAR(10)&\"Č. pop. / č. orient.:  \"&INDEX(Vložit!B:B,A336+4)&CHAR(10)&\"Obec:  \"&INDEX(Vložit!B:B,A336+5))","v":""},{"$f":"IF(A336=\"\",\"\",INDEX(Vložit!A:A,A336)&CHAR(10)&\"Telefon: \"&INDEX(Vložit!B:B,A336+6)&\" / \"&INDEX(Vložit!B:B,A336+7)&CHAR(10)&\"Typ objednávky: \"&INDEX(Vložit!D:D,A336+1)&CHAR(10)&INDEX(Vložit!C:C,A336)&CHAR(10)&INDEX(Vložit!D:D,A336))","v":""},{"$f":"IF(A336=\"\",\"\",IF(INDEX(Vložit!B:B,A336+8)=\"\",\"\",\"Instrukce: \"&INDEX(Vložit!B:B,A336+8)))","v":""},{"$f":"IF(A336=\"\",\"\",IF(INDEX(Vložit!B:B,A336+1)=\"\",\"\",INDEX(Vložit!B:B,A336+1)))","v":""},{"$f":"IF(A336=\"\",\"\",MID(INDEX(Vložit!A:A,A336),19,10))","v":""},{"$f":"IF(A336=\"\",\"\",IF(INDEX(Vložit!B:B,A336+5)=\"\",\"\",VLOOKUP(INDEX(Vložit!B:B,A336+5),Pomocná!B335:C10334,2,FALSE)))","v":""},{"$f":"IF(A336=\"\",\"\",INDEX(Vložit!B:B,A336+2))","v":""},{"$f":"IF(A336=\"\",\"\",IF(INDEX(Vložit!B:B,A336+3)=\"\",\"\",INDEX(Vložit!B:B,A336+3)))","v":""},{"$f":"IF(A336=\"\",\"\",INDEX(Vložit!B:B,A336+4))","v":""}]
[{"$f":"IF(A336=\"\",\"\",IF(INDEX(Vložit!A:A,(ROW(A336)-1)*17+2)<>\"\",(ROW(A336)-1)*17+2,\"\"))","v":""},{"$f":"IF(A337=\"\",\"\",\"Číslo smlouvy:  \"&INDEX(Vložit!B:B,A337+1)&CHAR(10)&\"Jméno a příjmení:  \"&INDEX(Vložit!B:B,A337+2)&CHAR(10)&\"Ulice:  \"&INDEX(Vložit!B:B,A337+3)&CHAR(10)&\"Č. pop. / č. orient.:  \"&INDEX(Vložit!B:B,A337+4)&CHAR(10)&\"Obec:  \"&INDEX(Vložit!B:B,A337+5))","v":""},{"$f":"IF(A337=\"\",\"\",INDEX(Vložit!A:A,A337)&CHAR(10)&\"Telefon: \"&INDEX(Vložit!B:B,A337+6)&\" / \"&INDEX(Vložit!B:B,A337+7)&CHAR(10)&\"Typ objednávky: \"&INDEX(Vložit!D:D,A337+1)&CHAR(10)&INDEX(Vložit!C:C,A337)&CHAR(10)&INDEX(Vložit!D:D,A337))","v":""},{"$f":"IF(A337=\"\",\"\",IF(INDEX(Vložit!B:B,A337+8)=\"\",\"\",\"Instrukce: \"&INDEX(Vložit!B:B,A337+8)))","v":""},{"$f":"IF(A337=\"\",\"\",IF(INDEX(Vložit!B:B,A337+1)=\"\",\"\",INDEX(Vložit!B:B,A337+1)))","v":""},{"$f":"IF(A337=\"\",\"\",MID(INDEX(Vložit!A:A,A337),19,10))","v":""},{"$f":"IF(A337=\"\",\"\",IF(INDEX(Vložit!B:B,A337+5)=\"\",\"\",VLOOKUP(INDEX(Vložit!B:B,A337+5),Pomocná!B336:C10335,2,FALSE)))","v":""},{"$f":"IF(A337=\"\",\"\",INDEX(Vložit!B:B,A337+2))","v":""},{"$f":"IF(A337=\"\",\"\",IF(INDEX(Vložit!B:B,A337+3)=\"\",\"\",INDEX(Vložit!B:B,A337+3)))","v":""},{"$f":"IF(A337=\"\",\"\",INDEX(Vložit!B:B,A337+4))","v":""}]
[{"$f":"IF(A337=\"\",\"\",IF(INDEX(Vložit!A:A,(ROW(A337)-1)*17+2)<>\"\",(ROW(A337)-1)*17+2,\"\"))","v":""},{"$f":"IF(A338=\"\",\"\",\"Číslo smlouvy:  \"&INDEX(Vložit!B:B,A338+1)&CHAR(10)&\"Jméno a příjmení:  \"&INDEX(Vložit!B:B,A338+2)&CHAR(10)&\"Ulice:  \"&INDEX(Vložit!B:B,A338+3)&CHAR(10)&\"Č. pop. / č. orient.:  \"&INDEX(Vložit!B:B,A338+4)&CHAR(10)&\"Obec:  \"&INDEX(Vložit!B:B,A338+5))","v":""},{"$f":"IF(A338=\"\",\"\",INDEX(Vložit!A:A,A338)&CHAR(10)&\"Telefon: \"&INDEX(Vložit!B:B,A338+6)&\" / \"&INDEX(Vložit!B:B,A338+7)&CHAR(10)&\"Typ objednávky: \"&INDEX(Vložit!D:D,A338+1)&CHAR(10)&INDEX(Vložit!C:C,A338)&CHAR(10)&INDEX(Vložit!D:D,A338))","v":""},{"$f":"IF(A338=\"\",\"\",IF(INDEX(Vložit!B:B,A338+8)=\"\",\"\",\"Instrukce: \"&INDEX(Vložit!B:B,A338+8)))","v":""},{"$f":"IF(A338=\"\",\"\",IF(INDEX(Vložit!B:B,A338+1)=\"\",\"\",INDEX(Vložit!B:B,A338+1)))","v":""},{"$f":"IF(A338=\"\",\"\",MID(INDEX(Vložit!A:A,A338),19,10))","v":""},{"$f":"IF(A338=\"\",\"\",IF(INDEX(Vložit!B:B,A338+5)=\"\",\"\",VLOOKUP(INDEX(Vložit!B:B,A338+5),Pomocná!B337:C10336,2,FALSE)))","v":""},{"$f":"IF(A338=\"\",\"\",INDEX(Vložit!B:B,A338+2))","v":""},{"$f":"IF(A338=\"\",\"\",IF(INDEX(Vložit!B:B,A338+3)=\"\",\"\",INDEX(Vložit!B:B,A338+3)))","v":""},{"$f":"IF(A338=\"\",\"\",INDEX(Vložit!B:B,A338+4))","v":""}]
[{"$f":"IF(A338=\"\",\"\",IF(INDEX(Vložit!A:A,(ROW(A338)-1)*17+2)<>\"\",(ROW(A338)-1)*17+2,\"\"))","v":""},{"$f":"IF(A339=\"\",\"\",\"Číslo smlouvy:  \"&INDEX(Vložit!B:B,A339+1)&CHAR(10)&\"Jméno a příjmení:  \"&INDEX(Vložit!B:B,A339+2)&CHAR(10)&\"Ulice:  \"&INDEX(Vložit!B:B,A339+3)&CHAR(10)&\"Č. pop. / č. orient.:  \"&INDEX(Vložit!B:B,A339+4)&CHAR(10)&\"Obec:  \"&INDEX(Vložit!B:B,A339+5))","v":""},{"$f":"IF(A339=\"\",\"\",INDEX(Vložit!A:A,A339)&CHAR(10)&\"Telefon: \"&INDEX(Vložit!B:B,A339+6)&\" / \"&INDEX(Vložit!B:B,A339+7)&CHAR(10)&\"Typ objednávky: \"&INDEX(Vložit!D:D,A339+1)&CHAR(10)&INDEX(Vložit!C:C,A339)&CHAR(10)&INDEX(Vložit!D:D,A339))","v":""},{"$f":"IF(A339=\"\",\"\",IF(INDEX(Vložit!B:B,A339+8)=\"\",\"\",\"Instrukce: \"&INDEX(Vložit!B:B,A339+8)))","v":""},{"$f":"IF(A339=\"\",\"\",IF(INDEX(Vložit!B:B,A339+1)=\"\",\"\",INDEX(Vložit!B:B,A339+1)))","v":""},{"$f":"IF(A339=\"\",\"\",MID(INDEX(Vložit!A:A,A339),19,10))","v":""},{"$f":"IF(A339=\"\",\"\",IF(INDEX(Vložit!B:B,A339+5)=\"\",\"\",VLOOKUP(INDEX(Vložit!B:B,A339+5),Pomocná!B338:C10337,2,FALSE)))","v":""},{"$f":"IF(A339=\"\",\"\",INDEX(Vložit!B:B,A339+2))","v":""},{"$f":"IF(A339=\"\",\"\",IF(INDEX(Vložit!B:B,A339+3)=\"\",\"\",INDEX(Vložit!B:B,A339+3)))","v":""},{"$f":"IF(A339=\"\",\"\",INDEX(Vložit!B:B,A339+4))","v":""}]
[{"$f":"IF(A339=\"\",\"\",IF(INDEX(Vložit!A:A,(ROW(A339)-1)*17+2)<>\"\",(ROW(A339)-1)*17+2,\"\"))","v":""},{"$f":"IF(A340=\"\",\"\",\"Číslo smlouvy:  \"&INDEX(Vložit!B:B,A340+1)&CHAR(10)&\"Jméno a příjmení:  \"&INDEX(Vložit!B:B,A340+2)&CHAR(10)&\"Ulice:  \"&INDEX(Vložit!B:B,A340+3)&CHAR(10)&\"Č. pop. / č. orient.:  \"&INDEX(Vložit!B:B,A340+4)&CHAR(10)&\"Obec:  \"&INDEX(Vložit!B:B,A340+5))","v":""},{"$f":"IF(A340=\"\",\"\",INDEX(Vložit!A:A,A340)&CHAR(10)&\"Telefon: \"&INDEX(Vložit!B:B,A340+6)&\" / \"&INDEX(Vložit!B:B,A340+7)&CHAR(10)&\"Typ objednávky: \"&INDEX(Vložit!D:D,A340+1)&CHAR(10)&INDEX(Vložit!C:C,A340)&CHAR(10)&INDEX(Vložit!D:D,A340))","v":""},{"$f":"IF(A340=\"\",\"\",IF(INDEX(Vložit!B:B,A340+8)=\"\",\"\",\"Instrukce: \"&INDEX(Vložit!B:B,A340+8)))","v":""},{"$f":"IF(A340=\"\",\"\",IF(INDEX(Vložit!B:B,A340+1)=\"\",\"\",INDEX(Vložit!B:B,A340+1)))","v":""},{"$f":"IF(A340=\"\",\"\",MID(INDEX(Vložit!A:A,A340),19,10))","v":""},{"$f":"IF(A340=\"\",\"\",IF(INDEX(Vložit!B:B,A340+5)=\"\",\"\",VLOOKUP(INDEX(Vložit!B:B,A340+5),Pomocná!B339:C10338,2,FALSE)))","v":""},{"$f":"IF(A340=\"\",\"\",INDEX(Vložit!B:B,A340+2))","v":""},{"$f":"IF(A340=\"\",\"\",IF(INDEX(Vložit!B:B,A340+3)=\"\",\"\",INDEX(Vložit!B:B,A340+3)))","v":""},{"$f":"IF(A340=\"\",\"\",INDEX(Vložit!B:B,A340+4))","v":""}]
[{"$f":"IF(A340=\"\",\"\",IF(INDEX(Vložit!A:A,(ROW(A340)-1)*17+2)<>\"\",(ROW(A340)-1)*17+2,\"\"))","v":""},{"$f":"IF(A341=\"\",\"\",\"Číslo smlouvy:  \"&INDEX(Vložit!B:B,A341+1)&CHAR(10)&\"Jméno a příjmení:  \"&INDEX(Vložit!B:B,A341+2)&CHAR(10)&\"Ulice:  \"&INDEX(Vložit!B:B,A341+3)&CHAR(10)&\"Č. pop. / č. orient.:  \"&INDEX(Vložit!B:B,A341+4)&CHAR(10)&\"Obec:  \"&INDEX(Vložit!B:B,A341+5))","v":""},{"$f":"IF(A341=\"\",\"\",INDEX(Vložit!A:A,A341)&CHAR(10)&\"Telefon: \"&INDEX(Vložit!B:B,A341+6)&\" / \"&INDEX(Vložit!B:B,A341+7)&CHAR(10)&\"Typ objednávky: \"&INDEX(Vložit!D:D,A341+1)&CHAR(10)&INDEX(Vložit!C:C,A341)&CHAR(10)&INDEX(Vložit!D:D,A341))","v":""},{"$f":"IF(A341=\"\",\"\",IF(INDEX(Vložit!B:B,A341+8)=\"\",\"\",\"Instrukce: \"&INDEX(Vložit!B:B,A341+8)))","v":""},{"$f":"IF(A341=\"\",\"\",IF(INDEX(Vložit!B:B,A341+1)=\"\",\"\",INDEX(Vložit!B:B,A341+1)))","v":""},{"$f":"IF(A341=\"\",\"\",MID(INDEX(Vložit!A:A,A341),19,10))","v":""},{"$f":"IF(A341=\"\",\"\",IF(INDEX(Vložit!B:B,A341+5)=\"\",\"\",VLOOKUP(INDEX(Vložit!B:B,A341+5),Pomocná!B340:C10339,2,FALSE)))","v":""},{"$f":"IF(A341=\"\",\"\",INDEX(Vložit!B:B,A341+2))","v":""},{"$f":"IF(A341=\"\",\"\",IF(INDEX(Vložit!B:B,A341+3)=\"\",\"\",INDEX(Vložit!B:B,A341+3)))","v":""},{"$f":"IF(A341=\"\",\"\",INDEX(Vložit!B:B,A341+4))","v":""}]
[{"$f":"IF(A341=\"\",\"\",IF(INDEX(Vložit!A:A,(ROW(A341)-1)*17+2)<>\"\",(ROW(A341)-1)*17+2,\"\"))","v":""},{"$f":"IF(A342=\"\",\"\",\"Číslo smlouvy:  \"&INDEX(Vložit!B:B,A342+1)&CHAR(10)&\"Jméno a příjmení:  \"&INDEX(Vložit!B:B,A342+2)&CHAR(10)&\"Ulice:  \"&INDEX(Vložit!B:B,A342+3)&CHAR(10)&\"Č. pop. / č. orient.:  \"&INDEX(Vložit!B:B,A342+4)&CHAR(10)&\"Obec:  \"&INDEX(Vložit!B:B,A342+5))","v":""},{"$f":"IF(A342=\"\",\"\",INDEX(Vložit!A:A,A342)&CHAR(10)&\"Telefon: \"&INDEX(Vložit!B:B,A342+6)&\" / \"&INDEX(Vložit!B:B,A342+7)&CHAR(10)&\"Typ objednávky: \"&INDEX(Vložit!D:D,A342+1)&CHAR(10)&INDEX(Vložit!C:C,A342)&CHAR(10)&INDEX(Vložit!D:D,A342))","v":""},{"$f":"IF(A342=\"\",\"\",IF(INDEX(Vložit!B:B,A342+8)=\"\",\"\",\"Instrukce: \"&INDEX(Vložit!B:B,A342+8)))","v":""},{"$f":"IF(A342=\"\",\"\",IF(INDEX(Vložit!B:B,A342+1)=\"\",\"\",INDEX(Vložit!B:B,A342+1)))","v":""},{"$f":"IF(A342=\"\",\"\",MID(INDEX(Vložit!A:A,A342),19,10))","v":""},{"$f":"IF(A342=\"\",\"\",IF(INDEX(Vložit!B:B,A342+5)=\"\",\"\",VLOOKUP(INDEX(Vložit!B:B,A342+5),Pomocná!B341:C10340,2,FALSE)))","v":""},{"$f":"IF(A342=\"\",\"\",INDEX(Vložit!B:B,A342+2))","v":""},{"$f":"IF(A342=\"\",\"\",IF(INDEX(Vložit!B:B,A342+3)=\"\",\"\",INDEX(Vložit!B:B,A342+3)))","v":""},{"$f":"IF(A342=\"\",\"\",INDEX(Vložit!B:B,A342+4))","v":""}]
[{"$f":"IF(A342=\"\",\"\",IF(INDEX(Vložit!A:A,(ROW(A342)-1)*17+2)<>\"\",(ROW(A342)-1)*17+2,\"\"))","v":""},{"$f":"IF(A343=\"\",\"\",\"Číslo smlouvy:  \"&INDEX(Vložit!B:B,A343+1)&CHAR(10)&\"Jméno a příjmení:  \"&INDEX(Vložit!B:B,A343+2)&CHAR(10)&\"Ulice:  \"&INDEX(Vložit!B:B,A343+3)&CHAR(10)&\"Č. pop. / č. orient.:  \"&INDEX(Vložit!B:B,A343+4)&CHAR(10)&\"Obec:  \"&INDEX(Vložit!B:B,A343+5))","v":""},{"$f":"IF(A343=\"\",\"\",INDEX(Vložit!A:A,A343)&CHAR(10)&\"Telefon: \"&INDEX(Vložit!B:B,A343+6)&\" / \"&INDEX(Vložit!B:B,A343+7)&CHAR(10)&\"Typ objednávky: \"&INDEX(Vložit!D:D,A343+1)&CHAR(10)&INDEX(Vložit!C:C,A343)&CHAR(10)&INDEX(Vložit!D:D,A343))","v":""},{"$f":"IF(A343=\"\",\"\",IF(INDEX(Vložit!B:B,A343+8)=\"\",\"\",\"Instrukce: \"&INDEX(Vložit!B:B,A343+8)))","v":""},{"$f":"IF(A343=\"\",\"\",IF(INDEX(Vložit!B:B,A343+1)=\"\",\"\",INDEX(Vložit!B:B,A343+1)))","v":""},{"$f":"IF(A343=\"\",\"\",MID(INDEX(Vložit!A:A,A343),19,10))","v":""},{"$f":"IF(A343=\"\",\"\",IF(INDEX(Vložit!B:B,A343+5)=\"\",\"\",VLOOKUP(INDEX(Vložit!B:B,A343+5),Pomocná!B342:C10341,2,FALSE)))","v":""},{"$f":"IF(A343=\"\",\"\",INDEX(Vložit!B:B,A343+2))","v":""},{"$f":"IF(A343=\"\",\"\",IF(INDEX(Vložit!B:B,A343+3)=\"\",\"\",INDEX(Vložit!B:B,A343+3)))","v":""},{"$f":"IF(A343=\"\",\"\",INDEX(Vložit!B:B,A343+4))","v":""}]
[{"$f":"IF(A343=\"\",\"\",IF(INDEX(Vložit!A:A,(ROW(A343)-1)*17+2)<>\"\",(ROW(A343)-1)*17+2,\"\"))","v":""},{"$f":"IF(A344=\"\",\"\",\"Číslo smlouvy:  \"&INDEX(Vložit!B:B,A344+1)&CHAR(10)&\"Jméno a příjmení:  \"&INDEX(Vložit!B:B,A344+2)&CHAR(10)&\"Ulice:  \"&INDEX(Vložit!B:B,A344+3)&CHAR(10)&\"Č. pop. / č. orient.:  \"&INDEX(Vložit!B:B,A344+4)&CHAR(10)&\"Obec:  \"&INDEX(Vložit!B:B,A344+5))","v":""},{"$f":"IF(A344=\"\",\"\",INDEX(Vložit!A:A,A344)&CHAR(10)&\"Telefon: \"&INDEX(Vložit!B:B,A344+6)&\" / \"&INDEX(Vložit!B:B,A344+7)&CHAR(10)&\"Typ objednávky: \"&INDEX(Vložit!D:D,A344+1)&CHAR(10)&INDEX(Vložit!C:C,A344)&CHAR(10)&INDEX(Vložit!D:D,A344))","v":""},{"$f":"IF(A344=\"\",\"\",IF(INDEX(Vložit!B:B,A344+8)=\"\",\"\",\"Instrukce: \"&INDEX(Vložit!B:B,A344+8)))","v":""},{"$f":"IF(A344=\"\",\"\",IF(INDEX(Vložit!B:B,A344+1)=\"\",\"\",INDEX(Vložit!B:B,A344+1)))","v":""},{"$f":"IF(A344=\"\",\"\",MID(INDEX(Vložit!A:A,A344),19,10))","v":""},{"$f":"IF(A344=\"\",\"\",IF(INDEX(Vložit!B:B,A344+5)=\"\",\"\",VLOOKUP(INDEX(Vložit!B:B,A344+5),Pomocná!B343:C10342,2,FALSE)))","v":""},{"$f":"IF(A344=\"\",\"\",INDEX(Vložit!B:B,A344+2))","v":""},{"$f":"IF(A344=\"\",\"\",IF(INDEX(Vložit!B:B,A344+3)=\"\",\"\",INDEX(Vložit!B:B,A344+3)))","v":""},{"$f":"IF(A344=\"\",\"\",INDEX(Vložit!B:B,A344+4))","v":""}]
[{"$f":"IF(A344=\"\",\"\",IF(INDEX(Vložit!A:A,(ROW(A344)-1)*17+2)<>\"\",(ROW(A344)-1)*17+2,\"\"))","v":""},{"$f":"IF(A345=\"\",\"\",\"Číslo smlouvy:  \"&INDEX(Vložit!B:B,A345+1)&CHAR(10)&\"Jméno a příjmení:  \"&INDEX(Vložit!B:B,A345+2)&CHAR(10)&\"Ulice:  \"&INDEX(Vložit!B:B,A345+3)&CHAR(10)&\"Č. pop. / č. orient.:  \"&INDEX(Vložit!B:B,A345+4)&CHAR(10)&\"Obec:  \"&INDEX(Vložit!B:B,A345+5))","v":""},{"$f":"IF(A345=\"\",\"\",INDEX(Vložit!A:A,A345)&CHAR(10)&\"Telefon: \"&INDEX(Vložit!B:B,A345+6)&\" / \"&INDEX(Vložit!B:B,A345+7)&CHAR(10)&\"Typ objednávky: \"&INDEX(Vložit!D:D,A345+1)&CHAR(10)&INDEX(Vložit!C:C,A345)&CHAR(10)&INDEX(Vložit!D:D,A345))","v":""},{"$f":"IF(A345=\"\",\"\",IF(INDEX(Vložit!B:B,A345+8)=\"\",\"\",\"Instrukce: \"&INDEX(Vložit!B:B,A345+8)))","v":""},{"$f":"IF(A345=\"\",\"\",IF(INDEX(Vložit!B:B,A345+1)=\"\",\"\",INDEX(Vložit!B:B,A345+1)))","v":""},{"$f":"IF(A345=\"\",\"\",MID(INDEX(Vložit!A:A,A345),19,10))","v":""},{"$f":"IF(A345=\"\",\"\",IF(INDEX(Vložit!B:B,A345+5)=\"\",\"\",VLOOKUP(INDEX(Vložit!B:B,A345+5),Pomocná!B344:C10343,2,FALSE)))","v":""},{"$f":"IF(A345=\"\",\"\",INDEX(Vložit!B:B,A345+2))","v":""},{"$f":"IF(A345=\"\",\"\",IF(INDEX(Vložit!B:B,A345+3)=\"\",\"\",INDEX(Vložit!B:B,A345+3)))","v":""},{"$f":"IF(A345=\"\",\"\",INDEX(Vložit!B:B,A345+4))","v":""}]
[{"$f":"IF(A345=\"\",\"\",IF(INDEX(Vložit!A:A,(ROW(A345)-1)*17+2)<>\"\",(ROW(A345)-1)*17+2,\"\"))","v":""},{"$f":"IF(A346=\"\",\"\",\"Číslo smlouvy:  \"&INDEX(Vložit!B:B,A346+1)&CHAR(10)&\"Jméno a příjmení:  \"&INDEX(Vložit!B:B,A346+2)&CHAR(10)&\"Ulice:  \"&INDEX(Vložit!B:B,A346+3)&CHAR(10)&\"Č. pop. / č. orient.:  \"&INDEX(Vložit!B:B,A346+4)&CHAR(10)&\"Obec:  \"&INDEX(Vložit!B:B,A346+5))","v":""},{"$f":"IF(A346=\"\",\"\",INDEX(Vložit!A:A,A346)&CHAR(10)&\"Telefon: \"&INDEX(Vložit!B:B,A346+6)&\" / \"&INDEX(Vložit!B:B,A346+7)&CHAR(10)&\"Typ objednávky: \"&INDEX(Vložit!D:D,A346+1)&CHAR(10)&INDEX(Vložit!C:C,A346)&CHAR(10)&INDEX(Vložit!D:D,A346))","v":""},{"$f":"IF(A346=\"\",\"\",IF(INDEX(Vložit!B:B,A346+8)=\"\",\"\",\"Instrukce: \"&INDEX(Vložit!B:B,A346+8)))","v":""},{"$f":"IF(A346=\"\",\"\",IF(INDEX(Vložit!B:B,A346+1)=\"\",\"\",INDEX(Vložit!B:B,A346+1)))","v":""},{"$f":"IF(A346=\"\",\"\",MID(INDEX(Vložit!A:A,A346),19,10))","v":""},{"$f":"IF(A346=\"\",\"\",IF(INDEX(Vložit!B:B,A346+5)=\"\",\"\",VLOOKUP(INDEX(Vložit!B:B,A346+5),Pomocná!B345:C10344,2,FALSE)))","v":""},{"$f":"IF(A346=\"\",\"\",INDEX(Vložit!B:B,A346+2))","v":""},{"$f":"IF(A346=\"\",\"\",IF(INDEX(Vložit!B:B,A346+3)=\"\",\"\",INDEX(Vložit!B:B,A346+3)))","v":""},{"$f":"IF(A346=\"\",\"\",INDEX(Vložit!B:B,A346+4))","v":""}]
[{"$f":"IF(A346=\"\",\"\",IF(INDEX(Vložit!A:A,(ROW(A346)-1)*17+2)<>\"\",(ROW(A346)-1)*17+2,\"\"))","v":""},{"$f":"IF(A347=\"\",\"\",\"Číslo smlouvy:  \"&INDEX(Vložit!B:B,A347+1)&CHAR(10)&\"Jméno a příjmení:  \"&INDEX(Vložit!B:B,A347+2)&CHAR(10)&\"Ulice:  \"&INDEX(Vložit!B:B,A347+3)&CHAR(10)&\"Č. pop. / č. orient.:  \"&INDEX(Vložit!B:B,A347+4)&CHAR(10)&\"Obec:  \"&INDEX(Vložit!B:B,A347+5))","v":""},{"$f":"IF(A347=\"\",\"\",INDEX(Vložit!A:A,A347)&CHAR(10)&\"Telefon: \"&INDEX(Vložit!B:B,A347+6)&\" / \"&INDEX(Vložit!B:B,A347+7)&CHAR(10)&\"Typ objednávky: \"&INDEX(Vložit!D:D,A347+1)&CHAR(10)&INDEX(Vložit!C:C,A347)&CHAR(10)&INDEX(Vložit!D:D,A347))","v":""},{"$f":"IF(A347=\"\",\"\",IF(INDEX(Vložit!B:B,A347+8)=\"\",\"\",\"Instrukce: \"&INDEX(Vložit!B:B,A347+8)))","v":""},{"$f":"IF(A347=\"\",\"\",IF(INDEX(Vložit!B:B,A347+1)=\"\",\"\",INDEX(Vložit!B:B,A347+1)))","v":""},{"$f":"IF(A347=\"\",\"\",MID(INDEX(Vložit!A:A,A347),19,10))","v":""},{"$f":"IF(A347=\"\",\"\",IF(INDEX(Vložit!B:B,A347+5)=\"\",\"\",VLOOKUP(INDEX(Vložit!B:B,A347+5),Pomocná!B346:C10345,2,FALSE)))","v":""},{"$f":"IF(A347=\"\",\"\",INDEX(Vložit!B:B,A347+2))","v":""},{"$f":"IF(A347=\"\",\"\",IF(INDEX(Vložit!B:B,A347+3)=\"\",\"\",INDEX(Vložit!B:B,A347+3)))","v":""},{"$f":"IF(A347=\"\",\"\",INDEX(Vložit!B:B,A347+4))","v":""}]
[{"$f":"IF(A347=\"\",\"\",IF(INDEX(Vložit!A:A,(ROW(A347)-1)*17+2)<>\"\",(ROW(A347)-1)*17+2,\"\"))","v":""},{"$f":"IF(A348=\"\",\"\",\"Číslo smlouvy:  \"&INDEX(Vložit!B:B,A348+1)&CHAR(10)&\"Jméno a příjmení:  \"&INDEX(Vložit!B:B,A348+2)&CHAR(10)&\"Ulice:  \"&INDEX(Vložit!B:B,A348+3)&CHAR(10)&\"Č. pop. / č. orient.:  \"&INDEX(Vložit!B:B,A348+4)&CHAR(10)&\"Obec:  \"&INDEX(Vložit!B:B,A348+5))","v":""},{"$f":"IF(A348=\"\",\"\",INDEX(Vložit!A:A,A348)&CHAR(10)&\"Telefon: \"&INDEX(Vložit!B:B,A348+6)&\" / \"&INDEX(Vložit!B:B,A348+7)&CHAR(10)&\"Typ objednávky: \"&INDEX(Vložit!D:D,A348+1)&CHAR(10)&INDEX(Vložit!C:C,A348)&CHAR(10)&INDEX(Vložit!D:D,A348))","v":""},{"$f":"IF(A348=\"\",\"\",IF(INDEX(Vložit!B:B,A348+8)=\"\",\"\",\"Instrukce: \"&INDEX(Vložit!B:B,A348+8)))","v":""},{"$f":"IF(A348=\"\",\"\",IF(INDEX(Vložit!B:B,A348+1)=\"\",\"\",INDEX(Vložit!B:B,A348+1)))","v":""},{"$f":"IF(A348=\"\",\"\",MID(INDEX(Vložit!A:A,A348),19,10))","v":""},{"$f":"IF(A348=\"\",\"\",IF(INDEX(Vložit!B:B,A348+5)=\"\",\"\",VLOOKUP(INDEX(Vložit!B:B,A348+5),Pomocná!B347:C10346,2,FALSE)))","v":""},{"$f":"IF(A348=\"\",\"\",INDEX(Vložit!B:B,A348+2))","v":""},{"$f":"IF(A348=\"\",\"\",IF(INDEX(Vložit!B:B,A348+3)=\"\",\"\",INDEX(Vložit!B:B,A348+3)))","v":""},{"$f":"IF(A348=\"\",\"\",INDEX(Vložit!B:B,A348+4))","v":""}]
[{"$f":"IF(A348=\"\",\"\",IF(INDEX(Vložit!A:A,(ROW(A348)-1)*17+2)<>\"\",(ROW(A348)-1)*17+2,\"\"))","v":""},{"$f":"IF(A349=\"\",\"\",\"Číslo smlouvy:  \"&INDEX(Vložit!B:B,A349+1)&CHAR(10)&\"Jméno a příjmení:  \"&INDEX(Vložit!B:B,A349+2)&CHAR(10)&\"Ulice:  \"&INDEX(Vložit!B:B,A349+3)&CHAR(10)&\"Č. pop. / č. orient.:  \"&INDEX(Vložit!B:B,A349+4)&CHAR(10)&\"Obec:  \"&INDEX(Vložit!B:B,A349+5))","v":""},{"$f":"IF(A349=\"\",\"\",INDEX(Vložit!A:A,A349)&CHAR(10)&\"Telefon: \"&INDEX(Vložit!B:B,A349+6)&\" / \"&INDEX(Vložit!B:B,A349+7)&CHAR(10)&\"Typ objednávky: \"&INDEX(Vložit!D:D,A349+1)&CHAR(10)&INDEX(Vložit!C:C,A349)&CHAR(10)&INDEX(Vložit!D:D,A349))","v":""},{"$f":"IF(A349=\"\",\"\",IF(INDEX(Vložit!B:B,A349+8)=\"\",\"\",\"Instrukce: \"&INDEX(Vložit!B:B,A349+8)))","v":""},{"$f":"IF(A349=\"\",\"\",IF(INDEX(Vložit!B:B,A349+1)=\"\",\"\",INDEX(Vložit!B:B,A349+1)))","v":""},{"$f":"IF(A349=\"\",\"\",MID(INDEX(Vložit!A:A,A349),19,10))","v":""},{"$f":"IF(A349=\"\",\"\",IF(INDEX(Vložit!B:B,A349+5)=\"\",\"\",VLOOKUP(INDEX(Vložit!B:B,A349+5),Pomocná!B348:C10347,2,FALSE)))","v":""},{"$f":"IF(A349=\"\",\"\",INDEX(Vložit!B:B,A349+2))","v":""},{"$f":"IF(A349=\"\",\"\",IF(INDEX(Vložit!B:B,A349+3)=\"\",\"\",INDEX(Vložit!B:B,A349+3)))","v":""},{"$f":"IF(A349=\"\",\"\",INDEX(Vložit!B:B,A349+4))","v":""}]
[{"$f":"IF(A349=\"\",\"\",IF(INDEX(Vložit!A:A,(ROW(A349)-1)*17+2)<>\"\",(ROW(A349)-1)*17+2,\"\"))","v":""},{"$f":"IF(A350=\"\",\"\",\"Číslo smlouvy:  \"&INDEX(Vložit!B:B,A350+1)&CHAR(10)&\"Jméno a příjmení:  \"&INDEX(Vložit!B:B,A350+2)&CHAR(10)&\"Ulice:  \"&INDEX(Vložit!B:B,A350+3)&CHAR(10)&\"Č. pop. / č. orient.:  \"&INDEX(Vložit!B:B,A350+4)&CHAR(10)&\"Obec:  \"&INDEX(Vložit!B:B,A350+5))","v":""},{"$f":"IF(A350=\"\",\"\",INDEX(Vložit!A:A,A350)&CHAR(10)&\"Telefon: \"&INDEX(Vložit!B:B,A350+6)&\" / \"&INDEX(Vložit!B:B,A350+7)&CHAR(10)&\"Typ objednávky: \"&INDEX(Vložit!D:D,A350+1)&CHAR(10)&INDEX(Vložit!C:C,A350)&CHAR(10)&INDEX(Vložit!D:D,A350))","v":""},{"$f":"IF(A350=\"\",\"\",IF(INDEX(Vložit!B:B,A350+8)=\"\",\"\",\"Instrukce: \"&INDEX(Vložit!B:B,A350+8)))","v":""},{"$f":"IF(A350=\"\",\"\",IF(INDEX(Vložit!B:B,A350+1)=\"\",\"\",INDEX(Vložit!B:B,A350+1)))","v":""},{"$f":"IF(A350=\"\",\"\",MID(INDEX(Vložit!A:A,A350),19,10))","v":""},{"$f":"IF(A350=\"\",\"\",IF(INDEX(Vložit!B:B,A350+5)=\"\",\"\",VLOOKUP(INDEX(Vložit!B:B,A350+5),Pomocná!B349:C10348,2,FALSE)))","v":""},{"$f":"IF(A350=\"\",\"\",INDEX(Vložit!B:B,A350+2))","v":""},{"$f":"IF(A350=\"\",\"\",IF(INDEX(Vložit!B:B,A350+3)=\"\",\"\",INDEX(Vložit!B:B,A350+3)))","v":""},{"$f":"IF(A350=\"\",\"\",INDEX(Vložit!B:B,A350+4))","v":""}]
[{"$f":"IF(A350=\"\",\"\",IF(INDEX(Vložit!A:A,(ROW(A350)-1)*17+2)<>\"\",(ROW(A350)-1)*17+2,\"\"))","v":""},{"$f":"IF(A351=\"\",\"\",\"Číslo smlouvy:  \"&INDEX(Vložit!B:B,A351+1)&CHAR(10)&\"Jméno a příjmení:  \"&INDEX(Vložit!B:B,A351+2)&CHAR(10)&\"Ulice:  \"&INDEX(Vložit!B:B,A351+3)&CHAR(10)&\"Č. pop. / č. orient.:  \"&INDEX(Vložit!B:B,A351+4)&CHAR(10)&\"Obec:  \"&INDEX(Vložit!B:B,A351+5))","v":""},{"$f":"IF(A351=\"\",\"\",INDEX(Vložit!A:A,A351)&CHAR(10)&\"Telefon: \"&INDEX(Vložit!B:B,A351+6)&\" / \"&INDEX(Vložit!B:B,A351+7)&CHAR(10)&\"Typ objednávky: \"&INDEX(Vložit!D:D,A351+1)&CHAR(10)&INDEX(Vložit!C:C,A351)&CHAR(10)&INDEX(Vložit!D:D,A351))","v":""},{"$f":"IF(A351=\"\",\"\",IF(INDEX(Vložit!B:B,A351+8)=\"\",\"\",\"Instrukce: \"&INDEX(Vložit!B:B,A351+8)))","v":""},{"$f":"IF(A351=\"\",\"\",IF(INDEX(Vložit!B:B,A351+1)=\"\",\"\",INDEX(Vložit!B:B,A351+1)))","v":""},{"$f":"IF(A351=\"\",\"\",MID(INDEX(Vložit!A:A,A351),19,10))","v":""},{"$f":"IF(A351=\"\",\"\",IF(INDEX(Vložit!B:B,A351+5)=\"\",\"\",VLOOKUP(INDEX(Vložit!B:B,A351+5),Pomocná!B350:C10349,2,FALSE)))","v":""},{"$f":"IF(A351=\"\",\"\",INDEX(Vložit!B:B,A351+2))","v":""},{"$f":"IF(A351=\"\",\"\",IF(INDEX(Vložit!B:B,A351+3)=\"\",\"\",INDEX(Vložit!B:B,A351+3)))","v":""},{"$f":"IF(A351=\"\",\"\",INDEX(Vložit!B:B,A351+4))","v":""}]
[{"$f":"IF(A351=\"\",\"\",IF(INDEX(Vložit!A:A,(ROW(A351)-1)*17+2)<>\"\",(ROW(A351)-1)*17+2,\"\"))","v":""},{"$f":"IF(A352=\"\",\"\",\"Číslo smlouvy:  \"&INDEX(Vložit!B:B,A352+1)&CHAR(10)&\"Jméno a příjmení:  \"&INDEX(Vložit!B:B,A352+2)&CHAR(10)&\"Ulice:  \"&INDEX(Vložit!B:B,A352+3)&CHAR(10)&\"Č. pop. / č. orient.:  \"&INDEX(Vložit!B:B,A352+4)&CHAR(10)&\"Obec:  \"&INDEX(Vložit!B:B,A352+5))","v":""},{"$f":"IF(A352=\"\",\"\",INDEX(Vložit!A:A,A352)&CHAR(10)&\"Telefon: \"&INDEX(Vložit!B:B,A352+6)&\" / \"&INDEX(Vložit!B:B,A352+7)&CHAR(10)&\"Typ objednávky: \"&INDEX(Vložit!D:D,A352+1)&CHAR(10)&INDEX(Vložit!C:C,A352)&CHAR(10)&INDEX(Vložit!D:D,A352))","v":""},{"$f":"IF(A352=\"\",\"\",IF(INDEX(Vložit!B:B,A352+8)=\"\",\"\",\"Instrukce: \"&INDEX(Vložit!B:B,A352+8)))","v":""},{"$f":"IF(A352=\"\",\"\",IF(INDEX(Vložit!B:B,A352+1)=\"\",\"\",INDEX(Vložit!B:B,A352+1)))","v":""},{"$f":"IF(A352=\"\",\"\",MID(INDEX(Vložit!A:A,A352),19,10))","v":""},{"$f":"IF(A352=\"\",\"\",IF(INDEX(Vložit!B:B,A352+5)=\"\",\"\",VLOOKUP(INDEX(Vložit!B:B,A352+5),Pomocná!B351:C10350,2,FALSE)))","v":""},{"$f":"IF(A352=\"\",\"\",INDEX(Vložit!B:B,A352+2))","v":""},{"$f":"IF(A352=\"\",\"\",IF(INDEX(Vložit!B:B,A352+3)=\"\",\"\",INDEX(Vložit!B:B,A352+3)))","v":""},{"$f":"IF(A352=\"\",\"\",INDEX(Vložit!B:B,A352+4))","v":""}]
[{"$f":"IF(A352=\"\",\"\",IF(INDEX(Vložit!A:A,(ROW(A352)-1)*17+2)<>\"\",(ROW(A352)-1)*17+2,\"\"))","v":""},{"$f":"IF(A353=\"\",\"\",\"Číslo smlouvy:  \"&INDEX(Vložit!B:B,A353+1)&CHAR(10)&\"Jméno a příjmení:  \"&INDEX(Vložit!B:B,A353+2)&CHAR(10)&\"Ulice:  \"&INDEX(Vložit!B:B,A353+3)&CHAR(10)&\"Č. pop. / č. orient.:  \"&INDEX(Vložit!B:B,A353+4)&CHAR(10)&\"Obec:  \"&INDEX(Vložit!B:B,A353+5))","v":""},{"$f":"IF(A353=\"\",\"\",INDEX(Vložit!A:A,A353)&CHAR(10)&\"Telefon: \"&INDEX(Vložit!B:B,A353+6)&\" / \"&INDEX(Vložit!B:B,A353+7)&CHAR(10)&\"Typ objednávky: \"&INDEX(Vložit!D:D,A353+1)&CHAR(10)&INDEX(Vložit!C:C,A353)&CHAR(10)&INDEX(Vložit!D:D,A353))","v":""},{"$f":"IF(A353=\"\",\"\",IF(INDEX(Vložit!B:B,A353+8)=\"\",\"\",\"Instrukce: \"&INDEX(Vložit!B:B,A353+8)))","v":""},{"$f":"IF(A353=\"\",\"\",IF(INDEX(Vložit!B:B,A353+1)=\"\",\"\",INDEX(Vložit!B:B,A353+1)))","v":""},{"$f":"IF(A353=\"\",\"\",MID(INDEX(Vložit!A:A,A353),19,10))","v":""},{"$f":"IF(A353=\"\",\"\",IF(INDEX(Vložit!B:B,A353+5)=\"\",\"\",VLOOKUP(INDEX(Vložit!B:B,A353+5),Pomocná!B352:C10351,2,FALSE)))","v":""},{"$f":"IF(A353=\"\",\"\",INDEX(Vložit!B:B,A353+2))","v":""},{"$f":"IF(A353=\"\",\"\",IF(INDEX(Vložit!B:B,A353+3)=\"\",\"\",INDEX(Vložit!B:B,A353+3)))","v":""},{"$f":"IF(A353=\"\",\"\",INDEX(Vložit!B:B,A353+4))","v":""}]
[{"$f":"IF(A353=\"\",\"\",IF(INDEX(Vložit!A:A,(ROW(A353)-1)*17+2)<>\"\",(ROW(A353)-1)*17+2,\"\"))","v":""},{"$f":"IF(A354=\"\",\"\",\"Číslo smlouvy:  \"&INDEX(Vložit!B:B,A354+1)&CHAR(10)&\"Jméno a příjmení:  \"&INDEX(Vložit!B:B,A354+2)&CHAR(10)&\"Ulice:  \"&INDEX(Vložit!B:B,A354+3)&CHAR(10)&\"Č. pop. / č. orient.:  \"&INDEX(Vložit!B:B,A354+4)&CHAR(10)&\"Obec:  \"&INDEX(Vložit!B:B,A354+5))","v":""},{"$f":"IF(A354=\"\",\"\",INDEX(Vložit!A:A,A354)&CHAR(10)&\"Telefon: \"&INDEX(Vložit!B:B,A354+6)&\" / \"&INDEX(Vložit!B:B,A354+7)&CHAR(10)&\"Typ objednávky: \"&INDEX(Vložit!D:D,A354+1)&CHAR(10)&INDEX(Vložit!C:C,A354)&CHAR(10)&INDEX(Vložit!D:D,A354))","v":""},{"$f":"IF(A354=\"\",\"\",IF(INDEX(Vložit!B:B,A354+8)=\"\",\"\",\"Instrukce: \"&INDEX(Vložit!B:B,A354+8)))","v":""},{"$f":"IF(A354=\"\",\"\",IF(INDEX(Vložit!B:B,A354+1)=\"\",\"\",INDEX(Vložit!B:B,A354+1)))","v":""},{"$f":"IF(A354=\"\",\"\",MID(INDEX(Vložit!A:A,A354),19,10))","v":""},{"$f":"IF(A354=\"\",\"\",IF(INDEX(Vložit!B:B,A354+5)=\"\",\"\",VLOOKUP(INDEX(Vložit!B:B,A354+5),Pomocná!B353:C10352,2,FALSE)))","v":""},{"$f":"IF(A354=\"\",\"\",INDEX(Vložit!B:B,A354+2))","v":""},{"$f":"IF(A354=\"\",\"\",IF(INDEX(Vložit!B:B,A354+3)=\"\",\"\",INDEX(Vložit!B:B,A354+3)))","v":""},{"$f":"IF(A354=\"\",\"\",INDEX(Vložit!B:B,A354+4))","v":""}]
[{"$f":"IF(A354=\"\",\"\",IF(INDEX(Vložit!A:A,(ROW(A354)-1)*17+2)<>\"\",(ROW(A354)-1)*17+2,\"\"))","v":""},{"$f":"IF(A355=\"\",\"\",\"Číslo smlouvy:  \"&INDEX(Vložit!B:B,A355+1)&CHAR(10)&\"Jméno a příjmení:  \"&INDEX(Vložit!B:B,A355+2)&CHAR(10)&\"Ulice:  \"&INDEX(Vložit!B:B,A355+3)&CHAR(10)&\"Č. pop. / č. orient.:  \"&INDEX(Vložit!B:B,A355+4)&CHAR(10)&\"Obec:  \"&INDEX(Vložit!B:B,A355+5))","v":""},{"$f":"IF(A355=\"\",\"\",INDEX(Vložit!A:A,A355)&CHAR(10)&\"Telefon: \"&INDEX(Vložit!B:B,A355+6)&\" / \"&INDEX(Vložit!B:B,A355+7)&CHAR(10)&\"Typ objednávky: \"&INDEX(Vložit!D:D,A355+1)&CHAR(10)&INDEX(Vložit!C:C,A355)&CHAR(10)&INDEX(Vložit!D:D,A355))","v":""},{"$f":"IF(A355=\"\",\"\",IF(INDEX(Vložit!B:B,A355+8)=\"\",\"\",\"Instrukce: \"&INDEX(Vložit!B:B,A355+8)))","v":""},{"$f":"IF(A355=\"\",\"\",IF(INDEX(Vložit!B:B,A355+1)=\"\",\"\",INDEX(Vložit!B:B,A355+1)))","v":""},{"$f":"IF(A355=\"\",\"\",MID(INDEX(Vložit!A:A,A355),19,10))","v":""},{"$f":"IF(A355=\"\",\"\",IF(INDEX(Vložit!B:B,A355+5)=\"\",\"\",VLOOKUP(INDEX(Vložit!B:B,A355+5),Pomocná!B354:C10353,2,FALSE)))","v":""},{"$f":"IF(A355=\"\",\"\",INDEX(Vložit!B:B,A355+2))","v":""},{"$f":"IF(A355=\"\",\"\",IF(INDEX(Vložit!B:B,A355+3)=\"\",\"\",INDEX(Vložit!B:B,A355+3)))","v":""},{"$f":"IF(A355=\"\",\"\",INDEX(Vložit!B:B,A355+4))","v":""}]
[{"$f":"IF(A355=\"\",\"\",IF(INDEX(Vložit!A:A,(ROW(A355)-1)*17+2)<>\"\",(ROW(A355)-1)*17+2,\"\"))","v":""},{"$f":"IF(A356=\"\",\"\",\"Číslo smlouvy:  \"&INDEX(Vložit!B:B,A356+1)&CHAR(10)&\"Jméno a příjmení:  \"&INDEX(Vložit!B:B,A356+2)&CHAR(10)&\"Ulice:  \"&INDEX(Vložit!B:B,A356+3)&CHAR(10)&\"Č. pop. / č. orient.:  \"&INDEX(Vložit!B:B,A356+4)&CHAR(10)&\"Obec:  \"&INDEX(Vložit!B:B,A356+5))","v":""},{"$f":"IF(A356=\"\",\"\",INDEX(Vložit!A:A,A356)&CHAR(10)&\"Telefon: \"&INDEX(Vložit!B:B,A356+6)&\" / \"&INDEX(Vložit!B:B,A356+7)&CHAR(10)&\"Typ objednávky: \"&INDEX(Vložit!D:D,A356+1)&CHAR(10)&INDEX(Vložit!C:C,A356)&CHAR(10)&INDEX(Vložit!D:D,A356))","v":""},{"$f":"IF(A356=\"\",\"\",IF(INDEX(Vložit!B:B,A356+8)=\"\",\"\",\"Instrukce: \"&INDEX(Vložit!B:B,A356+8)))","v":""},{"$f":"IF(A356=\"\",\"\",IF(INDEX(Vložit!B:B,A356+1)=\"\",\"\",INDEX(Vložit!B:B,A356+1)))","v":""},{"$f":"IF(A356=\"\",\"\",MID(INDEX(Vložit!A:A,A356),19,10))","v":""},{"$f":"IF(A356=\"\",\"\",IF(INDEX(Vložit!B:B,A356+5)=\"\",\"\",VLOOKUP(INDEX(Vložit!B:B,A356+5),Pomocná!B355:C10354,2,FALSE)))","v":""},{"$f":"IF(A356=\"\",\"\",INDEX(Vložit!B:B,A356+2))","v":""},{"$f":"IF(A356=\"\",\"\",IF(INDEX(Vložit!B:B,A356+3)=\"\",\"\",INDEX(Vložit!B:B,A356+3)))","v":""},{"$f":"IF(A356=\"\",\"\",INDEX(Vložit!B:B,A356+4))","v":""}]
[{"$f":"IF(A356=\"\",\"\",IF(INDEX(Vložit!A:A,(ROW(A356)-1)*17+2)<>\"\",(ROW(A356)-1)*17+2,\"\"))","v":""},{"$f":"IF(A357=\"\",\"\",\"Číslo smlouvy:  \"&INDEX(Vložit!B:B,A357+1)&CHAR(10)&\"Jméno a příjmení:  \"&INDEX(Vložit!B:B,A357+2)&CHAR(10)&\"Ulice:  \"&INDEX(Vložit!B:B,A357+3)&CHAR(10)&\"Č. pop. / č. orient.:  \"&INDEX(Vložit!B:B,A357+4)&CHAR(10)&\"Obec:  \"&INDEX(Vložit!B:B,A357+5))","v":""},{"$f":"IF(A357=\"\",\"\",INDEX(Vložit!A:A,A357)&CHAR(10)&\"Telefon: \"&INDEX(Vložit!B:B,A357+6)&\" / \"&INDEX(Vložit!B:B,A357+7)&CHAR(10)&\"Typ objednávky: \"&INDEX(Vložit!D:D,A357+1)&CHAR(10)&INDEX(Vložit!C:C,A357)&CHAR(10)&INDEX(Vložit!D:D,A357))","v":""},{"$f":"IF(A357=\"\",\"\",IF(INDEX(Vložit!B:B,A357+8)=\"\",\"\",\"Instrukce: \"&INDEX(Vložit!B:B,A357+8)))","v":""},{"$f":"IF(A357=\"\",\"\",IF(INDEX(Vložit!B:B,A357+1)=\"\",\"\",INDEX(Vložit!B:B,A357+1)))","v":""},{"$f":"IF(A357=\"\",\"\",MID(INDEX(Vložit!A:A,A357),19,10))","v":""},{"$f":"IF(A357=\"\",\"\",IF(INDEX(Vložit!B:B,A357+5)=\"\",\"\",VLOOKUP(INDEX(Vložit!B:B,A357+5),Pomocná!B356:C10355,2,FALSE)))","v":""},{"$f":"IF(A357=\"\",\"\",INDEX(Vložit!B:B,A357+2))","v":""},{"$f":"IF(A357=\"\",\"\",IF(INDEX(Vložit!B:B,A357+3)=\"\",\"\",INDEX(Vložit!B:B,A357+3)))","v":""},{"$f":"IF(A357=\"\",\"\",INDEX(Vložit!B:B,A357+4))","v":""}]
[{"$f":"IF(A357=\"\",\"\",IF(INDEX(Vložit!A:A,(ROW(A357)-1)*17+2)<>\"\",(ROW(A357)-1)*17+2,\"\"))","v":""},{"$f":"IF(A358=\"\",\"\",\"Číslo smlouvy:  \"&INDEX(Vložit!B:B,A358+1)&CHAR(10)&\"Jméno a příjmení:  \"&INDEX(Vložit!B:B,A358+2)&CHAR(10)&\"Ulice:  \"&INDEX(Vložit!B:B,A358+3)&CHAR(10)&\"Č. pop. / č. orient.:  \"&INDEX(Vložit!B:B,A358+4)&CHAR(10)&\"Obec:  \"&INDEX(Vložit!B:B,A358+5))","v":""},{"$f":"IF(A358=\"\",\"\",INDEX(Vložit!A:A,A358)&CHAR(10)&\"Telefon: \"&INDEX(Vložit!B:B,A358+6)&\" / \"&INDEX(Vložit!B:B,A358+7)&CHAR(10)&\"Typ objednávky: \"&INDEX(Vložit!D:D,A358+1)&CHAR(10)&INDEX(Vložit!C:C,A358)&CHAR(10)&INDEX(Vložit!D:D,A358))","v":""},{"$f":"IF(A358=\"\",\"\",IF(INDEX(Vložit!B:B,A358+8)=\"\",\"\",\"Instrukce: \"&INDEX(Vložit!B:B,A358+8)))","v":""},{"$f":"IF(A358=\"\",\"\",IF(INDEX(Vložit!B:B,A358+1)=\"\",\"\",INDEX(Vložit!B:B,A358+1)))","v":""},{"$f":"IF(A358=\"\",\"\",MID(INDEX(Vložit!A:A,A358),19,10))","v":""},{"$f":"IF(A358=\"\",\"\",IF(INDEX(Vložit!B:B,A358+5)=\"\",\"\",VLOOKUP(INDEX(Vložit!B:B,A358+5),Pomocná!B357:C10356,2,FALSE)))","v":""},{"$f":"IF(A358=\"\",\"\",INDEX(Vložit!B:B,A358+2))","v":""},{"$f":"IF(A358=\"\",\"\",IF(INDEX(Vložit!B:B,A358+3)=\"\",\"\",INDEX(Vložit!B:B,A358+3)))","v":""},{"$f":"IF(A358=\"\",\"\",INDEX(Vložit!B:B,A358+4))","v":""}]
[{"$f":"IF(A358=\"\",\"\",IF(INDEX(Vložit!A:A,(ROW(A358)-1)*17+2)<>\"\",(ROW(A358)-1)*17+2,\"\"))","v":""},{"$f":"IF(A359=\"\",\"\",\"Číslo smlouvy:  \"&INDEX(Vložit!B:B,A359+1)&CHAR(10)&\"Jméno a příjmení:  \"&INDEX(Vložit!B:B,A359+2)&CHAR(10)&\"Ulice:  \"&INDEX(Vložit!B:B,A359+3)&CHAR(10)&\"Č. pop. / č. orient.:  \"&INDEX(Vložit!B:B,A359+4)&CHAR(10)&\"Obec:  \"&INDEX(Vložit!B:B,A359+5))","v":""},{"$f":"IF(A359=\"\",\"\",INDEX(Vložit!A:A,A359)&CHAR(10)&\"Telefon: \"&INDEX(Vložit!B:B,A359+6)&\" / \"&INDEX(Vložit!B:B,A359+7)&CHAR(10)&\"Typ objednávky: \"&INDEX(Vložit!D:D,A359+1)&CHAR(10)&INDEX(Vložit!C:C,A359)&CHAR(10)&INDEX(Vložit!D:D,A359))","v":""},{"$f":"IF(A359=\"\",\"\",IF(INDEX(Vložit!B:B,A359+8)=\"\",\"\",\"Instrukce: \"&INDEX(Vložit!B:B,A359+8)))","v":""},{"$f":"IF(A359=\"\",\"\",IF(INDEX(Vložit!B:B,A359+1)=\"\",\"\",INDEX(Vložit!B:B,A359+1)))","v":""},{"$f":"IF(A359=\"\",\"\",MID(INDEX(Vložit!A:A,A359),19,10))","v":""},{"$f":"IF(A359=\"\",\"\",IF(INDEX(Vložit!B:B,A359+5)=\"\",\"\",VLOOKUP(INDEX(Vložit!B:B,A359+5),Pomocná!B358:C10357,2,FALSE)))","v":""},{"$f":"IF(A359=\"\",\"\",INDEX(Vložit!B:B,A359+2))","v":""},{"$f":"IF(A359=\"\",\"\",IF(INDEX(Vložit!B:B,A359+3)=\"\",\"\",INDEX(Vložit!B:B,A359+3)))","v":""},{"$f":"IF(A359=\"\",\"\",INDEX(Vložit!B:B,A359+4))","v":""}]
[{"$f":"IF(A359=\"\",\"\",IF(INDEX(Vložit!A:A,(ROW(A359)-1)*17+2)<>\"\",(ROW(A359)-1)*17+2,\"\"))","v":""},{"$f":"IF(A360=\"\",\"\",\"Číslo smlouvy:  \"&INDEX(Vložit!B:B,A360+1)&CHAR(10)&\"Jméno a příjmení:  \"&INDEX(Vložit!B:B,A360+2)&CHAR(10)&\"Ulice:  \"&INDEX(Vložit!B:B,A360+3)&CHAR(10)&\"Č. pop. / č. orient.:  \"&INDEX(Vložit!B:B,A360+4)&CHAR(10)&\"Obec:  \"&INDEX(Vložit!B:B,A360+5))","v":""},{"$f":"IF(A360=\"\",\"\",INDEX(Vložit!A:A,A360)&CHAR(10)&\"Telefon: \"&INDEX(Vložit!B:B,A360+6)&\" / \"&INDEX(Vložit!B:B,A360+7)&CHAR(10)&\"Typ objednávky: \"&INDEX(Vložit!D:D,A360+1)&CHAR(10)&INDEX(Vložit!C:C,A360)&CHAR(10)&INDEX(Vložit!D:D,A360))","v":""},{"$f":"IF(A360=\"\",\"\",IF(INDEX(Vložit!B:B,A360+8)=\"\",\"\",\"Instrukce: \"&INDEX(Vložit!B:B,A360+8)))","v":""},{"$f":"IF(A360=\"\",\"\",IF(INDEX(Vložit!B:B,A360+1)=\"\",\"\",INDEX(Vložit!B:B,A360+1)))","v":""},{"$f":"IF(A360=\"\",\"\",MID(INDEX(Vložit!A:A,A360),19,10))","v":""},{"$f":"IF(A360=\"\",\"\",IF(INDEX(Vložit!B:B,A360+5)=\"\",\"\",VLOOKUP(INDEX(Vložit!B:B,A360+5),Pomocná!B359:C10358,2,FALSE)))","v":""},{"$f":"IF(A360=\"\",\"\",INDEX(Vložit!B:B,A360+2))","v":""},{"$f":"IF(A360=\"\",\"\",IF(INDEX(Vložit!B:B,A360+3)=\"\",\"\",INDEX(Vložit!B:B,A360+3)))","v":""},{"$f":"IF(A360=\"\",\"\",INDEX(Vložit!B:B,A360+4))","v":""}]
[{"$f":"IF(A360=\"\",\"\",IF(INDEX(Vložit!A:A,(ROW(A360)-1)*17+2)<>\"\",(ROW(A360)-1)*17+2,\"\"))","v":""},{"$f":"IF(A361=\"\",\"\",\"Číslo smlouvy:  \"&INDEX(Vložit!B:B,A361+1)&CHAR(10)&\"Jméno a příjmení:  \"&INDEX(Vložit!B:B,A361+2)&CHAR(10)&\"Ulice:  \"&INDEX(Vložit!B:B,A361+3)&CHAR(10)&\"Č. pop. / č. orient.:  \"&INDEX(Vložit!B:B,A361+4)&CHAR(10)&\"Obec:  \"&INDEX(Vložit!B:B,A361+5))","v":""},{"$f":"IF(A361=\"\",\"\",INDEX(Vložit!A:A,A361)&CHAR(10)&\"Telefon: \"&INDEX(Vložit!B:B,A361+6)&\" / \"&INDEX(Vložit!B:B,A361+7)&CHAR(10)&\"Typ objednávky: \"&INDEX(Vložit!D:D,A361+1)&CHAR(10)&INDEX(Vložit!C:C,A361)&CHAR(10)&INDEX(Vložit!D:D,A361))","v":""},{"$f":"IF(A361=\"\",\"\",IF(INDEX(Vložit!B:B,A361+8)=\"\",\"\",\"Instrukce: \"&INDEX(Vložit!B:B,A361+8)))","v":""},{"$f":"IF(A361=\"\",\"\",IF(INDEX(Vložit!B:B,A361+1)=\"\",\"\",INDEX(Vložit!B:B,A361+1)))","v":""},{"$f":"IF(A361=\"\",\"\",MID(INDEX(Vložit!A:A,A361),19,10))","v":""},{"$f":"IF(A361=\"\",\"\",IF(INDEX(Vložit!B:B,A361+5)=\"\",\"\",VLOOKUP(INDEX(Vložit!B:B,A361+5),Pomocná!B360:C10359,2,FALSE)))","v":""},{"$f":"IF(A361=\"\",\"\",INDEX(Vložit!B:B,A361+2))","v":""},{"$f":"IF(A361=\"\",\"\",IF(INDEX(Vložit!B:B,A361+3)=\"\",\"\",INDEX(Vložit!B:B,A361+3)))","v":""},{"$f":"IF(A361=\"\",\"\",INDEX(Vložit!B:B,A361+4))","v":""}]
[{"$f":"IF(A361=\"\",\"\",IF(INDEX(Vložit!A:A,(ROW(A361)-1)*17+2)<>\"\",(ROW(A361)-1)*17+2,\"\"))","v":""},{"$f":"IF(A362=\"\",\"\",\"Číslo smlouvy:  \"&INDEX(Vložit!B:B,A362+1)&CHAR(10)&\"Jméno a příjmení:  \"&INDEX(Vložit!B:B,A362+2)&CHAR(10)&\"Ulice:  \"&INDEX(Vložit!B:B,A362+3)&CHAR(10)&\"Č. pop. / č. orient.:  \"&INDEX(Vložit!B:B,A362+4)&CHAR(10)&\"Obec:  \"&INDEX(Vložit!B:B,A362+5))","v":""},{"$f":"IF(A362=\"\",\"\",INDEX(Vložit!A:A,A362)&CHAR(10)&\"Telefon: \"&INDEX(Vložit!B:B,A362+6)&\" / \"&INDEX(Vložit!B:B,A362+7)&CHAR(10)&\"Typ objednávky: \"&INDEX(Vložit!D:D,A362+1)&CHAR(10)&INDEX(Vložit!C:C,A362)&CHAR(10)&INDEX(Vložit!D:D,A362))","v":""},{"$f":"IF(A362=\"\",\"\",IF(INDEX(Vložit!B:B,A362+8)=\"\",\"\",\"Instrukce: \"&INDEX(Vložit!B:B,A362+8)))","v":""},{"$f":"IF(A362=\"\",\"\",IF(INDEX(Vložit!B:B,A362+1)=\"\",\"\",INDEX(Vložit!B:B,A362+1)))","v":""},{"$f":"IF(A362=\"\",\"\",MID(INDEX(Vložit!A:A,A362),19,10))","v":""},{"$f":"IF(A362=\"\",\"\",IF(INDEX(Vložit!B:B,A362+5)=\"\",\"\",VLOOKUP(INDEX(Vložit!B:B,A362+5),Pomocná!B361:C10360,2,FALSE)))","v":""},{"$f":"IF(A362=\"\",\"\",INDEX(Vložit!B:B,A362+2))","v":""},{"$f":"IF(A362=\"\",\"\",IF(INDEX(Vložit!B:B,A362+3)=\"\",\"\",INDEX(Vložit!B:B,A362+3)))","v":""},{"$f":"IF(A362=\"\",\"\",INDEX(Vložit!B:B,A362+4))","v":""}]
[{"$f":"IF(A362=\"\",\"\",IF(INDEX(Vložit!A:A,(ROW(A362)-1)*17+2)<>\"\",(ROW(A362)-1)*17+2,\"\"))","v":""},{"$f":"IF(A363=\"\",\"\",\"Číslo smlouvy:  \"&INDEX(Vložit!B:B,A363+1)&CHAR(10)&\"Jméno a příjmení:  \"&INDEX(Vložit!B:B,A363+2)&CHAR(10)&\"Ulice:  \"&INDEX(Vložit!B:B,A363+3)&CHAR(10)&\"Č. pop. / č. orient.:  \"&INDEX(Vložit!B:B,A363+4)&CHAR(10)&\"Obec:  \"&INDEX(Vložit!B:B,A363+5))","v":""},{"$f":"IF(A363=\"\",\"\",INDEX(Vložit!A:A,A363)&CHAR(10)&\"Telefon: \"&INDEX(Vložit!B:B,A363+6)&\" / \"&INDEX(Vložit!B:B,A363+7)&CHAR(10)&\"Typ objednávky: \"&INDEX(Vložit!D:D,A363+1)&CHAR(10)&INDEX(Vložit!C:C,A363)&CHAR(10)&INDEX(Vložit!D:D,A363))","v":""},{"$f":"IF(A363=\"\",\"\",IF(INDEX(Vložit!B:B,A363+8)=\"\",\"\",\"Instrukce: \"&INDEX(Vložit!B:B,A363+8)))","v":""},{"$f":"IF(A363=\"\",\"\",IF(INDEX(Vložit!B:B,A363+1)=\"\",\"\",INDEX(Vložit!B:B,A363+1)))","v":""},{"$f":"IF(A363=\"\",\"\",MID(INDEX(Vložit!A:A,A363),19,10))","v":""},{"$f":"IF(A363=\"\",\"\",IF(INDEX(Vložit!B:B,A363+5)=\"\",\"\",VLOOKUP(INDEX(Vložit!B:B,A363+5),Pomocná!B362:C10361,2,FALSE)))","v":""},{"$f":"IF(A363=\"\",\"\",INDEX(Vložit!B:B,A363+2))","v":""},{"$f":"IF(A363=\"\",\"\",IF(INDEX(Vložit!B:B,A363+3)=\"\",\"\",INDEX(Vložit!B:B,A363+3)))","v":""},{"$f":"IF(A363=\"\",\"\",INDEX(Vložit!B:B,A363+4))","v":""}]
[{"$f":"IF(A363=\"\",\"\",IF(INDEX(Vložit!A:A,(ROW(A363)-1)*17+2)<>\"\",(ROW(A363)-1)*17+2,\"\"))","v":""},{"$f":"IF(A364=\"\",\"\",\"Číslo smlouvy:  \"&INDEX(Vložit!B:B,A364+1)&CHAR(10)&\"Jméno a příjmení:  \"&INDEX(Vložit!B:B,A364+2)&CHAR(10)&\"Ulice:  \"&INDEX(Vložit!B:B,A364+3)&CHAR(10)&\"Č. pop. / č. orient.:  \"&INDEX(Vložit!B:B,A364+4)&CHAR(10)&\"Obec:  \"&INDEX(Vložit!B:B,A364+5))","v":""},{"$f":"IF(A364=\"\",\"\",INDEX(Vložit!A:A,A364)&CHAR(10)&\"Telefon: \"&INDEX(Vložit!B:B,A364+6)&\" / \"&INDEX(Vložit!B:B,A364+7)&CHAR(10)&\"Typ objednávky: \"&INDEX(Vložit!D:D,A364+1)&CHAR(10)&INDEX(Vložit!C:C,A364)&CHAR(10)&INDEX(Vložit!D:D,A364))","v":""},{"$f":"IF(A364=\"\",\"\",IF(INDEX(Vložit!B:B,A364+8)=\"\",\"\",\"Instrukce: \"&INDEX(Vložit!B:B,A364+8)))","v":""},{"$f":"IF(A364=\"\",\"\",IF(INDEX(Vložit!B:B,A364+1)=\"\",\"\",INDEX(Vložit!B:B,A364+1)))","v":""},{"$f":"IF(A364=\"\",\"\",MID(INDEX(Vložit!A:A,A364),19,10))","v":""},{"$f":"IF(A364=\"\",\"\",IF(INDEX(Vložit!B:B,A364+5)=\"\",\"\",VLOOKUP(INDEX(Vložit!B:B,A364+5),Pomocná!B363:C10362,2,FALSE)))","v":""},{"$f":"IF(A364=\"\",\"\",INDEX(Vložit!B:B,A364+2))","v":""},{"$f":"IF(A364=\"\",\"\",IF(INDEX(Vložit!B:B,A364+3)=\"\",\"\",INDEX(Vložit!B:B,A364+3)))","v":""},{"$f":"IF(A364=\"\",\"\",INDEX(Vložit!B:B,A364+4))","v":""}]
[{"$f":"IF(A364=\"\",\"\",IF(INDEX(Vložit!A:A,(ROW(A364)-1)*17+2)<>\"\",(ROW(A364)-1)*17+2,\"\"))","v":""},{"$f":"IF(A365=\"\",\"\",\"Číslo smlouvy:  \"&INDEX(Vložit!B:B,A365+1)&CHAR(10)&\"Jméno a příjmení:  \"&INDEX(Vložit!B:B,A365+2)&CHAR(10)&\"Ulice:  \"&INDEX(Vložit!B:B,A365+3)&CHAR(10)&\"Č. pop. / č. orient.:  \"&INDEX(Vložit!B:B,A365+4)&CHAR(10)&\"Obec:  \"&INDEX(Vložit!B:B,A365+5))","v":""},{"$f":"IF(A365=\"\",\"\",INDEX(Vložit!A:A,A365)&CHAR(10)&\"Telefon: \"&INDEX(Vložit!B:B,A365+6)&\" / \"&INDEX(Vložit!B:B,A365+7)&CHAR(10)&\"Typ objednávky: \"&INDEX(Vložit!D:D,A365+1)&CHAR(10)&INDEX(Vložit!C:C,A365)&CHAR(10)&INDEX(Vložit!D:D,A365))","v":""},{"$f":"IF(A365=\"\",\"\",IF(INDEX(Vložit!B:B,A365+8)=\"\",\"\",\"Instrukce: \"&INDEX(Vložit!B:B,A365+8)))","v":""},{"$f":"IF(A365=\"\",\"\",IF(INDEX(Vložit!B:B,A365+1)=\"\",\"\",INDEX(Vložit!B:B,A365+1)))","v":""},{"$f":"IF(A365=\"\",\"\",MID(INDEX(Vložit!A:A,A365),19,10))","v":""},{"$f":"IF(A365=\"\",\"\",IF(INDEX(Vložit!B:B,A365+5)=\"\",\"\",VLOOKUP(INDEX(Vložit!B:B,A365+5),Pomocná!B364:C10363,2,FALSE)))","v":""},{"$f":"IF(A365=\"\",\"\",INDEX(Vložit!B:B,A365+2))","v":""},{"$f":"IF(A365=\"\",\"\",IF(INDEX(Vložit!B:B,A365+3)=\"\",\"\",INDEX(Vložit!B:B,A365+3)))","v":""},{"$f":"IF(A365=\"\",\"\",INDEX(Vložit!B:B,A365+4))","v":""}]
[{"$f":"IF(A365=\"\",\"\",IF(INDEX(Vložit!A:A,(ROW(A365)-1)*17+2)<>\"\",(ROW(A365)-1)*17+2,\"\"))","v":""},{"$f":"IF(A366=\"\",\"\",\"Číslo smlouvy:  \"&INDEX(Vložit!B:B,A366+1)&CHAR(10)&\"Jméno a příjmení:  \"&INDEX(Vložit!B:B,A366+2)&CHAR(10)&\"Ulice:  \"&INDEX(Vložit!B:B,A366+3)&CHAR(10)&\"Č. pop. / č. orient.:  \"&INDEX(Vložit!B:B,A366+4)&CHAR(10)&\"Obec:  \"&INDEX(Vložit!B:B,A366+5))","v":""},{"$f":"IF(A366=\"\",\"\",INDEX(Vložit!A:A,A366)&CHAR(10)&\"Telefon: \"&INDEX(Vložit!B:B,A366+6)&\" / \"&INDEX(Vložit!B:B,A366+7)&CHAR(10)&\"Typ objednávky: \"&INDEX(Vložit!D:D,A366+1)&CHAR(10)&INDEX(Vložit!C:C,A366)&CHAR(10)&INDEX(Vložit!D:D,A366))","v":""},{"$f":"IF(A366=\"\",\"\",IF(INDEX(Vložit!B:B,A366+8)=\"\",\"\",\"Instrukce: \"&INDEX(Vložit!B:B,A366+8)))","v":""},{"$f":"IF(A366=\"\",\"\",IF(INDEX(Vložit!B:B,A366+1)=\"\",\"\",INDEX(Vložit!B:B,A366+1)))","v":""},{"$f":"IF(A366=\"\",\"\",MID(INDEX(Vložit!A:A,A366),19,10))","v":""},{"$f":"IF(A366=\"\",\"\",IF(INDEX(Vložit!B:B,A366+5)=\"\",\"\",VLOOKUP(INDEX(Vložit!B:B,A366+5),Pomocná!B365:C10364,2,FALSE)))","v":""},{"$f":"IF(A366=\"\",\"\",INDEX(Vložit!B:B,A366+2))","v":""},{"$f":"IF(A366=\"\",\"\",IF(INDEX(Vložit!B:B,A366+3)=\"\",\"\",INDEX(Vložit!B:B,A366+3)))","v":""},{"$f":"IF(A366=\"\",\"\",INDEX(Vložit!B:B,A366+4))","v":""}]
[{"$f":"IF(A366=\"\",\"\",IF(INDEX(Vložit!A:A,(ROW(A366)-1)*17+2)<>\"\",(ROW(A366)-1)*17+2,\"\"))","v":""},{"$f":"IF(A367=\"\",\"\",\"Číslo smlouvy:  \"&INDEX(Vložit!B:B,A367+1)&CHAR(10)&\"Jméno a příjmení:  \"&INDEX(Vložit!B:B,A367+2)&CHAR(10)&\"Ulice:  \"&INDEX(Vložit!B:B,A367+3)&CHAR(10)&\"Č. pop. / č. orient.:  \"&INDEX(Vložit!B:B,A367+4)&CHAR(10)&\"Obec:  \"&INDEX(Vložit!B:B,A367+5))","v":""},{"$f":"IF(A367=\"\",\"\",INDEX(Vložit!A:A,A367)&CHAR(10)&\"Telefon: \"&INDEX(Vložit!B:B,A367+6)&\" / \"&INDEX(Vložit!B:B,A367+7)&CHAR(10)&\"Typ objednávky: \"&INDEX(Vložit!D:D,A367+1)&CHAR(10)&INDEX(Vložit!C:C,A367)&CHAR(10)&INDEX(Vložit!D:D,A367))","v":""},{"$f":"IF(A367=\"\",\"\",IF(INDEX(Vložit!B:B,A367+8)=\"\",\"\",\"Instrukce: \"&INDEX(Vložit!B:B,A367+8)))","v":""},{"$f":"IF(A367=\"\",\"\",IF(INDEX(Vložit!B:B,A367+1)=\"\",\"\",INDEX(Vložit!B:B,A367+1)))","v":""},{"$f":"IF(A367=\"\",\"\",MID(INDEX(Vložit!A:A,A367),19,10))","v":""},{"$f":"IF(A367=\"\",\"\",IF(INDEX(Vložit!B:B,A367+5)=\"\",\"\",VLOOKUP(INDEX(Vložit!B:B,A367+5),Pomocná!B366:C10365,2,FALSE)))","v":""},{"$f":"IF(A367=\"\",\"\",INDEX(Vložit!B:B,A367+2))","v":""},{"$f":"IF(A367=\"\",\"\",IF(INDEX(Vložit!B:B,A367+3)=\"\",\"\",INDEX(Vložit!B:B,A367+3)))","v":""},{"$f":"IF(A367=\"\",\"\",INDEX(Vložit!B:B,A367+4))","v":""}]
[{"$f":"IF(A367=\"\",\"\",IF(INDEX(Vložit!A:A,(ROW(A367)-1)*17+2)<>\"\",(ROW(A367)-1)*17+2,\"\"))","v":""},{"$f":"IF(A368=\"\",\"\",\"Číslo smlouvy:  \"&INDEX(Vložit!B:B,A368+1)&CHAR(10)&\"Jméno a příjmení:  \"&INDEX(Vložit!B:B,A368+2)&CHAR(10)&\"Ulice:  \"&INDEX(Vložit!B:B,A368+3)&CHAR(10)&\"Č. pop. / č. orient.:  \"&INDEX(Vložit!B:B,A368+4)&CHAR(10)&\"Obec:  \"&INDEX(Vložit!B:B,A368+5))","v":""},{"$f":"IF(A368=\"\",\"\",INDEX(Vložit!A:A,A368)&CHAR(10)&\"Telefon: \"&INDEX(Vložit!B:B,A368+6)&\" / \"&INDEX(Vložit!B:B,A368+7)&CHAR(10)&\"Typ objednávky: \"&INDEX(Vložit!D:D,A368+1)&CHAR(10)&INDEX(Vložit!C:C,A368)&CHAR(10)&INDEX(Vložit!D:D,A368))","v":""},{"$f":"IF(A368=\"\",\"\",IF(INDEX(Vložit!B:B,A368+8)=\"\",\"\",\"Instrukce: \"&INDEX(Vložit!B:B,A368+8)))","v":""},{"$f":"IF(A368=\"\",\"\",IF(INDEX(Vložit!B:B,A368+1)=\"\",\"\",INDEX(Vložit!B:B,A368+1)))","v":""},{"$f":"IF(A368=\"\",\"\",MID(INDEX(Vložit!A:A,A368),19,10))","v":""},{"$f":"IF(A368=\"\",\"\",IF(INDEX(Vložit!B:B,A368+5)=\"\",\"\",VLOOKUP(INDEX(Vložit!B:B,A368+5),Pomocná!B367:C10366,2,FALSE)))","v":""},{"$f":"IF(A368=\"\",\"\",INDEX(Vložit!B:B,A368+2))","v":""},{"$f":"IF(A368=\"\",\"\",IF(INDEX(Vložit!B:B,A368+3)=\"\",\"\",INDEX(Vložit!B:B,A368+3)))","v":""},{"$f":"IF(A368=\"\",\"\",INDEX(Vložit!B:B,A368+4))","v":""}]
[{"$f":"IF(A368=\"\",\"\",IF(INDEX(Vložit!A:A,(ROW(A368)-1)*17+2)<>\"\",(ROW(A368)-1)*17+2,\"\"))","v":""},{"$f":"IF(A369=\"\",\"\",\"Číslo smlouvy:  \"&INDEX(Vložit!B:B,A369+1)&CHAR(10)&\"Jméno a příjmení:  \"&INDEX(Vložit!B:B,A369+2)&CHAR(10)&\"Ulice:  \"&INDEX(Vložit!B:B,A369+3)&CHAR(10)&\"Č. pop. / č. orient.:  \"&INDEX(Vložit!B:B,A369+4)&CHAR(10)&\"Obec:  \"&INDEX(Vložit!B:B,A369+5))","v":""},{"$f":"IF(A369=\"\",\"\",INDEX(Vložit!A:A,A369)&CHAR(10)&\"Telefon: \"&INDEX(Vložit!B:B,A369+6)&\" / \"&INDEX(Vložit!B:B,A369+7)&CHAR(10)&\"Typ objednávky: \"&INDEX(Vložit!D:D,A369+1)&CHAR(10)&INDEX(Vložit!C:C,A369)&CHAR(10)&INDEX(Vložit!D:D,A369))","v":""},{"$f":"IF(A369=\"\",\"\",IF(INDEX(Vložit!B:B,A369+8)=\"\",\"\",\"Instrukce: \"&INDEX(Vložit!B:B,A369+8)))","v":""},{"$f":"IF(A369=\"\",\"\",IF(INDEX(Vložit!B:B,A369+1)=\"\",\"\",INDEX(Vložit!B:B,A369+1)))","v":""},{"$f":"IF(A369=\"\",\"\",MID(INDEX(Vložit!A:A,A369),19,10))","v":""},{"$f":"IF(A369=\"\",\"\",IF(INDEX(Vložit!B:B,A369+5)=\"\",\"\",VLOOKUP(INDEX(Vložit!B:B,A369+5),Pomocná!B368:C10367,2,FALSE)))","v":""},{"$f":"IF(A369=\"\",\"\",INDEX(Vložit!B:B,A369+2))","v":""},{"$f":"IF(A369=\"\",\"\",IF(INDEX(Vložit!B:B,A369+3)=\"\",\"\",INDEX(Vložit!B:B,A369+3)))","v":""},{"$f":"IF(A369=\"\",\"\",INDEX(Vložit!B:B,A369+4))","v":""}]
[{"$f":"IF(A369=\"\",\"\",IF(INDEX(Vložit!A:A,(ROW(A369)-1)*17+2)<>\"\",(ROW(A369)-1)*17+2,\"\"))","v":""},{"$f":"IF(A370=\"\",\"\",\"Číslo smlouvy:  \"&INDEX(Vložit!B:B,A370+1)&CHAR(10)&\"Jméno a příjmení:  \"&INDEX(Vložit!B:B,A370+2)&CHAR(10)&\"Ulice:  \"&INDEX(Vložit!B:B,A370+3)&CHAR(10)&\"Č. pop. / č. orient.:  \"&INDEX(Vložit!B:B,A370+4)&CHAR(10)&\"Obec:  \"&INDEX(Vložit!B:B,A370+5))","v":""},{"$f":"IF(A370=\"\",\"\",INDEX(Vložit!A:A,A370)&CHAR(10)&\"Telefon: \"&INDEX(Vložit!B:B,A370+6)&\" / \"&INDEX(Vložit!B:B,A370+7)&CHAR(10)&\"Typ objednávky: \"&INDEX(Vložit!D:D,A370+1)&CHAR(10)&INDEX(Vložit!C:C,A370)&CHAR(10)&INDEX(Vložit!D:D,A370))","v":""},{"$f":"IF(A370=\"\",\"\",IF(INDEX(Vložit!B:B,A370+8)=\"\",\"\",\"Instrukce: \"&INDEX(Vložit!B:B,A370+8)))","v":""},{"$f":"IF(A370=\"\",\"\",IF(INDEX(Vložit!B:B,A370+1)=\"\",\"\",INDEX(Vložit!B:B,A370+1)))","v":""},{"$f":"IF(A370=\"\",\"\",MID(INDEX(Vložit!A:A,A370),19,10))","v":""},{"$f":"IF(A370=\"\",\"\",IF(INDEX(Vložit!B:B,A370+5)=\"\",\"\",VLOOKUP(INDEX(Vložit!B:B,A370+5),Pomocná!B369:C10368,2,FALSE)))","v":""},{"$f":"IF(A370=\"\",\"\",INDEX(Vložit!B:B,A370+2))","v":""},{"$f":"IF(A370=\"\",\"\",IF(INDEX(Vložit!B:B,A370+3)=\"\",\"\",INDEX(Vložit!B:B,A370+3)))","v":""},{"$f":"IF(A370=\"\",\"\",INDEX(Vložit!B:B,A370+4))","v":""}]
[{"$f":"IF(A370=\"\",\"\",IF(INDEX(Vložit!A:A,(ROW(A370)-1)*17+2)<>\"\",(ROW(A370)-1)*17+2,\"\"))","v":""},{"$f":"IF(A371=\"\",\"\",\"Číslo smlouvy:  \"&INDEX(Vložit!B:B,A371+1)&CHAR(10)&\"Jméno a příjmení:  \"&INDEX(Vložit!B:B,A371+2)&CHAR(10)&\"Ulice:  \"&INDEX(Vložit!B:B,A371+3)&CHAR(10)&\"Č. pop. / č. orient.:  \"&INDEX(Vložit!B:B,A371+4)&CHAR(10)&\"Obec:  \"&INDEX(Vložit!B:B,A371+5))","v":""},{"$f":"IF(A371=\"\",\"\",INDEX(Vložit!A:A,A371)&CHAR(10)&\"Telefon: \"&INDEX(Vložit!B:B,A371+6)&\" / \"&INDEX(Vložit!B:B,A371+7)&CHAR(10)&\"Typ objednávky: \"&INDEX(Vložit!D:D,A371+1)&CHAR(10)&INDEX(Vložit!C:C,A371)&CHAR(10)&INDEX(Vložit!D:D,A371))","v":""},{"$f":"IF(A371=\"\",\"\",IF(INDEX(Vložit!B:B,A371+8)=\"\",\"\",\"Instrukce: \"&INDEX(Vložit!B:B,A371+8)))","v":""},{"$f":"IF(A371=\"\",\"\",IF(INDEX(Vložit!B:B,A371+1)=\"\",\"\",INDEX(Vložit!B:B,A371+1)))","v":""},{"$f":"IF(A371=\"\",\"\",MID(INDEX(Vložit!A:A,A371),19,10))","v":""},{"$f":"IF(A371=\"\",\"\",IF(INDEX(Vložit!B:B,A371+5)=\"\",\"\",VLOOKUP(INDEX(Vložit!B:B,A371+5),Pomocná!B370:C10369,2,FALSE)))","v":""},{"$f":"IF(A371=\"\",\"\",INDEX(Vložit!B:B,A371+2))","v":""},{"$f":"IF(A371=\"\",\"\",IF(INDEX(Vložit!B:B,A371+3)=\"\",\"\",INDEX(Vložit!B:B,A371+3)))","v":""},{"$f":"IF(A371=\"\",\"\",INDEX(Vložit!B:B,A371+4))","v":""}]
[{"$f":"IF(A371=\"\",\"\",IF(INDEX(Vložit!A:A,(ROW(A371)-1)*17+2)<>\"\",(ROW(A371)-1)*17+2,\"\"))","v":""},{"$f":"IF(A372=\"\",\"\",\"Číslo smlouvy:  \"&INDEX(Vložit!B:B,A372+1)&CHAR(10)&\"Jméno a příjmení:  \"&INDEX(Vložit!B:B,A372+2)&CHAR(10)&\"Ulice:  \"&INDEX(Vložit!B:B,A372+3)&CHAR(10)&\"Č. pop. / č. orient.:  \"&INDEX(Vložit!B:B,A372+4)&CHAR(10)&\"Obec:  \"&INDEX(Vložit!B:B,A372+5))","v":""},{"$f":"IF(A372=\"\",\"\",INDEX(Vložit!A:A,A372)&CHAR(10)&\"Telefon: \"&INDEX(Vložit!B:B,A372+6)&\" / \"&INDEX(Vložit!B:B,A372+7)&CHAR(10)&\"Typ objednávky: \"&INDEX(Vložit!D:D,A372+1)&CHAR(10)&INDEX(Vložit!C:C,A372)&CHAR(10)&INDEX(Vložit!D:D,A372))","v":""},{"$f":"IF(A372=\"\",\"\",IF(INDEX(Vložit!B:B,A372+8)=\"\",\"\",\"Instrukce: \"&INDEX(Vložit!B:B,A372+8)))","v":""},{"$f":"IF(A372=\"\",\"\",IF(INDEX(Vložit!B:B,A372+1)=\"\",\"\",INDEX(Vložit!B:B,A372+1)))","v":""},{"$f":"IF(A372=\"\",\"\",MID(INDEX(Vložit!A:A,A372),19,10))","v":""},{"$f":"IF(A372=\"\",\"\",IF(INDEX(Vložit!B:B,A372+5)=\"\",\"\",VLOOKUP(INDEX(Vložit!B:B,A372+5),Pomocná!B371:C10370,2,FALSE)))","v":""},{"$f":"IF(A372=\"\",\"\",INDEX(Vložit!B:B,A372+2))","v":""},{"$f":"IF(A372=\"\",\"\",IF(INDEX(Vložit!B:B,A372+3)=\"\",\"\",INDEX(Vložit!B:B,A372+3)))","v":""},{"$f":"IF(A372=\"\",\"\",INDEX(Vložit!B:B,A372+4))","v":""}]
[{"$f":"IF(A372=\"\",\"\",IF(INDEX(Vložit!A:A,(ROW(A372)-1)*17+2)<>\"\",(ROW(A372)-1)*17+2,\"\"))","v":""},{"$f":"IF(A373=\"\",\"\",\"Číslo smlouvy:  \"&INDEX(Vložit!B:B,A373+1)&CHAR(10)&\"Jméno a příjmení:  \"&INDEX(Vložit!B:B,A373+2)&CHAR(10)&\"Ulice:  \"&INDEX(Vložit!B:B,A373+3)&CHAR(10)&\"Č. pop. / č. orient.:  \"&INDEX(Vložit!B:B,A373+4)&CHAR(10)&\"Obec:  \"&INDEX(Vložit!B:B,A373+5))","v":""},{"$f":"IF(A373=\"\",\"\",INDEX(Vložit!A:A,A373)&CHAR(10)&\"Telefon: \"&INDEX(Vložit!B:B,A373+6)&\" / \"&INDEX(Vložit!B:B,A373+7)&CHAR(10)&\"Typ objednávky: \"&INDEX(Vložit!D:D,A373+1)&CHAR(10)&INDEX(Vložit!C:C,A373)&CHAR(10)&INDEX(Vložit!D:D,A373))","v":""},{"$f":"IF(A373=\"\",\"\",IF(INDEX(Vložit!B:B,A373+8)=\"\",\"\",\"Instrukce: \"&INDEX(Vložit!B:B,A373+8)))","v":""},{"$f":"IF(A373=\"\",\"\",IF(INDEX(Vložit!B:B,A373+1)=\"\",\"\",INDEX(Vložit!B:B,A373+1)))","v":""},{"$f":"IF(A373=\"\",\"\",MID(INDEX(Vložit!A:A,A373),19,10))","v":""},{"$f":"IF(A373=\"\",\"\",IF(INDEX(Vložit!B:B,A373+5)=\"\",\"\",VLOOKUP(INDEX(Vložit!B:B,A373+5),Pomocná!B372:C10371,2,FALSE)))","v":""},{"$f":"IF(A373=\"\",\"\",INDEX(Vložit!B:B,A373+2))","v":""},{"$f":"IF(A373=\"\",\"\",IF(INDEX(Vložit!B:B,A373+3)=\"\",\"\",INDEX(Vložit!B:B,A373+3)))","v":""},{"$f":"IF(A373=\"\",\"\",INDEX(Vložit!B:B,A373+4))","v":""}]
[{"$f":"IF(A373=\"\",\"\",IF(INDEX(Vložit!A:A,(ROW(A373)-1)*17+2)<>\"\",(ROW(A373)-1)*17+2,\"\"))","v":""},{"$f":"IF(A374=\"\",\"\",\"Číslo smlouvy:  \"&INDEX(Vložit!B:B,A374+1)&CHAR(10)&\"Jméno a příjmení:  \"&INDEX(Vložit!B:B,A374+2)&CHAR(10)&\"Ulice:  \"&INDEX(Vložit!B:B,A374+3)&CHAR(10)&\"Č. pop. / č. orient.:  \"&INDEX(Vložit!B:B,A374+4)&CHAR(10)&\"Obec:  \"&INDEX(Vložit!B:B,A374+5))","v":""},{"$f":"IF(A374=\"\",\"\",INDEX(Vložit!A:A,A374)&CHAR(10)&\"Telefon: \"&INDEX(Vložit!B:B,A374+6)&\" / \"&INDEX(Vložit!B:B,A374+7)&CHAR(10)&\"Typ objednávky: \"&INDEX(Vložit!D:D,A374+1)&CHAR(10)&INDEX(Vložit!C:C,A374)&CHAR(10)&INDEX(Vložit!D:D,A374))","v":""},{"$f":"IF(A374=\"\",\"\",IF(INDEX(Vložit!B:B,A374+8)=\"\",\"\",\"Instrukce: \"&INDEX(Vložit!B:B,A374+8)))","v":""},{"$f":"IF(A374=\"\",\"\",IF(INDEX(Vložit!B:B,A374+1)=\"\",\"\",INDEX(Vložit!B:B,A374+1)))","v":""},{"$f":"IF(A374=\"\",\"\",MID(INDEX(Vložit!A:A,A374),19,10))","v":""},{"$f":"IF(A374=\"\",\"\",IF(INDEX(Vložit!B:B,A374+5)=\"\",\"\",VLOOKUP(INDEX(Vložit!B:B,A374+5),Pomocná!B373:C10372,2,FALSE)))","v":""},{"$f":"IF(A374=\"\",\"\",INDEX(Vložit!B:B,A374+2))","v":""},{"$f":"IF(A374=\"\",\"\",IF(INDEX(Vložit!B:B,A374+3)=\"\",\"\",INDEX(Vložit!B:B,A374+3)))","v":""},{"$f":"IF(A374=\"\",\"\",INDEX(Vložit!B:B,A374+4))","v":""}]
[{"$f":"IF(A374=\"\",\"\",IF(INDEX(Vložit!A:A,(ROW(A374)-1)*17+2)<>\"\",(ROW(A374)-1)*17+2,\"\"))","v":""},{"$f":"IF(A375=\"\",\"\",\"Číslo smlouvy:  \"&INDEX(Vložit!B:B,A375+1)&CHAR(10)&\"Jméno a příjmení:  \"&INDEX(Vložit!B:B,A375+2)&CHAR(10)&\"Ulice:  \"&INDEX(Vložit!B:B,A375+3)&CHAR(10)&\"Č. pop. / č. orient.:  \"&INDEX(Vložit!B:B,A375+4)&CHAR(10)&\"Obec:  \"&INDEX(Vložit!B:B,A375+5))","v":""},{"$f":"IF(A375=\"\",\"\",INDEX(Vložit!A:A,A375)&CHAR(10)&\"Telefon: \"&INDEX(Vložit!B:B,A375+6)&\" / \"&INDEX(Vložit!B:B,A375+7)&CHAR(10)&\"Typ objednávky: \"&INDEX(Vložit!D:D,A375+1)&CHAR(10)&INDEX(Vložit!C:C,A375)&CHAR(10)&INDEX(Vložit!D:D,A375))","v":""},{"$f":"IF(A375=\"\",\"\",IF(INDEX(Vložit!B:B,A375+8)=\"\",\"\",\"Instrukce: \"&INDEX(Vložit!B:B,A375+8)))","v":""},{"$f":"IF(A375=\"\",\"\",IF(INDEX(Vložit!B:B,A375+1)=\"\",\"\",INDEX(Vložit!B:B,A375+1)))","v":""},{"$f":"IF(A375=\"\",\"\",MID(INDEX(Vložit!A:A,A375),19,10))","v":""},{"$f":"IF(A375=\"\",\"\",IF(INDEX(Vložit!B:B,A375+5)=\"\",\"\",VLOOKUP(INDEX(Vložit!B:B,A375+5),Pomocná!B374:C10373,2,FALSE)))","v":""},{"$f":"IF(A375=\"\",\"\",INDEX(Vložit!B:B,A375+2))","v":""},{"$f":"IF(A375=\"\",\"\",IF(INDEX(Vložit!B:B,A375+3)=\"\",\"\",INDEX(Vložit!B:B,A375+3)))","v":""},{"$f":"IF(A375=\"\",\"\",INDEX(Vložit!B:B,A375+4))","v":""}]
[{"$f":"IF(A375=\"\",\"\",IF(INDEX(Vložit!A:A,(ROW(A375)-1)*17+2)<>\"\",(ROW(A375)-1)*17+2,\"\"))","v":""},{"$f":"IF(A376=\"\",\"\",\"Číslo smlouvy:  \"&INDEX(Vložit!B:B,A376+1)&CHAR(10)&\"Jméno a příjmení:  \"&INDEX(Vložit!B:B,A376+2)&CHAR(10)&\"Ulice:  \"&INDEX(Vložit!B:B,A376+3)&CHAR(10)&\"Č. pop. / č. orient.:  \"&INDEX(Vložit!B:B,A376+4)&CHAR(10)&\"Obec:  \"&INDEX(Vložit!B:B,A376+5))","v":""},{"$f":"IF(A376=\"\",\"\",INDEX(Vložit!A:A,A376)&CHAR(10)&\"Telefon: \"&INDEX(Vložit!B:B,A376+6)&\" / \"&INDEX(Vložit!B:B,A376+7)&CHAR(10)&\"Typ objednávky: \"&INDEX(Vložit!D:D,A376+1)&CHAR(10)&INDEX(Vložit!C:C,A376)&CHAR(10)&INDEX(Vložit!D:D,A376))","v":""},{"$f":"IF(A376=\"\",\"\",IF(INDEX(Vložit!B:B,A376+8)=\"\",\"\",\"Instrukce: \"&INDEX(Vložit!B:B,A376+8)))","v":""},{"$f":"IF(A376=\"\",\"\",IF(INDEX(Vložit!B:B,A376+1)=\"\",\"\",INDEX(Vložit!B:B,A376+1)))","v":""},{"$f":"IF(A376=\"\",\"\",MID(INDEX(Vložit!A:A,A376),19,10))","v":""},{"$f":"IF(A376=\"\",\"\",IF(INDEX(Vložit!B:B,A376+5)=\"\",\"\",VLOOKUP(INDEX(Vložit!B:B,A376+5),Pomocná!B375:C10374,2,FALSE)))","v":""},{"$f":"IF(A376=\"\",\"\",INDEX(Vložit!B:B,A376+2))","v":""},{"$f":"IF(A376=\"\",\"\",IF(INDEX(Vložit!B:B,A376+3)=\"\",\"\",INDEX(Vložit!B:B,A376+3)))","v":""},{"$f":"IF(A376=\"\",\"\",INDEX(Vložit!B:B,A376+4))","v":""}]
[{"$f":"IF(A376=\"\",\"\",IF(INDEX(Vložit!A:A,(ROW(A376)-1)*17+2)<>\"\",(ROW(A376)-1)*17+2,\"\"))","v":""},{"$f":"IF(A377=\"\",\"\",\"Číslo smlouvy:  \"&INDEX(Vložit!B:B,A377+1)&CHAR(10)&\"Jméno a příjmení:  \"&INDEX(Vložit!B:B,A377+2)&CHAR(10)&\"Ulice:  \"&INDEX(Vložit!B:B,A377+3)&CHAR(10)&\"Č. pop. / č. orient.:  \"&INDEX(Vložit!B:B,A377+4)&CHAR(10)&\"Obec:  \"&INDEX(Vložit!B:B,A377+5))","v":""},{"$f":"IF(A377=\"\",\"\",INDEX(Vložit!A:A,A377)&CHAR(10)&\"Telefon: \"&INDEX(Vložit!B:B,A377+6)&\" / \"&INDEX(Vložit!B:B,A377+7)&CHAR(10)&\"Typ objednávky: \"&INDEX(Vložit!D:D,A377+1)&CHAR(10)&INDEX(Vložit!C:C,A377)&CHAR(10)&INDEX(Vložit!D:D,A377))","v":""},{"$f":"IF(A377=\"\",\"\",IF(INDEX(Vložit!B:B,A377+8)=\"\",\"\",\"Instrukce: \"&INDEX(Vložit!B:B,A377+8)))","v":""},{"$f":"IF(A377=\"\",\"\",IF(INDEX(Vložit!B:B,A377+1)=\"\",\"\",INDEX(Vložit!B:B,A377+1)))","v":""},{"$f":"IF(A377=\"\",\"\",MID(INDEX(Vložit!A:A,A377),19,10))","v":""},{"$f":"IF(A377=\"\",\"\",IF(INDEX(Vložit!B:B,A377+5)=\"\",\"\",VLOOKUP(INDEX(Vložit!B:B,A377+5),Pomocná!B376:C10375,2,FALSE)))","v":""},{"$f":"IF(A377=\"\",\"\",INDEX(Vložit!B:B,A377+2))","v":""},{"$f":"IF(A377=\"\",\"\",IF(INDEX(Vložit!B:B,A377+3)=\"\",\"\",INDEX(Vložit!B:B,A377+3)))","v":""},{"$f":"IF(A377=\"\",\"\",INDEX(Vložit!B:B,A377+4))","v":""}]
[{"$f":"IF(A377=\"\",\"\",IF(INDEX(Vložit!A:A,(ROW(A377)-1)*17+2)<>\"\",(ROW(A377)-1)*17+2,\"\"))","v":""},{"$f":"IF(A378=\"\",\"\",\"Číslo smlouvy:  \"&INDEX(Vložit!B:B,A378+1)&CHAR(10)&\"Jméno a příjmení:  \"&INDEX(Vložit!B:B,A378+2)&CHAR(10)&\"Ulice:  \"&INDEX(Vložit!B:B,A378+3)&CHAR(10)&\"Č. pop. / č. orient.:  \"&INDEX(Vložit!B:B,A378+4)&CHAR(10)&\"Obec:  \"&INDEX(Vložit!B:B,A378+5))","v":""},{"$f":"IF(A378=\"\",\"\",INDEX(Vložit!A:A,A378)&CHAR(10)&\"Telefon: \"&INDEX(Vložit!B:B,A378+6)&\" / \"&INDEX(Vložit!B:B,A378+7)&CHAR(10)&\"Typ objednávky: \"&INDEX(Vložit!D:D,A378+1)&CHAR(10)&INDEX(Vložit!C:C,A378)&CHAR(10)&INDEX(Vložit!D:D,A378))","v":""},{"$f":"IF(A378=\"\",\"\",IF(INDEX(Vložit!B:B,A378+8)=\"\",\"\",\"Instrukce: \"&INDEX(Vložit!B:B,A378+8)))","v":""},{"$f":"IF(A378=\"\",\"\",IF(INDEX(Vložit!B:B,A378+1)=\"\",\"\",INDEX(Vložit!B:B,A378+1)))","v":""},{"$f":"IF(A378=\"\",\"\",MID(INDEX(Vložit!A:A,A378),19,10))","v":""},{"$f":"IF(A378=\"\",\"\",IF(INDEX(Vložit!B:B,A378+5)=\"\",\"\",VLOOKUP(INDEX(Vložit!B:B,A378+5),Pomocná!B377:C10376,2,FALSE)))","v":""},{"$f":"IF(A378=\"\",\"\",INDEX(Vložit!B:B,A378+2))","v":""},{"$f":"IF(A378=\"\",\"\",IF(INDEX(Vložit!B:B,A378+3)=\"\",\"\",INDEX(Vložit!B:B,A378+3)))","v":""},{"$f":"IF(A378=\"\",\"\",INDEX(Vložit!B:B,A378+4))","v":""}]
[{"$f":"IF(A378=\"\",\"\",IF(INDEX(Vložit!A:A,(ROW(A378)-1)*17+2)<>\"\",(ROW(A378)-1)*17+2,\"\"))","v":""},{"$f":"IF(A379=\"\",\"\",\"Číslo smlouvy:  \"&INDEX(Vložit!B:B,A379+1)&CHAR(10)&\"Jméno a příjmení:  \"&INDEX(Vložit!B:B,A379+2)&CHAR(10)&\"Ulice:  \"&INDEX(Vložit!B:B,A379+3)&CHAR(10)&\"Č. pop. / č. orient.:  \"&INDEX(Vložit!B:B,A379+4)&CHAR(10)&\"Obec:  \"&INDEX(Vložit!B:B,A379+5))","v":""},{"$f":"IF(A379=\"\",\"\",INDEX(Vložit!A:A,A379)&CHAR(10)&\"Telefon: \"&INDEX(Vložit!B:B,A379+6)&\" / \"&INDEX(Vložit!B:B,A379+7)&CHAR(10)&\"Typ objednávky: \"&INDEX(Vložit!D:D,A379+1)&CHAR(10)&INDEX(Vložit!C:C,A379)&CHAR(10)&INDEX(Vložit!D:D,A379))","v":""},{"$f":"IF(A379=\"\",\"\",IF(INDEX(Vložit!B:B,A379+8)=\"\",\"\",\"Instrukce: \"&INDEX(Vložit!B:B,A379+8)))","v":""},{"$f":"IF(A379=\"\",\"\",IF(INDEX(Vložit!B:B,A379+1)=\"\",\"\",INDEX(Vložit!B:B,A379+1)))","v":""},{"$f":"IF(A379=\"\",\"\",MID(INDEX(Vložit!A:A,A379),19,10))","v":""},{"$f":"IF(A379=\"\",\"\",IF(INDEX(Vložit!B:B,A379+5)=\"\",\"\",VLOOKUP(INDEX(Vložit!B:B,A379+5),Pomocná!B378:C10377,2,FALSE)))","v":""},{"$f":"IF(A379=\"\",\"\",INDEX(Vložit!B:B,A379+2))","v":""},{"$f":"IF(A379=\"\",\"\",IF(INDEX(Vložit!B:B,A379+3)=\"\",\"\",INDEX(Vložit!B:B,A379+3)))","v":""},{"$f":"IF(A379=\"\",\"\",INDEX(Vložit!B:B,A379+4))","v":""}]
[{"$f":"IF(A379=\"\",\"\",IF(INDEX(Vložit!A:A,(ROW(A379)-1)*17+2)<>\"\",(ROW(A379)-1)*17+2,\"\"))","v":""},{"$f":"IF(A380=\"\",\"\",\"Číslo smlouvy:  \"&INDEX(Vložit!B:B,A380+1)&CHAR(10)&\"Jméno a příjmení:  \"&INDEX(Vložit!B:B,A380+2)&CHAR(10)&\"Ulice:  \"&INDEX(Vložit!B:B,A380+3)&CHAR(10)&\"Č. pop. / č. orient.:  \"&INDEX(Vložit!B:B,A380+4)&CHAR(10)&\"Obec:  \"&INDEX(Vložit!B:B,A380+5))","v":""},{"$f":"IF(A380=\"\",\"\",INDEX(Vložit!A:A,A380)&CHAR(10)&\"Telefon: \"&INDEX(Vložit!B:B,A380+6)&\" / \"&INDEX(Vložit!B:B,A380+7)&CHAR(10)&\"Typ objednávky: \"&INDEX(Vložit!D:D,A380+1)&CHAR(10)&INDEX(Vložit!C:C,A380)&CHAR(10)&INDEX(Vložit!D:D,A380))","v":""},{"$f":"IF(A380=\"\",\"\",IF(INDEX(Vložit!B:B,A380+8)=\"\",\"\",\"Instrukce: \"&INDEX(Vložit!B:B,A380+8)))","v":""},{"$f":"IF(A380=\"\",\"\",IF(INDEX(Vložit!B:B,A380+1)=\"\",\"\",INDEX(Vložit!B:B,A380+1)))","v":""},{"$f":"IF(A380=\"\",\"\",MID(INDEX(Vložit!A:A,A380),19,10))","v":""},{"$f":"IF(A380=\"\",\"\",IF(INDEX(Vložit!B:B,A380+5)=\"\",\"\",VLOOKUP(INDEX(Vložit!B:B,A380+5),Pomocná!B379:C10378,2,FALSE)))","v":""},{"$f":"IF(A380=\"\",\"\",INDEX(Vložit!B:B,A380+2))","v":""},{"$f":"IF(A380=\"\",\"\",IF(INDEX(Vložit!B:B,A380+3)=\"\",\"\",INDEX(Vložit!B:B,A380+3)))","v":""},{"$f":"IF(A380=\"\",\"\",INDEX(Vložit!B:B,A380+4))","v":""}]
[{"$f":"IF(A380=\"\",\"\",IF(INDEX(Vložit!A:A,(ROW(A380)-1)*17+2)<>\"\",(ROW(A380)-1)*17+2,\"\"))","v":""},{"$f":"IF(A381=\"\",\"\",\"Číslo smlouvy:  \"&INDEX(Vložit!B:B,A381+1)&CHAR(10)&\"Jméno a příjmení:  \"&INDEX(Vložit!B:B,A381+2)&CHAR(10)&\"Ulice:  \"&INDEX(Vložit!B:B,A381+3)&CHAR(10)&\"Č. pop. / č. orient.:  \"&INDEX(Vložit!B:B,A381+4)&CHAR(10)&\"Obec:  \"&INDEX(Vložit!B:B,A381+5))","v":""},{"$f":"IF(A381=\"\",\"\",INDEX(Vložit!A:A,A381)&CHAR(10)&\"Telefon: \"&INDEX(Vložit!B:B,A381+6)&\" / \"&INDEX(Vložit!B:B,A381+7)&CHAR(10)&\"Typ objednávky: \"&INDEX(Vložit!D:D,A381+1)&CHAR(10)&INDEX(Vložit!C:C,A381)&CHAR(10)&INDEX(Vložit!D:D,A381))","v":""},{"$f":"IF(A381=\"\",\"\",IF(INDEX(Vložit!B:B,A381+8)=\"\",\"\",\"Instrukce: \"&INDEX(Vložit!B:B,A381+8)))","v":""},{"$f":"IF(A381=\"\",\"\",IF(INDEX(Vložit!B:B,A381+1)=\"\",\"\",INDEX(Vložit!B:B,A381+1)))","v":""},{"$f":"IF(A381=\"\",\"\",MID(INDEX(Vložit!A:A,A381),19,10))","v":""},{"$f":"IF(A381=\"\",\"\",IF(INDEX(Vložit!B:B,A381+5)=\"\",\"\",VLOOKUP(INDEX(Vložit!B:B,A381+5),Pomocná!B380:C10379,2,FALSE)))","v":""},{"$f":"IF(A381=\"\",\"\",INDEX(Vložit!B:B,A381+2))","v":""},{"$f":"IF(A381=\"\",\"\",IF(INDEX(Vložit!B:B,A381+3)=\"\",\"\",INDEX(Vložit!B:B,A381+3)))","v":""},{"$f":"IF(A381=\"\",\"\",INDEX(Vložit!B:B,A381+4))","v":""}]
[{"$f":"IF(A381=\"\",\"\",IF(INDEX(Vložit!A:A,(ROW(A381)-1)*17+2)<>\"\",(ROW(A381)-1)*17+2,\"\"))","v":""},{"$f":"IF(A382=\"\",\"\",\"Číslo smlouvy:  \"&INDEX(Vložit!B:B,A382+1)&CHAR(10)&\"Jméno a příjmení:  \"&INDEX(Vložit!B:B,A382+2)&CHAR(10)&\"Ulice:  \"&INDEX(Vložit!B:B,A382+3)&CHAR(10)&\"Č. pop. / č. orient.:  \"&INDEX(Vložit!B:B,A382+4)&CHAR(10)&\"Obec:  \"&INDEX(Vložit!B:B,A382+5))","v":""},{"$f":"IF(A382=\"\",\"\",INDEX(Vložit!A:A,A382)&CHAR(10)&\"Telefon: \"&INDEX(Vložit!B:B,A382+6)&\" / \"&INDEX(Vložit!B:B,A382+7)&CHAR(10)&\"Typ objednávky: \"&INDEX(Vložit!D:D,A382+1)&CHAR(10)&INDEX(Vložit!C:C,A382)&CHAR(10)&INDEX(Vložit!D:D,A382))","v":""},{"$f":"IF(A382=\"\",\"\",IF(INDEX(Vložit!B:B,A382+8)=\"\",\"\",\"Instrukce: \"&INDEX(Vložit!B:B,A382+8)))","v":""},{"$f":"IF(A382=\"\",\"\",IF(INDEX(Vložit!B:B,A382+1)=\"\",\"\",INDEX(Vložit!B:B,A382+1)))","v":""},{"$f":"IF(A382=\"\",\"\",MID(INDEX(Vložit!A:A,A382),19,10))","v":""},{"$f":"IF(A382=\"\",\"\",IF(INDEX(Vložit!B:B,A382+5)=\"\",\"\",VLOOKUP(INDEX(Vložit!B:B,A382+5),Pomocná!B381:C10380,2,FALSE)))","v":""},{"$f":"IF(A382=\"\",\"\",INDEX(Vložit!B:B,A382+2))","v":""},{"$f":"IF(A382=\"\",\"\",IF(INDEX(Vložit!B:B,A382+3)=\"\",\"\",INDEX(Vložit!B:B,A382+3)))","v":""},{"$f":"IF(A382=\"\",\"\",INDEX(Vložit!B:B,A382+4))","v":""}]
[{"$f":"IF(A382=\"\",\"\",IF(INDEX(Vložit!A:A,(ROW(A382)-1)*17+2)<>\"\",(ROW(A382)-1)*17+2,\"\"))","v":""},{"$f":"IF(A383=\"\",\"\",\"Číslo smlouvy:  \"&INDEX(Vložit!B:B,A383+1)&CHAR(10)&\"Jméno a příjmení:  \"&INDEX(Vložit!B:B,A383+2)&CHAR(10)&\"Ulice:  \"&INDEX(Vložit!B:B,A383+3)&CHAR(10)&\"Č. pop. / č. orient.:  \"&INDEX(Vložit!B:B,A383+4)&CHAR(10)&\"Obec:  \"&INDEX(Vložit!B:B,A383+5))","v":""},{"$f":"IF(A383=\"\",\"\",INDEX(Vložit!A:A,A383)&CHAR(10)&\"Telefon: \"&INDEX(Vložit!B:B,A383+6)&\" / \"&INDEX(Vložit!B:B,A383+7)&CHAR(10)&\"Typ objednávky: \"&INDEX(Vložit!D:D,A383+1)&CHAR(10)&INDEX(Vložit!C:C,A383)&CHAR(10)&INDEX(Vložit!D:D,A383))","v":""},{"$f":"IF(A383=\"\",\"\",IF(INDEX(Vložit!B:B,A383+8)=\"\",\"\",\"Instrukce: \"&INDEX(Vložit!B:B,A383+8)))","v":""},{"$f":"IF(A383=\"\",\"\",IF(INDEX(Vložit!B:B,A383+1)=\"\",\"\",INDEX(Vložit!B:B,A383+1)))","v":""},{"$f":"IF(A383=\"\",\"\",MID(INDEX(Vložit!A:A,A383),19,10))","v":""},{"$f":"IF(A383=\"\",\"\",IF(INDEX(Vložit!B:B,A383+5)=\"\",\"\",VLOOKUP(INDEX(Vložit!B:B,A383+5),Pomocná!B382:C10381,2,FALSE)))","v":""},{"$f":"IF(A383=\"\",\"\",INDEX(Vložit!B:B,A383+2))","v":""},{"$f":"IF(A383=\"\",\"\",IF(INDEX(Vložit!B:B,A383+3)=\"\",\"\",INDEX(Vložit!B:B,A383+3)))","v":""},{"$f":"IF(A383=\"\",\"\",INDEX(Vložit!B:B,A383+4))","v":""}]
[{"$f":"IF(A383=\"\",\"\",IF(INDEX(Vložit!A:A,(ROW(A383)-1)*17+2)<>\"\",(ROW(A383)-1)*17+2,\"\"))","v":""},{"$f":"IF(A384=\"\",\"\",\"Číslo smlouvy:  \"&INDEX(Vložit!B:B,A384+1)&CHAR(10)&\"Jméno a příjmení:  \"&INDEX(Vložit!B:B,A384+2)&CHAR(10)&\"Ulice:  \"&INDEX(Vložit!B:B,A384+3)&CHAR(10)&\"Č. pop. / č. orient.:  \"&INDEX(Vložit!B:B,A384+4)&CHAR(10)&\"Obec:  \"&INDEX(Vložit!B:B,A384+5))","v":""},{"$f":"IF(A384=\"\",\"\",INDEX(Vložit!A:A,A384)&CHAR(10)&\"Telefon: \"&INDEX(Vložit!B:B,A384+6)&\" / \"&INDEX(Vložit!B:B,A384+7)&CHAR(10)&\"Typ objednávky: \"&INDEX(Vložit!D:D,A384+1)&CHAR(10)&INDEX(Vložit!C:C,A384)&CHAR(10)&INDEX(Vložit!D:D,A384))","v":""},{"$f":"IF(A384=\"\",\"\",IF(INDEX(Vložit!B:B,A384+8)=\"\",\"\",\"Instrukce: \"&INDEX(Vložit!B:B,A384+8)))","v":""},{"$f":"IF(A384=\"\",\"\",IF(INDEX(Vložit!B:B,A384+1)=\"\",\"\",INDEX(Vložit!B:B,A384+1)))","v":""},{"$f":"IF(A384=\"\",\"\",MID(INDEX(Vložit!A:A,A384),19,10))","v":""},{"$f":"IF(A384=\"\",\"\",IF(INDEX(Vložit!B:B,A384+5)=\"\",\"\",VLOOKUP(INDEX(Vložit!B:B,A384+5),Pomocná!B383:C10382,2,FALSE)))","v":""},{"$f":"IF(A384=\"\",\"\",INDEX(Vložit!B:B,A384+2))","v":""},{"$f":"IF(A384=\"\",\"\",IF(INDEX(Vložit!B:B,A384+3)=\"\",\"\",INDEX(Vložit!B:B,A384+3)))","v":""},{"$f":"IF(A384=\"\",\"\",INDEX(Vložit!B:B,A384+4))","v":""}]
[{"$f":"IF(A384=\"\",\"\",IF(INDEX(Vložit!A:A,(ROW(A384)-1)*17+2)<>\"\",(ROW(A384)-1)*17+2,\"\"))","v":""},{"$f":"IF(A385=\"\",\"\",\"Číslo smlouvy:  \"&INDEX(Vložit!B:B,A385+1)&CHAR(10)&\"Jméno a příjmení:  \"&INDEX(Vložit!B:B,A385+2)&CHAR(10)&\"Ulice:  \"&INDEX(Vložit!B:B,A385+3)&CHAR(10)&\"Č. pop. / č. orient.:  \"&INDEX(Vložit!B:B,A385+4)&CHAR(10)&\"Obec:  \"&INDEX(Vložit!B:B,A385+5))","v":""},{"$f":"IF(A385=\"\",\"\",INDEX(Vložit!A:A,A385)&CHAR(10)&\"Telefon: \"&INDEX(Vložit!B:B,A385+6)&\" / \"&INDEX(Vložit!B:B,A385+7)&CHAR(10)&\"Typ objednávky: \"&INDEX(Vložit!D:D,A385+1)&CHAR(10)&INDEX(Vložit!C:C,A385)&CHAR(10)&INDEX(Vložit!D:D,A385))","v":""},{"$f":"IF(A385=\"\",\"\",IF(INDEX(Vložit!B:B,A385+8)=\"\",\"\",\"Instrukce: \"&INDEX(Vložit!B:B,A385+8)))","v":""},{"$f":"IF(A385=\"\",\"\",IF(INDEX(Vložit!B:B,A385+1)=\"\",\"\",INDEX(Vložit!B:B,A385+1)))","v":""},{"$f":"IF(A385=\"\",\"\",MID(INDEX(Vložit!A:A,A385),19,10))","v":""},{"$f":"IF(A385=\"\",\"\",IF(INDEX(Vložit!B:B,A385+5)=\"\",\"\",VLOOKUP(INDEX(Vložit!B:B,A385+5),Pomocná!B384:C10383,2,FALSE)))","v":""},{"$f":"IF(A385=\"\",\"\",INDEX(Vložit!B:B,A385+2))","v":""},{"$f":"IF(A385=\"\",\"\",IF(INDEX(Vložit!B:B,A385+3)=\"\",\"\",INDEX(Vložit!B:B,A385+3)))","v":""},{"$f":"IF(A385=\"\",\"\",INDEX(Vložit!B:B,A385+4))","v":""}]
[{"$f":"IF(A385=\"\",\"\",IF(INDEX(Vložit!A:A,(ROW(A385)-1)*17+2)<>\"\",(ROW(A385)-1)*17+2,\"\"))","v":""},{"$f":"IF(A386=\"\",\"\",\"Číslo smlouvy:  \"&INDEX(Vložit!B:B,A386+1)&CHAR(10)&\"Jméno a příjmení:  \"&INDEX(Vložit!B:B,A386+2)&CHAR(10)&\"Ulice:  \"&INDEX(Vložit!B:B,A386+3)&CHAR(10)&\"Č. pop. / č. orient.:  \"&INDEX(Vložit!B:B,A386+4)&CHAR(10)&\"Obec:  \"&INDEX(Vložit!B:B,A386+5))","v":""},{"$f":"IF(A386=\"\",\"\",INDEX(Vložit!A:A,A386)&CHAR(10)&\"Telefon: \"&INDEX(Vložit!B:B,A386+6)&\" / \"&INDEX(Vložit!B:B,A386+7)&CHAR(10)&\"Typ objednávky: \"&INDEX(Vložit!D:D,A386+1)&CHAR(10)&INDEX(Vložit!C:C,A386)&CHAR(10)&INDEX(Vložit!D:D,A386))","v":""},{"$f":"IF(A386=\"\",\"\",IF(INDEX(Vložit!B:B,A386+8)=\"\",\"\",\"Instrukce: \"&INDEX(Vložit!B:B,A386+8)))","v":""},{"$f":"IF(A386=\"\",\"\",IF(INDEX(Vložit!B:B,A386+1)=\"\",\"\",INDEX(Vložit!B:B,A386+1)))","v":""},{"$f":"IF(A386=\"\",\"\",MID(INDEX(Vložit!A:A,A386),19,10))","v":""},{"$f":"IF(A386=\"\",\"\",IF(INDEX(Vložit!B:B,A386+5)=\"\",\"\",VLOOKUP(INDEX(Vložit!B:B,A386+5),Pomocná!B385:C10384,2,FALSE)))","v":""},{"$f":"IF(A386=\"\",\"\",INDEX(Vložit!B:B,A386+2))","v":""},{"$f":"IF(A386=\"\",\"\",IF(INDEX(Vložit!B:B,A386+3)=\"\",\"\",INDEX(Vložit!B:B,A386+3)))","v":""},{"$f":"IF(A386=\"\",\"\",INDEX(Vložit!B:B,A386+4))","v":""}]
[{"$f":"IF(A386=\"\",\"\",IF(INDEX(Vložit!A:A,(ROW(A386)-1)*17+2)<>\"\",(ROW(A386)-1)*17+2,\"\"))","v":""},{"$f":"IF(A387=\"\",\"\",\"Číslo smlouvy:  \"&INDEX(Vložit!B:B,A387+1)&CHAR(10)&\"Jméno a příjmení:  \"&INDEX(Vložit!B:B,A387+2)&CHAR(10)&\"Ulice:  \"&INDEX(Vložit!B:B,A387+3)&CHAR(10)&\"Č. pop. / č. orient.:  \"&INDEX(Vložit!B:B,A387+4)&CHAR(10)&\"Obec:  \"&INDEX(Vložit!B:B,A387+5))","v":""},{"$f":"IF(A387=\"\",\"\",INDEX(Vložit!A:A,A387)&CHAR(10)&\"Telefon: \"&INDEX(Vložit!B:B,A387+6)&\" / \"&INDEX(Vložit!B:B,A387+7)&CHAR(10)&\"Typ objednávky: \"&INDEX(Vložit!D:D,A387+1)&CHAR(10)&INDEX(Vložit!C:C,A387)&CHAR(10)&INDEX(Vložit!D:D,A387))","v":""},{"$f":"IF(A387=\"\",\"\",IF(INDEX(Vložit!B:B,A387+8)=\"\",\"\",\"Instrukce: \"&INDEX(Vložit!B:B,A387+8)))","v":""},{"$f":"IF(A387=\"\",\"\",IF(INDEX(Vložit!B:B,A387+1)=\"\",\"\",INDEX(Vložit!B:B,A387+1)))","v":""},{"$f":"IF(A387=\"\",\"\",MID(INDEX(Vložit!A:A,A387),19,10))","v":""},{"$f":"IF(A387=\"\",\"\",IF(INDEX(Vložit!B:B,A387+5)=\"\",\"\",VLOOKUP(INDEX(Vložit!B:B,A387+5),Pomocná!B386:C10385,2,FALSE)))","v":""},{"$f":"IF(A387=\"\",\"\",INDEX(Vložit!B:B,A387+2))","v":""},{"$f":"IF(A387=\"\",\"\",IF(INDEX(Vložit!B:B,A387+3)=\"\",\"\",INDEX(Vložit!B:B,A387+3)))","v":""},{"$f":"IF(A387=\"\",\"\",INDEX(Vložit!B:B,A387+4))","v":""}]
[{"$f":"IF(A387=\"\",\"\",IF(INDEX(Vložit!A:A,(ROW(A387)-1)*17+2)<>\"\",(ROW(A387)-1)*17+2,\"\"))","v":""},{"$f":"IF(A388=\"\",\"\",\"Číslo smlouvy:  \"&INDEX(Vložit!B:B,A388+1)&CHAR(10)&\"Jméno a příjmení:  \"&INDEX(Vložit!B:B,A388+2)&CHAR(10)&\"Ulice:  \"&INDEX(Vložit!B:B,A388+3)&CHAR(10)&\"Č. pop. / č. orient.:  \"&INDEX(Vložit!B:B,A388+4)&CHAR(10)&\"Obec:  \"&INDEX(Vložit!B:B,A388+5))","v":""},{"$f":"IF(A388=\"\",\"\",INDEX(Vložit!A:A,A388)&CHAR(10)&\"Telefon: \"&INDEX(Vložit!B:B,A388+6)&\" / \"&INDEX(Vložit!B:B,A388+7)&CHAR(10)&\"Typ objednávky: \"&INDEX(Vložit!D:D,A388+1)&CHAR(10)&INDEX(Vložit!C:C,A388)&CHAR(10)&INDEX(Vložit!D:D,A388))","v":""},{"$f":"IF(A388=\"\",\"\",IF(INDEX(Vložit!B:B,A388+8)=\"\",\"\",\"Instrukce: \"&INDEX(Vložit!B:B,A388+8)))","v":""},{"$f":"IF(A388=\"\",\"\",IF(INDEX(Vložit!B:B,A388+1)=\"\",\"\",INDEX(Vložit!B:B,A388+1)))","v":""},{"$f":"IF(A388=\"\",\"\",MID(INDEX(Vložit!A:A,A388),19,10))","v":""},{"$f":"IF(A388=\"\",\"\",IF(INDEX(Vložit!B:B,A388+5)=\"\",\"\",VLOOKUP(INDEX(Vložit!B:B,A388+5),Pomocná!B387:C10386,2,FALSE)))","v":""},{"$f":"IF(A388=\"\",\"\",INDEX(Vložit!B:B,A388+2))","v":""},{"$f":"IF(A388=\"\",\"\",IF(INDEX(Vložit!B:B,A388+3)=\"\",\"\",INDEX(Vložit!B:B,A388+3)))","v":""},{"$f":"IF(A388=\"\",\"\",INDEX(Vložit!B:B,A388+4))","v":""}]
[{"$f":"IF(A388=\"\",\"\",IF(INDEX(Vložit!A:A,(ROW(A388)-1)*17+2)<>\"\",(ROW(A388)-1)*17+2,\"\"))","v":""},{"$f":"IF(A389=\"\",\"\",\"Číslo smlouvy:  \"&INDEX(Vložit!B:B,A389+1)&CHAR(10)&\"Jméno a příjmení:  \"&INDEX(Vložit!B:B,A389+2)&CHAR(10)&\"Ulice:  \"&INDEX(Vložit!B:B,A389+3)&CHAR(10)&\"Č. pop. / č. orient.:  \"&INDEX(Vložit!B:B,A389+4)&CHAR(10)&\"Obec:  \"&INDEX(Vložit!B:B,A389+5))","v":""},{"$f":"IF(A389=\"\",\"\",INDEX(Vložit!A:A,A389)&CHAR(10)&\"Telefon: \"&INDEX(Vložit!B:B,A389+6)&\" / \"&INDEX(Vložit!B:B,A389+7)&CHAR(10)&\"Typ objednávky: \"&INDEX(Vložit!D:D,A389+1)&CHAR(10)&INDEX(Vložit!C:C,A389)&CHAR(10)&INDEX(Vložit!D:D,A389))","v":""},{"$f":"IF(A389=\"\",\"\",IF(INDEX(Vložit!B:B,A389+8)=\"\",\"\",\"Instrukce: \"&INDEX(Vložit!B:B,A389+8)))","v":""},{"$f":"IF(A389=\"\",\"\",IF(INDEX(Vložit!B:B,A389+1)=\"\",\"\",INDEX(Vložit!B:B,A389+1)))","v":""},{"$f":"IF(A389=\"\",\"\",MID(INDEX(Vložit!A:A,A389),19,10))","v":""},{"$f":"IF(A389=\"\",\"\",IF(INDEX(Vložit!B:B,A389+5)=\"\",\"\",VLOOKUP(INDEX(Vložit!B:B,A389+5),Pomocná!B388:C10387,2,FALSE)))","v":""},{"$f":"IF(A389=\"\",\"\",INDEX(Vložit!B:B,A389+2))","v":""},{"$f":"IF(A389=\"\",\"\",IF(INDEX(Vložit!B:B,A389+3)=\"\",\"\",INDEX(Vložit!B:B,A389+3)))","v":""},{"$f":"IF(A389=\"\",\"\",INDEX(Vložit!B:B,A389+4))","v":""}]
[{"$f":"IF(A389=\"\",\"\",IF(INDEX(Vložit!A:A,(ROW(A389)-1)*17+2)<>\"\",(ROW(A389)-1)*17+2,\"\"))","v":""},{"$f":"IF(A390=\"\",\"\",\"Číslo smlouvy:  \"&INDEX(Vložit!B:B,A390+1)&CHAR(10)&\"Jméno a příjmení:  \"&INDEX(Vložit!B:B,A390+2)&CHAR(10)&\"Ulice:  \"&INDEX(Vložit!B:B,A390+3)&CHAR(10)&\"Č. pop. / č. orient.:  \"&INDEX(Vložit!B:B,A390+4)&CHAR(10)&\"Obec:  \"&INDEX(Vložit!B:B,A390+5))","v":""},{"$f":"IF(A390=\"\",\"\",INDEX(Vložit!A:A,A390)&CHAR(10)&\"Telefon: \"&INDEX(Vložit!B:B,A390+6)&\" / \"&INDEX(Vložit!B:B,A390+7)&CHAR(10)&\"Typ objednávky: \"&INDEX(Vložit!D:D,A390+1)&CHAR(10)&INDEX(Vložit!C:C,A390)&CHAR(10)&INDEX(Vložit!D:D,A390))","v":""},{"$f":"IF(A390=\"\",\"\",IF(INDEX(Vložit!B:B,A390+8)=\"\",\"\",\"Instrukce: \"&INDEX(Vložit!B:B,A390+8)))","v":""},{"$f":"IF(A390=\"\",\"\",IF(INDEX(Vložit!B:B,A390+1)=\"\",\"\",INDEX(Vložit!B:B,A390+1)))","v":""},{"$f":"IF(A390=\"\",\"\",MID(INDEX(Vložit!A:A,A390),19,10))","v":""},{"$f":"IF(A390=\"\",\"\",IF(INDEX(Vložit!B:B,A390+5)=\"\",\"\",VLOOKUP(INDEX(Vložit!B:B,A390+5),Pomocná!B389:C10388,2,FALSE)))","v":""},{"$f":"IF(A390=\"\",\"\",INDEX(Vložit!B:B,A390+2))","v":""},{"$f":"IF(A390=\"\",\"\",IF(INDEX(Vložit!B:B,A390+3)=\"\",\"\",INDEX(Vložit!B:B,A390+3)))","v":""},{"$f":"IF(A390=\"\",\"\",INDEX(Vložit!B:B,A390+4))","v":""}]
[{"$f":"IF(A390=\"\",\"\",IF(INDEX(Vložit!A:A,(ROW(A390)-1)*17+2)<>\"\",(ROW(A390)-1)*17+2,\"\"))","v":""},{"$f":"IF(A391=\"\",\"\",\"Číslo smlouvy:  \"&INDEX(Vložit!B:B,A391+1)&CHAR(10)&\"Jméno a příjmení:  \"&INDEX(Vložit!B:B,A391+2)&CHAR(10)&\"Ulice:  \"&INDEX(Vložit!B:B,A391+3)&CHAR(10)&\"Č. pop. / č. orient.:  \"&INDEX(Vložit!B:B,A391+4)&CHAR(10)&\"Obec:  \"&INDEX(Vložit!B:B,A391+5))","v":""},{"$f":"IF(A391=\"\",\"\",INDEX(Vložit!A:A,A391)&CHAR(10)&\"Telefon: \"&INDEX(Vložit!B:B,A391+6)&\" / \"&INDEX(Vložit!B:B,A391+7)&CHAR(10)&\"Typ objednávky: \"&INDEX(Vložit!D:D,A391+1)&CHAR(10)&INDEX(Vložit!C:C,A391)&CHAR(10)&INDEX(Vložit!D:D,A391))","v":""},{"$f":"IF(A391=\"\",\"\",IF(INDEX(Vložit!B:B,A391+8)=\"\",\"\",\"Instrukce: \"&INDEX(Vložit!B:B,A391+8)))","v":""},{"$f":"IF(A391=\"\",\"\",IF(INDEX(Vložit!B:B,A391+1)=\"\",\"\",INDEX(Vložit!B:B,A391+1)))","v":""},{"$f":"IF(A391=\"\",\"\",MID(INDEX(Vložit!A:A,A391),19,10))","v":""},{"$f":"IF(A391=\"\",\"\",IF(INDEX(Vložit!B:B,A391+5)=\"\",\"\",VLOOKUP(INDEX(Vložit!B:B,A391+5),Pomocná!B390:C10389,2,FALSE)))","v":""},{"$f":"IF(A391=\"\",\"\",INDEX(Vložit!B:B,A391+2))","v":""},{"$f":"IF(A391=\"\",\"\",IF(INDEX(Vložit!B:B,A391+3)=\"\",\"\",INDEX(Vložit!B:B,A391+3)))","v":""},{"$f":"IF(A391=\"\",\"\",INDEX(Vložit!B:B,A391+4))","v":""}]
[{"$f":"IF(A391=\"\",\"\",IF(INDEX(Vložit!A:A,(ROW(A391)-1)*17+2)<>\"\",(ROW(A391)-1)*17+2,\"\"))","v":""},{"$f":"IF(A392=\"\",\"\",\"Číslo smlouvy:  \"&INDEX(Vložit!B:B,A392+1)&CHAR(10)&\"Jméno a příjmení:  \"&INDEX(Vložit!B:B,A392+2)&CHAR(10)&\"Ulice:  \"&INDEX(Vložit!B:B,A392+3)&CHAR(10)&\"Č. pop. / č. orient.:  \"&INDEX(Vložit!B:B,A392+4)&CHAR(10)&\"Obec:  \"&INDEX(Vložit!B:B,A392+5))","v":""},{"$f":"IF(A392=\"\",\"\",INDEX(Vložit!A:A,A392)&CHAR(10)&\"Telefon: \"&INDEX(Vložit!B:B,A392+6)&\" / \"&INDEX(Vložit!B:B,A392+7)&CHAR(10)&\"Typ objednávky: \"&INDEX(Vložit!D:D,A392+1)&CHAR(10)&INDEX(Vložit!C:C,A392)&CHAR(10)&INDEX(Vložit!D:D,A392))","v":""},{"$f":"IF(A392=\"\",\"\",IF(INDEX(Vložit!B:B,A392+8)=\"\",\"\",\"Instrukce: \"&INDEX(Vložit!B:B,A392+8)))","v":""},{"$f":"IF(A392=\"\",\"\",IF(INDEX(Vložit!B:B,A392+1)=\"\",\"\",INDEX(Vložit!B:B,A392+1)))","v":""},{"$f":"IF(A392=\"\",\"\",MID(INDEX(Vložit!A:A,A392),19,10))","v":""},{"$f":"IF(A392=\"\",\"\",IF(INDEX(Vložit!B:B,A392+5)=\"\",\"\",VLOOKUP(INDEX(Vložit!B:B,A392+5),Pomocná!B391:C10390,2,FALSE)))","v":""},{"$f":"IF(A392=\"\",\"\",INDEX(Vložit!B:B,A392+2))","v":""},{"$f":"IF(A392=\"\",\"\",IF(INDEX(Vložit!B:B,A392+3)=\"\",\"\",INDEX(Vložit!B:B,A392+3)))","v":""},{"$f":"IF(A392=\"\",\"\",INDEX(Vložit!B:B,A392+4))","v":""}]
[{"$f":"IF(A392=\"\",\"\",IF(INDEX(Vložit!A:A,(ROW(A392)-1)*17+2)<>\"\",(ROW(A392)-1)*17+2,\"\"))","v":""},{"$f":"IF(A393=\"\",\"\",\"Číslo smlouvy:  \"&INDEX(Vložit!B:B,A393+1)&CHAR(10)&\"Jméno a příjmení:  \"&INDEX(Vložit!B:B,A393+2)&CHAR(10)&\"Ulice:  \"&INDEX(Vložit!B:B,A393+3)&CHAR(10)&\"Č. pop. / č. orient.:  \"&INDEX(Vložit!B:B,A393+4)&CHAR(10)&\"Obec:  \"&INDEX(Vložit!B:B,A393+5))","v":""},{"$f":"IF(A393=\"\",\"\",INDEX(Vložit!A:A,A393)&CHAR(10)&\"Telefon: \"&INDEX(Vložit!B:B,A393+6)&\" / \"&INDEX(Vložit!B:B,A393+7)&CHAR(10)&\"Typ objednávky: \"&INDEX(Vložit!D:D,A393+1)&CHAR(10)&INDEX(Vložit!C:C,A393)&CHAR(10)&INDEX(Vložit!D:D,A393))","v":""},{"$f":"IF(A393=\"\",\"\",IF(INDEX(Vložit!B:B,A393+8)=\"\",\"\",\"Instrukce: \"&INDEX(Vložit!B:B,A393+8)))","v":""},{"$f":"IF(A393=\"\",\"\",IF(INDEX(Vložit!B:B,A393+1)=\"\",\"\",INDEX(Vložit!B:B,A393+1)))","v":""},{"$f":"IF(A393=\"\",\"\",MID(INDEX(Vložit!A:A,A393),19,10))","v":""},{"$f":"IF(A393=\"\",\"\",IF(INDEX(Vložit!B:B,A393+5)=\"\",\"\",VLOOKUP(INDEX(Vložit!B:B,A393+5),Pomocná!B392:C10391,2,FALSE)))","v":""},{"$f":"IF(A393=\"\",\"\",INDEX(Vložit!B:B,A393+2))","v":""},{"$f":"IF(A393=\"\",\"\",IF(INDEX(Vložit!B:B,A393+3)=\"\",\"\",INDEX(Vložit!B:B,A393+3)))","v":""},{"$f":"IF(A393=\"\",\"\",INDEX(Vložit!B:B,A393+4))","v":""}]
[{"$f":"IF(A393=\"\",\"\",IF(INDEX(Vložit!A:A,(ROW(A393)-1)*17+2)<>\"\",(ROW(A393)-1)*17+2,\"\"))","v":""},{"$f":"IF(A394=\"\",\"\",\"Číslo smlouvy:  \"&INDEX(Vložit!B:B,A394+1)&CHAR(10)&\"Jméno a příjmení:  \"&INDEX(Vložit!B:B,A394+2)&CHAR(10)&\"Ulice:  \"&INDEX(Vložit!B:B,A394+3)&CHAR(10)&\"Č. pop. / č. orient.:  \"&INDEX(Vložit!B:B,A394+4)&CHAR(10)&\"Obec:  \"&INDEX(Vložit!B:B,A394+5))","v":""},{"$f":"IF(A394=\"\",\"\",INDEX(Vložit!A:A,A394)&CHAR(10)&\"Telefon: \"&INDEX(Vložit!B:B,A394+6)&\" / \"&INDEX(Vložit!B:B,A394+7)&CHAR(10)&\"Typ objednávky: \"&INDEX(Vložit!D:D,A394+1)&CHAR(10)&INDEX(Vložit!C:C,A394)&CHAR(10)&INDEX(Vložit!D:D,A394))","v":""},{"$f":"IF(A394=\"\",\"\",IF(INDEX(Vložit!B:B,A394+8)=\"\",\"\",\"Instrukce: \"&INDEX(Vložit!B:B,A394+8)))","v":""},{"$f":"IF(A394=\"\",\"\",IF(INDEX(Vložit!B:B,A394+1)=\"\",\"\",INDEX(Vložit!B:B,A394+1)))","v":""},{"$f":"IF(A394=\"\",\"\",MID(INDEX(Vložit!A:A,A394),19,10))","v":""},{"$f":"IF(A394=\"\",\"\",IF(INDEX(Vložit!B:B,A394+5)=\"\",\"\",VLOOKUP(INDEX(Vložit!B:B,A394+5),Pomocná!B393:C10392,2,FALSE)))","v":""},{"$f":"IF(A394=\"\",\"\",INDEX(Vložit!B:B,A394+2))","v":""},{"$f":"IF(A394=\"\",\"\",IF(INDEX(Vložit!B:B,A394+3)=\"\",\"\",INDEX(Vložit!B:B,A394+3)))","v":""},{"$f":"IF(A394=\"\",\"\",INDEX(Vložit!B:B,A394+4))","v":""}]
[{"$f":"IF(A394=\"\",\"\",IF(INDEX(Vložit!A:A,(ROW(A394)-1)*17+2)<>\"\",(ROW(A394)-1)*17+2,\"\"))","v":""},{"$f":"IF(A395=\"\",\"\",\"Číslo smlouvy:  \"&INDEX(Vložit!B:B,A395+1)&CHAR(10)&\"Jméno a příjmení:  \"&INDEX(Vložit!B:B,A395+2)&CHAR(10)&\"Ulice:  \"&INDEX(Vložit!B:B,A395+3)&CHAR(10)&\"Č. pop. / č. orient.:  \"&INDEX(Vložit!B:B,A395+4)&CHAR(10)&\"Obec:  \"&INDEX(Vložit!B:B,A395+5))","v":""},{"$f":"IF(A395=\"\",\"\",INDEX(Vložit!A:A,A395)&CHAR(10)&\"Telefon: \"&INDEX(Vložit!B:B,A395+6)&\" / \"&INDEX(Vložit!B:B,A395+7)&CHAR(10)&\"Typ objednávky: \"&INDEX(Vložit!D:D,A395+1)&CHAR(10)&INDEX(Vložit!C:C,A395)&CHAR(10)&INDEX(Vložit!D:D,A395))","v":""},{"$f":"IF(A395=\"\",\"\",IF(INDEX(Vložit!B:B,A395+8)=\"\",\"\",\"Instrukce: \"&INDEX(Vložit!B:B,A395+8)))","v":""},{"$f":"IF(A395=\"\",\"\",IF(INDEX(Vložit!B:B,A395+1)=\"\",\"\",INDEX(Vložit!B:B,A395+1)))","v":""},{"$f":"IF(A395=\"\",\"\",MID(INDEX(Vložit!A:A,A395),19,10))","v":""},{"$f":"IF(A395=\"\",\"\",IF(INDEX(Vložit!B:B,A395+5)=\"\",\"\",VLOOKUP(INDEX(Vložit!B:B,A395+5),Pomocná!B394:C10393,2,FALSE)))","v":""},{"$f":"IF(A395=\"\",\"\",INDEX(Vložit!B:B,A395+2))","v":""},{"$f":"IF(A395=\"\",\"\",IF(INDEX(Vložit!B:B,A395+3)=\"\",\"\",INDEX(Vložit!B:B,A395+3)))","v":""},{"$f":"IF(A395=\"\",\"\",INDEX(Vložit!B:B,A395+4))","v":""}]
[{"$f":"IF(A395=\"\",\"\",IF(INDEX(Vložit!A:A,(ROW(A395)-1)*17+2)<>\"\",(ROW(A395)-1)*17+2,\"\"))","v":""},{"$f":"IF(A396=\"\",\"\",\"Číslo smlouvy:  \"&INDEX(Vložit!B:B,A396+1)&CHAR(10)&\"Jméno a příjmení:  \"&INDEX(Vložit!B:B,A396+2)&CHAR(10)&\"Ulice:  \"&INDEX(Vložit!B:B,A396+3)&CHAR(10)&\"Č. pop. / č. orient.:  \"&INDEX(Vložit!B:B,A396+4)&CHAR(10)&\"Obec:  \"&INDEX(Vložit!B:B,A396+5))","v":""},{"$f":"IF(A396=\"\",\"\",INDEX(Vložit!A:A,A396)&CHAR(10)&\"Telefon: \"&INDEX(Vložit!B:B,A396+6)&\" / \"&INDEX(Vložit!B:B,A396+7)&CHAR(10)&\"Typ objednávky: \"&INDEX(Vložit!D:D,A396+1)&CHAR(10)&INDEX(Vložit!C:C,A396)&CHAR(10)&INDEX(Vložit!D:D,A396))","v":""},{"$f":"IF(A396=\"\",\"\",IF(INDEX(Vložit!B:B,A396+8)=\"\",\"\",\"Instrukce: \"&INDEX(Vložit!B:B,A396+8)))","v":""},{"$f":"IF(A396=\"\",\"\",IF(INDEX(Vložit!B:B,A396+1)=\"\",\"\",INDEX(Vložit!B:B,A396+1)))","v":""},{"$f":"IF(A396=\"\",\"\",MID(INDEX(Vložit!A:A,A396),19,10))","v":""},{"$f":"IF(A396=\"\",\"\",IF(INDEX(Vložit!B:B,A396+5)=\"\",\"\",VLOOKUP(INDEX(Vložit!B:B,A396+5),Pomocná!B395:C10394,2,FALSE)))","v":""},{"$f":"IF(A396=\"\",\"\",INDEX(Vložit!B:B,A396+2))","v":""},{"$f":"IF(A396=\"\",\"\",IF(INDEX(Vložit!B:B,A396+3)=\"\",\"\",INDEX(Vložit!B:B,A396+3)))","v":""},{"$f":"IF(A396=\"\",\"\",INDEX(Vložit!B:B,A396+4))","v":""}]
[{"$f":"IF(A396=\"\",\"\",IF(INDEX(Vložit!A:A,(ROW(A396)-1)*17+2)<>\"\",(ROW(A396)-1)*17+2,\"\"))","v":""},{"$f":"IF(A397=\"\",\"\",\"Číslo smlouvy:  \"&INDEX(Vložit!B:B,A397+1)&CHAR(10)&\"Jméno a příjmení:  \"&INDEX(Vložit!B:B,A397+2)&CHAR(10)&\"Ulice:  \"&INDEX(Vložit!B:B,A397+3)&CHAR(10)&\"Č. pop. / č. orient.:  \"&INDEX(Vložit!B:B,A397+4)&CHAR(10)&\"Obec:  \"&INDEX(Vložit!B:B,A397+5))","v":""},{"$f":"IF(A397=\"\",\"\",INDEX(Vložit!A:A,A397)&CHAR(10)&\"Telefon: \"&INDEX(Vložit!B:B,A397+6)&\" / \"&INDEX(Vložit!B:B,A397+7)&CHAR(10)&\"Typ objednávky: \"&INDEX(Vložit!D:D,A397+1)&CHAR(10)&INDEX(Vložit!C:C,A397)&CHAR(10)&INDEX(Vložit!D:D,A397))","v":""},{"$f":"IF(A397=\"\",\"\",IF(INDEX(Vložit!B:B,A397+8)=\"\",\"\",\"Instrukce: \"&INDEX(Vložit!B:B,A397+8)))","v":""},{"$f":"IF(A397=\"\",\"\",IF(INDEX(Vložit!B:B,A397+1)=\"\",\"\",INDEX(Vložit!B:B,A397+1)))","v":""},{"$f":"IF(A397=\"\",\"\",MID(INDEX(Vložit!A:A,A397),19,10))","v":""},{"$f":"IF(A397=\"\",\"\",IF(INDEX(Vložit!B:B,A397+5)=\"\",\"\",VLOOKUP(INDEX(Vložit!B:B,A397+5),Pomocná!B396:C10395,2,FALSE)))","v":""},{"$f":"IF(A397=\"\",\"\",INDEX(Vložit!B:B,A397+2))","v":""},{"$f":"IF(A397=\"\",\"\",IF(INDEX(Vložit!B:B,A397+3)=\"\",\"\",INDEX(Vložit!B:B,A397+3)))","v":""},{"$f":"IF(A397=\"\",\"\",INDEX(Vložit!B:B,A397+4))","v":""}]
[{"$f":"IF(A397=\"\",\"\",IF(INDEX(Vložit!A:A,(ROW(A397)-1)*17+2)<>\"\",(ROW(A397)-1)*17+2,\"\"))","v":""},{"$f":"IF(A398=\"\",\"\",\"Číslo smlouvy:  \"&INDEX(Vložit!B:B,A398+1)&CHAR(10)&\"Jméno a příjmení:  \"&INDEX(Vložit!B:B,A398+2)&CHAR(10)&\"Ulice:  \"&INDEX(Vložit!B:B,A398+3)&CHAR(10)&\"Č. pop. / č. orient.:  \"&INDEX(Vložit!B:B,A398+4)&CHAR(10)&\"Obec:  \"&INDEX(Vložit!B:B,A398+5))","v":""},{"$f":"IF(A398=\"\",\"\",INDEX(Vložit!A:A,A398)&CHAR(10)&\"Telefon: \"&INDEX(Vložit!B:B,A398+6)&\" / \"&INDEX(Vložit!B:B,A398+7)&CHAR(10)&\"Typ objednávky: \"&INDEX(Vložit!D:D,A398+1)&CHAR(10)&INDEX(Vložit!C:C,A398)&CHAR(10)&INDEX(Vložit!D:D,A398))","v":""},{"$f":"IF(A398=\"\",\"\",IF(INDEX(Vložit!B:B,A398+8)=\"\",\"\",\"Instrukce: \"&INDEX(Vložit!B:B,A398+8)))","v":""},{"$f":"IF(A398=\"\",\"\",IF(INDEX(Vložit!B:B,A398+1)=\"\",\"\",INDEX(Vložit!B:B,A398+1)))","v":""},{"$f":"IF(A398=\"\",\"\",MID(INDEX(Vložit!A:A,A398),19,10))","v":""},{"$f":"IF(A398=\"\",\"\",IF(INDEX(Vložit!B:B,A398+5)=\"\",\"\",VLOOKUP(INDEX(Vložit!B:B,A398+5),Pomocná!B397:C10396,2,FALSE)))","v":""},{"$f":"IF(A398=\"\",\"\",INDEX(Vložit!B:B,A398+2))","v":""},{"$f":"IF(A398=\"\",\"\",IF(INDEX(Vložit!B:B,A398+3)=\"\",\"\",INDEX(Vložit!B:B,A398+3)))","v":""},{"$f":"IF(A398=\"\",\"\",INDEX(Vložit!B:B,A398+4))","v":""}]
[{"$f":"IF(A398=\"\",\"\",IF(INDEX(Vložit!A:A,(ROW(A398)-1)*17+2)<>\"\",(ROW(A398)-1)*17+2,\"\"))","v":""},{"$f":"IF(A399=\"\",\"\",\"Číslo smlouvy:  \"&INDEX(Vložit!B:B,A399+1)&CHAR(10)&\"Jméno a příjmení:  \"&INDEX(Vložit!B:B,A399+2)&CHAR(10)&\"Ulice:  \"&INDEX(Vložit!B:B,A399+3)&CHAR(10)&\"Č. pop. / č. orient.:  \"&INDEX(Vložit!B:B,A399+4)&CHAR(10)&\"Obec:  \"&INDEX(Vložit!B:B,A399+5))","v":""},{"$f":"IF(A399=\"\",\"\",INDEX(Vložit!A:A,A399)&CHAR(10)&\"Telefon: \"&INDEX(Vložit!B:B,A399+6)&\" / \"&INDEX(Vložit!B:B,A399+7)&CHAR(10)&\"Typ objednávky: \"&INDEX(Vložit!D:D,A399+1)&CHAR(10)&INDEX(Vložit!C:C,A399)&CHAR(10)&INDEX(Vložit!D:D,A399))","v":""},{"$f":"IF(A399=\"\",\"\",IF(INDEX(Vložit!B:B,A399+8)=\"\",\"\",\"Instrukce: \"&INDEX(Vložit!B:B,A399+8)))","v":""},{"$f":"IF(A399=\"\",\"\",IF(INDEX(Vložit!B:B,A399+1)=\"\",\"\",INDEX(Vložit!B:B,A399+1)))","v":""},{"$f":"IF(A399=\"\",\"\",MID(INDEX(Vložit!A:A,A399),19,10))","v":""},{"$f":"IF(A399=\"\",\"\",IF(INDEX(Vložit!B:B,A399+5)=\"\",\"\",VLOOKUP(INDEX(Vložit!B:B,A399+5),Pomocná!B398:C10397,2,FALSE)))","v":""},{"$f":"IF(A399=\"\",\"\",INDEX(Vložit!B:B,A399+2))","v":""},{"$f":"IF(A399=\"\",\"\",IF(INDEX(Vložit!B:B,A399+3)=\"\",\"\",INDEX(Vložit!B:B,A399+3)))","v":""},{"$f":"IF(A399=\"\",\"\",INDEX(Vložit!B:B,A399+4))","v":""}]
[{"$f":"IF(A399=\"\",\"\",IF(INDEX(Vložit!A:A,(ROW(A399)-1)*17+2)<>\"\",(ROW(A399)-1)*17+2,\"\"))","v":""},{"$f":"IF(A400=\"\",\"\",\"Číslo smlouvy:  \"&INDEX(Vložit!B:B,A400+1)&CHAR(10)&\"Jméno a příjmení:  \"&INDEX(Vložit!B:B,A400+2)&CHAR(10)&\"Ulice:  \"&INDEX(Vložit!B:B,A400+3)&CHAR(10)&\"Č. pop. / č. orient.:  \"&INDEX(Vložit!B:B,A400+4)&CHAR(10)&\"Obec:  \"&INDEX(Vložit!B:B,A400+5))","v":""},{"$f":"IF(A400=\"\",\"\",INDEX(Vložit!A:A,A400)&CHAR(10)&\"Telefon: \"&INDEX(Vložit!B:B,A400+6)&\" / \"&INDEX(Vložit!B:B,A400+7)&CHAR(10)&\"Typ objednávky: \"&INDEX(Vložit!D:D,A400+1)&CHAR(10)&INDEX(Vložit!C:C,A400)&CHAR(10)&INDEX(Vložit!D:D,A400))","v":""},{"$f":"IF(A400=\"\",\"\",IF(INDEX(Vložit!B:B,A400+8)=\"\",\"\",\"Instrukce: \"&INDEX(Vložit!B:B,A400+8)))","v":""},{"$f":"IF(A400=\"\",\"\",IF(INDEX(Vložit!B:B,A400+1)=\"\",\"\",INDEX(Vložit!B:B,A400+1)))","v":""},{"$f":"IF(A400=\"\",\"\",MID(INDEX(Vložit!A:A,A400),19,10))","v":""},{"$f":"IF(A400=\"\",\"\",IF(INDEX(Vložit!B:B,A400+5)=\"\",\"\",VLOOKUP(INDEX(Vložit!B:B,A400+5),Pomocná!B399:C10398,2,FALSE)))","v":""},{"$f":"IF(A400=\"\",\"\",INDEX(Vložit!B:B,A400+2))","v":""},{"$f":"IF(A400=\"\",\"\",IF(INDEX(Vložit!B:B,A400+3)=\"\",\"\",INDEX(Vložit!B:B,A400+3)))","v":""},{"$f":"IF(A400=\"\",\"\",INDEX(Vložit!B:B,A400+4))","v":""}]
[{"$f":"IF(A400=\"\",\"\",IF(INDEX(Vložit!A:A,(ROW(A400)-1)*17+2)<>\"\",(ROW(A400)-1)*17+2,\"\"))","v":""},{"$f":"IF(A401=\"\",\"\",\"Číslo smlouvy:  \"&INDEX(Vložit!B:B,A401+1)&CHAR(10)&\"Jméno a příjmení:  \"&INDEX(Vložit!B:B,A401+2)&CHAR(10)&\"Ulice:  \"&INDEX(Vložit!B:B,A401+3)&CHAR(10)&\"Č. pop. / č. orient.:  \"&INDEX(Vložit!B:B,A401+4)&CHAR(10)&\"Obec:  \"&INDEX(Vložit!B:B,A401+5))","v":""},{"$f":"IF(A401=\"\",\"\",INDEX(Vložit!A:A,A401)&CHAR(10)&\"Telefon: \"&INDEX(Vložit!B:B,A401+6)&\" / \"&INDEX(Vložit!B:B,A401+7)&CHAR(10)&\"Typ objednávky: \"&INDEX(Vložit!D:D,A401+1)&CHAR(10)&INDEX(Vložit!C:C,A401)&CHAR(10)&INDEX(Vložit!D:D,A401))","v":""},{"$f":"IF(A401=\"\",\"\",IF(INDEX(Vložit!B:B,A401+8)=\"\",\"\",\"Instrukce: \"&INDEX(Vložit!B:B,A401+8)))","v":""},{"$f":"IF(A401=\"\",\"\",IF(INDEX(Vložit!B:B,A401+1)=\"\",\"\",INDEX(Vložit!B:B,A401+1)))","v":""},{"$f":"IF(A401=\"\",\"\",MID(INDEX(Vložit!A:A,A401),19,10))","v":""},{"$f":"IF(A401=\"\",\"\",IF(INDEX(Vložit!B:B,A401+5)=\"\",\"\",VLOOKUP(INDEX(Vložit!B:B,A401+5),Pomocná!B400:C10399,2,FALSE)))","v":""},{"$f":"IF(A401=\"\",\"\",INDEX(Vložit!B:B,A401+2))","v":""},{"$f":"IF(A401=\"\",\"\",IF(INDEX(Vložit!B:B,A401+3)=\"\",\"\",INDEX(Vložit!B:B,A401+3)))","v":""},{"$f":"IF(A401=\"\",\"\",INDEX(Vložit!B:B,A401+4))","v":""}]
[{"$f":"IF(A401=\"\",\"\",IF(INDEX(Vložit!A:A,(ROW(A401)-1)*17+2)<>\"\",(ROW(A401)-1)*17+2,\"\"))","v":""},{"$f":"IF(A402=\"\",\"\",\"Číslo smlouvy:  \"&INDEX(Vložit!B:B,A402+1)&CHAR(10)&\"Jméno a příjmení:  \"&INDEX(Vložit!B:B,A402+2)&CHAR(10)&\"Ulice:  \"&INDEX(Vložit!B:B,A402+3)&CHAR(10)&\"Č. pop. / č. orient.:  \"&INDEX(Vložit!B:B,A402+4)&CHAR(10)&\"Obec:  \"&INDEX(Vložit!B:B,A402+5))","v":""},{"$f":"IF(A402=\"\",\"\",INDEX(Vložit!A:A,A402)&CHAR(10)&\"Telefon: \"&INDEX(Vložit!B:B,A402+6)&\" / \"&INDEX(Vložit!B:B,A402+7)&CHAR(10)&\"Typ objednávky: \"&INDEX(Vložit!D:D,A402+1)&CHAR(10)&INDEX(Vložit!C:C,A402)&CHAR(10)&INDEX(Vložit!D:D,A402))","v":""},{"$f":"IF(A402=\"\",\"\",IF(INDEX(Vložit!B:B,A402+8)=\"\",\"\",\"Instrukce: \"&INDEX(Vložit!B:B,A402+8)))","v":""},{"$f":"IF(A402=\"\",\"\",IF(INDEX(Vložit!B:B,A402+1)=\"\",\"\",INDEX(Vložit!B:B,A402+1)))","v":""},{"$f":"IF(A402=\"\",\"\",MID(INDEX(Vložit!A:A,A402),19,10))","v":""},{"$f":"IF(A402=\"\",\"\",IF(INDEX(Vložit!B:B,A402+5)=\"\",\"\",VLOOKUP(INDEX(Vložit!B:B,A402+5),Pomocná!B401:C10400,2,FALSE)))","v":""},{"$f":"IF(A402=\"\",\"\",INDEX(Vložit!B:B,A402+2))","v":""},{"$f":"IF(A402=\"\",\"\",IF(INDEX(Vložit!B:B,A402+3)=\"\",\"\",INDEX(Vložit!B:B,A402+3)))","v":""},{"$f":"IF(A402=\"\",\"\",INDEX(Vložit!B:B,A402+4))","v":""}]
[{"$f":"IF(A402=\"\",\"\",IF(INDEX(Vložit!A:A,(ROW(A402)-1)*17+2)<>\"\",(ROW(A402)-1)*17+2,\"\"))","v":""},{"$f":"IF(A403=\"\",\"\",\"Číslo smlouvy:  \"&INDEX(Vložit!B:B,A403+1)&CHAR(10)&\"Jméno a příjmení:  \"&INDEX(Vložit!B:B,A403+2)&CHAR(10)&\"Ulice:  \"&INDEX(Vložit!B:B,A403+3)&CHAR(10)&\"Č. pop. / č. orient.:  \"&INDEX(Vložit!B:B,A403+4)&CHAR(10)&\"Obec:  \"&INDEX(Vložit!B:B,A403+5))","v":""},{"$f":"IF(A403=\"\",\"\",INDEX(Vložit!A:A,A403)&CHAR(10)&\"Telefon: \"&INDEX(Vložit!B:B,A403+6)&\" / \"&INDEX(Vložit!B:B,A403+7)&CHAR(10)&\"Typ objednávky: \"&INDEX(Vložit!D:D,A403+1)&CHAR(10)&INDEX(Vložit!C:C,A403)&CHAR(10)&INDEX(Vložit!D:D,A403))","v":""},{"$f":"IF(A403=\"\",\"\",IF(INDEX(Vložit!B:B,A403+8)=\"\",\"\",\"Instrukce: \"&INDEX(Vložit!B:B,A403+8)))","v":""},{"$f":"IF(A403=\"\",\"\",IF(INDEX(Vložit!B:B,A403+1)=\"\",\"\",INDEX(Vložit!B:B,A403+1)))","v":""},{"$f":"IF(A403=\"\",\"\",MID(INDEX(Vložit!A:A,A403),19,10))","v":""},{"$f":"IF(A403=\"\",\"\",IF(INDEX(Vložit!B:B,A403+5)=\"\",\"\",VLOOKUP(INDEX(Vložit!B:B,A403+5),Pomocná!B402:C10401,2,FALSE)))","v":""},{"$f":"IF(A403=\"\",\"\",INDEX(Vložit!B:B,A403+2))","v":""},{"$f":"IF(A403=\"\",\"\",IF(INDEX(Vložit!B:B,A403+3)=\"\",\"\",INDEX(Vložit!B:B,A403+3)))","v":""},{"$f":"IF(A403=\"\",\"\",INDEX(Vložit!B:B,A403+4))","v":""}]
[{"$f":"IF(A403=\"\",\"\",IF(INDEX(Vložit!A:A,(ROW(A403)-1)*17+2)<>\"\",(ROW(A403)-1)*17+2,\"\"))","v":""},{"$f":"IF(A404=\"\",\"\",\"Číslo smlouvy:  \"&INDEX(Vložit!B:B,A404+1)&CHAR(10)&\"Jméno a příjmení:  \"&INDEX(Vložit!B:B,A404+2)&CHAR(10)&\"Ulice:  \"&INDEX(Vložit!B:B,A404+3)&CHAR(10)&\"Č. pop. / č. orient.:  \"&INDEX(Vložit!B:B,A404+4)&CHAR(10)&\"Obec:  \"&INDEX(Vložit!B:B,A404+5))","v":""},{"$f":"IF(A404=\"\",\"\",INDEX(Vložit!A:A,A404)&CHAR(10)&\"Telefon: \"&INDEX(Vložit!B:B,A404+6)&\" / \"&INDEX(Vložit!B:B,A404+7)&CHAR(10)&\"Typ objednávky: \"&INDEX(Vložit!D:D,A404+1)&CHAR(10)&INDEX(Vložit!C:C,A404)&CHAR(10)&INDEX(Vložit!D:D,A404))","v":""},{"$f":"IF(A404=\"\",\"\",IF(INDEX(Vložit!B:B,A404+8)=\"\",\"\",\"Instrukce: \"&INDEX(Vložit!B:B,A404+8)))","v":""},{"$f":"IF(A404=\"\",\"\",IF(INDEX(Vložit!B:B,A404+1)=\"\",\"\",INDEX(Vložit!B:B,A404+1)))","v":""},{"$f":"IF(A404=\"\",\"\",MID(INDEX(Vložit!A:A,A404),19,10))","v":""},{"$f":"IF(A404=\"\",\"\",IF(INDEX(Vložit!B:B,A404+5)=\"\",\"\",VLOOKUP(INDEX(Vložit!B:B,A404+5),Pomocná!B403:C10402,2,FALSE)))","v":""},{"$f":"IF(A404=\"\",\"\",INDEX(Vložit!B:B,A404+2))","v":""},{"$f":"IF(A404=\"\",\"\",IF(INDEX(Vložit!B:B,A404+3)=\"\",\"\",INDEX(Vložit!B:B,A404+3)))","v":""},{"$f":"IF(A404=\"\",\"\",INDEX(Vložit!B:B,A404+4))","v":""}]
[{"$f":"IF(A404=\"\",\"\",IF(INDEX(Vložit!A:A,(ROW(A404)-1)*17+2)<>\"\",(ROW(A404)-1)*17+2,\"\"))","v":""},{"$f":"IF(A405=\"\",\"\",\"Číslo smlouvy:  \"&INDEX(Vložit!B:B,A405+1)&CHAR(10)&\"Jméno a příjmení:  \"&INDEX(Vložit!B:B,A405+2)&CHAR(10)&\"Ulice:  \"&INDEX(Vložit!B:B,A405+3)&CHAR(10)&\"Č. pop. / č. orient.:  \"&INDEX(Vložit!B:B,A405+4)&CHAR(10)&\"Obec:  \"&INDEX(Vložit!B:B,A405+5))","v":""},{"$f":"IF(A405=\"\",\"\",INDEX(Vložit!A:A,A405)&CHAR(10)&\"Telefon: \"&INDEX(Vložit!B:B,A405+6)&\" / \"&INDEX(Vložit!B:B,A405+7)&CHAR(10)&\"Typ objednávky: \"&INDEX(Vložit!D:D,A405+1)&CHAR(10)&INDEX(Vložit!C:C,A405)&CHAR(10)&INDEX(Vložit!D:D,A405))","v":""},{"$f":"IF(A405=\"\",\"\",IF(INDEX(Vložit!B:B,A405+8)=\"\",\"\",\"Instrukce: \"&INDEX(Vložit!B:B,A405+8)))","v":""},{"$f":"IF(A405=\"\",\"\",IF(INDEX(Vložit!B:B,A405+1)=\"\",\"\",INDEX(Vložit!B:B,A405+1)))","v":""},{"$f":"IF(A405=\"\",\"\",MID(INDEX(Vložit!A:A,A405),19,10))","v":""},{"$f":"IF(A405=\"\",\"\",IF(INDEX(Vložit!B:B,A405+5)=\"\",\"\",VLOOKUP(INDEX(Vložit!B:B,A405+5),Pomocná!B404:C10403,2,FALSE)))","v":""},{"$f":"IF(A405=\"\",\"\",INDEX(Vložit!B:B,A405+2))","v":""},{"$f":"IF(A405=\"\",\"\",IF(INDEX(Vložit!B:B,A405+3)=\"\",\"\",INDEX(Vložit!B:B,A405+3)))","v":""},{"$f":"IF(A405=\"\",\"\",INDEX(Vložit!B:B,A405+4))","v":""}]
[{"$f":"IF(A405=\"\",\"\",IF(INDEX(Vložit!A:A,(ROW(A405)-1)*17+2)<>\"\",(ROW(A405)-1)*17+2,\"\"))","v":""},{"$f":"IF(A406=\"\",\"\",\"Číslo smlouvy:  \"&INDEX(Vložit!B:B,A406+1)&CHAR(10)&\"Jméno a příjmení:  \"&INDEX(Vložit!B:B,A406+2)&CHAR(10)&\"Ulice:  \"&INDEX(Vložit!B:B,A406+3)&CHAR(10)&\"Č. pop. / č. orient.:  \"&INDEX(Vložit!B:B,A406+4)&CHAR(10)&\"Obec:  \"&INDEX(Vložit!B:B,A406+5))","v":""},{"$f":"IF(A406=\"\",\"\",INDEX(Vložit!A:A,A406)&CHAR(10)&\"Telefon: \"&INDEX(Vložit!B:B,A406+6)&\" / \"&INDEX(Vložit!B:B,A406+7)&CHAR(10)&\"Typ objednávky: \"&INDEX(Vložit!D:D,A406+1)&CHAR(10)&INDEX(Vložit!C:C,A406)&CHAR(10)&INDEX(Vložit!D:D,A406))","v":""},{"$f":"IF(A406=\"\",\"\",IF(INDEX(Vložit!B:B,A406+8)=\"\",\"\",\"Instrukce: \"&INDEX(Vložit!B:B,A406+8)))","v":""},{"$f":"IF(A406=\"\",\"\",IF(INDEX(Vložit!B:B,A406+1)=\"\",\"\",INDEX(Vložit!B:B,A406+1)))","v":""},{"$f":"IF(A406=\"\",\"\",MID(INDEX(Vložit!A:A,A406),19,10))","v":""},{"$f":"IF(A406=\"\",\"\",IF(INDEX(Vložit!B:B,A406+5)=\"\",\"\",VLOOKUP(INDEX(Vložit!B:B,A406+5),Pomocná!B405:C10404,2,FALSE)))","v":""},{"$f":"IF(A406=\"\",\"\",INDEX(Vložit!B:B,A406+2))","v":""},{"$f":"IF(A406=\"\",\"\",IF(INDEX(Vložit!B:B,A406+3)=\"\",\"\",INDEX(Vložit!B:B,A406+3)))","v":""},{"$f":"IF(A406=\"\",\"\",INDEX(Vložit!B:B,A406+4))","v":""}]
[{"$f":"IF(A406=\"\",\"\",IF(INDEX(Vložit!A:A,(ROW(A406)-1)*17+2)<>\"\",(ROW(A406)-1)*17+2,\"\"))","v":""},{"$f":"IF(A407=\"\",\"\",\"Číslo smlouvy:  \"&INDEX(Vložit!B:B,A407+1)&CHAR(10)&\"Jméno a příjmení:  \"&INDEX(Vložit!B:B,A407+2)&CHAR(10)&\"Ulice:  \"&INDEX(Vložit!B:B,A407+3)&CHAR(10)&\"Č. pop. / č. orient.:  \"&INDEX(Vložit!B:B,A407+4)&CHAR(10)&\"Obec:  \"&INDEX(Vložit!B:B,A407+5))","v":""},{"$f":"IF(A407=\"\",\"\",INDEX(Vložit!A:A,A407)&CHAR(10)&\"Telefon: \"&INDEX(Vložit!B:B,A407+6)&\" / \"&INDEX(Vložit!B:B,A407+7)&CHAR(10)&\"Typ objednávky: \"&INDEX(Vložit!D:D,A407+1)&CHAR(10)&INDEX(Vložit!C:C,A407)&CHAR(10)&INDEX(Vložit!D:D,A407))","v":""},{"$f":"IF(A407=\"\",\"\",IF(INDEX(Vložit!B:B,A407+8)=\"\",\"\",\"Instrukce: \"&INDEX(Vložit!B:B,A407+8)))","v":""},{"$f":"IF(A407=\"\",\"\",IF(INDEX(Vložit!B:B,A407+1)=\"\",\"\",INDEX(Vložit!B:B,A407+1)))","v":""},{"$f":"IF(A407=\"\",\"\",MID(INDEX(Vložit!A:A,A407),19,10))","v":""},{"$f":"IF(A407=\"\",\"\",IF(INDEX(Vložit!B:B,A407+5)=\"\",\"\",VLOOKUP(INDEX(Vložit!B:B,A407+5),Pomocná!B406:C10405,2,FALSE)))","v":""},{"$f":"IF(A407=\"\",\"\",INDEX(Vložit!B:B,A407+2))","v":""},{"$f":"IF(A407=\"\",\"\",IF(INDEX(Vložit!B:B,A407+3)=\"\",\"\",INDEX(Vložit!B:B,A407+3)))","v":""},{"$f":"IF(A407=\"\",\"\",INDEX(Vložit!B:B,A407+4))","v":""}]
[{"$f":"IF(A407=\"\",\"\",IF(INDEX(Vložit!A:A,(ROW(A407)-1)*17+2)<>\"\",(ROW(A407)-1)*17+2,\"\"))","v":""},{"$f":"IF(A408=\"\",\"\",\"Číslo smlouvy:  \"&INDEX(Vložit!B:B,A408+1)&CHAR(10)&\"Jméno a příjmení:  \"&INDEX(Vložit!B:B,A408+2)&CHAR(10)&\"Ulice:  \"&INDEX(Vložit!B:B,A408+3)&CHAR(10)&\"Č. pop. / č. orient.:  \"&INDEX(Vložit!B:B,A408+4)&CHAR(10)&\"Obec:  \"&INDEX(Vložit!B:B,A408+5))","v":""},{"$f":"IF(A408=\"\",\"\",INDEX(Vložit!A:A,A408)&CHAR(10)&\"Telefon: \"&INDEX(Vložit!B:B,A408+6)&\" / \"&INDEX(Vložit!B:B,A408+7)&CHAR(10)&\"Typ objednávky: \"&INDEX(Vložit!D:D,A408+1)&CHAR(10)&INDEX(Vložit!C:C,A408)&CHAR(10)&INDEX(Vložit!D:D,A408))","v":""},{"$f":"IF(A408=\"\",\"\",IF(INDEX(Vložit!B:B,A408+8)=\"\",\"\",\"Instrukce: \"&INDEX(Vložit!B:B,A408+8)))","v":""},{"$f":"IF(A408=\"\",\"\",IF(INDEX(Vložit!B:B,A408+1)=\"\",\"\",INDEX(Vložit!B:B,A408+1)))","v":""},{"$f":"IF(A408=\"\",\"\",MID(INDEX(Vložit!A:A,A408),19,10))","v":""},{"$f":"IF(A408=\"\",\"\",IF(INDEX(Vložit!B:B,A408+5)=\"\",\"\",VLOOKUP(INDEX(Vložit!B:B,A408+5),Pomocná!B407:C10406,2,FALSE)))","v":""},{"$f":"IF(A408=\"\",\"\",INDEX(Vložit!B:B,A408+2))","v":""},{"$f":"IF(A408=\"\",\"\",IF(INDEX(Vložit!B:B,A408+3)=\"\",\"\",INDEX(Vložit!B:B,A408+3)))","v":""},{"$f":"IF(A408=\"\",\"\",INDEX(Vložit!B:B,A408+4))","v":""}]
[{"$f":"IF(A408=\"\",\"\",IF(INDEX(Vložit!A:A,(ROW(A408)-1)*17+2)<>\"\",(ROW(A408)-1)*17+2,\"\"))","v":""},{"$f":"IF(A409=\"\",\"\",\"Číslo smlouvy:  \"&INDEX(Vložit!B:B,A409+1)&CHAR(10)&\"Jméno a příjmení:  \"&INDEX(Vložit!B:B,A409+2)&CHAR(10)&\"Ulice:  \"&INDEX(Vložit!B:B,A409+3)&CHAR(10)&\"Č. pop. / č. orient.:  \"&INDEX(Vložit!B:B,A409+4)&CHAR(10)&\"Obec:  \"&INDEX(Vložit!B:B,A409+5))","v":""},{"$f":"IF(A409=\"\",\"\",INDEX(Vložit!A:A,A409)&CHAR(10)&\"Telefon: \"&INDEX(Vložit!B:B,A409+6)&\" / \"&INDEX(Vložit!B:B,A409+7)&CHAR(10)&\"Typ objednávky: \"&INDEX(Vložit!D:D,A409+1)&CHAR(10)&INDEX(Vložit!C:C,A409)&CHAR(10)&INDEX(Vložit!D:D,A409))","v":""},{"$f":"IF(A409=\"\",\"\",IF(INDEX(Vložit!B:B,A409+8)=\"\",\"\",\"Instrukce: \"&INDEX(Vložit!B:B,A409+8)))","v":""},{"$f":"IF(A409=\"\",\"\",IF(INDEX(Vložit!B:B,A409+1)=\"\",\"\",INDEX(Vložit!B:B,A409+1)))","v":""},{"$f":"IF(A409=\"\",\"\",MID(INDEX(Vložit!A:A,A409),19,10))","v":""},{"$f":"IF(A409=\"\",\"\",IF(INDEX(Vložit!B:B,A409+5)=\"\",\"\",VLOOKUP(INDEX(Vložit!B:B,A409+5),Pomocná!B408:C10407,2,FALSE)))","v":""},{"$f":"IF(A409=\"\",\"\",INDEX(Vložit!B:B,A409+2))","v":""},{"$f":"IF(A409=\"\",\"\",IF(INDEX(Vložit!B:B,A409+3)=\"\",\"\",INDEX(Vložit!B:B,A409+3)))","v":""},{"$f":"IF(A409=\"\",\"\",INDEX(Vložit!B:B,A409+4))","v":""}]
[{"$f":"IF(A409=\"\",\"\",IF(INDEX(Vložit!A:A,(ROW(A409)-1)*17+2)<>\"\",(ROW(A409)-1)*17+2,\"\"))","v":""},{"$f":"IF(A410=\"\",\"\",\"Číslo smlouvy:  \"&INDEX(Vložit!B:B,A410+1)&CHAR(10)&\"Jméno a příjmení:  \"&INDEX(Vložit!B:B,A410+2)&CHAR(10)&\"Ulice:  \"&INDEX(Vložit!B:B,A410+3)&CHAR(10)&\"Č. pop. / č. orient.:  \"&INDEX(Vložit!B:B,A410+4)&CHAR(10)&\"Obec:  \"&INDEX(Vložit!B:B,A410+5))","v":""},{"$f":"IF(A410=\"\",\"\",INDEX(Vložit!A:A,A410)&CHAR(10)&\"Telefon: \"&INDEX(Vložit!B:B,A410+6)&\" / \"&INDEX(Vložit!B:B,A410+7)&CHAR(10)&\"Typ objednávky: \"&INDEX(Vložit!D:D,A410+1)&CHAR(10)&INDEX(Vložit!C:C,A410)&CHAR(10)&INDEX(Vložit!D:D,A410))","v":""},{"$f":"IF(A410=\"\",\"\",IF(INDEX(Vložit!B:B,A410+8)=\"\",\"\",\"Instrukce: \"&INDEX(Vložit!B:B,A410+8)))","v":""},{"$f":"IF(A410=\"\",\"\",IF(INDEX(Vložit!B:B,A410+1)=\"\",\"\",INDEX(Vložit!B:B,A410+1)))","v":""},{"$f":"IF(A410=\"\",\"\",MID(INDEX(Vložit!A:A,A410),19,10))","v":""},{"$f":"IF(A410=\"\",\"\",IF(INDEX(Vložit!B:B,A410+5)=\"\",\"\",VLOOKUP(INDEX(Vložit!B:B,A410+5),Pomocná!B409:C10408,2,FALSE)))","v":""},{"$f":"IF(A410=\"\",\"\",INDEX(Vložit!B:B,A410+2))","v":""},{"$f":"IF(A410=\"\",\"\",IF(INDEX(Vložit!B:B,A410+3)=\"\",\"\",INDEX(Vložit!B:B,A410+3)))","v":""},{"$f":"IF(A410=\"\",\"\",INDEX(Vložit!B:B,A410+4))","v":""}]
[{"$f":"IF(A410=\"\",\"\",IF(INDEX(Vložit!A:A,(ROW(A410)-1)*17+2)<>\"\",(ROW(A410)-1)*17+2,\"\"))","v":""},{"$f":"IF(A411=\"\",\"\",\"Číslo smlouvy:  \"&INDEX(Vložit!B:B,A411+1)&CHAR(10)&\"Jméno a příjmení:  \"&INDEX(Vložit!B:B,A411+2)&CHAR(10)&\"Ulice:  \"&INDEX(Vložit!B:B,A411+3)&CHAR(10)&\"Č. pop. / č. orient.:  \"&INDEX(Vložit!B:B,A411+4)&CHAR(10)&\"Obec:  \"&INDEX(Vložit!B:B,A411+5))","v":""},{"$f":"IF(A411=\"\",\"\",INDEX(Vložit!A:A,A411)&CHAR(10)&\"Telefon: \"&INDEX(Vložit!B:B,A411+6)&\" / \"&INDEX(Vložit!B:B,A411+7)&CHAR(10)&\"Typ objednávky: \"&INDEX(Vložit!D:D,A411+1)&CHAR(10)&INDEX(Vložit!C:C,A411)&CHAR(10)&INDEX(Vložit!D:D,A411))","v":""},{"$f":"IF(A411=\"\",\"\",IF(INDEX(Vložit!B:B,A411+8)=\"\",\"\",\"Instrukce: \"&INDEX(Vložit!B:B,A411+8)))","v":""},{"$f":"IF(A411=\"\",\"\",IF(INDEX(Vložit!B:B,A411+1)=\"\",\"\",INDEX(Vložit!B:B,A411+1)))","v":""},{"$f":"IF(A411=\"\",\"\",MID(INDEX(Vložit!A:A,A411),19,10))","v":""},{"$f":"IF(A411=\"\",\"\",IF(INDEX(Vložit!B:B,A411+5)=\"\",\"\",VLOOKUP(INDEX(Vložit!B:B,A411+5),Pomocná!B410:C10409,2,FALSE)))","v":""},{"$f":"IF(A411=\"\",\"\",INDEX(Vložit!B:B,A411+2))","v":""},{"$f":"IF(A411=\"\",\"\",IF(INDEX(Vložit!B:B,A411+3)=\"\",\"\",INDEX(Vložit!B:B,A411+3)))","v":""},{"$f":"IF(A411=\"\",\"\",INDEX(Vložit!B:B,A411+4))","v":""}]
[{"$f":"IF(A411=\"\",\"\",IF(INDEX(Vložit!A:A,(ROW(A411)-1)*17+2)<>\"\",(ROW(A411)-1)*17+2,\"\"))","v":""},{"$f":"IF(A412=\"\",\"\",\"Číslo smlouvy:  \"&INDEX(Vložit!B:B,A412+1)&CHAR(10)&\"Jméno a příjmení:  \"&INDEX(Vložit!B:B,A412+2)&CHAR(10)&\"Ulice:  \"&INDEX(Vložit!B:B,A412+3)&CHAR(10)&\"Č. pop. / č. orient.:  \"&INDEX(Vložit!B:B,A412+4)&CHAR(10)&\"Obec:  \"&INDEX(Vložit!B:B,A412+5))","v":""},{"$f":"IF(A412=\"\",\"\",INDEX(Vložit!A:A,A412)&CHAR(10)&\"Telefon: \"&INDEX(Vložit!B:B,A412+6)&\" / \"&INDEX(Vložit!B:B,A412+7)&CHAR(10)&\"Typ objednávky: \"&INDEX(Vložit!D:D,A412+1)&CHAR(10)&INDEX(Vložit!C:C,A412)&CHAR(10)&INDEX(Vložit!D:D,A412))","v":""},{"$f":"IF(A412=\"\",\"\",IF(INDEX(Vložit!B:B,A412+8)=\"\",\"\",\"Instrukce: \"&INDEX(Vložit!B:B,A412+8)))","v":""},{"$f":"IF(A412=\"\",\"\",IF(INDEX(Vložit!B:B,A412+1)=\"\",\"\",INDEX(Vložit!B:B,A412+1)))","v":""},{"$f":"IF(A412=\"\",\"\",MID(INDEX(Vložit!A:A,A412),19,10))","v":""},{"$f":"IF(A412=\"\",\"\",IF(INDEX(Vložit!B:B,A412+5)=\"\",\"\",VLOOKUP(INDEX(Vložit!B:B,A412+5),Pomocná!B411:C10410,2,FALSE)))","v":""},{"$f":"IF(A412=\"\",\"\",INDEX(Vložit!B:B,A412+2))","v":""},{"$f":"IF(A412=\"\",\"\",IF(INDEX(Vložit!B:B,A412+3)=\"\",\"\",INDEX(Vložit!B:B,A412+3)))","v":""},{"$f":"IF(A412=\"\",\"\",INDEX(Vložit!B:B,A412+4))","v":""}]
[{"$f":"IF(A412=\"\",\"\",IF(INDEX(Vložit!A:A,(ROW(A412)-1)*17+2)<>\"\",(ROW(A412)-1)*17+2,\"\"))","v":""},{"$f":"IF(A413=\"\",\"\",\"Číslo smlouvy:  \"&INDEX(Vložit!B:B,A413+1)&CHAR(10)&\"Jméno a příjmení:  \"&INDEX(Vložit!B:B,A413+2)&CHAR(10)&\"Ulice:  \"&INDEX(Vložit!B:B,A413+3)&CHAR(10)&\"Č. pop. / č. orient.:  \"&INDEX(Vložit!B:B,A413+4)&CHAR(10)&\"Obec:  \"&INDEX(Vložit!B:B,A413+5))","v":""},{"$f":"IF(A413=\"\",\"\",INDEX(Vložit!A:A,A413)&CHAR(10)&\"Telefon: \"&INDEX(Vložit!B:B,A413+6)&\" / \"&INDEX(Vložit!B:B,A413+7)&CHAR(10)&\"Typ objednávky: \"&INDEX(Vložit!D:D,A413+1)&CHAR(10)&INDEX(Vložit!C:C,A413)&CHAR(10)&INDEX(Vložit!D:D,A413))","v":""},{"$f":"IF(A413=\"\",\"\",IF(INDEX(Vložit!B:B,A413+8)=\"\",\"\",\"Instrukce: \"&INDEX(Vložit!B:B,A413+8)))","v":""},{"$f":"IF(A413=\"\",\"\",IF(INDEX(Vložit!B:B,A413+1)=\"\",\"\",INDEX(Vložit!B:B,A413+1)))","v":""},{"$f":"IF(A413=\"\",\"\",MID(INDEX(Vložit!A:A,A413),19,10))","v":""},{"$f":"IF(A413=\"\",\"\",IF(INDEX(Vložit!B:B,A413+5)=\"\",\"\",VLOOKUP(INDEX(Vložit!B:B,A413+5),Pomocná!B412:C10411,2,FALSE)))","v":""},{"$f":"IF(A413=\"\",\"\",INDEX(Vložit!B:B,A413+2))","v":""},{"$f":"IF(A413=\"\",\"\",IF(INDEX(Vložit!B:B,A413+3)=\"\",\"\",INDEX(Vložit!B:B,A413+3)))","v":""},{"$f":"IF(A413=\"\",\"\",INDEX(Vložit!B:B,A413+4))","v":""}]
[{"$f":"IF(A413=\"\",\"\",IF(INDEX(Vložit!A:A,(ROW(A413)-1)*17+2)<>\"\",(ROW(A413)-1)*17+2,\"\"))","v":""},{"$f":"IF(A414=\"\",\"\",\"Číslo smlouvy:  \"&INDEX(Vložit!B:B,A414+1)&CHAR(10)&\"Jméno a příjmení:  \"&INDEX(Vložit!B:B,A414+2)&CHAR(10)&\"Ulice:  \"&INDEX(Vložit!B:B,A414+3)&CHAR(10)&\"Č. pop. / č. orient.:  \"&INDEX(Vložit!B:B,A414+4)&CHAR(10)&\"Obec:  \"&INDEX(Vložit!B:B,A414+5))","v":""},{"$f":"IF(A414=\"\",\"\",INDEX(Vložit!A:A,A414)&CHAR(10)&\"Telefon: \"&INDEX(Vložit!B:B,A414+6)&\" / \"&INDEX(Vložit!B:B,A414+7)&CHAR(10)&\"Typ objednávky: \"&INDEX(Vložit!D:D,A414+1)&CHAR(10)&INDEX(Vložit!C:C,A414)&CHAR(10)&INDEX(Vložit!D:D,A414))","v":""},{"$f":"IF(A414=\"\",\"\",IF(INDEX(Vložit!B:B,A414+8)=\"\",\"\",\"Instrukce: \"&INDEX(Vložit!B:B,A414+8)))","v":""},{"$f":"IF(A414=\"\",\"\",IF(INDEX(Vložit!B:B,A414+1)=\"\",\"\",INDEX(Vložit!B:B,A414+1)))","v":""},{"$f":"IF(A414=\"\",\"\",MID(INDEX(Vložit!A:A,A414),19,10))","v":""},{"$f":"IF(A414=\"\",\"\",IF(INDEX(Vložit!B:B,A414+5)=\"\",\"\",VLOOKUP(INDEX(Vložit!B:B,A414+5),Pomocná!B413:C10412,2,FALSE)))","v":""},{"$f":"IF(A414=\"\",\"\",INDEX(Vložit!B:B,A414+2))","v":""},{"$f":"IF(A414=\"\",\"\",IF(INDEX(Vložit!B:B,A414+3)=\"\",\"\",INDEX(Vložit!B:B,A414+3)))","v":""},{"$f":"IF(A414=\"\",\"\",INDEX(Vložit!B:B,A414+4))","v":""}]
[{"$f":"IF(A414=\"\",\"\",IF(INDEX(Vložit!A:A,(ROW(A414)-1)*17+2)<>\"\",(ROW(A414)-1)*17+2,\"\"))","v":""},{"$f":"IF(A415=\"\",\"\",\"Číslo smlouvy:  \"&INDEX(Vložit!B:B,A415+1)&CHAR(10)&\"Jméno a příjmení:  \"&INDEX(Vložit!B:B,A415+2)&CHAR(10)&\"Ulice:  \"&INDEX(Vložit!B:B,A415+3)&CHAR(10)&\"Č. pop. / č. orient.:  \"&INDEX(Vložit!B:B,A415+4)&CHAR(10)&\"Obec:  \"&INDEX(Vložit!B:B,A415+5))","v":""},{"$f":"IF(A415=\"\",\"\",INDEX(Vložit!A:A,A415)&CHAR(10)&\"Telefon: \"&INDEX(Vložit!B:B,A415+6)&\" / \"&INDEX(Vložit!B:B,A415+7)&CHAR(10)&\"Typ objednávky: \"&INDEX(Vložit!D:D,A415+1)&CHAR(10)&INDEX(Vložit!C:C,A415)&CHAR(10)&INDEX(Vložit!D:D,A415))","v":""},{"$f":"IF(A415=\"\",\"\",IF(INDEX(Vložit!B:B,A415+8)=\"\",\"\",\"Instrukce: \"&INDEX(Vložit!B:B,A415+8)))","v":""},{"$f":"IF(A415=\"\",\"\",IF(INDEX(Vložit!B:B,A415+1)=\"\",\"\",INDEX(Vložit!B:B,A415+1)))","v":""},{"$f":"IF(A415=\"\",\"\",MID(INDEX(Vložit!A:A,A415),19,10))","v":""},{"$f":"IF(A415=\"\",\"\",IF(INDEX(Vložit!B:B,A415+5)=\"\",\"\",VLOOKUP(INDEX(Vložit!B:B,A415+5),Pomocná!B414:C10413,2,FALSE)))","v":""},{"$f":"IF(A415=\"\",\"\",INDEX(Vložit!B:B,A415+2))","v":""},{"$f":"IF(A415=\"\",\"\",IF(INDEX(Vložit!B:B,A415+3)=\"\",\"\",INDEX(Vložit!B:B,A415+3)))","v":""},{"$f":"IF(A415=\"\",\"\",INDEX(Vložit!B:B,A415+4))","v":""}]
[{"$f":"IF(A415=\"\",\"\",IF(INDEX(Vložit!A:A,(ROW(A415)-1)*17+2)<>\"\",(ROW(A415)-1)*17+2,\"\"))","v":""},{"$f":"IF(A416=\"\",\"\",\"Číslo smlouvy:  \"&INDEX(Vložit!B:B,A416+1)&CHAR(10)&\"Jméno a příjmení:  \"&INDEX(Vložit!B:B,A416+2)&CHAR(10)&\"Ulice:  \"&INDEX(Vložit!B:B,A416+3)&CHAR(10)&\"Č. pop. / č. orient.:  \"&INDEX(Vložit!B:B,A416+4)&CHAR(10)&\"Obec:  \"&INDEX(Vložit!B:B,A416+5))","v":""},{"$f":"IF(A416=\"\",\"\",INDEX(Vložit!A:A,A416)&CHAR(10)&\"Telefon: \"&INDEX(Vložit!B:B,A416+6)&\" / \"&INDEX(Vložit!B:B,A416+7)&CHAR(10)&\"Typ objednávky: \"&INDEX(Vložit!D:D,A416+1)&CHAR(10)&INDEX(Vložit!C:C,A416)&CHAR(10)&INDEX(Vložit!D:D,A416))","v":""},{"$f":"IF(A416=\"\",\"\",IF(INDEX(Vložit!B:B,A416+8)=\"\",\"\",\"Instrukce: \"&INDEX(Vložit!B:B,A416+8)))","v":""},{"$f":"IF(A416=\"\",\"\",IF(INDEX(Vložit!B:B,A416+1)=\"\",\"\",INDEX(Vložit!B:B,A416+1)))","v":""},{"$f":"IF(A416=\"\",\"\",MID(INDEX(Vložit!A:A,A416),19,10))","v":""},{"$f":"IF(A416=\"\",\"\",IF(INDEX(Vložit!B:B,A416+5)=\"\",\"\",VLOOKUP(INDEX(Vložit!B:B,A416+5),Pomocná!B415:C10414,2,FALSE)))","v":""},{"$f":"IF(A416=\"\",\"\",INDEX(Vložit!B:B,A416+2))","v":""},{"$f":"IF(A416=\"\",\"\",IF(INDEX(Vložit!B:B,A416+3)=\"\",\"\",INDEX(Vložit!B:B,A416+3)))","v":""},{"$f":"IF(A416=\"\",\"\",INDEX(Vložit!B:B,A416+4))","v":""}]
[{"$f":"IF(A416=\"\",\"\",IF(INDEX(Vložit!A:A,(ROW(A416)-1)*17+2)<>\"\",(ROW(A416)-1)*17+2,\"\"))","v":""},{"$f":"IF(A417=\"\",\"\",\"Číslo smlouvy:  \"&INDEX(Vložit!B:B,A417+1)&CHAR(10)&\"Jméno a příjmení:  \"&INDEX(Vložit!B:B,A417+2)&CHAR(10)&\"Ulice:  \"&INDEX(Vložit!B:B,A417+3)&CHAR(10)&\"Č. pop. / č. orient.:  \"&INDEX(Vložit!B:B,A417+4)&CHAR(10)&\"Obec:  \"&INDEX(Vložit!B:B,A417+5))","v":""},{"$f":"IF(A417=\"\",\"\",INDEX(Vložit!A:A,A417)&CHAR(10)&\"Telefon: \"&INDEX(Vložit!B:B,A417+6)&\" / \"&INDEX(Vložit!B:B,A417+7)&CHAR(10)&\"Typ objednávky: \"&INDEX(Vložit!D:D,A417+1)&CHAR(10)&INDEX(Vložit!C:C,A417)&CHAR(10)&INDEX(Vložit!D:D,A417))","v":""},{"$f":"IF(A417=\"\",\"\",IF(INDEX(Vložit!B:B,A417+8)=\"\",\"\",\"Instrukce: \"&INDEX(Vložit!B:B,A417+8)))","v":""},{"$f":"IF(A417=\"\",\"\",IF(INDEX(Vložit!B:B,A417+1)=\"\",\"\",INDEX(Vložit!B:B,A417+1)))","v":""},{"$f":"IF(A417=\"\",\"\",MID(INDEX(Vložit!A:A,A417),19,10))","v":""},{"$f":"IF(A417=\"\",\"\",IF(INDEX(Vložit!B:B,A417+5)=\"\",\"\",VLOOKUP(INDEX(Vložit!B:B,A417+5),Pomocná!B416:C10415,2,FALSE)))","v":""},{"$f":"IF(A417=\"\",\"\",INDEX(Vložit!B:B,A417+2))","v":""},{"$f":"IF(A417=\"\",\"\",IF(INDEX(Vložit!B:B,A417+3)=\"\",\"\",INDEX(Vložit!B:B,A417+3)))","v":""},{"$f":"IF(A417=\"\",\"\",INDEX(Vložit!B:B,A417+4))","v":""}]
[{"$f":"IF(A417=\"\",\"\",IF(INDEX(Vložit!A:A,(ROW(A417)-1)*17+2)<>\"\",(ROW(A417)-1)*17+2,\"\"))","v":""},{"$f":"IF(A418=\"\",\"\",\"Číslo smlouvy:  \"&INDEX(Vložit!B:B,A418+1)&CHAR(10)&\"Jméno a příjmení:  \"&INDEX(Vložit!B:B,A418+2)&CHAR(10)&\"Ulice:  \"&INDEX(Vložit!B:B,A418+3)&CHAR(10)&\"Č. pop. / č. orient.:  \"&INDEX(Vložit!B:B,A418+4)&CHAR(10)&\"Obec:  \"&INDEX(Vložit!B:B,A418+5))","v":""},{"$f":"IF(A418=\"\",\"\",INDEX(Vložit!A:A,A418)&CHAR(10)&\"Telefon: \"&INDEX(Vložit!B:B,A418+6)&\" / \"&INDEX(Vložit!B:B,A418+7)&CHAR(10)&\"Typ objednávky: \"&INDEX(Vložit!D:D,A418+1)&CHAR(10)&INDEX(Vložit!C:C,A418)&CHAR(10)&INDEX(Vložit!D:D,A418))","v":""},{"$f":"IF(A418=\"\",\"\",IF(INDEX(Vložit!B:B,A418+8)=\"\",\"\",\"Instrukce: \"&INDEX(Vložit!B:B,A418+8)))","v":""},{"$f":"IF(A418=\"\",\"\",IF(INDEX(Vložit!B:B,A418+1)=\"\",\"\",INDEX(Vložit!B:B,A418+1)))","v":""},{"$f":"IF(A418=\"\",\"\",MID(INDEX(Vložit!A:A,A418),19,10))","v":""},{"$f":"IF(A418=\"\",\"\",IF(INDEX(Vložit!B:B,A418+5)=\"\",\"\",VLOOKUP(INDEX(Vložit!B:B,A418+5),Pomocná!B417:C10416,2,FALSE)))","v":""},{"$f":"IF(A418=\"\",\"\",INDEX(Vložit!B:B,A418+2))","v":""},{"$f":"IF(A418=\"\",\"\",IF(INDEX(Vložit!B:B,A418+3)=\"\",\"\",INDEX(Vložit!B:B,A418+3)))","v":""},{"$f":"IF(A418=\"\",\"\",INDEX(Vložit!B:B,A418+4))","v":""}]
[{"$f":"IF(A418=\"\",\"\",IF(INDEX(Vložit!A:A,(ROW(A418)-1)*17+2)<>\"\",(ROW(A418)-1)*17+2,\"\"))","v":""},{"$f":"IF(A419=\"\",\"\",\"Číslo smlouvy:  \"&INDEX(Vložit!B:B,A419+1)&CHAR(10)&\"Jméno a příjmení:  \"&INDEX(Vložit!B:B,A419+2)&CHAR(10)&\"Ulice:  \"&INDEX(Vložit!B:B,A419+3)&CHAR(10)&\"Č. pop. / č. orient.:  \"&INDEX(Vložit!B:B,A419+4)&CHAR(10)&\"Obec:  \"&INDEX(Vložit!B:B,A419+5))","v":""},{"$f":"IF(A419=\"\",\"\",INDEX(Vložit!A:A,A419)&CHAR(10)&\"Telefon: \"&INDEX(Vložit!B:B,A419+6)&\" / \"&INDEX(Vložit!B:B,A419+7)&CHAR(10)&\"Typ objednávky: \"&INDEX(Vložit!D:D,A419+1)&CHAR(10)&INDEX(Vložit!C:C,A419)&CHAR(10)&INDEX(Vložit!D:D,A419))","v":""},{"$f":"IF(A419=\"\",\"\",IF(INDEX(Vložit!B:B,A419+8)=\"\",\"\",\"Instrukce: \"&INDEX(Vložit!B:B,A419+8)))","v":""},{"$f":"IF(A419=\"\",\"\",IF(INDEX(Vložit!B:B,A419+1)=\"\",\"\",INDEX(Vložit!B:B,A419+1)))","v":""},{"$f":"IF(A419=\"\",\"\",MID(INDEX(Vložit!A:A,A419),19,10))","v":""},{"$f":"IF(A419=\"\",\"\",IF(INDEX(Vložit!B:B,A419+5)=\"\",\"\",VLOOKUP(INDEX(Vložit!B:B,A419+5),Pomocná!B418:C10417,2,FALSE)))","v":""},{"$f":"IF(A419=\"\",\"\",INDEX(Vložit!B:B,A419+2))","v":""},{"$f":"IF(A419=\"\",\"\",IF(INDEX(Vložit!B:B,A419+3)=\"\",\"\",INDEX(Vložit!B:B,A419+3)))","v":""},{"$f":"IF(A419=\"\",\"\",INDEX(Vložit!B:B,A419+4))","v":""}]
[{"$f":"IF(A419=\"\",\"\",IF(INDEX(Vložit!A:A,(ROW(A419)-1)*17+2)<>\"\",(ROW(A419)-1)*17+2,\"\"))","v":""},{"$f":"IF(A420=\"\",\"\",\"Číslo smlouvy:  \"&INDEX(Vložit!B:B,A420+1)&CHAR(10)&\"Jméno a příjmení:  \"&INDEX(Vložit!B:B,A420+2)&CHAR(10)&\"Ulice:  \"&INDEX(Vložit!B:B,A420+3)&CHAR(10)&\"Č. pop. / č. orient.:  \"&INDEX(Vložit!B:B,A420+4)&CHAR(10)&\"Obec:  \"&INDEX(Vložit!B:B,A420+5))","v":""},{"$f":"IF(A420=\"\",\"\",INDEX(Vložit!A:A,A420)&CHAR(10)&\"Telefon: \"&INDEX(Vložit!B:B,A420+6)&\" / \"&INDEX(Vložit!B:B,A420+7)&CHAR(10)&\"Typ objednávky: \"&INDEX(Vložit!D:D,A420+1)&CHAR(10)&INDEX(Vložit!C:C,A420)&CHAR(10)&INDEX(Vložit!D:D,A420))","v":""},{"$f":"IF(A420=\"\",\"\",IF(INDEX(Vložit!B:B,A420+8)=\"\",\"\",\"Instrukce: \"&INDEX(Vložit!B:B,A420+8)))","v":""},{"$f":"IF(A420=\"\",\"\",IF(INDEX(Vložit!B:B,A420+1)=\"\",\"\",INDEX(Vložit!B:B,A420+1)))","v":""},{"$f":"IF(A420=\"\",\"\",MID(INDEX(Vložit!A:A,A420),19,10))","v":""},{"$f":"IF(A420=\"\",\"\",IF(INDEX(Vložit!B:B,A420+5)=\"\",\"\",VLOOKUP(INDEX(Vložit!B:B,A420+5),Pomocná!B419:C10418,2,FALSE)))","v":""},{"$f":"IF(A420=\"\",\"\",INDEX(Vložit!B:B,A420+2))","v":""},{"$f":"IF(A420=\"\",\"\",IF(INDEX(Vložit!B:B,A420+3)=\"\",\"\",INDEX(Vložit!B:B,A420+3)))","v":""},{"$f":"IF(A420=\"\",\"\",INDEX(Vložit!B:B,A420+4))","v":""}]
[{"$f":"IF(A420=\"\",\"\",IF(INDEX(Vložit!A:A,(ROW(A420)-1)*17+2)<>\"\",(ROW(A420)-1)*17+2,\"\"))","v":""},{"$f":"IF(A421=\"\",\"\",\"Číslo smlouvy:  \"&INDEX(Vložit!B:B,A421+1)&CHAR(10)&\"Jméno a příjmení:  \"&INDEX(Vložit!B:B,A421+2)&CHAR(10)&\"Ulice:  \"&INDEX(Vložit!B:B,A421+3)&CHAR(10)&\"Č. pop. / č. orient.:  \"&INDEX(Vložit!B:B,A421+4)&CHAR(10)&\"Obec:  \"&INDEX(Vložit!B:B,A421+5))","v":""},{"$f":"IF(A421=\"\",\"\",INDEX(Vložit!A:A,A421)&CHAR(10)&\"Telefon: \"&INDEX(Vložit!B:B,A421+6)&\" / \"&INDEX(Vložit!B:B,A421+7)&CHAR(10)&\"Typ objednávky: \"&INDEX(Vložit!D:D,A421+1)&CHAR(10)&INDEX(Vložit!C:C,A421)&CHAR(10)&INDEX(Vložit!D:D,A421))","v":""},{"$f":"IF(A421=\"\",\"\",IF(INDEX(Vložit!B:B,A421+8)=\"\",\"\",\"Instrukce: \"&INDEX(Vložit!B:B,A421+8)))","v":""},{"$f":"IF(A421=\"\",\"\",IF(INDEX(Vložit!B:B,A421+1)=\"\",\"\",INDEX(Vložit!B:B,A421+1)))","v":""},{"$f":"IF(A421=\"\",\"\",MID(INDEX(Vložit!A:A,A421),19,10))","v":""},{"$f":"IF(A421=\"\",\"\",IF(INDEX(Vložit!B:B,A421+5)=\"\",\"\",VLOOKUP(INDEX(Vložit!B:B,A421+5),Pomocná!B420:C10419,2,FALSE)))","v":""},{"$f":"IF(A421=\"\",\"\",INDEX(Vložit!B:B,A421+2))","v":""},{"$f":"IF(A421=\"\",\"\",IF(INDEX(Vložit!B:B,A421+3)=\"\",\"\",INDEX(Vložit!B:B,A421+3)))","v":""},{"$f":"IF(A421=\"\",\"\",INDEX(Vložit!B:B,A421+4))","v":""}]
[{"$f":"IF(A421=\"\",\"\",IF(INDEX(Vložit!A:A,(ROW(A421)-1)*17+2)<>\"\",(ROW(A421)-1)*17+2,\"\"))","v":""},{"$f":"IF(A422=\"\",\"\",\"Číslo smlouvy:  \"&INDEX(Vložit!B:B,A422+1)&CHAR(10)&\"Jméno a příjmení:  \"&INDEX(Vložit!B:B,A422+2)&CHAR(10)&\"Ulice:  \"&INDEX(Vložit!B:B,A422+3)&CHAR(10)&\"Č. pop. / č. orient.:  \"&INDEX(Vložit!B:B,A422+4)&CHAR(10)&\"Obec:  \"&INDEX(Vložit!B:B,A422+5))","v":""},{"$f":"IF(A422=\"\",\"\",INDEX(Vložit!A:A,A422)&CHAR(10)&\"Telefon: \"&INDEX(Vložit!B:B,A422+6)&\" / \"&INDEX(Vložit!B:B,A422+7)&CHAR(10)&\"Typ objednávky: \"&INDEX(Vložit!D:D,A422+1)&CHAR(10)&INDEX(Vložit!C:C,A422)&CHAR(10)&INDEX(Vložit!D:D,A422))","v":""},{"$f":"IF(A422=\"\",\"\",IF(INDEX(Vložit!B:B,A422+8)=\"\",\"\",\"Instrukce: \"&INDEX(Vložit!B:B,A422+8)))","v":""},{"$f":"IF(A422=\"\",\"\",IF(INDEX(Vložit!B:B,A422+1)=\"\",\"\",INDEX(Vložit!B:B,A422+1)))","v":""},{"$f":"IF(A422=\"\",\"\",MID(INDEX(Vložit!A:A,A422),19,10))","v":""},{"$f":"IF(A422=\"\",\"\",IF(INDEX(Vložit!B:B,A422+5)=\"\",\"\",VLOOKUP(INDEX(Vložit!B:B,A422+5),Pomocná!B421:C10420,2,FALSE)))","v":""},{"$f":"IF(A422=\"\",\"\",INDEX(Vložit!B:B,A422+2))","v":""},{"$f":"IF(A422=\"\",\"\",IF(INDEX(Vložit!B:B,A422+3)=\"\",\"\",INDEX(Vložit!B:B,A422+3)))","v":""},{"$f":"IF(A422=\"\",\"\",INDEX(Vložit!B:B,A422+4))","v":""}]
[{"$f":"IF(A422=\"\",\"\",IF(INDEX(Vložit!A:A,(ROW(A422)-1)*17+2)<>\"\",(ROW(A422)-1)*17+2,\"\"))","v":""},{"$f":"IF(A423=\"\",\"\",\"Číslo smlouvy:  \"&INDEX(Vložit!B:B,A423+1)&CHAR(10)&\"Jméno a příjmení:  \"&INDEX(Vložit!B:B,A423+2)&CHAR(10)&\"Ulice:  \"&INDEX(Vložit!B:B,A423+3)&CHAR(10)&\"Č. pop. / č. orient.:  \"&INDEX(Vložit!B:B,A423+4)&CHAR(10)&\"Obec:  \"&INDEX(Vložit!B:B,A423+5))","v":""},{"$f":"IF(A423=\"\",\"\",INDEX(Vložit!A:A,A423)&CHAR(10)&\"Telefon: \"&INDEX(Vložit!B:B,A423+6)&\" / \"&INDEX(Vložit!B:B,A423+7)&CHAR(10)&\"Typ objednávky: \"&INDEX(Vložit!D:D,A423+1)&CHAR(10)&INDEX(Vložit!C:C,A423)&CHAR(10)&INDEX(Vložit!D:D,A423))","v":""},{"$f":"IF(A423=\"\",\"\",IF(INDEX(Vložit!B:B,A423+8)=\"\",\"\",\"Instrukce: \"&INDEX(Vložit!B:B,A423+8)))","v":""},{"$f":"IF(A423=\"\",\"\",IF(INDEX(Vložit!B:B,A423+1)=\"\",\"\",INDEX(Vložit!B:B,A423+1)))","v":""},{"$f":"IF(A423=\"\",\"\",MID(INDEX(Vložit!A:A,A423),19,10))","v":""},{"$f":"IF(A423=\"\",\"\",IF(INDEX(Vložit!B:B,A423+5)=\"\",\"\",VLOOKUP(INDEX(Vložit!B:B,A423+5),Pomocná!B422:C10421,2,FALSE)))","v":""},{"$f":"IF(A423=\"\",\"\",INDEX(Vložit!B:B,A423+2))","v":""},{"$f":"IF(A423=\"\",\"\",IF(INDEX(Vložit!B:B,A423+3)=\"\",\"\",INDEX(Vložit!B:B,A423+3)))","v":""},{"$f":"IF(A423=\"\",\"\",INDEX(Vložit!B:B,A423+4))","v":""}]
[{"$f":"IF(A423=\"\",\"\",IF(INDEX(Vložit!A:A,(ROW(A423)-1)*17+2)<>\"\",(ROW(A423)-1)*17+2,\"\"))","v":""},{"$f":"IF(A424=\"\",\"\",\"Číslo smlouvy:  \"&INDEX(Vložit!B:B,A424+1)&CHAR(10)&\"Jméno a příjmení:  \"&INDEX(Vložit!B:B,A424+2)&CHAR(10)&\"Ulice:  \"&INDEX(Vložit!B:B,A424+3)&CHAR(10)&\"Č. pop. / č. orient.:  \"&INDEX(Vložit!B:B,A424+4)&CHAR(10)&\"Obec:  \"&INDEX(Vložit!B:B,A424+5))","v":""},{"$f":"IF(A424=\"\",\"\",INDEX(Vložit!A:A,A424)&CHAR(10)&\"Telefon: \"&INDEX(Vložit!B:B,A424+6)&\" / \"&INDEX(Vložit!B:B,A424+7)&CHAR(10)&\"Typ objednávky: \"&INDEX(Vložit!D:D,A424+1)&CHAR(10)&INDEX(Vložit!C:C,A424)&CHAR(10)&INDEX(Vložit!D:D,A424))","v":""},{"$f":"IF(A424=\"\",\"\",IF(INDEX(Vložit!B:B,A424+8)=\"\",\"\",\"Instrukce: \"&INDEX(Vložit!B:B,A424+8)))","v":""},{"$f":"IF(A424=\"\",\"\",IF(INDEX(Vložit!B:B,A424+1)=\"\",\"\",INDEX(Vložit!B:B,A424+1)))","v":""},{"$f":"IF(A424=\"\",\"\",MID(INDEX(Vložit!A:A,A424),19,10))","v":""},{"$f":"IF(A424=\"\",\"\",IF(INDEX(Vložit!B:B,A424+5)=\"\",\"\",VLOOKUP(INDEX(Vložit!B:B,A424+5),Pomocná!B423:C10422,2,FALSE)))","v":""},{"$f":"IF(A424=\"\",\"\",INDEX(Vložit!B:B,A424+2))","v":""},{"$f":"IF(A424=\"\",\"\",IF(INDEX(Vložit!B:B,A424+3)=\"\",\"\",INDEX(Vložit!B:B,A424+3)))","v":""},{"$f":"IF(A424=\"\",\"\",INDEX(Vložit!B:B,A424+4))","v":""}]
[{"$f":"IF(A424=\"\",\"\",IF(INDEX(Vložit!A:A,(ROW(A424)-1)*17+2)<>\"\",(ROW(A424)-1)*17+2,\"\"))","v":""},{"$f":"IF(A425=\"\",\"\",\"Číslo smlouvy:  \"&INDEX(Vložit!B:B,A425+1)&CHAR(10)&\"Jméno a příjmení:  \"&INDEX(Vložit!B:B,A425+2)&CHAR(10)&\"Ulice:  \"&INDEX(Vložit!B:B,A425+3)&CHAR(10)&\"Č. pop. / č. orient.:  \"&INDEX(Vložit!B:B,A425+4)&CHAR(10)&\"Obec:  \"&INDEX(Vložit!B:B,A425+5))","v":""},{"$f":"IF(A425=\"\",\"\",INDEX(Vložit!A:A,A425)&CHAR(10)&\"Telefon: \"&INDEX(Vložit!B:B,A425+6)&\" / \"&INDEX(Vložit!B:B,A425+7)&CHAR(10)&\"Typ objednávky: \"&INDEX(Vložit!D:D,A425+1)&CHAR(10)&INDEX(Vložit!C:C,A425)&CHAR(10)&INDEX(Vložit!D:D,A425))","v":""},{"$f":"IF(A425=\"\",\"\",IF(INDEX(Vložit!B:B,A425+8)=\"\",\"\",\"Instrukce: \"&INDEX(Vložit!B:B,A425+8)))","v":""},{"$f":"IF(A425=\"\",\"\",IF(INDEX(Vložit!B:B,A425+1)=\"\",\"\",INDEX(Vložit!B:B,A425+1)))","v":""},{"$f":"IF(A425=\"\",\"\",MID(INDEX(Vložit!A:A,A425),19,10))","v":""},{"$f":"IF(A425=\"\",\"\",IF(INDEX(Vložit!B:B,A425+5)=\"\",\"\",VLOOKUP(INDEX(Vložit!B:B,A425+5),Pomocná!B424:C10423,2,FALSE)))","v":""},{"$f":"IF(A425=\"\",\"\",INDEX(Vložit!B:B,A425+2))","v":""},{"$f":"IF(A425=\"\",\"\",IF(INDEX(Vložit!B:B,A425+3)=\"\",\"\",INDEX(Vložit!B:B,A425+3)))","v":""},{"$f":"IF(A425=\"\",\"\",INDEX(Vložit!B:B,A425+4))","v":""}]
[{"$f":"IF(A425=\"\",\"\",IF(INDEX(Vložit!A:A,(ROW(A425)-1)*17+2)<>\"\",(ROW(A425)-1)*17+2,\"\"))","v":""},{"$f":"IF(A426=\"\",\"\",\"Číslo smlouvy:  \"&INDEX(Vložit!B:B,A426+1)&CHAR(10)&\"Jméno a příjmení:  \"&INDEX(Vložit!B:B,A426+2)&CHAR(10)&\"Ulice:  \"&INDEX(Vložit!B:B,A426+3)&CHAR(10)&\"Č. pop. / č. orient.:  \"&INDEX(Vložit!B:B,A426+4)&CHAR(10)&\"Obec:  \"&INDEX(Vložit!B:B,A426+5))","v":""},{"$f":"IF(A426=\"\",\"\",INDEX(Vložit!A:A,A426)&CHAR(10)&\"Telefon: \"&INDEX(Vložit!B:B,A426+6)&\" / \"&INDEX(Vložit!B:B,A426+7)&CHAR(10)&\"Typ objednávky: \"&INDEX(Vložit!D:D,A426+1)&CHAR(10)&INDEX(Vložit!C:C,A426)&CHAR(10)&INDEX(Vložit!D:D,A426))","v":""},{"$f":"IF(A426=\"\",\"\",IF(INDEX(Vložit!B:B,A426+8)=\"\",\"\",\"Instrukce: \"&INDEX(Vložit!B:B,A426+8)))","v":""},{"$f":"IF(A426=\"\",\"\",IF(INDEX(Vložit!B:B,A426+1)=\"\",\"\",INDEX(Vložit!B:B,A426+1)))","v":""},{"$f":"IF(A426=\"\",\"\",MID(INDEX(Vložit!A:A,A426),19,10))","v":""},{"$f":"IF(A426=\"\",\"\",IF(INDEX(Vložit!B:B,A426+5)=\"\",\"\",VLOOKUP(INDEX(Vložit!B:B,A426+5),Pomocná!B425:C10424,2,FALSE)))","v":""},{"$f":"IF(A426=\"\",\"\",INDEX(Vložit!B:B,A426+2))","v":""},{"$f":"IF(A426=\"\",\"\",IF(INDEX(Vložit!B:B,A426+3)=\"\",\"\",INDEX(Vložit!B:B,A426+3)))","v":""},{"$f":"IF(A426=\"\",\"\",INDEX(Vložit!B:B,A426+4))","v":""}]
[{"$f":"IF(A426=\"\",\"\",IF(INDEX(Vložit!A:A,(ROW(A426)-1)*17+2)<>\"\",(ROW(A426)-1)*17+2,\"\"))","v":""},{"$f":"IF(A427=\"\",\"\",\"Číslo smlouvy:  \"&INDEX(Vložit!B:B,A427+1)&CHAR(10)&\"Jméno a příjmení:  \"&INDEX(Vložit!B:B,A427+2)&CHAR(10)&\"Ulice:  \"&INDEX(Vložit!B:B,A427+3)&CHAR(10)&\"Č. pop. / č. orient.:  \"&INDEX(Vložit!B:B,A427+4)&CHAR(10)&\"Obec:  \"&INDEX(Vložit!B:B,A427+5))","v":""},{"$f":"IF(A427=\"\",\"\",INDEX(Vložit!A:A,A427)&CHAR(10)&\"Telefon: \"&INDEX(Vložit!B:B,A427+6)&\" / \"&INDEX(Vložit!B:B,A427+7)&CHAR(10)&\"Typ objednávky: \"&INDEX(Vložit!D:D,A427+1)&CHAR(10)&INDEX(Vložit!C:C,A427)&CHAR(10)&INDEX(Vložit!D:D,A427))","v":""},{"$f":"IF(A427=\"\",\"\",IF(INDEX(Vložit!B:B,A427+8)=\"\",\"\",\"Instrukce: \"&INDEX(Vložit!B:B,A427+8)))","v":""},{"$f":"IF(A427=\"\",\"\",IF(INDEX(Vložit!B:B,A427+1)=\"\",\"\",INDEX(Vložit!B:B,A427+1)))","v":""},{"$f":"IF(A427=\"\",\"\",MID(INDEX(Vložit!A:A,A427),19,10))","v":""},{"$f":"IF(A427=\"\",\"\",IF(INDEX(Vložit!B:B,A427+5)=\"\",\"\",VLOOKUP(INDEX(Vložit!B:B,A427+5),Pomocná!B426:C10425,2,FALSE)))","v":""},{"$f":"IF(A427=\"\",\"\",INDEX(Vložit!B:B,A427+2))","v":""},{"$f":"IF(A427=\"\",\"\",IF(INDEX(Vložit!B:B,A427+3)=\"\",\"\",INDEX(Vložit!B:B,A427+3)))","v":""},{"$f":"IF(A427=\"\",\"\",INDEX(Vložit!B:B,A427+4))","v":""}]
[{"$f":"IF(A427=\"\",\"\",IF(INDEX(Vložit!A:A,(ROW(A427)-1)*17+2)<>\"\",(ROW(A427)-1)*17+2,\"\"))","v":""},{"$f":"IF(A428=\"\",\"\",\"Číslo smlouvy:  \"&INDEX(Vložit!B:B,A428+1)&CHAR(10)&\"Jméno a příjmení:  \"&INDEX(Vložit!B:B,A428+2)&CHAR(10)&\"Ulice:  \"&INDEX(Vložit!B:B,A428+3)&CHAR(10)&\"Č. pop. / č. orient.:  \"&INDEX(Vložit!B:B,A428+4)&CHAR(10)&\"Obec:  \"&INDEX(Vložit!B:B,A428+5))","v":""},{"$f":"IF(A428=\"\",\"\",INDEX(Vložit!A:A,A428)&CHAR(10)&\"Telefon: \"&INDEX(Vložit!B:B,A428+6)&\" / \"&INDEX(Vložit!B:B,A428+7)&CHAR(10)&\"Typ objednávky: \"&INDEX(Vložit!D:D,A428+1)&CHAR(10)&INDEX(Vložit!C:C,A428)&CHAR(10)&INDEX(Vložit!D:D,A428))","v":""},{"$f":"IF(A428=\"\",\"\",IF(INDEX(Vložit!B:B,A428+8)=\"\",\"\",\"Instrukce: \"&INDEX(Vložit!B:B,A428+8)))","v":""},{"$f":"IF(A428=\"\",\"\",IF(INDEX(Vložit!B:B,A428+1)=\"\",\"\",INDEX(Vložit!B:B,A428+1)))","v":""},{"$f":"IF(A428=\"\",\"\",MID(INDEX(Vložit!A:A,A428),19,10))","v":""},{"$f":"IF(A428=\"\",\"\",IF(INDEX(Vložit!B:B,A428+5)=\"\",\"\",VLOOKUP(INDEX(Vložit!B:B,A428+5),Pomocná!B427:C10426,2,FALSE)))","v":""},{"$f":"IF(A428=\"\",\"\",INDEX(Vložit!B:B,A428+2))","v":""},{"$f":"IF(A428=\"\",\"\",IF(INDEX(Vložit!B:B,A428+3)=\"\",\"\",INDEX(Vložit!B:B,A428+3)))","v":""},{"$f":"IF(A428=\"\",\"\",INDEX(Vložit!B:B,A428+4))","v":""}]
[{"$f":"IF(A428=\"\",\"\",IF(INDEX(Vložit!A:A,(ROW(A428)-1)*17+2)<>\"\",(ROW(A428)-1)*17+2,\"\"))","v":""},{"$f":"IF(A429=\"\",\"\",\"Číslo smlouvy:  \"&INDEX(Vložit!B:B,A429+1)&CHAR(10)&\"Jméno a příjmení:  \"&INDEX(Vložit!B:B,A429+2)&CHAR(10)&\"Ulice:  \"&INDEX(Vložit!B:B,A429+3)&CHAR(10)&\"Č. pop. / č. orient.:  \"&INDEX(Vložit!B:B,A429+4)&CHAR(10)&\"Obec:  \"&INDEX(Vložit!B:B,A429+5))","v":""},{"$f":"IF(A429=\"\",\"\",INDEX(Vložit!A:A,A429)&CHAR(10)&\"Telefon: \"&INDEX(Vložit!B:B,A429+6)&\" / \"&INDEX(Vložit!B:B,A429+7)&CHAR(10)&\"Typ objednávky: \"&INDEX(Vložit!D:D,A429+1)&CHAR(10)&INDEX(Vložit!C:C,A429)&CHAR(10)&INDEX(Vložit!D:D,A429))","v":""},{"$f":"IF(A429=\"\",\"\",IF(INDEX(Vložit!B:B,A429+8)=\"\",\"\",\"Instrukce: \"&INDEX(Vložit!B:B,A429+8)))","v":""},{"$f":"IF(A429=\"\",\"\",IF(INDEX(Vložit!B:B,A429+1)=\"\",\"\",INDEX(Vložit!B:B,A429+1)))","v":""},{"$f":"IF(A429=\"\",\"\",MID(INDEX(Vložit!A:A,A429),19,10))","v":""},{"$f":"IF(A429=\"\",\"\",IF(INDEX(Vložit!B:B,A429+5)=\"\",\"\",VLOOKUP(INDEX(Vložit!B:B,A429+5),Pomocná!B428:C10427,2,FALSE)))","v":""},{"$f":"IF(A429=\"\",\"\",INDEX(Vložit!B:B,A429+2))","v":""},{"$f":"IF(A429=\"\",\"\",IF(INDEX(Vložit!B:B,A429+3)=\"\",\"\",INDEX(Vložit!B:B,A429+3)))","v":""},{"$f":"IF(A429=\"\",\"\",INDEX(Vložit!B:B,A429+4))","v":""}]
[{"$f":"IF(A429=\"\",\"\",IF(INDEX(Vložit!A:A,(ROW(A429)-1)*17+2)<>\"\",(ROW(A429)-1)*17+2,\"\"))","v":""},{"$f":"IF(A430=\"\",\"\",\"Číslo smlouvy:  \"&INDEX(Vložit!B:B,A430+1)&CHAR(10)&\"Jméno a příjmení:  \"&INDEX(Vložit!B:B,A430+2)&CHAR(10)&\"Ulice:  \"&INDEX(Vložit!B:B,A430+3)&CHAR(10)&\"Č. pop. / č. orient.:  \"&INDEX(Vložit!B:B,A430+4)&CHAR(10)&\"Obec:  \"&INDEX(Vložit!B:B,A430+5))","v":""},{"$f":"IF(A430=\"\",\"\",INDEX(Vložit!A:A,A430)&CHAR(10)&\"Telefon: \"&INDEX(Vložit!B:B,A430+6)&\" / \"&INDEX(Vložit!B:B,A430+7)&CHAR(10)&\"Typ objednávky: \"&INDEX(Vložit!D:D,A430+1)&CHAR(10)&INDEX(Vložit!C:C,A430)&CHAR(10)&INDEX(Vložit!D:D,A430))","v":""},{"$f":"IF(A430=\"\",\"\",IF(INDEX(Vložit!B:B,A430+8)=\"\",\"\",\"Instrukce: \"&INDEX(Vložit!B:B,A430+8)))","v":""},{"$f":"IF(A430=\"\",\"\",IF(INDEX(Vložit!B:B,A430+1)=\"\",\"\",INDEX(Vložit!B:B,A430+1)))","v":""},{"$f":"IF(A430=\"\",\"\",MID(INDEX(Vložit!A:A,A430),19,10))","v":""},{"$f":"IF(A430=\"\",\"\",IF(INDEX(Vložit!B:B,A430+5)=\"\",\"\",VLOOKUP(INDEX(Vložit!B:B,A430+5),Pomocná!B429:C10428,2,FALSE)))","v":""},{"$f":"IF(A430=\"\",\"\",INDEX(Vložit!B:B,A430+2))","v":""},{"$f":"IF(A430=\"\",\"\",IF(INDEX(Vložit!B:B,A430+3)=\"\",\"\",INDEX(Vložit!B:B,A430+3)))","v":""},{"$f":"IF(A430=\"\",\"\",INDEX(Vložit!B:B,A430+4))","v":""}]
[{"$f":"IF(A430=\"\",\"\",IF(INDEX(Vložit!A:A,(ROW(A430)-1)*17+2)<>\"\",(ROW(A430)-1)*17+2,\"\"))","v":""},{"$f":"IF(A431=\"\",\"\",\"Číslo smlouvy:  \"&INDEX(Vložit!B:B,A431+1)&CHAR(10)&\"Jméno a příjmení:  \"&INDEX(Vložit!B:B,A431+2)&CHAR(10)&\"Ulice:  \"&INDEX(Vložit!B:B,A431+3)&CHAR(10)&\"Č. pop. / č. orient.:  \"&INDEX(Vložit!B:B,A431+4)&CHAR(10)&\"Obec:  \"&INDEX(Vložit!B:B,A431+5))","v":""},{"$f":"IF(A431=\"\",\"\",INDEX(Vložit!A:A,A431)&CHAR(10)&\"Telefon: \"&INDEX(Vložit!B:B,A431+6)&\" / \"&INDEX(Vložit!B:B,A431+7)&CHAR(10)&\"Typ objednávky: \"&INDEX(Vložit!D:D,A431+1)&CHAR(10)&INDEX(Vložit!C:C,A431)&CHAR(10)&INDEX(Vložit!D:D,A431))","v":""},{"$f":"IF(A431=\"\",\"\",IF(INDEX(Vložit!B:B,A431+8)=\"\",\"\",\"Instrukce: \"&INDEX(Vložit!B:B,A431+8)))","v":""},{"$f":"IF(A431=\"\",\"\",IF(INDEX(Vložit!B:B,A431+1)=\"\",\"\",INDEX(Vložit!B:B,A431+1)))","v":""},{"$f":"IF(A431=\"\",\"\",MID(INDEX(Vložit!A:A,A431),19,10))","v":""},{"$f":"IF(A431=\"\",\"\",IF(INDEX(Vložit!B:B,A431+5)=\"\",\"\",VLOOKUP(INDEX(Vložit!B:B,A431+5),Pomocná!B430:C10429,2,FALSE)))","v":""},{"$f":"IF(A431=\"\",\"\",INDEX(Vložit!B:B,A431+2))","v":""},{"$f":"IF(A431=\"\",\"\",IF(INDEX(Vložit!B:B,A431+3)=\"\",\"\",INDEX(Vložit!B:B,A431+3)))","v":""},{"$f":"IF(A431=\"\",\"\",INDEX(Vložit!B:B,A431+4))","v":""}]
[{"$f":"IF(A431=\"\",\"\",IF(INDEX(Vložit!A:A,(ROW(A431)-1)*17+2)<>\"\",(ROW(A431)-1)*17+2,\"\"))","v":""},{"$f":"IF(A432=\"\",\"\",\"Číslo smlouvy:  \"&INDEX(Vložit!B:B,A432+1)&CHAR(10)&\"Jméno a příjmení:  \"&INDEX(Vložit!B:B,A432+2)&CHAR(10)&\"Ulice:  \"&INDEX(Vložit!B:B,A432+3)&CHAR(10)&\"Č. pop. / č. orient.:  \"&INDEX(Vložit!B:B,A432+4)&CHAR(10)&\"Obec:  \"&INDEX(Vložit!B:B,A432+5))","v":""},{"$f":"IF(A432=\"\",\"\",INDEX(Vložit!A:A,A432)&CHAR(10)&\"Telefon: \"&INDEX(Vložit!B:B,A432+6)&\" / \"&INDEX(Vložit!B:B,A432+7)&CHAR(10)&\"Typ objednávky: \"&INDEX(Vložit!D:D,A432+1)&CHAR(10)&INDEX(Vložit!C:C,A432)&CHAR(10)&INDEX(Vložit!D:D,A432))","v":""},{"$f":"IF(A432=\"\",\"\",IF(INDEX(Vložit!B:B,A432+8)=\"\",\"\",\"Instrukce: \"&INDEX(Vložit!B:B,A432+8)))","v":""},{"$f":"IF(A432=\"\",\"\",IF(INDEX(Vložit!B:B,A432+1)=\"\",\"\",INDEX(Vložit!B:B,A432+1)))","v":""},{"$f":"IF(A432=\"\",\"\",MID(INDEX(Vložit!A:A,A432),19,10))","v":""},{"$f":"IF(A432=\"\",\"\",IF(INDEX(Vložit!B:B,A432+5)=\"\",\"\",VLOOKUP(INDEX(Vložit!B:B,A432+5),Pomocná!B431:C10430,2,FALSE)))","v":""},{"$f":"IF(A432=\"\",\"\",INDEX(Vložit!B:B,A432+2))","v":""},{"$f":"IF(A432=\"\",\"\",IF(INDEX(Vložit!B:B,A432+3)=\"\",\"\",INDEX(Vložit!B:B,A432+3)))","v":""},{"$f":"IF(A432=\"\",\"\",INDEX(Vložit!B:B,A432+4))","v":""}]
[{"$f":"IF(A432=\"\",\"\",IF(INDEX(Vložit!A:A,(ROW(A432)-1)*17+2)<>\"\",(ROW(A432)-1)*17+2,\"\"))","v":""},{"$f":"IF(A433=\"\",\"\",\"Číslo smlouvy:  \"&INDEX(Vložit!B:B,A433+1)&CHAR(10)&\"Jméno a příjmení:  \"&INDEX(Vložit!B:B,A433+2)&CHAR(10)&\"Ulice:  \"&INDEX(Vložit!B:B,A433+3)&CHAR(10)&\"Č. pop. / č. orient.:  \"&INDEX(Vložit!B:B,A433+4)&CHAR(10)&\"Obec:  \"&INDEX(Vložit!B:B,A433+5))","v":""},{"$f":"IF(A433=\"\",\"\",INDEX(Vložit!A:A,A433)&CHAR(10)&\"Telefon: \"&INDEX(Vložit!B:B,A433+6)&\" / \"&INDEX(Vložit!B:B,A433+7)&CHAR(10)&\"Typ objednávky: \"&INDEX(Vložit!D:D,A433+1)&CHAR(10)&INDEX(Vložit!C:C,A433)&CHAR(10)&INDEX(Vložit!D:D,A433))","v":""},{"$f":"IF(A433=\"\",\"\",IF(INDEX(Vložit!B:B,A433+8)=\"\",\"\",\"Instrukce: \"&INDEX(Vložit!B:B,A433+8)))","v":""},{"$f":"IF(A433=\"\",\"\",IF(INDEX(Vložit!B:B,A433+1)=\"\",\"\",INDEX(Vložit!B:B,A433+1)))","v":""},{"$f":"IF(A433=\"\",\"\",MID(INDEX(Vložit!A:A,A433),19,10))","v":""},{"$f":"IF(A433=\"\",\"\",IF(INDEX(Vložit!B:B,A433+5)=\"\",\"\",VLOOKUP(INDEX(Vložit!B:B,A433+5),Pomocná!B432:C10431,2,FALSE)))","v":""},{"$f":"IF(A433=\"\",\"\",INDEX(Vložit!B:B,A433+2))","v":""},{"$f":"IF(A433=\"\",\"\",IF(INDEX(Vložit!B:B,A433+3)=\"\",\"\",INDEX(Vložit!B:B,A433+3)))","v":""},{"$f":"IF(A433=\"\",\"\",INDEX(Vložit!B:B,A433+4))","v":""}]
[{"$f":"IF(A433=\"\",\"\",IF(INDEX(Vložit!A:A,(ROW(A433)-1)*17+2)<>\"\",(ROW(A433)-1)*17+2,\"\"))","v":""},{"$f":"IF(A434=\"\",\"\",\"Číslo smlouvy:  \"&INDEX(Vložit!B:B,A434+1)&CHAR(10)&\"Jméno a příjmení:  \"&INDEX(Vložit!B:B,A434+2)&CHAR(10)&\"Ulice:  \"&INDEX(Vložit!B:B,A434+3)&CHAR(10)&\"Č. pop. / č. orient.:  \"&INDEX(Vložit!B:B,A434+4)&CHAR(10)&\"Obec:  \"&INDEX(Vložit!B:B,A434+5))","v":""},{"$f":"IF(A434=\"\",\"\",INDEX(Vložit!A:A,A434)&CHAR(10)&\"Telefon: \"&INDEX(Vložit!B:B,A434+6)&\" / \"&INDEX(Vložit!B:B,A434+7)&CHAR(10)&\"Typ objednávky: \"&INDEX(Vložit!D:D,A434+1)&CHAR(10)&INDEX(Vložit!C:C,A434)&CHAR(10)&INDEX(Vložit!D:D,A434))","v":""},{"$f":"IF(A434=\"\",\"\",IF(INDEX(Vložit!B:B,A434+8)=\"\",\"\",\"Instrukce: \"&INDEX(Vložit!B:B,A434+8)))","v":""},{"$f":"IF(A434=\"\",\"\",IF(INDEX(Vložit!B:B,A434+1)=\"\",\"\",INDEX(Vložit!B:B,A434+1)))","v":""},{"$f":"IF(A434=\"\",\"\",MID(INDEX(Vložit!A:A,A434),19,10))","v":""},{"$f":"IF(A434=\"\",\"\",IF(INDEX(Vložit!B:B,A434+5)=\"\",\"\",VLOOKUP(INDEX(Vložit!B:B,A434+5),Pomocná!B433:C10432,2,FALSE)))","v":""},{"$f":"IF(A434=\"\",\"\",INDEX(Vložit!B:B,A434+2))","v":""},{"$f":"IF(A434=\"\",\"\",IF(INDEX(Vložit!B:B,A434+3)=\"\",\"\",INDEX(Vložit!B:B,A434+3)))","v":""},{"$f":"IF(A434=\"\",\"\",INDEX(Vložit!B:B,A434+4))","v":""}]
[{"$f":"IF(A434=\"\",\"\",IF(INDEX(Vložit!A:A,(ROW(A434)-1)*17+2)<>\"\",(ROW(A434)-1)*17+2,\"\"))","v":""},{"$f":"IF(A435=\"\",\"\",\"Číslo smlouvy:  \"&INDEX(Vložit!B:B,A435+1)&CHAR(10)&\"Jméno a příjmení:  \"&INDEX(Vložit!B:B,A435+2)&CHAR(10)&\"Ulice:  \"&INDEX(Vložit!B:B,A435+3)&CHAR(10)&\"Č. pop. / č. orient.:  \"&INDEX(Vložit!B:B,A435+4)&CHAR(10)&\"Obec:  \"&INDEX(Vložit!B:B,A435+5))","v":""},{"$f":"IF(A435=\"\",\"\",INDEX(Vložit!A:A,A435)&CHAR(10)&\"Telefon: \"&INDEX(Vložit!B:B,A435+6)&\" / \"&INDEX(Vložit!B:B,A435+7)&CHAR(10)&\"Typ objednávky: \"&INDEX(Vložit!D:D,A435+1)&CHAR(10)&INDEX(Vložit!C:C,A435)&CHAR(10)&INDEX(Vložit!D:D,A435))","v":""},{"$f":"IF(A435=\"\",\"\",IF(INDEX(Vložit!B:B,A435+8)=\"\",\"\",\"Instrukce: \"&INDEX(Vložit!B:B,A435+8)))","v":""},{"$f":"IF(A435=\"\",\"\",IF(INDEX(Vložit!B:B,A435+1)=\"\",\"\",INDEX(Vložit!B:B,A435+1)))","v":""},{"$f":"IF(A435=\"\",\"\",MID(INDEX(Vložit!A:A,A435),19,10))","v":""},{"$f":"IF(A435=\"\",\"\",IF(INDEX(Vložit!B:B,A435+5)=\"\",\"\",VLOOKUP(INDEX(Vložit!B:B,A435+5),Pomocná!B434:C10433,2,FALSE)))","v":""},{"$f":"IF(A435=\"\",\"\",INDEX(Vložit!B:B,A435+2))","v":""},{"$f":"IF(A435=\"\",\"\",IF(INDEX(Vložit!B:B,A435+3)=\"\",\"\",INDEX(Vložit!B:B,A435+3)))","v":""},{"$f":"IF(A435=\"\",\"\",INDEX(Vložit!B:B,A435+4))","v":""}]
[{"$f":"IF(A435=\"\",\"\",IF(INDEX(Vložit!A:A,(ROW(A435)-1)*17+2)<>\"\",(ROW(A435)-1)*17+2,\"\"))","v":""},{"$f":"IF(A436=\"\",\"\",\"Číslo smlouvy:  \"&INDEX(Vložit!B:B,A436+1)&CHAR(10)&\"Jméno a příjmení:  \"&INDEX(Vložit!B:B,A436+2)&CHAR(10)&\"Ulice:  \"&INDEX(Vložit!B:B,A436+3)&CHAR(10)&\"Č. pop. / č. orient.:  \"&INDEX(Vložit!B:B,A436+4)&CHAR(10)&\"Obec:  \"&INDEX(Vložit!B:B,A436+5))","v":""},{"$f":"IF(A436=\"\",\"\",INDEX(Vložit!A:A,A436)&CHAR(10)&\"Telefon: \"&INDEX(Vložit!B:B,A436+6)&\" / \"&INDEX(Vložit!B:B,A436+7)&CHAR(10)&\"Typ objednávky: \"&INDEX(Vložit!D:D,A436+1)&CHAR(10)&INDEX(Vložit!C:C,A436)&CHAR(10)&INDEX(Vložit!D:D,A436))","v":""},{"$f":"IF(A436=\"\",\"\",IF(INDEX(Vložit!B:B,A436+8)=\"\",\"\",\"Instrukce: \"&INDEX(Vložit!B:B,A436+8)))","v":""},{"$f":"IF(A436=\"\",\"\",IF(INDEX(Vložit!B:B,A436+1)=\"\",\"\",INDEX(Vložit!B:B,A436+1)))","v":""},{"$f":"IF(A436=\"\",\"\",MID(INDEX(Vložit!A:A,A436),19,10))","v":""},{"$f":"IF(A436=\"\",\"\",IF(INDEX(Vložit!B:B,A436+5)=\"\",\"\",VLOOKUP(INDEX(Vložit!B:B,A436+5),Pomocná!B435:C10434,2,FALSE)))","v":""},{"$f":"IF(A436=\"\",\"\",INDEX(Vložit!B:B,A436+2))","v":""},{"$f":"IF(A436=\"\",\"\",IF(INDEX(Vložit!B:B,A436+3)=\"\",\"\",INDEX(Vložit!B:B,A436+3)))","v":""},{"$f":"IF(A436=\"\",\"\",INDEX(Vložit!B:B,A436+4))","v":""}]
[{"$f":"IF(A436=\"\",\"\",IF(INDEX(Vložit!A:A,(ROW(A436)-1)*17+2)<>\"\",(ROW(A436)-1)*17+2,\"\"))","v":""},{"$f":"IF(A437=\"\",\"\",\"Číslo smlouvy:  \"&INDEX(Vložit!B:B,A437+1)&CHAR(10)&\"Jméno a příjmení:  \"&INDEX(Vložit!B:B,A437+2)&CHAR(10)&\"Ulice:  \"&INDEX(Vložit!B:B,A437+3)&CHAR(10)&\"Č. pop. / č. orient.:  \"&INDEX(Vložit!B:B,A437+4)&CHAR(10)&\"Obec:  \"&INDEX(Vložit!B:B,A437+5))","v":""},{"$f":"IF(A437=\"\",\"\",INDEX(Vložit!A:A,A437)&CHAR(10)&\"Telefon: \"&INDEX(Vložit!B:B,A437+6)&\" / \"&INDEX(Vložit!B:B,A437+7)&CHAR(10)&\"Typ objednávky: \"&INDEX(Vložit!D:D,A437+1)&CHAR(10)&INDEX(Vložit!C:C,A437)&CHAR(10)&INDEX(Vložit!D:D,A437))","v":""},{"$f":"IF(A437=\"\",\"\",IF(INDEX(Vložit!B:B,A437+8)=\"\",\"\",\"Instrukce: \"&INDEX(Vložit!B:B,A437+8)))","v":""},{"$f":"IF(A437=\"\",\"\",IF(INDEX(Vložit!B:B,A437+1)=\"\",\"\",INDEX(Vložit!B:B,A437+1)))","v":""},{"$f":"IF(A437=\"\",\"\",MID(INDEX(Vložit!A:A,A437),19,10))","v":""},{"$f":"IF(A437=\"\",\"\",IF(INDEX(Vložit!B:B,A437+5)=\"\",\"\",VLOOKUP(INDEX(Vložit!B:B,A437+5),Pomocná!B436:C10435,2,FALSE)))","v":""},{"$f":"IF(A437=\"\",\"\",INDEX(Vložit!B:B,A437+2))","v":""},{"$f":"IF(A437=\"\",\"\",IF(INDEX(Vložit!B:B,A437+3)=\"\",\"\",INDEX(Vložit!B:B,A437+3)))","v":""},{"$f":"IF(A437=\"\",\"\",INDEX(Vložit!B:B,A437+4))","v":""}]
[{"$f":"IF(A437=\"\",\"\",IF(INDEX(Vložit!A:A,(ROW(A437)-1)*17+2)<>\"\",(ROW(A437)-1)*17+2,\"\"))","v":""},{"$f":"IF(A438=\"\",\"\",\"Číslo smlouvy:  \"&INDEX(Vložit!B:B,A438+1)&CHAR(10)&\"Jméno a příjmení:  \"&INDEX(Vložit!B:B,A438+2)&CHAR(10)&\"Ulice:  \"&INDEX(Vložit!B:B,A438+3)&CHAR(10)&\"Č. pop. / č. orient.:  \"&INDEX(Vložit!B:B,A438+4)&CHAR(10)&\"Obec:  \"&INDEX(Vložit!B:B,A438+5))","v":""},{"$f":"IF(A438=\"\",\"\",INDEX(Vložit!A:A,A438)&CHAR(10)&\"Telefon: \"&INDEX(Vložit!B:B,A438+6)&\" / \"&INDEX(Vložit!B:B,A438+7)&CHAR(10)&\"Typ objednávky: \"&INDEX(Vložit!D:D,A438+1)&CHAR(10)&INDEX(Vložit!C:C,A438)&CHAR(10)&INDEX(Vložit!D:D,A438))","v":""},{"$f":"IF(A438=\"\",\"\",IF(INDEX(Vložit!B:B,A438+8)=\"\",\"\",\"Instrukce: \"&INDEX(Vložit!B:B,A438+8)))","v":""},{"$f":"IF(A438=\"\",\"\",IF(INDEX(Vložit!B:B,A438+1)=\"\",\"\",INDEX(Vložit!B:B,A438+1)))","v":""},{"$f":"IF(A438=\"\",\"\",MID(INDEX(Vložit!A:A,A438),19,10))","v":""},{"$f":"IF(A438=\"\",\"\",IF(INDEX(Vložit!B:B,A438+5)=\"\",\"\",VLOOKUP(INDEX(Vložit!B:B,A438+5),Pomocná!B437:C10436,2,FALSE)))","v":""},{"$f":"IF(A438=\"\",\"\",INDEX(Vložit!B:B,A438+2))","v":""},{"$f":"IF(A438=\"\",\"\",IF(INDEX(Vložit!B:B,A438+3)=\"\",\"\",INDEX(Vložit!B:B,A438+3)))","v":""},{"$f":"IF(A438=\"\",\"\",INDEX(Vložit!B:B,A438+4))","v":""}]
[{"$f":"IF(A438=\"\",\"\",IF(INDEX(Vložit!A:A,(ROW(A438)-1)*17+2)<>\"\",(ROW(A438)-1)*17+2,\"\"))","v":""},{"$f":"IF(A439=\"\",\"\",\"Číslo smlouvy:  \"&INDEX(Vložit!B:B,A439+1)&CHAR(10)&\"Jméno a příjmení:  \"&INDEX(Vložit!B:B,A439+2)&CHAR(10)&\"Ulice:  \"&INDEX(Vložit!B:B,A439+3)&CHAR(10)&\"Č. pop. / č. orient.:  \"&INDEX(Vložit!B:B,A439+4)&CHAR(10)&\"Obec:  \"&INDEX(Vložit!B:B,A439+5))","v":""},{"$f":"IF(A439=\"\",\"\",INDEX(Vložit!A:A,A439)&CHAR(10)&\"Telefon: \"&INDEX(Vložit!B:B,A439+6)&\" / \"&INDEX(Vložit!B:B,A439+7)&CHAR(10)&\"Typ objednávky: \"&INDEX(Vložit!D:D,A439+1)&CHAR(10)&INDEX(Vložit!C:C,A439)&CHAR(10)&INDEX(Vložit!D:D,A439))","v":""},{"$f":"IF(A439=\"\",\"\",IF(INDEX(Vložit!B:B,A439+8)=\"\",\"\",\"Instrukce: \"&INDEX(Vložit!B:B,A439+8)))","v":""},{"$f":"IF(A439=\"\",\"\",IF(INDEX(Vložit!B:B,A439+1)=\"\",\"\",INDEX(Vložit!B:B,A439+1)))","v":""},{"$f":"IF(A439=\"\",\"\",MID(INDEX(Vložit!A:A,A439),19,10))","v":""},{"$f":"IF(A439=\"\",\"\",IF(INDEX(Vložit!B:B,A439+5)=\"\",\"\",VLOOKUP(INDEX(Vložit!B:B,A439+5),Pomocná!B438:C10437,2,FALSE)))","v":""},{"$f":"IF(A439=\"\",\"\",INDEX(Vložit!B:B,A439+2))","v":""},{"$f":"IF(A439=\"\",\"\",IF(INDEX(Vložit!B:B,A439+3)=\"\",\"\",INDEX(Vložit!B:B,A439+3)))","v":""},{"$f":"IF(A439=\"\",\"\",INDEX(Vložit!B:B,A439+4))","v":""}]
[{"$f":"IF(A439=\"\",\"\",IF(INDEX(Vložit!A:A,(ROW(A439)-1)*17+2)<>\"\",(ROW(A439)-1)*17+2,\"\"))","v":""},{"$f":"IF(A440=\"\",\"\",\"Číslo smlouvy:  \"&INDEX(Vložit!B:B,A440+1)&CHAR(10)&\"Jméno a příjmení:  \"&INDEX(Vložit!B:B,A440+2)&CHAR(10)&\"Ulice:  \"&INDEX(Vložit!B:B,A440+3)&CHAR(10)&\"Č. pop. / č. orient.:  \"&INDEX(Vložit!B:B,A440+4)&CHAR(10)&\"Obec:  \"&INDEX(Vložit!B:B,A440+5))","v":""},{"$f":"IF(A440=\"\",\"\",INDEX(Vložit!A:A,A440)&CHAR(10)&\"Telefon: \"&INDEX(Vložit!B:B,A440+6)&\" / \"&INDEX(Vložit!B:B,A440+7)&CHAR(10)&\"Typ objednávky: \"&INDEX(Vložit!D:D,A440+1)&CHAR(10)&INDEX(Vložit!C:C,A440)&CHAR(10)&INDEX(Vložit!D:D,A440))","v":""},{"$f":"IF(A440=\"\",\"\",IF(INDEX(Vložit!B:B,A440+8)=\"\",\"\",\"Instrukce: \"&INDEX(Vložit!B:B,A440+8)))","v":""},{"$f":"IF(A440=\"\",\"\",IF(INDEX(Vložit!B:B,A440+1)=\"\",\"\",INDEX(Vložit!B:B,A440+1)))","v":""},{"$f":"IF(A440=\"\",\"\",MID(INDEX(Vložit!A:A,A440),19,10))","v":""},{"$f":"IF(A440=\"\",\"\",IF(INDEX(Vložit!B:B,A440+5)=\"\",\"\",VLOOKUP(INDEX(Vložit!B:B,A440+5),Pomocná!B439:C10438,2,FALSE)))","v":""},{"$f":"IF(A440=\"\",\"\",INDEX(Vložit!B:B,A440+2))","v":""},{"$f":"IF(A440=\"\",\"\",IF(INDEX(Vložit!B:B,A440+3)=\"\",\"\",INDEX(Vložit!B:B,A440+3)))","v":""},{"$f":"IF(A440=\"\",\"\",INDEX(Vložit!B:B,A440+4))","v":""}]
[{"$f":"IF(A440=\"\",\"\",IF(INDEX(Vložit!A:A,(ROW(A440)-1)*17+2)<>\"\",(ROW(A440)-1)*17+2,\"\"))","v":""},{"$f":"IF(A441=\"\",\"\",\"Číslo smlouvy:  \"&INDEX(Vložit!B:B,A441+1)&CHAR(10)&\"Jméno a příjmení:  \"&INDEX(Vložit!B:B,A441+2)&CHAR(10)&\"Ulice:  \"&INDEX(Vložit!B:B,A441+3)&CHAR(10)&\"Č. pop. / č. orient.:  \"&INDEX(Vložit!B:B,A441+4)&CHAR(10)&\"Obec:  \"&INDEX(Vložit!B:B,A441+5))","v":""},{"$f":"IF(A441=\"\",\"\",INDEX(Vložit!A:A,A441)&CHAR(10)&\"Telefon: \"&INDEX(Vložit!B:B,A441+6)&\" / \"&INDEX(Vložit!B:B,A441+7)&CHAR(10)&\"Typ objednávky: \"&INDEX(Vložit!D:D,A441+1)&CHAR(10)&INDEX(Vložit!C:C,A441)&CHAR(10)&INDEX(Vložit!D:D,A441))","v":""},{"$f":"IF(A441=\"\",\"\",IF(INDEX(Vložit!B:B,A441+8)=\"\",\"\",\"Instrukce: \"&INDEX(Vložit!B:B,A441+8)))","v":""},{"$f":"IF(A441=\"\",\"\",IF(INDEX(Vložit!B:B,A441+1)=\"\",\"\",INDEX(Vložit!B:B,A441+1)))","v":""},{"$f":"IF(A441=\"\",\"\",MID(INDEX(Vložit!A:A,A441),19,10))","v":""},{"$f":"IF(A441=\"\",\"\",IF(INDEX(Vložit!B:B,A441+5)=\"\",\"\",VLOOKUP(INDEX(Vložit!B:B,A441+5),Pomocná!B440:C10439,2,FALSE)))","v":""},{"$f":"IF(A441=\"\",\"\",INDEX(Vložit!B:B,A441+2))","v":""},{"$f":"IF(A441=\"\",\"\",IF(INDEX(Vložit!B:B,A441+3)=\"\",\"\",INDEX(Vložit!B:B,A441+3)))","v":""},{"$f":"IF(A441=\"\",\"\",INDEX(Vložit!B:B,A441+4))","v":""}]
[{"$f":"IF(A441=\"\",\"\",IF(INDEX(Vložit!A:A,(ROW(A441)-1)*17+2)<>\"\",(ROW(A441)-1)*17+2,\"\"))","v":""},{"$f":"IF(A442=\"\",\"\",\"Číslo smlouvy:  \"&INDEX(Vložit!B:B,A442+1)&CHAR(10)&\"Jméno a příjmení:  \"&INDEX(Vložit!B:B,A442+2)&CHAR(10)&\"Ulice:  \"&INDEX(Vložit!B:B,A442+3)&CHAR(10)&\"Č. pop. / č. orient.:  \"&INDEX(Vložit!B:B,A442+4)&CHAR(10)&\"Obec:  \"&INDEX(Vložit!B:B,A442+5))","v":""},{"$f":"IF(A442=\"\",\"\",INDEX(Vložit!A:A,A442)&CHAR(10)&\"Telefon: \"&INDEX(Vložit!B:B,A442+6)&\" / \"&INDEX(Vložit!B:B,A442+7)&CHAR(10)&\"Typ objednávky: \"&INDEX(Vložit!D:D,A442+1)&CHAR(10)&INDEX(Vložit!C:C,A442)&CHAR(10)&INDEX(Vložit!D:D,A442))","v":""},{"$f":"IF(A442=\"\",\"\",IF(INDEX(Vložit!B:B,A442+8)=\"\",\"\",\"Instrukce: \"&INDEX(Vložit!B:B,A442+8)))","v":""},{"$f":"IF(A442=\"\",\"\",IF(INDEX(Vložit!B:B,A442+1)=\"\",\"\",INDEX(Vložit!B:B,A442+1)))","v":""},{"$f":"IF(A442=\"\",\"\",MID(INDEX(Vložit!A:A,A442),19,10))","v":""},{"$f":"IF(A442=\"\",\"\",IF(INDEX(Vložit!B:B,A442+5)=\"\",\"\",VLOOKUP(INDEX(Vložit!B:B,A442+5),Pomocná!B441:C10440,2,FALSE)))","v":""},{"$f":"IF(A442=\"\",\"\",INDEX(Vložit!B:B,A442+2))","v":""},{"$f":"IF(A442=\"\",\"\",IF(INDEX(Vložit!B:B,A442+3)=\"\",\"\",INDEX(Vložit!B:B,A442+3)))","v":""},{"$f":"IF(A442=\"\",\"\",INDEX(Vložit!B:B,A442+4))","v":""}]
[{"$f":"IF(A442=\"\",\"\",IF(INDEX(Vložit!A:A,(ROW(A442)-1)*17+2)<>\"\",(ROW(A442)-1)*17+2,\"\"))","v":""},{"$f":"IF(A443=\"\",\"\",\"Číslo smlouvy:  \"&INDEX(Vložit!B:B,A443+1)&CHAR(10)&\"Jméno a příjmení:  \"&INDEX(Vložit!B:B,A443+2)&CHAR(10)&\"Ulice:  \"&INDEX(Vložit!B:B,A443+3)&CHAR(10)&\"Č. pop. / č. orient.:  \"&INDEX(Vložit!B:B,A443+4)&CHAR(10)&\"Obec:  \"&INDEX(Vložit!B:B,A443+5))","v":""},{"$f":"IF(A443=\"\",\"\",INDEX(Vložit!A:A,A443)&CHAR(10)&\"Telefon: \"&INDEX(Vložit!B:B,A443+6)&\" / \"&INDEX(Vložit!B:B,A443+7)&CHAR(10)&\"Typ objednávky: \"&INDEX(Vložit!D:D,A443+1)&CHAR(10)&INDEX(Vložit!C:C,A443)&CHAR(10)&INDEX(Vložit!D:D,A443))","v":""},{"$f":"IF(A443=\"\",\"\",IF(INDEX(Vložit!B:B,A443+8)=\"\",\"\",\"Instrukce: \"&INDEX(Vložit!B:B,A443+8)))","v":""},{"$f":"IF(A443=\"\",\"\",IF(INDEX(Vložit!B:B,A443+1)=\"\",\"\",INDEX(Vložit!B:B,A443+1)))","v":""},{"$f":"IF(A443=\"\",\"\",MID(INDEX(Vložit!A:A,A443),19,10))","v":""},{"$f":"IF(A443=\"\",\"\",IF(INDEX(Vložit!B:B,A443+5)=\"\",\"\",VLOOKUP(INDEX(Vložit!B:B,A443+5),Pomocná!B442:C10441,2,FALSE)))","v":""},{"$f":"IF(A443=\"\",\"\",INDEX(Vložit!B:B,A443+2))","v":""},{"$f":"IF(A443=\"\",\"\",IF(INDEX(Vložit!B:B,A443+3)=\"\",\"\",INDEX(Vložit!B:B,A443+3)))","v":""},{"$f":"IF(A443=\"\",\"\",INDEX(Vložit!B:B,A443+4))","v":""}]
[{"$f":"IF(A443=\"\",\"\",IF(INDEX(Vložit!A:A,(ROW(A443)-1)*17+2)<>\"\",(ROW(A443)-1)*17+2,\"\"))","v":""},{"$f":"IF(A444=\"\",\"\",\"Číslo smlouvy:  \"&INDEX(Vložit!B:B,A444+1)&CHAR(10)&\"Jméno a příjmení:  \"&INDEX(Vložit!B:B,A444+2)&CHAR(10)&\"Ulice:  \"&INDEX(Vložit!B:B,A444+3)&CHAR(10)&\"Č. pop. / č. orient.:  \"&INDEX(Vložit!B:B,A444+4)&CHAR(10)&\"Obec:  \"&INDEX(Vložit!B:B,A444+5))","v":""},{"$f":"IF(A444=\"\",\"\",INDEX(Vložit!A:A,A444)&CHAR(10)&\"Telefon: \"&INDEX(Vložit!B:B,A444+6)&\" / \"&INDEX(Vložit!B:B,A444+7)&CHAR(10)&\"Typ objednávky: \"&INDEX(Vložit!D:D,A444+1)&CHAR(10)&INDEX(Vložit!C:C,A444)&CHAR(10)&INDEX(Vložit!D:D,A444))","v":""},{"$f":"IF(A444=\"\",\"\",IF(INDEX(Vložit!B:B,A444+8)=\"\",\"\",\"Instrukce: \"&INDEX(Vložit!B:B,A444+8)))","v":""},{"$f":"IF(A444=\"\",\"\",IF(INDEX(Vložit!B:B,A444+1)=\"\",\"\",INDEX(Vložit!B:B,A444+1)))","v":""},{"$f":"IF(A444=\"\",\"\",MID(INDEX(Vložit!A:A,A444),19,10))","v":""},{"$f":"IF(A444=\"\",\"\",IF(INDEX(Vložit!B:B,A444+5)=\"\",\"\",VLOOKUP(INDEX(Vložit!B:B,A444+5),Pomocná!B443:C10442,2,FALSE)))","v":""},{"$f":"IF(A444=\"\",\"\",INDEX(Vložit!B:B,A444+2))","v":""},{"$f":"IF(A444=\"\",\"\",IF(INDEX(Vložit!B:B,A444+3)=\"\",\"\",INDEX(Vložit!B:B,A444+3)))","v":""},{"$f":"IF(A444=\"\",\"\",INDEX(Vložit!B:B,A444+4))","v":""}]
[{"$f":"IF(A444=\"\",\"\",IF(INDEX(Vložit!A:A,(ROW(A444)-1)*17+2)<>\"\",(ROW(A444)-1)*17+2,\"\"))","v":""},{"$f":"IF(A445=\"\",\"\",\"Číslo smlouvy:  \"&INDEX(Vložit!B:B,A445+1)&CHAR(10)&\"Jméno a příjmení:  \"&INDEX(Vložit!B:B,A445+2)&CHAR(10)&\"Ulice:  \"&INDEX(Vložit!B:B,A445+3)&CHAR(10)&\"Č. pop. / č. orient.:  \"&INDEX(Vložit!B:B,A445+4)&CHAR(10)&\"Obec:  \"&INDEX(Vložit!B:B,A445+5))","v":""},{"$f":"IF(A445=\"\",\"\",INDEX(Vložit!A:A,A445)&CHAR(10)&\"Telefon: \"&INDEX(Vložit!B:B,A445+6)&\" / \"&INDEX(Vložit!B:B,A445+7)&CHAR(10)&\"Typ objednávky: \"&INDEX(Vložit!D:D,A445+1)&CHAR(10)&INDEX(Vložit!C:C,A445)&CHAR(10)&INDEX(Vložit!D:D,A445))","v":""},{"$f":"IF(A445=\"\",\"\",IF(INDEX(Vložit!B:B,A445+8)=\"\",\"\",\"Instrukce: \"&INDEX(Vložit!B:B,A445+8)))","v":""},{"$f":"IF(A445=\"\",\"\",IF(INDEX(Vložit!B:B,A445+1)=\"\",\"\",INDEX(Vložit!B:B,A445+1)))","v":""},{"$f":"IF(A445=\"\",\"\",MID(INDEX(Vložit!A:A,A445),19,10))","v":""},{"$f":"IF(A445=\"\",\"\",IF(INDEX(Vložit!B:B,A445+5)=\"\",\"\",VLOOKUP(INDEX(Vložit!B:B,A445+5),Pomocná!B444:C10443,2,FALSE)))","v":""},{"$f":"IF(A445=\"\",\"\",INDEX(Vložit!B:B,A445+2))","v":""},{"$f":"IF(A445=\"\",\"\",IF(INDEX(Vložit!B:B,A445+3)=\"\",\"\",INDEX(Vložit!B:B,A445+3)))","v":""},{"$f":"IF(A445=\"\",\"\",INDEX(Vložit!B:B,A445+4))","v":""}]
[{"$f":"IF(A445=\"\",\"\",IF(INDEX(Vložit!A:A,(ROW(A445)-1)*17+2)<>\"\",(ROW(A445)-1)*17+2,\"\"))","v":""},{"$f":"IF(A446=\"\",\"\",\"Číslo smlouvy:  \"&INDEX(Vložit!B:B,A446+1)&CHAR(10)&\"Jméno a příjmení:  \"&INDEX(Vložit!B:B,A446+2)&CHAR(10)&\"Ulice:  \"&INDEX(Vložit!B:B,A446+3)&CHAR(10)&\"Č. pop. / č. orient.:  \"&INDEX(Vložit!B:B,A446+4)&CHAR(10)&\"Obec:  \"&INDEX(Vložit!B:B,A446+5))","v":""},{"$f":"IF(A446=\"\",\"\",INDEX(Vložit!A:A,A446)&CHAR(10)&\"Telefon: \"&INDEX(Vložit!B:B,A446+6)&\" / \"&INDEX(Vložit!B:B,A446+7)&CHAR(10)&\"Typ objednávky: \"&INDEX(Vložit!D:D,A446+1)&CHAR(10)&INDEX(Vložit!C:C,A446)&CHAR(10)&INDEX(Vložit!D:D,A446))","v":""},{"$f":"IF(A446=\"\",\"\",IF(INDEX(Vložit!B:B,A446+8)=\"\",\"\",\"Instrukce: \"&INDEX(Vložit!B:B,A446+8)))","v":""},{"$f":"IF(A446=\"\",\"\",IF(INDEX(Vložit!B:B,A446+1)=\"\",\"\",INDEX(Vložit!B:B,A446+1)))","v":""},{"$f":"IF(A446=\"\",\"\",MID(INDEX(Vložit!A:A,A446),19,10))","v":""},{"$f":"IF(A446=\"\",\"\",IF(INDEX(Vložit!B:B,A446+5)=\"\",\"\",VLOOKUP(INDEX(Vložit!B:B,A446+5),Pomocná!B445:C10444,2,FALSE)))","v":""},{"$f":"IF(A446=\"\",\"\",INDEX(Vložit!B:B,A446+2))","v":""},{"$f":"IF(A446=\"\",\"\",IF(INDEX(Vložit!B:B,A446+3)=\"\",\"\",INDEX(Vložit!B:B,A446+3)))","v":""},{"$f":"IF(A446=\"\",\"\",INDEX(Vložit!B:B,A446+4))","v":""}]
[{"$f":"IF(A446=\"\",\"\",IF(INDEX(Vložit!A:A,(ROW(A446)-1)*17+2)<>\"\",(ROW(A446)-1)*17+2,\"\"))","v":""},{"$f":"IF(A447=\"\",\"\",\"Číslo smlouvy:  \"&INDEX(Vložit!B:B,A447+1)&CHAR(10)&\"Jméno a příjmení:  \"&INDEX(Vložit!B:B,A447+2)&CHAR(10)&\"Ulice:  \"&INDEX(Vložit!B:B,A447+3)&CHAR(10)&\"Č. pop. / č. orient.:  \"&INDEX(Vložit!B:B,A447+4)&CHAR(10)&\"Obec:  \"&INDEX(Vložit!B:B,A447+5))","v":""},{"$f":"IF(A447=\"\",\"\",INDEX(Vložit!A:A,A447)&CHAR(10)&\"Telefon: \"&INDEX(Vložit!B:B,A447+6)&\" / \"&INDEX(Vložit!B:B,A447+7)&CHAR(10)&\"Typ objednávky: \"&INDEX(Vložit!D:D,A447+1)&CHAR(10)&INDEX(Vložit!C:C,A447)&CHAR(10)&INDEX(Vložit!D:D,A447))","v":""},{"$f":"IF(A447=\"\",\"\",IF(INDEX(Vložit!B:B,A447+8)=\"\",\"\",\"Instrukce: \"&INDEX(Vložit!B:B,A447+8)))","v":""},{"$f":"IF(A447=\"\",\"\",IF(INDEX(Vložit!B:B,A447+1)=\"\",\"\",INDEX(Vložit!B:B,A447+1)))","v":""},{"$f":"IF(A447=\"\",\"\",MID(INDEX(Vložit!A:A,A447),19,10))","v":""},{"$f":"IF(A447=\"\",\"\",IF(INDEX(Vložit!B:B,A447+5)=\"\",\"\",VLOOKUP(INDEX(Vložit!B:B,A447+5),Pomocná!B446:C10445,2,FALSE)))","v":""},{"$f":"IF(A447=\"\",\"\",INDEX(Vložit!B:B,A447+2))","v":""},{"$f":"IF(A447=\"\",\"\",IF(INDEX(Vložit!B:B,A447+3)=\"\",\"\",INDEX(Vložit!B:B,A447+3)))","v":""},{"$f":"IF(A447=\"\",\"\",INDEX(Vložit!B:B,A447+4))","v":""}]
[{"$f":"IF(A447=\"\",\"\",IF(INDEX(Vložit!A:A,(ROW(A447)-1)*17+2)<>\"\",(ROW(A447)-1)*17+2,\"\"))","v":""},{"$f":"IF(A448=\"\",\"\",\"Číslo smlouvy:  \"&INDEX(Vložit!B:B,A448+1)&CHAR(10)&\"Jméno a příjmení:  \"&INDEX(Vložit!B:B,A448+2)&CHAR(10)&\"Ulice:  \"&INDEX(Vložit!B:B,A448+3)&CHAR(10)&\"Č. pop. / č. orient.:  \"&INDEX(Vložit!B:B,A448+4)&CHAR(10)&\"Obec:  \"&INDEX(Vložit!B:B,A448+5))","v":""},{"$f":"IF(A448=\"\",\"\",INDEX(Vložit!A:A,A448)&CHAR(10)&\"Telefon: \"&INDEX(Vložit!B:B,A448+6)&\" / \"&INDEX(Vložit!B:B,A448+7)&CHAR(10)&\"Typ objednávky: \"&INDEX(Vložit!D:D,A448+1)&CHAR(10)&INDEX(Vložit!C:C,A448)&CHAR(10)&INDEX(Vložit!D:D,A448))","v":""},{"$f":"IF(A448=\"\",\"\",IF(INDEX(Vložit!B:B,A448+8)=\"\",\"\",\"Instrukce: \"&INDEX(Vložit!B:B,A448+8)))","v":""},{"$f":"IF(A448=\"\",\"\",IF(INDEX(Vložit!B:B,A448+1)=\"\",\"\",INDEX(Vložit!B:B,A448+1)))","v":""},{"$f":"IF(A448=\"\",\"\",MID(INDEX(Vložit!A:A,A448),19,10))","v":""},{"$f":"IF(A448=\"\",\"\",IF(INDEX(Vložit!B:B,A448+5)=\"\",\"\",VLOOKUP(INDEX(Vložit!B:B,A448+5),Pomocná!B447:C10446,2,FALSE)))","v":""},{"$f":"IF(A448=\"\",\"\",INDEX(Vložit!B:B,A448+2))","v":""},{"$f":"IF(A448=\"\",\"\",IF(INDEX(Vložit!B:B,A448+3)=\"\",\"\",INDEX(Vložit!B:B,A448+3)))","v":""},{"$f":"IF(A448=\"\",\"\",INDEX(Vložit!B:B,A448+4))","v":""}]
[{"$f":"IF(A448=\"\",\"\",IF(INDEX(Vložit!A:A,(ROW(A448)-1)*17+2)<>\"\",(ROW(A448)-1)*17+2,\"\"))","v":""},{"$f":"IF(A449=\"\",\"\",\"Číslo smlouvy:  \"&INDEX(Vložit!B:B,A449+1)&CHAR(10)&\"Jméno a příjmení:  \"&INDEX(Vložit!B:B,A449+2)&CHAR(10)&\"Ulice:  \"&INDEX(Vložit!B:B,A449+3)&CHAR(10)&\"Č. pop. / č. orient.:  \"&INDEX(Vložit!B:B,A449+4)&CHAR(10)&\"Obec:  \"&INDEX(Vložit!B:B,A449+5))","v":""},{"$f":"IF(A449=\"\",\"\",INDEX(Vložit!A:A,A449)&CHAR(10)&\"Telefon: \"&INDEX(Vložit!B:B,A449+6)&\" / \"&INDEX(Vložit!B:B,A449+7)&CHAR(10)&\"Typ objednávky: \"&INDEX(Vložit!D:D,A449+1)&CHAR(10)&INDEX(Vložit!C:C,A449)&CHAR(10)&INDEX(Vložit!D:D,A449))","v":""},{"$f":"IF(A449=\"\",\"\",IF(INDEX(Vložit!B:B,A449+8)=\"\",\"\",\"Instrukce: \"&INDEX(Vložit!B:B,A449+8)))","v":""},{"$f":"IF(A449=\"\",\"\",IF(INDEX(Vložit!B:B,A449+1)=\"\",\"\",INDEX(Vložit!B:B,A449+1)))","v":""},{"$f":"IF(A449=\"\",\"\",MID(INDEX(Vložit!A:A,A449),19,10))","v":""},{"$f":"IF(A449=\"\",\"\",IF(INDEX(Vložit!B:B,A449+5)=\"\",\"\",VLOOKUP(INDEX(Vložit!B:B,A449+5),Pomocná!B448:C10447,2,FALSE)))","v":""},{"$f":"IF(A449=\"\",\"\",INDEX(Vložit!B:B,A449+2))","v":""},{"$f":"IF(A449=\"\",\"\",IF(INDEX(Vložit!B:B,A449+3)=\"\",\"\",INDEX(Vložit!B:B,A449+3)))","v":""},{"$f":"IF(A449=\"\",\"\",INDEX(Vložit!B:B,A449+4))","v":""}]
[{"$f":"IF(A449=\"\",\"\",IF(INDEX(Vložit!A:A,(ROW(A449)-1)*17+2)<>\"\",(ROW(A449)-1)*17+2,\"\"))","v":""},{"$f":"IF(A450=\"\",\"\",\"Číslo smlouvy:  \"&INDEX(Vložit!B:B,A450+1)&CHAR(10)&\"Jméno a příjmení:  \"&INDEX(Vložit!B:B,A450+2)&CHAR(10)&\"Ulice:  \"&INDEX(Vložit!B:B,A450+3)&CHAR(10)&\"Č. pop. / č. orient.:  \"&INDEX(Vložit!B:B,A450+4)&CHAR(10)&\"Obec:  \"&INDEX(Vložit!B:B,A450+5))","v":""},{"$f":"IF(A450=\"\",\"\",INDEX(Vložit!A:A,A450)&CHAR(10)&\"Telefon: \"&INDEX(Vložit!B:B,A450+6)&\" / \"&INDEX(Vložit!B:B,A450+7)&CHAR(10)&\"Typ objednávky: \"&INDEX(Vložit!D:D,A450+1)&CHAR(10)&INDEX(Vložit!C:C,A450)&CHAR(10)&INDEX(Vložit!D:D,A450))","v":""},{"$f":"IF(A450=\"\",\"\",IF(INDEX(Vložit!B:B,A450+8)=\"\",\"\",\"Instrukce: \"&INDEX(Vložit!B:B,A450+8)))","v":""},{"$f":"IF(A450=\"\",\"\",IF(INDEX(Vložit!B:B,A450+1)=\"\",\"\",INDEX(Vložit!B:B,A450+1)))","v":""},{"$f":"IF(A450=\"\",\"\",MID(INDEX(Vložit!A:A,A450),19,10))","v":""},{"$f":"IF(A450=\"\",\"\",IF(INDEX(Vložit!B:B,A450+5)=\"\",\"\",VLOOKUP(INDEX(Vložit!B:B,A450+5),Pomocná!B449:C10448,2,FALSE)))","v":""},{"$f":"IF(A450=\"\",\"\",INDEX(Vložit!B:B,A450+2))","v":""},{"$f":"IF(A450=\"\",\"\",IF(INDEX(Vložit!B:B,A450+3)=\"\",\"\",INDEX(Vložit!B:B,A450+3)))","v":""},{"$f":"IF(A450=\"\",\"\",INDEX(Vložit!B:B,A450+4))","v":""}]
[{"$f":"IF(A450=\"\",\"\",IF(INDEX(Vložit!A:A,(ROW(A450)-1)*17+2)<>\"\",(ROW(A450)-1)*17+2,\"\"))","v":""},{"$f":"IF(A451=\"\",\"\",\"Číslo smlouvy:  \"&INDEX(Vložit!B:B,A451+1)&CHAR(10)&\"Jméno a příjmení:  \"&INDEX(Vložit!B:B,A451+2)&CHAR(10)&\"Ulice:  \"&INDEX(Vložit!B:B,A451+3)&CHAR(10)&\"Č. pop. / č. orient.:  \"&INDEX(Vložit!B:B,A451+4)&CHAR(10)&\"Obec:  \"&INDEX(Vložit!B:B,A451+5))","v":""},{"$f":"IF(A451=\"\",\"\",INDEX(Vložit!A:A,A451)&CHAR(10)&\"Telefon: \"&INDEX(Vložit!B:B,A451+6)&\" / \"&INDEX(Vložit!B:B,A451+7)&CHAR(10)&\"Typ objednávky: \"&INDEX(Vložit!D:D,A451+1)&CHAR(10)&INDEX(Vložit!C:C,A451)&CHAR(10)&INDEX(Vložit!D:D,A451))","v":""},{"$f":"IF(A451=\"\",\"\",IF(INDEX(Vložit!B:B,A451+8)=\"\",\"\",\"Instrukce: \"&INDEX(Vložit!B:B,A451+8)))","v":""},{"$f":"IF(A451=\"\",\"\",IF(INDEX(Vložit!B:B,A451+1)=\"\",\"\",INDEX(Vložit!B:B,A451+1)))","v":""},{"$f":"IF(A451=\"\",\"\",MID(INDEX(Vložit!A:A,A451),19,10))","v":""},{"$f":"IF(A451=\"\",\"\",IF(INDEX(Vložit!B:B,A451+5)=\"\",\"\",VLOOKUP(INDEX(Vložit!B:B,A451+5),Pomocná!B450:C10449,2,FALSE)))","v":""},{"$f":"IF(A451=\"\",\"\",INDEX(Vložit!B:B,A451+2))","v":""},{"$f":"IF(A451=\"\",\"\",IF(INDEX(Vložit!B:B,A451+3)=\"\",\"\",INDEX(Vložit!B:B,A451+3)))","v":""},{"$f":"IF(A451=\"\",\"\",INDEX(Vložit!B:B,A451+4))","v":""}]
[{"$f":"IF(A451=\"\",\"\",IF(INDEX(Vložit!A:A,(ROW(A451)-1)*17+2)<>\"\",(ROW(A451)-1)*17+2,\"\"))","v":""},{"$f":"IF(A452=\"\",\"\",\"Číslo smlouvy:  \"&INDEX(Vložit!B:B,A452+1)&CHAR(10)&\"Jméno a příjmení:  \"&INDEX(Vložit!B:B,A452+2)&CHAR(10)&\"Ulice:  \"&INDEX(Vložit!B:B,A452+3)&CHAR(10)&\"Č. pop. / č. orient.:  \"&INDEX(Vložit!B:B,A452+4)&CHAR(10)&\"Obec:  \"&INDEX(Vložit!B:B,A452+5))","v":""},{"$f":"IF(A452=\"\",\"\",INDEX(Vložit!A:A,A452)&CHAR(10)&\"Telefon: \"&INDEX(Vložit!B:B,A452+6)&\" / \"&INDEX(Vložit!B:B,A452+7)&CHAR(10)&\"Typ objednávky: \"&INDEX(Vložit!D:D,A452+1)&CHAR(10)&INDEX(Vložit!C:C,A452)&CHAR(10)&INDEX(Vložit!D:D,A452))","v":""},{"$f":"IF(A452=\"\",\"\",IF(INDEX(Vložit!B:B,A452+8)=\"\",\"\",\"Instrukce: \"&INDEX(Vložit!B:B,A452+8)))","v":""},{"$f":"IF(A452=\"\",\"\",IF(INDEX(Vložit!B:B,A452+1)=\"\",\"\",INDEX(Vložit!B:B,A452+1)))","v":""},{"$f":"IF(A452=\"\",\"\",MID(INDEX(Vložit!A:A,A452),19,10))","v":""},{"$f":"IF(A452=\"\",\"\",IF(INDEX(Vložit!B:B,A452+5)=\"\",\"\",VLOOKUP(INDEX(Vložit!B:B,A452+5),Pomocná!B451:C10450,2,FALSE)))","v":""},{"$f":"IF(A452=\"\",\"\",INDEX(Vložit!B:B,A452+2))","v":""},{"$f":"IF(A452=\"\",\"\",IF(INDEX(Vložit!B:B,A452+3)=\"\",\"\",INDEX(Vložit!B:B,A452+3)))","v":""},{"$f":"IF(A452=\"\",\"\",INDEX(Vložit!B:B,A452+4))","v":""}]
[{"$f":"IF(A452=\"\",\"\",IF(INDEX(Vložit!A:A,(ROW(A452)-1)*17+2)<>\"\",(ROW(A452)-1)*17+2,\"\"))","v":""},{"$f":"IF(A453=\"\",\"\",\"Číslo smlouvy:  \"&INDEX(Vložit!B:B,A453+1)&CHAR(10)&\"Jméno a příjmení:  \"&INDEX(Vložit!B:B,A453+2)&CHAR(10)&\"Ulice:  \"&INDEX(Vložit!B:B,A453+3)&CHAR(10)&\"Č. pop. / č. orient.:  \"&INDEX(Vložit!B:B,A453+4)&CHAR(10)&\"Obec:  \"&INDEX(Vložit!B:B,A453+5))","v":""},{"$f":"IF(A453=\"\",\"\",INDEX(Vložit!A:A,A453)&CHAR(10)&\"Telefon: \"&INDEX(Vložit!B:B,A453+6)&\" / \"&INDEX(Vložit!B:B,A453+7)&CHAR(10)&\"Typ objednávky: \"&INDEX(Vložit!D:D,A453+1)&CHAR(10)&INDEX(Vložit!C:C,A453)&CHAR(10)&INDEX(Vložit!D:D,A453))","v":""},{"$f":"IF(A453=\"\",\"\",IF(INDEX(Vložit!B:B,A453+8)=\"\",\"\",\"Instrukce: \"&INDEX(Vložit!B:B,A453+8)))","v":""},{"$f":"IF(A453=\"\",\"\",IF(INDEX(Vložit!B:B,A453+1)=\"\",\"\",INDEX(Vložit!B:B,A453+1)))","v":""},{"$f":"IF(A453=\"\",\"\",MID(INDEX(Vložit!A:A,A453),19,10))","v":""},{"$f":"IF(A453=\"\",\"\",IF(INDEX(Vložit!B:B,A453+5)=\"\",\"\",VLOOKUP(INDEX(Vložit!B:B,A453+5),Pomocná!B452:C10451,2,FALSE)))","v":""},{"$f":"IF(A453=\"\",\"\",INDEX(Vložit!B:B,A453+2))","v":""},{"$f":"IF(A453=\"\",\"\",IF(INDEX(Vložit!B:B,A453+3)=\"\",\"\",INDEX(Vložit!B:B,A453+3)))","v":""},{"$f":"IF(A453=\"\",\"\",INDEX(Vložit!B:B,A453+4))","v":""}]
[{"$f":"IF(A453=\"\",\"\",IF(INDEX(Vložit!A:A,(ROW(A453)-1)*17+2)<>\"\",(ROW(A453)-1)*17+2,\"\"))","v":""},{"$f":"IF(A454=\"\",\"\",\"Číslo smlouvy:  \"&INDEX(Vložit!B:B,A454+1)&CHAR(10)&\"Jméno a příjmení:  \"&INDEX(Vložit!B:B,A454+2)&CHAR(10)&\"Ulice:  \"&INDEX(Vložit!B:B,A454+3)&CHAR(10)&\"Č. pop. / č. orient.:  \"&INDEX(Vložit!B:B,A454+4)&CHAR(10)&\"Obec:  \"&INDEX(Vložit!B:B,A454+5))","v":""},{"$f":"IF(A454=\"\",\"\",INDEX(Vložit!A:A,A454)&CHAR(10)&\"Telefon: \"&INDEX(Vložit!B:B,A454+6)&\" / \"&INDEX(Vložit!B:B,A454+7)&CHAR(10)&\"Typ objednávky: \"&INDEX(Vložit!D:D,A454+1)&CHAR(10)&INDEX(Vložit!C:C,A454)&CHAR(10)&INDEX(Vložit!D:D,A454))","v":""},{"$f":"IF(A454=\"\",\"\",IF(INDEX(Vložit!B:B,A454+8)=\"\",\"\",\"Instrukce: \"&INDEX(Vložit!B:B,A454+8)))","v":""},{"$f":"IF(A454=\"\",\"\",IF(INDEX(Vložit!B:B,A454+1)=\"\",\"\",INDEX(Vložit!B:B,A454+1)))","v":""},{"$f":"IF(A454=\"\",\"\",MID(INDEX(Vložit!A:A,A454),19,10))","v":""},{"$f":"IF(A454=\"\",\"\",IF(INDEX(Vložit!B:B,A454+5)=\"\",\"\",VLOOKUP(INDEX(Vložit!B:B,A454+5),Pomocná!B453:C10452,2,FALSE)))","v":""},{"$f":"IF(A454=\"\",\"\",INDEX(Vložit!B:B,A454+2))","v":""},{"$f":"IF(A454=\"\",\"\",IF(INDEX(Vložit!B:B,A454+3)=\"\",\"\",INDEX(Vložit!B:B,A454+3)))","v":""},{"$f":"IF(A454=\"\",\"\",INDEX(Vložit!B:B,A454+4))","v":""}]
[{"$f":"IF(A454=\"\",\"\",IF(INDEX(Vložit!A:A,(ROW(A454)-1)*17+2)<>\"\",(ROW(A454)-1)*17+2,\"\"))","v":""},{"$f":"IF(A455=\"\",\"\",\"Číslo smlouvy:  \"&INDEX(Vložit!B:B,A455+1)&CHAR(10)&\"Jméno a příjmení:  \"&INDEX(Vložit!B:B,A455+2)&CHAR(10)&\"Ulice:  \"&INDEX(Vložit!B:B,A455+3)&CHAR(10)&\"Č. pop. / č. orient.:  \"&INDEX(Vložit!B:B,A455+4)&CHAR(10)&\"Obec:  \"&INDEX(Vložit!B:B,A455+5))","v":""},{"$f":"IF(A455=\"\",\"\",INDEX(Vložit!A:A,A455)&CHAR(10)&\"Telefon: \"&INDEX(Vložit!B:B,A455+6)&\" / \"&INDEX(Vložit!B:B,A455+7)&CHAR(10)&\"Typ objednávky: \"&INDEX(Vložit!D:D,A455+1)&CHAR(10)&INDEX(Vložit!C:C,A455)&CHAR(10)&INDEX(Vložit!D:D,A455))","v":""},{"$f":"IF(A455=\"\",\"\",IF(INDEX(Vložit!B:B,A455+8)=\"\",\"\",\"Instrukce: \"&INDEX(Vložit!B:B,A455+8)))","v":""},{"$f":"IF(A455=\"\",\"\",IF(INDEX(Vložit!B:B,A455+1)=\"\",\"\",INDEX(Vložit!B:B,A455+1)))","v":""},{"$f":"IF(A455=\"\",\"\",MID(INDEX(Vložit!A:A,A455),19,10))","v":""},{"$f":"IF(A455=\"\",\"\",IF(INDEX(Vložit!B:B,A455+5)=\"\",\"\",VLOOKUP(INDEX(Vložit!B:B,A455+5),Pomocná!B454:C10453,2,FALSE)))","v":""},{"$f":"IF(A455=\"\",\"\",INDEX(Vložit!B:B,A455+2))","v":""},{"$f":"IF(A455=\"\",\"\",IF(INDEX(Vložit!B:B,A455+3)=\"\",\"\",INDEX(Vložit!B:B,A455+3)))","v":""},{"$f":"IF(A455=\"\",\"\",INDEX(Vložit!B:B,A455+4))","v":""}]
[{"$f":"IF(A455=\"\",\"\",IF(INDEX(Vložit!A:A,(ROW(A455)-1)*17+2)<>\"\",(ROW(A455)-1)*17+2,\"\"))","v":""},{"$f":"IF(A456=\"\",\"\",\"Číslo smlouvy:  \"&INDEX(Vložit!B:B,A456+1)&CHAR(10)&\"Jméno a příjmení:  \"&INDEX(Vložit!B:B,A456+2)&CHAR(10)&\"Ulice:  \"&INDEX(Vložit!B:B,A456+3)&CHAR(10)&\"Č. pop. / č. orient.:  \"&INDEX(Vložit!B:B,A456+4)&CHAR(10)&\"Obec:  \"&INDEX(Vložit!B:B,A456+5))","v":""},{"$f":"IF(A456=\"\",\"\",INDEX(Vložit!A:A,A456)&CHAR(10)&\"Telefon: \"&INDEX(Vložit!B:B,A456+6)&\" / \"&INDEX(Vložit!B:B,A456+7)&CHAR(10)&\"Typ objednávky: \"&INDEX(Vložit!D:D,A456+1)&CHAR(10)&INDEX(Vložit!C:C,A456)&CHAR(10)&INDEX(Vložit!D:D,A456))","v":""},{"$f":"IF(A456=\"\",\"\",IF(INDEX(Vložit!B:B,A456+8)=\"\",\"\",\"Instrukce: \"&INDEX(Vložit!B:B,A456+8)))","v":""},{"$f":"IF(A456=\"\",\"\",IF(INDEX(Vložit!B:B,A456+1)=\"\",\"\",INDEX(Vložit!B:B,A456+1)))","v":""},{"$f":"IF(A456=\"\",\"\",MID(INDEX(Vložit!A:A,A456),19,10))","v":""},{"$f":"IF(A456=\"\",\"\",IF(INDEX(Vložit!B:B,A456+5)=\"\",\"\",VLOOKUP(INDEX(Vložit!B:B,A456+5),Pomocná!B455:C10454,2,FALSE)))","v":""},{"$f":"IF(A456=\"\",\"\",INDEX(Vložit!B:B,A456+2))","v":""},{"$f":"IF(A456=\"\",\"\",IF(INDEX(Vložit!B:B,A456+3)=\"\",\"\",INDEX(Vložit!B:B,A456+3)))","v":""},{"$f":"IF(A456=\"\",\"\",INDEX(Vložit!B:B,A456+4))","v":""}]
[{"$f":"IF(A456=\"\",\"\",IF(INDEX(Vložit!A:A,(ROW(A456)-1)*17+2)<>\"\",(ROW(A456)-1)*17+2,\"\"))","v":""},{"$f":"IF(A457=\"\",\"\",\"Číslo smlouvy:  \"&INDEX(Vložit!B:B,A457+1)&CHAR(10)&\"Jméno a příjmení:  \"&INDEX(Vložit!B:B,A457+2)&CHAR(10)&\"Ulice:  \"&INDEX(Vložit!B:B,A457+3)&CHAR(10)&\"Č. pop. / č. orient.:  \"&INDEX(Vložit!B:B,A457+4)&CHAR(10)&\"Obec:  \"&INDEX(Vložit!B:B,A457+5))","v":""},{"$f":"IF(A457=\"\",\"\",INDEX(Vložit!A:A,A457)&CHAR(10)&\"Telefon: \"&INDEX(Vložit!B:B,A457+6)&\" / \"&INDEX(Vložit!B:B,A457+7)&CHAR(10)&\"Typ objednávky: \"&INDEX(Vložit!D:D,A457+1)&CHAR(10)&INDEX(Vložit!C:C,A457)&CHAR(10)&INDEX(Vložit!D:D,A457))","v":""},{"$f":"IF(A457=\"\",\"\",IF(INDEX(Vložit!B:B,A457+8)=\"\",\"\",\"Instrukce: \"&INDEX(Vložit!B:B,A457+8)))","v":""},{"$f":"IF(A457=\"\",\"\",IF(INDEX(Vložit!B:B,A457+1)=\"\",\"\",INDEX(Vložit!B:B,A457+1)))","v":""},{"$f":"IF(A457=\"\",\"\",MID(INDEX(Vložit!A:A,A457),19,10))","v":""},{"$f":"IF(A457=\"\",\"\",IF(INDEX(Vložit!B:B,A457+5)=\"\",\"\",VLOOKUP(INDEX(Vložit!B:B,A457+5),Pomocná!B456:C10455,2,FALSE)))","v":""},{"$f":"IF(A457=\"\",\"\",INDEX(Vložit!B:B,A457+2))","v":""},{"$f":"IF(A457=\"\",\"\",IF(INDEX(Vložit!B:B,A457+3)=\"\",\"\",INDEX(Vložit!B:B,A457+3)))","v":""},{"$f":"IF(A457=\"\",\"\",INDEX(Vložit!B:B,A457+4))","v":""}]
[{"$f":"IF(A457=\"\",\"\",IF(INDEX(Vložit!A:A,(ROW(A457)-1)*17+2)<>\"\",(ROW(A457)-1)*17+2,\"\"))","v":""},{"$f":"IF(A458=\"\",\"\",\"Číslo smlouvy:  \"&INDEX(Vložit!B:B,A458+1)&CHAR(10)&\"Jméno a příjmení:  \"&INDEX(Vložit!B:B,A458+2)&CHAR(10)&\"Ulice:  \"&INDEX(Vložit!B:B,A458+3)&CHAR(10)&\"Č. pop. / č. orient.:  \"&INDEX(Vložit!B:B,A458+4)&CHAR(10)&\"Obec:  \"&INDEX(Vložit!B:B,A458+5))","v":""},{"$f":"IF(A458=\"\",\"\",INDEX(Vložit!A:A,A458)&CHAR(10)&\"Telefon: \"&INDEX(Vložit!B:B,A458+6)&\" / \"&INDEX(Vložit!B:B,A458+7)&CHAR(10)&\"Typ objednávky: \"&INDEX(Vložit!D:D,A458+1)&CHAR(10)&INDEX(Vložit!C:C,A458)&CHAR(10)&INDEX(Vložit!D:D,A458))","v":""},{"$f":"IF(A458=\"\",\"\",IF(INDEX(Vložit!B:B,A458+8)=\"\",\"\",\"Instrukce: \"&INDEX(Vložit!B:B,A458+8)))","v":""},{"$f":"IF(A458=\"\",\"\",IF(INDEX(Vložit!B:B,A458+1)=\"\",\"\",INDEX(Vložit!B:B,A458+1)))","v":""},{"$f":"IF(A458=\"\",\"\",MID(INDEX(Vložit!A:A,A458),19,10))","v":""},{"$f":"IF(A458=\"\",\"\",IF(INDEX(Vložit!B:B,A458+5)=\"\",\"\",VLOOKUP(INDEX(Vložit!B:B,A458+5),Pomocná!B457:C10456,2,FALSE)))","v":""},{"$f":"IF(A458=\"\",\"\",INDEX(Vložit!B:B,A458+2))","v":""},{"$f":"IF(A458=\"\",\"\",IF(INDEX(Vložit!B:B,A458+3)=\"\",\"\",INDEX(Vložit!B:B,A458+3)))","v":""},{"$f":"IF(A458=\"\",\"\",INDEX(Vložit!B:B,A458+4))","v":""}]
[{"$f":"IF(A458=\"\",\"\",IF(INDEX(Vložit!A:A,(ROW(A458)-1)*17+2)<>\"\",(ROW(A458)-1)*17+2,\"\"))","v":""},{"$f":"IF(A459=\"\",\"\",\"Číslo smlouvy:  \"&INDEX(Vložit!B:B,A459+1)&CHAR(10)&\"Jméno a příjmení:  \"&INDEX(Vložit!B:B,A459+2)&CHAR(10)&\"Ulice:  \"&INDEX(Vložit!B:B,A459+3)&CHAR(10)&\"Č. pop. / č. orient.:  \"&INDEX(Vložit!B:B,A459+4)&CHAR(10)&\"Obec:  \"&INDEX(Vložit!B:B,A459+5))","v":""},{"$f":"IF(A459=\"\",\"\",INDEX(Vložit!A:A,A459)&CHAR(10)&\"Telefon: \"&INDEX(Vložit!B:B,A459+6)&\" / \"&INDEX(Vložit!B:B,A459+7)&CHAR(10)&\"Typ objednávky: \"&INDEX(Vložit!D:D,A459+1)&CHAR(10)&INDEX(Vložit!C:C,A459)&CHAR(10)&INDEX(Vložit!D:D,A459))","v":""},{"$f":"IF(A459=\"\",\"\",IF(INDEX(Vložit!B:B,A459+8)=\"\",\"\",\"Instrukce: \"&INDEX(Vložit!B:B,A459+8)))","v":""},{"$f":"IF(A459=\"\",\"\",IF(INDEX(Vložit!B:B,A459+1)=\"\",\"\",INDEX(Vložit!B:B,A459+1)))","v":""},{"$f":"IF(A459=\"\",\"\",MID(INDEX(Vložit!A:A,A459),19,10))","v":""},{"$f":"IF(A459=\"\",\"\",IF(INDEX(Vložit!B:B,A459+5)=\"\",\"\",VLOOKUP(INDEX(Vložit!B:B,A459+5),Pomocná!B458:C10457,2,FALSE)))","v":""},{"$f":"IF(A459=\"\",\"\",INDEX(Vložit!B:B,A459+2))","v":""},{"$f":"IF(A459=\"\",\"\",IF(INDEX(Vložit!B:B,A459+3)=\"\",\"\",INDEX(Vložit!B:B,A459+3)))","v":""},{"$f":"IF(A459=\"\",\"\",INDEX(Vložit!B:B,A459+4))","v":""}]
[{"$f":"IF(A459=\"\",\"\",IF(INDEX(Vložit!A:A,(ROW(A459)-1)*17+2)<>\"\",(ROW(A459)-1)*17+2,\"\"))","v":""},{"$f":"IF(A460=\"\",\"\",\"Číslo smlouvy:  \"&INDEX(Vložit!B:B,A460+1)&CHAR(10)&\"Jméno a příjmení:  \"&INDEX(Vložit!B:B,A460+2)&CHAR(10)&\"Ulice:  \"&INDEX(Vložit!B:B,A460+3)&CHAR(10)&\"Č. pop. / č. orient.:  \"&INDEX(Vložit!B:B,A460+4)&CHAR(10)&\"Obec:  \"&INDEX(Vložit!B:B,A460+5))","v":""},{"$f":"IF(A460=\"\",\"\",INDEX(Vložit!A:A,A460)&CHAR(10)&\"Telefon: \"&INDEX(Vložit!B:B,A460+6)&\" / \"&INDEX(Vložit!B:B,A460+7)&CHAR(10)&\"Typ objednávky: \"&INDEX(Vložit!D:D,A460+1)&CHAR(10)&INDEX(Vložit!C:C,A460)&CHAR(10)&INDEX(Vložit!D:D,A460))","v":""},{"$f":"IF(A460=\"\",\"\",IF(INDEX(Vložit!B:B,A460+8)=\"\",\"\",\"Instrukce: \"&INDEX(Vložit!B:B,A460+8)))","v":""},{"$f":"IF(A460=\"\",\"\",IF(INDEX(Vložit!B:B,A460+1)=\"\",\"\",INDEX(Vložit!B:B,A460+1)))","v":""},{"$f":"IF(A460=\"\",\"\",MID(INDEX(Vložit!A:A,A460),19,10))","v":""},{"$f":"IF(A460=\"\",\"\",IF(INDEX(Vložit!B:B,A460+5)=\"\",\"\",VLOOKUP(INDEX(Vložit!B:B,A460+5),Pomocná!B459:C10458,2,FALSE)))","v":""},{"$f":"IF(A460=\"\",\"\",INDEX(Vložit!B:B,A460+2))","v":""},{"$f":"IF(A460=\"\",\"\",IF(INDEX(Vložit!B:B,A460+3)=\"\",\"\",INDEX(Vložit!B:B,A460+3)))","v":""},{"$f":"IF(A460=\"\",\"\",INDEX(Vložit!B:B,A460+4))","v":""}]
[{"$f":"IF(A460=\"\",\"\",IF(INDEX(Vložit!A:A,(ROW(A460)-1)*17+2)<>\"\",(ROW(A460)-1)*17+2,\"\"))","v":""},{"$f":"IF(A461=\"\",\"\",\"Číslo smlouvy:  \"&INDEX(Vložit!B:B,A461+1)&CHAR(10)&\"Jméno a příjmení:  \"&INDEX(Vložit!B:B,A461+2)&CHAR(10)&\"Ulice:  \"&INDEX(Vložit!B:B,A461+3)&CHAR(10)&\"Č. pop. / č. orient.:  \"&INDEX(Vložit!B:B,A461+4)&CHAR(10)&\"Obec:  \"&INDEX(Vložit!B:B,A461+5))","v":""},{"$f":"IF(A461=\"\",\"\",INDEX(Vložit!A:A,A461)&CHAR(10)&\"Telefon: \"&INDEX(Vložit!B:B,A461+6)&\" / \"&INDEX(Vložit!B:B,A461+7)&CHAR(10)&\"Typ objednávky: \"&INDEX(Vložit!D:D,A461+1)&CHAR(10)&INDEX(Vložit!C:C,A461)&CHAR(10)&INDEX(Vložit!D:D,A461))","v":""},{"$f":"IF(A461=\"\",\"\",IF(INDEX(Vložit!B:B,A461+8)=\"\",\"\",\"Instrukce: \"&INDEX(Vložit!B:B,A461+8)))","v":""},{"$f":"IF(A461=\"\",\"\",IF(INDEX(Vložit!B:B,A461+1)=\"\",\"\",INDEX(Vložit!B:B,A461+1)))","v":""},{"$f":"IF(A461=\"\",\"\",MID(INDEX(Vložit!A:A,A461),19,10))","v":""},{"$f":"IF(A461=\"\",\"\",IF(INDEX(Vložit!B:B,A461+5)=\"\",\"\",VLOOKUP(INDEX(Vložit!B:B,A461+5),Pomocná!B460:C10459,2,FALSE)))","v":""},{"$f":"IF(A461=\"\",\"\",INDEX(Vložit!B:B,A461+2))","v":""},{"$f":"IF(A461=\"\",\"\",IF(INDEX(Vložit!B:B,A461+3)=\"\",\"\",INDEX(Vložit!B:B,A461+3)))","v":""},{"$f":"IF(A461=\"\",\"\",INDEX(Vložit!B:B,A461+4))","v":""}]
[{"$f":"IF(A461=\"\",\"\",IF(INDEX(Vložit!A:A,(ROW(A461)-1)*17+2)<>\"\",(ROW(A461)-1)*17+2,\"\"))","v":""},{"$f":"IF(A462=\"\",\"\",\"Číslo smlouvy:  \"&INDEX(Vložit!B:B,A462+1)&CHAR(10)&\"Jméno a příjmení:  \"&INDEX(Vložit!B:B,A462+2)&CHAR(10)&\"Ulice:  \"&INDEX(Vložit!B:B,A462+3)&CHAR(10)&\"Č. pop. / č. orient.:  \"&INDEX(Vložit!B:B,A462+4)&CHAR(10)&\"Obec:  \"&INDEX(Vložit!B:B,A462+5))","v":""},{"$f":"IF(A462=\"\",\"\",INDEX(Vložit!A:A,A462)&CHAR(10)&\"Telefon: \"&INDEX(Vložit!B:B,A462+6)&\" / \"&INDEX(Vložit!B:B,A462+7)&CHAR(10)&\"Typ objednávky: \"&INDEX(Vložit!D:D,A462+1)&CHAR(10)&INDEX(Vložit!C:C,A462)&CHAR(10)&INDEX(Vložit!D:D,A462))","v":""},{"$f":"IF(A462=\"\",\"\",IF(INDEX(Vložit!B:B,A462+8)=\"\",\"\",\"Instrukce: \"&INDEX(Vložit!B:B,A462+8)))","v":""},{"$f":"IF(A462=\"\",\"\",IF(INDEX(Vložit!B:B,A462+1)=\"\",\"\",INDEX(Vložit!B:B,A462+1)))","v":""},{"$f":"IF(A462=\"\",\"\",MID(INDEX(Vložit!A:A,A462),19,10))","v":""},{"$f":"IF(A462=\"\",\"\",IF(INDEX(Vložit!B:B,A462+5)=\"\",\"\",VLOOKUP(INDEX(Vložit!B:B,A462+5),Pomocná!B461:C10460,2,FALSE)))","v":""},{"$f":"IF(A462=\"\",\"\",INDEX(Vložit!B:B,A462+2))","v":""},{"$f":"IF(A462=\"\",\"\",IF(INDEX(Vložit!B:B,A462+3)=\"\",\"\",INDEX(Vložit!B:B,A462+3)))","v":""},{"$f":"IF(A462=\"\",\"\",INDEX(Vložit!B:B,A462+4))","v":""}]
[{"$f":"IF(A462=\"\",\"\",IF(INDEX(Vložit!A:A,(ROW(A462)-1)*17+2)<>\"\",(ROW(A462)-1)*17+2,\"\"))","v":""},{"$f":"IF(A463=\"\",\"\",\"Číslo smlouvy:  \"&INDEX(Vložit!B:B,A463+1)&CHAR(10)&\"Jméno a příjmení:  \"&INDEX(Vložit!B:B,A463+2)&CHAR(10)&\"Ulice:  \"&INDEX(Vložit!B:B,A463+3)&CHAR(10)&\"Č. pop. / č. orient.:  \"&INDEX(Vložit!B:B,A463+4)&CHAR(10)&\"Obec:  \"&INDEX(Vložit!B:B,A463+5))","v":""},{"$f":"IF(A463=\"\",\"\",INDEX(Vložit!A:A,A463)&CHAR(10)&\"Telefon: \"&INDEX(Vložit!B:B,A463+6)&\" / \"&INDEX(Vložit!B:B,A463+7)&CHAR(10)&\"Typ objednávky: \"&INDEX(Vložit!D:D,A463+1)&CHAR(10)&INDEX(Vložit!C:C,A463)&CHAR(10)&INDEX(Vložit!D:D,A463))","v":""},{"$f":"IF(A463=\"\",\"\",IF(INDEX(Vložit!B:B,A463+8)=\"\",\"\",\"Instrukce: \"&INDEX(Vložit!B:B,A463+8)))","v":""},{"$f":"IF(A463=\"\",\"\",IF(INDEX(Vložit!B:B,A463+1)=\"\",\"\",INDEX(Vložit!B:B,A463+1)))","v":""},{"$f":"IF(A463=\"\",\"\",MID(INDEX(Vložit!A:A,A463),19,10))","v":""},{"$f":"IF(A463=\"\",\"\",IF(INDEX(Vložit!B:B,A463+5)=\"\",\"\",VLOOKUP(INDEX(Vložit!B:B,A463+5),Pomocná!B462:C10461,2,FALSE)))","v":""},{"$f":"IF(A463=\"\",\"\",INDEX(Vložit!B:B,A463+2))","v":""},{"$f":"IF(A463=\"\",\"\",IF(INDEX(Vložit!B:B,A463+3)=\"\",\"\",INDEX(Vložit!B:B,A463+3)))","v":""},{"$f":"IF(A463=\"\",\"\",INDEX(Vložit!B:B,A463+4))","v":""}]
[{"$f":"IF(A463=\"\",\"\",IF(INDEX(Vložit!A:A,(ROW(A463)-1)*17+2)<>\"\",(ROW(A463)-1)*17+2,\"\"))","v":""},{"$f":"IF(A464=\"\",\"\",\"Číslo smlouvy:  \"&INDEX(Vložit!B:B,A464+1)&CHAR(10)&\"Jméno a příjmení:  \"&INDEX(Vložit!B:B,A464+2)&CHAR(10)&\"Ulice:  \"&INDEX(Vložit!B:B,A464+3)&CHAR(10)&\"Č. pop. / č. orient.:  \"&INDEX(Vložit!B:B,A464+4)&CHAR(10)&\"Obec:  \"&INDEX(Vložit!B:B,A464+5))","v":""},{"$f":"IF(A464=\"\",\"\",INDEX(Vložit!A:A,A464)&CHAR(10)&\"Telefon: \"&INDEX(Vložit!B:B,A464+6)&\" / \"&INDEX(Vložit!B:B,A464+7)&CHAR(10)&\"Typ objednávky: \"&INDEX(Vložit!D:D,A464+1)&CHAR(10)&INDEX(Vložit!C:C,A464)&CHAR(10)&INDEX(Vložit!D:D,A464))","v":""},{"$f":"IF(A464=\"\",\"\",IF(INDEX(Vložit!B:B,A464+8)=\"\",\"\",\"Instrukce: \"&INDEX(Vložit!B:B,A464+8)))","v":""},{"$f":"IF(A464=\"\",\"\",IF(INDEX(Vložit!B:B,A464+1)=\"\",\"\",INDEX(Vložit!B:B,A464+1)))","v":""},{"$f":"IF(A464=\"\",\"\",MID(INDEX(Vložit!A:A,A464),19,10))","v":""},{"$f":"IF(A464=\"\",\"\",IF(INDEX(Vložit!B:B,A464+5)=\"\",\"\",VLOOKUP(INDEX(Vložit!B:B,A464+5),Pomocná!B463:C10462,2,FALSE)))","v":""},{"$f":"IF(A464=\"\",\"\",INDEX(Vložit!B:B,A464+2))","v":""},{"$f":"IF(A464=\"\",\"\",IF(INDEX(Vložit!B:B,A464+3)=\"\",\"\",INDEX(Vložit!B:B,A464+3)))","v":""},{"$f":"IF(A464=\"\",\"\",INDEX(Vložit!B:B,A464+4))","v":""}]
[{"$f":"IF(A464=\"\",\"\",IF(INDEX(Vložit!A:A,(ROW(A464)-1)*17+2)<>\"\",(ROW(A464)-1)*17+2,\"\"))","v":""},{"$f":"IF(A465=\"\",\"\",\"Číslo smlouvy:  \"&INDEX(Vložit!B:B,A465+1)&CHAR(10)&\"Jméno a příjmení:  \"&INDEX(Vložit!B:B,A465+2)&CHAR(10)&\"Ulice:  \"&INDEX(Vložit!B:B,A465+3)&CHAR(10)&\"Č. pop. / č. orient.:  \"&INDEX(Vložit!B:B,A465+4)&CHAR(10)&\"Obec:  \"&INDEX(Vložit!B:B,A465+5))","v":""},{"$f":"IF(A465=\"\",\"\",INDEX(Vložit!A:A,A465)&CHAR(10)&\"Telefon: \"&INDEX(Vložit!B:B,A465+6)&\" / \"&INDEX(Vložit!B:B,A465+7)&CHAR(10)&\"Typ objednávky: \"&INDEX(Vložit!D:D,A465+1)&CHAR(10)&INDEX(Vložit!C:C,A465)&CHAR(10)&INDEX(Vložit!D:D,A465))","v":""},{"$f":"IF(A465=\"\",\"\",IF(INDEX(Vložit!B:B,A465+8)=\"\",\"\",\"Instrukce: \"&INDEX(Vložit!B:B,A465+8)))","v":""},{"$f":"IF(A465=\"\",\"\",IF(INDEX(Vložit!B:B,A465+1)=\"\",\"\",INDEX(Vložit!B:B,A465+1)))","v":""},{"$f":"IF(A465=\"\",\"\",MID(INDEX(Vložit!A:A,A465),19,10))","v":""},{"$f":"IF(A465=\"\",\"\",IF(INDEX(Vložit!B:B,A465+5)=\"\",\"\",VLOOKUP(INDEX(Vložit!B:B,A465+5),Pomocná!B464:C10463,2,FALSE)))","v":""},{"$f":"IF(A465=\"\",\"\",INDEX(Vložit!B:B,A465+2))","v":""},{"$f":"IF(A465=\"\",\"\",IF(INDEX(Vložit!B:B,A465+3)=\"\",\"\",INDEX(Vložit!B:B,A465+3)))","v":""},{"$f":"IF(A465=\"\",\"\",INDEX(Vložit!B:B,A465+4))","v":""}]
[{"$f":"IF(A465=\"\",\"\",IF(INDEX(Vložit!A:A,(ROW(A465)-1)*17+2)<>\"\",(ROW(A465)-1)*17+2,\"\"))","v":""},{"$f":"IF(A466=\"\",\"\",\"Číslo smlouvy:  \"&INDEX(Vložit!B:B,A466+1)&CHAR(10)&\"Jméno a příjmení:  \"&INDEX(Vložit!B:B,A466+2)&CHAR(10)&\"Ulice:  \"&INDEX(Vložit!B:B,A466+3)&CHAR(10)&\"Č. pop. / č. orient.:  \"&INDEX(Vložit!B:B,A466+4)&CHAR(10)&\"Obec:  \"&INDEX(Vložit!B:B,A466+5))","v":""},{"$f":"IF(A466=\"\",\"\",INDEX(Vložit!A:A,A466)&CHAR(10)&\"Telefon: \"&INDEX(Vložit!B:B,A466+6)&\" / \"&INDEX(Vložit!B:B,A466+7)&CHAR(10)&\"Typ objednávky: \"&INDEX(Vložit!D:D,A466+1)&CHAR(10)&INDEX(Vložit!C:C,A466)&CHAR(10)&INDEX(Vložit!D:D,A466))","v":""},{"$f":"IF(A466=\"\",\"\",IF(INDEX(Vložit!B:B,A466+8)=\"\",\"\",\"Instrukce: \"&INDEX(Vložit!B:B,A466+8)))","v":""},{"$f":"IF(A466=\"\",\"\",IF(INDEX(Vložit!B:B,A466+1)=\"\",\"\",INDEX(Vložit!B:B,A466+1)))","v":""},{"$f":"IF(A466=\"\",\"\",MID(INDEX(Vložit!A:A,A466),19,10))","v":""},{"$f":"IF(A466=\"\",\"\",IF(INDEX(Vložit!B:B,A466+5)=\"\",\"\",VLOOKUP(INDEX(Vložit!B:B,A466+5),Pomocná!B465:C10464,2,FALSE)))","v":""},{"$f":"IF(A466=\"\",\"\",INDEX(Vložit!B:B,A466+2))","v":""},{"$f":"IF(A466=\"\",\"\",IF(INDEX(Vložit!B:B,A466+3)=\"\",\"\",INDEX(Vložit!B:B,A466+3)))","v":""},{"$f":"IF(A466=\"\",\"\",INDEX(Vložit!B:B,A466+4))","v":""}]
[{"$f":"IF(A466=\"\",\"\",IF(INDEX(Vložit!A:A,(ROW(A466)-1)*17+2)<>\"\",(ROW(A466)-1)*17+2,\"\"))","v":""},{"$f":"IF(A467=\"\",\"\",\"Číslo smlouvy:  \"&INDEX(Vložit!B:B,A467+1)&CHAR(10)&\"Jméno a příjmení:  \"&INDEX(Vložit!B:B,A467+2)&CHAR(10)&\"Ulice:  \"&INDEX(Vložit!B:B,A467+3)&CHAR(10)&\"Č. pop. / č. orient.:  \"&INDEX(Vložit!B:B,A467+4)&CHAR(10)&\"Obec:  \"&INDEX(Vložit!B:B,A467+5))","v":""},{"$f":"IF(A467=\"\",\"\",INDEX(Vložit!A:A,A467)&CHAR(10)&\"Telefon: \"&INDEX(Vložit!B:B,A467+6)&\" / \"&INDEX(Vložit!B:B,A467+7)&CHAR(10)&\"Typ objednávky: \"&INDEX(Vložit!D:D,A467+1)&CHAR(10)&INDEX(Vložit!C:C,A467)&CHAR(10)&INDEX(Vložit!D:D,A467))","v":""},{"$f":"IF(A467=\"\",\"\",IF(INDEX(Vložit!B:B,A467+8)=\"\",\"\",\"Instrukce: \"&INDEX(Vložit!B:B,A467+8)))","v":""},{"$f":"IF(A467=\"\",\"\",IF(INDEX(Vložit!B:B,A467+1)=\"\",\"\",INDEX(Vložit!B:B,A467+1)))","v":""},{"$f":"IF(A467=\"\",\"\",MID(INDEX(Vložit!A:A,A467),19,10))","v":""},{"$f":"IF(A467=\"\",\"\",IF(INDEX(Vložit!B:B,A467+5)=\"\",\"\",VLOOKUP(INDEX(Vložit!B:B,A467+5),Pomocná!B466:C10465,2,FALSE)))","v":""},{"$f":"IF(A467=\"\",\"\",INDEX(Vložit!B:B,A467+2))","v":""},{"$f":"IF(A467=\"\",\"\",IF(INDEX(Vložit!B:B,A467+3)=\"\",\"\",INDEX(Vložit!B:B,A467+3)))","v":""},{"$f":"IF(A467=\"\",\"\",INDEX(Vložit!B:B,A467+4))","v":""}]
[{"$f":"IF(A467=\"\",\"\",IF(INDEX(Vložit!A:A,(ROW(A467)-1)*17+2)<>\"\",(ROW(A467)-1)*17+2,\"\"))","v":""},{"$f":"IF(A468=\"\",\"\",\"Číslo smlouvy:  \"&INDEX(Vložit!B:B,A468+1)&CHAR(10)&\"Jméno a příjmení:  \"&INDEX(Vložit!B:B,A468+2)&CHAR(10)&\"Ulice:  \"&INDEX(Vložit!B:B,A468+3)&CHAR(10)&\"Č. pop. / č. orient.:  \"&INDEX(Vložit!B:B,A468+4)&CHAR(10)&\"Obec:  \"&INDEX(Vložit!B:B,A468+5))","v":""},{"$f":"IF(A468=\"\",\"\",INDEX(Vložit!A:A,A468)&CHAR(10)&\"Telefon: \"&INDEX(Vložit!B:B,A468+6)&\" / \"&INDEX(Vložit!B:B,A468+7)&CHAR(10)&\"Typ objednávky: \"&INDEX(Vložit!D:D,A468+1)&CHAR(10)&INDEX(Vložit!C:C,A468)&CHAR(10)&INDEX(Vložit!D:D,A468))","v":""},{"$f":"IF(A468=\"\",\"\",IF(INDEX(Vložit!B:B,A468+8)=\"\",\"\",\"Instrukce: \"&INDEX(Vložit!B:B,A468+8)))","v":""},{"$f":"IF(A468=\"\",\"\",IF(INDEX(Vložit!B:B,A468+1)=\"\",\"\",INDEX(Vložit!B:B,A468+1)))","v":""},{"$f":"IF(A468=\"\",\"\",MID(INDEX(Vložit!A:A,A468),19,10))","v":""},{"$f":"IF(A468=\"\",\"\",IF(INDEX(Vložit!B:B,A468+5)=\"\",\"\",VLOOKUP(INDEX(Vložit!B:B,A468+5),Pomocná!B467:C10466,2,FALSE)))","v":""},{"$f":"IF(A468=\"\",\"\",INDEX(Vložit!B:B,A468+2))","v":""},{"$f":"IF(A468=\"\",\"\",IF(INDEX(Vložit!B:B,A468+3)=\"\",\"\",INDEX(Vložit!B:B,A468+3)))","v":""},{"$f":"IF(A468=\"\",\"\",INDEX(Vložit!B:B,A468+4))","v":""}]
[{"$f":"IF(A468=\"\",\"\",IF(INDEX(Vložit!A:A,(ROW(A468)-1)*17+2)<>\"\",(ROW(A468)-1)*17+2,\"\"))","v":""},{"$f":"IF(A469=\"\",\"\",\"Číslo smlouvy:  \"&INDEX(Vložit!B:B,A469+1)&CHAR(10)&\"Jméno a příjmení:  \"&INDEX(Vložit!B:B,A469+2)&CHAR(10)&\"Ulice:  \"&INDEX(Vložit!B:B,A469+3)&CHAR(10)&\"Č. pop. / č. orient.:  \"&INDEX(Vložit!B:B,A469+4)&CHAR(10)&\"Obec:  \"&INDEX(Vložit!B:B,A469+5))","v":""},{"$f":"IF(A469=\"\",\"\",INDEX(Vložit!A:A,A469)&CHAR(10)&\"Telefon: \"&INDEX(Vložit!B:B,A469+6)&\" / \"&INDEX(Vložit!B:B,A469+7)&CHAR(10)&\"Typ objednávky: \"&INDEX(Vložit!D:D,A469+1)&CHAR(10)&INDEX(Vložit!C:C,A469)&CHAR(10)&INDEX(Vložit!D:D,A469))","v":""},{"$f":"IF(A469=\"\",\"\",IF(INDEX(Vložit!B:B,A469+8)=\"\",\"\",\"Instrukce: \"&INDEX(Vložit!B:B,A469+8)))","v":""},{"$f":"IF(A469=\"\",\"\",IF(INDEX(Vložit!B:B,A469+1)=\"\",\"\",INDEX(Vložit!B:B,A469+1)))","v":""},{"$f":"IF(A469=\"\",\"\",MID(INDEX(Vložit!A:A,A469),19,10))","v":""},{"$f":"IF(A469=\"\",\"\",IF(INDEX(Vložit!B:B,A469+5)=\"\",\"\",VLOOKUP(INDEX(Vložit!B:B,A469+5),Pomocná!B468:C10467,2,FALSE)))","v":""},{"$f":"IF(A469=\"\",\"\",INDEX(Vložit!B:B,A469+2))","v":""},{"$f":"IF(A469=\"\",\"\",IF(INDEX(Vložit!B:B,A469+3)=\"\",\"\",INDEX(Vložit!B:B,A469+3)))","v":""},{"$f":"IF(A469=\"\",\"\",INDEX(Vložit!B:B,A469+4))","v":""}]
[{"$f":"IF(A469=\"\",\"\",IF(INDEX(Vložit!A:A,(ROW(A469)-1)*17+2)<>\"\",(ROW(A469)-1)*17+2,\"\"))","v":""},{"$f":"IF(A470=\"\",\"\",\"Číslo smlouvy:  \"&INDEX(Vložit!B:B,A470+1)&CHAR(10)&\"Jméno a příjmení:  \"&INDEX(Vložit!B:B,A470+2)&CHAR(10)&\"Ulice:  \"&INDEX(Vložit!B:B,A470+3)&CHAR(10)&\"Č. pop. / č. orient.:  \"&INDEX(Vložit!B:B,A470+4)&CHAR(10)&\"Obec:  \"&INDEX(Vložit!B:B,A470+5))","v":""},{"$f":"IF(A470=\"\",\"\",INDEX(Vložit!A:A,A470)&CHAR(10)&\"Telefon: \"&INDEX(Vložit!B:B,A470+6)&\" / \"&INDEX(Vložit!B:B,A470+7)&CHAR(10)&\"Typ objednávky: \"&INDEX(Vložit!D:D,A470+1)&CHAR(10)&INDEX(Vložit!C:C,A470)&CHAR(10)&INDEX(Vložit!D:D,A470))","v":""},{"$f":"IF(A470=\"\",\"\",IF(INDEX(Vložit!B:B,A470+8)=\"\",\"\",\"Instrukce: \"&INDEX(Vložit!B:B,A470+8)))","v":""},{"$f":"IF(A470=\"\",\"\",IF(INDEX(Vložit!B:B,A470+1)=\"\",\"\",INDEX(Vložit!B:B,A470+1)))","v":""},{"$f":"IF(A470=\"\",\"\",MID(INDEX(Vložit!A:A,A470),19,10))","v":""},{"$f":"IF(A470=\"\",\"\",IF(INDEX(Vložit!B:B,A470+5)=\"\",\"\",VLOOKUP(INDEX(Vložit!B:B,A470+5),Pomocná!B469:C10468,2,FALSE)))","v":""},{"$f":"IF(A470=\"\",\"\",INDEX(Vložit!B:B,A470+2))","v":""},{"$f":"IF(A470=\"\",\"\",IF(INDEX(Vložit!B:B,A470+3)=\"\",\"\",INDEX(Vložit!B:B,A470+3)))","v":""},{"$f":"IF(A470=\"\",\"\",INDEX(Vložit!B:B,A470+4))","v":""}]
[{"$f":"IF(A470=\"\",\"\",IF(INDEX(Vložit!A:A,(ROW(A470)-1)*17+2)<>\"\",(ROW(A470)-1)*17+2,\"\"))","v":""},{"$f":"IF(A471=\"\",\"\",\"Číslo smlouvy:  \"&INDEX(Vložit!B:B,A471+1)&CHAR(10)&\"Jméno a příjmení:  \"&INDEX(Vložit!B:B,A471+2)&CHAR(10)&\"Ulice:  \"&INDEX(Vložit!B:B,A471+3)&CHAR(10)&\"Č. pop. / č. orient.:  \"&INDEX(Vložit!B:B,A471+4)&CHAR(10)&\"Obec:  \"&INDEX(Vložit!B:B,A471+5))","v":""},{"$f":"IF(A471=\"\",\"\",INDEX(Vložit!A:A,A471)&CHAR(10)&\"Telefon: \"&INDEX(Vložit!B:B,A471+6)&\" / \"&INDEX(Vložit!B:B,A471+7)&CHAR(10)&\"Typ objednávky: \"&INDEX(Vložit!D:D,A471+1)&CHAR(10)&INDEX(Vložit!C:C,A471)&CHAR(10)&INDEX(Vložit!D:D,A471))","v":""},{"$f":"IF(A471=\"\",\"\",IF(INDEX(Vložit!B:B,A471+8)=\"\",\"\",\"Instrukce: \"&INDEX(Vložit!B:B,A471+8)))","v":""},{"$f":"IF(A471=\"\",\"\",IF(INDEX(Vložit!B:B,A471+1)=\"\",\"\",INDEX(Vložit!B:B,A471+1)))","v":""},{"$f":"IF(A471=\"\",\"\",MID(INDEX(Vložit!A:A,A471),19,10))","v":""},{"$f":"IF(A471=\"\",\"\",IF(INDEX(Vložit!B:B,A471+5)=\"\",\"\",VLOOKUP(INDEX(Vložit!B:B,A471+5),Pomocná!B470:C10469,2,FALSE)))","v":""},{"$f":"IF(A471=\"\",\"\",INDEX(Vložit!B:B,A471+2))","v":""},{"$f":"IF(A471=\"\",\"\",IF(INDEX(Vložit!B:B,A471+3)=\"\",\"\",INDEX(Vložit!B:B,A471+3)))","v":""},{"$f":"IF(A471=\"\",\"\",INDEX(Vložit!B:B,A471+4))","v":""}]
[{"$f":"IF(A471=\"\",\"\",IF(INDEX(Vložit!A:A,(ROW(A471)-1)*17+2)<>\"\",(ROW(A471)-1)*17+2,\"\"))","v":""},{"$f":"IF(A472=\"\",\"\",\"Číslo smlouvy:  \"&INDEX(Vložit!B:B,A472+1)&CHAR(10)&\"Jméno a příjmení:  \"&INDEX(Vložit!B:B,A472+2)&CHAR(10)&\"Ulice:  \"&INDEX(Vložit!B:B,A472+3)&CHAR(10)&\"Č. pop. / č. orient.:  \"&INDEX(Vložit!B:B,A472+4)&CHAR(10)&\"Obec:  \"&INDEX(Vložit!B:B,A472+5))","v":""},{"$f":"IF(A472=\"\",\"\",INDEX(Vložit!A:A,A472)&CHAR(10)&\"Telefon: \"&INDEX(Vložit!B:B,A472+6)&\" / \"&INDEX(Vložit!B:B,A472+7)&CHAR(10)&\"Typ objednávky: \"&INDEX(Vložit!D:D,A472+1)&CHAR(10)&INDEX(Vložit!C:C,A472)&CHAR(10)&INDEX(Vložit!D:D,A472))","v":""},{"$f":"IF(A472=\"\",\"\",IF(INDEX(Vložit!B:B,A472+8)=\"\",\"\",\"Instrukce: \"&INDEX(Vložit!B:B,A472+8)))","v":""},{"$f":"IF(A472=\"\",\"\",IF(INDEX(Vložit!B:B,A472+1)=\"\",\"\",INDEX(Vložit!B:B,A472+1)))","v":""},{"$f":"IF(A472=\"\",\"\",MID(INDEX(Vložit!A:A,A472),19,10))","v":""},{"$f":"IF(A472=\"\",\"\",IF(INDEX(Vložit!B:B,A472+5)=\"\",\"\",VLOOKUP(INDEX(Vložit!B:B,A472+5),Pomocná!B471:C10470,2,FALSE)))","v":""},{"$f":"IF(A472=\"\",\"\",INDEX(Vložit!B:B,A472+2))","v":""},{"$f":"IF(A472=\"\",\"\",IF(INDEX(Vložit!B:B,A472+3)=\"\",\"\",INDEX(Vložit!B:B,A472+3)))","v":""},{"$f":"IF(A472=\"\",\"\",INDEX(Vložit!B:B,A472+4))","v":""}]
[{"$f":"IF(A472=\"\",\"\",IF(INDEX(Vložit!A:A,(ROW(A472)-1)*17+2)<>\"\",(ROW(A472)-1)*17+2,\"\"))","v":""},{"$f":"IF(A473=\"\",\"\",\"Číslo smlouvy:  \"&INDEX(Vložit!B:B,A473+1)&CHAR(10)&\"Jméno a příjmení:  \"&INDEX(Vložit!B:B,A473+2)&CHAR(10)&\"Ulice:  \"&INDEX(Vložit!B:B,A473+3)&CHAR(10)&\"Č. pop. / č. orient.:  \"&INDEX(Vložit!B:B,A473+4)&CHAR(10)&\"Obec:  \"&INDEX(Vložit!B:B,A473+5))","v":""},{"$f":"IF(A473=\"\",\"\",INDEX(Vložit!A:A,A473)&CHAR(10)&\"Telefon: \"&INDEX(Vložit!B:B,A473+6)&\" / \"&INDEX(Vložit!B:B,A473+7)&CHAR(10)&\"Typ objednávky: \"&INDEX(Vložit!D:D,A473+1)&CHAR(10)&INDEX(Vložit!C:C,A473)&CHAR(10)&INDEX(Vložit!D:D,A473))","v":""},{"$f":"IF(A473=\"\",\"\",IF(INDEX(Vložit!B:B,A473+8)=\"\",\"\",\"Instrukce: \"&INDEX(Vložit!B:B,A473+8)))","v":""},{"$f":"IF(A473=\"\",\"\",IF(INDEX(Vložit!B:B,A473+1)=\"\",\"\",INDEX(Vložit!B:B,A473+1)))","v":""},{"$f":"IF(A473=\"\",\"\",MID(INDEX(Vložit!A:A,A473),19,10))","v":""},{"$f":"IF(A473=\"\",\"\",IF(INDEX(Vložit!B:B,A473+5)=\"\",\"\",VLOOKUP(INDEX(Vložit!B:B,A473+5),Pomocná!B472:C10471,2,FALSE)))","v":""},{"$f":"IF(A473=\"\",\"\",INDEX(Vložit!B:B,A473+2))","v":""},{"$f":"IF(A473=\"\",\"\",IF(INDEX(Vložit!B:B,A473+3)=\"\",\"\",INDEX(Vložit!B:B,A473+3)))","v":""},{"$f":"IF(A473=\"\",\"\",INDEX(Vložit!B:B,A473+4))","v":""}]
[{"$f":"IF(A473=\"\",\"\",IF(INDEX(Vložit!A:A,(ROW(A473)-1)*17+2)<>\"\",(ROW(A473)-1)*17+2,\"\"))","v":""},{"$f":"IF(A474=\"\",\"\",\"Číslo smlouvy:  \"&INDEX(Vložit!B:B,A474+1)&CHAR(10)&\"Jméno a příjmení:  \"&INDEX(Vložit!B:B,A474+2)&CHAR(10)&\"Ulice:  \"&INDEX(Vložit!B:B,A474+3)&CHAR(10)&\"Č. pop. / č. orient.:  \"&INDEX(Vložit!B:B,A474+4)&CHAR(10)&\"Obec:  \"&INDEX(Vložit!B:B,A474+5))","v":""},{"$f":"IF(A474=\"\",\"\",INDEX(Vložit!A:A,A474)&CHAR(10)&\"Telefon: \"&INDEX(Vložit!B:B,A474+6)&\" / \"&INDEX(Vložit!B:B,A474+7)&CHAR(10)&\"Typ objednávky: \"&INDEX(Vložit!D:D,A474+1)&CHAR(10)&INDEX(Vložit!C:C,A474)&CHAR(10)&INDEX(Vložit!D:D,A474))","v":""},{"$f":"IF(A474=\"\",\"\",IF(INDEX(Vložit!B:B,A474+8)=\"\",\"\",\"Instrukce: \"&INDEX(Vložit!B:B,A474+8)))","v":""},{"$f":"IF(A474=\"\",\"\",IF(INDEX(Vložit!B:B,A474+1)=\"\",\"\",INDEX(Vložit!B:B,A474+1)))","v":""},{"$f":"IF(A474=\"\",\"\",MID(INDEX(Vložit!A:A,A474),19,10))","v":""},{"$f":"IF(A474=\"\",\"\",IF(INDEX(Vložit!B:B,A474+5)=\"\",\"\",VLOOKUP(INDEX(Vložit!B:B,A474+5),Pomocná!B473:C10472,2,FALSE)))","v":""},{"$f":"IF(A474=\"\",\"\",INDEX(Vložit!B:B,A474+2))","v":""},{"$f":"IF(A474=\"\",\"\",IF(INDEX(Vložit!B:B,A474+3)=\"\",\"\",INDEX(Vložit!B:B,A474+3)))","v":""},{"$f":"IF(A474=\"\",\"\",INDEX(Vložit!B:B,A474+4))","v":""}]
[{"$f":"IF(A474=\"\",\"\",IF(INDEX(Vložit!A:A,(ROW(A474)-1)*17+2)<>\"\",(ROW(A474)-1)*17+2,\"\"))","v":""},{"$f":"IF(A475=\"\",\"\",\"Číslo smlouvy:  \"&INDEX(Vložit!B:B,A475+1)&CHAR(10)&\"Jméno a příjmení:  \"&INDEX(Vložit!B:B,A475+2)&CHAR(10)&\"Ulice:  \"&INDEX(Vložit!B:B,A475+3)&CHAR(10)&\"Č. pop. / č. orient.:  \"&INDEX(Vložit!B:B,A475+4)&CHAR(10)&\"Obec:  \"&INDEX(Vložit!B:B,A475+5))","v":""},{"$f":"IF(A475=\"\",\"\",INDEX(Vložit!A:A,A475)&CHAR(10)&\"Telefon: \"&INDEX(Vložit!B:B,A475+6)&\" / \"&INDEX(Vložit!B:B,A475+7)&CHAR(10)&\"Typ objednávky: \"&INDEX(Vložit!D:D,A475+1)&CHAR(10)&INDEX(Vložit!C:C,A475)&CHAR(10)&INDEX(Vložit!D:D,A475))","v":""},{"$f":"IF(A475=\"\",\"\",IF(INDEX(Vložit!B:B,A475+8)=\"\",\"\",\"Instrukce: \"&INDEX(Vložit!B:B,A475+8)))","v":""},{"$f":"IF(A475=\"\",\"\",IF(INDEX(Vložit!B:B,A475+1)=\"\",\"\",INDEX(Vložit!B:B,A475+1)))","v":""},{"$f":"IF(A475=\"\",\"\",MID(INDEX(Vložit!A:A,A475),19,10))","v":""},{"$f":"IF(A475=\"\",\"\",IF(INDEX(Vložit!B:B,A475+5)=\"\",\"\",VLOOKUP(INDEX(Vložit!B:B,A475+5),Pomocná!B474:C10473,2,FALSE)))","v":""},{"$f":"IF(A475=\"\",\"\",INDEX(Vložit!B:B,A475+2))","v":""},{"$f":"IF(A475=\"\",\"\",IF(INDEX(Vložit!B:B,A475+3)=\"\",\"\",INDEX(Vložit!B:B,A475+3)))","v":""},{"$f":"IF(A475=\"\",\"\",INDEX(Vložit!B:B,A475+4))","v":""}]
[{"$f":"IF(A475=\"\",\"\",IF(INDEX(Vložit!A:A,(ROW(A475)-1)*17+2)<>\"\",(ROW(A475)-1)*17+2,\"\"))","v":""},{"$f":"IF(A476=\"\",\"\",\"Číslo smlouvy:  \"&INDEX(Vložit!B:B,A476+1)&CHAR(10)&\"Jméno a příjmení:  \"&INDEX(Vložit!B:B,A476+2)&CHAR(10)&\"Ulice:  \"&INDEX(Vložit!B:B,A476+3)&CHAR(10)&\"Č. pop. / č. orient.:  \"&INDEX(Vložit!B:B,A476+4)&CHAR(10)&\"Obec:  \"&INDEX(Vložit!B:B,A476+5))","v":""},{"$f":"IF(A476=\"\",\"\",INDEX(Vložit!A:A,A476)&CHAR(10)&\"Telefon: \"&INDEX(Vložit!B:B,A476+6)&\" / \"&INDEX(Vložit!B:B,A476+7)&CHAR(10)&\"Typ objednávky: \"&INDEX(Vložit!D:D,A476+1)&CHAR(10)&INDEX(Vložit!C:C,A476)&CHAR(10)&INDEX(Vložit!D:D,A476))","v":""},{"$f":"IF(A476=\"\",\"\",IF(INDEX(Vložit!B:B,A476+8)=\"\",\"\",\"Instrukce: \"&INDEX(Vložit!B:B,A476+8)))","v":""},{"$f":"IF(A476=\"\",\"\",IF(INDEX(Vložit!B:B,A476+1)=\"\",\"\",INDEX(Vložit!B:B,A476+1)))","v":""},{"$f":"IF(A476=\"\",\"\",MID(INDEX(Vložit!A:A,A476),19,10))","v":""},{"$f":"IF(A476=\"\",\"\",IF(INDEX(Vložit!B:B,A476+5)=\"\",\"\",VLOOKUP(INDEX(Vložit!B:B,A476+5),Pomocná!B475:C10474,2,FALSE)))","v":""},{"$f":"IF(A476=\"\",\"\",INDEX(Vložit!B:B,A476+2))","v":""},{"$f":"IF(A476=\"\",\"\",IF(INDEX(Vložit!B:B,A476+3)=\"\",\"\",INDEX(Vložit!B:B,A476+3)))","v":""},{"$f":"IF(A476=\"\",\"\",INDEX(Vložit!B:B,A476+4))","v":""}]
[{"$f":"IF(A476=\"\",\"\",IF(INDEX(Vložit!A:A,(ROW(A476)-1)*17+2)<>\"\",(ROW(A476)-1)*17+2,\"\"))","v":""},{"$f":"IF(A477=\"\",\"\",\"Číslo smlouvy:  \"&INDEX(Vložit!B:B,A477+1)&CHAR(10)&\"Jméno a příjmení:  \"&INDEX(Vložit!B:B,A477+2)&CHAR(10)&\"Ulice:  \"&INDEX(Vložit!B:B,A477+3)&CHAR(10)&\"Č. pop. / č. orient.:  \"&INDEX(Vložit!B:B,A477+4)&CHAR(10)&\"Obec:  \"&INDEX(Vložit!B:B,A477+5))","v":""},{"$f":"IF(A477=\"\",\"\",INDEX(Vložit!A:A,A477)&CHAR(10)&\"Telefon: \"&INDEX(Vložit!B:B,A477+6)&\" / \"&INDEX(Vložit!B:B,A477+7)&CHAR(10)&\"Typ objednávky: \"&INDEX(Vložit!D:D,A477+1)&CHAR(10)&INDEX(Vložit!C:C,A477)&CHAR(10)&INDEX(Vložit!D:D,A477))","v":""},{"$f":"IF(A477=\"\",\"\",IF(INDEX(Vložit!B:B,A477+8)=\"\",\"\",\"Instrukce: \"&INDEX(Vložit!B:B,A477+8)))","v":""},{"$f":"IF(A477=\"\",\"\",IF(INDEX(Vložit!B:B,A477+1)=\"\",\"\",INDEX(Vložit!B:B,A477+1)))","v":""},{"$f":"IF(A477=\"\",\"\",MID(INDEX(Vložit!A:A,A477),19,10))","v":""},{"$f":"IF(A477=\"\",\"\",IF(INDEX(Vložit!B:B,A477+5)=\"\",\"\",VLOOKUP(INDEX(Vložit!B:B,A477+5),Pomocná!B476:C10475,2,FALSE)))","v":""},{"$f":"IF(A477=\"\",\"\",INDEX(Vložit!B:B,A477+2))","v":""},{"$f":"IF(A477=\"\",\"\",IF(INDEX(Vložit!B:B,A477+3)=\"\",\"\",INDEX(Vložit!B:B,A477+3)))","v":""},{"$f":"IF(A477=\"\",\"\",INDEX(Vložit!B:B,A477+4))","v":""}]
[{"$f":"IF(A477=\"\",\"\",IF(INDEX(Vložit!A:A,(ROW(A477)-1)*17+2)<>\"\",(ROW(A477)-1)*17+2,\"\"))","v":""},{"$f":"IF(A478=\"\",\"\",\"Číslo smlouvy:  \"&INDEX(Vložit!B:B,A478+1)&CHAR(10)&\"Jméno a příjmení:  \"&INDEX(Vložit!B:B,A478+2)&CHAR(10)&\"Ulice:  \"&INDEX(Vložit!B:B,A478+3)&CHAR(10)&\"Č. pop. / č. orient.:  \"&INDEX(Vložit!B:B,A478+4)&CHAR(10)&\"Obec:  \"&INDEX(Vložit!B:B,A478+5))","v":""},{"$f":"IF(A478=\"\",\"\",INDEX(Vložit!A:A,A478)&CHAR(10)&\"Telefon: \"&INDEX(Vložit!B:B,A478+6)&\" / \"&INDEX(Vložit!B:B,A478+7)&CHAR(10)&\"Typ objednávky: \"&INDEX(Vložit!D:D,A478+1)&CHAR(10)&INDEX(Vložit!C:C,A478)&CHAR(10)&INDEX(Vložit!D:D,A478))","v":""},{"$f":"IF(A478=\"\",\"\",IF(INDEX(Vložit!B:B,A478+8)=\"\",\"\",\"Instrukce: \"&INDEX(Vložit!B:B,A478+8)))","v":""},{"$f":"IF(A478=\"\",\"\",IF(INDEX(Vložit!B:B,A478+1)=\"\",\"\",INDEX(Vložit!B:B,A478+1)))","v":""},{"$f":"IF(A478=\"\",\"\",MID(INDEX(Vložit!A:A,A478),19,10))","v":""},{"$f":"IF(A478=\"\",\"\",IF(INDEX(Vložit!B:B,A478+5)=\"\",\"\",VLOOKUP(INDEX(Vložit!B:B,A478+5),Pomocná!B477:C10476,2,FALSE)))","v":""},{"$f":"IF(A478=\"\",\"\",INDEX(Vložit!B:B,A478+2))","v":""},{"$f":"IF(A478=\"\",\"\",IF(INDEX(Vložit!B:B,A478+3)=\"\",\"\",INDEX(Vložit!B:B,A478+3)))","v":""},{"$f":"IF(A478=\"\",\"\",INDEX(Vložit!B:B,A478+4))","v":""}]
[{"$f":"IF(A478=\"\",\"\",IF(INDEX(Vložit!A:A,(ROW(A478)-1)*17+2)<>\"\",(ROW(A478)-1)*17+2,\"\"))","v":""},{"$f":"IF(A479=\"\",\"\",\"Číslo smlouvy:  \"&INDEX(Vložit!B:B,A479+1)&CHAR(10)&\"Jméno a příjmení:  \"&INDEX(Vložit!B:B,A479+2)&CHAR(10)&\"Ulice:  \"&INDEX(Vložit!B:B,A479+3)&CHAR(10)&\"Č. pop. / č. orient.:  \"&INDEX(Vložit!B:B,A479+4)&CHAR(10)&\"Obec:  \"&INDEX(Vložit!B:B,A479+5))","v":""},{"$f":"IF(A479=\"\",\"\",INDEX(Vložit!A:A,A479)&CHAR(10)&\"Telefon: \"&INDEX(Vložit!B:B,A479+6)&\" / \"&INDEX(Vložit!B:B,A479+7)&CHAR(10)&\"Typ objednávky: \"&INDEX(Vložit!D:D,A479+1)&CHAR(10)&INDEX(Vložit!C:C,A479)&CHAR(10)&INDEX(Vložit!D:D,A479))","v":""},{"$f":"IF(A479=\"\",\"\",IF(INDEX(Vložit!B:B,A479+8)=\"\",\"\",\"Instrukce: \"&INDEX(Vložit!B:B,A479+8)))","v":""},{"$f":"IF(A479=\"\",\"\",IF(INDEX(Vložit!B:B,A479+1)=\"\",\"\",INDEX(Vložit!B:B,A479+1)))","v":""},{"$f":"IF(A479=\"\",\"\",MID(INDEX(Vložit!A:A,A479),19,10))","v":""},{"$f":"IF(A479=\"\",\"\",IF(INDEX(Vložit!B:B,A479+5)=\"\",\"\",VLOOKUP(INDEX(Vložit!B:B,A479+5),Pomocná!B478:C10477,2,FALSE)))","v":""},{"$f":"IF(A479=\"\",\"\",INDEX(Vložit!B:B,A479+2))","v":""},{"$f":"IF(A479=\"\",\"\",IF(INDEX(Vložit!B:B,A479+3)=\"\",\"\",INDEX(Vložit!B:B,A479+3)))","v":""},{"$f":"IF(A479=\"\",\"\",INDEX(Vložit!B:B,A479+4))","v":""}]
[{"$f":"IF(A479=\"\",\"\",IF(INDEX(Vložit!A:A,(ROW(A479)-1)*17+2)<>\"\",(ROW(A479)-1)*17+2,\"\"))","v":""},{"$f":"IF(A480=\"\",\"\",\"Číslo smlouvy:  \"&INDEX(Vložit!B:B,A480+1)&CHAR(10)&\"Jméno a příjmení:  \"&INDEX(Vložit!B:B,A480+2)&CHAR(10)&\"Ulice:  \"&INDEX(Vložit!B:B,A480+3)&CHAR(10)&\"Č. pop. / č. orient.:  \"&INDEX(Vložit!B:B,A480+4)&CHAR(10)&\"Obec:  \"&INDEX(Vložit!B:B,A480+5))","v":""},{"$f":"IF(A480=\"\",\"\",INDEX(Vložit!A:A,A480)&CHAR(10)&\"Telefon: \"&INDEX(Vložit!B:B,A480+6)&\" / \"&INDEX(Vložit!B:B,A480+7)&CHAR(10)&\"Typ objednávky: \"&INDEX(Vložit!D:D,A480+1)&CHAR(10)&INDEX(Vložit!C:C,A480)&CHAR(10)&INDEX(Vložit!D:D,A480))","v":""},{"$f":"IF(A480=\"\",\"\",IF(INDEX(Vložit!B:B,A480+8)=\"\",\"\",\"Instrukce: \"&INDEX(Vložit!B:B,A480+8)))","v":""},{"$f":"IF(A480=\"\",\"\",IF(INDEX(Vložit!B:B,A480+1)=\"\",\"\",INDEX(Vložit!B:B,A480+1)))","v":""},{"$f":"IF(A480=\"\",\"\",MID(INDEX(Vložit!A:A,A480),19,10))","v":""},{"$f":"IF(A480=\"\",\"\",IF(INDEX(Vložit!B:B,A480+5)=\"\",\"\",VLOOKUP(INDEX(Vložit!B:B,A480+5),Pomocná!B479:C10478,2,FALSE)))","v":""},{"$f":"IF(A480=\"\",\"\",INDEX(Vložit!B:B,A480+2))","v":""},{"$f":"IF(A480=\"\",\"\",IF(INDEX(Vložit!B:B,A480+3)=\"\",\"\",INDEX(Vložit!B:B,A480+3)))","v":""},{"$f":"IF(A480=\"\",\"\",INDEX(Vložit!B:B,A480+4))","v":""}]
[{"$f":"IF(A480=\"\",\"\",IF(INDEX(Vložit!A:A,(ROW(A480)-1)*17+2)<>\"\",(ROW(A480)-1)*17+2,\"\"))","v":""},{"$f":"IF(A481=\"\",\"\",\"Číslo smlouvy:  \"&INDEX(Vložit!B:B,A481+1)&CHAR(10)&\"Jméno a příjmení:  \"&INDEX(Vložit!B:B,A481+2)&CHAR(10)&\"Ulice:  \"&INDEX(Vložit!B:B,A481+3)&CHAR(10)&\"Č. pop. / č. orient.:  \"&INDEX(Vložit!B:B,A481+4)&CHAR(10)&\"Obec:  \"&INDEX(Vložit!B:B,A481+5))","v":""},{"$f":"IF(A481=\"\",\"\",INDEX(Vložit!A:A,A481)&CHAR(10)&\"Telefon: \"&INDEX(Vložit!B:B,A481+6)&\" / \"&INDEX(Vložit!B:B,A481+7)&CHAR(10)&\"Typ objednávky: \"&INDEX(Vložit!D:D,A481+1)&CHAR(10)&INDEX(Vložit!C:C,A481)&CHAR(10)&INDEX(Vložit!D:D,A481))","v":""},{"$f":"IF(A481=\"\",\"\",IF(INDEX(Vložit!B:B,A481+8)=\"\",\"\",\"Instrukce: \"&INDEX(Vložit!B:B,A481+8)))","v":""},{"$f":"IF(A481=\"\",\"\",IF(INDEX(Vložit!B:B,A481+1)=\"\",\"\",INDEX(Vložit!B:B,A481+1)))","v":""},{"$f":"IF(A481=\"\",\"\",MID(INDEX(Vložit!A:A,A481),19,10))","v":""},{"$f":"IF(A481=\"\",\"\",IF(INDEX(Vložit!B:B,A481+5)=\"\",\"\",VLOOKUP(INDEX(Vložit!B:B,A481+5),Pomocná!B480:C10479,2,FALSE)))","v":""},{"$f":"IF(A481=\"\",\"\",INDEX(Vložit!B:B,A481+2))","v":""},{"$f":"IF(A481=\"\",\"\",IF(INDEX(Vložit!B:B,A481+3)=\"\",\"\",INDEX(Vložit!B:B,A481+3)))","v":""},{"$f":"IF(A481=\"\",\"\",INDEX(Vložit!B:B,A481+4))","v":""}]
[{"$f":"IF(A481=\"\",\"\",IF(INDEX(Vložit!A:A,(ROW(A481)-1)*17+2)<>\"\",(ROW(A481)-1)*17+2,\"\"))","v":""},{"$f":"IF(A482=\"\",\"\",\"Číslo smlouvy:  \"&INDEX(Vložit!B:B,A482+1)&CHAR(10)&\"Jméno a příjmení:  \"&INDEX(Vložit!B:B,A482+2)&CHAR(10)&\"Ulice:  \"&INDEX(Vložit!B:B,A482+3)&CHAR(10)&\"Č. pop. / č. orient.:  \"&INDEX(Vložit!B:B,A482+4)&CHAR(10)&\"Obec:  \"&INDEX(Vložit!B:B,A482+5))","v":""},{"$f":"IF(A482=\"\",\"\",INDEX(Vložit!A:A,A482)&CHAR(10)&\"Telefon: \"&INDEX(Vložit!B:B,A482+6)&\" / \"&INDEX(Vložit!B:B,A482+7)&CHAR(10)&\"Typ objednávky: \"&INDEX(Vložit!D:D,A482+1)&CHAR(10)&INDEX(Vložit!C:C,A482)&CHAR(10)&INDEX(Vložit!D:D,A482))","v":""},{"$f":"IF(A482=\"\",\"\",IF(INDEX(Vložit!B:B,A482+8)=\"\",\"\",\"Instrukce: \"&INDEX(Vložit!B:B,A482+8)))","v":""},{"$f":"IF(A482=\"\",\"\",IF(INDEX(Vložit!B:B,A482+1)=\"\",\"\",INDEX(Vložit!B:B,A482+1)))","v":""},{"$f":"IF(A482=\"\",\"\",MID(INDEX(Vložit!A:A,A482),19,10))","v":""},{"$f":"IF(A482=\"\",\"\",IF(INDEX(Vložit!B:B,A482+5)=\"\",\"\",VLOOKUP(INDEX(Vložit!B:B,A482+5),Pomocná!B481:C10480,2,FALSE)))","v":""},{"$f":"IF(A482=\"\",\"\",INDEX(Vložit!B:B,A482+2))","v":""},{"$f":"IF(A482=\"\",\"\",IF(INDEX(Vložit!B:B,A482+3)=\"\",\"\",INDEX(Vložit!B:B,A482+3)))","v":""},{"$f":"IF(A482=\"\",\"\",INDEX(Vložit!B:B,A482+4))","v":""}]
[{"$f":"IF(A482=\"\",\"\",IF(INDEX(Vložit!A:A,(ROW(A482)-1)*17+2)<>\"\",(ROW(A482)-1)*17+2,\"\"))","v":""},{"$f":"IF(A483=\"\",\"\",\"Číslo smlouvy:  \"&INDEX(Vložit!B:B,A483+1)&CHAR(10)&\"Jméno a příjmení:  \"&INDEX(Vložit!B:B,A483+2)&CHAR(10)&\"Ulice:  \"&INDEX(Vložit!B:B,A483+3)&CHAR(10)&\"Č. pop. / č. orient.:  \"&INDEX(Vložit!B:B,A483+4)&CHAR(10)&\"Obec:  \"&INDEX(Vložit!B:B,A483+5))","v":""},{"$f":"IF(A483=\"\",\"\",INDEX(Vložit!A:A,A483)&CHAR(10)&\"Telefon: \"&INDEX(Vložit!B:B,A483+6)&\" / \"&INDEX(Vložit!B:B,A483+7)&CHAR(10)&\"Typ objednávky: \"&INDEX(Vložit!D:D,A483+1)&CHAR(10)&INDEX(Vložit!C:C,A483)&CHAR(10)&INDEX(Vložit!D:D,A483))","v":""},{"$f":"IF(A483=\"\",\"\",IF(INDEX(Vložit!B:B,A483+8)=\"\",\"\",\"Instrukce: \"&INDEX(Vložit!B:B,A483+8)))","v":""},{"$f":"IF(A483=\"\",\"\",IF(INDEX(Vložit!B:B,A483+1)=\"\",\"\",INDEX(Vložit!B:B,A483+1)))","v":""},{"$f":"IF(A483=\"\",\"\",MID(INDEX(Vložit!A:A,A483),19,10))","v":""},{"$f":"IF(A483=\"\",\"\",IF(INDEX(Vložit!B:B,A483+5)=\"\",\"\",VLOOKUP(INDEX(Vložit!B:B,A483+5),Pomocná!B482:C10481,2,FALSE)))","v":""},{"$f":"IF(A483=\"\",\"\",INDEX(Vložit!B:B,A483+2))","v":""},{"$f":"IF(A483=\"\",\"\",IF(INDEX(Vložit!B:B,A483+3)=\"\",\"\",INDEX(Vložit!B:B,A483+3)))","v":""},{"$f":"IF(A483=\"\",\"\",INDEX(Vložit!B:B,A483+4))","v":""}]
[{"$f":"IF(A483=\"\",\"\",IF(INDEX(Vložit!A:A,(ROW(A483)-1)*17+2)<>\"\",(ROW(A483)-1)*17+2,\"\"))","v":""},{"$f":"IF(A484=\"\",\"\",\"Číslo smlouvy:  \"&INDEX(Vložit!B:B,A484+1)&CHAR(10)&\"Jméno a příjmení:  \"&INDEX(Vložit!B:B,A484+2)&CHAR(10)&\"Ulice:  \"&INDEX(Vložit!B:B,A484+3)&CHAR(10)&\"Č. pop. / č. orient.:  \"&INDEX(Vložit!B:B,A484+4)&CHAR(10)&\"Obec:  \"&INDEX(Vložit!B:B,A484+5))","v":""},{"$f":"IF(A484=\"\",\"\",INDEX(Vložit!A:A,A484)&CHAR(10)&\"Telefon: \"&INDEX(Vložit!B:B,A484+6)&\" / \"&INDEX(Vložit!B:B,A484+7)&CHAR(10)&\"Typ objednávky: \"&INDEX(Vložit!D:D,A484+1)&CHAR(10)&INDEX(Vložit!C:C,A484)&CHAR(10)&INDEX(Vložit!D:D,A484))","v":""},{"$f":"IF(A484=\"\",\"\",IF(INDEX(Vložit!B:B,A484+8)=\"\",\"\",\"Instrukce: \"&INDEX(Vložit!B:B,A484+8)))","v":""},{"$f":"IF(A484=\"\",\"\",IF(INDEX(Vložit!B:B,A484+1)=\"\",\"\",INDEX(Vložit!B:B,A484+1)))","v":""},{"$f":"IF(A484=\"\",\"\",MID(INDEX(Vložit!A:A,A484),19,10))","v":""},{"$f":"IF(A484=\"\",\"\",IF(INDEX(Vložit!B:B,A484+5)=\"\",\"\",VLOOKUP(INDEX(Vložit!B:B,A484+5),Pomocná!B483:C10482,2,FALSE)))","v":""},{"$f":"IF(A484=\"\",\"\",INDEX(Vložit!B:B,A484+2))","v":""},{"$f":"IF(A484=\"\",\"\",IF(INDEX(Vložit!B:B,A484+3)=\"\",\"\",INDEX(Vložit!B:B,A484+3)))","v":""},{"$f":"IF(A484=\"\",\"\",INDEX(Vložit!B:B,A484+4))","v":""}]
[{"$f":"IF(A484=\"\",\"\",IF(INDEX(Vložit!A:A,(ROW(A484)-1)*17+2)<>\"\",(ROW(A484)-1)*17+2,\"\"))","v":""},{"$f":"IF(A485=\"\",\"\",\"Číslo smlouvy:  \"&INDEX(Vložit!B:B,A485+1)&CHAR(10)&\"Jméno a příjmení:  \"&INDEX(Vložit!B:B,A485+2)&CHAR(10)&\"Ulice:  \"&INDEX(Vložit!B:B,A485+3)&CHAR(10)&\"Č. pop. / č. orient.:  \"&INDEX(Vložit!B:B,A485+4)&CHAR(10)&\"Obec:  \"&INDEX(Vložit!B:B,A485+5))","v":""},{"$f":"IF(A485=\"\",\"\",INDEX(Vložit!A:A,A485)&CHAR(10)&\"Telefon: \"&INDEX(Vložit!B:B,A485+6)&\" / \"&INDEX(Vložit!B:B,A485+7)&CHAR(10)&\"Typ objednávky: \"&INDEX(Vložit!D:D,A485+1)&CHAR(10)&INDEX(Vložit!C:C,A485)&CHAR(10)&INDEX(Vložit!D:D,A485))","v":""},{"$f":"IF(A485=\"\",\"\",IF(INDEX(Vložit!B:B,A485+8)=\"\",\"\",\"Instrukce: \"&INDEX(Vložit!B:B,A485+8)))","v":""},{"$f":"IF(A485=\"\",\"\",IF(INDEX(Vložit!B:B,A485+1)=\"\",\"\",INDEX(Vložit!B:B,A485+1)))","v":""},{"$f":"IF(A485=\"\",\"\",MID(INDEX(Vložit!A:A,A485),19,10))","v":""},{"$f":"IF(A485=\"\",\"\",IF(INDEX(Vložit!B:B,A485+5)=\"\",\"\",VLOOKUP(INDEX(Vložit!B:B,A485+5),Pomocná!B484:C10483,2,FALSE)))","v":""},{"$f":"IF(A485=\"\",\"\",INDEX(Vložit!B:B,A485+2))","v":""},{"$f":"IF(A485=\"\",\"\",IF(INDEX(Vložit!B:B,A485+3)=\"\",\"\",INDEX(Vložit!B:B,A485+3)))","v":""},{"$f":"IF(A485=\"\",\"\",INDEX(Vložit!B:B,A485+4))","v":""}]
[{"$f":"IF(A485=\"\",\"\",IF(INDEX(Vložit!A:A,(ROW(A485)-1)*17+2)<>\"\",(ROW(A485)-1)*17+2,\"\"))","v":""},{"$f":"IF(A486=\"\",\"\",\"Číslo smlouvy:  \"&INDEX(Vložit!B:B,A486+1)&CHAR(10)&\"Jméno a příjmení:  \"&INDEX(Vložit!B:B,A486+2)&CHAR(10)&\"Ulice:  \"&INDEX(Vložit!B:B,A486+3)&CHAR(10)&\"Č. pop. / č. orient.:  \"&INDEX(Vložit!B:B,A486+4)&CHAR(10)&\"Obec:  \"&INDEX(Vložit!B:B,A486+5))","v":""},{"$f":"IF(A486=\"\",\"\",INDEX(Vložit!A:A,A486)&CHAR(10)&\"Telefon: \"&INDEX(Vložit!B:B,A486+6)&\" / \"&INDEX(Vložit!B:B,A486+7)&CHAR(10)&\"Typ objednávky: \"&INDEX(Vložit!D:D,A486+1)&CHAR(10)&INDEX(Vložit!C:C,A486)&CHAR(10)&INDEX(Vložit!D:D,A486))","v":""},{"$f":"IF(A486=\"\",\"\",IF(INDEX(Vložit!B:B,A486+8)=\"\",\"\",\"Instrukce: \"&INDEX(Vložit!B:B,A486+8)))","v":""},{"$f":"IF(A486=\"\",\"\",IF(INDEX(Vložit!B:B,A486+1)=\"\",\"\",INDEX(Vložit!B:B,A486+1)))","v":""},{"$f":"IF(A486=\"\",\"\",MID(INDEX(Vložit!A:A,A486),19,10))","v":""},{"$f":"IF(A486=\"\",\"\",IF(INDEX(Vložit!B:B,A486+5)=\"\",\"\",VLOOKUP(INDEX(Vložit!B:B,A486+5),Pomocná!B485:C10484,2,FALSE)))","v":""},{"$f":"IF(A486=\"\",\"\",INDEX(Vložit!B:B,A486+2))","v":""},{"$f":"IF(A486=\"\",\"\",IF(INDEX(Vložit!B:B,A486+3)=\"\",\"\",INDEX(Vložit!B:B,A486+3)))","v":""},{"$f":"IF(A486=\"\",\"\",INDEX(Vložit!B:B,A486+4))","v":""}]
[{"$f":"IF(A486=\"\",\"\",IF(INDEX(Vložit!A:A,(ROW(A486)-1)*17+2)<>\"\",(ROW(A486)-1)*17+2,\"\"))","v":""},{"$f":"IF(A487=\"\",\"\",\"Číslo smlouvy:  \"&INDEX(Vložit!B:B,A487+1)&CHAR(10)&\"Jméno a příjmení:  \"&INDEX(Vložit!B:B,A487+2)&CHAR(10)&\"Ulice:  \"&INDEX(Vložit!B:B,A487+3)&CHAR(10)&\"Č. pop. / č. orient.:  \"&INDEX(Vložit!B:B,A487+4)&CHAR(10)&\"Obec:  \"&INDEX(Vložit!B:B,A487+5))","v":""},{"$f":"IF(A487=\"\",\"\",INDEX(Vložit!A:A,A487)&CHAR(10)&\"Telefon: \"&INDEX(Vložit!B:B,A487+6)&\" / \"&INDEX(Vložit!B:B,A487+7)&CHAR(10)&\"Typ objednávky: \"&INDEX(Vložit!D:D,A487+1)&CHAR(10)&INDEX(Vložit!C:C,A487)&CHAR(10)&INDEX(Vložit!D:D,A487))","v":""},{"$f":"IF(A487=\"\",\"\",IF(INDEX(Vložit!B:B,A487+8)=\"\",\"\",\"Instrukce: \"&INDEX(Vložit!B:B,A487+8)))","v":""},{"$f":"IF(A487=\"\",\"\",IF(INDEX(Vložit!B:B,A487+1)=\"\",\"\",INDEX(Vložit!B:B,A487+1)))","v":""},{"$f":"IF(A487=\"\",\"\",MID(INDEX(Vložit!A:A,A487),19,10))","v":""},{"$f":"IF(A487=\"\",\"\",IF(INDEX(Vložit!B:B,A487+5)=\"\",\"\",VLOOKUP(INDEX(Vložit!B:B,A487+5),Pomocná!B486:C10485,2,FALSE)))","v":""},{"$f":"IF(A487=\"\",\"\",INDEX(Vložit!B:B,A487+2))","v":""},{"$f":"IF(A487=\"\",\"\",IF(INDEX(Vložit!B:B,A487+3)=\"\",\"\",INDEX(Vložit!B:B,A487+3)))","v":""},{"$f":"IF(A487=\"\",\"\",INDEX(Vložit!B:B,A487+4))","v":""}]
[{"$f":"IF(A487=\"\",\"\",IF(INDEX(Vložit!A:A,(ROW(A487)-1)*17+2)<>\"\",(ROW(A487)-1)*17+2,\"\"))","v":""},{"$f":"IF(A488=\"\",\"\",\"Číslo smlouvy:  \"&INDEX(Vložit!B:B,A488+1)&CHAR(10)&\"Jméno a příjmení:  \"&INDEX(Vložit!B:B,A488+2)&CHAR(10)&\"Ulice:  \"&INDEX(Vložit!B:B,A488+3)&CHAR(10)&\"Č. pop. / č. orient.:  \"&INDEX(Vložit!B:B,A488+4)&CHAR(10)&\"Obec:  \"&INDEX(Vložit!B:B,A488+5))","v":""},{"$f":"IF(A488=\"\",\"\",INDEX(Vložit!A:A,A488)&CHAR(10)&\"Telefon: \"&INDEX(Vložit!B:B,A488+6)&\" / \"&INDEX(Vložit!B:B,A488+7)&CHAR(10)&\"Typ objednávky: \"&INDEX(Vložit!D:D,A488+1)&CHAR(10)&INDEX(Vložit!C:C,A488)&CHAR(10)&INDEX(Vložit!D:D,A488))","v":""},{"$f":"IF(A488=\"\",\"\",IF(INDEX(Vložit!B:B,A488+8)=\"\",\"\",\"Instrukce: \"&INDEX(Vložit!B:B,A488+8)))","v":""},{"$f":"IF(A488=\"\",\"\",IF(INDEX(Vložit!B:B,A488+1)=\"\",\"\",INDEX(Vložit!B:B,A488+1)))","v":""},{"$f":"IF(A488=\"\",\"\",MID(INDEX(Vložit!A:A,A488),19,10))","v":""},{"$f":"IF(A488=\"\",\"\",IF(INDEX(Vložit!B:B,A488+5)=\"\",\"\",VLOOKUP(INDEX(Vložit!B:B,A488+5),Pomocná!B487:C10486,2,FALSE)))","v":""},{"$f":"IF(A488=\"\",\"\",INDEX(Vložit!B:B,A488+2))","v":""},{"$f":"IF(A488=\"\",\"\",IF(INDEX(Vložit!B:B,A488+3)=\"\",\"\",INDEX(Vložit!B:B,A488+3)))","v":""},{"$f":"IF(A488=\"\",\"\",INDEX(Vložit!B:B,A488+4))","v":""}]
[{"$f":"IF(A488=\"\",\"\",IF(INDEX(Vložit!A:A,(ROW(A488)-1)*17+2)<>\"\",(ROW(A488)-1)*17+2,\"\"))","v":""},{"$f":"IF(A489=\"\",\"\",\"Číslo smlouvy:  \"&INDEX(Vložit!B:B,A489+1)&CHAR(10)&\"Jméno a příjmení:  \"&INDEX(Vložit!B:B,A489+2)&CHAR(10)&\"Ulice:  \"&INDEX(Vložit!B:B,A489+3)&CHAR(10)&\"Č. pop. / č. orient.:  \"&INDEX(Vložit!B:B,A489+4)&CHAR(10)&\"Obec:  \"&INDEX(Vložit!B:B,A489+5))","v":""},{"$f":"IF(A489=\"\",\"\",INDEX(Vložit!A:A,A489)&CHAR(10)&\"Telefon: \"&INDEX(Vložit!B:B,A489+6)&\" / \"&INDEX(Vložit!B:B,A489+7)&CHAR(10)&\"Typ objednávky: \"&INDEX(Vložit!D:D,A489+1)&CHAR(10)&INDEX(Vložit!C:C,A489)&CHAR(10)&INDEX(Vložit!D:D,A489))","v":""},{"$f":"IF(A489=\"\",\"\",IF(INDEX(Vložit!B:B,A489+8)=\"\",\"\",\"Instrukce: \"&INDEX(Vložit!B:B,A489+8)))","v":""},{"$f":"IF(A489=\"\",\"\",IF(INDEX(Vložit!B:B,A489+1)=\"\",\"\",INDEX(Vložit!B:B,A489+1)))","v":""},{"$f":"IF(A489=\"\",\"\",MID(INDEX(Vložit!A:A,A489),19,10))","v":""},{"$f":"IF(A489=\"\",\"\",IF(INDEX(Vložit!B:B,A489+5)=\"\",\"\",VLOOKUP(INDEX(Vložit!B:B,A489+5),Pomocná!B488:C10487,2,FALSE)))","v":""},{"$f":"IF(A489=\"\",\"\",INDEX(Vložit!B:B,A489+2))","v":""},{"$f":"IF(A489=\"\",\"\",IF(INDEX(Vložit!B:B,A489+3)=\"\",\"\",INDEX(Vložit!B:B,A489+3)))","v":""},{"$f":"IF(A489=\"\",\"\",INDEX(Vložit!B:B,A489+4))","v":""}]
[{"$f":"IF(A489=\"\",\"\",IF(INDEX(Vložit!A:A,(ROW(A489)-1)*17+2)<>\"\",(ROW(A489)-1)*17+2,\"\"))","v":""},{"$f":"IF(A490=\"\",\"\",\"Číslo smlouvy:  \"&INDEX(Vložit!B:B,A490+1)&CHAR(10)&\"Jméno a příjmení:  \"&INDEX(Vložit!B:B,A490+2)&CHAR(10)&\"Ulice:  \"&INDEX(Vložit!B:B,A490+3)&CHAR(10)&\"Č. pop. / č. orient.:  \"&INDEX(Vložit!B:B,A490+4)&CHAR(10)&\"Obec:  \"&INDEX(Vložit!B:B,A490+5))","v":""},{"$f":"IF(A490=\"\",\"\",INDEX(Vložit!A:A,A490)&CHAR(10)&\"Telefon: \"&INDEX(Vložit!B:B,A490+6)&\" / \"&INDEX(Vložit!B:B,A490+7)&CHAR(10)&\"Typ objednávky: \"&INDEX(Vložit!D:D,A490+1)&CHAR(10)&INDEX(Vložit!C:C,A490)&CHAR(10)&INDEX(Vložit!D:D,A490))","v":""},{"$f":"IF(A490=\"\",\"\",IF(INDEX(Vložit!B:B,A490+8)=\"\",\"\",\"Instrukce: \"&INDEX(Vložit!B:B,A490+8)))","v":""},{"$f":"IF(A490=\"\",\"\",IF(INDEX(Vložit!B:B,A490+1)=\"\",\"\",INDEX(Vložit!B:B,A490+1)))","v":""},{"$f":"IF(A490=\"\",\"\",MID(INDEX(Vložit!A:A,A490),19,10))","v":""},{"$f":"IF(A490=\"\",\"\",IF(INDEX(Vložit!B:B,A490+5)=\"\",\"\",VLOOKUP(INDEX(Vložit!B:B,A490+5),Pomocná!B489:C10488,2,FALSE)))","v":""},{"$f":"IF(A490=\"\",\"\",INDEX(Vložit!B:B,A490+2))","v":""},{"$f":"IF(A490=\"\",\"\",IF(INDEX(Vložit!B:B,A490+3)=\"\",\"\",INDEX(Vložit!B:B,A490+3)))","v":""},{"$f":"IF(A490=\"\",\"\",INDEX(Vložit!B:B,A490+4))","v":""}]
[{"$f":"IF(A490=\"\",\"\",IF(INDEX(Vložit!A:A,(ROW(A490)-1)*17+2)<>\"\",(ROW(A490)-1)*17+2,\"\"))","v":""},{"$f":"IF(A491=\"\",\"\",\"Číslo smlouvy:  \"&INDEX(Vložit!B:B,A491+1)&CHAR(10)&\"Jméno a příjmení:  \"&INDEX(Vložit!B:B,A491+2)&CHAR(10)&\"Ulice:  \"&INDEX(Vložit!B:B,A491+3)&CHAR(10)&\"Č. pop. / č. orient.:  \"&INDEX(Vložit!B:B,A491+4)&CHAR(10)&\"Obec:  \"&INDEX(Vložit!B:B,A491+5))","v":""},{"$f":"IF(A491=\"\",\"\",INDEX(Vložit!A:A,A491)&CHAR(10)&\"Telefon: \"&INDEX(Vložit!B:B,A491+6)&\" / \"&INDEX(Vložit!B:B,A491+7)&CHAR(10)&\"Typ objednávky: \"&INDEX(Vložit!D:D,A491+1)&CHAR(10)&INDEX(Vložit!C:C,A491)&CHAR(10)&INDEX(Vložit!D:D,A491))","v":""},{"$f":"IF(A491=\"\",\"\",IF(INDEX(Vložit!B:B,A491+8)=\"\",\"\",\"Instrukce: \"&INDEX(Vložit!B:B,A491+8)))","v":""},{"$f":"IF(A491=\"\",\"\",IF(INDEX(Vložit!B:B,A491+1)=\"\",\"\",INDEX(Vložit!B:B,A491+1)))","v":""},{"$f":"IF(A491=\"\",\"\",MID(INDEX(Vložit!A:A,A491),19,10))","v":""},{"$f":"IF(A491=\"\",\"\",IF(INDEX(Vložit!B:B,A491+5)=\"\",\"\",VLOOKUP(INDEX(Vložit!B:B,A491+5),Pomocná!B490:C10489,2,FALSE)))","v":""},{"$f":"IF(A491=\"\",\"\",INDEX(Vložit!B:B,A491+2))","v":""},{"$f":"IF(A491=\"\",\"\",IF(INDEX(Vložit!B:B,A491+3)=\"\",\"\",INDEX(Vložit!B:B,A491+3)))","v":""},{"$f":"IF(A491=\"\",\"\",INDEX(Vložit!B:B,A491+4))","v":""}]
[{"$f":"IF(A491=\"\",\"\",IF(INDEX(Vložit!A:A,(ROW(A491)-1)*17+2)<>\"\",(ROW(A491)-1)*17+2,\"\"))","v":""},{"$f":"IF(A492=\"\",\"\",\"Číslo smlouvy:  \"&INDEX(Vložit!B:B,A492+1)&CHAR(10)&\"Jméno a příjmení:  \"&INDEX(Vložit!B:B,A492+2)&CHAR(10)&\"Ulice:  \"&INDEX(Vložit!B:B,A492+3)&CHAR(10)&\"Č. pop. / č. orient.:  \"&INDEX(Vložit!B:B,A492+4)&CHAR(10)&\"Obec:  \"&INDEX(Vložit!B:B,A492+5))","v":""},{"$f":"IF(A492=\"\",\"\",INDEX(Vložit!A:A,A492)&CHAR(10)&\"Telefon: \"&INDEX(Vložit!B:B,A492+6)&\" / \"&INDEX(Vložit!B:B,A492+7)&CHAR(10)&\"Typ objednávky: \"&INDEX(Vložit!D:D,A492+1)&CHAR(10)&INDEX(Vložit!C:C,A492)&CHAR(10)&INDEX(Vložit!D:D,A492))","v":""},{"$f":"IF(A492=\"\",\"\",IF(INDEX(Vložit!B:B,A492+8)=\"\",\"\",\"Instrukce: \"&INDEX(Vložit!B:B,A492+8)))","v":""},{"$f":"IF(A492=\"\",\"\",IF(INDEX(Vložit!B:B,A492+1)=\"\",\"\",INDEX(Vložit!B:B,A492+1)))","v":""},{"$f":"IF(A492=\"\",\"\",MID(INDEX(Vložit!A:A,A492),19,10))","v":""},{"$f":"IF(A492=\"\",\"\",IF(INDEX(Vložit!B:B,A492+5)=\"\",\"\",VLOOKUP(INDEX(Vložit!B:B,A492+5),Pomocná!B491:C10490,2,FALSE)))","v":""},{"$f":"IF(A492=\"\",\"\",INDEX(Vložit!B:B,A492+2))","v":""},{"$f":"IF(A492=\"\",\"\",IF(INDEX(Vložit!B:B,A492+3)=\"\",\"\",INDEX(Vložit!B:B,A492+3)))","v":""},{"$f":"IF(A492=\"\",\"\",INDEX(Vložit!B:B,A492+4))","v":""}]
[{"$f":"IF(A492=\"\",\"\",IF(INDEX(Vložit!A:A,(ROW(A492)-1)*17+2)<>\"\",(ROW(A492)-1)*17+2,\"\"))","v":""},{"$f":"IF(A493=\"\",\"\",\"Číslo smlouvy:  \"&INDEX(Vložit!B:B,A493+1)&CHAR(10)&\"Jméno a příjmení:  \"&INDEX(Vložit!B:B,A493+2)&CHAR(10)&\"Ulice:  \"&INDEX(Vložit!B:B,A493+3)&CHAR(10)&\"Č. pop. / č. orient.:  \"&INDEX(Vložit!B:B,A493+4)&CHAR(10)&\"Obec:  \"&INDEX(Vložit!B:B,A493+5))","v":""},{"$f":"IF(A493=\"\",\"\",INDEX(Vložit!A:A,A493)&CHAR(10)&\"Telefon: \"&INDEX(Vložit!B:B,A493+6)&\" / \"&INDEX(Vložit!B:B,A493+7)&CHAR(10)&\"Typ objednávky: \"&INDEX(Vložit!D:D,A493+1)&CHAR(10)&INDEX(Vložit!C:C,A493)&CHAR(10)&INDEX(Vložit!D:D,A493))","v":""},{"$f":"IF(A493=\"\",\"\",IF(INDEX(Vložit!B:B,A493+8)=\"\",\"\",\"Instrukce: \"&INDEX(Vložit!B:B,A493+8)))","v":""},{"$f":"IF(A493=\"\",\"\",IF(INDEX(Vložit!B:B,A493+1)=\"\",\"\",INDEX(Vložit!B:B,A493+1)))","v":""},{"$f":"IF(A493=\"\",\"\",MID(INDEX(Vložit!A:A,A493),19,10))","v":""},{"$f":"IF(A493=\"\",\"\",IF(INDEX(Vložit!B:B,A493+5)=\"\",\"\",VLOOKUP(INDEX(Vložit!B:B,A493+5),Pomocná!B492:C10491,2,FALSE)))","v":""},{"$f":"IF(A493=\"\",\"\",INDEX(Vložit!B:B,A493+2))","v":""},{"$f":"IF(A493=\"\",\"\",IF(INDEX(Vložit!B:B,A493+3)=\"\",\"\",INDEX(Vložit!B:B,A493+3)))","v":""},{"$f":"IF(A493=\"\",\"\",INDEX(Vložit!B:B,A493+4))","v":""}]
[{"$f":"IF(A493=\"\",\"\",IF(INDEX(Vložit!A:A,(ROW(A493)-1)*17+2)<>\"\",(ROW(A493)-1)*17+2,\"\"))","v":""},{"$f":"IF(A494=\"\",\"\",\"Číslo smlouvy:  \"&INDEX(Vložit!B:B,A494+1)&CHAR(10)&\"Jméno a příjmení:  \"&INDEX(Vložit!B:B,A494+2)&CHAR(10)&\"Ulice:  \"&INDEX(Vložit!B:B,A494+3)&CHAR(10)&\"Č. pop. / č. orient.:  \"&INDEX(Vložit!B:B,A494+4)&CHAR(10)&\"Obec:  \"&INDEX(Vložit!B:B,A494+5))","v":""},{"$f":"IF(A494=\"\",\"\",INDEX(Vložit!A:A,A494)&CHAR(10)&\"Telefon: \"&INDEX(Vložit!B:B,A494+6)&\" / \"&INDEX(Vložit!B:B,A494+7)&CHAR(10)&\"Typ objednávky: \"&INDEX(Vložit!D:D,A494+1)&CHAR(10)&INDEX(Vložit!C:C,A494)&CHAR(10)&INDEX(Vložit!D:D,A494))","v":""},{"$f":"IF(A494=\"\",\"\",IF(INDEX(Vložit!B:B,A494+8)=\"\",\"\",\"Instrukce: \"&INDEX(Vložit!B:B,A494+8)))","v":""},{"$f":"IF(A494=\"\",\"\",IF(INDEX(Vložit!B:B,A494+1)=\"\",\"\",INDEX(Vložit!B:B,A494+1)))","v":""},{"$f":"IF(A494=\"\",\"\",MID(INDEX(Vložit!A:A,A494),19,10))","v":""},{"$f":"IF(A494=\"\",\"\",IF(INDEX(Vložit!B:B,A494+5)=\"\",\"\",VLOOKUP(INDEX(Vložit!B:B,A494+5),Pomocná!B493:C10492,2,FALSE)))","v":""},{"$f":"IF(A494=\"\",\"\",INDEX(Vložit!B:B,A494+2))","v":""},{"$f":"IF(A494=\"\",\"\",IF(INDEX(Vložit!B:B,A494+3)=\"\",\"\",INDEX(Vložit!B:B,A494+3)))","v":""},{"$f":"IF(A494=\"\",\"\",INDEX(Vložit!B:B,A494+4))","v":""}]
[{"$f":"IF(A494=\"\",\"\",IF(INDEX(Vložit!A:A,(ROW(A494)-1)*17+2)<>\"\",(ROW(A494)-1)*17+2,\"\"))","v":""},{"$f":"IF(A495=\"\",\"\",\"Číslo smlouvy:  \"&INDEX(Vložit!B:B,A495+1)&CHAR(10)&\"Jméno a příjmení:  \"&INDEX(Vložit!B:B,A495+2)&CHAR(10)&\"Ulice:  \"&INDEX(Vložit!B:B,A495+3)&CHAR(10)&\"Č. pop. / č. orient.:  \"&INDEX(Vložit!B:B,A495+4)&CHAR(10)&\"Obec:  \"&INDEX(Vložit!B:B,A495+5))","v":""},{"$f":"IF(A495=\"\",\"\",INDEX(Vložit!A:A,A495)&CHAR(10)&\"Telefon: \"&INDEX(Vložit!B:B,A495+6)&\" / \"&INDEX(Vložit!B:B,A495+7)&CHAR(10)&\"Typ objednávky: \"&INDEX(Vložit!D:D,A495+1)&CHAR(10)&INDEX(Vložit!C:C,A495)&CHAR(10)&INDEX(Vložit!D:D,A495))","v":""},{"$f":"IF(A495=\"\",\"\",IF(INDEX(Vložit!B:B,A495+8)=\"\",\"\",\"Instrukce: \"&INDEX(Vložit!B:B,A495+8)))","v":""},{"$f":"IF(A495=\"\",\"\",IF(INDEX(Vložit!B:B,A495+1)=\"\",\"\",INDEX(Vložit!B:B,A495+1)))","v":""},{"$f":"IF(A495=\"\",\"\",MID(INDEX(Vložit!A:A,A495),19,10))","v":""},{"$f":"IF(A495=\"\",\"\",IF(INDEX(Vložit!B:B,A495+5)=\"\",\"\",VLOOKUP(INDEX(Vložit!B:B,A495+5),Pomocná!B494:C10493,2,FALSE)))","v":""},{"$f":"IF(A495=\"\",\"\",INDEX(Vložit!B:B,A495+2))","v":""},{"$f":"IF(A495=\"\",\"\",IF(INDEX(Vložit!B:B,A495+3)=\"\",\"\",INDEX(Vložit!B:B,A495+3)))","v":""},{"$f":"IF(A495=\"\",\"\",INDEX(Vložit!B:B,A495+4))","v":""}]
[{"$f":"IF(A495=\"\",\"\",IF(INDEX(Vložit!A:A,(ROW(A495)-1)*17+2)<>\"\",(ROW(A495)-1)*17+2,\"\"))","v":""},{"$f":"IF(A496=\"\",\"\",\"Číslo smlouvy:  \"&INDEX(Vložit!B:B,A496+1)&CHAR(10)&\"Jméno a příjmení:  \"&INDEX(Vložit!B:B,A496+2)&CHAR(10)&\"Ulice:  \"&INDEX(Vložit!B:B,A496+3)&CHAR(10)&\"Č. pop. / č. orient.:  \"&INDEX(Vložit!B:B,A496+4)&CHAR(10)&\"Obec:  \"&INDEX(Vložit!B:B,A496+5))","v":""},{"$f":"IF(A496=\"\",\"\",INDEX(Vložit!A:A,A496)&CHAR(10)&\"Telefon: \"&INDEX(Vložit!B:B,A496+6)&\" / \"&INDEX(Vložit!B:B,A496+7)&CHAR(10)&\"Typ objednávky: \"&INDEX(Vložit!D:D,A496+1)&CHAR(10)&INDEX(Vložit!C:C,A496)&CHAR(10)&INDEX(Vložit!D:D,A496))","v":""},{"$f":"IF(A496=\"\",\"\",IF(INDEX(Vložit!B:B,A496+8)=\"\",\"\",\"Instrukce: \"&INDEX(Vložit!B:B,A496+8)))","v":""},{"$f":"IF(A496=\"\",\"\",IF(INDEX(Vložit!B:B,A496+1)=\"\",\"\",INDEX(Vložit!B:B,A496+1)))","v":""},{"$f":"IF(A496=\"\",\"\",MID(INDEX(Vložit!A:A,A496),19,10))","v":""},{"$f":"IF(A496=\"\",\"\",IF(INDEX(Vložit!B:B,A496+5)=\"\",\"\",VLOOKUP(INDEX(Vložit!B:B,A496+5),Pomocná!B495:C10494,2,FALSE)))","v":""},{"$f":"IF(A496=\"\",\"\",INDEX(Vložit!B:B,A496+2))","v":""},{"$f":"IF(A496=\"\",\"\",IF(INDEX(Vložit!B:B,A496+3)=\"\",\"\",INDEX(Vložit!B:B,A496+3)))","v":""},{"$f":"IF(A496=\"\",\"\",INDEX(Vložit!B:B,A496+4))","v":""}]
[{"$f":"IF(A496=\"\",\"\",IF(INDEX(Vložit!A:A,(ROW(A496)-1)*17+2)<>\"\",(ROW(A496)-1)*17+2,\"\"))","v":""},{"$f":"IF(A497=\"\",\"\",\"Číslo smlouvy:  \"&INDEX(Vložit!B:B,A497+1)&CHAR(10)&\"Jméno a příjmení:  \"&INDEX(Vložit!B:B,A497+2)&CHAR(10)&\"Ulice:  \"&INDEX(Vložit!B:B,A497+3)&CHAR(10)&\"Č. pop. / č. orient.:  \"&INDEX(Vložit!B:B,A497+4)&CHAR(10)&\"Obec:  \"&INDEX(Vložit!B:B,A497+5))","v":""},{"$f":"IF(A497=\"\",\"\",INDEX(Vložit!A:A,A497)&CHAR(10)&\"Telefon: \"&INDEX(Vložit!B:B,A497+6)&\" / \"&INDEX(Vložit!B:B,A497+7)&CHAR(10)&\"Typ objednávky: \"&INDEX(Vložit!D:D,A497+1)&CHAR(10)&INDEX(Vložit!C:C,A497)&CHAR(10)&INDEX(Vložit!D:D,A497))","v":""},{"$f":"IF(A497=\"\",\"\",IF(INDEX(Vložit!B:B,A497+8)=\"\",\"\",\"Instrukce: \"&INDEX(Vložit!B:B,A497+8)))","v":""},{"$f":"IF(A497=\"\",\"\",IF(INDEX(Vložit!B:B,A497+1)=\"\",\"\",INDEX(Vložit!B:B,A497+1)))","v":""},{"$f":"IF(A497=\"\",\"\",MID(INDEX(Vložit!A:A,A497),19,10))","v":""},{"$f":"IF(A497=\"\",\"\",IF(INDEX(Vložit!B:B,A497+5)=\"\",\"\",VLOOKUP(INDEX(Vložit!B:B,A497+5),Pomocná!B496:C10495,2,FALSE)))","v":""},{"$f":"IF(A497=\"\",\"\",INDEX(Vložit!B:B,A497+2))","v":""},{"$f":"IF(A497=\"\",\"\",IF(INDEX(Vložit!B:B,A497+3)=\"\",\"\",INDEX(Vložit!B:B,A497+3)))","v":""},{"$f":"IF(A497=\"\",\"\",INDEX(Vložit!B:B,A497+4))","v":""}]
[{"$f":"IF(A497=\"\",\"\",IF(INDEX(Vložit!A:A,(ROW(A497)-1)*17+2)<>\"\",(ROW(A497)-1)*17+2,\"\"))","v":""},{"$f":"IF(A498=\"\",\"\",\"Číslo smlouvy:  \"&INDEX(Vložit!B:B,A498+1)&CHAR(10)&\"Jméno a příjmení:  \"&INDEX(Vložit!B:B,A498+2)&CHAR(10)&\"Ulice:  \"&INDEX(Vložit!B:B,A498+3)&CHAR(10)&\"Č. pop. / č. orient.:  \"&INDEX(Vložit!B:B,A498+4)&CHAR(10)&\"Obec:  \"&INDEX(Vložit!B:B,A498+5))","v":""},{"$f":"IF(A498=\"\",\"\",INDEX(Vložit!A:A,A498)&CHAR(10)&\"Telefon: \"&INDEX(Vložit!B:B,A498+6)&\" / \"&INDEX(Vložit!B:B,A498+7)&CHAR(10)&\"Typ objednávky: \"&INDEX(Vložit!D:D,A498+1)&CHAR(10)&INDEX(Vložit!C:C,A498)&CHAR(10)&INDEX(Vložit!D:D,A498))","v":""},{"$f":"IF(A498=\"\",\"\",IF(INDEX(Vložit!B:B,A498+8)=\"\",\"\",\"Instrukce: \"&INDEX(Vložit!B:B,A498+8)))","v":""},{"$f":"IF(A498=\"\",\"\",IF(INDEX(Vložit!B:B,A498+1)=\"\",\"\",INDEX(Vložit!B:B,A498+1)))","v":""},{"$f":"IF(A498=\"\",\"\",MID(INDEX(Vložit!A:A,A498),19,10))","v":""},{"$f":"IF(A498=\"\",\"\",IF(INDEX(Vložit!B:B,A498+5)=\"\",\"\",VLOOKUP(INDEX(Vložit!B:B,A498+5),Pomocná!B497:C10496,2,FALSE)))","v":""},{"$f":"IF(A498=\"\",\"\",INDEX(Vložit!B:B,A498+2))","v":""},{"$f":"IF(A498=\"\",\"\",IF(INDEX(Vložit!B:B,A498+3)=\"\",\"\",INDEX(Vložit!B:B,A498+3)))","v":""},{"$f":"IF(A498=\"\",\"\",INDEX(Vložit!B:B,A498+4))","v":""}]
[{"$f":"IF(A498=\"\",\"\",IF(INDEX(Vložit!A:A,(ROW(A498)-1)*17+2)<>\"\",(ROW(A498)-1)*17+2,\"\"))","v":""},{"$f":"IF(A499=\"\",\"\",\"Číslo smlouvy:  \"&INDEX(Vložit!B:B,A499+1)&CHAR(10)&\"Jméno a příjmení:  \"&INDEX(Vložit!B:B,A499+2)&CHAR(10)&\"Ulice:  \"&INDEX(Vložit!B:B,A499+3)&CHAR(10)&\"Č. pop. / č. orient.:  \"&INDEX(Vložit!B:B,A499+4)&CHAR(10)&\"Obec:  \"&INDEX(Vložit!B:B,A499+5))","v":""},{"$f":"IF(A499=\"\",\"\",INDEX(Vložit!A:A,A499)&CHAR(10)&\"Telefon: \"&INDEX(Vložit!B:B,A499+6)&\" / \"&INDEX(Vložit!B:B,A499+7)&CHAR(10)&\"Typ objednávky: \"&INDEX(Vložit!D:D,A499+1)&CHAR(10)&INDEX(Vložit!C:C,A499)&CHAR(10)&INDEX(Vložit!D:D,A499))","v":""},{"$f":"IF(A499=\"\",\"\",IF(INDEX(Vložit!B:B,A499+8)=\"\",\"\",\"Instrukce: \"&INDEX(Vložit!B:B,A499+8)))","v":""},{"$f":"IF(A499=\"\",\"\",IF(INDEX(Vložit!B:B,A499+1)=\"\",\"\",INDEX(Vložit!B:B,A499+1)))","v":""},{"$f":"IF(A499=\"\",\"\",MID(INDEX(Vložit!A:A,A499),19,10))","v":""},{"$f":"IF(A499=\"\",\"\",IF(INDEX(Vložit!B:B,A499+5)=\"\",\"\",VLOOKUP(INDEX(Vložit!B:B,A499+5),Pomocná!B498:C10497,2,FALSE)))","v":""},{"$f":"IF(A499=\"\",\"\",INDEX(Vložit!B:B,A499+2))","v":""},{"$f":"IF(A499=\"\",\"\",IF(INDEX(Vložit!B:B,A499+3)=\"\",\"\",INDEX(Vložit!B:B,A499+3)))","v":""},{"$f":"IF(A499=\"\",\"\",INDEX(Vložit!B:B,A499+4))","v":""}]
[{"$f":"IF(A499=\"\",\"\",IF(INDEX(Vložit!A:A,(ROW(A499)-1)*17+2)<>\"\",(ROW(A499)-1)*17+2,\"\"))","v":""},{"$f":"IF(A500=\"\",\"\",\"Číslo smlouvy:  \"&INDEX(Vložit!B:B,A500+1)&CHAR(10)&\"Jméno a příjmení:  \"&INDEX(Vložit!B:B,A500+2)&CHAR(10)&\"Ulice:  \"&INDEX(Vložit!B:B,A500+3)&CHAR(10)&\"Č. pop. / č. orient.:  \"&INDEX(Vložit!B:B,A500+4)&CHAR(10)&\"Obec:  \"&INDEX(Vložit!B:B,A500+5))","v":""},{"$f":"IF(A500=\"\",\"\",INDEX(Vložit!A:A,A500)&CHAR(10)&\"Telefon: \"&INDEX(Vložit!B:B,A500+6)&\" / \"&INDEX(Vložit!B:B,A500+7)&CHAR(10)&\"Typ objednávky: \"&INDEX(Vložit!D:D,A500+1)&CHAR(10)&INDEX(Vložit!C:C,A500)&CHAR(10)&INDEX(Vložit!D:D,A500))","v":""},{"$f":"IF(A500=\"\",\"\",IF(INDEX(Vložit!B:B,A500+8)=\"\",\"\",\"Instrukce: \"&INDEX(Vložit!B:B,A500+8)))","v":""},{"$f":"IF(A500=\"\",\"\",IF(INDEX(Vložit!B:B,A500+1)=\"\",\"\",INDEX(Vložit!B:B,A500+1)))","v":""},{"$f":"IF(A500=\"\",\"\",MID(INDEX(Vložit!A:A,A500),19,10))","v":""},{"$f":"IF(A500=\"\",\"\",IF(INDEX(Vložit!B:B,A500+5)=\"\",\"\",VLOOKUP(INDEX(Vložit!B:B,A500+5),Pomocná!B499:C10498,2,FALSE)))","v":""},{"$f":"IF(A500=\"\",\"\",INDEX(Vložit!B:B,A500+2))","v":""},{"$f":"IF(A500=\"\",\"\",IF(INDEX(Vložit!B:B,A500+3)=\"\",\"\",INDEX(Vložit!B:B,A500+3)))","v":""},{"$f":"IF(A500=\"\",\"\",INDEX(Vložit!B:B,A500+4))","v":""}]

{"sheet":"Vložit","index":2,"n_rows":54,"n_cols":6,"rows_kept":54,"cut":false,"hidden":false,"merged":[]}
[]
["Číslo objednávky: 33333","Zadáno: 22/06/2017 ","Čas příslibu od: 23/06/2017/ 12:00 ","Čas příslibu do: 23/06/2017/ 14:00"]
["Číslo smlouvy: ","2812-08-18","Typ objednávky: ","SERVIS - DATA"]
["Jméno a příjmení: ","Novak 1","Patro / Přípojný bod č.: ","2017-08-02"]
["Ulice: ","V PŘEDPOLÍ ","Line 1: ",222953107]
["Č. pop. / č. orient.: ","1972 / 10 ","Line 2: "]
["Obec: ","Praha 10-Strašnice ","E-mail: "]
["Telefon domů / zam.: ","1906-01-30","Heslo: "]
["Mobil: ","1900-08-09"]
["Instrukce: ","xxx"]
["Aktuální stav ","Naplánované úkony ","Typ zařízení"]
["xxx","xxx","xxx"]
["Technik: ",null,"Firma: ","xxx","Kód OZ: "]
["Štítek by: ","2017-01-08","Štítek 3, Pole PED: ","Vršovice ","Trasový zes.: ","16.1.13.2"]
["Štítek 1: ","2544-11-09","DC: ","1900-01-16","Region: ","Praha"]
["Štítek 2: ",null,"ON: ","2013-01-01","Sales route: ","SCE"]
["Pozn. k budově: ","xxx"]
[]
["Číslo objednávky: 1111","Zadáno: 22/06/2017 ","Čas příslibu od: 23/06/2017/ 12:00 ","Čas příslibu do: 23/06/2017/ 14:00"]
["Číslo smlouvy: ","1960-11-02","Typ objednávky: ","SERVIS - DATA"]
["Jméno a příjmení: ","Novak 2","Patro / Přípojný bod č.: ","2017-05-03"]
["Ulice: ","U KOMBINÁTU ","Line 1: "]
["Č. pop. / č. orient.: ","2800 / 29 ","Line 2: "]
["Obec: ","Praha 10-Strašnice ","E-mail: ","xxx"]
["Telefon domů / zam.: ","1909-02-14","Heslo: "]
["Mobil: "]
["Instrukce: ","xxx"]
["Aktuální stav ","Naplánované úkony ","Typ zařízení"]
["xxx","xxx","xxx"]
["Technik: ","xxx","Firma: ","xxx","Kód OZ: "]
["Štítek by: ","2017-01-05","Štítek 3, Pole PED: ","Solidarita ","Trasový zes.: ","2002-03-10"]
["Štítek 1: ","5830-11-24","DC: ","1900-01-10","Region: ","Praha"]
["Štítek 2: ",null,"ON: ","2017-02-03","Sales route: ","SCE"]
["Pozn. k budově: ","xxx"]
[]
["Číslo objednávky: 333222","Zadáno: 22/06/2017 ","Čas příslibu od: 23/06/2017/ 16:00 ","Čas příslibu do: 23/06/2017/ 18:00"]
["Číslo smlouvy: ",44444,"Typ objednávky: ","SERVIS - DATA"]
["Jméno a příjmení: ","Novak 3","Patro / Přípojný bod č.: ","2016-06-01"]
["Ulice: ","HOKEJOVÁ ","Line 1: ","1906-01-30"]
["Č. pop. / č. orient.: ","930 / 8 ","Line 2: "]
["Obec: ","Praha 10-Hostivař ","E-mail: "]
["Telefon domů / zam.: ",222222,"Heslo: "]
["Mobil: ","1906-01-30"]
["Instrukce: ","xxx"]
["Aktuální stav ","Naplánované úkony ","Typ zařízení"]
["xxx","xxx"]
[]
["xx"]
["Technik: ","xx","Firma: ","xx","Kód OZ: "]
["Štítek by: ","xx","Štítek 3, Pole PED: ","Hornoměch. ","Trasový zes.: ","6.116.1"]
["Štítek 1: ","xx","DC: ","1900-01-06","Region: ","Praha"]
["Štítek 2: ",null,"ON: ","1900-04-25","Sales route: ","SCE"]
["Pozn. k budově: ","LB 3.PODL.;"]
["xxx"]

{"sheet":"Pomocná","index":3,"n_rows":28,"n_cols":3,"rows_kept":28,"cut":false,"hidden":false,"merged":[]}
["Při doplnění je nutné seřadit podle abecedy, jinak nebude fungovat ","Blansko ","Blansko "]
[null,"Brno-Bystrc ","Brno"]
[null,"Brno-Bystrc ","Brno"]
[null,"Brno-Bystrc ","Brno"]
[null,"Brno-Jundrov ","Brno"]
[null,"Brno-Nový Lískovec ","Brno"]
[null,"Brno-Řečkovice ","Brno"]
[null,"Brno-Staré Brno ","Brno"]
[null,"Brno-Štýřice ","Brno"]
[null,"Brno-Žebětín ","Brno"]
[null,"Jindřichův Hradec III ","J.Hradec"]
[null,"Kladno ","Kladno"]
[null,"Kralupy Nad Vltavou ","Kralupy Nad Vltavou "]
[null,"Kralupy Nad Vltavou-Lobeček ","Kralupy Nad Vltavou "]
[null,"Libeř","Libeř"]
[null,"Praha 1 - Centrum ","Praha"]
[null,"Praha 10-Hostivař ","Praha"]
[null,"Praha 10-Michle ","Praha"]
[null,"Praha 10-Strašnice ","Praha"]
[null,"Praha 10-Strašnice ","Praha"]
[null,"Praha 3-Žižkov ","Praha"]
[null,"Praha 4-Háje ","Praha"]
[null,"Praha 4-Háje ","Praha"]
[null,"Praha 6-Bubeneč ","Praha"]
[null,"Praha 6-Dejvice ","Praha"]
[null,"Praha 7-Holešovice ","Praha"]
[null,"Praha 8-Bohnice ","Praha"]
[null,"Praha 9-xxx","Nefunguje"]