{"text_format":"1","workbook":"xlsx","n_sheets":1,"sheets":["Prehlad"],"not_rendered":{"charts":1,"images":0,"macros":1,"external_links":23,"defined_names":0,"comments":0,"pivot_tables":0},"unopened":[],"bounds":{"document_bytes":16777216,"sheet_cells":100000,"rows_first":2000,"rows_last":500,"rows_between":2000,"halvings":0,"cell_chars":16384,"cell_head_chars":4096},"cells_cut":0,"cells_raw":0,"read":"whole","date_system":"1900"}

{"sheet":"Prehlad","index":0,"n_rows":29,"n_cols":6,"rows_kept":29,"cut":false,"hidden":false,"merged":[[0,2,0,14]]}
[null,null,"Prehľad výsledkov z GP12 kontroly za daný kalendárny deň"]
[]
[null,null,"Kalendárny deň:","2017-02-11"]
[]
[null,null,"Výrobky","Počet skontrolovaných","Počet OK dielov","Počet NOK dielov"]
[null,null,"7467 G",{"$f":"VLOOKUP($D$3,'[1]Pomocne data 2'!$B$3:$C$339,2,0)","v":10},{"$f":"VLOOKUP($D$3,'[1]Pomocne data 2'!$B$3:$D$339,3,0)","v":5},{"$f":"VLOOKUP($D$3,'[1]Pomocne data 2'!$B$3:$C$339,2,0)","v":10}]
[null,null,"7467 D",{"$f":"VLOOKUP($D$3,'[2]Pomocne data 2'!$B$3:$C$339,2,0)","v":0},{"$f":"VLOOKUP($D$3,'[2]Pomocne data 2'!$B$3:$D$339,3,0)","v":0},{"$f":"VLOOKUP($D$3,'[2]Pomocne data 2'!$B$3:$E$339,4,0)","v":0}]
[null,null,7468,{"$f":"VLOOKUP($D$3,'[3]Pomocne data 2'!$B$3:$C$339,2,0)","v":0},{"$f":"VLOOKUP($D$3,'[3]Pomocne data 2'!$B$3:$D$339,3,0)","v":0},{"$f":"VLOOKUP($D$3,'[3]Pomocne data 2'!$B$3:$E$339,4,0)","v":0}]
[null,null,"7475 I01",{"$f":"VLOOKUP($D$3,'[4]Pomocne data 2'!$B$3:$C$339,2,0)","v":0},{"$f":"VLOOKUP($D$3,'[4]Pomocne data 2'!$B$3:$D$339,3,0)","v":0},{"$f":"VLOOKUP($D$3,'[4]Pomocne data 2'!$B$3:$E$339,4,0)","v":0}]
[null,null,"7475 S01",{"$f":"VLOOKUP($D$3,'[5]Pomocne data 2'!$B$3:$C$339,2,0)","v":0},{"$f":"VLOOKUP($D$3,'[5]Pomocne data 2'!$B$3:$D$339,3,0)","v":0},{"$f":"VLOOKUP($D$3,'[5]Pomocne data 2'!$B$3:$E$339,4,0)","v":0}]
[null,null,7476,{"$f":"VLOOKUP($D$3,'[6]Pomocne data 2'!$B$3:$C$339,2,0)","v":0},{"$f":"VLOOKUP($D$3,'[6]Pomocne data 2'!$B$3:$D$339,3,0)","v":0},{"$f":"VLOOKUP($D$3,'[6]Pomocne data 2'!$B$3:$E$339,4,0)","v":0}]
[null,null,"7481 E01",{"$f":"VLOOKUP($D$3,'[7]Pomocne data 2'!$B$3:$C$339,2,0)","v":0},{"$f":"VLOOKUP($D$3,'[7]Pomocne data 2'!$B$3:$D$339,3,0)","v":0},{"$f":"VLOOKUP($D$3,'[7]Pomocne data 2'!$B$3:$E$339,4,0)","v":0}]
[null,null,"7489 E01",{"$f":"VLOOKUP($D$3,'[8]Pomocne data 2'!$B$4:$C$55,2,0)","v":0},{"$f":"VLOOKUP($D$3,'[8]Pomocne data 2'!$B$4:$D$55,3,0)","v":0},{"$f":"VLOOKUP($D$3,'[8]Pomocne data 2'!$B$4:$E$55,4,0)","v":0}]
[null,null,"7535 W",{"$f":"VLOOKUP($D$3,'[9]Pomocne data 2'!$B$3:$C$339,2,0)","v":0},{"$f":"VLOOKUP($D$3,'[9]Pomocne data 2'!$B$3:$D$339,3,0)","v":0},{"$f":"VLOOKUP($D$3,'[9]Pomocne data 2'!$B$3:$E$339,4,0)","v":0}]
[null,null,"7535 X",{"$f":"VLOOKUP($D$3,'[10]Pomocne data 2'!$B$3:$C$339,2,0)","v":0},{"$f":"VLOOKUP($D$3,'[10]Pomocne data 2'!$B$3:$D$339,3,0)","v":0},{"$f":"VLOOKUP($D$3,'[10]Pomocne data 2'!$B$3:$E$339,4,0)","v":0}]
[null,null,"7535 Y",{"$f":"VLOOKUP($D$3,'[11]Pomocne data 2'!$B$3:$C$339,2,0)","v":0},{"$f":"VLOOKUP($D$3,'[11]Pomocne data 2'!$B$3:$D$339,3,0)","v":0},{"$f":"VLOOKUP($D$3,'[11]Pomocne data 2'!$B$3:$E$339,4,0)","v":0}]
[null,null,"7535 Z",{"$f":"VLOOKUP($D$3,'[12]Pomocne data 2'!$B$3:$C$339,2,0)","v":0},{"$f":"VLOOKUP($D$3,'[12]Pomocne data 2'!$B$3:$D$339,3,0)","v":0},{"$f":"VLOOKUP($D$3,'[12]Pomocne data 2'!$B$3:$E$339,4,0)","v":0}]
[null,null,"7538 G",{"$f":"VLOOKUP($D$3,'[13]Pomocne data 2'!$B$3:$C$339,2,0)","v":0},{"$f":"VLOOKUP($D$3,'[13]Pomocne data 2'!$B$3:$D$339,3,0)","v":0},{"$f":"VLOOKUP($D$3,'[13]Pomocne data 2'!$B$3:$E$339,4,0)","v":0}]
[null,null,"7538 D ",{"$f":"VLOOKUP($D$3,'[14]Pomocne data 2'!$B$3:$C$339,2,0)","v":0},{"$f":"VLOOKUP($D$3,'[14]Pomocne data 2'!$B$3:$D$339,3,0)","v":0},{"$f":"VLOOKUP($D$3,'[14]Pomocne data 2'!$B$3:$E$339,4,0)","v":0}]
[null,null,"7540 G",{"$f":"VLOOKUP($D$3,'[15]Pomocne data 2'!$B$3:$C$339,2,0)","v":0},{"$f":"VLOOKUP($D$3,'[15]Pomocne data 2'!$B$3:$D$339,3,0)","v":0},{"$f":"VLOOKUP($D$3,'[15]Pomocne data 2'!$B$3:$E$339,4,0)","v":0}]
[null,null,"7540 D",{"$f":"VLOOKUP($D$3,'[16]Pomocne data 2'!$B$3:$C$339,2,0)","v":0},{"$f":"VLOOKUP($D$3,'[16]Pomocne data 2'!$B$3:$D$339,3,0)","v":0},{"$f":"VLOOKUP($D$3,'[16]Pomocne data 2'!$B$3:$E$339,4,0)","v":0}]
[null,null,"7542 G",{"$f":"VLOOKUP($D$3,'[17]Pomocne data 2'!$B$3:$C$339,2,0)","v":0},{"$f":"VLOOKUP($D$3,'[17]Pomocne data 2'!$B$3:$D$339,3,0)","v":0},{"$f":"VLOOKUP($D$3,'[17]Pomocne data 2'!$B$3:$E$339,4,0)","v":0}]
[null,null,"7542 D",{"$f":"VLOOKUP($D$3,'[18]Pomocne data 2'!$B$3:$C$339,2,0)","v":0},{"$f":"VLOOKUP($D$3,'[18]Pomocne data 2'!$B$3:$D$339,3,0)","v":0},{"$f":"VLOOKUP($D$3,'[18]Pomocne data 2'!$B$3:$E$339,4,0)","v":0}]
[null,null,"7545 G",{"$f":"VLOOKUP($D$3,'[19]Pomocne data 2'!$B$3:$C$339,2,0)","v":0},{"$f":"VLOOKUP($D$3,'[19]Pomocne data 2'!$B$3:$D$339,3,0)","v":0},{"$f":"VLOOKUP($D$3,'[19]Pomocne data 2'!$B$3:$E$339,4,0)","v":0}]
[null,null,"7545 D",{"$f":"VLOOKUP($D$3,'[20]Pomocne data 2'!$B$3:$C$339,2,0)","v":0},{"$f":"VLOOKUP($D$3,'[20]Pomocne data 2'!$B$3:$D$339,3,0)","v":0},{"$f":"VLOOKUP($D$3,'[20]Pomocne data 2'!$B$3:$E$339,4,0)","v":0}]
[null,null,"7649 I01",{"$f":"VLOOKUP($D$3,'[21]Pomocne data 2'!$B$3:$C$339,2,0)","v":0},{"$f":"VLOOKUP($D$3,'[21]Pomocne data 2'!$B$3:$D$339,3,0)","v":0},{"$f":"VLOOKUP($D$3,'[21]Pomocne data 2'!$B$3:$E$339,4,0)","v":0}]
[null,null,"7649 S01",{"$f":"VLOOKUP($D$3,'[22]Pomocne data 2'!$B$3:$C$339,2,0)","v":0},{"$f":"VLOOKUP($D$3,'[22]Pomocne data 2'!$B$3:$D$339,3,0)","v":0},{"$f":"VLOOKUP($D$3,'[22]Pomocne data 2'!$B$3:$E$339,4,0)","v":0}]
[null,null,9949,{"$f":"VLOOKUP($D$3,'[23]Pomocne data 2'!$B$3:$C$339,2,0)","v":0},{"$f":"VLOOKUP($D$3,'[23]Pomocne data 2'!$B$3:$D$339,3,0)","v":0},{"$f":"VLOOKUP($D$3,'[23]Pomocne data 2'!$B$3:$E$339,4,0)","v":0}]
[null,null,"Celkovo",{"$f":"SUM(D6:D28)","v":10},{"$f":"SUM(E6:E28)","v":5},10]